BOTTLE,20220811CCHSIOAMB
EXPOCODE,SECT_ID,STNNBR,CASTNO,SAMPNO,BTLNBR,BTLNBR_FLAG_W,DATE,TIME,LATITUDE,LONGITUDE,DEPTH,CTDRAW,CTDPRS,CTDTMP,CTDSAL,CTDSAL_FLAG_W,SALNTY,SALNTY_FLAG_W,CTDOXY,CTDOXY_FLAG_W,THETA,OXYGEN,OXYGEN_FLAG_W,SILCAT,SILCAT_FLAG_W,NITRAT,NITRAT_FLAG_W,NITRIT,NITRIT_FLAG_W,PHSPHT,PHSPHT_FLAG_W,CFC-11,CFC-11_FLAG_W,CFC-12,CFC-12_FLAG_W,DELC14,DELC14_FLAG_W,DELC13,DELC13_FLAG_W,TCARBN,TCARBN_FLAG_W,PCO2,PCO2_FLAG_W,ALKALI,ALKALI_FLAG_W,PH,PH_FLAG_W,PCO2TMP,C14ERR,PH_TMP,C13ERR
,,,,,,,,,,,,DBAR,DBAR,ITS-90,PSS-78,,PSS-78,,UMOL/KG,,DEG C,UMOL/KG,,UMOL/KG,,UMOL/KG,,UMOL/KG,,UMOL/KG,,PMOL/KG,,PMOL/KG,,/MILLE,,/MILLE,,UMOL/KG,,UATM,,UMOL/KG,,,,DEG C,/MILLE,DEG C,/MILLE
    31DSCG96_2,  P15S,   124,  1,    136,   1245,2,19960221,1906,-26.4957,-169.9900, 5575,   -999,      3.5,  25.5995,  35.4633,2,  35.4620,2,    207.3,2, 25.5987,    205.2,2,     0.96,2,     0.02,2,     0.00,2,     0.00,3,    1.751,2,    0.985,2,    102.9,2,  -999.00,9,   1968.4,2,    244.5,2,   2326.4,2,     8.12,2, -999.00,     3.6, -999.00,  -999.0
    31DSCG96_2,  P15S,   124,  1,    135,   1113,2,19960221,1906,-26.4957,-169.9900, 5575,   -999,     21.4,  25.5966,  35.4597,2,  35.4712,2,    203.3,2, 25.5918,    205.1,2,     1.08,2,     0.02,2,     0.00,2,     0.00,3,    1.780,6,    1.005,6,   -999.0,9,  -999.00,9,   1968.6,3,    246.4,2,   2325.2,2,     8.12,2, -999.00,  -999.0, -999.00,  -999.0
    31DSCG96_2,  P15S,   124,  1,    134,   1216,2,19960221,1906,-26.4957,-169.9900, 5575,   -999,     46.7,  23.8860,  35.6450,2,  35.6384,2,    219.0,2, 23.8761,    219.8,2,     1.09,2,     0.02,2,     0.00,2,     0.01,3,    1.996,2,    1.105,2,   -999.0,9,  -999.00,9,   1989.4,3,    270.9,2,   2335.0,2,     8.10,2, -999.00,  -999.0, -999.00,  -999.0
    31DSCG96_2,  P15S,   124,  1,    133,   1221,2,19960221,1906,-26.4957,-169.9900, 5575,   -999,     69.6,  21.8069,  35.7703,2,  35.7673,2,    226.3,2, 21.7931,    231.6,2,     1.13,2,     0.02,2,     0.00,2,     0.04,3,    2.163,2,    1.181,2,   -999.0,9,  -999.00,9,   2006.5,2,    309.2,3,   2335.0,3,     8.08,2, -999.00,  -999.0, -999.00,  -999.0
    31DSCG96_2,  P15S,   124,  1,    132,   1039,2,19960221,1906,-26.4957,-169.9900, 5575,   -999,     96.4,  20.4264,  35.7717,2,  35.7717,2,    216.8,2, 20.4082,    225.8,6,     1.23,2,     0.01,2,     0.00,2,     0.09,2,    2.217,2,    1.197,2,   -999.0,9,  -999.00,9,   2020.0,2,    291.5,2,   2343.1,2,     8.06,2, -999.00,  -999.0, -999.00,  -999.0
    31DSCG96_2,  P15S,   124,  1,    131,   1014,2,19960221,1906,-26.4957,-169.9900, 5575,   -999,    140.4,  19.0961,  35.7336,2,  35.7397,2,    204.0,2, 19.0709,    205.3,2,     1.32,2,     0.98,2,     0.27,2,     0.22,2,    2.238,2,    1.204,2,   -999.0,9,  -999.00,9,   2046.0,2,    337.2,2,   2342.7,2,     8.01,2, -999.00,  -999.0, -999.00,  -999.0
    31DSCG96_2,  P15S,   124,  1,    130,   1257,2,19960221,1906,-26.4957,-169.9900, 5575,   -999,    191.8,  17.5809,  35.6453,2,  35.6455,2,    201.4,2, 17.5484,    201.2,2,     1.72,2,     3.93,2,     0.01,2,     0.35,2,    2.301,6,    1.220,6,   -999.0,9,  -999.00,9,   2063.3,2,    376.2,2,   2342.7,3,     7.97,2, -999.00,  -999.0, -999.00,  -999.0
    31DSCG96_2,  P15S,   124,  1,    129,   1256,2,19960221,1906,-26.4957,-169.9900, 5575,   -999,    241.6,  16.4994,  35.5426,2,  35.5385,2,    200.1,2, 16.4601,    202.6,2,     2.05,2,     4.99,2,     0.00,2,     0.44,2,    2.327,2,    1.224,2,   -999.0,9,  -999.00,9,   2071.2,2,    399.2,2,   2330.0,2,     7.95,2, -999.00,  -999.0, -999.00,  -999.0
    31DSCG96_2,  P15S,   124,  1,    128,   1007,2,19960221,1906,-26.4957,-169.9900, 5575,   -999,    290.7,  15.4906,  35.4238,2,  35.4275,2,    203.9,2, 15.4453,    201.5,2,     2.50,2,     6.47,2,     0.00,2,     0.55,2,    2.309,2,    1.205,2,   -999.0,9,  -999.00,9,   2080.9,2,    431.1,2,   2324.1,2,     7.92,2, -999.00,  -999.0, -999.00,  -999.0
    31DSCG96_2,  P15S,   124,  1,    127,   1232,2,19960221,1906,-26.4957,-169.9900, 5575,   -999,    376.7,  13.4258,  35.1803,2,  35.1902,2,    195.3,2, 13.3724,    198.4,2,     3.76,2,    10.30,2,     0.00,2,     0.78,2,    2.226,2,    1.134,2,   -999.0,9,  -999.00,9,   2101.2,2,    539.0,2,   2313.6,2,     7.87,2, -999.00,  -999.0, -999.00,  -999.0
    31DSCG96_2,  P15S,   124,  1,    126,   1025,2,19960221,1906,-26.4957,-169.9900, 5575,   -999,    474.1,  10.7094,  34.8198,2,  34.8223,2,    197.6,2, 10.6513,   -999.0,9,     5.37,2,    15.91,2,     0.00,2,     1.12,2,    1.831,2,    0.905,2,   -999.0,9,  -999.00,9,   2122.9,2,    622.1,3,   2313.6,3,     7.79,2, -999.00,  -999.0, -999.00,  -999.0
    31DSCG96_2,  P15S,   124,  1,    125,   1119,2,19960221,1906,-26.4957,-169.9900, 5575,   -999,    577.3,   8.5467,  34.5624,2,  34.5629,2,    211.6,2,  8.4849,    201.8,3,     6.41,2,    19.81,2,     0.00,2,     1.37,2,    1.581,2,    0.768,2,   -999.0,9,  -999.00,9,   2131.6,2,    694.8,3,   2285.4,2,     7.75,2, -999.00,  -999.0, -999.00,  -999.0
    31DSCG96_2,  P15S,   124,  1,    124,   1013,3,19960221,1906,-26.4957,-169.9900, 5575,   -999,    677.8,   7.3403,  34.4378,2,-999.0000,5,    226.2,2,  7.2735,    227.0,2,  -999.00,9,  -999.00,9,  -999.00,9,  -999.00,9, -999.000,5, -999.000,5,   -999.0,9,  -999.00,9,   -999.0,9,   -999.0,9,   -999.0,9,  -999.00,9, -999.00,  -999.0, -999.00,  -999.0
    31DSCG96_2,  P15S,   124,  1,    123,   1250,2,19960221,1906,-26.4957,-169.9900, 5575,   -999,    774.3,   6.5571,  34.3747,2,  34.3733,2,    229.3,2,  6.4849,    229.1,2,    10.17,2,    23.94,2,     0.00,2,     1.63,2,    0.739,2,    0.375,2,   -999.0,9,  -999.00,9,   2139.4,2,    742.4,3,   2283.4,2,     7.72,2, -999.00,  -999.0, -999.00,  -999.0
    31DSCG96_2,  P15S,   124,  1,    122,   1265,2,19960221,1906,-26.4957,-169.9900, 5575,   -999,    875.2,   5.8566,  34.3398,2,  34.3390,2,    220.3,2,  5.7791,    221.6,6,    15.11,2,    26.41,2,     0.00,2,     1.79,2,    0.370,2,    0.199,2,   -999.0,9,  -999.00,9,   2152.6,2,    802.5,2,   2285.6,2,     7.70,2, -999.00,  -999.0, -999.00,  -999.0
    31DSCG96_2,  P15S,   124,  1,    121,   1246,2,19960221,1906,-26.4957,-169.9900, 5575,   -999,    974.3,   5.1297,  34.3332,2,  34.3319,2,    207.3,2,  5.0480,    206.2,2,    23.80,2,    29.20,2,     0.00,2,     1.99,2,    0.160,2,    0.090,2,   -999.0,9,  -999.00,9,   2172.8,2,    892.5,2,   2289.2,2,     7.66,2, -999.00,  -999.0, -999.00,  -999.0
    31DSCG96_2,  P15S,   124,  1,    120,   1015,2,19960221,1906,-26.4957,-169.9900, 5575,   -999,   1076.0,   4.4376,  34.3546,2,  34.3547,2,    194.6,2,  4.3523,    191.8,2,    35.29,2,    31.57,2,     0.00,2,     2.15,2,    0.053,2,    0.032,2,   -999.0,9,  -999.00,9,   2195.1,2,    975.9,2,   2302.4,2,     7.63,2, -999.00,  -999.0, -999.00,  -999.0
    31DSCG96_2,  P15S,   124,  1,    119,   1247,2,19960221,1906,-26.4957,-169.9900, 5575,   -999,   1214.9,   3.7532,  34.4089,2,  34.4104,2,    178.1,2,  3.6618,    177.2,2,    51.26,2,    33.60,2,     0.00,2,     2.30,2,    0.011,2,    0.008,2,   -999.0,9,  -999.00,9,   2221.0,2,   1058.7,2,   2317.7,2,     7.60,2, -999.00,  -999.0, -999.00,  -999.0
    31DSCG96_2,  P15S,   124,  1,    118,   1299,2,19960221,1906,-26.4957,-169.9900, 5575,   -999,   1442.0,   2.9031,  34.5210,2,  34.5222,2,    163.6,2,  2.8013,    162.1,2,    78.70,2,    34.90,2,     0.00,2,     2.41,2,    0.032,4,    0.003,2,   -999.0,9,  -999.00,9,   2257.5,2,   1140.4,2,   2348.8,2,     7.58,2, -999.00,  -999.0, -999.00,  -999.0
    31DSCG96_2,  P15S,   124,  1,    117,   1267,2,19960221,1906,-26.4957,-169.9900, 5575,   -999,   1689.5,   2.5111,  34.5908,2,  34.5914,2,    153.6,2,  2.3934,    163.4,3,   100.05,2,    35.51,2,     0.00,2,     2.53,3,    0.000,2,    0.001,2,   -999.0,9,  -999.00,9,   2284.7,2,   1164.0,2,   2377.5,2,     7.57,2, -999.00,  -999.0, -999.00,  -999.0
    31DSCG96_2,  P15S,   124,  1,    116,   1259,2,19960221,1906,-26.4957,-169.9900, 5575,   -999,   1939.0,   2.3040,  34.6160,2,  34.6205,3,    147.0,2,  2.1682,    146.7,2,   112.49,2,    35.99,2,     0.00,2,     2.50,2,    0.000,2,    0.003,2,   -999.0,9,  -999.00,9,   2299.0,2,   1191.9,2,   2389.2,2,     7.57,2, -999.00,  -999.0, -999.00,  -999.0
    31DSCG96_2,  P15S,   124,  1,    115,   1041,2,19960221,1906,-26.4957,-169.9900, 5575,   -999,   2190.0,   2.1492,  34.6372,2,  34.6377,2,    145.4,2,  1.9940,    145.1,2,   119.45,2,    36.27,2,     0.00,2,     2.52,2,   -0.001,2,    0.003,2,   -999.0,9,  -999.00,9,   2306.6,2,   -999.0,9,   2395.8,2,     7.57,2, -999.00,  -999.0, -999.00,  -999.0
    31DSCG96_2,  P15S,   124,  1,    114,   1017,2,19960221,1906,-26.4957,-169.9900, 5575,   -999,   2440.5,   2.0196,  34.6492,2,  34.6492,2,    145.6,2,  1.8444,    144.9,2,   124.77,2,    36.28,2,     0.00,2,     2.53,2,   -0.001,2,    0.002,2,   -999.0,9,  -999.00,9,   2311.8,2,   -999.0,9,   2401.8,2,     7.57,2, -999.00,  -999.0, -999.00,  -999.0
    31DSCG96_2,  P15S,   124,  1,    113,   1302,2,19960221,1906,-26.4957,-169.9900, 5575,   -999,   2689.7,   1.8964,  34.6596,2,  34.6594,2,    145.7,2,  1.7005,    145.2,2,   129.77,2,    36.31,2,     0.00,2,     2.52,2,   -0.001,2,    0.001,2,   -999.0,9,  -999.00,9,   2316.2,2,   -999.0,9,   2411.7,2,     7.57,2, -999.00,  -999.0, -999.00,  -999.0
    31DSCG96_2,  P15S,   124,  1,    112,   1217,2,19960221,1906,-26.4957,-169.9900, 5575,   -999,   2937.8,   1.7867,  34.6690,2,  34.6689,2,    147.5,2,  1.5696,    148.3,6,   132.35,2,    36.17,2,     0.00,2,     2.50,2,    0.003,2,    0.003,2,   -999.0,9,  -999.00,9,   2315.9,2,   -999.0,9,   2408.0,2,     7.57,2, -999.00,  -999.0, -999.00,  -999.0
    31DSCG96_2,  P15S,   124,  1,    111,   1114,2,19960221,1906,-26.4957,-169.9900, 5575,   -999,   3190.4,   1.6898,  34.6796,2,  34.6801,2,    154.1,2,  1.4501,    155.8,2,   130.49,2,    35.54,2,     0.00,2,     2.46,2,    0.000,2,    0.001,2,   -999.0,9,  -999.00,9,   2309.3,2,   -999.0,9,   2409.7,2,     7.58,2, -999.00,  -999.0, -999.00,  -999.0
    31DSCG96_2,  P15S,   124,  1,    110,   1301,2,19960221,1906,-26.4957,-169.9900, 5575,   -999,   3438.7,   1.5976,  34.7026,2,  34.7027,2,    174.8,2,  1.3351,    175.9,2,   118.49,2,    33.71,2,     0.00,2,     2.32,2,    0.001,2,    0.001,2,   -999.0,9,  -999.00,9,   2283.4,2,   -999.0,9,   2386.4,2,     7.60,2, -999.00,  -999.0, -999.00,  -999.0
    31DSCG96_2,  P15S,   124,  1,    109,   1233,2,19960221,1906,-26.4957,-169.9900, 5575,   -999,   3689.1,   1.4735,  34.7165,2,  34.7176,2,    190.1,2,  1.1882,    190.5,2,   111.94,2,    32.52,2,     0.00,2,     2.22,2,    0.003,2,    0.003,2,   -999.0,9,  -999.00,9,   2266.0,2,   -999.0,9,   2371.0,2,     7.61,2, -999.00,  -999.0, -999.00,  -999.0
    31DSCG96_2,  P15S,   124,  1,    108,   1227,2,19960221,1906,-26.4957,-169.9900, 5575,   -999,   3936.3,   1.3101,  34.7187,2,  34.7192,2,    198.7,2,  1.0031,    198.7,2,   112.63,2,    32.14,2,     0.00,2,     2.21,2,    0.002,2,    0.003,2,   -999.0,9,  -999.00,9,   2259.8,2,   1057.2,2,   2366.7,2,     7.61,2, -999.00,  -999.0, -999.00,  -999.0
    31DSCG96_2,  P15S,   124,  1,    107,   1263,2,19960221,1906,-26.4957,-169.9900, 5575,   -999,   4189.3,   1.1796,  34.7161,2,  34.7175,2,    202.2,2,  0.8490,    202.6,2,   115.28,2,    32.11,2,     0.00,2,     2.19,2,    0.006,2,    0.004,2,   -999.0,9,  -999.00,9,   2258.5,2,   -999.0,9,   2366.2,2,     7.61,2, -999.00,  -999.0, -999.00,  -999.0
    31DSCG96_2,  P15S,   124,  1,    106,   1262,2,19960221,1906,-26.4957,-169.9900, 5575,   -999,   4425.8,   1.0810,  34.7126,2,  34.7132,2,    204.2,2,  0.7271,    205.1,2,   118.16,2,    32.19,2,     0.00,2,     2.20,2,    0.005,2,    0.005,2,   -999.0,9,  -999.00,9,   2259.7,2,   -999.0,9,   2365.5,2,     7.61,2, -999.00,  -999.0, -999.00,  -999.0
    31DSCG96_2,  P15S,   124,  1,    105,   1264,2,19960221,1906,-26.4957,-169.9900, 5575,   -999,   4650.3,   1.0385,  34.7097,2,  34.7107,2,    205.8,2,  0.6606,    206.2,2,   120.02,2,    32.26,2,     0.00,2,     2.22,3,    0.008,2,    0.005,2,   -999.0,9,  -999.00,9,   2259.9,2,   -999.0,9,   2365.6,2,     7.61,2, -999.00,  -999.0, -999.00,  -999.0
    31DSCG96_2,  P15S,   124,  1,    104,   1003,2,19960221,1906,-26.4957,-169.9900, 5575,   -999,   4940.0,   1.0299,  34.7084,2,  34.7090,2,    206.0,2,  0.6185,    206.2,2,   121.30,2,    32.31,2,     0.00,2,     2.21,2,    0.007,2,    0.006,2,   -999.0,9,  -999.00,9,   2261.6,2,   -999.0,9,   2367.5,2,     7.61,2, -999.00,  -999.0, -999.00,  -999.0
    31DSCG96_2,  P15S,   124,  1,    103,   1035,2,19960221,1906,-26.4957,-169.9900, 5575,   -999,   5189.1,   1.0517,  34.7078,2,  34.7087,2,    206.3,2,  0.6096,    206.8,2,   121.49,2,    32.30,2,     0.00,2,     2.22,2,    0.009,2,    0.006,2,   -999.0,9,  -999.00,9,   2260.7,2,   -999.0,9,   2368.5,2,     7.61,2, -999.00,  -999.0, -999.00,  -999.0
    31DSCG96_2,  P15S,   124,  1,    102,   1030,2,19960221,1906,-26.4957,-169.9900, 5575,   -999,   5473.3,   1.0844,  34.7075,2,  34.7087,2,    206.6,2,  0.6061,    206.4,6,   121.56,6,    32.28,6,     0.00,6,     2.21,2,    0.009,2,    0.005,2,   -999.0,9,  -999.00,9,   2262.9,2,   -999.0,9,   2367.8,2,     7.61,2, -999.00,  -999.0, -999.00,  -999.0
    31DSCG96_2,  P15S,   124,  1,    101,   1022,2,19960221,1906,-26.4957,-169.9900, 5575,   -999,   5708.0,   1.1133,  34.7072,2,-999.0000,9,    206.9,2,  0.6042,    206.9,2,   121.83,2,    32.34,2,     0.00,2,     2.22,2,    0.009,6,    0.007,6,   -999.0,9,  -999.00,9,   2262.1,2,   1072.3,2,   -999.0,9,     7.61,2, -999.00,  -999.0, -999.00,  -999.0