BOTTLE,20220811CCHSIOAMB
EXPOCODE,SECT_ID,STNNBR,CASTNO,SAMPNO,BTLNBR,BTLNBR_FLAG_W,DATE,TIME,LATITUDE,LONGITUDE,DEPTH,CTDRAW,CTDPRS,CTDTMP,CTDSAL,CTDSAL_FLAG_W,SALNTY,SALNTY_FLAG_W,CTDOXY,CTDOXY_FLAG_W,THETA,OXYGEN,OXYGEN_FLAG_W,SILCAT,SILCAT_FLAG_W,NITRAT,NITRAT_FLAG_W,NITRIT,NITRIT_FLAG_W,PHSPHT,PHSPHT_FLAG_W,CFC-11,CFC-11_FLAG_W,CFC-12,CFC-12_FLAG_W,DELC14,DELC14_FLAG_W,DELC13,DELC13_FLAG_W,TCARBN,TCARBN_FLAG_W,PCO2,PCO2_FLAG_W,ALKALI,ALKALI_FLAG_W,PH,PH_FLAG_W,PCO2TMP,C14ERR,PH_TMP,C13ERR
,,,,,,,,,,,,DBAR,DBAR,ITS-90,PSS-78,,PSS-78,,UMOL/KG,,DEG C,UMOL/KG,,UMOL/KG,,UMOL/KG,,UMOL/KG,,UMOL/KG,,PMOL/KG,,PMOL/KG,,/MILLE,,/MILLE,,UMOL/KG,,UATM,,UMOL/KG,,,,DEG C,/MILLE,DEG C,/MILLE
    31DSCG96_2,  P15S,   145,  1,    136,   1245,2,19960227,1343,-16.0025,-169.9980, 5120,   -999,      4.9,  29.2565,  34.6813,2,  34.6804,2,    196.1,2, 29.2553,    195.1,2,     1.42,2,     0.08,2,     0.00,2,     0.08,2, -999.000,9, -999.000,9,     84.8,2,  -999.00,9,   1913.4,2,    232.2,2,   2279.3,2,     8.15,2, -999.00,     3.6, -999.00,  -999.0
    31DSCG96_2,  P15S,   145,  1,    135,   1113,2,19960227,1343,-16.0025,-169.9980, 5120,   -999,     28.7,  29.1566,  34.6638,2,  34.6690,2,    196.3,2, 29.1497,    195.7,2,     1.44,2,     0.10,2,     0.00,2,     0.09,2,    1.588,2,    0.915,2,   -999.0,9,  -999.00,9,   1912.9,2,    232.6,2,   2284.3,2,     8.15,2, -999.00,  -999.0, -999.00,  -999.0
    31DSCG96_2,  P15S,   145,  1,    134,   1267,2,19960227,1343,-16.0025,-169.9980, 5120,   -999,     50.4,  27.6762,  35.3038,2,  35.3143,2,    206.9,2, 27.6644,    208.8,2,     1.31,2,     0.10,2,     0.00,2,     0.10,2,    1.731,2,    0.986,2,   -999.0,9,  -999.00,9,   1948.2,2,    256.2,3,   2322.4,2,     8.14,2, -999.00,  -999.0, -999.00,  -999.0
    31DSCG96_2,  P15S,   145,  1,    133,   1221,2,19960227,1343,-16.0025,-169.9980, 5120,   -999,     79.3,  26.5482,  35.6658,2,  35.6578,2,    205.6,2, 26.5302,    206.5,2,     1.32,2,     0.08,2,     0.00,2,     0.13,2, -999.000,9, -999.000,9,   -999.0,9,  -999.00,9,   -999.0,9,   -999.0,9,   -999.0,9,     8.13,2, -999.00,  -999.0, -999.00,  -999.0
    31DSCG96_2,  P15S,   145,  1,    132,   1039,2,19960227,1343,-16.0025,-169.9980, 5120,   -999,    102.7,  24.7962,  35.6829,2,  35.6886,2,    207.3,2, 24.7740,    205.5,2,     1.31,2,     0.10,2,     0.00,2,     0.13,2,    1.879,2,    1.043,2,   -999.0,9,  -999.00,9,   -999.0,9,   -999.0,9,   -999.0,9,     8.11,2, -999.00,  -999.0, -999.00,  -999.0
    31DSCG96_2,  P15S,   145,  1,    131,   1014,2,19960227,1343,-16.0025,-169.9980, 5120,   -999,    129.1,  23.5331,  35.8266,2,  35.8260,2,    194.3,2, 23.5063,    188.7,2,     1.21,2,     0.09,2,     0.10,2,     0.19,2, -999.000,9, -999.000,9,   -999.0,9,  -999.00,9,   -999.0,9,   -999.0,9,   -999.0,9,     8.07,2, -999.00,  -999.0, -999.00,  -999.0
    31DSCG96_2,  P15S,   145,  1,    130,   1257,2,19960227,1343,-16.0025,-169.9980, 5120,   -999,    164.5,  22.2281,  35.8859,2,  35.8860,2,    178.0,2, 22.1952,    175.1,2,     1.34,2,     1.92,2,     0.03,2,     0.31,2,    1.959,2,    1.065,2,   -999.0,9,  -999.00,9,   -999.0,9,   -999.0,9,   -999.0,9,     8.02,2, -999.00,  -999.0, -999.00,  -999.0
    31DSCG96_2,  P15S,   145,  1,    129,   1256,2,19960227,1343,-16.0025,-169.9980, 5120,   -999,    215.4,  20.1592,  35.7427,2,  35.7420,2,    174.3,2, 20.1190,    177.1,2,     1.52,2,     3.62,2,     0.01,2,     0.39,2, -999.000,9, -999.000,9,   -999.0,9,  -999.00,9,   -999.0,9,   -999.0,9,   -999.0,9,     7.99,2, -999.00,  -999.0, -999.00,  -999.0
    31DSCG96_2,  P15S,   145,  1,    128,   1007,2,19960227,1343,-16.0025,-169.9980, 5120,   -999,    262.4,  18.0240,  35.5124,2,  35.5126,2,    174.1,2, 17.9787,    175.6,2,     2.25,2,     5.68,2,     0.01,2,     0.55,2,    1.869,2,    0.987,2,   -999.0,9,  -999.00,9,   -999.0,9,   -999.0,9,   -999.0,9,     7.94,2, -999.00,  -999.0, -999.00,  -999.0
    31DSCG96_2,  P15S,   145,  1,    127,   1232,2,19960227,1343,-16.0025,-169.9980, 5120,   -999,    325.0,  15.0512,  35.1528,2,  35.1534,2,    160.6,2, 15.0016,    160.2,2,     4.92,2,    11.17,2,     0.00,2,     0.93,2, -999.000,9, -999.000,9,   -999.0,9,  -999.00,9,   -999.0,9,   -999.0,9,   -999.0,9,     7.85,2, -999.00,  -999.0, -999.00,  -999.0
    31DSCG96_2,  P15S,   145,  1,    126,   1025,2,19960227,1343,-16.0025,-169.9980, 5120,   -999,    427.5,  10.4233,  34.6809,2,  34.6822,2,    137.1,2, 10.3720,    136.9,2,    13.42,2,    22.24,2,     0.00,2,     1.67,2, -999.000,9, -999.000,9,   -999.0,9,  -999.00,9,   -999.0,9,   -999.0,9,   -999.0,9,     7.69,2, -999.00,  -999.0, -999.00,  -999.0
    31DSCG96_2,  P15S,   145,  1,    125,   1119,2,19960227,1343,-16.0025,-169.9980, 5120,   -999,    525.3,   7.6089,  34.4771,2,  34.4766,2,    159.6,2,  7.5565,    156.7,2,    19.14,2,    27.36,2,     0.00,2,     1.94,2, -999.000,9, -999.000,9,   -999.0,9,  -999.00,9,   -999.0,9,   -999.0,9,   -999.0,9,     7.64,2, -999.00,  -999.0, -999.00,  -999.0
    31DSCG96_2,  P15S,   145,  1,    124,   1244,2,19960227,1343,-16.0025,-169.9980, 5120,   -999,    630.8,   5.9304,  34.4100,2,  34.4082,2,    172.3,2,  5.8752,    171.3,2,    27.36,2,    30.12,2,     0.00,2,     2.08,2, -999.000,9, -999.000,9,   -999.0,9,  -999.00,9,   -999.0,9,   -999.0,9,   -999.0,9,     7.63,2, -999.00,  -999.0, -999.00,  -999.0
    31DSCG96_2,  P15S,   145,  1,    123,   1250,2,19960227,1343,-16.0025,-169.9980, 5120,   -999,    727.5,   5.0440,  34.4100,2,  34.4101,2,    165.7,2,  4.9847,    165.4,2,    38.56,2,    32.37,2,     0.00,2,     2.23,2, -999.000,9, -999.000,9,   -999.0,9,  -999.00,9,   -999.0,9,   -999.0,9,   -999.0,9,     7.61,2, -999.00,  -999.0, -999.00,  -999.0
    31DSCG96_2,  P15S,   145,  1,    122,   1265,2,19960227,1343,-16.0025,-169.9980, 5120,   -999,    823.3,   4.6804,  34.4498,2,  34.4501,2,    153.8,2,  4.6149,    153.8,2,    50.38,2,    33.74,2,     0.00,2,     2.33,2, -999.000,9, -999.000,9,   -999.0,9,  -999.00,9,   -999.0,9,   -999.0,9,   -999.0,9,     7.59,2, -999.00,  -999.0, -999.00,  -999.0
    31DSCG96_2,  P15S,   145,  1,    121,   1246,2,19960227,1343,-16.0025,-169.9980, 5120,   -999,    917.1,   4.3019,  34.4848,2,  34.4838,2,    145.1,2,  4.2310,    145.5,2,    61.89,2,    34.76,2,     0.00,2,     2.42,2, -999.000,9, -999.000,9,   -999.0,9,  -999.00,9,   -999.0,9,   -999.0,9,   -999.0,9,     7.57,2, -999.00,  -999.0, -999.00,  -999.0
    31DSCG96_2,  P15S,   145,  1,    120,   1015,2,19960227,1343,-16.0025,-169.9980, 5120,   -999,   1021.2,   3.9885,  34.5086,2,  34.5077,2,    140.9,2,  3.9111,    141.1,2,    70.60,2,    35.45,2,     0.00,2,     2.47,2, -999.000,9, -999.000,9,   -999.0,9,  -999.00,9,   -999.0,9,   -999.0,9,   -999.0,9,     7.56,2, -999.00,  -999.0, -999.00,  -999.0
    31DSCG96_2,  P15S,   145,  1,    119,   1247,2,19960227,1343,-16.0025,-169.9980, 5120,   -999,   1123.2,   3.6421,  34.5233,2,  34.5235,2,    140.9,2,  3.5592,    141.7,6,    77.56,2,    35.74,2,     0.00,2,     2.49,2, -999.000,9, -999.000,9,   -999.0,9,  -999.00,9,   -999.0,9,   -999.0,9,   -999.0,9,     7.56,2, -999.00,  -999.0, -999.00,  -999.0
    31DSCG96_2,  P15S,   145,  1,    118,   1299,2,19960227,1343,-16.0025,-169.9980, 5120,   -999,   1223.8,   3.3420,  34.5444,2,  34.5441,2,    138.9,2,  3.2534,    139.8,2,    85.20,2,    36.09,2,     0.00,2,     2.51,2, -999.000,9, -999.000,9,   -999.0,9,  -999.00,9,   -999.0,9,   -999.0,9,   -999.0,9,     7.56,2, -999.00,  -999.0, -999.00,  -999.0
    31DSCG96_2,  P15S,   145,  1,    117,   1242,2,19960227,1343,-16.0025,-169.9980, 5120,   -999,   1350.6,   3.0414,  34.5630,2,  34.5631,2,    140.3,2,  2.9455,    140.5,2,    92.10,2,    36.19,2,     0.00,2,     2.52,2, -999.000,9, -999.000,9,   -999.0,9,  -999.00,9,   -999.0,9,   -999.0,9,   -999.0,9,     7.56,2, -999.00,  -999.0, -999.00,  -999.0
    31DSCG96_2,  P15S,   145,  1,    116,   1259,2,19960227,1343,-16.0025,-169.9980, 5120,   -999,   1563.8,   2.6941,  34.5890,2,  34.5894,2,    142.1,2,  2.5846,    143.1,2,   101.32,2,    36.17,2,     0.00,2,     2.52,2, -999.000,9, -999.000,9,   -999.0,9,  -999.00,9,   -999.0,9,   -999.0,9,   -999.0,9,     7.56,2, -999.00,  -999.0, -999.00,  -999.0
    31DSCG96_2,  P15S,   145,  1,    115,   1041,2,19960227,1343,-16.0025,-169.9980, 5120,   -999,   1814.7,   2.3740,  34.6158,2,  34.6152,2,    143.5,2,  2.2477,    144.8,2,   110.93,2,    36.15,2,     0.00,2,     2.52,2, -999.000,9, -999.000,9,   -999.0,9,  -999.00,9,   -999.0,9,   -999.0,9,   -999.0,9,     7.57,2, -999.00,  -999.0, -999.00,  -999.0
    31DSCG96_2,  P15S,   145,  1,    114,   1017,2,19960227,1343,-16.0025,-169.9980, 5120,   -999,   2063.8,   2.1540,  34.6351,2,  34.6342,2,    145.5,2,  2.0098,    146.8,2,   116.88,2,    36.14,2,     0.00,2,     2.51,2, -999.000,9, -999.000,9,   -999.0,9,  -999.00,9,   -999.0,9,   -999.0,9,   -999.0,9,     7.57,2, -999.00,  -999.0, -999.00,  -999.0
    31DSCG96_2,  P15S,   145,  1,    113,   1302,2,19960227,1343,-16.0025,-169.9980, 5120,   -999,   2312.3,   1.9885,  34.6496,2,  34.6492,2,    147.5,2,  1.8252,    148.1,6,   122.45,2,    36.06,2,     0.00,2,     2.51,2, -999.000,9, -999.000,9,   -999.0,9,  -999.00,9,   -999.0,9,   -999.0,9,   -999.0,9,     7.57,2, -999.00,  -999.0, -999.00,  -999.0
    31DSCG96_2,  P15S,   145,  1,    112,   1217,2,19960227,1343,-16.0025,-169.9980, 5120,   -999,   2564.2,   1.8589,  34.6610,2,  34.6621,2,    149.9,2,  1.6754,    149.8,2,   126.69,2,    35.98,2,     0.00,2,     2.50,2, -999.000,9, -999.000,9,   -999.0,9,  -999.00,9,   -999.0,9,   -999.0,9,   -999.0,9,     7.58,2, -999.00,  -999.0, -999.00,  -999.0
    31DSCG96_2,  P15S,   145,  1,    111,   1226,2,19960227,1343,-16.0025,-169.9980, 5120,   -999,   2816.8,   1.7754,  34.6693,2,  34.6694,2,    151.3,2,  1.5700,    150.6,2,   130.02,2,    35.95,2,     0.00,2,     2.49,2, -999.000,9, -999.000,9,   -999.0,9,  -999.00,9,   -999.0,9,   -999.0,9,   -999.0,9,     7.58,2, -999.00,  -999.0, -999.00,  -999.0
    31DSCG96_2,  P15S,   145,  1,    110,   1301,2,19960227,1343,-16.0025,-169.9980, 5120,   -999,   3066.1,   1.6822,  34.6757,2,  34.6750,2,    154.2,2,  1.4550,    154.5,2,   131.66,2,    35.74,2,     0.00,2,     2.48,2, -999.000,9, -999.000,9,   -999.0,9,  -999.00,9,   -999.0,9,   -999.0,9,   -999.0,9,     7.58,2, -999.00,  -999.0, -999.00,  -999.0
    31DSCG96_2,  P15S,   145,  1,    109,   1031,2,19960227,1343,-16.0025,-169.9980, 5120,   -999,   3316.0,   1.6115,  34.6806,2,  34.6798,2,    156.0,2,  1.3612,    157.2,2,   132.95,2,    35.61,2,     0.00,2,     2.46,2, -999.000,9, -999.000,9,   -999.0,9,  -999.00,9,   -999.0,9,   -999.0,9,   -999.0,9,     7.58,2, -999.00,  -999.0, -999.00,  -999.0
    31DSCG96_2,  P15S,   145,  1,    108,   1227,2,19960227,1343,-16.0025,-169.9980, 5120,   -999,   3562.6,   1.5460,  34.6858,2,  34.6857,2,    162.9,2,  1.2722,    164.0,2,   130.64,2,    35.07,2,     0.00,2,     2.42,2, -999.000,9, -999.000,9,   -999.0,9,  -999.00,9,   -999.0,9,   -999.0,9,   -999.0,9,     7.59,2, -999.00,  -999.0, -999.00,  -999.0
    31DSCG96_2,  P15S,   145,  1,    107,   1263,2,19960227,1343,-16.0025,-169.9980, 5120,   -999,   3808.5,   1.4634,  34.6941,2,  34.6955,2,    171.3,2,  1.1659,    173.5,6,   126.86,2,    34.30,2,     0.00,2,     2.37,2, -999.000,9, -999.000,9,   -999.0,9,  -999.00,9,   -999.0,9,   -999.0,9,   -999.0,9,     7.59,2, -999.00,  -999.0, -999.00,  -999.0
    31DSCG96_2,  P15S,   145,  1,    106,   1262,2,19960227,1343,-16.0025,-169.9980, 5120,   -999,   4065.0,   1.3089,  34.7115,2,  34.7104,2,    191.5,2,  0.9882,    193.9,2,   116.74,2,    32.62,2,     0.00,2,     2.24,2, -999.000,9, -999.000,9,   -999.0,9,  -999.00,9,   -999.0,9,   -999.0,9,   -999.0,9,     7.61,2, -999.00,  -999.0, -999.00,  -999.0
    31DSCG96_2,  P15S,   145,  1,    105,   1264,2,19960227,1343,-16.0025,-169.9980, 5120,   -999,   4313.0,   1.1402,  34.7131,2,  34.7128,2,    201.9,2,  0.7972,    202.7,2,   116.87,2,    32.23,2,     0.00,2,     2.21,2, -999.000,9, -999.000,9,   -999.0,9,  -999.00,9,   -999.0,9,   -999.0,9,   -999.0,9,     7.61,2, -999.00,  -999.0, -999.00,  -999.0
    31DSCG96_2,  P15S,   145,  1,    104,   1003,2,19960227,1343,-16.0025,-169.9980, 5120,   -999,   4563.7,   1.0501,  34.7105,2,  34.7108,2,    205.1,2,  0.6817,    205.0,2,   119.17,2,    32.23,2,     0.00,2,     2.21,2, -999.000,9, -999.000,9,   -999.0,9,  -999.00,9,   -999.0,9,   -999.0,9,   -999.0,9,     7.61,2, -999.00,  -999.0, -999.00,  -999.0
    31DSCG96_2,  P15S,   145,  1,    103,   1035,2,19960227,1343,-16.0025,-169.9980, 5120,   -999,   4814.7,   1.0427,  34.7092,2,  34.7091,2,    205.7,2,  0.6456,    206.2,2,   119.98,2,    32.27,2,     0.00,2,     2.21,2,    0.005,6,    0.002,6,   -999.0,9,  -999.00,9,   -999.0,9,   -999.0,9,   -999.0,9,     7.61,2, -999.00,  -999.0, -999.00,  -999.0
    31DSCG96_2,  P15S,   145,  1,    102,   1030,2,19960227,1343,-16.0025,-169.9980, 5120,   -999,   5065.1,   1.0638,  34.7091,2,  34.7093,2,    206.2,2,  0.6363,    206.0,2,   120.21,2,    32.21,2,     0.00,2,     2.21,2, -999.000,9, -999.000,9,   -999.0,9,  -999.00,9,   -999.0,9,   -999.0,9,   -999.0,9,     7.61,2, -999.00,  -999.0, -999.00,  -999.0
    31DSCG96_2,  P15S,   145,  1,    101,   1022,2,19960227,1343,-16.0025,-169.9980, 5120,   -999,   5231.0,   1.0839,  34.7088,2,  34.7094,2,    206.8,2,  0.6356,    206.2,6,   120.30,6,    32.25,6,     0.00,6,     2.21,6,    0.006,2,    0.002,2,   -999.0,9,  -999.00,9,   -999.0,9,   -999.0,9,   -999.0,9,     7.61,2, -999.00,  -999.0, -999.00,  -999.0