BOTTLE,20220811CCHSIOAMB
EXPOCODE,SECT_ID,STNNBR,CASTNO,SAMPNO,BTLNBR,BTLNBR_FLAG_W,DATE,TIME,LATITUDE,LONGITUDE,DEPTH,CTDRAW,CTDPRS,CTDTMP,CTDSAL,CTDSAL_FLAG_W,SALNTY,SALNTY_FLAG_W,CTDOXY,CTDOXY_FLAG_W,THETA,OXYGEN,OXYGEN_FLAG_W,SILCAT,SILCAT_FLAG_W,NITRAT,NITRAT_FLAG_W,NITRIT,NITRIT_FLAG_W,PHSPHT,PHSPHT_FLAG_W,CFC-11,CFC-11_FLAG_W,CFC-12,CFC-12_FLAG_W,DELC14,DELC14_FLAG_W,DELC13,DELC13_FLAG_W,TCARBN,TCARBN_FLAG_W,PCO2,PCO2_FLAG_W,ALKALI,ALKALI_FLAG_W,PH,PH_FLAG_W,PCO2TMP,C14ERR,PH_TMP,C13ERR
,,,,,,,,,,,,DBAR,DBAR,ITS-90,PSS-78,,PSS-78,,UMOL/KG,,DEG C,UMOL/KG,,UMOL/KG,,UMOL/KG,,UMOL/KG,,UMOL/KG,,PMOL/KG,,PMOL/KG,,/MILLE,,/MILLE,,UMOL/KG,,UATM,,UMOL/KG,,,,DEG C,/MILLE,DEG C,/MILLE
    31DSCG96_2,  P15S,   127,  2,    236,   1245,2,19960222,1734,-25.0010,-169.9988, 5600,   -999,      2.3,  25.4516,  35.5421,2,-999.0000,5,    207.9,2, 25.4511,    206.2,2,     1.27,2,     0.01,2,     0.01,2,     0.04,3,    1.826,2,    1.033,2,     93.9,2,     1.41,2,   1981.6,2,    289.7,3,   2331.3,2,  -999.00,9, -999.00,     3.9, -999.00,  -999.0
    31DSCG96_2,  P15S,   127,  2,    235,   1113,2,19960222,1734,-25.0010,-169.9988, 5600,   -999,     30.9,  25.4568,  35.5406,2,  35.5413,2,    205.7,2, 25.4500,    206.1,2,     1.28,2,     0.01,2,     0.00,2,     0.04,3,    1.829,6,    1.034,6,     92.9,2,     1.44,2,   1981.7,2,    270.9,2,   2332.0,2,     8.11,2, -999.00,     3.8, -999.00,  -999.0
    31DSCG96_2,  P15S,   127,  2,    234,   1216,2,19960222,1734,-25.0010,-169.9988, 5600,   -999,     54.6,  23.9860,  35.7842,2,  35.7875,2,    212.9,2, 23.9745,    215.6,2,     1.29,2,     0.01,2,     0.00,2,     0.05,2,    1.991,2,    1.113,2,     92.8,2,     1.41,2,   2003.9,2,    278.6,2,   2348.2,2,  -999.00,9, -999.00,     3.6, -999.00,  -999.0
    31DSCG96_2,  P15S,   127,  2,    233,   1221,2,19960222,1734,-25.0010,-169.9988, 5600,   -999,     81.6,  21.7275,  35.7209,2,  35.7160,2,    223.8,2, 21.7114,    228.3,6,     1.36,2,     0.03,2,     0.00,2,     0.07,2,    2.175,2,    1.200,2,     93.6,2,     1.43,2,   2003.8,2,    278.8,2,   2345.0,2,     8.09,2, -999.00,     3.5, -999.00,  -999.0
    31DSCG96_2,  P15S,   127,  2,    232,   1039,2,19960222,1734,-25.0010,-169.9988, 5600,   -999,    116.8,  20.6516,  35.7261,2,  35.7244,2,    215.9,2, 20.6295,    217.2,2,     1.31,2,     0.00,2,     0.00,2,     0.10,2,    2.178,2,    1.195,2,     96.7,2,     1.33,2,   2018.9,2,    300.9,2,   2344.2,2,     8.06,2, -999.00,     3.9, -999.00,  -999.0
    31DSCG96_2,  P15S,   127,  2,    231,   1014,2,19960222,1734,-25.0010,-169.9988, 5600,   -999,    164.4,  19.3520,  35.7182,2,  35.7163,2,    207.0,2, 19.3222,    206.9,2,     1.40,2,     0.88,2,     0.09,2,     0.19,2,    2.260,2,    1.221,2,    102.9,2,     1.21,2,   2041.3,2,    334.4,2,   2341.5,2,     8.02,2, -999.00,     4.4, -999.00,  -999.0
    31DSCG96_2,  P15S,   127,  2,    230,   1257,2,19960222,1734,-25.0010,-169.9988, 5600,   -999,    217.0,  18.1883,  35.6570,2,  35.6551,2,    203.1,2, 18.1506,    202.8,2,     1.62,2,     2.55,2,     0.02,2,     0.28,2,    2.290,2,    1.229,2,   -999.0,5,     1.13,2,   2056.2,2,    391.0,2,   2336.8,2,     7.99,2, -999.00,  -999.0, -999.00,  -999.0
    31DSCG96_2,  P15S,   127,  2,    229,   1256,2,19960222,1734,-25.0010,-169.9988, 5600,   -999,    265.5,  17.2284,  35.5935,2,  35.5925,2,    205.4,2, 17.1839,    204.2,2,     1.78,2,     3.36,2,     0.01,2,     0.34,2,    2.295,2,    1.221,2,     91.5,2,     1.17,2,   2063.9,2,    389.2,2,   2335.3,2,     7.97,2, -999.00,     3.5, -999.00,  -999.0
    31DSCG96_2,  P15S,   127,  2,    228,   1007,2,19960222,1734,-25.0010,-169.9988, 5600,   -999,    330.0,  15.5417,  35.3889,2,  35.3958,2,    203.3,2, 15.4901,    199.6,2,     2.44,2,     5.92,2,     0.01,2,     0.51,2,    2.277,2,    1.191,2,    109.6,3,     1.19,2,   2080.2,2,    437.5,2,   2320.9,2,     7.92,2, -999.00,     4.0, -999.00,  -999.0
    31DSCG96_2,  P15S,   127,  2,    227,   1232,2,19960222,1734,-25.0010,-169.9988, 5600,   -999,    419.7,  13.0199,  35.0754,2,  35.0762,2,    194.6,2, 12.9616,    193.5,2,     3.93,2,    11.09,2,     0.00,2,     0.84,2,    1.946,2,    0.992,2,     67.5,2,     1.18,2,   2103.8,2,    535.4,2,   2305.8,2,     7.85,2, -999.00,     3.7, -999.00,  -999.0
    31DSCG96_2,  P15S,   127,  2,    226,   1025,2,19960222,1734,-25.0010,-169.9988, 5600,   -999,    526.2,   9.6425,  34.6632,2,  34.6624,2,    202.6,2,  9.5821,    202.6,2,     5.84,2,    17.56,2,     0.00,2,     1.25,2,    1.536,6,    0.760,6,     31.8,6,     1.25,6,   2125.1,2,    659.8,2,   2292.5,2,     7.77,2, -999.00,     2.9, -999.00,  -999.0
    31DSCG96_2,  P15S,   127,  2,    225,   1119,2,19960222,1734,-25.0010,-169.9988, 5600,   -999,    630.1,   7.4936,  34.4446,2,  34.4441,2,    220.6,2,  7.4310,    222.5,6,     7.92,2,    21.64,2,     0.00,2,     1.51,2,    1.185,2,    0.582,2,     -6.7,2,     1.18,2,   2134.3,2,    730.0,2,   2285.0,2,     7.74,2, -999.00,     3.2, -999.00,  -999.0
    31DSCG96_2,  P15S,   127,  2,    224,   1013,3,19960222,1734,-25.0010,-169.9988, 5600,   -999,    719.5,   6.4870,  34.3652,2,  34.3657,2,    226.5,2,  6.4206,   -999.0,9,    10.92,2,    24.17,2,     0.00,2,     1.67,2, -999.000,5, -999.000,5,    -35.8,2,     1.33,2,   -999.0,9,   -999.0,9,   -999.0,9,  -999.00,9, -999.00,     3.5, -999.00,  -999.0
    31DSCG96_2,  P15S,   127,  2,    223,   1250,2,19960222,1734,-25.0010,-169.9988, 5600,   -999,    830.3,   5.7047,  34.3294,2,  34.3300,2,    219.8,2,  5.6323,   -999.0,9,    16.31,2,    26.78,2,     0.00,2,     1.84,2,    0.337,2,    0.183,2,    -70.5,2,     1.26,2,   2155.0,2,    836.1,2,   2284.8,2,     7.69,2, -999.00,     3.5, -999.00,  -999.0
    31DSCG96_2,  P15S,   127,  2,    222,   1265,2,19960222,1734,-25.0010,-169.9988, 5600,   -999,    925.1,   5.2141,  34.3268,2,  34.3259,2,    207.0,2,  5.1363,    206.9,2,    22.71,2,    28.90,2,     0.00,2,     1.98,2,    0.175,2,    0.098,2,   -101.8,2,     1.07,2,   2188.7,3,    892.4,3,   2292.2,2,     7.66,2, -999.00,     3.0, -999.00,  -999.0
    31DSCG96_2,  P15S,   127,  2,    221,   1246,2,19960222,1734,-25.0010,-169.9988, 5600,   -999,   1025.2,   4.7239,  34.3460,2,  34.3451,2,    189.6,2,  4.6407,    191.3,2,    31.86,2,    30.99,2,     0.00,2,     2.14,2,    0.075,2,    0.041,2,   -126.6,2,     0.97,2,   2190.9,2,    972.7,2,   -999.0,9,     7.63,2, -999.00,     2.9, -999.00,  -999.0
    31DSCG96_2,  P15S,   127,  2,    220,   1015,2,19960222,1734,-25.0010,-169.9988, 5600,   -999,   1140.6,   4.0945,  34.3903,2,  34.3905,2,    174.5,2,  4.0064,    176.1,2,    46.08,2,    33.10,2,     0.00,2,     2.29,2,    0.022,2,    0.016,2,   -132.1,2,     0.79,2,   2216.3,2,   1056.4,2,   2314.8,2,     7.60,2, -999.00,     2.8, -999.00,  -999.0
    31DSCG96_2,  P15S,   127,  2,    219,   1247,2,19960222,1734,-25.0010,-169.9988, 5600,   -999,   1314.7,   3.2769,  34.4787,2,  34.4796,2,    161.7,2,  3.1817,    162.6,2,    69.84,2,    34.70,2,     0.00,2,     2.41,2,    0.002,2,    0.002,2,   -150.6,2,     0.57,2,   2247.9,2,   1132.0,2,   2339.6,2,     7.58,2, -999.00,     2.3, -999.00,  -999.0
    31DSCG96_2,  P15S,   127,  2,    218,   1299,2,19960222,1734,-25.0010,-169.9988, 5600,   -999,   1565.8,   2.5994,  34.5732,2,  34.5727,2,    156.0,2,  2.4909,    155.3,2,    93.74,2,    35.24,2,     0.00,2,     2.45,2,    0.008,3,    0.001,2,   -999.0,9,  -999.00,9,   2276.1,2,   1156.9,2,   2365.7,2,     7.57,2, -999.00,  -999.0, -999.00,  -999.0
    31DSCG96_2,  P15S,   127,  2,    217,   1267,2,19960222,1734,-25.0010,-169.9988, 5600,   -999,   1816.2,   2.3426,  34.6116,2,  34.6169,3,    147.8,2,  2.2166,    147.0,2,   110.71,2,    35.84,2,     0.00,2,     2.51,2,    0.002,2,    0.002,2,   -999.0,9,  -999.00,9,   2296.7,2,   1206.6,2,   2390.6,2,     7.57,2, -999.00,  -999.0, -999.00,  -999.0
    31DSCG96_2,  P15S,   127,  2,    216,   1259,2,19960222,1734,-25.0010,-169.9988, 5600,   -999,   2058.3,   2.1531,  34.6359,2,  34.6367,2,    145.2,2,  2.0093,    145.2,2,   119.06,2,    36.07,2,     0.00,2,     2.53,2,    0.001,2,    0.000,2,   -999.0,9,  -999.00,9,   2305.7,2,   1204.4,2,   2394.1,2,     7.57,2, -999.00,  -999.0, -999.00,  -999.0
    31DSCG96_2,  P15S,   127,  2,    215,   1041,2,19960222,1734,-25.0010,-169.9988, 5600,   -999,   2333.6,   2.0085,  34.6485,2,  34.6484,2,    145.6,2,  1.8430,    145.1,6,   124.75,2,    36.18,2,     0.00,2,     2.53,2,    0.000,2,    0.001,2,   -999.0,9,  -999.00,9,   2311.0,2,   1196.9,2,   2407.7,2,     7.57,2, -999.00,  -999.0, -999.00,  -999.0
    31DSCG96_2,  P15S,   127,  2,    214,   1017,2,19960222,1734,-25.0010,-169.9988, 5600,   -999,   2559.0,   1.8973,  34.6520,3,  34.6590,2,    146.0,2,  1.7135,    145.7,2,   128.66,2,    36.13,2,     0.00,2,     2.53,2,   -0.001,2,    0.000,2,   -999.0,9,  -999.00,9,   2314.3,2,   1197.1,2,   2405.3,2,     7.57,2, -999.00,  -999.0, -999.00,  -999.0
    31DSCG96_2,  P15S,   127,  2,    213,   1302,2,19960222,1734,-25.0010,-169.9988, 5600,   -999,   2810.0,   1.8188,  34.6602,3,  34.6661,2,    146.3,2,  1.6132,    146.6,2,   131.92,2,    36.18,2,     0.00,2,     2.52,2,    0.002,2,    0.002,2,   -999.0,9,  -999.00,9,   2317.5,2,   1193.7,2,   2407.4,2,     7.57,2, -999.00,  -999.0, -999.00,  -999.0
    31DSCG96_2,  P15S,   127,  2,    212,   1217,2,19960222,1734,-25.0010,-169.9988, 5600,   -999,   3065.2,   1.7567,  34.6679,3,  34.6704,2,    147.9,2,  1.5279,    149.0,2,   132.89,2,    35.94,2,     0.00,2,     2.51,2,    0.003,2,    0.001,2,   -999.0,9,  -999.00,9,   2314.9,2,   1186.9,2,   2408.1,2,     7.58,2, -999.00,  -999.0, -999.00,  -999.0
    31DSCG96_2,  P15S,   127,  2,    211,   1114,2,19960222,1734,-25.0010,-169.9988, 5600,   -999,   3315.0,   1.6346,  34.6811,3,  34.6830,2,    156.0,2,  1.3838,    158.0,2,   131.06,2,    35.28,2,     0.00,2,     2.46,2,    0.002,2,    0.002,2,   -999.0,9,  -999.00,9,   2277.9,3,   1189.4,3,   2405.2,2,     7.58,2, -999.00,  -999.0, -999.00,  -999.0
    31DSCG96_2,  P15S,   127,  2,    210,   1301,2,19960222,1734,-25.0010,-169.9988, 5600,   -999,   3565.8,   1.5221,  34.6942,3,  34.7028,2,    175.8,2,  1.2485,    178.4,2,   119.58,2,    33.49,2,     0.00,2,     2.32,2,    0.001,6,    0.002,6,   -999.0,9,  -999.00,9,   2275.9,2,   1095.5,2,   2389.4,2,     7.60,2, -999.00,  -999.0, -999.00,  -999.0
    31DSCG96_2,  P15S,   127,  2,    209,   1233,3,19960222,1734,-25.0010,-169.9988, 5600,   -999,   3815.3,   1.4040,  34.7125,3,  34.7205,2,    193.7,2,  1.1073,    194.9,2,   111.50,2,    32.14,2,     0.00,2,     2.21,2, -999.000,9, -999.000,9,   -999.0,9,  -999.00,9,   -999.0,9,   -999.0,9,   -999.0,9,  -999.00,9, -999.00,  -999.0, -999.00,  -999.0
    31DSCG96_2,  P15S,   127,  2,    208,   1227,2,19960222,1734,-25.0010,-169.9988, 5600,   -999,   3992.6,   1.3077,  34.7164,3,  34.7185,2,    198.6,2,  0.9948,    199.3,2,   112.17,2,    31.94,2,     0.00,2,     2.20,2,    0.005,2,    0.003,2,   -999.0,9,  -999.00,9,   2259.0,2,   1052.1,2,   2371.0,2,     7.61,2, -999.00,  -999.0, -999.00,  -999.0
    31DSCG96_2,  P15S,   127,  2,    207,   1263,2,19960222,1734,-25.0010,-169.9988, 5600,   -999,   4316.1,   1.1466,  34.7123,3,  34.7144,2,    203.3,2,  0.8030,    203.9,2,   115.99,2,    32.01,2,     0.00,2,     2.20,2, -999.000,9, -999.000,9,   -999.0,9,  -999.00,9,   -999.0,9,   -999.0,9,   -999.0,9,  -999.00,9, -999.00,  -999.0, -999.00,  -999.0
    31DSCG96_2,  P15S,   127,  2,    206,   1262,2,19960222,1734,-25.0010,-169.9988, 5600,   -999,   4566.6,   1.0717,  34.7095,3,  34.7111,2,    205.1,2,  0.7023,    205.6,2,   118.71,2,    32.16,2,     0.00,2,     2.21,2,    0.011,2,    0.005,2,   -999.0,9,  -999.00,9,   2259.4,2,   1044.0,2,   2366.9,2,     7.61,2, -999.00,  -999.0, -999.00,  -999.0
    31DSCG96_2,  P15S,   127,  2,    205,   1264,2,19960222,1734,-25.0010,-169.9988, 5600,   -999,   4811.8,   1.0511,  34.7077,3,  34.7093,2,    205.5,2,  0.6540,    206.4,6,   119.83,2,    32.19,2,     0.00,2,     2.21,2,    0.012,2,    0.006,2,   -999.0,9,  -999.00,9,   2259.9,2,   1044.8,2,   2363.9,2,     7.61,2, -999.00,  -999.0, -999.00,  -999.0
    31DSCG96_2,  P15S,   127,  2,    204,   1003,2,19960222,1734,-25.0010,-169.9988, 5600,   -999,   5061.5,   1.0523,  34.7067,3,  34.7085,2,    206.1,2,  0.6257,    206.3,2,   120.78,2,    32.22,2,     0.00,2,     2.21,2,    0.009,2,    0.005,2,   -999.0,9,  -999.00,9,   2260.9,2,   1063.9,2,   2364.6,2,     7.61,2, -999.00,  -999.0, -999.00,  -999.0
    31DSCG96_2,  P15S,   127,  2,    203,   1035,2,19960222,1734,-25.0010,-169.9988, 5600,   -999,   5321.2,   1.0691,  34.7067,3,  34.7088,2,    190.8,4,  0.6103,    206.7,2,   121.16,2,    32.25,2,     0.00,2,     2.22,2,    0.010,2,    0.006,2,   -999.0,9,  -999.00,9,   2261.9,2,   1059.1,2,   2368.1,2,     7.61,2, -999.00,  -999.0, -999.00,  -999.0
    31DSCG96_2,  P15S,   127,  2,    202,   1030,2,19960222,1734,-25.0010,-169.9988, 5600,   -999,   5602.1,   1.0978,  34.7062,3,  34.7089,2,    206.4,4,  0.6028,    208.0,2,   121.36,2,    32.27,2,     0.00,2,     2.21,2,    0.013,2,    0.007,2,   -999.0,9,  -999.00,9,   2261.3,2,   1052.1,2,   2366.7,2,     7.61,2, -999.00,  -999.0, -999.00,  -999.0
    31DSCG96_2,  P15S,   127,  2,    201,   1022,2,19960222,1734,-25.0010,-169.9988, 5600,   -999,   5815.3,   1.1232,  34.7071,2,  34.7076,2,    202.9,4,  0.5999,    207.0,2,   121.38,6,    32.24,6,     0.00,6,     2.22,6,    0.013,6,    0.008,6,   -999.0,9,  -999.00,9,   2261.5,2,   1044.2,2,   2369.1,2,     7.61,2, -999.00,  -999.0, -999.00,  -999.0