BOTTLE,20220811CCHSIOAMB
EXPOCODE,SECT_ID,STNNBR,CASTNO,SAMPNO,BTLNBR,BTLNBR_FLAG_W,DATE,TIME,LATITUDE,LONGITUDE,DEPTH,CTDRAW,CTDPRS,CTDTMP,CTDSAL,CTDSAL_FLAG_W,SALNTY,SALNTY_FLAG_W,CTDOXY,CTDOXY_FLAG_W,THETA,OXYGEN,OXYGEN_FLAG_W,SILCAT,SILCAT_FLAG_W,NITRAT,NITRAT_FLAG_W,NITRIT,NITRIT_FLAG_W,PHSPHT,PHSPHT_FLAG_W,CFC-11,CFC-11_FLAG_W,CFC-12,CFC-12_FLAG_W,DELC14,DELC14_FLAG_W,DELC13,DELC13_FLAG_W,TCARBN,TCARBN_FLAG_W,PCO2,PCO2_FLAG_W,ALKALI,ALKALI_FLAG_W,PH,PH_FLAG_W,PCO2TMP,C14ERR,PH_TMP,C13ERR
,,,,,,,,,,,,DBAR,DBAR,ITS-90,PSS-78,,PSS-78,,UMOL/KG,,DEG C,UMOL/KG,,UMOL/KG,,UMOL/KG,,UMOL/KG,,UMOL/KG,,PMOL/KG,,PMOL/KG,,/MILLE,,/MILLE,,UMOL/KG,,UATM,,UMOL/KG,,,,DEG C,/MILLE,DEG C,/MILLE
    31DSCG96_1,  P15S,    54,  1,    134,   1119,2,19960124,1352,-55.9993,-170.0307, 5157,   -999,     10.5,   6.5870,  34.1284,2,  34.1300,2,    305.6,2,  6.5861,    303.1,2,     4.18,2,    19.62,2,     0.19,2,     1.37,2,    4.776,2,    2.418,2,     16.8,2,  -999.00,9,   2103.6,2,    626.0,2,   2281.6,2,     7.80,2, -999.00,     3.1, -999.00,  -999.0
    31DSCG96_1,  P15S,    54,  1,    133,   1221,2,19960124,1352,-55.9993,-170.0307, 5157,   -999,     18.9,   6.5852,  34.1287,2,  34.1283,2,    302.4,2,  6.5835,    302.7,2,     4.24,2,    19.63,2,     0.18,2,     1.37,2, -999.000,5, -999.000,5,   -999.0,9,  -999.00,9,   2103.5,2,    625.4,2,   2281.5,2,     7.80,2, -999.00,  -999.0, -999.00,  -999.0
    31DSCG96_1,  P15S,    54,  1,    132,   1039,2,19960124,1352,-55.9993,-170.0307, 5157,   -999,     44.7,   6.5518,  34.1298,2,  34.1317,2,    302.1,2,  6.5479,    302.9,2,     4.15,2,    19.59,2,     0.18,2,     1.37,2,    4.797,6,    2.426,6,   -999.0,9,  -999.00,9,   2103.0,2,    620.4,2,   2281.3,2,     7.81,2, -999.00,  -999.0, -999.00,  -999.0
    31DSCG96_1,  P15S,    54,  1,    131,   1014,2,19960124,1352,-55.9993,-170.0307, 5157,   -999,     68.1,   6.2884,  34.1127,2,  34.1154,2,    301.9,2,  6.2825,    303.9,2,     4.09,2,    19.93,2,     0.18,2,     1.40,2, -999.000,5, -999.000,5,   -999.0,9,  -999.00,9,   2107.4,2,    631.4,2,   2282.1,2,     7.80,2, -999.00,  -999.0, -999.00,  -999.0
    31DSCG96_1,  P15S,    54,  1,    130,   1257,2,19960124,1352,-55.9993,-170.0307, 5157,   -999,     94.8,   5.5309,  34.1588,2,  34.1595,2,    302.5,2,  5.5233,    300.9,2,     6.57,2,    20.55,2,     0.22,2,     1.47,2,    4.919,2,    2.453,2,   -999.0,9,  -999.00,9,   2114.7,2,    669.2,2,   2280.8,2,     7.78,2, -999.00,  -999.0, -999.00,  -999.0
    31DSCG96_1,  P15S,    54,  1,    129,   1256,2,19960124,1352,-55.9993,-170.0307, 5157,   -999,    140.9,   5.0152,  34.1566,2,  34.1587,2,    298.2,2,  5.0045,    299.9,2,     7.75,2,    21.80,2,     0.36,2,     1.51,2,    4.855,2,    2.453,2,   -999.0,9,  -999.00,9,   2120.8,2,    692.2,2,   2282.3,2,     7.77,2, -999.00,  -999.0, -999.00,  -999.0
    31DSCG96_1,  P15S,    54,  1,    128,   1007,2,19960124,1352,-55.9993,-170.0307, 5157,   -999,    190.8,   4.7036,  34.1464,2,  34.1466,2,    295.1,2,  4.6894,    297.1,2,     8.91,2,    23.01,2,     0.08,2,     1.57,2,    4.804,2,    2.415,2,   -999.0,9,  -999.00,9,   2125.6,2,    716.6,2,   2282.1,2,     7.76,2, -999.00,  -999.0, -999.00,  -999.0
    31DSCG96_1,  P15S,    54,  1,    127,   1234,2,19960124,1352,-55.9993,-170.0307, 5157,   -999,    239.8,   4.5012,  34.1445,2,  34.1466,2,    291.6,2,  4.4837,    289.0,2,    10.84,2,    24.23,2,     0.01,2,     1.64,2,    4.596,2,    2.271,2,   -999.0,9,  -999.00,9,   2133.0,2,    749.5,2,   2282.6,2,     7.74,2, -999.00,  -999.0, -999.00,  -999.0
    31DSCG96_1,  P15S,    54,  1,    126,   1025,2,19960124,1352,-55.9993,-170.0307, 5157,   -999,    287.5,   4.3514,  34.1463,2,  34.1474,2,    292.3,2,  4.3305,    282.8,2,    12.39,2,    24.98,2,     0.01,2,     1.70,2,    4.392,2,    2.167,2,   -999.0,9,  -999.00,9,   2138.0,2,    716.7,3,   2281.4,2,     7.73,2, -999.00,  -999.0, -999.00,  -999.0
    31DSCG96_1,  P15S,    54,  1,    125,   1233,2,19960124,1352,-55.9993,-170.0307, 5157,   -999,    373.2,   3.6972,  34.1181,2,  34.1213,2,    280.1,2,  3.6719,    281.4,2,    15.65,2,    26.56,2,     0.01,2,     1.79,2,    4.360,2,    2.143,2,   -999.0,9,  -999.00,9,   2147.0,2,    800.4,2,   2285.2,2,     7.71,2, -999.00,  -999.0, -999.00,  -999.0
    31DSCG96_1,  P15S,    54,  1,    124,   1218,2,19960124,1352,-55.9993,-170.0307, 5157,   -999,    473.8,   2.7474,  34.0602,2,  34.0600,2,    285.5,2,  2.7185,    291.7,2,    18.25,2,    27.58,2,     0.02,2,     1.87,2,    4.773,2,    2.356,2,   -999.0,9,  -999.00,9,   2152.8,2,    824.6,2,   2284.6,2,     7.70,2, -999.00,  -999.0, -999.00,  -999.0
    31DSCG96_1,  P15S,    54,  1,    123,   1250,2,19960124,1352,-55.9993,-170.0307, 5157,   -999,    578.9,   3.4047,  34.2325,2,  34.2316,2,    234.9,2,  3.3657,    233.2,2,    31.20,2,    30.81,2,     0.00,2,     2.08,2,    2.664,2,    1.277,2,   -999.0,9,  -999.00,9,   2184.9,2,    976.8,2,   2296.9,2,     7.64,2, -999.00,  -999.0, -999.00,  -999.0
    31DSCG96_1,  P15S,    54,  1,    122,   1109,2,19960124,1352,-55.9993,-170.0307, 5157,   -999,    681.9,   3.2835,  34.3167,2,  34.3143,2,    212.1,2,  3.2376,    210.2,2,    41.40,2,    32.38,2,     0.00,2,     2.20,2,    1.641,2,    0.780,2,   -999.0,9,  -999.00,9,   2203.8,2,   1056.2,2,   2305.5,2,     7.61,2, -999.00,  -999.0, -999.00,  -999.0
    31DSCG96_1,  P15S,    54,  1,    121,   1246,2,19960124,1352,-55.9993,-170.0307, 5157,   -999,    777.8,   3.0599,  34.3610,2,  34.3598,2,    200.5,2,  3.0083,    199.9,6,    48.72,2,    33.22,2,     0.00,2,     2.26,2,    1.256,2,    0.591,2,   -999.0,9,  -999.00,9,   2215.9,2,   1094.7,2,   2313.3,2,     7.59,2, -999.00,  -999.0, -999.00,  -999.0
    31DSCG96_1,  P15S,    54,  1,    120,   1015,2,19960124,1352,-55.9993,-170.0307, 5157,   -999,    873.5,   2.7743,  34.4003,2,  34.3992,2,    192.8,2,  2.7175,    192.5,2,    55.32,2,    33.85,2,     0.00,2,     2.31,2,    1.033,2,    0.488,2,   -999.0,9,  -999.00,9,   2225.7,2,   1161.0,2,   2319.1,2,     7.58,2, -999.00,  -999.0, -999.00,  -999.0
    31DSCG96_1,  P15S,    54,  1,    119,   1247,2,19960124,1352,-55.9993,-170.0307, 5157,   -999,    972.8,   2.6506,  34.4590,2,  34.4585,2,    184.6,2,  2.5875,    183.6,2,    62.27,2,    34.26,2,     0.00,2,     2.33,2,    0.740,2,    0.354,2,   -999.0,9,  -999.00,9,   2234.7,2,   1205.1,2,   2326.4,2,     7.57,2, -999.00,  -999.0, -999.00,  -999.0
    31DSCG96_1,  P15S,    54,  1,    118,   1222,2,19960124,1352,-55.9993,-170.0307, 5157,   -999,   1067.8,   2.5422,  34.5090,2,  34.5074,2,    179.2,2,  2.4729,    177.8,2,    67.35,2,    34.31,2,     0.00,2,     2.33,2,    0.570,2,    0.269,2,   -999.0,9,  -999.00,9,   2241.9,2,   1196.9,2,   2328.7,2,     7.56,2, -999.00,  -999.0, -999.00,  -999.0
    31DSCG96_1,  P15S,    54,  1,    117,   1267,2,19960124,1352,-55.9993,-170.0307, 5157,   -999,   1213.0,   2.4703,  34.5617,2,  34.5619,2,    174.8,2,  2.3908,    175.4,2,    71.79,2,    34.09,2,     0.00,2,     2.31,2,    0.384,2,    0.186,2,   -999.0,9,  -999.00,9,   2246.6,2,   1204.6,2,   2336.8,2,     7.57,2, -999.00,  -999.0, -999.00,  -999.0
    31DSCG96_1,  P15S,    54,  1,    116,   1211,2,19960124,1352,-55.9993,-170.0307, 5157,   -999,   1439.5,   2.3353,  34.6472,2,  34.6470,2,    175.7,2,  2.2397,    175.8,2,    77.79,2,    33.05,2,     0.00,2,     2.24,2,    0.183,2,    0.091,2,   -999.0,9,  -999.00,9,   2249.9,2,   1169.7,2,   2342.0,2,     7.58,2, -999.00,  -999.0, -999.00,  -999.0
    31DSCG96_1,  P15S,    54,  1,    115,   1041,2,19960124,1352,-55.9993,-170.0307, 5157,   -999,   1693.1,   2.1921,  34.7004,2,  34.7002,2,    181.5,2,  2.0779,    181.5,6,    81.94,2,    32.09,2,     0.00,2,     2.17,2,    0.107,2,    0.059,2,   -999.0,9,  -999.00,9,   2246.5,2,   1115.8,2,   2351.6,3,     7.59,2, -999.00,  -999.0, -999.00,  -999.0
    31DSCG96_1,  P15S,    54,  1,    114,   1017,2,19960124,1352,-55.9993,-170.0307, 5157,   -999,   1939.2,   2.0398,  34.7271,2,  34.7274,2,    187.3,2,  1.9075,    187.3,2,    86.06,2,    31.43,2,     0.00,2,     2.12,2,    0.075,6,    0.042,6,   -999.0,9,  -999.00,9,   2246.2,2,   1092.3,2,   -999.0,9,     7.60,2, -999.00,  -999.0, -999.00,  -999.0
    31DSCG96_1,  P15S,    54,  1,    113,   1302,2,19960124,1352,-55.9993,-170.0307, 5157,   -999,   2185.9,   1.8651,  34.7378,2,  34.7388,2,    192.1,2,  1.7146,    191.6,2,    91.09,2,    31.12,2,     0.00,2,     2.11,2,    0.051,2,    0.026,2,   -999.0,9,  -999.00,9,   2246.6,2,   1067.1,2,   2352.3,2,     7.61,2, -999.00,  -999.0, -999.00,  -999.0
    31DSCG96_1,  P15S,    54,  1,    112,   1217,2,19960124,1352,-55.9993,-170.0307, 5157,   -999,   2438.1,   1.6660,  34.7384,2,  34.7398,2,    195.6,2,  1.4970,    195.5,2,    97.00,2,    31.19,2,     0.00,2,     2.11,2,    0.041,2,    0.025,2,   -999.0,9,  -999.00,9,   2248.6,2,   1066.3,2,   2358.9,2,     7.61,2, -999.00,  -999.0, -999.00,  -999.0
    31DSCG96_1,  P15S,    54,  1,    111,   1114,2,19960124,1352,-55.9993,-170.0307, 5157,   -999,   2688.2,   1.4879,  34.7336,2,  34.7345,2,    198.2,2,  1.3001,    198.1,2,   102.46,2,    31.38,2,     0.00,2,     2.13,2,    0.037,2,    0.019,2,   -999.0,9,  -999.00,9,   2252.7,2,   1076.3,2,   2360.3,2,     7.61,2, -999.00,  -999.0, -999.00,  -999.0
    31DSCG96_1,  P15S,    54,  1,    110,   1301,2,19960124,1352,-55.9993,-170.0307, 5157,   -999,   2939.8,   1.3160,  34.7273,2,  34.7291,2,    200.3,2,  1.1086,    200.4,2,   107.72,2,    31.59,2,     0.00,2,     2.15,2,    0.031,2,    0.012,2,   -999.0,9,  -999.00,9,   2255.1,2,   1070.9,2,   2365.5,2,     7.61,2, -999.00,  -999.0, -999.00,  -999.0
    31DSCG96_1,  P15S,    54,  1,    109,   1242,2,19960124,1352,-55.9993,-170.0307, 5157,   -999,   3188.5,   1.1876,  34.7220,2,  34.7234,2,    202.3,2,  0.9596,    202.5,6,   111.70,2,    31.82,2,     0.00,2,     2.17,2,    0.039,2,    0.021,2,   -999.0,9,  -999.00,9,   2258.6,2,   1070.4,2,   2369.2,2,     7.61,2, -999.00,  -999.0, -999.00,  -999.0
    31DSCG96_1,  P15S,    54,  1,    108,   1263,2,19960124,1352,-55.9993,-170.0307, 5157,   -999,   3438.4,   1.0791,  34.7172,2,  34.7176,2,    204.8,2,  0.8295,    204.7,2,   115.06,2,    31.93,2,     0.00,2,     2.18,2,    0.041,2,    0.026,2,   -999.0,9,  -999.00,9,   2258.3,2,   1074.0,2,   2365.9,2,     7.61,2, -999.00,  -999.0, -999.00,  -999.0
    31DSCG96_1,  P15S,    54,  1,    107,   1245,2,19960124,1352,-55.9993,-170.0307, 5157,   -999,   3676.9,   0.9865,  34.7125,2,  34.7135,2,    206.0,2,  0.7154,    206.8,2,   118.02,2,    32.05,2,     0.00,2,     2.18,2,    0.048,2,    0.033,2,   -999.0,9,  -999.00,9,   2260.6,2,   1080.9,2,   2365.6,2,     7.61,2, -999.00,  -999.0, -999.00,  -999.0
    31DSCG96_1,  P15S,    54,  1,    106,   1262,2,19960124,1352,-55.9993,-170.0307, 5157,   -999,   3936.3,   0.9227,  34.7092,2,  34.7089,2,    207.8,2,  0.6266,    208.1,2,   120.05,2,    32.13,2,     0.00,2,     2.19,2,    0.056,2,    0.029,2,   -999.0,9,  -999.00,9,   2259.7,2,   1082.5,2,   2367.4,2,     7.61,2, -999.00,  -999.0, -999.00,  -999.0
    31DSCG96_1,  P15S,    54,  1,    105,   1113,2,19960124,1352,-55.9993,-170.0307, 5157,   -999,   4187.2,   0.8868,  34.7064,2,  34.7073,2,    208.8,2,  0.5651,    208.9,2,   122.11,2,    32.21,2,     0.00,2,     2.19,2,    0.061,2,    0.029,2,   -999.0,9,  -999.00,9,   2260.8,2,   1088.6,2,   2362.7,2,     7.61,2, -999.00,  -999.0, -999.00,  -999.0
    31DSCG96_1,  P15S,    54,  1,    104,   1003,2,19960124,1352,-55.9993,-170.0307, 5157,   -999,   4435.6,   0.8804,  34.7052,2,  34.7053,2,    209.0,2,  0.5317,    209.0,2,   123.30,2,    32.28,2,     0.00,2,     2.19,2,    0.071,2,    0.035,2,   -999.0,9,  -999.00,9,   2260.4,2,   1089.2,2,   2367.5,2,     7.61,2, -999.00,  -999.0, -999.00,  -999.0
    31DSCG96_1,  P15S,    54,  1,    103,   9999,2,19960124,1352,-55.9993,-170.0307, 5157,   -999,   4875.3,   0.9088,  34.7042,2,  34.7050,2,    209.8,2,  0.5091,    209.4,6,   124.53,2,    32.33,2,     0.00,2,     2.20,2,    0.078,2,    0.039,2,   -999.0,9,  -999.00,9,   2260.4,2,   -999.0,9,   2369.4,2,     7.61,2, -999.00,  -999.0, -999.00,  -999.0
    31DSCG96_1,  P15S,    54,  1,    102,   1030,2,19960124,1352,-55.9993,-170.0307, 5157,   -999,   4875.5,   0.9090,  34.7041,2,  34.7040,2,    209.8,2,  0.5092,    209.6,2,   124.54,2,    32.25,2,     0.00,2,     2.20,2,    0.083,6,    0.045,6,   -999.0,9,  -999.00,9,   2263.6,3,   1089.8,2,   2367.2,2,     7.61,2, -999.00,  -999.0, -999.00,  -999.0
    31DSCG96_1,  P15S,    54,  1,    101,   1022,2,19960124,1352,-55.9993,-170.0307, 5157,   -999,   5231.7,   0.9471,  34.7040,2,  34.7042,2,    209.8,2,  0.5036,    209.6,2,   124.62,6,    32.27,6,     0.00,6,     2.20,2,    0.088,2,    0.044,2,   -999.0,9,  -999.00,9,   2258.8,2,   1097.0,2,   2363.9,2,     7.61,2, -999.00,  -999.0, -999.00,  -999.0