BOTTLE,20220811CCHSIOAMB
EXPOCODE,SECT_ID,STNNBR,CASTNO,SAMPNO,BTLNBR,BTLNBR_FLAG_W,DATE,TIME,LATITUDE,LONGITUDE,DEPTH,CTDRAW,CTDPRS,CTDTMP,CTDSAL,CTDSAL_FLAG_W,SALNTY,SALNTY_FLAG_W,CTDOXY,CTDOXY_FLAG_W,THETA,OXYGEN,OXYGEN_FLAG_W,SILCAT,SILCAT_FLAG_W,NITRAT,NITRAT_FLAG_W,NITRIT,NITRIT_FLAG_W,PHSPHT,PHSPHT_FLAG_W,CFC-11,CFC-11_FLAG_W,CFC-12,CFC-12_FLAG_W,DELC14,DELC14_FLAG_W,DELC13,DELC13_FLAG_W,TCARBN,TCARBN_FLAG_W,PCO2,PCO2_FLAG_W,ALKALI,ALKALI_FLAG_W,PH,PH_FLAG_W,PCO2TMP,C14ERR,PH_TMP,C13ERR
,,,,,,,,,,,,DBAR,DBAR,ITS-90,PSS-78,,PSS-78,,UMOL/KG,,DEG C,UMOL/KG,,UMOL/KG,,UMOL/KG,,UMOL/KG,,UMOL/KG,,PMOL/KG,,PMOL/KG,,/MILLE,,/MILLE,,UMOL/KG,,UATM,,UMOL/KG,,,,DEG C,/MILLE,DEG C,/MILLE
    31DSCG96_2,  P15S,   173,  2,    236,   1245,2,19960306,0012, -1.0010,-168.7537, 5724,   -999,      4.0,  26.9515,  35.5464,2,  35.5471,2,    203.2,2, 26.9506,    203.5,2,     2.33,2,     3.81,2,     0.29,2,     0.44,2,    1.730,2,    0.938,2,     84.3,2,  -999.00,9,   2017.0,2,    311.1,2,   2340.4,2,     8.05,2, -999.00,     3.2, -999.00,  -999.0
    31DSCG96_2,  P15S,   173,  2,    235,   1113,2,19960306,0012, -1.0010,-168.7537, 5724,   -999,     31.3,  26.8204,  35.5398,2,  35.5416,2,    202.4,2, 26.8133,    203.7,2,     2.50,2,     3.82,2,     0.30,2,     0.45,2,    1.735,2,    0.952,2,   -999.0,9,  -999.00,9,   2021.3,2,    312.2,2,   2338.2,2,     8.05,2, -999.00,  -999.0, -999.00,  -999.0
    31DSCG96_2,  P15S,   173,  2,    234,   1267,2,19960306,0012, -1.0010,-168.7537, 5724,   -999,     55.1,  26.7680,  35.5296,2,  35.5314,2,    201.6,2, 26.7554,    202.6,2,     2.41,2,     3.88,2,     0.31,2,     0.46,2,    1.731,2,    0.940,2,   -999.0,9,  -999.00,9,   2020.6,2,    318.4,2,   2341.0,2,     8.05,2, -999.00,  -999.0, -999.00,  -999.0
    31DSCG96_2,  P15S,   173,  2,    233,   1021,2,19960306,0012, -1.0010,-168.7537, 5724,   -999,     81.0,  26.6480,  35.5076,2,  35.5114,2,    200.6,2, 26.6296,    200.4,2,     2.55,2,     4.02,2,     0.32,2,     0.49,2,    1.733,3,    1.107,3,   -999.0,9,  -999.00,9,   2024.2,2,    327.6,2,   2337.4,2,     8.04,2, -999.00,  -999.0, -999.00,  -999.0
    31DSCG96_2,  P15S,   173,  2,    232,   1039,2,19960306,0012, -1.0010,-168.7537, 5724,   -999,    119.5,  26.0601,  35.5601,2,  35.5450,2,    179.8,2, 26.0333,    184.3,2,     2.73,2,     4.66,2,     1.04,2,     0.57,2,    1.755,2,    0.992,2,   -999.0,9,  -999.00,9,   2037.3,2,    356.1,2,   2339.6,2,     8.02,2, -999.00,  -999.0, -999.00,  -999.0
    31DSCG96_2,  P15S,   173,  2,    231,   1014,2,19960306,0012, -1.0010,-168.7537, 5724,   -999,    163.2,  21.3481,  35.7385,2,  35.7371,2,    123.6,2, 21.3164,    125.0,2,     4.57,2,    11.44,2,     0.03,2,     0.97,2,    1.703,6,    0.884,6,   -999.0,9,  -999.00,9,   2116.2,2,    504.8,2,   2351.5,2,     7.90,2, -999.00,  -999.0, -999.00,  -999.0
    31DSCG96_2,  P15S,   173,  2,    230,   1257,2,19960306,0012, -1.0010,-168.7537, 5724,   -999,    207.7,  14.6780,  35.1347,2,  35.1408,2,    125.9,2, 14.6469,    121.7,2,    11.82,2,    18.08,2,     0.01,2,     1.34,2,    1.092,2,    0.545,2,   -999.0,9,  -999.00,9,   2146.0,2,    675.9,2,   2320.8,2,     7.78,2, -999.00,  -999.0, -999.00,  -999.0
    31DSCG96_2,  P15S,   173,  2,    229,   1256,2,19960306,0012, -1.0010,-168.7537, 5724,   -999,    266.1,  11.6247,  34.8359,2,  34.8341,2,     83.5,2, 11.5907,     89.4,2,    21.99,2,    26.18,2,     0.00,2,     1.84,2,    0.556,2,    0.269,2,   -999.0,9,  -999.00,9,   2188.3,2,    979.8,2,   2308.2,2,     7.64,2, -999.00,  -999.0, -999.00,  -999.0
    31DSCG96_2,  P15S,   173,  2,    228,   1230,2,19960306,0012, -1.0010,-168.7537, 5724,   -999,    326.4,  10.8877,  34.7808,2,  34.7792,2,     69.6,2, 10.8475,     70.5,2,    25.57,2,    29.37,2,     0.00,2,     2.05,2,    0.382,2,    0.224,3,   -999.0,9,  -999.00,9,   2209.8,2,   1117.2,2,   2307.4,2,     7.58,2, -999.00,  -999.0, -999.00,  -999.0
    31DSCG96_2,  P15S,   173,  2,    227,   1232,2,19960306,0012, -1.0010,-168.7537, 5724,   -999,    423.9,   9.9342,  34.7245,2,  34.7221,2,     80.0,2,  9.8848,   -999.0,9,    27.99,2,    31.19,2,     0.00,2,     2.16,2,    0.230,2,    0.110,2,   -999.0,9,  -999.00,9,   2220.5,2,   1192.6,2,   2305.9,2,     7.56,2, -999.00,  -999.0, -999.00,  -999.0
    31DSCG96_2,  P15S,   173,  2,    226,   1025,2,19960306,0012, -1.0010,-168.7537, 5724,   -999,    525.3,   7.6361,  34.5926,2,  34.5927,2,     92.2,2,  7.5835,     91.8,2,    38.21,2,    33.86,2,     0.00,2,     2.36,2,    0.097,2,    0.047,2,   -999.0,9,  -999.00,9,   2231.8,2,   -999.0,9,   2313.3,2,  -999.00,9, -999.00,  -999.0, -999.00,  -999.0
    31DSCG96_2,  P15S,   173,  2,    225,   1119,2,19960306,0012, -1.0010,-168.7537, 5724,   -999,    625.9,   6.9999,  34.5688,2,  34.5694,2,     65.9,2,  6.9399,     88.8,6,    44.18,2,    35.56,2,     0.00,2,     2.49,2,    0.057,6,    0.020,6,   -999.0,9,  -999.00,9,   2243.8,2,   1324.9,2,   2315.1,2,     7.52,2, -999.00,  -999.0, -999.00,  -999.0
    31DSCG96_2,  P15S,   173,  2,    224,   1244,2,19960306,0012, -1.0010,-168.7537, 5724,   -999,    724.0,   6.1378,  34.5448,2,  34.5461,2,     92.5,2,  6.0726,     89.7,2,    53.54,2,    37.02,2,     0.00,2,     2.61,2,    0.024,2,    0.008,2,   -999.0,9,  -999.00,9,   2257.8,2,   1379.8,2,   2321.0,2,     7.51,2, -999.00,  -999.0, -999.00,  -999.0
    31DSCG96_2,  P15S,   173,  2,    223,   1250,2,19960306,0012, -1.0010,-168.7537, 5724,   -999,    826.0,   5.4683,  34.5400,2,  34.5399,2,     98.1,2,  5.3975,     91.5,2,    63.85,2,    37.80,2,     0.00,2,     2.67,2,    0.010,2,    0.003,2,   -999.0,9,  -999.00,9,   2269.9,2,   1410.9,2,   2334.8,2,     7.50,2, -999.00,  -999.0, -999.00,  -999.0
    31DSCG96_2,  P15S,   173,  2,    222,   1265,2,19960306,0012, -1.0010,-168.7537, 5724,   -999,    926.2,   4.5794,  34.5528,2,  34.5519,2,     88.2,2,  4.5056,     87.5,2,    82.65,2,    39.16,2,     0.00,2,     2.79,2,    0.000,2,    0.000,2,   -999.0,9,  -999.00,9,   2292.8,2,   1477.1,2,   2353.3,2,     7.49,2, -999.00,  -999.0, -999.00,  -999.0
    31DSCG96_2,  P15S,   173,  2,    221,   1246,2,19960306,0012, -1.0010,-168.7537, 5724,   -999,   1022.1,   4.3718,  34.5587,2,  34.5587,2,     85.4,2,  4.2913,     85.0,2,    88.36,2,    39.55,2,     0.00,2,     2.82,2,    0.000,2,    0.000,2,   -999.0,9,  -999.00,9,   2302.0,2,   1495.1,2,   2366.5,2,     7.48,2, -999.00,  -999.0, -999.00,  -999.0
    31DSCG96_2,  P15S,   173,  2,    220,   1015,2,19960306,0012, -1.0010,-168.7537, 5724,   -999,   1136.6,   3.9937,  34.5664,2,  34.5658,2,     94.1,2,  3.9064,     91.0,2,    95.19,2,    39.29,2,     0.00,2,     2.80,2, -999.000,9, -999.000,9,   -999.0,9,  -999.00,9,   2304.1,2,   1473.2,2,   2372.5,2,     7.49,2, -999.00,  -999.0, -999.00,  -999.0
    31DSCG96_2,  P15S,   173,  2,    219,   1247,2,19960306,0012, -1.0010,-168.7537, 5724,   -999,   1311.8,   3.5399,  34.5839,2,  34.5854,2,     90.8,2,  3.4421,     89.4,6,   107.55,2,    39.75,2,     0.00,2,     2.84,2,   -0.001,2,    0.000,2,   -999.0,9,  -999.00,9,   2320.9,2,   1523.3,2,   2384.4,2,     7.49,2, -999.00,  -999.0, -999.00,  -999.0
    31DSCG96_2,  P15S,   173,  2,    218,   1299,2,19960306,0012, -1.0010,-168.7537, 5724,   -999,   1561.2,   2.8892,  34.6073,2,  34.6085,2,     98.9,2,  2.7775,    102.1,2,   121.03,2,    39.14,2,     0.00,2,     2.77,2, -999.000,9, -999.000,9,   -999.0,9,  -999.00,9,   2327.0,2,   1426.7,2,   2398.2,2,     7.50,2, -999.00,  -999.0, -999.00,  -999.0
    31DSCG96_2,  P15S,   173,  2,    217,   1263,2,19960306,0012, -1.0010,-168.7537, 5724,   -999,   1814.1,   2.4624,  34.6297,2,  34.6315,2,    103.5,2,  2.3349,    105.3,2,   133.07,2,    39.15,2,     0.00,2,     2.76,2, -999.000,9, -999.000,9,   -999.0,9,  -999.00,9,   2339.0,2,   1410.4,2,   -999.0,9,     7.51,2, -999.00,  -999.0, -999.00,  -999.0
    31DSCG96_2,  P15S,   173,  2,    216,   1259,2,19960306,0012, -1.0010,-168.7537, 5724,   -999,   2064.1,   2.1656,  34.6457,2,  34.6451,2,    113.3,2,  2.0211,    114.0,2,   138.74,2,    38.62,2,     0.00,2,     2.71,2,   -0.001,2,    0.000,2,   -999.0,9,  -999.00,9,   2341.1,2,   1370.1,2,   2417.7,2,     7.52,2, -999.00,  -999.0, -999.00,  -999.0
    31DSCG96_2,  P15S,   173,  2,    215,   1264,2,19960306,0012, -1.0010,-168.7537, 5724,   -999,   2314.3,   1.9854,  34.6549,2,  34.6557,2,    119.7,2,  1.8220,    120.8,2,   141.84,2,    38.17,2,     0.00,2,     2.66,2, -999.000,9, -999.000,9,   -999.0,9,  -999.00,9,   2339.8,2,   1324.9,2,   2426.9,3,     7.54,2, -999.00,  -999.0, -999.00,  -999.0
    31DSCG96_2,  P15S,   173,  2,    214,   1017,2,19960306,0012, -1.0010,-168.7537, 5724,   -999,   2564.0,   1.8403,  34.6635,2,  34.6646,2,    127.3,2,  1.6571,    125.4,2,   145.44,2,    37.90,2,     0.00,2,     2.64,2, -999.000,9, -999.000,9,   -999.0,9,  -999.00,9,   2341.4,2,   1318.1,2,   2425.3,2,     7.54,2, -999.00,  -999.0, -999.00,  -999.0
    31DSCG96_2,  P15S,   173,  2,    213,   1035,2,19960306,0012, -1.0010,-168.7537, 5724,   -999,   2816.1,   1.7473,  34.6676,2,  34.6705,2,    129.9,2,  1.5426,    131.7,2,   145.18,2,    37.47,2,     0.00,2,     2.61,2,   -0.001,2,    0.000,2,   -999.0,9,  -999.00,9,   2335.6,2,   1278.6,2,   2426.1,2,     7.55,2, -999.00,  -999.0, -999.00,  -999.0
    31DSCG96_2,  P15S,   173,  2,    212,   1217,2,19960306,0012, -1.0010,-168.7537, 5724,   -999,   3065.9,   1.6273,  34.6742,2,  34.6703,3,    139.2,2,  1.4013,    138.3,6,   144.73,2,    36.99,2,     0.00,2,     2.57,2, -999.000,9, -999.000,9,   -999.0,9,  -999.00,9,   2331.8,2,   1254.9,2,   2423.6,2,  -999.00,9, -999.00,  -999.0, -999.00,  -999.0
    31DSCG96_2,  P15S,   173,  2,    211,   1226,2,19960306,0012, -1.0010,-168.7537, 5724,   -999,   3316.2,   1.5737,  34.6781,2,  34.6788,2,    144.5,2,  1.3243,    144.3,2,   144.20,2,    36.60,2,     0.00,2,     2.53,2, -999.000,9, -999.000,9,   -999.0,9,  -999.00,9,   2328.2,2,   1231.1,2,   2424.5,2,     7.57,2, -999.00,  -999.0, -999.00,  -999.0
    31DSCG96_2,  P15S,   173,  2,    210,   1301,2,19960306,0012, -1.0010,-168.7537, 5724,   -999,   3563.2,   1.5146,  34.6834,2,  34.6840,2,    150.2,2,  1.2415,    152.2,2,   142.31,2,    36.10,2,     0.00,2,     2.49,2,   -0.002,2,    0.000,2,   -999.0,9,  -999.00,9,   2321.7,2,   1208.4,2,   2418.6,2,     7.58,2, -999.00,  -999.0, -999.00,  -999.0
    31DSCG96_2,  P15S,   173,  2,    209,   1027,2,19960306,0012, -1.0010,-168.7537, 5724,   -999,   3817.2,   1.4801,  34.6875,2,  34.6884,2,    157.9,2,  1.1813,    157.0,2,   141.45,2,    35.81,2,     0.00,2,     2.46,2, -999.000,9, -999.000,9,   -999.0,9,  -999.00,9,   2318.6,2,   1160.6,2,   2421.5,2,     7.59,2, -999.00,  -999.0, -999.00,  -999.0
    31DSCG96_2,  P15S,   173,  2,    208,   1227,2,19960306,0012, -1.0010,-168.7537, 5724,   -999,   4065.8,   1.4171,  34.6926,2,  34.6932,2,    165.0,2,  1.0933,    164.4,2,   139.83,2,    35.33,2,     0.00,2,     2.42,2, -999.000,9, -999.000,9,   -999.0,9,  -999.00,9,   2313.3,2,   1125.7,2,   2418.0,2,     7.60,2, -999.00,  -999.0, -999.00,  -999.0
    31DSCG96_2,  P15S,   173,  2,    207,   1242,2,19960306,0012, -1.0010,-168.7537, 5724,   -999,   4314.8,   1.3126,  34.6988,2,  34.6999,2,    178.0,2,  0.9642,    177.9,2,   132.91,2,    34.28,2,     0.00,2,     2.35,2,    0.000,2,    0.000,2,   -999.0,9,  -999.00,9,   2294.9,2,   1096.8,2,   2404.0,2,     7.61,2, -999.00,  -999.0, -999.00,  -999.0
    31DSCG96_2,  P15S,   173,  2,    206,   1262,2,19960306,0012, -1.0010,-168.7537, 5724,   -999,   4569.3,   1.2634,  34.7021,2,  34.7024,2,    186.3,2,  0.8877,    184.0,2,   129.01,2,    33.71,2,     0.00,2,     2.31,2,    0.000,2,    0.000,2,   -999.0,9,  -999.00,9,   2285.9,2,   1081.3,2,   2396.7,2,     7.61,2, -999.00,  -999.0, -999.00,  -999.0
    31DSCG96_2,  P15S,   173,  2,    205,   1041,2,19960306,0012, -1.0010,-168.7537, 5724,   -999,   4858.5,   1.2508,  34.7041,2,  34.7044,2,    191.1,2,  0.8417,    190.7,6,   126.67,2,    33.35,2,     0.00,2,     2.28,2,    0.000,2,    0.000,2,   -999.0,9,  -999.00,9,   2281.4,2,   1073.5,2,   2386.1,2,     7.61,2, -999.00,  -999.0, -999.00,  -999.0
    31DSCG96_2,  P15S,   173,  2,    204,   1003,2,19960306,0012, -1.0010,-168.7537, 5724,   -999,   5173.5,   1.2631,  34.7049,2,  34.7062,2,    193.8,2,  0.8156,    192.7,2,   125.32,2,    33.18,2,     0.00,2,     2.27,2,    0.001,2,    0.000,2,   -999.0,9,  -999.00,9,   2277.3,2,   1077.4,2,   2391.0,3,     7.61,2, -999.00,  -999.0, -999.00,  -999.0
    31DSCG96_2,  P15S,   173,  2,    203,   1302,2,19960306,0012, -1.0010,-168.7537, 5724,   -999,   5476.8,   1.2965,  34.7049,2,  34.7057,2,    194.9,2,  0.8100,    194.4,2,   124.95,2,    33.09,2,     0.00,2,     2.27,2,    0.001,2,    0.000,2,   -999.0,9,  -999.00,9,   2276.0,2,   1072.7,2,   2389.1,2,     7.61,2, -999.00,  -999.0, -999.00,  -999.0
    31DSCG96_2,  P15S,   173,  2,    202,   1030,2,19960306,0012, -1.0010,-168.7537, 5724,   -999,   5773.2,   1.3332,  34.7049,2,  34.7062,2,    195.5,2,  0.8074,    194.0,2,   124.68,2,    33.04,2,     0.00,2,     2.26,2,    0.002,2,    0.000,2,   -999.0,9,  -999.00,9,   2278.4,2,   1080.6,2,   2386.6,2,     7.61,2, -999.00,  -999.0, -999.00,  -999.0
    31DSCG96_2,  P15S,   173,  2,    201,   1022,2,19960306,0012, -1.0010,-168.7537, 5724,   -999,   5889.4,   1.3487,  34.7048,2,  34.7069,2,    195.8,2,  0.8072,    193.4,2,   124.69,6,    33.05,6,     0.00,6,     2.27,6,    0.003,6,    0.000,6,   -999.0,9,  -999.00,9,   2276.9,2,   1097.7,2,   2385.9,2,     7.61,2, -999.00,  -999.0, -999.00,  -999.0