BOTTLE,20220811CCHSIOAMB
EXPOCODE,SECT_ID,STNNBR,CASTNO,SAMPNO,BTLNBR,BTLNBR_FLAG_W,DATE,TIME,LATITUDE,LONGITUDE,DEPTH,CTDRAW,CTDPRS,CTDTMP,CTDSAL,CTDSAL_FLAG_W,SALNTY,SALNTY_FLAG_W,CTDOXY,CTDOXY_FLAG_W,THETA,OXYGEN,OXYGEN_FLAG_W,SILCAT,SILCAT_FLAG_W,NITRAT,NITRAT_FLAG_W,NITRIT,NITRIT_FLAG_W,PHSPHT,PHSPHT_FLAG_W,CFC-11,CFC-11_FLAG_W,CFC-12,CFC-12_FLAG_W,DELC14,DELC14_FLAG_W,DELC13,DELC13_FLAG_W,TCARBN,TCARBN_FLAG_W,PCO2,PCO2_FLAG_W,ALKALI,ALKALI_FLAG_W,PH,PH_FLAG_W,PCO2TMP,C14ERR,PH_TMP,C13ERR
,,,,,,,,,,,,DBAR,DBAR,ITS-90,PSS-78,,PSS-78,,UMOL/KG,,DEG C,UMOL/KG,,UMOL/KG,,UMOL/KG,,UMOL/KG,,UMOL/KG,,PMOL/KG,,PMOL/KG,,/MILLE,,/MILLE,,UMOL/KG,,UATM,,UMOL/KG,,,,DEG C,/MILLE,DEG C,/MILLE
    31DSCG96_1,  P15S,    75,  1,    134,   1119,2,19960130,0743,-46.3327,-171.3702, 5083,   -999,     10.6,  15.3255,  34.7969,2,  34.7975,2,    271.4,2, 15.3239,    271.4,2,     0.40,2,     0.01,2,     0.01,2,     0.14,2,    3.069,2,    1.664,2,     46.4,2,  -999.00,9,   2021.9,2,    355.1,2,   2307.8,2,     8.00,2, -999.00,     3.0, -999.00,  -999.0
    31DSCG96_1,  P15S,    75,  1,    133,   1221,2,19960130,0743,-46.3327,-171.3702, 5083,   -999,     31.0,  14.3503,  34.7946,2,  34.7960,2,    275.6,2, 14.3457,    271.3,2,     0.64,2,     0.60,2,     0.03,2,     0.20,2, -999.000,5, -999.000,5,   -999.0,9,  -999.00,9,   2032.5,2,    379.9,2,   2306.0,2,     7.99,2, -999.00,  -999.0, -999.00,  -999.0
    31DSCG96_1,  P15S,    75,  1,    132,   1039,2,19960130,0743,-46.3327,-171.3702, 5083,   -999,     54.9,  11.8696,  34.8137,2,  34.8193,2,    263.9,2, 11.8626,    257.1,2,     2.12,2,     6.28,2,     0.46,2,     0.58,2,    3.460,2,    1.811,2,   -999.0,9,  -999.00,9,   2074.4,2,    490.8,2,   2302.2,2,     7.90,2, -999.00,  -999.0, -999.00,  -999.0
    31DSCG96_1,  P15S,    75,  1,    131,   1014,2,19960130,0743,-46.3327,-171.3702, 5083,   -999,     80.0,  11.5323,  34.9405,2,  34.9397,2,    245.3,2, 11.5222,    244.1,6,     3.05,2,     9.12,2,     0.05,2,     0.69,2, -999.000,5, -999.000,5,   -999.0,9,  -999.00,9,   2091.6,2,    535.6,2,   2304.9,2,     7.87,2, -999.00,  -999.0, -999.00,  -999.0
    31DSCG96_1,  P15S,    75,  1,    130,   1257,2,19960130,0743,-46.3327,-171.3702, 5083,   -999,    114.8,  11.3013,  34.9130,2,  34.9108,2,    245.9,2, 11.2869,    244.8,2,     3.21,2,     9.42,2,     0.03,2,     0.71,2,    3.310,2,    1.743,2,   -999.0,9,  -999.00,9,   2094.2,2,    540.6,2,   2299.5,2,     7.86,2, -999.00,  -999.0, -999.00,  -999.0
    31DSCG96_1,  P15S,    75,  1,    129,   1256,2,19960130,0743,-46.3327,-171.3702, 5083,   -999,    166.1,  10.0595,  34.7206,2,  34.7198,2,    252.5,2, 10.0403,    249.6,2,     3.59,2,    11.48,2,     0.03,2,     0.85,2,    3.466,2,    1.816,2,   -999.0,9,  -999.00,9,   2098.9,2,    576.0,2,   2294.6,2,     7.84,2, -999.00,  -999.0, -999.00,  -999.0
    31DSCG96_1,  P15S,    75,  1,    128,   1007,2,19960130,0743,-46.3327,-171.3702, 5083,   -999,    215.3,   9.7607,  34.6907,2,  34.6903,2,    262.6,2,  9.7362,    259.9,2,     3.29,2,    11.32,2,     0.02,2,     0.85,2,    3.622,6,    1.873,6,   -999.0,9,  -999.00,9,   2097.0,2,    569.0,2,   2292.0,2,     7.84,2, -999.00,  -999.0, -999.00,  -999.0
    31DSCG96_1,  P15S,    75,  1,    127,   1232,2,19960130,0743,-46.3327,-171.3702, 5083,   -999,    266.0,   9.5571,  34.6706,2,  34.6703,2,    262.6,2,  9.5271,    260.7,2,     3.45,2,    11.88,2,     0.02,2,     0.89,2,    3.628,2,    1.902,2,   -999.0,9,  -999.00,9,   2097.8,2,    577.7,2,   2293.7,2,     7.84,2, -999.00,  -999.0, -999.00,  -999.0
    31DSCG96_1,  P15S,    75,  1,    126,   1025,2,19960130,0743,-46.3327,-171.3702, 5083,   -999,    326.4,   9.3117,  34.6453,2,  34.6464,2,    251.9,2,  9.2754,    252.9,2,     4.07,2,    13.59,2,     0.01,2,     0.99,2,    3.724,2,    1.924,2,   -999.0,9,  -999.00,9,   2105.9,2,    596.8,2,   2288.4,2,     7.82,2, -999.00,  -999.0, -999.00,  -999.0
    31DSCG96_1,  P15S,    75,  1,    125,   1233,2,19960130,0743,-46.3327,-171.3702, 5083,   -999,    425.3,   8.7195,  34.5826,2,  34.5818,2,    242.2,2,  8.6738,    245.7,2,     4.91,2,    16.08,2,     0.01,2,     1.15,2,    3.515,2,    1.797,2,   -999.0,9,  -999.00,9,   2115.5,2,    646.2,2,   2287.6,2,     7.79,2, -999.00,  -999.0, -999.00,  -999.0
    31DSCG96_1,  P15S,    75,  1,    124,   1218,2,19960130,0743,-46.3327,-171.3702, 5083,   -999,    525.4,   7.8420,  34.4758,2,  34.4751,2,    244.9,2,  7.7887,    240.9,2,     6.77,2,    19.73,2,     0.01,2,     1.38,2,    3.227,2,    1.619,2,   -999.0,9,  -999.00,9,   2126.6,2,    705.7,2,   2286.1,2,     7.76,2, -999.00,  -999.0, -999.00,  -999.0
    31DSCG96_1,  P15S,    75,  1,    123,   1250,2,19960130,0743,-46.3327,-171.3702, 5083,   -999,    625.2,   7.2732,  34.4196,2,  34.4211,2,    240.4,2,  7.2121,    247.3,6,     8.22,2,    20.87,2,     0.00,2,     1.46,2,    3.132,2,    1.562,2,   -999.0,9,  -999.00,9,   2128.0,2,    711.4,2,   2285.8,2,     7.75,2, -999.00,  -999.0, -999.00,  -999.0
    31DSCG96_1,  P15S,    75,  1,    122,   1109,2,19960130,0743,-46.3327,-171.3702, 5083,   -999,    724.6,   6.9915,  34.4056,2,  34.4045,2,    258.3,2,  6.9218,    242.5,2,     9.66,2,    22.00,2,     0.00,2,     1.53,2, -999.000,5, -999.000,5,   -999.0,9,  -999.00,9,   2131.8,2,    731.6,2,   2284.2,2,     7.74,2, -999.00,  -999.0, -999.00,  -999.0
    31DSCG96_1,  P15S,    75,  1,    121,   1246,2,19960130,0743,-46.3327,-171.3702, 5083,   -999,    825.7,   6.5074,  34.3680,2,  34.3659,2,    239.9,2,  6.4304,    238.0,2,    12.31,2,    23.63,2,     0.00,2,     1.63,2,    2.557,2,    1.281,2,   -999.0,9,  -999.00,9,   2141.8,2,    771.9,2,   2287.0,2,     7.73,2, -999.00,  -999.0, -999.00,  -999.0
    31DSCG96_1,  P15S,    75,  1,    120,   1015,2,19960130,0743,-46.3327,-171.3702, 5083,   -999,    925.2,   5.9199,  34.3641,2,  34.3624,2,    224.3,2,  5.8371,    217.9,2,    18.89,2,    26.59,2,     0.00,2,     1.82,2,    1.641,2,    0.817,2,   -999.0,9,  -999.00,9,   2161.4,2,    860.6,2,   2291.1,2,     7.69,2, -999.00,  -999.0, -999.00,  -999.0
    31DSCG96_1,  P15S,    75,  1,    119,   1247,2,19960130,0743,-46.3327,-171.3702, 5083,   -999,   1023.9,   5.3300,  34.3642,2,  34.3640,2,    209.8,2,  5.2422,    206.4,2,    26.24,2,    28.74,2,     0.00,2,     1.97,2,    1.160,2,    0.577,2,   -999.0,9,  -999.00,9,   2176.6,2,    933.2,2,   2297.7,2,     7.66,2, -999.00,  -999.0, -999.00,  -999.0
    31DSCG96_1,  P15S,    75,  1,    118,   1222,2,19960130,0743,-46.3327,-171.3702, 5083,   -999,   1137.9,   4.6671,  34.3585,2,  34.3583,2,    205.1,2,  4.5743,    202.7,2,    33.01,2,    30.30,2,     0.00,2,     2.08,2,    1.110,2,    0.554,2,   -999.0,9,  -999.00,9,   2189.6,2,    972.1,2,   2299.6,2,     7.64,2, -999.00,  -999.0, -999.00,  -999.0
    31DSCG96_1,  P15S,    75,  1,    117,   1267,2,19960130,0743,-46.3327,-171.3702, 5083,   -999,   1314.8,   3.8015,  34.3810,2,  34.3809,2,    196.0,2,  3.7012,    194.7,2,    45.71,2,    32.30,2,     0.00,2,     2.22,2,    0.877,2,    0.444,2,   -999.0,9,  -999.00,9,   2211.2,3,   1049.0,2,   2312.6,2,     7.61,2, -999.00,  -999.0, -999.00,  -999.0
    31DSCG96_1,  P15S,    75,  1,    116,   1211,2,19960130,0743,-46.3327,-171.3702, 5083,   -999,   1565.8,   3.0466,  34.4686,2,  34.4682,2,    181.3,2,  2.9330,    178.8,2,    64.31,2,    33.97,2,     0.00,2,     2.34,2,    0.500,2,    0.251,2,   -999.0,9,  -999.00,9,   2238.2,2,   1140.8,3,   2327.5,2,     7.57,2, -999.00,  -999.0, -999.00,  -999.0
    31DSCG96_1,  P15S,    75,  1,    115,   1041,2,19960130,0743,-46.3327,-171.3702, 5083,   -999,   1815.3,   2.7391,  34.5703,2,  34.5685,2,    166.8,2,  2.6079,    163.8,6,    84.58,2,    34.53,2,     0.00,2,     2.38,2,    0.132,2,    0.071,2,   -999.0,9,  -999.00,9,   2263.7,2,   1166.8,2,   2356.2,2,     7.58,2, -999.00,  -999.0, -999.00,  -999.0
    31DSCG96_1,  P15S,    75,  1,    114,   1017,2,19960130,0743,-46.3327,-171.3702, 5083,   -999,   2067.5,   2.4021,  34.6346,2,  34.6333,2,    167.5,2,  2.2537,    167.2,2,    88.63,2,    34.02,2,     0.00,2,     2.34,2,    0.108,2,    0.062,2,   -999.0,9,  -999.00,9,   2265.1,2,   1176.9,2,   2359.5,2,     7.58,2, -999.00,  -999.0, -999.00,  -999.0
    31DSCG96_1,  P15S,    75,  1,    113,   1302,2,19960130,0743,-46.3327,-171.3702, 5083,   -999,   2302.7,   2.2629,  34.6809,2,  34.6800,2,    176.6,2,  2.0956,    175.8,2,    86.17,2,    32.88,2,     0.00,2,     2.25,2,    0.093,2,    0.053,2,   -999.0,9,  -999.00,9,   2256.4,2,   1143.3,2,   2352.4,2,     7.59,2, -999.00,  -999.0, -999.00,  -999.0
    31DSCG96_1,  P15S,    75,  1,    112,   1217,2,19960130,0743,-46.3327,-171.3702, 5083,   -999,   2562.7,   2.1185,  34.7165,2,  34.7155,2,    185.0,2,  1.9299,    184.2,2,    87.22,2,    31.89,2,     0.00,2,     2.18,2,    0.064,2,    0.056,4,   -999.0,9,  -999.00,9,   2250.4,2,   1101.6,2,   2354.4,2,     7.60,2, -999.00,  -999.0, -999.00,  -999.0
    31DSCG96_1,  P15S,    75,  1,    111,   1114,2,19960130,0743,-46.3327,-171.3702, 5083,   -999,   2813.8,   1.9368,  34.7332,2,  34.7313,2,    190.8,2,  1.7281,    190.0,2,    91.48,2,    31.44,2,     0.00,2,     2.15,2,    0.047,2,    0.027,2,   -999.0,9,  -999.00,9,   2250.4,2,   1079.3,2,   2354.6,2,     7.61,2, -999.00,  -999.0, -999.00,  -999.0
    31DSCG96_1,  P15S,    75,  1,    110,   1301,2,19960130,0743,-46.3327,-171.3702, 5083,   -999,   3064.9,   1.7543,  34.7368,2,  34.7356,2,    195.0,2,  1.5253,    194.1,2,    96.64,2,    31.37,2,     0.00,2,     2.14,2,    0.036,2,    0.021,2,   -999.0,9,  -999.00,9,   2253.1,2,   1081.2,2,   2358.3,2,     7.61,2, -999.00,  -999.0, -999.00,  -999.0
    31DSCG96_1,  P15S,    75,  1,    109,   1242,2,19960130,0743,-46.3327,-171.3702, 5083,   -999,   3315.2,   1.5539,  34.7337,2,  34.7326,2,    197.9,2,  1.3047,    197.6,2,   102.69,2,    31.49,2,     0.00,2,     2.15,2,    0.032,2,    0.020,2,   -999.0,9,  -999.00,9,   2252.0,2,   1069.8,2,   2360.6,2,     7.61,2, -999.00,  -999.0, -999.00,  -999.0
    31DSCG96_1,  P15S,    75,  1,    108,   1263,2,19960130,0743,-46.3327,-171.3702, 5083,   -999,   3564.2,   1.3795,  34.7279,2,  34.7266,2,    200.6,2,  1.1096,    200.0,2,   108.01,2,    31.73,2,     0.00,2,     2.17,2,    0.035,2,    0.032,4,   -999.0,9,  -999.00,9,   2257.0,2,   1070.3,2,   2361.3,2,     7.61,2, -999.00,  -999.0, -999.00,  -999.0
    31DSCG96_1,  P15S,    75,  1,    107,   1245,2,19960130,0743,-46.3327,-171.3702, 5083,   -999,   3815.4,   1.2077,  34.7208,2,  34.7191,2,    202.8,2,  0.9163,    203.1,6,   113.10,2,    31.94,2,     0.00,2,     2.19,2,    0.038,2,    0.033,4,   -999.0,9,  -999.00,9,   2258.0,2,   1074.6,2,   2364.1,2,     7.61,2, -999.00,  -999.0, -999.00,  -999.0
    31DSCG96_1,  P15S,    75,  1,    106,   1262,2,19960130,0743,-46.3327,-171.3702, 5083,   -999,   4066.9,   1.0817,  34.7151,2,  34.7136,2,    205.7,2,  0.7672,    205.4,2,   116.88,2,    32.09,2,     0.00,2,     2.20,2,    0.053,2,    0.062,4,   -999.0,9,  -999.00,9,   2257.7,2,   1076.4,2,   2365.6,2,     7.61,2, -999.00,  -999.0, -999.00,  -999.0
    31DSCG96_1,  P15S,    75,  1,    105,   1113,2,19960130,0743,-46.3327,-171.3702, 5083,   -999,   4313.7,   0.9800,  34.7100,2,  34.7093,2,    207.8,2,  0.6417,    207.2,2,   120.25,2,    32.25,2,     0.00,2,     2.20,2,    0.070,2,    0.102,4,   -999.0,9,  -999.00,9,   2257.9,2,   1080.9,2,   2366.3,2,     7.61,2, -999.00,  -999.0, -999.00,  -999.0
    31DSCG96_1,  P15S,    75,  1,    104,   1003,2,19960130,0743,-46.3327,-171.3702, 5083,   -999,   4564.8,   0.9364,  34.7071,2,  34.7060,2,    208.7,2,  0.5714,    207.8,2,   122.19,2,    32.33,2,     0.00,2,     2.20,2,    0.068,2,    0.041,2,   -999.0,9,  -999.00,9,   2259.5,2,   1086.1,2,   2366.3,2,     7.61,2, -999.00,  -999.0, -999.00,  -999.0
    31DSCG96_1,  P15S,    75,  1,    103,   1216,2,19960130,0743,-46.3327,-171.3702, 5083,   -999,   4816.1,   0.9224,  34.7053,2,  34.7048,2,    209.3,2,  0.5291,    208.8,2,   123.45,2,    32.36,2,     0.00,2,     2.21,2,    0.084,2,    0.051,2,   -999.0,9,  -999.00,9,   2258.7,2,   1088.1,2,   2366.2,2,     7.61,2, -999.00,  -999.0, -999.00,  -999.0
    31DSCG96_1,  P15S,    75,  1,    102,   1030,2,19960130,0743,-46.3327,-171.3702, 5083,   -999,   5063.8,   0.9265,  34.7045,2,  34.7034,2,    209.7,2,  0.5040,    209.4,2,   124.37,6,    32.38,6,     0.00,6,     2.21,6,    0.096,6,    0.079,4,   -999.0,9,  -999.00,9,   2258.5,2,   1094.2,2,   2367.3,2,     7.61,2, -999.00,  -999.0, -999.00,  -999.0
    31DSCG96_1,  P15S,    75,  1,    101,   1022,2,19960130,0743,-46.3327,-171.3702, 5083,   -999,   5194.4,   0.9415,  34.7042,2,  34.7041,2,    209.4,2,  0.5027,    208.9,2,   124.52,2,    32.38,2,     0.00,2,     2.21,2,    0.095,2,    0.060,2,   -999.0,9,  -999.00,9,   2259.3,2,   1097.3,2,   2367.5,2,     7.61,2, -999.00,  -999.0, -999.00,  -999.0