BOTTLE,20220811CCHSIOAMB
EXPOCODE,SECT_ID,STNNBR,CASTNO,SAMPNO,BTLNBR,BTLNBR_FLAG_W,DATE,TIME,LATITUDE,LONGITUDE,DEPTH,CTDRAW,CTDPRS,CTDTMP,CTDSAL,CTDSAL_FLAG_W,SALNTY,SALNTY_FLAG_W,CTDOXY,CTDOXY_FLAG_W,THETA,OXYGEN,OXYGEN_FLAG_W,SILCAT,SILCAT_FLAG_W,NITRAT,NITRAT_FLAG_W,NITRIT,NITRIT_FLAG_W,PHSPHT,PHSPHT_FLAG_W,CFC-11,CFC-11_FLAG_W,CFC-12,CFC-12_FLAG_W,DELC14,DELC14_FLAG_W,DELC13,DELC13_FLAG_W,TCARBN,TCARBN_FLAG_W,PCO2,PCO2_FLAG_W,ALKALI,ALKALI_FLAG_W,PH,PH_FLAG_W,PCO2TMP,C14ERR,PH_TMP,C13ERR
,,,,,,,,,,,,DBAR,DBAR,ITS-90,PSS-78,,PSS-78,,UMOL/KG,,DEG C,UMOL/KG,,UMOL/KG,,UMOL/KG,,UMOL/KG,,UMOL/KG,,PMOL/KG,,PMOL/KG,,/MILLE,,/MILLE,,UMOL/KG,,UATM,,UMOL/KG,,,,DEG C,/MILLE,DEG C,/MILLE
    31DSCG96_2,  P15S,   172,  2,    236,   1245,2,19960305,1555, -2.0017,-168.7497, 3293,   -999,      5.7,  26.5116,  35.3944,2,  35.3931,2,    200.9,2, 26.5103,    201.5,2,     2.81,2,     4.37,2,     0.32,2,     0.47,2,    1.760,2,    0.958,2,     62.1,2,     1.32,2,   2022.3,2,    326.3,2,   2328.2,2,     8.04,2, -999.00,     3.7, -999.00,  -999.0
    31DSCG96_2,  P15S,   172,  2,    235,   1113,2,19960305,1555, -2.0017,-168.7497, 3293,   -999,     10.0,  26.5125,  35.3942,2,  35.4018,3,    201.3,2, 26.5102,    201.3,2,     2.84,2,     4.37,2,     0.32,2,     0.48,2, -999.000,9, -999.000,9,     57.7,2,     1.31,2,   -999.0,9,   -999.0,9,   -999.0,9,  -999.00,9, -999.00,     4.1, -999.00,  -999.0
    31DSCG96_2,  P15S,   172,  2,    234,   1267,2,19960305,1555, -2.0017,-168.7497, 3293,   -999,     20.1,  26.5178,  35.3932,2,  35.3921,2,    200.9,2, 26.5132,    201.6,2,     2.78,2,     4.37,2,     0.32,2,     0.48,2,    1.759,2,    0.946,2,     69.4,2,     1.34,2,   2022.6,2,    327.6,2,   2327.4,2,     8.04,2, -999.00,     3.7, -999.00,  -999.0
    31DSCG96_2,  P15S,   172,  2,    233,   1021,2,19960305,1555, -2.0017,-168.7497, 3293,   -999,     44.9,  26.5122,  35.3901,2,  35.3900,2,    201.0,2, 26.5020,    201.3,2,     2.87,2,     4.36,2,     0.32,2,     0.48,2,    1.755,6,    0.954,6,     82.6,2,     1.33,2,   2023.0,2,    329.0,2,   2328.4,2,     8.04,2, -999.00,     3.7, -999.00,  -999.0
    31DSCG96_2,  P15S,   172,  2,    232,   1039,2,19960305,1555, -2.0017,-168.7497, 3293,   -999,     71.0,  26.4944,  35.3841,2,  35.3852,2,    200.9,2, 26.4783,    200.9,2,     2.93,2,     4.41,2,     0.32,2,     0.49,2, -999.000,9, -999.000,9,     72.0,2,     1.32,2,   2022.8,2,    326.9,2,   2329.8,2,     8.04,2, -999.00,     3.6, -999.00,  -999.0
    31DSCG96_2,  P15S,   172,  2,    231,   1014,2,19960305,1555, -2.0017,-168.7497, 3293,   -999,     97.1,  26.4098,  35.3660,2,  35.3874,2,    200.2,2, 26.3878,    199.8,2,     2.96,2,     4.50,2,     0.33,2,     0.51,2,    1.767,2,    0.967,2,     72.2,6,     1.28,6,   2024.8,2,    334.4,2,   2332.0,2,     8.03,2, -999.00,     2.4, -999.00,  -999.0
    31DSCG96_2,  P15S,   172,  2,    230,   1257,2,19960305,1555, -2.0017,-168.7497, 3293,   -999,    119.9,  26.2894,  35.3419,2,  35.3457,2,    199.6,2, 26.2624,    198.6,2,     2.99,2,     4.59,2,     0.34,2,     0.52,2, -999.000,9, -999.000,9,     61.9,2,     1.29,2,   2025.1,2,    335.0,2,   2323.5,2,     8.03,2, -999.00,     3.1, -999.00,  -999.0
    31DSCG96_2,  P15S,   172,  2,    229,   1256,2,19960305,1555, -2.0017,-168.7497, 3293,   -999,    143.6,  26.1519,  35.4080,2,  35.3953,2,    192.7,2, 26.1197,    191.5,2,     3.01,2,     4.69,2,     0.69,2,     0.54,2,    1.756,2,    0.959,2,     73.5,2,     1.26,2,   2030.5,2,    346.9,2,   -999.0,9,     8.02,2, -999.00,     3.2, -999.00,  -999.0
    31DSCG96_2,  P15S,   172,  2,    228,   1230,2,19960305,1555, -2.0017,-168.7497, 3293,   -999,    168.6,  21.5239,  35.7403,2,  35.7472,2,    133.8,2, 21.4910,    132.2,2,     4.32,2,    10.55,2,     0.04,2,     0.93,2, -999.000,9, -999.000,9,     74.8,2,     1.01,2,   2111.8,2,    483.1,2,   2354.4,2,     7.91,2, -999.00,     4.8, -999.00,  -999.0
    31DSCG96_2,  P15S,   172,  2,    227,   1232,2,19960305,1555, -2.0017,-168.7497, 3293,   -999,    196.8,  16.1003,  35.3096,2,  35.3278,2,    108.7,2, 16.0690,   -999.0,9,     9.92,2,    18.15,2,     0.01,2,     1.41,2,    1.240,2,    0.631,2,   -999.0,9,  -999.00,9,   2159.9,2,    691.2,2,   2331.8,2,     7.77,2, -999.00,  -999.0, -999.00,  -999.0
    31DSCG96_2,  P15S,   172,  2,    226,   1025,2,19960305,1555, -2.0017,-168.7497, 3293,   -999,    221.3,  13.0207,  35.0085,2,  35.0315,3,     97.3,2, 12.9902,     98.2,2,    15.20,2,    22.24,2,     0.01,2,     1.64,2,    0.808,2,    0.404,2,     13.3,2,     0.63,2,   2174.0,2,    814.2,2,   2316.0,2,     7.70,2, -999.00,     3.2, -999.00,  -999.0
    31DSCG96_2,  P15S,   172,  2,    225,   1119,2,19960305,1555, -2.0017,-168.7497, 3293,   -999,    246.8,  11.7348,  34.8769,2,  34.8813,2,    101.7,2, 11.7030,    101.4,2,    19.00,2,    24.55,2,     0.01,2,     1.75,2,    0.606,2,    0.302,2,   -999.0,9,  -999.00,9,   2181.2,2,    886.6,2,   2312.3,2,     7.67,2, -999.00,  -999.0, -999.00,  -999.0
    31DSCG96_2,  P15S,   172,  2,    224,   1244,2,19960305,1555, -2.0017,-168.7497, 3293,   -999,    291.1,  10.3658,  34.7594,2,  34.7573,2,     99.6,2, 10.3312,     85.7,2,    24.94,2,    28.82,2,     0.01,2,     2.01,2, -999.000,9, -999.000,9,    -52.3,2,     0.52,2,   2204.2,2,   1070.7,2,   2306.0,2,     7.60,2, -999.00,     3.0, -999.00,  -999.0
    31DSCG96_2,  P15S,   172,  2,    223,   1250,2,19960305,1555, -2.0017,-168.7497, 3293,   -999,    340.6,   9.6992,  34.7130,2,  34.7111,2,     94.5,2,  9.6603,     73.4,2,    28.53,2,    31.37,2,     0.01,2,     2.18,2,    0.208,2,    0.103,2,   -999.0,9,  -999.00,9,   2219.0,2,   1203.4,3,   2308.0,2,     7.56,2, -999.00,  -999.0, -999.00,  -999.0
    31DSCG96_2,  P15S,   172,  2,    222,   1265,2,19960305,1555, -2.0017,-168.7497, 3293,   -999,    389.8,   9.4511,  34.6979,2,  34.6973,2,     82.8,2,  9.4071,    101.5,6,    26.11,2,    29.09,2,     0.00,2,     2.02,2, -999.000,9, -999.000,9,    -57.6,2,     0.59,2,   2202.4,2,   1064.1,3,   2306.5,2,     7.61,2, -999.00,     3.0, -999.00,  -999.0
    31DSCG96_2,  P15S,   172,  2,    221,   1246,2,19960305,1555, -2.0017,-168.7497, 3293,   -999,    440.7,   8.8864,  34.6621,2,  34.6612,2,    100.6,2,  8.8384,     91.3,2,    29.76,2,    31.23,2,     0.00,2,     2.16,2,    0.178,6,    0.089,6,   -999.0,9,  -999.00,9,   2214.8,2,   1160.1,3,   2310.1,2,     7.57,2, -999.00,  -999.0, -999.00,  -999.0
    31DSCG96_2,  P15S,   172,  2,    220,   1015,2,19960305,1555, -2.0017,-168.7497, 3293,   -999,    491.3,   8.2546,  34.6295,2,  34.6277,2,     94.0,2,  8.2033,     84.5,2,    33.71,2,    33.25,2,     0.00,2,     2.31,2, -999.000,9, -999.000,9,   -999.0,9,  -999.00,9,   2226.6,2,   1257.8,3,   2308.1,2,     7.54,2, -999.00,  -999.0, -999.00,  -999.0
    31DSCG96_2,  P15S,   172,  2,    219,   1247,2,19960305,1555, -2.0017,-168.7497, 3293,   -999,    540.4,   7.7136,  34.5986,2,  34.6010,2,     85.4,2,  7.6591,     92.1,6,    36.43,2,    33.67,2,     0.00,2,     2.34,2,    0.092,2,    0.045,2,   -107.0,2,     0.49,2,   2228.1,2,   1270.0,3,   2309.9,2,     7.54,3, -999.00,     2.7, -999.00,  -999.0
    31DSCG96_2,  P15S,   172,  2,    218,   1299,2,19960305,1555, -2.0017,-168.7497, 3293,   -999,    591.7,   7.3117,  34.5759,2,  34.5831,3,    110.7,2,  7.2537,    103.3,2,    37.98,2,    33.32,2,     0.00,2,     2.32,2, -999.000,9, -999.000,9,   -999.0,9,  -999.00,9,   2225.6,2,   1206.9,3,   2314.1,2,     7.56,2, -999.00,  -999.0, -999.00,  -999.0
    31DSCG96_2,  P15S,   172,  2,    217,   1263,2,19960305,1555, -2.0017,-168.7497, 3293,   -999,    674.5,   6.7084,  34.5693,2,  34.5751,3,     72.5,2,  6.6449,     67.4,6,    49.18,2,    38.42,2,     0.00,2,     2.69,2,    0.020,2,    0.007,2,   -134.9,2,     0.31,2,   2260.8,2,   1490.7,2,   2319.4,2,     7.47,2, -999.00,     3.5, -999.00,  -999.0
    31DSCG96_2,  P15S,   172,  2,    216,   1259,2,19960305,1555, -2.0017,-168.7497, 3293,   -999,    777.8,   5.5824,  34.5475,2,  34.5503,2,     75.0,2,  5.5153,     73.7,2,    64.02,2,    39.54,2,     0.00,2,     2.79,2, -999.000,9, -999.000,9,   -157.3,2,     0.22,2,   2276.7,2,   1516.3,2,   2334.3,2,     7.47,2, -999.00,     2.4, -999.00,  -999.0
    31DSCG96_2,  P15S,   172,  2,    215,   1264,2,19960305,1555, -2.0017,-168.7497, 3293,   -999,    875.2,   4.9701,  34.5469,2,  34.5456,2,     85.1,2,  4.8981,     81.3,2,    73.95,2,    39.54,2,     0.00,2,     2.80,2,   -0.001,2,    0.000,2,   -160.1,2,     0.26,2,   2284.3,2,   1491.5,2,   2342.4,2,     7.48,3, -999.00,     2.7, -999.00,  -999.0
    31DSCG96_2,  P15S,   172,  2,    214,   1017,2,19960305,1555, -2.0017,-168.7497, 3293,   -999,    976.8,   4.4854,  34.5519,2,  34.5540,2,     91.0,2,  4.4079,     88.9,2,    82.49,2,    39.20,2,     0.00,2,     2.79,2, -999.000,9, -999.000,9,   -166.1,2,     0.19,2,   2291.2,2,   1466.2,2,   2364.3,3,     7.49,2, -999.00,     2.3, -999.00,  -999.0
    31DSCG96_2,  P15S,   172,  2,    213,   1035,2,19960305,1555, -2.0017,-168.7497, 3293,   -999,   1073.6,   4.1816,  34.5591,2,  34.5580,2,     93.9,2,  4.0982,     91.4,2,    89.32,2,    39.18,2,     0.00,2,     2.79,2,   -0.001,2,    0.000,2,   -174.0,2,     0.13,2,   2297.5,2,   1464.4,2,   2361.5,2,     7.49,2, -999.00,     3.5, -999.00,  -999.0
    31DSCG96_2,  P15S,   172,  2,    212,   1217,2,19960305,1555, -2.0017,-168.7497, 3293,   -999,   1175.3,   3.9194,  34.5672,2,  34.5659,2,     93.1,2,  3.8295,     92.2,2,    95.65,2,    39.31,2,     0.00,2,     2.80,2,   -0.002,2,    0.000,2,   -999.0,9,  -999.00,9,   2304.1,2,   1468.1,2,   2370.3,2,     7.49,2, -999.00,  -999.0, -999.00,  -999.0
    31DSCG96_2,  P15S,   172,  2,    211,   1226,2,19960305,1555, -2.0017,-168.7497, 3293,   -999,   1275.4,   3.6921,  34.5755,2,  34.5750,2,     94.2,2,  3.5958,     92.3,2,   101.24,2,    39.43,2,     0.00,2,     2.81,2,    0.000,2,    0.000,2,   -999.0,9,  -999.00,9,   2311.4,2,   1467.3,2,   2374.2,2,     7.49,3, -999.00,  -999.0, -999.00,  -999.0
    31DSCG96_2,  P15S,   172,  2,    210,   1301,2,19960305,1555, -2.0017,-168.7497, 3293,   -999,   1449.8,   3.1775,  34.5926,2,  34.5944,2,    105.0,2,  3.0718,    103.3,2,   111.13,2,    38.81,2,     0.00,2,     2.76,2,   -0.002,2,    0.000,2,   -999.0,9,  -999.00,9,   2316.7,2,   1434.2,2,   2389.0,2,     7.51,2, -999.00,  -999.0, -999.00,  -999.0
    31DSCG96_2,  P15S,   172,  2,    209,   1027,2,19960305,1555, -2.0017,-168.7497, 3293,   -999,   1690.3,   2.5913,  34.6192,2,  34.6258,3,    113.7,2,  2.4724,    112.2,2,   124.20,2,    38.43,2,     0.00,2,     2.71,2, -999.000,9, -999.000,9,   -999.0,9,  -999.00,9,   2326.8,2,   1368.6,2,   2400.9,2,     7.52,3, -999.00,  -999.0, -999.00,  -999.0
    31DSCG96_2,  P15S,   172,  2,    208,   1227,2,19960305,1555, -2.0017,-168.7497, 3293,   -999,   1937.9,   2.2377,  34.6415,2,  34.6458,3,    112.7,2,  2.1028,    111.8,2,   136.69,2,    38.60,2,     0.00,2,     2.72,2,    0.000,2,    0.000,2,   -999.0,9,  -999.00,9,   2340.4,2,   1374.9,2,   2411.5,2,     7.52,2, -999.00,  -999.0, -999.00,  -999.0
    31DSCG96_2,  P15S,   172,  2,    207,   1242,2,19960305,1555, -2.0017,-168.7497, 3293,   -999,   2189.6,   2.0143,  34.6534,2,  34.6564,3,    119.9,2,  1.8614,    117.5,2,   142.20,2,    38.31,2,     0.00,2,     2.68,2, -999.000,9, -999.000,9,   -999.0,9,  -999.00,9,   2342.2,2,   1344.5,2,   2415.8,2,     7.53,3, -999.00,  -999.0, -999.00,  -999.0
    31DSCG96_2,  P15S,   172,  2,    206,   1262,2,19960305,1555, -2.0017,-168.7497, 3293,   -999,   2439.3,   1.8613,  34.6605,2,  34.6716,4,    127.3,2,  1.6890,    126.8,2,   142.38,2,    37.68,2,     0.00,2,     2.63,2, -999.000,9, -999.000,9,   -999.0,9,  -999.00,9,   2339.5,2,   1305.6,2,   2421.8,2,     7.55,2, -999.00,  -999.0, -999.00,  -999.0
    31DSCG96_2,  P15S,   172,  2,    205,   1041,2,19960305,1555, -2.0017,-168.7497, 3293,   -999,   2690.4,   1.7825,  34.6651,2,  34.6646,2,    129.8,2,  1.5888,    130.2,2,   143.85,2,    37.49,2,     0.00,2,     2.61,2, -999.000,5, -999.000,5,   -999.0,9,  -999.00,9,   2336.8,2,   1283.6,2,   2423.6,2,     7.55,3, -999.00,  -999.0, -999.00,  -999.0
    31DSCG96_2,  P15S,   172,  2,    204,   1003,2,19960305,1555, -2.0017,-168.7497, 3293,   -999,   2940.8,   1.6691,  34.6721,2,  34.6750,2,    138.8,2,  1.4542,    138.0,2,   143.56,2,    36.93,2,     0.00,2,     2.56,2, -999.000,9, -999.000,9,   -999.0,9,  -999.00,9,   2332.1,2,   1249.7,2,   2422.0,2,     7.56,2, -999.00,  -999.0, -999.00,  -999.0
    31DSCG96_2,  P15S,   172,  2,    203,   1302,2,19960305,1555, -2.0017,-168.7497, 3293,   -999,   3189.9,   1.5853,  34.6777,2,  34.6780,2,    145.4,2,  1.3481,    145.6,2,   142.66,2,    36.44,2,     0.00,2,     2.52,2,   -0.002,2,    0.000,2,   -999.0,9,  -999.00,9,   2325.8,2,   1219.8,2,   2421.2,2,     7.57,3, -999.00,  -999.0, -999.00,  -999.0
    31DSCG96_2,  P15S,   172,  2,    202,   1030,2,19960305,1555, -2.0017,-168.7497, 3293,   -999,   3341.6,   1.5506,  34.6804,2,  34.6802,2,    148.8,2,  1.2992,    148.4,6,   142.37,2,    36.25,2,     0.00,2,     2.51,2, -999.000,9, -999.000,9,   -999.0,9,  -999.00,9,   2324.8,2,   1209.8,2,   2420.3,2,     7.58,2, -999.00,  -999.0, -999.00,  -999.0
    31DSCG96_2,  P15S,   172,  2,    201,   1022,2,19960305,1555, -2.0017,-168.7497, 3293,   -999,   3444.7,   1.5502,  34.6807,2,  34.6842,3,    149.6,2,  1.2884,    148.9,2,   142.19,6,    36.19,6,     0.00,6,     2.51,6,    0.000,2,    0.000,2,   -999.0,9,  -999.00,9,   2323.2,2,   1220.1,2,   2425.2,2,     7.58,3, -999.00,  -999.0, -999.00,  -999.0