BOTTLE,20220811CCHSIOAMB
EXPOCODE,SECT_ID,STNNBR,CASTNO,SAMPNO,BTLNBR,BTLNBR_FLAG_W,DATE,TIME,LATITUDE,LONGITUDE,DEPTH,CTDRAW,CTDPRS,CTDTMP,CTDSAL,CTDSAL_FLAG_W,SALNTY,SALNTY_FLAG_W,CTDOXY,CTDOXY_FLAG_W,THETA,OXYGEN,OXYGEN_FLAG_W,SILCAT,SILCAT_FLAG_W,NITRAT,NITRAT_FLAG_W,NITRIT,NITRIT_FLAG_W,PHSPHT,PHSPHT_FLAG_W,CFC-11,CFC-11_FLAG_W,CFC-12,CFC-12_FLAG_W,DELC14,DELC14_FLAG_W,DELC13,DELC13_FLAG_W,TCARBN,TCARBN_FLAG_W,PCO2,PCO2_FLAG_W,ALKALI,ALKALI_FLAG_W,PH,PH_FLAG_W,PCO2TMP,C14ERR,PH_TMP,C13ERR
,,,,,,,,,,,,DBAR,DBAR,ITS-90,PSS-78,,PSS-78,,UMOL/KG,,DEG C,UMOL/KG,,UMOL/KG,,UMOL/KG,,UMOL/KG,,UMOL/KG,,PMOL/KG,,PMOL/KG,,/MILLE,,/MILLE,,UMOL/KG,,UATM,,UMOL/KG,,,,DEG C,/MILLE,DEG C,/MILLE
    31DSCG96_1,  P14S,    15,  2,    234,   1224,2,19960111,1731,-57.5057, 173.9758, 5358,   -999,     12.4,   6.1546,  34.0713,2,  34.0694,2,    304.6,2,  6.1536,    304.1,2,     3.80,2,    20.31,2,     0.21,2,     1.39,2,    4.712,6,    2.407,6,   -999.0,9,  -999.00,9,   2105.2,2,    637.9,2,   2281.3,2,     7.80,2, -999.00,  -999.0, -999.00,  -999.0
    31DSCG96_1,  P14S,    15,  2,    233,   1221,4,19960111,1731,-57.5057, 173.9758, 5358,   -999,     31.2,   6.1519,  34.0723,2,-999.0000,5,    305.0,2,  6.1493,   -999.0,9,  -999.00,9,  -999.00,9,  -999.00,9,  -999.00,9, -999.000,5, -999.000,5,   -999.0,9,  -999.00,9,   -999.0,9,   -999.0,9,   -999.0,9,  -999.00,9, -999.00,  -999.0, -999.00,  -999.0
    31DSCG96_1,  P14S,    15,  2,    232,   1039,2,19960111,1731,-57.5057, 173.9758, 5358,   -999,     55.2,   6.1263,  34.0734,2,  34.0735,2,    307.0,2,  6.1217,    304.1,2,     4.02,2,    20.33,2,     0.20,2,     1.40,2,    4.651,2,    2.391,2,   -999.0,9,  -999.00,9,   2105.7,2,    628.3,2,   2287.9,3,     7.80,2, -999.00,  -999.0, -999.00,  -999.0
    31DSCG96_1,  P14S,    15,  2,    231,   1042,2,19960111,1731,-57.5057, 173.9758, 5358,   -999,     81.2,   5.9594,  34.0793,2,  34.0788,2,    304.7,2,  5.9526,    303.9,2,     4.60,2,    20.46,2,     0.19,2,     1.41,2,    4.692,2,    2.408,2,   -999.0,9,  -999.00,9,   -999.0,9,   -999.0,9,   -999.0,9,     7.80,2, -999.00,  -999.0, -999.00,  -999.0
    31DSCG96_1,  P14S,    15,  2,    230,   1257,2,19960111,1731,-57.5057, 173.9758, 5358,   -999,    114.1,   5.5805,  34.1446,2,  34.1458,2,    298.1,2,  5.5712,    302.9,2,     6.77,2,    20.80,2,     0.17,2,     1.45,2,    4.659,2,    2.390,2,   -999.0,9,  -999.00,9,   2112.6,2,    658.4,2,   2290.4,3,     7.78,2, -999.00,  -999.0, -999.00,  -999.0
    31DSCG96_1,  P14S,    15,  2,    229,   1256,2,19960111,1731,-57.5057, 173.9758, 5358,   -999,    166.1,   5.1583,  34.1853,2,  34.1816,2,    291.8,2,  5.1454,    293.2,6,     8.82,2,    22.31,2,     0.22,2,     1.52,2,    4.453,2,    2.289,2,   -999.0,9,  -999.00,9,   -999.0,9,   -999.0,9,   -999.0,9,     7.76,2, -999.00,  -999.0, -999.00,  -999.0
    31DSCG96_1,  P14S,    15,  2,    228,   1007,2,19960111,1731,-57.5057, 173.9758, 5358,   -999,    216.9,   4.8243,  34.1682,2,  34.1700,2,    292.4,2,  4.8079,    294.2,2,     9.53,2,    23.04,2,     0.06,2,     1.55,2,    4.571,2,    2.319,2,   -999.0,9,  -999.00,9,   2125.8,2,    712.9,2,   2283.7,2,     7.75,2, -999.00,  -999.0, -999.00,  -999.0
    31DSCG96_1,  P14S,    15,  2,    227,   1234,2,19960111,1731,-57.5057, 173.9758, 5358,   -999,    265.2,   4.5478,  34.1431,2,  34.1469,2,    299.0,2,  4.5282,    294.5,2,    10.10,6,    23.62,2,     0.06,6,     1.59,6,    4.617,2,    2.306,2,   -999.0,9,  -999.00,9,   -999.0,9,   -999.0,9,   -999.0,9,     7.75,2, -999.00,  -999.0, -999.00,  -999.0
    31DSCG96_1,  P14S,    15,  2,    226,   1025,2,19960111,1731,-57.5057, 173.9758, 5358,   -999,    327.1,   4.3213,  34.1279,2,  34.1298,2,    294.6,2,  4.2976,    295.6,2,    10.43,6,    24.09,2,     0.02,6,     1.62,6,    4.554,2,    2.309,2,   -999.0,9,  -999.00,9,   2129.3,2,    735.5,2,   2283.1,2,     7.75,2, -999.00,  -999.0, -999.00,  -999.0
    31DSCG96_1,  P14S,    15,  2,    225,   1233,3,19960111,1731,-57.5057, 173.9758, 5358,   -999,    427.1,   4.2982,  34.1860,2,  34.1869,2,    280.3,2,  4.2669,    259.3,2,    17.93,6,    27.09,2,     0.01,6,     1.82,2, -999.000,5, -999.000,5,   -999.0,9,  -999.00,9,   2153.3,2,    847.6,2,   2288.8,2,     7.69,2, -999.00,  -999.0, -999.00,  -999.0
    31DSCG96_1,  P14S,    15,  2,    224,   1218,2,19960111,1731,-57.5057, 173.9758, 5358,   -999,    527.0,   3.9208,  34.2145,2,  34.2133,2,    244.0,2,  3.8834,    243.1,2,    24.35,2,    29.16,2,     0.00,2,     1.96,2,    3.077,2,    1.460,2,   -999.0,9,  -999.00,9,   -999.0,9,   -999.0,9,   -999.0,9,     7.67,2, -999.00,  -999.0, -999.00,  -999.0
    31DSCG96_1,  P14S,    15,  2,    223,   1250,2,19960111,1731,-57.5057, 173.9758, 5358,   -999,    628.0,   3.6581,  34.2655,2,  34.2638,2,    232.1,2,  3.6143,    225.1,2,    32.41,2,    30.97,2,     0.00,2,     2.08,2,    2.276,2,    1.083,2,   -999.0,9,  -999.00,9,   2186.9,2,   1001.1,2,   -999.0,9,     7.63,2, -999.00,  -999.0, -999.00,  -999.0
    31DSCG96_1,  P14S,    15,  2,    222,   1109,2,19960111,1731,-57.5057, 173.9758, 5358,   -999,    730.0,   3.2996,  34.3037,2,  34.3048,2,    215.5,2,  3.2501,    214.0,2,    40.26,2,    32.27,2,     0.00,2,     2.18,2,    1.808,2,    0.842,2,   -999.0,9,  -999.00,9,   -999.0,9,   -999.0,9,   -999.0,9,     7.61,2, -999.00,  -999.0, -999.00,  -999.0
    31DSCG96_1,  P14S,    15,  2,    221,   1246,2,19960111,1731,-57.5057, 173.9758, 5358,   -999,    833.8,   3.1423,  34.3646,2,  34.3632,2,    201.4,2,  3.0861,    201.2,6,    48.36,2,    33.14,2,     0.00,2,     2.24,2,    1.226,2,    0.583,2,   -999.0,9,  -999.00,9,   2212.4,2,   1102.3,2,   2314.7,2,     7.60,2, -999.00,  -999.0, -999.00,  -999.0
    31DSCG96_1,  P14S,    15,  2,    220,   1209,2,19960111,1731,-57.5057, 173.9758, 5358,   -999,    933.6,   2.9951,  34.4258,2,  34.4262,2,    192.1,2,  2.9324,    189.5,2,    56.31,2,    33.61,2,     0.00,2,     2.28,2,    0.818,2,    0.395,2,   -999.0,9,  -999.00,9,   -999.0,9,   -999.0,9,   -999.0,9,     7.59,2, -999.00,  -999.0, -999.00,  -999.0
    31DSCG96_1,  P14S,    15,  2,    219,   1247,2,19960111,1731,-57.5057, 173.9758, 5358,   -999,   1019.5,   2.7630,  34.4498,2,  34.4499,2,    186.5,2,  2.6956,    186.1,2,    60.94,2,    34.09,2,     0.00,2,     2.32,2,    0.756,2,    0.363,2,   -999.0,9,  -999.00,9,   2230.7,2,   1155.2,2,   2325.5,2,     7.58,2, -999.00,  -999.0, -999.00,  -999.0
    31DSCG96_1,  P14S,    15,  2,    218,   1222,2,19960111,1731,-57.5057, 173.9758, 5358,   -999,   1137.5,   2.6559,  34.5125,2,  34.5113,2,    180.6,2,  2.5804,    178.8,2,    67.28,2,    34.12,2,     0.00,2,     2.32,2,    0.491,2,    0.254,2,   -999.0,9,  -999.00,9,   -999.0,9,   -999.0,9,   -999.0,9,     7.57,2, -999.00,  -999.0, -999.00,  -999.0
    31DSCG96_1,  P14S,    15,  2,    217,   1104,3,19960111,1731,-57.5057, 173.9758, 5358,   -999,   1310.0,   2.4917,  34.5805,2,-999.0000,5,    176.3,2,  2.4046,    208.6,3,  -999.00,9,  -999.00,9,  -999.00,9,  -999.00,9, -999.000,5, -999.000,5,   -999.0,9,  -999.00,9,   -999.0,9,   -999.0,9,   -999.0,9,  -999.00,9, -999.00,  -999.0, -999.00,  -999.0
    31DSCG96_1,  P14S,    15,  2,    216,   1211,2,19960111,1731,-57.5057, 173.9758, 5358,   -999,   1559.1,   2.3404,  34.6539,2,  34.6540,2,    176.6,2,  2.2353,    176.8,2,    78.69,2,    33.02,2,     0.00,2,     2.23,2,    0.169,2,    0.090,2,   -999.0,9,  -999.00,9,   2250.4,2,   1161.7,6,   2345.7,2,     7.58,2, -999.00,  -999.0, -999.00,  -999.0
    31DSCG96_1,  P14S,    15,  2,    215,   1041,2,19960111,1731,-57.5057, 173.9758, 5358,   -999,   1806.8,   2.2106,  34.6996,2,  34.6996,2,    181.6,2,  2.0869,    181.6,2,    82.45,2,    32.14,2,     0.00,2,     2.17,2,    0.104,2,    0.053,2,   -999.0,9,  -999.00,9,   -999.0,9,   -999.0,9,   -999.0,9,     7.59,2, -999.00,  -999.0, -999.00,  -999.0
    31DSCG96_1,  P14S,    15,  2,    214,   1017,2,19960111,1731,-57.5057, 173.9758, 5358,   -999,   2060.7,   2.0802,  34.7244,2,  34.7251,2,    187.1,2,  1.9371,    186.6,6,    86.02,2,    31.55,2,     0.00,2,     2.13,2,    0.084,2,    0.042,2,   -999.0,9,  -999.00,9,   2248.4,2,   1097.8,2,   2353.8,2,     7.60,2, -999.00,  -999.0, -999.00,  -999.0
    31DSCG96_1,  P14S,    15,  2,    213,   1008,2,19960111,1731,-57.5057, 173.9758, 5358,   -999,   2316.3,   1.8988,  34.7376,2,  34.7366,2,    191.4,2,  1.7364,    191.6,2,    91.19,2,    31.25,2,     0.00,2,     2.11,2,    0.060,2,    0.031,2,   -999.0,9,  -999.00,9,   -999.0,9,   -999.0,9,   -999.0,9,     7.61,2, -999.00,  -999.0, -999.00,  -999.0
    31DSCG96_1,  P14S,    15,  2,    212,   1217,2,19960111,1731,-57.5057, 173.9758, 5358,   -999,   2573.9,   1.6979,  34.7389,2,  34.7383,2,    195.1,2,  1.5162,    195.2,2,    96.96,2,    31.25,2,     0.00,2,     2.11,2,    0.049,2,    0.032,2,   -999.0,9,  -999.00,9,   2251.3,2,   1069.0,2,   2359.7,2,     7.61,2, -999.00,  -999.0, -999.00,  -999.0
    31DSCG96_1,  P14S,    15,  2,    211,   1114,2,19960111,1731,-57.5057, 173.9758, 5358,   -999,   2825.5,   1.5217,  34.7357,2,  34.7342,2,    197.5,2,  1.3206,    197.8,2,   102.58,2,    31.44,2,     0.00,2,     2.12,2,    0.042,2,    0.025,2,   -999.0,9,  -999.00,9,   -999.0,9,   -999.0,9,   -999.0,9,     7.61,2, -999.00,  -999.0, -999.00,  -999.0
    31DSCG96_1,  P14S,    15,  2,    210,   1036,2,19960111,1731,-57.5057, 173.9758, 5358,   -999,   3063.2,   1.3772,  34.7301,2,  34.7299,2,    199.7,2,  1.1568,    199.7,2,   107.21,2,    31.67,2,     0.00,2,     2.14,2,    0.043,2,    0.021,2,   -999.0,9,  -999.00,9,   2256.1,2,   1073.6,2,   2365.7,2,     7.62,2, -999.00,  -999.0, -999.00,  -999.0
    31DSCG96_1,  P14S,    15,  2,    209,   1216,2,19960111,1731,-57.5057, 173.9758, 5358,   -999,   3313.3,   1.2347,  34.7242,2,  34.7230,2,    201.9,2,  0.9935,    202.3,2,   111.53,2,    31.86,2,     0.00,2,     2.15,2,    0.044,2,    0.026,2,   -999.0,9,  -999.00,9,   -999.0,9,   -999.0,9,   -999.0,9,     7.61,2, -999.00,  -999.0, -999.00,  -999.0
    31DSCG96_1,  P14S,    15,  2,    208,   1018,2,19960111,1731,-57.5057, 173.9758, 5358,   -999,   3561.8,   1.1266,  34.7195,2,  34.7182,2,    203.4,2,  0.8634,    204.0,2,   114.93,2,    32.03,2,     0.00,2,     2.16,2, -999.000,5, -999.000,5,   -999.0,9,  -999.00,9,   2258.3,2,   -999.0,9,   2366.0,2,  -999.00,9, -999.00,  -999.0, -999.00,  -999.0
    31DSCG96_1,  P14S,    15,  2,    207,   1245,2,19960111,1731,-57.5057, 173.9758, 5358,   -999,   3813.7,   1.0485,  34.7153,2,  34.7144,2,    205.6,2,  0.7616,    205.5,6,   117.62,2,    32.13,2,     0.00,2,     2.18,3,    0.070,2,    0.034,2,   -999.0,9,  -999.00,9,   -999.0,9,   -999.0,9,   -999.0,9,     7.61,2, -999.00,  -999.0, -999.00,  -999.0
    31DSCG96_1,  P14S,    15,  2,    206,   1262,2,19960111,1731,-57.5057, 173.9758, 5358,   -999,   4063.1,   0.9854,  34.7115,2,  34.7109,2,    207.1,2,  0.6741,    207.2,2,   119.87,2,    32.22,2,     0.00,2,     2.17,2,    0.073,2,    0.041,2,   -999.0,9,  -999.00,9,   2258.3,2,   1092.9,2,   2362.2,2,     7.61,2, -999.00,  -999.0, -999.00,  -999.0
    31DSCG96_1,  P14S,    15,  2,    205,   1113,2,19960111,1731,-57.5057, 173.9758, 5358,   -999,   4312.2,   0.9420,  34.7089,2,  34.7075,2,    208.1,2,  0.6050,    208.4,2,   121.41,2,    32.29,2,     0.00,2,     2.18,2,    0.086,2,    0.046,2,   -999.0,9,  -999.00,9,   -999.0,9,   -999.0,9,   -999.0,9,     7.61,2, -999.00,  -999.0, -999.00,  -999.0
    31DSCG96_1,  P14S,    15,  2,    204,   1003,2,19960111,1731,-57.5057, 173.9758, 5358,   -999,   4620.7,   0.9042,  34.7057,2,  34.7052,2,    209.5,2,  0.5340,    209.0,2,   123.15,2,    32.36,2,     0.00,2,     2.18,2, -999.000,5, -999.000,5,   -999.0,9,  -999.00,9,   2258.8,2,   1096.1,2,   2362.0,2,     7.61,3, -999.00,  -999.0, -999.00,  -999.0
    31DSCG96_1,  P14S,    15,  2,    203,   9999,2,19960111,1731,-57.5057, 173.9758, 5358,   -999,   5124.3,   0.8932,  34.7028,2,  34.7012,2,    210.3,2,  0.4646,    209.9,2,   125.15,2,    32.45,2,     0.00,2,     2.18,2,    0.131,2,    0.068,2,   -999.0,9,  -999.00,9,   -999.0,9,   -999.0,9,   -999.0,9,     7.61,2, -999.00,  -999.0, -999.00,  -999.0
    31DSCG96_1,  P14S,    15,  2,    202,   1027,2,19960111,1731,-57.5057, 173.9758, 5358,   -999,   5124.7,   0.8932,  34.7027,2,  34.7020,2,    210.3,2,  0.4645,    210.3,2,   125.32,2,    32.46,2,     0.00,2,     2.18,2,    0.132,2,    0.069,2,   -999.0,9,  -999.00,9,   -999.0,9,   -999.0,9,   -999.0,9,     7.61,2, -999.00,  -999.0, -999.00,  -999.0
    31DSCG96_1,  P14S,    15,  2,    201,   1022,2,19960111,1731,-57.5057, 173.9758, 5358,   -999,   5422.7,   0.9137,  34.7020,2,  34.7014,2,    210.4,2,  0.4480,    210.8,2,   125.79,6,    32.45,6,     0.00,6,     2.18,6,    0.144,6,    0.073,6,   -999.0,9,  -999.00,9,   2260.0,2,   1106.5,2,   2369.9,2,     7.61,2, -999.00,  -999.0, -999.00,  -999.0