BOTTLE,20220811CCHSIOAMB
EXPOCODE,SECT_ID,STNNBR,CASTNO,SAMPNO,BTLNBR,BTLNBR_FLAG_W,DATE,TIME,LATITUDE,LONGITUDE,DEPTH,CTDRAW,CTDPRS,CTDTMP,CTDSAL,CTDSAL_FLAG_W,SALNTY,SALNTY_FLAG_W,CTDOXY,CTDOXY_FLAG_W,THETA,OXYGEN,OXYGEN_FLAG_W,SILCAT,SILCAT_FLAG_W,NITRAT,NITRAT_FLAG_W,NITRIT,NITRIT_FLAG_W,PHSPHT,PHSPHT_FLAG_W,CFC-11,CFC-11_FLAG_W,CFC-12,CFC-12_FLAG_W,DELC14,DELC14_FLAG_W,DELC13,DELC13_FLAG_W,TCARBN,TCARBN_FLAG_W,PCO2,PCO2_FLAG_W,ALKALI,ALKALI_FLAG_W,PH,PH_FLAG_W,PCO2TMP,C14ERR,PH_TMP,C13ERR
,,,,,,,,,,,,DBAR,DBAR,ITS-90,PSS-78,,PSS-78,,UMOL/KG,,DEG C,UMOL/KG,,UMOL/KG,,UMOL/KG,,UMOL/KG,,UMOL/KG,,PMOL/KG,,PMOL/KG,,/MILLE,,/MILLE,,UMOL/KG,,UATM,,UMOL/KG,,,,DEG C,/MILLE,DEG C,/MILLE
    31DSCG96_1,  P14S,    25,  1,    124,    429,2,19960114,2249,-62.4487, 172.5868, 4440,   -999,     12.4,   1.1399,  33.8370,2,  33.8385,2,    352.9,2,  1.1393,    364.2,3,    23.35,2,    24.23,2,     0.19,2,     1.49,2,    6.202,2,    3.062,2,   -999.0,9,  -999.00,9,   -999.0,9,   -999.0,9,   -999.0,9,     7.77,2, -999.00,  -999.0, -999.00,  -999.0
    31DSCG96_1,  P14S,    25,  1,    123,    428,2,19960114,2249,-62.4487, 172.5868, 4440,   -999,     33.4,   1.1376,  33.8368,2,  33.8385,2,    352.3,2,  1.1361,    350.0,2,    23.91,2,    24.19,2,     0.19,2,     1.49,2,    6.277,2,    3.110,2,   -999.0,9,  -999.00,9,   -999.0,9,   -999.0,9,   -999.0,9,     7.77,2, -999.00,  -999.0, -999.00,  -999.0
    31DSCG96_1,  P14S,    25,  1,    122,    407,2,19960114,2249,-62.4487, 172.5868, 4440,   -999,     66.7,   0.8563,  34.0919,2,  34.0258,3,    332.6,2,  0.8535,    332.8,2,    29.96,2,    27.37,2,     0.20,2,     1.87,2,    6.063,2,    2.960,2,   -999.0,9,  -999.00,9,   -999.0,9,   -999.0,9,   -999.0,9,     7.72,2, -999.00,  -999.0, -999.00,  -999.0
    31DSCG96_1,  P14S,    25,  1,    121,    417,2,19960114,2249,-62.4487, 172.5868, 4440,   -999,    115.9,   0.5674,  34.1178,2,  34.1188,2,    332.4,2,  0.5627,    326.9,2,    38.26,2,    28.95,2,     0.18,2,     2.01,2,    5.964,2,    2.930,2,   -999.0,9,  -999.00,9,   -999.0,9,   -999.0,9,   -999.0,9,     7.68,2, -999.00,  -999.0, -999.00,  -999.0
    31DSCG96_1,  P14S,    25,  1,    120,    405,2,19960114,2249,-62.4487, 172.5868, 4440,   -999,    166.9,   0.8034,  34.2528,2,  34.2494,2,    290.1,2,  0.7963,    269.0,2,    53.55,2,    32.86,2,     0.14,2,     2.27,2,    4.120,2,    1.968,2,   -999.0,9,  -999.00,9,   -999.0,9,   -999.0,9,   -999.0,9,     7.61,2, -999.00,  -999.0, -999.00,  -999.0
    31DSCG96_1,  P14S,    25,  1,    119,    416,2,19960114,2249,-62.4487, 172.5868, 4440,   -999,    227.6,   1.9141,  34.4334,2,  34.4328,2,    201.6,2,  1.9021,    194.4,2,    65.05,2,    35.15,2,     0.01,2,     2.39,2,    1.552,2,    0.723,2,   -999.0,9,  -999.00,9,   -999.0,9,   -999.0,9,   -999.0,9,     7.55,2, -999.00,  -999.0, -999.00,  -999.0
    31DSCG96_1,  P14S,    25,  1,    118,    420,2,19960114,2249,-62.4487, 172.5868, 4440,   -999,    265.9,   2.0160,  34.4729,2,  34.4713,2,    190.9,2,  2.0016,    186.0,2,    67.73,2,    35.18,2,     0.00,2,     2.40,2,    1.219,2,    0.577,2,   -999.0,9,  -999.00,9,   -999.0,9,   -999.0,9,   -999.0,9,     7.55,2, -999.00,  -999.0, -999.00,  -999.0
    31DSCG96_1,  P14S,    25,  1,    117,    424,2,19960114,2249,-62.4487, 172.5868, 4440,   -999,    324.7,   2.1944,  34.5402,2,  34.5402,2,    177.2,2,  2.1762,    176.5,2,    71.54,2,    34.91,2,     0.00,2,     2.37,2,    0.694,2,    0.327,2,   -999.0,9,  -999.00,9,   -999.0,9,   -999.0,9,   -999.0,9,     7.55,2, -999.00,  -999.0, -999.00,  -999.0
    31DSCG96_1,  P14S,    25,  1,    116,    409,2,19960114,2249,-62.4487, 172.5868, 4440,   -999,    423.6,   2.1434,  34.5972,2,  34.5960,2,    174.6,2,  2.1194,    173.9,2,    75.73,2,    34.43,2,     0.00,2,     2.34,2,    0.504,2,    0.230,2,   -999.0,9,  -999.00,9,   -999.0,9,   -999.0,9,   -999.0,9,     7.56,2, -999.00,  -999.0, -999.00,  -999.0
    31DSCG96_1,  P14S,    25,  1,    115,    413,2,19960114,2249,-62.4487, 172.5868, 4440,   -999,    525.2,   2.1186,  34.6407,2,  34.6402,2,    173.8,2,  2.0885,    174.0,2,    78.54,2,    33.73,2,     0.00,2,     2.30,2,    0.360,2,    0.166,2,   -999.0,9,  -999.00,9,   -999.0,9,   -999.0,9,   -999.0,9,     7.56,2, -999.00,  -999.0, -999.00,  -999.0
    31DSCG96_1,  P14S,    25,  1,    114,    419,2,19960114,2249,-62.4487, 172.5868, 4440,   -999,    622.9,   2.0927,  34.6762,2,  34.6763,2,    176.2,2,  2.0565,    176.8,2,    80.41,2,    33.09,2,     0.00,2,     2.26,2,    0.240,2,    0.117,2,   -999.0,9,  -999.00,9,   -999.0,9,   -999.0,9,   -999.0,9,     7.57,2, -999.00,  -999.0, -999.00,  -999.0
    31DSCG96_1,  P14S,    25,  1,    113,    434,2,19960114,2249,-62.4487, 172.5868, 4440,   -999,    727.9,   2.0547,  34.7007,2,  34.7011,2,    180.8,2,  2.0121,    180.6,2,    81.81,2,    32.37,2,     0.00,2,     2.21,2,    0.208,2,    0.088,2,   -999.0,9,  -999.00,9,   -999.0,9,   -999.0,9,   -999.0,9,     7.58,2, -999.00,  -999.0, -999.00,  -999.0
    31DSCG96_1,  P14S,    25,  1,    112,    404,2,19960114,2249,-62.4487, 172.5868, 4440,   -999,    850.4,   2.0039,  34.7192,2,  34.7199,2,    183.3,2,  1.9536,    186.0,2,    83.65,2,    31.81,2,     0.00,2,     2.15,2,    0.117,2,    0.054,2,   -999.0,9,  -999.00,9,   -999.0,9,   -999.0,9,   -999.0,9,     7.60,2, -999.00,  -999.0, -999.00,  -999.0
    31DSCG96_1,  P14S,    25,  1,    111,    427,2,19960114,2249,-62.4487, 172.5868, 4440,   -999,   1048.6,   1.8859,  34.7333,2,  34.7376,3,    188.4,2,  1.8230,    189.4,2,    86.65,2,    31.47,2,     0.00,2,     2.13,2,    0.132,3,    0.051,2,   -999.0,9,  -999.00,9,   -999.0,9,   -999.0,9,   -999.0,9,     7.60,2, -999.00,  -999.0, -999.00,  -999.0
    31DSCG96_1,  P14S,    25,  1,    110,    401,2,19960114,2249,-62.4487, 172.5868, 4440,   -999,   1250.4,   1.7416,  34.7407,2,  34.7424,2,    193.0,2,  1.6660,    194.5,2,    91.00,2,    31.20,2,     0.00,2,     2.10,2,    0.087,6,    0.038,6,   -999.0,9,  -999.00,9,   -999.0,9,   -999.0,9,   -999.0,9,     7.61,2, -999.00,  -999.0, -999.00,  -999.0
    31DSCG96_1,  P14S,    25,  1,    109,    435,2,19960114,2249,-62.4487, 172.5868, 4440,   -999,   1502.4,   1.5532,  34.7395,2,  34.7413,2,    196.7,2,  1.4616,    196.9,2,    96.55,2,    31.25,2,     0.00,2,     2.11,2,    0.070,2,    0.029,2,   -999.0,9,  -999.00,9,   -999.0,9,   -999.0,9,   -999.0,9,     7.61,2, -999.00,  -999.0, -999.00,  -999.0
    31DSCG96_1,  P14S,    25,  1,    108,    440,2,19960114,2249,-62.4487, 172.5868, 4440,   -999,   1903.8,   1.2608,  34.7300,2,  34.7303,2,    200.7,2,  1.1428,    200.9,2,   105.82,2,    31.62,2,     0.00,2,     2.14,2,    0.077,4,    0.024,2,   -999.0,9,  -999.00,9,   -999.0,9,   -999.0,9,   -999.0,9,     7.62,2, -999.00,  -999.0, -999.00,  -999.0
    31DSCG96_1,  P14S,    25,  1,    107,    436,2,19960114,2249,-62.4487, 172.5868, 4440,   -999,   2300.6,   1.0276,  34.7201,2,  34.7205,2,    203.3,2,  0.8819,    204.3,2,   112.79,2,    31.98,2,     0.00,2,     2.17,2,    0.058,2,    0.027,2,   -999.0,9,  -999.00,9,   -999.0,9,   -999.0,9,   -999.0,9,     7.60,2, -999.00,  -999.0, -999.00,  -999.0
    31DSCG96_1,  P14S,    25,  1,    106,    441,2,19960114,2249,-62.4487, 172.5868, 4440,   -999,   2700.9,   0.8435,  34.7107,2,  34.7109,2,    206.6,2,  0.6675,    207.5,2,   118.36,2,    32.25,2,     0.00,2,     2.19,2,    0.079,2,    0.037,2,   -999.0,9,  -999.00,9,   -999.0,9,   -999.0,9,   -999.0,9,     7.61,2, -999.00,  -999.0, -999.00,  -999.0
    31DSCG96_1,  P14S,    25,  1,    105,    423,4,19960114,2249,-62.4487, 172.5868, 4440,   -999,   3096.6,   0.7442,  34.7061,2,-999.0000,9,    208.7,2,  0.5351,   -999.0,9,  -999.00,9,  -999.00,9,  -999.00,9,  -999.00,9, -999.000,9, -999.000,9,   -999.0,9,  -999.00,9,   -999.0,9,   -999.0,9,   -999.0,9,  -999.00,9, -999.00,  -999.0, -999.00,  -999.0
    31DSCG96_1,  P14S,    25,  1,    104,    433,2,19960114,2249,-62.4487, 172.5868, 4440,   -999,   3496.2,   0.7262,  34.7042,2,  34.7043,2,    209.9,2,  0.4798,    210.7,2,   124.25,2,    32.44,2,     0.00,2,     2.21,2,    0.153,2,    0.064,2,   -999.0,9,  -999.00,9,   -999.0,9,   -999.0,9,   -999.0,9,     7.61,2, -999.00,  -999.0, -999.00,  -999.0
    31DSCG96_1,  P14S,    25,  1,    103,    439,2,19960114,2249,-62.4487, 172.5868, 4440,   -999,   3894.6,   0.7427,  34.7035,2,  34.7029,2,    210.2,2,  0.4560,    210.7,2,   125.22,2,    32.48,2,     0.00,2,     2.20,2,    0.176,2,    0.077,2,   -999.0,9,  -999.00,9,   -999.0,9,   -999.0,9,   -999.0,9,     7.61,2, -999.00,  -999.0, -999.00,  -999.0
    31DSCG96_1,  P14S,    25,  1,    102,    414,2,19960114,2249,-62.4487, 172.5868, 4440,   -999,   4298.3,   0.7708,  34.7031,2,  34.7040,2,    211.4,2,  0.4406,    210.5,2,   125.84,2,    32.50,2,     0.00,2,     2.20,2,    0.185,2,    0.082,2,   -999.0,9,  -999.00,9,   -999.0,9,   -999.0,9,   -999.0,9,     7.61,2, -999.00,  -999.0, -999.00,  -999.0
    31DSCG96_1,  P14S,    25,  1,    101,    406,2,19960114,2249,-62.4487, 172.5868, 4440,   -999,   4497.8,   0.7812,  34.7024,2,  34.7019,2,    211.7,2,  0.4287,    211.8,2,   126.26,6,    32.52,6,     0.00,6,     2.21,6,    0.194,2,    0.085,2,   -999.0,9,  -999.00,9,   -999.0,9,   -999.0,9,   -999.0,9,     7.60,2, -999.00,  -999.0, -999.00,  -999.0
    31DSCG96_1,  P14S,    26,  1,    140,   -999,2,19960115,0424,-62.7450, 172.1495, 4450,   -999,      0.0,-999.0000,-999.0000,9,-999.0000,5,   -999.0,9,-999.0000,   -999.0,9,  -999.00,9,  -999.00,9,  -999.00,9,  -999.00,9, -999.000,9, -999.000,9,   -999.0,9,  -999.00,9,   2204.2,2,   -999.0,9,   2293.5,2,  -999.00,9, -999.00,  -999.0, -999.00,  -999.0
    31DSCG96_1,  P14S,    26,  1,    124,    429,2,19960115,0424,-62.7450, 172.1495, 4450,   -999,      9.6,   0.5291,  33.7883,2,  33.7906,2,    353.8,2,  0.5287,    352.6,2,    43.35,2,    23.95,2,     0.16,2,     1.45,2,    6.521,2,    3.156,2,   -999.0,9,  -999.00,9,   -999.0,9,    702.5,2,   -999.0,9,     7.76,3, -999.00,  -999.0, -999.00,  -999.0
    31DSCG96_1,  P14S,    26,  1,    123,    428,2,19960115,0424,-62.7450, 172.1495, 4450,   -999,     38.9,   0.5326,  33.7888,2,-999.0000,9,    353.3,2,  0.5311,    352.7,2,    43.04,2,    23.97,2,     0.16,2,     1.47,2, -999.000,9, -999.000,9,   -999.0,9,  -999.00,9,   2135.7,2,   -999.0,9,   2293.3,2,     7.76,2, -999.00,  -999.0, -999.00,  -999.0
    31DSCG96_1,  P14S,    26,  1,    122,    407,2,19960115,0424,-62.7450, 172.1495, 4450,   -999,     90.4,  -0.3048,  34.0986,2,-999.0000,9,    316.7,2, -0.3077,    334.7,2,    45.62,2,    29.73,2,     0.18,2,     2.09,2, -999.000,9, -999.000,9,   -999.0,9,  -999.00,9,   2181.4,2,    897.6,2,   -999.0,9,     7.67,3, -999.00,  -999.0, -999.00,  -999.0
    31DSCG96_1,  P14S,    26,  1,    121,    417,2,19960115,0424,-62.7450, 172.1495, 4450,   -999,    140.9,   0.3214,  34.2592,2,  34.2553,2,    273.6,2,  0.3160,    280.6,2,    57.92,2,    32.56,2,     0.18,2,     2.26,2,    4.483,2,    2.147,2,   -999.0,9,  -999.00,9,   -999.0,9,   -999.0,9,   -999.0,9,     7.61,2, -999.00,  -999.0, -999.00,  -999.0
    31DSCG96_1,  P14S,    26,  1,    120,    405,2,19960115,0424,-62.7450, 172.1495, 4450,   -999,    193.2,   1.6720,  34.4926,2,  34.4913,2,    205.8,2,  1.6622,    195.6,2,    71.28,2,    34.70,2,     0.02,2,     2.38,2, -999.000,9, -999.000,9,   -999.0,9,  -999.00,9,   2246.6,2,   1228.3,2,   2335.1,2,     7.56,2, -999.00,  -999.0, -999.00,  -999.0
    31DSCG96_1,  P14S,    26,  1,    119,    416,2,19960115,0424,-62.7450, 172.1495, 4450,   -999,    272.0,   2.0887,  34.6169,2,  34.6156,2,    175.5,2,  2.0737,    174.0,2,    78.13,2,    34.19,2,     0.00,2,     2.33,2,    0.465,2,    0.215,2,   -999.0,9,  -999.00,9,   -999.0,9,   -999.0,9,   -999.0,9,     7.56,2, -999.00,  -999.0, -999.00,  -999.0
    31DSCG96_1,  P14S,    26,  1,    118,    420,2,19960115,0424,-62.7450, 172.1495, 4450,   -999,    375.8,   2.0539,  34.6632,2,  34.6630,2,    174.1,2,  2.0331,    174.8,2,    80.94,2,    33.38,2,     0.00,2,     2.27,2, -999.000,9, -999.000,9,   -999.0,9,  -999.00,9,   2254.2,2,   1203.6,2,   -999.0,9,     7.57,2, -999.00,  -999.0, -999.00,  -999.0
    31DSCG96_1,  P14S,    26,  1,    117,    424,2,19960115,0424,-62.7450, 172.1495, 4450,   -999,    475.6,   2.0676,  34.6996,2,  34.6990,2,    177.5,2,  2.0407,    181.9,2,    81.95,2,    32.32,2,     0.01,2,     2.19,2,    0.177,2,    0.078,2,   -999.0,9,  -999.00,9,   -999.0,9,   -999.0,9,   -999.0,9,     7.59,2, -999.00,  -999.0, -999.00,  -999.0
    31DSCG96_1,  P14S,    26,  1,    116,    409,2,19960115,0424,-62.7450, 172.1495, 4450,   -999,    623.0,   1.9548,  34.7215,2,  34.7202,2,    182.8,2,  1.9193,    186.8,2,    85.04,2,    31.73,2,     0.00,2,     2.16,2, -999.000,9, -999.000,9,   -999.0,9,  -999.00,9,   2250.4,2,   1107.1,2,   2348.0,2,     7.60,2, -999.00,  -999.0, -999.00,  -999.0
    31DSCG96_1,  P14S,    26,  1,    115,    413,2,19960115,0424,-62.7450, 172.1495, 4450,   -999,    778.2,   1.8619,  34.7322,2,  34.7313,2,    187.9,2,  1.8171,    189.6,2,    87.27,2,    31.41,2,     0.00,2,     2.13,2,    0.133,2,    0.056,2,   -999.0,9,  -999.00,9,   -999.0,9,   -999.0,9,   -999.0,9,     7.60,2, -999.00,  -999.0, -999.00,  -999.0
    31DSCG96_1,  P14S,    26,  1,    114,    419,2,19960115,0424,-62.7450, 172.1495, 4450,   -999,    951.5,   1.7344,  34.7405,2,  34.7411,2,    192.1,2,  1.6793,    193.9,2,    91.17,2,    31.13,2,     0.00,2,     2.13,2, -999.000,9, -999.000,9,   -999.0,9,  -999.00,9,   2249.6,2,   1081.9,2,   2360.0,2,     7.61,2, -999.00,  -999.0, -999.00,  -999.0
    31DSCG96_1,  P14S,    26,  1,    113,    434,2,19960115,0424,-62.7450, 172.1495, 4450,   -999,   1299.0,   1.4228,  34.7366,2,  34.7358,2,    197.5,2,  1.3471,    198.4,2,    99.43,2,    31.19,2,     0.00,2,     2.13,2,    0.092,2,    0.041,2,   -999.0,9,  -999.00,9,   -999.0,9,   -999.0,9,   -999.0,9,     7.61,2, -999.00,  -999.0, -999.00,  -999.0
    31DSCG96_1,  P14S,    26,  1,    112,    404,2,19960115,0424,-62.7450, 172.1495, 4450,   -999,   1703.5,   1.1021,  34.7249,2,  34.7240,2,    201.9,2,  1.0014,    203.5,2,   109.57,2,    31.69,2,     0.00,2,     2.15,2, -999.000,9, -999.000,9,   -999.0,9,  -999.00,9,   -999.0,9,   1065.7,2,   2364.2,2,     7.61,2, -999.00,  -999.0, -999.00,  -999.0
    31DSCG96_1,  P14S,    26,  1,    111,    427,2,19960115,0424,-62.7450, 172.1495, 4450,   -999,   1956.2,   0.9168,  34.7161,2,  34.7155,2,    204.0,2,  0.7999,    205.9,2,   115.01,2,    31.97,2,     0.00,2,     2.18,2,    0.076,2,    0.031,2,   -999.0,9,  -999.00,9,   -999.0,9,   -999.0,9,   -999.0,9,     7.61,2, -999.00,  -999.0, -999.00,  -999.0
    31DSCG96_1,  P14S,    26,  1,    110,    401,2,19960115,0424,-62.7450, 172.1495, 4450,   -999,   2189.1,   0.7727,  34.7080,2,  34.7077,2,    206.4,2,  0.6403,    207.2,2,   117.47,2,    32.25,2,     0.00,2,     2.19,2, -999.000,9, -999.000,9,   -999.0,9,  -999.00,9,   2257.4,2,   1084.4,2,   2361.5,2,     7.61,2, -999.00,  -999.0, -999.00,  -999.0
    31DSCG96_1,  P14S,    26,  1,    109,    435,2,19960115,0424,-62.7450, 172.1495, 4450,   -999,   2447.5,   0.6482,  34.7025,2,  34.7018,2,    208.7,2,  0.4974,    209.9,2,   121.39,6,    32.38,6,     0.00,6,     2.20,6,    0.192,2,    0.091,2,   -999.0,9,  -999.00,9,   -999.0,9,   -999.0,9,   -999.0,9,     7.60,2, -999.00,  -999.0, -999.00,  -999.0
    31DSCG96_1,  P14S,    26,  1,    108,    440,2,19960115,0424,-62.7450, 172.1495, 4450,   -999,   2699.1,   0.4545,  34.6964,2,  34.6958,2,    211.0,2,  0.2866,    213.4,2,   123.72,6,    32.53,6,     0.00,6,     2.22,6, -999.000,9, -999.000,9,   -999.0,9,  -999.00,9,   2259.3,2,   1108.1,2,   2362.7,2,     7.60,2, -999.00,  -999.0, -999.00,  -999.0
    31DSCG96_1,  P14S,    26,  1,    107,    436,2,19960115,0424,-62.7450, 172.1495, 4450,   -999,   2844.6,   0.4280,  34.6950,2,  34.6946,2,    212.8,2,  0.2484,    214.7,2,   123.86,6,    32.54,6,     0.00,6,     2.23,6,    0.335,2,    0.156,2,   -999.0,9,  -999.00,9,   -999.0,9,   -999.0,9,   -999.0,9,     7.59,3, -999.00,  -999.0, -999.00,  -999.0
    31DSCG96_1,  P14S,    26,  1,    106,    441,2,19960115,0424,-62.7450, 172.1495, 4450,   -999,   3102.0,   0.3615,  34.6935,2,  34.6949,2,    215.4,2,  0.1608,    216.1,2,   123.29,6,    32.49,6,     0.00,6,     2.23,6, -999.000,9, -999.000,9,   -999.0,9,  -999.00,9,   2258.1,2,   1101.4,2,   2360.7,2,     7.60,2, -999.00,  -999.0, -999.00,  -999.0
    31DSCG96_1,  P14S,    26,  1,    105,    423,2,19960115,0424,-62.7450, 172.1495, 4450,   -999,   3349.9,   0.3145,  34.6930,2,  34.6922,2,    217.1,2,  0.0924,    218.1,2,   122.68,6,    32.55,6,     0.00,6,     2.23,6,    0.369,3,    0.253,3,   -999.0,9,  -999.00,9,   -999.0,9,   -999.0,9,   -999.0,9,     7.60,3, -999.00,  -999.0, -999.00,  -999.0
    31DSCG96_1,  P14S,    26,  1,    104,    433,2,19960115,0424,-62.7450, 172.1495, 4450,   -999,   3598.1,   0.3099,  34.6930,2,  34.6929,2,    218.0,2,  0.0645,    219.1,2,   122.32,6,    32.50,6,     0.00,6,     2.23,6, -999.000,9, -999.000,9,   -999.0,9,  -999.00,9,   2257.4,2,   1104.3,2,   2360.5,2,     7.60,2, -999.00,  -999.0, -999.00,  -999.0
    31DSCG96_1,  P14S,    26,  1,    103,    439,2,19960115,0424,-62.7450, 172.1495, 4450,   -999,   3852.2,   0.3210,  34.6934,2,  34.6926,2,    218.5,2,  0.0503,    219.2,2,   122.23,6,    32.52,6,     0.00,6,     2.25,3,    0.590,2,    0.272,2,   -999.0,9,  -999.00,9,   -999.0,9,   -999.0,9,   -999.0,9,     7.60,2, -999.00,  -999.0, -999.00,  -999.0
    31DSCG96_1,  P14S,    26,  1,    102,    414,2,19960115,0424,-62.7450, 172.1495, 4450,   -999,   4051.4,   0.3352,  34.6931,2,  34.6938,2,    219.2,2,  0.0440,    219.4,2,   122.27,6,    32.53,6,     0.00,6,     2.23,2, -999.000,9, -999.000,9,   -999.0,9,  -999.00,9,   2257.6,2,   1121.0,2,   2358.8,2,     7.60,3, -999.00,  -999.0, -999.00,  -999.0
    31DSCG96_1,  P14S,    26,  1,    101,    406,2,19960115,0424,-62.7450, 172.1495, 4450,   -999,   4051.4,   0.3347,  34.6935,2,  34.6933,2,    219.2,2,  0.0435,    220.8,2,   122.32,6,    32.56,6,     0.00,6,     2.21,6,    0.594,2,    0.279,2,   -999.0,9,  -999.00,9,   -999.0,9,   -999.0,9,   -999.0,9,     7.60,2, -999.00,  -999.0, -999.00,  -999.0