BOTTLE,20220811CCHSIOAMB
EXPOCODE,SECT_ID,STNNBR,CASTNO,SAMPNO,BTLNBR,BTLNBR_FLAG_W,DATE,TIME,LATITUDE,LONGITUDE,DEPTH,CTDRAW,CTDPRS,CTDTMP,CTDSAL,CTDSAL_FLAG_W,SALNTY,SALNTY_FLAG_W,CTDOXY,CTDOXY_FLAG_W,THETA,OXYGEN,OXYGEN_FLAG_W,SILCAT,SILCAT_FLAG_W,NITRAT,NITRAT_FLAG_W,NITRIT,NITRIT_FLAG_W,PHSPHT,PHSPHT_FLAG_W,CFC-11,CFC-11_FLAG_W,CFC-12,CFC-12_FLAG_W,DELC14,DELC14_FLAG_W,DELC13,DELC13_FLAG_W,TCARBN,TCARBN_FLAG_W,PCO2,PCO2_FLAG_W,ALKALI,ALKALI_FLAG_W,PH,PH_FLAG_W,PCO2TMP,C14ERR,PH_TMP,C13ERR
,,,,,,,,,,,,DBAR,DBAR,ITS-90,PSS-78,,PSS-78,,UMOL/KG,,DEG C,UMOL/KG,,UMOL/KG,,UMOL/KG,,UMOL/KG,,UMOL/KG,,PMOL/KG,,PMOL/KG,,/MILLE,,/MILLE,,UMOL/KG,,UATM,,UMOL/KG,,,,DEG C,/MILLE,DEG C,/MILLE
    31DSCG96_2,  P15S,   113,  1,    136,   1245,2,19960218,2055,-31.9975,-169.9962, 5640,   -999,      2.8,  22.4980,  35.8352,2,  35.8377,2,    215.6,2, 22.4974,    216.7,2,     1.16,2,     0.02,2,     0.00,2,     0.05,2, -999.000,9, -999.000,9,     88.3,2,  -999.00,9,   2030.1,2,    321.2,6,   -999.0,9,     8.05,2, -999.00,     2.9, -999.00,  -999.0
    31DSCG96_2,  P15S,   113,  1,    135,   1113,2,19960218,2055,-31.9975,-169.9962, 5640,   -999,     29.4,  22.4346,  35.8321,2,  35.8328,2,    213.4,2, 22.4287,    216.8,2,     1.18,2,     0.03,2,     0.00,2,     0.06,2, -999.000,9, -999.000,9,   -999.0,9,  -999.00,9,   -999.0,9,   -999.0,9,   -999.0,9,     8.05,2, -999.00,  -999.0, -999.00,  -999.0
    31DSCG96_2,  P15S,   113,  1,    134,   1216,2,19960218,2055,-31.9975,-169.9962, 5640,   -999,     53.3,  21.1316,  35.7592,2,  35.7639,2,    224.1,2, 21.1213,    230.1,2,     1.20,2,     0.03,2,     0.00,2,     0.07,2, -999.000,9, -999.000,9,   -999.0,9,  -999.00,9,   -999.0,9,   -999.0,9,   -999.0,9,     8.04,2, -999.00,  -999.0, -999.00,  -999.0
    31DSCG96_2,  P15S,   113,  1,    133,   1221,2,19960218,2055,-31.9975,-169.9962, 5640,   -999,     79.5,  17.2898,  35.5530,2,  35.5575,2,    243.3,2, 17.2765,    254.2,2,     1.39,2,     0.04,2,     0.00,2,     0.12,2, -999.000,9, -999.000,9,   -999.0,9,  -999.00,9,   -999.0,9,   -999.0,9,   -999.0,9,     8.02,2, -999.00,  -999.0, -999.00,  -999.0
    31DSCG96_2,  P15S,   113,  1,    132,   1039,2,19960218,2055,-31.9975,-169.9962, 5640,   -999,    113.9,  15.8934,  35.5124,2,  35.5124,2,    215.1,2, 15.8755,    218.1,2,     1.83,2,     3.26,2,     0.14,2,     0.34,2, -999.000,9, -999.000,9,   -999.0,9,  -999.00,9,   -999.0,9,   -999.0,9,   -999.0,9,     7.95,2, -999.00,  -999.0, -999.00,  -999.0
    31DSCG96_2,  P15S,   113,  1,    131,   1014,2,19960218,2055,-31.9975,-169.9962, 5640,   -999,    164.5,  14.7970,  35.3639,2,  35.3654,2,    210.5,2, 14.7723,    209.4,2,     3.15,2,     6.30,2,     0.01,2,     0.51,2, -999.000,9, -999.000,9,   -999.0,9,  -999.00,9,   -999.0,9,   -999.0,9,   -999.0,9,     7.91,2, -999.00,  -999.0, -999.00,  -999.0
    31DSCG96_2,  P15S,   113,  1,    130,   1257,2,19960218,2055,-31.9975,-169.9962, 5640,   -999,    213.1,  13.6599,  35.2127,2,  35.2100,2,    200.3,2, 13.6295,    201.8,2,     4.11,2,     9.10,2,     0.01,2,     0.68,2, -999.000,9, -999.000,9,   -999.0,9,  -999.00,9,   -999.0,9,   -999.0,9,   -999.0,9,     7.87,2, -999.00,  -999.0, -999.00,  -999.0
    31DSCG96_2,  P15S,   113,  1,    129,   1256,2,19960218,2055,-31.9975,-169.9962, 5640,   -999,    267.2,  12.4111,  35.0634,2,  35.0709,2,    200.4,2, 12.3754,    199.8,2,     4.22,2,    11.67,2,     0.00,2,     0.84,2, -999.000,9, -999.000,9,   -999.0,9,  -999.00,9,   -999.0,9,   -999.0,9,   -999.0,9,     7.84,2, -999.00,  -999.0, -999.00,  -999.0
    31DSCG96_2,  P15S,   113,  1,    128,   1007,2,19960218,2055,-31.9975,-169.9962, 5640,   -999,    326.0,  11.5488,  34.9542,2,  34.9519,2,    203.8,2, 11.5071,    203.8,2,     4.75,2,    13.34,2,     0.01,2,     0.94,2, -999.000,9, -999.000,9,   -999.0,9,  -999.00,9,   -999.0,9,   -999.0,9,   -999.0,9,     7.81,2, -999.00,  -999.0, -999.00,  -999.0
    31DSCG96_2,  P15S,   113,  1,    127,   1232,2,19960218,2055,-31.9975,-169.9962, 5640,   -999,    426.7,   9.6717,  34.7103,2,  34.7123,2,    199.8,2,  9.6229,    199.5,2,     6.47,2,    18.17,2,     0.00,2,     1.24,2, -999.000,9, -999.000,9,   -999.0,9,  -999.00,9,   -999.0,9,   -999.0,9,   -999.0,9,  -999.00,9, -999.00,  -999.0, -999.00,  -999.0
    31DSCG96_2,  P15S,   113,  1,    126,   1025,2,19960218,2055,-31.9975,-169.9962, 5640,   -999,    526.0,   7.9635,  34.5039,2,  34.5042,2,    217.1,2,  7.9097,    219.7,2,     6.89,2,    20.63,2,     0.00,2,     1.41,2, -999.000,9, -999.000,9,   -999.0,9,  -999.00,9,   -999.0,9,   -999.0,9,   -999.0,9,  -999.00,9, -999.00,  -999.0, -999.00,  -999.0
    31DSCG96_2,  P15S,   113,  1,    125,   1233,2,19960218,2055,-31.9975,-169.9962, 5640,   -999,    622.9,   7.1841,  34.4277,2,  34.4286,2,    226.6,2,  7.1236,    228.6,2,     8.01,2,    22.26,2,     0.00,2,     1.51,2, -999.000,9, -999.000,9,   -999.0,9,  -999.00,9,   -999.0,9,   -999.0,9,   -999.0,9,     7.74,2, -999.00,  -999.0, -999.00,  -999.0
    31DSCG96_2,  P15S,   113,  1,    124,   1013,2,19960218,2055,-31.9975,-169.9962, 5640,   -999,    723.9,   6.6367,  34.3840,2,  34.3856,2,    228.6,2,  6.5690,    229.5,2,     9.99,2,    23.83,2,     0.00,2,     1.61,2, -999.000,9, -999.000,9,   -999.0,9,  -999.00,9,   -999.0,9,   -999.0,9,   -999.0,9,     7.73,2, -999.00,  -999.0, -999.00,  -999.0
    31DSCG96_2,  P15S,   113,  1,    123,   1250,2,19960218,2055,-31.9975,-169.9962, 5640,   -999,    826.1,   6.1012,  34.3504,2,  34.3506,2,    223.7,2,  6.0267,    224.1,2,    13.34,2,    25.59,2,     0.00,2,     1.73,2, -999.000,9, -999.000,9,   -999.0,9,  -999.00,9,   -999.0,9,   -999.0,9,   -999.0,9,     7.71,2, -999.00,  -999.0, -999.00,  -999.0
    31DSCG96_2,  P15S,   113,  1,    122,   1265,2,19960218,2055,-31.9975,-169.9962, 5640,   -999,    927.1,   5.4371,  34.3316,2,  34.4098,4,    214.1,2,  5.3575,    213.2,2,    19.78,2,    28.09,2,     0.00,2,     1.90,2, -999.000,9, -999.000,9,   -999.0,9,  -999.00,9,   -999.0,9,   -999.0,9,   -999.0,9,     7.68,2, -999.00,  -999.0, -999.00,  -999.0
    31DSCG96_2,  P15S,   113,  1,    121,   1246,2,19960218,2055,-31.9975,-169.9962, 5640,   -999,   1030.2,   4.8434,  34.3375,2,  34.3376,2,    200.2,2,  4.7589,    201.3,2,    27.96,2,    30.19,2,     0.00,2,     2.04,2, -999.000,9, -999.000,9,   -999.0,9,  -999.00,9,   -999.0,9,   -999.0,9,   -999.0,9,     7.65,2, -999.00,  -999.0, -999.00,  -999.0
    31DSCG96_2,  P15S,   113,  1,    120,   1015,2,19960218,2055,-31.9975,-169.9962, 5640,   -999,   1137.8,   4.2038,  34.3614,2,  34.3610,2,    189.3,2,  4.1150,    190.2,2,    38.66,2,    32.08,2,     0.00,2,     2.18,2, -999.000,9, -999.000,9,   -999.0,9,  -999.00,9,   -999.0,9,   -999.0,9,   -999.0,9,     7.62,2, -999.00,  -999.0, -999.00,  -999.0
    31DSCG96_2,  P15S,   113,  1,    119,   1247,2,19960218,2055,-31.9975,-169.9962, 5640,   -999,   1305.0,   3.4307,  34.4239,2,  34.4232,2,    175.4,2,  3.3348,    177.8,2,    55.34,2,    33.89,2,     0.00,2,     2.31,2, -999.000,9, -999.000,9,   -999.0,9,  -999.00,9,   -999.0,9,   -999.0,9,   -999.0,9,     7.59,2, -999.00,  -999.0, -999.00,  -999.0
    31DSCG96_2,  P15S,   113,  1,    118,   1222,2,19960218,2055,-31.9975,-169.9962, 5640,   -999,   1566.3,   2.7782,  34.5415,2,  34.5414,2,    160.6,2,  2.6675,    161.1,2,    82.27,2,    35.05,2,     0.00,2,     2.40,2, -999.000,9, -999.000,9,   -999.0,9,  -999.00,9,   -999.0,9,   -999.0,9,   -999.0,9,     7.58,2, -999.00,  -999.0, -999.00,  -999.0
    31DSCG96_2,  P15S,   113,  1,    117,   1267,2,19960218,2055,-31.9975,-169.9962, 5640,   -999,   1816.7,   2.4545,  34.6015,2,  34.6016,2,    152.8,2,  2.3269,    153.9,2,   101.60,2,    35.60,2,     0.00,2,     2.46,2, -999.000,9, -999.000,9,   -999.0,9,  -999.00,9,   -999.0,9,   -999.0,9,   -999.0,9,     7.57,2, -999.00,  -999.0, -999.00,  -999.0
    31DSCG96_2,  P15S,   113,  1,    116,   1211,2,19960218,2055,-31.9975,-169.9962, 5640,   -999,   2061.7,   2.2639,  34.6265,2,  34.6260,2,    148.4,2,  2.1181,    148.1,2,   112.86,2,    35.94,2,     0.00,2,     2.49,2, -999.000,9, -999.000,9,   -999.0,9,  -999.00,9,   -999.0,9,   -999.0,9,   -999.0,9,     7.57,2, -999.00,  -999.0, -999.00,  -999.0
    31DSCG96_2,  P15S,   113,  1,    115,   1041,2,19960218,2055,-31.9975,-169.9962, 5640,   -999,   2315.8,   2.1241,  34.6384,2,  34.6407,2,    146.6,2,  1.9583,    146.5,2,   119.45,2,    36.13,2,     0.00,2,     2.51,2, -999.000,9, -999.000,9,   -999.0,9,  -999.00,9,   -999.0,9,   -999.0,9,   -999.0,9,     7.57,2, -999.00,  -999.0, -999.00,  -999.0
    31DSCG96_2,  P15S,   113,  1,    114,   1017,2,19960218,2055,-31.9975,-169.9962, 5640,   -999,   2563.7,   1.9974,  34.6524,2,  34.6541,2,    146.7,2,  1.8113,    146.3,2,   124.57,2,    36.24,2,     0.00,2,     2.51,2, -999.000,9, -999.000,9,   -999.0,9,  -999.00,9,   -999.0,9,   -999.0,9,   -999.0,9,     7.57,2, -999.00,  -999.0, -999.00,  -999.0
    31DSCG96_2,  P15S,   113,  1,    113,   1302,2,19960218,2055,-31.9975,-169.9962, 5640,   -999,   2815.4,   1.8869,  34.6626,2,  34.6615,2,    148.1,2,  1.6794,    148.1,2,   127.90,2,    36.16,2,     0.00,2,     2.50,2, -999.000,9, -999.000,9,   -999.0,9,  -999.00,9,   -999.0,9,   -999.0,9,   -999.0,9,     7.57,2, -999.00,  -999.0, -999.00,  -999.0
    31DSCG96_2,  P15S,   113,  1,    112,   1217,2,19960218,2055,-31.9975,-169.9962, 5640,   -999,   3067.5,   1.7812,  34.6752,2,  34.6742,2,    154.0,2,  1.5516,    154.3,2,   127.62,2,    35.58,2,     0.00,2,     2.46,2, -999.000,9, -999.000,9,   -999.0,9,  -999.00,9,   -999.0,9,   -999.0,9,   -999.0,9,     7.58,2, -999.00,  -999.0, -999.00,  -999.0
    31DSCG96_2,  P15S,   113,  1,    111,   1114,2,19960218,2055,-31.9975,-169.9962, 5640,   -999,   3317.4,   1.6942,  34.6941,2,  34.6951,2,    168.5,2,  1.4417,    168.6,2,   119.53,2,    34.28,2,     0.00,2,     2.36,2, -999.000,9, -999.000,9,   -999.0,9,  -999.00,9,   -999.0,9,   -999.0,9,   -999.0,9,     7.59,2, -999.00,  -999.0, -999.00,  -999.0
    31DSCG96_2,  P15S,   113,  1,    110,   1301,2,19960218,2055,-31.9975,-169.9962, 5640,   -999,   3567.2,   1.5688,  34.7110,2,  34.7101,2,    184.0,2,  1.2938,    184.1,2,   112.80,2,    32.96,2,     0.00,2,     2.26,2, -999.000,9, -999.000,9,   -999.0,9,  -999.00,9,   -999.0,9,   -999.0,9,   -999.0,9,     7.60,2, -999.00,  -999.0, -999.00,  -999.0
    31DSCG96_2,  P15S,   113,  1,    109,   1119,2,19960218,2055,-31.9975,-169.9962, 5640,   -999,   3815.7,   1.4086,  34.7189,2,  34.7187,2,    194.5,2,  1.1117,    195.4,2,   110.92,2,    32.24,2,     0.00,2,     2.20,2,    0.002,2,    0.002,2,   -999.0,9,  -999.00,9,   -999.0,9,   -999.0,9,   -999.0,9,     7.61,2, -999.00,  -999.0, -999.00,  -999.0
    31DSCG96_2,  P15S,   113,  1,    108,   1227,2,19960218,2055,-31.9975,-169.9962, 5640,   -999,   4064.8,   1.2296,  34.7179,2,  34.7187,2,    200.3,2,  0.9111,    203.1,3,   113.70,2,    32.16,2,     0.00,2,     2.20,2, -999.000,9, -999.000,9,   -999.0,9,  -999.00,9,   -999.0,9,   -999.0,9,   -999.0,9,     7.61,2, -999.00,  -999.0, -999.00,  -999.0
    31DSCG96_2,  P15S,   113,  1,    107,   1263,2,19960218,2055,-31.9975,-169.9962, 5640,   -999,   4315.4,   1.1095,  34.7140,2,  34.7140,2,    202.9,2,  0.7671,    204.6,2,   116.94,2,    32.18,2,     0.00,2,     2.19,2,    0.006,2,    0.003,2,   -999.0,9,  -999.00,9,   -999.0,9,   -999.0,9,   -999.0,9,     7.61,2, -999.00,  -999.0, -999.00,  -999.0
    31DSCG96_2,  P15S,   113,  1,    106,   1262,2,19960218,2055,-31.9975,-169.9962, 5640,   -999,   4567.5,   1.0475,  34.7108,2,  34.7108,2,    204.6,2,  0.6788,    211.1,3,   119.29,2,    32.32,2,     0.00,2,     2.20,2, -999.000,9, -999.000,9,   -999.0,9,  -999.00,9,   -999.0,9,   -999.0,9,   -999.0,9,  -999.00,9, -999.00,  -999.0, -999.00,  -999.0
    31DSCG96_2,  P15S,   113,  1,    105,   1264,2,19960218,2055,-31.9975,-169.9962, 5640,   -999,   4813.4,   1.0290,  34.7089,2,  34.7082,2,    205.6,2,  0.6325,    210.0,3,   120.63,2,    32.23,2,     0.00,2,     2.21,2,    0.009,2,    0.004,2,   -999.0,9,  -999.00,9,   -999.0,9,   -999.0,9,   -999.0,9,     7.61,2, -999.00,  -999.0, -999.00,  -999.0
    31DSCG96_2,  P15S,   113,  1,    104,   1003,2,19960218,2055,-31.9975,-169.9962, 5640,   -999,   5060.6,   1.0340,  34.7078,2,  34.7077,2,    206.1,2,  0.6081,    206.8,2,   121.28,2,    32.33,2,     0.00,2,     2.21,2, -999.000,9, -999.000,9,   -999.0,9,  -999.00,9,   -999.0,9,   -999.0,9,   -999.0,9,     7.61,2, -999.00,  -999.0, -999.00,  -999.0
    31DSCG96_2,  P15S,   113,  1,    103,    999,2,19960218,2055,-31.9975,-169.9962, 5640,   -999,   5322.7,   1.0587,  34.7076,2,  34.7081,2,    206.3,2,  0.6001,    207.9,3,   121.52,2,    32.38,2,     0.00,2,     2.21,2,    0.011,2,    0.005,2,   -999.0,9,  -999.00,9,   -999.0,9,   -999.0,9,   -999.0,9,     7.61,2, -999.00,  -999.0, -999.00,  -999.0
    31DSCG96_2,  P15S,   113,  1,    102,   1030,2,19960218,2055,-31.9975,-169.9962, 5640,   -999,   5601.0,   1.0904,  34.7071,2,  34.7069,2,    206.7,2,  0.5958,    212.7,3,   121.74,2,    32.36,2,     0.00,2,     2.21,2,    0.014,2,    0.012,2,   -999.0,9,  -999.00,9,   -999.0,9,   -999.0,9,   -999.0,9,     7.61,2, -999.00,  -999.0, -999.00,  -999.0
    31DSCG96_2,  P15S,   113,  1,    101,   1022,2,19960218,2055,-31.9975,-169.9962, 5640,   -999,   5788.7,   1.1158,  34.7067,2,  34.7070,2,    207.1,2,  0.5962,    210.3,3,   121.70,6,    32.33,6,     0.00,6,     2.21,6,    0.015,6,    0.010,6,   -999.0,9,  -999.00,9,   -999.0,9,   -999.0,9,   -999.0,9,     7.61,2, -999.00,  -999.0, -999.00,  -999.0