BOTTLE,20220811CCHSIOAMB
EXPOCODE,SECT_ID,STNNBR,CASTNO,SAMPNO,BTLNBR,BTLNBR_FLAG_W,DATE,TIME,LATITUDE,LONGITUDE,DEPTH,CTDRAW,CTDPRS,CTDTMP,CTDSAL,CTDSAL_FLAG_W,SALNTY,SALNTY_FLAG_W,CTDOXY,CTDOXY_FLAG_W,THETA,OXYGEN,OXYGEN_FLAG_W,SILCAT,SILCAT_FLAG_W,NITRAT,NITRAT_FLAG_W,NITRIT,NITRIT_FLAG_W,PHSPHT,PHSPHT_FLAG_W,CFC-11,CFC-11_FLAG_W,CFC-12,CFC-12_FLAG_W,DELC14,DELC14_FLAG_W,DELC13,DELC13_FLAG_W,TCARBN,TCARBN_FLAG_W,PCO2,PCO2_FLAG_W,ALKALI,ALKALI_FLAG_W,PH,PH_FLAG_W,PCO2TMP,C14ERR,PH_TMP,C13ERR
,,,,,,,,,,,,DBAR,DBAR,ITS-90,PSS-78,,PSS-78,,UMOL/KG,,DEG C,UMOL/KG,,UMOL/KG,,UMOL/KG,,UMOL/KG,,UMOL/KG,,PMOL/KG,,PMOL/KG,,/MILLE,,/MILLE,,UMOL/KG,,UATM,,UMOL/KG,,,,DEG C,/MILLE,DEG C,/MILLE
    31DSCG96_2,  P15S,   158,  1,    136,   1245,2,19960301,1345,-10.5013,-169.9970, 4858,   -999,      4.8,  29.2695,  34.6892,2,  34.6861,2,    197.9,2, 29.2684,    193.5,2,     1.42,2,     0.00,2,     0.01,2,     0.16,2, -999.000,9, -999.000,9,     93.7,2,  -999.00,9,   1917.1,2,    234.6,3,   2283.9,2,     8.15,2, -999.00,     3.3, -999.00,  -999.0
    31DSCG96_2,  P15S,   158,  1,    135,   1113,2,19960301,1345,-10.5013,-169.9970, 4858,   -999,     18.6,  29.3023,  34.7100,2,  34.7094,2,    193.2,2, 29.2978,    193.4,2,     1.53,2,     0.03,2,     0.01,2,     0.17,2, -999.000,9, -999.000,9,   -999.0,9,  -999.00,9,   1919.7,2,    241.1,3,   2282.8,2,     8.15,2, -999.00,  -999.0, -999.00,  -999.0
    31DSCG96_2,  P15S,   158,  1,    134,   1267,2,19960301,1345,-10.5013,-169.9970, 4858,   -999,     49.0,  29.5040,  34.8560,2,  34.8584,2,    193.2,2, 29.4921,    193.9,2,     1.43,2,     0.00,2,     0.00,2,     0.17,2, -999.000,9, -999.000,9,   -999.0,9,  -999.00,9,   1928.7,2,    248.6,3,   2292.0,2,     8.15,2, -999.00,  -999.0, -999.00,  -999.0
    31DSCG96_2,  P15S,   158,  1,    133,   1021,2,19960301,1345,-10.5013,-169.9970, 4858,   -999,     69.2,  29.5094,  34.9700,2,  34.9672,2,    192.8,2, 29.4925,    194.1,2,     1.54,2,     0.06,2,     0.01,2,     0.21,2, -999.000,9, -999.000,9,   -999.0,9,  -999.00,9,   -999.0,9,   -999.0,9,   -999.0,9,     8.14,2, -999.00,  -999.0, -999.00,  -999.0
    31DSCG96_2,  P15S,   158,  1,    132,   1039,2,19960301,1345,-10.5013,-169.9970, 4858,   -999,     96.0,  29.1593,  35.4197,2,  35.4188,2,    175.3,2, 29.1360,    186.7,2,     1.69,2,     0.52,2,     0.14,2,     0.30,2, -999.000,9, -999.000,9,   -999.0,9,  -999.00,9,   -999.0,9,   -999.0,9,   -999.0,9,     8.10,2, -999.00,  -999.0, -999.00,  -999.0
    31DSCG96_2,  P15S,   158,  1,    131,   1014,2,19960301,1345,-10.5013,-169.9970, 4858,   -999,    119.0,  27.0484,  35.8760,2,  35.8639,2,    147.0,2, 27.0210,    147.9,2,     2.13,2,     4.02,2,     1.27,2,     0.58,2, -999.000,9, -999.000,9,   -999.0,9,  -999.00,9,   -999.0,9,   -999.0,9,   -999.0,9,     8.03,2, -999.00,  -999.0, -999.00,  -999.0
    31DSCG96_2,  P15S,   158,  1,    130,   1257,2,19960301,1345,-10.5013,-169.9970, 4858,   -999,    145.2,  25.2566,  36.1907,2,  36.1941,2,    141.9,2, 25.2248,    142.6,2,     1.84,2,     5.82,2,     0.12,2,     0.62,2, -999.000,9, -999.000,9,   -999.0,9,  -999.00,9,   -999.0,9,   -999.0,9,   -999.0,9,     8.01,2, -999.00,  -999.0, -999.00,  -999.0
    31DSCG96_2,  P15S,   158,  1,    129,   1256,2,19960301,1345,-10.5013,-169.9970, 4858,   -999,    191.3,  23.2207,  36.1700,2,  36.1742,2,    144.1,2, 23.1812,    146.6,2,     1.84,2,     6.14,2,     0.02,2,     0.65,2, -999.000,9, -999.000,9,   -999.0,9,  -999.00,9,   -999.0,9,   -999.0,9,   -999.0,9,     7.98,2, -999.00,  -999.0, -999.00,  -999.0
    31DSCG96_2,  P15S,   158,  1,    128,   1007,2,19960301,1345,-10.5013,-169.9970, 4858,   -999,    242.5,  20.2468,  35.8316,2,  35.8420,2,    137.0,2, 20.2013,    142.2,2,     2.82,2,     8.29,2,     0.01,2,     0.80,2, -999.000,9, -999.000,9,   -999.0,9,  -999.00,9,   -999.0,9,   -999.0,9,   -999.0,9,     7.92,2, -999.00,  -999.0, -999.00,  -999.0
    31DSCG96_2,  P15S,   158,  1,    127,   1232,2,19960301,1345,-10.5013,-169.9970, 4858,   -999,    292.5,  17.0842,  35.4161,2,  35.4187,2,    124.8,2, 17.0355,   -999.0,9,     5.75,2,    12.51,2,     0.01,2,     1.11,2, -999.000,9, -999.000,9,   -999.0,9,  -999.00,9,   -999.0,9,   -999.0,9,   -999.0,9,     7.84,2, -999.00,  -999.0, -999.00,  -999.0
    31DSCG96_2,  P15S,   158,  1,    126,   1025,2,19960301,1345,-10.5013,-169.9970, 4858,   -999,    332.6,  14.4699,  35.1206,2,  35.1291,2,     99.0,2, 14.4204,    101.6,2,    10.47,2,    18.40,2,     0.01,2,     1.50,2, -999.000,9, -999.000,9,   -999.0,9,  -999.00,9,   -999.0,9,   -999.0,9,   -999.0,9,     7.74,2, -999.00,  -999.0, -999.00,  -999.0
    31DSCG96_2,  P15S,   158,  1,    125,   1119,2,19960301,1345,-10.5013,-169.9970, 4858,   -999,    390.6,  11.1851,  34.8039,2,  34.8039,2,     97.5,2, 11.1361,     95.7,6,    17.56,2,    24.98,2,     0.01,2,     1.88,2, -999.000,9, -999.000,9,   -999.0,9,  -999.00,9,   -999.0,9,   -999.0,9,   -999.0,9,     7.64,2, -999.00,  -999.0, -999.00,  -999.0
    31DSCG96_2,  P15S,   158,  1,    124,   1244,2,19960301,1345,-10.5013,-169.9970, 4858,   -999,    476.2,   8.1725,  34.5960,2,  34.6010,2,    117.6,2,  8.1231,    116.7,2,    26.92,2,    29.94,2,     0.00,2,     2.12,2, -999.000,9, -999.000,9,   -999.0,9,  -999.00,9,   -999.0,9,   -999.0,9,   -999.0,9,     7.60,2, -999.00,  -999.0, -999.00,  -999.0
    31DSCG96_2,  P15S,   158,  1,    123,   1250,2,19960301,1345,-10.5013,-169.9970, 4858,   -999,    577.8,   6.8595,  34.5397,2,  34.5381,2,    123.0,2,  6.8049,    118.7,2,    36.10,2,    32.87,2,     0.00,2,     2.30,2, -999.000,9, -999.000,9,   -999.0,9,  -999.00,9,   -999.0,9,   -999.0,9,   -999.0,9,     7.57,2, -999.00,  -999.0, -999.00,  -999.0
    31DSCG96_2,  P15S,   158,  1,    122,   1265,2,19960301,1345,-10.5013,-169.9970, 4858,   -999,    675.7,   6.0661,  34.5197,2,  34.5188,2,    115.7,2,  6.0059,    112.1,2,    44.83,2,    35.19,2,     0.00,2,     2.46,2, -999.000,9, -999.000,9,   -999.0,9,  -999.00,9,   -999.0,9,   -999.0,9,   -999.0,9,     7.54,2, -999.00,  -999.0, -999.00,  -999.0
    31DSCG96_2,  P15S,   158,  1,    121,   1246,2,19960301,1345,-10.5013,-169.9970, 4858,   -999,    778.6,   5.4300,  34.5116,2,  34.5108,2,    117.0,2,  5.3638,    113.3,2,    53.27,2,    36.16,2,     0.00,2,     2.53,2, -999.000,9, -999.000,9,   -999.0,9,  -999.00,9,   -999.0,9,   -999.0,9,   -999.0,9,     7.54,2, -999.00,  -999.0, -999.00,  -999.0
    31DSCG96_2,  P15S,   158,  1,    120,   1015,2,19960301,1345,-10.5013,-169.9970, 4858,   -999,    876.2,   4.9035,  34.5141,2,  34.5140,2,    117.7,2,  4.8319,    115.5,2,    61.89,2,    36.68,2,     0.00,2,     2.57,2, -999.000,9, -999.000,9,   -999.0,9,  -999.00,9,   -999.0,9,   -999.0,9,   -999.0,9,     7.53,2, -999.00,  -999.0, -999.00,  -999.0
    31DSCG96_2,  P15S,   158,  1,    119,   1247,2,19960301,1345,-10.5013,-169.9970, 4858,   -999,    975.5,   4.5001,  34.5227,2,  34.5240,2,    118.6,2,  4.4227,    117.2,6,    69.53,2,    36.94,2,     0.00,2,     2.60,2, -999.000,9, -999.000,9,   -999.0,9,  -999.00,9,   -999.0,9,   -999.0,9,   -999.0,9,     7.53,2, -999.00,  -999.0, -999.00,  -999.0
    31DSCG96_2,  P15S,   158,  1,    118,   1299,2,19960301,1345,-10.5013,-169.9970, 4858,   -999,   1074.9,   4.1428,  34.5328,2,  34.5329,2,    119.9,2,  4.0597,    119.4,2,    76.87,2,    37.03,2,     0.00,2,     2.61,2, -999.000,9, -999.000,9,   -999.0,9,  -999.00,9,   -999.0,9,   -999.0,9,   -999.0,9,     7.53,2, -999.00,  -999.0, -999.00,  -999.0
    31DSCG96_2,  P15S,   158,  1,    117,   1242,2,19960301,1345,-10.5013,-169.9970, 4858,   -999,   1177.1,   3.7750,  34.5455,2,  34.5437,2,    121.1,2,  3.6863,    122.4,2,    83.97,2,    36.99,2,     0.00,2,     2.61,2, -999.000,9, -999.000,9,   -999.0,9,  -999.00,9,   -999.0,9,   -999.0,9,   -999.0,9,     7.54,2, -999.00,  -999.0, -999.00,  -999.0
    31DSCG96_2,  P15S,   158,  1,    116,   1259,2,19960301,1345,-10.5013,-169.9970, 4858,   -999,   1275.8,   3.3745,  34.5630,2,  34.5620,2,    125.8,2,  3.2813,    126.9,2,    92.62,2,    36.80,2,     0.00,2,     2.60,2, -999.000,9, -999.000,9,   -999.0,9,  -999.00,9,   -999.0,9,   -999.0,9,   -999.0,9,     7.54,2, -999.00,  -999.0, -999.00,  -999.0
    31DSCG96_2,  P15S,   158,  1,    115,   1041,2,19960301,1345,-10.5013,-169.9970, 4858,   -999,   1450.5,   2.9887,  34.5837,2,  34.5834,2,    129.1,2,  2.8851,    129.5,6,   101.48,2,    36.92,2,     0.00,2,     2.60,2, -999.000,9, -999.000,9,   -999.0,9,  -999.00,9,   -999.0,9,   -999.0,9,   -999.0,9,     7.55,2, -999.00,  -999.0, -999.00,  -999.0
    31DSCG96_2,  P15S,   158,  1,    114,   1017,2,19960301,1345,-10.5013,-169.9970, 4858,   -999,   1691.8,   2.5754,  34.6083,2,  34.6073,2,    134.4,2,  2.4567,    134.7,2,   111.18,2,    36.66,2,     0.00,2,     2.58,2, -999.000,9, -999.000,9,   -999.0,9,  -999.00,9,   -999.0,9,   -999.0,9,   -999.0,9,     7.55,2, -999.00,  -999.0, -999.00,  -999.0
    31DSCG96_2,  P15S,   158,  1,    113,   1302,2,19960301,1345,-10.5013,-169.9970, 4858,   -999,   1942.7,   2.2304,  34.6332,2,  34.6321,2,    136.5,2,  2.0954,    137.1,2,   121.10,2,    36.66,2,     0.00,2,     2.56,2, -999.000,9, -999.000,9,   -999.0,9,  -999.00,9,   -999.0,9,   -999.0,9,   -999.0,9,     7.56,2, -999.00,  -999.0, -999.00,  -999.0
    31DSCG96_2,  P15S,   158,  1,    112,   1217,2,19960301,1345,-10.5013,-169.9970, 4858,   -999,   2189.7,   2.0215,  34.6491,2,  34.6485,2,    139.7,2,  1.8685,    141.0,2,   126.36,2,    36.41,2,     0.00,2,     2.54,2, -999.000,9, -999.000,9,   -999.0,9,  -999.00,9,   -999.0,9,   -999.0,9,   -999.0,9,     7.56,2, -999.00,  -999.0, -999.00,  -999.0
    31DSCG96_2,  P15S,   158,  1,    111,   1226,2,19960301,1345,-10.5013,-169.9970, 4858,   -999,   2441.2,   1.8532,  34.6627,2,  34.6619,2,    140.8,2,  1.6809,    142.2,2,   132.80,2,    36.39,2,     0.00,2,     2.54,2, -999.000,9, -999.000,9,   -999.0,9,  -999.00,9,   -999.0,9,   -999.0,9,   -999.0,9,     7.57,2, -999.00,  -999.0, -999.00,  -999.0
    31DSCG96_2,  P15S,   158,  1,    110,   1301,2,19960301,1345,-10.5013,-169.9970, 4858,   -999,   2690.8,   1.7587,  34.6702,2,  34.6679,2,    146.5,2,  1.5655,    146.4,2,   134.27,2,    36.18,2,     0.00,2,     2.52,2, -999.000,9, -999.000,9,   -999.0,9,  -999.00,9,   -999.0,9,   -999.0,9,   -999.0,9,     7.57,2, -999.00,  -999.0, -999.00,  -999.0
    31DSCG96_2,  P15S,   158,  1,    109,   1031,2,19960301,1345,-10.5013,-169.9970, 4858,   -999,   2938.8,   1.6839,  34.6754,2,  34.6734,2,    150.6,2,  1.4689,    149.7,2,   134.66,2,    35.92,2,     0.00,2,     2.50,2, -999.000,9, -999.000,9,   -999.0,9,  -999.00,9,   -999.0,9,   -999.0,9,   -999.0,9,     7.58,2, -999.00,  -999.0, -999.00,  -999.0
    31DSCG96_2,  P15S,   158,  1,    108,   1227,2,19960301,1345,-10.5013,-169.9970, 4858,   -999,   3190.5,   1.6225,  34.6799,2,  34.6783,2,    154.4,2,  1.3845,    154.3,2,   135.20,2,    35.67,2,     0.00,2,     2.47,2, -999.000,9, -999.000,9,   -999.0,9,  -999.00,9,   -999.0,9,   -999.0,9,   -999.0,9,     7.58,2, -999.00,  -999.0, -999.00,  -999.0
    31DSCG96_2,  P15S,   158,  1,    107,   1263,2,19960301,1345,-10.5013,-169.9970, 4858,   -999,   3440.5,   1.5533,  34.6842,2,  34.6842,2,    158.7,2,  1.2918,    159.2,2,   134.88,2,    35.35,2,     0.00,2,     2.46,2,    0.001,2,    0.001,2,   -999.0,9,  -999.00,9,   -999.0,9,   -999.0,9,   -999.0,9,     7.59,2, -999.00,  -999.0, -999.00,  -999.0
    31DSCG96_2,  P15S,   158,  1,    106,   1262,2,19960301,1345,-10.5013,-169.9970, 4858,   -999,   3690.9,   1.4978,  34.6884,2,  34.6877,2,    163.5,2,  1.2119,    163.6,2,   134.47,2,    35.05,2,     0.00,2,     2.43,3, -999.000,9, -999.000,9,   -999.0,9,  -999.00,9,   -999.0,9,   -999.0,9,   -999.0,9,     7.59,2, -999.00,  -999.0, -999.00,  -999.0
    31DSCG96_2,  P15S,   158,  1,    105,   1264,2,19960301,1345,-10.5013,-169.9970, 4858,   -999,   3943.1,   1.4212,  34.6935,2,  34.6909,2,    170.8,2,  1.1105,    171.4,2,   132.25,2,    34.50,2,     0.00,2,     2.41,3,   -0.002,2,    0.000,2,   -999.0,9,  -999.00,9,   -999.0,9,   -999.0,9,   -999.0,9,     7.60,2, -999.00,  -999.0, -999.00,  -999.0
    31DSCG96_2,  P15S,   158,  1,    104,   1003,2,19960301,1345,-10.5013,-169.9970, 4858,   -999,   4188.9,   1.3057,  34.7017,2,  34.7002,2,    185.1,2,  0.9715,    185.1,6,   125.61,2,    33.45,2,     0.00,2,     2.32,3, -999.000,9, -999.000,9,   -999.0,9,  -999.00,9,   -999.0,9,   -999.0,9,   -999.0,9,     7.60,2, -999.00,  -999.0, -999.00,  -999.0
    31DSCG96_2,  P15S,   158,  1,    103,   1035,2,19960301,1345,-10.5013,-169.9970, 4858,   -999,   4437.8,   1.1407,  34.7067,2,  34.7052,2,    197.6,2,  0.7837,    197.8,2,   122.22,2,    32.68,2,     0.00,2,     2.27,3,    0.001,2,    0.001,2,   -999.0,9,  -999.00,9,   -999.0,9,   -999.0,9,   -999.0,9,     7.61,2, -999.00,  -999.0, -999.00,  -999.0
    31DSCG96_2,  P15S,   158,  1,    102,   1030,2,19960301,1345,-10.5013,-169.9970, 4858,   -999,   4689.0,   1.0351,  34.7097,2,  34.7077,2,    205.6,2,  0.6529,    205.7,2,   120.21,2,    32.03,2,     0.00,2,     2.20,2,    0.006,6,    0.002,6,   -999.0,9,  -999.00,9,   -999.0,9,   -999.0,9,   -999.0,9,     7.61,3, -999.00,  -999.0, -999.00,  -999.0
    31DSCG96_2,  P15S,   158,  1,    101,   1022,2,19960301,1345,-10.5013,-169.9970, 4858,   -999,   4960.6,   1.0625,  34.7093,2,  34.7081,2,    206.2,2,  0.6475,    205.9,2,   120.45,6,    32.17,6,     0.00,6,     2.20,6,    0.005,2,    0.010,4,   -999.0,9,  -999.00,9,   -999.0,9,   -999.0,9,   -999.0,9,     7.61,2, -999.00,  -999.0, -999.00,  -999.0