BOTTLE,20220811CCHSIOAMB
EXPOCODE,SECT_ID,STNNBR,CASTNO,SAMPNO,BTLNBR,BTLNBR_FLAG_W,DATE,TIME,LATITUDE,LONGITUDE,DEPTH,CTDRAW,CTDPRS,CTDTMP,CTDSAL,CTDSAL_FLAG_W,SALNTY,SALNTY_FLAG_W,CTDOXY,CTDOXY_FLAG_W,THETA,OXYGEN,OXYGEN_FLAG_W,SILCAT,SILCAT_FLAG_W,NITRAT,NITRAT_FLAG_W,NITRIT,NITRIT_FLAG_W,PHSPHT,PHSPHT_FLAG_W,CFC-11,CFC-11_FLAG_W,CFC-12,CFC-12_FLAG_W,DELC14,DELC14_FLAG_W,DELC13,DELC13_FLAG_W,TCARBN,TCARBN_FLAG_W,PCO2,PCO2_FLAG_W,ALKALI,ALKALI_FLAG_W,PH,PH_FLAG_W,PCO2TMP,C14ERR,PH_TMP,C13ERR
,,,,,,,,,,,,DBAR,DBAR,ITS-90,PSS-78,,PSS-78,,UMOL/KG,,DEG C,UMOL/KG,,UMOL/KG,,UMOL/KG,,UMOL/KG,,UMOL/KG,,PMOL/KG,,PMOL/KG,,/MILLE,,/MILLE,,UMOL/KG,,UATM,,UMOL/KG,,,,DEG C,/MILLE,DEG C,/MILLE
    31DSCG96_2,  P15S,   147,  1,    136,   1245,2,19960228,0250,-15.0030,-170.0000, 4803,   -999,      4.0,  29.3732,  34.7873,2,  34.7860,2,    196.1,2, 29.3722,    195.5,6,     1.49,2,     0.02,2,     0.00,2,     0.09,2,    1.564,2,    0.902,2,     93.4,2,  -999.00,9,   1915.5,2,    223.7,6,   2287.4,2,     8.16,2, -999.00,     3.3, -999.00,  -999.0
    31DSCG96_2,  P15S,   147,  1,    135,   1113,2,19960228,0250,-15.0030,-170.0000, 4803,   -999,     28.4,  29.2526,  34.7841,2,  34.7838,2,    195.0,2, 29.2457,    196.1,2,     1.59,2,     0.02,2,     0.00,2,     0.10,2, -999.000,9, -999.000,9,   -999.0,9,  -999.00,9,   -999.0,9,   -999.0,9,   -999.0,9,  -999.00,9, -999.00,  -999.0, -999.00,  -999.0
    31DSCG96_2,  P15S,   147,  1,    134,   1267,2,19960228,0250,-15.0030,-170.0000, 4803,   -999,     55.1,  28.9249,  35.0691,2,  35.0774,2,    204.3,2, 28.9116,    203.9,2,     1.47,2,     0.02,2,     0.00,2,     0.11,2,    1.627,2,    0.926,2,   -999.0,9,  -999.00,9,   1932.1,2,    229.2,2,   2306.3,2,     8.15,2, -999.00,  -999.0, -999.00,  -999.0
    31DSCG96_2,  P15S,   147,  1,    133,   1221,2,19960228,0250,-15.0030,-170.0000, 4803,   -999,     79.2,  27.9671,  35.6615,2,  35.6458,2,    201.2,2, 27.9484,    201.6,2,     1.48,2,     0.02,2,     0.00,2,     0.16,2, -999.000,9, -999.000,9,   -999.0,9,  -999.00,9,   -999.0,9,   -999.0,9,   -999.0,9,  -999.00,9, -999.00,  -999.0, -999.00,  -999.0
    31DSCG96_2,  P15S,   147,  1,    132,   1039,2,19960228,0250,-15.0030,-170.0000, 4803,   -999,    104.0,  26.5115,  36.1027,2,  36.0992,2,    190.3,2, 26.4879,    188.2,2,     1.50,2,     0.01,2,     0.00,2,     0.23,2,    1.769,2,    0.980,2,   -999.0,9,  -999.00,9,   2027.9,2,    277.9,2,   2377.0,2,     8.09,2, -999.00,  -999.0, -999.00,  -999.0
    31DSCG96_2,  P15S,   147,  1,    131,   1014,2,19960228,0250,-15.0030,-170.0000, 4803,   -999,    128.0,  25.2442,  36.2797,2,  36.2773,2,    173.0,2, 25.2161,    168.3,2,     1.60,2,     1.44,2,     0.41,2,     0.38,2, -999.000,9, -999.000,9,   -999.0,9,  -999.00,9,   2061.8,2,    319.8,2,   2383.8,2,     8.05,2, -999.00,  -999.0, -999.00,  -999.0
    31DSCG96_2,  P15S,   147,  1,    130,   1257,2,19960228,0250,-15.0030,-170.0000, 4803,   -999,    154.4,  23.9482,  36.2307,2,  36.1856,3,    162.9,2, 23.9156,    164.4,2,     1.53,2,     2.77,2,     0.17,2,     0.43,2,    1.863,2,    1.012,2,   -999.0,9,  -999.00,9,   2075.9,2,    347.1,2,   2382.4,2,     8.02,2, -999.00,  -999.0, -999.00,  -999.0
    31DSCG96_2,  P15S,   147,  1,    129,   1256,2,19960228,0250,-15.0030,-170.0000, 4803,   -999,    179.1,  22.6960,  36.1047,2,  36.1037,2,    161.9,2, 22.6596,    163.9,2,     1.55,2,     3.57,2,     0.03,2,     0.47,2, -999.000,9, -999.000,9,   -999.0,9,  -999.00,9,   2079.5,2,    367.9,2,   2375.6,2,     8.00,2, -999.00,  -999.0, -999.00,  -999.0
    31DSCG96_2,  P15S,   147,  1,    128,   1007,2,19960228,0250,-15.0030,-170.0000, 4803,   -999,    215.9,  21.2476,  35.9622,2,  35.9708,2,    159.3,2, 21.2057,    161.6,2,     1.81,2,     4.99,2,     0.01,2,     0.56,2,    1.901,2,    1.019,2,   -999.0,9,  -999.00,9,   2105.8,2,    411.4,2,   2369.3,2,     7.97,2, -999.00,  -999.0, -999.00,  -999.0
    31DSCG96_2,  P15S,   147,  1,    127,   1232,2,19960228,0250,-15.0030,-170.0000, 4803,   -999,    264.7,  19.2510,  35.6862,2,  35.6788,2,    156.5,2, 19.2031,    156.1,2,     2.76,2,     7.26,2,     0.01,2,     0.73,2,    1.836,2,    0.958,2,   -999.0,9,  -999.00,9,   2129.4,3,    456.4,2,   2351.1,2,     7.92,2, -999.00,  -999.0, -999.00,  -999.0
    31DSCG96_2,  P15S,   147,  1,    126,   1025,2,19960228,0250,-15.0030,-170.0000, 4803,   -999,    315.8,  15.5975,  35.2099,2,  35.2048,2,    142.9,2, 15.5481,    139.2,2,     6.38,2,    12.78,2,     0.00,2,     1.10,2,    1.377,2,    0.710,2,   -999.0,9,  -999.00,9,   2150.6,3,    588.8,2,   2323.3,2,     7.82,2, -999.00,  -999.0, -999.00,  -999.0
    31DSCG96_2,  P15S,   147,  1,    125,   1119,2,19960228,0250,-15.0030,-170.0000, 4803,   -999,    367.5,  12.6457,  34.8946,2,  34.8896,2,    136.9,2, 12.5958,    130.1,6,    10.78,2,    18.33,2,     0.00,2,     1.46,2, -999.000,9, -999.000,9,   -999.0,9,  -999.00,9,   2166.9,2,    726.9,3,   2306.0,2,     7.74,3, -999.00,  -999.0, -999.00,  -999.0
    31DSCG96_2,  P15S,   147,  1,    124,   1244,2,19960228,0250,-15.0030,-170.0000, 4803,   -999,    425.2,  10.0430,  34.6611,2,  34.6648,2,    130.3,2,  9.9932,    135.9,2,    14.97,2,    23.16,2,     0.00,2,     1.73,2,    0.528,2,    0.268,2,   -999.0,9,  -999.00,9,   2166.2,2,    852.6,2,   2298.7,2,     7.68,2, -999.00,  -999.0, -999.00,  -999.0
    31DSCG96_2,  P15S,   147,  1,    123,   1250,2,19960228,0250,-15.0030,-170.0000, 4803,   -999,    524.4,   7.4652,  34.4792,2,  34.4773,2,    162.3,2,  7.4135,    165.1,2,    19.70,2,    26.99,2,     0.00,2,     1.90,2,    0.295,2,    0.153,2,   -999.0,9,  -999.00,9,   2175.8,2,    918.7,2,   2294.3,2,     7.65,2, -999.00,  -999.0, -999.00,  -999.0
    31DSCG96_2,  P15S,   147,  1,    122,   1265,2,19960228,0250,-15.0030,-170.0000, 4803,   -999,    624.1,   6.0661,  34.4163,2,  34.4144,2,    171.5,2,  6.0108,    173.1,2,    27.23,2,    29.68,2,     0.00,2,     2.05,2,    0.141,2,    0.073,2,   -999.0,9,  -999.00,9,   2187.2,2,    977.0,2,   2300.0,2,     7.63,2, -999.00,  -999.0, -999.00,  -999.0
    31DSCG96_2,  P15S,   147,  1,    121,   1246,2,19960228,0250,-15.0030,-170.0000, 4803,   -999,    725.6,   5.3152,  34.4310,2,  34.4297,2,    162.1,2,  5.2546,    161.4,2,    39.29,2,    32.02,2,     0.00,2,     2.22,2,    0.055,2,    0.028,2,   -999.0,9,  -999.00,9,   2210.4,2,   1064.0,2,   2310.2,2,     7.61,2, -999.00,  -999.0, -999.00,  -999.0
    31DSCG96_2,  P15S,   147,  1,    120,   1015,2,19960228,0250,-15.0030,-170.0000, 4803,   -999,    829.0,   4.7780,  34.4723,2,  34.4689,2,    148.9,2,  4.7114,    147.3,2,    53.59,2,    33.97,2,     0.00,2,     2.36,2,    0.024,2,    0.009,2,   -999.0,9,  -999.00,9,   2233.8,2,   1150.8,2,   2326.1,2,     7.58,2, -999.00,  -999.0, -999.00,  -999.0
    31DSCG96_2,  P15S,   147,  1,    119,   1247,2,19960228,0250,-15.0030,-170.0000, 4803,   -999,    929.0,   4.2831,  34.4905,2,  34.4893,2,    144.3,2,  4.2113,    144.2,2,    63.66,2,    34.76,3,     0.00,2,     2.44,2,    0.009,2,    0.002,2,   -999.0,9,  -999.00,9,   2247.1,2,   1211.9,2,   2333.5,2,     7.57,2, -999.00,  -999.0, -999.00,  -999.0
    31DSCG96_2,  P15S,   147,  1,    118,   1299,2,19960228,0250,-15.0030,-170.0000, 4803,   -999,   1018.7,   3.9257,  34.5103,2,  34.5089,2,    140.8,2,  3.8490,    140.8,2,    72.22,2,    35.38,2,     0.00,2,     2.47,2, -999.000,9, -999.000,9,   -999.0,9,  -999.00,9,   2258.1,2,   1201.1,2,   2347.7,2,     7.56,2, -999.00,  -999.0, -999.00,  -999.0
    31DSCG96_2,  P15S,   147,  1,    117,   1242,2,19960228,0250,-15.0030,-170.0000, 4803,   -999,   1121.0,   3.6201,  34.5345,2,  34.5333,2,    138.1,2,  3.5375,    137.5,2,    80.88,2,    35.96,2,     0.00,2,     2.51,2,    0.001,2,    0.000,2,   -999.0,9,  -999.00,9,   2269.7,2,   1227.2,2,   2365.3,3,     7.56,2, -999.00,  -999.0, -999.00,  -999.0
    31DSCG96_2,  P15S,   147,  1,    116,   1259,2,19960228,0250,-15.0030,-170.0000, 4803,   -999,   1223.4,   3.3369,  34.5476,2,  34.5462,2,    137.8,2,  3.2484,    138.7,2,    86.53,2,    36.14,2,     0.00,2,     2.52,2, -999.000,9, -999.000,9,   -999.0,9,  -999.00,9,   2275.6,2,   1229.0,2,   -999.0,9,     7.56,2, -999.00,  -999.0, -999.00,  -999.0
    31DSCG96_2,  P15S,   147,  1,    115,   1041,2,19960228,0250,-15.0030,-170.0000, 4803,   -999,   1318.4,   3.1107,  34.5637,2,  34.5625,2,    138.6,2,  3.0166,    138.4,2,    92.44,2,    36.28,2,     0.00,2,     2.53,2,    0.000,2,    0.001,2,   -999.0,9,  -999.00,9,   2281.7,2,   1233.0,2,   2366.4,2,     7.56,2, -999.00,  -999.0, -999.00,  -999.0
    31DSCG96_2,  P15S,   147,  1,    114,   1017,2,19960228,0250,-15.0030,-170.0000, 4803,   -999,   1564.7,   2.6891,  34.5922,2,  34.5909,2,    139.5,2,  2.5795,    142.0,2,   102.82,2,    36.30,2,     0.00,2,     2.52,2, -999.000,9, -999.000,9,   -999.0,9,  -999.00,9,   2291.3,2,   1229.0,2,   2377.8,2,     7.56,2, -999.00,  -999.0, -999.00,  -999.0
    31DSCG96_2,  P15S,   147,  1,    113,   1302,2,19960228,0250,-15.0030,-170.0000, 4803,   -999,   1814.0,   2.3729,  34.6163,2,  34.6142,2,    143.4,2,  2.2467,    145.3,2,   110.81,2,    36.14,2,     0.00,2,     2.52,2,   -0.001,2,    0.000,2,   -999.0,9,  -999.00,9,   2297.9,2,   1218.6,2,   2389.9,2,     7.57,2, -999.00,  -999.0, -999.00,  -999.0
    31DSCG96_2,  P15S,   147,  1,    112,   1217,2,19960228,0250,-15.0030,-170.0000, 4803,   -999,   2063.2,   2.1648,  34.6346,2,  34.6341,2,    145.4,2,  2.0204,    146.5,6,   117.13,2,    36.13,2,     0.00,2,     2.51,2, -999.000,9, -999.000,9,   -999.0,9,  -999.00,9,   2301.6,2,   1215.6,2,   2391.8,2,     7.57,2, -999.00,  -999.0, -999.00,  -999.0
    31DSCG96_2,  P15S,   147,  1,    111,   1226,2,19960228,0250,-15.0030,-170.0000, 4803,   -999,   2316.5,   2.0062,  34.6493,2,  34.6483,2,    146.8,2,  1.8423,    147.5,2,   122.91,2,    36.08,2,     0.00,2,     2.52,3,   -0.001,2,    0.000,2,   -999.0,9,  -999.00,9,   2307.4,2,   1211.2,2,   2401.5,2,     7.57,2, -999.00,  -999.0, -999.00,  -999.0
    31DSCG96_2,  P15S,   147,  1,    110,   1301,2,19960228,0250,-15.0030,-170.0000, 4803,   -999,   2566.2,   1.8886,  34.6605,2,  34.6614,2,    148.1,2,  1.7043,    148.3,2,   127.38,2,    36.11,2,     0.00,2,     2.50,2, -999.000,9, -999.000,9,   -999.0,9,  -999.00,9,   2312.1,2,   1234.4,2,   2405.4,2,     7.57,2, -999.00,  -999.0, -999.00,  -999.0
    31DSCG96_2,  P15S,   147,  1,    109,   1031,2,19960228,0250,-15.0030,-170.0000, 4803,   -999,   2812.9,   1.8015,  34.6680,2,  34.6667,2,    149.6,2,  1.5960,    149.7,2,   130.27,2,    36.00,2,     0.00,2,     2.53,3,    0.002,2,    0.001,2,   -999.0,9,  -999.00,9,   2312.6,2,   1196.3,2,   2410.1,2,     7.58,2, -999.00,  -999.0, -999.00,  -999.0
    31DSCG96_2,  P15S,   147,  1,    108,   1227,2,19960228,0250,-15.0030,-170.0000, 4803,   -999,   3059.7,   1.7244,  34.6731,2,  34.6715,2,    152.1,2,  1.4969,    153.0,2,   131.57,2,    35.83,2,     0.00,2,     2.49,2, -999.000,9, -999.000,9,   -999.0,9,  -999.00,9,   2312.3,2,   1185.6,2,   2411.1,2,     7.58,2, -999.00,  -999.0, -999.00,  -999.0
    31DSCG96_2,  P15S,   147,  1,    107,   1263,2,19960228,0250,-15.0030,-170.0000, 4803,   -999,   3316.0,   1.6283,  34.6794,2,  34.6798,2,    155.6,2,  1.3776,    156.6,2,   133.15,2,    35.53,2,     0.00,2,     2.46,2,    0.004,2,    0.001,2,   -999.0,9,  -999.00,9,   2309.9,2,   1181.9,2,   2411.3,2,     7.58,2, -999.00,  -999.0, -999.00,  -999.0
    31DSCG96_2,  P15S,   147,  1,    106,   1262,2,19960228,0250,-15.0030,-170.0000, 4803,   -999,   3563.9,   1.5243,  34.6870,2,  34.6855,2,    163.1,2,  1.2509,    164.2,2,   131.67,2,    35.00,2,     0.00,2,     2.43,2, -999.000,9, -999.000,9,   -999.0,9,  -999.00,9,   2302.8,2,   1155.5,2,   2403.8,2,     7.59,2, -999.00,  -999.0, -999.00,  -999.0
    31DSCG96_2,  P15S,   147,  1,    105,   1264,2,19960228,0250,-15.0030,-170.0000, 4803,   -999,   3811.1,   1.4005,  34.6978,2,  34.6967,2,    176.6,2,  1.1045,    179.2,2,   125.26,2,    33.87,2,     0.00,2,     2.34,2,    0.001,2,    0.001,2,   -999.0,9,  -999.00,9,   2286.5,2,   1109.6,2,   2391.5,2,     7.60,2, -999.00,  -999.0, -999.00,  -999.0
    31DSCG96_2,  P15S,   147,  1,    104,   1003,2,19960228,0250,-15.0030,-170.0000, 4803,   -999,   4063.9,   1.2549,  34.7143,2,  34.7132,2,    196.2,2,  0.9357,    199.0,2,   115.61,2,    32.28,2,     0.00,2,     2.21,2,    0.005,2,    0.001,2,   -999.0,9,  -999.00,9,   2262.8,2,   1068.7,2,   2376.3,3,     7.61,2, -999.00,  -999.0, -999.00,  -999.0
    31DSCG96_2,  P15S,   147,  1,    103,   1035,2,19960228,0250,-15.0030,-170.0000, 4803,   -999,   4313.3,   1.0989,  34.7131,2,  34.7110,2,    203.4,2,  0.7571,    204.0,2,   117.69,2,    32.10,2,     0.00,2,     2.20,2,    0.007,2,    0.002,2,   -999.0,9,  -999.00,9,   2259.6,2,   1068.8,2,   2368.8,2,     7.61,2, -999.00,  -999.0, -999.00,  -999.0
    31DSCG96_2,  P15S,   147,  1,    102,   1030,2,19960228,0250,-15.0030,-170.0000, 4803,   -999,   4565.9,   1.0346,  34.7102,2,  34.7098,2,    205.4,2,  0.6664,    206.2,2,   119.70,2,    32.10,2,     0.00,2,     2.20,2,    0.012,2,    0.004,2,   -999.0,9,  -999.00,9,   2259.8,2,   1067.3,2,   2367.7,2,     7.61,2, -999.00,  -999.0, -999.00,  -999.0
    31DSCG96_2,  P15S,   147,  1,    101,   1022,2,19960228,0250,-15.0030,-170.0000, 4803,   -999,   4883.8,   1.0496,  34.7092,2,  34.7093,2,    205.4,2,  0.6441,    205.8,6,   120.50,6,    32.18,6,     0.00,6,     2.22,6,    0.009,6,    0.004,6,   -999.0,9,  -999.00,9,   2260.8,2,   1095.4,2,   2370.7,2,     7.61,2, -999.00,  -999.0, -999.00,  -999.0