BOTTLE,20220811CCHSIOAMB
EXPOCODE,SECT_ID,STNNBR,CASTNO,SAMPNO,BTLNBR,BTLNBR_FLAG_W,DATE,TIME,LATITUDE,LONGITUDE,DEPTH,CTDRAW,CTDPRS,CTDTMP,CTDSAL,CTDSAL_FLAG_W,SALNTY,SALNTY_FLAG_W,CTDOXY,CTDOXY_FLAG_W,THETA,OXYGEN,OXYGEN_FLAG_W,SILCAT,SILCAT_FLAG_W,NITRAT,NITRAT_FLAG_W,NITRIT,NITRIT_FLAG_W,PHSPHT,PHSPHT_FLAG_W,CFC-11,CFC-11_FLAG_W,CFC-12,CFC-12_FLAG_W,DELC14,DELC14_FLAG_W,DELC13,DELC13_FLAG_W,TCARBN,TCARBN_FLAG_W,PCO2,PCO2_FLAG_W,ALKALI,ALKALI_FLAG_W,PH,PH_FLAG_W,PCO2TMP,C14ERR,PH_TMP,C13ERR
,,,,,,,,,,,,DBAR,DBAR,ITS-90,PSS-78,,PSS-78,,UMOL/KG,,DEG C,UMOL/KG,,UMOL/KG,,UMOL/KG,,UMOL/KG,,UMOL/KG,,PMOL/KG,,PMOL/KG,,/MILLE,,/MILLE,,UMOL/KG,,UATM,,UMOL/KG,,,,DEG C,/MILLE,DEG C,/MILLE
    31DSCG96_2,  P15S,   105,  2,    236,   1245,2,19960216,1727,-35.6717,-170.0150, 4290,   -999,      4.0,  20.7903,  35.5075,2,  35.5055,2,    227.9,2, 20.7895,    224.5,2,     1.41,2,     0.04,2,     0.01,2,     0.09,2, -999.000,9, -999.000,9,     78.7,2,  -999.00,9,   2033.2,2,    342.4,6,   -999.0,9,     8.02,2, -999.00,     3.0, -999.00,  -999.0
    31DSCG96_2,  P15S,   105,  2,    235,   1113,2,19960216,1727,-35.6717,-170.0150, 4290,   -999,     15.9,  20.7875,  35.5064,2,  35.5058,2,    221.8,2, 20.7845,    224.1,2,     1.44,2,     0.05,2,     0.00,2,     0.09,2, -999.000,9, -999.000,9,   -999.0,9,  -999.00,9,   -999.0,9,   -999.0,9,   -999.0,9,     8.02,2, -999.00,  -999.0, -999.00,  -999.0
    31DSCG96_2,  P15S,   105,  2,    234,   1216,2,19960216,1727,-35.6717,-170.0150, 4290,   -999,     30.7,  19.9178,  35.4953,2,  35.4971,2,    224.0,2, 19.9121,    234.4,2,     1.43,2,     0.04,2,     0.01,2,     0.10,2, -999.000,9, -999.000,9,   -999.0,9,  -999.00,9,   -999.0,9,   -999.0,9,   -999.0,9,     8.02,2, -999.00,  -999.0, -999.00,  -999.0
    31DSCG96_2,  P15S,   105,  2,    233,   1221,4,19960216,1727,-35.6717,-170.0150, 4290,   -999,     56.4,  15.9161,  35.2924,2,-999.0000,9,    238.6,2, 15.9073,   -999.0,9,  -999.00,9,  -999.00,9,  -999.00,9,  -999.00,9, -999.000,9, -999.000,9,   -999.0,9,  -999.00,9,   -999.0,9,   -999.0,9,   -999.0,9,  -999.00,9, -999.00,  -999.0, -999.00,  -999.0
    31DSCG96_2,  P15S,   105,  2,    232,   1039,2,19960216,1727,-35.6717,-170.0150, 4290,   -999,     77.7,  14.4347,  35.2951,2,  35.2956,2,    254.2,2, 14.4232,    244.7,6,     2.07,2,     1.09,2,     0.08,2,     0.27,2, -999.000,9, -999.000,9,   -999.0,9,  -999.00,9,   -999.0,9,   -999.0,9,   -999.0,9,     7.95,3, -999.00,  -999.0, -999.00,  -999.0
    31DSCG96_2,  P15S,   105,  2,    231,   1014,2,19960216,1727,-35.6717,-170.0150, 4290,   -999,    105.3,  13.9317,  35.2891,2,  35.2886,2,    233.0,2, 13.9165,    223.7,2,     2.64,2,     6.06,2,     0.03,2,     0.50,2, -999.000,9, -999.000,9,   -999.0,9,  -999.00,9,   -999.0,9,   -999.0,9,   -999.0,9,     7.91,2, -999.00,  -999.0, -999.00,  -999.0
    31DSCG96_2,  P15S,   105,  2,    230,   1257,2,19960216,1727,-35.6717,-170.0150, 4290,   -999,    132.7,  13.6084,  35.2531,2,  35.2534,2,    219.1,2, 13.5896,    221.7,2,     2.89,2,     6.97,2,     0.01,2,     0.55,2, -999.000,9, -999.000,9,   -999.0,9,  -999.00,9,   -999.0,9,   -999.0,9,   -999.0,9,     7.90,2, -999.00,  -999.0, -999.00,  -999.0
    31DSCG96_2,  P15S,   105,  2,    229,   1256,2,19960216,1727,-35.6717,-170.0150, 4290,   -999,    160.0,  13.1788,  35.1917,2,  35.1917,2,    220.3,2, 13.1566,    215.7,2,     3.34,2,     8.52,2,     0.02,2,     0.64,2, -999.000,9, -999.000,9,   -999.0,9,  -999.00,9,   -999.0,9,   -999.0,9,   -999.0,9,     7.88,2, -999.00,  -999.0, -999.00,  -999.0
    31DSCG96_2,  P15S,   105,  2,    228,   1007,2,19960216,1727,-35.6717,-170.0150, 4290,   -999,    184.0,  12.6732,  35.1225,2,  35.1206,2,    215.2,2, 12.6483,    214.4,2,     3.64,2,     9.60,2,     0.01,2,     0.71,2, -999.000,9, -999.000,9,   -999.0,9,  -999.00,9,   -999.0,9,   -999.0,9,   -999.0,9,     7.86,2, -999.00,  -999.0, -999.00,  -999.0
    31DSCG96_2,  P15S,   105,  2,    227,   1232,2,19960216,1727,-35.6717,-170.0150, 4290,   -999,    214.5,  12.0869,  35.0421,2,  35.0412,2,    215.4,2, 12.0588,    212.8,2,     4.03,2,    11.07,2,     0.01,2,     0.80,2, -999.000,9, -999.000,9,   -999.0,9,  -999.00,9,   -999.0,9,   -999.0,9,   -999.0,9,     7.84,3, -999.00,  -999.0, -999.00,  -999.0
    31DSCG96_2,  P15S,   105,  2,    226,   1025,2,19960216,1727,-35.6717,-170.0150, 4290,   -999,    262.0,  11.5021,  34.9611,2,  34.9619,2,    220.5,2, 11.4688,    218.8,2,     4.17,2,    11.78,2,     0.01,2,     0.85,2, -999.000,9, -999.000,9,   -999.0,9,  -999.00,9,   -999.0,9,   -999.0,9,   -999.0,9,     7.83,2, -999.00,  -999.0, -999.00,  -999.0
    31DSCG96_2,  P15S,   105,  2,    225,   1233,2,19960216,1727,-35.6717,-170.0150, 4290,   -999,    318.9,  10.6688,  34.8507,2,  34.8502,2,    202.7,2, 10.6301,    204.7,2,     5.70,2,    15.29,2,     0.01,2,     1.06,2, -999.000,9, -999.000,9,   -999.0,9,  -999.00,9,   -999.0,9,   -999.0,9,   -999.0,9,     7.79,2, -999.00,  -999.0, -999.00,  -999.0
    31DSCG96_2,  P15S,   105,  2,    224,   1013,2,19960216,1727,-35.6717,-170.0150, 4290,   -999,    366.4,   9.9362,  34.7537,2,  34.7536,2,    199.8,2,  9.8936,    199.0,2,     6.66,2,    17.70,2,     0.00,2,     1.21,2, -999.000,9, -999.000,9,   -999.0,9,  -999.00,9,   -999.0,9,   -999.0,9,   -999.0,9,     7.76,2, -999.00,  -999.0, -999.00,  -999.0
    31DSCG96_2,  P15S,   105,  2,    223,   1250,2,19960216,1727,-35.6717,-170.0150, 4290,   -999,    415.6,   9.4122,  34.6864,2,  34.6903,2,    200.5,2,  9.3654,    199.7,6,     7.29,2,    18.96,2,     0.00,2,     1.29,2, -999.000,9, -999.000,9,   -999.0,9,  -999.00,9,   -999.0,9,   -999.0,9,   -999.0,9,     7.75,2, -999.00,  -999.0, -999.00,  -999.0
    31DSCG96_2,  P15S,   105,  2,    222,   1265,2,19960216,1727,-35.6717,-170.0150, 4290,   -999,    464.7,   8.7441,  34.6111,2,  34.6125,2,    206.1,2,  8.6939,    203.4,2,     8.05,2,    20.33,2,     0.00,2,     1.38,2, -999.000,9, -999.000,9,   -999.0,9,  -999.00,9,   -999.0,9,   -999.0,9,   -999.0,9,     7.74,2, -999.00,  -999.0, -999.00,  -999.0
    31DSCG96_2,  P15S,   105,  2,    221,   1246,2,19960216,1727,-35.6717,-170.0150, 4290,   -999,    519.7,   8.1912,  34.5518,2,  34.5504,2,    209.3,2,  8.1371,    209.0,2,     8.72,2,    21.40,2,     0.01,2,     1.45,2, -999.000,9, -999.000,9,   -999.0,9,  -999.00,9,   -999.0,9,   -999.0,9,   -999.0,9,     7.73,2, -999.00,  -999.0, -999.00,  -999.0
    31DSCG96_2,  P15S,   105,  2,    220,   1015,2,19960216,1727,-35.6717,-170.0150, 4290,   -999,    627.0,   7.4737,  34.4770,2,  34.4758,2,    215.9,2,  7.4114,    217.6,2,     9.71,2,    22.62,2,     0.00,2,     1.53,2, -999.000,9, -999.000,9,   -999.0,9,  -999.00,9,   -999.0,9,   -999.0,9,   -999.0,9,     7.73,2, -999.00,  -999.0, -999.00,  -999.0
    31DSCG96_2,  P15S,   105,  2,    219,   1247,2,19960216,1727,-35.6717,-170.0150, 4290,   -999,    722.4,   6.9844,  34.4355,2,  34.4335,2,    215.8,2,  6.9149,    218.0,2,    11.49,2,    23.87,2,     0.00,2,     1.61,2, -999.000,9, -999.000,9,   -999.0,9,  -999.00,9,   -999.0,9,   -999.0,9,   -999.0,9,     7.71,3, -999.00,  -999.0, -999.00,  -999.0
    31DSCG96_2,  P15S,   105,  2,    218,   1222,2,19960216,1727,-35.6717,-170.0150, 4290,   -999,    827.4,   6.3643,  34.4044,2,  34.4046,2,    207.6,2,  6.2880,    210.5,2,    16.26,2,    25.89,2,     0.00,2,     1.75,2, -999.000,9, -999.000,9,   -999.0,9,  -999.00,9,   -999.0,9,   -999.0,9,   -999.0,9,     7.70,2, -999.00,  -999.0, -999.00,  -999.0
    31DSCG96_2,  P15S,   105,  2,    217,   1267,2,19960216,1727,-35.6717,-170.0150, 4290,   -999,    923.8,   5.8419,  34.3928,2,  34.3928,2,    199.3,2,  5.7597,    202.7,2,    22.22,2,    27.74,2,     0.00,2,     1.88,2, -999.000,9, -999.000,9,   -999.0,9,  -999.00,9,   -999.0,9,   -999.0,9,   -999.0,9,     7.67,2, -999.00,  -999.0, -999.00,  -999.0
    31DSCG96_2,  P15S,   105,  2,    216,   1211,2,19960216,1727,-35.6717,-170.0150, 4290,   -999,   1025.2,   5.1813,  34.3965,2,  34.3951,2,    192.2,2,  5.0945,    192.9,2,    31.23,2,    29.69,2,     0.00,2,     2.02,2, -999.000,9, -999.000,9,   -999.0,9,  -999.00,9,   -999.0,9,   -999.0,9,   -999.0,9,     7.65,2, -999.00,  -999.0, -999.00,  -999.0
    31DSCG96_2,  P15S,   105,  2,    215,   1041,2,19960216,1727,-35.6717,-170.0150, 4290,   -999,   1136.3,   4.5543,  34.4034,2,  34.4021,2,    184.9,2,  4.4625,    186.3,2,    40.15,2,    31.34,2,     0.00,2,     2.13,2, -999.000,9, -999.000,9,   -999.0,9,  -999.00,9,   -999.0,9,   -999.0,9,   -999.0,9,     7.63,2, -999.00,  -999.0, -999.00,  -999.0
    31DSCG96_2,  P15S,   105,  2,    214,   1017,2,19960216,1727,-35.6717,-170.0150, 4290,   -999,   1222.3,   4.0333,  34.4271,2,  34.4263,2,    178.8,2,  3.9386,    179.6,2,    49.91,2,    32.51,2,     0.00,2,     2.23,2, -999.000,9, -999.000,9,   -999.0,9,  -999.00,9,   -999.0,9,   -999.0,9,   -999.0,9,     7.61,2, -999.00,  -999.0, -999.00,  -999.0
    31DSCG96_2,  P15S,   105,  2,    213,   1302,2,19960216,1727,-35.6717,-170.0150, 4290,   -999,   1359.2,   3.4736,  34.4725,2,  34.4703,2,    170.7,2,  3.3726,    171.4,6,    63.09,2,    33.67,2,     0.00,2,     2.31,2, -999.000,9, -999.000,9,   -999.0,9,  -999.00,9,   -999.0,9,   -999.0,9,   -999.0,9,     7.59,2, -999.00,  -999.0, -999.00,  -999.0
    31DSCG96_2,  P15S,   105,  2,    212,   1217,2,19960216,1727,-35.6717,-170.0150, 4290,   -999,   1557.3,   2.9935,  34.5391,2,  34.5387,2,    160.8,2,  2.8810,    161.3,2,    81.56,2,    34.55,2,     0.00,2,     2.38,2, -999.000,9, -999.000,9,   -999.0,9,  -999.00,9,   -999.0,9,   -999.0,9,   -999.0,9,     7.58,2, -999.00,  -999.0, -999.00,  -999.0
    31DSCG96_2,  P15S,   105,  2,    211,   1114,2,19960216,1727,-35.6717,-170.0150, 4290,   -999,   1814.9,   2.5948,  34.5933,2,  34.5926,2,    153.3,2,  2.4655,    153.3,2,    99.02,2,    35.24,2,     0.00,2,     2.44,2, -999.000,9, -999.000,9,   -999.0,9,  -999.00,9,   -999.0,9,   -999.0,9,   -999.0,9,     7.57,2, -999.00,  -999.0, -999.00,  -999.0
    31DSCG96_2,  P15S,   105,  2,    210,   1301,2,19960216,1727,-35.6717,-170.0150, 4290,   -999,   2065.7,   2.3921,  34.6185,2,  34.6174,2,    150.2,2,  2.2440,    149.9,2,   108.24,2,    35.60,2,     0.00,2,     2.46,2, -999.000,9, -999.000,9,   -999.0,9,  -999.00,9,   -999.0,9,   -999.0,9,   -999.0,9,     7.57,2, -999.00,  -999.0, -999.00,  -999.0
    31DSCG96_2,  P15S,   105,  2,    209,   1119,2,19960216,1727,-35.6717,-170.0150, 4290,   -999,   2315.8,   2.2354,  34.6339,2,  34.6336,2,    149.1,2,  2.0676,    148.5,6,   114.72,2,    35.78,2,     0.00,2,     2.48,2, -999.000,9, -999.000,9,   -999.0,9,  -999.00,9,   -999.0,9,   -999.0,9,   -999.0,9,     7.57,2, -999.00,  -999.0, -999.00,  -999.0
    31DSCG96_2,  P15S,   105,  2,    208,   1227,2,19960216,1727,-35.6717,-170.0150, 4290,   -999,   2558.1,   2.1120,  34.6460,2,  34.6448,2,    148.6,2,  1.9243,    147.8,2,   119.81,2,    35.84,2,     0.00,2,     2.48,2, -999.000,9, -999.000,9,   -999.0,9,  -999.00,9,   -999.0,9,   -999.0,9,   -999.0,9,     7.57,2, -999.00,  -999.0, -999.00,  -999.0
    31DSCG96_2,  P15S,   105,  2,    207,   1263,2,19960216,1727,-35.6717,-170.0150, 4290,   -999,   2813.6,   1.9659,  34.6608,2,  34.6603,2,    150.7,2,  1.7569,    150.1,2,   123.12,2,    35.67,2,     0.00,2,     2.47,2, -999.000,9, -999.000,9,   -999.0,9,  -999.00,9,   -999.0,9,   -999.0,9,   -999.0,9,     7.57,2, -999.00,  -999.0, -999.00,  -999.0
    31DSCG96_2,  P15S,   105,  2,    206,   1262,2,19960216,1727,-35.6717,-170.0150, 4290,   -999,   3063.0,   1.8477,  34.6835,2,  34.6819,2,    162.5,2,  1.6170,    162.2,2,   118.61,2,    34.56,2,     0.00,2,     2.39,2, -999.000,9, -999.000,9,   -999.0,9,  -999.00,9,   -999.0,9,   -999.0,9,   -999.0,9,     7.58,2, -999.00,  -999.0, -999.00,  -999.0
    31DSCG96_2,  P15S,   105,  2,    205,   1264,2,19960216,1727,-35.6717,-170.0150, 4290,   -999,   3313.4,   1.7207,  34.7100,2,  34.7082,2,    179.4,2,  1.4679,    180.0,2,   109.01,2,    32.89,2,     0.00,2,     2.26,2,    0.003,6,    0.004,6,   -999.0,9,  -999.00,9,   -999.0,9,   -999.0,9,   -999.0,9,     7.60,2, -999.00,  -999.0, -999.00,  -999.0
    31DSCG96_2,  P15S,   105,  2,    204,   1003,2,19960216,1727,-35.6717,-170.0150, 4290,   -999,   3563.9,   1.5773,  34.7199,2,  34.7188,2,    189.7,2,  1.3023,    189.6,2,   107.68,2,    32.22,2,     0.00,2,     2.21,2, -999.000,9, -999.000,9,   -999.0,9,  -999.00,9,   -999.0,9,   -999.0,9,   -999.0,9,     7.61,2, -999.00,  -999.0, -999.00,  -999.0
    31DSCG96_2,  P15S,   105,  2,    203,    999,2,19960216,1727,-35.6717,-170.0150, 4290,   -999,   3812.9,   1.3738,  34.7209,2,  34.7205,2,    197.6,2,  1.0781,    197.0,2,   110.23,2,    31.92,2,     0.00,2,     2.19,2,    0.007,6,    0.005,6,   -999.0,9,  -999.00,9,   -999.0,9,   -999.0,9,   -999.0,9,     7.61,2, -999.00,  -999.0, -999.00,  -999.0
    31DSCG96_2,  P15S,   105,  2,    202,   1030,2,19960216,1727,-35.6717,-170.0150, 4290,   -999,   4068.1,   1.1554,  34.7157,2,  34.7152,2,    202.9,2,  0.8387,    202.5,2,   115.61,2,    32.07,2,     0.00,2,     2.18,2, -999.000,9, -999.000,9,   -999.0,9,  -999.00,9,   -999.0,9,   -999.0,9,   -999.0,9,     7.61,2, -999.00,  -999.0, -999.00,  -999.0
    31DSCG96_2,  P15S,   105,  2,    201,   1022,2,19960216,1727,-35.6717,-170.0150, 4290,   -999,   4326.5,   1.0413,  34.7110,2,  34.7116,2,    205.7,2,  0.6997,    205.3,2,   119.08,6,    32.20,6,     0.00,6,     2.19,2,    0.019,6,    0.014,6,   -999.0,9,  -999.00,9,   -999.0,9,   -999.0,9,   -999.0,9,     7.61,2, -999.00,  -999.0, -999.00,  -999.0