BOTTLE,20220811CCHSIOAMB
EXPOCODE,SECT_ID,STNNBR,CASTNO,SAMPNO,BTLNBR,BTLNBR_FLAG_W,DATE,TIME,LATITUDE,LONGITUDE,DEPTH,CTDRAW,CTDPRS,CTDTMP,CTDSAL,CTDSAL_FLAG_W,SALNTY,SALNTY_FLAG_W,CTDOXY,CTDOXY_FLAG_W,THETA,OXYGEN,OXYGEN_FLAG_W,SILCAT,SILCAT_FLAG_W,NITRAT,NITRAT_FLAG_W,NITRIT,NITRIT_FLAG_W,PHSPHT,PHSPHT_FLAG_W,CFC-11,CFC-11_FLAG_W,CFC-12,CFC-12_FLAG_W,DELC14,DELC14_FLAG_W,DELC13,DELC13_FLAG_W,TCARBN,TCARBN_FLAG_W,PCO2,PCO2_FLAG_W,ALKALI,ALKALI_FLAG_W,PH,PH_FLAG_W,PCO2TMP,C14ERR,PH_TMP,C13ERR
,,,,,,,,,,,,DBAR,DBAR,ITS-90,PSS-78,,PSS-78,,UMOL/KG,,DEG C,UMOL/KG,,UMOL/KG,,UMOL/KG,,UMOL/KG,,UMOL/KG,,PMOL/KG,,PMOL/KG,,/MILLE,,/MILLE,,UMOL/KG,,UATM,,UMOL/KG,,,,DEG C,/MILLE,DEG C,/MILLE
    31DSCG96_1,  P15S,    62,  2,    234,   1119,2,19960126,1643,-52.4978,-170.0305, 5065,   -999,     10.1,  10.0278,  34.4223,2,  34.4230,2,    286.8,2, 10.0266,    284.0,2,     0.99,2,    10.79,2,     0.15,2,     0.80,2,    3.881,2,    2.046,2,      6.7,2,     1.80,2,   2071.8,2,    510.2,2,   2291.5,3,     7.88,2, -999.00,     2.9, -999.00,  -999.0
    31DSCG96_1,  P15S,    62,  2,    233,   1221,2,19960126,1643,-52.4978,-170.0305, 5065,   -999,     21.0,  10.0332,  34.4233,2,  34.4230,2,    285.7,2, 10.0308,    283.9,2,     1.10,2,    10.74,2,     0.15,2,     0.81,2, -999.000,9, -999.000,9,      4.4,2,     1.80,2,   2071.5,2,    504.1,2,   2291.0,2,     7.88,2, -999.00,     3.4, -999.00,  -999.0
    31DSCG96_1,  P15S,    62,  2,    232,   1039,2,19960126,1643,-52.4978,-170.0305, 5065,   -999,     44.5,   9.9873,  34.4189,2,  34.4205,2,    287.7,2,  9.9822,    284.5,2,     1.05,2,    10.85,2,     0.15,2,     0.81,2,    3.896,2,    2.069,2,   -999.0,5,     1.83,2,   2071.6,2,    506.6,2,   -999.0,9,     7.88,2, -999.00,  -999.0, -999.00,  -999.0
    31DSCG96_1,  P15S,    62,  2,    231,   1014,2,19960126,1643,-52.4978,-170.0305, 5065,   -999,     71.1,   9.7981,  34.4604,2,  34.4601,2,    280.0,2,  9.7901,    281.3,6,     0.96,2,    10.17,2,     0.15,2,     0.81,2, -999.000,9, -999.000,9,     -0.9,2,     1.80,2,   2073.8,2,    505.3,2,   2289.6,2,     7.88,2, -999.00,     3.5, -999.00,  -999.0
    31DSCG96_1,  P15S,    62,  2,    230,   1257,2,19960126,1643,-52.4978,-170.0305, 5065,   -999,     89.5,   8.9360,  34.4718,2,  34.4736,2,    272.9,2,  8.9265,    274.8,2,     2.17,2,    12.48,2,     0.36,2,     1.01,2,    3.926,2,    2.037,2,      0.8,2,     1.56,2,   2092.5,2,    562.8,2,   2291.2,2,     7.84,2, -999.00,     3.9, -999.00,  -999.0
    31DSCG96_1,  P15S,    62,  2,    229,   1256,2,19960126,1643,-52.4978,-170.0305, 5065,   -999,    141.5,   7.9213,  34.4722,2,  34.4718,2,    268.3,2,  7.9073,    266.6,2,     5.04,2,    17.08,2,     0.03,2,     1.20,2, -999.000,9, -999.000,9,      2.1,2,     1.40,2,   2111.3,2,    650.5,2,   2286.8,2,     7.80,2, -999.00,     3.9, -999.00,  -999.0
    31DSCG96_1,  P15S,    62,  2,    228,   1007,2,19960126,1643,-52.4978,-170.0305, 5065,   -999,    190.6,   7.5266,  34.4284,2,  34.4293,2,    274.9,2,  7.5082,    269.6,2,     5.62,2,    18.02,2,     0.08,2,     1.26,2,    3.938,2,    2.043,2,     -9.4,2,     1.41,2,   2113.2,2,    657.2,2,   2287.0,2,     7.79,2, -999.00,     3.1, -999.00,  -999.0
    31DSCG96_1,  P15S,    62,  2,    227,   1234,2,19960126,1643,-52.4978,-170.0305, 5065,   -999,    241.5,   7.3737,  34.4178,2,  34.4186,2,    274.7,2,  7.3505,    277.1,2,     5.65,2,    17.94,2,     0.01,2,     1.26,2, -999.000,9, -999.000,9,     -8.9,2,     1.44,2,   2111.9,2,    649.6,2,   2284.9,2,     7.79,2, -999.00,     4.2, -999.00,  -999.0
    31DSCG96_1,  P15S,    62,  2,    226,   1025,2,19960126,1643,-52.4978,-170.0305, 5065,   -999,    291.2,   7.1889,  34.4016,2,  34.4015,2,    273.1,2,  7.1613,    272.9,2,     6.17,2,    18.75,2,     0.01,2,     1.31,2,    3.916,2,    1.992,2,   -999.0,5,     1.43,2,   2115.1,2,    656.5,2,   2286.2,2,     7.79,2, -999.00,  -999.0, -999.00,  -999.0
    31DSCG96_1,  P15S,    62,  2,    225,   1233,2,19960126,1643,-52.4978,-170.0305, 5065,   -999,    376.7,   6.9103,  34.3711,2,  34.3716,2,    279.0,2,  6.8752,    279.5,6,     6.05,2,    18.82,2,     0.01,2,     1.32,2, -999.000,9, -999.000,9,   -999.0,5,     1.45,2,   2113.2,2,    654.9,2,   2290.7,3,     7.79,2, -999.00,  -999.0, -999.00,  -999.0
    31DSCG96_1,  P15S,    62,  2,    224,   1218,2,19960126,1643,-52.4978,-170.0305, 5065,   -999,    476.7,   6.5428,  34.3281,2,  34.3293,2,    273.7,2,  6.4994,    274.6,2,     7.17,2,    20.22,2,     0.01,2,     1.41,2, -999.000,9, -999.000,9,    -26.3,2,     1.44,2,   2119.3,2,    674.8,2,   2286.1,2,     7.77,2, -999.00,     3.3, -999.00,  -999.0
    31DSCG96_1,  P15S,    62,  2,    223,   1250,2,19960126,1643,-52.4978,-170.0305, 5065,   -999,    576.4,   6.1009,  34.2876,2,  34.2865,2,    269.0,2,  6.0499,    271.2,2,     8.77,2,    21.79,2,     0.01,2,     1.52,2, -999.000,9, -999.000,9,    -42.2,2,     1.41,2,   2126.3,2,    711.3,2,   2281.7,2,     7.76,2, -999.00,     3.9, -999.00,  -999.0
    31DSCG96_1,  P15S,    62,  2,    222,   1109,2,19960126,1643,-52.4978,-170.0305, 5065,   -999,    677.4,   5.7342,  34.2864,2,  34.2852,2,    249.5,2,  5.6758,    250.7,2,    13.10,2,    24.39,2,     0.00,2,     1.68,2, -999.000,9, -999.000,9,    -47.9,2,     1.25,2,   2141.9,2,    782.9,2,   2289.3,2,     7.72,2, -999.00,     3.3, -999.00,  -999.0
    31DSCG96_1,  P15S,    62,  2,    221,   1246,2,19960126,1643,-52.4978,-170.0305, 5065,   -999,    778.6,   5.3665,  34.3148,2,  34.3149,2,    231.0,2,  5.3009,    225.4,2,    20.13,2,    27.22,2,     0.00,2,     1.86,2, -999.000,9, -999.000,9,    -83.2,2,     1.15,2,   2161.3,2,    867.7,2,   2292.0,2,     7.68,2, -999.00,     2.9, -999.00,  -999.0
    31DSCG96_1,  P15S,    62,  2,    220,   1015,2,19960126,1643,-52.4978,-170.0305, 5065,   -999,    877.0,   4.6918,  34.3008,2,  34.2994,2,    228.1,2,  4.6219,    220.6,2,    25.84,2,    29.02,2,     0.00,2,     2.00,2, -999.000,9, -999.000,9,    -77.1,2,     1.04,2,   2173.3,2,    938.2,2,   2295.9,2,     7.66,2, -999.00,     2.7, -999.00,  -999.0
    31DSCG96_1,  P15S,    62,  2,    219,   1247,2,19960126,1643,-52.4978,-170.0305, 5065,   -999,    973.5,   4.1145,  34.3123,2,  34.3123,2,    216.6,2,  4.0405,    213.2,6,    33.12,2,    30.81,2,     0.00,2,     2.11,2, -999.000,9, -999.000,9,    -96.6,2,     0.93,2,   2190.7,2,   1000.2,2,   2297.8,2,     7.63,2, -999.00,     2.8, -999.00,  -999.0
    31DSCG96_1,  P15S,    62,  2,    218,   1222,2,19960126,1643,-52.4978,-170.0305, 5065,   -999,   1073.7,   3.6850,  34.3381,2,  34.3385,2,    209.4,2,  3.6061,    205.6,2,    40.59,2,    31.91,2,     0.00,2,     2.19,2, -999.000,9, -999.000,9,   -999.0,5,     0.81,2,   2201.1,2,   1040.0,2,   2306.9,2,     7.62,2, -999.00,  -999.0, -999.00,  -999.0
    31DSCG96_1,  P15S,    62,  2,    217,   1267,2,19960126,1643,-52.4978,-170.0305, 5065,   -999,   1213.1,   3.1736,  34.3798,2,  34.3802,2,    198.3,2,  3.0878,    196.5,6,    50.44,2,    33.22,2,     0.00,2,     2.28,2, -999.000,9, -999.000,9,   -131.9,2,     0.73,2,   2218.1,2,   1101.9,2,   2313.4,2,     7.59,2, -999.00,     2.5, -999.00,  -999.0
    31DSCG96_1,  P15S,    62,  2,    216,   1211,2,19960126,1643,-52.4978,-170.0305, 5065,   -999,   1433.5,   2.7747,  34.4806,2,  34.4812,2,    181.8,2,  2.6751,    180.2,2,    65.16,2,    34.21,2,     0.00,2,     2.35,2, -999.000,9, -999.000,9,   -149.9,2,     0.53,2,   2239.1,2,   1177.3,2,   2328.0,2,     7.57,2, -999.00,     2.9, -999.00,  -999.0
    31DSCG96_1,  P15S,    62,  2,    215,   1041,2,19960126,1643,-52.4978,-170.0305, 5065,   -999,   1683.5,   2.5316,  34.5775,2,  34.5772,2,    173.5,2,  2.4142,    173.0,2,    75.25,2,    33.98,2,     0.00,2,     2.33,2, -999.000,9, -999.000,9,   -999.0,9,  -999.00,9,   2250.5,2,   1194.0,2,   2350.5,3,     7.57,2, -999.00,  -999.0, -999.00,  -999.0
    31DSCG96_1,  P15S,    62,  2,    214,   1017,2,19960126,1643,-52.4978,-170.0305, 5065,   -999,   1938.3,   2.3700,  34.6513,2,  34.6527,2,    175.7,2,  2.2331,    176.0,2,    79.02,2,    33.03,2,     0.00,2,     2.26,2, -999.000,9, -999.000,9,   -999.0,9,  -999.00,9,   2246.8,2,   1165.5,2,   2345.8,2,     7.58,2, -999.00,  -999.0, -999.00,  -999.0
    31DSCG96_1,  P15S,    62,  2,    213,   1302,2,19960126,1643,-52.4978,-170.0305, 5065,   -999,   2188.8,   2.2253,  34.6987,2,  34.6979,2,    180.7,2,  2.0688,    181.1,2,    83.08,2,    32.11,2,     0.00,2,     2.20,2, -999.000,9, -999.000,9,   -999.0,9,  -999.00,9,   2249.3,2,   1126.9,2,   2350.9,2,  -999.00,9, -999.00,  -999.0, -999.00,  -999.0
    31DSCG96_1,  P15S,    62,  2,    212,   1217,2,19960126,1643,-52.4978,-170.0305, 5065,   -999,   2437.7,   2.0567,  34.7270,2,  34.7274,2,    186.7,2,  1.8807,    187.6,2,    87.08,2,    31.42,2,     0.00,2,     2.15,2, -999.000,9, -999.000,9,   -999.0,9,  -999.00,9,   2247.0,2,   1096.3,2,   2354.2,2,     7.60,2, -999.00,  -999.0, -999.00,  -999.0
    31DSCG96_1,  P15S,    62,  2,    211,   1114,2,19960126,1643,-52.4978,-170.0305, 5065,   -999,   2690.2,   1.8912,  34.7364,2,  34.7367,2,    191.4,2,  1.6950,    191.6,2,    91.75,2,    31.14,2,     0.00,2,     2.13,2,    0.062,2,    0.028,2,   -999.0,9,  -999.00,9,   2248.4,2,   1086.1,2,   2356.4,2,     7.61,2, -999.00,  -999.0, -999.00,  -999.0
    31DSCG96_1,  P15S,    62,  2,    210,   1301,2,19960126,1643,-52.4978,-170.0305, 5065,   -999,   2898.7,   1.7264,  34.7377,2,  34.7401,2,    194.4,2,  1.5140,    195.0,2,    96.97,2,    31.18,2,     0.00,2,     2.13,2, -999.000,9, -999.000,9,   -999.0,9,  -999.00,9,   2249.5,2,   1088.7,2,   2359.8,2,     7.61,2, -999.00,  -999.0, -999.00,  -999.0
    31DSCG96_1,  P15S,    62,  2,    209,   1242,2,19960126,1643,-52.4978,-170.0305, 5065,   -999,   3189.0,   1.4815,  34.7324,2,  34.7323,2,    197.9,2,  1.2466,    198.7,2,   104.35,2,    31.45,2,     0.00,2,     2.15,2,    0.032,2,    0.016,2,   -999.0,9,  -999.00,9,   2251.9,2,   1078.9,2,   2362.7,2,     7.61,2, -999.00,  -999.0, -999.00,  -999.0
    31DSCG96_1,  P15S,    62,  2,    208,   1263,2,19960126,1643,-52.4978,-170.0305, 5065,   -999,   3438.0,   1.3284,  34.7269,2,  34.7262,2,    200.0,2,  1.0725,    200.8,2,   109.01,2,    31.60,2,     0.00,2,     2.16,2, -999.000,9, -999.000,9,   -999.0,9,  -999.00,9,   2254.5,2,   1075.5,2,   2363.7,2,     7.61,2, -999.00,  -999.0, -999.00,  -999.0
    31DSCG96_1,  P15S,    62,  2,    207,   1245,2,19960126,1643,-52.4978,-170.0305, 5065,   -999,   3690.5,   1.1807,  34.7202,2,  34.7206,2,    202.3,2,  0.9030,    203.3,2,   113.49,2,    31.80,2,     0.00,2,     2.17,2,    0.036,2,    0.020,2,   -999.0,9,  -999.00,9,   2255.9,2,   1093.2,2,   2361.1,2,     7.61,3, -999.00,  -999.0, -999.00,  -999.0
    31DSCG96_1,  P15S,    62,  2,    206,   1262,2,19960126,1643,-52.4978,-170.0305, 5065,   -999,   3945.5,   1.0615,  34.7145,2,  34.7156,2,    204.9,2,  0.7605,    205.9,2,   117.01,2,    31.97,2,     0.00,2,     2.18,2, -999.000,9, -999.000,9,   -999.0,9,  -999.00,9,   2255.4,2,   1086.9,2,   2366.5,2,     7.61,2, -999.00,  -999.0, -999.00,  -999.0
    31DSCG96_1,  P15S,    62,  2,    205,   1113,2,19960126,1643,-52.4978,-170.0305, 5065,   -999,   4180.2,   0.9740,  34.7102,2,  34.7116,2,    207.0,2,  0.6504,    207.6,2,   119.91,2,    32.09,2,     0.00,2,     2.19,2, -999.000,5, -999.000,5,   -999.0,9,  -999.00,9,   2257.3,2,   1093.3,2,   2363.6,2,     7.61,2, -999.00,  -999.0, -999.00,  -999.0
    31DSCG96_1,  P15S,    62,  2,    204,   1003,2,19960126,1643,-52.4978,-170.0305, 5065,   -999,   4439.4,   0.9266,  34.7073,2,  34.7070,2,    208.1,2,  0.5761,    208.4,2,   121.74,2,    32.13,2,     0.00,2,     2.19,2, -999.000,9, -999.000,9,   -999.0,9,  -999.00,9,   2258.6,2,   1095.9,2,   2367.4,2,  -999.00,9, -999.00,  -999.0, -999.00,  -999.0
    31DSCG96_1,  P15S,    62,  2,    203,   9999,2,19960126,1643,-52.4978,-170.0305, 5065,   -999,   4683.2,   0.9160,  34.7056,2,  34.7054,2,    208.7,2,  0.5383,    208.6,2,   123.23,2,    32.21,2,     0.00,2,     2.20,2,    0.068,6,    0.035,6,   -999.0,9,  -999.00,9,   2258.9,2,   1088.4,2,   2366.9,2,     7.61,2, -999.00,  -999.0, -999.00,  -999.0
    31DSCG96_1,  P15S,    62,  2,    202,   1030,2,19960126,1643,-52.4978,-170.0305, 5065,   -999,   4936.0,   0.9212,  34.7045,2,  34.7046,2,    209.0,2,  0.5140,    209.3,2,   124.01,2,    32.27,2,     0.00,2,     2.19,2,    0.077,2,    0.043,2,   -999.0,9,  -999.00,9,   2259.3,2,   1098.2,2,   2367.1,2,     7.61,2, -999.00,  -999.0, -999.00,  -999.0
    31DSCG96_1,  P15S,    62,  2,    201,   1022,2,19960126,1643,-52.4978,-170.0305, 5065,   -999,   5171.0,   0.9368,  34.7037,2,  34.7042,2,    209.6,2,  0.5010,    209.5,2,   124.53,6,    32.30,6,     0.00,6,     2.20,6, -999.000,9, -999.000,9,   -999.0,9,  -999.00,9,   2256.1,2,   1104.9,2,   -999.0,5,  -999.00,9, -999.00,  -999.0, -999.00,  -999.0