BOTTLE,20220811CCHSIOAMB
EXPOCODE,SECT_ID,STNNBR,CASTNO,SAMPNO,BTLNBR,BTLNBR_FLAG_W,DATE,TIME,LATITUDE,LONGITUDE,DEPTH,CTDRAW,CTDPRS,CTDTMP,CTDSAL,CTDSAL_FLAG_W,SALNTY,SALNTY_FLAG_W,CTDOXY,CTDOXY_FLAG_W,THETA,OXYGEN,OXYGEN_FLAG_W,SILCAT,SILCAT_FLAG_W,NITRAT,NITRAT_FLAG_W,NITRIT,NITRIT_FLAG_W,PHSPHT,PHSPHT_FLAG_W,CFC-11,CFC-11_FLAG_W,CFC-12,CFC-12_FLAG_W,DELC14,DELC14_FLAG_W,DELC13,DELC13_FLAG_W,TCARBN,TCARBN_FLAG_W,PCO2,PCO2_FLAG_W,ALKALI,ALKALI_FLAG_W,PH,PH_FLAG_W,PCO2TMP,C14ERR,PH_TMP,C13ERR
,,,,,,,,,,,,DBAR,DBAR,ITS-90,PSS-78,,PSS-78,,UMOL/KG,,DEG C,UMOL/KG,,UMOL/KG,,UMOL/KG,,UMOL/KG,,UMOL/KG,,PMOL/KG,,PMOL/KG,,/MILLE,,/MILLE,,UMOL/KG,,UATM,,UMOL/KG,,,,DEG C,/MILLE,DEG C,/MILLE
    31DSCG96_1,  P15S,    33,  1,    134,   1224,2,19960118,1150,-66.9932,-170.0000, 3630,   -999,      9.2,  -1.1861,  33.4529,2,  33.4576,2,    344.5,2, -1.1863,    347.1,2,    64.10,2,    26.65,2,     0.17,2,     1.80,2, -999.000,9, -999.000,9,   -119.3,2,     1.03,2,   2142.0,2,    859.9,2,   2269.0,2,     7.68,2, -999.00,     2.3, -999.00,  -999.0
    31DSCG96_1,  P15S,    33,  1,    133,   1221,2,19960118,1150,-66.9932,-170.0000, 3630,   -999,      9.6,  -1.1857,  33.4529,2,  33.4575,2,    344.7,2, -1.1859,    346.7,2,    64.33,2,    26.74,2,     0.16,2,     1.83,2,    6.371,2,    3.061,2,   -128.5,2,     1.01,2,   2146.2,2,    867.2,2,   2270.0,2,     7.68,2, -999.00,     2.8, -999.00,  -999.0
    31DSCG96_1,  P15S,    33,  1,    132,   1039,2,19960118,1150,-66.9932,-170.0000, 3630,   -999,     28.9,  -1.2477,  33.8396,2,  33.8547,2,    337.3,2, -1.2483,    336.5,2,    65.61,2,    27.21,2,     0.10,2,     1.84,2, -999.000,9, -999.000,9,   -129.6,2,     1.00,2,   2170.7,2,    892.9,2,   2297.1,2,     7.68,2, -999.00,     2.5, -999.00,  -999.0
    31DSCG96_1,  P15S,    33,  1,    131,   1042,2,19960118,1150,-66.9932,-170.0000, 3630,   -999,     54.1,  -1.6212,  34.1069,2,  34.1064,2,    314.1,2, -1.6223,    306.9,2,    68.09,2,    28.51,2,     0.06,2,     1.96,2,    4.829,6,    2.355,6,   -131.4,2,     0.89,2,   -999.0,9,    958.8,2,   -999.0,9,  -999.00,9, -999.00,     2.5, -999.00,  -999.0
    31DSCG96_1,  P15S,    33,  1,    130,   1257,2,19960118,1150,-66.9932,-170.0000, 3630,   -999,     81.3,  -1.6448,  34.1591,2,  34.1601,2,    297.6,2, -1.6465,    296.0,2,    69.76,2,    29.20,2,     0.06,2,     2.02,2, -999.000,9, -999.000,9,   -135.9,2,     0.78,2,   2202.1,2,    989.8,6,   2314.1,2,     7.64,2, -999.00,     2.4, -999.00,  -999.0
    31DSCG96_1,  P15S,    33,  1,    129,   1256,2,19960118,1150,-66.9932,-170.0000, 3630,   -999,    103.0,  -1.2576,  34.2327,2,  34.2393,2,    288.6,2, -1.2601,    277.2,2,    72.25,2,    30.18,2,     0.10,2,     2.07,2,    4.185,2,    2.094,2,   -152.0,2,     0.84,2,   2210.8,2,   1037.7,2,   2319.2,2,     7.62,2, -999.00,     2.5, -999.00,  -999.0
    31DSCG96_1,  P15S,    33,  1,    128,   1007,2,19960118,1150,-66.9932,-170.0000, 3630,   -999,    129.0,  -0.3369,  34.3829,2,  34.3907,2,    261.1,2, -0.3412,    244.5,2,    78.24,2,    31.42,2,     0.03,2,     2.14,2, -999.000,9, -999.000,9,   -146.5,2,     0.59,2,   2226.7,2,   1111.2,2,   2324.6,2,     7.60,2, -999.00,     2.4, -999.00,  -999.0
    31DSCG96_1,  P15S,    33,  1,    127,   1234,2,19960118,1150,-66.9932,-170.0000, 3630,   -999,    151.5,   0.5375,  34.5239,2,  34.5376,2,    228.4,2,  0.5313,    213.2,2,    83.70,2,    32.28,2,     0.02,2,     2.19,2,    1.730,2,    0.849,2,   -165.6,2,     0.38,2,   2240.8,2,   1156.0,2,   2336.4,2,     7.58,2, -999.00,     2.9, -999.00,  -999.0
    31DSCG96_1,  P15S,    33,  1,    126,   1025,2,19960118,1150,-66.9932,-170.0000, 3630,   -999,    178.3,   1.1373,  34.6284,2,  34.6269,2,    205.1,2,  1.1291,    196.3,2,    87.07,2,    32.62,2,     0.01,2,     2.22,2, -999.000,9, -999.000,9,   -157.3,2,     0.39,2,   2248.1,2,   1178.4,2,   2342.9,2,     7.58,2, -999.00,     2.2, -999.00,  -999.0
    31DSCG96_1,  P15S,    33,  1,    125,   1233,2,19960118,1150,-66.9932,-170.0000, 3630,   -999,    213.7,   1.4721,  34.6887,2,  34.6899,2,    190.3,2,  1.4616,    188.7,2,    88.97,2,    32.72,2,     0.00,2,     2.21,2,    0.509,2,    0.327,2,   -168.5,2,     0.39,2,   2252.0,2,   1166.9,2,   2347.2,2,     7.57,2, -999.00,     2.3, -999.00,  -999.0
    31DSCG96_1,  P15S,    33,  1,    124,   1218,2,19960118,1150,-66.9932,-170.0000, 3630,   -999,    262.7,   1.4856,  34.7037,2,  34.7031,2,    190.1,2,  1.4725,    189.7,2,    90.33,2,    32.24,2,     0.01,2,     2.19,2, -999.000,9, -999.000,9,   -160.3,2,     0.36,2,   2253.0,2,   1149.7,6,   2349.2,2,     7.58,2, -999.00,     2.2, -999.00,  -999.0
    31DSCG96_1,  P15S,    33,  1,    123,   1250,2,19960118,1150,-66.9932,-170.0000, 3630,   -999,    314.6,   1.4634,  34.7123,2,  34.7119,2,    191.0,2,  1.4476,    190.8,6,    92.29,2,    32.07,2,     0.00,2,     2.18,2,    0.381,2,    0.218,2,   -169.2,2,  -999.00,9,   2251.7,2,   1141.2,2,   2348.9,2,     7.59,2, -999.00,     2.4, -999.00,  -999.0
    31DSCG96_1,  P15S,    33,  1,    122,   1109,2,19960118,1150,-66.9932,-170.0000, 3630,   -999,    364.5,   1.4391,  34.7187,2,  34.7220,2,    191.3,2,  1.4207,    191.4,2,    94.28,2,    31.97,2,     0.00,2,     2.17,2, -999.000,9, -999.000,9,   -176.0,2,     0.37,6,   2252.1,2,   1133.0,2,   2351.0,2,     7.59,2, -999.00,     2.7, -999.00,  -999.0
    31DSCG96_1,  P15S,    33,  1,    121,   1246,2,19960118,1150,-66.9932,-170.0000, 3630,   -999,    414.7,   1.4146,  34.7221,2,  34.7230,2,    190.7,2,  1.3935,    191.9,2,    95.81,2,    31.86,2,     0.00,2,     2.16,2,    0.273,2,    0.155,2,   -161.1,6,     0.40,2,   2254.0,2,   1129.5,2,   2354.3,2,     7.59,2, -999.00,     2.6, -999.00,  -999.0
    31DSCG96_1,  P15S,    33,  1,    120,   1015,2,19960118,1150,-66.9932,-170.0000, 3630,   -999,    464.1,   1.3816,  34.7248,2,  34.7253,2,    191.9,2,  1.3579,    193.3,2,    97.13,2,    31.81,2,     0.00,2,     2.16,2, -999.000,9, -999.000,9,   -161.8,2,     0.39,2,   2257.0,2,   1126.3,6,   2356.3,2,     7.59,2, -999.00,     2.2, -999.00,  -999.0
    31DSCG96_1,  P15S,    33,  1,    119,   1247,2,19960118,1150,-66.9932,-170.0000, 3630,   -999,    523.9,   1.3298,  34.7262,2,  34.7268,2,    193.6,2,  1.3030,    194.0,2,    99.42,2,    31.83,2,     0.00,2,     2.17,4,    0.209,2,    0.175,4,   -172.2,2,     0.36,2,   -999.0,9,   1119.7,2,   2357.3,2,     7.60,2, -999.00,     3.5, -999.00,  -999.0
    31DSCG96_1,  P15S,    33,  1,    118,   1222,2,19960118,1150,-66.9932,-170.0000, 3630,   -999,    625.2,   1.2620,  34.7266,2,  34.7267,2,    195.7,2,  1.2299,    194.9,2,   102.07,2,    31.84,2,     0.00,2,     2.16,2,    0.174,2,    0.134,4,   -186.7,3,     0.42,2,   2256.6,2,   1123.6,2,   2358.1,2,     7.60,2, -999.00,     3.1, -999.00,  -999.0
    31DSCG96_1,  P15S,    33,  1,    117,   1267,2,19960118,1150,-66.9932,-170.0000, 3630,   -999,    723.6,   1.1876,  34.7254,2,  34.7259,2,    197.4,2,  1.1502,    197.2,6,   104.52,2,    31.81,2,     0.00,2,     2.16,2,    0.149,2,    0.114,4,   -178.1,2,     0.40,2,   2256.1,2,   1117.1,2,   2359.9,2,     7.60,2, -999.00,     2.2, -999.00,  -999.0
    31DSCG96_1,  P15S,    33,  1,    116,   1211,2,19960118,1150,-66.9932,-170.0000, 3630,   -999,    824.0,   1.1092,  34.7231,2,  34.7228,2,    198.7,2,  1.0665,    198.5,2,   107.30,2,    31.93,2,     0.00,2,     2.17,2,    0.130,2,    0.109,4,   -999.0,5,     0.37,2,   2257.1,2,   1106.4,2,   2360.1,2,     7.60,2, -999.00,  -999.0, -999.00,  -999.0
    31DSCG96_1,  P15S,    33,  1,    115,   1041,2,19960118,1150,-66.9932,-170.0000, 3630,   -999,    925.0,   1.0341,  34.7207,2,  34.7207,2,    200.0,2,  0.9860,    199.2,2,   110.03,2,    32.02,2,     0.00,2,     2.17,2,    0.101,2,    0.148,4,   -167.1,2,     0.43,2,   2257.7,2,   1098.7,2,   2360.4,2,     7.60,2, -999.00,     2.2, -999.00,  -999.0
    31DSCG96_1,  P15S,    33,  1,    114,   1017,2,19960118,1150,-66.9932,-170.0000, 3630,   -999,   1030.3,   0.9492,  34.7177,2,  34.7177,2,    201.6,2,  0.8954,    200.9,2,   112.73,2,    32.09,2,     0.00,2,     2.18,2,    0.106,2,    0.132,4,   -999.0,5,     0.40,2,   2258.7,2,   1113.6,2,   2362.4,2,     7.60,2, -999.00,  -999.0, -999.00,  -999.0
    31DSCG96_1,  P15S,    33,  1,    113,   1008,2,19960118,1150,-66.9932,-170.0000, 3630,   -999,   1136.4,   0.8843,  34.7149,2,  34.7151,2,    203.0,2,  0.8245,    202.8,2,   114.73,2,    32.21,2,     0.00,2,     2.18,2,    0.093,2,    0.065,2,   -173.4,2,     0.41,2,   2259.6,2,   1104.6,2,   2360.9,2,     7.60,2, -999.00,     2.8, -999.00,  -999.0
    31DSCG96_1,  P15S,    33,  1,    112,   1217,2,19960118,1150,-66.9932,-170.0000, 3630,   -999,   1315.6,   0.7595,  34.7096,2,  34.7100,2,    205.2,2,  0.6896,    204.5,2,   118.38,2,    32.34,2,     0.00,2,     2.19,2,    0.100,2,    0.082,4,   -181.8,6,     0.42,2,   2260.9,2,   1103.5,2,   2363.2,2,     7.60,2, -999.00,     6.4, -999.00,  -999.0
    31DSCG96_1,  P15S,    33,  1,    111,   1114,2,19960118,1150,-66.9932,-170.0000, 3630,   -999,   1562.5,   0.6342,  34.7056,2,  34.7067,2,    207.1,2,  0.5494,    207.7,6,   121.96,2,    32.41,2,     0.00,2,     2.20,2,    0.125,2,    0.074,2,   -182.6,2,     0.46,2,   2261.9,2,   1114.3,2,   2362.6,2,     7.60,2, -999.00,     2.3, -999.00,  -999.0
    31DSCG96_1,  P15S,    33,  1,    110,   1036,2,19960118,1150,-66.9932,-170.0000, 3630,   -999,   1814.2,   0.5172,  34.7020,2,  34.7025,2,    209.5,2,  0.4167,    209.4,2,   123.90,2,    32.56,2,     0.00,2,     2.21,2,    0.174,2,    0.095,2,   -179.3,2,     0.40,2,   2261.4,2,   1117.3,2,   2365.2,2,     7.60,2, -999.00,     2.9, -999.00,  -999.0
    31DSCG96_1,  P15S,    33,  1,    109,   1216,2,19960118,1150,-66.9932,-170.0000, 3630,   -999,   2064.5,   0.4066,  34.7006,2,  34.7007,2,    211.8,2,  0.2897,    211.7,2,   126.08,2,    32.60,2,     0.00,2,     2.24,3,    0.203,2,    0.126,2,   -171.8,2,     0.44,2,   2260.6,2,   1122.1,2,   2364.4,2,     7.60,2, -999.00,     3.4, -999.00,  -999.0
    31DSCG96_1,  P15S,    33,  1,    108,   1263,2,19960118,1150,-66.9932,-170.0000, 3630,   -999,   2318.1,   0.3231,  34.6996,2,  34.6991,2,    214.0,2,  0.1885,    213.8,2,   126.09,2,    32.48,3,     0.00,2,     2.22,2,    0.279,2,    0.176,2,   -999.0,5,     0.43,2,   2262.3,2,   1111.2,2,   2363.7,2,     7.60,2, -999.00,  -999.0, -999.00,  -999.0
    31DSCG96_1,  P15S,    33,  1,    107,   1245,2,19960118,1150,-66.9932,-170.0000, 3630,   -999,   2565.0,   0.2586,  34.6983,2,  34.6987,2,    216.4,2,  0.1057,    216.2,2,   124.74,2,    32.61,2,     0.00,2,     2.21,2,    0.418,2,    0.213,2,   -170.9,2,     0.44,2,   2261.1,2,   1120.1,2,   2361.3,2,     7.60,2, -999.00,     2.3, -999.00,  -999.0
    31DSCG96_1,  P15S,    33,  1,    106,   1262,2,19960118,1150,-66.9932,-170.0000, 3630,   -999,   2812.4,   0.2265,  34.6976,2,  34.6977,2,    218.2,2,  0.0539,    217.9,2,   123.62,2,    32.55,2,     0.00,2,     2.21,2,    0.519,2,    0.260,2,   -181.1,2,     0.47,2,   2261.4,2,   1116.3,2,   2363.0,2,     7.60,2, -999.00,     2.8, -999.00,  -999.0
    31DSCG96_1,  P15S,    33,  1,    105,   1113,2,19960118,1150,-66.9932,-170.0000, 3630,   -999,   3064.6,   0.2121,  34.6971,2,  34.6963,2,    219.4,2,  0.0182,    219.4,6,   122.69,2,    32.50,2,     0.00,2,     2.21,2,    0.596,2,    0.329,2,   -166.1,2,     0.49,2,   2260.5,2,   1117.1,2,   2361.1,2,     7.60,2, -999.00,     2.2, -999.00,  -999.0
    31DSCG96_1,  P15S,    33,  1,    104,   1003,2,19960118,1150,-66.9932,-170.0000, 3630,   -999,   3315.4,   0.2106,  34.6967,2,  34.6962,2,    220.4,2, -0.0057,    219.4,2,   121.93,2,    32.56,2,     0.00,2,     2.20,2,    0.645,2,    0.331,2,   -164.3,2,     0.45,2,   2260.2,2,   1124.7,2,   2361.9,2,     7.60,2, -999.00,     2.7, -999.00,  -999.0
    31DSCG96_1,  P15S,    33,  1,    103,   9999,2,19960118,1150,-66.9932,-170.0000, 3630,   -999,   3563.9,   0.2263,  34.6965,2,  34.6950,2,    220.8,2, -0.0137,    220.3,2,   121.58,2,    32.47,2,     0.00,2,     2.20,2,    0.670,6,    0.322,6,   -178.2,2,     0.44,2,   2260.3,2,   1115.8,2,   2363.2,2,     7.60,2, -999.00,     2.2, -999.00,  -999.0
    31DSCG96_1,  P15S,    33,  1,    102,   1027,2,19960118,1150,-66.9932,-170.0000, 3630,   -999,   3564.9,   0.2266,  34.6967,2,  34.6956,2,    220.8,2, -0.0135,    220.1,2,   121.33,2,    32.39,2,     0.00,2,     2.19,2,    0.685,2,    0.326,2,   -171.5,2,     0.47,2,   2260.8,2,   1130.2,2,   2362.3,2,     7.60,2, -999.00,     2.2, -999.00,  -999.0
    31DSCG96_1,  P15S,    33,  1,    101,   1022,2,19960118,1150,-66.9932,-170.0000, 3630,   -999,   3663.6,   0.2351,  34.6966,2,  34.6964,2,    221.0,2, -0.0146,    220.4,2,   121.63,6,    32.45,6,     0.00,6,     2.20,6,    0.696,2,    0.349,2,   -174.8,2,     0.45,2,   2259.1,2,   1126.1,2,   2361.5,2,     7.60,2, -999.00,     2.2, -999.00,  -999.0