BOTTLE,20220811CCHSIOAMB
EXPOCODE,SECT_ID,STNNBR,CASTNO,SAMPNO,BTLNBR,BTLNBR_FLAG_W,DATE,TIME,LATITUDE,LONGITUDE,DEPTH,CTDRAW,CTDPRS,CTDTMP,CTDSAL,CTDSAL_FLAG_W,SALNTY,SALNTY_FLAG_W,CTDOXY,CTDOXY_FLAG_W,THETA,OXYGEN,OXYGEN_FLAG_W,SILCAT,SILCAT_FLAG_W,NITRAT,NITRAT_FLAG_W,NITRIT,NITRIT_FLAG_W,PHSPHT,PHSPHT_FLAG_W,CFC-11,CFC-11_FLAG_W,CFC-12,CFC-12_FLAG_W,DELC14,DELC14_FLAG_W,DELC13,DELC13_FLAG_W,TCARBN,TCARBN_FLAG_W,PCO2,PCO2_FLAG_W,ALKALI,ALKALI_FLAG_W,PH,PH_FLAG_W,PCO2TMP,C14ERR,PH_TMP,C13ERR
,,,,,,,,,,,,DBAR,DBAR,ITS-90,PSS-78,,PSS-78,,UMOL/KG,,DEG C,UMOL/KG,,UMOL/KG,,UMOL/KG,,UMOL/KG,,UMOL/KG,,PMOL/KG,,PMOL/KG,,/MILLE,,/MILLE,,UMOL/KG,,UATM,,UMOL/KG,,,,DEG C,/MILLE,DEG C,/MILLE
    31DSCG96_2,  P15S,   138,  1,    136,   1245,2,19960225,2023,-19.4980,-170.0015, 4885,   -999,      4.9,  28.9732,  34.7959,2,  34.8012,2,    204.9,2, 28.9720,    201.8,2,     1.13,2,     0.00,2,     0.00,2,     0.00,3,    1.589,2,    0.922,2,     84.7,2,  -999.00,9,   1907.0,2,    219.1,6,   -999.0,9,     8.16,2, -999.00,     4.4, -999.00,  -999.0
    31DSCG96_2,  P15S,   138,  1,    135,   1113,2,19960225,2023,-19.4980,-170.0015, 4885,   -999,     20.3,  28.5588,  34.8025,2,  34.8189,2,    204.9,2, 28.5539,    203.6,2,     1.17,2,     0.00,2,     0.00,2,     0.00,3,    1.616,2,    0.930,2,   -999.0,9,  -999.00,9,   1909.8,2,    230.3,2,   -999.0,9,     8.16,2, -999.00,  -999.0, -999.00,  -999.0
    31DSCG96_2,  P15S,   138,  1,    134,   1267,2,19960225,2023,-19.4980,-170.0015, 4885,   -999,     46.1,  25.4460,  35.3634,2,  35.3556,2,    215.0,2, 25.4359,    215.2,2,     1.16,2,     0.00,2,     0.00,2,     0.05,2,    1.855,2,    1.055,2,   -999.0,9,  -999.00,9,   1960.0,2,    264.6,2,   -999.0,9,     8.13,2, -999.00,  -999.0, -999.00,  -999.0
    31DSCG96_2,  P15S,   138,  1,    133,   1221,2,19960225,2023,-19.4980,-170.0015, 4885,   -999,     67.7,  24.2684,  35.5340,2,  35.5526,2,    209.3,2, 24.2540,    204.2,2,     1.17,2,     0.02,2,     0.00,2,     0.09,2,    1.925,2,    1.075,2,   -999.0,9,  -999.00,9,   -999.0,9,   -999.0,9,   -999.0,9,     8.10,2, -999.00,  -999.0, -999.00,  -999.0
    31DSCG96_2,  P15S,   138,  1,    132,   1039,2,19960225,2023,-19.4980,-170.0015, 4885,   -999,     96.7,  23.4492,  35.6854,2,  35.6879,2,    193.0,2, 23.4291,    190.9,2,     1.30,2,     0.13,2,     0.15,2,     0.16,2, -999.000,9, -999.000,9,   -999.0,9,  -999.00,9,   -999.0,9,   -999.0,9,   -999.0,9,     8.07,2, -999.00,  -999.0, -999.00,  -999.0
    31DSCG96_2,  P15S,   138,  1,    131,   1014,2,19960225,2023,-19.4980,-170.0015, 4885,   -999,    118.0,  22.8637,  35.7289,2,  35.7287,2,    189.9,2, 22.8396,    193.3,2,     1.19,2,     0.60,2,     0.10,2,     0.17,2,    2.002,2,    1.120,2,   -999.0,9,  -999.00,9,   -999.0,9,   -999.0,9,   -999.0,9,     8.07,2, -999.00,  -999.0, -999.00,  -999.0
    31DSCG96_2,  P15S,   138,  1,    130,   1257,2,19960225,2023,-19.4980,-170.0015, 4885,   -999,    146.4,  22.1211,  35.7949,2,  35.7839,2,    185.3,2, 22.0919,    186.5,2,     1.20,2,     1.27,2,     0.04,2,     0.22,2, -999.000,9, -999.000,9,   -999.0,9,  -999.00,9,   -999.0,9,   -999.0,9,   -999.0,9,     8.04,2, -999.00,  -999.0, -999.00,  -999.0
    31DSCG96_2,  P15S,   138,  1,    129,   1256,2,19960225,2023,-19.4980,-170.0015, 4885,   -999,    190.7,  20.6043,  35.7629,2,  35.7673,2,    178.9,2, 20.5682,    182.2,2,     1.36,2,     2.66,2,     0.01,2,     0.30,2,    2.107,2,    1.148,2,   -999.0,9,  -999.00,9,   -999.0,9,   -999.0,9,   -999.0,9,     8.01,2, -999.00,  -999.0, -999.00,  -999.0
    31DSCG96_2,  P15S,   138,  1,    128,   1007,2,19960225,2023,-19.4980,-170.0015, 4885,   -999,    240.2,  19.1827,  35.6600,2,  35.6598,2,    183.0,2, 19.1394,    184.0,2,     1.62,2,     3.51,2,     0.01,2,     0.36,2, -999.000,9, -999.000,9,   -999.0,9,  -999.00,9,   -999.0,9,   -999.0,9,   -999.0,9,     7.98,2, -999.00,  -999.0, -999.00,  -999.0
    31DSCG96_2,  P15S,   138,  1,    127,   1232,2,19960225,2023,-19.4980,-170.0015, 4885,   -999,    291.5,  17.3988,  35.4888,2,  35.4906,2,    186.5,2, 17.3496,    186.9,6,     2.09,2,     4.88,2,     0.01,2,     0.47,2,    2.025,2,    1.077,2,   -999.0,9,  -999.00,9,   -999.0,9,   -999.0,9,   -999.0,9,     7.95,2, -999.00,  -999.0, -999.00,  -999.0
    31DSCG96_2,  P15S,   138,  1,    126,   1025,2,19960225,2023,-19.4980,-170.0015, 4885,   -999,    342.5,  15.8314,  35.3061,2,  35.3064,2,    184.2,2, 15.7773,    184.2,2,     2.80,2,     7.20,2,     0.00,2,     0.62,2, -999.000,9, -999.000,9,   -999.0,9,  -999.00,9,   -999.0,9,   -999.0,9,   -999.0,9,     7.91,2, -999.00,  -999.0, -999.00,  -999.0
    31DSCG96_2,  P15S,   138,  1,    125,   1119,2,19960225,2023,-19.4980,-170.0015, 4885,   -999,    392.3,  13.4454,  35.0203,2,  35.0275,2,    179.0,2, 13.3898,    179.5,2,     4.46,2,    11.49,2,     0.00,2,     0.91,2,    1.532,2,    0.796,2,   -999.0,9,  -999.00,9,   -999.0,9,   -999.0,9,   -999.0,9,     7.85,2, -999.00,  -999.0, -999.00,  -999.0
    31DSCG96_2,  P15S,   138,  1,    124,   1244,2,19960225,2023,-19.4980,-170.0015, 4885,   -999,    475.9,  10.1541,  34.6719,2,  34.6800,2,    189.6,2, 10.0978,    190.9,2,     6.40,2,    17.45,6,     0.00,6,     1.27,2,    1.210,2,    0.625,2,   -999.0,9,  -999.00,9,   -999.0,9,   -999.0,9,   -999.0,9,     7.77,2, -999.00,  -999.0, -999.00,  -999.0
    31DSCG96_2,  P15S,   138,  1,    123,   1250,2,19960225,2023,-19.4980,-170.0015, 4885,   -999,    573.7,   7.1653,  34.4096,2,  34.4091,2,    210.0,2,  7.1099,    213.7,2,     9.87,2,    23.34,2,     0.00,2,     1.62,2, -999.000,9, -999.000,9,   -999.0,9,  -999.00,9,   -999.0,9,   -999.0,9,   -999.0,9,     7.71,2, -999.00,  -999.0, -999.00,  -999.0
    31DSCG96_2,  P15S,   138,  1,    122,   1265,2,19960225,2023,-19.4980,-170.0015, 4885,   -999,    674.6,   6.1449,  34.3498,2,  34.3490,2,    212.9,2,  6.0845,    212.8,2,    14.53,2,    26.25,2,     0.00,2,     1.81,2,    0.454,2,    0.241,2,   -999.0,9,  -999.00,9,   -999.0,9,   -999.0,9,   -999.0,9,     7.69,2, -999.00,  -999.0, -999.00,  -999.0
    31DSCG96_2,  P15S,   138,  1,    121,   1246,2,19960225,2023,-19.4980,-170.0015, 4885,   -999,    774.5,   5.2508,  34.3316,2,  34.3327,2,    204.8,2,  5.1863,    201.9,2,    23.25,2,    29.28,2,     0.00,2,     2.01,2, -999.000,9, -999.000,9,   -999.0,9,  -999.00,9,   -999.0,9,   -999.0,9,   -999.0,9,     7.66,2, -999.00,  -999.0, -999.00,  -999.0
    31DSCG96_2,  P15S,   138,  1,    120,   1015,2,19960225,2023,-19.4980,-170.0015, 4885,   -999,    872.9,   4.6772,  34.4036,2,  34.4035,2,    169.8,2,  4.6076,    164.3,2,    42.94,2,    33.17,2,     0.00,2,     2.30,2,    0.026,2,    0.012,2,   -999.0,9,  -999.00,9,   -999.0,9,   -999.0,9,   -999.0,9,     7.60,2, -999.00,  -999.0, -999.00,  -999.0
    31DSCG96_2,  P15S,   138,  1,    119,   1247,2,19960225,2023,-19.4980,-170.0015, 4885,   -999,    976.2,   4.1260,  34.4366,2,  34.4363,2,    157.6,2,  4.0514,    157.9,6,    54.76,2,    34.40,2,     0.00,2,     2.38,2, -999.000,9, -999.000,9,   -999.0,9,  -999.00,9,   -999.0,9,   -999.0,9,   -999.0,9,     7.58,2, -999.00,  -999.0, -999.00,  -999.0
    31DSCG96_2,  P15S,   138,  1,    118,   1299,2,19960225,2023,-19.4980,-170.0015, 4885,   -999,   1079.2,   3.5626,  34.4796,2,  34.4801,2,    154.4,2,  3.4839,    154.9,2,    68.27,2,    35.07,2,     0.00,2,     2.43,2, -999.000,9, -999.000,9,   -999.0,9,  -999.00,9,   -999.0,9,   -999.0,9,   -999.0,9,     7.57,2, -999.00,  -999.0, -999.00,  -999.0
    31DSCG96_2,  P15S,   138,  1,    117,   1242,2,19960225,2023,-19.4980,-170.0015, 4885,   -999,   1176.6,   3.2241,  34.5084,2,  34.5081,2,    152.9,2,  3.1405,    154.2,2,    76.91,2,    35.27,2,     0.00,2,     2.45,2, -999.000,5, -999.000,5,   -999.0,9,  -999.00,9,   -999.0,9,   -999.0,9,   -999.0,9,     7.57,2, -999.00,  -999.0, -999.00,  -999.0
    31DSCG96_2,  P15S,   138,  1,    116,   1259,2,19960225,2023,-19.4980,-170.0015, 4885,   -999,   1272.3,   2.8720,  34.5467,2,  34.5466,2,    152.1,2,  2.7840,    152.4,2,    87.87,2,    35.46,2,     0.00,2,     2.47,2, -999.000,9, -999.000,9,   -999.0,9,  -999.00,9,   -999.0,9,   -999.0,9,   -999.0,9,     7.57,2, -999.00,  -999.0, -999.00,  -999.0
    31DSCG96_2,  P15S,   138,  1,    115,   1041,2,19960225,2023,-19.4980,-170.0015, 4885,   -999,   1446.3,   2.6196,  34.5871,2,  34.5882,2,    145.6,2,  2.5204,    147.0,2,   100.69,2,    35.90,2,     0.00,2,     2.50,2, -999.000,9, -999.000,9,   -999.0,9,  -999.00,9,   -999.0,9,   -999.0,9,   -999.0,9,     7.57,2, -999.00,  -999.0, -999.00,  -999.0
    31DSCG96_2,  P15S,   138,  1,    114,   1017,2,19960225,2023,-19.4980,-170.0015, 4885,   -999,   1689.6,   2.4022,  34.6128,2,  34.6128,2,    143.5,2,  2.2858,    144.5,2,   110.47,2,    36.08,2,     0.00,2,     2.52,2,    0.000,2,    0.003,2,   -999.0,9,  -999.00,9,   -999.0,9,   -999.0,9,   -999.0,9,     7.57,2, -999.00,  -999.0, -999.00,  -999.0
    31DSCG96_2,  P15S,   138,  1,    113,   1302,2,19960225,2023,-19.4980,-170.0015, 4885,   -999,   1944.3,   2.1999,  34.6314,2,  34.6314,2,    143.9,2,  2.0652,    144.4,2,   117.46,2,    36.17,2,     0.00,2,     2.52,2, -999.000,9, -999.000,9,   -999.0,9,  -999.00,9,   -999.0,9,   -999.0,9,   -999.0,9,     7.57,2, -999.00,  -999.0, -999.00,  -999.0
    31DSCG96_2,  P15S,   138,  1,    112,   1217,2,19960225,2023,-19.4980,-170.0015, 4885,   -999,   2188.1,   2.0558,  34.6443,2,  34.6438,2,    144.3,2,  1.9023,    144.6,2,   122.99,2,    36.25,2,     0.00,2,     2.53,2, -999.000,9, -999.000,9,   -999.0,9,  -999.00,9,   -999.0,9,   -999.0,9,   -999.0,9,     7.57,2, -999.00,  -999.0, -999.00,  -999.0
    31DSCG96_2,  P15S,   138,  1,    111,   1226,2,19960225,2023,-19.4980,-170.0015, 4885,   -999,   2435.6,   1.9435,  34.6543,2,  34.6534,2,    144.7,2,  1.7700,    144.7,6,   127.46,2,    36.32,2,     0.00,2,     2.53,2,   -0.001,2,    0.001,2,   -999.0,9,  -999.00,9,   -999.0,9,   -999.0,9,   -999.0,9,     7.57,2, -999.00,  -999.0, -999.00,  -999.0
    31DSCG96_2,  P15S,   138,  1,    110,   1301,2,19960225,2023,-19.4980,-170.0015, 4885,   -999,   2690.6,   1.8387,  34.6629,2,  34.6622,2,    145.8,2,  1.6439,    145.6,2,   131.53,2,    36.28,2,     0.00,2,     2.53,2, -999.000,9, -999.000,9,   -999.0,9,  -999.00,9,   -999.0,9,   -999.0,9,   -999.0,9,     7.57,2, -999.00,  -999.0, -999.00,  -999.0
    31DSCG96_2,  P15S,   138,  1,    109,   1233,2,19960225,2023,-19.4980,-170.0015, 4885,   -999,   2940.1,   1.7722,  34.6683,2,  34.6677,2,    146.5,2,  1.5552,    147.0,2,   133.88,2,    36.24,2,     0.00,2,     2.52,2,    0.001,2,    0.002,2,   -999.0,9,  -999.00,9,   -999.0,9,   -999.0,9,   -999.0,9,     7.57,2, -999.00,  -999.0, -999.00,  -999.0
    31DSCG96_2,  P15S,   138,  1,    108,   1227,2,19960225,2023,-19.4980,-170.0015, 4885,   -999,   3191.1,   1.6923,  34.6745,2,  34.6739,2,    149.9,2,  1.4526,    150.5,2,   134.65,2,    35.97,2,     0.00,2,     2.50,2, -999.000,9, -999.000,9,   -999.0,9,  -999.00,9,   -999.0,9,   -999.0,9,   -999.0,9,     7.58,2, -999.00,  -999.0, -999.00,  -999.0
    31DSCG96_2,  P15S,   138,  1,    107,   1263,2,19960225,2023,-19.4980,-170.0015, 4885,   -999,   3439.0,   1.6023,  34.6826,2,  34.6822,2,    158.7,2,  1.3398,    159.5,2,   131.92,2,    35.26,2,     0.00,2,     2.45,2,    0.002,2,    0.002,2,   -999.0,9,  -999.00,9,   -999.0,9,   -999.0,9,   -999.0,9,     7.58,2, -999.00,  -999.0, -999.00,  -999.0
    31DSCG96_2,  P15S,   138,  1,    106,   1262,2,19960225,2023,-19.4980,-170.0015, 4885,   -999,   3688.2,   1.5021,  34.6994,2,  34.6988,2,    175.2,2,  1.2163,    175.9,2,   122.90,2,    33.83,2,     0.00,2,     2.34,2, -999.000,9, -999.000,9,   -999.0,9,  -999.00,9,   -999.0,9,   -999.0,9,   -999.0,9,     7.59,2, -999.00,  -999.0, -999.00,  -999.0
    31DSCG96_2,  P15S,   138,  1,    105,   1264,2,19960225,2023,-19.4980,-170.0015, 4885,   -999,   3938.7,   1.3788,  34.7117,2,  34.7114,2,    190.9,2,  1.0696,    190.9,6,   116.26,2,    32.62,2,     0.00,2,     2.25,2,    0.001,2,    0.003,2,   -999.0,9,  -999.00,9,   -999.0,9,   -999.0,9,   -999.0,9,     7.61,2, -999.00,  -999.0, -999.00,  -999.0
    31DSCG96_2,  P15S,   138,  1,    104,   1003,2,19960225,2023,-19.4980,-170.0015, 4885,   -999,   4189.9,   1.1862,  34.7143,2,  34.7135,2,    200.5,2,  0.8554,    200.5,2,   116.22,2,    32.15,2,     0.00,2,     2.21,2, -999.000,9, -999.000,9,   -999.0,9,  -999.00,9,   -999.0,9,   -999.0,9,   -999.0,9,     7.61,2, -999.00,  -999.0, -999.00,  -999.0
    31DSCG96_2,  P15S,   138,  1,    103,   1035,2,19960225,2023,-19.4980,-170.0015, 4885,   -999,   4440.6,   1.0462,  34.7110,2,  34.7096,2,    204.8,2,  0.6918,    205.0,2,   119.19,2,    32.14,2,     0.00,2,     2.21,2,    0.005,2,    0.004,2,   -999.0,9,  -999.00,9,   -999.0,9,   -999.0,9,   -999.0,9,     7.61,2, -999.00,  -999.0, -999.00,  -999.0
    31DSCG96_2,  P15S,   138,  1,    102,   1030,2,19960225,2023,-19.4980,-170.0015, 4885,   -999,   4690.5,   0.9965,  34.7082,2,  34.7077,2,    205.9,2,  0.6153,    206.2,2,   121.08,2,    32.19,2,     0.00,2,     2.21,2,    0.007,2,    0.005,2,   -999.0,9,  -999.00,9,   -999.0,9,   -999.0,9,   -999.0,9,     7.61,2, -999.00,  -999.0, -999.00,  -999.0
    31DSCG96_2,  P15S,   138,  1,    101,   1022,2,19960225,2023,-19.4980,-170.0015, 4885,   -999,   4981.5,   1.0274,  34.7078,2,  34.7072,2,    206.1,2,  0.6112,    206.7,2,   121.29,6,    32.24,6,     0.00,6,     2.22,6,    0.009,2,    0.004,2,   -999.0,9,  -999.00,9,   -999.0,9,   -999.0,9,   -999.0,9,     7.61,2, -999.00,  -999.0, -999.00,  -999.0