BOTTLE,20220811CCHSIOAMB
EXPOCODE,SECT_ID,STNNBR,CASTNO,SAMPNO,BTLNBR,BTLNBR_FLAG_W,DATE,TIME,LATITUDE,LONGITUDE,DEPTH,CTDRAW,CTDPRS,CTDTMP,CTDSAL,CTDSAL_FLAG_W,SALNTY,SALNTY_FLAG_W,CTDOXY,CTDOXY_FLAG_W,THETA,OXYGEN,OXYGEN_FLAG_W,SILCAT,SILCAT_FLAG_W,NITRAT,NITRAT_FLAG_W,NITRIT,NITRIT_FLAG_W,PHSPHT,PHSPHT_FLAG_W,CFC-11,CFC-11_FLAG_W,CFC-12,CFC-12_FLAG_W,DELC14,DELC14_FLAG_W,DELC13,DELC13_FLAG_W,TCARBN,TCARBN_FLAG_W,PCO2,PCO2_FLAG_W,ALKALI,ALKALI_FLAG_W,PH,PH_FLAG_W,PCO2TMP,C14ERR,PH_TMP,C13ERR
,,,,,,,,,,,,DBAR,DBAR,ITS-90,PSS-78,,PSS-78,,UMOL/KG,,DEG C,UMOL/KG,,UMOL/KG,,UMOL/KG,,UMOL/KG,,UMOL/KG,,PMOL/KG,,PMOL/KG,,/MILLE,,/MILLE,,UMOL/KG,,UATM,,UMOL/KG,,,,DEG C,/MILLE,DEG C,/MILLE
    31DSCG96_1,  P15S,    42,  1,    133,   1221,2,19960120,1806,-62.0030,-169.9980, 3422,   -999,      9.4,   1.3677,  33.7396,2,  33.7419,2,    348.1,2,  1.3673,    351.1,2,     0.87,2,    22.39,2,     0.22,2,     1.28,2,    6.575,6,    3.149,6,   -999.0,9,  -999.00,9,   2111.4,2,    657.3,2,   2280.7,2,     7.79,2, -999.00,  -999.0, -999.00,  -999.0
    31DSCG96_1,  P15S,    42,  1,    134,   1119,2,19960120,1806,-62.0030,-169.9980, 3422,   -999,     10.9,   1.3674,  33.7396,2,  33.7439,2,    351.9,2,  1.3669,    351.5,2,     0.87,2,    22.54,2,     0.22,2,     1.27,2, -999.000,9, -999.000,9,    -83.7,2,  -999.00,9,   -999.0,9,   -999.0,9,   -999.0,9,     7.78,2, -999.00,     2.9, -999.00,  -999.0
    31DSCG96_1,  P15S,    42,  1,    132,   1039,2,19960120,1806,-62.0030,-169.9980, 3422,   -999,     21.5,   1.3644,  33.7436,2,  33.7458,2,    352.6,2,  1.3635,    351.4,2,     0.87,2,    22.51,2,     0.22,2,     1.26,2, -999.000,9, -999.000,9,   -999.0,9,  -999.00,9,   -999.0,9,   -999.0,9,   -999.0,9,     7.79,3, -999.00,  -999.0, -999.00,  -999.0
    31DSCG96_1,  P15S,    42,  1,    131,   1042,2,19960120,1806,-62.0030,-169.9980, 3422,   -999,     45.1,   1.3668,  33.7434,2,  33.7445,2,    352.1,2,  1.3648,    351.1,2,     0.86,2,    22.52,2,     0.22,2,     1.28,2, -999.000,9, -999.000,9,   -999.0,9,  -999.00,9,   2112.8,2,   -999.0,9,   2284.1,2,  -999.00,9, -999.00,  -999.0, -999.00,  -999.0
    31DSCG96_1,  P15S,    42,  1,    130,   1257,2,19960120,1806,-62.0030,-169.9980, 3422,   -999,     68.0,   1.2080,  33.7442,2,  33.7477,2,    349.0,2,  1.2049,    349.9,2,     1.24,2,    22.62,2,     0.22,2,     1.36,2, -999.000,9, -999.000,9,   -999.0,9,  -999.00,9,   -999.0,9,   -999.0,9,   -999.0,9,     7.78,2, -999.00,  -999.0, -999.00,  -999.0
    31DSCG96_1,  P15S,    42,  1,    129,   1256,2,19960120,1806,-62.0030,-169.9980, 3422,   -999,     93.5,   0.0561,  33.8202,2,  33.8246,2,    343.2,2,  0.0529,    340.6,2,    20.47,2,    25.72,2,     0.17,2,     1.85,2,    6.637,2,    3.147,2,   -999.0,9,  -999.00,9,   2144.5,2,    797.5,2,   2286.2,2,     7.72,3, -999.00,  -999.0, -999.00,  -999.0
    31DSCG96_1,  P15S,    42,  1,    128,   1007,2,19960120,1806,-62.0030,-169.9980, 3422,   -999,    122.8,  -0.3157,  33.9107,2,  33.9079,2,    333.6,2, -0.3196,    331.1,2,    32.95,2,    28.31,2,     0.15,2,     2.04,2, -999.000,9, -999.000,9,   -999.0,9,  -999.00,9,   -999.0,9,   -999.0,9,   -999.0,9,     7.68,2, -999.00,  -999.0, -999.00,  -999.0
    31DSCG96_1,  P15S,    42,  1,    127,   1234,2,19960120,1806,-62.0030,-169.9980, 3422,   -999,    142.4,   0.0389,  33.9943,2,  33.9942,2,    327.1,2,  0.0339,    312.1,2,    39.04,2,    30.12,2,     0.19,2,     2.10,2, -999.000,9, -999.000,9,   -999.0,9,  -999.00,9,   2178.6,2,    939.3,2,   2293.5,2,     7.65,3, -999.00,  -999.0, -999.00,  -999.0
    31DSCG96_1,  P15S,    42,  1,    126,   1025,2,19960120,1806,-62.0030,-169.9980, 3422,   -999,    170.6,   1.3888,  34.1769,2,  34.1687,2,    279.4,2,  1.3807,    252.6,2,    44.59,2,    32.70,2,     0.03,2,     2.24,2, -999.000,9, -999.000,9,   -999.0,9,  -999.00,9,   -999.0,9,   -999.0,9,   -999.0,9,     7.61,2, -999.00,  -999.0, -999.00,  -999.0
    31DSCG96_1,  P15S,    42,  1,    125,   1233,2,19960120,1806,-62.0030,-169.9980, 3422,   -999,    193.9,   1.7398,  34.2492,2,  34.2495,2,    254.8,2,  1.7300,    226.2,6,    49.35,2,    33.72,2,     0.01,2,     2.30,2,    2.779,2,    1.294,2,   -999.0,9,  -999.00,9,   2174.6,3,   1116.5,2,   2310.1,2,     7.58,3, -999.00,  -999.0, -999.00,  -999.0
    31DSCG96_1,  P15S,    42,  1,    124,   1218,2,19960120,1806,-62.0030,-169.9980, 3422,   -999,    239.0,   2.1178,  34.3597,2,  34.3583,2,    206.6,2,  2.1048,    201.3,2,    57.58,2,    34.68,2,     0.01,2,     2.37,2, -999.000,9, -999.000,9,   -999.0,9,  -999.00,9,   -999.0,9,   -999.0,9,   -999.0,9,     7.57,2, -999.00,  -999.0, -999.00,  -999.0
    31DSCG96_1,  P15S,    42,  1,    123,   1250,2,19960120,1806,-62.0030,-169.9980, 3422,   -999,    294.8,   2.2187,  34.4261,2,  34.4254,2,    187.3,2,  2.2023,    187.8,2,    63.17,2,    35.06,2,     0.01,2,     2.40,2, -999.000,9, -999.000,9,   -999.0,9,  -999.00,9,   2240.2,2,   1230.6,2,   2321.9,2,     7.56,2, -999.00,  -999.0, -999.00,  -999.0
    31DSCG96_1,  P15S,    42,  1,    122,   1109,2,19960120,1806,-62.0030,-169.9980, 3422,   -999,    340.9,   2.2196,  34.4661,2,  34.4655,2,    181.2,2,  2.2004,    179.9,2,    66.81,2,    35.14,2,     0.00,2,     2.39,2, -999.000,9, -999.000,9,   -999.0,9,  -999.00,9,   -999.0,9,   -999.0,9,   -999.0,9,     7.55,2, -999.00,  -999.0, -999.00,  -999.0
    31DSCG96_1,  P15S,    42,  1,    121,   1246,2,19960120,1806,-62.0030,-169.9980, 3422,   -999,    388.0,   2.2509,  34.5066,2,  34.5064,2,    176.9,2,  2.2288,    176.7,2,    69.92,2,    35.06,2,     0.00,2,     2.39,2,    0.757,2,    0.364,2,   -999.0,9,  -999.00,9,   2247.4,2,   1251.0,2,   2331.5,2,     7.55,2, -999.00,  -999.0, -999.00,  -999.0
    31DSCG96_1,  P15S,    42,  1,    120,   1015,2,19960120,1806,-62.0030,-169.9980, 3422,   -999,    440.6,   2.2826,  34.5364,2,  34.5360,2,    173.7,2,  2.2571,    174.2,2,    71.76,2,    34.87,2,     0.00,2,     2.37,2, -999.000,9, -999.000,9,   -999.0,9,  -999.00,9,   -999.0,9,   -999.0,9,   -999.0,9,     7.55,2, -999.00,  -999.0, -999.00,  -999.0
    31DSCG96_1,  P15S,    42,  1,    119,   1247,2,19960120,1806,-62.0030,-169.9980, 3422,   -999,    490.6,   2.2933,  34.5668,2,  34.5669,2,    172.3,2,  2.2647,    172.1,6,    73.76,2,    34.57,2,     0.00,2,     2.35,2, -999.000,9, -999.000,9,   -999.0,9,  -999.00,9,   2250.5,2,   1244.8,2,   2333.9,2,     7.55,2, -999.00,  -999.0, -999.00,  -999.0
    31DSCG96_1,  P15S,    42,  1,    118,   1222,2,19960120,1806,-62.0030,-169.9980, 3422,   -999,    575.0,   2.2571,  34.6047,2,  34.6039,2,    172.5,2,  2.2233,    171.4,2,    76.27,2,    34.16,2,     0.00,2,     2.31,2,    0.359,2,    0.171,2,   -999.0,9,  -999.00,9,   -999.0,9,   -999.0,9,   -999.0,9,     7.56,2, -999.00,  -999.0, -999.00,  -999.0
    31DSCG96_1,  P15S,    42,  1,    117,   1267,2,19960120,1806,-62.0030,-169.9980, 3422,   -999,    679.7,   2.2175,  34.6506,2,  34.6512,2,    174.6,2,  2.1772,    174.2,2,    78.99,2,    33.39,2,     0.00,2,     2.24,3, -999.000,9, -999.000,9,   -999.0,9,  -999.00,9,   2250.7,2,   1212.8,2,   2344.2,2,     7.57,2, -999.00,  -999.0, -999.00,  -999.0
    31DSCG96_1,  P15S,    42,  1,    116,   1211,2,19960120,1806,-62.0030,-169.9980, 3422,   -999,    772.3,   2.1650,  34.6749,2,  34.6741,2,    176.7,2,  2.1189,    176.0,2,    80.66,2,    32.93,2,     0.00,2,     2.20,3, -999.000,9, -999.000,9,   -999.0,9,  -999.00,9,   -999.0,9,   -999.0,9,   -999.0,9,     7.58,2, -999.00,  -999.0, -999.00,  -999.0
    31DSCG96_1,  P15S,    42,  1,    115,   1041,2,19960120,1806,-62.0030,-169.9980, 3422,   -999,    872.4,   2.1172,  34.6954,2,  34.6948,2,    179.3,2,  2.0646,    179.2,2,    81.83,2,    32.41,2,     0.00,2,     2.20,2, -999.000,9, -999.000,9,   -999.0,9,  -999.00,9,   2250.7,2,   1138.0,2,   2346.8,2,     7.58,2, -999.00,  -999.0, -999.00,  -999.0
    31DSCG96_1,  P15S,    42,  1,    114,   1017,2,19960120,1806,-62.0030,-169.9980, 3422,   -999,    976.4,   2.0562,  34.7095,2,  34.7102,2,    182.7,2,  1.9970,    181.9,2,    83.50,2,    32.05,2,     0.00,2,     2.18,2, -999.000,9, -999.000,9,   -999.0,9,  -999.00,9,   -999.0,9,   -999.0,9,   -999.0,9,     7.59,2, -999.00,  -999.0, -999.00,  -999.0
    31DSCG96_1,  P15S,    42,  1,    113,   1008,2,19960120,1806,-62.0030,-169.9980, 3422,   -999,   1074.4,   1.9926,  34.7212,2,  34.7209,2,    185.1,2,  1.9271,    184.9,6,    85.24,2,    31.67,2,     0.00,2,     2.16,2,    0.122,2,    0.062,2,   -999.0,9,  -999.00,9,   2249.7,2,   1125.9,2,   2352.4,2,     7.60,2, -999.00,  -999.0, -999.00,  -999.0
    31DSCG96_1,  P15S,    42,  1,    112,   1217,2,19960120,1806,-62.0030,-169.9980, 3422,   -999,   1209.6,   1.8923,  34.7319,2,  34.7329,2,    188.9,2,  1.8181,    188.0,2,    87.95,2,    31.38,2,     0.00,2,     2.14,2, -999.000,9, -999.000,9,   -999.0,9,  -999.00,9,   -999.0,9,   -999.0,9,   -999.0,9,     7.60,2, -999.00,  -999.0, -999.00,  -999.0
    31DSCG96_1,  P15S,    42,  1,    111,   1114,2,19960120,1806,-62.0030,-169.9980, 3422,   -999,   1440.8,   1.7210,  34.7381,2,  34.7361,2,    192.5,2,  1.6320,    192.6,2,    92.42,2,    31.17,2,     0.00,2,     2.13,2, -999.000,9, -999.000,9,   -999.0,9,  -999.00,9,   2248.9,2,   1089.4,2,   2354.7,2,     7.61,2, -999.00,  -999.0, -999.00,  -999.0
    31DSCG96_1,  P15S,    42,  1,    110,   1036,2,19960120,1806,-62.0030,-169.9980, 3422,   -999,   1693.4,   1.5037,  34.7364,2,  34.7373,2,    196.9,2,  1.3984,    196.4,2,    98.60,2,    31.26,2,     0.00,2,     2.13,2, -999.000,9, -999.000,9,   -999.0,9,  -999.00,9,   -999.0,9,   -999.0,9,   -999.0,9,  -999.00,9, -999.00,  -999.0, -999.00,  -999.0
    31DSCG96_1,  P15S,    42,  1,    109,   1216,2,19960120,1806,-62.0030,-169.9980, 3422,   -999,   1938.4,   1.3048,  34.7302,2,  34.7300,2,    199.0,2,  1.1835,    199.0,2,   104.61,2,    31.54,2,     0.00,2,     2.14,2, -999.000,9, -999.000,9,   -999.0,9,  -999.00,9,   2251.8,2,   1099.7,2,   2363.3,2,     7.61,2, -999.00,  -999.0, -999.00,  -999.0
    31DSCG96_1,  P15S,    42,  1,    108,   1263,2,19960120,1806,-62.0030,-169.9980, 3422,   -999,   2190.2,   1.1150,  34.7229,2,  34.7229,2,    200.9,2,  0.9767,    201.8,2,   110.19,2,    31.80,2,     0.00,2,     2.17,2, -999.000,9, -999.000,9,   -999.0,9,  -999.00,9,   -999.0,9,   -999.0,9,   -999.0,9,     7.61,2, -999.00,  -999.0, -999.00,  -999.0
    31DSCG96_1,  P15S,    42,  1,    107,   1245,2,19960120,1806,-62.0030,-169.9980, 3422,   -999,   2439.9,   0.9323,  34.7146,2,  34.7148,2,    205.0,2,  0.7768,    205.0,6,   116.25,2,    32.06,2,     0.00,2,     2.18,2,    0.075,2,    0.042,2,   -999.0,9,  -999.00,9,   2261.3,3,   1102.6,2,   2361.9,2,     7.61,2, -999.00,  -999.0, -999.00,  -999.0
    31DSCG96_1,  P15S,    42,  1,    106,   1262,2,19960120,1806,-62.0030,-169.9980, 3422,   -999,   2691.4,   0.7992,  34.7089,2,  34.7086,2,    206.9,2,  0.6250,    206.1,2,   124.12,2,    32.25,2,     0.00,2,     2.20,2,    0.085,2,    0.050,2,   -999.0,9,  -999.00,9,   -999.0,9,   -999.0,9,   -999.0,9,     7.61,2, -999.00,  -999.0, -999.00,  -999.0
    31DSCG96_1,  P15S,    42,  1,    105,   1113,2,19960120,1806,-62.0030,-169.9980, 3422,   -999,   2939.9,   0.7719,  34.7071,2,  34.7073,2,    207.2,2,  0.5765,    206.3,2,   128.93,2,    32.39,2,     0.00,2,     2.21,2,    0.084,2,    0.043,2,   -999.0,9,  -999.00,9,   2260.4,2,   1113.6,2,   2366.7,2,     7.60,2, -999.00,  -999.0, -999.00,  -999.0
    31DSCG96_1,  P15S,    42,  1,    104,   1003,2,19960120,1806,-62.0030,-169.9980, 3422,   -999,   3187.5,   0.7811,  34.7064,2,  34.7063,2,    206.3,2,  0.5628,    205.8,2,   130.97,2,    32.51,2,     0.00,2,     2.21,2,    0.092,2,    0.055,2,   -999.0,9,  -999.00,9,   -999.0,9,   -999.0,9,   -999.0,9,     7.60,2, -999.00,  -999.0, -999.00,  -999.0
    31DSCG96_1,  P15S,    42,  1,    103,   9999,2,19960120,1806,-62.0030,-169.9980, 3422,   -999,   3331.5,   0.7904,  34.7062,2,  34.7065,2,    206.7,2,  0.5583,    206.3,2,   130.32,2,    32.41,2,     0.00,2,     2.21,2,    0.092,2,    0.044,2,   -999.0,9,  -999.00,9,   2261.0,2,   1111.4,2,   2362.8,2,     7.60,2, -999.00,  -999.0, -999.00,  -999.0
    31DSCG96_1,  P15S,    42,  1,    102,   1027,2,19960120,1806,-62.0030,-169.9980, 3422,   -999,   3335.7,   0.7904,  34.7064,2,  34.7064,2,    207.4,2,  0.5579,    206.1,2,   130.33,2,    32.40,2,     0.00,2,     2.21,2,    0.096,2,    0.052,2,   -999.0,9,  -999.00,9,   -999.0,9,   -999.0,9,   -999.0,9,     7.60,2, -999.00,  -999.0, -999.00,  -999.0
    31DSCG96_1,  P15S,    42,  1,    101,   1022,2,19960120,1806,-62.0030,-169.9980, 3422,   -999,   3425.8,   0.7987,  34.7062,2,  34.7057,2,    207.3,2,  0.5573,    206.4,2,   130.28,6,    32.46,6,     0.00,6,     2.21,2,    0.093,6,    0.053,6,   -999.0,9,  -999.00,9,   2261.1,2,   1126.7,2,   2366.3,2,     7.60,2, -999.00,  -999.0, -999.00,  -999.0