BOTTLE,20220811CCHSIOAMB
EXPOCODE,SECT_ID,STNNBR,CASTNO,SAMPNO,BTLNBR,BTLNBR_FLAG_W,DATE,TIME,LATITUDE,LONGITUDE,DEPTH,CTDRAW,CTDPRS,CTDTMP,CTDSAL,CTDSAL_FLAG_W,SALNTY,SALNTY_FLAG_W,CTDOXY,CTDOXY_FLAG_W,THETA,OXYGEN,OXYGEN_FLAG_W,SILCAT,SILCAT_FLAG_W,NITRAT,NITRAT_FLAG_W,NITRIT,NITRIT_FLAG_W,PHSPHT,PHSPHT_FLAG_W,CFC-11,CFC-11_FLAG_W,CFC-12,CFC-12_FLAG_W,DELC14,DELC14_FLAG_W,DELC13,DELC13_FLAG_W,TCARBN,TCARBN_FLAG_W,PCO2,PCO2_FLAG_W,ALKALI,ALKALI_FLAG_W,PH,PH_FLAG_W,PCO2TMP,C14ERR,PH_TMP,C13ERR
,,,,,,,,,,,,DBAR,DBAR,ITS-90,PSS-78,,PSS-78,,UMOL/KG,,DEG C,UMOL/KG,,UMOL/KG,,UMOL/KG,,UMOL/KG,,UMOL/KG,,PMOL/KG,,PMOL/KG,,/MILLE,,/MILLE,,UMOL/KG,,UATM,,UMOL/KG,,,,DEG C,/MILLE,DEG C,/MILLE
    31DSCG96_2,  P15S,   146,  1,    136,   1245,2,19960227,2028,-15.4972,-170.0015, 5064,   -999,      5.1,  29.3766,  34.7545,2,-999.0000,9,    195.3,2, 29.3753,    195.3,2,     1.45,2,     0.01,2,     0.00,2,     0.09,2,    1.566,2,    0.901,2,   -999.0,9,  -999.00,9,   1914.7,2,    227.2,2,   2285.0,2,     8.16,2, -999.00,  -999.0, -999.00,  -999.0
    31DSCG96_2,  P15S,   146,  1,    135,   1113,2,19960227,2028,-15.4972,-170.0015, 5064,   -999,     20.4,  29.3197,  34.7556,2,  34.7564,2,    194.5,2, 29.3147,    195.4,2,     1.57,2,     0.01,2,     0.00,2,     0.09,2,    1.580,2,    0.911,2,   -999.0,9,  -999.00,9,   1915.1,2,    226.7,2,   2283.6,2,     8.15,2, -999.00,  -999.0, -999.00,  -999.0
    31DSCG96_2,  P15S,   146,  1,    134,   1267,2,19960227,2028,-15.4972,-170.0015, 5064,   -999,     41.5,  29.0131,  34.9535,2,  34.9581,2,    200.7,2, 29.0030,    202.2,2,     1.46,2,     0.01,2,     0.00,2,     0.10,2,    1.599,2,    0.919,2,   -999.0,9,  -999.00,9,   -999.0,9,   -999.0,9,   -999.0,9,     8.15,2, -999.00,  -999.0, -999.00,  -999.0
    31DSCG96_2,  P15S,   146,  1,    133,   1221,2,19960227,2028,-15.4972,-170.0015, 5064,   -999,     69.8,  27.6827,  35.2843,2,-999.0000,5,    205.5,2, 27.6664,    207.1,2,     1.50,2,     0.01,2,     0.00,2,     0.13,2,    1.723,2,    0.977,2,   -999.0,9,  -999.00,9,   1951.5,2,    242.6,2,   2315.5,2,     8.14,2, -999.00,  -999.0, -999.00,  -999.0
    31DSCG96_2,  P15S,   146,  1,    132,   1039,2,19960227,2028,-15.4972,-170.0015, 5064,   -999,     95.4,  26.7761,  35.5950,2,  35.6770,3,    199.5,2, 26.7543,    200.7,2,     1.46,2,     0.00,2,     0.00,2,     0.15,2,    1.778,2,    0.988,2,   -999.0,9,  -999.00,9,   -999.0,9,   -999.0,9,   -999.0,9,     8.12,2, -999.00,  -999.0, -999.00,  -999.0
    31DSCG96_2,  P15S,   146,  1,    131,   1014,2,19960227,2028,-15.4972,-170.0015, 5064,   -999,    121.3,  25.2805,  35.9707,2,  35.9720,2,    192.7,2, 25.2539,    188.7,2,     1.40,2,     0.04,2,     0.03,2,     0.21,2,    1.842,6,    1.017,6,   -999.0,9,  -999.00,9,   2024.5,2,    289.4,2,   2362.1,2,     8.08,2, -999.00,  -999.0, -999.00,  -999.0
    31DSCG96_2,  P15S,   146,  1,    130,   1257,2,19960227,2028,-15.4972,-170.0015, 5064,   -999,    145.7,  23.7715,  36.0409,2,  36.0416,2,    173.4,2, 23.7409,    173.2,2,     1.31,2,     1.02,2,     0.04,2,     0.30,2,    1.879,2,    1.020,2,   -999.0,9,  -999.00,9,   -999.0,9,   -999.0,9,   -999.0,9,     8.04,2, -999.00,  -999.0, -999.00,  -999.0
    31DSCG96_2,  P15S,   146,  1,    129,   1256,2,19960227,2028,-15.4972,-170.0015, 5064,   -999,    191.2,  21.8041,  35.9007,2,  35.9040,2,    172.7,2, 21.7664,    173.5,2,     1.41,2,     2.69,2,     0.01,2,     0.35,2,    1.971,2,    1.064,2,   -999.0,9,  -999.00,9,   2061.5,2,    350.0,2,   2357.3,2,     8.01,2, -999.00,  -999.0, -999.00,  -999.0
    31DSCG96_2,  P15S,   146,  1,    128,   1007,2,19960227,2028,-15.4972,-170.0015, 5064,   -999,    244.8,  19.4341,  35.6791,2,  35.6850,2,    169.5,2, 19.3895,    171.2,6,     1.92,2,     4.91,2,     0.01,2,     0.50,2,    1.892,2,    1.003,2,   -999.0,9,  -999.00,9,   -999.0,9,   -999.0,9,   -999.0,9,     7.96,2, -999.00,  -999.0, -999.00,  -999.0
    31DSCG96_2,  P15S,   146,  1,    127,   1232,2,19960227,2028,-15.4972,-170.0015, 5064,   -999,    290.7,  17.1929,  35.3998,2,  35.4040,2,    164.6,2, 17.1443,    164.0,2,     3.33,2,     8.01,2,     0.00,2,     0.72,2,    1.698,2,    0.879,2,   -999.0,9,  -999.00,9,   2099.3,2,    498.1,2,   2325.7,2,     7.90,2, -999.00,  -999.0, -999.00,  -999.0
    31DSCG96_2,  P15S,   146,  1,    126,   1025,2,19960227,2028,-15.4972,-170.0015, 5064,   -999,    369.1,  12.6642,  34.8896,2,  34.8908,2,    148.8,2, 12.6140,    147.8,2,     8.62,2,    16.57,2,     0.00,2,     1.29,2,    1.024,2,    0.520,2,   -999.0,9,  -999.00,9,   -999.0,9,   -999.0,9,   -999.0,9,     7.77,2, -999.00,  -999.0, -999.00,  -999.0
    31DSCG96_2,  P15S,   146,  1,    125,   1119,2,19960227,2028,-15.4972,-170.0015, 5064,   -999,    476.2,   8.4841,  34.5327,2,  34.5326,2,    152.4,2,  8.4336,    151.6,2,    16.73,2,    25.65,2,     0.00,2,     1.84,2,    0.354,6,    0.193,6,   -999.0,9,  -999.00,9,   2174.4,2,    908.6,2,   2293.3,2,     7.66,2, -999.00,  -999.0, -999.00,  -999.0
    31DSCG96_2,  P15S,   146,  1,    124,   1244,2,19960227,2028,-15.4972,-170.0015, 5064,   -999,    576.4,   6.5261,  34.4035,2,  34.4042,2,    179.2,2,  6.4732,    181.3,2,    19.95,2,    28.14,2,     0.00,2,     1.94,2,    0.237,2,    0.131,2,   -999.0,9,  -999.00,9,   -999.0,9,   -999.0,9,   -999.0,9,     7.65,2, -999.00,  -999.0, -999.00,  -999.0
    31DSCG96_2,  P15S,   146,  1,    123,   1250,2,19960227,2028,-15.4972,-170.0015, 5064,   -999,    678.0,   5.4531,  34.3963,2,  34.3957,2,    174.4,2,  5.3960,    172.0,2,    31.80,2,    31.24,2,     0.00,2,     2.14,2,    0.072,2,    0.043,2,   -999.0,9,  -999.00,9,   2196.9,2,   1016.9,2,   2300.6,2,     7.62,2, -999.00,  -999.0, -999.00,  -999.0
    31DSCG96_2,  P15S,   146,  1,    122,   1265,2,19960227,2028,-15.4972,-170.0015, 5064,   -999,    770.5,   4.9578,  34.4401,2,  34.4438,3,    156.8,2,  4.8952,    157.4,2,    45.58,2,    33.13,2,     0.00,2,     2.28,2,    0.035,2,    0.016,2,   -999.0,9,  -999.00,9,   -999.0,9,   -999.0,9,   -999.0,9,     7.59,2, -999.00,  -999.0, -999.00,  -999.0
    31DSCG96_2,  P15S,   146,  1,    121,   1246,2,19960227,2028,-15.4972,-170.0015, 5064,   -999,    876.5,   4.4677,  34.4823,2,  34.4812,2,    147.0,2,  4.3991,    145.2,2,    59.60,2,    34.64,2,     0.00,2,     2.40,2, -999.000,9, -999.000,9,   -999.0,9,  -999.00,9,   2241.7,2,   1180.1,2,   2328.1,2,     7.57,2, -999.00,  -999.0, -999.00,  -999.0
    31DSCG96_2,  P15S,   146,  1,    120,   1015,2,19960227,2028,-15.4972,-170.0015, 5064,   -999,    976.1,   4.0827,  34.5056,2,  34.5054,2,    141.2,2,  4.0084,    140.8,2,    69.39,2,    35.44,2,     0.00,2,     2.46,2,    0.007,2,    0.003,2,   -999.0,9,  -999.00,9,   -999.0,9,   -999.0,9,   -999.0,9,     7.56,2, -999.00,  -999.0, -999.00,  -999.0
    31DSCG96_2,  P15S,   146,  1,    119,   1247,2,19960227,2028,-15.4972,-170.0015, 5064,   -999,   1075.6,   3.7514,  34.5255,2,  34.5268,2,    139.5,2,  3.6714,    139.7,6,    77.28,2,    35.81,2,     0.00,2,     2.49,2, -999.000,9, -999.000,9,   -999.0,9,  -999.00,9,   2264.8,2,   1252.4,2,   2350.0,2,     7.56,2, -999.00,  -999.0, -999.00,  -999.0
    31DSCG96_2,  P15S,   146,  1,    118,   1299,2,19960227,2028,-15.4972,-170.0015, 5064,   -999,   1174.1,   3.4810,  34.5394,2,  34.5374,2,    138.6,2,  3.3952,    138.5,2,    83.48,2,    36.18,2,     0.00,2,     2.52,2,    0.011,3,    0.000,2,   -999.0,9,  -999.00,9,   -999.0,9,   -999.0,9,   -999.0,9,     7.56,2, -999.00,  -999.0, -999.00,  -999.0
    31DSCG96_2,  P15S,   146,  1,    117,   1242,2,19960227,2028,-15.4972,-170.0015, 5064,   -999,   1275.1,   3.1906,  34.5571,2,  34.5576,2,    137.2,2,  3.0993,    138.9,2,    90.04,2,    36.36,2,     0.00,2,     2.53,2, -999.000,9, -999.000,9,   -999.0,9,  -999.00,9,   2278.6,2,   1238.5,2,   2364.4,2,     7.55,2, -999.00,  -999.0, -999.00,  -999.0
    31DSCG96_2,  P15S,   146,  1,    116,   1259,2,19960227,2028,-15.4972,-170.0015, 5064,   -999,   1440.3,   2.9218,  34.5784,2,  34.5773,2,    138.0,2,  2.8198,    138.4,2,    97.89,2,    36.56,2,     0.00,2,     2.54,2, -999.000,9, -999.000,9,   -999.0,9,  -999.00,9,   -999.0,9,   -999.0,9,   -999.0,9,     7.56,2, -999.00,  -999.0, -999.00,  -999.0
    31DSCG96_2,  P15S,   146,  1,    115,   1041,2,19960227,2028,-15.4972,-170.0015, 5064,   -999,   1693.4,   2.5372,  34.6027,2,  34.6020,2,    142.7,2,  2.4189,    143.9,2,   106.85,2,    36.23,2,     0.00,2,     2.52,2,    0.002,2,    0.001,2,   -999.0,9,  -999.00,9,   2292.1,2,   1223.2,2,   2382.0,2,     7.56,2, -999.00,  -999.0, -999.00,  -999.0
    31DSCG96_2,  P15S,   146,  1,    114,   1017,2,19960227,2028,-15.4972,-170.0015, 5064,   -999,   1934.7,   2.2491,  34.6271,2,  34.6275,2,    144.8,2,  2.1145,    145.6,2,   115.24,2,    36.26,2,     0.00,2,     2.52,2, -999.000,9, -999.000,9,   -999.0,9,  -999.00,9,   -999.0,9,   -999.0,9,   -999.0,9,     7.57,2, -999.00,  -999.0, -999.00,  -999.0
    31DSCG96_2,  P15S,   146,  1,    113,   1302,2,19960227,2028,-15.4972,-170.0015, 5064,   -999,   2190.2,   2.0744,  34.6428,2,  34.6429,2,    146.1,2,  1.9205,    147.3,2,   120.65,2,    36.21,2,     0.00,2,     2.51,2, -999.000,9, -999.000,9,   -231.0,2,     0.15,2,   2304.2,2,   1191.3,2,   2402.4,3,     7.57,2, -999.00,     2.2, -999.00,  -999.0
    31DSCG96_2,  P15S,   146,  1,    112,   1217,2,19960227,2028,-15.4972,-170.0015, 5064,   -999,   2440.0,   1.9348,  34.6556,2,  34.6555,2,    147.6,2,  1.7611,    148.0,2,   125.58,2,    36.17,2,     0.00,2,     2.50,2,   -0.001,2,    0.001,2,   -227.5,2,     0.07,2,   -999.0,9,   -999.0,9,   -999.0,9,     7.57,2, -999.00,     2.6, -999.00,  -999.0
    31DSCG96_2,  P15S,   146,  1,    111,   1226,2,19960227,2028,-15.4972,-170.0015, 5064,   -999,   2691.0,   1.8384,  34.6644,2,  34.6644,2,    148.6,2,  1.6436,    149.4,6,   129.53,2,    36.14,2,     0.00,2,     2.50,2, -999.000,9, -999.000,9,   -231.8,2,     0.14,2,   2311.5,2,   1204.0,2,   2410.0,2,     7.57,2, -999.00,     3.5, -999.00,  -999.0
    31DSCG96_2,  P15S,   146,  1,    110,   1301,2,19960227,2028,-15.4972,-170.0015, 5064,   -999,   2940.6,   1.7618,  34.6702,2,  34.6703,2,    150.7,2,  1.5449,    151.0,2,   131.69,2,    35.98,2,     0.00,2,     2.49,2, -999.000,9, -999.000,9,   -225.3,2,     0.07,2,   -999.0,9,   -999.0,9,   -999.0,9,     7.58,2, -999.00,     2.7, -999.00,  -999.0
    31DSCG96_2,  P15S,   146,  1,    109,   1031,2,19960227,2028,-15.4972,-170.0015, 5064,   -999,   3188.9,   1.6785,  34.6764,2,  34.6762,2,    154.3,2,  1.4393,    155.1,2,   132.26,2,    35.76,2,     0.00,2,     2.47,2,    0.004,2,    0.001,2,   -216.9,2,     0.14,2,   2313.1,2,   1186.9,2,   2407.1,2,     7.58,2, -999.00,     2.4, -999.00,  -999.0
    31DSCG96_2,  P15S,   146,  1,    108,   1227,2,19960227,2028,-15.4972,-170.0015, 5064,   -999,   3436.6,   1.5973,  34.6820,2,  34.6810,2,    159.4,2,  1.3351,    160.2,2,   132.24,2,    35.41,2,     0.00,2,     2.44,2,    0.003,2,    0.001,2,   -217.4,2,     0.16,2,   -999.0,9,   -999.0,9,   -999.0,9,     7.59,2, -999.00,     2.6, -999.00,  -999.0
    31DSCG96_2,  P15S,   146,  1,    107,   1263,2,19960227,2028,-15.4972,-170.0015, 5064,   -999,   3689.4,   1.5032,  34.6894,2,  34.6920,2,    167.1,2,  1.2173,    169.3,2,   130.15,2,    34.86,2,     0.00,2,     2.40,2,    0.008,2,    0.001,2,   -216.8,2,    -0.04,3,   2297.0,2,   1150.4,2,   2401.4,2,     7.59,2, -999.00,     2.8, -999.00,  -999.0
    31DSCG96_2,  P15S,   146,  1,    106,   1262,2,19960227,2028,-15.4972,-170.0015, 5064,   -999,   3939.6,   1.3874,  34.7038,2,  34.7048,2,    182.2,2,  1.0780,    184.8,2,   121.94,2,    33.45,2,     0.00,2,     2.30,2,    0.002,2,    0.001,2,   -202.2,2,    -0.32,3,   -999.0,9,   -999.0,9,   -999.0,9,     7.60,2, -999.00,     3.0, -999.00,  -999.0
    31DSCG96_2,  P15S,   146,  1,    105,   1264,2,19960227,2028,-15.4972,-170.0015, 5064,   -999,   4189.5,   1.1918,  34.7147,2,  34.7144,2,    200.1,2,  0.8608,    201.2,2,   116.43,2,    32.24,2,     0.00,2,     2.21,2,    0.006,2,    0.003,2,   -169.1,2,     0.37,2,   2262.3,2,   1080.8,2,   2370.7,2,     7.61,2, -999.00,     2.9, -999.00,  -999.0
    31DSCG96_2,  P15S,   146,  1,    104,   1003,2,19960227,2028,-15.4972,-170.0015, 5064,   -999,   4439.6,   1.0615,  34.7110,2,  34.7128,2,    204.0,2,  0.7067,    204.4,2,   119.41,2,    32.27,2,     0.00,2,     2.21,2,    0.004,2,    0.002,2,   -168.4,2,     0.36,2,   -999.0,9,   -999.0,9,   -999.0,9,     7.61,2, -999.00,     2.3, -999.00,  -999.0
    31DSCG96_2,  P15S,   146,  1,    103,   1035,2,19960227,2028,-15.4972,-170.0015, 5064,   -999,   4690.7,   1.0401,  34.7097,2,  34.7088,2,    205.4,2,  0.6575,    206.0,6,   120.52,2,    32.32,2,     0.00,2,     2.21,2,    0.005,2,    0.003,2,   -163.4,2,     0.39,2,   2258.3,2,   1078.4,2,   2365.1,2,     7.61,2, -999.00,     3.2, -999.00,  -999.0
    31DSCG96_2,  P15S,   146,  1,    102,   1030,2,19960227,2028,-15.4972,-170.0015, 5064,   -999,   4940.2,   1.0523,  34.7090,2,  34.7097,2,    206.1,2,  0.6401,    207.9,3,   120.70,2,    32.25,2,     0.00,2,     2.21,2,    0.007,6,    0.003,6,   -168.3,2,     0.43,2,   -999.0,9,   -999.0,9,   -999.0,9,     7.61,2, -999.00,     2.3, -999.00,  -999.0
    31DSCG96_2,  P15S,   146,  1,    101,   1022,2,19960227,2028,-15.4972,-170.0015, 5064,   -999,   5170.7,   1.0747,  34.7088,2,  34.7094,2,    206.2,2,  0.6341,    206.6,2,   120.74,6,    32.23,6,     0.00,6,     2.21,6,    0.008,2,    0.002,2,   -195.1,2,    -0.58,3,   2260.8,2,   1098.3,2,   2370.1,2,     7.61,2, -999.00,     2.6, -999.00,  -999.0