BOTTLE,20220811CCHSIOAMB
EXPOCODE,SECT_ID,STNNBR,CASTNO,SAMPNO,BTLNBR,BTLNBR_FLAG_W,DATE,TIME,LATITUDE,LONGITUDE,DEPTH,CTDRAW,CTDPRS,CTDTMP,CTDSAL,CTDSAL_FLAG_W,SALNTY,SALNTY_FLAG_W,CTDOXY,CTDOXY_FLAG_W,THETA,OXYGEN,OXYGEN_FLAG_W,SILCAT,SILCAT_FLAG_W,NITRAT,NITRAT_FLAG_W,NITRIT,NITRIT_FLAG_W,PHSPHT,PHSPHT_FLAG_W,CFC-11,CFC-11_FLAG_W,CFC-12,CFC-12_FLAG_W,DELC14,DELC14_FLAG_W,DELC13,DELC13_FLAG_W,TCARBN,TCARBN_FLAG_W,PCO2,PCO2_FLAG_W,ALKALI,ALKALI_FLAG_W,PH,PH_FLAG_W,PCO2TMP,C14ERR,PH_TMP,C13ERR
,,,,,,,,,,,,DBAR,DBAR,ITS-90,PSS-78,,PSS-78,,UMOL/KG,,DEG C,UMOL/KG,,UMOL/KG,,UMOL/KG,,UMOL/KG,,UMOL/KG,,PMOL/KG,,PMOL/KG,,/MILLE,,/MILLE,,UMOL/KG,,UATM,,UMOL/KG,,,,DEG C,/MILLE,DEG C,/MILLE
    31DSCG96_2,  P15S,   139,  1,    136,   1245,2,19960226,0159,-19.0022,-170.0573, 3000,   -999,      3.4,  29.3878,  34.9504,2,  34.9507,2,    198.2,2, 29.3869,    197.8,2,     1.29,2,     0.00,2,     0.00,2,     0.03,3, -999.000,9, -999.000,9,     87.9,2,  -999.00,9,   1929.1,2,    230.2,2,   2295.1,2,     8.14,2, -999.00,     4.1, -999.00,  -999.0
    31DSCG96_2,  P15S,   139,  1,    135,   1113,2,19960226,0159,-19.0022,-170.0573, 3000,   -999,     15.6,  28.3826,  34.9610,2,  34.9596,2,    198.8,2, 28.3789,    199.0,2,     1.33,2,     0.00,2,     0.00,2,     0.05,2, -999.000,9, -999.000,9,   -999.0,9,  -999.00,9,   1931.7,2,    234.5,6,   2295.3,2,     8.15,2, -999.00,  -999.0, -999.00,  -999.0
    31DSCG96_2,  P15S,   139,  1,    134,   1267,2,19960226,0159,-19.0022,-170.0573, 3000,   -999,     29.5,  28.3095,  35.0606,2,  35.0532,2,    200.0,2, 28.3025,    199.5,2,     1.27,2,     0.00,2,     0.00,2,     0.05,2, -999.000,9, -999.000,9,   -999.0,9,  -999.00,9,   -999.0,9,   -999.0,9,   -999.0,9,     8.14,2, -999.00,  -999.0, -999.00,  -999.0
    31DSCG96_2,  P15S,   139,  1,    133,   1221,2,19960226,0159,-19.0022,-170.0573, 3000,   -999,     56.5,  26.1322,  35.3832,2,  35.3706,2,    210.4,2, 26.1196,   -999.0,9,     1.28,2,     0.00,2,     0.00,2,     0.05,2, -999.000,9, -999.000,9,   -999.0,9,  -999.00,9,   1960.0,2,   -999.0,9,   2317.4,2,     8.13,2, -999.00,  -999.0, -999.00,  -999.0
    31DSCG96_2,  P15S,   139,  1,    132,   1039,2,19960226,0159,-19.0022,-170.0573, 3000,   -999,     79.8,  24.4777,  35.7109,2,  35.7114,2,    193.2,2, 24.4606,    199.6,2,     1.29,2,     0.00,2,     0.00,2,     0.12,2, -999.000,9, -999.000,9,   -999.0,9,  -999.00,9,   -999.0,9,   -999.0,9,   -999.0,9,     8.10,2, -999.00,  -999.0, -999.00,  -999.0
    31DSCG96_2,  P15S,   139,  1,    131,   1014,2,19960226,0159,-19.0022,-170.0573, 3000,   -999,    105.1,  23.2878,  35.7613,2,  35.7600,2,    199.8,2, 23.2661,    201.1,2,     1.21,2,     0.00,2,     0.00,2,     0.12,2, -999.000,9, -999.000,9,   -999.0,9,  -999.00,9,   2012.7,2,    287.2,2,   2348.5,2,     8.08,2, -999.00,  -999.0, -999.00,  -999.0
    31DSCG96_2,  P15S,   139,  1,    130,   1257,2,19960226,0159,-19.0022,-170.0573, 3000,   -999,    129.2,  22.7561,  35.7702,2,  35.7597,2,    190.9,2, 22.7299,    195.2,2,     1.18,2,     0.12,2,     0.13,2,     0.15,2, -999.000,9, -999.000,9,   -999.0,9,  -999.00,9,   -999.0,9,   -999.0,9,   -999.0,9,     8.06,2, -999.00,  -999.0, -999.00,  -999.0
    31DSCG96_2,  P15S,   139,  1,    129,   1256,2,19960226,0159,-19.0022,-170.0573, 3000,   -999,    154.8,  21.0225,  35.7723,2,  35.7705,2,    186.2,2, 20.9928,    185.3,6,     1.33,2,     1.74,2,     0.04,2,     0.26,2, -999.000,9, -999.000,9,   -999.0,9,  -999.00,9,   2047.9,2,    345.5,2,   2348.4,2,     8.02,2, -999.00,  -999.0, -999.00,  -999.0
    31DSCG96_2,  P15S,   139,  1,    128,   1007,2,19960226,0159,-19.0022,-170.0573, 3000,   -999,    179.0,  20.3207,  35.7390,2,  35.7372,2,    182.5,2, 20.2871,    184.2,2,     1.34,2,     2.43,2,     0.01,2,     0.30,2, -999.000,9, -999.000,9,   -999.0,9,  -999.00,9,   -999.0,9,   -999.0,9,   -999.0,9,     8.00,2, -999.00,  -999.0, -999.00,  -999.0
    31DSCG96_2,  P15S,   139,  1,    127,   1232,2,19960226,0159,-19.0022,-170.0573, 3000,   -999,    204.8,  19.6244,  35.6893,2,  35.6889,2,    184.1,2, 19.5868,    183.5,2,     1.48,2,     3.09,2,     0.01,2,     0.34,2, -999.000,9, -999.000,9,   -999.0,9,  -999.00,9,   2060.6,2,    379.4,2,   2344.4,2,     7.99,2, -999.00,  -999.0, -999.00,  -999.0
    31DSCG96_2,  P15S,   139,  1,    126,   1025,2,19960226,0159,-19.0022,-170.0573, 3000,   -999,    230.9,  18.8449,  35.6225,2,  35.6212,2,    183.6,2, 18.8038,    186.3,2,     1.63,2,     3.47,2,     0.01,2,     0.36,2, -999.000,9, -999.000,9,   -999.0,9,  -999.00,9,   -999.0,9,   -999.0,9,   -999.0,9,     7.98,2, -999.00,  -999.0, -999.00,  -999.0
    31DSCG96_2,  P15S,   139,  1,    125,   1119,2,19960226,0159,-19.0022,-170.0573, 3000,   -999,    264.8,  17.6778,  35.5200,2,  35.5167,2,    189.2,2, 17.6327,    189.4,2,     1.92,2,     4.37,2,     0.00,2,     0.43,2, -999.000,9, -999.000,9,   -999.0,9,  -999.00,9,   2069.8,2,    418.0,2,   2329.5,2,     7.96,2, -999.00,  -999.0, -999.00,  -999.0
    31DSCG96_2,  P15S,   139,  1,    124,   1244,2,19960226,0159,-19.0022,-170.0573, 3000,   -999,    314.5,  16.2656,  35.3850,2,  35.3852,2,    191.0,2, 16.2150,    190.3,2,     2.34,2,     5.90,2,     0.00,2,     0.52,2, -999.000,9, -999.000,9,   -999.0,9,  -999.00,9,   -999.0,9,   -999.0,9,   -999.0,9,     7.93,2, -999.00,  -999.0, -999.00,  -999.0
    31DSCG96_2,  P15S,   139,  1,    123,   1250,2,19960226,0159,-19.0022,-170.0573, 3000,   -999,    364.4,  14.5697,  35.1717,2,  35.1746,2,    184.9,2, 14.5152,    184.9,2,     3.46,2,     8.98,2,     0.00,2,     0.73,2, -999.000,9, -999.000,9,   -999.0,9,  -999.00,9,   2095.0,2,    524.0,2,   2315.6,2,     7.88,2, -999.00,  -999.0, -999.00,  -999.0
    31DSCG96_2,  P15S,   139,  1,    122,   1265,2,19960226,0159,-19.0022,-170.0573, 3000,   -999,    415.8,  13.0838,  34.9964,2,  34.9950,2,    181.1,2, 13.0259,    181.2,2,     4.67,2,    12.16,2,     0.00,2,     0.95,2, -999.000,9, -999.000,9,   -999.0,9,  -999.00,9,   -999.0,9,   -999.0,9,   -999.0,9,     7.84,2, -999.00,  -999.0, -999.00,  -999.0
    31DSCG96_2,  P15S,   139,  1,    121,   1246,2,19960226,0159,-19.0022,-170.0573, 3000,   -999,    464.9,  11.0018,  34.7651,2,  34.7608,2,    184.6,2, 10.9440,    184.2,2,     6.26,2,    16.25,2,     0.00,2,     1.21,2, -999.000,9, -999.000,9,   -999.0,9,  -999.00,9,   2123.3,2,    651.8,2,   2294.4,2,     7.78,2, -999.00,  -999.0, -999.00,  -999.0
    31DSCG96_2,  P15S,   139,  1,    120,   1015,2,19960226,0159,-19.0022,-170.0573, 3000,   -999,    516.3,   9.2447,  34.5923,2,  34.5920,2,    188.9,2,  9.1869,    190.7,2,     8.13,2,    19.78,2,     0.00,2,     1.43,2, -999.000,9, -999.000,9,   -999.0,9,  -999.00,9,   -999.0,9,   -999.0,9,   -999.0,9,     7.74,2, -999.00,  -999.0, -999.00,  -999.0
    31DSCG96_2,  P15S,   139,  1,    119,   1247,2,19960226,0159,-19.0022,-170.0573, 3000,   -999,    565.8,   7.9806,  34.4795,2,  34.4791,2,    195.9,2,  7.9225,    197.7,6,    10.20,2,    22.53,2,     0.00,2,     1.58,2, -999.000,9, -999.000,9,   -999.0,9,  -999.00,9,   2145.3,2,    785.9,2,   2287.6,2,     7.72,2, -999.00,  -999.0, -999.00,  -999.0
    31DSCG96_2,  P15S,   139,  1,    118,   1299,2,19960226,0159,-19.0022,-170.0573, 3000,   -999,    627.0,   6.8504,  34.3951,2,  34.3971,2,    204.0,2,  6.7911,    204.5,2,    12.67,2,    24.78,2,     0.00,2,     1.67,3, -999.000,9, -999.000,9,   -999.0,9,  -999.00,9,   -999.0,9,   -999.0,9,   -999.0,9,     7.69,2, -999.00,  -999.0, -999.00,  -999.0
    31DSCG96_2,  P15S,   139,  1,    117,   1242,2,19960226,0159,-19.0022,-170.0573, 3000,   -999,    725.9,   5.8188,  34.3564,2,  34.3568,2,    194.2,2,  5.7554,    195.6,2,    21.06,2,    28.33,2,     0.00,2,     1.96,2, -999.000,9, -999.000,9,   -999.0,9,  -999.00,9,   2171.6,2,    911.8,2,   2292.3,2,     7.66,2, -999.00,  -999.0, -999.00,  -999.0
    31DSCG96_2,  P15S,   139,  1,    116,   1259,2,19960226,0159,-19.0022,-170.0573, 3000,   -999,    823.5,   4.8683,  34.3859,2,  34.3858,2,    167.8,2,  4.8017,    170.8,2,    37.65,2,    32.30,2,     0.00,2,     2.24,2, -999.000,9, -999.000,9,   -999.0,9,  -999.00,9,   -999.0,9,   -999.0,9,   -999.0,9,     7.61,2, -999.00,  -999.0, -999.00,  -999.0
    31DSCG96_2,  P15S,   139,  1,    115,   1041,2,19960226,0159,-19.0022,-170.0573, 3000,   -999,    920.8,   4.3831,  34.4297,2,  34.4286,2,    158.6,2,  4.3114,    158.9,2,    50.68,2,    33.94,2,     0.00,2,     2.34,2, -999.000,9, -999.000,9,   -999.0,9,  -999.00,9,   2225.8,2,   1119.5,2,   2321.9,2,     7.59,2, -999.00,  -999.0, -999.00,  -999.0
    31DSCG96_2,  P15S,   139,  1,    114,   1017,2,19960226,0159,-19.0022,-170.0573, 3000,   -999,   1026.1,   3.8532,  34.4609,2,  34.4611,2,    154.5,2,  3.7766,    155.8,2,    62.12,2,    34.74,2,     0.00,2,     2.40,2, -999.000,9, -999.000,9,   -999.0,9,  -999.00,9,   -999.0,9,   -999.0,9,   -999.0,9,     7.58,2, -999.00,  -999.0, -999.00,  -999.0
    31DSCG96_2,  P15S,   139,  1,    113,   1302,2,19960226,0159,-19.0022,-170.0573, 3000,   -999,   1125.6,   3.3806,  34.4971,2,  34.4960,2,    153.1,2,  3.2997,    154.1,2,    73.21,2,    35.15,2,     0.00,2,     2.44,2, -999.000,9, -999.000,9,   -999.0,9,  -999.00,9,   2253.4,2,   1171.2,2,   2343.9,2,     7.57,2, -999.00,  -999.0, -999.00,  -999.0
    31DSCG96_2,  P15S,   139,  1,    112,   1217,2,19960226,0159,-19.0022,-170.0573, 3000,   -999,   1224.9,   3.1580,  34.5155,2,  34.5175,2,    152.8,2,  3.0712,    154.4,6,    79.00,2,    35.26,2,     0.00,2,     2.44,2, -999.000,9, -999.000,9,   -999.0,9,  -999.00,9,   -999.0,9,   -999.0,9,   -999.0,9,     7.57,2, -999.00,  -999.0, -999.00,  -999.0
    31DSCG96_2,  P15S,   139,  1,    111,   1226,2,19960226,0159,-19.0022,-170.0573, 3000,   -999,   1350.3,   2.8022,  34.5614,2,  34.5644,2,    149.2,2,  2.7087,    150.3,2,    92.68,2,    35.66,2,     0.00,2,     2.48,2, -999.000,9, -999.000,9,   -999.0,9,  -999.00,9,   2276.7,2,   1197.0,2,   2368.3,2,     7.57,2, -999.00,  -999.0, -999.00,  -999.0
    31DSCG96_2,  P15S,   139,  1,    110,   1301,2,19960226,0159,-19.0022,-170.0573, 3000,   -999,   1566.2,   2.5685,  34.5947,2,  34.5965,2,    144.8,2,  2.4602,    145.6,2,   103.81,2,    35.98,2,     0.00,2,  -999.00,5, -999.000,9, -999.000,9,   -999.0,9,  -999.00,9,   -999.0,9,   -999.0,9,   -999.0,9,     7.56,2, -999.00,  -999.0, -999.00,  -999.0
    31DSCG96_2,  P15S,   139,  1,    109,   1233,2,19960226,0159,-19.0022,-170.0573, 3000,   -999,   1814.7,   2.3424,  34.6187,2,  34.6190,2,    143.6,2,  2.2165,    144.8,2,   112.64,2,    36.12,2,     0.00,2,     2.52,3, -999.000,9, -999.000,9,   -999.0,9,  -999.00,9,   2304.1,2,   -999.0,9,   -999.0,9,  -999.00,9, -999.00,  -999.0, -999.00,  -999.0
    31DSCG96_2,  P15S,   139,  1,    108,   1227,2,19960226,0159,-19.0022,-170.0573, 3000,   -999,   2066.0,   2.1876,  34.6330,2,  34.6329,2,    144.5,2,  2.0426,    144.9,2,   118.06,2,    36.21,2,     0.00,2,     2.54,3, -999.000,9, -999.000,9,   -999.0,9,  -999.00,9,   -999.0,9,   -999.0,9,   2393.8,2,     7.57,2, -999.00,  -999.0, -999.00,  -999.0
    31DSCG96_2,  P15S,   139,  1,    107,   1263,2,19960226,0159,-19.0022,-170.0573, 3000,   -999,   2313.3,   1.9563,  34.6523,2,  34.6547,2,    145.6,2,  1.7935,    145.9,2,   125.77,2,    36.20,2,     0.00,2,     2.54,3, -999.000,9, -999.000,9,   -999.0,9,  -999.00,9,   2311.1,2,   1203.5,2,   2405.4,2,     7.57,2, -999.00,  -999.0, -999.00,  -999.0
    31DSCG96_2,  P15S,   139,  1,    106,   1262,2,19960226,0159,-19.0022,-170.0573, 3000,   -999,   2571.8,   1.8567,  34.6606,2,  34.6606,2,    147.8,2,  1.6725,    147.3,2,   128.91,2,    36.15,2,     0.00,2,  -999.00,5, -999.000,9, -999.000,9,   -999.0,9,  -999.00,9,   -999.0,9,   -999.0,9,   -999.0,9,     7.57,3, -999.00,  -999.0, -999.00,  -999.0
    31DSCG96_2,  P15S,   139,  1,    105,   1264,2,19960226,0159,-19.0022,-170.0573, 3000,   -999,   2811.4,   1.7461,  34.6692,2,  34.6718,2,    150.4,2,  1.5419,    151.3,2,   131.37,2,    35.96,2,     0.00,2,     2.49,2, -999.000,9, -999.000,9,   -999.0,9,  -999.00,9,   2314.0,2,   1201.0,2,   2409.0,2,     7.58,2, -999.00,  -999.0, -999.00,  -999.0
    31DSCG96_2,  P15S,   139,  1,    103,   1035,2,19960226,0159,-19.0022,-170.0573, 3000,   -999,   3043.2,   1.7261,  34.6720,2,  34.6728,2,    151.8,2,  1.5002,    151.7,2,   131.79,2,    35.86,2,     0.00,2,  -999.00,5, -999.000,9, -999.000,9,   -999.0,9,  -999.00,9,   2312.3,2,   1215.5,2,   2409.8,2,     7.58,2, -999.00,  -999.0, -999.00,  -999.0
    31DSCG96_2,  P15S,   139,  1,    104,   1003,2,19960226,0159,-19.0022,-170.0573, 3000,   -999,   3044.3,   1.7264,  34.6719,2,  34.6718,2,    151.8,2,  1.5003,    151.8,6,   132.03,2,    35.91,2,     0.00,2,     2.49,2, -999.000,9, -999.000,9,   -999.0,9,  -999.00,9,   -999.0,9,   -999.0,9,   -999.0,9,  -999.00,9, -999.00,  -999.0, -999.00,  -999.0
    31DSCG96_2,  P15S,   139,  1,    102,   1030,2,19960226,0159,-19.0022,-170.0573, 3000,   -999,   3045.1,   1.7262,  34.6720,2,  34.6725,2,    151.8,2,  1.5001,    152.0,2,   131.88,2,    35.79,2,     0.00,2,     2.48,2, -999.000,9, -999.000,9,   -999.0,9,  -999.00,9,   -999.0,9,   -999.0,9,   -999.0,9,  -999.00,9, -999.00,  -999.0, -999.00,  -999.0
    31DSCG96_2,  P15S,   139,  1,    101,   1022,2,19960226,0159,-19.0022,-170.0573, 3000,   -999,   3045.4,   1.7266,  34.6719,2,  34.6715,2,    151.8,2,  1.5004,    151.9,2,   131.90,6,    35.77,6,     0.00,6,     2.49,6, -999.000,9, -999.000,9,   -999.0,9,  -999.00,9,   -999.0,9,   -999.0,9,   -999.0,9,  -999.00,9, -999.00,  -999.0, -999.00,  -999.0