BOTTLE,20220811CCHSIOAMB
EXPOCODE,SECT_ID,STNNBR,CASTNO,SAMPNO,BTLNBR,BTLNBR_FLAG_W,DATE,TIME,LATITUDE,LONGITUDE,DEPTH,CTDRAW,CTDPRS,CTDTMP,CTDSAL,CTDSAL_FLAG_W,SALNTY,SALNTY_FLAG_W,CTDOXY,CTDOXY_FLAG_W,THETA,OXYGEN,OXYGEN_FLAG_W,SILCAT,SILCAT_FLAG_W,NITRAT,NITRAT_FLAG_W,NITRIT,NITRIT_FLAG_W,PHSPHT,PHSPHT_FLAG_W,CFC-11,CFC-11_FLAG_W,CFC-12,CFC-12_FLAG_W,DELC14,DELC14_FLAG_W,DELC13,DELC13_FLAG_W,TCARBN,TCARBN_FLAG_W,PCO2,PCO2_FLAG_W,ALKALI,ALKALI_FLAG_W,PH,PH_FLAG_W,PCO2TMP,C14ERR,PH_TMP,C13ERR
,,,,,,,,,,,,DBAR,DBAR,ITS-90,PSS-78,,PSS-78,,UMOL/KG,,DEG C,UMOL/KG,,UMOL/KG,,UMOL/KG,,UMOL/KG,,UMOL/KG,,PMOL/KG,,PMOL/KG,,/MILLE,,/MILLE,,UMOL/KG,,UATM,,UMOL/KG,,,,DEG C,/MILLE,DEG C,/MILLE
    31DSCG96_1,  P15S,    46,  1,    134,   1119,2,19960122,1030,-60.0057,-170.0057, 3738,   -999,     10.1,   3.3943,  33.8521,2,  33.8526,2,    358.4,2,  3.3936,    331.6,2,     0.61,2,    22.29,2,     0.21,2,     1.49,2,    5.805,2,    2.827,2,   -999.0,9,  -999.00,9,   2110.0,2,    649.1,2,   2286.2,3,     7.79,2, -999.00,  -999.0, -999.00,  -999.0
    31DSCG96_1,  P15S,    46,  1,    133,   1221,2,19960122,1030,-60.0057,-170.0057, 3738,   -999,     18.0,   3.3917,  33.8521,2,  33.8515,2,    331.0,2,  3.3905,    331.2,2,     0.72,2,    22.25,2,     0.22,2,     1.48,2, -999.000,9, -999.000,9,   -999.0,9,  -999.00,9,   2109.8,2,    657.6,2,   2283.7,2,     7.79,2, -999.00,  -999.0, -999.00,  -999.0
    31DSCG96_1,  P15S,    46,  1,    132,   1039,2,19960122,1030,-60.0057,-170.0057, 3738,   -999,     44.6,   3.3881,  33.8516,2,  33.8522,2,    330.1,2,  3.3854,    331.6,2,     0.61,2,    22.35,2,     0.22,2,     1.52,2,    5.862,2,    2.853,2,   -999.0,9,  -999.00,9,   2110.4,2,    647.0,2,   2276.9,2,     7.79,2, -999.00,  -999.0, -999.00,  -999.0
    31DSCG96_1,  P15S,    46,  1,    131,   1042,3,19960122,1030,-60.0057,-170.0057, 3738,   -999,     67.0,   2.5438,  33.9505,2,  33.9463,2,    321.3,2,  2.5401,    320.2,2,     8.55,2,    24.19,2,     0.20,2,     1.81,2, -999.000,9, -999.000,9,   -999.0,9,  -999.00,9,   -999.0,9,   -999.0,9,   -999.0,9,  -999.00,9, -999.00,  -999.0, -999.00,  -999.0
    31DSCG96_1,  P15S,    46,  1,    130,   1257,2,19960122,1030,-60.0057,-170.0057, 3738,   -999,     92.7,   1.9653,  33.9602,2,  33.9599,2,    322.0,2,  1.9605,    322.1,2,    14.41,2,    25.47,2,     0.24,2,     1.83,2, -999.000,9, -999.000,9,   -999.0,9,  -999.00,9,   2140.1,2,    775.7,2,   2285.8,2,     7.72,2, -999.00,  -999.0, -999.00,  -999.0
    31DSCG96_1,  P15S,    46,  1,    129,   1256,2,19960122,1030,-60.0057,-170.0057, 3738,   -999,    118.3,   1.8594,  33.9635,2,  33.9640,2,    321.8,2,  1.8534,    322.1,2,    15.37,2,    25.95,2,     0.36,2,     1.84,2,    5.746,6,    2.814,6,   -999.0,9,  -999.00,9,   2141.2,2,    792.8,2,   2281.2,2,     7.72,2, -999.00,  -999.0, -999.00,  -999.0
    31DSCG96_1,  P15S,    46,  1,    128,   1007,2,19960122,1030,-60.0057,-170.0057, 3738,   -999,    142.2,   1.7175,  33.9554,2,  33.9554,2,    322.1,2,  1.7105,    322.5,2,    15.74,2,    26.11,2,     0.36,2,     1.83,2, -999.000,9, -999.000,9,   -999.0,9,  -999.00,9,   2140.4,2,    788.5,2,   2284.1,2,     7.72,2, -999.00,  -999.0, -999.00,  -999.0
    31DSCG96_1,  P15S,    46,  1,    127,   1234,2,19960122,1030,-60.0057,-170.0057, 3738,   -999,    171.6,   1.5911,  33.9486,2,  33.9500,2,    319.1,2,  1.5828,    322.9,2,    16.23,2,    26.41,2,     0.41,2,     1.85,2, -999.000,9, -999.000,9,   -999.0,9,  -999.00,9,   2140.9,2,    811.9,2,   2285.3,2,     7.72,2, -999.00,  -999.0, -999.00,  -999.0
    31DSCG96_1,  P15S,    46,  1,    126,   1025,2,19960122,1030,-60.0057,-170.0057, 3738,   -999,    193.2,   1.6403,  33.9608,2,  33.9618,2,    317.9,2,  1.6308,    318.8,2,    16.90,2,    26.90,2,     0.31,2,     1.86,2,    5.697,2,    2.791,2,   -999.0,9,  -999.00,9,   2143.6,2,    797.0,2,   2282.3,2,     7.71,2, -999.00,  -999.0, -999.00,  -999.0
    31DSCG96_1,  P15S,    46,  1,    125,   1233,2,19960122,1030,-60.0057,-170.0057, 3738,   -999,    240.0,   1.7172,  33.9957,2,  33.9823,2,    305.8,2,  1.7051,    312.2,2,    19.21,2,    27.60,2,     0.17,2,     1.90,2, -999.000,9, -999.000,9,   -999.0,9,  -999.00,9,   2149.3,2,    812.9,2,   2284.4,2,     7.70,2, -999.00,  -999.0, -999.00,  -999.0
    31DSCG96_1,  P15S,    46,  1,    124,   1218,2,19960122,1030,-60.0057,-170.0057, 3738,   -999,    292.2,   2.4081,  34.1395,2,  34.1263,2,    267.1,2,  2.3915,    264.7,2,    29.69,2,    30.40,2,     0.01,2,     2.07,2,    3.827,2,    1.854,2,   -999.0,9,  -999.00,9,   2176.2,2,    932.3,2,   2293.4,2,     7.65,2, -999.00,  -999.0, -999.00,  -999.0
    31DSCG96_1,  P15S,    46,  1,    123,   1250,2,19960122,1030,-60.0057,-170.0057, 3738,   -999,    342.6,   2.7147,  34.2341,2,  34.2340,2,    230.4,2,  2.6942,    230.3,2,    38.24,2,    32.16,2,     0.00,2,     2.19,2, -999.000,9, -999.000,9,   -999.0,9,  -999.00,9,   2196.6,2,   1037.0,2,   2301.1,2,     7.62,2, -999.00,  -999.0, -999.00,  -999.0
    31DSCG96_1,  P15S,    46,  1,    122,   1109,2,19960122,1030,-60.0057,-170.0057, 3738,   -999,    389.3,   2.6392,  34.2797,2,  34.2765,2,    219.2,2,  2.6160,    219.4,2,    43.97,2,    33.02,2,     0.00,2,     2.25,2,    2.170,2,    1.048,2,   -999.0,9,  -999.00,9,   2204.5,2,   1083.4,2,   2306.8,2,     7.60,2, -999.00,  -999.0, -999.00,  -999.0
    31DSCG96_1,  P15S,    46,  1,    121,   1246,2,19960122,1030,-60.0057,-170.0057, 3738,   -999,    440.5,   2.5826,  34.3239,2,  34.3215,2,    206.9,2,  2.5563,    208.2,6,    49.20,2,    33.64,2,     0.00,2,     2.29,2, -999.000,9, -999.000,9,   -999.0,9,  -999.00,9,   2214.1,2,   1121.7,2,   2312.0,2,     7.59,2, -999.00,  -999.0, -999.00,  -999.0
    31DSCG96_1,  P15S,    46,  1,    120,   1015,2,19960122,1030,-60.0057,-170.0057, 3738,   -999,    493.0,   2.5165,  34.3626,2,  34.3610,2,    199.8,2,  2.4871,    199.3,2,    54.11,2,    34.17,2,     0.00,2,     2.32,2,    1.475,2,    0.722,2,   -999.0,9,  -999.00,9,   2223.1,2,   1152.1,2,   2317.0,2,     7.58,2, -999.00,  -999.0, -999.00,  -999.0
    31DSCG96_1,  P15S,    46,  1,    119,   1247,2,19960122,1030,-60.0057,-170.0057, 3738,   -999,    576.9,   2.5203,  34.4291,2,  34.4293,2,    187.3,2,  2.4853,    187.3,2,    60.75,2,    34.54,2,     0.00,2,     2.35,2,    1.006,2,    0.480,2,   -999.0,9,  -999.00,9,   2232.5,2,   1209.1,2,   2322.3,2,     7.57,2, -999.00,  -999.0, -999.00,  -999.0
    31DSCG96_1,  P15S,    46,  1,    118,   1222,2,19960122,1030,-60.0057,-170.0057, 3738,   -999,    678.0,   2.4515,  34.4924,2,  34.4923,2,    178.9,2,  2.4101,    178.8,2,    66.78,2,    34.56,2,     0.00,2,     2.36,2,    0.702,2,    0.337,2,   -999.0,9,  -999.00,9,   2241.3,2,   1215.4,2,   2329.9,2,     7.56,2, -999.00,  -999.0, -999.00,  -999.0
    31DSCG96_1,  P15S,    46,  1,    117,   1267,2,19960122,1030,-60.0057,-170.0057, 3738,   -999,    776.3,   2.4157,  34.5430,2,  34.5422,2,    175.1,2,  2.3679,    175.2,2,    70.96,2,    34.39,2,     0.00,2,     2.34,2,    0.478,2,    0.240,2,   -999.0,9,  -999.00,9,   2245.9,2,   1212.4,2,   2331.7,2,     7.56,2, -999.00,  -999.0, -999.00,  -999.0
    31DSCG96_1,  P15S,    46,  1,    116,   1211,2,19960122,1030,-60.0057,-170.0057, 3738,   -999,    873.1,   2.3887,  34.5914,2,  34.5907,2,    174.4,2,  2.3344,    173.9,2,    74.18,2,    33.89,2,     0.00,2,     2.31,2,    0.316,2,    0.156,2,   -999.0,9,  -999.00,9,   2248.4,2,   1195.3,2,   2339.2,2,     7.57,2, -999.00,  -999.0, -999.00,  -999.0
    31DSCG96_1,  P15S,    46,  1,    115,   1041,2,19960122,1030,-60.0057,-170.0057, 3738,   -999,    974.4,   2.3396,  34.6245,2,  34.6243,2,    174.5,2,  2.2785,    174.6,6,    76.38,2,    33.51,2,     0.00,2,     2.28,2,    0.241,2,    0.131,2,   -999.0,9,  -999.00,9,   2249.2,2,   1194.0,2,   2340.1,2,     7.57,2, -999.00,  -999.0, -999.00,  -999.0
    31DSCG96_1,  P15S,    46,  1,    114,   1017,2,19960122,1030,-60.0057,-170.0057, 3738,   -999,   1073.7,   2.2903,  34.6515,2,  34.6521,2,    176.2,2,  2.2225,    175.4,2,    78.21,2,    33.07,2,     0.00,2,     2.25,2,    0.196,2,    0.133,2,   -999.0,9,  -999.00,9,   2247.1,2,   1180.1,2,   2343.7,2,     7.57,2, -999.00,  -999.0, -999.00,  -999.0
    31DSCG96_1,  P15S,    46,  1,    113,   1008,2,19960122,1030,-60.0057,-170.0057, 3738,   -999,   1213.1,   2.1983,  34.6832,2,  34.6826,2,    177.3,2,  2.1211,    177.9,2,    80.83,2,    32.56,2,     0.00,2,     2.21,2,    0.162,2,    0.097,2,   -999.0,9,  -999.00,9,   2248.0,2,   1163.1,2,   2344.1,2,     7.58,2, -999.00,  -999.0, -999.00,  -999.0
    31DSCG96_1,  P15S,    46,  1,    112,   1217,2,19960122,1030,-60.0057,-170.0057, 3738,   -999,   1437.1,   2.0886,  34.7170,2,  34.7161,2,    184.9,2,  1.9957,    184.2,2,    83.94,2,    31.87,2,     0.00,2,     2.15,2,    0.099,2,    0.079,4,   -999.0,9,  -999.00,9,   2247.3,2,   1121.6,2,   2352.1,2,     7.60,2, -999.00,  -999.0, -999.00,  -999.0
    31DSCG96_1,  P15S,    46,  1,    111,   1114,2,19960122,1030,-60.0057,-170.0057, 3738,   -999,   1688.9,   1.9217,  34.7354,2,  34.7351,2,    190.4,2,  1.8113,    190.6,2,    88.45,2,    31.17,2,     0.00,2,     2.12,2,    0.072,2,    0.048,2,   -999.0,9,  -999.00,9,   2245.9,2,   1090.5,2,   2351.2,2,     7.61,2, -999.00,  -999.0, -999.00,  -999.0
    31DSCG96_1,  P15S,    46,  1,    110,   1036,2,19960122,1030,-60.0057,-170.0057, 3738,   -999,   1940.4,   1.7422,  34.7404,2,  34.7392,2,    194.2,2,  1.6142,    193.9,2,    93.72,2,    31.09,2,     0.00,2,     2.11,2,    0.062,2,    0.063,4,   -999.0,9,  -999.00,9,   2246.7,2,   1087.3,2,   2359.5,3,     7.61,2, -999.00,  -999.0, -999.00,  -999.0
    31DSCG96_1,  P15S,    46,  1,    109,   1216,2,19960122,1030,-60.0057,-170.0057, 3738,   -999,   2189.7,   1.5407,  34.7378,2,  34.7359,2,    196.9,2,  1.3953,    196.7,6,    99.76,2,    31.20,2,     0.00,2,     2.12,2,    0.045,2,    0.048,4,   -999.0,9,  -999.00,9,   2250.4,2,   1068.4,2,   2357.4,2,     7.61,2, -999.00,  -999.0, -999.00,  -999.0
    31DSCG96_1,  P15S,    46,  1,    108,   1263,2,19960122,1030,-60.0057,-170.0057, 3738,   -999,   2439.8,   1.3707,  34.7324,2,  34.7306,2,    199.4,2,  1.2071,    199.1,2,   105.01,2,    31.46,2,     0.00,2,     2.14,2,    0.040,2,    0.029,2,   -999.0,9,  -999.00,9,   2250.5,2,   1070.0,2,   2365.1,3,     7.61,2, -999.00,  -999.0, -999.00,  -999.0
    31DSCG96_1,  P15S,    46,  1,    107,   1245,2,19960122,1030,-60.0057,-170.0057, 3738,   -999,   2690.7,   1.2223,  34.7266,2,  34.7255,2,    201.1,2,  1.0395,    201.4,2,   109.70,2,    31.67,2,     0.00,2,     2.15,2,    0.040,2,    0.018,2,   -999.0,9,  -999.00,9,   2254.3,2,   1076.4,2,   2362.7,2,     7.61,2, -999.00,  -999.0, -999.00,  -999.0
    31DSCG96_1,  P15S,    46,  1,    106,   1262,2,19960122,1030,-60.0057,-170.0057, 3738,   -999,   2937.9,   1.0945,  34.7206,2,  34.7205,2,    203.6,2,  0.8921,    203.3,2,   113.50,2,    31.84,2,     0.00,2,     2.16,2,    0.052,2,    0.048,4,   -999.0,9,  -999.00,9,   2254.0,2,   1079.6,2,   2366.2,3,     7.61,2, -999.00,  -999.0, -999.00,  -999.0
    31DSCG96_1,  P15S,    46,  1,    105,   1113,2,19960122,1030,-60.0057,-170.0057, 3738,   -999,   3191.6,   0.9843,  34.7157,2,  34.7144,2,    205.1,2,  0.7608,    205.6,2,   116.75,2,    31.92,2,     0.00,2,     2.17,2,    0.037,2,    0.027,4,   -999.0,9,  -999.00,9,   2255.2,2,   1080.7,2,   2364.7,2,     7.61,2, -999.00,  -999.0, -999.00,  -999.0
    31DSCG96_1,  P15S,    46,  1,    104,   1003,2,19960122,1030,-60.0057,-170.0057, 3738,   -999,   3437.5,   0.8963,  34.7109,2,  34.7104,2,    207.5,2,  0.6513,    206.8,2,   120.30,2,    32.16,2,     0.00,2,     2.19,2,    0.049,2,    0.030,2,   -999.0,9,  -999.00,9,   2256.8,2,   1085.1,6,   2367.2,2,     7.61,2, -999.00,  -999.0, -999.00,  -999.0
    31DSCG96_1,  P15S,    46,  1,    103,   9999,2,19960122,1030,-60.0057,-170.0057, 3738,   -999,   3686.4,   0.8397,  34.7075,2,  34.7065,2,    208.5,2,  0.5715,    207.7,6,   124.90,2,    32.28,2,     0.00,2,     2.22,2,    0.049,6,    0.025,6,   -999.0,9,  -999.00,9,   2257.2,2,   -999.0,9,   2368.2,2,     7.61,2, -999.00,  -999.0, -999.00,  -999.0
    31DSCG96_1,  P15S,    46,  1,    102,   1027,2,19960122,1030,-60.0057,-170.0057, 3738,   -999,   3687.1,   0.8398,  34.7074,2,  34.7071,2,    208.2,2,  0.5716,    207.9,2,   124.84,2,    32.24,2,     0.00,2,     2.19,2,    0.054,2,    0.039,2,   -999.0,9,  -999.00,9,   2258.0,2,   1095.8,2,   2368.5,2,     7.61,2, -999.00,  -999.0, -999.00,  -999.0
    31DSCG96_1,  P15S,    46,  1,    101,   1022,2,19960122,1030,-60.0057,-170.0057, 3738,   -999,   3743.0,   0.8422,  34.7072,2,  34.7065,2,    207.4,2,  0.5682,    209.2,2,   125.27,6,    32.24,6,     0.00,6,     2.20,6,    0.050,2,    0.028,2,   -999.0,9,  -999.00,9,   2258.1,2,   1105.0,2,   2364.4,2,     7.61,2, -999.00,  -999.0, -999.00,  -999.0