BOTTLE,20220811CCHSIOAMB
EXPOCODE,SECT_ID,STNNBR,CASTNO,SAMPNO,BTLNBR,BTLNBR_FLAG_W,DATE,TIME,LATITUDE,LONGITUDE,DEPTH,CTDRAW,CTDPRS,CTDTMP,CTDSAL,CTDSAL_FLAG_W,SALNTY,SALNTY_FLAG_W,CTDOXY,CTDOXY_FLAG_W,THETA,OXYGEN,OXYGEN_FLAG_W,SILCAT,SILCAT_FLAG_W,NITRAT,NITRAT_FLAG_W,NITRIT,NITRIT_FLAG_W,PHSPHT,PHSPHT_FLAG_W,CFC-11,CFC-11_FLAG_W,CFC-12,CFC-12_FLAG_W,DELC14,DELC14_FLAG_W,DELC13,DELC13_FLAG_W,TCARBN,TCARBN_FLAG_W,PCO2,PCO2_FLAG_W,ALKALI,ALKALI_FLAG_W,PH,PH_FLAG_W,PCO2TMP,C14ERR,PH_TMP,C13ERR
,,,,,,,,,,,,DBAR,DBAR,ITS-90,PSS-78,,PSS-78,,UMOL/KG,,DEG C,UMOL/KG,,UMOL/KG,,UMOL/KG,,UMOL/KG,,UMOL/KG,,PMOL/KG,,PMOL/KG,,/MILLE,,/MILLE,,UMOL/KG,,UATM,,UMOL/KG,,,,DEG C,/MILLE,DEG C,/MILLE
    31DSCG96_1,  P14S,    30,  1,    134,   1224,2,19960116,0737,-64.6763, 170.9770, 3475,   -999,      9.6,  -0.1993,  33.8135,2,  33.8155,2,    344.4,2, -0.1996,    348.2,2,    63.80,2,    24.17,2,     0.20,2,     1.55,2, -999.000,9, -999.000,9,   -999.0,9,  -999.00,9,   -999.0,9,   -999.0,9,   -999.0,9,     7.74,2, -999.00,  -999.0, -999.00,  -999.0
    31DSCG96_1,  P14S,    30,  1,    133,   1221,2,19960116,0737,-64.6763, 170.9770, 3475,   -999,     10.2,  -0.1965,  33.8131,2,  33.8155,2,    344.4,2, -0.1968,    347.5,2,    63.79,2,    24.22,2,     0.20,2,     1.57,2,    6.222,6,    2.992,6,   -999.0,9,  -999.00,9,   2149.7,2,    762.9,2,   2296.9,2,     7.73,2, -999.00,  -999.0, -999.00,  -999.0
    31DSCG96_1,  P14S,    30,  1,    132,   1039,2,19960116,0737,-64.6763, 170.9770, 3475,   -999,     19.5,  -0.1961,  33.8131,2,  33.8140,2,    347.4,2, -0.1967,    347.3,2,    63.75,2,    24.22,2,     0.20,2,     1.56,2, -999.000,9, -999.000,9,   -999.0,9,  -999.00,9,   -999.0,9,   -999.0,9,   -999.0,9,     7.73,3, -999.00,  -999.0, -999.00,  -999.0
    31DSCG96_1,  P14S,    30,  1,    131,   1042,2,19960116,0737,-64.6763, 170.9770, 3475,   -999,     41.9,  -0.2368,  33.8199,2,  33.8215,2,    346.5,2, -0.2381,    346.8,2,    64.09,2,    24.28,2,     0.20,2,     1.56,2, -999.000,9, -999.000,9,   -999.0,9,  -999.00,9,   2149.8,2,    756.6,2,   2297.1,2,     7.73,3, -999.00,  -999.0, -999.00,  -999.0
    31DSCG96_1,  P14S,    30,  1,    130,   1257,2,19960116,0737,-64.6763, 170.9770, 3475,   -999,     68.4,  -1.4161,  34.1930,2,  34.1963,2,    302.2,2, -1.4177,    298.0,2,    75.15,2,    28.83,2,     0.17,2,     1.97,2, -999.000,9, -999.000,9,   -999.0,9,  -999.00,9,   -999.0,9,   -999.0,9,   -999.0,9,     7.65,2, -999.00,  -999.0, -999.00,  -999.0
    31DSCG96_1,  P14S,    30,  1,    129,   1256,2,19960116,0737,-64.6763, 170.9770, 3475,   -999,     96.4,  -0.4966,  34.4197,2,  34.4148,2,    269.4,2, -0.4996,    252.3,2,    83.25,2,    31.24,2,     0.06,2,     2.12,2,    3.066,2,    1.432,2,   -999.0,9,  -999.00,9,   2229.1,2,   1068.8,2,   2332.7,2,     7.61,2, -999.00,  -999.0, -999.00,  -999.0
    31DSCG96_1,  P14S,    30,  1,    128,   1007,2,19960116,0737,-64.6763, 170.9770, 3475,   -999,    120.8,   0.3119,  34.5585,2,  34.5580,2,    218.4,2,  0.3073,    219.3,2,    89.21,2,    32.18,2,     0.02,2,     2.18,2, -999.000,9, -999.000,9,   -999.0,9,  -999.00,9,   -999.0,9,   -999.0,9,   -999.0,9,     7.59,2, -999.00,  -999.0, -999.00,  -999.0
    31DSCG96_1,  P14S,    30,  1,    127,   1234,2,19960116,0737,-64.6763, 170.9770, 3475,   -999,    144.7,   0.6902,  34.6248,2,  34.6195,2,    205.2,2,  0.6841,    206.6,6,    91.84,2,    32.50,2,     0.02,2,     2.20,2, -999.000,9, -999.000,9,   -999.0,9,  -999.00,9,   2251.1,2,   1165.4,2,   2345.5,2,     7.58,2, -999.00,  -999.0, -999.00,  -999.0
    31DSCG96_1,  P14S,    30,  1,    126,   1025,2,19960116,0737,-64.6763, 170.9770, 3475,   -999,    169.5,   1.0758,  34.6862,2,  34.6842,2,    197.1,2,  1.0681,    194.3,2,    95.66,2,    32.66,2,     0.01,2,     2.21,2, -999.000,9, -999.000,9,   -999.0,9,  -999.00,9,   -999.0,9,   -999.0,9,   -999.0,9,     7.58,2, -999.00,  -999.0, -999.00,  -999.0
    31DSCG96_1,  P14S,    30,  1,    125,   1233,2,19960116,0737,-64.6763, 170.9770, 3475,   -999,    196.9,   1.1642,  34.7012,2,  34.7006,2,    193.3,2,  1.1550,    191.7,2,    97.31,2,    32.56,2,     0.01,2,     2.20,2,    0.478,4,    0.454,4,   -999.0,9,  -999.00,9,   2257.1,2,   1180.6,2,   2330.2,3,     7.58,2, -999.00,  -999.0, -999.00,  -999.0
    31DSCG96_1,  P14S,    30,  1,    124,   1218,2,19960116,0737,-64.6763, 170.9770, 3475,   -999,    237.5,   1.1938,  34.7103,2,  34.7108,2,    192.4,2,  1.1825,    191.1,2,    99.00,2,    32.52,2,     0.01,2,     2.20,2, -999.000,9, -999.000,9,   -999.0,9,  -999.00,9,   -999.0,9,   -999.0,9,   -999.0,9,     7.58,2, -999.00,  -999.0, -999.00,  -999.0
    31DSCG96_1,  P14S,    30,  1,    123,   1250,2,19960116,0737,-64.6763, 170.9770, 3475,   -999,    287.8,   1.1887,  34.7143,2,  34.7140,2,    192.5,2,  1.1749,    192.2,2,   100.39,2,    32.45,2,     0.01,2,     2.19,2,    0.324,2,    0.169,2,   -999.0,9,  -999.00,9,   2256.4,2,   1132.7,2,   2352.3,2,     7.59,2, -999.00,  -999.0, -999.00,  -999.0
    31DSCG96_1,  P14S,    30,  1,    122,   1109,2,19960116,0737,-64.6763, 170.9770, 3475,   -999,    340.5,   1.1688,  34.7164,2,  34.7166,2,    193.6,2,  1.1524,    192.4,2,   101.89,2,    32.41,2,     0.01,2,     2.19,2, -999.000,9, -999.000,9,   -999.0,9,  -999.00,9,   -999.0,9,   -999.0,9,   -999.0,9,     7.59,2, -999.00,  -999.0, -999.00,  -999.0
    31DSCG96_1,  P14S,    30,  1,    121,   1246,2,19960116,0737,-64.6763, 170.9770, 3475,   -999,    389.6,   1.1358,  34.7182,2,  34.7176,2,    194.7,2,  1.1169,    193.2,2,   103.87,2,    32.36,2,     0.00,2,     2.18,2,    0.235,2,    0.109,2,   -999.0,9,  -999.00,9,   2260.9,2,   1138.3,2,   2357.0,2,     7.59,2, -999.00,  -999.0, -999.00,  -999.0
    31DSCG96_1,  P14S,    30,  1,    120,   1209,2,19960116,0737,-64.6763, 170.9770, 3475,   -999,    436.3,   1.1137,  34.7184,2,  34.7178,2,    194.9,2,  1.0925,    194.2,2,   105.17,2,    32.39,2,     0.00,2,     2.18,2, -999.000,9, -999.000,9,   -999.0,9,  -999.00,9,   -999.0,9,   -999.0,9,   -999.0,9,  -999.00,9, -999.00,  -999.0, -999.00,  -999.0
    31DSCG96_1,  P14S,    30,  1,    119,   1247,2,19960116,0737,-64.6763, 170.9770, 3475,   -999,    489.3,   1.0819,  34.7185,2,  34.7181,2,    196.0,2,  1.0581,    194.8,2,   106.29,2,    32.36,2,     0.00,2,     2.18,2,    0.202,2,    0.088,2,   -999.0,9,  -999.00,9,   -999.0,9,   -999.0,9,   -999.0,9,     7.60,2, -999.00,  -999.0, -999.00,  -999.0
    31DSCG96_1,  P14S,    30,  1,    118,   1222,2,19960116,0737,-64.6763, 170.9770, 3475,   -999,    571.1,   1.0302,  34.7180,2,  34.7182,2,    197.0,2,  1.0023,    194.8,2,   108.60,2,    32.33,2,     0.01,2,     2.19,2, -999.000,9, -999.000,9,   -999.0,9,  -999.00,9,   2258.2,2,   1120.7,6,   2358.5,2,     7.59,2, -999.00,  -999.0, -999.00,  -999.0
    31DSCG96_1,  P14S,    30,  1,    117,   1267,2,19960116,0737,-64.6763, 170.9770, 3475,   -999,    674.6,   0.9703,  34.7166,2,  34.7168,2,    197.9,2,  0.9370,    197.8,6,   110.43,2,    32.32,2,     0.00,2,     2.18,2,    0.155,2,    0.069,2,   -999.0,9,  -999.00,9,   -999.0,9,   -999.0,9,   -999.0,9,     7.60,2, -999.00,  -999.0, -999.00,  -999.0
    31DSCG96_1,  P14S,    30,  1,    116,   1211,2,19960116,0737,-64.6763, 170.9770, 3475,   -999,    773.9,   0.9065,  34.7144,2,  34.7150,2,    199.4,2,  0.8680,    199.2,2,   112.56,2,    32.37,2,     0.00,2,     2.19,2, -999.000,9, -999.000,9,   -999.0,9,  -999.00,9,   2258.4,2,   1112.5,2,   2358.5,2,  -999.00,9, -999.00,  -999.0, -999.00,  -999.0
    31DSCG96_1,  P14S,    30,  1,    115,   1041,2,19960116,0737,-64.6763, 170.9770, 3475,   -999,    877.2,   0.8408,  34.7124,2,  34.7132,2,    201.0,2,  0.7969,    200.6,2,   114.65,2,    32.42,2,     0.01,2,     2.19,2,    0.120,2,    0.052,2,   -999.0,9,  -999.00,9,   -999.0,9,   -999.0,9,   -999.0,9,     7.60,2, -999.00,  -999.0, -999.00,  -999.0
    31DSCG96_1,  P14S,    30,  1,    114,   1017,2,19960116,0737,-64.6763, 170.9770, 3475,   -999,    976.0,   0.7638,  34.7093,2,  34.7090,2,    202.9,2,  0.7147,    202.3,2,   117.00,2,    32.46,2,     0.00,2,     2.20,2, -999.000,9, -999.000,9,   -999.0,9,  -999.00,9,   2257.8,2,   1123.1,2,   2355.0,2,     7.60,2, -999.00,  -999.0, -999.00,  -999.0
    31DSCG96_1,  P14S,    30,  1,    113,   1008,2,19960116,0737,-64.6763, 170.9770, 3475,   -999,   1069.0,   0.7165,  34.7080,2,  34.7076,2,    203.7,2,  0.6623,    203.2,2,   118.79,2,    32.46,2,     0.00,2,     2.20,2,    0.110,3,    0.042,3,   -999.0,9,  -999.00,9,   -999.0,9,   -999.0,9,   -999.0,9,     7.60,2, -999.00,  -999.0, -999.00,  -999.0
    31DSCG96_1,  P14S,    30,  1,    112,   1217,2,19960116,0737,-64.6763, 170.9770, 3475,   -999,   1213.6,   0.6344,  34.7052,2,  34.7057,2,    205.8,2,  0.5722,    206.4,2,   121.07,2,    32.55,2,     0.00,2,     2.20,2, -999.000,9, -999.000,9,   -999.0,9,  -999.00,9,   -999.0,9,   -999.0,9,   -999.0,9,     7.60,2, -999.00,  -999.0, -999.00,  -999.0
    31DSCG96_1,  P14S,    30,  1,    111,   1114,2,19960116,0737,-64.6763, 170.9770, 3475,   -999,   1446.7,   0.5071,  34.6999,2,  34.6999,2,    208.1,2,  0.4315,    208.1,2,   122.81,2,    32.58,2,     0.00,2,     2.20,2,    0.147,2,    0.081,2,   -999.0,9,  -999.00,9,   2260.0,2,   1101.0,2,   -999.0,5,     7.60,2, -999.00,  -999.0, -999.00,  -999.0
    31DSCG96_1,  P14S,    30,  1,    110,   1036,2,19960116,0737,-64.6763, 170.9770, 3475,   -999,   1691.5,   0.4038,  34.6984,2,  34.6979,2,    210.2,2,  0.3133,    210.6,2,   124.58,2,    32.52,2,     0.00,2,     2.21,2, -999.000,9, -999.000,9,   -999.0,9,  -999.00,9,   -999.0,9,   -999.0,9,   -999.0,9,     7.60,2, -999.00,  -999.0, -999.00,  -999.0
    31DSCG96_1,  P14S,    30,  1,    109,   1216,2,19960116,0737,-64.6763, 170.9770, 3475,   -999,   1939.6,   0.3208,  34.6987,2,  34.6985,2,    213.1,2,  0.2143,    212.7,2,   125.56,2,    32.61,2,     0.00,2,     2.21,2,    0.254,3,    0.274,3,   -999.0,9,  -999.00,9,   2259.4,2,   1104.1,2,   2363.0,2,     7.60,2, -999.00,  -999.0, -999.00,  -999.0
    31DSCG96_1,  P14S,    30,  1,    108,   1263,2,19960116,0737,-64.6763, 170.9770, 3475,   -999,   2187.4,   0.2311,  34.6971,2,  34.6964,2,    216.5,2,  0.1080,    215.8,2,   123.45,2,    32.53,2,     0.00,2,     2.21,2, -999.000,9, -999.000,9,   -999.0,9,  -999.00,9,   -999.0,9,   -999.0,9,   -999.0,9,     7.60,2, -999.00,  -999.0, -999.00,  -999.0
    31DSCG96_1,  P14S,    30,  1,    107,   1245,2,19960116,0737,-64.6763, 170.9770, 3475,   -999,   2441.2,   0.1071,  34.6940,2,  34.6938,2,    221.0,2, -0.0331,    221.3,6,   117.87,2,    32.37,2,     0.00,2,     2.20,2,    0.776,2,    0.359,2,   -999.0,9,  -999.00,9,   2255.4,2,   1107.2,2,   2360.1,2,     7.59,3, -999.00,  -999.0, -999.00,  -999.0
    31DSCG96_1,  P14S,    30,  1,    106,   1262,2,19960116,0737,-64.6763, 170.9770, 3475,   -999,   2688.1,   0.0370,  34.6930,2,  34.6921,2,    224.8,2, -0.1214,    224.3,2,   115.24,2,    32.30,2,     0.00,2,     2.20,2, -999.000,9, -999.000,9,   -999.0,9,  -999.00,9,   -999.0,9,   -999.0,9,   -999.0,9,     7.60,2, -999.00,  -999.0, -999.00,  -999.0
    31DSCG96_1,  P14S,    30,  1,    105,   1113,2,19960116,0737,-64.6763, 170.9770, 3475,   -999,   2940.0,   0.0262,  34.6950,2,  34.6940,2,    225.8,2, -0.1528,    225.6,6,   112.95,2,    32.16,2,     0.00,2,     2.18,2,    1.176,2,    0.542,2,   -999.0,9,  -999.00,9,   2256.4,2,   1104.4,2,   2359.0,2,     7.60,2, -999.00,  -999.0, -999.00,  -999.0
    31DSCG96_1,  P14S,    30,  1,    104,   1003,2,19960116,0737,-64.6763, 170.9770, 3475,   -999,   3185.7,   0.0237,  34.6975,2,  34.6956,2,    226.2,2, -0.1765,    226.3,2,   110.81,2,    32.12,2,     0.00,2,     2.18,2, -999.000,9, -999.000,9,   -999.0,9,  -999.00,9,   -999.0,9,   -999.0,9,   -999.0,9,  -999.00,9, -999.00,  -999.0, -999.00,  -999.0
    31DSCG96_1,  P14S,    30,  1,    103,   9999,2,19960116,0737,-64.6763, 170.9770, 3475,   -999,   3291.2,   0.0206,  34.6988,2,  34.6972,2,    226.7,2, -0.1890,    226.2,2,   110.26,2,    32.17,2,     0.00,2,     2.18,2,    1.337,2,    0.622,2,   -999.0,9,  -999.00,9,   -999.0,9,   -999.0,9,   -999.0,9,     7.60,2, -999.00,  -999.0, -999.00,  -999.0
    31DSCG96_1,  P14S,    30,  1,    102,   1027,2,19960116,0737,-64.6763, 170.9770, 3475,   -999,   3293.3,   0.0213,  34.6985,2,  34.6985,2,    226.3,2, -0.1885,    226.8,2,   110.26,2,    32.14,2,     0.00,2,     2.18,2, -999.000,9, -999.000,9,   -999.0,9,  -999.00,9,   2254.3,2,   1104.3,2,   2358.8,2,     7.60,2, -999.00,  -999.0, -999.00,  -999.0
    31DSCG96_1,  P14S,    30,  1,    101,   1022,2,19960116,0737,-64.6763, 170.9770, 3475,   -999,   3450.1,   0.0226,  34.6993,2,  34.6990,2,    227.1,2, -0.2014,    226.9,2,   109.93,6,    32.15,6,     0.00,6,     2.19,6,    1.385,6,    0.650,6,   -999.0,9,  -999.00,9,   2257.4,2,   1110.9,2,   2358.2,2,     7.60,2, -999.00,  -999.0, -999.00,  -999.0