BOTTLE,20220811CCHSIOAMB
EXPOCODE,SECT_ID,STNNBR,CASTNO,SAMPNO,BTLNBR,BTLNBR_FLAG_W,DATE,TIME,LATITUDE,LONGITUDE,DEPTH,CTDRAW,CTDPRS,CTDTMP,CTDSAL,CTDSAL_FLAG_W,SALNTY,SALNTY_FLAG_W,CTDOXY,CTDOXY_FLAG_W,THETA,OXYGEN,OXYGEN_FLAG_W,SILCAT,SILCAT_FLAG_W,NITRAT,NITRAT_FLAG_W,NITRIT,NITRIT_FLAG_W,PHSPHT,PHSPHT_FLAG_W,CFC-11,CFC-11_FLAG_W,CFC-12,CFC-12_FLAG_W,DELC14,DELC14_FLAG_W,DELC13,DELC13_FLAG_W,TCARBN,TCARBN_FLAG_W,PCO2,PCO2_FLAG_W,ALKALI,ALKALI_FLAG_W,PH,PH_FLAG_W,PCO2TMP,C14ERR,PH_TMP,C13ERR
,,,,,,,,,,,,DBAR,DBAR,ITS-90,PSS-78,,PSS-78,,UMOL/KG,,DEG C,UMOL/KG,,UMOL/KG,,UMOL/KG,,UMOL/KG,,UMOL/KG,,PMOL/KG,,PMOL/KG,,/MILLE,,/MILLE,,UMOL/KG,,UATM,,UMOL/KG,,,,DEG C,/MILLE,DEG C,/MILLE
    31DSCG96_1,  P15S,    89,  2,    232,   1039,2,19960202,0006,-42.1675,-174.2500, 2875,   -999,     10.6,  19.1426,  35.3715,2,  35.3708,2,    234.3,2, 19.1407,    234.2,2,     1.23,2,     0.02,2,     0.00,2,     0.05,2,    2.486,6,    1.401,6,     75.9,2,  -999.00,9,   2033.3,2,    348.7,2,   2328.0,2,     8.02,2, -999.00,     3.1, -999.00,  -999.0
    31DSCG96_1,  P15S,    89,  2,    231,   1014,2,19960202,0006,-42.1675,-174.2500, 2875,   -999,     14.7,  19.0843,  35.3701,2,  35.3654,2,    234.8,2, 19.0817,    235.2,2,     1.21,2,     0.03,2,     0.00,2,     0.05,2, -999.000,9, -999.000,9,   -999.0,9,  -999.00,9,   -999.0,9,   -999.0,9,   -999.0,9,     8.02,2, -999.00,  -999.0, -999.00,  -999.0
    31DSCG96_1,  P15S,    89,  2,    230,   1257,2,19960202,0006,-42.1675,-174.2500, 2875,   -999,     30.5,  18.6171,  35.3750,2,  35.3741,2,    236.6,2, 18.6118,    237.8,2,     1.18,2,     0.03,2,     0.00,2,     0.09,2, -999.000,9, -999.000,9,   -999.0,9,  -999.00,9,   -999.0,9,   -999.0,9,   -999.0,9,     8.01,2, -999.00,  -999.0, -999.00,  -999.0
    31DSCG96_1,  P15S,    89,  2,    229,   1256,2,19960202,0006,-42.1675,-174.2500, 2875,   -999,     55.3,  14.7859,  35.1553,2,  35.1471,2,    243.9,2, 14.7776,    247.9,2,     1.27,2,     0.35,2,     0.03,2,     0.21,2,    2.994,2,    1.712,2,   -999.0,9,  -999.00,9,   2052.0,2,    399.9,6,   2314.2,2,     7.97,2, -999.00,  -999.0, -999.00,  -999.0
    31DSCG96_1,  P15S,    89,  2,    228,   1007,2,19960202,0006,-42.1675,-174.2500, 2875,   -999,     80.6,  13.2661,  35.1309,2,  35.1355,2,    225.7,2, 13.2549,    228.8,2,     2.76,2,     6.31,2,     0.02,2,     0.52,2, -999.000,9, -999.000,9,   -999.0,9,  -999.00,9,   -999.0,9,   -999.0,9,   -999.0,9,     7.91,2, -999.00,  -999.0, -999.00,  -999.0
    31DSCG96_1,  P15S,    89,  2,    227,   1232,2,19960202,0006,-42.1675,-174.2500, 2875,   -999,    104.7,  13.2520,  35.2291,2,  35.2259,2,    227.7,2, 13.2374,    228.3,2,     3.54,2,     7.50,2,     0.01,2,     0.59,2,    2.916,2,    1.579,2,   -999.0,9,  -999.00,9,   2087.4,2,    487.8,2,   2318.2,2,     7.90,2, -999.00,  -999.0, -999.00,  -999.0
    31DSCG96_1,  P15S,    89,  2,    226,   1025,2,19960202,0006,-42.1675,-174.2500, 2875,   -999,    129.2,  12.9348,  35.2056,2,  35.2066,2,    227.6,2, 12.9171,    231.0,2,     3.60,2,     8.05,2,     0.01,2,     0.62,2, -999.000,9, -999.000,9,   -999.0,9,  -999.00,9,   -999.0,9,   -999.0,9,   -999.0,9,     7.89,2, -999.00,  -999.0, -999.00,  -999.0
    31DSCG96_1,  P15S,    89,  2,    225,   1233,2,19960202,0006,-42.1675,-174.2500, 2875,   -999,    154.3,  12.7551,  35.1882,2,  35.1867,2,    234.8,2, 12.7342,    236.0,2,     3.39,2,     7.87,2,     0.01,2,     0.61,2,    3.013,2,    1.624,2,   -999.0,9,  -999.00,9,   2090.0,2,    496.9,2,   2312.8,2,     7.89,2, -999.00,  -999.0, -999.00,  -999.0
    31DSCG96_1,  P15S,    89,  2,    224,   1218,2,19960202,0006,-42.1675,-174.2500, 2875,   -999,    181.0,  12.5690,  35.1530,2,  35.1513,2,    237.8,2, 12.5447,    236.0,2,     3.55,2,     8.26,2,     0.01,2,     0.64,2, -999.000,9, -999.000,9,   -999.0,9,  -999.00,9,   -999.0,9,   -999.0,9,   -999.0,9,     7.88,2, -999.00,  -999.0, -999.00,  -999.0
    31DSCG96_1,  P15S,    89,  2,    223,   1250,2,19960202,0006,-42.1675,-174.2500, 2875,   -999,    205.7,  12.2986,  35.1023,2,  35.1033,2,    235.0,2, 12.2713,    233.4,2,     3.81,2,     9.02,2,     0.01,2,     0.70,2,    2.985,2,    1.659,2,   -999.0,9,  -999.00,9,   2092.0,2,    520.5,2,   2311.4,2,     7.88,2, -999.00,  -999.0, -999.00,  -999.0
    31DSCG96_1,  P15S,    89,  2,    222,   1109,2,19960202,0006,-42.1675,-174.2500, 2875,   -999,    230.6,  11.9937,  35.0471,2,  35.0452,2,    231.5,2, 11.9635,    229.3,2,     4.13,2,    10.14,2,     0.01,2,     0.77,2, -999.000,9, -999.000,9,   -999.0,9,  -999.00,9,   -999.0,9,   -999.0,9,   -999.0,9,     7.86,2, -999.00,  -999.0, -999.00,  -999.0
    31DSCG96_1,  P15S,    89,  2,    221,   1246,2,19960202,0006,-42.1675,-174.2500, 2875,   -999,    264.1,  11.2817,  34.9134,2,  34.9140,2,    230.8,2, 11.2486,    230.8,2,     4.22,2,    11.47,2,     0.01,2,     0.87,2,    3.083,2,    1.650,2,   -999.0,9,  -999.00,9,   2098.7,2,    561.0,2,   2302.0,2,     7.84,2, -999.00,  -999.0, -999.00,  -999.0
    31DSCG96_1,  P15S,    89,  2,    220,   1015,2,19960202,0006,-42.1675,-174.2500, 2875,   -999,    315.4,  10.5226,  34.7961,2,  34.7977,2,    230.8,2, 10.4847,    230.1,2,     4.87,2,    13.36,2,     0.01,2,     0.99,2, -999.000,9, -999.000,9,   -999.0,9,  -999.00,9,   2109.0,2,    597.5,2,   2299.5,2,     7.82,2, -999.00,  -999.0, -999.00,  -999.0
    31DSCG96_1,  P15S,    89,  2,    219,   1247,2,19960202,0006,-42.1675,-174.2500, 2875,   -999,    365.0,  10.0207,  34.7423,2,  34.7413,2,    219.7,2,  9.9781,    216.7,2,     6.58,2,    16.13,2,     0.01,2,     1.17,2,    2.751,2,    1.467,2,   -999.0,9,  -999.00,9,   -999.0,9,   -999.0,9,   -999.0,9,     7.79,2, -999.00,  -999.0, -999.00,  -999.0
    31DSCG96_1,  P15S,    89,  2,    218,   1222,2,19960202,0006,-42.1675,-174.2500, 2875,   -999,    415.4,   9.5379,  34.6972,2,  34.6963,2,    212.5,2,  9.4907,    207.9,2,     7.88,2,    18.16,2,     0.01,2,     1.29,2, -999.000,9, -999.000,9,   -999.0,9,  -999.00,9,   2127.7,2,    694.0,2,   2290.7,2,     7.77,2, -999.00,  -999.0, -999.00,  -999.0
    31DSCG96_1,  P15S,    89,  2,    217,   1267,2,19960202,0006,-42.1675,-174.2500, 2875,   -999,    465.9,   9.0345,  34.6390,2,  34.6406,2,    210.6,2,  8.9832,    220.2,2,     7.88,2,    18.05,2,     0.01,2,     1.29,2,    2.596,2,    1.358,2,   -999.0,9,  -999.00,9,   -999.0,9,   -999.0,9,   -999.0,9,     7.77,2, -999.00,  -999.0, -999.00,  -999.0
    31DSCG96_1,  P15S,    89,  2,    216,   1211,2,19960202,0006,-42.1675,-174.2500, 2875,   -999,    515.2,   8.6341,  34.5925,2,  34.5925,2,    227.4,2,  8.5788,    228.7,2,     8.02,2,    18.29,2,     0.00,2,     1.32,2, -999.000,9, -999.000,9,   -999.0,9,  -999.00,9,   2126.6,3,    733.5,3,   2293.7,2,     7.77,2, -999.00,  -999.0, -999.00,  -999.0
    31DSCG96_1,  P15S,    89,  2,    215,   1041,2,19960202,0006,-42.1675,-174.2500, 2875,   -999,    565.1,   8.4929,  34.6031,2,  34.6045,2,    223.1,2,  8.4326,    208.7,2,    10.47,2,    20.76,2,     0.00,2,     1.47,2,    1.918,2,    1.010,2,   -999.0,9,  -999.00,9,   -999.0,9,   -999.0,9,   -999.0,9,     7.74,2, -999.00,  -999.0, -999.00,  -999.0
    31DSCG96_1,  P15S,    89,  2,    214,   1017,2,19960202,0006,-42.1675,-174.2500, 2875,   -999,    625.4,   7.9875,  34.5537,2,  34.5545,2,    204.8,2,  7.9230,    206.2,2,    11.75,2,    22.30,2,     0.00,2,     1.55,2, -999.000,9, -999.000,9,   -999.0,9,  -999.00,9,   2141.4,2,   -999.0,9,   2292.7,2,     7.73,2, -999.00,  -999.0, -999.00,  -999.0
    31DSCG96_1,  P15S,    89,  2,    213,   1302,2,19960202,0006,-42.1675,-174.2500, 2875,   -999,    726.0,   7.4682,  34.5290,2,  34.5287,2,    203.2,2,  7.3956,    200.7,2,    16.01,2,    24.02,2,     0.00,2,     1.67,2,    0.939,2,    0.509,2,   -999.0,9,  -999.00,9,   -999.0,9,   -999.0,9,   -999.0,9,     7.71,2, -999.00,  -999.0, -999.00,  -999.0
    31DSCG96_1,  P15S,    89,  2,    212,   1217,2,19960202,0006,-42.1675,-174.2500, 2875,   -999,    826.0,   6.7898,  34.4848,2,  34.4855,2,    198.8,2,  6.7108,    198.8,2,    20.10,2,    25.72,2,     0.00,2,     1.78,2, -999.000,9, -999.000,9,   -999.0,9,  -999.00,9,   2161.0,2,    845.5,2,   2297.2,2,     7.69,2, -999.00,  -999.0, -999.00,  -999.0
    31DSCG96_1,  P15S,    89,  2,    211,   1114,2,19960202,0006,-42.1675,-174.2500, 2875,   -999,    924.3,   6.1892,  34.4515,2,  34.4517,2,    195.3,2,  6.1044,    196.1,2,    24.95,2,    27.28,2,     0.00,2,     1.89,2,    0.450,2,    0.252,2,   -999.0,9,  -999.00,9,   -999.0,9,   -999.0,9,   -999.0,9,     7.68,2, -999.00,  -999.0, -999.00,  -999.0
    31DSCG96_1,  P15S,    89,  2,    210,   1301,2,19960202,0006,-42.1675,-174.2500, 2875,   -999,   1024.4,   5.6776,  34.4487,2,  34.4497,2,    189.1,2,  5.5869,    193.0,2,    29.63,2,    28.26,2,     0.01,2,     1.95,2, -999.000,9, -999.000,9,   -999.0,9,  -999.00,9,   2181.3,2,    915.1,2,   2302.7,2,     7.66,2, -999.00,  -999.0, -999.00,  -999.0
    31DSCG96_1,  P15S,    89,  2,    209,   1242,2,19960202,0006,-42.1675,-174.2500, 2875,   -999,   1139.8,   4.9683,  34.4544,2,  34.4540,2,    182.1,2,  4.8726,    181.8,2,    42.76,2,    30.51,2,     0.00,2,     2.11,2,    0.162,2,    0.086,2,   -999.0,9,  -999.00,9,   -999.0,9,   -999.0,9,   -999.0,9,     7.63,2, -999.00,  -999.0, -999.00,  -999.0
    31DSCG96_1,  P15S,    89,  2,    208,   1263,2,19960202,0006,-42.1675,-174.2500, 2875,   -999,   1313.5,   4.1921,  34.4874,2,  34.4863,2,    172.9,2,  4.0878,    172.9,6,    58.50,2,    32.24,2,     0.00,2,     2.23,2, -999.000,9, -999.000,9,   -999.0,9,  -999.00,9,   -999.0,9,   -999.0,9,   -999.0,9,     7.61,2, -999.00,  -999.0, -999.00,  -999.0
    31DSCG96_1,  P15S,    89,  2,    207,   1245,2,19960202,0006,-42.1675,-174.2500, 2875,   -999,   1564.3,   3.2691,  34.5537,2,  34.5537,2,    161.8,2,  3.1527,    161.5,2,    82.39,2,    33.90,2,     0.00,2,     2.35,2,    0.034,2,    0.042,4,   -999.0,9,  -999.00,9,   2257.0,2,   1138.2,2,   2358.4,2,     7.59,2, -999.00,  -999.0, -999.00,  -999.0
    31DSCG96_1,  P15S,    89,  2,    206,   1262,2,19960202,0006,-42.1675,-174.2500, 2875,   -999,   1813.6,   2.5608,  34.6118,2,  34.6116,2,    155.4,2,  2.4320,    154.4,2,   102.83,2,    34.92,2,     0.00,2,     2.42,2,    0.012,6,    0.009,2,   -999.0,9,  -999.00,9,   -999.0,9,   -999.0,9,   -999.0,9,     7.58,2, -999.00,  -999.0, -999.00,  -999.0
    31DSCG96_1,  P15S,    89,  2,    205,   1113,2,19960202,0006,-42.1675,-174.2500, 2875,   -999,   2065.5,   2.2249,  34.6426,2,  34.6427,2,    154.2,2,  2.0793,    154.0,2,   111.48,2,    35.10,2,     0.00,2,     2.43,2,    0.011,2,    0.175,4,   -999.0,9,  -999.00,9,   2293.4,2,   1193.2,2,   -999.0,5,     7.58,2, -999.00,  -999.0, -999.00,  -999.0
    31DSCG96_1,  P15S,    89,  2,    204,   1003,2,19960202,0006,-42.1675,-174.2500, 2875,   -999,   2313.2,   1.9996,  34.6673,2,  34.6676,2,    157.2,2,  1.8360,    158.4,6,   114.46,2,    34.81,2,     0.00,2,     2.40,2,    0.005,2,    0.023,4,   -999.0,9,  -999.00,9,   -999.0,9,   -999.0,9,   -999.0,9,     7.58,2, -999.00,  -999.0, -999.00,  -999.0
    31DSCG96_1,  P15S,    89,  2,    203,   1027,2,19960202,0006,-42.1675,-174.2500, 2875,   -999,   2565.5,   1.8403,  34.6990,2,  34.6986,2,    173.1,2,  1.6569,    173.3,2,   107.41,2,    33.32,2,     0.00,2,     2.29,2, -999.000,5, -999.000,5,   -999.0,9,  -999.00,9,   2276.4,2,   1148.3,2,   -999.0,5,     7.59,2, -999.00,  -999.0, -999.00,  -999.0
    31DSCG96_1,  P15S,    89,  2,    202,   1030,2,19960202,0006,-42.1675,-174.2500, 2875,   -999,   2814.0,   1.5274,  34.7272,2,  34.7269,2,    192.5,2,  1.3272,    193.4,2,   104.22,6,    31.84,6,     0.00,6,     2.17,6,    0.018,6,    0.015,2,   -999.0,9,  -999.00,9,   -999.0,9,   -999.0,9,   -999.0,9,     7.61,2, -999.00,  -999.0, -999.00,  -999.0
    31DSCG96_1,  P15S,    89,  2,    201,   1022,2,19960202,0006,-42.1675,-174.2500, 2875,   -999,   2888.9,   1.4108,  34.7265,2,  34.7279,2,    196.0,2,  1.2061,    196.2,6,   106.91,2,    31.84,2,     0.00,2,     2.17,2,    0.021,2,    0.051,4,   -999.0,9,  -999.00,9,   2256.2,2,   1081.9,2,   -999.0,9,     7.61,2, -999.00,  -999.0, -999.00,  -999.0