BOTTLE,20220811CCHSIOAMB
EXPOCODE,SECT_ID,STNNBR,CASTNO,SAMPNO,BTLNBR,BTLNBR_FLAG_W,DATE,TIME,LATITUDE,LONGITUDE,DEPTH,CTDRAW,CTDPRS,CTDTMP,CTDSAL,CTDSAL_FLAG_W,SALNTY,SALNTY_FLAG_W,CTDOXY,CTDOXY_FLAG_W,THETA,OXYGEN,OXYGEN_FLAG_W,SILCAT,SILCAT_FLAG_W,NITRAT,NITRAT_FLAG_W,NITRIT,NITRIT_FLAG_W,PHSPHT,PHSPHT_FLAG_W,CFC-11,CFC-11_FLAG_W,CFC-12,CFC-12_FLAG_W,DELC14,DELC14_FLAG_W,DELC13,DELC13_FLAG_W,TCARBN,TCARBN_FLAG_W,PCO2,PCO2_FLAG_W,ALKALI,ALKALI_FLAG_W,PH,PH_FLAG_W,PCO2TMP,C14ERR,PH_TMP,C13ERR
,,,,,,,,,,,,DBAR,DBAR,ITS-90,PSS-78,,PSS-78,,UMOL/KG,,DEG C,UMOL/KG,,UMOL/KG,,UMOL/KG,,UMOL/KG,,UMOL/KG,,PMOL/KG,,PMOL/KG,,/MILLE,,/MILLE,,UMOL/KG,,UATM,,UMOL/KG,,,,DEG C,/MILLE,DEG C,/MILLE
    31DSCG96_1,  P14S,    17,  1,    134,   1224,2,19960112,0641,-58.5042, 173.9707, 5046,   -999,      8.5,   4.7536,  33.9838,2,  33.9835,2,    315.6,2,  4.7530,    316.5,2,     1.90,2,    21.82,2,     0.24,2,     1.40,6,    5.115,2,    2.577,2,   -999.0,9,  -999.00,9,   2113.9,2,    648.5,6,   2281.9,2,     7.79,2, -999.00,  -999.0, -999.00,  -999.0
    31DSCG96_1,  P14S,    17,  1,    133,   1221,2,19960112,0641,-58.5042, 173.9707, 5046,   -999,     32.2,   4.7584,  33.9842,2,  33.9840,2,    316.3,2,  4.7560,    316.1,2,     1.92,2,    21.76,2,     0.24,2,     1.40,6,    5.076,6,    2.585,6,   -999.0,9,  -999.00,9,   -999.0,9,   -999.0,9,   -999.0,9,     7.79,2, -999.00,  -999.0, -999.00,  -999.0
    31DSCG96_1,  P14S,    17,  1,    132,   1039,2,19960112,0641,-58.5042, 173.9707, 5046,   -999,     54.9,   4.6524,  33.9824,2,  33.9827,2,    316.8,2,  4.6484,    315.1,2,     1.98,2,    21.97,2,     0.24,2,     1.42,6,    5.045,2,    2.529,2,   -999.0,9,  -999.00,9,   2112.6,2,    656.7,2,   2281.9,2,     7.79,2, -999.00,  -999.0, -999.00,  -999.0
    31DSCG96_1,  P14S,    17,  1,    131,   1042,2,19960112,0641,-58.5042, 173.9707, 5046,   -999,     78.5,   4.5282,  33.9770,2,  33.9758,2,    315.8,2,  4.5226,    314.1,2,     2.21,2,    22.15,2,     0.24,2,     1.45,6, -999.000,9, -999.000,9,   -999.0,9,  -999.00,9,   -999.0,9,   -999.0,9,   -999.0,9,  -999.00,9, -999.00,  -999.0, -999.00,  -999.0
    31DSCG96_1,  P14S,    17,  1,    130,   1257,2,19960112,0641,-58.5042, 173.9707, 5046,   -999,    112.7,   4.4388,  33.9731,2,  33.9730,2,    314.5,2,  4.4308,    313.1,2,     2.49,2,    22.26,2,     0.25,2,     1.46,6,    5.105,2,    2.568,2,   -999.0,9,  -999.00,9,   2114.6,2,    669.6,2,   2282.6,2,     7.78,2, -999.00,  -999.0, -999.00,  -999.0
    31DSCG96_1,  P14S,    17,  1,    129,   1256,2,19960112,0641,-58.5042, 173.9707, 5046,   -999,    166.3,   4.9293,  34.1010,2,  34.1007,2,    297.3,2,  4.9167,    289.5,2,     8.61,2,    23.35,2,     0.19,2,     1.56,6,    4.606,2,    2.294,2,   -999.0,9,  -999.00,9,   -999.0,9,   -999.0,9,   -999.0,9,     7.75,2, -999.00,  -999.0, -999.00,  -999.0
    31DSCG96_1,  P14S,    17,  1,    128,   1007,2,19960112,0641,-58.5042, 173.9707, 5046,   -999,    217.1,   5.1034,  34.1718,2,  34.1684,2,    293.0,2,  5.0865,    292.6,2,     8.75,2,    22.62,2,     0.07,2,     1.50,6,    4.556,2,    2.281,2,   -999.0,9,  -999.00,9,   2126.1,2,    713.6,2,   2284.5,2,     7.76,2, -999.00,  -999.0, -999.00,  -999.0
    31DSCG96_1,  P14S,    17,  1,    127,   1234,2,19960112,0641,-58.5042, 173.9707, 5046,   -999,    265.7,   5.1527,  34.2075,2,  34.2053,2,    280.2,2,  5.1318,    263.7,2,    13.02,2,    24.86,2,     0.03,2,     1.65,6,    3.788,2,    1.878,2,   -999.0,9,  -999.00,9,   -999.0,9,   -999.0,9,   -999.0,9,     7.72,2, -999.00,  -999.0, -999.00,  -999.0
    31DSCG96_1,  P14S,    17,  1,    126,   1025,2,19960112,0641,-58.5042, 173.9707, 5046,   -999,    325.8,   4.8285,  34.1963,2,  34.1960,2,    270.3,2,  4.8035,    276.1,2,    12.35,2,    24.44,2,     0.01,2,     1.62,2,    4.103,2,    2.049,2,   -999.0,9,  -999.00,9,   2138.9,2,    773.5,2,   2286.1,2,     7.74,2, -999.00,  -999.0, -999.00,  -999.0
    31DSCG96_1,  P14S,    17,  1,    125,   1233,2,19960112,0641,-58.5042, 173.9707, 5046,   -999,    427.7,   4.0799,  34.1672,2,  34.1680,2,    252.6,2,  4.0494,    257.7,2,    19.08,2,    27.73,2,     0.01,2,     1.84,2,    3.655,2,    1.746,2,   -999.0,9,  -999.00,9,   2160.2,2,    859.2,2,   2289.8,2,     7.68,2, -999.00,  -999.0, -999.00,  -999.0
    31DSCG96_1,  P14S,    17,  1,    124,   1218,2,19960112,0641,-58.5042, 173.9707, 5046,   -999,    524.5,   4.0504,  34.2518,2,  34.2502,2,    230.7,2,  4.0126,    232.4,2,    26.58,2,    29.75,2,     0.00,2,     1.98,2,    2.627,2,    1.245,2,   -999.0,9,  -999.00,9,   2177.6,2,    941.1,2,   2294.4,2,     7.65,2, -999.00,  -999.0, -999.00,  -999.0
    31DSCG96_1,  P14S,    17,  1,    123,   1250,2,19960112,0641,-58.5042, 173.9707, 5046,   -999,    621.3,   3.6107,  34.2800,2,  34.2799,2,    220.5,2,  3.5676,    221.0,2,    34.12,2,    31.25,2,     0.00,2,     2.09,2,    2.116,2,    1.007,2,   -999.0,9,  -999.00,9,   2190.3,2,   1003.8,2,   2301.9,2,     7.63,2, -999.00,  -999.0, -999.00,  -999.0
    31DSCG96_1,  P14S,    17,  1,    122,   1109,2,19960112,0641,-58.5042, 173.9707, 5046,   -999,    725.8,   3.2237,  34.3223,2,  34.3214,2,    211.0,2,  3.1750,    209.3,6,    42.69,2,    32.57,2,     0.00,2,     2.19,2,    1.652,2,    0.774,2,   -999.0,9,  -999.00,9,   -999.0,9,   -999.0,9,   -999.0,9,     7.61,2, -999.00,  -999.0, -999.00,  -999.0
    31DSCG96_1,  P14S,    17,  1,    121,   1246,2,19960112,0641,-58.5042, 173.9707, 5046,   -999,    826.8,   2.9788,  34.3661,2,  34.3661,2,    200.2,2,  2.9241,    199.1,2,    50.07,2,    33.46,2,     0.00,2,     2.25,2,    1.263,2,    0.602,2,   -999.0,9,  -999.00,9,   2218.1,2,   1114.9,2,   2315.0,2,     7.59,2, -999.00,  -999.0, -999.00,  -999.0
    31DSCG96_1,  P14S,    17,  1,    120,   1209,2,19960112,0641,-58.5042, 173.9707, 5046,   -999,    926.4,   2.8389,  34.4142,2,  34.4134,2,    191.6,2,  2.7778,    190.6,2,    56.36,2,    33.90,2,     0.00,2,     2.29,2,    0.936,2,    0.447,2,   -999.0,9,  -999.00,9,   -999.0,9,   -999.0,9,   -999.0,9,  -999.00,9, -999.00,  -999.0, -999.00,  -999.0
    31DSCG96_1,  P14S,    17,  1,    119,   1247,2,19960112,0641,-58.5042, 173.9707, 5046,   -999,   1028.2,   2.6566,  34.4590,2,  34.4584,2,    183.7,2,  2.5894,    184.7,2,    62.27,2,    34.26,2,     0.00,2,     2.31,2,    0.790,2,    0.391,2,   -999.0,9,  -999.00,9,   2234.4,2,   1180.1,2,   2327.9,2,     7.57,2, -999.00,  -999.0, -999.00,  -999.0
    31DSCG96_1,  P14S,    17,  1,    118,   1222,2,19960112,0641,-58.5042, 173.9707, 5046,   -999,   1142.9,   2.5012,  34.5170,2,  34.5165,2,    178.1,2,  2.4267,    177.3,2,    68.30,2,    34.45,2,     0.00,2,     2.32,2,    0.563,2,    0.255,2,   -999.0,9,  -999.00,9,   -999.0,9,   -999.0,9,   -999.0,9,     7.56,2, -999.00,  -999.0, -999.00,  -999.0
    31DSCG96_1,  P14S,    17,  1,    117,   1267,2,19960112,0641,-58.5042, 173.9707, 5046,   -999,   1313.1,   2.4454,  34.5946,2,  34.5933,2,    175.3,2,  2.3584,    174.9,2,    74.12,2,    33.81,2,     0.00,2,     2.27,2,    0.288,2,    0.140,2,   -999.0,9,  -999.00,9,   -999.0,9,   -999.0,9,   -999.0,9,     7.57,2, -999.00,  -999.0, -999.00,  -999.0
    31DSCG96_1,  P14S,    17,  1,    116,   1211,2,19960112,0641,-58.5042, 173.9707, 5046,   -999,   1566.3,   2.3020,  34.6685,2,  34.6680,2,    177.9,2,  2.1968,    177.9,2,    79.55,2,    32.78,2,     0.00,2,     2.19,2,    0.154,2,    0.077,2,   -999.0,9,  -999.00,9,   2249.9,2,   1166.8,2,   2346.5,2,     7.58,2, -999.00,  -999.0, -999.00,  -999.0
    31DSCG96_1,  P14S,    17,  1,    115,   1041,2,19960112,0641,-58.5042, 173.9707, 5046,   -999,   1813.9,   2.1514,  34.7123,2,  34.7117,2,    183.3,2,  2.0279,    183.6,2,    83.39,2,    31.81,2,     0.00,2,     2.13,2,    0.104,2,    0.047,2,   -999.0,9,  -999.00,9,   -999.0,9,   -999.0,9,   -999.0,9,     7.60,2, -999.00,  -999.0, -999.00,  -999.0
    31DSCG96_1,  P14S,    17,  1,    114,   1017,2,19960112,0641,-58.5042, 173.9707, 5046,   -999,   2066.6,   1.9890,  34.7334,2,  34.7327,2,    188.9,2,  1.8467,    189.2,2,    87.81,2,    31.29,2,     0.00,2,     2.09,2,    0.109,2,    0.055,2,   -999.0,9,  -999.00,9,   2248.0,2,   1084.5,2,   2354.8,2,     7.61,2, -999.00,  -999.0, -999.00,  -999.0
    31DSCG96_1,  P14S,    17,  1,    113,   1008,2,19960112,0641,-58.5042, 173.9707, 5046,   -999,   2311.9,   1.8074,  34.7398,2,  34.7396,2,    193.1,2,  1.6470,    193.4,2,    93.10,2,    31.15,2,     0.00,2,     2.08,2,    0.058,2,    0.028,2,   -999.0,9,  -999.00,9,   -999.0,9,   -999.0,9,   -999.0,9,     7.61,2, -999.00,  -999.0, -999.00,  -999.0
    31DSCG96_1,  P14S,    17,  1,    112,   1217,2,19960112,0641,-58.5042, 173.9707, 5046,   -999,   2566.0,   1.5967,  34.7378,2,  34.7373,2,    196.2,2,  1.4177,    196.6,2,    99.34,2,    31.31,2,     0.00,2,     2.10,2,    0.046,2,    0.023,2,   -999.0,9,  -999.00,9,   2253.4,2,   1067.4,2,   2362.1,2,     7.62,2, -999.00,  -999.0, -999.00,  -999.0
    31DSCG96_1,  P14S,    17,  1,    111,   1114,2,19960112,0641,-58.5042, 173.9707, 5046,   -999,   2815.1,   1.4175,  34.7327,2,  34.7364,3,    199.0,2,  1.2194,    199.3,2,   104.99,2,    31.53,2,     0.00,2,     2.11,2,    0.044,2,    0.023,2,   -999.0,9,  -999.00,9,   -999.0,9,   -999.0,9,   -999.0,9,     7.62,2, -999.00,  -999.0, -999.00,  -999.0
    31DSCG96_1,  P14S,    17,  1,    110,   1036,2,19960112,0641,-58.5042, 173.9707, 5046,   -999,   3066.8,   1.2649,  34.7267,2,  34.7257,2,    201.0,2,  1.0467,    201.3,2,   109.65,2,    31.78,2,     0.00,2,     2.12,2,    0.043,2,    0.026,2,   -999.0,9,  -999.00,9,   2254.2,2,   1076.9,2,   2366.4,2,     7.62,2, -999.00,  -999.0, -999.00,  -999.0
    31DSCG96_1,  P14S,    17,  1,    109,   1216,2,19960112,0641,-58.5042, 173.9707, 5046,   -999,   3317.4,   1.1321,  34.7207,2,  34.7196,2,    203.3,2,  0.8930,    203.7,2,   113.78,2,    31.98,2,     0.00,2,     2.14,2,    0.053,2,    0.025,2,   -999.0,9,  -999.00,9,   -999.0,9,   -999.0,9,   -999.0,9,     7.61,2, -999.00,  -999.0, -999.00,  -999.0
    31DSCG96_1,  P14S,    17,  1,    108,   1263,2,19960112,0641,-58.5042, 173.9707, 5046,   -999,   3564.9,   1.0294,  34.7155,2,  34.7152,2,    205.2,2,  0.7684,    205.6,6,   117.00,2,    32.14,2,     0.00,2,     2.15,2,    0.060,2,    0.034,2,   -999.0,9,  -999.00,9,   2256.1,2,   1088.2,2,   2369.9,3,     7.61,2, -999.00,  -999.0, -999.00,  -999.0
    31DSCG96_1,  P14S,    17,  1,    107,   1245,2,19960112,0641,-58.5042, 173.9707, 5046,   -999,   3817.0,   0.9341,  34.7104,2,  34.7094,2,    206.9,2,  0.6501,    207.6,2,   120.08,2,    32.26,2,     0.00,2,     2.16,2,    0.075,2,    0.037,2,   -999.0,9,  -999.00,9,   -999.0,9,   -999.0,9,   -999.0,9,     7.60,2, -999.00,  -999.0, -999.00,  -999.0
    31DSCG96_1,  P14S,    17,  1,    106,   1262,2,19960112,0641,-58.5042, 173.9707, 5046,   -999,   4061.8,   0.8788,  34.7075,2,  34.7071,2,    208.3,2,  0.5708,    208.8,2,   122.02,2,    32.32,2,     0.00,2,     2.16,2,    0.094,2,    0.047,2,   -999.0,9,  -999.00,9,   2257.4,2,   1093.0,2,   2366.8,2,     7.61,2, -999.00,  -999.0, -999.00,  -999.0
    31DSCG96_1,  P14S,    17,  1,    105,   1113,2,19960112,0641,-58.5042, 173.9707, 5046,   -999,   4312.3,   0.8500,  34.7053,2,  34.7040,2,    209.5,2,  0.5158,    210.0,2,   123.60,2,    32.31,2,     0.00,2,     2.16,2,    0.111,2,    0.052,2,   -999.0,9,  -999.00,9,   -999.0,9,   -999.0,9,   -999.0,9,     7.61,3, -999.00,  -999.0, -999.00,  -999.0
    31DSCG96_1,  P14S,    17,  1,    104,   1003,2,19960112,0641,-58.5042, 173.9707, 5046,   -999,   4562.7,   0.8425,  34.7039,2,  34.7049,2,    209.8,2,  0.4808,    209.8,6,   125.19,2,    32.45,2,     0.00,2,     2.17,2,    0.114,2,    0.059,2,   -999.0,9,  -999.00,9,   2258.2,2,   1097.5,2,   2368.9,2,     7.61,2, -999.00,  -999.0, -999.00,  -999.0
    31DSCG96_1,  P14S,    17,  1,    103,   9999,2,19960112,0641,-58.5042, 173.9707, 5046,   -999,   4812.2,   0.8488,  34.7029,2,  34.7029,2,    210.2,2,  0.4585,    210.4,2,   125.49,2,    32.41,2,     0.00,2,     2.17,2,    0.135,6,    0.067,6,   -999.0,9,  -999.00,9,   -999.0,9,   -999.0,9,   -999.0,9,     7.61,2, -999.00,  -999.0, -999.00,  -999.0
    31DSCG96_1,  P14S,    17,  1,    102,   1027,2,19960112,0641,-58.5042, 173.9707, 5046,   -999,   4812.9,   0.8486,  34.7029,2,  34.7053,2,    210.2,2,  0.4582,    211.5,2,   125.58,2,    32.44,2,     0.00,2,     2.17,2,    0.129,2,    0.064,2,   -999.0,9,  -999.00,9,   -999.0,9,   -999.0,9,   -999.0,9,     7.61,2, -999.00,  -999.0, -999.00,  -999.0
    31DSCG96_1,  P14S,    17,  1,    101,   1022,2,19960112,0641,-58.5042, 173.9707, 5046,   -999,   5105.3,   0.8787,  34.7026,2,  34.7021,2,    210.2,2,  0.4529,    210.6,2,   125.99,6,    32.44,6,     0.00,6,     2.17,6,    0.139,2,    0.064,2,   -999.0,9,  -999.00,9,   2257.4,2,   1101.4,2,   2366.2,2,     7.61,2, -999.00,  -999.0, -999.00,  -999.0