BOTTLE,20220811CCHSIOAMB
EXPOCODE,SECT_ID,STNNBR,CASTNO,SAMPNO,BTLNBR,BTLNBR_FLAG_W,DATE,TIME,LATITUDE,LONGITUDE,DEPTH,CTDRAW,CTDPRS,CTDTMP,CTDSAL,CTDSAL_FLAG_W,SALNTY,SALNTY_FLAG_W,CTDOXY,CTDOXY_FLAG_W,THETA,OXYGEN,OXYGEN_FLAG_W,SILCAT,SILCAT_FLAG_W,NITRAT,NITRAT_FLAG_W,NITRIT,NITRIT_FLAG_W,PHSPHT,PHSPHT_FLAG_W,CFC-11,CFC-11_FLAG_W,CFC-12,CFC-12_FLAG_W,DELC14,DELC14_FLAG_W,DELC13,DELC13_FLAG_W,TCARBN,TCARBN_FLAG_W,PCO2,PCO2_FLAG_W,ALKALI,ALKALI_FLAG_W,PH,PH_FLAG_W,PCO2TMP,C14ERR,PH_TMP,C13ERR
,,,,,,,,,,,,DBAR,DBAR,ITS-90,PSS-78,,PSS-78,,UMOL/KG,,DEG C,UMOL/KG,,UMOL/KG,,UMOL/KG,,UMOL/KG,,UMOL/KG,,PMOL/KG,,PMOL/KG,,/MILLE,,/MILLE,,UMOL/KG,,UATM,,UMOL/KG,,,,DEG C,/MILLE,DEG C,/MILLE
    31DSCG96_1,  P15S,    59,  1,    134,   1119,2,19960125,2122,-53.6645,-169.9897, 5125,   -999,      9.9,   9.4647,  34.3118,2,  34.3116,2,    293.4,2,  9.4636,    287.6,2,     1.14,2,    13.33,2,     0.17,2,     0.97,2,    4.005,2,    2.078,2,   -999.0,9,  -999.00,9,   2080.3,2,    523.4,2,   -999.0,9,     7.86,2, -999.00,  -999.0, -999.00,  -999.0
    31DSCG96_1,  P15S,    59,  1,    133,   1221,2,19960125,2122,-53.6645,-169.9897, 5125,   -999,     27.4,   9.4671,  34.3167,2,  34.3154,2,    288.6,2,  9.4641,    287.5,2,     1.14,2,    13.24,2,     0.17,2,     0.97,2,    3.984,2,    2.106,2,   -999.0,9,  -999.00,9,   -999.0,9,   -999.0,9,   -999.0,9,     7.87,2, -999.00,  -999.0, -999.00,  -999.0
    31DSCG96_1,  P15S,    59,  1,    132,   1039,2,19960125,2122,-53.6645,-169.9897, 5125,   -999,     55.7,   8.8448,  34.2911,2,  34.2931,2,    289.0,2,  8.8390,    289.4,2,     1.29,2,    14.00,2,     0.17,2,     1.01,2,    4.088,2,    2.118,2,   -999.0,9,  -999.00,9,   -999.0,9,   -999.0,9,   -999.0,9,     7.85,2, -999.00,  -999.0, -999.00,  -999.0
    31DSCG96_1,  P15S,    59,  1,    131,   1014,2,19960125,2122,-53.6645,-169.9897, 5125,   -999,     78.0,   8.0053,  34.3755,2,  34.3780,2,    281.9,2,  7.9976,    278.5,2,     3.27,2,    15.63,2,     0.47,2,     1.16,2, -999.000,9, -999.000,9,   -999.0,9,  -999.00,9,   -999.0,9,   -999.0,9,   -999.0,9,     7.82,2, -999.00,  -999.0, -999.00,  -999.0
    31DSCG96_1,  P15S,    59,  1,    130,   1257,2,19960125,2122,-53.6645,-169.9897, 5125,   -999,    115.6,   7.5318,  34.4192,2,  34.4202,2,    271.9,2,  7.5207,    270.0,2,     5.28,2,    17.89,2,     0.17,2,     1.25,2,    3.974,2,    2.066,2,   -999.0,9,  -999.00,9,   -999.0,9,   -999.0,9,   -999.0,9,     7.79,2, -999.00,  -999.0, -999.00,  -999.0
    31DSCG96_1,  P15S,    59,  1,    129,   1256,2,19960125,2122,-53.6645,-169.9897, 5125,   -999,    166.2,   7.1409,  34.3801,2,  34.3804,2,    274.4,2,  7.1254,    273.9,2,     6.01,2,    18.87,2,     0.02,2,     1.30,2, -999.000,9, -999.000,9,   -999.0,9,  -999.00,9,   -999.0,9,   -999.0,9,   -999.0,9,     7.78,2, -999.00,  -999.0, -999.00,  -999.0
    31DSCG96_1,  P15S,    59,  1,    128,   1007,2,19960125,2122,-53.6645,-169.9897, 5125,   -999,    214.2,   6.9281,  34.3651,2,  34.3646,2,    275.4,2,  6.9083,    274.9,2,     6.42,2,    19.41,2,     0.02,2,     1.34,2,    4.025,2,    2.053,2,   -999.0,9,  -999.00,9,   -999.0,9,   -999.0,9,   -999.0,9,  -999.00,9, -999.00,  -999.0, -999.00,  -999.0
    31DSCG96_1,  P15S,    59,  1,    127,   1234,2,19960125,2122,-53.6645,-169.9897, 5125,   -999,    265.9,   6.8204,  34.3613,2,  34.3621,2,    277.1,2,  6.7960,    278.8,2,     6.27,2,    19.21,2,     0.02,2,     1.33,2,    4.050,2,    2.069,2,   -999.0,9,  -999.00,9,   -999.0,9,   -999.0,9,   -999.0,9,     7.79,2, -999.00,  -999.0, -999.00,  -999.0
    31DSCG96_1,  P15S,    59,  1,    126,   1025,2,19960125,2122,-53.6645,-169.9897, 5125,   -999,    325.9,   6.5931,  34.3355,2,  34.3360,2,    278.1,2,  6.5636,    278.2,2,     6.80,2,    19.96,2,     0.01,2,     1.38,2,    4.030,2,    2.071,2,   -999.0,9,  -999.00,9,   -999.0,9,   -999.0,9,   -999.0,9,     7.78,2, -999.00,  -999.0, -999.00,  -999.0
    31DSCG96_1,  P15S,    59,  1,    125,   1233,2,19960125,2122,-53.6645,-169.9897, 5125,   -999,    425.9,   6.0592,  34.2784,2,  34.2789,2,    268.8,2,  6.0222,    277.1,2,     7.96,2,    21.39,2,     0.01,2,     1.47,2,    3.999,2,    2.049,2,   -999.0,9,  -999.00,9,   -999.0,9,   -999.0,9,   -999.0,9,     7.76,2, -999.00,  -999.0, -999.00,  -999.0
    31DSCG96_1,  P15S,    59,  1,    124,   1218,2,19960125,2122,-53.6645,-169.9897, 5125,   -999,    528.1,   5.7059,  34.2818,2,  34.2833,2,    262.0,2,  5.6610,    255.3,2,    12.62,2,    24.09,2,     0.01,2,     1.65,2,    3.337,2,    1.657,2,   -999.0,9,  -999.00,9,   -999.0,9,   -999.0,9,   -999.0,9,     7.73,2, -999.00,  -999.0, -999.00,  -999.0
    31DSCG96_1,  P15S,    59,  1,    123,   1250,2,19960125,2122,-53.6645,-169.9897, 5125,   -999,    625.1,   5.2304,  34.2862,2,  34.2852,2,    238.8,2,  5.1791,    235.4,2,    18.42,2,    26.79,2,     0.00,2,     1.82,2,    2.617,2,    1.278,2,   -999.0,9,  -999.00,9,   -999.0,9,   -999.0,9,   -999.0,9,     7.69,2, -999.00,  -999.0, -999.00,  -999.0
    31DSCG96_1,  P15S,    59,  1,    122,   1109,2,19960125,2122,-53.6645,-169.9897, 5125,   -999,    725.6,   4.6521,  34.3099,2,  34.3094,2,    222.3,2,  4.5952,    219.6,2,    26.94,2,    29.27,2,     0.00,2,     1.99,2,    1.955,2,    0.935,2,   -999.0,9,  -999.00,9,   -999.0,9,   -999.0,9,   -999.0,9,     7.65,2, -999.00,  -999.0, -999.00,  -999.0
    31DSCG96_1,  P15S,    59,  1,    121,   1246,2,19960125,2122,-53.6645,-169.9897, 5125,   -999,    825.2,   4.1383,  34.3173,2,  34.3171,2,    216.1,2,  4.0763,    213.0,2,    32.99,2,    30.60,2,     0.00,2,     2.09,2, -999.000,9, -999.000,9,   -999.0,9,  -999.00,9,   -999.0,9,   -999.0,9,   -999.0,9,     7.63,2, -999.00,  -999.0, -999.00,  -999.0
    31DSCG96_1,  P15S,    59,  1,    120,   1015,2,19960125,2122,-53.6645,-169.9897, 5125,   -999,    923.0,   3.7181,  34.3463,2,  34.3473,2,    207.4,2,  3.6511,    203.7,2,    41.27,2,    31.91,2,     0.00,2,     2.17,2,    1.250,2,    0.606,2,   -999.0,9,  -999.00,9,   -999.0,9,   -999.0,9,   -999.0,9,     7.62,2, -999.00,  -999.0, -999.00,  -999.0
    31DSCG96_1,  P15S,    59,  1,    119,   1247,2,19960125,2122,-53.6645,-169.9897, 5125,   -999,   1025.4,   3.4358,  34.3891,2,  34.3896,2,    195.9,2,  3.3626,    193.9,2,    49.63,2,    32.83,2,     0.00,2,     2.24,2, -999.000,9, -999.000,9,   -999.0,9,  -999.00,9,   -999.0,9,   -999.0,9,   -999.0,9,     7.60,2, -999.00,  -999.0, -999.00,  -999.0
    31DSCG96_1,  P15S,    59,  1,    118,   1222,2,19960125,2122,-53.6645,-169.9897, 5125,   -999,   1142.0,   3.0066,  34.4189,2,  34.4191,2,    190.3,2,  2.9279,    187.6,2,    56.46,2,    33.68,2,     0.00,2,     2.30,2, -999.000,9, -999.000,9,   -999.0,9,  -999.00,9,   -999.0,9,   -999.0,9,   -999.0,9,     7.59,2, -999.00,  -999.0, -999.00,  -999.0
    31DSCG96_1,  P15S,    59,  1,    117,   1267,2,19960125,2122,-53.6645,-169.9897, 5125,   -999,   1320.0,   2.8786,  34.5075,2,  34.5083,2,    176.6,2,  2.7869,    174.2,2,    70.46,2,    34.06,2,     0.00,2,     2.34,2, -999.000,9, -999.000,9,   -999.0,9,  -999.00,9,   -999.0,9,   -999.0,9,   -999.0,9,     7.58,2, -999.00,  -999.0, -999.00,  -999.0
    31DSCG96_1,  P15S,    59,  1,    116,   1211,2,19960125,2122,-53.6645,-169.9897, 5125,   -999,   1562.5,   2.5280,  34.5806,2,  34.5809,2,    173.1,2,  2.4206,    172.3,2,    76.43,2,    33.98,2,     0.00,2,     2.32,2, -999.000,9, -999.000,9,   -999.0,9,  -999.00,9,   -999.0,9,   -999.0,9,   -999.0,9,     7.57,2, -999.00,  -999.0, -999.00,  -999.0
    31DSCG96_1,  P15S,    59,  1,    115,   1041,2,19960125,2122,-53.6645,-169.9897, 5125,   -999,   1807.0,   2.3435,  34.6537,2,  34.6548,2,    175.4,2,  2.2181,    175.6,2,    80.28,2,    33.05,2,     0.00,2,     2.25,2, -999.000,9, -999.000,9,   -999.0,9,  -999.00,9,   -999.0,9,   -999.0,9,   -999.0,9,     7.58,2, -999.00,  -999.0, -999.00,  -999.0
    31DSCG96_1,  P15S,    59,  1,    114,   1017,2,19960125,2122,-53.6645,-169.9897, 5125,   -999,   2067.9,   2.2117,  34.6990,2,  34.6985,2,    181.6,2,  2.0659,    181.9,2,    82.77,2,    32.10,2,     0.00,2,     2.18,2, -999.000,9, -999.000,9,   -999.0,9,  -999.00,9,   -999.0,9,   -999.0,9,   -999.0,9,     7.59,2, -999.00,  -999.0, -999.00,  -999.0
    31DSCG96_1,  P15S,    59,  1,    113,   1302,2,19960125,2122,-53.6645,-169.9897, 5125,   -999,   2312.7,   2.0639,  34.7254,2,  34.7249,2,    187.3,2,  1.8990,    187.3,2,    86.39,2,    31.48,2,     0.00,2,     2.14,2, -999.000,9, -999.000,9,   -999.0,9,  -999.00,9,   -999.0,9,   -999.0,9,   -999.0,9,     7.60,2, -999.00,  -999.0, -999.00,  -999.0
    31DSCG96_1,  P15S,    59,  1,    112,   1217,2,19960125,2122,-53.6645,-169.9897, 5125,   -999,   2571.8,   1.8899,  34.7365,2,  34.7378,2,    192.0,2,  1.7047,    192.3,2,    91.21,2,    31.17,2,     0.00,2,     2.12,2, -999.000,9, -999.000,9,   -999.0,9,  -999.00,9,   -999.0,9,   -999.0,9,   -999.0,9,     7.61,2, -999.00,  -999.0, -999.00,  -999.0
    31DSCG96_1,  P15S,    59,  1,    111,   1114,2,19960125,2122,-53.6645,-169.9897, 5125,   -999,   2810.7,   1.6815,  34.7375,2,  34.7371,2,    195.4,2,  1.4783,    196.1,2,    97.45,2,    31.17,2,     0.00,2,     2.13,2, -999.000,9, -999.000,9,   -999.0,9,  -999.00,9,   -999.0,9,   -999.0,9,   -999.0,9,     7.61,2, -999.00,  -999.0, -999.00,  -999.0
    31DSCG96_1,  P15S,    59,  1,    110,   1301,2,19960125,2122,-53.6645,-169.9897, 5125,   -999,   3068.9,   1.5121,  34.7337,2,  34.7330,2,    198.1,2,  1.2881,    198.6,2,   102.43,2,    31.39,2,     0.00,2,     2.14,2, -999.000,9, -999.000,9,   -999.0,9,  -999.00,9,   -999.0,9,   -999.0,9,   -999.0,9,     7.61,2, -999.00,  -999.0, -999.00,  -999.0
    31DSCG96_1,  P15S,    59,  1,    109,   1242,2,19960125,2122,-53.6645,-169.9897, 5125,   -999,   3310.5,   1.3302,  34.7269,2,  34.7269,2,    200.4,2,  1.0870,    201.1,6,   108.12,2,    31.66,2,     0.00,2,     2.16,2, -999.000,9, -999.000,9,   -999.0,9,  -999.00,9,   -999.0,9,   -999.0,9,   -999.0,9,     7.61,2, -999.00,  -999.0, -999.00,  -999.0
    31DSCG96_1,  P15S,    59,  1,    108,   1263,2,19960125,2122,-53.6645,-169.9897, 5125,   -999,   3560.8,   1.1940,  34.7212,2,  34.7205,2,    202.3,2,  0.9291,    203.2,2,   112.19,2,    31.84,2,     0.00,2,     2.17,2, -999.000,9, -999.000,9,   -999.0,9,  -999.00,9,   -999.0,9,   -999.0,9,   -999.0,9,     7.61,2, -999.00,  -999.0, -999.00,  -999.0
    31DSCG96_1,  P15S,    59,  1,    107,   1245,2,19960125,2122,-53.6645,-169.9897, 5125,   -999,   3800.5,   1.0700,  34.7154,2,  34.7150,2,    205.1,2,  0.7840,    205.5,2,   115.95,2,    32.03,2,     0.00,2,     2.18,2, -999.000,9, -999.000,9,   -999.0,9,  -999.00,9,   -999.0,9,   -999.0,9,   -999.0,9,     7.61,2, -999.00,  -999.0, -999.00,  -999.0
    31DSCG96_1,  P15S,    59,  1,    106,   1262,2,19960125,2122,-53.6645,-169.9897, 5125,   -999,   4057.0,   0.9999,  34.7115,2,  34.7116,2,    206.7,2,  0.6888,    207.1,6,   118.48,2,    32.12,2,     0.00,2,     2.19,2, -999.000,9, -999.000,9,   -999.0,9,  -999.00,9,   -999.0,9,   -999.0,9,   -999.0,9,     7.61,2, -999.00,  -999.0, -999.00,  -999.0
    31DSCG96_1,  P15S,    59,  1,    105,   1113,2,19960125,2122,-53.6645,-169.9897, 5125,   -999,   4311.0,   0.9225,  34.7074,2,  34.7060,2,    208.1,2,  0.5863,    208.8,2,   121.26,2,    32.25,2,     0.00,2,     2.19,2, -999.000,9, -999.000,9,   -999.0,9,  -999.00,9,   -999.0,9,   -999.0,9,   -999.0,9,     7.61,2, -999.00,  -999.0, -999.00,  -999.0
    31DSCG96_1,  P15S,    59,  1,    104,   1003,2,19960125,2122,-53.6645,-169.9897, 5125,   -999,   4567.8,   0.9148,  34.7060,2,  34.7072,2,    209.1,2,  0.5503,    209.3,2,   122.42,2,    32.24,2,     0.00,2,     2.20,2, -999.000,9, -999.000,9,   -999.0,9,  -999.00,9,   -999.0,9,   -999.0,9,   -999.0,9,     7.61,2, -999.00,  -999.0, -999.00,  -999.0
    31DSCG96_1,  P15S,    59,  1,    103,   9999,3,19960125,2122,-53.6645,-169.9897, 5125,   -999,   4814.1,   0.9229,  34.7050,2,  34.7050,2,    209.1,2,  0.5298,   -999.0,9,   122.89,2,    32.28,2,     0.00,2,     2.20,2, -999.000,9, -999.000,9,   -999.0,9,  -999.00,9,   -999.0,9,   -999.0,9,   -999.0,9,  -999.00,9, -999.00,  -999.0, -999.00,  -999.0
    31DSCG96_1,  P15S,    59,  1,    102,   1030,2,19960125,2122,-53.6645,-169.9897, 5125,   -999,   5059.9,   0.9329,  34.7040,2,  34.7041,2,    209.6,2,  0.5106,    210.2,2,   123.55,2,    32.31,2,     0.00,2,     2.20,2, -999.000,9, -999.000,9,   -999.0,9,  -999.00,9,   -999.0,9,   -999.0,9,   -999.0,9,     7.61,2, -999.00,  -999.0, -999.00,  -999.0
    31DSCG96_1,  P15S,    59,  1,    101,   1022,2,19960125,2122,-53.6645,-169.9897, 5125,   -999,   5249.9,   0.9510,  34.7036,2,  34.7041,2,    209.4,2,  0.5052,    210.0,2,   123.87,6,    32.30,6,     0.00,6,     2.21,6, -999.000,9, -999.000,9,   -999.0,9,  -999.00,9,   -999.0,9,   -999.0,9,   -999.0,9,     7.61,2, -999.00,  -999.0, -999.00,  -999.0