BOTTLE,20220811CCHSIOAMB
EXPOCODE,SECT_ID,STNNBR,CASTNO,SAMPNO,BTLNBR,BTLNBR_FLAG_W,DATE,TIME,LATITUDE,LONGITUDE,DEPTH,CTDRAW,CTDPRS,CTDTMP,CTDSAL,CTDSAL_FLAG_W,SALNTY,SALNTY_FLAG_W,CTDOXY,CTDOXY_FLAG_W,THETA,OXYGEN,OXYGEN_FLAG_W,SILCAT,SILCAT_FLAG_W,NITRAT,NITRAT_FLAG_W,NITRIT,NITRIT_FLAG_W,PHSPHT,PHSPHT_FLAG_W,CFC-11,CFC-11_FLAG_W,CFC-12,CFC-12_FLAG_W,DELC14,DELC14_FLAG_W,DELC13,DELC13_FLAG_W,TCARBN,TCARBN_FLAG_W,PCO2,PCO2_FLAG_W,ALKALI,ALKALI_FLAG_W,PH,PH_FLAG_W,PCO2TMP,C14ERR,PH_TMP,C13ERR
,,,,,,,,,,,,DBAR,DBAR,ITS-90,PSS-78,,PSS-78,,UMOL/KG,,DEG C,UMOL/KG,,UMOL/KG,,UMOL/KG,,UMOL/KG,,UMOL/KG,,PMOL/KG,,PMOL/KG,,/MILLE,,/MILLE,,UMOL/KG,,UATM,,UMOL/KG,,,,DEG C,/MILLE,DEG C,/MILLE
    31DSCG96_1,  P14S,     5,  1,    122,   1109,2,19960109,0342,-53.4988, 170.4942,  743,   -999,      8.7,   8.2293,  34.3700,2,  34.3698,2,    294.6,2,  8.2285,    294.3,2,     1.55,2,    15.00,2,     0.19,2,     1.04,2, -999.000,9, -999.000,9,   -999.0,9,  -999.00,9,   2091.3,2,    555.6,2,   -999.0,9,     7.85,2, -999.00,  -999.0, -999.00,  -999.0
    31DSCG96_1,  P14S,     5,  1,    123,   1250,2,19960109,0342,-53.4988, 170.4942,  743,   -999,      9.1,   8.2314,  34.3703,2,  34.3702,2,    294.6,2,  8.2305,    294.2,2,     1.62,2,    15.00,2,     0.19,2,     1.04,2,    4.219,2,    2.204,2,   -999.0,9,  -999.00,9,   2091.0,2,   -999.0,9,   -999.0,9,  -999.00,9, -999.00,  -999.0, -999.00,  -999.0
    31DSCG96_1,  P14S,     5,  1,    120,   1209,2,19960109,0342,-53.4988, 170.4942,  743,   -999,     29.2,   8.1359,  34.3693,2,  34.3693,2,    293.6,2,  8.1329,    294.9,2,     1.61,2,    15.01,2,     0.18,2,     1.04,2, -999.000,9, -999.000,9,   -999.0,9,  -999.00,9,   -999.0,9,   -999.0,9,   -999.0,9,     7.85,2, -999.00,  -999.0, -999.00,  -999.0
    31DSCG96_1,  P14S,     5,  1,    121,   1246,2,19960109,0342,-53.4988, 170.4942,  743,   -999,     30.5,   8.1345,  34.3695,2,  34.3698,2,    293.3,2,  8.1314,    293.9,2,     1.64,2,    15.02,2,     0.18,2,     1.04,2,    4.222,2,    2.185,2,   -999.0,9,  -999.00,9,   -999.0,9,    555.5,2,   -999.0,9,     7.85,2, -999.00,  -999.0, -999.00,  -999.0
    31DSCG96_1,  P14S,     5,  1,    119,   1247,2,19960109,0342,-53.4988, 170.4942,  743,   -999,     54.4,   8.0357,  34.3737,2,  34.3734,2,    293.3,2,  8.0303,    606.2,4,     2.07,2,    15.20,2,     0.18,2,     1.07,2,    4.199,2,    2.164,2,   -999.0,9,  -999.00,9,   2093.0,2,    562.3,2,   -999.0,9,     7.85,2, -999.00,  -999.0, -999.00,  -999.0
    31DSCG96_1,  P14S,     5,  1,    118,   1222,2,19960109,0342,-53.4988, 170.4942,  743,   -999,     79.9,   7.9560,  34.3769,2,  34.3760,2,    290.8,2,  7.9481,    289.6,2,     2.49,2,    15.35,2,     0.23,2,     1.17,3, -999.000,9, -999.000,9,   -999.0,9,  -999.00,9,   -999.0,9,   -999.0,9,   -999.0,9,     7.84,2, -999.00,  -999.0, -999.00,  -999.0
    31DSCG96_1,  P14S,     5,  1,    117,   1104,2,19960109,0342,-53.4988, 170.4942,  743,   -999,    104.6,   7.6167,  34.4028,2,  34.4001,2,    289.5,2,  7.6065,    288.2,2,     4.30,2,    16.39,2,     0.29,2,     1.17,2, -999.000,9, -999.000,9,   -999.0,9,  -999.00,9,   2103.6,2,    601.1,2,   -999.0,9,     7.82,2, -999.00,  -999.0, -999.00,  -999.0
    31DSCG96_1,  P14S,     5,  1,    116,   1211,2,19960109,0342,-53.4988, 170.4942,  743,   -999,    130.8,   7.2926,  34.4154,2,  34.4170,2,    285.1,2,  7.2803,    284.6,2,     5.44,2,    17.71,2,     0.35,2,     1.24,2,    4.185,2,    2.150,2,   -999.0,9,  -999.00,9,   -999.0,9,   -999.0,9,   -999.0,9,     7.80,2, -999.00,  -999.0, -999.00,  -999.0
    31DSCG96_1,  P14S,     5,  1,    115,   1041,2,19960109,0342,-53.4988, 170.4942,  743,   -999,    154.4,   7.2360,  34.4216,2,  34.4217,2,    283.0,2,  7.2215,    283.5,2,     5.50,2,    18.08,2,     0.08,2,     1.25,2, -999.000,9, -999.000,9,   -999.0,9,  -999.00,9,   2112.0,2,    636.2,2,   -999.0,9,     7.80,2, -999.00,  -999.0, -999.00,  -999.0
    31DSCG96_1,  P14S,     5,  1,    114,   1017,3,19960109,0342,-53.4988, 170.4942,  743,   -999,    180.8,   7.1851,  34.4173,2,  34.4174,2,    283.0,2,  7.1681,   -999.0,9,     5.50,2,    18.22,2,     0.04,2,     1.24,2, -999.000,9, -999.000,9,   -999.0,9,  -999.00,9,   -999.0,9,   -999.0,9,   -999.0,9,     7.80,2, -999.00,  -999.0, -999.00,  -999.0
    31DSCG96_1,  P14S,     5,  1,    113,   1008,2,19960109,0342,-53.4988, 170.4942,  743,   -999,    207.4,   7.1733,  34.4173,2,  34.4162,2,    283.1,2,  7.1538,    283.7,2,     5.56,2,    18.23,2,     0.01,2,     1.24,2,    4.151,6,    2.142,6,   -999.0,9,  -999.00,9,   2112.4,2,    636.3,2,   -999.0,9,     7.80,2, -999.00,  -999.0, -999.00,  -999.0
    31DSCG96_1,  P14S,     5,  1,    112,   1217,2,19960109,0342,-53.4988, 170.4942,  743,   -999,    230.2,   7.1522,  34.4162,2,  34.4162,2,    282.4,2,  7.1306,    284.4,2,     5.65,2,    18.26,2,     0.01,2,     1.25,2, -999.000,9, -999.000,9,   -999.0,9,  -999.00,9,   -999.0,9,   -999.0,9,   -999.0,9,     7.80,2, -999.00,  -999.0, -999.00,  -999.0
    31DSCG96_1,  P14S,     5,  1,    111,   1114,2,19960109,0342,-53.4988, 170.4942,  743,   -999,    266.7,   7.1095,  34.4120,2,  34.4121,2,    284.0,2,  7.0844,    283.9,2,     5.77,2,    18.39,2,     0.01,2,     1.26,2,    4.131,2,    2.128,2,   -999.0,9,  -999.00,9,   2111.4,2,    642.8,2,   -999.0,9,     7.80,2, -999.00,  -999.0, -999.00,  -999.0
    31DSCG96_1,  P14S,     5,  1,    110,   1036,2,19960109,0342,-53.4988, 170.4942,  743,   -999,    315.3,   7.1030,  34.4155,2,  34.4160,2,    284.1,2,  7.0733,    283.9,2,     6.07,6,    18.36,6,     0.00,6,     1.25,6, -999.000,9, -999.000,9,   -999.0,9,  -999.00,9,   -999.0,9,   -999.0,9,   -999.0,9,     7.80,2, -999.00,  -999.0, -999.00,  -999.0
    31DSCG96_1,  P14S,     5,  1,    109,   1216,2,19960109,0342,-53.4988, 170.4942,  743,   -999,    365.3,   7.0637,  34.4148,2,  34.4150,2,    282.6,2,  7.0292,    281.3,2,     6.29,6,    18.63,6,     0.01,6,     1.27,6,    4.084,2,    2.103,2,   -999.0,9,  -999.00,9,   2114.5,2,    676.6,2,   -999.0,9,     7.79,2, -999.00,  -999.0, -999.00,  -999.0
    31DSCG96_1,  P14S,     5,  1,    108,   1018,2,19960109,0342,-53.4988, 170.4942,  743,   -999,    414.4,   7.0290,  34.4153,2,  34.4150,2,    279.5,2,  6.9899,    280.4,2,     6.50,6,    18.71,6,     0.00,6,     1.28,2,    4.046,2,    2.074,2,   -999.0,9,  -999.00,9,   -999.0,9,   -999.0,9,   -999.0,9,     7.79,2, -999.00,  -999.0, -999.00,  -999.0
    31DSCG96_1,  P14S,     5,  1,    107,   1245,3,19960109,0342,-53.4988, 170.4942,  743,   -999,    465.9,   6.9888,  34.4140,2,  34.4147,2,    281.2,2,  6.9448,   -999.0,9,     6.59,6,    18.80,6,     0.01,6,     1.28,2, -999.000,9, -999.000,9,   -999.0,9,  -999.00,9,   2116.8,2,    656.9,3,   -999.0,9,     7.79,2, -999.00,  -999.0, -999.00,  -999.0
    31DSCG96_1,  P14S,     5,  1,    106,   1262,2,19960109,0342,-53.4988, 170.4942,  743,   -999,    516.2,   6.9712,  34.4159,2,  34.4166,2,    280.8,2,  6.9223,    281.3,2,     6.56,6,    18.77,6,     0.00,6,     1.27,2, -999.000,9, -999.000,9,   -999.0,9,  -999.00,9,   -999.0,9,   -999.0,9,   -999.0,9,     7.79,2, -999.00,  -999.0, -999.00,  -999.0
    31DSCG96_1,  P14S,     5,  1,    105,   1113,2,19960109,0342,-53.4988, 170.4942,  743,   -999,    563.2,   6.8956,  34.4054,2,  34.4069,2,    278.9,2,  6.8424,    278.5,2,     7.07,2,    19.17,2,     0.01,2,     1.31,2,    3.980,2,    2.040,2,   -999.0,9,  -999.00,9,   2118.0,2,   -999.0,9,   -999.0,9,     7.79,3, -999.00,  -999.0, -999.00,  -999.0
    31DSCG96_1,  P14S,     5,  1,    104,   1003,2,19960109,0342,-53.4988, 170.4942,  743,   -999,    604.1,   6.7664,  34.3890,2,  34.3905,2,    274.2,2,  6.7098,    272.9,6,     8.02,2,    19.91,2,     0.00,2,     1.36,2, -999.000,9, -999.000,9,   -999.0,9,  -999.00,9,   2121.1,2,    679.6,2,   -999.0,9,     7.78,2, -999.00,  -999.0, -999.00,  -999.0
    31DSCG96_1,  P14S,     5,  1,    102,   1027,2,19960109,0342,-53.4988, 170.4942,  743,   -999,    700.1,   6.2788,  34.3530,2,  34.3542,2,    246.9,2,  6.2153,    245.2,2,    13.52,2,    23.57,2,     0.00,2,     1.59,2, -999.000,9, -999.000,9,   -999.0,9,  -999.00,9,   2141.6,2,    781.0,2,   -999.0,9,     7.73,2, -999.00,  -999.0, -999.00,  -999.0
    31DSCG96_1,  P14S,     5,  1,    103,   9999,2,19960109,0342,-53.4988, 170.4942,  743,   -999,    701.2,   6.2799,  34.3529,2,  34.3539,2,    246.6,2,  6.2163,    244.6,2,    13.44,2,    23.54,2,     0.00,2,     1.58,2,    3.022,2,    1.530,2,   -999.0,9,  -999.00,9,   -999.0,9,   -999.0,9,   -999.0,9,     7.73,3, -999.00,  -999.0, -999.00,  -999.0
    31DSCG96_1,  P14S,     5,  1,    101,   1022,2,19960109,0342,-53.4988, 170.4942,  743,   -999,    730.0,   6.1802,  34.3576,2,  34.3574,2,    237.5,2,  6.1144,     32.6,4,    15.77,2,    24.36,2,     0.02,2,     1.67,2,    2.803,2,    1.403,2,   -999.0,9,  -999.00,9,   2149.4,2,   -999.0,9,   -999.0,9,     7.72,2, -999.00,  -999.0, -999.00,  -999.0
    31DSCG96_1,  P14S,     6,  1,    125,   1233,2,19960109,0736,-53.9982, 171.0023, 1175,   -999,      8.7,   7.6056,  34.1961,2,  34.1958,2,    297.8,2,  7.6048,    297.3,2,     2.97,2,    17.67,2,     0.23,2,     1.23,2, -999.000,9, -999.000,9,   -999.0,9,  -999.00,9,   2098.8,2,    591.6,2,   -999.0,9,     7.82,3, -999.00,  -999.0, -999.00,  -999.0
    31DSCG96_1,  P14S,     6,  1,    126,   1025,2,19960109,0736,-53.9982, 171.0023, 1175,   -999,      8.9,   7.6065,  34.1960,2,  34.1958,2,    297.8,2,  7.6056,    297.5,2,     3.01,2,    17.67,2,     0.25,2,     1.23,2,    4.408,2,    2.272,2,   -999.0,9,  -999.00,9,   2098.8,2,   -999.0,9,   -999.0,9,     7.83,2, -999.00,  -999.0, -999.00,  -999.0
    31DSCG96_1,  P14S,     6,  1,    124,   1218,2,19960109,0736,-53.9982, 171.0023, 1175,   -999,     18.3,   7.4733,  34.1788,2,  34.1770,2,    296.8,2,  7.4716,    297.8,2,     3.23,2,    18.00,2,     0.22,2,     1.26,2, -999.000,9, -999.000,9,   -999.0,9,  -999.00,9,   -999.0,9,   -999.0,9,   -999.0,9,     7.82,3, -999.00,  -999.0, -999.00,  -999.0
    31DSCG96_1,  P14S,     6,  1,    123,   1250,2,19960109,0736,-53.9982, 171.0023, 1175,   -999,     42.5,   7.4480,  34.1876,2,  34.1876,2,    296.3,2,  7.4440,    297.0,2,     3.12,2,    17.80,2,     0.21,2,     1.24,2,    4.280,2,    2.195,2,   -999.0,9,  -999.00,9,   2098.5,2,    593.6,2,   -999.0,9,     7.82,2, -999.00,  -999.0, -999.00,  -999.0
    31DSCG96_1,  P14S,     6,  1,    122,   1109,2,19960109,0736,-53.9982, 171.0023, 1175,   -999,     70.5,   7.8282,  34.3716,2,  34.3701,2,    293.4,2,  7.8213,   -999.0,9,     2.10,2,    15.19,2,     0.18,2,     1.09,2, -999.000,9, -999.000,9,   -999.0,9,  -999.00,9,   -999.0,9,   -999.0,9,   -999.0,9,     7.84,2, -999.00,  -999.0, -999.00,  -999.0
    31DSCG96_1,  P14S,     6,  1,    121,   1246,2,19960109,0736,-53.9982, 171.0023, 1175,   -999,     95.7,   7.7220,  34.3881,2,  34.3873,2,    288.4,2,  7.7127,   -999.0,9,     2.91,2,    15.53,2,     0.29,2,     1.14,2,    4.425,2,    2.296,2,   -999.0,9,  -999.00,9,   2100.3,2,    535.2,3,   -999.0,9,     7.83,2, -999.00,  -999.0, -999.00,  -999.0
    31DSCG96_1,  P14S,     6,  1,    120,   1209,2,19960109,0736,-53.9982, 171.0023, 1175,   -999,    119.8,   7.4464,  34.4068,2,  34.4053,2,    284.8,2,  7.4349,    284.6,2,     5.19,2,    16.99,2,     0.35,2,     1.26,2, -999.000,9, -999.000,9,   -999.0,9,  -999.00,9,   -999.0,9,   -999.0,9,   -999.0,9,     7.81,2, -999.00,  -999.0, -999.00,  -999.0
    31DSCG96_1,  P14S,     6,  1,    119,   1247,2,19960109,0736,-53.9982, 171.0023, 1175,   -999,    144.3,   7.3164,  34.4182,2,  34.4168,2,    281.9,2,  7.3027,    282.8,2,     5.88,2,    17.87,2,     0.18,2,     1.27,2, -999.000,9, -999.000,9,   -999.0,9,  -999.00,9,   2111.9,2,    633.5,2,   -999.0,9,     7.80,3, -999.00,  -999.0, -999.00,  -999.0
    31DSCG96_1,  P14S,     6,  1,    118,   1222,2,19960109,0736,-53.9982, 171.0023, 1175,   -999,    171.0,   7.3434,  34.4358,2,  34.4347,2,    281.6,2,  7.3271,    281.5,2,     6.03,2,    17.96,2,     0.04,2,     1.30,3, -999.000,9, -999.000,9,   -999.0,9,  -999.00,9,   -999.0,9,   -999.0,9,   -999.0,9,     7.80,2, -999.00,  -999.0, -999.00,  -999.0
    31DSCG96_1,  P14S,     6,  1,    117,   1104,2,19960109,0736,-53.9982, 171.0023, 1175,   -999,    193.6,   7.2878,  34.4292,2,  34.4288,2,    281.7,2,  7.2694,    282.1,2,     6.01,2,    18.08,2,     0.02,2,     1.26,2,    4.126,2,    2.123,2,   -999.0,9,  -999.00,9,   2113.2,2,   -999.0,9,   -999.0,9,     7.80,2, -999.00,  -999.0, -999.00,  -999.0
    31DSCG96_1,  P14S,     6,  1,    116,   1211,2,19960109,0736,-53.9982, 171.0023, 1175,   -999,    219.7,   7.2521,  34.4253,2,  34.4246,2,    281.4,2,  7.2313,    282.4,2,     6.03,2,    18.10,2,     0.01,2,     1.26,2, -999.000,9, -999.000,9,   -999.0,9,  -999.00,9,   -999.0,9,   -999.0,9,   -999.0,9,     7.80,2, -999.00,  -999.0, -999.00,  -999.0
    31DSCG96_1,  P14S,     6,  1,    115,   1041,2,19960109,0736,-53.9982, 171.0023, 1175,   -999,    245.2,   7.2271,  34.4234,2,  34.4229,2,    281.8,2,  7.2039,    282.6,2,     6.15,2,    18.16,2,     0.02,2,     1.27,2, -999.000,9, -999.000,9,   -999.0,9,  -999.00,9,   2113.7,2,   -999.0,9,   -999.0,9,     7.80,2, -999.00,  -999.0, -999.00,  -999.0
    31DSCG96_1,  P14S,     6,  1,    114,   1017,2,19960109,0736,-53.9982, 171.0023, 1175,   -999,    291.3,   7.1714,  34.4168,2,  34.4168,2,    282.8,2,  7.1438,    283.9,2,     6.13,2,    18.22,2,     0.01,2,     1.27,2,    4.152,2,    2.131,2,   -999.0,9,  -999.00,9,   2113.0,2,   -999.0,9,   -999.0,9,     7.80,2, -999.00,  -999.0, -999.00,  -999.0
    31DSCG96_1,  P14S,     6,  1,    113,   1008,2,19960109,0736,-53.9982, 171.0023, 1175,   -999,    340.7,   7.1307,  34.4155,2,  34.4147,2,    282.3,2,  7.0984,    283.6,2,     6.33,2,    18.30,2,     0.01,2,     1.28,2, -999.000,9, -999.000,9,   -999.0,9,  -999.00,9,   2113.6,2,    643.4,2,   -999.0,9,     7.80,2, -999.00,  -999.0, -999.00,  -999.0
    31DSCG96_1,  P14S,     6,  1,    112,   1217,2,19960109,0736,-53.9982, 171.0023, 1175,   -999,    391.3,   7.0467,  34.4105,2,  34.4104,2,    280.1,2,  7.0098,    280.6,2,     6.84,2,    18.74,2,     0.01,2,     1.31,2,    4.050,2,    2.070,2,   -999.0,9,  -999.00,9,   2116.5,2,   -999.0,9,   -999.0,9,     7.79,2, -999.00,  -999.0, -999.00,  -999.0
    31DSCG96_1,  P14S,     6,  1,    111,   1114,2,19960109,0736,-53.9982, 171.0023, 1175,   -999,    441.2,   6.9778,  34.4070,2,  34.4069,2,    280.5,2,  6.9362,    278.3,2,     7.29,2,    19.09,2,     0.01,2,     1.33,2,    3.993,2,    2.040,2,   -999.0,9,  -999.00,9,   2117.8,2,    649.2,2,   -999.0,9,     7.79,2, -999.00,  -999.0, -999.00,  -999.0
    31DSCG96_1,  P14S,     6,  1,    110,   1036,2,19960109,0736,-53.9982, 171.0023, 1175,   -999,    490.8,   6.9193,  34.4062,2,  34.4066,2,    281.3,2,  6.8731,   -999.0,9,     7.54,2,    19.22,2,     0.01,2,     1.33,2, -999.000,9, -999.000,9,   -999.0,9,  -999.00,9,   -999.0,9,   -999.0,9,   -999.0,9,  -999.00,9, -999.00,  -999.0, -999.00,  -999.0
    31DSCG96_1,  P14S,     6,  1,    109,   1216,2,19960109,0736,-53.9982, 171.0023, 1175,   -999,    541.6,   6.6723,  34.3727,2,  34.3730,2,    274.9,2,  6.6221,    259.6,2,    10.23,2,    21.43,2,     0.01,2,     1.47,2, -999.000,9, -999.000,9,   -999.0,9,  -999.00,9,   -999.0,9,   -999.0,9,   -999.0,9,     7.76,2, -999.00,  -999.0, -999.00,  -999.0
    31DSCG96_1,  P14S,     6,  1,    108,   1018,2,19960109,0736,-53.9982, 171.0023, 1175,   -999,    592.5,   6.3932,  34.3570,2,  34.3577,2,    250.9,2,  6.3394,    249.4,2,    12.53,2,    22.88,2,     0.01,2,     1.57,2,    3.221,2,    1.633,2,   -999.0,9,  -999.00,9,   2138.4,2,    747.1,2,   -999.0,9,     7.74,2, -999.00,  -999.0, -999.00,  -999.0
    31DSCG96_1,  P14S,     6,  1,    107,   1245,2,19960109,0736,-53.9982, 171.0023, 1175,   -999,    678.1,   5.7689,  34.3444,2,  34.3442,2,    224.2,2,  5.7102,    224.1,6,    19.04,2,    26.43,2,     0.00,2,     1.80,2,    2.318,2,    1.157,2,   -999.0,9,  -999.00,9,   2161.7,2,    846.6,2,   -999.0,9,     7.68,2, -999.00,  -999.0, -999.00,  -999.0
    31DSCG96_1,  P14S,     6,  1,    106,   1262,2,19960109,0736,-53.9982, 171.0023, 1175,   -999,    778.2,   5.2411,  34.3351,2,  34.3352,2,    218.6,2,  5.1763,    219.6,2,    23.79,2,    27.94,2,     0.00,2,     1.90,2,    2.121,2,    1.041,2,   -999.0,9,  -999.00,9,   -999.0,9,   -999.0,9,   -999.0,9,     7.67,2, -999.00,  -999.0, -999.00,  -999.0
    31DSCG96_1,  P14S,     6,  1,    105,   1113,2,19960109,0736,-53.9982, 171.0023, 1175,   -999,    877.5,   4.4089,  34.3290,2,  34.3290,2,    213.6,2,  4.3408,    213.5,2,    31.62,2,    30.03,2,     0.00,2,     2.05,2,    1.757,2,    0.842,2,   -999.0,9,  -999.00,9,   2187.8,2,    969.6,2,   -999.0,9,     7.64,2, -999.00,  -999.0, -999.00,  -999.0
    31DSCG96_1,  P14S,     6,  1,    104,   1003,2,19960109,0736,-53.9982, 171.0023, 1175,   -999,    975.4,   3.8316,  34.3510,2,  34.3510,2,    206.1,2,  3.7595,    205.1,6,    40.27,2,    31.52,2,     0.00,2,     2.15,2,    1.389,2,    0.674,2,   -999.0,9,  -999.00,9,   -999.0,9,   -999.0,9,   -999.0,9,     7.62,2, -999.00,  -999.0, -999.00,  -999.0
    31DSCG96_1,  P14S,     6,  1,    103,   9999,4,19960109,0736,-53.9982, 171.0023, 1175,   -999,   1070.5,   3.3868,  34.3779,2,-999.0000,9,    198.1,2,  3.3105,   -999.0,9,  -999.00,9,  -999.00,9,  -999.00,9,  -999.00,9, -999.000,9, -999.000,9,   -999.0,9,  -999.00,9,   -999.0,9,   -999.0,9,   -999.0,9,  -999.00,9, -999.00,  -999.0, -999.00,  -999.0
    31DSCG96_1,  P14S,     6,  1,    102,   1027,2,19960109,0736,-53.9982, 171.0023, 1175,   -999,   1072.5,   3.3859,  34.3779,2,  34.3784,2,    197.7,2,  3.3095,    217.9,3,    47.95,2,    32.63,2,     0.00,2,     2.22,2,    1.133,2,    0.548,2,   -999.0,9,  -999.00,9,   2214.6,2,   1087.7,2,   -999.0,9,     7.60,2, -999.00,  -999.0, -999.00,  -999.0
    31DSCG96_1,  P14S,     6,  1,    101,   1022,2,19960109,0736,-53.9982, 171.0023, 1175,   -999,   1169.3,   2.7694,  34.4946,2,  34.4954,2,    183.1,2,  2.6906,    182.6,2,    64.20,6,    33.61,6,     0.00,6,     2.29,6,    0.591,2,    0.289,2,   -999.0,9,  -999.00,9,   2238.7,2,   1170.5,2,   -999.0,9,     7.58,2, -999.00,  -999.0, -999.00,  -999.0