BOTTLE,20220811CCHSIOAMB
EXPOCODE,SECT_ID,STNNBR,CASTNO,SAMPNO,BTLNBR,BTLNBR_FLAG_W,DATE,TIME,LATITUDE,LONGITUDE,DEPTH,CTDRAW,CTDPRS,CTDTMP,CTDSAL,CTDSAL_FLAG_W,SALNTY,SALNTY_FLAG_W,CTDOXY,CTDOXY_FLAG_W,THETA,OXYGEN,OXYGEN_FLAG_W,SILCAT,SILCAT_FLAG_W,NITRAT,NITRAT_FLAG_W,NITRIT,NITRIT_FLAG_W,PHSPHT,PHSPHT_FLAG_W,CFC-11,CFC-11_FLAG_W,CFC-12,CFC-12_FLAG_W,DELC14,DELC14_FLAG_W,DELC13,DELC13_FLAG_W,TCARBN,TCARBN_FLAG_W,PCO2,PCO2_FLAG_W,ALKALI,ALKALI_FLAG_W,PH,PH_FLAG_W,PCO2TMP,C14ERR,PH_TMP,C13ERR
,,,,,,,,,,,,DBAR,DBAR,ITS-90,PSS-78,,PSS-78,,UMOL/KG,,DEG C,UMOL/KG,,UMOL/KG,,UMOL/KG,,UMOL/KG,,UMOL/KG,,PMOL/KG,,PMOL/KG,,/MILLE,,/MILLE,,UMOL/KG,,UATM,,UMOL/KG,,,,DEG C,/MILLE,DEG C,/MILLE
    31DSCG96_2,  P15S,   101,  2,    236,   1245,2,19960215,1727,-37.3105,-170.8948, 5112,   -999,      5.8,  19.9090,  35.1403,2,  35.1384,2,    230.6,2, 19.9079,    228.3,2,     1.34,2,     0.01,2,     0.00,2,     0.12,2,    2.397,2,    1.333,2,     65.0,2,     1.84,2,   2039.0,2,    366.2,2,   2317.1,2,     7.99,2, -999.00,     4.9, -999.00,  -999.0
    31DSCG96_2,  P15S,   101,  2,    235,   1113,2,19960215,1727,-37.3105,-170.8948, 5112,   -999,     32.0,  19.8208,  35.1370,2,  35.1400,2,    228.6,2, 19.8149,    228.6,2,     1.33,2,     0.02,2,     0.00,2,     0.13,2,    2.409,2,    1.330,2,     64.1,2,     1.83,2,   2037.9,2,    372.8,2,   2317.3,2,     7.99,2, -999.00,     4.9, -999.00,  -999.0
    31DSCG96_2,  P15S,   101,  2,    234,   1119,2,19960215,1727,-37.3105,-170.8948, 5112,   -999,     54.4,  15.0447,  34.9817,2,  34.9765,2,    264.8,2, 15.0364,    272.5,2,     1.32,2,     0.01,2,     0.00,2,     0.15,2, -999.000,9, -999.000,9,     56.3,2,     1.91,2,   2035.4,2,    373.4,2,   2307.3,2,     7.99,2, -999.00,     4.9, -999.00,  -999.0
    31DSCG96_2,  P15S,   101,  2,    233,   1221,2,19960215,1727,-37.3105,-170.8948, 5112,   -999,     79.5,  13.8736,  34.9945,2,  34.9975,2,    257.8,2, 13.8623,    264.3,2,     1.57,2,     0.01,2,     0.00,2,     0.19,2,    3.149,2,    1.677,2,     61.7,2,     1.72,2,   2051.7,2,    413.6,2,   2311.0,2,     7.96,2, -999.00,     4.9, -999.00,  -999.0
    31DSCG96_2,  P15S,   101,  2,    232,   1039,2,19960215,1727,-37.3105,-170.8948, 5112,   -999,    103.6,  12.9620,  35.0043,2,  35.0034,2,    241.8,2, 12.9479,    245.4,2,     1.93,2,     3.04,2,     0.22,2,     0.37,2, -999.000,9, -999.000,9,     60.9,2,     1.50,2,   2072.6,2,    459.9,2,   2308.5,2,     7.92,2, -999.00,     4.9, -999.00,  -999.0
    31DSCG96_2,  P15S,   101,  2,    231,   1014,2,19960215,1727,-37.3105,-170.8948, 5112,   -999,    128.4,  12.5544,  34.9734,2,  34.9751,2,    241.5,2, 12.5372,    244.5,6,     2.09,2,     4.51,2,     0.03,2,     0.44,2,    3.271,2,    1.735,2,     72.2,2,     1.54,2,   2074.8,2,    475.4,2,   2305.9,2,     7.91,2, -999.00,     5.1, -999.00,  -999.0
    31DSCG96_2,  P15S,   101,  2,    230,   1257,2,19960215,1727,-37.3105,-170.8948, 5112,   -999,    168.3,  12.4088,  35.0235,2,  35.0117,2,    240.8,2, 12.3863,    239.5,2,     2.45,2,     6.17,2,     0.02,2,     0.53,2, -999.000,9, -999.000,9,     71.4,2,     1.40,3,   2082.4,2,    491.3,2,   2308.1,2,     7.89,2, -999.00,     7.4, -999.00,  -999.0
    31DSCG96_2,  P15S,   101,  2,    229,   1256,2,19960215,1727,-37.3105,-170.8948, 5112,   -999,    209.4,  11.8174,  34.9776,2,  34.9784,2,    241.7,2, 11.7903,    223.9,2,     3.50,2,     9.93,2,     0.01,2,     0.74,2,    3.095,2,    1.612,2,     63.2,2,     1.22,2,   2101.1,2,    547.8,2,   2306.4,2,     7.85,2, -999.00,     4.9, -999.00,  -999.0
    31DSCG96_2,  P15S,   101,  2,    228,   1007,2,19960215,1727,-37.3105,-170.8948, 5112,   -999,    266.4,  10.9758,  34.8729,2,  34.8760,2,    222.4,2, 10.9429,    219.1,2,     4.35,2,    12.67,2,     0.01,2,     0.90,2, -999.000,9, -999.000,9,     58.6,2,     1.17,2,   2111.9,2,    605.0,2,   2300.4,2,     7.82,2, -999.00,     4.9, -999.00,  -999.0
    31DSCG96_2,  P15S,   101,  2,    227,   1232,2,19960215,1727,-37.3105,-170.8948, 5112,   -999,    329.5,  10.0275,  34.7489,2,  34.7473,2,    211.7,2,  9.9890,    207.6,2,     5.54,2,    16.06,2,     0.01,2,     1.11,2,    2.757,6,    1.381,6,     45.5,2,     1.14,2,   2125.2,2,    668.1,2,   2299.0,2,     7.78,2, -999.00,     3.8, -999.00,  -999.0
    31DSCG96_2,  P15S,   101,  2,    226,   1025,2,19960215,1727,-37.3105,-170.8948, 5112,   -999,    418.8,   8.8299,  34.6034,2,  34.6018,2,    215.9,2,  8.7846,    212.1,2,     6.67,2,    19.18,2,     0.00,2,     1.30,2, -999.000,9, -999.000,9,     31.7,2,     1.19,2,   2133.9,2,    722.3,2,   2291.0,2,     7.75,2, -999.00,     3.3, -999.00,  -999.0
    31DSCG96_2,  P15S,   101,  2,    225,   1233,2,19960215,1727,-37.3105,-170.8948, 5112,   -999,    527.6,   7.9302,  34.5054,2,  34.5066,2,    219.1,2,  7.8764,    221.0,2,     7.63,2,    20.96,2,     0.00,2,     1.42,2, -999.000,9, -999.000,9,     15.0,2,     1.23,2,   2136.6,2,    739.5,2,   2289.3,2,     7.74,2, -999.00,     3.6, -999.00,  -999.0
    31DSCG96_2,  P15S,   101,  2,    224,   1013,2,19960215,1727,-37.3105,-170.8948, 5112,   -999,    627.2,   7.3625,  34.4566,2,  34.4570,2,    226.5,2,  7.3008,    222.6,2,     9.16,2,    22.45,2,     0.00,2,     1.52,2, -999.000,9, -999.000,9,     11.5,2,     1.24,2,   2139.9,2,    752.6,2,   2287.8,2,     7.73,2, -999.00,     3.4, -999.00,  -999.0
    31DSCG96_2,  P15S,   101,  2,    223,   1250,2,19960215,1727,-37.3105,-170.8948, 5112,   -999,    719.2,   7.0186,  34.4421,2,  34.4416,2,    217.7,2,  6.9492,    215.6,2,    12.13,2,    24.00,2,     0.00,2,     1.63,2, -999.000,9, -999.000,9,    -20.7,2,     1.19,2,   2148.2,2,    784.7,2,   2291.7,2,     7.72,2, -999.00,     4.1, -999.00,  -999.0
    31DSCG96_2,  P15S,   101,  2,    222,   1265,2,19960215,1727,-37.3105,-170.8948, 5112,   -999,    822.9,   6.3682,  34.3947,2,  34.3929,2,    209.9,2,  6.2923,    221.8,3,    15.37,2,    25.77,2,     0.00,2,     1.74,2, -999.000,9, -999.000,9,    -38.7,2,     1.19,2,   2156.2,2,    816.6,2,   2290.4,2,     7.70,2, -999.00,     3.1, -999.00,  -999.0
    31DSCG96_2,  P15S,   101,  2,    221,   1246,2,19960215,1727,-37.3105,-170.8948, 5112,   -999,    926.5,   5.7976,  34.3943,2,  34.3931,2,    202.0,2,  5.7155,    200.8,2,    22.96,2,    27.99,2,     0.00,2,     1.89,2, -999.000,9, -999.000,9,    -72.9,2,     1.11,2,   2171.5,2,    898.4,2,   2298.6,2,     7.67,2, -999.00,     3.0, -999.00,  -999.0
    31DSCG96_2,  P15S,   101,  2,    220,   1015,2,19960215,1727,-37.3105,-170.8948, 5112,   -999,   1024.0,   5.1773,  34.3935,2,  34.3915,2,    194.8,2,  5.0907,    193.4,2,    31.11,2,    29.88,2,     0.00,2,     2.02,2, -999.000,9, -999.000,9,    -99.5,2,     1.00,2,   2187.0,2,    960.1,2,   2305.4,2,     7.65,2, -999.00,     3.2, -999.00,  -999.0
    31DSCG96_2,  P15S,   101,  2,    219,   1247,2,19960215,1727,-37.3105,-170.8948, 5112,   -999,   1126.1,   4.6760,  34.4092,2,  34.4072,2,    187.9,2,  4.5841,    186.7,6,    39.53,2,    31.07,2,     0.00,2,     2.12,2, -999.000,9, -999.000,9,   -112.1,2,     0.90,2,   2198.2,3,   1019.9,2,   2312.7,2,     7.63,2, -999.00,     2.9, -999.00,  -999.0
    31DSCG96_2,  P15S,   101,  2,    218,   1222,2,19960215,1727,-37.3105,-170.8948, 5112,   -999,   1222.6,   4.1505,  34.4301,2,  34.4286,2,    181.1,2,  4.0547,    179.0,2,    49.19,2,    32.29,2,     0.00,2,     2.21,2, -999.000,9, -999.000,9,   -123.6,2,     0.47,3,   2211.9,2,   1039.4,2,   2321.2,2,     7.61,2, -999.00,     2.8, -999.00,  -999.0
    31DSCG96_2,  P15S,   101,  2,    217,   1267,2,19960215,1727,-37.3105,-170.8948, 5112,   -999,   1350.8,   3.6673,  34.4757,2,  34.4733,2,    172.6,2,  3.5650,    171.4,2,    62.33,2,    33.34,2,     0.00,2,     2.29,2, -999.000,9, -999.000,9,   -151.0,2,     0.68,2,   2231.2,2,   1097.2,2,   2337.3,3,     7.60,2, -999.00,     3.1, -999.00,  -999.0
    31DSCG96_2,  P15S,   101,  2,    216,   1211,2,19960215,1727,-37.3105,-170.8948, 5112,   -999,   1565.7,   3.0142,  34.5372,2,  34.5354,2,    162.5,2,  2.9008,    162.2,2,  -999.00,9,  -999.00,9,  -999.00,9,  -999.00,9, -999.000,9, -999.000,9,   -175.7,2,     0.52,2,   2256.7,2,   1164.8,2,   2355.7,3,     7.58,2, -999.00,     3.6, -999.00,  -999.0
    31DSCG96_2,  P15S,   101,  2,    215,   1041,2,19960215,1727,-37.3105,-170.8948, 5112,   -999,   1806.1,   2.6398,  34.5879,2,  34.5863,2,    154.9,2,  2.5107,    154.4,2,    96.64,2,    35.23,2,     0.00,2,     2.44,2, -999.000,9, -999.000,9,   -191.4,6,     0.38,6,   2276.2,2,   1195.3,2,   2376.3,3,     7.58,2, -999.00,     2.1, -999.00,  -999.0
    31DSCG96_2,  P15S,   101,  2,    214,   1017,2,19960215,1727,-37.3105,-170.8948, 5112,   -999,   2054.8,   2.4258,  34.6155,2,  34.6136,2,    151.5,2,  2.2782,    151.0,2,   106.64,2,    35.45,2,     0.00,2,     2.47,2, -999.000,9, -999.000,9,   -200.9,2,     0.32,2,   2289.0,2,   1191.3,2,   2386.0,2,     7.57,2, -999.00,     3.3, -999.00,  -999.0
    31DSCG96_2,  P15S,   101,  2,    213,   1302,2,19960215,1727,-37.3105,-170.8948, 5112,   -999,   2309.0,   2.2664,  34.6334,2,  34.6325,2,    150.5,2,  2.0987,    149.6,2,   113.41,2,    35.67,2,     0.00,2,     2.48,2, -999.000,9, -999.000,9,   -214.9,2,     0.25,2,   2299.0,2,   1214.9,2,   2394.5,2,     7.58,2, -999.00,     2.5, -999.00,  -999.0
    31DSCG96_2,  P15S,   101,  2,    212,   1217,2,19960215,1727,-37.3105,-170.8948, 5112,   -999,   2562.3,   2.1218,  34.6487,2,  34.6479,2,    150.8,2,  1.9335,    150.0,2,   118.00,2,    35.68,2,     0.00,2,     2.48,2, -999.000,9, -999.000,9,   -210.1,2,     0.25,2,   2301.9,2,   1208.7,2,   2399.2,2,     7.57,2, -999.00,     2.5, -999.00,  -999.0
    31DSCG96_2,  P15S,   101,  2,    211,   1114,2,19960215,1727,-37.3105,-170.8948, 5112,   -999,   2816.5,   1.9725,  34.6674,2,  34.6664,2,    154.5,2,  1.7631,    155.0,6,   119.42,2,    35.30,2,     0.00,2,     2.45,2, -999.000,9, -999.000,9,   -206.6,2,     0.26,2,   2299.5,2,   1206.1,2,   2398.7,2,     7.58,2, -999.00,     3.1, -999.00,  -999.0
    31DSCG96_2,  P15S,   101,  2,    210,   1301,2,19960215,1727,-37.3105,-170.8948, 5112,   -999,   3063.8,   1.8228,  34.6943,2,  34.6935,2,    169.7,2,  1.5925,    169.4,2,  -999.00,9,  -999.00,9,  -999.00,9,  -999.00,9, -999.000,9, -999.000,9,   -186.0,2,     0.34,2,   2284.3,2,   1176.9,2,   2385.5,3,     7.59,2, -999.00,     2.6, -999.00,  -999.0
    31DSCG96_2,  P15S,   101,  2,    209,   1242,2,19960215,1727,-37.3105,-170.8948, 5112,   -999,   3315.4,   1.6884,  34.7148,2,  34.7135,2,    183.9,2,  1.4361,    183.7,2,   107.50,2,    32.67,2,     0.00,2,     2.24,2, -999.000,9, -999.000,9,   -170.9,2,     0.41,2,   2265.6,2,   1108.0,2,   2373.1,2,     7.60,2, -999.00,     2.8, -999.00,  -999.0
    31DSCG96_2,  P15S,   101,  2,    208,   1227,2,19960215,1727,-37.3105,-170.8948, 5112,   -999,   3546.7,   1.5252,  34.7230,2,  34.7218,2,    194.0,2,  1.2533,    192.9,2,   107.14,2,    32.16,2,     0.00,2,     2.19,2, -999.000,9, -999.000,9,   -171.9,2,     0.44,2,   2260.1,2,   1090.9,2,   2370.9,2,     7.61,2, -999.00,     2.7, -999.00,  -999.0
    31DSCG96_2,  P15S,   101,  2,    207,   1263,2,19960215,1727,-37.3105,-170.8948, 5112,   -999,   3810.0,   1.3094,  34.7212,2,  34.7211,2,    200.4,2,  1.0158,    199.6,2,   111.14,2,    32.12,2,     0.00,2,     2.18,2, -999.000,9, -999.000,9,   -176.3,2,     0.44,2,   2257.9,2,   1083.8,2,   2369.2,2,     7.61,2, -999.00,     2.7, -999.00,  -999.0
    31DSCG96_2,  P15S,   101,  2,    206,   1262,2,19960215,1727,-37.3105,-170.8948, 5112,   -999,   4067.6,   1.1351,  34.7159,2,  34.7147,2,    204.0,2,  0.8190,    203.3,2,   115.84,6,    32.16,6,     0.00,6,     2.19,2, -999.000,9, -999.000,9,   -166.2,2,     0.51,2,   2256.9,2,   1074.2,2,   2368.7,2,     7.61,2, -999.00,     2.7, -999.00,  -999.0
    31DSCG96_2,  P15S,   101,  2,    205,   1264,2,19960215,1727,-37.3105,-170.8948, 5112,   -999,   4315.8,   1.0535,  34.7123,2,  34.7112,2,    205.8,2,  0.7127,    205.4,2,   118.63,6,    32.34,6,     0.00,6,     2.20,2, -999.000,9, -999.000,9,   -167.8,2,     0.49,2,   2259.8,2,   1076.6,2,   2369.9,2,     7.61,2, -999.00,     2.7, -999.00,  -999.0
    31DSCG96_2,  P15S,   101,  2,    204,   1003,2,19960215,1727,-37.3105,-170.8948, 5112,   -999,   4569.1,   1.0084,  34.7095,2,  34.7089,2,    206.7,2,  0.6407,    206.0,6,   120.49,6,    32.34,6,     0.00,6,     2.21,2, -999.000,9, -999.000,9,   -162.3,2,     0.47,2,   2259.0,2,   1075.3,2,   2372.2,2,     7.61,2, -999.00,     2.7, -999.00,  -999.0
    31DSCG96_2,  P15S,   101,  2,    203,    999,2,19960215,1727,-37.3105,-170.8948, 5112,   -999,   4807.7,   1.0028,  34.7083,2,  34.7074,2,    207.0,2,  0.6078,    206.2,2,   121.68,6,    32.53,3,     0.00,6,     2.21,2, -999.000,9, -999.000,9,   -170.2,2,  -999.00,9,   2259.5,2,   1077.7,2,   2374.2,3,     7.61,2, -999.00,     2.9, -999.00,  -999.0
    31DSCG96_2,  P15S,   101,  2,    202,   1030,2,19960215,1727,-37.3105,-170.8948, 5112,   -999,   5063.7,   1.0137,  34.7072,2,  34.7064,2,    207.8,2,  0.5881,    202.9,2,   122.18,2,    32.56,3,     0.00,2,     2.21,2, -999.000,9, -999.000,9,   -158.7,2,     0.44,2,   2259.5,2,   1085.1,2,   2368.2,2,     7.61,2, -999.00,     3.0, -999.00,  -999.0
    31DSCG96_2,  P15S,   101,  2,    201,   1022,2,19960215,1727,-37.3105,-170.8948, 5112,   -999,   5227.8,   1.0189,  34.7065,2,  34.7066,2,    207.8,2,  0.5733,    207.3,2,   122.58,6,    32.54,3,     0.00,6,     2.21,6, -999.000,9, -999.000,9,   -159.7,2,     0.49,2,   2259.9,2,   1079.4,2,   2370.7,2,     7.61,2, -999.00,     3.0, -999.00,  -999.0