BOTTLE,20220811CCHSIOAMB
EXPOCODE,SECT_ID,STNNBR,CASTNO,SAMPNO,BTLNBR,BTLNBR_FLAG_W,DATE,TIME,LATITUDE,LONGITUDE,DEPTH,CTDRAW,CTDPRS,CTDTMP,CTDSAL,CTDSAL_FLAG_W,SALNTY,SALNTY_FLAG_W,CTDOXY,CTDOXY_FLAG_W,THETA,OXYGEN,OXYGEN_FLAG_W,SILCAT,SILCAT_FLAG_W,NITRAT,NITRAT_FLAG_W,NITRIT,NITRIT_FLAG_W,PHSPHT,PHSPHT_FLAG_W,CFC-11,CFC-11_FLAG_W,CFC-12,CFC-12_FLAG_W,DELC14,DELC14_FLAG_W,DELC13,DELC13_FLAG_W,TCARBN,TCARBN_FLAG_W,PCO2,PCO2_FLAG_W,ALKALI,ALKALI_FLAG_W,PH,PH_FLAG_W,PCO2TMP,C14ERR,PH_TMP,C13ERR
,,,,,,,,,,,,DBAR,DBAR,ITS-90,PSS-78,,PSS-78,,UMOL/KG,,DEG C,UMOL/KG,,UMOL/KG,,UMOL/KG,,UMOL/KG,,UMOL/KG,,PMOL/KG,,PMOL/KG,,/MILLE,,/MILLE,,UMOL/KG,,UATM,,UMOL/KG,,,,DEG C,/MILLE,DEG C,/MILLE
    31DSCG96_2,  P15S,    99,  1,    136,   1245,2,19960215,0423,-38.1905,-171.5030, 4918,   -999,      4.1,  20.1808,  35.3030,2,  35.3023,2,    229.3,2, 20.1801,    228.2,6,     1.55,2,     0.00,2,     0.00,2,     0.11,2, -999.000,9, -999.000,9,     84.0,2,  -999.00,9,   2038.0,2,    357.8,2,   2322.9,2,     8.01,2, -999.00,     3.3, -999.00,  -999.0
    31DSCG96_2,  P15S,    99,  1,    135,   1113,2,19960215,0423,-38.1905,-171.5030, 4918,   -999,     28.8,  19.8672,  35.2913,2,  35.2910,2,    229.1,2, 19.8619,    229.4,2,     1.54,2,     0.03,2,     0.00,2,     0.13,2, -999.000,9, -999.000,9,   -999.0,9,  -999.00,9,   -999.0,9,   -999.0,9,   -999.0,9,     8.00,2, -999.00,  -999.0, -999.00,  -999.0
    31DSCG96_2,  P15S,    99,  1,    134,   1119,2,19960215,0423,-38.1905,-171.5030, 4918,   -999,     52.6,  16.3817,  35.0944,2,  35.1129,2,    265.9,2, 16.3733,    264.3,2,     1.65,2,     0.03,2,     0.00,2,     0.14,2, -999.000,9, -999.000,9,   -999.0,9,  -999.00,9,   2031.8,2,    359.3,2,   2316.1,2,     8.00,2, -999.00,  -999.0, -999.00,  -999.0
    31DSCG96_2,  P15S,    99,  1,    133,   1221,2,19960215,0423,-38.1905,-171.5030, 4918,   -999,     79.6,  13.1899,  35.0482,2,  35.0522,2,    250.8,2, 13.1789,    251.6,2,     2.02,2,     1.60,2,     0.10,2,     0.32,2, -999.000,9, -999.000,9,   -999.0,9,  -999.00,9,   -999.0,9,   -999.0,9,   -999.0,9,     7.93,2, -999.00,  -999.0, -999.00,  -999.0
    31DSCG96_2,  P15S,    99,  1,    132,   1039,2,19960215,0423,-38.1905,-171.5030, 4918,   -999,    106.1,  12.7465,  35.0844,2,  35.0840,2,    236.8,2, 12.7321,    238.0,2,     2.50,2,     5.75,2,     0.03,2,     0.51,2, -999.000,9, -999.000,9,   -999.0,9,  -999.00,9,   2082.8,2,    484.1,2,   2309.9,2,     7.90,2, -999.00,  -999.0, -999.00,  -999.0
    31DSCG96_2,  P15S,    99,  1,    131,   1014,2,19960215,0423,-38.1905,-171.5030, 4918,   -999,    128.9,  12.4685,  35.0590,2,  35.0574,2,    237.8,2, 12.4513,    237.4,2,     2.64,2,     6.58,2,     0.02,2,     0.54,2, -999.000,9, -999.000,9,   -999.0,9,  -999.00,9,   -999.0,9,   -999.0,9,   -999.0,9,     7.89,2, -999.00,  -999.0, -999.00,  -999.0
    31DSCG96_2,  P15S,    99,  1,    130,   1257,2,19960215,0423,-38.1905,-171.5030, 4918,   -999,    165.4,  12.3467,  35.0958,2,  35.0922,2,    236.7,2, 12.3247,    237.3,2,     3.20,2,     7.98,2,     0.01,2,     0.62,2, -999.000,9, -999.000,9,   -999.0,9,  -999.00,9,   2092.3,2,    509.1,2,   2310.6,2,     7.88,2, -999.00,  -999.0, -999.00,  -999.0
    31DSCG96_2,  P15S,    99,  1,    129,   1256,2,19960215,0423,-38.1905,-171.5030, 4918,   -999,    216.7,  11.6386,  34.9805,2,  34.9824,2,    227.8,2, 11.6109,    227.2,2,     3.86,2,    10.55,2,     0.02,2,     0.77,2, -999.000,9, -999.000,9,   -999.0,9,  -999.00,9,   2103.4,2,    556.1,2,   2304.4,2,     7.85,3, -999.00,  -999.0, -999.00,  -999.0
    31DSCG96_2,  P15S,    99,  1,    128,   1007,2,19960215,0423,-38.1905,-171.5030, 4918,   -999,    259.2,  11.0938,  34.8949,2,  34.8905,2,    221.1,2, 11.0616,    220.6,2,     4.42,2,    12.59,2,     0.01,2,     0.89,2, -999.000,9, -999.000,9,   -999.0,9,  -999.00,9,   2111.4,2,    592.9,2,   2301.8,2,     7.82,2, -999.00,  -999.0, -999.00,  -999.0
    31DSCG96_2,  P15S,    99,  1,    127,   1232,2,19960215,0423,-38.1905,-171.5030, 4918,   -999,    314.8,  10.3378,  34.7975,2,  34.8007,2,    208.2,2, 10.3004,    207.3,2,     5.82,2,    15.84,2,     0.01,2,     1.09,2, -999.000,9, -999.000,9,   -999.0,9,  -999.00,9,   2125.1,2,    660.8,2,   2297.1,2,     7.79,2, -999.00,  -999.0, -999.00,  -999.0
    31DSCG96_2,  P15S,    99,  1,    126,   1025,2,19960215,0423,-38.1905,-171.5030, 4918,   -999,    368.3,   9.5479,  34.6986,2,  34.7040,2,    208.0,2,  9.5061,    205.7,2,     6.80,2,    18.09,2,     0.00,2,     1.23,2, -999.000,9, -999.000,9,   -999.0,9,  -999.00,9,   -999.0,9,   -999.0,9,   -999.0,9,     7.76,2, -999.00,  -999.0, -999.00,  -999.0
    31DSCG96_2,  P15S,    99,  1,    125,   1233,2,19960215,0423,-38.1905,-171.5030, 4918,   -999,    423.1,   8.8622,  34.6179,2,  34.6196,2,    210.7,2,  8.8163,    208.0,2,     7.62,2,    19.81,2,     0.00,2,     1.34,2, -999.000,9, -999.000,9,   -999.0,9,  -999.00,9,   -999.0,9,   -999.0,9,   -999.0,9,     7.75,2, -999.00,  -999.0, -999.00,  -999.0
    31DSCG96_2,  P15S,    99,  1,    124,   1013,2,19960215,0423,-38.1905,-171.5030, 4918,   -999,    523.4,   8.0357,  34.5344,2,  34.5350,2,    215.1,2,  7.9818,    212.3,6,     8.97,2,    21.67,2,     0.00,2,     1.46,2, -999.000,9, -999.000,9,   -999.0,9,  -999.00,9,   2141.1,2,    767.1,2,   2291.3,2,     7.73,2, -999.00,  -999.0, -999.00,  -999.0
    31DSCG96_2,  P15S,    99,  1,    123,   1250,2,19960215,0423,-38.1905,-171.5030, 4918,   -999,    626.0,   7.3990,  34.4796,2,  34.4806,2,    215.4,2,  7.3372,    215.1,2,    11.00,2,    23.19,2,     0.00,2,     1.56,2, -999.000,9, -999.000,9,   -999.0,9,  -999.00,9,   -999.0,9,   -999.0,9,   -999.0,9,     7.72,2, -999.00,  -999.0, -999.00,  -999.0
    31DSCG96_2,  P15S,    99,  1,    122,   1265,2,19960215,0423,-38.1905,-171.5030, 4918,   -999,    725.2,   6.8541,  34.4390,2,  34.4400,2,    213.3,2,  6.7850,    212.5,2,    13.97,2,    24.76,2,     0.00,2,     1.67,2, -999.000,9, -999.000,9,   -999.0,9,  -999.00,9,   2151.3,2,    826.1,2,   2289.2,2,     7.71,2, -999.00,  -999.0, -999.00,  -999.0
    31DSCG96_2,  P15S,    99,  1,    121,   1246,2,19960215,0423,-38.1905,-171.5030, 4918,   -999,    824.6,   6.3426,  34.4219,2,  34.4221,2,    205.4,2,  6.2667,    205.3,2,    18.79,2,    26.54,2,     0.00,2,     1.79,2, -999.000,9, -999.000,9,   -999.0,9,  -999.00,9,   -999.0,9,   -999.0,9,   -999.0,9,     7.69,2, -999.00,  -999.0, -999.00,  -999.0
    31DSCG96_2,  P15S,    99,  1,    120,   1015,2,19960215,0423,-38.1905,-171.5030, 4918,   -999,    924.6,   5.8102,  34.4158,2,  34.4156,2,    197.1,2,  5.7281,    197.3,2,    25.33,2,    28.18,2,     0.00,2,     1.90,2, -999.000,9, -999.000,9,   -999.0,9,  -999.00,9,   -999.0,9,   -999.0,9,   -999.0,9,     7.67,2, -999.00,  -999.0, -999.00,  -999.0
    31DSCG96_2,  P15S,    99,  1,    119,   1247,2,19960215,0423,-38.1905,-171.5030, 4918,   -999,   1023.7,   5.2085,  34.4138,2,  34.4139,2,    190.8,2,  5.1216,    190.5,2,    33.41,2,    29.84,2,     0.00,2,     2.03,2, -999.000,9, -999.000,9,   -999.0,9,  -999.00,9,   2190.3,2,    957.9,2,   2306.5,2,     7.65,2, -999.00,  -999.0, -999.00,  -999.0
    31DSCG96_2,  P15S,    99,  1,    118,   1222,2,19960215,0423,-38.1905,-171.5030, 4918,   -999,   1123.9,   4.6507,  34.4340,2,  34.4355,2,    184.1,2,  4.5592,    182.7,2,    43.69,2,    31.27,2,     0.00,2,     2.12,2, -999.000,9, -999.000,9,   -999.0,9,  -999.00,9,   -999.0,9,   -999.0,9,   -999.0,9,     7.63,2, -999.00,  -999.0, -999.00,  -999.0
    31DSCG96_2,  P15S,    99,  1,    117,   1267,2,19960215,0423,-38.1905,-171.5030, 4918,   -999,   1224.6,   4.1326,  34.4553,2,  34.4559,2,    178.0,2,  4.0368,    177.1,2,    53.63,2,    32.47,2,     0.00,2,     2.22,2, -999.000,9, -999.000,9,   -999.0,9,  -999.00,9,   -999.0,9,   -999.0,9,   -999.0,9,     7.61,2, -999.00,  -999.0, -999.00,  -999.0
    31DSCG96_2,  P15S,    99,  1,    116,   1211,2,19960215,0423,-38.1905,-171.5030, 4918,   -999,   1350.2,   3.6516,  34.4860,2,  34.4843,2,    171.6,2,  3.5495,    171.0,2,    64.45,2,    33.46,2,     0.00,2,     2.29,2, -999.000,9, -999.000,9,   -999.0,9,  -999.00,9,   -999.0,9,   -999.0,9,   -999.0,9,     7.60,2, -999.00,  -999.0, -999.00,  -999.0
    31DSCG96_2,  P15S,    99,  1,    115,   1041,2,19960215,0423,-38.1905,-171.5030, 4918,   -999,   1562.0,   3.1218,  34.5381,2,  34.5383,2,    162.6,2,  3.0074,    163.0,2,    80.46,2,    34.43,2,     0.00,2,     2.36,2, -999.000,9, -999.000,9,   -999.0,9,  -999.00,9,   2257.9,2,   1152.9,2,   2354.4,2,     7.59,2, -999.00,  -999.0, -999.00,  -999.0
    31DSCG96_2,  P15S,    99,  1,    114,   1017,2,19960215,0423,-38.1905,-171.5030, 4918,   -999,   1812.8,   2.6874,  34.5863,2,  34.5857,2,    155.8,2,  2.5570,    155.6,2,    95.80,2,    35.16,2,     0.00,2,     2.42,2, -999.000,9, -999.000,9,   -999.0,9,  -999.00,9,   -999.0,9,   -999.0,9,   -999.0,9,     7.58,2, -999.00,  -999.0, -999.00,  -999.0
    31DSCG96_2,  P15S,    99,  1,    113,   1302,2,19960215,0423,-38.1905,-171.5030, 4918,   -999,   2066.9,   2.4312,  34.6168,2,-999.0000,5,    151.6,2,  2.2824,    151.2,2,   107.25,2,    35.59,2,     0.00,2,     2.46,2, -999.000,9, -999.000,9,   -999.0,9,  -999.00,9,   2292.5,2,   1210.2,2,   2386.3,2,     7.58,2, -999.00,  -999.0, -999.00,  -999.0
    31DSCG96_2,  P15S,    99,  1,    112,   1217,2,19960215,0423,-38.1905,-171.5030, 4918,   -999,   2316.5,   2.2772,  34.6341,2,  34.6330,2,    151.0,2,  2.1086,    150.9,6,   113.15,2,    35.70,2,     0.00,2,     2.47,2, -999.000,9, -999.000,9,   -999.0,9,  -999.00,9,   -999.0,9,   -999.0,9,   -999.0,9,     7.58,2, -999.00,  -999.0, -999.00,  -999.0
    31DSCG96_2,  P15S,    99,  1,    111,   1114,2,19960215,0423,-38.1905,-171.5030, 4918,   -999,   2565.4,   2.1341,  34.6489,2,  34.6480,2,    151.8,2,  1.9453,    151.3,2,   117.43,2,    35.70,2,     0.00,2,     2.47,2, -999.000,9, -999.000,9,   -999.0,9,  -999.00,9,   2301.1,2,   1217.9,2,   2391.6,2,     7.58,2, -999.00,  -999.0, -999.00,  -999.0
    31DSCG96_2,  P15S,    99,  1,    110,   1301,2,19960215,0423,-38.1905,-171.5030, 4918,   -999,   2810.9,   1.9780,  34.6755,2,  34.6744,2,    159.0,2,  1.7690,    160.8,2,   114.98,2,    34.83,2,     0.00,2,     2.39,2, -999.000,9, -999.000,9,   -999.0,9,  -999.00,9,   -999.0,9,   -999.0,9,   -999.0,9,     7.58,2, -999.00,  -999.0, -999.00,  -999.0
    31DSCG96_2,  P15S,    99,  1,    109,   1242,2,19960215,0423,-38.1905,-171.5030, 4918,   -999,   3065.7,   1.8624,  34.7110,2,  34.7111,2,    180.3,2,  1.6310,    179.5,2,   104.06,2,    32.88,2,     0.00,2,     2.25,2, -999.000,9, -999.000,9,   -999.0,9,  -999.00,9,   2269.8,2,   1125.4,2,   2374.0,2,     7.60,2, -999.00,  -999.0, -999.00,  -999.0
    31DSCG96_2,  P15S,    99,  1,    108,   1263,2,19960215,0423,-38.1905,-171.5030, 4918,   -999,   3316.0,   1.6966,  34.7304,2,  34.7297,2,    192.3,2,  1.4440,    192.4,2,   100.93,2,    31.77,2,     0.00,2,     2.17,2, -999.000,9, -999.000,9,   -999.0,9,  -999.00,9,   -999.0,9,   -999.0,9,   -999.0,9,     7.61,2, -999.00,  -999.0, -999.00,  -999.0
    31DSCG96_2,  P15S,    99,  1,    107,   1227,2,19960215,0423,-38.1905,-171.5030, 4918,   -999,   3560.2,   1.4622,  34.7290,2,  34.7282,2,    197.1,2,  1.1905,    198.2,2,   106.12,2,    31.67,2,     0.00,2,     2.17,2, -999.000,9, -999.000,9,   -999.0,9,  -999.00,9,   2257.8,2,   1087.6,2,   2363.1,2,     7.61,2, -999.00,  -999.0, -999.00,  -999.0
    31DSCG96_2,  P15S,    99,  1,    106,   1262,2,19960215,0423,-38.1905,-171.5030, 4918,   -999,   3811.4,   1.2850,  34.7230,2,  34.7215,2,    201.8,2,  0.9919,    201.4,2,   111.28,2,    31.92,2,     0.00,2,     2.17,2, -999.000,9, -999.000,9,   -999.0,9,  -999.00,9,   -999.0,9,   -999.0,9,   -999.0,9,     7.61,2, -999.00,  -999.0, -999.00,  -999.0
    31DSCG96_2,  P15S,    99,  1,    105,   1264,2,19960215,0423,-38.1905,-171.5030, 4918,   -999,   4065.0,   1.1095,  34.7157,2,  34.7155,2,    204.6,2,  0.7944,    204.7,2,   116.64,2,    32.14,2,     0.00,2,     2.19,2, -999.000,9, -999.000,9,   -999.0,9,  -999.00,9,   2259.0,2,   1087.0,2,   2367.3,2,     7.61,2, -999.00,  -999.0, -999.00,  -999.0
    31DSCG96_2,  P15S,    99,  1,    104,   1003,2,19960215,0423,-38.1905,-171.5030, 4918,   -999,   4314.8,   1.0151,  34.7110,2,  34.7102,2,    206.3,2,  0.6756,    205.9,2,   119.64,2,    32.23,2,     0.00,2,     2.20,2, -999.000,9, -999.000,9,   -999.0,9,  -999.00,9,   -999.0,9,   -999.0,9,   -999.0,9,     7.61,2, -999.00,  -999.0, -999.00,  -999.0
    31DSCG96_2,  P15S,    99,  1,    103,    999,2,19960215,0423,-38.1905,-171.5030, 4918,   -999,   4563.6,   0.9774,  34.7082,2,  34.7081,2,    207.4,2,  0.6113,    206.4,2,   121.37,2,    32.32,2,     0.00,2,     2.21,2, -999.000,9, -999.000,9,   -999.0,9,  -999.00,9,   2261.7,2,   1087.0,2,   2366.9,2,     7.61,2, -999.00,  -999.0, -999.00,  -999.0
    31DSCG96_2,  P15S,    99,  1,    102,   1030,2,19960215,0423,-38.1905,-171.5030, 4918,   -999,   4812.4,   0.9644,  34.7066,2,  34.7064,2,    207.7,2,  0.5701,    207.8,2,   122.53,2,    32.29,2,     0.00,2,     2.21,2, -999.000,9, -999.000,9,   -999.0,9,  -999.00,9,   -999.0,9,   -999.0,9,   -999.0,9,     7.61,2, -999.00,  -999.0, -999.00,  -999.0
    31DSCG96_2,  P15S,    99,  1,    101,   1022,2,19960215,0423,-38.1905,-171.5030, 4918,   -999,   5028.4,   0.9691,  34.7059,2,  34.7058,2,    209.0,2,  0.5493,    208.0,6,   123.03,6,    32.36,6,     0.00,6,     2.21,2, -999.000,9, -999.000,9,   -999.0,9,  -999.00,9,   2260.5,2,   1104.1,2,   2367.3,2,     7.61,2, -999.00,  -999.0, -999.00,  -999.0