BOTTLE,20220811CCHSIOAMB
EXPOCODE,SECT_ID,STNNBR,CASTNO,SAMPNO,BTLNBR,BTLNBR_FLAG_W,DATE,TIME,LATITUDE,LONGITUDE,DEPTH,CTDRAW,CTDPRS,CTDTMP,CTDSAL,CTDSAL_FLAG_W,SALNTY,SALNTY_FLAG_W,CTDOXY,CTDOXY_FLAG_W,THETA,OXYGEN,OXYGEN_FLAG_W,SILCAT,SILCAT_FLAG_W,NITRAT,NITRAT_FLAG_W,NITRIT,NITRIT_FLAG_W,PHSPHT,PHSPHT_FLAG_W,CFC-11,CFC-11_FLAG_W,CFC-12,CFC-12_FLAG_W,DELC14,DELC14_FLAG_W,DELC13,DELC13_FLAG_W,TCARBN,TCARBN_FLAG_W,PCO2,PCO2_FLAG_W,ALKALI,ALKALI_FLAG_W,PH,PH_FLAG_W,PCO2TMP,C14ERR,PH_TMP,C13ERR
,,,,,,,,,,,,DBAR,DBAR,ITS-90,PSS-78,,PSS-78,,UMOL/KG,,DEG C,UMOL/KG,,UMOL/KG,,UMOL/KG,,UMOL/KG,,UMOL/KG,,PMOL/KG,,PMOL/KG,,/MILLE,,/MILLE,,UMOL/KG,,UATM,,UMOL/KG,,,,DEG C,/MILLE,DEG C,/MILLE
    31DSCG96_1,  P15S,    68,  1,    134,   1119,2,19960128,0917,-49.5042,-170.0147, 5200,   -999,     11.6,  12.8999,  34.5099,2,  34.5103,2,    279.2,2, 12.8983,    276.8,2,     0.86,2,     5.46,2,     0.10,2,     0.44,2, -999.000,9, -999.000,9,   -999.0,9,  -999.00,9,   2040.8,2,    410.3,2,   2296.7,2,     7.95,3, -999.00,  -999.0, -999.00,  -999.0
    31DSCG96_1,  P15S,    68,  1,    133,   1221,2,19960128,0917,-49.5042,-170.0147, 5200,   -999,     20.0,  12.8974,  34.5094,2,  34.5095,2,    275.4,2, 12.8947,    276.7,2,     0.89,2,     5.48,2,     0.10,2,     0.48,2, -999.000,9, -999.000,9,   -999.0,9,  -999.00,9,   -999.0,9,   -999.0,9,   -999.0,9,     7.95,2, -999.00,  -999.0, -999.00,  -999.0
    31DSCG96_1,  P15S,    68,  1,    132,   1039,2,19960128,0917,-49.5042,-170.0147, 5200,   -999,     32.8,  12.2811,  34.4796,2,  34.4795,2,    280.9,2, 12.2769,    279.4,2,     0.89,2,     6.50,2,     0.10,2,     0.54,2, -999.000,9, -999.000,9,   -999.0,9,  -999.00,9,   2050.7,2,    425.8,2,   2295.1,2,     7.94,3, -999.00,  -999.0, -999.00,  -999.0
    31DSCG96_1,  P15S,    68,  1,    131,   1014,2,19960128,0917,-49.5042,-170.0147, 5200,   -999,     67.5,  10.4699,  34.4181,2,  34.4216,2,    275.6,2, 10.4619,    278.0,6,     1.28,2,    10.37,2,     0.17,2,     0.80,2, -999.000,9, -999.000,9,   -999.0,9,  -999.00,9,   -999.0,9,   -999.0,9,   -999.0,9,     7.89,2, -999.00,  -999.0, -999.00,  -999.0
    31DSCG96_1,  P15S,    68,  1,    130,   1257,2,19960128,0917,-49.5042,-170.0147, 5200,   -999,     94.2,   9.4234,  34.5183,2,  34.5177,2,    274.9,2,  9.4130,    268.1,2,     2.68,2,    12.42,2,     0.49,2,     0.95,2, -999.000,9, -999.000,9,   -999.0,9,  -999.00,9,   2092.7,2,    558.3,2,   2288.8,2,     7.84,2, -999.00,  -999.0, -999.00,  -999.0
    31DSCG96_1,  P15S,    68,  1,    129,   1256,2,19960128,0917,-49.5042,-170.0147, 5200,   -999,    138.0,   9.1832,  34.6029,2,  34.6024,2,    260.1,2,  9.1681,    253.2,2,     4.13,2,    14.49,2,     0.02,2,     1.04,2, -999.000,9, -999.000,9,   -999.0,9,  -999.00,9,   -999.0,9,   -999.0,9,   -999.0,9,     7.81,2, -999.00,  -999.0, -999.00,  -999.0
    31DSCG96_1,  P15S,    68,  1,    128,   1007,2,19960128,0917,-49.5042,-170.0147, 5200,   -999,    189.7,   8.0526,  34.4344,2,  34.4342,2,    258.7,2,  8.0335,    264.7,2,     4.44,2,    17.09,2,     0.01,2,     1.21,2, -999.000,9, -999.000,9,   -999.0,9,  -999.00,9,   2109.2,2,    633.1,2,   2287.1,2,     7.80,2, -999.00,  -999.0, -999.00,  -999.0
    31DSCG96_1,  P15S,    68,  1,    127,   1234,2,19960128,0917,-49.5042,-170.0147, 5200,   -999,    239.2,   7.9120,  34.4650,2,  34.4654,2,    261.9,2,  7.8881,    250.3,2,     6.18,2,    18.81,2,     0.01,2,     1.31,2, -999.000,9, -999.000,9,   -999.0,9,  -999.00,9,   -999.0,9,   -999.0,9,   -999.0,9,     7.77,2, -999.00,  -999.0, -999.00,  -999.0
    31DSCG96_1,  P15S,    68,  1,    126,   1025,2,19960128,0917,-49.5042,-170.0147, 5200,   -999,    289.3,   7.5522,  34.4301,2,  34.4303,2,    256.4,2,  7.5240,    259.7,2,     6.07,2,    19.03,2,     0.01,2,     1.33,2, -999.000,9, -999.000,9,   -999.0,9,  -999.00,9,   2119.0,2,    681.6,2,   2283.2,2,     7.78,2, -999.00,  -999.0, -999.00,  -999.0
    31DSCG96_1,  P15S,    68,  1,    125,   1233,2,19960128,0917,-49.5042,-170.0147, 5200,   -999,    375.9,   7.3942,  34.4294,2,  34.4288,2,    253.4,2,  7.3578,    254.2,2,     7.30,2,    20.06,2,     0.01,2,     1.39,2, -999.000,9, -999.000,9,   -999.0,9,  -999.00,9,   -999.0,9,   -999.0,9,   -999.0,9,     7.77,3, -999.00,  -999.0, -999.00,  -999.0
    31DSCG96_1,  P15S,    68,  1,    124,   1218,2,19960128,0917,-49.5042,-170.0147, 5200,   -999,    473.4,   7.0504,  34.3975,2,  34.3977,2,    257.5,2,  7.0054,    256.9,2,     8.25,2,    20.85,2,     0.01,2,     1.45,2, -999.000,9, -999.000,9,   -999.0,9,  -999.00,9,   2127.6,2,    706.9,2,   2286.6,2,     7.76,3, -999.00,  -999.0, -999.00,  -999.0
    31DSCG96_1,  P15S,    68,  1,    123,   1250,2,19960128,0917,-49.5042,-170.0147, 5200,   -999,    580.5,   6.6851,  34.3693,2,  34.3687,2,    250.0,2,  6.6312,    252.0,6,    10.17,2,    22.06,2,     0.00,2,     1.54,2, -999.000,9, -999.000,9,   -999.0,9,  -999.00,9,   -999.0,9,   -999.0,9,   -999.0,9,     7.75,2, -999.00,  -999.0, -999.00,  -999.0
    31DSCG96_1,  P15S,    68,  1,    122,   1109,2,19960128,0917,-49.5042,-170.0147, 5200,   -999,    676.4,   6.1827,  34.3288,2,  34.3286,2,    240.2,2,  6.1220,    246.2,2,    12.63,2,    23.85,2,     0.00,2,     1.65,2, -999.000,9, -999.000,9,   -999.0,9,  -999.00,9,   -999.0,9,   -999.0,9,   -999.0,9,     7.73,2, -999.00,  -999.0, -999.00,  -999.0
    31DSCG96_1,  P15S,    68,  1,    121,   1246,2,19960128,0917,-49.5042,-170.0147, 5200,   -999,    776.1,   5.5498,  34.2956,2,  34.2939,2,    240.2,2,  5.4834,    238.2,2,    16.70,2,    26.00,2,     0.00,2,     1.79,2, -999.000,9, -999.000,9,   -999.0,9,  -999.00,9,   2154.4,2,   -999.0,9,   2288.5,2,     7.70,2, -999.00,  -999.0, -999.00,  -999.0
    31DSCG96_1,  P15S,    68,  1,    120,   1015,2,19960128,0917,-49.5042,-170.0147, 5200,   -999,    874.4,   5.3481,  34.3443,2,  34.3439,2,    222.1,2,  5.2739,    215.8,2,    23.41,2,    28.01,2,     0.00,2,     1.92,2, -999.000,9, -999.000,9,   -999.0,9,  -999.00,9,   -999.0,9,   -999.0,9,   -999.0,9,     7.67,2, -999.00,  -999.0, -999.00,  -999.0
    31DSCG96_1,  P15S,    68,  1,    119,   1247,2,19960128,0917,-49.5042,-170.0147, 5200,   -999,    974.1,   4.4957,  34.2994,2,  34.2987,2,    208.6,2,  4.4188,    221.0,2,    27.57,2,    29.60,2,     0.00,2,     2.03,2, -999.000,9, -999.000,9,   -999.0,9,  -999.00,9,   2180.4,2,    951.3,2,   2297.1,2,     7.65,2, -999.00,  -999.0, -999.00,  -999.0
    31DSCG96_1,  P15S,    68,  1,    118,   1222,2,19960128,0917,-49.5042,-170.0147, 5200,   -999,   1077.9,   4.1692,  34.3292,2,  34.3300,2,    208.4,2,  4.0859,    209.3,2,    34.57,2,    30.92,2,     0.00,2,     2.12,2, -999.000,9, -999.000,9,   -999.0,9,  -999.00,9,   -999.0,9,   -999.0,9,   -999.0,9,     7.63,2, -999.00,  -999.0, -999.00,  -999.0
    31DSCG96_1,  P15S,    68,  1,    117,   1267,2,19960128,0917,-49.5042,-170.0147, 5200,   -999,   1209.8,   3.5411,  34.3504,2,  34.3495,2,    198.3,2,  3.4522,    203.5,2,    43.57,2,    32.42,2,     0.00,2,     2.23,2, -999.000,9, -999.000,9,   -999.0,9,  -999.00,9,   2207.8,2,   -999.0,9,   2309.3,2,     7.61,2, -999.00,  -999.0, -999.00,  -999.0
    31DSCG96_1,  P15S,    68,  1,    116,   1211,2,19960128,0917,-49.5042,-170.0147, 5200,   -999,   1436.0,   2.9487,  34.4388,2,  34.4387,2,    186.2,2,  2.8470,    185.6,2,    59.63,2,    33.95,2,     0.00,2,     2.33,2, -999.000,9, -999.000,9,   -999.0,9,  -999.00,9,   -999.0,9,   -999.0,9,   -999.0,9,     7.58,2, -999.00,  -999.0, -999.00,  -999.0
    31DSCG96_1,  P15S,    68,  1,    115,   1041,2,19960128,0917,-49.5042,-170.0147, 5200,   -999,   1687.4,   2.6222,  34.5494,2,  34.5490,2,    173.6,2,  2.5034,    173.4,6,    73.55,2,    34.33,2,     0.00,2,     2.35,2, -999.000,9, -999.000,9,   -999.0,9,  -999.00,9,   2250.3,2,   -999.0,9,   2340.4,2,     7.57,2, -999.00,  -999.0, -999.00,  -999.0
    31DSCG96_1,  P15S,    68,  1,    114,   1017,2,19960128,0917,-49.5042,-170.0147, 5200,   -999,   1941.9,   2.4375,  34.6230,2,  34.6236,2,    172.2,2,  2.2994,    171.5,2,    81.61,2,    33.78,2,     0.00,2,     2.32,2, -999.000,9, -999.000,9,   -999.0,9,  -999.00,9,   -999.0,9,   -999.0,9,   -999.0,9,     7.57,2, -999.00,  -999.0, -999.00,  -999.0
    31DSCG96_1,  P15S,    68,  1,    113,   1302,2,19960128,0917,-49.5042,-170.0147, 5200,   -999,   2193.1,   2.2761,  34.6811,2,  34.6801,2,    178.2,2,  2.1184,    177.9,2,    83.34,2,    32.73,2,     0.00,2,     2.24,2, -999.000,9, -999.000,9,   -999.0,9,  -999.00,9,   2250.9,2,   1145.7,2,   2351.4,2,     7.58,2, -999.00,  -999.0, -999.00,  -999.0
    31DSCG96_1,  P15S,    68,  1,    112,   1217,2,19960128,0917,-49.5042,-170.0147, 5200,   -999,   2442.1,   2.1385,  34.7133,2,  34.7124,2,    184.1,2,  1.9607,    184.0,2,    86.10,2,    31.94,2,     0.00,2,     2.18,2,    0.063,2,    0.029,2,   -999.0,9,  -999.00,9,   -999.0,9,   -999.0,9,   -999.0,9,     7.60,3, -999.00,  -999.0, -999.00,  -999.0
    31DSCG96_1,  P15S,    68,  1,    111,   1114,2,19960128,0917,-49.5042,-170.0147, 5200,   -999,   2699.6,   1.9900,  34.7306,2,  34.7303,2,    189.9,2,  1.7911,    189.3,2,    89.50,2,    31.37,2,     0.00,2,     2.15,2, -999.000,9, -999.000,9,   -999.0,9,  -999.00,9,   2253.1,2,   -999.0,9,   2355.9,2,     7.61,2, -999.00,  -999.0, -999.00,  -999.0
    31DSCG96_1,  P15S,    68,  1,    110,   1301,2,19960128,0917,-49.5042,-170.0147, 5200,   -999,   2942.5,   1.8117,  34.7369,2,  34.7376,2,    194.0,2,  1.5933,    193.5,2,    94.58,2,    31.32,2,     0.00,2,     2.14,2,    0.036,2,    0.026,2,   -999.0,9,  -999.00,9,   -999.0,9,   -999.0,9,   -999.0,9,     7.61,2, -999.00,  -999.0, -999.00,  -999.0
    31DSCG96_1,  P15S,    68,  1,    109,   1242,2,19960128,0917,-49.5042,-170.0147, 5200,   -999,   3188.9,   1.6289,  34.7354,2,  34.7346,2,    197.3,2,  1.3905,    196.8,2,   100.05,2,    31.40,2,     0.00,2,     2.14,2, -999.000,9, -999.000,9,   -999.0,9,  -999.00,9,   2253.8,2,   1076.3,2,   2358.9,2,     7.61,3, -999.00,  -999.0, -999.00,  -999.0
    31DSCG96_1,  P15S,    68,  1,    108,   1263,2,19960128,0917,-49.5042,-170.0147, 5200,   -999,   3440.8,   1.4457,  34.7304,2,  34.7304,2,    200.3,2,  1.1866,    199.3,2,   105.61,2,    31.64,2,     0.00,2,     2.16,2,    0.029,2,    0.015,2,   -999.0,9,  -999.00,9,   -999.0,9,   -999.0,9,   -999.0,9,     7.61,2, -999.00,  -999.0, -999.00,  -999.0
    31DSCG96_1,  P15S,    68,  1,    107,   1245,2,19960128,0917,-49.5042,-170.0147, 5200,   -999,   3690.1,   1.2886,  34.7243,2,  34.7250,2,    202.5,2,  1.0081,    201.9,6,   110.38,2,    31.87,2,     0.00,2,     2.17,2, -999.000,9, -999.000,9,   -999.0,9,  -999.00,9,   2255.9,2,   -999.0,9,   2364.4,2,     7.61,2, -999.00,  -999.0, -999.00,  -999.0
    31DSCG96_1,  P15S,    68,  1,    106,   1262,2,19960128,0917,-49.5042,-170.0147, 5200,   -999,   3939.0,   1.1374,  34.7178,2,  34.7174,2,    205.1,2,  0.8349,    205.1,2,   114.85,2,    32.07,2,     0.00,2,     2.18,2,    0.038,2,    0.023,2,   -999.0,9,  -999.00,9,   -999.0,9,   -999.0,9,   -999.0,9,     7.61,2, -999.00,  -999.0, -999.00,  -999.0
    31DSCG96_1,  P15S,    68,  1,    105,   1113,2,19960128,0917,-49.5042,-170.0147, 5200,   -999,   4189.3,   1.0300,  34.7127,2,  34.7113,2,    207.5,2,  0.7039,    207.1,2,   118.43,2,    32.20,2,     0.00,2,     2.19,2, -999.000,9, -999.000,9,   -999.0,9,  -999.00,9,   -999.0,9,   -999.0,9,   -999.0,9,     7.61,2, -999.00,  -999.0, -999.00,  -999.0
    31DSCG96_1,  P15S,    68,  1,    104,   1003,2,19960128,0917,-49.5042,-170.0147, 5200,   -999,   4438.1,   0.9590,  34.7088,2,  34.7085,2,    208.7,2,  0.6076,    207.5,2,   121.08,2,    32.27,2,     0.00,2,     2.20,2,    0.051,2,    0.031,2,   -999.0,9,  -999.00,9,   2257.7,2,   1099.3,2,   2365.0,2,     7.61,2, -999.00,  -999.0, -999.00,  -999.0
    31DSCG96_1,  P15S,    68,  1,    103,    412,2,19960128,0917,-49.5042,-170.0147, 5200,   -999,   4872.7,   0.9413,  34.7061,2,  34.7052,2,    210.1,2,  0.5408,   -999.0,9,   123.08,2,    32.31,2,     0.00,2,     2.20,2, -999.000,9, -999.000,9,   -999.0,9,  -999.00,9,   -999.0,9,   -999.0,9,   -999.0,9,  -999.00,9, -999.00,  -999.0, -999.00,  -999.0
    31DSCG96_1,  P15S,    68,  1,    102,   1030,2,19960128,0917,-49.5042,-170.0147, 5200,   -999,   4874.7,   0.9412,  34.7059,2,  34.7052,2,    209.8,2,  0.5404,    209.9,2,   122.93,2,    32.34,2,     0.00,2,     2.20,2,    0.068,6,    0.037,6,   -999.0,9,  -999.00,9,   -999.0,9,   -999.0,9,   -999.0,9,     7.61,2, -999.00,  -999.0, -999.00,  -999.0
    31DSCG96_1,  P15S,    68,  1,    101,   1022,3,19960128,0917,-49.5042,-170.0147, 5200,   -999,   5334.9,   0.9741,  34.7045,2,  34.7042,2,    210.0,2,  0.5170,    212.2,2,   123.75,6,    32.38,6,     0.00,6,     2.21,6, -999.000,5, -999.000,5,   -999.0,9,  -999.00,9,   2260.9,2,   -999.0,9,   2367.0,2,     7.61,2, -999.00,  -999.0, -999.00,  -999.0