BOTTLE,20220811CCHSIOAMB
EXPOCODE,SECT_ID,STNNBR,CASTNO,SAMPNO,BTLNBR,BTLNBR_FLAG_W,DATE,TIME,LATITUDE,LONGITUDE,DEPTH,CTDRAW,CTDPRS,CTDTMP,CTDSAL,CTDSAL_FLAG_W,SALNTY,SALNTY_FLAG_W,CTDOXY,CTDOXY_FLAG_W,THETA,OXYGEN,OXYGEN_FLAG_W,SILCAT,SILCAT_FLAG_W,NITRAT,NITRAT_FLAG_W,NITRIT,NITRIT_FLAG_W,PHSPHT,PHSPHT_FLAG_W,CFC-11,CFC-11_FLAG_W,CFC-12,CFC-12_FLAG_W,DELC14,DELC14_FLAG_W,DELC13,DELC13_FLAG_W,TCARBN,TCARBN_FLAG_W,PCO2,PCO2_FLAG_W,ALKALI,ALKALI_FLAG_W,PH,PH_FLAG_W,PCO2TMP,C14ERR,PH_TMP,C13ERR
,,,,,,,,,,,,DBAR,DBAR,ITS-90,PSS-78,,PSS-78,,UMOL/KG,,DEG C,UMOL/KG,,UMOL/KG,,UMOL/KG,,UMOL/KG,,UMOL/KG,,PMOL/KG,,PMOL/KG,,/MILLE,,/MILLE,,UMOL/KG,,UATM,,UMOL/KG,,,,DEG C,/MILLE,DEG C,/MILLE
    31DSCG96_1,  P15S,    55,  1,    134,   1119,2,19960124,2050,-55.4982,-170.0000, 4950,   -999,     10.1,   6.6797,  34.0785,2,  34.0800,2,    309.4,2,  6.6788,    306.1,2,     3.32,2,    20.03,2,     0.17,2,     1.38,2, -999.000,9, -999.000,9,     -8.7,2,  -999.00,9,   2102.8,2,    610.7,6,   2283.3,2,     7.81,2, -999.00,     3.3, -999.00,  -999.0
    31DSCG96_1,  P15S,    55,  1,    133,   1221,4,19960124,2050,-55.4982,-170.0000, 4950,   -999,     31.3,   6.6626,  34.0790,2,-999.0000,9,    304.3,2,  6.6598,   -999.0,9,  -999.00,9,  -999.00,9,  -999.00,9,  -999.00,9, -999.000,9, -999.000,9,   -999.0,9,  -999.00,9,   -999.0,9,   -999.0,9,   -999.0,9,  -999.00,9, -999.00,  -999.0, -999.00,  -999.0
    31DSCG96_1,  P15S,    55,  1,    132,   1039,2,19960124,2050,-55.4982,-170.0000, 4950,   -999,     54.1,   6.4732,  34.0816,2,  34.0900,2,    304.1,2,  6.4685,    305.7,2,     3.20,2,    20.15,2,     0.17,2,     1.41,2, -999.000,9, -999.000,9,   -999.0,9,  -999.00,9,   -999.0,9,   -999.0,9,   -999.0,9,     7.80,2, -999.00,  -999.0, -999.00,  -999.0
    31DSCG96_1,  P15S,    55,  1,    131,   1014,2,19960124,2050,-55.4982,-170.0000, 4950,   -999,     81.5,   5.7740,  34.1069,2,  34.1129,2,    301.9,2,  5.7673,    301.8,2,     5.74,2,    20.73,2,     0.18,2,     1.48,2, -999.000,9, -999.000,9,   -999.0,9,  -999.00,9,   2113.5,2,    658.0,2,   2284.0,2,     7.79,2, -999.00,  -999.0, -999.00,  -999.0
    31DSCG96_1,  P15S,    55,  1,    130,   1257,2,19960124,2050,-55.4982,-170.0000, 4950,   -999,    113.8,   4.6447,  34.1162,2,  34.1162,2,    288.1,2,  4.6364,    303.1,2,     8.22,2,    22.14,2,     0.34,2,     1.54,2, -999.000,9, -999.000,9,   -999.0,9,  -999.00,9,   -999.0,9,   -999.0,9,   -999.0,9,     7.76,2, -999.00,  -999.0, -999.00,  -999.0
    31DSCG96_1,  P15S,    55,  1,    129,   1256,2,19960124,2050,-55.4982,-170.0000, 4950,   -999,    164.9,   4.6039,  34.1389,2,  34.1406,2,    296.6,2,  4.5918,    298.0,2,     9.13,2,    23.11,2,     0.02,2,     1.57,2, -999.000,9, -999.000,9,   -999.0,9,  -999.00,9,   2128.4,2,    715.2,2,   2283.4,2,     7.75,2, -999.00,  -999.0, -999.00,  -999.0
    31DSCG96_1,  P15S,    55,  1,    128,   1007,2,19960124,2050,-55.4982,-170.0000, 4950,   -999,    216.7,   4.4129,  34.1390,2,  34.1335,2,    297.1,2,  4.3972,    296.0,2,    10.30,2,    23.85,2,     0.01,2,     1.62,2, -999.000,9, -999.000,9,   -999.0,9,  -999.00,9,   -999.0,9,   -999.0,9,   -999.0,9,     7.74,2, -999.00,  -999.0, -999.00,  -999.0
    31DSCG96_1,  P15S,    55,  1,    127,   1234,2,19960124,2050,-55.4982,-170.0000, 4950,   -999,    261.9,   4.1346,  34.1177,2,  34.1181,2,    297.1,2,  4.1162,    295.6,2,    11.16,2,    24.47,2,     0.01,2,     1.66,2, -999.000,9, -999.000,9,   -999.0,9,  -999.00,9,   2134.7,2,    755.5,2,   2285.1,2,     7.74,2, -999.00,  -999.0, -999.00,  -999.0
    31DSCG96_1,  P15S,    55,  1,    126,   1025,2,19960124,2050,-55.4982,-170.0000, 4950,   -999,    326.2,   3.8841,  34.1113,2,  34.1113,2,    296.6,2,  3.8616,    291.8,2,    12.65,2,    25.15,2,     0.01,2,     1.71,2, -999.000,9, -999.000,9,   -999.0,9,  -999.00,9,   -999.0,9,   -999.0,9,   -999.0,9,  -999.00,9, -999.00,  -999.0, -999.00,  -999.0
    31DSCG96_1,  P15S,    55,  1,    125,   1233,2,19960124,2050,-55.4982,-170.0000, 4950,   -999,    422.7,   3.6937,  34.1478,2,  34.1493,2,    255.5,2,  3.6648,    262.8,2,    19.16,2,    27.84,2,     0.00,2,     1.89,2, -999.000,9, -999.000,9,   -999.0,9,  -999.00,9,   2159.0,2,    866.8,2,   2289.2,2,     7.68,3, -999.00,  -999.0, -999.00,  -999.0
    31DSCG96_1,  P15S,    55,  1,    124,   1218,2,19960124,2050,-55.4982,-170.0000, 4950,   -999,    524.5,   3.6873,  34.2504,2,  34.2519,2,    227.5,2,  3.6511,    226.8,2,    30.42,2,    30.67,2,     0.00,2,     2.08,2, -999.000,9, -999.000,9,   -999.0,9,  -999.00,9,   -999.0,9,   -999.0,9,   -999.0,9,     7.64,2, -999.00,  -999.0, -999.00,  -999.0
    31DSCG96_1,  P15S,    55,  1,    123,   1250,2,19960124,2050,-55.4982,-170.0000, 4950,   -999,    624.2,   3.3081,  34.3008,2,  34.3010,2,    216.2,2,  3.2663,    213.0,2,    39.49,2,    32.11,2,     0.00,2,     2.19,2, -999.000,9, -999.000,9,   -999.0,9,  -999.00,9,   2201.7,2,   1053.9,2,   2307.1,2,     7.61,2, -999.00,  -999.0, -999.00,  -999.0
    31DSCG96_1,  P15S,    55,  1,    122,   1109,2,19960124,2050,-55.4982,-170.0000, 4950,   -999,    731.3,   3.0080,  34.3388,2,  34.3384,2,    205.0,2,  2.9600,    203.5,2,    46.69,2,    33.15,2,     0.00,2,     2.26,2, -999.000,9, -999.000,9,   -999.0,9,  -999.00,9,   -999.0,9,   -999.0,9,   -999.0,9,     7.59,2, -999.00,  -999.0, -999.00,  -999.0
    31DSCG96_1,  P15S,    55,  1,    121,   1246,2,19960124,2050,-55.4982,-170.0000, 4950,   -999,    828.0,   2.8376,  34.3994,2,  34.3977,2,    195.4,2,  2.7837,    192.6,2,    54.60,2,    33.76,2,     0.00,2,     2.31,2, -999.000,9, -999.000,9,   -999.0,9,  -999.00,9,   2225.5,2,   1147.0,2,   2320.5,2,     7.58,2, -999.00,  -999.0, -999.00,  -999.0
    31DSCG96_1,  P15S,    55,  1,    120,   1015,2,19960124,2050,-55.4982,-170.0000, 4950,   -999,    923.9,   2.7162,  34.4467,2,  34.4460,2,    185.6,2,  2.6561,    184.7,2,    60.66,2,    34.10,2,     0.00,2,     2.33,2, -999.000,9, -999.000,9,   -999.0,9,  -999.00,9,   -999.0,9,   -999.0,9,   -999.0,9,     7.57,2, -999.00,  -999.0, -999.00,  -999.0
    31DSCG96_1,  P15S,    55,  1,    119,   1247,2,19960124,2050,-55.4982,-170.0000, 4950,   -999,   1025.2,   2.6066,  34.4927,2,  34.4934,2,    180.0,2,  2.5399,    180.1,2,    65.75,2,    34.23,2,     0.00,2,     2.34,2, -999.000,9, -999.000,9,   -999.0,9,  -999.00,9,   2240.2,2,   1184.9,2,   2332.9,2,     7.57,2, -999.00,  -999.0, -999.00,  -999.0
    31DSCG96_1,  P15S,    55,  1,    118,   1222,2,19960124,2050,-55.4982,-170.0000, 4950,   -999,   1140.3,   2.4937,  34.5454,2,  34.5453,2,    176.2,2,  2.4194,    175.3,2,    70.44,2,    34.10,2,     0.00,2,     2.33,2, -999.000,9, -999.000,9,   -999.0,9,  -999.00,9,   -999.0,9,   -999.0,9,   -999.0,9,     7.56,2, -999.00,  -999.0, -999.00,  -999.0
    31DSCG96_1,  P15S,    55,  1,    117,   1267,2,19960124,2050,-55.4982,-170.0000, 4950,   -999,   1319.2,   2.3935,  34.6139,2,  34.6144,2,    174.3,2,  2.3066,    175.0,2,    75.16,2,    33.41,2,     0.00,2,     2.28,2, -999.000,9, -999.000,9,   -999.0,9,  -999.00,9,   2249.2,2,   1180.2,2,   2343.0,2,     7.57,2, -999.00,  -999.0, -999.00,  -999.0
    31DSCG96_1,  P15S,    55,  1,    116,   1211,2,19960124,2050,-55.4982,-170.0000, 4950,   -999,   1556.2,   2.2687,  34.6747,2,  34.6747,2,    178.4,2,  2.1646,    178.4,2,    79.79,2,    32.49,2,     0.00,2,     2.21,2, -999.000,9, -999.000,9,   -999.0,9,  -999.00,9,   -999.0,9,   -999.0,9,   -999.0,9,     7.58,2, -999.00,  -999.0, -999.00,  -999.0
    31DSCG96_1,  P15S,    55,  1,    115,   1041,2,19960124,2050,-55.4982,-170.0000, 4950,   -999,   1813.5,   2.1053,  34.7164,2,  34.7170,2,    184.9,2,  1.9824,    184.6,2,    84.29,2,    31.64,2,     0.00,2,     2.14,2, -999.000,9, -999.000,9,   -999.0,9,  -999.00,9,   2249.2,2,   -999.0,9,   2354.3,2,     7.60,2, -999.00,  -999.0, -999.00,  -999.0
    31DSCG96_1,  P15S,    55,  1,    114,   1017,2,19960124,2050,-55.4982,-170.0000, 4950,   -999,   2061.4,   1.9706,  34.7327,2,  34.7345,2,    189.8,2,  1.8291,    189.9,2,    88.06,2,    31.13,2,     0.00,2,     2.12,2, -999.000,9, -999.000,9,   -999.0,9,  -999.00,9,   -999.0,9,   -999.0,9,   -999.0,9,     7.61,2, -999.00,  -999.0, -999.00,  -999.0
    31DSCG96_1,  P15S,    55,  1,    113,   1302,2,19960124,2050,-55.4982,-170.0000, 4950,   -999,   2315.5,   1.7963,  34.7387,2,  34.7396,2,    193.6,2,  1.6358,    193.3,6,    92.95,2,    30.98,2,     0.00,2,     2.11,2, -999.000,9, -999.000,9,   -999.0,9,  -999.00,9,   2250.8,2,   1072.7,2,   2359.2,2,     7.61,2, -999.00,  -999.0, -999.00,  -999.0
    31DSCG96_1,  P15S,    55,  1,    112,   1217,2,19960124,2050,-55.4982,-170.0000, 4950,   -999,   2563.0,   1.5894,  34.7371,2,  34.7367,2,    197.0,2,  1.4108,    196.8,2,    99.18,2,    31.19,2,     0.00,2,     2.12,2, -999.000,9, -999.000,9,   -999.0,9,  -999.00,9,   -999.0,9,   -999.0,9,   -999.0,9,     7.61,2, -999.00,  -999.0, -999.00,  -999.0
    31DSCG96_1,  P15S,    55,  1,    111,   1114,2,19960124,2050,-55.4982,-170.0000, 4950,   -999,   2822.9,   1.4106,  34.7310,2,  34.7312,2,    199.4,2,  1.2120,    199.3,2,   104.47,2,    31.49,2,     0.00,2,     2.13,2, -999.000,9, -999.000,9,   -999.0,9,  -999.00,9,   2254.9,2,   -999.0,9,   2366.1,2,     7.61,2, -999.00,  -999.0, -999.00,  -999.0
    31DSCG96_1,  P15S,    55,  1,    110,   1301,2,19960124,2050,-55.4982,-170.0000, 4950,   -999,   3063.6,   1.2477,  34.7250,2,  34.7250,2,    201.5,2,  1.0302,    201.4,6,   109.65,2,    31.59,2,     0.00,2,     2.15,2, -999.000,9, -999.000,9,   -999.0,9,  -999.00,9,   -999.0,9,   -999.0,9,   -999.0,9,     7.61,2, -999.00,  -999.0, -999.00,  -999.0
    31DSCG96_1,  P15S,    55,  1,    109,   1242,2,19960124,2050,-55.4982,-170.0000, 4950,   -999,   3313.2,   1.1299,  34.7198,2,  34.7195,2,    203.9,2,  0.8912,    203.6,2,   113.15,2,    31.80,2,     0.00,2,     2.16,2, -999.000,9, -999.000,9,   -999.0,9,  -999.00,9,   2257.9,2,   1082.1,2,   2368.2,2,     7.61,2, -999.00,  -999.0, -999.00,  -999.0
    31DSCG96_1,  P15S,    55,  1,    108,   1263,2,19960124,2050,-55.4982,-170.0000, 4950,   -999,   3566.9,   1.0112,  34.7141,2,  34.7146,2,    206.0,2,  0.7505,    206.8,2,   116.62,2,    31.92,2,     0.00,2,     2.16,2, -999.000,9, -999.000,9,   -999.0,9,  -999.00,9,   -999.0,9,   -999.0,9,   -999.0,9,     7.61,2, -999.00,  -999.0, -999.00,  -999.0
    31DSCG96_1,  P15S,    55,  1,    107,   1245,2,19960124,2050,-55.4982,-170.0000, 4950,   -999,   3812.5,   0.9519,  34.7110,2,  34.7118,2,    207.7,2,  0.6678,    207.2,6,   118.81,2,    32.09,2,     0.00,2,     2.17,2, -999.000,9, -999.000,9,   -999.0,9,  -999.00,9,   2258.8,2,   -999.0,9,   2368.1,2,     7.61,2, -999.00,  -999.0, -999.00,  -999.0
    31DSCG96_1,  P15S,    55,  1,    106,   1262,2,19960124,2050,-55.4982,-170.0000, 4950,   -999,   4064.3,   0.8815,  34.7069,2,  34.7069,2,    208.5,2,  0.5731,    208.9,2,   121.66,2,    32.17,2,     0.00,2,     2.18,2, -999.000,9, -999.000,9,   -999.0,9,  -999.00,9,   -999.0,9,   -999.0,9,   -999.0,9,     7.61,2, -999.00,  -999.0, -999.00,  -999.0
    31DSCG96_1,  P15S,    55,  1,    105,   1113,2,19960124,2050,-55.4982,-170.0000, 4950,   -999,   4313.1,   0.8843,  34.7063,2,  34.7082,2,    208.9,2,  0.5490,    209.2,2,   122.51,6,    32.22,6,     0.00,6,     2.17,3, -999.000,9, -999.000,9,   -999.0,9,  -999.00,9,   2260.2,2,   1084.9,2,   2369.4,2,     7.61,2, -999.00,  -999.0, -999.00,  -999.0
    31DSCG96_1,  P15S,    55,  1,    104,   1003,2,19960124,2050,-55.4982,-170.0000, 4950,   -999,   4564.2,   0.8928,  34.7052,2,  34.7043,2,    209.5,2,  0.5293,    209.4,2,   123.14,2,    32.21,2,     0.00,2,     2.18,2, -999.000,9, -999.000,9,   -999.0,9,  -999.00,9,   -999.0,9,   -999.0,9,   -999.0,9,     7.61,2, -999.00,  -999.0, -999.00,  -999.0
    31DSCG96_1,  P15S,    55,  1,    103,   9999,2,19960124,2050,-55.4982,-170.0000, 4950,   -999,   4811.3,   0.9044,  34.7046,2,  34.7044,2,    209.6,2,  0.5123,    209.5,2,   124.17,2,    32.29,2,     0.00,2,     2.18,2, -999.000,9, -999.000,9,   -999.0,9,  -999.00,9,   2260.5,2,   -999.0,9,   2370.0,2,     7.61,2, -999.00,  -999.0, -999.00,  -999.0
    31DSCG96_1,  P15S,    55,  1,    102,   1030,2,19960124,2050,-55.4982,-170.0000, 4950,   -999,   4814.8,   0.9044,  34.7048,2,  34.7046,2,    209.7,2,  0.5119,    209.6,2,   124.20,2,    32.27,2,     0.00,2,     2.18,2, -999.000,9, -999.000,9,   -999.0,9,  -999.00,9,   -999.0,9,   -999.0,9,   -999.0,9,     7.61,2, -999.00,  -999.0, -999.00,  -999.0
    31DSCG96_1,  P15S,    55,  1,    101,   1022,2,19960124,2050,-55.4982,-170.0000, 4950,   -999,   5047.2,   0.9317,  34.7044,2,  34.7041,2,    209.6,2,  0.5109,    210.2,2,   124.11,6,    32.26,6,     0.00,6,     2.19,6, -999.000,9, -999.000,9,   -999.0,9,  -999.00,9,   2260.3,2,   1095.1,2,   2367.2,2,     7.61,2, -999.00,  -999.0, -999.00,  -999.0