BOTTLE,20220811CCHSIOAMB
EXPOCODE,SECT_ID,STNNBR,CASTNO,SAMPNO,BTLNBR,BTLNBR_FLAG_W,DATE,TIME,LATITUDE,LONGITUDE,DEPTH,CTDRAW,CTDPRS,CTDTMP,CTDSAL,CTDSAL_FLAG_W,SALNTY,SALNTY_FLAG_W,CTDOXY,CTDOXY_FLAG_W,THETA,OXYGEN,OXYGEN_FLAG_W,SILCAT,SILCAT_FLAG_W,NITRAT,NITRAT_FLAG_W,NITRIT,NITRIT_FLAG_W,PHSPHT,PHSPHT_FLAG_W,CFC-11,CFC-11_FLAG_W,CFC-12,CFC-12_FLAG_W,DELC14,DELC14_FLAG_W,DELC13,DELC13_FLAG_W,TCARBN,TCARBN_FLAG_W,PCO2,PCO2_FLAG_W,ALKALI,ALKALI_FLAG_W,PH,PH_FLAG_W,PCO2TMP,C14ERR,PH_TMP,C13ERR
,,,,,,,,,,,,DBAR,DBAR,ITS-90,PSS-78,,PSS-78,,UMOL/KG,,DEG C,UMOL/KG,,UMOL/KG,,UMOL/KG,,UMOL/KG,,UMOL/KG,,PMOL/KG,,PMOL/KG,,/MILLE,,/MILLE,,UMOL/KG,,UATM,,UMOL/KG,,,,DEG C,/MILLE,DEG C,/MILLE
    31DSCG96_1,  P15S,    90,  1,    133,   1221,2,19960202,0520,-41.7125,-173.9423, 3130,   -999,     10.6,  19.0868,  35.3600,2,-999.0000,5,    236.2,2, 19.0849,    236.1,2,     1.28,2,     0.39,3,     0.00,2,     0.05,2, -999.000,9, -999.000,9,   -999.0,9,     1.83,2,   2031.8,2,    346.2,2,   2328.3,2,     8.02,2, -999.00,  -999.0, -999.00,  -999.0
    31DSCG96_1,  P15S,    90,  1,    132,   1039,2,19960202,0520,-41.7125,-173.9423, 3130,   -999,     20.2,  18.7878,  35.3556,2,  35.3539,2,    237.4,2, 18.7842,    238.3,2,     1.13,2,     0.38,3,     0.00,2,     0.06,2, -999.000,9, -999.000,9,     68.2,2,     1.83,2,   2034.9,2,    345.8,2,   2328.4,2,     8.02,2, -999.00,     3.4, -999.00,  -999.0
    31DSCG96_1,  P15S,    90,  1,    131,   1014,2,19960202,0520,-41.7125,-173.9423, 3130,   -999,     45.2,  15.6204,  35.4015,2,  35.3610,3,    253.5,2, 15.6133,    253.7,2,     1.11,2,     0.42,3,     0.02,2,     0.15,2, -999.000,9, -999.000,9,     71.8,2,     1.57,2,   2052.7,2,    375.9,2,   2326.8,2,     7.99,2, -999.00,     3.5, -999.00,  -999.0
    31DSCG96_1,  P15S,    90,  1,    130,   1257,2,19960202,0520,-41.7125,-173.9423, 3130,   -999,     70.2,  15.1335,  35.4557,2,  35.4557,2,    218.2,2, 15.1228,    215.7,2,     2.73,2,     5.83,3,     0.06,2,     0.48,2, -999.000,9, -999.000,9,     90.5,2,     1.12,2,   2085.3,2,    455.8,2,   2330.5,2,     7.92,2, -999.00,     3.3, -999.00,  -999.0
    31DSCG96_1,  P15S,    90,  1,    129,   1256,2,19960202,0520,-41.7125,-173.9423, 3130,   -999,     95.1,  14.7657,  35.4168,2,  35.4183,2,    223.9,2, 14.7515,    222.1,2,     2.88,2,     6.08,3,     0.02,2,     0.47,2, -999.000,9, -999.000,9,     68.9,2,     1.20,2,   2082.2,2,    448.7,2,   2321.0,3,     7.93,2, -999.00,     3.5, -999.00,  -999.0
    31DSCG96_1,  P15S,    90,  1,    128,   1007,2,19960202,0520,-41.7125,-173.9423, 3130,   -999,    120.1,  14.2668,  35.3633,2,  35.3657,2,    221.0,2, 14.2492,    219.3,2,     3.33,2,     7.47,3,     0.01,2,     0.55,2, -999.000,9, -999.000,9,     69.6,2,     1.18,2,   2085.6,2,    473.0,2,   2325.2,2,     7.91,2, -999.00,     3.1, -999.00,  -999.0
    31DSCG96_1,  P15S,    90,  1,    127,   1232,2,19960202,0520,-41.7125,-173.9423, 3130,   -999,    145.7,  13.8268,  35.2960,2,  35.3079,2,    216.3,2, 13.8059,    215.1,2,     3.75,2,     7.85,3,     0.01,2,     0.62,2, -999.000,9, -999.000,9,     72.7,2,     1.18,2,   2090.5,2,    496.1,2,   2325.6,2,     7.90,2, -999.00,     3.5, -999.00,  -999.0
    31DSCG96_1,  P15S,    90,  1,    126,   1025,2,19960202,0520,-41.7125,-173.9423, 3130,   -999,    170.3,  13.3248,  35.2311,2,  35.2335,2,    223.1,2, 13.3009,    218.6,2,     3.94,2,     8.23,3,     0.01,2,     0.64,2, -999.000,9, -999.000,9,     68.4,2,     1.19,2,   2092.0,2,    500.5,2,   2317.9,2,     7.89,2, -999.00,     3.5, -999.00,  -999.0
    31DSCG96_1,  P15S,    90,  1,    125,   1233,2,19960202,0520,-41.7125,-173.9423, 3130,   -999,    195.4,  13.1166,  35.2372,2,  35.2374,2,    235.9,2, 13.0895,    234.8,2,     3.47,2,     6.89,3,     0.01,2,     0.57,2, -999.000,9, -999.000,9,     82.1,2,     1.22,2,   2085.7,2,    483.8,2,   2316.4,2,     7.90,2, -999.00,     3.6, -999.00,  -999.0
    31DSCG96_1,  P15S,    90,  1,    124,   1218,2,19960202,0520,-41.7125,-173.9423, 3130,   -999,    220.2,  12.9701,  35.2251,2,  35.2240,2,    236.7,2, 12.9398,    235.8,2,     3.51,2,     7.58,3,     0.01,2,     0.60,2, -999.000,9, -999.000,9,     61.4,2,     1.22,2,   2087.5,2,    491.8,2,   2317.3,2,     7.89,2, -999.00,     3.1, -999.00,  -999.0
    31DSCG96_1,  P15S,    90,  1,    123,   1250,2,19960202,0520,-41.7125,-173.9423, 3130,   -999,    245.5,  12.8024,  35.1950,2,  35.1965,2,    236.4,2, 12.7688,    236.2,2,     3.62,2,     7.73,3,     0.01,2,     0.63,2, -999.000,9, -999.000,9,     74.0,2,     1.26,2,   2089.6,2,    494.8,2,   2313.6,2,     7.89,2, -999.00,     3.0, -999.00,  -999.0
    31DSCG96_1,  P15S,    90,  1,    122,   1109,2,19960202,0520,-41.7125,-173.9423, 3130,   -999,    291.3,  12.4383,  35.1235,2,  35.1244,2,    237.7,2, 12.3991,    235.1,2,     3.75,2,     8.71,3,     0.01,2,     0.69,2, -999.000,9, -999.000,9,     72.9,2,     1.25,2,   2092.6,3,    507.9,2,   2313.5,2,     7.88,2, -999.00,     3.4, -999.00,  -999.0
    31DSCG96_1,  P15S,    90,  1,    121,   1246,2,19960202,0520,-41.7125,-173.9423, 3130,   -999,    340.6,  11.6606,  34.9934,2,  34.9980,2,    217.2,2, 11.6167,    211.7,2,     5.37,2,    12.82,3,     0.01,2,     0.93,2, -999.000,9, -999.000,9,     57.5,2,     1.15,2,   2110.7,2,    583.7,2,   2307.4,2,     7.83,2, -999.00,     2.9, -999.00,  -999.0
    31DSCG96_1,  P15S,    90,  1,    120,   1015,2,19960202,0520,-41.7125,-173.9423, 3130,   -999,    389.7,  11.1350,  34.9216,2,  34.9221,2,    213.2,2, 11.0862,    204.5,2,     6.41,2,    14.95,3,     0.01,2,     1.07,2, -999.000,9, -999.000,9,     41.5,2,     1.15,2,   2119.6,2,    627.4,2,   2304.0,2,     7.81,2, -999.00,     3.3, -999.00,  -999.0
    31DSCG96_1,  P15S,    90,  1,    119,   1247,2,19960202,0520,-41.7125,-173.9423, 3130,   -999,    441.0,  10.3001,  34.7987,2,  34.7996,2,    208.6,2, 10.2475,    203.6,2,     6.98,2,    16.93,3,     0.00,2,     1.19,2, -999.000,9, -999.000,9,     35.4,2,     1.08,6,   2125.7,2,    674.5,2,   2299.9,2,     7.78,2, -999.00,     3.1, -999.00,  -999.0
    31DSCG96_1,  P15S,    90,  1,    118,   1222,2,19960202,0520,-41.7125,-173.9423, 3130,   -999,    490.5,   9.6209,  34.7211,2,  34.7208,2,    203.0,2,  9.5646,    199.9,2,     7.40,2,    19.06,3,     0.00,2,     1.33,2, -999.000,9, -999.000,9,     29.3,2,  -999.00,9,   2127.4,2,    705.7,2,   2295.8,3,     7.76,2, -999.00,     2.9, -999.00,  -999.0
    31DSCG96_1,  P15S,    90,  1,    117,   1267,2,19960202,0520,-41.7125,-173.9423, 3130,   -999,    541.3,   9.0766,  34.6611,2,  34.6648,3,    201.8,2,  9.0166,    202.2,2,     8.40,2,    20.27,3,     0.00,2,     1.41,2, -999.000,9, -999.000,9,     31.2,2,     1.14,2,   2132.3,2,    726.6,2,   2295.3,3,     7.75,2, -999.00,     3.3, -999.00,  -999.0
    31DSCG96_1,  P15S,    90,  1,    116,   1211,2,19960202,0520,-41.7125,-173.9423, 3130,   -999,    590.8,   8.5226,  34.6023,2,  34.6034,2,    204.2,2,  8.4594,    204.6,2,     9.56,2,    21.41,3,     0.00,2,     1.48,2, -999.000,9, -999.000,9,     20.7,2,     1.16,2,   2140.7,2,   -999.0,9,   2293.9,2,     7.74,2, -999.00,     3.3, -999.00,  -999.0
    31DSCG96_1,  P15S,    90,  1,    115,   1041,2,19960202,0520,-41.7125,-173.9423, 3130,   -999,    675.7,   7.9076,  34.5488,2,  34.5487,2,    206.2,2,  7.8381,    205.0,2,    11.56,2,    22.87,3,     0.00,2,     1.57,2, -999.000,9, -999.000,9,     -7.0,2,     1.17,2,   2146.1,2,    775.8,6,   2293.2,2,     7.73,2, -999.00,     3.2, -999.00,  -999.0
    31DSCG96_1,  P15S,    90,  1,    114,   1017,2,19960202,0520,-41.7125,-173.9423, 3130,   -999,    776.4,   7.2505,  34.4952,2,  34.4961,2,    204.7,2,  7.1738,    204.7,2,    14.33,2,    24.53,3,     0.00,2,     1.68,2, -999.000,9, -999.000,9,    -22.1,2,     1.16,2,   2152.8,2,    802.3,2,   2294.4,2,     7.71,2, -999.00,     3.5, -999.00,  -999.0
    31DSCG96_1,  P15S,    90,  1,    113,   1302,2,19960202,0520,-41.7125,-173.9423, 3130,   -999,    875.7,   6.6120,  34.4444,2,  34.4448,2,    205.4,2,  6.5292,    204.3,2,    17.18,2,    26.07,3,     0.00,2,     1.78,2, -999.000,9, -999.000,9,    -40.5,2,     1.14,2,   2159.3,2,    838.8,2,   2294.3,2,     7.70,2, -999.00,     3.1, -999.00,  -999.0
    31DSCG96_1,  P15S,    90,  1,    112,   1217,2,19960202,0520,-41.7125,-173.9423, 3130,   -999,    974.9,   6.2559,  34.4529,2,  34.4542,2,    196.4,2,  6.1657,    196.2,2,    23.51,2,    27.69,3,     0.00,2,     1.88,2, -999.000,9, -999.000,9,    -66.5,2,     1.06,2,   2168.8,2,    881.1,2,   2300.6,2,     7.68,2, -999.00,     2.8, -999.00,  -999.0
    31DSCG96_1,  P15S,    90,  1,    111,   1114,2,19960202,0520,-41.7125,-173.9423, 3130,   -999,   1073.5,   5.6704,  34.4483,2,  34.4494,2,    188.1,2,  5.5751,    189.6,2,    31.19,2,    29.11,3,     0.00,2,     1.99,2, -999.000,9, -999.000,9,   -102.2,2,     0.96,2,   2183.3,2,    933.6,2,   2306.3,2,     7.66,2, -999.00,     2.5, -999.00,  -999.0
    31DSCG96_1,  P15S,    90,  1,    110,   1301,2,19960202,0520,-41.7125,-173.9423, 3130,   -999,   1214.7,   4.8193,  34.4518,2,  34.4568,3,    179.9,2,  4.7180,    181.3,2,    43.71,2,    31.18,3,     0.00,2,     2.14,2, -999.000,9, -999.000,9,   -114.2,2,     0.83,2,   2204.5,2,   1016.5,2,   2320.2,2,     7.63,2, -999.00,     2.5, -999.00,  -999.0
    31DSCG96_1,  P15S,    90,  1,    109,   1242,2,19960202,0520,-41.7125,-173.9423, 3130,   -999,   1440.8,   3.8328,  34.5135,2,  34.5142,2,    168.5,2,  3.7208,    167.9,2,    67.27,2,    33.26,3,     0.00,2,     2.29,2,    0.062,2,    0.035,2,   -999.0,9,     0.61,2,   2240.0,2,   1087.4,2,   2344.5,2,     7.60,2, -999.00,  -999.0, -999.00,  -999.0
    31DSCG96_1,  P15S,    90,  1,    108,   1263,2,19960202,0520,-41.7125,-173.9423, 3130,   -999,   1690.0,   2.9725,  34.5770,2,  34.5788,2,    159.2,2,  2.8489,    158.6,6,    89.99,2,    34.71,3,     0.00,2,     2.39,2, -999.000,9, -999.000,9,   -174.8,2,     0.47,2,   2271.6,2,   1148.4,2,   -999.0,5,     7.59,2, -999.00,     3.2, -999.00,  -999.0
    31DSCG96_1,  P15S,    90,  1,    107,   1245,2,19960202,0520,-41.7125,-173.9423, 3130,   -999,   1937.7,   2.4929,  34.6151,2,  34.6160,2,    154.2,2,  2.3544,    153.1,2,   104.59,2,    35.54,3,     0.00,2,     2.44,2,    0.009,2,    0.029,4,   -202.1,2,     0.34,2,   2287.7,2,   1186.2,2,   -999.0,5,     7.58,2, -999.00,     2.7, -999.00,  -999.0
    31DSCG96_1,  P15S,    90,  1,    106,   1262,2,19960202,0520,-41.7125,-173.9423, 3130,   -999,   2190.9,   2.2388,  34.6420,2,  34.6421,2,    153.8,2,  2.0820,    153.7,2,   111.11,2,    35.59,3,     0.00,2,     2.44,2, -999.000,9, -999.000,9,   -999.0,9,  -999.00,5,   2294.5,2,   1187.0,2,   -999.0,5,     7.58,2, -999.00,  -999.0, -999.00,  -999.0
    31DSCG96_1,  P15S,    90,  1,    105,   1113,2,19960202,0520,-41.7125,-173.9423, 3130,   -999,   2439.0,   1.9934,  34.6734,2,  34.6743,2,    160.3,2,  1.8187,    161.7,2,   111.50,2,    34.79,3,     0.00,2,     2.38,2,    0.007,2,    0.011,4,   -201.1,2,     0.30,2,   2291.1,2,   1172.9,2,   -999.0,5,     7.58,2, -999.00,     2.7, -999.00,  -999.0
    31DSCG96_1,  P15S,    90,  1,    104,   1003,2,19960202,0520,-41.7125,-173.9423, 3130,   -999,   2690.1,   1.8490,  34.7071,2,  34.7093,2,    176.6,2,  1.6538,    177.4,6,   103.55,2,    33.21,3,     0.00,2,     2.26,2, -999.000,9, -999.000,9,   -179.5,2,     0.39,2,   2272.3,2,   1125.9,2,   -999.0,5,     7.59,2, -999.00,     2.5, -999.00,  -999.0
    31DSCG96_1,  P15S,    90,  1,    102,   1030,2,19960202,0520,-41.7125,-173.9423, 3130,   -999,   2938.0,   1.6243,  34.7267,2,  34.7286,2,    191.0,2,  1.4104,    192.0,2,   102.15,2,    32.25,3,     0.00,2,     2.18,2,    0.013,2,    0.007,2,   -165.1,2,     0.41,2,   2258.4,2,   1097.1,2,   2365.6,2,     7.61,2, -999.00,     3.1, -999.00,  -999.0
    31DSCG96_1,  P15S,    90,  1,    103,    999,2,19960202,0520,-41.7125,-173.9423, 3130,   -999,   2939.1,   1.6239,  34.7270,2,  34.7274,2,    191.1,2,  1.4099,    190.8,2,   102.21,2,    32.23,3,     0.00,2,     2.18,2,    0.012,6,    0.004,6,   -177.7,2,     0.45,2,   2259.0,2,   1081.3,2,   2366.7,2,     7.61,2, -999.00,     2.9, -999.00,  -999.0
    31DSCG96_1,  P15S,    90,  1,    101,   1022,2,19960202,0520,-41.7125,-173.9423, 3130,   -999,   3159.6,   1.4162,  34.7263,2,  34.7278,2,    197.2,2,  1.1856,    196.7,6,   106.67,6,    32.24,3,     0.00,6,     2.17,6,    1.881,4,    3.288,4,   -999.0,5,     0.36,2,   2259.2,2,   1090.4,2,   2366.6,2,     7.61,2, -999.00,  -999.0, -999.00,  -999.0