BOTTLE,20220811CCHSIOAMB
EXPOCODE,SECT_ID,STNNBR,CASTNO,SAMPNO,BTLNBR,BTLNBR_FLAG_W,DATE,TIME,LATITUDE,LONGITUDE,DEPTH,CTDRAW,CTDPRS,CTDTMP,CTDSAL,CTDSAL_FLAG_W,SALNTY,SALNTY_FLAG_W,CTDOXY,CTDOXY_FLAG_W,THETA,OXYGEN,OXYGEN_FLAG_W,SILCAT,SILCAT_FLAG_W,NITRAT,NITRAT_FLAG_W,NITRIT,NITRIT_FLAG_W,PHSPHT,PHSPHT_FLAG_W,CFC-11,CFC-11_FLAG_W,CFC-12,CFC-12_FLAG_W,DELC14,DELC14_FLAG_W,DELC13,DELC13_FLAG_W,TCARBN,TCARBN_FLAG_W,PCO2,PCO2_FLAG_W,ALKALI,ALKALI_FLAG_W,PH,PH_FLAG_W,PCO2TMP,C14ERR,PH_TMP,C13ERR
,,,,,,,,,,,,DBAR,DBAR,ITS-90,PSS-78,,PSS-78,,UMOL/KG,,DEG C,UMOL/KG,,UMOL/KG,,UMOL/KG,,UMOL/KG,,UMOL/KG,,PMOL/KG,,PMOL/KG,,/MILLE,,/MILLE,,UMOL/KG,,UATM,,UMOL/KG,,,,DEG C,/MILLE,DEG C,/MILLE
    31DSCG96_1,  P14S,    18,  1,    134,   1224,2,19960112,1344,-58.9968, 174.0005, 5110,   -999,     10.5,   5.2602,  34.0178,2,  34.0205,2,    309.2,2,  5.2594,    310.1,2,     3.15,2,    21.32,2,     0.24,2,     1.44,2,    4.904,6,    2.470,6,   -999.0,9,  -999.00,9,   2112.7,2,    655.4,6,   -999.0,9,     7.79,2, -999.00,  -999.0, -999.00,  -999.0
    31DSCG96_1,  P14S,    18,  1,    133,   1221,4,19960112,1344,-58.9968, 174.0005, 5110,   -999,     19.4,   5.2627,  34.0179,2,-999.0000,5,    309.2,2,  5.2612,   -999.0,9,  -999.00,9,  -999.00,9,  -999.00,9,  -999.00,9, -999.000,9, -999.000,9,   -999.0,9,  -999.00,9,   -999.0,9,   -999.0,9,   -999.0,9,  -999.00,9, -999.00,  -999.0, -999.00,  -999.0
    31DSCG96_1,  P14S,    18,  1,    132,   1039,2,19960112,1344,-58.9968, 174.0005, 5110,   -999,     46.0,   5.2684,  34.0179,2,  34.0182,2,    308.9,2,  5.2648,    309.8,2,     3.18,2,    21.31,2,     0.24,2,     1.44,2, -999.000,9, -999.000,9,   -999.0,9,  -999.00,9,   -999.0,9,   -999.0,9,   -999.0,9,     7.79,2, -999.00,  -999.0, -999.00,  -999.0
    31DSCG96_1,  P14S,    18,  1,    131,   1042,2,19960112,1344,-58.9968, 174.0005, 5110,   -999,     70.8,   5.2512,  34.0183,2,  34.0175,2,    308.5,2,  5.2458,    310.2,2,     3.14,2,    21.29,2,     0.24,2,     1.45,2, -999.000,9, -999.000,9,   -999.0,9,  -999.00,9,   -999.0,9,   -999.0,9,   -999.0,9,     7.79,2, -999.00,  -999.0, -999.00,  -999.0
    31DSCG96_1,  P14S,    18,  1,    130,   1257,2,19960112,1344,-58.9968, 174.0005, 5110,   -999,     96.0,   5.1142,  34.0154,2,  34.0172,2,    307.2,2,  5.1068,    309.4,2,     3.28,2,    21.46,2,     0.24,2,     1.46,2, -999.000,9, -999.000,9,   -999.0,9,  -999.00,9,   -999.0,9,   -999.0,9,   -999.0,9,     7.79,2, -999.00,  -999.0, -999.00,  -999.0
    31DSCG96_1,  P14S,    18,  1,    129,   1256,2,19960112,1344,-58.9968, 174.0005, 5110,   -999,    145.1,   5.0841,  34.0829,2,  34.0528,3,    304.8,2,  5.0729,    300.9,2,     5.69,2,    22.28,2,     0.20,2,     1.54,2,    4.754,2,    2.383,2,   -999.0,9,  -999.00,9,   -999.0,9,   -999.0,9,   -999.0,9,     7.77,2, -999.00,  -999.0, -999.00,  -999.0
    31DSCG96_1,  P14S,    18,  1,    128,   1007,2,19960112,1344,-58.9968, 174.0005, 5110,   -999,    190.2,   5.0621,  34.1422,2,  34.1418,2,    293.7,2,  5.0474,    294.6,2,     8.52,2,    22.32,2,     0.26,2,     1.53,2, -999.000,9, -999.000,9,   -999.0,9,  -999.00,9,   -999.0,9,   -999.0,9,   -999.0,9,     7.76,2, -999.00,  -999.0, -999.00,  -999.0
    31DSCG96_1,  P14S,    18,  1,    127,   1234,2,19960112,1344,-58.9968, 174.0005, 5110,   -999,    237.8,   4.7880,  34.1270,2,  34.1274,2,    287.9,2,  4.7701,    294.6,3,     9.21,2,    22.91,2,     0.22,2,     1.56,2, -999.000,9, -999.000,9,   -999.0,9,  -999.00,9,   -999.0,9,   -999.0,9,   -999.0,9,     7.76,2, -999.00,  -999.0, -999.00,  -999.0
    31DSCG96_1,  P14S,    18,  1,    126,   1025,2,19960112,1344,-58.9968, 174.0005, 5110,   -999,    295.7,   4.5700,  34.1349,2,  34.1319,2,    286.2,2,  4.5481,    286.6,2,    11.36,2,    24.25,2,     0.04,2,     1.63,2, -999.000,9, -999.000,9,   -999.0,9,  -999.00,9,   -999.0,9,   -999.0,9,   -999.0,9,     7.74,2, -999.00,  -999.0, -999.00,  -999.0
    31DSCG96_1,  P14S,    18,  1,    125,   1233,2,19960112,1344,-58.9968, 174.0005, 5110,   -999,    378.3,   4.4863,  34.1783,2,  34.1782,2,    261.5,2,  4.4583,    263.4,2,    16.20,2,    26.37,2,     0.01,2,     1.77,2,    3.732,2,    1.791,2,   -999.0,9,  -999.00,9,   -999.0,9,   -999.0,9,   -999.0,9,     7.70,2, -999.00,  -999.0, -999.00,  -999.0
    31DSCG96_1,  P14S,    18,  1,    124,   1218,2,19960112,1344,-58.9968, 174.0005, 5110,   -999,    476.6,   4.2317,  34.2292,2,  34.2282,2,    244.6,2,  4.1969,    239.6,2,    23.31,2,    28.77,2,     0.01,2,     1.94,2, -999.000,9, -999.000,9,   -999.0,9,  -999.00,9,   -999.0,9,   -999.0,9,   -999.0,9,     7.66,2, -999.00,  -999.0, -999.00,  -999.0
    31DSCG96_1,  P14S,    18,  1,    123,   1250,2,19960112,1344,-58.9968, 174.0005, 5110,   -999,    575.3,   3.4305,  34.2090,2,  34.2078,2,    234.8,2,  3.3917,    241.9,3,    29.11,2,    30.39,2,     0.01,2,     2.05,2, -999.000,9, -999.000,9,   -999.0,9,  -999.00,9,   -999.0,9,   -999.0,9,   -999.0,9,     7.65,2, -999.00,  -999.0, -999.00,  -999.0
    31DSCG96_1,  P14S,    18,  1,    122,   1109,2,19960112,1344,-58.9968, 174.0005, 5110,   -999,    675.2,   3.4522,  34.2944,2,  34.2941,2,    216.2,2,  3.4059,    217.0,2,    37.44,2,    31.80,2,     0.00,2,     2.17,2,    1.884,2,    0.883,2,   -999.0,9,  -999.00,9,   -999.0,9,   -999.0,9,   -999.0,9,     7.62,2, -999.00,  -999.0, -999.00,  -999.0
    31DSCG96_1,  P14S,    18,  1,    121,   1246,2,19960112,1344,-58.9968, 174.0005, 5110,   -999,    770.8,   3.0432,  34.3291,2,  34.3278,2,    208.5,2,  2.9922,    207.5,2,    45.50,2,    32.91,2,     0.00,2,     2.22,2, -999.000,9, -999.000,9,   -999.0,9,  -999.00,9,   -999.0,9,   -999.0,9,   -999.0,9,     7.60,2, -999.00,  -999.0, -999.00,  -999.0
    31DSCG96_1,  P14S,    18,  1,    120,   1209,2,19960112,1344,-58.9968, 174.0005, 5110,   -999,    868.5,   2.8898,  34.3854,2,  34.3840,2,    203.0,2,  2.8326,    195.6,2,    53.00,2,    33.69,2,     0.00,2,     2.28,2, -999.000,9, -999.000,9,   -999.0,9,  -999.00,9,   -999.0,9,   -999.0,9,   -999.0,9,     7.59,2, -999.00,  -999.0, -999.00,  -999.0
    31DSCG96_1,  P14S,    18,  1,    119,   1247,2,19960112,1344,-58.9968, 174.0005, 5110,   -999,    975.7,   2.7145,  34.4331,2,  34.4326,2,    187.0,2,  2.6507,    187.6,2,    59.32,2,    34.16,2,     0.00,2,     2.32,2,    0.865,2,    0.401,2,   -999.0,9,  -999.00,9,   -999.0,9,   -999.0,9,   -999.0,9,  -999.00,9, -999.00,  -999.0, -999.00,  -999.0
    31DSCG96_1,  P14S,    18,  1,    118,   1222,2,19960112,1344,-58.9968, 174.0005, 5110,   -999,   1085.0,   2.5674,  34.4908,2,  34.4905,2,    180.5,2,  2.4967,    179.1,2,    65.73,2,    34.37,2,     0.00,2,     2.33,2, -999.000,9, -999.000,9,   -999.0,9,  -999.00,9,   -999.0,9,   -999.0,9,   -999.0,9,     7.57,2, -999.00,  -999.0, -999.00,  -999.0
    31DSCG96_1,  P14S,    18,  1,    117,   1267,2,19960112,1344,-58.9968, 174.0005, 5110,   -999,   1210.1,   2.4929,  34.5596,2,  34.5592,2,    176.5,2,  2.4134,    175.7,6,    71.40,2,    34.05,2,     0.00,2,     2.31,2,    0.378,2,    0.183,2,   -999.0,9,  -999.00,9,   -999.0,9,   -999.0,9,   -999.0,9,     7.57,2, -999.00,  -999.0, -999.00,  -999.0
    31DSCG96_1,  P14S,    18,  1,    116,   1211,2,19960112,1344,-58.9968, 174.0005, 5110,   -999,   1445.5,   2.3435,  34.6413,2,  34.6401,2,    175.0,2,  2.2474,    175.2,2,    77.16,2,    33.26,2,     0.00,2,     2.25,2, -999.000,9, -999.000,9,   -999.0,9,  -999.00,9,   -999.0,9,   -999.0,9,   -999.0,9,     7.58,2, -999.00,  -999.0, -999.00,  -999.0
    31DSCG96_1,  P14S,    18,  1,    115,   1041,2,19960112,1344,-58.9968, 174.0005, 5110,   -999,   1684.5,   2.2095,  34.6972,2,  34.6964,2,    181.0,2,  2.0958,    181.2,2,    81.80,2,    32.12,2,     0.00,2,     2.17,2,    0.111,2,    0.060,2,   -999.0,9,  -999.00,9,   -999.0,9,   -999.0,9,   -999.0,9,     7.59,2, -999.00,  -999.0, -999.00,  -999.0
    31DSCG96_1,  P14S,    18,  1,    114,   1017,2,19960112,1344,-58.9968, 174.0005, 5110,   -999,   1939.4,   2.0765,  34.7258,2,  34.7247,2,    185.9,2,  1.9436,    186.4,2,    85.21,2,    31.52,2,     0.00,2,     2.12,2, -999.000,9, -999.000,9,   -999.0,9,  -999.00,9,   -999.0,9,   -999.0,9,   -999.0,9,     7.60,2, -999.00,  -999.0, -999.00,  -999.0
    31DSCG96_1,  P14S,    18,  1,    113,   1008,2,19960112,1344,-58.9968, 174.0005, 5110,   -999,   2187.5,   1.9151,  34.7380,2,  34.7363,2,    190.5,2,  1.7637,    191.3,2,    89.83,2,    31.20,2,     0.00,2,     2.10,2,    0.065,2,    0.031,2,   -999.0,9,  -999.00,9,   -999.0,9,   -999.0,9,   -999.0,9,     7.61,2, -999.00,  -999.0, -999.00,  -999.0
    31DSCG96_1,  P14S,    18,  1,    112,   1217,2,19960112,1344,-58.9968, 174.0005, 5110,   -999,   2440.0,   1.7297,  34.7410,2,  34.7401,2,    194.5,2,  1.5594,    195.9,2,    95.54,2,    31.14,2,     0.00,2,     2.10,2, -999.000,9, -999.000,9,   -999.0,9,  -999.00,9,   -999.0,9,   -999.0,9,   -999.0,9,     7.61,2, -999.00,  -999.0, -999.00,  -999.0
    31DSCG96_1,  P14S,    18,  1,    111,   1114,2,19960112,1344,-58.9968, 174.0005, 5110,   -999,   2688.3,   1.5343,  34.7365,2,  34.7350,2,    197.4,2,  1.3454,    197.8,6,   108.26,3,    31.37,2,     0.00,2,     2.12,2,    0.047,2,    0.027,2,   -999.0,9,  -999.00,9,   -999.0,9,   -999.0,9,   -999.0,9,     7.62,2, -999.00,  -999.0, -999.00,  -999.0
    31DSCG96_1,  P14S,    18,  1,    110,   1036,2,19960112,1344,-58.9968, 174.0005, 5110,   -999,   2939.4,   1.3616,  34.7308,2,  34.7287,2,    199.4,2,  1.1532,    199.9,2,  -999.00,5,    31.54,2,     0.00,2,     2.13,2, -999.000,9, -999.000,9,   -999.0,9,  -999.00,9,   -999.0,9,   -999.0,9,   -999.0,9,     7.62,2, -999.00,  -999.0, -999.00,  -999.0
    31DSCG96_1,  P14S,    18,  1,    109,   1216,2,19960112,1344,-58.9968, 174.0005, 5110,   -999,   3189.1,   1.2099,  34.7244,2,  34.7230,2,    202.0,2,  0.9813,    202.2,2,  -999.00,5,    31.86,2,     0.00,2,     2.15,2,    0.056,2,    0.029,2,   -999.0,9,  -999.00,9,   -999.0,9,   -999.0,9,   -999.0,9,     7.61,2, -999.00,  -999.0, -999.00,  -999.0
    31DSCG96_1,  P14S,    18,  1,    108,   1263,2,19960112,1344,-58.9968, 174.0005, 5110,   -999,   3443.3,   1.0807,  34.7185,2,  34.7166,2,    204.2,2,  0.8305,    204.3,2,   116.24,2,    32.00,2,     0.00,2,     2.16,2, -999.000,9, -999.000,9,   -999.0,9,  -999.00,9,   -999.0,9,   -999.0,9,   -999.0,9,     7.61,2, -999.00,  -999.0, -999.00,  -999.0
    31DSCG96_1,  P14S,    18,  1,    107,   1245,2,19960112,1344,-58.9968, 174.0005, 5110,   -999,   3687.7,   0.9947,  34.7139,2,  34.7121,2,    205.9,2,  0.7223,    206.1,2,   119.55,2,    32.10,2,     0.00,2,     2.17,2,    0.064,2,    0.034,2,   -999.0,9,  -999.00,9,   -999.0,9,   -999.0,9,   -999.0,9,     7.60,2, -999.00,  -999.0, -999.00,  -999.0
    31DSCG96_1,  P14S,    18,  1,    106,   1262,2,19960112,1344,-58.9968, 174.0005, 5110,   -999,   3937.1,   0.9228,  34.7104,2,  34.7081,2,    207.7,2,  0.6266,    207.5,2,   121.94,2,    32.22,2,     0.00,2,     2.18,2, -999.000,9, -999.000,9,   -999.0,9,  -999.00,9,   -999.0,9,   -999.0,9,   -999.0,9,     7.61,2, -999.00,  -999.0, -999.00,  -999.0
    31DSCG96_1,  P14S,    18,  1,    105,   1113,2,19960112,1344,-58.9968, 174.0005, 5110,   -999,   4189.5,   0.8652,  34.7069,2,  34.7046,2,    208.6,2,  0.5439,    209.3,6,   124.13,2,    32.30,2,     0.00,2,     2.18,2,    0.102,2,    0.053,2,   -999.0,9,  -999.00,9,   -999.0,9,   -999.0,9,   -999.0,9,     7.61,2, -999.00,  -999.0, -999.00,  -999.0
    31DSCG96_1,  P14S,    18,  1,    104,   1003,2,19960112,1344,-58.9968, 174.0005, 5110,   -999,   4439.7,   0.8498,  34.7052,2,  34.7033,2,    209.2,2,  0.5017,    209.7,2,   125.21,2,    32.36,2,     0.00,2,     2.18,2, -999.000,9, -999.000,9,   -999.0,9,  -999.00,9,   -999.0,9,   -999.0,9,   -999.0,9,     7.61,2, -999.00,  -999.0, -999.00,  -999.0
    31DSCG96_1,  P14S,    18,  1,    102,   1027,2,19960112,1344,-58.9968, 174.0005, 5110,   -999,   4875.8,   0.8642,  34.7038,2,  34.7012,2,    209.5,2,  0.4660,    210.2,2,   126.70,2,    32.38,2,     0.00,2,     2.18,2, -999.000,9, -999.000,9,   -999.0,9,  -999.00,9,   -999.0,9,   -999.0,9,   -999.0,9,     7.61,2, -999.00,  -999.0, -999.00,  -999.0
    31DSCG96_1,  P14S,    18,  1,    103,   9999,3,19960112,1344,-58.9968, 174.0005, 5110,   -999,   4878.1,   0.8645,  34.7037,2,  34.7024,2,    209.8,2,  0.4660,    209.1,2,   126.76,2,    32.37,2,     0.00,2,     2.19,2,    0.126,2,    0.067,2,   -999.0,9,  -999.00,9,   -999.0,9,   -999.0,9,   -999.0,9,     7.62,2, -999.00,  -999.0, -999.00,  -999.0
    31DSCG96_1,  P14S,    18,  1,    101,   1022,2,19960112,1344,-58.9968, 174.0005, 5110,   -999,   5215.2,   0.8944,  34.7031,2,  34.7026,2,    210.3,2,  0.4548,    210.1,2,   126.50,6,    32.38,6,     0.00,6,     2.18,6,    0.140,2,    0.073,2,   -999.0,9,  -999.00,9,   -999.0,9,   -999.0,9,   -999.0,9,     7.61,2, -999.00,  -999.0, -999.00,  -999.0