BOTTLE,20220811CCHSIOAMB
EXPOCODE,SECT_ID,STNNBR,CASTNO,SAMPNO,BTLNBR,BTLNBR_FLAG_W,DATE,TIME,LATITUDE,LONGITUDE,DEPTH,CTDRAW,CTDPRS,CTDTMP,CTDSAL,CTDSAL_FLAG_W,SALNTY,SALNTY_FLAG_W,CTDOXY,CTDOXY_FLAG_W,THETA,OXYGEN,OXYGEN_FLAG_W,SILCAT,SILCAT_FLAG_W,NITRAT,NITRAT_FLAG_W,NITRIT,NITRIT_FLAG_W,PHSPHT,PHSPHT_FLAG_W,CFC-11,CFC-11_FLAG_W,CFC-12,CFC-12_FLAG_W,DELC14,DELC14_FLAG_W,DELC13,DELC13_FLAG_W,TCARBN,TCARBN_FLAG_W,PCO2,PCO2_FLAG_W,ALKALI,ALKALI_FLAG_W,PH,PH_FLAG_W,PCO2TMP,C14ERR,PH_TMP,C13ERR
,,,,,,,,,,,,DBAR,DBAR,ITS-90,PSS-78,,PSS-78,,UMOL/KG,,DEG C,UMOL/KG,,UMOL/KG,,UMOL/KG,,UMOL/KG,,UMOL/KG,,PMOL/KG,,PMOL/KG,,/MILLE,,/MILLE,,UMOL/KG,,UATM,,UMOL/KG,,,,DEG C,/MILLE,DEG C,/MILLE
    31DSCG96_2,  P15S,   170,  1,    134,   1267,2,19960304,2242, -3.9992,-168.7510, 5191,   -999,     43.4,  27.7517,  35.7362,2,  35.7373,2,    199.3,2, 27.7415,    198.8,2,     1.79,2,     2.79,2,     0.11,2,     0.39,2,    1.654,2,    0.920,2,     83.1,2,  -999.00,9,   2014.4,2,    295.8,2,   2354.0,2,     8.08,2, -999.00,     2.9, -999.00,  -999.0
    31DSCG96_2,  P15S,   170,  1,    133,   1021,2,19960304,2242, -3.9992,-168.7510, 5191,   -999,     72.1,  27.5744,  35.6969,2,  35.7037,2,    197.7,2, 27.5576,    198.2,2,     1.87,2,     3.12,2,     0.12,2,     0.42,2, -999.000,9, -999.000,9,   -999.0,9,  -999.00,9,   2017.7,2,    293.8,2,   2350.4,2,     8.07,2, -999.00,  -999.0, -999.00,  -999.0
    31DSCG96_2,  P15S,   170,  1,    132,   1039,2,19960304,2242, -3.9992,-168.7510, 5191,   -999,     96.5,  27.5125,  35.6914,2,  35.6946,2,    196.4,2, 27.4900,    196.1,2,     1.99,2,     3.24,2,     0.17,2,     0.44,2,    1.669,2,    0.941,2,   -999.0,9,  -999.00,9,   2019.7,2,    302.7,2,   2348.6,2,     8.07,2, -999.00,  -999.0, -999.00,  -999.0
    31DSCG96_2,  P15S,   170,  1,    131,   1014,2,19960304,2242, -3.9992,-168.7510, 5191,   -999,    139.4,  27.4136,  35.7189,2,  35.7242,2,    193.4,2, 27.3812,    193.6,2,     1.94,2,     3.07,2,     0.20,2,     0.46,2,    1.693,2,    0.955,2,   -999.0,9,  -999.00,9,   2021.9,2,    300.7,2,   2348.8,2,     8.07,2, -999.00,  -999.0, -999.00,  -999.0
    31DSCG96_2,  P15S,   170,  1,    130,   1257,2,19960304,2242, -3.9992,-168.7510, 5191,   -999,    189.6,  22.0291,  35.9544,2,  35.9711,2,    140.3,2, 21.9914,    149.8,2,     2.58,2,     7.30,2,     0.05,2,     0.74,2,    1.960,2,    1.062,2,   -999.0,9,  -999.00,9,   2104.9,2,    426.0,2,   2367.5,2,     7.95,2, -999.00,  -999.0, -999.00,  -999.0
    31DSCG96_2,  P15S,   170,  1,    129,   1256,2,19960304,2242, -3.9992,-168.7510, 5191,   -999,    241.6,  14.8516,  35.1735,2,  35.1797,2,     77.9,2, 14.8152,     85.7,2,    12.88,2,    21.21,2,     0.01,2,     1.62,2,    1.053,6,    0.554,6,   -999.0,9,  -999.00,9,   2176.8,2,    797.4,2,   2322.9,2,     7.71,2, -999.00,  -999.0, -999.00,  -999.0
    31DSCG96_2,  P15S,   170,  1,    128,   1230,2,19960304,2242, -3.9992,-168.7510, 5191,   -999,    290.8,  11.5471,  34.8670,2,  34.8694,2,     70.0,2, 11.5100,     76.2,2,    20.49,2,    27.20,2,     0.01,2,     1.96,2,    0.457,2,    0.235,2,   -999.0,9,  -999.00,9,   2201.8,2,   1050.5,2,   2308.3,2,     7.61,2, -999.00,  -999.0, -999.00,  -999.0
    31DSCG96_2,  P15S,   170,  1,    127,   1232,2,19960304,2242, -3.9992,-168.7510, 5191,   -999,    375.3,   9.5824,  34.7087,2,  34.7092,2,     90.4,2,  9.5397,   -999.0,9,    26.02,2,    29.49,2,     0.00,2,     2.05,2,    0.267,2,    0.142,2,   -999.0,9,  -999.00,9,   2205.6,2,   1081.5,2,   2307.4,2,     7.60,2, -999.00,  -999.0, -999.00,  -999.0
    31DSCG96_2,  P15S,   170,  1,    126,   1025,2,19960304,2242, -3.9992,-168.7510, 5191,   -999,    475.3,   8.5250,  34.6465,2,  34.6448,2,     64.4,2,  8.4744,     78.5,2,    32.59,2,    33.46,2,     0.00,2,     2.31,2,    0.106,2,    0.056,2,   -999.0,9,  -999.00,9,   2229.6,2,   1260.0,2,   2310.9,2,     7.54,2, -999.00,  -999.0, -999.00,  -999.0
    31DSCG96_2,  P15S,   170,  1,    125,   1119,2,19960304,2242, -3.9992,-168.7510, 5191,   -999,    573.6,   7.4558,  34.6053,2,  34.6018,2,     47.0,2,  7.3990,     44.0,6,    44.91,2,    39.55,2,     0.00,2,     2.75,2,    0.011,2,    0.005,2,   -999.0,9,  -999.00,9,   2267.4,2,   1615.6,2,   2316.2,2,     7.44,2, -999.00,  -999.0, -999.00,  -999.0
    31DSCG96_2,  P15S,   170,  1,    124,   1244,2,19960304,2242, -3.9992,-168.7510, 5191,   -999,    674.9,   6.5970,  34.5711,2,  34.5696,2,     56.6,2,  6.5341,     54.0,2,    52.31,2,    40.23,2,     0.00,2,     2.81,2,    0.003,2,    0.002,2,   -999.0,9,  -999.00,9,   2272.6,2,   1596.2,2,   2322.2,2,     7.44,2, -999.00,  -999.0, -999.00,  -999.0
    31DSCG96_2,  P15S,   170,  1,    123,   1250,2,19960304,2242, -3.9992,-168.7510, 5191,   -999,    777.5,   5.8471,  34.5529,2,  34.5520,2,     72.5,2,  5.7785,     66.2,2,    60.87,2,    40.17,2,     0.00,2,     2.82,2,    0.002,2,    0.002,2,   -999.0,9,  -999.00,9,   2277.4,2,   1562.7,2,   2338.9,3,     7.46,2, -999.00,  -999.0, -999.00,  -999.0
    31DSCG96_2,  P15S,   170,  1,    122,   1265,2,19960304,2242, -3.9992,-168.7510, 5191,   -999,    876.6,   5.1735,  34.5441,2,  34.5434,2,     84.8,2,  5.1000,     82.3,2,    68.97,2,    39.33,2,     0.00,2,     2.77,2,    0.002,2,    0.002,2,   -999.0,9,  -999.00,9,   2278.5,2,   1473.2,2,   2340.2,2,     7.48,2, -999.00,  -999.0, -999.00,  -999.0
    31DSCG96_2,  P15S,   170,  1,    121,   1246,2,19960304,2242, -3.9992,-168.7510, 5191,   -999,    968.1,   4.8149,  34.5467,2,  34.5465,2,     91.5,2,  4.7358,     85.7,2,    75.96,2,    39.37,2,     0.00,2,     2.79,2, -999.000,9, -999.000,9,   -999.0,9,  -999.00,9,   2285.5,2,   1478.4,2,   2349.6,2,     7.48,2, -999.00,  -999.0, -999.00,  -999.0
    31DSCG96_2,  P15S,   170,  1,    120,   1015,2,19960304,2242, -3.9992,-168.7510, 5191,   -999,   1073.8,   4.3745,  34.5452,2,  34.5445,2,    105.8,2,  4.2895,    105.6,2,    79.99,2,    37.77,2,     0.00,2,     2.66,2,    0.003,2,    0.003,2,   -999.0,9,  -999.00,9,   2280.2,2,   1366.8,2,   2355.6,2,     7.52,2, -999.00,  -999.0, -999.00,  -999.0
    31DSCG96_2,  P15S,   170,  1,    119,   1247,2,19960304,2242, -3.9992,-168.7510, 5191,   -999,   1175.9,   3.9621,  34.5580,2,  34.5594,2,    108.2,2,  3.8718,    107.3,6,    89.31,2,    38.10,2,     0.00,2,     2.68,2, -999.000,9, -999.000,9,   -999.0,9,  -999.00,9,   2290.1,2,   1397.3,2,   2366.5,2,     7.52,2, -999.00,  -999.0, -999.00,  -999.0
    31DSCG96_2,  P15S,   170,  1,    118,   1299,2,19960304,2242, -3.9992,-168.7510, 5191,   -999,   1277.2,   3.6832,  34.5689,2,  34.5674,2,    104.6,2,  3.5869,    107.6,2,    95.45,2,    38.23,2,     0.00,2,     2.69,2,    0.006,2,    0.001,2,   -999.0,9,  -999.00,9,   2296.4,2,   1374.3,2,   2369.6,2,     7.52,2, -999.00,  -999.0, -999.00,  -999.0
    31DSCG96_2,  P15S,   170,  1,    117,   1263,2,19960304,2242, -3.9992,-168.7510, 5191,   -999,   1430.1,   3.2791,  34.5871,2,  34.5885,2,    104.0,2,  3.1739,    105.2,2,   107.78,2,    38.81,2,     0.00,2,     2.74,2,    0.002,2,    0.001,2,   -999.0,9,  -999.00,9,   2311.6,2,   1404.5,2,   2384.7,2,     7.51,2, -999.00,  -999.0, -999.00,  -999.0
    31DSCG96_2,  P15S,   170,  1,    116,   1259,2,19960304,2242, -3.9992,-168.7510, 5191,   -999,   1689.7,   2.6767,  34.6155,2,  34.6152,2,    108.7,2,  2.5568,    110.1,2,   122.26,2,    38.74,2,     0.00,2,     2.72,2,   -0.001,2,    0.000,2,   -999.0,9,  -999.00,9,   2323.7,2,   1381.1,2,   2399.4,2,     7.52,2, -999.00,  -999.0, -999.00,  -999.0
    31DSCG96_2,  P15S,   170,  1,    115,   1264,2,19960304,2242, -3.9992,-168.7510, 5191,   -999,   1939.6,   2.3208,  34.6354,2,  34.6359,2,    115.3,2,  2.1847,    116.5,2,   130.97,2,    38.40,2,     0.00,2,     2.69,2,   -0.002,2,    0.000,2,   -999.0,9,  -999.00,9,   2330.5,2,   1352.1,2,   2409.4,2,     7.53,2, -999.00,  -999.0, -999.00,  -999.0
    31DSCG96_2,  P15S,   170,  1,    114,   1017,2,19960304,2242, -3.9992,-168.7510, 5191,   -999,   2189.2,   2.1026,  34.6471,2,  34.6473,2,    122.1,2,  1.9483,    124.2,2,   134.31,2,    37.86,2,     0.00,2,     2.64,2, -999.000,9, -999.000,9,   -999.0,9,  -999.00,9,   2329.2,2,   1311.8,2,   2411.2,2,     7.54,2, -999.00,  -999.0, -999.00,  -999.0
    31DSCG96_2,  P15S,   170,  1,    113,   1035,2,19960304,2242, -3.9992,-168.7510, 5191,   -999,   2442.1,   1.9011,  34.6596,2,  34.6599,2,    129.5,2,  1.7278,    130.5,2,   138.52,2,    37.48,2,     0.00,2,     2.60,2, -999.000,9, -999.000,9,   -999.0,9,  -999.00,9,   2330.8,2,   1280.6,2,   2421.4,2,     7.55,2, -999.00,  -999.0, -999.00,  -999.0
    31DSCG96_2,  P15S,   170,  1,    112,   1217,2,19960304,2242, -3.9992,-168.7510, 5191,   -999,   2691.2,   1.7558,  34.6682,2,  34.6670,2,    134.1,2,  1.5625,    135.2,2,   141.41,2,    37.20,2,     0.00,2,     2.57,2,   -0.002,2,    0.001,2,   -999.0,9,  -999.00,9,   2331.2,2,   1261.0,2,   2420.4,2,     7.56,2, -999.00,  -999.0, -999.00,  -999.0
    31DSCG96_2,  P15S,   170,  1,    111,   1226,2,19960304,2242, -3.9992,-168.7510, 5191,   -999,   2939.4,   1.6598,  34.6749,2,  34.6745,2,    141.3,2,  1.4453,    143.4,6,   140.52,2,    36.68,2,     0.00,2,     2.53,2, -999.000,9, -999.000,9,   -999.0,9,  -999.00,9,   2326.0,2,   1225.2,2,   2419.3,2,     7.57,2, -999.00,  -999.0, -999.00,  -999.0
    31DSCG96_2,  P15S,   170,  1,    110,   1301,2,19960304,2242, -3.9992,-168.7510, 5191,   -999,   3191.5,   1.5794,  34.6800,2,  34.6801,2,    147.0,2,  1.3422,    148.9,2,   140.76,2,    36.32,2,     0.00,2,     2.50,2, -999.000,9, -999.000,9,   -999.0,9,  -999.00,9,   2322.7,2,   1221.1,2,   2416.0,2,     7.58,2, -999.00,  -999.0, -999.00,  -999.0
    31DSCG96_2,  P15S,   170,  1,    109,   1027,2,19960304,2242, -3.9992,-168.7510, 5191,   -999,   3439.6,   1.5196,  34.6841,2,  34.6843,2,    152.2,2,  1.2591,    153.2,2,   141.24,2,    36.00,2,     0.00,2,     2.47,2,    0.001,2,    0.004,2,   -999.0,9,  -999.00,9,   2320.5,2,   1185.2,2,   2417.2,2,     7.58,2, -999.00,  -999.0, -999.00,  -999.0
    31DSCG96_2,  P15S,   170,  1,    108,   1227,2,19960304,2242, -3.9992,-168.7510, 5191,   -999,   3689.7,   1.4849,  34.6878,2,  34.6873,2,    157.0,2,  1.1995,    157.3,2,   140.78,2,    35.73,2,     0.00,2,     2.45,2, -999.000,9, -999.000,9,   -999.0,9,  -999.00,9,   2318.8,2,   1155.8,2,   2420.3,2,     7.59,2, -999.00,  -999.0, -999.00,  -999.0
    31DSCG96_2,  P15S,   170,  1,    107,   1242,2,19960304,2242, -3.9992,-168.7510, 5191,   -999,   3940.8,   1.4464,  34.6909,2,  34.6910,2,    161.1,2,  1.1353,    161.9,2,   139.93,2,    35.45,2,     0.00,2,     2.43,2, -999.000,9, -999.000,9,   -999.0,9,  -999.00,9,   2315.0,2,   1141.8,2,   2418.0,2,     7.59,2, -999.00,  -999.0, -999.00,  -999.0
    31DSCG96_2,  P15S,   170,  1,    106,   1262,2,19960304,2242, -3.9992,-168.7510, 5191,   -999,   4191.7,   1.3799,  34.6953,2,  34.6961,2,    169.1,2,  1.0433,    170.5,2,   136.82,2,    34.89,2,     0.00,2,     2.38,2,   -0.002,2,    0.000,2,   -999.0,9,  -999.00,9,   2305.7,2,   1115.3,2,   2410.3,2,     7.60,2, -999.00,  -999.0, -999.00,  -999.0
    31DSCG96_2,  P15S,   170,  1,    105,   1041,2,19960304,2242, -3.9992,-168.7510, 5191,   -999,   4439.2,   1.3247,  34.6994,2,  34.7001,2,    179.3,2,  0.9619,    179.8,2,   131.44,2,    34.16,2,     0.00,2,     2.33,2, -999.000,9, -999.000,9,   -999.0,9,  -999.00,9,   2294.5,2,   1100.1,2,   2401.0,2,     7.61,2, -999.00,  -999.0, -999.00,  -999.0
    31DSCG96_2,  P15S,   170,  1,    104,   1003,2,19960304,2242, -3.9992,-168.7510, 5191,   -999,   4689.4,   1.2683,  34.7027,2,  34.7034,2,    187.3,2,  0.8785,    187.5,2,   127.19,2,    33.49,2,     0.00,2,     2.29,2,    0.001,2,    0.001,2,   -999.0,9,  -999.00,9,   2283.0,2,   1098.9,2,   2391.1,2,     7.61,2, -999.00,  -999.0, -999.00,  -999.0
    31DSCG96_2,  P15S,   170,  1,    103,   1302,2,19960304,2242, -3.9992,-168.7510, 5191,   -999,   4939.1,   1.2064,  34.7059,2,  34.7069,2,    197.2,2,  0.7892,    196.2,2,   123.24,2,    32.92,2,     0.00,2,     2.25,2,    0.002,2,    0.001,2,   -999.0,9,  -999.00,9,   2271.8,2,   1088.8,2,   2379.8,2,     7.61,2, -999.00,  -999.0, -999.00,  -999.0
    31DSCG96_2,  P15S,   170,  1,    102,   1030,2,19960304,2242, -3.9992,-168.7510, 5191,   -999,   5188.4,   1.1950,  34.7073,2,  34.7077,2,    200.5,2,  0.7480,    199.6,2,   121.43,6,    32.62,6,     0.00,6,     2.23,6,    0.005,2,    0.002,2,   -999.0,9,  -999.00,9,   2266.2,2,   1087.5,2,   2373.9,2,     7.61,2, -999.00,  -999.0, -999.00,  -999.0
    31DSCG96_2,  P15S,   170,  1,    101,   1022,2,19960304,2242, -3.9992,-168.7510, 5191,   -999,   5288.9,   1.2080,  34.7073,2,-999.0000,5,    200.7,2,  0.7483,    200.4,2,   121.53,2,    32.63,2,     0.00,2,  -999.00,5,    0.004,6,    0.009,6,   -999.0,9,  -999.00,9,   2266.4,2,   1111.2,2,   2375.1,2,     7.61,2, -999.00,  -999.0, -999.00,  -999.0