BOTTLE,20220811CCHSIOAMB
EXPOCODE,SECT_ID,STNNBR,CASTNO,SAMPNO,BTLNBR,BTLNBR_FLAG_W,DATE,TIME,LATITUDE,LONGITUDE,DEPTH,CTDRAW,CTDPRS,CTDTMP,CTDSAL,CTDSAL_FLAG_W,SALNTY,SALNTY_FLAG_W,CTDOXY,CTDOXY_FLAG_W,THETA,OXYGEN,OXYGEN_FLAG_W,SILCAT,SILCAT_FLAG_W,NITRAT,NITRAT_FLAG_W,NITRIT,NITRIT_FLAG_W,PHSPHT,PHSPHT_FLAG_W,CFC-11,CFC-11_FLAG_W,CFC-12,CFC-12_FLAG_W,DELC14,DELC14_FLAG_W,DELC13,DELC13_FLAG_W,TCARBN,TCARBN_FLAG_W,PCO2,PCO2_FLAG_W,ALKALI,ALKALI_FLAG_W,PH,PH_FLAG_W,PCO2TMP,C14ERR,PH_TMP,C13ERR
,,,,,,,,,,,,DBAR,DBAR,ITS-90,PSS-78,,PSS-78,,UMOL/KG,,DEG C,UMOL/KG,,UMOL/KG,,UMOL/KG,,UMOL/KG,,UMOL/KG,,PMOL/KG,,PMOL/KG,,/MILLE,,/MILLE,,UMOL/KG,,UATM,,UMOL/KG,,,,DEG C,/MILLE,DEG C,/MILLE
    31DSCG96_1,  P15S,    76,  2,    234,   1119,2,19960130,1446,-45.9498,-171.8243, 5136,   -999,      9.9,  16.0816,  34.7824,2,  34.7818,2,    260.9,2, 16.0801,    257.2,2,     0.36,2,     0.22,2,     0.02,2,     0.14,2, -999.000,9, -999.000,9,     62.6,2,  -999.00,9,   2027.4,2,    368.4,2,   -999.0,9,     8.00,2, -999.00,     3.0, -999.00,  -999.0
    31DSCG96_1,  P15S,    76,  2,    233,   1221,2,19960130,1446,-45.9498,-171.8243, 5136,   -999,     20.9,  15.9140,  34.8010,2,  34.7997,2,    263.3,2, 15.9107,    258.6,2,  -999.00,9,  -999.00,9,  -999.00,9,  -999.00,9, -999.000,9, -999.000,9,   -999.0,9,  -999.00,9,   -999.0,9,   -999.0,9,   -999.0,9,     8.00,2, -999.00,  -999.0, -999.00,  -999.0
    31DSCG96_1,  P15S,    76,  2,    232,   1039,2,19960130,1446,-45.9498,-171.8243, 5136,   -999,     45.4,  14.8150,  34.8632,2,  34.8592,2,    270.8,2, 14.8083,    263.5,2,     0.45,2,     0.15,2,     0.01,2,     0.19,2, -999.000,9, -999.000,9,   -999.0,9,  -999.00,9,   -999.0,9,   -999.0,9,   -999.0,9,     7.99,2, -999.00,  -999.0, -999.00,  -999.0
    31DSCG96_1,  P15S,    76,  2,    231,   1014,2,19960130,1446,-45.9498,-171.8243, 5136,   -999,     75.0,  11.4833,  34.6671,2,  34.6772,2,    268.7,2, 11.4739,    270.6,6,     1.59,2,     5.36,2,     0.14,2,     0.55,2, -999.000,9, -999.000,9,   -999.0,9,  -999.00,9,   -999.0,9,   -999.0,9,   -999.0,9,     7.90,2, -999.00,  -999.0, -999.00,  -999.0
    31DSCG96_1,  P15S,    76,  2,    230,   1257,2,19960130,1446,-45.9498,-171.8243, 5136,   -999,     95.7,  10.8104,  34.6552,2,  34.6520,2,    260.3,2, 10.7988,    264.5,2,     2.19,2,     7.06,2,     0.44,2,     0.66,2, -999.000,9, -999.000,9,   -999.0,9,  -999.00,9,   -999.0,9,   -999.0,9,   -999.0,9,     7.87,2, -999.00,  -999.0, -999.00,  -999.0
    31DSCG96_1,  P15S,    76,  2,    229,   1256,2,19960130,1446,-45.9498,-171.8243, 5136,   -999,    136.6,  10.0545,  34.6791,2,  34.6790,2,    246.6,2, 10.0387,    252.9,2,     2.86,2,    10.78,2,     0.01,2,     0.82,2, -999.000,9, -999.000,9,   -999.0,9,  -999.00,9,   -999.0,9,   -999.0,9,   -999.0,9,     7.84,2, -999.00,  -999.0, -999.00,  -999.0
    31DSCG96_1,  P15S,    76,  2,    228,   1007,2,19960130,1446,-45.9498,-171.8243, 5136,   -999,    189.5,   9.5187,  34.6272,2,  34.6291,2,    248.0,2,  9.4975,    255.7,2,     3.08,2,    11.76,2,     0.01,2,     0.88,2, -999.000,9, -999.000,9,   -999.0,9,  -999.00,9,   -999.0,9,   -999.0,9,   -999.0,9,     7.83,2, -999.00,  -999.0, -999.00,  -999.0
    31DSCG96_1,  P15S,    76,  2,    227,   1232,2,19960130,1446,-45.9498,-171.8243, 5136,   -999,    238.0,   9.3203,  34.6265,2,  34.6235,2,    242.1,2,  9.2939,    255.4,2,     3.33,2,    12.54,2,     0.01,2,     0.93,2, -999.000,9, -999.000,9,   -999.0,9,  -999.00,9,   -999.0,9,   -999.0,9,   -999.0,9,     7.83,2, -999.00,  -999.0, -999.00,  -999.0
    31DSCG96_1,  P15S,    76,  2,    226,   1025,2,19960130,1446,-45.9498,-171.8243, 5136,   -999,    290.9,   9.1193,  34.6170,2,  34.6168,2,    229.2,2,  9.0875,    247.8,2,     4.14,2,    14.51,2,     0.01,2,     1.05,2, -999.000,9, -999.000,9,   -999.0,9,  -999.00,9,   -999.0,9,   -999.0,9,   -999.0,9,  -999.00,9, -999.00,  -999.0, -999.00,  -999.0
    31DSCG96_1,  P15S,    76,  2,    225,   1233,2,19960130,1446,-45.9498,-171.8243, 5136,   -999,    375.1,   8.5598,  34.5641,2,  34.5703,2,    235.1,2,  8.5201,    231.9,6,     6.22,2,    18.21,2,     0.01,2,     1.28,2, -999.000,9, -999.000,9,   -999.0,9,  -999.00,9,   -999.0,9,   -999.0,9,   -999.0,9,     7.77,2, -999.00,  -999.0, -999.00,  -999.0
    31DSCG96_1,  P15S,    76,  2,    224,   1218,2,19960130,1446,-45.9498,-171.8243, 5136,   -999,    475.9,   7.9965,  34.5136,2,  34.5136,2,    228.8,2,  7.9478,    226.7,2,     7.86,2,    20.60,2,     0.01,2,     1.43,2, -999.000,9, -999.000,9,   -999.0,9,  -999.00,9,   -999.0,9,   -999.0,9,   -999.0,9,     7.74,2, -999.00,  -999.0, -999.00,  -999.0
    31DSCG96_1,  P15S,    76,  2,    223,   1250,2,19960130,1446,-45.9498,-171.8243, 5136,   -999,    573.6,   7.6095,  34.4850,2,  34.4846,2,    228.7,2,  7.5522,    223.2,2,     9.58,2,    21.94,2,     0.00,2,     1.51,2, -999.000,9, -999.000,9,   -999.0,9,  -999.00,9,   -999.0,9,   -999.0,9,   -999.0,9,     7.74,2, -999.00,  -999.0, -999.00,  -999.0
    31DSCG96_1,  P15S,    76,  2,    222,   1109,2,19960130,1446,-45.9498,-171.8243, 5136,   -999,    675.0,   7.2708,  34.4680,2,  34.4632,3,    218.9,2,  7.2045,    219.3,2,    11.65,2,    23.13,2,     0.00,2,     1.60,2, -999.000,9, -999.000,9,   -999.0,9,  -999.00,9,   -999.0,9,   -999.0,9,   -999.0,9,     7.73,2, -999.00,  -999.0, -999.00,  -999.0
    31DSCG96_1,  P15S,    76,  2,    221,   1246,2,19960130,1446,-45.9498,-171.8243, 5136,   -999,    775.7,   6.5947,  34.3981,2,  34.3977,2,    222.8,2,  6.5221,    221.6,2,    13.50,2,    24.71,2,     0.00,2,     1.70,2, -999.000,9, -999.000,9,   -999.0,9,  -999.00,9,   -999.0,9,   -999.0,9,   -999.0,9,     7.71,2, -999.00,  -999.0, -999.00,  -999.0
    31DSCG96_1,  P15S,    76,  2,    220,   1015,2,19960130,1446,-45.9498,-171.8243, 5136,   -999,    876.1,   6.1201,  34.3849,2,  34.3843,2,    217.1,2,  6.0406,    213.0,2,    18.03,2,    26.47,2,     0.00,2,     1.81,2, -999.000,9, -999.000,9,   -999.0,9,  -999.00,9,   -999.0,9,   -999.0,9,   -999.0,9,     7.69,2, -999.00,  -999.0, -999.00,  -999.0
    31DSCG96_1,  P15S,    76,  2,    219,   1247,2,19960130,1446,-45.9498,-171.8243, 5136,   -999,    975.9,   5.6057,  34.3862,2,  34.3882,2,    205.3,2,  5.5202,    203.8,6,    24.92,2,    28.20,2,     0.00,2,     1.93,2, -999.000,9, -999.000,9,   -999.0,9,  -999.00,9,   -999.0,9,   -999.0,9,   -999.0,9,     7.67,2, -999.00,  -999.0, -999.00,  -999.0
    31DSCG96_1,  P15S,    76,  2,    218,   1222,2,19960130,1446,-45.9498,-171.8243, 5136,   -999,   1077.3,   4.9019,  34.3575,2,  34.3574,2,    203.1,2,  4.8126,    201.6,2,    29.76,2,    29.82,2,     0.00,2,     2.05,2, -999.000,9, -999.000,9,   -999.0,9,  -999.00,9,   -999.0,9,   -999.0,9,   -999.0,9,     7.65,2, -999.00,  -999.0, -999.00,  -999.0
    31DSCG96_1,  P15S,    76,  2,    217,   1267,2,19960130,1446,-45.9498,-171.8243, 5136,   -999,   1214.5,   4.1739,  34.3844,2,  34.3822,2,    197.5,2,  4.0786,    194.3,2,    41.70,2,    31.58,2,     0.00,2,     2.17,2, -999.000,9, -999.000,9,   -999.0,9,  -999.00,9,   -999.0,9,   -999.0,9,   -999.0,9,     7.62,2, -999.00,  -999.0, -999.00,  -999.0
    31DSCG96_1,  P15S,    76,  2,    216,   1211,2,19960130,1446,-45.9498,-171.8243, 5136,   -999,   1440.1,   3.3303,  34.4410,2,  34.4398,2,    183.2,2,  3.2241,    182.1,2,    58.52,6,    33.47,2,     0.00,6,     2.31,2, -999.000,9, -999.000,9,   -999.0,9,  -999.00,9,   -999.0,9,   -999.0,9,   -999.0,9,     7.59,2, -999.00,  -999.0, -999.00,  -999.0
    31DSCG96_1,  P15S,    76,  2,    215,   1041,2,19960130,1446,-45.9498,-171.8243, 5136,   -999,   1688.9,   2.8170,  34.5240,2,  34.5229,2,    172.5,2,  2.6957,    171.1,2,    73.25,6,    34.29,2,     0.00,6,     2.36,2, -999.000,9, -999.000,9,   -999.0,9,  -999.00,9,   -999.0,9,   -999.0,9,   -999.0,9,     7.58,2, -999.00,  -999.0, -999.00,  -999.0
    31DSCG96_1,  P15S,    76,  2,    214,   1017,2,19960130,1446,-45.9498,-171.8243, 5136,   -999,   1940.8,   2.5077,  34.6009,2,  34.5998,2,    171.5,2,  2.3688,    170.1,2,    79.94,2,    33.93,2,     0.00,2,     2.33,2, -999.000,9, -999.000,9,   -999.0,9,  -999.00,9,   -999.0,9,   -999.0,9,   -999.0,9,     7.57,2, -999.00,  -999.0, -999.00,  -999.0
    31DSCG96_1,  P15S,    76,  2,    213,   1302,2,19960130,1446,-45.9498,-171.8243, 5136,   -999,   2187.0,   2.3167,  34.6589,2,  34.6579,2,    171.8,2,  2.1590,    170.5,6,    88.24,2,    33.37,2,     0.00,2,     2.30,2, -999.000,9, -999.000,9,   -999.0,9,  -999.00,9,   -999.0,9,   -999.0,9,   -999.0,9,     7.58,2, -999.00,  -999.0, -999.00,  -999.0
    31DSCG96_1,  P15S,    76,  2,    212,   1217,2,19960130,1446,-45.9498,-171.8243, 5136,   -999,   2439.3,   2.1555,  34.7029,2,  34.7019,2,    179.4,2,  1.9776,    179.8,2,    88.04,2,    32.42,2,     0.00,2,     2.22,2, -999.000,9, -999.000,9,   -999.0,9,  -999.00,9,   -999.0,9,   -999.0,9,   -999.0,9,     7.59,2, -999.00,  -999.0, -999.00,  -999.0
    31DSCG96_1,  P15S,    76,  2,    211,   1114,2,19960130,1446,-45.9498,-171.8243, 5136,   -999,   2688.5,   2.0089,  34.7254,2,  34.7247,2,    187.1,2,  1.8106,    186.8,2,    90.04,2,    31.69,2,     0.00,2,     2.17,2, -999.000,9, -999.000,9,   -999.0,9,  -999.00,9,   -999.0,9,   -999.0,9,   -999.0,9,     7.60,2, -999.00,  -999.0, -999.00,  -999.0
    31DSCG96_1,  P15S,    76,  2,    210,   1301,2,19960130,1446,-45.9498,-171.8243, 5136,   -999,   2941.1,   1.8161,  34.7347,2,  34.7335,2,    192.5,2,  1.5977,    192.3,2,    94.73,2,    31.43,2,     0.00,2,     2.14,2, -999.000,9, -999.000,9,   -999.0,9,  -999.00,9,   -999.0,9,   -999.0,9,   -999.0,9,     7.61,2, -999.00,  -999.0, -999.00,  -999.0
    31DSCG96_1,  P15S,    76,  2,    209,   1242,2,19960130,1446,-45.9498,-171.8243, 5136,   -999,   3187.9,   1.6226,  34.7351,2,  34.7345,2,    196.7,2,  1.3845,    196.2,2,   100.21,2,    31.44,2,     0.00,2,     2.15,2,    0.034,2,    0.018,2,   -999.0,9,  -999.00,9,   -999.0,9,   -999.0,9,   -999.0,9,     7.61,3, -999.00,  -999.0, -999.00,  -999.0
    31DSCG96_1,  P15S,    76,  2,    208,   1263,2,19960130,1446,-45.9498,-171.8243, 5136,   -999,   3439.0,   1.4115,  34.7292,2,  34.7281,2,    199.7,2,  1.1534,    199.4,2,   106.47,2,    31.67,2,     0.00,2,     2.16,2,    0.038,6,    0.189,4,   -999.0,9,  -999.00,9,   -999.0,9,   -999.0,9,   -999.0,9,     7.61,2, -999.00,  -999.0, -999.00,  -999.0
    31DSCG96_1,  P15S,    76,  2,    207,   1245,2,19960130,1446,-45.9498,-171.8243, 5136,   -999,   3691.3,   1.2444,  34.7226,2,  34.7214,2,    202.6,2,  0.9650,    202.0,2,   111.48,2,    31.88,2,     0.00,2,     2.17,2,    0.036,2,    0.039,4,   -999.0,9,  -999.00,9,   -999.0,9,   -999.0,9,   -999.0,9,     7.61,2, -999.00,  -999.0, -999.00,  -999.0
    31DSCG96_1,  P15S,    76,  2,    206,   1262,2,19960130,1446,-45.9498,-171.8243, 5136,   -999,   3944.1,   1.1027,  34.7162,2,  34.7153,2,    205.1,2,  0.8007,    204.8,2,   115.86,2,    32.01,2,     0.00,2,     2.19,2,    0.050,2,    0.036,2,   -999.0,9,  -999.00,9,   -999.0,9,   -999.0,9,   -999.0,9,     7.61,3, -999.00,  -999.0, -999.00,  -999.0
    31DSCG96_1,  P15S,    76,  2,    205,   1113,2,19960130,1446,-45.9498,-171.8243, 5136,   -999,   4191.4,   0.9986,  34.7114,2,  34.7103,2,    207.2,2,  0.6731,    206.7,2,   119.08,2,    32.20,2,     0.00,2,     2.19,2,    0.059,2,    0.042,2,   -999.0,9,  -999.00,9,   -999.0,9,   -999.0,9,   -999.0,9,     7.61,2, -999.00,  -999.0, -999.00,  -999.0
    31DSCG96_1,  P15S,    76,  2,    204,   1003,2,19960130,1446,-45.9498,-171.8243, 5136,   -999,   4438.1,   0.9394,  34.7078,2,  34.7071,2,    208.6,2,  0.5886,    207.6,2,   121.44,2,    32.29,2,     0.00,2,     2.20,2,    0.073,2,    0.059,4,   -999.0,9,  -999.00,9,   -999.0,9,   -999.0,9,   -999.0,9,     7.61,2, -999.00,  -999.0, -999.00,  -999.0
    31DSCG96_1,  P15S,    76,  2,    203,   1216,2,19960130,1446,-45.9498,-171.8243, 5136,   -999,   4689.1,   0.9193,  34.7058,2,  34.7046,2,    209.4,2,  0.5408,    208.7,2,   122.79,2,    32.31,2,     0.00,2,     2.20,2,    0.082,6,    0.060,6,   -999.0,9,  -999.00,9,   -999.0,9,   -999.0,9,   -999.0,9,     7.61,2, -999.00,  -999.0, -999.00,  -999.0
    31DSCG96_1,  P15S,    76,  2,    202,   1030,2,19960130,1446,-45.9498,-171.8243, 5136,   -999,   4938.8,   0.9209,  34.7048,2,  34.7033,2,    209.6,2,  0.5133,    209.0,2,   123.61,2,    32.33,2,     0.00,2,     2.20,2,    0.092,2,    0.058,2,   -999.0,9,  -999.00,9,   -999.0,9,   -999.0,9,   -999.0,9,     7.61,2, -999.00,  -999.0, -999.00,  -999.0
    31DSCG96_1,  P15S,    76,  2,    201,   1022,2,19960130,1446,-45.9498,-171.8243, 5136,   -999,   5248.9,   0.9446,  34.7037,2,  34.7028,2,    209.4,2,  0.4991,    208.9,2,   124.41,6,    32.41,6,     0.00,6,     2.21,2,    0.102,6,    0.054,6,   -999.0,9,  -999.00,9,   -999.0,9,   -999.0,9,   -999.0,9,     7.61,2, -999.00,  -999.0, -999.00,  -999.0