BOTTLE,20220811CCHSIOAMB
EXPOCODE,SECT_ID,STNNBR,CASTNO,SAMPNO,BTLNBR,BTLNBR_FLAG_W,DATE,TIME,LATITUDE,LONGITUDE,DEPTH,CTDRAW,CTDPRS,CTDTMP,CTDSAL,CTDSAL_FLAG_W,SALNTY,SALNTY_FLAG_W,CTDOXY,CTDOXY_FLAG_W,THETA,OXYGEN,OXYGEN_FLAG_W,SILCAT,SILCAT_FLAG_W,NITRAT,NITRAT_FLAG_W,NITRIT,NITRIT_FLAG_W,PHSPHT,PHSPHT_FLAG_W,CFC-11,CFC-11_FLAG_W,CFC-12,CFC-12_FLAG_W,DELC14,DELC14_FLAG_W,DELC13,DELC13_FLAG_W,TCARBN,TCARBN_FLAG_W,PCO2,PCO2_FLAG_W,ALKALI,ALKALI_FLAG_W,PH,PH_FLAG_W,PCO2TMP,C14ERR,PH_TMP,C13ERR
,,,,,,,,,,,,DBAR,DBAR,ITS-90,PSS-78,,PSS-78,,UMOL/KG,,DEG C,UMOL/KG,,UMOL/KG,,UMOL/KG,,UMOL/KG,,UMOL/KG,,PMOL/KG,,PMOL/KG,,/MILLE,,/MILLE,,UMOL/KG,,UATM,,UMOL/KG,,,,DEG C,/MILLE,DEG C,/MILLE
    31DSCG96_1,  P14S,    27,  1,    124,    429,2,19960115,1135,-62.9997, 171.7478, 2636,   -999,     10.0,   0.1234,  33.8648,2,  33.8661,2,    349.6,2,  0.1231,    350.3,2,    58.24,2,    24.45,2,     0.14,2,     1.59,2,    5.916,2,    3.077,2,   -999.0,9,  -999.00,9,   -999.0,9,   -999.0,9,   -999.0,9,     7.74,2, -999.00,  -999.0, -999.00,  -999.0
    31DSCG96_1,  P14S,    27,  1,    123,    428,2,19960115,1135,-62.9997, 171.7478, 2636,   -999,     29.7,   0.1169,  33.8657,2,  33.8681,2,    348.8,2,  0.1159,    350.5,2,    58.56,6,    24.46,6,     0.15,6,  -999.00,5, -999.000,9, -999.000,9,   -999.0,9,  -999.00,9,   2146.7,2,    750.7,2,   2297.3,2,     7.74,2, -999.00,  -999.0, -999.00,  -999.0
    31DSCG96_1,  P14S,    27,  1,    122,    407,2,19960115,1135,-62.9997, 171.7478, 2636,   -999,     56.0,  -0.8553,  33.9990,2,-999.0000,9,    358.9,2, -0.8568,    343.9,2,  -999.00,9,  -999.00,9,  -999.00,9,  -999.00,9, -999.000,9, -999.000,9,   -999.0,9,  -999.00,9,   2163.0,2,    820.2,2,   2303.7,2,     7.71,2, -999.00,  -999.0, -999.00,  -999.0
    31DSCG96_1,  P14S,    27,  1,    121,    417,2,19960115,1135,-62.9997, 171.7478, 2636,   -999,     78.7,  -1.4834,  34.1325,2,  34.1334,2,    328.7,2, -1.4852,    322.0,2,    67.01,2,    29.36,2,     0.10,2,     2.04,2,    5.212,2,    2.523,2,   -999.0,9,  -999.00,9,   -999.0,9,   -999.0,9,   -999.0,9,     7.65,2, -999.00,  -999.0, -999.00,  -999.0
    31DSCG96_1,  P14S,    27,  1,    120,    405,2,19960115,1135,-62.9997, 171.7478, 2636,   -999,    104.9,  -1.0731,  34.2540,2,  34.2262,3,    306.6,2, -1.0759,    300.1,2,    70.42,2,    30.54,2,     0.11,2,     2.14,2, -999.000,9, -999.000,9,   -999.0,9,  -999.00,9,   2204.7,2,   1012.4,2,   2317.0,2,     7.63,2, -999.00,  -999.0, -999.00,  -999.0
    31DSCG96_1,  P14S,    27,  1,    119,    416,2,19960115,1135,-62.9997, 171.7478, 2636,   -999,    129.4,  -0.1164,  34.4083,2,  34.4066,2,    267.0,2, -0.1209,    249.2,2,    75.91,2,    32.44,2,     0.18,2,     2.23,2,    3.197,2,    1.500,2,   -999.0,9,  -999.00,9,   -999.0,9,   -999.0,9,   -999.0,9,     7.59,3, -999.00,  -999.0, -999.00,  -999.0
    31DSCG96_1,  P14S,    27,  1,    118,    420,2,19960115,1135,-62.9997, 171.7478, 2636,   -999,    163.6,   1.2021,  34.5863,2,  34.5791,2,    201.7,2,  1.1945,    196.7,2,    81.78,2,    33.47,2,     0.08,2,     2.30,2, -999.000,9, -999.000,9,   -999.0,9,  -999.00,9,   2246.1,2,   1203.1,2,   2336.8,2,     7.57,2, -999.00,  -999.0, -999.00,  -999.0
    31DSCG96_1,  P14S,    27,  1,    117,    424,2,19960115,1135,-62.9997, 171.7478, 2636,   -999,    209.1,   1.7797,  34.6716,2,  34.6705,2,    178.5,2,  1.7688,    178.7,2,    84.91,2,    33.39,2,     0.04,2,     2.29,2,    0.452,2,    0.206,2,   -999.0,9,  -999.00,9,   -999.0,9,   -999.0,9,   -999.0,9,     7.56,2, -999.00,  -999.0, -999.00,  -999.0
    31DSCG96_1,  P14S,    27,  1,    116,    409,2,19960115,1135,-62.9997, 171.7478, 2636,   -999,    270.2,   1.7976,  34.6889,2,  34.6900,2,    179.6,2,  1.7834,    179.6,2,    85.20,2,    32.96,2,     0.03,2,     2.27,2, -999.000,9, -999.000,9,   -999.0,9,  -999.00,9,   2251.2,2,   1194.4,2,   2345.3,2,     7.57,2, -999.00,  -999.0, -999.00,  -999.0
    31DSCG96_1,  P14S,    27,  1,    115,    413,2,19960115,1135,-62.9997, 171.7478, 2636,   -999,    325.8,   1.8299,  34.7082,2,  34.7074,2,    182.1,2,  1.8125,    181.8,2,    86.18,2,    32.47,2,     0.01,2,     2.22,2,    0.266,2,    0.122,2,   -999.0,9,  -999.00,9,   -999.0,9,   -999.0,9,   -999.0,9,     7.58,2, -999.00,  -999.0, -999.00,  -999.0
    31DSCG96_1,  P14S,    27,  1,    114,    419,2,19960115,1135,-62.9997, 171.7478, 2636,   -999,    426.9,   1.7729,  34.7214,2,  34.7213,2,    186.3,2,  1.7499,    185.9,2,    87.72,2,    32.00,2,     0.01,2,     2.18,2, -999.000,9, -999.000,9,   -999.0,9,  -999.00,9,   2249.0,2,   1152.6,2,   2349.1,2,     7.59,2, -999.00,  -999.0, -999.00,  -999.0
    31DSCG96_1,  P14S,    27,  1,    113,    434,2,19960115,1135,-62.9997, 171.7478, 2636,   -999,    521.7,   1.7233,  34.7299,2,  34.7298,2,    189.1,2,  1.6950,    188.9,2,    89.36,2,    31.61,2,     0.01,2,     2.16,2,    0.186,2,    0.086,2,   -999.0,9,  -999.00,9,   -999.0,9,   -999.0,9,   -999.0,9,     7.60,2, -999.00,  -999.0, -999.00,  -999.0
    31DSCG96_1,  P14S,    27,  1,    112,    404,2,19960115,1135,-62.9997, 171.7478, 2636,   -999,    626.9,   1.6663,  34.7354,2,  34.7343,2,    192.1,2,  1.6320,    192.0,2,    91.20,2,    31.40,2,     0.01,2,     2.16,3, -999.000,9, -999.000,9,   -999.0,9,  -999.00,9,   2248.7,2,   1090.2,2,   2355.1,2,     7.60,2, -999.00,  -999.0, -999.00,  -999.0
    31DSCG96_1,  P14S,    27,  1,    111,    427,4,19960115,1135,-62.9997, 171.7478, 2636,   -999,    722.4,   1.5830,  34.7367,2,-999.0000,9,    194.1,2,  1.5434,   -999.0,9,  -999.00,9,  -999.00,9,  -999.00,9,  -999.00,9, -999.000,9, -999.000,9,   -999.0,9,  -999.00,9,   -999.0,9,   -999.0,9,   -999.0,9,  -999.00,9, -999.00,  -999.0, -999.00,  -999.0
    31DSCG96_1,  P14S,    27,  1,    110,    401,2,19960115,1135,-62.9997, 171.7478, 2636,   -999,    827.2,   1.5057,  34.7364,2,  34.7384,2,    195.9,2,  1.4602,    195.8,2,    95.69,2,    31.31,2,     0.00,2,     2.13,2, -999.000,9, -999.000,9,   -999.0,9,  -999.00,9,   2249.6,2,   1092.4,2,   2352.7,2,     7.61,2, -999.00,  -999.0, -999.00,  -999.0
    31DSCG96_1,  P14S,    27,  1,    109,    435,2,19960115,1135,-62.9997, 171.7478, 2636,   -999,    920.9,   1.3985,  34.7336,2,  34.7331,2,    197.8,2,  1.3479,    197.9,2,    98.60,2,    31.36,2,     0.00,2,     2.14,2,    0.141,2,    0.063,2,   -999.0,9,  -999.00,9,   -999.0,9,   -999.0,9,   -999.0,9,     7.61,2, -999.00,  -999.0, -999.00,  -999.0
    31DSCG96_1,  P14S,    27,  1,    108,    440,2,19960115,1135,-62.9997, 171.7478, 2636,   -999,   1025.8,   1.3275,  34.7336,2,  34.7327,2,    199.3,2,  1.2708,    199.1,2,   101.12,2,    31.34,2,     0.00,2,     2.15,3, -999.000,9, -999.000,9,   -999.0,9,  -999.00,9,   2249.4,2,   1077.6,2,   2357.8,2,     7.61,2, -999.00,  -999.0, -999.00,  -999.0
    31DSCG96_1,  P14S,    27,  1,    107,    436,2,19960115,1135,-62.9997, 171.7478, 2636,   -999,   1128.6,   1.2386,  34.7300,2,  34.7298,2,    200.4,2,  1.1761,    200.3,2,   104.05,2,    31.51,2,     0.00,2,     2.14,2,    0.099,2,    0.042,2,   -999.0,9,  -999.00,9,   -999.0,9,   -999.0,9,   -999.0,9,     7.60,2, -999.00,  -999.0, -999.00,  -999.0
    31DSCG96_1,  P14S,    27,  1,    106,    441,2,19960115,1135,-62.9997, 171.7478, 2636,   -999,   1252.0,   1.1364,  34.7249,2,  34.7242,2,    201.8,2,  1.0667,    201.8,2,   106.07,2,    31.62,2,     0.00,2,     2.16,3, -999.000,9, -999.000,9,   -999.0,9,  -999.00,9,   2251.6,2,   1096.7,2,   2358.8,2,     7.61,2, -999.00,  -999.0, -999.00,  -999.0
    31DSCG96_1,  P14S,    27,  1,    105,    423,2,19960115,1135,-62.9997, 171.7478, 2636,   -999,   1501.8,   0.9382,  34.7175,2,  34.7152,2,    204.2,2,  0.8539,    204.2,2,   112.70,2,    31.92,2,     0.00,2,     2.17,2,    0.099,2,    0.043,2,   -999.0,9,  -999.00,9,   -999.0,9,   -999.0,9,   -999.0,9,     7.61,2, -999.00,  -999.0, -999.00,  -999.0
    31DSCG96_1,  P14S,    27,  1,    104,    433,2,19960115,1135,-62.9997, 171.7478, 2636,   -999,   1901.9,   0.6667,  34.7033,2,  34.7026,2,    207.7,2,  0.5577,    207.4,2,   119.78,6,    32.42,6,     0.00,6,     2.21,6, -999.000,9, -999.000,9,   -999.0,9,  -999.00,9,   2256.7,2,   1114.8,2,   2362.6,2,     7.60,2, -999.00,  -999.0, -999.00,  -999.0
    31DSCG96_1,  P14S,    27,  1,    103,    439,2,19960115,1135,-62.9997, 171.7478, 2636,   -999,   2302.4,   0.4681,  34.6961,2,  34.6947,2,    211.6,2,  0.3321,    212.3,2,   123.42,6,    32.58,6,     0.00,6,     2.22,6,    0.258,2,    0.123,2,   -999.0,9,  -999.00,9,   -999.0,9,   -999.0,9,   -999.0,9,     7.60,2, -999.00,  -999.0, -999.00,  -999.0
    31DSCG96_1,  P14S,    27,  1,    102,    414,2,19960115,1135,-62.9997, 171.7478, 2636,   -999,   2634.8,   0.4318,  34.6950,2,  34.6937,2,    213.0,2,  0.2698,    214.2,2,   124.22,6,    32.63,6,     0.00,6,     2.23,6, -999.000,9, -999.000,9,   -999.0,9,  -999.00,9,   2258.0,2,   1120.9,2,   -999.0,5,     7.60,2, -999.00,  -999.0, -999.00,  -999.0
    31DSCG96_1,  P14S,    27,  1,    101,    406,2,19960115,1135,-62.9997, 171.7478, 2636,   -999,   2641.5,   0.4309,  34.6952,2,  34.6946,2,    213.1,2,  0.2683,    213.7,2,   124.13,6,    32.64,6,     0.00,6,     2.22,6,    0.310,2,    0.145,2,   -999.0,9,  -999.00,9,   -999.0,9,   -999.0,9,   -999.0,9,     7.60,2, -999.00,  -999.0, -999.00,  -999.0
    31DSCG96_1,  P14S,    28,  1,    124,    429,2,19960115,1744,-63.5015, 170.9937, 2422,   -999,     10.5,   0.0874,  33.7491,2,  33.7515,2,    355.5,2,  0.0871,    356.2,2,    57.70,2,    21.35,2,     0.18,2,     1.21,2,    6.411,6,    3.091,6,   -999.0,9,  -999.00,9,   -999.0,9,   -999.0,9,   -999.0,9,     7.77,2, -999.00,  -999.0, -999.00,  -999.0
    31DSCG96_1,  P14S,    28,  1,    123,    428,2,19960115,1744,-63.5015, 170.9937, 2422,   -999,     19.7,   0.0840,  33.7511,2,  33.7548,2,    355.0,2,  0.0833,    355.9,2,    57.70,2,    21.30,2,     0.19,2,     1.21,2,    6.695,2,    3.090,2,   -999.0,9,  -999.00,9,   -999.0,9,   -999.0,9,   -999.0,9,     7.78,2, -999.00,  -999.0, -999.00,  -999.0
    31DSCG96_1,  P14S,    28,  1,    122,    407,2,19960115,1744,-63.5015, 170.9937, 2422,   -999,     45.7,   0.0932,  33.7714,2,-999.0000,9,    354.6,2,  0.0916,    355.0,2,    57.69,2,    21.37,2,     0.18,2,     1.22,2,    6.462,2,    3.091,2,   -999.0,9,  -999.00,9,   -999.0,9,   -999.0,9,   -999.0,9,     7.78,3, -999.00,  -999.0, -999.00,  -999.0
    31DSCG96_1,  P14S,    28,  1,    121,    417,2,19960115,1744,-63.5015, 170.9937, 2422,   -999,     72.7,  -0.4404,  33.9530,2,  33.9401,2,    297.1,2, -0.4426,    340.5,2,    57.18,2,    25.83,2,     0.17,2,     1.68,2,    6.191,2,    2.959,2,   -999.0,9,  -999.00,9,   -999.0,9,   -999.0,9,   -999.0,9,     7.71,2, -999.00,  -999.0, -999.00,  -999.0
    31DSCG96_1,  P14S,    28,  1,    120,    405,2,19960115,1744,-63.5015, 170.9937, 2422,   -999,     95.9,  -0.0350,  34.3461,2,  34.2973,3,    253.6,2, -0.0383,    260.6,2,    72.01,2,    31.89,2,     0.16,2,     2.21,2,    3.496,2,    1.662,2,   -999.0,9,  -999.00,9,   -999.0,9,   -999.0,9,   -999.0,9,     7.60,2, -999.00,  -999.0, -999.00,  -999.0
    31DSCG96_1,  P14S,    28,  1,    119,    416,2,19960115,1744,-63.5015, 170.9937, 2422,   -999,    120.1,   0.8102,  34.5268,2,  34.5245,2,    217.9,2,  0.8051,    208.0,2,    80.13,2,    33.28,2,     0.19,2,     2.30,2,    1.700,2,    0.795,2,   -999.0,9,  -999.00,9,   -999.0,9,   -999.0,9,   -999.0,9,     7.57,2, -999.00,  -999.0, -999.00,  -999.0
    31DSCG96_1,  P14S,    28,  1,    118,    420,2,19960115,1744,-63.5015, 170.9937, 2422,   -999,    145.0,   1.0145,  34.5954,2,  34.5893,2,    203.4,2,  1.0079,    199.7,6,    83.31,6,    33.16,6,     0.12,6,     2.29,2,    1.330,2,    0.640,2,   -999.0,9,  -999.00,9,   -999.0,9,   -999.0,9,   -999.0,9,     7.57,2, -999.00,  -999.0, -999.00,  -999.0
    31DSCG96_1,  P14S,    28,  1,    117,    424,2,19960115,1744,-63.5015, 170.9937, 2422,   -999,    191.3,   1.3793,  34.6559,2,  34.6569,2,    192.8,2,  1.3700,    188.8,2,    85.40,2,    33.02,2,     0.05,2,     2.26,2, -999.000,5, -999.000,5,   -999.0,9,  -999.00,9,   -999.0,9,   -999.0,9,   -999.0,9,  -999.00,9, -999.00,  -999.0, -999.00,  -999.0
    31DSCG96_1,  P14S,    28,  1,    116,    409,2,19960115,1744,-63.5015, 170.9937, 2422,   -999,    251.1,   1.4550,  34.6770,2,  34.6766,2,    189.8,2,  1.4426,    189.8,2,    86.83,2,    32.75,2,     0.05,2,     2.22,2,    0.655,2,    0.301,2,   -999.0,9,  -999.00,9,   -999.0,9,   -999.0,9,   -999.0,9,     7.58,2, -999.00,  -999.0, -999.00,  -999.0
    31DSCG96_1,  P14S,    28,  1,    115,    413,2,19960115,1744,-63.5015, 170.9937, 2422,   -999,    292.7,   1.5678,  34.6965,2,  34.6949,2,    191.3,2,  1.5529,    188.6,2,    87.73,2,    32.45,2,     0.03,2,     2.19,2,    0.499,2,    0.234,2,   -999.0,9,  -999.00,9,   -999.0,9,   -999.0,9,   -999.0,9,     7.58,2, -999.00,  -999.0, -999.00,  -999.0
    31DSCG96_1,  P14S,    28,  1,    114,    419,2,19960115,1744,-63.5015, 170.9937, 2422,   -999,    337.8,   1.5773,  34.7061,2,  34.7062,2,    190.8,2,  1.5599,    189.8,2,    88.53,2,    32.20,2,     0.02,2,     2.17,2,    0.422,2,    0.195,2,   -999.0,9,  -999.00,9,   -999.0,9,   -999.0,9,   -999.0,9,     7.59,2, -999.00,  -999.0, -999.00,  -999.0
    31DSCG96_1,  P14S,    28,  1,    113,    434,2,19960115,1744,-63.5015, 170.9937, 2422,   -999,    389.5,   1.5764,  34.7144,2,  34.7145,2,    188.7,2,  1.5561,    191.0,2,    89.48,2,    31.93,2,     0.01,2,     2.15,2,    0.369,2,    0.165,2,   -999.0,9,  -999.00,9,   -999.0,9,   -999.0,9,   -999.0,9,     7.59,2, -999.00,  -999.0, -999.00,  -999.0
    31DSCG96_1,  P14S,    28,  1,    112,    404,2,19960115,1744,-63.5015, 170.9937, 2422,   -999,    476.0,   1.6363,  34.7307,2,  34.7290,2,    190.6,2,  1.6110,    191.3,2,    91.01,2,    31.67,2,     0.01,2,     2.13,2,    0.227,6,    0.106,6,   -999.0,9,  -999.00,9,   -999.0,9,   -999.0,9,   -999.0,9,     7.60,2, -999.00,  -999.0, -999.00,  -999.0
    31DSCG96_1,  P14S,    28,  1,    111,    427,2,19960115,1744,-63.5015, 170.9937, 2422,   -999,    572.1,   1.5479,  34.7323,2,  34.7326,2,    194.0,2,  1.5174,    194.3,6,    93.33,2,    31.50,2,     0.01,2,     2.12,2,    0.222,2,    0.098,2,   -999.0,9,  -999.00,9,   -999.0,9,   -999.0,9,   -999.0,9,     7.60,2, -999.00,  -999.0, -999.00,  -999.0
    31DSCG96_1,  P14S,    28,  1,    110,    401,2,19960115,1744,-63.5015, 170.9937, 2422,   -999,    674.9,   1.5018,  34.7355,2,  34.7353,2,    196.0,2,  1.4655,    195.8,2,    95.53,2,    31.39,2,     0.01,2,     2.11,2,    0.157,2,    0.069,2,   -999.0,9,  -999.00,9,   -999.0,9,   -999.0,9,   -999.0,9,     7.61,2, -999.00,  -999.0, -999.00,  -999.0
    31DSCG96_1,  P14S,    28,  1,    109,    435,2,19960115,1744,-63.5015, 170.9937, 2422,   -999,    778.4,   1.3869,  34.7334,2,  34.7330,2,    198.2,2,  1.3451,    197.7,2,    97.82,2,    31.41,2,     0.01,2,     2.12,2,    0.168,4,    0.076,4,   -999.0,9,  -999.00,9,   -999.0,9,   -999.0,9,   -999.0,9,     7.61,2, -999.00,  -999.0, -999.00,  -999.0
    31DSCG96_1,  P14S,    28,  1,    108,    440,2,19960115,1744,-63.5015, 170.9937, 2422,   -999,    876.5,   1.2884,  34.7286,2,  34.7290,2,    199.3,2,  1.2413,    199.7,2,   100.20,2,    31.44,2,     0.00,2,     2.12,2,    0.183,4,    0.083,3,   -999.0,9,  -999.00,9,   -999.0,9,   -999.0,9,   -999.0,9,     7.61,2, -999.00,  -999.0, -999.00,  -999.0
    31DSCG96_1,  P14S,    28,  1,    107,    436,2,19960115,1744,-63.5015, 170.9937, 2422,   -999,    974.8,   1.2276,  34.7296,2,  34.7306,2,    200.5,2,  1.1749,    200.0,2,   103.95,2,    31.58,2,     0.00,2,     2.13,2,    0.114,2,    0.057,2,   -999.0,9,  -999.00,9,   -999.0,9,   -999.0,9,   -999.0,9,     7.60,2, -999.00,  -999.0, -999.00,  -999.0
    31DSCG96_1,  P14S,    28,  1,    106,    441,2,19960115,1744,-63.5015, 170.9937, 2422,   -999,   1078.2,   1.1462,  34.7266,2,  34.7266,2,    201.3,2,  1.0876,    201.5,2,   106.49,2,    31.62,2,     0.00,2,     2.13,2,    0.106,2,    0.048,2,   -999.0,9,  -999.00,9,   -999.0,9,   -999.0,9,   -999.0,9,     7.61,2, -999.00,  -999.0, -999.00,  -999.0
    31DSCG96_1,  P14S,    28,  1,    105,    423,2,19960115,1744,-63.5015, 170.9937, 2422,   -999,   1180.4,   1.0733,  34.7232,2,  34.7228,2,    202.1,2,  1.0090,    201.8,2,   108.63,2,    31.77,2,     0.00,2,     2.14,2,    0.097,2,    0.045,2,   -999.0,9,  -999.00,9,   -999.0,9,   -999.0,9,   -999.0,9,     7.61,2, -999.00,  -999.0, -999.00,  -999.0
    31DSCG96_1,  P14S,    28,  1,    104,    433,2,19960115,1744,-63.5015, 170.9937, 2422,   -999,   1353.0,   0.9313,  34.7169,2,  34.7169,2,    204.3,2,  0.8571,    204.0,2,   113.09,6,    32.04,6,     0.00,6,     2.16,2,    0.091,2,    0.043,2,   -999.0,9,  -999.00,9,   -999.0,9,   -999.0,9,   -999.0,9,     7.61,2, -999.00,  -999.0, -999.00,  -999.0
    31DSCG96_1,  P14S,    28,  1,    103,    439,2,19960115,1744,-63.5015, 170.9937, 2422,   -999,   1695.7,   0.7369,  34.7079,2,  34.7078,2,    207.0,2,  0.6417,    207.0,2,   118.78,6,    32.28,6,     0.00,6,     2.18,2,    0.126,2,    0.056,2,   -999.0,9,  -999.00,9,   -999.0,9,   -999.0,9,   -999.0,9,     7.61,2, -999.00,  -999.0, -999.00,  -999.0
    31DSCG96_1,  P14S,    28,  1,    102,    414,2,19960115,1744,-63.5015, 170.9937, 2422,   -999,   2102.3,   0.6295,  34.7025,2,  34.7019,2,    208.4,2,  0.5061,    208.8,2,   121.76,6,    32.47,6,     0.00,6,     2.20,2,    0.172,2,    0.079,2,   -999.0,9,  -999.00,9,   -999.0,9,   -999.0,9,   -999.0,9,     7.60,2, -999.00,  -999.0, -999.00,  -999.0
    31DSCG96_1,  P14S,    28,  1,    101,    406,2,19960115,1744,-63.5015, 170.9937, 2422,   -999,   2384.6,   0.6378,  34.7021,2,  34.7028,2,    208.7,2,  0.4923,    209.4,2,   121.98,6,    32.45,6,     0.00,6,     2.20,6,    0.182,6,    0.082,6,   -999.0,9,  -999.00,9,   -999.0,9,   -999.0,9,   -999.0,9,     7.60,3, -999.00,  -999.0, -999.00,  -999.0