BOTTLE,20220811CCHSIOAMB
EXPOCODE,SECT_ID,STNNBR,CASTNO,SAMPNO,BTLNBR,BTLNBR_FLAG_W,DATE,TIME,LATITUDE,LONGITUDE,DEPTH,CTDRAW,CTDPRS,CTDTMP,CTDSAL,CTDSAL_FLAG_W,SALNTY,SALNTY_FLAG_W,CTDOXY,CTDOXY_FLAG_W,THETA,OXYGEN,OXYGEN_FLAG_W,SILCAT,SILCAT_FLAG_W,NITRAT,NITRAT_FLAG_W,NITRIT,NITRIT_FLAG_W,PHSPHT,PHSPHT_FLAG_W,CFC-11,CFC-11_FLAG_W,CFC-12,CFC-12_FLAG_W,DELC14,DELC14_FLAG_W,DELC13,DELC13_FLAG_W,TCARBN,TCARBN_FLAG_W,PCO2,PCO2_FLAG_W,ALKALI,ALKALI_FLAG_W,PH,PH_FLAG_W,PCO2TMP,C14ERR,PH_TMP,C13ERR
,,,,,,,,,,,,DBAR,DBAR,ITS-90,PSS-78,,PSS-78,,UMOL/KG,,DEG C,UMOL/KG,,UMOL/KG,,UMOL/KG,,UMOL/KG,,UMOL/KG,,PMOL/KG,,PMOL/KG,,/MILLE,,/MILLE,,UMOL/KG,,UATM,,UMOL/KG,,,,DEG C,/MILLE,DEG C,/MILLE
    31DSCG96_1,  P15S,    35,  1,    133,   1221,2,19960119,0114,-65.6628,-170.0057, 3180,   -999,     10.5,  -0.2380,  33.9762,2,  33.9782,2,    345.6,2, -0.2383,    346.1,2,    64.76,2,    26.96,2,     0.18,2,     1.78,2,    6.339,6,    3.110,6,   -130.6,2,  -999.00,9,   -999.0,9,   -999.0,9,   -999.0,9,     7.69,2, -999.00,     2.8, -999.00,  -999.0
    31DSCG96_1,  P15S,    35,  1,    134,   1224,2,19960119,0114,-65.6628,-170.0057, 3180,   -999,     10.8,  -0.2440,  33.9764,2,  33.9792,2,    345.6,2, -0.2443,    346.1,2,    64.82,2,    27.06,2,     0.18,2,     1.79,2, -999.000,9, -999.000,9,   -999.0,9,  -999.00,9,   2170.0,2,    864.0,6,   -999.0,9,     7.69,2, -999.00,  -999.0, -999.00,  -999.0
    31DSCG96_1,  P15S,    35,  1,    132,   1039,2,19960119,0114,-65.6628,-170.0057, 3180,   -999,     30.5,  -0.2748,  33.9763,2,  33.9782,2,    348.5,2, -0.2758,    346.1,2,    64.71,2,    26.97,2,     0.18,2,     1.78,2,    6.303,2,    3.033,2,   -999.0,9,  -999.00,9,   -999.0,9,   -999.0,9,   -999.0,9,     7.69,2, -999.00,  -999.0, -999.00,  -999.0
    31DSCG96_1,  P15S,    35,  1,    131,   1042,3,19960119,0114,-65.6628,-170.0057, 3180,   -999,     59.1,  -1.1814,  34.0135,2,  33.9959,2,    343.1,2, -1.1828,   -999.0,9,    64.59,2,    27.37,2,     0.16,2,     1.83,2, -999.000,9, -999.000,9,   -999.0,9,  -999.00,9,   -999.0,9,   -999.0,9,   -999.0,9,  -999.00,9, -999.00,  -999.0, -999.00,  -999.0
    31DSCG96_1,  P15S,    35,  1,    130,   1257,2,19960119,0114,-65.6628,-170.0057, 3180,   -999,     78.6,  -1.2929,  34.1076,2,  34.1113,2,    334.7,2, -1.2947,    310.0,2,    68.14,2,    28.81,2,     0.15,2,     1.96,2,    5.170,2,    2.499,2,   -999.0,9,  -999.00,9,   -999.0,9,   -999.0,9,   -999.0,9,     7.65,2, -999.00,  -999.0, -999.00,  -999.0
    31DSCG96_1,  P15S,    35,  1,    129,   1256,2,19960119,0114,-65.6628,-170.0057, 3180,   -999,    103.1,  -0.7921,  34.2711,2,  34.2693,2,    299.8,2, -0.7950,    273.1,2,    73.44,2,    30.56,2,     0.11,2,     2.06,2,    3.984,2,    1.931,2,   -999.0,9,  -999.00,9,   -999.0,9,   -999.0,9,   -999.0,9,     7.62,2, -999.00,  -999.0, -999.00,  -999.0
    31DSCG96_1,  P15S,    35,  1,    128,   1007,2,19960119,0114,-65.6628,-170.0057, 3180,   -999,    130.9,  -0.1106,  34.4118,2,  34.4069,2,    256.1,2, -0.1151,    241.1,2,    78.96,2,    31.78,2,     0.04,2,     2.13,2,    2.906,2,    1.403,2,   -999.0,9,  -999.00,9,   -999.0,9,   -999.0,9,   -999.0,9,     7.60,2, -999.00,  -999.0, -999.00,  -999.0
    31DSCG96_1,  P15S,    35,  1,    127,   1234,2,19960119,0114,-65.6628,-170.0057, 3180,   -999,    156.8,   0.6528,  34.5531,2,  34.5319,2,    218.1,2,  0.6462,    215.3,2,    84.73,2,    32.47,2,     0.02,2,     2.17,2,    1.822,2,    0.892,2,   -999.0,9,  -999.00,9,   -999.0,9,   -999.0,9,   -999.0,9,     7.58,2, -999.00,  -999.0, -999.00,  -999.0
    31DSCG96_1,  P15S,    35,  1,    126,   1025,2,19960119,0114,-65.6628,-170.0057, 3180,   -999,    183.2,   1.1564,  34.6462,2,  34.6425,2,    202.5,2,  1.1479,    195.3,2,    89.88,2,    32.67,2,     0.01,2,     2.19,2,    0.901,2,    0.480,2,   -999.0,9,  -999.00,9,   -999.0,9,   -999.0,9,   -999.0,9,     7.58,2, -999.00,  -999.0, -999.00,  -999.0
    31DSCG96_1,  P15S,    35,  1,    125,   1233,2,19960119,0114,-65.6628,-170.0057, 3180,   -999,    204.8,   1.3450,  34.6822,2,  34.6824,2,    192.9,2,  1.3351,    192.1,2,    90.98,2,    32.61,2,     0.01,2,     2.18,2,    0.593,2,    0.289,2,   -999.0,9,  -999.00,9,   -999.0,9,   -999.0,9,   -999.0,9,     7.57,2, -999.00,  -999.0, -999.00,  -999.0
    31DSCG96_1,  P15S,    35,  1,    124,   1218,2,19960119,0114,-65.6628,-170.0057, 3180,   -999,    229.3,   1.4086,  34.6976,2,  34.6981,2,    189.8,2,  1.3973,    189.5,2,    91.87,2,    32.35,2,     0.00,2,     2.17,2,    0.487,2,    0.243,2,   -999.0,9,  -999.00,9,   -999.0,9,   -999.0,9,   -999.0,9,     7.58,2, -999.00,  -999.0, -999.00,  -999.0
    31DSCG96_1,  P15S,    35,  1,    123,   1250,2,19960119,0114,-65.6628,-170.0057, 3180,   -999,    268.8,   1.4358,  34.7104,2,  34.7100,2,    189.1,2,  1.4225,    189.9,2,    93.53,2,    32.28,2,     0.01,2,     2.17,2,    0.369,2,    0.190,2,   -999.0,9,  -999.00,9,   -999.0,9,   -999.0,9,   -999.0,9,     7.59,2, -999.00,  -999.0, -999.00,  -999.0
    31DSCG96_1,  P15S,    35,  1,    122,   1109,2,19960119,0114,-65.6628,-170.0057, 3180,   -999,    314.5,   1.4189,  34.7178,2,  34.7179,2,    187.9,2,  1.4032,    188.8,2,    96.17,2,    32.33,2,     0.00,2,     2.16,2,    0.284,2,    0.161,2,   -999.0,9,  -999.00,9,   -999.0,9,   -999.0,9,   -999.0,9,     7.59,2, -999.00,  -999.0, -999.00,  -999.0
    31DSCG96_1,  P15S,    35,  1,    121,   1246,2,19960119,0114,-65.6628,-170.0057, 3180,   -999,    366.9,   1.3868,  34.7228,2,  34.7228,2,    189.5,2,  1.3684,    189.1,2,    98.62,2,    32.32,2,     0.00,2,     2.16,2,    0.216,2,    0.112,2,   -999.0,9,  -999.00,9,   -999.0,9,   -999.0,9,   -999.0,9,     7.59,2, -999.00,  -999.0, -999.00,  -999.0
    31DSCG96_1,  P15S,    35,  1,    120,   1015,2,19960119,0114,-65.6628,-170.0057, 3180,   -999,    413.5,   1.3542,  34.7253,2,  34.7255,2,    188.8,2,  1.3334,    189.4,2,   100.19,2,    32.25,2,     0.00,2,     2.16,2,    0.188,2,    0.113,4,   -999.0,9,  -999.00,9,   -999.0,9,   -999.0,9,   -999.0,9,     7.59,2, -999.00,  -999.0, -999.00,  -999.0
    31DSCG96_1,  P15S,    35,  1,    119,   1247,2,19960119,0114,-65.6628,-170.0057, 3180,   -999,    469.0,   1.3251,  34.7258,2,  34.7259,2,    190.5,2,  1.3014,    189.8,2,   101.59,2,    32.31,2,     0.00,2,     2.16,2,    0.165,2,    0.085,2,   -999.0,9,  -999.00,9,   -999.0,9,   -999.0,9,   -999.0,9,     7.59,2, -999.00,  -999.0, -999.00,  -999.0
    31DSCG96_1,  P15S,    35,  1,    118,   1222,2,19960119,0114,-65.6628,-170.0057, 3180,   -999,    513.1,   1.2996,  34.7260,2,  34.7266,2,    191.2,2,  1.2736,    189.6,2,   102.46,2,    32.26,2,     0.00,2,     2.16,2,    0.157,2,    0.087,2,   -999.0,9,  -999.00,9,   -999.0,9,   -999.0,9,   -999.0,9,     7.59,2, -999.00,  -999.0, -999.00,  -999.0
    31DSCG96_1,  P15S,    35,  1,    117,   1267,2,19960119,0114,-65.6628,-170.0057, 3180,   -999,    565.6,   1.2604,  34.7260,2,  34.7275,2,    193.4,2,  1.2316,    192.9,2,   103.50,2,    32.13,2,     0.00,2,     2.15,2,    0.145,2,    0.086,2,   -999.0,9,  -999.00,9,   -999.0,9,   -999.0,9,   -999.0,9,     7.59,2, -999.00,  -999.0, -999.00,  -999.0
    31DSCG96_1,  P15S,    35,  1,    116,   1211,2,19960119,0114,-65.6628,-170.0057, 3180,   -999,    626.8,   1.2166,  34.7258,2,  34.7263,2,    193.9,2,  1.1846,    192.5,2,   105.53,2,    32.24,2,     0.00,2,     2.15,2,    0.131,2,    0.109,4,   -999.0,9,  -999.00,9,   -999.0,9,   -999.0,9,   -999.0,9,     7.59,2, -999.00,  -999.0, -999.00,  -999.0
    31DSCG96_1,  P15S,    35,  1,    115,   1041,2,19960119,0114,-65.6628,-170.0057, 3180,   -999,    722.1,   1.1546,  34.7250,2,  34.7239,2,    197.5,2,  1.1175,    197.4,2,   105.98,2,    31.90,2,     0.00,2,     2.14,2,    0.128,2,    0.083,2,   -999.0,9,  -999.00,9,   -999.0,9,   -999.0,9,   -999.0,9,     7.60,2, -999.00,  -999.0, -999.00,  -999.0
    31DSCG96_1,  P15S,    35,  1,    114,   1017,2,19960119,0114,-65.6628,-170.0057, 3180,   -999,    818.9,   1.0960,  34.7229,2,  34.7230,2,    201.2,2,  1.0537,    199.6,2,   107.66,2,    31.89,2,     0.00,2,     2.14,2,    0.135,2,    0.082,2,   -999.0,9,  -999.00,9,   -999.0,9,   -999.0,9,   -999.0,9,     7.60,2, -999.00,  -999.0, -999.00,  -999.0
    31DSCG96_1,  P15S,    35,  1,    113,   1008,2,19960119,0114,-65.6628,-170.0057, 3180,   -999,    922.2,   1.0377,  34.7217,2,  34.7217,2,    200.2,2,  0.9897,    201.3,2,   109.28,2,    31.79,2,     0.00,2,     2.14,2,    0.112,2,    0.060,2,   -999.0,9,  -999.00,9,   -999.0,9,   -999.0,9,   -999.0,9,     7.61,2, -999.00,  -999.0, -999.00,  -999.0
    31DSCG96_1,  P15S,    35,  1,    112,   1217,2,19960119,0114,-65.6628,-170.0057, 3180,   -999,   1024.8,   0.9709,  34.7185,2,  34.7201,2,    202.1,2,  0.9172,    201.6,2,   112.15,2,    32.03,2,     0.00,2,     2.16,2,    0.100,2,    0.070,2,   -999.0,9,  -999.00,9,   -999.0,9,   -999.0,9,   -999.0,9,     7.60,2, -999.00,  -999.0, -999.00,  -999.0
    31DSCG96_1,  P15S,    35,  1,    111,   1114,2,19960119,0114,-65.6628,-170.0057, 3180,   -999,   1136.7,   0.8816,  34.7147,2,  34.7149,2,    201.9,2,  0.8218,    202.9,2,   114.67,2,    32.16,2,     0.00,2,     2.17,2,    0.101,2,    0.062,2,   -999.0,9,  -999.00,9,   -999.0,9,   -999.0,9,   -999.0,9,     7.60,2, -999.00,  -999.0, -999.00,  -999.0
    31DSCG96_1,  P15S,    35,  1,    110,   1036,2,19960119,0114,-65.6628,-170.0057, 3180,   -999,   1316.8,   0.7722,  34.7106,2,  34.7111,2,    203.6,2,  0.7021,    203.2,6,   119.37,2,    32.40,2,     0.00,2,     2.18,2,    0.079,2,    0.054,2,   -999.0,9,  -999.00,9,   -999.0,9,   -999.0,9,   -999.0,9,     7.60,2, -999.00,  -999.0, -999.00,  -999.0
    31DSCG96_1,  P15S,    35,  1,    109,   1216,2,19960119,0114,-65.6628,-170.0057, 3180,   -999,   1565.0,   0.6571,  34.7069,2,  34.7069,2,    206.7,2,  0.5720,    205.9,2,   123.08,2,    32.47,2,     0.00,2,     2.19,2,    0.082,2,    0.063,2,   -999.0,9,  -999.00,9,   -999.0,9,   -999.0,9,   -999.0,9,     7.60,2, -999.00,  -999.0, -999.00,  -999.0
    31DSCG96_1,  P15S,    35,  1,    108,   1263,2,19960119,0114,-65.6628,-170.0057, 3180,   -999,   1819.9,   0.5258,  34.7017,2,  34.7015,2,    208.3,2,  0.4248,    212.7,3,   123.89,2,    32.50,2,     0.00,2,     2.20,2,    0.170,2,    0.099,2,   -999.0,9,  -999.00,9,   -999.0,9,   -999.0,9,   -999.0,9,     7.60,2, -999.00,  -999.0, -999.00,  -999.0
    31DSCG96_1,  P15S,    35,  1,    107,   1245,2,19960119,0114,-65.6628,-170.0057, 3180,   -999,   2075.6,   0.4243,  34.7013,2,  34.7013,2,    210.9,2,  0.3062,    210.9,6,   126.88,2,    32.62,2,     0.00,2,     2.20,2,    0.167,2,    0.091,2,   -999.0,9,  -999.00,9,   -999.0,9,   -999.0,9,   -999.0,9,     7.60,2, -999.00,  -999.0, -999.00,  -999.0
    31DSCG96_1,  P15S,    35,  1,    106,   1262,2,19960119,0114,-65.6628,-170.0057, 3180,   -999,   2313.6,   0.3359,  34.6987,2,  34.6985,2,    213.6,2,  0.2014,    213.8,2,   125.27,2,    32.56,2,     0.00,2,     2.20,2,    0.327,2,    0.170,4,   -999.0,9,  -999.00,9,   -999.0,9,   -999.0,9,   -999.0,9,     7.60,2, -999.00,  -999.0, -999.00,  -999.0
    31DSCG96_1,  P15S,    35,  1,    105,   1113,2,19960119,0114,-65.6628,-170.0057, 3180,   -999,   2558.3,   0.2918,  34.6981,2,  34.6977,2,    215.1,2,  0.1389,    215.9,2,   124.97,2,    32.57,2,     0.00,2,     2.20,2,    0.393,2,    0.197,2,   -999.0,9,  -999.00,9,   -999.0,9,   -999.0,9,   -999.0,9,     7.60,2, -999.00,  -999.0, -999.00,  -999.0
    31DSCG96_1,  P15S,    35,  1,    104,   1003,2,19960119,0114,-65.6628,-170.0057, 3180,   -999,   2809.8,   0.2569,  34.6980,2,  34.6973,2,    217.1,2,  0.0839,    217.2,6,   124.64,2,    32.57,2,     0.00,2,     2.20,2,    0.451,2,    0.236,2,   -999.0,9,  -999.00,9,   -999.0,9,   -999.0,9,   -999.0,9,     7.60,2, -999.00,  -999.0, -999.00,  -999.0
    31DSCG96_1,  P15S,    35,  1,    102,   1027,2,19960119,0114,-65.6628,-170.0057, 3180,   -999,   3060.4,   0.2394,  34.6977,2,  34.6971,2,    218.1,2,  0.0452,    218.2,2,   124.34,2,    32.47,2,     0.00,2,     2.20,2,    0.518,2,    0.266,2,   -999.0,9,  -999.00,9,   -999.0,9,   -999.0,9,   -999.0,9,     7.60,2, -999.00,  -999.0, -999.00,  -999.0
    31DSCG96_1,  P15S,    35,  1,    103,   9999,2,19960119,0114,-65.6628,-170.0057, 3180,   -999,   3061.2,   0.2397,  34.6973,2,  34.6973,2,    218.1,2,  0.0454,    218.6,2,   124.28,6,    32.65,2,     0.00,6,     2.20,2,    0.516,6,    0.247,6,   -999.0,9,  -999.00,9,   -999.0,9,   -999.0,9,   -999.0,9,     7.60,2, -999.00,  -999.0, -999.00,  -999.0
    31DSCG96_1,  P15S,    35,  1,    101,   1022,2,19960119,0114,-65.6628,-170.0057, 3180,   -999,   3187.1,   0.2492,  34.6974,2,  34.6965,2,    217.0,2,  0.0435,    218.7,2,   124.21,6,    32.55,6,     0.00,6,     2.20,6,    0.528,6,    0.267,6,   -999.0,9,  -999.00,9,   -999.0,9,   -999.0,9,   -999.0,9,     7.60,2, -999.00,  -999.0, -999.00,  -999.0