BOTTLE,20220811CCHSIOAMB
EXPOCODE,SECT_ID,STNNBR,CASTNO,SAMPNO,BTLNBR,BTLNBR_FLAG_W,DATE,TIME,LATITUDE,LONGITUDE,DEPTH,CTDRAW,CTDPRS,CTDTMP,CTDSAL,CTDSAL_FLAG_W,SALNTY,SALNTY_FLAG_W,CTDOXY,CTDOXY_FLAG_W,THETA,OXYGEN,OXYGEN_FLAG_W,SILCAT,SILCAT_FLAG_W,NITRAT,NITRAT_FLAG_W,NITRIT,NITRIT_FLAG_W,PHSPHT,PHSPHT_FLAG_W,CFC-11,CFC-11_FLAG_W,CFC-12,CFC-12_FLAG_W,DELC14,DELC14_FLAG_W,DELC13,DELC13_FLAG_W,TCARBN,TCARBN_FLAG_W,PCO2,PCO2_FLAG_W,ALKALI,ALKALI_FLAG_W,PH,PH_FLAG_W,PCO2TMP,C14ERR,PH_TMP,C13ERR
,,,,,,,,,,,,DBAR,DBAR,ITS-90,PSS-78,,PSS-78,,UMOL/KG,,DEG C,UMOL/KG,,UMOL/KG,,UMOL/KG,,UMOL/KG,,UMOL/KG,,PMOL/KG,,PMOL/KG,,/MILLE,,/MILLE,,UMOL/KG,,UATM,,UMOL/KG,,,,DEG C,/MILLE,DEG C,/MILLE
    31DSCG96_2,  P15S,   117,  1,    136,   1245,2,19960219,2259,-30.0025,-169.9962, 5394,   -999,      2.2,  23.8625,  35.8412,2,-999.0000,5,    218.2,2, 23.8620,    212.5,2,     1.23,2,     0.00,2,     0.00,2,     0.03,3, -999.000,9, -999.000,9,     90.6,2,     1.32,2,   2014.7,2,    297.9,2,   2350.1,2,     8.07,2, -999.00,     3.5, -999.00,  -999.0
    31DSCG96_2,  P15S,   117,  1,    135,   1113,2,19960219,2259,-30.0025,-169.9962, 5394,   -999,     28.0,  23.3439,  35.8209,2,  35.8248,2,    213.0,2, 23.3381,    214.4,6,     1.34,2,     0.00,2,     0.00,2,     0.04,3, -999.000,9, -999.000,9,    100.9,2,     1.38,2,   2013.6,2,    294.8,2,   2349.0,2,     8.08,2, -999.00,     3.5, -999.00,  -999.0
    31DSCG96_2,  P15S,   117,  1,    134,   1216,2,19960219,2259,-30.0025,-169.9962, 5394,   -999,     53.2,  19.6830,  35.7300,2,  35.7319,2,    230.2,2, 19.6732,    240.8,2,     1.26,2,     0.00,2,     0.00,2,     0.07,2, -999.000,9, -999.000,9,    103.2,2,     1.47,2,   2025.0,2,    314.7,2,   2339.7,2,     8.04,2, -999.00,     3.6, -999.00,  -999.0
    31DSCG96_2,  P15S,   117,  1,    133,   1221,2,19960219,2259,-30.0025,-169.9962, 5394,   -999,     82.4,  18.5550,  35.7024,2,  35.7036,2,    233.4,2, 18.5405,    235.6,2,     1.43,2,     0.00,2,     0.00,2,     0.10,2, -999.000,9, -999.000,9,    102.2,2,     1.40,2,   2033.3,2,    329.9,2,   2341.4,2,     8.03,2, -999.00,     3.5, -999.00,  -999.0
    31DSCG96_2,  P15S,   117,  1,    132,   1039,2,19960219,2259,-30.0025,-169.9962, 5394,   -999,    114.5,  17.8388,  35.6713,2,  35.6743,2,    220.4,2, 17.8192,    225.7,2,     1.45,2,     0.04,2,     0.01,2,     0.14,2, -999.000,9, -999.000,9,     98.2,2,     1.27,2,   2046.4,2,    356.5,2,   2341.8,2,     8.02,3, -999.00,     3.8, -999.00,  -999.0
    31DSCG96_2,  P15S,   117,  1,    131,   1014,2,19960219,2259,-30.0025,-169.9962, 5394,   -999,    162.5,  16.5115,  35.5503,2,  35.5539,2,    209.1,2, 16.4851,    206.6,2,     2.02,2,     3.86,2,     0.02,2,     0.36,2, -999.000,9, -999.000,9,     90.5,2,     1.18,2,   2070.2,2,    415.5,2,   2334.5,2,     7.96,2, -999.00,     3.5, -999.00,  -999.0
    31DSCG96_2,  P15S,   117,  1,    130,   1257,2,19960219,2259,-30.0025,-169.9962, 5394,   -999,    212.8,  15.5860,  35.4597,2,  35.4612,2,    210.6,2, 15.5528,    206.7,2,     2.49,2,     5.62,2,     0.01,2,     0.48,2, -999.000,9, -999.000,9,     80.3,2,     1.17,2,   2078.1,2,    444.1,2,   2326.6,2,     7.93,2, -999.00,     3.5, -999.00,  -999.0
    31DSCG96_2,  P15S,   117,  1,    129,   1256,2,19960219,2259,-30.0025,-169.9962, 5394,   -999,    265.3,  14.3560,  35.2833,2,  35.2846,2,    202.2,2, 14.3168,    199.3,2,     3.13,2,     8.05,2,     0.00,2,     0.63,2, -999.000,9, -999.000,9,     78.8,2,     1.16,2,   2091.8,2,    497.6,2,   2318.6,2,     7.89,2, -999.00,     3.9, -999.00,  -999.0
    31DSCG96_2,  P15S,   117,  1,    128,   1007,2,19960219,2259,-30.0025,-169.9962, 5394,   -999,    326.7,  12.6481,  35.0715,2,  35.0783,2,    196.9,2, 12.6037,    194.4,2,     4.33,2,    11.76,2,     0.00,2,     0.86,2, -999.000,9, -999.000,9,     59.4,2,     1.14,2,   2108.9,2,    572.4,2,   2308.8,2,     7.84,2, -999.00,     3.4, -999.00,  -999.0
    31DSCG96_2,  P15S,   117,  1,    127,   1232,2,19960219,2259,-30.0025,-169.9962, 5394,   -999,    432.6,  10.4719,  34.7932,2,  34.8023,2,    197.5,2, 10.4197,    196.8,2,     5.71,2,    16.21,2,     0.00,2,     1.13,2, -999.000,9, -999.000,9,     41.3,2,     1.17,2,   2124.2,2,    667.0,2,   2303.0,3,     7.78,2, -999.00,     3.3, -999.00,  -999.0
    31DSCG96_2,  P15S,   117,  1,    126,   1025,2,19960219,2259,-30.0025,-169.9962, 5394,   -999,    525.8,   8.4998,  34.5587,2,  34.5592,2,    212.5,2,  8.4439,    214.7,2,     6.46,2,    19.44,2,     0.00,2,     1.34,2, -999.000,9, -999.000,9,     25.6,6,     1.27,6,   2130.2,2,    728.3,2,   2289.5,2,     7.75,2, -999.00,     6.0, -999.00,  -999.0
    31DSCG96_2,  P15S,   117,  1,    125,   1233,2,19960219,2259,-30.0025,-169.9962, 5394,   -999,    622.0,   7.4819,  34.4514,2,  34.4540,2,    225.2,2,  7.4201,    225.9,6,     7.63,2,    21.43,2,     0.00,2,     1.47,2, -999.000,9, -999.000,9,      1.5,2,     1.29,2,   2131.8,2,    737.2,2,   2289.9,3,     7.74,2, -999.00,     3.6, -999.00,  -999.0
    31DSCG96_2,  P15S,   117,  1,    124,   1013,2,19960219,2259,-30.0025,-169.9962, 5394,   -999,    727.9,   6.7284,  34.3886,2,  34.3895,2,    228.8,2,  6.6597,    229.7,2,     9.80,2,    23.37,2,     0.00,2,     1.61,2, -999.000,9, -999.000,9,    -36.7,2,     1.34,2,   2138.9,2,    763.9,2,   2285.6,2,     7.72,2, -999.00,     3.8, -999.00,  -999.0
    31DSCG96_2,  P15S,   117,  1,    123,   1250,2,19960219,2259,-30.0025,-169.9962, 5394,   -999,    825.7,   6.0554,  34.3458,2,  34.3464,2,    224.1,2,  5.9812,    224.2,2,    13.58,2,    25.49,2,     0.00,2,     1.73,2, -999.000,9, -999.000,9,    -53.6,2,     1.28,2,   2147.9,2,    810.9,2,   2285.6,2,     7.71,2, -999.00,     3.3, -999.00,  -999.0
    31DSCG96_2,  P15S,   117,  1,    122,   1265,2,19960219,2259,-30.0025,-169.9962, 5394,   -999,    923.4,   5.5901,  34.3355,2,  34.3366,2,    214.0,2,  5.5098,    214.0,2,    18.64,2,    27.35,2,     0.00,2,     1.87,2, -999.000,9, -999.000,9,    -79.5,2,     1.22,2,   2161.0,2,    870.7,2,   2289.9,2,     7.68,2, -999.00,     3.3, -999.00,  -999.0
    31DSCG96_2,  P15S,   117,  1,    121,   1246,2,19960219,2259,-30.0025,-169.9962, 5394,   -999,   1026.7,   4.9322,  34.3405,2,  34.3419,2,    200.7,2,  4.8473,    200.2,2,    27.59,2,    29.85,2,     0.00,2,     2.04,2, -999.000,9, -999.000,9,   -109.6,2,     1.02,2,   2180.4,2,    945.9,2,   2302.6,3,     7.65,2, -999.00,     3.4, -999.00,  -999.0
    31DSCG96_2,  P15S,   117,  1,    120,   1015,2,19960219,2259,-30.0025,-169.9962, 5394,   -999,   1123.7,   4.3870,  34.3628,2,  34.3644,2,    189.0,2,  4.2979,    189.4,2,    37.16,2,    31.62,2,     0.00,2,     2.16,2, -999.000,9, -999.000,9,   -123.4,2,     0.91,2,   2197.8,2,   1017.6,2,   2306.4,2,     7.62,2, -999.00,     2.8, -999.00,  -999.0
    31DSCG96_2,  P15S,   117,  1,    119,   1247,2,19960219,2259,-30.0025,-169.9962, 5394,   -999,   1226.0,   3.8339,  34.4004,2,  34.4014,2,    180.3,2,  3.7408,    180.0,2,    48.82,2,    33.03,2,     0.00,2,     2.27,2, -999.000,9, -999.000,9,   -144.3,2,     0.75,2,   2216.8,2,   1084.0,2,   2321.1,2,     7.60,2, -999.00,     3.3, -999.00,  -999.0
    31DSCG96_2,  P15S,   117,  1,    118,   1222,2,19960219,2259,-30.0025,-169.9962, 5394,   -999,   1350.4,   3.3583,  34.4491,2,  34.4514,2,    172.2,2,  3.2593,    171.9,2,    60.96,2,    33.96,2,     0.00,2,     2.33,2, -999.000,9, -999.000,9,   -999.0,9,  -999.00,9,   2233.1,2,   1134.8,2,   2330.0,2,     7.59,2, -999.00,  -999.0, -999.00,  -999.0
    31DSCG96_2,  P15S,   117,  1,    117,   1267,2,19960219,2259,-30.0025,-169.9962, 5394,   -999,   1555.9,   2.7857,  34.5416,2,  34.5427,2,    160.6,2,  2.6758,    161.0,2,    83.28,2,    34.92,2,     0.00,2,     2.41,2, -999.000,9, -999.000,9,   -999.0,9,  -999.00,9,   2261.8,2,   1169.8,2,   2346.7,3,     7.58,2, -999.00,  -999.0, -999.00,  -999.0
    31DSCG96_2,  P15S,   117,  1,    116,   1211,2,19960219,2259,-30.0025,-169.9962, 5394,   -999,   1814.5,   2.4542,  34.6033,2,  34.6055,2,    150.2,2,  2.3268,    150.8,2,   103.72,2,    35.52,2,     0.00,2,     2.46,2, -999.000,9, -999.000,9,   -999.0,9,  -999.00,9,   2287.5,2,   1191.8,2,   2379.7,2,     7.57,2, -999.00,  -999.0, -999.00,  -999.0
    31DSCG96_2,  P15S,   117,  1,    115,   1041,2,19960219,2259,-30.0025,-169.9962, 5394,   -999,   2046.1,   2.2843,  34.6220,3,  34.6262,2,    147.8,2,  2.1395,    147.5,2,   112.57,2,    35.84,2,     0.00,2,     2.49,2, -999.000,9, -999.000,9,   -999.0,9,  -999.00,9,   2297.7,2,   1209.3,2,   2394.3,2,     7.57,2, -999.00,  -999.0, -999.00,  -999.0
    31DSCG96_2,  P15S,   117,  1,    114,   1017,2,19960219,2259,-30.0025,-169.9962, 5394,   -999,   2315.9,   2.1070,  34.6356,3,  34.6419,2,    146.4,2,  1.9415,    145.8,2,   120.96,2,    36.08,2,     0.00,2,     2.51,2, -999.000,9, -999.000,9,   -999.0,9,  -999.00,9,   2307.0,2,   1219.7,2,   2399.1,2,     7.57,2, -999.00,  -999.0, -999.00,  -999.0
    31DSCG96_2,  P15S,   117,  1,    113,   1302,2,19960219,2259,-30.0025,-169.9962, 5394,   -999,   2567.4,   1.9960,  34.6520,2,  34.6538,2,    146.6,2,  1.8096,    145.7,2,   125.36,2,    36.11,2,     0.00,2,     2.51,2,    0.000,2,    0.001,2,   -999.0,9,  -999.00,9,   2311.4,2,   1218.2,2,   2406.0,2,     7.57,2, -999.00,  -999.0, -999.00,  -999.0
    31DSCG96_2,  P15S,   117,  1,    112,   1217,2,19960219,2259,-30.0025,-169.9962, 5394,   -999,   2814.6,   1.8840,  34.6624,2,  34.6648,2,    148.0,2,  1.6767,    147.5,2,   128.66,2,    36.04,2,     0.00,2,     2.50,2, -999.000,9, -999.000,9,   -999.0,9,  -999.00,9,   2312.2,2,   1227.0,2,   2405.9,2,     7.57,2, -999.00,  -999.0, -999.00,  -999.0
    31DSCG96_2,  P15S,   117,  1,    111,   1114,2,19960219,2259,-30.0025,-169.9962, 5394,   -999,   3060.0,   1.7642,  34.6769,2,  34.6787,2,    155.3,2,  1.5357,    155.3,2,   127.54,2,    35.32,2,     0.00,2,     2.45,2, -999.000,9, -999.000,9,   -999.0,9,  -999.00,9,   2305.2,2,   1189.6,2,   2400.5,2,     7.58,3, -999.00,  -999.0, -999.00,  -999.0
    31DSCG96_2,  P15S,   117,  1,    110,   1301,2,19960219,2259,-30.0025,-169.9962, 5394,   -999,   3311.4,   1.6618,  34.6957,2,  34.6990,3,    171.1,2,  1.4107,    170.0,2,   120.11,2,    34.02,2,     0.00,2,     2.35,2,   -0.001,2,    0.001,2,   -999.0,9,  -999.00,9,   2288.5,2,   1138.9,2,   2387.9,2,     7.59,2, -999.00,  -999.0, -999.00,  -999.0
    31DSCG96_2,  P15S,   117,  1,    109,   1119,2,19960219,2259,-30.0025,-169.9962, 5394,   -999,   3565.8,   1.5366,  34.7149,2,  34.7159,2,    188.1,2,  1.2625,    187.5,6,   111.23,2,    32.51,2,     0.00,2,     2.23,2, -999.000,9, -999.000,9,   -999.0,9,  -999.00,9,   2267.8,2,   1098.4,2,   2375.4,2,     7.60,2, -999.00,  -999.0, -999.00,  -999.0
    31DSCG96_2,  P15S,   117,  1,    108,   1227,2,19960219,2259,-30.0025,-169.9962, 5394,   -999,   3813.2,   1.3660,  34.7200,2,  34.7217,2,    197.9,2,  1.0705,    196.8,2,   110.65,2,    31.90,2,     0.00,2,     2.19,2, -999.000,9, -999.000,9,   -999.0,9,  -999.00,9,   2259.6,2,   1092.2,2,   2366.3,2,     7.61,2, -999.00,  -999.0, -999.00,  -999.0
    31DSCG96_2,  P15S,   117,  1,    107,   1263,2,19960219,2259,-30.0025,-169.9962, 5394,   -999,   4064.9,   1.2082,  34.7174,2,  34.7196,2,    202.3,2,  0.8903,    200.9,2,   114.16,2,    31.91,2,     0.00,2,     2.19,2,    0.005,6,    0.004,6,   -999.0,9,  -999.00,9,   2257.8,2,   1068.5,2,   2368.3,2,  -999.00,9, -999.00,  -999.0, -999.00,  -999.0
    31DSCG96_2,  P15S,   117,  1,    106,   1262,2,19960219,2259,-30.0025,-169.9962, 5394,   -999,   4315.3,   1.0880,  34.7132,2,  34.7146,2,    204.8,2,  0.7462,    204.1,2,   117.63,2,    32.04,2,     0.00,2,     2.20,2, -999.000,9, -999.000,9,   -999.0,9,  -999.00,9,   2257.8,2,   1069.4,2,   2371.2,3,     7.61,2, -999.00,  -999.0, -999.00,  -999.0
    31DSCG96_2,  P15S,   117,  1,    105,   1264,2,19960219,2259,-30.0025,-169.9962, 5394,   -999,   4564.6,   1.0366,  34.7103,2,  34.7127,2,    206.0,2,  0.6685,    205.9,2,   119.61,2,    32.11,2,     0.00,2,     2.21,2,    0.009,2,    0.006,2,   -999.0,9,  -999.00,9,   2258.6,2,   1067.2,2,   2372.9,3,     7.61,2, -999.00,  -999.0, -999.00,  -999.0
    31DSCG96_2,  P15S,   117,  1,    104,   1003,2,19960219,2259,-30.0025,-169.9962, 5394,   -999,   4814.8,   1.0187,  34.7084,2,  34.7122,3,    206.5,2,  0.6223,    206.0,2,   120.84,2,    32.14,2,     0.00,2,     2.20,2, -999.000,9, -999.000,9,   -999.0,9,  -999.00,9,   2259.0,2,   1076.7,2,   2366.4,2,     7.61,2, -999.00,  -999.0, -999.00,  -999.0
    31DSCG96_2,  P15S,   117,  1,    103,   1035,2,19960219,2259,-30.0025,-169.9962, 5394,   -999,   5008.6,   1.0282,  34.7079,2,  34.7092,2,    206.7,2,  0.6087,    206.4,6,   121.47,2,    32.25,2,     0.00,2,     2.20,2,    0.012,2,    0.007,2,   -999.0,9,  -999.00,9,   2259.7,2,   1078.7,2,   2368.9,2,     7.61,2, -999.00,  -999.0, -999.00,  -999.0
    31DSCG96_2,  P15S,   117,  1,    102,   1030,2,19960219,2259,-30.0025,-169.9962, 5394,   -999,   5313.7,   1.0574,  34.7074,2,  34.7083,2,    207.0,2,  0.5999,    206.7,2,   121.79,2,    32.24,2,     0.00,2,     2.21,2,    0.012,2,    0.009,2,   -999.0,9,  -999.00,9,   2259.4,2,   1064.8,2,   2380.0,3,     7.61,2, -999.00,  -999.0, -999.00,  -999.0
    31DSCG96_2,  P15S,   117,  1,    101,   1022,2,19960219,2259,-30.0025,-169.9962, 5394,   -999,   5511.6,   1.0821,  34.7071,2,  34.7087,2,    207.0,2,  0.5992,    206.8,2,   121.81,6,    32.25,6,     0.00,6,     2.21,6,    0.013,6,    0.009,6,   -999.0,9,  -999.00,9,   2260.9,2,   1069.6,2,   2380.9,3,     7.61,2, -999.00,  -999.0, -999.00,  -999.0