BOTTLE,20220811CCHSIOAMB
EXPOCODE,SECT_ID,STNNBR,CASTNO,SAMPNO,BTLNBR,BTLNBR_FLAG_W,DATE,TIME,LATITUDE,LONGITUDE,DEPTH,CTDRAW,CTDPRS,CTDTMP,CTDSAL,CTDSAL_FLAG_W,SALNTY,SALNTY_FLAG_W,CTDOXY,CTDOXY_FLAG_W,THETA,OXYGEN,OXYGEN_FLAG_W,SILCAT,SILCAT_FLAG_W,NITRAT,NITRAT_FLAG_W,NITRIT,NITRIT_FLAG_W,PHSPHT,PHSPHT_FLAG_W,CFC-11,CFC-11_FLAG_W,CFC-12,CFC-12_FLAG_W,DELC14,DELC14_FLAG_W,DELC13,DELC13_FLAG_W,TCARBN,TCARBN_FLAG_W,PCO2,PCO2_FLAG_W,ALKALI,ALKALI_FLAG_W,PH,PH_FLAG_W,PCO2TMP,C14ERR,PH_TMP,C13ERR
,,,,,,,,,,,,DBAR,DBAR,ITS-90,PSS-78,,PSS-78,,UMOL/KG,,DEG C,UMOL/KG,,UMOL/KG,,UMOL/KG,,UMOL/KG,,UMOL/KG,,PMOL/KG,,PMOL/KG,,/MILLE,,/MILLE,,UMOL/KG,,UATM,,UMOL/KG,,,,DEG C,/MILLE,DEG C,/MILLE
    31DSCG96_2,  P15S,   121,  2,    236,   1245,2,19960221,0010,-28.0042,-169.9930, 4888,   -999,      2.6,  24.4779,  35.7399,2,  35.7392,2,    211.9,2, 24.4774,    210.4,2,     1.09,2,     0.03,2,     0.00,2,     0.01,3, -999.000,9, -999.000,9,    101.8,2,  -999.00,9,   2000.0,2,    280.4,6,   -999.0,9,     8.09,2, -999.00,     3.4, -999.00,  -999.0
    31DSCG96_2,  P15S,   121,  2,    235,   1113,2,19960221,0010,-28.0042,-169.9930, 4888,   -999,     30.2,  24.2709,  35.7324,2,  35.7344,2,    209.9,2, 24.2644,    210.7,2,     1.08,2,     0.01,2,     0.00,2,     0.02,3, -999.000,9, -999.000,9,   -999.0,9,  -999.00,9,   -999.0,9,   -999.0,9,   -999.0,9,     8.09,2, -999.00,  -999.0, -999.00,  -999.0
    31DSCG96_2,  P15S,   121,  2,    234,   1216,2,19960221,0010,-28.0042,-169.9930, 4888,   -999,     55.9,  21.9344,  35.8206,2,  35.8269,2,    230.7,2, 21.9234,    225.4,2,     1.12,2,     0.03,2,     0.00,2,     0.05,2, -999.000,9, -999.000,9,   -999.0,9,  -999.00,9,   -999.0,9,   -999.0,9,   -999.0,9,     8.05,2, -999.00,  -999.0, -999.00,  -999.0
    31DSCG96_2,  P15S,   121,  2,    233,   1221,2,19960221,0010,-28.0042,-169.9930, 4888,   -999,     79.9,  19.5584,  35.7320,2,  35.7319,2,    232.0,2, 19.5438,    241.2,2,     1.29,2,     0.03,2,     0.00,2,     0.08,2, -999.000,9, -999.000,9,   -999.0,9,  -999.00,9,   -999.0,9,   -999.0,9,   -999.0,9,     8.05,2, -999.00,  -999.0, -999.00,  -999.0
    31DSCG96_2,  P15S,   121,  2,    232,   1039,2,19960221,0010,-28.0042,-169.9930, 4888,   -999,    104.5,  17.8047,  35.6652,2,  35.6700,2,    217.9,2, 17.7868,    226.6,2,     1.30,2,     0.01,2,     0.00,2,     0.14,2, -999.000,9, -999.000,9,   -999.0,9,  -999.00,9,   -999.0,9,   -999.0,9,   -999.0,9,     8.01,2, -999.00,  -999.0, -999.00,  -999.0
    31DSCG96_2,  P15S,   121,  2,    231,   1014,2,19960221,0010,-28.0042,-169.9930, 4888,   -999,    129.3,  17.1739,  35.6216,2,  35.6208,2,    210.0,2, 17.1524,    212.4,6,     1.58,2,     2.13,2,     0.11,2,     0.26,2, -999.000,9, -999.000,9,   -999.0,9,  -999.00,9,   -999.0,9,   -999.0,9,   -999.0,9,     7.98,2, -999.00,  -999.0, -999.00,  -999.0
    31DSCG96_2,  P15S,   121,  2,    230,   1257,2,19960221,0010,-28.0042,-169.9930, 4888,   -999,    164.7,  16.7060,  35.5771,2,  35.5782,2,    206.2,2, 16.6791,    207.9,2,     1.75,2,     3.51,2,     0.03,2,     0.34,2, -999.000,9, -999.000,9,   -999.0,9,  -999.00,9,   -999.0,9,   -999.0,9,   -999.0,9,     7.96,2, -999.00,  -999.0, -999.00,  -999.0
    31DSCG96_2,  P15S,   121,  2,    229,   1256,2,19960221,0010,-28.0042,-169.9930, 4888,   -999,    215.5,  15.6288,  35.4526,2,  35.4545,2,    207.5,2, 15.5951,    207.8,2,     2.15,2,     5.00,2,     0.00,2,     0.44,2, -999.000,9, -999.000,9,   -999.0,9,  -999.00,9,   -999.0,9,   -999.0,9,   -999.0,9,     7.94,2, -999.00,  -999.0, -999.00,  -999.0
    31DSCG96_2,  P15S,   121,  2,    228,   1007,2,19960221,0010,-28.0042,-169.9930, 4888,   -999,    265.1,  14.2415,  35.2525,2,  35.2544,2,    198.8,2, 14.2026,    198.1,2,     2.93,2,     8.18,2,     0.00,2,     0.63,2, -999.000,9, -999.000,9,   -999.0,9,  -999.00,9,   -999.0,9,   -999.0,9,   -999.0,9,     7.89,2, -999.00,  -999.0, -999.00,  -999.0
    31DSCG96_2,  P15S,   121,  2,    227,   1232,2,19960221,0010,-28.0042,-169.9930, 4888,   -999,    314.6,  12.4519,  35.0104,2,  35.0058,2,    194.9,2, 12.4097,    192.9,2,     4.11,2,    12.29,2,     0.00,2,     0.90,2, -999.000,9, -999.000,9,   -999.0,9,  -999.00,9,   -999.0,9,   -999.0,9,   -999.0,9,     7.83,2, -999.00,  -999.0, -999.00,  -999.0
    31DSCG96_2,  P15S,   121,  2,    226,   1025,2,19960221,0010,-28.0042,-169.9930, 4888,   -999,    366.0,  11.2747,  34.8801,2,  34.8768,2,    195.2,2, 11.2286,    195.4,2,     4.86,2,    14.52,2,     0.00,2,     1.04,2, -999.000,9, -999.000,9,   -999.0,9,  -999.00,9,   -999.0,9,   -999.0,9,   -999.0,9,     7.81,2, -999.00,  -999.0, -999.00,  -999.0
    31DSCG96_2,  P15S,   121,  2,    225,   1119,2,19960221,0010,-28.0042,-169.9930, 4888,   -999,    425.2,   9.8523,  34.7064,2,  34.7052,2,    200.8,2,  9.8030,    200.4,2,     5.74,2,    17.29,2,     0.00,2,     1.21,2, -999.000,9, -999.000,9,   -999.0,9,  -999.00,9,   -999.0,9,   -999.0,9,   -999.0,9,     7.77,3, -999.00,  -999.0, -999.00,  -999.0
    31DSCG96_2,  P15S,   121,  2,    224,   1013,2,19960221,0010,-28.0042,-169.9930, 4888,   -999,    523.2,   8.0157,  34.4965,2,  34.4949,2,    213.3,2,  7.9620,    215.9,2,     7.18,2,    20.74,2,     0.00,2,     1.43,2, -999.000,9, -999.000,9,   -999.0,9,  -999.00,9,   -999.0,9,   -999.0,9,   -999.0,9,     7.74,2, -999.00,  -999.0, -999.00,  -999.0
    31DSCG96_2,  P15S,   121,  2,    223,   1250,2,19960221,0010,-28.0042,-169.9930, 4888,   -999,    627.4,   7.0446,  34.4132,2,  34.4141,2,    227.7,2,  6.9844,    228.4,6,     8.38,2,    22.50,2,     0.00,2,     1.53,2, -999.000,9, -999.000,9,   -999.0,9,  -999.00,9,   -999.0,9,   -999.0,9,   -999.0,9,     7.73,2, -999.00,  -999.0, -999.00,  -999.0
    31DSCG96_2,  P15S,   121,  2,    222,   1265,2,19960221,0010,-28.0042,-169.9930, 4888,   -999,    727.9,   6.3168,  34.3608,2,  34.3610,2,    227.7,2,  6.2504,    226.5,2,    11.60,2,    24.67,2,     0.00,2,     1.68,2, -999.000,9, -999.000,9,   -999.0,9,  -999.00,9,   -999.0,9,   -999.0,9,   -999.0,9,     7.72,2, -999.00,  -999.0, -999.00,  -999.0
    31DSCG96_2,  P15S,   121,  2,    221,   1246,2,19960221,0010,-28.0042,-169.9930, 4888,   -999,    826.3,   5.8632,  34.3396,2,  34.3394,2,    220.5,2,  5.7901,    220.4,2,    15.17,2,    26.35,2,     0.00,2,     1.79,2, -999.000,9, -999.000,9,   -999.0,9,  -999.00,9,   -999.0,9,   -999.0,9,   -999.0,9,     7.70,2, -999.00,  -999.0, -999.00,  -999.0
    31DSCG96_2,  P15S,   121,  2,    220,   1015,2,19960221,0010,-28.0042,-169.9930, 4888,   -999,    928.2,   5.2524,  34.3319,2,  34.3315,2,    209.3,2,  5.1740,    208.6,2,    22.20,2,    28.65,2,     0.00,2,     1.95,2, -999.000,9, -999.000,9,   -999.0,9,  -999.00,9,   -999.0,9,   -999.0,9,   -999.0,9,     7.67,2, -999.00,  -999.0, -999.00,  -999.0
    31DSCG96_2,  P15S,   121,  2,    219,   1247,2,19960221,0010,-28.0042,-169.9930, 4888,   -999,   1023.6,   4.6760,  34.3448,2,  34.3447,2,    196.4,2,  4.5933,    196.1,2,    31.10,2,    30.75,2,     0.00,2,     2.09,2, -999.000,9, -999.000,9,   -999.0,9,  -999.00,9,   -999.0,9,   -999.0,9,   -999.0,9,     7.64,2, -999.00,  -999.0, -999.00,  -999.0
    31DSCG96_2,  P15S,   121,  2,    218,   1222,2,19960221,0010,-28.0042,-169.9930, 4888,   -999,   1125.5,   4.0814,  34.3747,2,  34.3754,2,    185.2,2,  3.9947,    184.9,2,    41.70,2,    32.33,2,     0.00,2,     2.21,2, -999.000,9, -999.000,9,   -999.0,9,  -999.00,9,   -999.0,9,   -999.0,9,   -999.0,9,     7.62,2, -999.00,  -999.0, -999.00,  -999.0
    31DSCG96_2,  P15S,   121,  2,    217,   1267,2,19960221,0010,-28.0042,-169.9930, 4888,   -999,   1222.2,   3.6146,  34.4140,2,  34.4150,2,    176.2,2,  3.5239,    177.6,2,    52.70,2,    33.51,2,     0.00,2,     2.30,2, -999.000,9, -999.000,9,   -999.0,9,  -999.00,9,   -999.0,9,   -999.0,9,   -999.0,9,     7.60,2, -999.00,  -999.0, -999.00,  -999.0
    31DSCG96_2,  P15S,   121,  2,    216,   1259,2,19960221,0010,-28.0042,-169.9930, 4888,   -999,   1349.2,   3.1585,  34.4726,2,  34.4736,2,    167.7,2,  3.0616,    169.2,2,    66.55,2,    34.37,2,     0.00,2,     2.36,2, -999.000,9, -999.000,9,   -999.0,9,  -999.00,9,   -999.0,9,   -999.0,9,   -999.0,9,     7.58,2, -999.00,  -999.0, -999.00,  -999.0
    31DSCG96_2,  P15S,   121,  2,    215,   1041,2,19960221,0010,-28.0042,-169.9930, 4888,   -999,   1565.2,   2.6741,  34.5586,2,  34.5582,2,    157.4,2,  2.5647,    158.1,2,    88.36,2,    35.10,2,     0.00,2,     2.42,2, -999.000,9, -999.000,9,   -999.0,9,  -999.00,9,   -999.0,9,   -999.0,9,   -999.0,9,     7.58,2, -999.00,  -999.0, -999.00,  -999.0
    31DSCG96_2,  P15S,   121,  2,    214,   1017,2,19960221,0010,-28.0042,-169.9930, 4888,   -999,   1816.6,   2.3531,  34.6137,2,  34.6138,2,    149.2,2,  2.2269,    149.1,2,   108.31,2,    35.73,2,     0.00,2,     2.48,2, -999.000,9, -999.000,9,   -999.0,9,  -999.00,9,   -999.0,9,   -999.0,9,   -999.0,9,     7.57,2, -999.00,  -999.0, -999.00,  -999.0
    31DSCG96_2,  P15S,   121,  2,    213,   1302,2,19960221,0010,-28.0042,-169.9930, 4888,   -999,   2065.0,   2.1791,  34.6332,2,  34.6344,2,    146.1,2,  2.0343,    145.8,2,   117.49,2,    36.04,2,     0.00,2,     2.51,2, -999.000,9, -999.000,9,   -999.0,9,  -999.00,9,   -999.0,9,   -999.0,9,   -999.0,9,     7.57,2, -999.00,  -999.0, -999.00,  -999.0
    31DSCG96_2,  P15S,   121,  2,    212,   1217,2,19960221,0010,-28.0042,-169.9930, 4888,   -999,   2315.4,   2.0542,  34.6449,2,  34.6442,2,    145.6,2,  1.8896,    145.4,2,   122.95,2,    36.15,2,     0.00,2,     2.51,2, -999.000,9, -999.000,9,   -999.0,9,  -999.00,9,   -999.0,9,   -999.0,9,   -999.0,9,     7.57,2, -999.00,  -999.0, -999.00,  -999.0
    31DSCG96_2,  P15S,   121,  2,    211,   1114,2,19960221,0010,-28.0042,-169.9930, 4888,   -999,   2563.2,   1.9419,  34.6556,2,  34.6576,2,    146.1,2,  1.7569,    145.7,6,   127.60,2,    36.19,2,     0.00,2,     2.52,2, -999.000,9, -999.000,9,   -999.0,9,  -999.00,9,   -999.0,9,   -999.0,9,   -999.0,9,     7.57,2, -999.00,  -999.0, -999.00,  -999.0
    31DSCG96_2,  P15S,   121,  2,    210,   1301,2,19960221,0010,-28.0042,-169.9930, 4888,   -999,   2814.7,   1.8466,  34.6640,2,  34.6662,2,    146.7,2,  1.6400,    146.7,2,   130.83,2,    36.13,2,     0.00,2,     2.51,2, -999.000,5, -999.000,5,   -999.0,9,  -999.00,9,   -999.0,9,   -999.0,9,   -999.0,9,     7.57,2, -999.00,  -999.0, -999.00,  -999.0
    31DSCG96_2,  P15S,   121,  2,    209,   1233,2,19960221,0010,-28.0042,-169.9930, 4888,   -999,   3065.5,   1.7404,  34.6741,2,  34.6758,2,    150.6,2,  1.5119,    151.6,2,   131.19,2,    35.70,2,     0.00,2,     2.48,2, -999.000,9, -999.000,9,   -999.0,9,  -999.00,9,   -999.0,9,   -999.0,9,   -999.0,9,     7.58,2, -999.00,  -999.0, -999.00,  -999.0
    31DSCG96_2,  P15S,   121,  2,    208,   1227,2,19960221,0010,-28.0042,-169.9930, 4888,   -999,   3314.6,   1.6519,  34.6906,2,  34.6907,2,    162.3,2,  1.4008,    165.8,2,   124.11,2,    34.51,2,     0.00,2,     2.38,2, -999.000,9, -999.000,9,   -999.0,9,  -999.00,9,   -999.0,9,   -999.0,9,   -999.0,9,     7.59,2, -999.00,  -999.0, -999.00,  -999.0
    31DSCG96_2,  P15S,   121,  2,    207,   1263,2,19960221,0010,-28.0042,-169.9930, 4888,   -999,   3566.6,   1.5374,  34.7096,2,  34.7112,2,    181.6,2,  1.2633,    183.8,2,   114.54,2,    32.91,2,     0.00,2,     2.27,2,    0.001,2,    0.002,2,   -999.0,9,  -999.00,9,   -999.0,9,   -999.0,9,   -999.0,9,     7.60,2, -999.00,  -999.0, -999.00,  -999.0
    31DSCG96_2,  P15S,   121,  2,    206,   1262,2,19960221,0010,-28.0042,-169.9930, 4888,   -999,   3816.2,   1.3782,  34.7180,2,  34.7168,2,    194.7,2,  1.0821,    195.6,2,   112.01,2,    32.14,2,     0.00,2,     2.20,2, -999.000,9, -999.000,9,   -999.0,9,  -999.00,9,   -999.0,9,   -999.0,9,   -999.0,9,     7.61,2, -999.00,  -999.0, -999.00,  -999.0
    31DSCG96_2,  P15S,   121,  2,    205,   1264,2,19960221,0010,-28.0042,-169.9930, 4888,   -999,   4067.2,   1.1916,  34.7166,2,  34.7174,2,    201.7,2,  0.8740,    202.2,6,   114.75,6,    31.91,2,     0.00,6,     2.19,2,    0.004,2,    0.003,2,   -999.0,9,  -999.00,9,   -999.0,9,   -999.0,9,   -999.0,9,     7.61,2, -999.00,  -999.0, -999.00,  -999.0
    31DSCG96_2,  P15S,   121,  2,    204,   1003,2,19960221,0010,-28.0042,-169.9930, 4888,   -999,   4312.9,   1.0603,  34.7122,2,  34.7142,2,    204.8,2,  0.7197,    205.0,2,   118.40,2,    32.08,2,     0.00,2,     2.20,2,    0.006,2,    0.004,2,   -999.0,9,  -999.00,9,   -999.0,9,   -999.0,9,   -999.0,9,     7.61,2, -999.00,  -999.0, -999.00,  -999.0
    31DSCG96_2,  P15S,   121,  2,    203,   1035,2,19960221,0010,-28.0042,-169.9930, 4888,   -999,   4565.0,   1.0146,  34.7095,2,  34.7112,2,    206.2,2,  0.6472,    206.8,2,   120.24,2,    32.16,2,     0.00,2,     2.20,2, -999.000,9, -999.000,9,   -999.0,9,  -999.00,9,   -999.0,9,   -999.0,9,   -999.0,9,     7.61,2, -999.00,  -999.0, -999.00,  -999.0
    31DSCG96_2,  P15S,   121,  2,    202,   1030,2,19960221,0010,-28.0042,-169.9930, 4888,   -999,   4816.4,   1.0157,  34.7082,2,  34.7103,2,    205.7,2,  0.6193,    206.8,2,   121.12,2,    32.16,2,     0.00,2,     2.20,2, -999.000,9, -999.000,9,   -999.0,9,  -999.00,9,   -999.0,9,   -999.0,9,   -999.0,9,     7.61,2, -999.00,  -999.0, -999.00,  -999.0
    31DSCG96_2,  P15S,   121,  2,    201,   1022,2,19960221,0010,-28.0042,-169.9930, 4888,   -999,   4965.4,   1.0262,  34.7077,2,  34.7093,2,    206.4,2,  0.6119,    206.8,2,   121.48,6,    32.23,6,     0.00,6,     2.20,2,    0.009,6,    0.007,6,   -999.0,9,  -999.00,9,   -999.0,9,   -999.0,9,   -999.0,9,     7.61,2, -999.00,  -999.0, -999.00,  -999.0