BOTTLE,20220811CCHSIOAMB
# Set underway system sample pressures from -999 to 0 at the following locations:
# STN 26, cast 1, sample 140
# STN 37, cast 1, sample 140
# STN 41, cast 1, sample 140
# STN 43, cast 1, sample 140
# STN 45, cast 1, sample 140
# STN 63, cast 1, sample 140
# STN 71, cast 1, sample 140
# STN 73, cast 1, sample 140
# STN 95, cast 1, sample 140
# Removed the following completely empty rows:
# STN 100, cast 1, sample 132
# STN 100, cast 1, sample 131
# Changed missing CTDSAL value flag from 4 to 5 on station 78 cast 1
#BOTTLE,20040303WHPSIOSA
#code : jjward hyd_to_exchange.pl 
#original files copied from HTML directory: March 3, 2004
#original HYD file: p14shy.txt   Wed Mar  3 12:06:09 2004
#original SUM file: p14ssu.txt   Wed Mar  3 12:20:37 2004
EXPOCODE,SECT_ID,STNNBR,CASTNO,SAMPNO,BTLNBR,BTLNBR_FLAG_W,DATE,TIME,LATITUDE,LONGITUDE,DEPTH,CTDRAW,CTDPRS,CTDTMP,CTDSAL,CTDSAL_FLAG_W,SALNTY,SALNTY_FLAG_W,CTDOXY,CTDOXY_FLAG_W,THETA,OXYGEN,OXYGEN_FLAG_W,SILCAT,SILCAT_FLAG_W,NITRAT,NITRAT_FLAG_W,NITRIT,NITRIT_FLAG_W,PHSPHT,PHSPHT_FLAG_W,CFC-11,CFC-11_FLAG_W,CFC-12,CFC-12_FLAG_W,DELC14,DELC14_FLAG_W,DELC13,DELC13_FLAG_W,TCARBN,TCARBN_FLAG_W,PCO2,PCO2_FLAG_W,ALKALI,ALKALI_FLAG_W,PH,PH_FLAG_W,PCO2TMP,C14ERR,PH_TMP,C13ERR
,,,,,,,,,,,,DBAR,DBAR,ITS-90,PSS-78,,PSS-78,,UMOL/KG,,DEG C,UMOL/KG,,UMOL/KG,,UMOL/KG,,UMOL/KG,,UMOL/KG,,PMOL/KG,,PMOL/KG,,/MILLE,,/MILLE,,UMOL/KG,,UATM,,UMOL/KG,,,,DEG C,/MILLE,DEG C,/MILLE
    31DSCG96_1,  P14S,     1,  1,    124,    429,2,19960106,0548,-45.8243, 153.0843, 4468,   -999,      9.9,  11.7416,  34.7407,2,  34.7410,2,    269.3,1, 11.7403,    275.4,2,  -999.00,9,  -999.00,9,  -999.00,9,  -999.00,9,    3.577,2,    1.787,2,   -999.0,9,  -999.00,9,   -999.0,9,   -999.0,9,   -999.0,9,     7.92,3, -999.00,  -999.0, -999.00,  -999.0
    31DSCG96_1,  P14S,     1,  1,    123,    428,2,19960106,0548,-45.8243, 153.0843, 4468,   -999,     43.4,  11.5635,  34.7705,2,  34.7726,2,    267.5,1, 11.5580,    271.9,2,  -999.00,9,  -999.00,9,  -999.00,9,  -999.00,9,    3.527,2,    1.794,2,   -999.0,9,  -999.00,9,   -999.0,9,   -999.0,9,   -999.0,9,     7.91,3, -999.00,  -999.0, -999.00,  -999.0
    31DSCG96_1,  P14S,     1,  1,    122,    407,2,19960106,0548,-45.8243, 153.0843, 4468,   -999,    102.5,   9.6575,  34.7043,2,  34.7062,2,    264.4,1,  9.6459,    268.0,2,  -999.00,9,  -999.00,9,  -999.00,9,  -999.00,9, -999.000,9, -999.000,9,   -999.0,9,  -999.00,9,   -999.0,9,   -999.0,9,   -999.0,9,     7.84,2, -999.00,  -999.0, -999.00,  -999.0
    31DSCG96_1,  P14S,     1,  1,    121,    417,2,19960106,0548,-45.8243, 153.0843, 4468,   -999,    203.1,   8.8419,  34.6209,2,  34.6225,2,    264.8,1,  8.8202,    268.8,2,  -999.00,9,  -999.00,9,  -999.00,9,  -999.00,9, -999.000,9, -999.000,9,   -999.0,9,  -999.00,9,   -999.0,9,   -999.0,9,   -999.0,9,     7.82,2, -999.00,  -999.0, -999.00,  -999.0
    31DSCG96_1,  P14S,     1,  1,    120,    405,2,19960106,0548,-45.8243, 153.0843, 4468,   -999,    400.2,   8.3475,  34.5559,2,  34.5569,2,    248.8,1,  8.3057,    253.6,2,  -999.00,9,  -999.00,9,  -999.00,9,  -999.00,9, -999.000,9, -999.000,9,   -999.0,9,  -999.00,9,   -999.0,9,   -999.0,9,   -999.0,9,     7.79,2, -999.00,  -999.0, -999.00,  -999.0
    31DSCG96_1,  P14S,     1,  1,    119,    416,2,19960106,0548,-45.8243, 153.0843, 4468,   -999,    601.8,   7.4251,  34.4535,2,  34.4559,2,    223.5,1,  7.3657,    230.0,2,  -999.00,9,  -999.00,9,  -999.00,9,  -999.00,9, -999.000,9, -999.000,9,   -999.0,9,  -999.00,9,   -999.0,9,   -999.0,9,   -999.0,9,     7.74,2, -999.00,  -999.0, -999.00,  -999.0
    31DSCG96_1,  P14S,     1,  1,    118,    420,2,19960106,0548,-45.8243, 153.0843, 4468,   -999,    803.5,   6.0410,  34.4078,2,  34.4108,3,    194.3,1,  5.9690,    201.3,2,  -999.00,9,  -999.00,9,  -999.00,9,  -999.00,9, -999.000,9, -999.000,9,   -999.0,9,  -999.00,9,   -999.0,9,   -999.0,9,   -999.0,9,     7.66,2, -999.00,  -999.0, -999.00,  -999.0
    31DSCG96_1,  P14S,     1,  1,    117,    424,2,19960106,0548,-45.8243, 153.0843, 4468,   -999,   1198.6,   3.6322,  34.3981,2,  34.3993,2,    182.9,1,  3.5433,    190.5,2,  -999.00,9,  -999.00,9,  -999.00,9,  -999.00,9, -999.000,9, -999.000,9,   -999.0,9,  -999.00,9,   -999.0,9,   -999.0,9,   -999.0,9,     7.60,3, -999.00,  -999.0, -999.00,  -999.0
    31DSCG96_1,  P14S,     1,  1,    109,    435,2,19960106,0548,-45.8243, 153.0843, 4468,   -999,   1602.1,   2.8644,  34.5686,2,  34.5700,2,    153.4,1,  2.7496,    162.1,2,  -999.00,9,  -999.00,9,  -999.00,9,  -999.00,9,    0.097,3,    0.030,3,   -999.0,9,  -999.00,9,   -999.0,9,   -999.0,9,   -999.0,9,     7.57,2, -999.00,  -999.0, -999.00,  -999.0
    31DSCG96_1,  P14S,     1,  1,    110,    401,2,19960106,0548,-45.8243, 153.0843, 4468,   -999,   1603.4,   2.8598,  34.5690,2,  34.5698,2,    153.5,1,  2.7449,    162.0,2,  -999.00,9,  -999.00,9,  -999.00,9,  -999.00,9,    0.094,3,    0.033,3,   -999.0,9,  -999.00,9,   -999.0,9,   -999.0,9,   -999.0,9,     7.57,2, -999.00,  -999.0, -999.00,  -999.0
    31DSCG96_1,  P14S,     1,  1,    111,    427,2,19960106,0548,-45.8243, 153.0843, 4468,   -999,   1603.6,   2.8618,  34.5689,2,  34.5707,2,    153.8,1,  2.7469,    161.9,2,  -999.00,9,  -999.00,9,  -999.00,9,  -999.00,9,    0.099,3,    0.036,3,   -999.0,9,  -999.00,9,   -999.0,9,   -999.0,9,   -999.0,9,     7.57,2, -999.00,  -999.0, -999.00,  -999.0
    31DSCG96_1,  P14S,     1,  1,    112,    404,2,19960106,0548,-45.8243, 153.0843, 4468,   -999,   1604.8,   2.8508,  34.5703,2,  34.5732,2,    154.0,1,  2.7359,    162.5,3,  -999.00,9,  -999.00,9,  -999.00,9,  -999.00,9,    0.093,6,    0.043,6,   -999.0,9,  -999.00,9,   -999.0,9,   -999.0,9,   -999.0,9,     7.57,2, -999.00,  -999.0, -999.00,  -999.0
    31DSCG96_1,  P14S,     1,  1,    113,    434,2,19960106,0548,-45.8243, 153.0843, 4468,   -999,   1608.3,   2.8442,  34.5712,2,  34.5734,2,    153.8,1,  2.7291,    161.9,2,  -999.00,9,  -999.00,9,  -999.00,9,  -999.00,9, -999.000,5, -999.000,5,   -999.0,9,  -999.00,9,   -999.0,9,   -999.0,9,   -999.0,9,     7.57,3, -999.00,  -999.0, -999.00,  -999.0
    31DSCG96_1,  P14S,     1,  1,    114,    419,2,19960106,0548,-45.8243, 153.0843, 4468,   -999,   1609.8,   2.8388,  34.5718,2,  34.5737,2,    154.1,1,  2.7236,    161.9,2,  -999.00,9,  -999.00,9,  -999.00,9,  -999.00,9,    0.093,2,    0.036,2,   -999.0,9,  -999.00,9,   -999.0,9,   -999.0,9,   -999.0,9,     7.57,2, -999.00,  -999.0, -999.00,  -999.0
    31DSCG96_1,  P14S,     1,  1,    115,    413,2,19960106,0548,-45.8243, 153.0843, 4468,   -999,   1611.1,   2.8337,  34.5721,2,  34.5734,2,    154.4,1,  2.7185,    161.9,2,  -999.00,9,  -999.00,9,  -999.00,9,  -999.00,9,   -0.028,4,    0.039,2,   -999.0,9,  -999.00,9,   -999.0,9,   -999.0,9,   -999.0,9,     7.57,2, -999.00,  -999.0, -999.00,  -999.0
    31DSCG96_1,  P14S,     1,  1,    116,    409,2,19960106,0548,-45.8243, 153.0843, 4468,   -999,   1612.3,   2.8324,  34.5722,2,  34.5731,2,    154.4,1,  2.7171,    162.4,2,  -999.00,9,  -999.00,9,  -999.00,9,  -999.00,9,    0.095,2,    0.036,2,   -999.0,9,  -999.00,9,   -999.0,9,   -999.0,9,   -999.0,9,     7.57,2, -999.00,  -999.0, -999.00,  -999.0
    31DSCG96_1,  P14S,     1,  1,    108,    440,2,19960106,0548,-45.8243, 153.0843, 4468,   -999,   2000.3,   2.3485,  34.6693,2,  34.6704,2,    162.8,1,  2.2066,    171.3,2,  -999.00,9,  -999.00,9,  -999.00,9,  -999.00,9, -999.000,9, -999.000,9,   -999.0,9,  -999.00,9,   -999.0,9,   -999.0,9,   -999.0,9,     7.58,2, -999.00,  -999.0, -999.00,  -999.0
    31DSCG96_1,  P14S,     1,  1,    107,    436,2,19960106,0548,-45.8243, 153.0843, 4468,   -999,   2499.1,   2.0011,  34.7253,2,  34.7264,2,    175.3,1,  1.8205,    184.2,2,  -999.00,9,  -999.00,9,  -999.00,9,  -999.00,9, -999.000,9, -999.000,9,   -999.0,9,  -999.00,9,   -999.0,9,   -999.0,9,   -999.0,9,     7.59,3, -999.00,  -999.0, -999.00,  -999.0
    31DSCG96_1,  P14S,     1,  1,    106,    441,2,19960106,0548,-45.8243, 153.0843, 4468,   -999,   3001.9,   1.6676,  34.7336,2,  34.7329,2,    182.5,1,  1.4466,   -999.0,9,  -999.00,9,  -999.00,9,  -999.00,9,  -999.00,9, -999.000,9, -999.000,9,   -999.0,9,  -999.00,9,   -999.0,9,   -999.0,9,   -999.0,9,  -999.00,9, -999.00,  -999.0, -999.00,  -999.0
    31DSCG96_1,  P14S,     1,  1,    105,    423,2,19960106,0548,-45.8243, 153.0843, 4468,   -999,   3499.7,   1.2933,  34.7236,2,  34.7252,2,    190.0,1,  1.0321,    198.7,2,  -999.00,9,  -999.00,9,  -999.00,9,  -999.00,9, -999.000,9, -999.000,9,   -999.0,9,  -999.00,9,   -999.0,9,   -999.0,9,   -999.0,9,     7.61,3, -999.00,  -999.0, -999.00,  -999.0
    31DSCG96_1,  P14S,     1,  1,    104,    433,2,19960106,0548,-45.8243, 153.0843, 4468,   -999,   4001.7,   1.0506,  34.7120,2,  34.7132,2,    194.5,1,  0.7440,    202.0,2,  -999.00,9,  -999.00,9,  -999.00,9,  -999.00,9, -999.000,9, -999.000,9,   -999.0,9,  -999.00,9,   -999.0,9,   -999.0,9,   -999.0,9,     7.61,3, -999.00,  -999.0, -999.00,  -999.0
    31DSCG96_1,  P14S,     1,  1,    103,    439,2,19960106,0548,-45.8243, 153.0843, 4468,   -999,   4500.7,   0.9620,  34.7066,2,  34.7075,2,    200.3,1,  0.6035,    205.8,2,  -999.00,9,  -999.00,9,  -999.00,9,  -999.00,9, -999.000,9, -999.000,9,   -999.0,9,  -999.00,9,   -999.0,9,   -999.0,9,   -999.0,9,     7.61,2, -999.00,  -999.0, -999.00,  -999.0
    31DSCG96_1,  P14S,     1,  1,    101,    406,2,19960106,0548,-45.8243, 153.0843, 4468,   -999,   4554.4,   0.9561,  34.7061,2,  34.7077,2,    201.8,1,  0.5917,   -999.0,9,  -999.00,9,  -999.00,9,  -999.00,9,  -999.00,9, -999.000,5, -999.000,5,   -999.0,9,  -999.00,9,   -999.0,9,   -999.0,9,   -999.0,9,     7.61,2, -999.00,  -999.0, -999.00,  -999.0
    31DSCG96_1,  P14S,     1,  1,    102,    414,2,19960106,0548,-45.8243, 153.0843, 4468,   -999,   4554.9,   0.9568,  34.7059,2,  34.7077,2,    201.8,1,  0.5923,    206.1,2,  -999.00,9,  -999.00,9,  -999.00,9,  -999.00,9,    0.086,3,    0.030,3,   -999.0,9,  -999.00,9,   -999.0,9,   -999.0,9,   -999.0,9,     7.61,2, -999.00,  -999.0, -999.00,  -999.0