BOTTLE,20220811CCHSIOAMB
EXPOCODE,SECT_ID,STNNBR,CASTNO,SAMPNO,BTLNBR,BTLNBR_FLAG_W,DATE,TIME,LATITUDE,LONGITUDE,DEPTH,CTDRAW,CTDPRS,CTDTMP,CTDSAL,CTDSAL_FLAG_W,SALNTY,SALNTY_FLAG_W,CTDOXY,CTDOXY_FLAG_W,THETA,OXYGEN,OXYGEN_FLAG_W,SILCAT,SILCAT_FLAG_W,NITRAT,NITRAT_FLAG_W,NITRIT,NITRIT_FLAG_W,PHSPHT,PHSPHT_FLAG_W,CFC-11,CFC-11_FLAG_W,CFC-12,CFC-12_FLAG_W,DELC14,DELC14_FLAG_W,DELC13,DELC13_FLAG_W,TCARBN,TCARBN_FLAG_W,PCO2,PCO2_FLAG_W,ALKALI,ALKALI_FLAG_W,PH,PH_FLAG_W,PCO2TMP,C14ERR,PH_TMP,C13ERR
,,,,,,,,,,,,DBAR,DBAR,ITS-90,PSS-78,,PSS-78,,UMOL/KG,,DEG C,UMOL/KG,,UMOL/KG,,UMOL/KG,,UMOL/KG,,UMOL/KG,,PMOL/KG,,PMOL/KG,,/MILLE,,/MILLE,,UMOL/KG,,UATM,,UMOL/KG,,,,DEG C,/MILLE,DEG C,/MILLE
    31DSCG96_2,  P15S,   131,  1,    136,   1245,2,19960223,2139,-22.9967,-169.9955, 5650,   -999,      3.6,  27.1980,  34.9514,2,-999.0000,5,    200.9,2, 27.1971,    200.9,2,  -999.00,9,  -999.00,9,  -999.00,9,  -999.00,9, -999.000,9, -999.000,9,   -999.0,9,  -999.00,9,   1929.7,2,    242.5,3,   -999.0,9,     8.15,2, -999.00,  -999.0, -999.00,  -999.0
    31DSCG96_2,  P15S,   131,  1,    135,   1113,2,19960223,2139,-22.9967,-169.9955, 5650,   -999,     28.8,  27.0240,  34.9773,2,  34.9755,2,    199.2,2, 27.0174,    200.9,2,     1.22,2,     0.03,2,     0.00,2,     0.03,3,    1.717,2,    0.965,2,   -999.0,9,  -999.00,9,   -999.0,9,   -999.0,9,   -999.0,9,     8.14,2, -999.00,  -999.0, -999.00,  -999.0
    31DSCG96_2,  P15S,   131,  1,    134,   1216,2,19960223,2139,-22.9967,-169.9955, 5650,   -999,     53.7,  24.5273,  35.5921,2,  35.5902,2,    211.0,2, 24.5158,    215.2,2,     1.23,2,     0.03,2,     0.00,2,     0.06,2,    1.951,6,    1.082,6,   -999.0,9,  -999.00,9,   -999.0,9,   -999.0,9,   -999.0,9,     8.11,2, -999.00,  -999.0, -999.00,  -999.0
    31DSCG96_2,  P15S,   131,  1,    133,   1221,2,19960223,2139,-22.9967,-169.9955, 5650,   -999,     80.8,  23.2336,  35.6621,2,  35.6610,2,    206.4,2, 23.2169,    212.6,2,     1.24,2,     0.04,2,     0.00,2,     0.08,2,    2.009,2,    1.084,2,   -999.0,9,  -999.00,9,   -999.0,9,   -999.0,9,   -999.0,9,     8.10,2, -999.00,  -999.0, -999.00,  -999.0
    31DSCG96_2,  P15S,   131,  1,    132,   1039,2,19960223,2139,-22.9967,-169.9955, 5650,   -999,    116.5,  21.8523,  35.7760,2,  35.7716,2,    193.9,2, 21.8293,    196.5,2,     1.25,2,     0.07,2,     0.05,2,     0.15,2,    2.054,2,    1.106,2,   -999.0,9,  -999.00,9,   -999.0,9,   -999.0,9,   -999.0,9,     8.05,2, -999.00,  -999.0, -999.00,  -999.0
    31DSCG96_2,  P15S,   131,  1,    131,   1014,2,19960223,2139,-22.9967,-169.9955, 5650,   -999,    166.8,  20.3825,  35.7535,2,  35.7574,2,    186.8,2, 20.3511,    189.4,2,     1.39,2,     2.15,2,     0.02,2,     0.26,2,    2.093,2,    1.111,2,   -999.0,9,  -999.00,9,   -999.0,9,   -999.0,9,   -999.0,9,     8.02,2, -999.00,  -999.0, -999.00,  -999.0
    31DSCG96_2,  P15S,   131,  1,    130,   1257,2,19960223,2139,-22.9967,-169.9955, 5650,   -999,    213.0,  19.0497,  35.6906,2,  35.6900,2,    191.6,2, 19.0114,    193.8,2,     1.51,2,     2.77,2,     0.01,2,     0.29,2,    2.178,2,    1.148,2,   -999.0,9,  -999.00,9,   -999.0,9,   -999.0,9,   -999.0,9,     8.00,2, -999.00,  -999.0, -999.00,  -999.0
    31DSCG96_2,  P15S,   131,  1,    129,   1256,2,19960223,2139,-22.9967,-169.9955, 5650,   -999,    265.4,  17.8177,  35.5954,2,  35.5969,2,    195.0,2, 17.7721,    193.2,2,     1.74,2,     4.00,2,     0.00,2,     0.38,2,    2.180,2,    1.142,2,   -999.0,9,  -999.00,9,   -999.0,9,   -999.0,9,   -999.0,9,     7.97,2, -999.00,  -999.0, -999.00,  -999.0
    31DSCG96_2,  P15S,   131,  1,    128,   1007,2,19960223,2139,-22.9967,-169.9955, 5650,   -999,    326.8,  16.1371,  35.4266,2,  35.4324,2,    194.3,2, 16.0848,    192.2,2,     2.46,2,     6.21,2,     0.00,2,     0.52,2,    2.117,2,    1.095,2,   -999.0,9,  -999.00,9,   -999.0,9,   -999.0,9,   -999.0,9,     7.93,2, -999.00,  -999.0, -999.00,  -999.0
    31DSCG96_2,  P15S,   131,  1,    127,   1232,2,19960223,2139,-22.9967,-169.9955, 5650,   -999,    428.3,  12.7247,  35.0148,2,  35.0236,2,    188.2,2, 12.6661,    187.1,6,     4.50,2,    12.33,2,     0.00,2,     0.92,2,    1.731,2,    0.868,2,   -999.0,9,  -999.00,9,   -999.0,9,   -999.0,9,   -999.0,9,     7.84,2, -999.00,  -999.0, -999.00,  -999.0
    31DSCG96_2,  P15S,   131,  1,    126,   1025,2,19960223,2139,-22.9967,-169.9955, 5650,   -999,    522.2,   9.4097,  34.6468,2,  34.6461,2,    199.2,2,  9.3506,    200.7,2,     6.21,2,    18.39,2,     0.00,2,     1.29,2, -999.000,9, -999.000,9,   -999.0,9,  -999.00,9,   -999.0,9,   -999.0,9,   -999.0,9,     7.76,2, -999.00,  -999.0, -999.00,  -999.0
    31DSCG96_2,  P15S,   131,  1,    125,   1119,2,19960223,2139,-22.9967,-169.9955, 5650,   -999,    626.2,   7.2411,  34.4230,2,  34.4245,2,    222.6,2,  7.1801,    220.6,2,     8.76,2,    22.54,2,     0.00,2,     1.56,2, -999.000,9, -999.000,9,   -999.0,9,  -999.00,9,   -999.0,9,   -999.0,9,   -999.0,9,     7.73,2, -999.00,  -999.0, -999.00,  -999.0
    31DSCG96_2,  P15S,   131,  1,    124,   1013,2,19960223,2139,-22.9967,-169.9955, 5650,   -999,    724.9,   6.1541,  34.3445,2,  34.3435,2,    219.8,2,  6.0889,    222.6,2,    12.82,2,    25.44,2,     0.00,2,     1.74,2, -999.000,9, -999.000,9,   -999.0,9,  -999.00,9,   -999.0,9,   -999.0,9,   -999.0,9,     7.70,2, -999.00,  -999.0, -999.00,  -999.0
    31DSCG96_2,  P15S,   131,  1,    123,   1250,2,19960223,2139,-22.9967,-169.9955, 5650,   -999,    825.4,   5.4471,  34.3407,2,  34.3409,2,    205.0,2,  5.3768,    197.5,2,    22.78,2,    29.21,2,     0.00,2,     2.00,2, -999.000,9, -999.000,9,   -999.0,9,  -999.00,9,   -999.0,9,   -999.0,9,   -999.0,9,     7.65,2, -999.00,  -999.0, -999.00,  -999.0
    31DSCG96_2,  P15S,   131,  1,    122,   1265,2,19960223,2139,-22.9967,-169.9955, 5650,   -999,    925.2,   4.7942,  34.3453,2,  34.3453,2,    191.3,2,  4.7193,    190.6,2,    31.07,2,    31.03,2,     0.00,2,     2.13,2, -999.000,9, -999.000,9,   -999.0,9,  -999.00,9,   -999.0,9,   -999.0,9,   -999.0,9,     7.63,2, -999.00,  -999.0, -999.00,  -999.0
    31DSCG96_2,  P15S,   131,  1,    121,   1246,2,19960223,2139,-22.9967,-169.9955, 5650,   -999,   1025.5,   4.3984,  34.4008,2,  34.3996,2,    173.6,2,  4.3177,    168.2,2,    45.26,2,    33.35,2,     0.00,2,     2.30,2, -999.000,9, -999.000,9,   -999.0,9,  -999.00,9,   -999.0,9,   -999.0,9,   -999.0,9,     7.59,2, -999.00,  -999.0, -999.00,  -999.0
    31DSCG96_2,  P15S,   131,  1,    120,   1015,2,19960223,2139,-22.9967,-169.9955, 5650,   -999,   1137.6,   3.8430,  34.4571,2,  34.4561,2,    157.3,2,  3.7572,    156.4,2,    61.56,2,    34.77,2,     0.00,2,     2.40,2, -999.000,9, -999.000,9,   -999.0,9,  -999.00,9,   -999.0,9,   -999.0,9,   -999.0,9,     7.58,2, -999.00,  -999.0, -999.00,  -999.0
    31DSCG96_2,  P15S,   131,  1,    119,   1247,2,19960223,2139,-22.9967,-169.9955, 5650,   -999,   1316.4,   3.0549,  34.5072,2,  34.5091,2,    159.6,2,  2.9617,    160.5,6,    76.50,2,    34.95,2,     0.00,2,     2.42,2, -999.000,9, -999.000,9,   -999.0,9,  -999.00,9,   -999.0,9,   -999.0,9,   -999.0,9,     7.58,3, -999.00,  -999.0, -999.00,  -999.0
    31DSCG96_2,  P15S,   131,  1,    118,   1299,2,19960223,2139,-22.9967,-169.9955, 5650,   -999,   1564.6,   2.6310,  34.5804,2,  34.5794,2,    149.9,2,  2.5221,    149.9,2,    97.98,2,    35.71,2,     0.00,2,     2.48,2, -999.000,9, -999.000,9,   -999.0,9,  -999.00,9,   -999.0,9,   -999.0,9,   -999.0,9,     7.57,2, -999.00,  -999.0, -999.00,  -999.0
    31DSCG96_2,  P15S,   131,  1,    117,   1267,2,19960223,2139,-22.9967,-169.9955, 5650,   -999,   1814.6,   2.3865,  34.6143,2,  34.6138,2,    146.0,2,  2.2600,    145.6,2,   110.62,2,    36.10,2,     0.00,2,     2.51,2, -999.000,9, -999.000,9,   -999.0,9,  -999.00,9,   -999.0,9,   -999.0,9,   -999.0,9,     7.57,2, -999.00,  -999.0, -999.00,  -999.0
    31DSCG96_2,  P15S,   131,  1,    116,   1259,2,19960223,2139,-22.9967,-169.9955, 5650,   -999,   2063.0,   2.2016,  34.6327,2,  34.6312,2,    145.0,2,  2.0566,    144.8,2,   117.70,2,    36.22,2,     0.00,2,     2.52,2, -999.000,9, -999.000,9,   -999.0,9,  -999.00,9,   -999.0,9,   -999.0,9,   -999.0,9,     7.57,2, -999.00,  -999.0, -999.00,  -999.0
    31DSCG96_2,  P15S,   131,  1,    115,   1041,2,19960223,2139,-22.9967,-169.9955, 5650,   -999,   2315.6,   2.0593,  34.6454,2,  34.6441,2,    145.3,2,  1.8946,    144.6,2,   123.21,2,    36.31,2,     0.00,2,     2.52,2, -999.000,9, -999.000,9,   -999.0,9,  -999.00,9,   -999.0,9,   -999.0,9,   -999.0,9,     7.57,2, -999.00,  -999.0, -999.00,  -999.0
    31DSCG96_2,  P15S,   131,  1,    114,   1017,2,19960223,2139,-22.9967,-169.9955, 5650,   -999,   2564.1,   1.9265,  34.6572,2,  34.6565,2,    145.3,2,  1.7417,    144.9,2,   128.50,2,    36.31,2,     0.00,2,     2.52,2, -999.000,9, -999.000,9,   -999.0,9,  -999.00,9,   -999.0,9,   -999.0,9,   -999.0,9,     7.57,2, -999.00,  -999.0, -999.00,  -999.0
    31DSCG96_2,  P15S,   131,  1,    113,   1302,2,19960223,2139,-22.9967,-169.9955, 5650,   -999,   2814.7,   1.8227,  34.6651,2,  34.6648,2,    145.7,2,  1.6166,    145.6,2,   132.54,2,    36.26,2,     0.00,2,     2.52,2, -999.000,9, -999.000,9,   -999.0,9,  -999.00,9,   -999.0,9,   -999.0,9,   -999.0,9,     7.57,2, -999.00,  -999.0, -999.00,  -999.0
    31DSCG96_2,  P15S,   131,  1,    112,   1217,2,19960223,2139,-22.9967,-169.9955, 5650,   -999,   3061.9,   1.7231,  34.6729,2,  34.6724,2,    149.0,2,  1.4954,    148.8,2,   134.47,2,    36.08,2,     0.00,2,     2.51,2, -999.000,9, -999.000,9,   -999.0,9,  -999.00,9,   -999.0,9,   -999.0,9,   -999.0,9,     7.57,2, -999.00,  -999.0, -999.00,  -999.0
    31DSCG96_2,  P15S,   131,  1,    111,   1226,2,19960223,2139,-22.9967,-169.9955, 5650,   -999,   3316.0,   1.6140,  34.6854,2,  34.6853,2,    159.3,2,  1.3636,    159.9,6,   130.47,2,    35.26,2,     0.00,2,     2.45,2, -999.000,9, -999.000,9,   -999.0,9,  -999.00,9,   -999.0,9,   -999.0,9,   -999.0,9,     7.58,2, -999.00,  -999.0, -999.00,  -999.0
    31DSCG96_2,  P15S,   131,  1,    110,   1301,2,19960223,2139,-22.9967,-169.9955, 5650,   -999,   3565.3,   1.4982,  34.7064,2,  34.7053,2,    181.2,2,  1.2253,    180.6,2,   118.59,2,    33.34,2,     0.00,2,     2.30,2, -999.000,9, -999.000,9,   -999.0,9,  -999.00,9,   -999.0,9,   -999.0,9,   -999.0,9,     7.60,2, -999.00,  -999.0, -999.00,  -999.0
    31DSCG96_2,  P15S,   131,  1,    109,   1233,2,19960223,2139,-22.9967,-169.9955, 5650,   -999,   3815.2,   1.3605,  34.7185,2,  34.7191,2,    195.7,2,  1.0650,    195.4,2,   112.50,2,    32.24,2,     0.00,2,     2.21,2, -999.000,9, -999.000,9,   -999.0,9,  -999.00,9,   -999.0,9,   -999.0,9,   -999.0,9,     7.61,2, -999.00,  -999.0, -999.00,  -999.0
    31DSCG96_2,  P15S,   131,  1,    108,   1227,2,19960223,2139,-22.9967,-169.9955, 5650,   -999,   4064.4,   1.2329,  34.7191,2,  34.7194,2,    201.2,2,  0.9143,    200.8,2,   113.85,2,    32.05,2,     0.00,2,     2.20,2, -999.000,9, -999.000,9,   -999.0,9,  -999.00,9,   -999.0,9,   -999.0,9,   -999.0,9,     7.61,2, -999.00,  -999.0, -999.00,  -999.0
    31DSCG96_2,  P15S,   131,  1,    107,   1263,2,19960223,2139,-22.9967,-169.9955, 5650,   -999,   4317.5,   1.1088,  34.7148,2,  34.7146,2,    202.4,4,  0.7662,    204.2,2,   117.05,2,    32.05,2,     0.00,2,     2.20,2, -999.000,9, -999.000,9,   -999.0,9,  -999.00,9,   -999.0,9,   -999.0,9,   -999.0,9,     7.61,2, -999.00,  -999.0, -999.00,  -999.0
    31DSCG96_2,  P15S,   131,  1,    106,   1262,2,19960223,2139,-22.9967,-169.9955, 5650,   -999,   4563.5,   1.0514,  34.7121,2,  34.7115,2,    188.3,4,  0.6829,    205.8,2,   119.28,2,    32.18,2,     0.00,2,     2.21,2, -999.000,9, -999.000,9,   -999.0,9,  -999.00,9,   -999.0,9,   -999.0,9,   -999.0,9,     7.61,2, -999.00,  -999.0, -999.00,  -999.0
    31DSCG96_2,  P15S,   131,  1,    105,   1264,2,19960223,2139,-22.9967,-169.9955, 5650,   -999,   4817.7,   1.0299,  34.7103,2,  34.7094,2,    189.1,4,  0.6329,    206.3,6,   120.63,2,    32.28,2,     0.00,2,     2.21,2, -999.000,9, -999.000,9,   -999.0,9,  -999.00,9,   -999.0,9,   -999.0,9,   -999.0,9,     7.61,2, -999.00,  -999.0, -999.00,  -999.0
    31DSCG96_2,  P15S,   131,  1,    104,   1003,2,19960223,2139,-22.9967,-169.9955, 5650,   -999,   5064.0,   1.0392,  34.7088,2,  34.7112,2,    192.2,4,  0.6127,    206.1,2,   121.20,2,    32.28,2,     0.00,2,     2.21,2, -999.000,9, -999.000,9,   -999.0,9,  -999.00,9,   -999.0,9,   -999.0,9,   -999.0,9,     7.59,4, -999.00,  -999.0, -999.00,  -999.0
    31DSCG96_2,  P15S,   131,  1,    103,   1035,2,19960223,2139,-22.9967,-169.9955, 5650,   -999,   5322.9,   1.0647,  34.7085,2,  34.7091,2,    193.1,4,  0.6058,    206.4,2,   121.46,2,    32.29,2,     0.00,2,     2.21,2, -999.000,9, -999.000,9,   -999.0,9,  -999.00,9,   -999.0,9,   -999.0,9,   -999.0,9,     7.61,3, -999.00,  -999.0, -999.00,  -999.0
    31DSCG96_2,  P15S,   131,  1,    102,   1030,2,19960223,2139,-22.9967,-169.9955, 5650,   -999,   5602.3,   1.0952,  34.7079,2,  34.7089,2,    192.6,4,  0.6002,    206.4,2,   121.61,2,    32.25,2,     0.00,2,     2.21,2, -999.000,9, -999.000,9,   -999.0,9,  -999.00,9,   -999.0,9,   -999.0,9,   -999.0,9,     7.61,2, -999.00,  -999.0, -999.00,  -999.0
    31DSCG96_2,  P15S,   131,  1,    101,   1022,2,19960223,2139,-22.9967,-169.9955, 5650,   -999,   5798.4,   1.1201,  34.7074,2,  34.7074,2,    188.9,4,  0.5991,    206.7,2,   121.74,6,    32.31,6,     0.00,6,     2.21,6, -999.000,9, -999.000,9,   -999.0,9,  -999.00,9,   -999.0,9,   -999.0,9,   -999.0,9,     7.61,2, -999.00,  -999.0, -999.00,  -999.0