BOTTLE,20220811CCHSIOAMB
EXPOCODE,SECT_ID,STNNBR,CASTNO,SAMPNO,BTLNBR,BTLNBR_FLAG_W,DATE,TIME,LATITUDE,LONGITUDE,DEPTH,CTDRAW,CTDPRS,CTDTMP,CTDSAL,CTDSAL_FLAG_W,SALNTY,SALNTY_FLAG_W,CTDOXY,CTDOXY_FLAG_W,THETA,OXYGEN,OXYGEN_FLAG_W,SILCAT,SILCAT_FLAG_W,NITRAT,NITRAT_FLAG_W,NITRIT,NITRIT_FLAG_W,PHSPHT,PHSPHT_FLAG_W,CFC-11,CFC-11_FLAG_W,CFC-12,CFC-12_FLAG_W,DELC14,DELC14_FLAG_W,DELC13,DELC13_FLAG_W,TCARBN,TCARBN_FLAG_W,PCO2,PCO2_FLAG_W,ALKALI,ALKALI_FLAG_W,PH,PH_FLAG_W,PCO2TMP,C14ERR,PH_TMP,C13ERR
,,,,,,,,,,,,DBAR,DBAR,ITS-90,PSS-78,,PSS-78,,UMOL/KG,,DEG C,UMOL/KG,,UMOL/KG,,UMOL/KG,,UMOL/KG,,UMOL/KG,,PMOL/KG,,PMOL/KG,,/MILLE,,/MILLE,,UMOL/KG,,UATM,,UMOL/KG,,,,DEG C,/MILLE,DEG C,/MILLE
    31DSCG96_2,  P15S,   167,  2,    236,   1245,2,19960304,0123, -6.0007,-168.7507, 5629,   -999,      6.3,  29.4245,  35.2225,2,  35.2236,2,    194.1,2, 29.4230,    194.4,2,     1.02,2,     0.00,2,     0.00,2,     0.18,2,    1.561,2,    0.893,2,     67.0,2,  -999.00,9,   1949.7,2,    245.8,2,   2317.9,2,     8.14,2, -999.00,     5.4, -999.00,  -999.0
    31DSCG96_2,  P15S,   167,  2,    235,   1113,2,19960304,0123, -6.0007,-168.7507, 5629,   -999,     30.8,  29.0506,  35.2319,2,  35.2330,2,    194.4,2, 29.0431,    194.8,2,     1.32,2,     0.00,2,     0.00,2,     0.19,2, -999.000,9, -999.000,9,   -999.0,9,  -999.00,9,   -999.0,9,   -999.0,9,   -999.0,9,     8.14,2, -999.00,  -999.0, -999.00,  -999.0
    31DSCG96_2,  P15S,   167,  2,    234,   1267,2,19960304,0123, -6.0007,-168.7507, 5629,   -999,     53.7,  28.9267,  35.5924,2,  35.5905,2,    194.5,2, 28.9137,    195.1,2,     1.37,2,     0.20,2,     0.05,2,     0.24,2,    1.595,2,    0.903,2,   -999.0,9,  -999.00,9,   1978.1,2,    262.3,2,   2340.5,2,     8.12,2, -999.00,  -999.0, -999.00,  -999.0
    31DSCG96_2,  P15S,   167,  2,    233,   1021,2,19960304,0123, -6.0007,-168.7507, 5629,   -999,     80.1,  28.2691,  35.6571,2,  35.6594,2,    186.6,2, 28.2501,    186.1,2,     1.92,2,     1.83,2,     0.21,2,     0.40,2, -999.000,9, -999.000,9,   -999.0,9,  -999.00,9,   -999.0,9,   -999.0,9,   -999.0,9,     8.09,2, -999.00,  -999.0, -999.00,  -999.0
    31DSCG96_2,  P15S,   167,  2,    232,   1039,2,19960304,0123, -6.0007,-168.7507, 5629,   -999,    114.1,  27.6744,  35.7892,2,  35.7919,2,    179.9,2, 27.6477,    174.6,2,     2.05,2,     2.10,2,     1.10,2,     0.44,2,    1.679,2,    0.938,2,   -999.0,9,  -999.00,9,   2026.3,2,    307.7,2,   2353.1,2,     8.07,2, -999.00,  -999.0, -999.00,  -999.0
    31DSCG96_2,  P15S,   167,  2,    231,   1014,2,19960304,0123, -6.0007,-168.7507, 5629,   -999,    165.3,  25.7191,  36.0895,2,  36.1045,2,    156.5,2, 25.6824,    157.3,2,     2.06,2,     5.04,2,     0.22,2,     0.56,2,    1.781,2,    0.983,2,   -999.0,9,  -999.00,9,   -999.0,9,   -999.0,9,   -999.0,9,     8.04,2, -999.00,  -999.0, -999.00,  -999.0
    31DSCG96_2,  P15S,   167,  2,    230,   1257,2,19960304,0123, -6.0007,-168.7507, 5629,   -999,    217.6,  20.8085,  35.8746,2,  35.8857,2,    143.4,2, 20.7669,    147.1,2,     2.74,2,     7.73,2,     0.02,2,     0.76,2,    1.952,6,    1.048,6,   -999.0,9,  -999.00,9,   2112.1,2,    447.6,2,   2363.1,2,     7.93,2, -999.00,  -999.0, -999.00,  -999.0
    31DSCG96_2,  P15S,   167,  2,    229,   1256,2,19960304,0123, -6.0007,-168.7507, 5629,   -999,    263.9,  15.1791,  35.2038,2,  35.2055,2,     93.5,2, 15.1387,     94.0,2,    10.91,2,    18.95,2,     0.01,2,     1.51,2,    1.181,2,    0.621,2,   -999.0,9,  -999.00,9,   -999.0,9,   -999.0,9,   -999.0,9,     7.73,3, -999.00,  -999.0, -999.00,  -999.0
    31DSCG96_2,  P15S,   167,  2,    228,   1230,3,19960304,0123, -6.0007,-168.7507, 5629,   -999,    326.4,  11.0803,  34.8364,2,  34.8353,2,     93.6,2, 11.0397,   -999.0,9,    19.77,2,    26.22,2,     0.01,2,     1.87,2, -999.000,5, -999.000,5,   -999.0,9,  -999.00,9,   -999.0,9,   -999.0,9,   -999.0,9,  -999.00,9, -999.00,  -999.0, -999.00,  -999.0
    31DSCG96_2,  P15S,   167,  2,    227,   1232,2,19960304,0123, -6.0007,-168.7507, 5629,   -999,    425.2,   9.0757,  34.6828,2,  34.6835,2,    100.0,2,  9.0288,     92.9,2,    27.28,2,    30.66,2,     0.00,2,     2.13,2,    0.193,2,    0.099,2,   -999.0,9,  -999.00,9,   2212.3,2,   -999.0,9,   2308.3,2,     7.58,2, -999.00,  -999.0, -999.00,  -999.0
    31DSCG96_2,  P15S,   167,  2,    226,   1025,2,19960304,0123, -6.0007,-168.7507, 5629,   -999,    526.0,   8.0889,  34.6295,2,  34.6289,2,     64.7,2,  8.0344,     62.4,2,    35.86,2,    36.02,2,     0.00,2,     2.49,2,    0.045,2,    0.022,2,   -999.0,9,  -999.00,9,   -999.0,9,   1423.6,2,   -999.0,9,     7.49,2, -999.00,  -999.0, -999.00,  -999.0
    31DSCG96_2,  P15S,   167,  2,    225,   1119,2,19960304,0123, -6.0007,-168.7507, 5629,   -999,    625.4,   7.0161,  34.5772,2,  34.5756,2,     71.9,2,  6.9560,     68.3,6,    43.53,2,    37.99,2,     0.00,2,     2.64,2,   -0.004,4,    0.006,2,   -999.0,9,  -999.00,9,   2254.7,2,   -999.0,9,   2313.5,2,     7.48,2, -999.00,  -999.0, -999.00,  -999.0
    31DSCG96_2,  P15S,   167,  2,    224,   1244,2,19960304,0123, -6.0007,-168.7507, 5629,   -999,    726.9,   6.1020,  34.5499,2,  34.5488,2,     70.4,2,  6.0367,     70.5,2,    53.62,2,    39.62,2,     0.00,2,     2.77,2,    0.003,2,    0.002,2,   -999.0,9,  -999.00,9,   -999.0,9,   -999.0,9,   -999.0,9,     7.47,2, -999.00,  -999.0, -999.00,  -999.0
    31DSCG96_2,  P15S,   167,  2,    223,   1250,2,19960304,0123, -6.0007,-168.7507, 5629,   -999,    825.4,   5.4646,  34.5384,2,  34.5377,2,     80.2,2,  5.3939,     81.0,2,    61.55,2,    39.48,2,     0.00,2,     2.76,2, -999.000,9, -999.000,9,   -999.0,9,  -999.00,9,   2272.3,2,   1508.9,2,   2320.8,3,     7.48,2, -999.00,  -999.0, -999.00,  -999.0
    31DSCG96_2,  P15S,   167,  2,    222,   1265,2,19960304,0123, -6.0007,-168.7507, 5629,   -999,    922.6,   4.8214,  34.5399,2,  34.5381,2,     89.3,2,  4.7463,     89.5,2,    72.44,2,    39.36,2,     0.00,2,     2.76,2,    0.002,2,    0.001,2,   -999.0,9,  -999.00,9,   -999.0,9,   -999.0,9,   -999.0,9,     7.49,2, -999.00,  -999.0, -999.00,  -999.0
    31DSCG96_2,  P15S,   167,  2,    221,   1246,2,19960304,0123, -6.0007,-168.7507, 5629,   -999,   1024.2,   4.3323,  34.5471,2,  34.5458,2,     97.0,2,  4.2519,     97.6,2,    81.36,2,    38.92,2,     0.00,2,     2.75,2, -999.000,9, -999.000,9,   -999.0,9,  -999.00,9,   2286.3,2,   1413.9,2,   2340.3,3,     7.50,2, -999.00,  -999.0, -999.00,  -999.0
    31DSCG96_2,  P15S,   167,  2,    220,   1015,2,19960304,0123, -6.0007,-168.7507, 5629,   -999,   1140.4,   3.9067,  34.5596,2,  34.5585,2,    100.6,2,  3.8199,    101.9,2,    90.65,2,    38.81,2,     0.00,2,     2.74,2,    0.000,2,    0.000,2,   -999.0,9,  -999.00,9,   -999.0,9,   -999.0,9,   -999.0,9,     7.50,2, -999.00,  -999.0, -999.00,  -999.0
    31DSCG96_2,  P15S,   167,  2,    219,   1247,2,19960304,0123, -6.0007,-168.7507, 5629,   -999,   1314.6,   3.4252,  34.5783,2,  34.5789,2,    103.4,2,  3.3282,    105.1,6,   102.37,2,    38.75,2,     0.00,2,     2.74,2, -999.000,9, -999.000,9,   -999.0,9,  -999.00,9,   -999.0,9,   -999.0,9,   -999.0,9,     7.51,2, -999.00,  -999.0, -999.00,  -999.0
    31DSCG96_2,  P15S,   167,  2,    218,   1299,2,19960304,0123, -6.0007,-168.7507, 5629,   -999,   1565.9,   2.9259,  34.5965,2,  34.5971,2,    112.3,2,  2.8133,    118.4,2,   110.30,2,    37.85,2,     0.00,2,     2.66,2, -999.000,9, -999.000,9,   -999.0,9,  -999.00,9,   2308.1,2,   1326.5,2,   2387.9,2,     7.53,2, -999.00,  -999.0, -999.00,  -999.0
    31DSCG96_2,  P15S,   167,  2,    217,   1242,2,19960304,0123, -6.0007,-168.7507, 5629,   -999,   1813.8,   2.4098,  34.6260,2,  34.6255,2,    124.6,2,  2.2830,    123.1,2,   123.01,2,    37.78,2,     0.00,2,     2.63,2,    0.000,2,    0.000,2,   -999.0,9,  -999.00,9,   -999.0,9,   -999.0,9,   -999.0,9,     7.54,2, -999.00,  -999.0, -999.00,  -999.0
    31DSCG96_2,  P15S,   167,  2,    216,   1259,2,19960304,0123, -6.0007,-168.7507, 5629,   -999,   2066.4,   2.0973,  34.6459,2,  34.6454,2,    126.5,2,  1.9536,    127.3,2,   132.37,2,    37.59,2,     0.00,2,     2.62,2, -999.000,9, -999.000,9,   -999.0,9,  -999.00,9,   2326.6,2,   -999.0,9,   2410.4,2,     7.55,2, -999.00,  -999.0, -999.00,  -999.0
    31DSCG96_2,  P15S,   167,  2,    215,   1041,2,19960304,0123, -6.0007,-168.7507, 5629,   -999,   2315.0,   1.9362,  34.6568,2,  34.6556,2,    129.5,2,  1.7736,    130.8,2,   136.59,2,    37.41,2,     0.00,2,     2.60,2, -999.000,9, -999.000,9,   -999.0,9,  -999.00,9,   -999.0,9,   -999.0,9,   -999.0,9,     7.55,2, -999.00,  -999.0, -999.00,  -999.0
    31DSCG96_2,  P15S,   167,  2,    214,   1017,2,19960304,0123, -6.0007,-168.7507, 5629,   -999,   2563.2,   1.8278,  34.6657,2,  34.6657,2,    135.6,2,  1.6449,    136.5,2,   138.06,2,    37.09,2,     0.00,2,     2.57,2,   -0.002,2,    0.000,2,   -999.0,9,  -999.00,9,   2327.8,2,   1247.5,2,   2422.5,2,     7.56,2, -999.00,  -999.0, -999.00,  -999.0
    31DSCG96_2,  P15S,   167,  2,    213,   1302,2,19960304,0123, -6.0007,-168.7507, 5629,   -999,   2814.1,   1.7286,  34.6726,2,  34.6717,2,    142.2,2,  1.5245,    141.8,2,   138.79,2,    36.71,2,     0.00,2,     2.53,2, -999.000,9, -999.000,9,   -999.0,9,  -999.00,9,   -999.0,9,   -999.0,9,   -999.0,9,     7.57,2, -999.00,  -999.0, -999.00,  -999.0
    31DSCG96_2,  P15S,   167,  2,    212,   1217,2,19960304,0123, -6.0007,-168.7507, 5629,   -999,   3061.1,   1.6354,  34.6781,2,  34.6783,2,    147.8,2,  1.4097,    148.9,2,   138.56,2,    36.28,2,     0.00,2,     2.49,2, -999.000,9, -999.000,9,   -999.0,9,  -999.00,9,   2320.9,2,   1195.4,2,   2417.6,2,     7.58,2, -999.00,  -999.0, -999.00,  -999.0
    31DSCG96_2,  P15S,   167,  2,    211,   1226,2,19960304,0123, -6.0007,-168.7507, 5629,   -999,   3313.4,   1.5524,  34.6827,2,  34.6828,2,    151.5,2,  1.3038,    153.5,6,   139.00,2,    35.94,2,     0.00,2,     2.47,2,    0.000,2,    0.000,2,   -999.0,9,  -999.00,9,   -999.0,9,   -999.0,9,   -999.0,9,     7.58,2, -999.00,  -999.0, -999.00,  -999.0
    31DSCG96_2,  P15S,   167,  2,    210,   1301,2,19960304,0123, -6.0007,-168.7507, 5629,   -999,   3560.9,   1.4992,  34.6869,2,  34.6865,2,    158.5,2,  1.2267,    160.0,2,   137.26,2,    35.51,2,     0.00,2,     2.44,2,   -0.001,2,    0.000,2,   -999.0,9,  -999.00,9,   2313.9,2,   1162.1,2,   2415.6,2,     7.59,2, -999.00,  -999.0, -999.00,  -999.0
    31DSCG96_2,  P15S,   167,  2,    209,   1031,2,19960304,0123, -6.0007,-168.7507, 5629,   -999,   3817.8,   1.4369,  34.6911,2,  34.6920,2,    166.5,2,  1.1392,    167.6,2,   134.01,2,    34.92,2,     0.00,2,     2.39,2,    0.002,2,    0.002,2,   -999.0,9,  -999.00,9,   -999.0,9,   -999.0,9,   -999.0,9,     7.60,2, -999.00,  -999.0, -999.00,  -999.0
    31DSCG96_2,  P15S,   167,  2,    208,   1227,2,19960304,0123, -6.0007,-168.7507, 5629,   -999,   4060.3,   1.3818,  34.6948,2,  34.6941,2,    172.0,2,  1.0595,    171.7,2,   133.41,2,    34.63,2,     0.00,2,     2.37,2,   -0.002,2,    0.001,2,   -999.0,9,  -999.00,9,   2300.7,2,   1136.2,2,   2404.5,2,     7.60,2, -999.00,  -999.0, -999.00,  -999.0
    31DSCG96_2,  P15S,   167,  2,    207,   1263,2,19960304,0123, -6.0007,-168.7507, 5629,   -999,   4315.1,   1.3408,  34.6978,2,  34.6979,2,    176.0,2,  0.9916,    177.4,2,   132.28,2,    34.33,2,     0.00,2,     2.34,2,    0.002,2,    0.002,2,   -999.0,9,  -999.00,9,   -999.0,9,   -999.0,9,   -999.0,9,     7.60,2, -999.00,  -999.0, -999.00,  -999.0
    31DSCG96_2,  P15S,   167,  2,    206,   1262,2,19960304,0123, -6.0007,-168.7507, 5629,   -999,   4566.0,   1.3062,  34.7004,2,  34.7011,2,    182.2,2,  0.9295,    183.0,2,   129.58,2,    33.84,2,     0.00,2,     2.31,2, -999.000,5, -999.000,5,   -999.0,9,  -999.00,9,   2289.0,2,   1085.7,2,   2397.3,2,  -999.00,9, -999.00,  -999.0, -999.00,  -999.0
    31DSCG96_2,  P15S,   167,  2,    205,   1264,2,19960304,0123, -6.0007,-168.7507, 5629,   -999,   4813.8,   1.2553,  34.7037,2,  34.7030,2,    190.4,2,  0.8513,    190.7,6,   125.92,2,    33.30,2,     0.00,2,     2.28,2,    0.001,2,    0.001,2,   -999.0,9,  -999.00,9,   -999.0,9,   -999.0,9,   -999.0,9,     7.61,2, -999.00,  -999.0, -999.00,  -999.0
    31DSCG96_2,  P15S,   167,  2,    204,   1003,2,19960304,0123, -6.0007,-168.7507, 5629,   -999,   5065.8,   1.2126,  34.7058,2,  34.7068,2,    196.9,2,  0.7800,    196.4,2,   123.49,2,    32.84,2,     0.00,2,     2.25,2,    0.002,2,    0.003,2,   -999.0,9,  -999.00,9,   2272.0,2,   1074.2,2,   2379.1,2,     7.61,2, -999.00,  -999.0, -999.00,  -999.0
    31DSCG96_2,  P15S,   167,  2,    203,   1035,2,19960304,0123, -6.0007,-168.7507, 5629,   -999,   5324.7,   1.2030,  34.7069,2,  34.7074,2,    200.7,2,  0.7390,    199.6,2,   122.21,2,    32.65,2,     0.00,2,     2.23,2,    0.002,2,    0.002,2,   -999.0,9,  -999.00,9,   2267.8,2,   1072.7,2,   2377.1,2,     7.61,2, -999.00,  -999.0, -999.00,  -999.0
    31DSCG96_2,  P15S,   167,  2,    202,   1030,2,19960304,0123, -6.0007,-168.7507, 5629,   -999,   5597.0,   1.2284,  34.7071,2,  34.7081,2,    202.1,2,  0.7292,    201.4,2,   121.76,2,    32.55,2,     0.00,2,     2.22,2,    0.004,2,    0.001,2,   -999.0,9,  -999.00,9,   2266.5,2,   1068.0,2,   2379.4,2,     7.61,2, -999.00,  -999.0, -999.00,  -999.0
    31DSCG96_2,  P15S,   167,  2,    201,   1022,2,19960304,0123, -6.0007,-168.7507, 5629,   -999,   5767.0,   1.2494,  34.7072,2,  34.7081,2,    202.5,2,  0.7276,    200.1,2,   121.94,6,    32.61,6,     0.00,6,     2.23,6,    0.003,6,    0.002,6,   -999.0,9,  -999.00,9,   2266.3,2,   1073.7,2,   2376.1,2,     7.61,2, -999.00,  -999.0, -999.00,  -999.0