BOTTLE,20220811CCHSIOAMB
EXPOCODE,SECT_ID,STNNBR,CASTNO,SAMPNO,BTLNBR,BTLNBR_FLAG_W,DATE,TIME,LATITUDE,LONGITUDE,DEPTH,CTDRAW,CTDPRS,CTDTMP,CTDSAL,CTDSAL_FLAG_W,SALNTY,SALNTY_FLAG_W,CTDOXY,CTDOXY_FLAG_W,THETA,OXYGEN,OXYGEN_FLAG_W,SILCAT,SILCAT_FLAG_W,NITRAT,NITRAT_FLAG_W,NITRIT,NITRIT_FLAG_W,PHSPHT,PHSPHT_FLAG_W,CFC-11,CFC-11_FLAG_W,CFC-12,CFC-12_FLAG_W,DELC14,DELC14_FLAG_W,DELC13,DELC13_FLAG_W,TCARBN,TCARBN_FLAG_W,PCO2,PCO2_FLAG_W,ALKALI,ALKALI_FLAG_W,PH,PH_FLAG_W,PCO2TMP,C14ERR,PH_TMP,C13ERR
,,,,,,,,,,,,DBAR,DBAR,ITS-90,PSS-78,,PSS-78,,UMOL/KG,,DEG C,UMOL/KG,,UMOL/KG,,UMOL/KG,,UMOL/KG,,UMOL/KG,,PMOL/KG,,PMOL/KG,,/MILLE,,/MILLE,,UMOL/KG,,UATM,,UMOL/KG,,,,DEG C,/MILLE,DEG C,/MILLE
    31DSCG96_2,  P15S,   161,  1,    136,   1245,2,19960302,1036, -8.9992,-168.8763, 4848,   -999,      5.2,  29.2078,  34.9234,2,  34.9230,2,    198.4,2, 29.2066,    194.1,2,     1.86,2,     0.00,2,     0.00,2,     0.16,2,    1.555,2,    0.876,2,   -999.0,9,  -999.00,9,   1932.1,2,    236.4,2,   2292.1,2,     8.14,2, -999.00,  -999.0, -999.00,  -999.0
    31DSCG96_2,  P15S,   161,  1,    135,   1113,2,19960302,1036, -8.9992,-168.8763, 4848,   -999,     30.0,  29.2160,  34.9214,2,  34.9224,2,    194.8,2, 29.2087,    193.9,2,     1.83,2,     0.00,2,     0.01,2,     0.17,2,    1.575,2,    0.901,2,   -999.0,9,  -999.00,9,   1932.6,2,    241.7,2,   2296.4,2,     8.14,2, -999.00,  -999.0, -999.00,  -999.0
    31DSCG96_2,  P15S,   161,  1,    134,   1267,2,19960302,1036, -8.9992,-168.8763, 4848,   -999,     53.0,  29.4567,  35.2199,2,  35.2269,2,    195.7,2, 29.4437,    196.0,2,     1.79,2,     0.00,2,     0.01,2,     0.19,2,    1.582,2,    0.900,2,   -999.0,9,  -999.00,9,   1954.3,2,    246.2,2,   2319.6,2,     8.14,2, -999.00,  -999.0, -999.00,  -999.0
    31DSCG96_2,  P15S,   161,  1,    133,   1021,2,19960302,1036, -8.9992,-168.8763, 4848,   -999,     81.6,  29.1890,  35.4718,2,  35.4703,2,    180.2,2, 29.1692,    188.4,2,     2.10,2,     0.70,2,     0.13,2,     0.29,2,    1.583,2,    0.944,2,   -999.0,9,  -999.00,9,   -999.0,9,   -999.0,9,   -999.0,9,     8.10,2, -999.00,  -999.0, -999.00,  -999.0
    31DSCG96_2,  P15S,   161,  1,    132,   1039,2,19960302,1036, -8.9992,-168.8763, 4848,   -999,    102.7,  27.9255,  35.6916,2,  35.7081,2,    163.9,2, 27.9013,    158.9,2,     2.41,2,     2.86,2,     1.04,2,     0.50,2,    1.668,2,    0.912,2,   -999.0,9,  -999.00,9,   2033.3,2,    318.4,2,   2346.9,2,     8.05,2, -999.00,  -999.0, -999.00,  -999.0
    31DSCG96_2,  P15S,   161,  1,    131,   1014,2,19960302,1036, -8.9992,-168.8763, 4848,   -999,    129.0,  26.9323,  35.8957,2,  35.9059,2,    154.6,2, 26.9027,    159.3,2,     2.37,2,     3.43,2,     1.37,2,     0.54,2,    1.730,6,    0.940,6,   -999.0,9,  -999.00,9,   -999.0,9,   -999.0,9,   -999.0,9,     8.04,2, -999.00,  -999.0, -999.00,  -999.0
    31DSCG96_2,  P15S,   161,  1,    130,   1257,2,19960302,1036, -8.9992,-168.8763, 4848,   -999,    163.0,  24.6343,  36.2358,2,  36.2403,2,    148.8,2, 24.5991,    150.4,2,     2.07,2,     5.28,2,     0.04,2,     0.58,2,    1.830,2,    1.001,2,   -999.0,9,  -999.00,9,   -999.0,9,   -999.0,9,   -999.0,9,     8.01,2, -999.00,  -999.0, -999.00,  -999.0
    31DSCG96_2,  P15S,   161,  1,    129,   1256,2,19960302,1036, -8.9992,-168.8763, 4848,   -999,    212.2,  20.7441,  35.8984,2,  35.8756,3,    143.5,2, 20.7036,    146.7,2,     2.91,2,     7.65,2,     0.01,2,     0.75,2,    1.849,2,    0.985,2,   -999.0,9,  -999.00,9,   2114.6,2,    453.6,2,   2365.0,2,     7.93,2, -999.00,  -999.0, -999.00,  -999.0
    31DSCG96_2,  P15S,   161,  1,    128,   1007,2,19960302,1036, -8.9992,-168.8763, 4848,   -999,    265.2,  15.8932,  35.2870,2,  35.2812,2,    113.8,2, 15.8512,    111.2,6,     8.34,2,    15.60,2,     0.01,2,     1.30,2,    1.328,2,    0.695,2,   -999.0,9,  -999.00,9,   -999.0,9,   -999.0,9,   -999.0,9,     7.78,2, -999.00,  -999.0, -999.00,  -999.0
    31DSCG96_2,  P15S,   161,  1,    127,   1232,2,19960302,1036, -8.9992,-168.8763, 4848,   -999,    316.1,  12.7766,  34.9581,2,  34.9548,2,     84.8,2, 12.7334,   -999.0,9,    15.41,2,    23.21,2,     0.01,2,     1.79,2,    0.722,2,    0.405,2,   -999.0,9,  -999.00,9,   2189.1,2,    921.4,2,   2311.5,2,     7.66,2, -999.00,  -999.0, -999.00,  -999.0
    31DSCG96_2,  P15S,   161,  1,    126,   1025,2,19960302,1036, -8.9992,-168.8763, 4848,   -999,    364.1,  10.7294,  34.7900,2,  34.7851,2,     83.0,2, 10.6849,     85.6,2,    21.05,2,    27.56,2,     0.01,2,     2.01,2,    0.326,2,    0.174,2,   -999.0,9,  -999.00,9,   -999.0,9,   -999.0,9,   -999.0,9,     7.61,2, -999.00,  -999.0, -999.00,  -999.0
    31DSCG96_2,  P15S,   161,  1,    125,   1119,2,19960302,1036, -8.9992,-168.8763, 4848,   -999,    427.5,   9.4348,  34.6984,2,  34.6995,2,    101.7,2,  9.3865,     98.0,2,    24.34,2,    29.23,2,     0.00,2,     2.07,2,    0.199,2,    0.129,2,   -999.0,9,  -999.00,9,   -999.0,9,   -999.0,9,   -999.0,9,     7.60,2, -999.00,  -999.0, -999.00,  -999.0
    31DSCG96_2,  P15S,   161,  1,    124,   1244,2,19960302,1036, -8.9992,-168.8763, 4848,   -999,    527.6,   7.6503,  34.5951,2,  34.5978,2,    101.7,2,  7.5974,     98.6,2,    34.08,2,    33.38,2,     0.00,2,     2.31,2,    0.056,2,    0.031,2,   -999.0,9,  -999.00,9,   2225.9,2,   1217.9,2,   2310.7,2,     7.55,2, -999.00,  -999.0, -999.00,  -999.0
    31DSCG96_2,  P15S,   161,  1,    123,   1250,2,19960302,1036, -8.9992,-168.8763, 4848,   -999,    625.7,   6.7409,  34.5536,2,  34.5518,2,    104.5,2,  6.6822,    100.5,2,    41.07,2,    35.13,2,     0.00,2,     2.44,2,    0.027,2,    0.016,2,   -999.0,9,  -999.00,9,   -999.0,9,   -999.0,9,   -999.0,9,     7.54,2, -999.00,  -999.0, -999.00,  -999.0
    31DSCG96_2,  P15S,   161,  1,    122,   1265,2,19960302,1036, -8.9992,-168.8763, 4848,   -999,    726.6,   5.8902,  34.5210,2,  34.5199,2,    116.9,2,  5.8262,    113.8,6,    48.06,2,    35.37,2,     0.00,2,     2.45,2, -999.000,9, -999.000,9,   -999.0,9,     0.55,6,   -999.0,9,   -999.0,9,   -999.0,9,     7.55,3, -999.00,  -999.0, -999.00,  -999.0
    31DSCG96_2,  P15S,   161,  1,    121,   1246,2,19960302,1036, -8.9992,-168.8763, 4848,   -999,    824.3,   5.3228,  34.5191,2,  34.5180,2,    113.4,2,  5.2531,    108.5,2,    57.15,2,    36.88,2,     0.00,2,     2.57,2,    0.039,4,    0.008,2,   -999.0,9,  -999.00,9,   -999.0,9,   -999.0,9,   -999.0,9,     7.53,2, -999.00,  -999.0, -999.00,  -999.0
    31DSCG96_2,  P15S,   161,  1,    120,   1015,2,19960302,1036, -8.9992,-168.8763, 4848,   -999,    975.4,   4.4583,  34.5276,2,  34.5267,2,    116.7,2,  4.3812,    114.0,2,    71.90,2,    37.25,2,     0.00,2,     2.61,2, -999.000,9, -999.000,9,   -999.0,9,  -999.00,9,   2269.4,2,   1343.8,2,   2345.0,2,     7.53,2, -999.00,  -999.0, -999.00,  -999.0
    31DSCG96_2,  P15S,   161,  1,    119,   1247,2,19960302,1036, -8.9992,-168.8763, 4848,   -999,   1147.8,   3.8271,  34.5509,2,  34.5529,2,    118.5,2,  3.7404,    117.5,2,    85.88,2,    37.42,2,     0.00,2,     2.63,2,    0.002,2,    0.001,2,   -999.0,9,  -999.00,9,   -999.0,9,   -999.0,9,   -999.0,9,     7.53,2, -999.00,  -999.0, -999.00,  -999.0
    31DSCG96_2,  P15S,   161,  1,    118,   1299,2,19960302,1036, -8.9992,-168.8763, 4848,   -999,   1317.0,   3.3007,  34.5703,2,  34.5710,2,    122.0,2,  3.2048,    124.7,2,    96.44,2,    37.18,2,     0.00,2,     2.61,2, -999.000,9, -999.000,9,   -999.0,9,  -999.00,9,   -999.0,9,   -999.0,9,   -999.0,9,     7.54,2, -999.00,  -999.0, -999.00,  -999.0
    31DSCG96_2,  P15S,   161,  1,    117,   1242,2,19960302,1036, -8.9992,-168.8763, 4848,   -999,   1549.7,   2.8697,  34.5954,2,  34.5950,2,    126.1,2,  2.7592,    125.3,2,   107.89,2,    37.39,2,     0.00,2,     2.62,2, -999.000,9, -999.000,9,   -999.0,9,  -999.00,9,   2302.6,2,   1312.0,2,   2385.6,2,     7.54,2, -999.00,  -999.0, -999.00,  -999.0
    31DSCG96_2,  P15S,   161,  1,    116,   1259,2,19960302,1036, -8.9992,-168.8763, 4848,   -999,   1813.8,   2.4347,  34.6235,2,  34.6220,2,    125.2,2,  2.3076,    127.1,2,   120.41,2,    37.46,2,     0.00,2,     2.62,2,   -0.001,2,    0.001,2,   -999.0,9,  -999.00,9,   -999.0,9,   -999.0,9,   -999.0,9,     7.54,2, -999.00,  -999.0, -999.00,  -999.0
    31DSCG96_2,  P15S,   161,  1,    115,   1041,2,19960302,1036, -8.9992,-168.8763, 4848,   -999,   2067.9,   2.1641,  34.6412,2,  34.6417,2,    131.3,2,  2.0193,    132.4,6,   126.94,2,    37.16,2,     0.00,2,     2.59,2, -999.000,9, -999.000,9,   -999.0,9,  -999.00,9,   2319.5,2,   1262.0,2,   2406.0,2,     7.55,2, -999.00,  -999.0, -999.00,  -999.0
    31DSCG96_2,  P15S,   161,  1,    114,   1017,2,19960302,1036, -8.9992,-168.8763, 4848,   -999,   2316.6,   1.9659,  34.6554,2,  34.6556,2,    135.2,2,  1.8027,    135.6,2,   132.52,2,    36.98,2,     0.00,2,     2.58,2, -999.000,9, -999.000,9,   -999.0,9,  -999.00,9,   -999.0,9,   -999.0,9,   -999.0,9,     7.56,2, -999.00,  -999.0, -999.00,  -999.0
    31DSCG96_2,  P15S,   161,  1,    113,   1302,2,19960302,1036, -8.9992,-168.8763, 4848,   -999,   2562.0,   1.8005,  34.6669,2,  34.6662,2,    143.0,2,  1.6182,    143.0,2,   134.17,2,    36.49,2,     0.00,2,     2.54,2,   -0.001,2,    0.000,2,   -999.0,9,  -999.00,9,   2318.3,2,   1224.5,2,   2414.6,2,     7.57,2, -999.00,  -999.0, -999.00,  -999.0
    31DSCG96_2,  P15S,   161,  1,    112,   1217,2,19960302,1036, -8.9992,-168.8763, 4848,   -999,   2818.1,   1.7091,  34.6740,2,  34.6727,2,    148.4,2,  1.5050,    147.9,2,   135.22,2,    36.20,2,     0.00,2,     2.50,2, -999.000,9, -999.000,9,   -999.0,9,  -999.00,9,   -999.0,9,   -999.0,9,   -999.0,9,     7.58,2, -999.00,  -999.0, -999.00,  -999.0
    31DSCG96_2,  P15S,   161,  1,    111,   1226,2,19960302,1036, -8.9992,-168.8763, 4848,   -999,   3061.4,   1.6446,  34.6782,2,  34.6789,2,    152.4,2,  1.4186,    152.7,2,   135.21,2,    35.86,2,     0.00,2,     2.48,2, -999.000,9, -999.000,9,   -999.0,9,  -999.00,9,   2315.5,2,   1177.1,2,   2413.5,2,     7.58,2, -999.00,  -999.0, -999.00,  -999.0
    31DSCG96_2,  P15S,   161,  1,    110,   1301,2,19960302,1036, -8.9992,-168.8763, 4848,   -999,   3314.6,   1.5847,  34.6822,2,  34.6809,2,    157.6,2,  1.3352,    157.2,2,   134.85,2,    35.58,2,     0.00,2,     2.45,2,   -0.001,2,    0.000,2,   -999.0,9,  -999.00,9,   -999.0,9,   -999.0,9,   -999.0,9,     7.59,2, -999.00,  -999.0, -999.00,  -999.0
    31DSCG96_2,  P15S,   161,  1,    109,   1031,2,19960302,1036, -8.9992,-168.8763, 4848,   -999,   3564.3,   1.5108,  34.6868,2,  34.6858,2,    162.0,2,  1.2377,    162.2,2,   134.84,2,    35.24,2,     0.00,2,     2.43,2, -999.000,9, -999.000,9,   -999.0,9,  -999.00,9,   2308.6,2,   1155.9,2,   2411.6,2,     7.59,2, -999.00,  -999.0, -999.00,  -999.0
    31DSCG96_2,  P15S,   161,  1,    108,   1227,2,19960302,1036, -8.9992,-168.8763, 4848,   -999,   3807.0,   1.4517,  34.6906,2,  34.6905,2,    165.3,2,  1.1548,    165.5,2,   135.09,2,    34.99,2,     0.00,2,     2.41,2,    0.000,2,    0.000,2,   -999.0,9,  -999.00,9,   -999.0,9,   -999.0,9,   -999.0,9,     7.59,2, -999.00,  -999.0, -999.00,  -999.0
    31DSCG96_2,  P15S,   161,  1,    107,   1263,2,19960302,1036, -8.9992,-168.8763, 4848,   -999,   4066.3,   1.3990,  34.6943,2,  34.6938,2,    169.5,2,  1.0757,    170.8,6,   134.32,2,    34.63,2,     0.00,2,     2.39,2, -999.000,9, -999.000,9,   -999.0,9,  -999.00,9,   2301.7,2,   1125.8,2,   2406.1,2,     7.60,2, -999.00,  -999.0, -999.00,  -999.0
    31DSCG96_2,  P15S,   161,  1,    106,   1262,2,19960302,1036, -8.9992,-168.8763, 4848,   -999,   4288.5,   1.3643,  34.6971,2,  34.6969,2,    175.1,2,  1.0173,    176.3,2,   131.93,2,    34.23,2,     0.00,2,     2.36,2, -999.000,9, -999.000,9,   -999.0,9,  -999.00,9,   -999.0,9,   -999.0,9,   -999.0,9,  -999.00,9, -999.00,  -999.0, -999.00,  -999.0
    31DSCG96_2,  P15S,   161,  1,    105,   1264,2,19960302,1036, -8.9992,-168.8763, 4848,   -999,   4419.6,   1.1429,  34.7062,2,  34.7066,2,    192.4,2,  0.7879,    196.6,2,   123.11,2,    32.83,2,     0.00,2,     2.25,2,    0.002,2,    0.000,2,   -999.0,9,  -999.00,9,   2269.9,2,   -999.0,9,   2379.1,2,     7.61,2, -999.00,  -999.0, -999.00,  -999.0
    31DSCG96_2,  P15S,   161,  1,    104,   1003,2,19960302,1036, -8.9992,-168.8763, 4848,   -999,   4564.9,   1.0416,  34.7094,2,  34.7094,2,    203.6,2,  0.6733,    204.5,2,   120.60,2,    32.29,2,     0.00,2,     2.21,2,    0.004,2,    0.002,2,   -999.0,9,  -999.00,9,   2261.0,2,   1188.3,3,   2370.1,2,     7.61,2, -999.00,  -999.0, -999.00,  -999.0
    31DSCG96_2,  P15S,   161,  1,    103,   1035,2,19960302,1036, -8.9992,-168.8763, 4848,   -999,   4685.7,   1.0423,  34.7097,2,  34.7100,2,    205.4,2,  0.6602,    205.5,2,   120.65,2,    32.27,2,     0.00,2,     2.21,2,    0.004,6,    0.001,6,   -999.0,9,  -999.00,9,   -999.0,9,   -999.0,9,   -999.0,9,     7.61,2, -999.00,  -999.0, -999.00,  -999.0
    31DSCG96_2,  P15S,   161,  1,    102,   1030,2,19960302,1036, -8.9992,-168.8763, 4848,   -999,   4812.4,   1.0519,  34.7092,2,  34.7096,2,    205.8,2,  0.6548,    205.6,2,   120.45,2,    32.24,2,     0.00,2,     2.21,2,    0.007,2,    0.003,2,   -999.0,9,  -999.00,9,   2260.5,2,   1079.6,2,   2370.9,2,     7.61,2, -999.00,  -999.0, -999.00,  -999.0
    31DSCG96_2,  P15S,   161,  1,    101,   1022,2,19960302,1036, -8.9992,-168.8763, 4848,   -999,   4970.1,   1.0712,  34.7091,2,  34.7089,2,    205.9,2,  0.6548,    205.8,2,   120.54,6,    32.26,6,     0.00,6,     2.22,3,    0.006,2,    0.001,2,   -999.0,9,  -999.00,9,   2257.6,2,   1107.2,3,   2369.4,2,     7.61,2, -999.00,  -999.0, -999.00,  -999.0