BOTTLE,20220811CCHSIOAMB
EXPOCODE,SECT_ID,STNNBR,CASTNO,SAMPNO,BTLNBR,BTLNBR_FLAG_W,DATE,TIME,LATITUDE,LONGITUDE,DEPTH,CTDRAW,CTDPRS,CTDTMP,CTDSAL,CTDSAL_FLAG_W,SALNTY,SALNTY_FLAG_W,CTDOXY,CTDOXY_FLAG_W,THETA,OXYGEN,OXYGEN_FLAG_W,SILCAT,SILCAT_FLAG_W,NITRAT,NITRAT_FLAG_W,NITRIT,NITRIT_FLAG_W,PHSPHT,PHSPHT_FLAG_W,CFC-11,CFC-11_FLAG_W,CFC-12,CFC-12_FLAG_W,DELC14,DELC14_FLAG_W,DELC13,DELC13_FLAG_W,TCARBN,TCARBN_FLAG_W,PCO2,PCO2_FLAG_W,ALKALI,ALKALI_FLAG_W,PH,PH_FLAG_W,PCO2TMP,C14ERR,PH_TMP,C13ERR
,,,,,,,,,,,,DBAR,DBAR,ITS-90,PSS-78,,PSS-78,,UMOL/KG,,DEG C,UMOL/KG,,UMOL/KG,,UMOL/KG,,UMOL/KG,,UMOL/KG,,PMOL/KG,,PMOL/KG,,/MILLE,,/MILLE,,UMOL/KG,,UATM,,UMOL/KG,,,,DEG C,/MILLE,DEG C,/MILLE
    31DSCG96_2,  P15S,   106,  1,    136,   1245,2,19960216,2233,-35.3328,-170.0013, 4880,   -999,      4.2,  21.0250,  35.5426,2,-999.0000,9,    222.4,2, 21.0242,    223.1,2,  -999.00,9,  -999.00,9,  -999.00,9,  -999.00,9,    2.213,2,    1.229,2,     83.2,2,  -999.00,9,   2032.3,2,    343.6,2,   2334.6,3,     8.02,2, -999.00,     2.8, -999.00,  -999.0
    31DSCG96_2,  P15S,   106,  1,    135,   1113,2,19960216,2233,-35.3328,-170.0013, 4880,   -999,     21.1,  21.0140,  35.5413,2,  35.5417,2,    220.7,2, 21.0100,    222.9,2,     1.37,2,     0.00,2,     0.00,2,     0.09,2,    2.254,2,    1.251,2,   -999.0,9,  -999.00,9,   -999.0,9,   -999.0,9,   -999.0,9,     8.03,2, -999.00,  -999.0, -999.00,  -999.0
    31DSCG96_2,  P15S,   106,  1,    134,   1216,2,19960216,2233,-35.3328,-170.0013, 4880,   -999,     45.3,  19.9069,  35.5325,2,  35.5338,2,    230.0,2, 19.8985,    233.2,2,     1.32,2,     0.00,2,     0.00,2,     0.10,2,    2.363,6,    1.295,6,   -999.0,9,  -999.00,9,   2032.8,2,    338.8,2,   2330.4,2,     8.02,2, -999.00,  -999.0, -999.00,  -999.0
    31DSCG96_2,  P15S,   106,  1,    133,   1221,4,19960216,2233,-35.3328,-170.0013, 4880,   -999,     69.9,  17.0652,  35.4294,2,-999.0000,9,    254.6,2, 17.0536,   -999.0,9,  -999.00,9,  -999.00,9,  -999.00,9,  -999.00,9, -999.000,9, -999.000,9,   -999.0,9,  -999.00,9,   -999.0,9,   -999.0,9,   -999.0,9,  -999.00,9, -999.00,  -999.0, -999.00,  -999.0
    31DSCG96_2,  P15S,   106,  1,    132,   1039,2,19960216,2233,-35.3328,-170.0013, 4880,   -999,     97.3,  14.4578,  35.3094,2,  35.3129,2,    226.0,2, 14.4434,    238.0,2,     2.28,2,     1.85,2,     0.22,2,     0.32,2,    2.853,2,    1.628,2,   -999.0,9,  -999.00,9,   -999.0,9,   -999.0,9,   -999.0,9,     7.94,3, -999.00,  -999.0, -999.00,  -999.0
    31DSCG96_2,  P15S,   106,  1,    131,   1014,2,19960216,2233,-35.3328,-170.0013, 4880,   -999,    121.9,  13.6879,  35.2262,2,  35.2333,2,    223.5,2, 13.6705,    230.5,2,     2.31,2,     4.76,2,     0.04,2,     0.44,2,    2.938,2,    1.566,2,   -999.0,9,  -999.00,9,   2079.8,2,    462.6,2,   2314.6,2,     7.92,2, -999.00,  -999.0, -999.00,  -999.0
    31DSCG96_2,  P15S,   106,  1,    130,   1257,2,19960216,2233,-35.3328,-170.0013, 4880,   -999,    144.9,  13.4424,  35.2276,2,  35.2308,2,    227.2,2, 13.4220,    227.6,2,     2.69,2,     6.41,2,     0.01,2,     0.53,2, -999.000,9, -999.000,9,   -999.0,9,  -999.00,9,   -999.0,9,   -999.0,9,   -999.0,9,     7.90,2, -999.00,  -999.0, -999.00,  -999.0
    31DSCG96_2,  P15S,   106,  1,    129,   1256,2,19960216,2233,-35.3328,-170.0013, 4880,   -999,    190.4,  12.5667,  35.1036,2,  35.1051,2,    218.4,2, 12.5411,    222.5,6,     3.32,2,     8.59,2,     0.01,2,     0.66,2,    2.908,2,    1.531,2,   -999.0,9,  -999.00,9,   2095.4,2,    515.4,2,   2312.3,2,     7.87,2, -999.00,  -999.0, -999.00,  -999.0
    31DSCG96_2,  P15S,   106,  1,    128,   1007,2,19960216,2233,-35.3328,-170.0013, 4880,   -999,    240.1,  11.7017,  34.9860,2,  34.9860,2,    226.5,2, 11.6708,    223.0,2,     3.69,2,    10.57,2,     0.00,2,     0.78,2, -999.000,9, -999.000,9,   -999.0,9,  -999.00,9,   -999.0,9,   -999.0,9,   -999.0,9,     7.84,2, -999.00,  -999.0, -999.00,  -999.0
    31DSCG96_2,  P15S,   106,  1,    127,   1232,2,19960216,2233,-35.3328,-170.0013, 4880,   -999,    291.1,  11.0831,  34.9043,2,  34.9067,2,    217.6,2, 11.0470,    223.6,2,     4.75,2,    13.24,2,     0.00,2,     0.94,2,    2.766,2,    1.417,2,   -999.0,9,  -999.00,9,   2114.9,2,    617.1,2,   2297.0,2,     7.81,2, -999.00,  -999.0, -999.00,  -999.0
    31DSCG96_2,  P15S,   106,  1,    126,   1025,2,19960216,2233,-35.3328,-170.0013, 4880,   -999,    340.7,  10.3657,  34.8117,2,  34.8107,2,    203.3,2, 10.3251,    199.8,2,     6.26,2,    16.55,2,     0.00,2,     1.14,2,    2.296,2,    1.139,2,   -999.0,9,  -999.00,9,   -999.0,9,   -999.0,9,   -999.0,9,     7.78,2, -999.00,  -999.0, -999.00,  -999.0
    31DSCG96_2,  P15S,   106,  1,    125,   1233,2,19960216,2233,-35.3328,-170.0013, 4880,   -999,    390.6,   9.7043,  34.7305,2,  34.7305,2,    198.4,2,  9.6596,    197.2,2,     7.29,2,    18.46,2,     0.00,2,     1.26,2,    2.071,2,    1.040,2,   -999.0,9,  -999.00,9,   2134.9,2,    719.1,2,   2297.6,2,     7.76,2, -999.00,  -999.0, -999.00,  -999.0
    31DSCG96_2,  P15S,   106,  1,    124,   1013,2,19960216,2233,-35.3328,-170.0013, 4880,   -999,    478.0,   8.5934,  34.6013,2,  34.6016,2,    201.7,2,  8.5423,   -999.0,9,     8.68,2,    20.75,2,     0.00,2,     1.41,2,    1.564,2,    0.782,2,   -999.0,9,  -999.00,9,   -999.0,9,   -999.0,9,   -999.0,9,     7.74,2, -999.00,  -999.0, -999.00,  -999.0
    31DSCG96_2,  P15S,   106,  1,    123,   1250,2,19960216,2233,-35.3328,-170.0013, 4880,   -999,    577.7,   7.7394,  34.5073,2,  34.5071,2,    211.0,2,  7.6810,    212.6,2,     9.52,2,    22.16,2,     0.00,2,     1.50,2,    1.240,2,    0.616,2,   -999.0,9,  -999.00,9,   2140.7,2,    771.4,2,   2287.9,2,     7.73,2, -999.00,  -999.0, -999.00,  -999.0
    31DSCG96_2,  P15S,   106,  1,    122,   1265,2,19960216,2233,-35.3328,-170.0013, 4880,   -999,    675.5,   7.1124,  34.4495,2,  34.4512,2,    215.7,2,  7.0469,    216.3,2,    11.20,2,    23.47,2,     0.00,2,     1.59,2,    0.984,2,    0.494,2,   -999.0,9,  -999.00,9,   -999.0,9,   -999.0,9,   -999.0,9,     7.72,2, -999.00,  -999.0, -999.00,  -999.0
    31DSCG96_2,  P15S,   106,  1,    121,   1246,2,19960216,2233,-35.3328,-170.0013, 4880,   -999,    771.0,   6.6810,  34.4275,2,  34.4268,2,    211.7,2,  6.6083,    211.5,6,    14.50,2,    24.91,2,     0.00,2,     1.69,2,    0.681,2,    0.348,2,   -999.0,9,  -999.00,9,   2151.8,2,    825.5,2,   2291.1,2,     7.70,2, -999.00,  -999.0, -999.00,  -999.0
    31DSCG96_2,  P15S,   106,  1,    120,   1015,2,19960216,2233,-35.3328,-170.0013, 4880,   -999,    877.3,   6.0446,  34.4010,2,  34.3997,2,    204.1,2,  5.9655,    205.1,2,    19.94,2,    26.89,2,     0.00,2,     1.83,2, -999.000,9, -999.000,9,   -999.0,9,  -999.00,9,   -999.0,9,   -999.0,9,   -999.0,9,     7.68,2, -999.00,  -999.0, -999.00,  -999.0
    31DSCG96_2,  P15S,   106,  1,    119,   1247,2,19960216,2233,-35.3328,-170.0013, 4880,   -999,    976.2,   5.3393,  34.3789,2,  34.3783,2,    197.0,2,  5.2558,    198.8,2,    26.66,2,    28.95,2,     0.00,2,     1.97,2,    0.211,2,    0.119,2,   -999.0,9,  -999.00,9,   2176.4,2,    946.9,2,   2298.9,2,     7.66,2, -999.00,  -999.0, -999.00,  -999.0
    31DSCG96_2,  P15S,   106,  1,    118,   1222,2,19960216,2233,-35.3328,-170.0013, 4880,   -999,   1079.0,   4.7331,  34.3921,2,  34.3910,2,    190.0,2,  4.6450,    188.3,2,    36.19,2,    30.72,2,     0.00,2,     2.09,2, -999.000,9, -999.000,9,   -999.0,9,  -999.00,9,   -999.0,9,   -999.0,9,   -999.0,9,     7.63,3, -999.00,  -999.0, -999.00,  -999.0
    31DSCG96_2,  P15S,   106,  1,    117,   1267,2,19960216,2233,-35.3328,-170.0013, 4880,   -999,   1173.9,   4.2244,  34.4100,2,  34.4100,2,    182.3,2,  4.1322,    183.3,2,    45.05,2,    31.88,2,     0.00,2,     2.18,2,    0.071,2,    0.044,2,   -999.0,9,  -999.00,9,   2207.8,2,   1043.5,4,   2317.2,2,     7.62,2, -999.00,  -999.0, -999.00,  -999.0
    31DSCG96_2,  P15S,   106,  1,    116,   1211,2,19960216,2233,-35.3328,-170.0013, 4880,   -999,   1273.6,   3.7191,  34.4460,2,  34.4448,2,    175.8,2,  3.6230,    175.9,2,    56.29,2,    32.93,2,     0.00,2,     2.27,2, -999.000,9, -999.000,9,   -999.0,9,  -999.00,9,   -999.0,9,   -999.0,9,   -999.0,9,     7.60,2, -999.00,  -999.0, -999.00,  -999.0
    31DSCG96_2,  P15S,   106,  1,    115,   1041,2,19960216,2233,-35.3328,-170.0013, 4880,   -999,   1455.4,   3.1822,  34.5062,2,  34.5062,2,    165.5,2,  3.0762,    165.9,2,    72.59,2,    33.99,2,     0.00,2,     2.35,2,    0.013,2,    0.011,2,   -999.0,9,  -999.00,9,   2246.4,2,   1147.5,2,   2346.7,2,     7.59,2, -999.00,  -999.0, -999.00,  -999.0
    31DSCG96_2,  P15S,   106,  1,    114,   1017,2,19960216,2233,-35.3328,-170.0013, 4880,   -999,   1686.2,   2.7306,  34.5713,2,  34.5718,2,    156.5,2,  2.6105,    156.9,2,    91.12,2,    34.74,2,     0.00,2,     2.41,2, -999.000,9, -999.000,9,   -999.0,9,  -999.00,9,   -999.0,9,   -999.0,9,   -999.0,9,     7.58,2, -999.00,  -999.0, -999.00,  -999.0
    31DSCG96_2,  P15S,   106,  1,    113,   1302,2,19960216,2233,-35.3328,-170.0013, 4880,   -999,   1942.0,   2.4411,  34.6114,2,  34.6113,2,    151.3,2,  2.3031,    150.7,2,   105.60,2,    35.30,2,     0.00,2,     2.46,2,    0.001,2,    0.001,2,   -999.0,9,  -999.00,9,   2287.5,2,   1202.8,2,   2381.2,2,     7.57,2, -999.00,  -999.0, -999.00,  -999.0
    31DSCG96_2,  P15S,   106,  1,    112,   1217,2,19960216,2233,-35.3328,-170.0013, 4880,   -999,   2183.1,   2.2826,  34.6301,2,  34.6297,2,    149.4,2,  2.1259,    149.3,2,   112.67,2,    35.50,2,     0.00,2,     2.47,2,    0.002,2,    0.003,2,   -999.0,9,  -999.00,9,   -999.0,9,   -999.0,9,   -999.0,9,     7.57,2, -999.00,  -999.0, -999.00,  -999.0
    31DSCG96_2,  P15S,   106,  1,    111,   1114,2,19960216,2233,-35.3328,-170.0013, 4880,   -999,   2442.0,   2.1536,  34.6423,2,  34.6417,2,    148.7,2,  1.9758,    148.4,2,   118.35,2,    35.67,2,     0.00,2,     2.48,2, -999.000,9, -999.000,9,   -999.0,9,  -999.00,9,   2302.6,2,   1210.8,2,   2398.5,2,     7.57,2, -999.00,  -999.0, -999.00,  -999.0
    31DSCG96_2,  P15S,   106,  1,    110,   1301,2,19960216,2233,-35.3328,-170.0013, 4880,   -999,   2686.6,   2.0149,  34.6549,2,  34.6547,2,    148.7,2,  1.8170,    152.5,2,   122.95,2,    35.72,2,     0.00,2,     2.48,2,    0.000,2,    0.002,2,   -999.0,9,  -999.00,9,   -999.0,9,   -999.0,9,   -999.0,9,     7.57,2, -999.00,  -999.0, -999.00,  -999.0
    31DSCG96_2,  P15S,   106,  1,    109,   1119,2,19960216,2233,-35.3328,-170.0013, 4880,   -999,   2939.6,   1.8927,  34.6705,2,  34.6710,2,    153.4,2,  1.6731,    154.0,6,   123.26,2,    35.19,2,     0.00,2,     2.45,2,    0.000,2,    0.001,2,   -999.0,9,  -999.00,9,   2302.4,2,   1198.0,2,   2400.6,2,     7.58,2, -999.00,  -999.0, -999.00,  -999.0
    31DSCG96_2,  P15S,   106,  1,    108,   1227,2,19960216,2233,-35.3328,-170.0013, 4880,   -999,   3192.0,   1.7713,  34.6958,2,  34.6952,2,    169.6,2,  1.5296,    170.1,2,   115.40,2,    33.70,2,     0.00,2,     2.34,2,    0.002,2,    0.005,2,   -999.0,9,  -999.00,9,   -999.0,9,   -999.0,9,   -999.0,9,     7.59,2, -999.00,  -999.0, -999.00,  -999.0
    31DSCG96_2,  P15S,   106,  1,    107,   1263,2,19960216,2233,-35.3328,-170.0013, 4880,   -999,   3443.7,   1.6337,  34.7153,2,  34.7159,2,    184.9,2,  1.3697,    190.6,2,   108.72,2,    32.38,2,     0.00,2,     2.23,2,    0.003,2,    0.002,2,   -999.0,9,  -999.00,9,   2266.6,2,   1108.5,2,   2376.2,2,     7.60,3, -999.00,  -999.0, -999.00,  -999.0
    31DSCG96_2,  P15S,   106,  1,    106,   1262,2,19960216,2233,-35.3328,-170.0013, 4880,   -999,   3690.3,   1.4664,  34.7213,2,  34.7226,2,    194.6,2,  1.1811,    194.4,2,   108.86,2,    31.89,2,     0.00,2,     2.19,2,    0.003,2,    0.003,2,   -999.0,9,  -999.00,9,   -999.0,9,   -999.0,9,   -999.0,9,     7.61,2, -999.00,  -999.0, -999.00,  -999.0
    31DSCG96_2,  P15S,   106,  1,    105,   1264,2,19960216,2233,-35.3328,-170.0013, 4880,   -999,   3942.6,   1.2499,  34.7186,2,  34.7191,2,    200.2,2,  0.9440,    200.8,6,   113.09,2,    31.86,2,     0.00,2,     2.18,2,    0.009,2,    0.005,2,   -999.0,9,  -999.00,9,   2259.1,2,   1088.7,2,   2368.3,2,     7.61,2, -999.00,  -999.0, -999.00,  -999.0
    31DSCG96_2,  P15S,   106,  1,    104,   1003,2,19960216,2233,-35.3328,-170.0013, 4880,   -999,   4190.2,   1.1083,  34.7142,2,  34.7142,2,    203.8,2,  0.7797,    204.1,2,   117.14,2,    32.00,2,     0.00,2,     2.19,2,    0.011,2,    0.008,2,   -999.0,9,  -999.00,9,   -999.0,9,   -999.0,9,   -999.0,9,     7.61,2, -999.00,  -999.0, -999.00,  -999.0
    31DSCG96_2,  P15S,   106,  1,    103,    999,2,19960216,2233,-35.3328,-170.0013, 4880,   -999,   4439.9,   1.0137,  34.7099,2,  34.7104,2,    205.8,2,  0.6604,    205.3,2,   120.20,2,    32.08,2,     0.00,2,     2.20,2,    0.027,2,    0.018,2,   -999.0,9,  -999.00,9,   2259.7,2,   1088.8,2,   2373.0,2,     7.61,2, -999.00,  -999.0, -999.00,  -999.0
    31DSCG96_2,  P15S,   106,  1,    102,   1030,2,19960216,2233,-35.3328,-170.0013, 4880,   -999,   4690.9,   0.9859,  34.7081,2,  34.7093,2,    206.8,2,  0.6050,    207.1,2,   121.61,2,    32.04,2,     0.00,2,     2.20,2,    0.029,6,    0.018,6,   -999.0,9,  -999.00,9,   -999.0,9,   -999.0,9,   -999.0,9,     7.61,2, -999.00,  -999.0, -999.00,  -999.0
    31DSCG96_2,  P15S,   106,  1,    101,   1022,2,19960216,2233,-35.3328,-170.0013, 4880,   -999,   4979.0,   1.0065,  34.7070,2,  34.7080,2,    207.1,2,  0.5913,    207.3,2,   122.13,6,    32.18,6,     0.00,6,     2.20,2,    0.034,2,    0.017,2,   -999.0,9,  -999.00,9,   2260.0,2,   1110.2,2,   2371.1,2,     7.61,2, -999.00,  -999.0, -999.00,  -999.0