BOTTLE,20220811CCHSIOAMB
EXPOCODE,SECT_ID,STNNBR,CASTNO,SAMPNO,BTLNBR,BTLNBR_FLAG_W,DATE,TIME,LATITUDE,LONGITUDE,DEPTH,CTDRAW,CTDPRS,CTDTMP,CTDSAL,CTDSAL_FLAG_W,SALNTY,SALNTY_FLAG_W,CTDOXY,CTDOXY_FLAG_W,THETA,OXYGEN,OXYGEN_FLAG_W,SILCAT,SILCAT_FLAG_W,NITRAT,NITRAT_FLAG_W,NITRIT,NITRIT_FLAG_W,PHSPHT,PHSPHT_FLAG_W,CFC-11,CFC-11_FLAG_W,CFC-12,CFC-12_FLAG_W,DELC14,DELC14_FLAG_W,DELC13,DELC13_FLAG_W,TCARBN,TCARBN_FLAG_W,PCO2,PCO2_FLAG_W,ALKALI,ALKALI_FLAG_W,PH,PH_FLAG_W,PCO2TMP,C14ERR,PH_TMP,C13ERR
,,,,,,,,,,,,DBAR,DBAR,ITS-90,PSS-78,,PSS-78,,UMOL/KG,,DEG C,UMOL/KG,,UMOL/KG,,UMOL/KG,,UMOL/KG,,UMOL/KG,,PMOL/KG,,PMOL/KG,,/MILLE,,/MILLE,,UMOL/KG,,UATM,,UMOL/KG,,,,DEG C,/MILLE,DEG C,/MILLE
    31DSCG96_2,  P15S,   179,  1,    119,   1247,2,19960309,0248, -9.9195,-169.6283, 5188,   -999,   2946.1,   1.6768,  34.6754,2,  34.6754,2,    150.4,2,  1.4613,    150.9,2,   134.95,2,    36.35,2,     0.00,2,     2.49,2, -999.000,9, -999.000,9,   -999.0,9,  -999.00,9,   2320.5,2,   1179.9,2,   2413.4,2,     7.58,2, -999.00,  -999.0, -999.00,  -999.0
    31DSCG96_2,  P15S,   179,  1,    118,   1299,2,19960309,0248, -9.9195,-169.6283, 5188,   -999,   3098.4,   1.6274,  34.6786,2,  34.6781,2,    153.6,2,  1.3982,    153.6,2,   135.22,2,    36.14,2,     0.00,2,     2.47,2, -999.000,9, -999.000,9,   -999.0,9,  -999.00,9,   2316.4,2,   1174.9,2,   -999.0,9,     7.58,2, -999.00,  -999.0, -999.00,  -999.0
    31DSCG96_2,  P15S,   179,  1,    117,   1263,2,19960309,0248, -9.9195,-169.6283, 5188,   -999,   3252.5,   1.6083,  34.6800,2,  34.6805,2,    155.9,2,  1.3644,    155.3,2,   135.48,2,    36.09,2,     0.00,2,     2.47,2,    0.000,2,    0.002,2,   -999.0,9,  -999.00,9,   2316.0,2,   1172.1,2,   2413.2,2,     7.58,2, -999.00,  -999.0, -999.00,  -999.0
    31DSCG96_2,  P15S,   179,  1,    116,   1259,2,19960309,0248, -9.9195,-169.6283, 5188,   -999,   3399.5,   1.5815,  34.6820,2,  34.6810,2,    156.7,2,  1.3235,    156.7,2,   135.87,2,    35.97,2,     0.00,2,     2.47,2, -999.000,9, -999.000,9,   -999.0,9,  -999.00,9,   2314.6,2,   1158.9,2,   -999.0,9,     7.59,2, -999.00,  -999.0, -999.00,  -999.0
    31DSCG96_2,  P15S,   179,  1,    115,   1246,2,19960309,0248, -9.9195,-169.6283, 5188,   -999,   3549.2,   1.5661,  34.6835,2,  34.6850,2,    159.1,2,  1.2932,    158.0,2,   135.86,2,    35.90,2,     0.00,2,     2.46,2,   -0.001,2,    0.000,2,   -999.0,9,  -999.00,9,   2314.2,2,   1159.7,2,   2412.7,2,     7.59,2, -999.00,  -999.0, -999.00,  -999.0
    31DSCG96_2,  P15S,   179,  1,    114,   1017,2,19960309,0248, -9.9195,-169.6283, 5188,   -999,   3697.5,   1.5343,  34.6855,2,  34.6850,2,    160.8,2,  1.2468,    160.0,2,   136.13,2,    35.73,2,     0.00,2,     2.45,2, -999.000,9, -999.000,9,   -999.0,9,  -999.00,9,   2314.1,2,   1156.4,2,   -999.0,9,  -999.00,9, -999.00,  -999.0, -999.00,  -999.0
    31DSCG96_2,  P15S,   179,  1,    113,   1035,2,19960309,0248, -9.9195,-169.6283, 5188,   -999,   3851.8,   1.5128,  34.6874,2,  34.6881,2,    162.8,2,  1.2095,    162.7,2,   135.51,2,    35.55,2,     0.00,2,     2.44,2,    0.000,2,    0.002,2,   -999.0,9,  -999.00,9,   2310.7,2,   1153.1,2,   2410.8,2,     7.59,2, -999.00,  -999.0, -999.00,  -999.0
    31DSCG96_2,  P15S,   179,  1,    112,   1217,2,19960309,0248, -9.9195,-169.6283, 5188,   -999,   3997.1,   1.4269,  34.6953,2,  34.6970,2,    169.2,2,  1.1102,    175.2,6,   128.22,2,    34.50,2,     0.00,2,     2.36,2, -999.000,9, -999.000,9,   -999.0,9,  -999.00,9,   2294.4,2,   1143.7,2,   2395.5,2,     7.60,2, -999.00,  -999.0, -999.00,  -999.0
    31DSCG96_2,  P15S,   179,  1,    110,   1301,2,19960309,0248, -9.9195,-169.6283, 5188,   -999,   4146.9,   1.2923,  34.7075,2,-999.0000,9,    187.8,2,  0.9631,   -999.0,9,  -999.00,9,  -999.00,9,  -999.00,9,  -999.00,9, -999.000,9, -999.000,9,   -999.0,9,  -999.00,9,   -999.0,9,   -999.0,9,   -999.0,9,  -999.00,9, -999.00,  -999.0, -999.00,  -999.0
    31DSCG96_2,  P15S,   179,  1,    111,   1226,2,19960309,0248, -9.9195,-169.6283, 5188,   -999,   4147.0,   1.3001,  34.7071,2,  34.7065,2,    187.8,2,  0.9706,    191.8,2,   120.00,2,    33.21,2,     0.00,2,     2.29,3,    0.002,2,    0.000,2,   -999.0,9,  -999.00,9,   2273.0,2,   1086.3,2,   2377.0,2,     7.61,2, -999.00,  -999.0, -999.00,  -999.0
    31DSCG96_2,  P15S,   179,  1,    109,   1027,2,19960309,0248, -9.9195,-169.6283, 5188,   -999,   4300.6,   1.2015,  34.7101,2,  34.7099,2,    197.4,2,  0.8580,    198.1,2,   118.70,6,    32.79,6,     0.00,6,     2.23,6,    0.002,2,    0.002,2,   -999.0,9,  -999.00,9,   2266.3,2,   1072.5,2,   2372.0,2,     7.61,2, -999.00,  -999.0, -999.00,  -999.0
    31DSCG96_2,  P15S,   179,  1,    108,   1227,2,19960309,0248, -9.9195,-169.6283, 5188,   -999,   4448.4,   1.0950,  34.7079,2,  34.7090,2,    201.4,2,  0.7383,    201.4,2,   120.78,6,    32.79,6,     0.00,6,     2.24,6,    0.001,2,    0.001,2,   -999.0,9,  -999.00,9,   2269.5,3,   -999.0,9,   -999.0,9,     7.61,2, -999.00,  -999.0, -999.00,  -999.0
    31DSCG96_2,  P15S,   179,  1,    107,   1242,2,19960309,0248, -9.9195,-169.6283, 5188,   -999,   4598.3,   1.0527,  34.7093,2,  34.7088,2,    205.3,2,  0.6803,    204.6,2,   120.16,6,    32.55,6,     0.00,6,     2.22,6,    0.003,2,    0.003,2,   -999.0,9,  -999.00,9,   2261.5,2,   1063.7,2,   2366.6,2,     7.61,2, -999.00,  -999.0, -999.00,  -999.0
    31DSCG96_2,  P15S,   179,  1,    106,   1262,2,19960309,0248, -9.9195,-169.6283, 5188,   -999,   4752.5,   1.0554,  34.7091,2,  34.7088,2,    206.0,2,  0.6651,    205.0,2,   120.32,6,    32.55,6,     0.00,6,     2.23,6,    0.003,2,    0.004,2,   -999.0,9,  -999.00,9,   2260.0,2,   -999.0,9,   -999.0,9,     7.61,2, -999.00,  -999.0, -999.00,  -999.0
    31DSCG96_2,  P15S,   179,  1,    105,   1256,2,19960309,0248, -9.9195,-169.6283, 5188,   -999,   4902.3,   1.0637,  34.7089,2,  34.7085,2,    206.2,2,  0.6556,    205.4,2,   120.55,6,    32.54,6,     0.00,6,     2.21,6,    0.004,2,    0.001,2,   -999.0,9,  -999.00,9,   2261.1,2,   1068.2,2,   2368.2,2,     7.61,2, -999.00,  -999.0, -999.00,  -999.0
    31DSCG96_2,  P15S,   179,  1,    104,   1003,2,19960309,0248, -9.9195,-169.6283, 5188,   -999,   4998.4,   1.0722,  34.7087,2,  34.7086,2,    206.3,2,  0.6524,    205.8,2,   120.59,6,    32.51,6,     0.00,6,     2.23,3,    0.004,2,    0.003,2,   -999.0,9,  -999.00,9,   2260.5,2,   1059.3,2,   -999.0,9,     7.61,2, -999.00,  -999.0, -999.00,  -999.0
    31DSCG96_2,  P15S,   179,  1,    103,   1302,2,19960309,0248, -9.9195,-169.6283, 5188,   -999,   5099.0,   1.0827,  34.7086,2,  34.7087,2,    206.0,2,  0.6505,    206.2,6,   120.60,6,    32.58,6,     0.00,6,     2.21,6,    0.006,2,    0.005,2,   -999.0,9,  -999.00,9,   2260.6,2,   1064.7,2,   2367.6,2,     7.61,2, -999.00,  -999.0, -999.00,  -999.0
    31DSCG96_2,  P15S,   179,  1,    102,   1030,2,19960309,0248, -9.9195,-169.6283, 5188,   -999,   5198.8,   1.0933,  34.7085,2,  34.7093,2,    206.0,2,  0.6486,    172.8,3,   120.48,6,    32.48,6,     0.00,6,     2.21,6,    0.004,2,    0.002,2,   -999.0,9,  -999.00,9,   2261.2,2,   1075.0,2,   -999.0,9,     7.61,2, -999.00,  -999.0, -999.00,  -999.0
    31DSCG96_2,  P15S,   179,  1,    101,   1022,2,19960309,0248, -9.9195,-169.6283, 5188,   -999,   5304.8,   1.1049,  34.7082,2,  34.7094,2,    205.6,2,  0.6468,    206.4,2,   120.57,6,    32.46,6,     0.00,6,     2.26,3,    0.004,6,    0.002,6,   -999.0,9,  -999.00,9,   2264.8,2,   1092.5,2,   2368.2,2,     7.61,2, -999.00,  -999.0, -999.00,  -999.0
    31DSCG96_2,  P15S,   180,  1,    116,   1259,2,19960309,1024, -9.7825,-170.0587, 4993,   -999,   3045.5,   1.6473,  34.6771,2,  34.6772,2,    152.9,2,  1.4228,    152.3,2,   135.28,6,    36.24,6,     0.00,6,     2.48,6,   -0.003,2,    0.000,2,   -999.0,9,  -999.00,9,   2318.3,2,   -999.0,9,   2413.9,2,     7.58,2, -999.00,  -999.0, -999.00,  -999.0
    31DSCG96_2,  P15S,   180,  1,    115,   1246,2,19960309,1024, -9.7825,-170.0587, 4993,   -999,   3194.8,   1.6078,  34.6800,2,  34.6789,2,    155.3,2,  1.3696,    155.3,2,   135.22,6,    36.05,6,     0.00,6,     2.48,6, -999.000,9, -999.000,9,   -999.0,9,  -999.00,9,   2315.0,2,   -999.0,9,   2413.2,2,     7.58,2, -999.00,  -999.0, -999.00,  -999.0
    31DSCG96_2,  P15S,   180,  1,    114,   1017,2,19960309,1024, -9.7825,-170.0587, 4993,   -999,   3348.2,   1.5872,  34.6815,2,  34.6833,2,    156.6,2,  1.3343,    156.3,2,   135.70,6,    36.01,6,     0.00,6,     2.47,6,   -0.003,2,    0.000,2,   -999.0,9,  -999.00,9,   2315.7,2,   1162.1,2,   2413.6,2,     7.58,2, -999.00,  -999.0, -999.00,  -999.0
    31DSCG96_2,  P15S,   180,  1,    113,   1035,2,19960309,1024, -9.7825,-170.0587, 4993,   -999,   3496.5,   1.5481,  34.6839,2,  34.6849,2,    159.0,2,  1.2810,    158.9,6,   135.75,6,    35.83,6,     0.00,6,     2.46,6, -999.000,9, -999.000,9,   -999.0,9,  -999.00,9,   2312.7,2,   1158.5,2,   2411.6,2,     7.59,2, -999.00,  -999.0, -999.00,  -999.0
    31DSCG96_2,  P15S,   180,  1,    112,   1217,2,19960309,1024, -9.7825,-170.0587, 4993,   -999,   3646.3,   1.5279,  34.6856,2,  34.6868,2,    160.7,2,  1.2458,    159.9,2,   135.94,6,    35.79,6,     0.00,6,     2.45,6,    0.000,2,    0.001,2,   -999.0,9,  -999.00,9,   2312.6,2,   1159.9,2,   2412.0,2,     7.59,2, -999.00,  -999.0, -999.00,  -999.0
    31DSCG96_2,  P15S,   180,  1,    111,   1226,2,19960309,1024, -9.7825,-170.0587, 4993,   -999,   3796.5,   1.4889,  34.6881,2,  34.6880,2,    163.2,2,  1.1921,    163.5,2,   135.44,6,    35.52,6,     0.00,6,     2.43,6, -999.000,9, -999.000,9,   -999.0,9,  -999.00,9,   2310.6,2,   1146.8,2,   2410.9,2,     7.59,2, -999.00,  -999.0, -999.00,  -999.0
    31DSCG96_2,  P15S,   180,  1,    109,   1027,2,19960309,1024, -9.7825,-170.0587, 4993,   -999,   3949.0,   1.3756,  34.6960,2,  34.6964,2,    169.2,2,  1.0656,    176.3,2,   129.30,6,    34.52,6,     0.00,6,     2.36,6,    0.001,2,    0.001,2,   -999.0,9,  -999.00,9,   2293.5,2,   1131.5,2,   2396.0,2,     7.60,2, -999.00,  -999.0, -999.00,  -999.0
    31DSCG96_2,  P15S,   180,  1,    110,   1301,2,19960309,1024, -9.7825,-170.0587, 4993,   -999,   3949.7,   1.3787,  34.6956,2,-999.0000,9,    169.2,2,  1.0685,   -999.0,9,  -999.00,9,  -999.00,9,  -999.00,9,  -999.00,9, -999.000,9, -999.000,9,   -999.0,9,  -999.00,9,   -999.0,9,   -999.0,9,   -999.0,9,  -999.00,9, -999.00,  -999.0, -999.00,  -999.0
    31DSCG96_2,  P15S,   180,  1,    108,   1227,2,19960309,1024, -9.7825,-170.0587, 4993,   -999,   4095.8,   1.1822,  34.7097,2,  34.7113,2,    194.9,2,  0.8618,    197.7,6,   118.93,6,    32.87,6,     0.00,6,     2.24,6, -999.000,9, -999.000,9,   -999.0,9,  -999.00,9,   2267.4,2,   1108.0,2,   2372.1,2,     7.61,2, -999.00,  -999.0, -999.00,  -999.0
    31DSCG96_2,  P15S,   180,  1,    107,   1242,2,19960309,1024, -9.7825,-170.0587, 4993,   -999,   4247.4,   1.0820,  34.7107,2,  34.7113,2,    202.6,2,  0.7479,    203.1,2,   118.80,6,    32.61,6,     0.00,6,     2.22,6,    0.006,2,    0.003,2,   -999.0,9,  -999.00,9,   2263.4,2,   1076.0,2,   2369.2,2,     7.61,2, -999.00,  -999.0, -999.00,  -999.0
    31DSCG96_2,  P15S,   180,  1,    106,   1262,2,19960309,1024, -9.7825,-170.0587, 4993,   -999,   4396.5,   1.0586,  34.7099,2,  34.7107,2,    204.7,2,  0.7087,    204.2,2,   119.39,6,    32.57,6,     0.00,6,     2.22,6,    0.008,2,    0.007,2,   -999.0,9,  -999.00,9,   2261.6,2,   1073.6,2,   2367.7,2,     7.61,2, -999.00,  -999.0, -999.00,  -999.0
    31DSCG96_2,  P15S,   180,  1,    105,   1256,2,19960309,1024, -9.7825,-170.0587, 4993,   -999,   4549.7,   1.0614,  34.7098,2,  34.7098,2,    205.2,2,  0.6942,    204.5,2,   119.64,6,    32.55,6,     0.00,6,     2.21,6,    0.005,2,    0.003,2,   -999.0,9,  -999.00,9,   2261.5,2,   1073.6,2,   2369.2,2,     7.61,2, -999.00,  -999.0, -999.00,  -999.0
    31DSCG96_2,  P15S,   180,  1,    104,   1003,2,19960309,1024, -9.7825,-170.0587, 4993,   -999,   4698.8,   1.0569,  34.7094,2,  34.7090,2,    205.5,2,  0.6728,    204.8,2,   119.96,6,    32.50,6,     0.00,6,     2.21,6,    0.002,2,    0.002,2,   -999.0,9,  -999.00,9,   2261.6,2,   1076.6,2,   2368.8,2,     7.61,2, -999.00,  -999.0, -999.00,  -999.0
    31DSCG96_2,  P15S,   180,  1,    103,   1302,2,19960309,1024, -9.7825,-170.0587, 4993,   -999,   4847.4,   1.0600,  34.7091,2,  34.7085,2,    206.0,2,  0.6585,    205.7,2,   120.23,6,    32.53,6,     0.00,6,     2.23,6,    0.004,2,    0.002,2,   -999.0,9,  -999.00,9,   2261.2,2,   1085.0,2,   2368.3,2,     7.61,2, -999.00,  -999.0, -999.00,  -999.0
    31DSCG96_2,  P15S,   180,  1,    102,   1030,2,19960309,1024, -9.7825,-170.0587, 4993,   -999,   5001.2,   1.0728,  34.7085,2,  34.7085,2,    205.7,2,  0.6527,    204.9,2,   120.33,6,    32.53,6,     0.00,6,     2.22,6,    0.005,2,    0.004,2,   -999.0,9,  -999.00,9,   2260.9,2,   1069.3,2,   2368.7,2,     7.61,2, -999.00,  -999.0, -999.00,  -999.0
    31DSCG96_2,  P15S,   180,  1,    101,   1022,2,19960309,1024, -9.7825,-170.0587, 4993,   -999,   5095.7,   1.0842,  34.7083,2,  34.7101,2,    205.3,2,  0.6524,    206.1,2,   120.44,6,    32.51,6,     0.00,6,     2.22,6,    0.005,6,    0.004,6,   -999.0,9,  -999.00,9,   2262.3,2,   1105.6,2,   2367.7,2,     7.61,2, -999.00,  -999.0, -999.00,  -999.0
    31DSCG96_2,  P15S,   181,  1,    112,   1217,2,19960309,1459, -9.6933,-170.3252, 4297,   -999,   2949.8,   1.6645,  34.6754,2,  34.6763,2,    150.2,2,  1.4489,    150.7,2,   135.19,6,    36.15,6,     0.00,6,     2.49,6,   -0.001,2,    0.001,2,   -999.0,9,  -999.00,9,   2317.5,2,   1188.0,2,   2415.3,2,     7.58,2, -999.00,  -999.0, -999.00,  -999.0
    31DSCG96_2,  P15S,   181,  1,    111,   1226,2,19960309,1459, -9.6933,-170.3252, 4297,   -999,   3098.6,   1.6277,  34.6782,2,  34.6775,2,    152.5,2,  1.3985,    152.0,2,   136.01,6,    36.11,6,     0.00,6,     2.48,6, -999.000,9, -999.000,9,   -999.0,9,  -999.00,9,   2316.8,2,   1187.8,2,   2417.4,2,     7.58,2, -999.00,  -999.0, -999.00,  -999.0
    31DSCG96_2,  P15S,   181,  1,    109,   1027,2,19960309,1459, -9.6933,-170.3252, 4297,   -999,   3251.0,   1.5857,  34.6810,2,  34.6815,2,    156.2,2,  1.3424,    156.3,2,   135.29,6,    35.81,6,     0.00,6,     2.46,6,    0.000,2,    0.001,2,   -999.0,9,  -999.00,9,   2313.6,2,   1197.7,3,   2420.3,3,     7.59,2, -999.00,  -999.0, -999.00,  -999.0
    31DSCG96_2,  P15S,   181,  1,    110,   1301,3,19960309,1459, -9.6933,-170.3252, 4297,   -999,   3253.0,   1.5857,  34.6810,2,-999.0000,9,    156.2,2,  1.3422,   -999.0,9,  -999.00,9,  -999.00,9,  -999.00,9,  -999.00,9, -999.000,9, -999.000,9,   -999.0,9,  -999.00,9,   -999.0,9,   -999.0,9,   -999.0,9,  -999.00,9, -999.00,  -999.0, -999.00,  -999.0
    31DSCG96_2,  P15S,   181,  1,    108,   1227,2,19960309,1459, -9.6933,-170.3252, 4297,   -999,   3398.6,   1.5563,  34.6830,2,  34.6834,2,    158.1,2,  1.2990,    157.9,6,   135.56,6,    35.71,6,     0.00,6,     2.45,6, -999.000,9, -999.000,9,   -999.0,9,  -999.00,9,   2312.4,2,   1172.2,3,   2415.5,2,     7.59,2, -999.00,  -999.0, -999.00,  -999.0
    31DSCG96_2,  P15S,   181,  1,    107,   1242,2,19960309,1459, -9.6933,-170.3252, 4297,   -999,   3546.6,   1.5269,  34.6851,2,  34.6864,2,    159.9,2,  1.2552,    160.1,2,   135.69,6,    35.60,6,     0.00,6,     2.45,6,    0.000,2,    0.001,2,   -999.0,9,  -999.00,9,   2310.9,2,   1154.2,2,   2413.2,2,     7.59,2, -999.00,  -999.0, -999.00,  -999.0
    31DSCG96_2,  P15S,   181,  1,    106,   1262,2,19960309,1459, -9.6933,-170.3252, 4297,   -999,   3698.4,   1.5123,  34.6863,2,  34.6871,2,    161.4,2,  1.2253,    161.8,6,   135.51,6,    35.46,6,     0.00,6,     2.43,6, -999.000,9, -999.000,9,   -999.0,9,  -999.00,9,   2309.5,2,   1146.6,2,   2410.9,2,     7.59,2, -999.00,  -999.0, -999.00,  -999.0
    31DSCG96_2,  P15S,   181,  1,    105,   1256,2,19960309,1459, -9.6933,-170.3252, 4297,   -999,   3837.3,   1.4774,  34.6889,2,  34.6890,2,    164.2,2,  1.1766,    164.6,2,   135.06,6,    35.26,6,     0.00,6,     2.42,6,   -0.001,2,    0.001,2,   -999.0,9,  -999.00,9,   2308.1,2,   1143.2,2,   2409.1,2,     7.59,2, -999.00,  -999.0, -999.00,  -999.0
    31DSCG96_2,  P15S,   181,  1,    104,   1003,2,19960309,1459, -9.6933,-170.3252, 4297,   -999,   4000.0,   1.4033,  34.6944,2,  34.6943,2,    174.1,2,  1.0870,    173.9,2,   130.28,6,    34.53,6,     0.00,6,     2.37,6,    0.000,2,    0.001,2,   -999.0,9,  -999.00,9,   2295.6,2,   1120.1,2,   2398.5,2,     7.60,2, -999.00,  -999.0, -999.00,  -999.0
    31DSCG96_2,  P15S,   181,  1,    103,   1302,2,19960309,1459, -9.6933,-170.3252, 4297,   -999,   4147.9,   1.2125,  34.7046,2,  34.7040,2,    187.8,2,  0.8855,    190.8,2,   123.06,6,    33.24,6,     0.00,6,     2.28,6,    0.002,2,    0.002,2,   -999.0,9,  -999.00,9,   2274.9,2,   1088.7,2,   2379.1,2,     7.61,2, -999.00,  -999.0, -999.00,  -999.0
    31DSCG96_2,  P15S,   181,  1,    102,   1030,2,19960309,1459, -9.6933,-170.3252, 4297,   -999,   4299.6,   1.0852,  34.7094,2,  34.7103,2,    202.6,2,  0.7453,    202.8,2,   119.27,6,    32.45,6,     0.00,6,     2.22,6,    0.005,2,    0.003,2,   -999.0,9,  -999.00,9,   2261.9,2,   1045.4,6,   2372.2,2,     7.61,2, -999.00,  -999.0, -999.00,  -999.0
    31DSCG96_2,  P15S,   181,  1,    101,   1022,2,19960309,1459, -9.6933,-170.3252, 4297,   -999,   4371.3,   1.0733,  34.7099,2,  34.7103,2,    204.1,2,  0.7258,    204.0,2,   119.18,6,    32.39,6,     0.00,6,     2.22,6,    0.006,6,    0.004,6,   -999.0,9,  -999.00,9,   2261.6,2,   1077.7,6,   2369.7,2,     7.61,2, -999.00,  -999.0, -999.00,  -999.0
    31DSCG96_2,  P15S,   182,  1,    107,   1242,2,19960309,1900, -9.5953,-170.6020, 4038,   -999,   3018.2,   1.6536,  34.6768,2,  34.6764,2,    151.8,2,  1.4316,    151.6,2,   134.88,6,    36.05,6,     0.00,6,     2.48,6, -999.000,5, -999.000,5,   -999.0,9,  -999.00,9,   2318.0,2,   1168.2,2,   2412.4,2,     7.58,2, -999.00,  -999.0, -999.00,  -999.0
    31DSCG96_2,  P15S,   182,  1,    106,   1262,2,19960309,1900, -9.5953,-170.6020, 4038,   -999,   3223.4,   1.5906,  34.6807,2,  34.6810,2,    156.1,2,  1.3500,    156.1,2,   134.88,6,    35.71,6,     0.00,6,     2.46,6,    0.000,2,    0.000,2,   -999.0,9,  -999.00,9,   2314.6,2,   1157.6,2,   2410.9,2,     7.59,2, -999.00,  -999.0, -999.00,  -999.0
    31DSCG96_2,  P15S,   182,  1,    105,   1256,2,19960309,1900, -9.5953,-170.6020, 4038,   -999,   3425.5,   1.5548,  34.6832,2,  34.6825,2,    159.3,2,  1.2948,    159.2,2,   134.65,6,    35.61,6,     0.00,6,     2.45,6, -999.000,9, -999.000,9,   -999.0,9,  -999.00,9,   2312.5,2,   1149.2,2,   2410.4,2,     7.59,2, -999.00,  -999.0, -999.00,  -999.0
    31DSCG96_2,  P15S,   182,  1,    104,   1003,2,19960309,1900, -9.5953,-170.6020, 4038,   -999,   3624.7,   1.4987,  34.6865,2,  34.6872,2,    163.1,2,  1.2196,    161.8,2,   135.28,6,    35.42,6,     0.00,6,     2.43,6,   -0.001,2,    0.001,2,   -999.0,9,  -999.00,9,   2309.5,2,   1138.6,2,   2410.0,2,     7.59,2, -999.00,  -999.0, -999.00,  -999.0
    31DSCG96_2,  P15S,   182,  1,    103,   1302,2,19960309,1900, -9.5953,-170.6020, 4038,   -999,   3824.4,   1.4665,  34.6891,2,  34.6897,2,    165.4,2,  1.1673,    165.2,6,   134.75,6,    35.22,6,     0.00,6,     2.42,6, -999.000,9, -999.000,9,   -999.0,9,  -999.00,9,   2307.7,2,   1132.7,2,   2404.3,2,     7.59,2, -999.00,  -999.0, -999.00,  -999.0
    31DSCG96_2,  P15S,   182,  1,    102,   1030,2,19960309,1900, -9.5953,-170.6020, 4038,   -999,   3973.8,   1.3091,  34.7051,2,  34.7054,2,    184.2,2,  0.9982,    188.8,2,   120.66,6,    33.22,6,     0.00,6,     2.28,6,    0.003,2,    0.001,2,   -999.0,9,  -999.00,9,   2274.8,2,   1089.8,2,   2380.6,2,     7.61,2, -999.00,  -999.0, -999.00,  -999.0
    31DSCG96_2,  P15S,   182,  1,    101,   1022,2,19960309,1900, -9.5953,-170.6020, 4038,   -999,   4087.1,   1.1377,  34.7091,2,  34.7111,2,    201.3,2,  0.8195,    199.6,2,   118.73,6,    32.58,6,     0.00,6,     2.23,6,    0.005,6,    0.004,6,   -999.0,9,  -999.00,9,   2265.2,2,   1096.0,2,   2373.1,2,     7.61,2, -999.00,  -999.0, -999.00,  -999.0