BOTTLE,20220811CCHSIOAMB
EXPOCODE,SECT_ID,STNNBR,CASTNO,SAMPNO,BTLNBR,BTLNBR_FLAG_W,DATE,TIME,LATITUDE,LONGITUDE,DEPTH,CTDRAW,CTDPRS,CTDTMP,CTDSAL,CTDSAL_FLAG_W,SALNTY,SALNTY_FLAG_W,CTDOXY,CTDOXY_FLAG_W,THETA,OXYGEN,OXYGEN_FLAG_W,SILCAT,SILCAT_FLAG_W,NITRAT,NITRAT_FLAG_W,NITRIT,NITRIT_FLAG_W,PHSPHT,PHSPHT_FLAG_W,CFC-11,CFC-11_FLAG_W,CFC-12,CFC-12_FLAG_W,DELC14,DELC14_FLAG_W,DELC13,DELC13_FLAG_W,TCARBN,TCARBN_FLAG_W,PCO2,PCO2_FLAG_W,ALKALI,ALKALI_FLAG_W,PH,PH_FLAG_W,PCO2TMP,C14ERR,PH_TMP,C13ERR
,,,,,,,,,,,,DBAR,DBAR,ITS-90,PSS-78,,PSS-78,,UMOL/KG,,DEG C,UMOL/KG,,UMOL/KG,,UMOL/KG,,UMOL/KG,,UMOL/KG,,PMOL/KG,,PMOL/KG,,/MILLE,,/MILLE,,UMOL/KG,,UATM,,UMOL/KG,,,,DEG C,/MILLE,DEG C,/MILLE
    31DSCG96_1,  P15S,    40,  1,    133,   1221,2,19960120,0630,-62.9942,-170.0238, 3085,   -999,      8.8,   0.5478,  33.7457,2,  33.7490,2,    355.0,2,  0.5475,    357.4,2,     7.82,2,    22.88,2,     0.23,2,     1.27,2,    6.775,6,    3.208,6,   -108.7,2,     1.62,2,   2120.2,2,    692.9,2,   2284.5,2,     7.77,2, -999.00,     2.4, -999.00,  -999.0
    31DSCG96_1,  P15S,    40,  1,    134,   1224,2,19960120,0630,-62.9942,-170.0238, 3085,   -999,     10.7,   0.5474,  33.7455,2,  33.7489,2,    357.3,2,  0.5470,   -999.0,9,     7.42,2,    22.88,2,     0.23,2,     1.28,2, -999.000,9, -999.000,9,   -999.0,9,  -999.00,9,   -999.0,9,   -999.0,9,   -999.0,9,  -999.00,9, -999.00,  -999.0, -999.00,  -999.0
    31DSCG96_1,  P15S,    40,  1,    132,   1039,2,19960120,0630,-62.9942,-170.0238, 3085,   -999,     19.5,   0.5498,  33.7450,2,  33.7480,2,    358.3,2,  0.5491,    357.7,2,     7.77,2,    22.91,2,     0.23,2,     1.29,2, -999.000,9, -999.000,9,   -116.0,2,     1.35,2,   2119.9,2,    695.4,2,   2284.2,2,     7.78,2, -999.00,     2.4, -999.00,  -999.0
    31DSCG96_1,  P15S,    40,  1,    131,   1042,2,19960120,0630,-62.9942,-170.0238, 3085,   -999,     43.3,   0.5506,  33.7454,2,  33.7479,2,    356.8,2,  0.5490,    357.7,2,     7.69,2,    22.81,2,     0.23,2,     1.30,2, -999.000,9, -999.000,9,   -111.9,2,     1.62,2,   2123.0,2,    680.4,2,   2286.9,2,     7.78,2, -999.00,     2.4, -999.00,  -999.0
    31DSCG96_1,  P15S,    40,  1,    130,   1257,2,19960120,0630,-62.9942,-170.0238, 3085,   -999,     69.6,  -0.3635,  33.7957,2,  33.8038,2,    347.6,2, -0.3656,    351.6,2,    25.28,2,    24.48,2,     0.22,2,     1.62,2, -999.000,9, -999.000,9,   -108.4,2,     1.35,2,   2140.6,2,    767.3,2,   2289.2,2,     7.73,3, -999.00,     2.4, -999.00,  -999.0
    31DSCG96_1,  P15S,    40,  1,    129,   1256,2,19960120,0630,-62.9942,-170.0238, 3085,   -999,     93.4,  -0.8209,  33.9330,2,  33.9291,2,    325.1,2, -0.8234,    326.5,2,    45.13,3,    28.61,2,     0.16,2,     2.07,2,    6.078,2,    2.913,2,   -999.0,5,     1.05,2,   2172.1,2,    916.3,2,   2295.3,2,     7.67,2, -999.00,  -999.0, -999.00,  -999.0
    31DSCG96_1,  P15S,    40,  1,    128,   1007,2,19960120,0630,-62.9942,-170.0238, 3085,   -999,    120.9,  -0.3351,  34.1316,2,  34.1173,2,    291.9,2, -0.3390,    297.2,2,    56.91,3,    31.36,2,     0.17,2,     2.19,2, -999.000,9, -999.000,9,   -128.8,2,     0.59,2,   2196.3,2,   1024.5,2,   2304.3,2,     7.62,2, -999.00,     2.4, -999.00,  -999.0
    31DSCG96_1,  P15S,    40,  1,    127,   1234,2,19960120,0630,-62.9942,-170.0238, 3085,   -999,    146.0,   0.7545,  34.2757,2,  34.2694,2,    265.8,2,  0.7484,    242.5,2,    59.83,2,    33.68,2,     0.10,2,     2.31,2, -999.000,9, -999.000,9,   -121.0,3,     0.67,2,   2218.3,2,   1123.9,2,   2312.0,2,     7.58,2, -999.00,     2.7, -999.00,  -999.0
    31DSCG96_1,  P15S,    40,  1,    126,   1025,2,19960120,0630,-62.9942,-170.0238, 3085,   -999,    169.6,   0.5815,  34.3066,2,  34.2987,2,    270.3,2,  0.5745,    245.2,2,    63.15,2,    33.36,2,     0.12,2,     2.29,2, -999.000,9, -999.000,9,   -132.7,2,     0.61,2,   2223.0,2,   1127.2,2,   2316.8,2,     7.59,2, -999.00,     5.1, -999.00,  -999.0
    31DSCG96_1,  P15S,    40,  1,    125,   1233,2,19960120,0630,-62.9942,-170.0238, 3085,   -999,    196.6,   1.3596,  34.4141,2,  34.4220,2,    218.2,2,  1.3502,    203.4,2,    66.92,2,    34.68,2,     0.05,2,     2.38,2,    1.811,2,    0.869,2,   -141.4,2,     0.47,2,   2239.5,2,   1197.0,2,   2325.3,2,     7.55,2, -999.00,     3.8, -999.00,  -999.0
    31DSCG96_1,  P15S,    40,  1,    124,   1218,2,19960120,0630,-62.9942,-170.0238, 3085,   -999,    220.9,   1.8229,  34.4797,2,  34.4767,2,    182.6,2,  1.8114,    189.9,2,    69.95,2,    34.88,2,     0.02,2,     2.39,2, -999.000,9, -999.000,9,   -155.2,3,     0.44,2,   2245.3,2,   1227.3,2,   -999.0,9,     7.55,2, -999.00,     3.0, -999.00,  -999.0
    31DSCG96_1,  P15S,    40,  1,    123,   1250,2,19960120,0630,-62.9942,-170.0238, 3085,   -999,    244.3,   2.1552,  34.5319,2,  34.5314,2,    174.5,2,  2.1417,    175.3,2,    72.33,2,    35.04,2,     0.01,2,     2.40,2, -999.000,9, -999.000,9,   -141.0,2,     0.39,2,   2250.0,2,   1255.7,2,   2333.4,2,     7.55,2, -999.00,     5.0, -999.00,  -999.0
    31DSCG96_1,  P15S,    40,  1,    122,   1109,2,19960120,0630,-62.9942,-170.0238, 3085,   -999,    289.5,   2.1764,  34.5701,2,  34.5703,2,    172.1,2,  2.1602,    172.8,2,    74.75,2,    34.81,2,     0.01,2,     2.38,2, -999.000,9, -999.000,9,   -147.4,2,     0.38,2,   2251.7,2,   1254.8,2,   2333.4,2,     7.55,2, -999.00,     3.2, -999.00,  -999.0
    31DSCG96_1,  P15S,    40,  1,    121,   1246,2,19960120,0630,-62.9942,-170.0238, 3085,   -999,    340.2,   2.1853,  34.5962,2,  34.5969,2,    171.1,2,  2.1662,    172.1,2,    76.20,2,    34.51,2,     0.01,2,     2.35,2,    0.431,2,    0.216,2,   -158.8,2,     0.39,2,   2250.6,2,   1235.4,2,   2337.9,2,     7.55,2, -999.00,     3.2, -999.00,  -999.0
    31DSCG96_1,  P15S,    40,  1,    120,   1015,2,19960120,0630,-62.9942,-170.0238, 3085,   -999,    392.9,   2.1655,  34.6246,2,  34.6247,2,    171.6,2,  2.1433,    172.3,2,    77.83,2,    34.07,2,     0.01,2,     2.34,2, -999.000,9, -999.000,9,   -164.0,2,     0.36,2,   2254.7,2,   1229.0,2,   2313.3,3,     7.56,2, -999.00,     2.9, -999.00,  -999.0
    31DSCG96_1,  P15S,    40,  1,    119,   1247,2,19960120,0630,-62.9942,-170.0238, 3085,   -999,    438.3,   2.1350,  34.6474,2,  34.6473,2,    172.8,2,  2.1102,    173.8,6,    79.28,2,    33.70,2,     0.01,2,     2.31,2, -999.000,9, -999.000,9,   -164.6,2,     0.34,2,   2253.7,2,   1223.7,2,   2341.3,2,     7.56,2, -999.00,     3.1, -999.00,  -999.0
    31DSCG96_1,  P15S,    40,  1,    118,   1222,2,19960120,0630,-62.9942,-170.0238, 3085,   -999,    489.8,   2.1125,  34.6663,2,  34.6662,2,    174.5,2,  2.0846,    175.2,2,    80.53,2,    33.31,2,     0.01,2,     2.28,2,    0.242,2,    0.127,2,   -177.9,6,     0.39,6,   2251.9,2,   1194.5,2,   2341.8,2,     7.57,2, -999.00,     2.4, -999.00,  -999.0
    31DSCG96_1,  P15S,    40,  1,    117,   1267,2,19960120,0630,-62.9942,-170.0238, 3085,   -999,    536.6,   2.1005,  34.6783,2,  34.6790,2,    176.5,2,  2.0697,    177.5,2,    81.22,2,    32.98,2,     0.00,2,     2.25,2, -999.000,9, -999.000,9,   -160.1,2,     0.40,2,   2252.2,2,   1169.7,2,   2347.3,2,     7.57,2, -999.00,     2.3, -999.00,  -999.0
    31DSCG96_1,  P15S,    40,  1,    116,   1211,2,19960120,0630,-62.9942,-170.0238, 3085,   -999,    594.1,   2.0703,  34.6898,2,  34.6900,2,    178.5,2,  2.0361,    178.7,2,    82.10,2,    32.75,2,     0.00,2,     2.23,2, -999.000,9, -999.000,9,   -141.9,3,     0.37,2,   2251.0,2,   1170.2,2,   2342.9,2,     7.58,2, -999.00,     2.8, -999.00,  -999.0
    31DSCG96_1,  P15S,    40,  1,    115,   1041,2,19960120,0630,-62.9942,-170.0238, 3085,   -999,    678.7,   2.0248,  34.7073,2,  34.7075,2,    181.7,2,  1.9855,    181.7,2,    83.49,2,    32.23,2,     0.00,2,     2.19,2, -999.000,9, -999.000,9,   -153.4,2,     0.44,2,   2250.9,2,   1140.0,2,   2348.8,2,     7.59,2, -999.00,     2.8, -999.00,  -999.0
    31DSCG96_1,  P15S,    40,  1,    114,   1017,2,19960120,0630,-62.9942,-170.0238, 3085,   -999,    779.9,   1.9722,  34.7205,2,  34.7206,2,    184.8,2,  1.9266,    185.3,2,    85.04,2,    31.82,2,     0.00,2,     2.16,2, -999.000,9, -999.000,9,   -170.6,2,     0.42,2,   2249.1,2,   1119.5,2,   2346.4,2,     7.59,2, -999.00,     3.0, -999.00,  -999.0
    31DSCG96_1,  P15S,    40,  1,    113,   1008,2,19960120,0630,-62.9942,-170.0238, 3085,   -999,    874.9,   1.9122,  34.7286,2,  34.7296,2,    188.1,2,  1.8608,    187.6,2,    86.52,2,    31.55,2,     0.00,2,     2.15,2,    0.118,2,    0.065,2,   -151.9,3,     0.45,2,   2248.8,2,   1122.9,2,   2352.6,2,     7.60,2, -999.00,     2.8, -999.00,  -999.0
    31DSCG96_1,  P15S,    40,  1,    112,   1217,2,19960120,0630,-62.9942,-170.0238, 3085,   -999,    974.5,   1.8337,  34.7345,2,  34.7347,2,    190.4,2,  1.7763,    189.8,2,    88.81,2,    31.40,2,     0.00,2,     2.14,2, -999.000,9, -999.000,9,   -168.3,2,     0.45,2,   2249.1,2,   1106.3,2,   2350.4,2,     7.60,2, -999.00,     2.6, -999.00,  -999.0
    31DSCG96_1,  P15S,    40,  1,    111,   1114,2,19960120,0630,-62.9942,-170.0238, 3085,   -999,   1074.3,   1.7568,  34.7378,2,  34.7386,2,    191.3,2,  1.6933,    192.1,2,    90.81,2,    31.23,2,     0.00,2,     2.15,3, -999.000,9, -999.000,9,   -150.1,3,     0.48,2,   2249.4,2,   1089.5,2,   2356.1,2,     7.61,2, -999.00,     4.3, -999.00,  -999.0
    31DSCG96_1,  P15S,    40,  1,    110,   1036,2,19960120,0630,-62.9942,-170.0238, 3085,   -999,   1214.9,   1.6306,  34.7387,2,  34.7385,2,    194.9,2,  1.5586,    194.4,2,    93.89,2,    31.29,2,     0.00,2,     2.13,2, -999.000,9, -999.000,9,   -148.3,3,     0.39,2,   2250.0,2,   1105.6,2,   2354.1,2,     7.61,2, -999.00,     2.8, -999.00,  -999.0
    31DSCG96_1,  P15S,    40,  1,    109,   1216,2,19960120,0630,-62.9942,-170.0238, 3085,   -999,   1441.5,   1.4296,  34.7344,2,  34.7346,2,    197.6,2,  1.3438,    198.0,2,    99.33,2,    31.39,2,     0.00,2,     2.14,2, -999.000,9, -999.000,9,   -173.5,2,     0.46,2,   2251.7,2,   1082.5,2,   -999.0,5,     7.61,2, -999.00,     2.1, -999.00,  -999.0
    31DSCG96_1,  P15S,    40,  1,    108,   1263,2,19960120,0630,-62.9942,-170.0238, 3085,   -999,   1692.1,   1.2336,  34.7284,2,  34.7287,2,    200.4,2,  1.1320,    200.7,6,   105.58,2,    31.64,2,     0.00,2,     2.16,2, -999.000,9, -999.000,9,   -179.3,2,     0.44,2,   2254.7,2,   1076.7,2,   2360.2,2,     7.61,2, -999.00,     2.9, -999.00,  -999.0
    31DSCG96_1,  P15S,    40,  1,    107,   1245,2,19960120,0630,-62.9942,-170.0238, 3085,   -999,   1942.7,   1.0534,  34.7214,2,  34.7211,2,    203.0,2,  0.9356,    203.1,2,   111.30,2,    31.98,2,     0.00,2,     2.19,2,    0.076,2,    0.040,2,   -149.7,3,     0.43,2,   2254.7,2,   1080.5,2,   2363.8,2,     7.61,2, -999.00,     2.8, -999.00,  -999.0
    31DSCG96_1,  P15S,    40,  1,    106,   1262,2,19960120,0630,-62.9942,-170.0238, 3085,   -999,   2193.3,   0.9119,  34.7152,2,  34.7156,2,    205.2,2,  0.7768,    205.2,2,   116.13,2,    32.09,2,     0.00,2,     2.20,2,    0.070,2,    0.044,2,   -999.0,9,  -999.00,9,   2257.8,2,   1079.0,2,   2367.3,2,     7.61,2, -999.00,  -999.0, -999.00,  -999.0
    31DSCG96_1,  P15S,    40,  1,    105,   1113,2,19960120,0630,-62.9942,-170.0238, 3085,   -999,   2429.6,   0.7796,  34.7091,2,  34.7089,2,    206.7,2,  0.6277,    207.4,2,   123.12,2,    32.26,2,     0.00,2,     2.21,2,    0.072,2,    0.050,2,   -181.8,2,     0.44,2,   2256.5,2,   1095.7,2,   2366.5,2,     7.61,2, -999.00,     3.2, -999.00,  -999.0
    31DSCG96_1,  P15S,    40,  1,    104,   1003,2,19960120,0630,-62.9942,-170.0238, 3085,   -999,   2693.4,   0.7446,  34.7068,2,  34.7068,2,    207.4,2,  0.5713,    206.7,2,   128.24,2,    32.42,2,     0.00,2,     2.22,2,    0.088,2,    0.059,2,   -167.3,2,     0.44,2,   2258.5,2,   1101.3,2,   2368.5,2,     7.60,2, -999.00,     2.7, -999.00,  -999.0
    31DSCG96_1,  P15S,    40,  1,    102,   1027,2,19960120,0630,-62.9942,-170.0238, 3085,   -999,   2939.7,   0.7496,  34.7064,2,  34.7058,2,    206.5,2,  0.5547,    207.2,2,   128.68,2,    32.44,2,     0.00,2,     2.22,2,    0.097,2,    0.062,2,   -167.9,2,     0.44,2,   2260.2,2,   1110.5,2,   2368.8,2,     7.60,2, -999.00,     2.4, -999.00,  -999.0
    31DSCG96_1,  P15S,    40,  1,    103,   9999,2,19960120,0630,-62.9942,-170.0238, 3085,   -999,   2940.7,   0.7491,  34.7066,2,  34.7065,2,    206.8,2,  0.5541,    207.7,2,   128.64,2,    32.43,2,     0.00,2,     2.23,2,    0.101,2,    0.054,2,   -180.6,2,     0.42,2,   2260.0,2,   1102.1,2,   2366.7,2,     7.61,2, -999.00,     3.0, -999.00,  -999.0
    31DSCG96_1,  P15S,    40,  1,    101,   1022,2,19960120,0630,-62.9942,-170.0238, 3085,   -999,   3051.5,   0.7542,  34.7066,2,  34.7055,2,    207.7,2,  0.5491,    207.4,2,   128.80,6,    32.39,6,     0.00,6,     2.23,6,    0.109,6,    0.064,6,   -183.5,2,     0.43,2,   2262.4,2,   1108.8,2,   2366.9,2,     7.60,2, -999.00,     3.5, -999.00,  -999.0