BOTTLE,20220811CCHSIOAMB
EXPOCODE,SECT_ID,STNNBR,CASTNO,SAMPNO,BTLNBR,BTLNBR_FLAG_W,DATE,TIME,LATITUDE,LONGITUDE,DEPTH,CTDRAW,CTDPRS,CTDTMP,CTDSAL,CTDSAL_FLAG_W,SALNTY,SALNTY_FLAG_W,CTDOXY,CTDOXY_FLAG_W,THETA,OXYGEN,OXYGEN_FLAG_W,SILCAT,SILCAT_FLAG_W,NITRAT,NITRAT_FLAG_W,NITRIT,NITRIT_FLAG_W,PHSPHT,PHSPHT_FLAG_W,CFC-11,CFC-11_FLAG_W,CFC-12,CFC-12_FLAG_W,DELC14,DELC14_FLAG_W,DELC13,DELC13_FLAG_W,TCARBN,TCARBN_FLAG_W,PCO2,PCO2_FLAG_W,ALKALI,ALKALI_FLAG_W,PH,PH_FLAG_W,PCO2TMP,C14ERR,PH_TMP,C13ERR
,,,,,,,,,,,,DBAR,DBAR,ITS-90,PSS-78,,PSS-78,,UMOL/KG,,DEG C,UMOL/KG,,UMOL/KG,,UMOL/KG,,UMOL/KG,,UMOL/KG,,PMOL/KG,,PMOL/KG,,/MILLE,,/MILLE,,UMOL/KG,,UATM,,UMOL/KG,,,,DEG C,/MILLE,DEG C,/MILLE
    31DSCG96_1,  P15S,    48,  1,    134,   1119,2,19960122,2311,-58.9982,-170.0025, 4780,   -999,     10.3,   4.9701,  34.0329,2,  34.0344,2,    318.0,2,  4.9693,    316.2,2,     1.00,2,    20.86,2,     0.19,2,     1.35,2,    5.218,2,    2.591,2,    -27.5,2,  -999.00,9,   2105.2,2,    620.2,2,   2284.3,2,     7.80,2, -999.00,     3.1, -999.00,  -999.0
    31DSCG96_1,  P15S,    48,  1,    133,   1221,2,19960122,2311,-58.9982,-170.0025, 4780,   -999,     21.5,   4.9684,  34.0333,2,  34.0330,2,    316.0,2,  4.9668,    316.1,2,     1.00,2,    20.86,2,     0.19,2,     1.35,2,    5.222,2,    2.621,2,   -999.0,9,  -999.00,9,   -999.0,9,   -999.0,9,   -999.0,9,     7.80,2, -999.00,  -999.0, -999.00,  -999.0
    31DSCG96_1,  P15S,    48,  1,    132,   1039,2,19960122,2311,-58.9982,-170.0025, 4780,   -999,     45.6,   4.9250,  34.0365,2,  34.0370,2,    315.6,2,  4.9216,    315.8,2,     1.00,2,    20.87,2,     0.20,2,     1.36,2,    5.298,2,    2.611,2,   -999.0,9,  -999.00,9,   2106.5,2,    626.1,2,   2285.4,3,     7.80,2, -999.00,  -999.0, -999.00,  -999.0
    31DSCG96_1,  P15S,    48,  1,    131,   1014,2,19960122,2311,-58.9982,-170.0025, 4780,   -999,     65.8,   4.8786,  34.0388,2,  34.0379,2,    314.9,2,  4.8737,    315.2,2,     1.14,2,    20.91,2,     0.20,2,     1.37,2,    5.229,2,    2.621,2,   -999.0,9,  -999.00,9,   -999.0,9,   -999.0,9,   -999.0,9,     7.80,2, -999.00,  -999.0, -999.00,  -999.0
    31DSCG96_1,  P15S,    48,  1,    130,   1257,2,19960122,2311,-58.9982,-170.0025, 4780,   -999,     94.1,   4.6672,  34.0464,2,  34.0396,2,    314.3,2,  4.6603,    313.3,2,     2.09,2,    21.15,2,     0.20,2,     1.44,2,    5.294,2,    2.623,2,   -999.0,9,  -999.00,9,   2111.6,2,    641.4,2,   2284.4,2,     7.79,2, -999.00,  -999.0, -999.00,  -999.0
    31DSCG96_1,  P15S,    48,  1,    129,   1256,2,19960122,2311,-58.9982,-170.0025, 4780,   -999,    136.7,   3.5631,  34.0695,2,  34.0687,2,    310.5,2,  3.5542,    308.5,2,    11.11,2,    23.88,2,     0.38,2,     1.68,2,    5.304,2,    2.639,2,   -999.0,9,  -999.00,9,   -999.0,9,   -999.0,9,   -999.0,9,     7.74,2, -999.00,  -999.0, -999.00,  -999.0
    31DSCG96_1,  P15S,    48,  1,    128,   1007,2,19960122,2311,-58.9982,-170.0025, 4780,   -999,    187.3,   3.2095,  34.0510,2,  34.0506,2,    314.8,2,  3.1978,    311.0,2,    12.07,2,    24.81,2,     0.40,2,     1.70,2,    5.356,2,    2.635,2,   -999.0,9,  -999.00,9,   2135.1,2,    752.0,2,   2285.6,2,     7.74,2, -999.00,  -999.0, -999.00,  -999.0
    31DSCG96_1,  P15S,    48,  1,    127,   1234,2,19960122,2311,-58.9982,-170.0025, 4780,   -999,    240.8,   3.0986,  34.0518,2,  34.0538,2,    313.1,2,  3.0837,    304.8,2,    13.58,2,    25.86,2,     0.04,2,     1.75,2,    5.172,2,    2.548,2,   -999.0,9,  -999.00,9,   -999.0,9,   -999.0,9,   -999.0,9,     7.72,2, -999.00,  -999.0, -999.00,  -999.0
    31DSCG96_1,  P15S,    48,  1,    126,   1025,2,19960122,2311,-58.9982,-170.0025, 4780,   -999,    292.3,   3.0191,  34.0643,2,  34.0639,2,    310.7,2,  3.0010,    296.4,2,    15.67,2,    26.64,2,     0.01,2,     1.81,2,    4.898,2,    2.391,2,   -999.0,9,  -999.00,9,   2144.9,2,    800.1,2,   2287.0,2,     7.71,2, -999.00,  -999.0, -999.00,  -999.0
    31DSCG96_1,  P15S,    48,  1,    125,   1233,2,19960122,2311,-58.9982,-170.0025, 4780,   -999,    373.4,   3.1176,  34.1231,2,  34.1206,2,    268.4,2,  3.0940,    270.2,2,    21.34,2,    28.44,2,     0.00,2,     1.97,2,    3.999,2,    1.918,2,   -999.0,9,  -999.00,9,   -999.0,9,   -999.0,9,   -999.0,9,     7.68,2, -999.00,  -999.0, -999.00,  -999.0
    31DSCG96_1,  P15S,    48,  1,    124,   1218,2,19960122,2311,-58.9982,-170.0025, 4780,   -999,    472.6,   3.3824,  34.2498,2,  34.2486,2,    224.2,2,  3.3511,    227.7,2,    33.10,2,    31.16,2,     0.00,2,     2.12,2,    2.407,2,    1.155,2,   -999.0,9,  -999.00,9,   2188.7,2,    999.8,2,   2301.3,2,     7.63,2, -999.00,  -999.0, -999.00,  -999.0
    31DSCG96_1,  P15S,    48,  1,    123,   1250,2,19960122,2311,-58.9982,-170.0025, 4780,   -999,    574.0,   3.1030,  34.3049,2,  34.3059,2,    210.6,2,  3.0656,    212.1,2,    42.25,2,    32.58,2,     0.00,2,     2.22,2,    1.762,2,    0.831,2,   -999.0,9,  -999.00,9,   -999.0,9,   -999.0,9,   -999.0,9,     7.61,2, -999.00,  -999.0, -999.00,  -999.0
    31DSCG96_1,  P15S,    48,  1,    122,   1109,2,19960122,2311,-58.9982,-170.0025, 4780,   -999,    673.6,   2.8234,  34.3498,2,  34.3485,2,    201.1,2,  2.7805,    202.6,2,    50.03,2,    33.60,2,     0.00,2,     2.29,2,    1.412,2,    0.678,2,   -999.0,9,  -999.00,9,   2217.9,2,   1149.4,2,   2315.8,2,     7.59,2, -999.00,  -999.0, -999.00,  -999.0
    31DSCG96_1,  P15S,    48,  1,    121,   1246,2,19960122,2311,-58.9982,-170.0025, 4780,   -999,    772.4,   2.6926,  34.4161,2,  34.4156,2,    190.7,2,  2.6435,    189.0,2,    58.08,2,    34.17,2,     0.00,2,     2.33,2,    0.988,2,    0.470,2,   -999.0,9,  -999.00,9,   -999.0,9,   -999.0,9,   -999.0,9,     7.57,2, -999.00,  -999.0, -999.00,  -999.0
    31DSCG96_1,  P15S,    48,  1,    120,   1015,2,19960122,2311,-58.9982,-170.0025, 4780,   -999,    875.3,   2.5856,  34.4780,2,  34.4770,2,    182.3,2,  2.5299,    181.0,2,    64.54,2,    34.34,2,     0.00,2,     2.35,2,    0.683,2,    0.325,2,   -999.0,9,  -999.00,9,   2238.2,2,   1192.2,2,   2330.9,2,     7.57,2, -999.00,  -999.0, -999.00,  -999.0
    31DSCG96_1,  P15S,    48,  1,    119,   1247,2,19960122,2311,-58.9982,-170.0025, 4780,   -999,    980.0,   2.4805,  34.5258,2,  34.5245,2,    176.2,2,  2.4181,    176.5,2,    69.18,2,    34.36,2,     0.00,2,     2.34,2,    0.521,2,    0.248,2,   -999.0,9,  -999.00,9,   -999.0,9,   -999.0,9,   -999.0,9,     7.56,2, -999.00,  -999.0, -999.00,  -999.0
    31DSCG96_1,  P15S,    48,  1,    118,   1222,2,19960122,2311,-58.9982,-170.0025, 4780,   -999,   1018.0,   2.4665,  34.5406,2,  34.5391,2,    175.3,2,  2.4014,    174.4,2,    70.34,2,    34.32,2,     0.00,2,     2.34,2,    0.471,2,    0.226,2,   -999.0,9,  -999.00,9,   2246.6,2,   1214.7,2,   2336.6,2,     7.56,2, -999.00,  -999.0, -999.00,  -999.0
    31DSCG96_1,  P15S,    48,  1,    117,   1267,2,19960122,2311,-58.9982,-170.0025, 4780,   -999,   1212.1,   2.3740,  34.6212,2,  34.6214,2,    174.8,2,  2.2953,    174.8,2,    76.29,2,    33.54,2,     0.00,2,     2.28,2,    0.237,2,    0.117,2,   -999.0,9,  -999.00,9,   -999.0,9,   -999.0,9,   -999.0,9,     7.57,2, -999.00,  -999.0, -999.00,  -999.0
    31DSCG96_1,  P15S,    48,  1,    116,   1211,2,19960122,2311,-58.9982,-170.0025, 4780,   -999,   1440.7,   2.2589,  34.6773,2,  34.6768,2,    177.8,2,  2.1640,    178.0,2,    79.92,2,    32.55,2,     0.00,2,     2.21,2,    0.148,2,    0.081,2,   -999.0,9,  -999.00,9,   2250.1,2,   1151.0,6,   2349.7,2,     7.58,2, -999.00,  -999.0, -999.00,  -999.0
    31DSCG96_1,  P15S,    48,  1,    115,   1041,2,19960122,2311,-58.9982,-170.0025, 4780,   -999,   1688.6,   2.1202,  34.7153,2,  34.7142,2,    183.6,2,  2.0073,    183.7,2,    83.68,2,    31.61,2,     0.00,2,     2.15,2,    0.090,2,    0.056,2,   -999.0,9,  -999.00,9,   -999.0,9,   -999.0,9,   -999.0,9,     7.60,2, -999.00,  -999.0, -999.00,  -999.0
    31DSCG96_1,  P15S,    48,  1,    114,   1017,2,19960122,2311,-58.9982,-170.0025, 4780,   -999,   1938.1,   1.9526,  34.7348,2,  34.7346,2,    189.1,2,  1.8217,    189.5,2,    88.38,2,    31.22,2,     0.00,2,     2.12,2,    0.072,2,    0.046,2,   -999.0,9,  -999.00,9,   2250.1,2,   1086.7,2,   2355.3,2,     7.61,2, -999.00,  -999.0, -999.00,  -999.0
    31DSCG96_1,  P15S,    48,  1,    113,   1008,2,19960122,2311,-58.9982,-170.0025, 4780,   -999,   2188.0,   1.7623,  34.7402,2,  34.7395,2,    192.7,2,  1.6134,    193.0,2,    93.93,2,    31.12,2,     0.00,2,     2.15,3,    0.053,2,    0.036,2,   -999.0,9,  -999.00,9,   -999.0,9,   -999.0,9,   -999.0,9,     7.61,2, -999.00,  -999.0, -999.00,  -999.0
    31DSCG96_1,  P15S,    48,  1,    112,   1217,2,19960122,2311,-58.9982,-170.0025, 4780,   -999,   2440.0,   1.5760,  34.7377,2,  34.7380,2,    196.6,2,  1.4085,    196.4,2,    99.40,2,    31.27,2,     0.00,2,     2.17,3,    0.037,3,    0.031,2,   -999.0,9,  -999.00,9,   2252.5,2,   1072.0,2,   2363.3,2,     7.61,2, -999.00,  -999.0, -999.00,  -999.0
    31DSCG96_1,  P15S,    48,  1,    111,   1114,2,19960122,2311,-58.9982,-170.0025, 4780,   -999,   2692.9,   1.3972,  34.7322,2,  34.7305,2,    199.5,2,  1.2107,    198.8,2,   105.04,2,    31.46,2,     0.00,2,     2.16,3,    0.039,2,    0.023,2,   -999.0,9,  -999.00,9,   -999.0,9,   -999.0,9,   -999.0,9,     7.61,2, -999.00,  -999.0, -999.00,  -999.0
    31DSCG96_1,  P15S,    48,  1,    110,   1036,2,19960122,2311,-58.9982,-170.0025, 4780,   -999,   2939.0,   1.2490,  34.7268,2,  34.7267,2,    201.5,2,  1.0432,    201.1,2,   109.81,2,    31.68,2,     0.00,2,     2.16,2,    0.035,6,    0.025,6,   -999.0,9,  -999.00,9,   -999.0,9,   -999.0,9,   -999.0,9,     7.61,2, -999.00,  -999.0, -999.00,  -999.0
    31DSCG96_1,  P15S,    48,  1,    109,   1216,2,19960122,2311,-58.9982,-170.0025, 4780,   -999,   3187.9,   1.1118,  34.7208,2,  34.7199,2,    203.7,2,  0.8856,    203.4,2,   113.86,2,    31.83,2,     0.00,2,     2.17,2,    0.038,2,    0.026,2,   -999.0,9,  -999.00,9,   -999.0,9,   -999.0,9,   -999.0,9,     7.61,2, -999.00,  -999.0, -999.00,  -999.0
    31DSCG96_1,  P15S,    48,  1,    108,   1263,2,19960122,2311,-58.9982,-170.0025, 4780,   -999,   3434.9,   0.9864,  34.7145,2,  34.7137,2,    206.4,2,  0.7395,    205.9,6,   118.06,2,    32.02,2,     0.00,2,     2.18,2,    0.036,2,    0.023,2,   -999.0,9,  -999.00,9,   2258.6,2,   1083.1,2,   2366.8,2,     7.61,2, -999.00,  -999.0, -999.00,  -999.0
    31DSCG96_1,  P15S,    48,  1,    107,   1245,2,19960122,2311,-58.9982,-170.0025, 4780,   -999,   3686.1,   0.9012,  34.7103,2,  34.7092,2,    208.2,2,  0.6314,    208.5,2,   121.24,2,    32.14,2,     0.00,2,     2.31,3,    0.036,2,    0.021,2,   -999.0,9,  -999.00,9,   -999.0,9,   -999.0,9,   -999.0,9,     7.61,2, -999.00,  -999.0, -999.00,  -999.0
    31DSCG96_1,  P15S,    48,  1,    106,   1262,2,19960122,2311,-58.9982,-170.0025, 4780,   -999,   3936.8,   0.8680,  34.7078,2,  34.7067,2,    208.7,2,  0.5734,    200.1,4,   124.28,2,    32.18,2,     0.00,2,     2.20,2,    0.030,3,    0.027,2,   -999.0,9,  -999.00,9,   -999.0,9,   -999.0,9,   -999.0,9,     7.61,2, -999.00,  -999.0, -999.00,  -999.0
    31DSCG96_1,  P15S,    48,  1,    105,   1113,2,19960122,2311,-58.9982,-170.0025, 4780,   -999,   4187.3,   0.8654,  34.7068,2,  34.7059,2,    209.3,2,  0.5443,    208.4,2,   125.84,2,    32.29,2,     0.00,2,     2.34,3,    0.041,2,    0.026,2,   -999.0,9,  -999.00,9,   -999.0,9,   -999.0,9,   -999.0,9,     7.61,2, -999.00,  -999.0, -999.00,  -999.0
    31DSCG96_1,  P15S,    48,  1,    104,   1003,2,19960122,2311,-58.9982,-170.0025, 4780,   -999,   4439.2,   0.8830,  34.7059,2,  34.7049,2,    209.5,2,  0.5338,    208.6,6,   126.61,2,    32.30,2,     0.00,2,     2.20,2,    0.050,2,    0.029,2,   -999.0,9,  -999.00,9,   2261.7,2,   1091.1,2,   2371.3,2,     7.61,2, -999.00,  -999.0, -999.00,  -999.0
    31DSCG96_1,  P15S,    48,  1,    102,   1027,2,19960122,2311,-58.9982,-170.0025, 4780,   -999,   4687.4,   0.9049,  34.7060,2,  34.7056,2,    209.8,2,  0.5271,    208.7,2,   126.20,2,    32.29,2,     0.00,2,     2.21,2,    0.054,2,    0.036,2,   -999.0,9,  -999.00,9,   -999.0,9,   -999.0,9,   -999.0,9,     7.61,2, -999.00,  -999.0, -999.00,  -999.0
    31DSCG96_1,  P15S,    48,  1,    103,   9999,2,19960122,2311,-58.9982,-170.0025, 4780,   -999,   4688.5,   0.9053,  34.7057,2,  34.7048,2,    209.8,2,  0.5273,    208.0,2,   126.34,2,    32.27,2,     0.00,2,     2.20,2,    0.048,2,    0.037,2,   -999.0,9,  -999.00,9,   -999.0,9,   -999.0,9,   -999.0,9,     7.61,2, -999.00,  -999.0, -999.00,  -999.0
    31DSCG96_1,  P15S,    48,  1,    101,   1022,2,19960122,2311,-58.9982,-170.0025, 4780,   -999,   4860.0,   0.9216,  34.7053,2,  34.7037,2,    209.8,2,  0.5232,    208.6,2,   126.42,6,    32.34,6,     0.00,6,     2.22,6,    0.060,6,    0.029,6,   -999.0,9,  -999.00,9,   2261.6,2,   1093.7,2,   2370.9,2,     7.61,2, -999.00,  -999.0, -999.00,  -999.0