BOTTLE,20220811CCHSIOAMB
EXPOCODE,SECT_ID,STNNBR,CASTNO,SAMPNO,BTLNBR,BTLNBR_FLAG_W,DATE,TIME,LATITUDE,LONGITUDE,DEPTH,CTDRAW,CTDPRS,CTDTMP,CTDSAL,CTDSAL_FLAG_W,SALNTY,SALNTY_FLAG_W,CTDOXY,CTDOXY_FLAG_W,THETA,OXYGEN,OXYGEN_FLAG_W,SILCAT,SILCAT_FLAG_W,NITRAT,NITRAT_FLAG_W,NITRIT,NITRIT_FLAG_W,PHSPHT,PHSPHT_FLAG_W,CFC-11,CFC-11_FLAG_W,CFC-12,CFC-12_FLAG_W,DELC14,DELC14_FLAG_W,DELC13,DELC13_FLAG_W,TCARBN,TCARBN_FLAG_W,PCO2,PCO2_FLAG_W,ALKALI,ALKALI_FLAG_W,PH,PH_FLAG_W,PCO2TMP,C14ERR,PH_TMP,C13ERR
,,,,,,,,,,,,DBAR,DBAR,ITS-90,PSS-78,,PSS-78,,UMOL/KG,,DEG C,UMOL/KG,,UMOL/KG,,UMOL/KG,,UMOL/KG,,UMOL/KG,,PMOL/KG,,PMOL/KG,,/MILLE,,/MILLE,,UMOL/KG,,UATM,,UMOL/KG,,,,DEG C,/MILLE,DEG C,/MILLE
    31DSCG96_2,  P15S,   141,  1,    136,   1245,2,19960226,1324,-17.9997,-169.9995, 4893,   -999,      5.6,  29.0236,  34.7350,2,  34.7239,2,    202.9,2, 29.0222,    198.6,2,     1.25,2,     0.01,2,     0.00,2,     0.02,3,    1.613,2,    0.914,2,     79.4,2,  -999.00,9,   1913.4,2,    226.9,2,   2285.9,2,     8.15,4, -999.00,     4.8, -999.00,  -999.0
    31DSCG96_2,  P15S,   141,  1,    135,   1113,2,19960226,1324,-17.9997,-169.9995, 4893,   -999,     29.0,  27.2552,  35.3054,2,  35.3141,2,    206.3,2, 27.2485,    206.3,6,     1.37,2,     0.00,2,     0.00,2,     0.06,2, -999.000,9, -999.000,9,   -999.0,9,  -999.00,9,   1954.9,2,    256.0,2,   2322.0,2,     8.14,2, -999.00,  -999.0, -999.00,  -999.0
    31DSCG96_2,  P15S,   141,  1,    134,   1267,2,19960226,1324,-17.9997,-169.9995, 4893,   -999,     54.9,  25.6773,  35.5302,2,  35.5340,2,    208.4,2, 25.6652,    212.9,2,     1.23,2,     0.00,2,     0.00,2,     0.08,2,    1.852,2,    1.026,2,   -999.0,9,  -999.00,9,   1971.6,2,    255.7,2,   2332.3,2,     8.13,2, -999.00,  -999.0, -999.00,  -999.0
    31DSCG96_2,  P15S,   141,  1,    133,   1221,2,19960226,1324,-17.9997,-169.9995, 4893,   -999,     78.4,  24.5690,  35.6542,2,  35.6723,2,    210.4,2, 24.5522,    210.7,2,     1.27,2,     0.01,2,     0.00,2,     0.10,2, -999.000,9, -999.000,9,   -999.0,9,  -999.00,9,   1987.6,2,    270.7,2,   2343.1,2,     8.11,2, -999.00,  -999.0, -999.00,  -999.0
    31DSCG96_2,  P15S,   141,  1,    132,   1039,2,19960226,1324,-17.9997,-169.9995, 4893,   -999,    103.9,  23.1768,  35.7606,2,  35.7659,2,    199.6,2, 23.1554,    202.1,2,     1.33,2,     0.02,2,     0.00,2,     0.13,2,    2.000,2,    1.102,2,   -999.0,9,  -999.00,9,   2015.1,2,    305.3,2,   2346.3,2,     8.08,2, -999.00,  -999.0, -999.00,  -999.0
    31DSCG96_2,  P15S,   141,  1,    131,   1014,2,19960226,1324,-17.9997,-169.9995, 4893,   -999,    129.3,  22.0553,  35.8016,2,  35.8018,2,    186.6,2, 22.0296,    191.2,2,     1.25,2,     0.46,2,     0.08,2,     0.19,2, -999.000,9, -999.000,9,   -999.0,9,  -999.00,9,   -999.0,9,   -999.0,9,   -999.0,9,  -999.00,9, -999.00,  -999.0, -999.00,  -999.0
    31DSCG96_2,  P15S,   141,  1,    130,   1257,2,19960226,1324,-17.9997,-169.9995, 4893,   -999,    163.5,  20.9959,  35.7815,2,  35.7798,2,    182.8,2, 20.9645,    187.0,2,     1.34,2,     1.76,2,     0.03,2,     0.25,2,    2.055,2,    1.115,2,   -999.0,9,  -999.00,9,   2046.7,2,    357.5,2,   2349.4,2,     8.02,2, -999.00,  -999.0, -999.00,  -999.0
    31DSCG96_2,  P15S,   141,  1,    129,   1256,2,19960226,1324,-17.9997,-169.9995, 4893,   -999,    214.6,  19.7083,  35.6929,2,  35.6901,2,    184.3,2, 19.6689,    183.6,2,     1.54,2,     3.08,2,     0.01,2,     0.34,2, -999.000,9, -999.000,9,   -999.0,9,  -999.00,9,   2060.9,2,    399.8,2,   2341.8,2,     7.99,2, -999.00,  -999.0, -999.00,  -999.0
    31DSCG96_2,  P15S,   141,  1,    128,   1007,2,19960226,1324,-17.9997,-169.9995, 4893,   -999,    264.3,  17.7716,  35.5062,2,  35.4999,2,    182.4,2, 17.7264,    186.4,2,     1.98,2,     4.62,2,     0.01,2,     0.44,2,    2.028,2,    1.062,2,   -999.0,9,  -999.00,9,   2069.4,2,    399.8,2,   2331.1,2,     7.96,2, -999.00,  -999.0, -999.00,  -999.0
    31DSCG96_2,  P15S,   141,  1,    127,   1232,2,19960226,1324,-17.9997,-169.9995, 4893,   -999,    317.0,  15.3456,  35.2488,2,  35.2391,2,    181.1,2, 15.2965,    182.3,2,     3.30,2,     8.28,2,     0.01,2,     0.69,2, -999.000,9, -999.000,9,   -999.0,9,  -999.00,9,   2090.6,2,    474.5,2,   2318.9,2,     7.89,2, -999.00,  -999.0, -999.00,  -999.0
    31DSCG96_2,  P15S,   141,  1,    126,   1025,2,19960226,1324,-17.9997,-169.9995, 4893,   -999,    366.3,  13.2722,  35.0268,2,  35.0160,2,    183.2,2, 13.2208,    184.1,2,     4.36,2,    11.75,2,     0.00,2,     0.90,2,    1.658,2,    0.853,2,   -999.0,9,  -999.00,9,   2107.1,2,    543.3,2,   2306.0,2,     7.84,2, -999.00,  -999.0, -999.00,  -999.0
    31DSCG96_2,  P15S,   141,  1,    125,   1119,2,19960226,1324,-17.9997,-169.9995, 4893,   -999,    425.5,  10.8355,  34.7535,2,  34.7326,2,    187.1,2, 10.7831,    185.8,6,     6.56,2,    16.95,2,     0.00,2,     1.23,2, -999.000,9, -999.000,9,   -999.0,9,  -999.00,9,   2127.2,2,    634.1,2,   2295.9,2,     7.78,2, -999.00,  -999.0, -999.00,  -999.0
    31DSCG96_2,  P15S,   141,  1,    124,   1244,2,19960226,1324,-17.9997,-169.9995, 4893,   -999,    524.7,   7.6158,  34.4475,2,  34.4467,2,    193.4,2,  7.5636,    193.3,2,    11.78,2,    24.05,2,     0.00,2,     1.68,2, -999.000,9, -999.000,9,   -999.0,9,  -999.00,9,   2152.4,2,    822.6,2,   2286.7,2,     7.70,2, -999.00,  -999.0, -999.00,  -999.0
    31DSCG96_2,  P15S,   141,  1,    123,   1250,2,19960226,1324,-17.9997,-169.9995, 4893,   -999,    628.0,   6.0497,  34.3609,2,  34.3589,2,    195.8,2,  5.9942,    196.3,2,    18.55,2,    27.94,2,     0.00,2,     1.92,2, -999.000,9, -999.000,9,   -999.0,9,  -999.00,9,   2167.4,2,    902.4,2,   2291.0,2,     7.66,2, -999.00,  -999.0, -999.00,  -999.0
    31DSCG96_2,  P15S,   141,  1,    122,   1265,2,19960226,1324,-17.9997,-169.9995, 4893,   -999,    725.5,   5.2898,  34.3726,2,  34.3714,2,    175.0,2,  5.2294,    177.3,2,    30.49,2,    31.20,2,     0.00,2,     2.15,2, -999.000,9, -999.000,9,   -999.0,9,  -999.00,9,   2193.6,2,   1014.1,2,   2299.3,2,     7.62,2, -999.00,  -999.0, -999.00,  -999.0
    31DSCG96_2,  P15S,   141,  1,    121,   1246,2,19960226,1324,-17.9997,-169.9995, 4893,   -999,    828.2,   4.7181,  34.4093,2,  34.4079,2,    161.9,2,  4.6520,    162.9,2,    43.20,2,    33.41,2,     0.00,2,     2.29,2, -999.000,9, -999.000,9,   -999.0,9,  -999.00,9,   2212.6,2,   1085.7,2,   2315.5,3,     7.59,2, -999.00,  -999.0, -999.00,  -999.0
    31DSCG96_2,  P15S,   141,  1,    120,   1015,2,19960226,1324,-17.9997,-169.9995, 4893,   -999,    924.9,   4.0003,  34.4462,2,  34.4463,2,    157.4,2,  3.9309,    158.6,2,    57.72,2,    34.59,2,     0.00,2,     2.38,2, -999.000,9, -999.000,9,   -999.0,9,  -999.00,9,   2232.6,2,   1144.0,2,   2330.7,2,     7.58,2, -999.00,  -999.0, -999.00,  -999.0
    31DSCG96_2,  P15S,   141,  1,    119,   1247,2,19960226,1324,-17.9997,-169.9995, 4893,   -999,   1019.2,   3.6575,  34.4893,2,  34.4888,2,    151.5,2,  3.5829,    152.4,2,    69.65,2,    35.05,2,     0.00,2,     2.43,2, -999.000,9, -999.000,9,   -999.0,9,  -999.00,9,   2249.0,2,   1171.0,2,   2345.3,2,     7.57,3, -999.00,  -999.0, -999.00,  -999.0
    31DSCG96_2,  P15S,   141,  1,    118,   1299,2,19960226,1324,-17.9997,-169.9995, 4893,   -999,   1127.3,   3.3791,  34.5328,2,  34.5338,2,    143.0,2,  3.2980,    143.4,2,    82.67,2,    35.82,2,     0.00,2,     2.49,2, -999.000,9, -999.000,9,   -999.0,9,  -999.00,9,   2267.0,2,   1211.6,2,   2353.7,2,     7.56,2, -999.00,  -999.0, -999.00,  -999.0
    31DSCG96_2,  P15S,   141,  1,    117,   1242,2,19960226,1324,-17.9997,-169.9995, 4893,   -999,   1224.1,   3.1349,  34.5465,2,  34.5476,2,    143.9,2,  3.0483,    144.9,2,    87.62,2,    35.89,2,     0.00,2,     2.49,2, -999.000,9, -999.000,9,   -999.0,9,  -999.00,9,   2272.8,2,   1208.9,2,   2364.1,2,     7.56,2, -999.00,  -999.0, -999.00,  -999.0
    31DSCG96_2,  P15S,   141,  1,    116,   1259,2,19960226,1324,-17.9997,-169.9995, 4893,   -999,   1350.8,   2.9072,  34.5692,2,  34.5687,2,    142.8,2,  2.8126,    143.5,2,    95.13,2,    36.10,2,     0.00,2,     2.51,2, -999.000,9, -999.000,9,   -999.0,9,  -999.00,9,   2280.5,2,   1215.1,2,   2371.4,2,     7.56,2, -999.00,  -999.0, -999.00,  -999.0
    31DSCG96_2,  P15S,   141,  1,    115,   1041,2,19960226,1324,-17.9997,-169.9995, 4893,   -999,   1564.3,   2.6163,  34.5938,2,  34.5943,2,    143.5,2,  2.5076,    144.7,2,   103.45,2,    36.13,2,     0.00,2,     2.52,2, -999.000,9, -999.000,9,   -999.0,9,  -999.00,9,   2287.2,2,   1214.5,2,   2381.7,2,     7.56,2, -999.00,  -999.0, -999.00,  -999.0
    31DSCG96_2,  P15S,   141,  1,    114,   1017,2,19960226,1324,-17.9997,-169.9995, 4893,   -999,   1814.6,   2.3858,  34.6153,2,  34.6160,2,    143.9,2,  2.2594,    144.7,2,   111.29,2,    36.19,2,     0.00,2,     2.52,2, -999.000,9, -999.000,9,   -999.0,9,  -999.00,9,   2295.8,2,   1224.1,2,   2387.8,2,     7.56,2, -999.00,  -999.0, -999.00,  -999.0
    31DSCG96_2,  P15S,   141,  1,    113,   1302,2,19960226,1324,-17.9997,-169.9995, 4893,   -999,   2064.4,   2.1718,  34.6343,2,  34.6330,2,    144.7,2,  2.0272,    144.9,6,   118.23,2,    36.28,2,     0.00,2,     2.52,2, -999.000,9, -999.000,9,   -999.0,9,  -999.00,9,   2300.6,2,   1221.9,2,   2397.4,2,     7.57,2, -999.00,  -999.0, -999.00,  -999.0
    31DSCG96_2,  P15S,   141,  1,    112,   1217,2,19960226,1324,-17.9997,-169.9995, 4893,   -999,   2317.2,   2.0151,  34.6477,2,  34.6475,2,    146.4,2,  1.8509,    146.7,2,   123.04,2,    36.23,2,     0.00,2,     2.52,2, -999.000,9, -999.000,9,   -999.0,9,  -999.00,9,   2305.6,2,   1232.3,2,   -999.0,9,     7.57,2, -999.00,  -999.0, -999.00,  -999.0
    31DSCG96_2,  P15S,   141,  1,    111,   1226,2,19960226,1324,-17.9997,-169.9995, 4893,   -999,   2563.7,   1.8979,  34.6581,2,  34.6578,2,    148.4,2,  1.7137,    148.2,2,   126.87,2,    36.16,2,     0.00,2,     2.51,2, -999.000,9, -999.000,9,   -999.0,9,  -999.00,9,   2311.5,2,   1215.7,2,   2407.0,2,     7.57,2, -999.00,  -999.0, -999.00,  -999.0
    31DSCG96_2,  P15S,   141,  1,    110,   1301,2,19960226,1324,-17.9997,-169.9995, 4893,   -999,   2813.5,   1.7916,  34.6668,2,  34.6665,2,    148.8,2,  1.5862,    149.2,2,   130.85,2,    36.11,2,     0.00,2,     2.51,2,   -0.001,2,    0.001,2,   -999.0,9,  -999.00,9,   2314.6,2,   1217.9,2,   2409.0,2,     7.57,2, -999.00,  -999.0, -999.00,  -999.0
    31DSCG96_2,  P15S,   141,  1,    109,   1031,2,19960226,1324,-17.9997,-169.9995, 4893,   -999,   3065.8,   1.7014,  34.6732,2,  34.6721,2,    150.1,2,  1.4738,    150.5,2,   133.81,2,    36.04,2,     0.00,2,     2.49,2, -999.000,5, -999.000,5,   -999.0,9,  -999.00,9,   -999.0,9,   -999.0,9,   -999.0,9,  -999.00,9, -999.00,  -999.0, -999.00,  -999.0
    31DSCG96_2,  P15S,   141,  1,    108,   1227,2,19960226,1324,-17.9997,-169.9995, 4893,   -999,   3302.1,   1.6386,  34.6785,2,  34.6772,2,    155.1,2,  1.3890,    154.0,2,   133.47,2,    35.76,2,     0.00,2,     2.48,2, -999.000,9, -999.000,9,   -999.0,9,  -999.00,9,   2312.0,2,   1185.3,2,   2411.0,2,     7.58,2, -999.00,  -999.0, -999.00,  -999.0
    31DSCG96_2,  P15S,   141,  1,    107,   1263,2,19960226,1324,-17.9997,-169.9995, 4893,   -999,   3565.0,   1.5313,  34.6898,2,  34.6894,2,    163.6,2,  1.2576,    165.8,2,   129.56,2,    34.87,2,     0.00,2,     2.41,2,    0.000,2,    0.001,2,   -999.0,9,  -999.00,9,   2301.2,2,   1164.7,2,   2400.4,2,     7.59,2, -999.00,  -999.0, -999.00,  -999.0
    31DSCG96_2,  P15S,   141,  1,    106,   1262,2,19960226,1324,-17.9997,-169.9995, 4893,   -999,   3815.3,   1.3859,  34.7098,2,  34.7092,2,    187.2,2,  1.0897,    188.6,2,   117.46,2,    33.01,2,     0.00,2,     2.27,2, -999.000,9, -999.000,9,   -999.0,9,  -999.00,9,   2273.6,2,   1093.1,2,   2380.9,2,     7.60,2, -999.00,  -999.0, -999.00,  -999.0
    31DSCG96_2,  P15S,   141,  1,    105,   1264,2,19960226,1324,-17.9997,-169.9995, 4893,   -999,   4066.0,   1.1876,  34.7151,2,  34.7155,2,    200.1,2,  0.8701,    200.9,2,   115.66,2,    32.26,2,     0.00,2,     2.21,2,    0.003,2,    0.002,2,   -999.0,9,  -999.00,9,   2262.3,2,   1066.9,2,   2367.8,2,     7.61,2, -999.00,  -999.0, -999.00,  -999.0
    31DSCG96_2,  P15S,   141,  1,    104,   1003,2,19960226,1324,-17.9997,-169.9995, 4893,   -999,   4315.3,   1.0961,  34.7130,2,  34.7128,2,    203.8,2,  0.7541,    203.6,2,   117.66,2,    32.26,2,     0.00,2,     2.20,2, -999.000,9, -999.000,9,   -999.0,9,  -999.00,9,   2261.1,2,   1059.1,2,   2370.2,2,     7.61,2, -999.00,  -999.0, -999.00,  -999.0
    31DSCG96_2,  P15S,   141,  1,    103,   1035,2,19960226,1324,-17.9997,-169.9995, 4893,   -999,   4566.3,   1.0209,  34.7096,2,  34.7091,2,    205.7,2,  0.6531,    205.9,2,   119.93,2,    32.29,2,     0.00,2,     2.21,2,    0.011,2,    0.006,2,   -999.0,9,  -999.00,9,   -999.0,9,   -999.0,9,   -999.0,9,  -999.00,9, -999.00,  -999.0, -999.00,  -999.0
    31DSCG96_2,  P15S,   141,  1,    102,   1030,2,19960226,1324,-17.9997,-169.9995, 4893,   -999,   4814.8,   1.0246,  34.7088,2,  34.7074,2,    206.1,2,  0.6281,    206.2,2,   120.70,2,    32.36,2,     0.00,2,     2.22,2, -999.000,9, -999.000,9,   -999.0,9,  -999.00,9,   2260.5,2,   1062.0,2,   2368.1,2,  -999.00,9, -999.00,  -999.0, -999.00,  -999.0
    31DSCG96_2,  P15S,   141,  1,    101,   1022,2,19960226,1324,-17.9997,-169.9995, 4893,   -999,   4990.3,   1.0365,  34.7082,2,  34.7080,2,    206.3,2,  0.6189,    206.6,6,   120.96,6,    32.32,6,     0.00,6,     2.23,6,    0.012,6,    0.006,6,   -999.0,9,  -999.00,9,   2259.2,2,   1076.1,2,   2369.6,2,     7.61,2, -999.00,  -999.0, -999.00,  -999.0