BOTTLE,20220811CCHSIOAMB
EXPOCODE,SECT_ID,STNNBR,CASTNO,SAMPNO,BTLNBR,BTLNBR_FLAG_W,DATE,TIME,LATITUDE,LONGITUDE,DEPTH,CTDRAW,CTDPRS,CTDTMP,CTDSAL,CTDSAL_FLAG_W,SALNTY,SALNTY_FLAG_W,CTDOXY,CTDOXY_FLAG_W,THETA,OXYGEN,OXYGEN_FLAG_W,SILCAT,SILCAT_FLAG_W,NITRAT,NITRAT_FLAG_W,NITRIT,NITRIT_FLAG_W,PHSPHT,PHSPHT_FLAG_W,CFC-11,CFC-11_FLAG_W,CFC-12,CFC-12_FLAG_W,DELC14,DELC14_FLAG_W,DELC13,DELC13_FLAG_W,TCARBN,TCARBN_FLAG_W,PCO2,PCO2_FLAG_W,ALKALI,ALKALI_FLAG_W,PH,PH_FLAG_W,PCO2TMP,C14ERR,PH_TMP,C13ERR
,,,,,,,,,,,,DBAR,DBAR,ITS-90,PSS-78,,PSS-78,,UMOL/KG,,DEG C,UMOL/KG,,UMOL/KG,,UMOL/KG,,UMOL/KG,,UMOL/KG,,PMOL/KG,,PMOL/KG,,/MILLE,,/MILLE,,UMOL/KG,,UATM,,UMOL/KG,,,,DEG C,/MILLE,DEG C,/MILLE
    31DSCG96_2,  P15S,   119,  1,    136,   1245,2,19960220,1113,-29.0138,-169.9980, 5562,   -999,      4.7,  24.4429,  35.7746,2,  35.7743,2,    208.7,2, 24.4419,    208.9,2,     1.01,2,     0.04,2,     0.00,2,     0.02,3, -999.000,9, -999.000,9,    103.9,2,  -999.00,9,   2002.3,2,    282.0,2,   2346.6,2,     8.09,2, -999.00,     3.3, -999.00,  -999.0
    31DSCG96_2,  P15S,   119,  1,    135,   1113,2,19960220,1113,-29.0138,-169.9980, 5562,   -999,     28.9,  24.4358,  35.7738,2,  35.7753,2,    208.6,2, 24.4297,    209.1,2,     1.08,2,     0.04,2,     0.00,2,     0.03,3, -999.000,9, -999.000,9,   -999.0,9,  -999.00,9,   -999.0,9,   -999.0,9,   -999.0,9,     8.09,2, -999.00,  -999.0, -999.00,  -999.0
    31DSCG96_2,  P15S,   119,  1,    134,   1216,2,19960220,1113,-29.0138,-169.9980, 5562,   -999,     55.0,  21.0943,  35.7741,2,  35.7769,2,    225.6,2, 21.0837,    234.3,2,     1.12,2,     0.04,2,     0.00,2,     0.06,2, -999.000,9, -999.000,9,   -999.0,9,  -999.00,9,   2019.1,2,    305.9,2,   2344.8,2,     8.06,2, -999.00,  -999.0, -999.00,  -999.0
    31DSCG96_2,  P15S,   119,  1,    133,   1221,2,19960220,1113,-29.0138,-169.9980, 5562,   -999,     80.7,  18.7370,  35.7050,2,  35.7043,2,    234.9,2, 18.7227,    237.3,6,     1.19,2,     0.03,2,     0.00,2,     0.09,2, -999.000,9, -999.000,9,   -999.0,9,  -999.00,9,   -999.0,9,   -999.0,9,   -999.0,9,  -999.00,9, -999.00,  -999.0, -999.00,  -999.0
    31DSCG96_2,  P15S,   119,  1,    132,   1039,2,19960220,1113,-29.0138,-169.9980, 5562,   -999,    114.2,  17.5933,  35.6777,2,  35.6776,2,    211.3,2, 17.5740,    214.2,2,     1.44,2,     1.79,2,     0.05,2,     0.23,2, -999.000,9, -999.000,9,   -999.0,9,  -999.00,9,   2051.9,2,    369.2,2,   2338.9,2,     7.99,2, -999.00,  -999.0, -999.00,  -999.0
    31DSCG96_2,  P15S,   119,  1,    131,   1014,3,19960220,1113,-29.0138,-169.9980, 5562,   -999,    163.9,  16.7171,  35.5611,2,  35.5625,2,    199.5,2, 16.6903,    201.7,2,     1.89,2,     4.50,2,     0.02,2,     0.39,2, -999.000,9, -999.000,9,   -999.0,9,  -999.00,9,   -999.0,9,   -999.0,9,   -999.0,9,  -999.00,9, -999.00,  -999.0, -999.00,  -999.0
    31DSCG96_2,  P15S,   119,  1,    130,   1257,2,19960220,1113,-29.0138,-169.9980, 5562,   -999,    215.2,  15.6041,  35.4386,2,  35.4387,2,    201.8,2, 15.5705,    202.4,2,     2.28,2,     5.92,2,     0.01,2,     0.49,2, -999.000,9, -999.000,9,   -999.0,9,  -999.00,9,   2078.4,2,    446.9,2,   2324.8,2,     7.93,2, -999.00,  -999.0, -999.00,  -999.0
    31DSCG96_2,  P15S,   119,  1,    129,   1256,2,19960220,1113,-29.0138,-169.9980, 5562,   -999,    266.2,  14.4587,  35.2846,2,  35.2866,2,    200.7,2, 14.4191,    199.4,2,     2.71,2,     7.63,2,     0.00,2,     0.60,2, -999.000,9, -999.000,9,   -999.0,9,  -999.00,9,   2088.1,2,    488.6,2,   2318.4,2,     7.90,2, -999.00,  -999.0, -999.00,  -999.0
    31DSCG96_2,  P15S,   119,  1,    128,   1007,2,19960220,1113,-29.0138,-169.9980, 5562,   -999,    324.1,  12.8503,  35.0797,2,  35.0794,2,    195.4,2, 12.8058,    194.1,2,     3.85,2,    11.32,2,     0.00,2,     0.83,2, -999.000,9, -999.000,9,   -999.0,9,  -999.00,9,   2105.3,2,    555.7,2,   2307.7,2,     7.84,2, -999.00,  -999.0, -999.00,  -999.0
    31DSCG96_2,  P15S,   119,  1,    127,   1232,2,19960220,1113,-29.0138,-169.9980, 5562,   -999,    424.0,  10.4205,  34.7806,2,  34.7746,2,    199.2,2, 10.3695,    198.5,2,     5.30,2,    16.24,2,     0.00,2,     1.14,2, -999.000,9, -999.000,9,   -999.0,9,  -999.00,9,   -999.0,9,   -999.0,9,   -999.0,9,     7.78,2, -999.00,  -999.0, -999.00,  -999.0
    31DSCG96_2,  P15S,   119,  1,    126,   1025,2,19960220,1113,-29.0138,-169.9980, 5562,   -999,    526.8,   8.3585,  34.5419,2,  34.5441,2,    212.7,2,  8.3030,    213.7,2,     6.46,2,    19.89,2,     0.00,2,     1.37,2, -999.000,9, -999.000,9,   -999.0,9,  -999.00,9,   2132.0,2,    712.1,2,   2288.7,2,  -999.00,9, -999.00,  -999.0, -999.00,  -999.0
    31DSCG96_2,  P15S,   119,  1,    125,   1233,2,19960220,1113,-29.0138,-169.9980, 5562,   -999,    629.8,   7.2903,  34.4372,2,  34.4413,3,    226.7,2,  7.2286,    226.0,2,     7.77,2,    21.96,2,     0.00,2,     1.49,2, -999.000,9, -999.000,9,   -999.0,9,  -999.00,9,   -999.0,9,   -999.0,9,   -999.0,9,     7.74,2, -999.00,  -999.0, -999.00,  -999.0
    31DSCG96_2,  P15S,   119,  1,    124,   1013,2,19960220,1113,-29.0138,-169.9980, 5562,   -999,    724.2,   6.5466,  34.3749,2,  34.3750,2,    229.6,2,  6.4794,    229.2,2,    10.08,2,    23.90,2,     0.00,2,     1.61,2, -999.000,9, -999.000,9,   -999.0,9,  -999.00,9,   -999.0,9,   -999.0,9,   -999.0,9,     7.72,2, -999.00,  -999.0, -999.00,  -999.0
    31DSCG96_2,  P15S,   119,  1,    123,   1250,2,19960220,1113,-29.0138,-169.9980, 5562,   -999,    822.7,   5.9273,  34.3397,2,  34.3403,2,    224.1,2,  5.8543,    222.4,2,    14.27,2,    26.02,2,     0.00,2,     1.76,2, -999.000,9, -999.000,9,   -999.0,9,  -999.00,9,   -999.0,9,   -999.0,9,   -999.0,9,     7.70,2, -999.00,  -999.0, -999.00,  -999.0
    31DSCG96_2,  P15S,   119,  1,    122,   1265,2,19960220,1113,-29.0138,-169.9980, 5562,   -999,    922.6,   5.3129,  34.3306,2,  34.3309,2,    211.1,2,  5.2346,    209.7,2,    21.29,2,    28.51,2,     0.00,2,     1.93,2, -999.000,9, -999.000,9,   -999.0,9,  -999.00,9,   -999.0,9,   -999.0,9,   -999.0,9,     7.67,2, -999.00,  -999.0, -999.00,  -999.0
    31DSCG96_2,  P15S,   119,  1,    121,   1246,2,19960220,1113,-29.0138,-169.9980, 5562,   -999,   1025.4,   4.7402,  34.3414,2,  34.3409,2,    199.4,2,  4.6568,    198.3,6,    29.61,2,    30.50,2,     0.00,2,     2.07,2, -999.000,9, -999.000,9,   -999.0,9,  -999.00,9,   2185.4,2,    971.1,2,   2299.0,2,     7.64,2, -999.00,  -999.0, -999.00,  -999.0
    31DSCG96_2,  P15S,   119,  1,    120,   1015,2,19960220,1113,-29.0138,-169.9980, 5562,   -999,   1123.9,   4.2506,  34.3637,2,  34.3626,2,    188.4,2,  4.1626,    189.1,2,    38.10,2,    31.92,2,     0.00,2,     2.17,2, -999.000,9, -999.000,9,   -999.0,9,  -999.00,9,   -999.0,9,   -999.0,9,   -999.0,9,     7.62,2, -999.00,  -999.0, -999.00,  -999.0
    31DSCG96_2,  P15S,   119,  1,    119,   1247,2,19960220,1113,-29.0138,-169.9980, 5562,   -999,   1222.4,   3.7375,  34.4048,2,  34.4073,2,    178.5,2,  3.6456,    178.9,2,    50.34,2,    33.39,2,     0.00,2,     2.28,2, -999.000,9, -999.000,9,   -999.0,9,  -999.00,9,   -999.0,9,   -999.0,9,   -999.0,9,     7.60,2, -999.00,  -999.0, -999.00,  -999.0
    31DSCG96_2,  P15S,   119,  1,    118,   1222,2,19960220,1113,-29.0138,-169.9980, 5562,   -999,   1348.3,   3.2855,  34.4573,2,  34.4577,2,    170.9,2,  3.1875,    170.6,2,    62.83,2,    34.21,2,     0.00,2,     2.34,2, -999.000,9, -999.000,9,   -999.0,9,  -999.00,9,   -999.0,9,   -999.0,9,   -999.0,9,     7.59,2, -999.00,  -999.0, -999.00,  -999.0
    31DSCG96_2,  P15S,   119,  1,    117,   1267,2,19960220,1113,-29.0138,-169.9980, 5562,   -999,   1562.6,   2.7162,  34.5496,2,  34.5491,2,    159.8,2,  2.6066,    160.4,2,    84.99,2,    35.05,2,     0.00,2,     2.41,2, -999.000,9, -999.000,9,   -999.0,9,  -999.00,9,   2267.0,2,   1159.1,2,   2359.8,2,     7.58,2, -999.00,  -999.0, -999.00,  -999.0
    31DSCG96_2,  P15S,   119,  1,    116,   1211,2,19960220,1113,-29.0138,-169.9980, 5562,   -999,   1816.2,   2.3879,  34.5997,2,  34.6058,3,    151.3,2,  2.2613,    151.4,2,   103.85,2,    35.59,2,     0.00,2,     2.46,2, -999.000,9, -999.000,9,   -999.0,9,  -999.00,9,   -999.0,9,   -999.0,9,   -999.0,9,     7.57,2, -999.00,  -999.0, -999.00,  -999.0
    31DSCG96_2,  P15S,   119,  1,    115,   1041,2,19960220,1113,-29.0138,-169.9980, 5562,   -999,   2068.2,   2.2001,  34.6307,2,  34.6303,2,    146.5,2,  2.0547,    146.5,2,   115.61,2,    36.06,2,     0.00,2,     2.49,2, -999.000,9, -999.000,9,   -999.0,9,  -999.00,9,   2300.8,2,   1203.8,2,   2393.0,2,     7.57,2, -999.00,  -999.0, -999.00,  -999.0
    31DSCG96_2,  P15S,   119,  1,    114,   1017,2,19960220,1113,-29.0138,-169.9980, 5562,   -999,   2314.9,   2.0646,  34.6401,2,  34.6457,3,    145.8,2,  1.8999,    145.7,2,   121.83,2,    36.21,2,     0.00,2,     2.51,2, -999.000,9, -999.000,9,   -999.0,9,  -999.00,9,   -999.0,9,   -999.0,9,   -999.0,9,     7.57,2, -999.00,  -999.0, -999.00,  -999.0
    31DSCG96_2,  P15S,   119,  1,    113,   1302,2,19960220,1113,-29.0138,-169.9980, 5562,   -999,   2565.3,   1.9533,  34.6545,2,  34.6550,2,    146.2,2,  1.7679,    145.5,2,   126.47,2,    36.26,2,     0.00,2,     2.51,2,   -0.001,2,    0.001,2,   -999.0,9,  -999.00,9,   2311.1,2,   1221.3,2,   2406.5,2,     7.57,2, -999.00,  -999.0, -999.00,  -999.0
    31DSCG96_2,  P15S,   119,  1,    112,   1217,2,19960220,1113,-29.0138,-169.9980, 5562,   -999,   2812.7,   1.8487,  34.6642,2,  34.6638,2,    147.4,2,  1.6423,    147.2,2,   129.65,2,    36.12,2,     0.00,2,     2.50,2, -999.000,9, -999.000,9,   -999.0,9,  -999.00,9,   -999.0,9,   -999.0,9,   -999.0,9,     7.57,2, -999.00,  -999.0, -999.00,  -999.0
    31DSCG96_2,  P15S,   119,  1,    111,   1114,2,19960220,1113,-29.0138,-169.9980, 5562,   -999,   3061.4,   1.7468,  34.6752,2,  34.6777,2,    152.1,2,  1.5186,    153.2,6,   129.57,2,    35.72,2,     0.00,2,     2.46,2,   -0.001,2,    0.002,2,   -999.0,9,  -999.00,9,   2312.1,2,   1188.3,2,   2405.2,2,     7.58,2, -999.00,  -999.0, -999.00,  -999.0
    31DSCG96_2,  P15S,   119,  1,    110,   1301,2,19960220,1113,-29.0138,-169.9980, 5562,   -999,   3313.7,   1.6595,  34.6932,2,  34.6929,2,    163.9,2,  1.4082,    167.7,2,   121.69,2,    34.37,2,     0.00,2,     2.36,2,    0.000,2,    0.002,2,   -999.0,9,  -999.00,9,   2292.9,2,   1158.2,2,   2393.3,2,     7.59,2, -999.00,  -999.0, -999.00,  -999.0
    31DSCG96_2,  P15S,   119,  1,    109,   1119,2,19960220,1113,-29.0138,-169.9980, 5562,   -999,   3561.9,   1.5391,  34.7122,2,  34.7124,2,    183.8,2,  1.2654,   -999.0,9,   112.25,2,    32.75,2,     0.00,2,     2.24,2, -999.000,9, -999.000,9,   -999.0,9,  -999.00,9,   -999.0,9,   -999.0,9,   -999.0,9,  -999.00,9, -999.00,  -999.0, -999.00,  -999.0
    31DSCG96_2,  P15S,   119,  1,    108,   1227,2,19960220,1113,-29.0138,-169.9980, 5562,   -999,   3812.4,   1.3810,  34.7198,2,  34.7205,2,    196.1,2,  1.0852,    196.2,2,   110.61,2,    32.11,2,     0.00,2,     2.19,2, -999.000,9, -999.000,9,   -999.0,9,  -999.00,9,   -999.0,9,   -999.0,9,   -999.0,9,     7.61,2, -999.00,  -999.0, -999.00,  -999.0
    31DSCG96_2,  P15S,   119,  1,    107,   1263,2,19960220,1113,-29.0138,-169.9980, 5562,   -999,   4066.7,   1.2176,  34.7174,2,  34.7185,2,    201.6,2,  0.8993,    201.8,2,   113.48,2,    32.01,2,     0.00,2,     2.18,2,    0.004,2,    0.003,2,   -999.0,9,  -999.00,9,   2258.5,2,   1066.6,2,   2366.0,2,     7.61,2, -999.00,  -999.0, -999.00,  -999.0
    31DSCG96_2,  P15S,   119,  1,    106,   1262,2,19960220,1113,-29.0138,-169.9980, 5562,   -999,   4314.3,   1.0972,  34.7133,2,  34.7141,2,    204.7,2,  0.7553,    204.5,2,   116.98,2,    32.06,2,     0.00,2,     2.19,2, -999.000,9, -999.000,9,   -999.0,9,  -999.00,9,   -999.0,9,   -999.0,9,   -999.0,9,     7.61,2, -999.00,  -999.0, -999.00,  -999.0
    31DSCG96_2,  P15S,   119,  1,    105,   1264,2,19960220,1113,-29.0138,-169.9980, 5562,   -999,   4567.1,   1.0403,  34.7103,2,  34.7105,2,    205.4,2,  0.6718,    205.8,2,   119.19,2,    32.18,2,     0.00,2,     2.20,2,    0.008,2,    0.005,2,   -999.0,9,  -999.00,9,   2261.1,2,   1049.0,2,   2370.0,2,     7.61,2, -999.00,  -999.0, -999.00,  -999.0
    31DSCG96_2,  P15S,   119,  1,    104,   1003,2,19960220,1113,-29.0138,-169.9980, 5562,   -999,   4815.6,   1.0228,  34.7087,2,  34.7105,2,    206.0,2,  0.6262,    206.1,2,   120.48,2,    32.24,2,     0.00,2,     2.20,2, -999.000,9, -999.000,9,   -999.0,9,  -999.00,9,   -999.0,9,   -999.0,9,   -999.0,9,     7.61,2, -999.00,  -999.0, -999.00,  -999.0
    31DSCG96_2,  P15S,   119,  1,    103,   1035,2,19960220,1113,-29.0138,-169.9980, 5562,   -999,   5066.3,   1.0341,  34.7077,2,  34.7087,2,    206.4,2,  0.6075,    206.7,2,   121.03,2,    32.28,2,     0.00,2,     2.21,2,    0.014,6,    0.008,6,   -999.0,9,  -999.00,9,   2261.3,2,   1082.1,2,   2370.1,2,     7.61,2, -999.00,  -999.0, -999.00,  -999.0
    31DSCG96_2,  P15S,   119,  1,    102,   1030,2,19960220,1113,-29.0138,-169.9980, 5562,   -999,   5318.4,   1.0591,  34.7073,2,  34.7090,2,    206.5,2,  0.6010,    206.6,2,   121.31,2,    32.30,2,     0.00,2,     2.20,2,    0.011,2,    0.007,2,   -999.0,9,  -999.00,9,   -999.0,9,   -999.0,9,   -999.0,9,     7.61,2, -999.00,  -999.0, -999.00,  -999.0
    31DSCG96_2,  P15S,   119,  1,    101,   1022,2,19960220,1113,-29.0138,-169.9980, 5562,   -999,   5680.9,   1.1043,  34.7069,2,  34.7088,2,    206.8,2,  0.5990,    206.4,6,   121.41,6,    32.29,6,     0.00,6,     2.21,6,    0.013,2,    0.007,2,   -999.0,9,  -999.00,9,   2259.2,2,   1087.5,2,   2371.0,2,     7.61,2, -999.00,  -999.0, -999.00,  -999.0