BOTTLE,20220811CCHSIOAMB
EXPOCODE,SECT_ID,STNNBR,CASTNO,SAMPNO,BTLNBR,BTLNBR_FLAG_W,DATE,TIME,LATITUDE,LONGITUDE,DEPTH,CTDRAW,CTDPRS,CTDTMP,CTDSAL,CTDSAL_FLAG_W,SALNTY,SALNTY_FLAG_W,CTDOXY,CTDOXY_FLAG_W,THETA,OXYGEN,OXYGEN_FLAG_W,SILCAT,SILCAT_FLAG_W,NITRAT,NITRAT_FLAG_W,NITRIT,NITRIT_FLAG_W,PHSPHT,PHSPHT_FLAG_W,CFC-11,CFC-11_FLAG_W,CFC-12,CFC-12_FLAG_W,DELC14,DELC14_FLAG_W,DELC13,DELC13_FLAG_W,TCARBN,TCARBN_FLAG_W,PCO2,PCO2_FLAG_W,ALKALI,ALKALI_FLAG_W,PH,PH_FLAG_W,PCO2TMP,C14ERR,PH_TMP,C13ERR
,,,,,,,,,,,,DBAR,DBAR,ITS-90,PSS-78,,PSS-78,,UMOL/KG,,DEG C,UMOL/KG,,UMOL/KG,,UMOL/KG,,UMOL/KG,,UMOL/KG,,PMOL/KG,,PMOL/KG,,/MILLE,,/MILLE,,UMOL/KG,,UATM,,UMOL/KG,,,,DEG C,/MILLE,DEG C,/MILLE
    31DSCG96_1,  P15S,    72,  1,    134,   1119,2,19960129,1148,-47.5042,-169.9963, 5285,   -999,     10.1,  14.1167,  34.6055,2,  34.6049,2,    278.8,2, 14.1153,    271.2,2,     0.96,2,     4.42,2,     0.09,2,     0.40,2, -999.000,9, -999.000,9,     55.3,2,  -999.00,9,   2047.3,2,    407.4,6,   2303.0,2,     7.96,2, -999.00,     2.8, -999.00,  -999.0
    31DSCG96_1,  P15S,    72,  1,    133,   1221,2,19960129,1148,-47.5042,-169.9963, 5285,   -999,     19.3,  12.9122,  34.6277,2,  34.6269,2,    284.0,2, 12.9096,    280.6,2,     1.21,2,     4.40,2,     0.08,2,     0.41,2, -999.000,9, -999.000,9,   -999.0,9,  -999.00,9,   2048.2,2,    414.7,2,   2298.5,2,     7.95,2, -999.00,  -999.0, -999.00,  -999.0
    31DSCG96_1,  P15S,    72,  1,    132,   1039,2,19960129,1148,-47.5042,-169.9963, 5285,   -999,     44.8,  12.1245,  34.6188,2,  34.6174,2,    276.4,2, 12.1187,    273.4,2,     1.35,2,     5.77,2,     0.09,2,     0.52,2, -999.000,9, -999.000,9,   -999.0,9,  -999.00,9,   -999.0,9,   -999.0,9,   -999.0,9,     7.93,2, -999.00,  -999.0, -999.00,  -999.0
    31DSCG96_1,  P15S,    72,  1,    131,   1014,3,19960129,1148,-47.5042,-169.9963, 5285,   -999,     69.9,  10.5840,  34.6089,2,  34.6153,2,    271.5,2, 10.5757,    273.1,2,     1.83,2,     7.74,2,     0.32,2,     0.70,2, -999.000,9, -999.000,9,   -999.0,9,  -999.00,9,   2079.2,2,    496.3,2,   2294.5,2,     7.89,2, -999.00,  -999.0, -999.00,  -999.0
    31DSCG96_1,  P15S,    72,  1,    130,   1257,2,19960129,1148,-47.5042,-169.9963, 5285,   -999,     93.0,   9.6647,  34.5770,2,  34.5768,2,    268.1,2,  9.6542,    271.2,2,     2.05,2,     9.26,2,     0.74,2,     0.85,2, -999.000,9, -999.000,9,   -999.0,9,  -999.00,9,   -999.0,9,   -999.0,9,   -999.0,9,     7.86,2, -999.00,  -999.0, -999.00,  -999.0
    31DSCG96_1,  P15S,    72,  1,    129,   1256,2,19960129,1148,-47.5042,-169.9963, 5285,   -999,    139.0,   9.2709,  34.5912,2,  34.5944,2,    265.1,2,  9.2557,    261.4,2,     3.55,2,    13.10,2,     0.01,2,     0.97,2, -999.000,9, -999.000,9,   -999.0,9,  -999.00,9,   2100.7,2,    574.4,2,   2294.8,2,     7.83,2, -999.00,  -999.0, -999.00,  -999.0
    31DSCG96_1,  P15S,    72,  1,    128,   1007,2,19960129,1148,-47.5042,-169.9963, 5285,   -999,    190.0,   8.8368,  34.5827,2,  34.5829,2,    257.5,2,  8.8165,    259.4,2,     4.51,2,    14.58,2,     0.01,2,     1.05,2, -999.000,9, -999.000,9,   -999.0,9,  -999.00,9,   -999.0,9,   -999.0,9,   -999.0,9,     7.81,2, -999.00,  -999.0, -999.00,  -999.0
    31DSCG96_1,  P15S,    72,  1,    127,   1232,2,19960129,1148,-47.5042,-169.9963, 5285,   -999,    239.1,   8.5541,  34.5519,2,  34.5515,2,    258.3,2,  8.5290,    260.8,6,     4.74,2,    15.32,2,     0.01,2,     1.11,2, -999.000,9, -999.000,9,   -999.0,9,  -999.00,9,   2110.6,2,    615.7,2,   2288.4,2,     7.81,2, -999.00,  -999.0, -999.00,  -999.0
    31DSCG96_1,  P15S,    72,  1,    126,   1025,2,19960129,1148,-47.5042,-169.9963, 5285,   -999,    289.5,   8.3347,  34.5283,2,  34.5290,2,    265.0,2,  8.3047,    260.1,2,     5.08,2,    16.05,2,     0.01,2,     1.16,2, -999.000,9, -999.000,9,   -999.0,9,  -999.00,9,   -999.0,9,   -999.0,9,   -999.0,9,     7.80,2, -999.00,  -999.0, -999.00,  -999.0
    31DSCG96_1,  P15S,    72,  1,    125,   1233,2,19960129,1148,-47.5042,-169.9963, 5285,   -999,    373.7,   7.8756,  34.4755,2,  34.4753,2,    255.9,2,  7.8380,    247.9,2,     6.76,2,    19.00,2,     0.01,2,     1.34,2, -999.000,9, -999.000,9,   -999.0,9,  -999.00,9,   2109.3,3,    689.5,2,   2283.4,2,     7.77,2, -999.00,  -999.0, -999.00,  -999.0
    31DSCG96_1,  P15S,    72,  1,    124,   1218,2,19960129,1148,-47.5042,-169.9963, 5285,   -999,    474.0,   7.3164,  34.4117,2,  34.4118,2,    253.4,2,  7.2704,    253.4,2,     7.46,2,    20.20,2,     0.00,2,     1.42,2, -999.000,9, -999.000,9,   -999.0,9,  -999.00,9,   -999.0,9,   -999.0,9,   -999.0,9,     7.76,2, -999.00,  -999.0, -999.00,  -999.0
    31DSCG96_1,  P15S,    72,  1,    123,   1250,2,19960129,1148,-47.5042,-169.9963, 5285,   -999,    577.8,   6.8845,  34.3775,2,  34.3771,2,    255.8,2,  6.8299,    258.4,2,     8.53,2,    20.96,2,     0.00,2,     1.47,2, -999.000,9, -999.000,9,   -999.0,9,  -999.00,9,   2128.2,2,    706.4,2,   2286.7,2,     7.76,2, -999.00,  -999.0, -999.00,  -999.0
    31DSCG96_1,  P15S,    72,  1,    122,   1109,2,19960129,1148,-47.5042,-169.9963, 5285,   -999,    677.9,   6.5377,  34.3595,2,  34.3584,2,    241.6,2,  6.4751,    243.3,2,    11.41,2,    23.10,2,     0.00,2,     1.61,2, -999.000,9, -999.000,9,   -999.0,9,  -999.00,9,   -999.0,9,   -999.0,9,   -999.0,9,     7.73,2, -999.00,  -999.0, -999.00,  -999.0
    31DSCG96_1,  P15S,    72,  1,    121,   1246,2,19960129,1148,-47.5042,-169.9963, 5285,   -999,    774.8,   6.0284,  34.3288,2,  34.3287,2,    233.1,2,  5.9593,    234.8,2,    14.80,2,    25.04,2,     0.00,2,     1.73,2, -999.000,9, -999.000,9,   -999.0,9,  -999.00,9,   2149.4,2,    799.7,2,   2285.2,2,     7.71,2, -999.00,  -999.0, -999.00,  -999.0
    31DSCG96_1,  P15S,    72,  1,    120,   1015,2,19960129,1148,-47.5042,-169.9963, 5285,   -999,    874.7,   5.6124,  34.3349,2,  34.3357,2,    224.2,2,  5.5365,    223.0,2,    20.04,2,    26.96,2,     0.00,2,     1.86,2, -999.000,9, -999.000,9,   -999.0,9,  -999.00,9,   -999.0,9,   -999.0,9,   -999.0,9,     7.68,2, -999.00,  -999.0, -999.00,  -999.0
    31DSCG96_1,  P15S,    72,  1,    119,   1247,2,19960129,1148,-47.5042,-169.9963, 5285,   -999,    974.2,   5.0953,  34.3477,2,  34.3473,2,    211.1,2,  5.0138,    210.4,6,    26.98,2,    28.89,2,     0.00,2,     1.99,2, -999.000,9, -999.000,9,   -999.0,9,  -999.00,9,   2179.9,2,    928.9,2,   2298.6,2,     7.66,2, -999.00,  -999.0, -999.00,  -999.0
    31DSCG96_1,  P15S,    72,  1,    118,   1222,2,19960129,1148,-47.5042,-169.9963, 5285,   -999,   1072.2,   4.4629,  34.3539,2,  34.3531,2,    204.0,2,  4.3777,    203.4,2,    34.92,2,    30.73,2,     0.00,2,     2.11,2, -999.000,9, -999.000,9,   -999.0,9,  -999.00,9,   -999.0,9,   -999.0,9,   -999.0,9,     7.64,2, -999.00,  -999.0, -999.00,  -999.0
    31DSCG96_1,  P15S,    72,  1,    117,   1267,2,19960129,1148,-47.5042,-169.9963, 5285,   -999,   1215.5,   3.8055,  34.3598,2,  34.3588,2,    200.0,2,  3.7137,    201.0,2,    42.62,2,    32.17,2,     0.01,2,     2.21,2, -999.000,9, -999.000,9,   -999.0,9,  -999.00,9,   2206.6,2,   1037.0,2,   2316.2,2,     7.62,2, -999.00,  -999.0, -999.00,  -999.0
    31DSCG96_1,  P15S,    72,  1,    116,   1211,2,19960129,1148,-47.5042,-169.9963, 5285,   -999,   1439.5,   3.1230,  34.4291,2,  34.4283,2,    184.8,2,  3.0192,    185.7,2,    58.06,2,    33.84,2,     0.00,2,     2.32,2, -999.000,9, -999.000,9,   -999.0,9,  -999.00,9,   -999.0,9,   -999.0,9,   -999.0,9,     7.59,3, -999.00,  -999.0, -999.00,  -999.0
    31DSCG96_1,  P15S,    72,  1,    115,   1041,2,19960129,1148,-47.5042,-169.9963, 5285,   -999,   1690.7,   2.7076,  34.5349,2,  34.5345,2,    173.6,2,  2.5874,    172.6,2,    73.39,2,    34.47,2,     0.00,2,     2.36,2, -999.000,9, -999.000,9,   -999.0,9,  -999.00,9,   2250.4,2,   1179.4,2,   2342.0,2,     7.57,2, -999.00,  -999.0, -999.00,  -999.0
    31DSCG96_1,  P15S,    72,  1,    114,   1017,2,19960129,1148,-47.5042,-169.9963, 5285,   -999,   1938.5,   2.4777,  34.6099,2,  34.6088,2,    171.6,2,  2.3395,    171.5,2,    80.21,2,    34.00,2,     0.00,2,     2.33,2, -999.000,9, -999.000,9,   -999.0,9,  -999.00,9,   -999.0,9,   -999.0,9,   -999.0,9,     7.57,2, -999.00,  -999.0, -999.00,  -999.0
    31DSCG96_1,  P15S,    72,  1,    113,   1302,2,19960129,1148,-47.5042,-169.9963, 5285,   -999,   2188.2,   2.3262,  34.6660,2,  34.6656,2,    176.7,2,  2.1682,    175.5,6,    83.02,2,    33.09,2,     0.00,2,     2.26,2,    0.117,2,    0.083,2,   -999.0,9,  -999.00,9,   2256.2,2,   -999.0,9,   2348.3,2,     7.58,2, -999.00,  -999.0, -999.00,  -999.0
    31DSCG96_1,  P15S,    72,  1,    112,   1217,2,19960129,1148,-47.5042,-169.9963, 5285,   -999,   2440.9,   2.1770,  34.7077,2,  34.7080,2,    182.8,2,  1.9986,    182.6,2,    85.39,2,    32.05,2,     0.00,2,     2.20,2, -999.000,9, -999.000,9,   -999.0,9,  -999.00,9,   -999.0,9,   -999.0,9,   -999.0,9,     7.59,2, -999.00,  -999.0, -999.00,  -999.0
    31DSCG96_1,  P15S,    72,  1,    111,   1114,2,19960129,1148,-47.5042,-169.9963, 5285,   -999,   2688.9,   2.0267,  34.7293,2,  34.7287,2,    188.1,2,  1.8281,    188.5,2,    88.78,2,    31.49,2,     0.00,2,     2.16,2,    0.053,2,    0.028,2,   -999.0,9,  -999.00,9,   2250.4,2,   1084.0,2,   2354.0,2,     7.60,2, -999.00,  -999.0, -999.00,  -999.0
    31DSCG96_1,  P15S,    72,  1,    110,   1301,2,19960129,1148,-47.5042,-169.9963, 5285,   -999,   2939.7,   1.8415,  34.7364,2,  34.7350,2,    193.3,2,  1.6227,    192.7,2,    94.02,2,    31.40,2,     0.00,2,     2.15,2, -999.000,9, -999.000,9,   -999.0,9,  -999.00,9,   -999.0,9,   -999.0,9,   -999.0,9,     7.61,2, -999.00,  -999.0, -999.00,  -999.0
    31DSCG96_1,  P15S,    72,  1,    109,   1242,2,19960129,1148,-47.5042,-169.9963, 5285,   -999,   3193.2,   1.6485,  34.7357,2,  34.7363,2,    196.4,2,  1.4092,    196.2,2,    99.68,2,    31.42,2,     0.00,2,     2.15,2,    0.031,2,    0.018,2,   -999.0,9,  -999.00,9,   2254.4,2,   -999.0,9,   2366.0,2,     7.61,2, -999.00,  -999.0, -999.00,  -999.0
    31DSCG96_1,  P15S,    72,  1,    108,   1263,2,19960129,1148,-47.5042,-169.9963, 5285,   -999,   3438.4,   1.4450,  34.7306,2,  34.7306,2,    199.6,2,  1.1861,    199.3,2,   105.72,2,    31.66,2,     0.00,2,     2.16,2, -999.000,9, -999.000,9,   -999.0,9,  -999.00,9,   -999.0,9,   -999.0,9,   -999.0,9,     7.61,2, -999.00,  -999.0, -999.00,  -999.0
    31DSCG96_1,  P15S,    72,  1,    107,   1245,2,19960129,1148,-47.5042,-169.9963, 5285,   -999,   3681.1,   1.2783,  34.7241,2,  34.7246,2,    201.9,2,  0.9990,    202.2,2,   110.74,2,    31.86,2,     0.00,2,     2.18,2,    0.028,2,    0.016,2,   -999.0,9,  -999.00,9,   2258.8,2,   1076.9,2,   2362.5,2,     7.61,2, -999.00,  -999.0, -999.00,  -999.0
    31DSCG96_1,  P15S,    72,  1,    106,   1262,2,19960129,1148,-47.5042,-169.9963, 5285,   -999,   3940.1,   1.1319,  34.7175,2,  34.7162,2,    204.9,2,  0.8295,    204.8,2,   115.08,2,    32.06,2,     0.00,2,     2.19,2, -999.000,9, -999.000,9,   -999.0,9,  -999.00,9,   -999.0,9,   -999.0,9,   -999.0,9,     7.61,3, -999.00,  -999.0, -999.00,  -999.0
    31DSCG96_1,  P15S,    72,  1,    105,   1113,2,19960129,1148,-47.5042,-169.9963, 5285,   -999,   4161.4,   1.0291,  34.7126,2,  34.7121,2,    206.9,2,  0.7059,    206.9,2,   118.44,2,    32.14,2,     0.00,2,     2.20,2,    0.046,2,    0.026,2,   -999.0,9,  -999.00,9,   2259.2,2,   -999.0,9,   2366.4,2,     7.61,2, -999.00,  -999.0, -999.00,  -999.0
    31DSCG96_1,  P15S,    72,  1,    104,   1003,2,19960129,1148,-47.5042,-169.9963, 5285,   -999,   4439.6,   0.9503,  34.7081,2,  34.7082,2,    208.3,2,  0.5990,    207.9,2,   121.40,2,    32.34,2,     0.00,2,     2.21,2,    0.051,2,    0.030,2,   -999.0,9,  -999.00,9,   -999.0,9,   -999.0,9,   -999.0,9,     7.61,2, -999.00,  -999.0, -999.00,  -999.0
    31DSCG96_1,  P15S,    72,  1,    103,   1216,2,19960129,1148,-47.5042,-169.9963, 5285,   -999,   4858.2,   0.9470,  34.7061,2,  34.7050,2,    209.1,2,  0.5480,    208.9,6,   122.85,2,    32.37,2,     0.00,2,     2.21,2,    0.066,2,    0.039,2,   -999.0,9,  -999.00,9,   2261.2,2,   1086.1,2,   2365.4,2,     7.61,2, -999.00,  -999.0, -999.00,  -999.0
    31DSCG96_1,  P15S,    72,  1,    102,   1030,2,19960129,1148,-47.5042,-169.9963, 5285,   -999,   5172.7,   0.9577,  34.7048,2,  34.7045,2,    209.6,2,  0.5210,    209.2,2,   123.68,2,    32.58,2,     0.00,2,     2.21,2,    0.079,2,    0.047,2,   -999.0,9,  -999.00,9,   -999.0,9,   -999.0,9,   -999.0,9,     7.61,2, -999.00,  -999.0, -999.00,  -999.0
    31DSCG96_1,  P15S,    72,  1,    101,   1022,2,19960129,1148,-47.5042,-169.9963, 5285,   -999,   5472.6,   0.9906,  34.7043,2,  34.7062,2,    209.2,2,  0.5159,    211.0,2,   123.91,6,    32.49,6,     0.00,6,     2.22,6,    0.084,6,    0.045,6,   -999.0,9,  -999.00,9,   2259.8,2,   1097.3,2,   2364.6,2,     7.61,2, -999.00,  -999.0, -999.00,  -999.0