BOTTLE,20220811CCHSIOAMB
EXPOCODE,SECT_ID,STNNBR,CASTNO,SAMPNO,BTLNBR,BTLNBR_FLAG_W,DATE,TIME,LATITUDE,LONGITUDE,DEPTH,CTDRAW,CTDPRS,CTDTMP,CTDSAL,CTDSAL_FLAG_W,SALNTY,SALNTY_FLAG_W,CTDOXY,CTDOXY_FLAG_W,THETA,OXYGEN,OXYGEN_FLAG_W,SILCAT,SILCAT_FLAG_W,NITRAT,NITRAT_FLAG_W,NITRIT,NITRIT_FLAG_W,PHSPHT,PHSPHT_FLAG_W,CFC-11,CFC-11_FLAG_W,CFC-12,CFC-12_FLAG_W,DELC14,DELC14_FLAG_W,DELC13,DELC13_FLAG_W,TCARBN,TCARBN_FLAG_W,PCO2,PCO2_FLAG_W,ALKALI,ALKALI_FLAG_W,PH,PH_FLAG_W,PCO2TMP,C14ERR,PH_TMP,C13ERR
,,,,,,,,,,,,DBAR,DBAR,ITS-90,PSS-78,,PSS-78,,UMOL/KG,,DEG C,UMOL/KG,,UMOL/KG,,UMOL/KG,,UMOL/KG,,UMOL/KG,,PMOL/KG,,PMOL/KG,,/MILLE,,/MILLE,,UMOL/KG,,UATM,,UMOL/KG,,,,DEG C,/MILLE,DEG C,/MILLE
    31DSCG96_2,  P15S,   118,  1,    136,   1245,2,19960220,0503,-29.5028,-169.9975, 5127,   -999,      4.9,  24.2083,  35.7629,2,  35.7644,2,    217.7,2, 24.2072,    209.9,6,     0.76,2,     0.02,2,     0.00,2,     0.03,3,    1.911,2,    1.066,2,     91.2,2,  -999.00,9,   2007.5,2,    293.1,6,   -999.0,9,     8.08,2, -999.00,     3.6, -999.00,  -999.0
    31DSCG96_2,  P15S,   118,  1,    135,   1113,2,19960220,0503,-29.5028,-169.9975, 5127,   -999,     20.4,  24.1729,  35.7568,2,  35.7602,2,    211.8,2, 24.1686,    210.3,2,     0.85,2,     0.02,2,     0.00,2,     0.03,3, -999.000,9, -999.000,9,   -999.0,9,  -999.00,9,   -999.0,9,   -999.0,9,   -999.0,9,     8.08,2, -999.00,  -999.0, -999.00,  -999.0
    31DSCG96_2,  P15S,   118,  1,    134,   1216,2,19960220,0503,-29.5028,-169.9975, 5127,   -999,     46.4,  22.4190,  35.8222,2,  35.8288,2,    216.9,2, 22.4097,    224.9,2,     0.78,2,     0.02,2,     0.00,2,     0.04,2,    2.112,2,    1.168,2,   -999.0,9,  -999.00,9,   -999.0,9,   -999.0,9,   -999.0,9,     8.07,2, -999.00,  -999.0, -999.00,  -999.0
    31DSCG96_2,  P15S,   118,  1,    133,   1221,2,19960220,0503,-29.5028,-169.9975, 5127,   -999,     70.4,  18.5243,  35.6904,2,  35.6902,2,    238.6,2, 18.5120,    238.1,2,     0.96,2,     0.02,2,     0.00,2,     0.09,2, -999.000,9, -999.000,9,   -999.0,9,  -999.00,9,   -999.0,9,   -999.0,9,   -999.0,9,     8.03,2, -999.00,  -999.0, -999.00,  -999.0
    31DSCG96_2,  P15S,   118,  1,    132,   1039,2,19960220,0503,-29.5028,-169.9975, 5127,   -999,     96.7,  17.8096,  35.6676,2,  35.6676,2,    226.4,2, 17.7931,    228.5,2,     0.96,2,     0.01,2,     0.00,2,     0.12,2,    2.420,2,    1.293,2,   -999.0,9,  -999.00,9,   -999.0,9,   -999.0,9,   -999.0,9,     8.01,2, -999.00,  -999.0, -999.00,  -999.0
    31DSCG96_2,  P15S,   118,  1,    131,   1014,2,19960220,0503,-29.5028,-169.9975, 5127,   -999,    120.4,  17.1904,  35.6260,2,  35.6285,2,    214.3,2, 17.1704,    212.3,2,     1.28,2,     2.04,2,     0.20,2,     0.26,2, -999.000,9, -999.000,9,   -999.0,9,  -999.00,9,   -999.0,9,   -999.0,9,   -999.0,9,  -999.00,9, -999.00,  -999.0, -999.00,  -999.0
    31DSCG96_2,  P15S,   118,  1,    130,   1257,2,19960220,0503,-29.5028,-169.9975, 5127,   -999,    146.4,  16.7202,  35.5806,2,  35.5865,2,    208.0,2, 16.6963,    209.0,2,     1.61,2,     3.29,2,     0.06,2,     0.32,2,    2.419,2,    1.285,2,   -999.0,9,  -999.00,9,   -999.0,9,   -999.0,9,   -999.0,9,     7.96,2, -999.00,  -999.0, -999.00,  -999.0
    31DSCG96_2,  P15S,   118,  1,    129,   1256,2,19960220,0503,-29.5028,-169.9975, 5127,   -999,    189.7,  15.7830,  35.4620,2,  35.4652,2,    205.5,2, 15.7531,    204.6,2,     1.93,2,     5.24,2,     0.01,2,     0.44,2,    2.399,2,    1.261,2,   -999.0,9,  -999.00,9,   -999.0,9,   -999.0,9,   -999.0,9,     7.94,2, -999.00,  -999.0, -999.00,  -999.0
    31DSCG96_2,  P15S,   118,  1,    128,   1007,2,19960220,0503,-29.5028,-169.9975, 5127,   -999,    239.2,  14.7143,  35.3067,2,  35.3063,2,    202.0,2, 14.6784,    199.0,2,     2.52,2,     7.34,2,     0.00,2,     0.58,2,    2.258,6,    1.172,6,   -999.0,9,  -999.00,9,   -999.0,9,   -999.0,9,   -999.0,9,     7.90,2, -999.00,  -999.0, -999.00,  -999.0
    31DSCG96_2,  P15S,   118,  1,    127,   1232,2,19960220,0503,-29.5028,-169.9975, 5127,   -999,    291.5,  13.4532,  35.1587,2,  35.1628,2,    198.3,2, 13.4120,    196.0,2,     3.40,2,     9.92,2,     0.00,2,     0.74,2,    2.186,2,    1.125,2,   -999.0,9,  -999.00,9,   -999.0,9,   -999.0,9,   -999.0,9,     7.86,3, -999.00,  -999.0, -999.00,  -999.0
    31DSCG96_2,  P15S,   118,  1,    126,   1025,2,19960220,0503,-29.5028,-169.9975, 5127,   -999,    378.3,  11.3157,  34.8904,2,  34.8947,2,    197.8,2, 11.2678,    195.8,2,     4.76,2,    14.31,2,     0.00,2,     1.02,2,    2.002,2,    1.004,2,   -999.0,9,  -999.00,9,   -999.0,9,   -999.0,9,   -999.0,9,     7.81,2, -999.00,  -999.0, -999.00,  -999.0
    31DSCG96_2,  P15S,   118,  1,    125,   1233,2,19960220,0503,-29.5028,-169.9975, 5127,   -999,    472.7,   9.2690,  34.6314,2,  34.6352,2,    206.1,2,  9.2162,    204.1,2,     6.09,2,    18.42,2,     0.00,2,     1.28,2,    1.546,2,    0.759,2,   -999.0,9,  -999.00,9,   -999.0,9,   -999.0,9,   -999.0,9,     7.76,2, -999.00,  -999.0, -999.00,  -999.0
    31DSCG96_2,  P15S,   118,  1,    124,   1013,2,19960220,0503,-29.5028,-169.9975, 5127,   -999,    573.6,   7.6378,  34.4697,2,  34.4704,2,    225.7,2,  7.5803,    223.8,6,     7.27,2,    21.23,2,     0.00,2,     1.45,2,    1.424,2,    0.696,2,   -999.0,9,  -999.00,9,   -999.0,9,   -999.0,9,   -999.0,9,     7.74,2, -999.00,  -999.0, -999.00,  -999.0
    31DSCG96_2,  P15S,   118,  1,    123,   1250,2,19960220,0503,-29.5028,-169.9975, 5127,   -999,    673.0,   6.9669,  34.4082,2,  34.4079,2,    229.5,2,  6.9025,    229.8,2,     8.71,2,    22.74,2,     0.00,2,     1.54,2,    1.067,2,    0.527,2,   -999.0,9,  -999.00,9,   -999.0,9,   -999.0,9,   -999.0,9,     7.73,2, -999.00,  -999.0, -999.00,  -999.0
    31DSCG96_2,  P15S,   118,  1,    122,   1265,2,19960220,0503,-29.5028,-169.9975, 5127,   -999,    772.9,   6.2967,  34.3587,2,  34.3585,2,    226.1,2,  6.2261,    227.1,2,    11.84,2,    24.80,2,     0.00,2,     1.68,2,    0.596,2,    0.307,2,   -999.0,9,  -999.00,9,   -999.0,9,   -999.0,9,   -999.0,9,     7.72,2, -999.00,  -999.0, -999.00,  -999.0
    31DSCG96_2,  P15S,   118,  1,    121,   1246,2,19960220,0503,-29.5028,-169.9975, 5127,   -999,    864.3,   5.6785,  34.3299,2,  34.3303,2,    217.9,2,  5.6031,    218.7,2,    16.66,2,    26.99,2,     0.00,2,     1.83,2,    0.324,2,    0.176,2,   -999.0,9,  -999.00,9,   -999.0,9,   -999.0,9,   -999.0,9,     7.69,2, -999.00,  -999.0, -999.00,  -999.0
    31DSCG96_2,  P15S,   118,  1,    120,   1015,2,19960220,0503,-29.5028,-169.9975, 5127,   -999,    977.4,   5.0296,  34.3295,2,  34.3297,2,    204.4,2,  4.9484,    204.6,2,    24.89,2,    29.49,2,     0.00,2,     2.00,2,    0.155,2,    0.086,2,   -999.0,9,  -999.00,9,   -999.0,9,   -999.0,9,   -999.0,9,     7.66,2, -999.00,  -999.0, -999.00,  -999.0
    31DSCG96_2,  P15S,   118,  1,    119,   1247,2,19960220,0503,-29.5028,-169.9975, 5127,   -999,   1080.3,   4.4624,  34.3545,2,  34.3571,2,    191.1,2,  4.3765,    192.1,2,    34.80,2,    31.46,2,     0.00,2,     2.14,2,    0.058,2,    0.037,2,   -999.0,9,  -999.00,9,   -999.0,9,   -999.0,9,   -999.0,9,     7.63,2, -999.00,  -999.0, -999.00,  -999.0
    31DSCG96_2,  P15S,   118,  1,    118,   1222,2,19960220,0503,-29.5028,-169.9975, 5127,   -999,   1175.1,   3.9726,  34.3813,2,  34.3817,2,    183.2,2,  3.8826,    184.5,2,    44.07,2,    32.71,2,     0.00,2,     2.23,2, -999.000,9, -999.000,9,   -999.0,9,  -999.00,9,   -999.0,9,   -999.0,9,   -999.0,9,     7.61,2, -999.00,  -999.0, -999.00,  -999.0
    31DSCG96_2,  P15S,   118,  1,    117,   1267,2,19960220,0503,-29.5028,-169.9975, 5127,   -999,   1275.3,   3.5113,  34.4296,2,  34.4290,2,    174.3,2,  3.4171,    175.7,2,    55.97,2,    33.79,2,     0.00,2,     2.31,2,    0.007,2,    0.007,2,   -999.0,9,  -999.00,9,   -999.0,9,   -999.0,9,   -999.0,9,     7.59,2, -999.00,  -999.0, -999.00,  -999.0
    31DSCG96_2,  P15S,   118,  1,    116,   1211,2,19960220,0503,-29.5028,-169.9975, 5127,   -999,   1447.8,   2.9435,  34.5112,2,  34.5100,2,    164.6,2,  2.8407,    165.0,2,    75.30,2,    34.78,2,     0.00,2,     2.39,2, -999.000,9, -999.000,9,   -999.0,9,  -999.00,9,   -999.0,9,   -999.0,9,   -999.0,9,     7.58,2, -999.00,  -999.0, -999.00,  -999.0
    31DSCG96_2,  P15S,   118,  1,    115,   1041,2,19960220,0503,-29.5028,-169.9975, 5127,   -999,   1687.3,   2.5202,  34.5898,2,  34.5902,2,    153.3,2,  2.4026,    153.0,2,    98.87,2,    35.49,2,     0.00,2,     2.45,2,    0.000,2,    0.003,2,   -999.0,9,  -999.00,9,   -999.0,9,   -999.0,9,   -999.0,9,     7.57,2, -999.00,  -999.0, -999.00,  -999.0
    31DSCG96_2,  P15S,   118,  1,    114,   1017,2,19960220,0503,-29.5028,-169.9975, 5127,   -999,   1937.6,   2.3182,  34.6197,2,  34.6203,2,    147.6,2,  2.1823,    148.2,2,   110.64,2,    35.91,2,     0.00,2,     2.48,2, -999.000,9, -999.000,9,   -999.0,9,  -999.00,9,   -999.0,9,   -999.0,9,   -999.0,9,     7.57,2, -999.00,  -999.0, -999.00,  -999.0
    31DSCG96_2,  P15S,   118,  1,    113,   1302,2,19960220,0503,-29.5028,-169.9975, 5127,   -999,   2189.5,   2.1653,  34.6355,2,  34.6354,2,    146.3,2,  2.0100,    145.5,2,   118.22,2,    36.15,2,     0.00,2,     2.51,2,   -0.002,2,    0.002,2,   -999.0,9,  -999.00,9,   -999.0,9,   -999.0,9,   -999.0,9,     7.57,2, -999.00,  -999.0, -999.00,  -999.0
    31DSCG96_2,  P15S,   118,  1,    112,   1217,2,19960220,0503,-29.5028,-169.9975, 5127,   -999,   2439.7,   2.0415,  34.6472,2,  34.6471,2,    146.1,2,  1.8659,    145.5,6,   123.27,2,    36.24,2,     0.00,2,     2.51,2, -999.000,9, -999.000,9,   -999.0,9,  -999.00,9,   -999.0,9,   -999.0,9,   -999.0,9,     7.57,2, -999.00,  -999.0, -999.00,  -999.0
    31DSCG96_2,  P15S,   118,  1,    111,   1114,2,19960220,0503,-29.5028,-169.9975, 5127,   -999,   2687.8,   1.9353,  34.6572,2,  34.6573,2,    147.0,2,  1.7388,    146.4,2,   127.13,2,    36.22,2,     0.00,2,     2.51,2,   -0.001,2,    0.003,2,   -999.0,9,  -999.00,9,   -999.0,9,   -999.0,9,   -999.0,9,     7.57,2, -999.00,  -999.0, -999.00,  -999.0
    31DSCG96_2,  P15S,   118,  1,    110,   1301,2,19960220,0503,-29.5028,-169.9975, 5127,   -999,   2939.2,   1.8151,  34.6688,2,  34.6676,2,    150.7,2,  1.5973,    150.2,2,   129.21,2,    35.93,2,     0.00,2,     2.48,2, -999.000,9, -999.000,9,   -999.0,9,  -999.00,9,   -999.0,9,   -999.0,9,   -999.0,9,     7.57,2, -999.00,  -999.0, -999.00,  -999.0
    31DSCG96_2,  P15S,   118,  1,    109,   1119,2,19960220,0503,-29.5028,-169.9975, 5127,   -999,   3188.0,   1.6963,  34.6844,2,  34.6834,2,    162.1,2,  1.4567,    160.7,2,   125.94,2,    35.06,2,     0.00,2,     2.41,2,    0.001,2,    0.002,2,   -999.0,9,  -999.00,9,   -999.0,9,   -999.0,9,   -999.0,9,     7.58,2, -999.00,  -999.0, -999.00,  -999.0
    31DSCG96_2,  P15S,   118,  1,    108,   1227,2,19960220,0503,-29.5028,-169.9975, 5127,   -999,   3438.3,   1.5930,  34.7037,2,  34.7029,2,    179.1,2,  1.3307,    177.2,2,   116.79,2,    33.54,2,     0.00,2,     2.31,2, -999.000,9, -999.000,9,   -999.0,9,  -999.00,9,   -999.0,9,   -999.0,9,   -999.0,9,     7.60,2, -999.00,  -999.0, -999.00,  -999.0
    31DSCG96_2,  P15S,   118,  1,    107,   1263,2,19960220,0503,-29.5028,-169.9975, 5127,   -999,   3688.2,   1.4667,  34.7184,2,  34.7195,2,    193.1,2,  1.1817,    192.2,2,   110.10,2,    32.27,2,     0.00,2,     2.21,2,    0.002,2,    0.004,2,   -999.0,9,  -999.00,9,   -999.0,9,   -999.0,9,   -999.0,9,     7.61,2, -999.00,  -999.0, -999.00,  -999.0
    31DSCG96_2,  P15S,   118,  1,    106,   1262,2,19960220,0503,-29.5028,-169.9975, 5127,   -999,   3940.6,   1.2677,  34.7189,2,  34.7189,2,    200.5,2,  0.9614,    200.0,2,   112.46,2,    32.02,2,     0.00,2,     2.18,2, -999.000,9, -999.000,9,   -999.0,9,  -999.00,9,   -999.0,9,   -999.0,9,   -999.0,9,     7.61,2, -999.00,  -999.0, -999.00,  -999.0
    31DSCG96_2,  P15S,   118,  1,    105,   1264,2,19960220,0503,-29.5028,-169.9975, 5127,   -999,   4187.4,   1.1247,  34.7147,2,  34.7147,2,    203.8,2,  0.7959,    203.7,2,   116.03,2,    32.13,2,     0.00,2,     2.19,2,    0.017,4,    0.032,4,   -999.0,9,  -999.00,9,   -999.0,9,   -999.0,9,   -999.0,9,     7.61,2, -999.00,  -999.0, -999.00,  -999.0
    31DSCG96_2,  P15S,   118,  1,    104,   1003,2,19960220,0503,-29.5028,-169.9975, 5127,   -999,   4439.2,   1.0478,  34.7112,2,  34.7118,2,    205.7,2,  0.6935,    205.4,2,   118.65,2,    32.18,2,     0.00,2,     2.19,2, -999.000,9, -999.000,9,   -999.0,9,  -999.00,9,   -999.0,9,   -999.0,9,   -999.0,9,     7.61,2, -999.00,  -999.0, -999.00,  -999.0
    31DSCG96_2,  P15S,   118,  1,    103,   1035,2,19960220,0503,-29.5028,-169.9975, 5127,   -999,   4694.6,   1.0206,  34.7090,2,  34.7087,2,    206.3,2,  0.6382,    206.2,2,   120.19,2,    32.22,2,     0.00,2,     2.20,2,    0.011,6,    0.007,6,   -999.0,9,  -999.00,9,   -999.0,9,   -999.0,9,   -999.0,9,     7.61,2, -999.00,  -999.0, -999.00,  -999.0
    31DSCG96_2,  P15S,   118,  1,    102,   1030,2,19960220,0503,-29.5028,-169.9975, 5127,   -999,   4933.0,   1.0230,  34.7079,2,  34.7075,2,    206.6,2,  0.6127,    206.8,2,   120.93,2,    32.26,2,     0.00,2,     2.20,2,    0.012,2,    0.006,2,   -999.0,9,  -999.00,9,   -999.0,9,   -999.0,9,   -999.0,9,     7.61,2, -999.00,  -999.0, -999.00,  -999.0
    31DSCG96_2,  P15S,   118,  1,    101,   1022,2,19960220,0503,-29.5028,-169.9975, 5127,   -999,   5187.3,   1.0424,  34.7073,2,  34.7078,2,    206.4,2,  0.6009,    206.7,6,   121.35,6,    32.29,6,     0.00,6,     2.21,6,    0.014,2,    0.008,2,   -999.0,9,  -999.00,9,   -999.0,9,   -999.0,9,   -999.0,9,     7.61,2, -999.00,  -999.0, -999.00,  -999.0