BOTTLE,20220811CCHSIOAMB
EXPOCODE,SECT_ID,STNNBR,CASTNO,SAMPNO,BTLNBR,BTLNBR_FLAG_W,DATE,TIME,LATITUDE,LONGITUDE,DEPTH,CTDRAW,CTDPRS,CTDTMP,CTDSAL,CTDSAL_FLAG_W,SALNTY,SALNTY_FLAG_W,CTDOXY,CTDOXY_FLAG_W,THETA,OXYGEN,OXYGEN_FLAG_W,SILCAT,SILCAT_FLAG_W,NITRAT,NITRAT_FLAG_W,NITRIT,NITRIT_FLAG_W,PHSPHT,PHSPHT_FLAG_W,CFC-11,CFC-11_FLAG_W,CFC-12,CFC-12_FLAG_W,DELC14,DELC14_FLAG_W,DELC13,DELC13_FLAG_W,TCARBN,TCARBN_FLAG_W,PCO2,PCO2_FLAG_W,ALKALI,ALKALI_FLAG_W,PH,PH_FLAG_W,PCO2TMP,C14ERR,PH_TMP,C13ERR
,,,,,,,,,,,,DBAR,DBAR,ITS-90,PSS-78,,PSS-78,,UMOL/KG,,DEG C,UMOL/KG,,UMOL/KG,,UMOL/KG,,UMOL/KG,,UMOL/KG,,PMOL/KG,,PMOL/KG,,/MILLE,,/MILLE,,UMOL/KG,,UATM,,UMOL/KG,,,,DEG C,/MILLE,DEG C,/MILLE
    31DSCG96_2,  P15S,   137,  1,    136,   1245,2,19960225,1354,-20.0003,-170.0020, 5294,   -999,      5.5,  28.7487,  34.7309,2,  34.7291,2,    202.5,2, 28.7474,    199.2,2,     1.15,2,     0.05,2,     0.00,2,     0.01,3,    1.603,2,    0.936,2,     86.9,2,     1.63,2,   1907.0,2,    217.7,2,   2279.3,2,     8.16,2, -999.00,     3.6, -999.00,  -999.0
    31DSCG96_2,  P15S,   137,  1,    135,   1113,2,19960225,1354,-20.0003,-170.0020, 5294,   -999,     30.3,  26.9941,  35.0233,2,  35.0087,2,    199.9,2, 26.9872,    208.8,2,     1.22,2,     0.05,2,     0.00,2,     0.02,3, -999.000,9, -999.000,9,     91.6,2,     1.47,2,   1934.1,2,    241.6,2,   2294.6,2,     8.14,2, -999.00,     3.6, -999.00,  -999.0
    31DSCG96_2,  P15S,   137,  1,    134,   1216,2,19960225,1354,-20.0003,-170.0020, 5294,   -999,     55.6,  25.0571,  35.4013,2,  35.3993,2,    212.4,2, 25.0450,    212.9,2,     1.10,2,     0.05,2,     0.00,2,     0.05,2,    1.892,2,    1.063,2,    108.7,2,     1.49,2,   1965.9,2,    253.8,2,   2322.5,2,     8.12,2, -999.00,     4.0, -999.00,  -999.0
    31DSCG96_2,  P15S,   137,  1,    133,   1221,2,19960225,1354,-20.0003,-170.0020, 5294,   -999,     81.3,  24.0967,  35.7306,2,  35.7351,2,    200.3,2, 24.0795,    194.8,2,     1.23,2,     0.03,2,     0.02,2,     0.15,2,    1.908,6,    1.064,6,     93.4,2,     1.37,2,   2006.5,2,    280.3,2,   2352.3,3,     8.09,2, -999.00,     3.6, -999.00,  -999.0
    31DSCG96_2,  P15S,   137,  1,    132,   1039,2,19960225,1354,-20.0003,-170.0020, 5294,   -999,    115.2,  22.6004,  35.7257,2,  35.7252,2,    188.0,2, 22.5771,    188.0,2,     1.23,2,     1.19,2,     0.05,2,     0.19,2,    1.988,2,    1.105,2,     97.8,2,     1.19,2,   2020.3,2,    313.2,2,   2344.5,2,     8.06,2, -999.00,     3.4, -999.00,  -999.0
    31DSCG96_2,  P15S,   137,  1,    131,   1014,2,19960225,1354,-20.0003,-170.0020, 5294,   -999,    165.9,  21.2523,  35.7597,2,  35.7766,2,    183.6,2, 21.2201,    187.9,2,     1.23,2,     1.80,2,     0.02,2,     0.23,2,    2.060,2,    1.127,2,     95.1,2,     1.19,2,   2038.2,2,    334.3,2,   2345.4,2,     8.03,2, -999.00,     3.3, -999.00,  -999.0
    31DSCG96_2,  P15S,   137,  1,    130,   1257,3,19960225,1354,-20.0003,-170.0020, 5294,   -999,    217.6,  20.1074,  35.7383,2,  35.7371,2,    184.0,2, 20.0668,   -999.0,9,     1.38,2,     3.19,2,     0.01,2,     0.33,2, -999.000,5, -999.000,5,     98.5,2,     1.10,2,   -999.0,9,   -999.0,9,   -999.0,9,  -999.00,9, -999.00,     4.0, -999.00,  -999.0
    31DSCG96_2,  P15S,   137,  1,    129,   1256,2,19960225,1354,-20.0003,-170.0020, 5294,   -999,    266.9,  18.5806,  35.6166,2,  35.6192,2,    185.3,2, 18.5335,    184.4,2,     1.70,2,     4.27,2,     0.01,2,     0.40,2,    2.059,2,    1.103,2,    114.8,2,     1.16,2,   2065.1,2,    396.3,2,   2338.1,2,     7.97,2, -999.00,     4.0, -999.00,  -999.0
    31DSCG96_2,  P15S,   137,  1,    128,   1007,2,19960225,1354,-20.0003,-170.0020, 5294,   -999,    326.1,  16.5908,  35.4012,2,  35.4025,2,    186.2,2, 16.5376,    186.0,2,     2.36,2,     6.02,2,     0.00,2,     0.52,2,    1.948,2,    1.031,2,     98.8,2,     1.12,2,   2077.6,2,    469.7,2,   2327.4,2,     7.93,2, -999.00,     3.2, -999.00,  -999.0
    31DSCG96_2,  P15S,   137,  1,    127,   1232,2,19960225,1354,-20.0003,-170.0020, 5294,   -999,    426.7,  11.8517,  34.8393,2,  34.8285,2,    171.5,2, 11.7960,    172.0,2,     6.87,2,    15.97,2,     0.00,2,     1.19,2,    1.172,2,    0.604,2,     53.1,2,     1.11,2,   2123.9,2,    650.4,2,   2300.5,2,     7.79,2, -999.00,     3.7, -999.00,  -999.0
    31DSCG96_2,  P15S,   137,  1,    126,   1025,2,19960225,1354,-20.0003,-170.0020, 5294,   -999,    525.3,   8.4726,  34.5194,2,  34.5178,2,    189.1,2,  8.4169,    184.6,2,    10.69,2,    22.48,2,     0.00,2,     1.59,2,    0.783,2,    0.399,2,   -999.0,5,     1.07,2,   2148.1,2,    790.3,2,   2287.0,2,     7.71,2, -999.00,  -999.0, -999.00,  -999.0
    31DSCG96_2,  P15S,   137,  1,    125,   1119,2,19960225,1354,-20.0003,-170.0020, 5294,   -999,    624.2,   6.8646,  34.4006,2,  34.4025,2,    192.2,2,  6.8055,    193.6,2,    14.87,2,    26.08,2,     0.00,2,     1.80,2,    0.445,2,    0.244,2,    -53.5,2,     1.10,2,   2161.0,2,    862.7,6,   2289.6,2,     7.68,2, -999.00,     3.3, -999.00,  -999.0
    31DSCG96_2,  P15S,   137,  1,    124,   1013,3,19960225,1354,-20.0003,-170.0020, 5294,   -999,    726.1,   5.8469,  34.3670,2,  34.3692,2,    198.0,2,  5.7833,   -999.0,9,    23.08,2,    29.28,2,     0.00,2,     2.01,2, -999.000,5, -999.000,5,    -85.0,2,     0.98,2,   -999.0,9,   -999.0,9,   -999.0,9,  -999.00,9, -999.00,     3.1, -999.00,  -999.0
    31DSCG96_2,  P15S,   137,  1,    123,   1250,2,19960225,1354,-20.0003,-170.0020, 5294,   -999,    823.9,   5.0159,  34.3762,2,  34.3757,2,    175.7,2,  4.9484,    174.5,6,    34.14,2,    31.92,2,     0.00,2,     2.19,2,    0.058,2,    0.038,2,   -127.9,2,     0.82,2,   2200.7,2,   1033.9,2,   2302.5,2,     7.61,2, -999.00,     3.2, -999.00,  -999.0
    31DSCG96_2,  P15S,   137,  1,    122,   1265,2,19960225,1354,-20.0003,-170.0020, 5294,   -999,    924.2,   4.4039,  34.3999,2,  34.3992,2,    168.7,2,  4.3318,    167.5,2,    45.29,2,    33.47,2,     0.00,2,     2.30,2,    0.022,2,    0.012,2,   -108.7,2,     0.78,2,   2214.1,2,   1085.9,2,   2315.5,2,     7.60,2, -999.00,     3.8, -999.00,  -999.0
    31DSCG96_2,  P15S,   137,  1,    121,   1246,2,19960225,1354,-20.0003,-170.0020, 5294,   -999,   1025.2,   3.8156,  34.4548,2,  34.4548,2,    154.9,2,  3.7394,    157.4,2,    61.09,2,    34.74,2,     0.00,2,     2.39,2,    0.003,6,    0.002,6,   -158.8,2,     0.53,2,   2238.3,2,   1148.3,2,   2340.4,3,     7.58,2, -999.00,     2.9, -999.00,  -999.0
    31DSCG96_2,  P15S,   137,  1,    120,   1015,2,19960225,1354,-20.0003,-170.0020, 5294,   -999,   1125.7,   3.3542,  34.4833,2,  34.4847,2,    154.2,2,  3.2736,    158.1,2,    70.56,2,    34.96,2,     0.00,2,     2.41,2,    0.000,2,    0.001,2,   -169.3,6,     0.53,6,   2250.1,2,   1165.6,2,   2346.0,2,     7.58,2, -999.00,     3.4, -999.00,  -999.0
    31DSCG96_2,  P15S,   137,  1,    119,   1247,2,19960225,1354,-20.0003,-170.0020, 5294,   -999,   1226.0,   3.0131,  34.5282,2,  34.5312,2,    153.0,2,  2.9276,    154.4,2,    82.67,2,    35.37,2,     0.00,2,     2.44,2,    0.000,2,    0.001,2,   -180.6,2,     0.40,2,   2262.7,2,   1199.7,2,   2355.3,2,     7.57,2, -999.00,     3.1, -999.00,  -999.0
    31DSCG96_2,  P15S,   137,  1,    118,   1299,2,19960225,1354,-20.0003,-170.0020, 5294,   -999,   1351.0,   2.7687,  34.5700,2,  34.5703,2,    146.6,2,  2.6755,    147.8,2,    94.86,2,    35.77,2,     0.00,2,     2.48,2, -999.000,9, -999.000,9,   -206.9,2,     0.36,2,   2279.1,2,   1203.6,2,   2373.8,2,     7.57,2, -999.00,     2.9, -999.00,  -999.0
    31DSCG96_2,  P15S,   137,  1,    117,   1267,2,19960225,1354,-20.0003,-170.0020, 5294,   -999,   1565.9,   2.5749,  34.5976,2,  34.5985,2,    143.4,2,  2.4665,    144.4,2,   104.89,2,    36.09,2,     0.00,2,     2.51,2,   -0.001,2,    0.001,2,   -189.8,2,     0.26,2,   2289.6,2,   1209.2,2,   2385.4,3,     7.56,2, -999.00,     2.9, -999.00,  -999.0
    31DSCG96_2,  P15S,   137,  1,    116,   1259,2,19960225,1354,-20.0003,-170.0020, 5294,   -999,   1812.7,   2.3381,  34.6199,2,  34.6203,2,    143.4,2,  2.2125,    144.4,2,   112.77,2,    36.09,2,     0.00,2,     2.51,2, -999.000,9, -999.000,9,   -186.6,2,     0.28,2,   2299.7,2,   1211.7,2,   2393.4,2,     7.57,2, -999.00,     3.6, -999.00,  -999.0
    31DSCG96_2,  P15S,   137,  1,    115,   1041,2,19960225,1354,-20.0003,-170.0020, 5294,   -999,   2068.8,   2.1542,  34.6356,2,  34.6355,2,    144.2,2,  2.0095,    145.1,6,   118.76,2,    36.22,2,     0.00,2,     2.51,2,   -0.001,2,    0.002,2,   -999.0,5,     0.24,2,   2304.9,2,   1204.2,2,   2399.5,2,     7.57,2, -999.00,  -999.0, -999.00,  -999.0
    31DSCG96_2,  P15S,   137,  1,    114,   1017,2,19960225,1354,-20.0003,-170.0020, 5294,   -999,   2315.9,   1.9763,  34.6508,2,  34.6519,2,    145.6,2,  1.8129,    145.5,2,   125.40,2,    36.31,2,     0.00,2,     2.52,2, -999.000,9, -999.000,9,   -999.0,5,     0.14,2,   2311.1,2,   1210.0,2,   2404.8,2,     7.57,2, -999.00,  -999.0, -999.00,  -999.0
    31DSCG96_2,  P15S,   137,  1,    113,   1302,2,19960225,1354,-20.0003,-170.0020, 5294,   -999,   2564.9,   1.8774,  34.6596,2,  34.6598,2,    145.9,2,  1.6935,    145.2,2,   129.58,2,    36.28,2,     0.00,2,     2.52,2,   -0.002,2,    0.000,2,   -205.7,2,     0.11,2,   2314.6,2,   1209.0,2,   2406.6,2,     7.57,2, -999.00,     3.3, -999.00,  -999.0
    31DSCG96_2,  P15S,   137,  1,    112,   1217,2,19960225,1354,-20.0003,-170.0020, 5294,   -999,   2809.9,   1.7934,  34.6664,2,  34.6668,2,    146.4,2,  1.5883,    146.3,2,   132.49,2,    36.24,2,     0.00,2,     2.51,2, -999.000,9, -999.000,9,   -229.1,2,     0.15,2,   2316.7,2,   1202.8,2,   2411.4,2,     7.57,2, -999.00,     2.9, -999.00,  -999.0
    31DSCG96_2,  P15S,   137,  1,    111,   1226,2,19960225,1354,-20.0003,-170.0020, 5294,   -999,   3065.4,   1.7094,  34.6727,2,  34.6742,2,    148.4,2,  1.4817,    149.3,2,   134.61,2,    36.15,2,     0.00,2,     2.50,2,    0.001,2,    0.001,2,   -999.0,5,     0.16,2,   2317.0,2,   1202.0,2,   2409.7,2,     7.58,2, -999.00,  -999.0, -999.00,  -999.0
    31DSCG96_2,  P15S,   137,  1,    110,   1301,2,19960225,1354,-20.0003,-170.0020, 5294,   -999,   3313.8,   1.6217,  34.6801,2,  34.6804,2,    153.5,2,  1.3713,    155.3,2,   133.46,2,    35.64,2,     0.00,2,     2.46,2,    0.000,2,    0.001,2,   -203.0,2,     0.19,2,   2312.8,2,   1195.0,2,   2406.4,2,     7.58,2, -999.00,     2.9, -999.00,  -999.0
    31DSCG96_2,  P15S,   137,  1,    109,   1233,2,19960225,1354,-20.0003,-170.0020, 5294,   -999,   3562.7,   1.5084,  34.6928,2,  34.6939,2,    166.7,2,  1.2355,    169.8,6,   126.92,2,    34.42,2,     0.00,2,     2.38,2,    0.003,2,    0.003,2,   -185.0,2,     0.25,2,   2293.5,2,   1124.1,2,   2393.1,2,     7.59,2, -999.00,     3.0, -999.00,  -999.0
    31DSCG96_2,  P15S,   137,  1,    108,   1227,2,19960225,1354,-20.0003,-170.0020, 5294,   -999,   3813.1,   1.3691,  34.7127,2,  34.7119,2,    187.0,2,  1.0736,    190.7,2,   115.81,2,    32.69,2,     0.00,2,     2.24,2,    0.003,2,    0.002,2,   -171.5,2,     0.40,2,   2267.7,2,   1078.5,2,   2374.9,2,     7.61,2, -999.00,     2.9, -999.00,  -999.0
    31DSCG96_2,  P15S,   137,  1,    107,   1263,2,19960225,1354,-20.0003,-170.0020, 5294,   -999,   4065.0,   1.2265,  34.7168,2,  34.7181,2,    200.1,2,  0.9080,    200.7,2,   114.25,2,    32.14,2,     0.00,2,     2.19,2,    0.006,2,    0.007,2,   -176.7,2,     0.45,2,   2256.9,2,   1056.3,2,   2369.0,2,     7.61,2, -999.00,     3.0, -999.00,  -999.0
    31DSCG96_2,  P15S,   137,  1,    106,   1262,2,19960225,1354,-20.0003,-170.0020, 5294,   -999,   4316.2,   1.1058,  34.7136,2,  34.7148,2,    204.0,2,  0.7634,    204.3,2,   117.16,2,    32.16,2,     0.00,2,     2.20,2,    0.007,2,    0.003,2,   -194.7,2,     0.37,3,   2257.2,2,   1052.4,2,   2367.2,2,     7.61,2, -999.00,     4.3, -999.00,  -999.0
    31DSCG96_2,  P15S,   137,  1,    105,   1264,2,19960225,1354,-20.0003,-170.0020, 5294,   -999,   4564.4,   1.0473,  34.7109,2,  34.7117,2,    205.7,2,  0.6788,    205.7,2,   119.18,2,    32.23,2,     0.00,2,     2.20,2,    0.009,2,    0.007,2,   -150.0,2,     0.44,2,   2258.0,2,   1054.8,2,   2369.8,2,     7.61,2, -999.00,     3.8, -999.00,  -999.0
    31DSCG96_2,  P15S,   137,  1,    104,   1003,2,19960225,1354,-20.0003,-170.0020, 5294,   -999,   4814.1,   1.0272,  34.7091,2,  34.7096,2,    206.4,2,  0.6307,    206.1,2,   120.57,2,    32.32,2,     0.00,2,     2.20,2,    0.009,2,    0.005,2,   -999.0,9,  -999.00,5,   2257.7,2,   1058.0,2,   2366.0,2,     7.61,2, -999.00,  -999.0, -999.00,  -999.0
    31DSCG96_2,  P15S,   137,  1,    103,   1035,2,19960225,1354,-20.0003,-170.0020, 5294,   -999,   5062.9,   1.0412,  34.7082,2,  34.7088,2,    206.8,2,  0.6148,    206.6,6,   121.17,2,    32.32,2,     0.00,2,     2.20,2,    0.006,2,    0.004,2,   -138.5,2,     0.42,2,   2258.7,2,   1054.4,2,   2366.6,2,     7.61,2, -999.00,     3.0, -999.00,  -999.0
    31DSCG96_2,  P15S,   137,  1,    102,   1030,2,19960225,1354,-20.0003,-170.0020, 5294,   -999,   5315.1,   1.0644,  34.7077,2,  34.7079,2,    206.9,2,  0.6065,    206.4,2,   121.41,6,    32.28,6,     0.00,6,     2.21,2,    0.008,2,    0.005,2,   -145.5,2,     0.46,2,   2257.4,2,   1065.1,2,   2371.9,3,     7.61,2, -999.00,     3.6, -999.00,  -999.0
    31DSCG96_2,  P15S,   137,  1,    101,   1022,2,19960225,1354,-20.0003,-170.0020, 5294,   -999,   5426.8,   1.0777,  34.7075,2,  34.7073,2,    207.0,2,  0.6055,    206.7,2,   121.55,2,    32.32,2,     0.00,2,     2.21,2,    0.011,6,    0.007,6,   -166.9,2,     0.48,2,   2259.9,2,   1075.8,2,   2370.0,2,     7.61,2, -999.00,     3.8, -999.00,  -999.0