BOTTLE,20220811CCHSIOAMB
EXPOCODE,SECT_ID,STNNBR,CASTNO,SAMPNO,BTLNBR,BTLNBR_FLAG_W,DATE,TIME,LATITUDE,LONGITUDE,DEPTH,CTDRAW,CTDPRS,CTDTMP,CTDSAL,CTDSAL_FLAG_W,SALNTY,SALNTY_FLAG_W,CTDOXY,CTDOXY_FLAG_W,THETA,OXYGEN,OXYGEN_FLAG_W,SILCAT,SILCAT_FLAG_W,NITRAT,NITRAT_FLAG_W,NITRIT,NITRIT_FLAG_W,PHSPHT,PHSPHT_FLAG_W,CFC-11,CFC-11_FLAG_W,CFC-12,CFC-12_FLAG_W,DELC14,DELC14_FLAG_W,DELC13,DELC13_FLAG_W,TCARBN,TCARBN_FLAG_W,PCO2,PCO2_FLAG_W,ALKALI,ALKALI_FLAG_W,PH,PH_FLAG_W,PCO2TMP,C14ERR,PH_TMP,C13ERR
,,,,,,,,,,,,DBAR,DBAR,ITS-90,PSS-78,,PSS-78,,UMOL/KG,,DEG C,UMOL/KG,,UMOL/KG,,UMOL/KG,,UMOL/KG,,UMOL/KG,,PMOL/KG,,PMOL/KG,,/MILLE,,/MILLE,,UMOL/KG,,UATM,,UMOL/KG,,,,DEG C,/MILLE,DEG C,/MILLE
    31DSCG96_2,  P15S,   169,  2,    236,   1245,2,19960304,1441, -5.0007,-168.7492, 5534,   -999,      5.3,  27.8216,  35.7176,2,  35.7161,2,    202.3,2, 27.8203,    197.9,2,     1.87,2,     2.71,2,     0.10,2,     0.38,2,    1.672,2,    0.938,2,     53.3,2,     1.56,2,   2012.3,2,    291.4,2,   2349.8,2,     8.08,2, -999.00,     3.2, -999.00,  -999.0
    31DSCG96_2,  P15S,   169,  2,    235,   1113,2,19960304,1441, -5.0007,-168.7492, 5534,   -999,     29.7,  27.7526,  35.7012,2,  35.7000,2,    199.7,2, 27.7456,    198.2,2,     2.03,2,     2.74,2,     0.10,2,     0.38,2,    1.680,6,    0.942,6,     50.0,2,     1.55,2,   2013.6,2,    290.2,2,   2352.2,2,     8.08,2, -999.00,     3.7, -999.00,  -999.0
    31DSCG96_2,  P15S,   169,  2,    234,   1267,2,19960304,1441, -5.0007,-168.7492, 5534,   -999,     56.0,  27.5987,  35.6681,2,  35.6703,2,    199.2,2, 27.5856,    199.1,2,     2.04,2,     2.98,2,     0.11,2,     0.40,2,    1.656,2,    0.921,2,     61.1,2,     1.51,2,   2016.0,2,    298.1,2,   2343.3,3,     8.07,2, -999.00,     3.3, -999.00,  -999.0
    31DSCG96_2,  P15S,   169,  2,    233,   1021,2,19960304,1441, -5.0007,-168.7492, 5534,   -999,     81.1,  27.5520,  35.6621,2,  35.6632,2,    198.5,2, 27.5331,    198.3,2,     2.04,2,     3.13,2,     0.12,2,     0.41,2,    1.663,2,    0.923,2,     56.8,2,     1.48,2,   2018.2,2,    302.2,2,   2346.7,2,     8.07,2, -999.00,     2.9, -999.00,  -999.0
    31DSCG96_2,  P15S,   169,  2,    232,   1039,2,19960304,1441, -5.0007,-168.7492, 5534,   -999,    115.0,  27.4300,  35.6273,2,  35.6313,2,    198.9,2, 27.4033,    199.1,2,     2.17,2,     3.29,2,     0.15,2,     0.43,2,    1.710,2,    0.955,2,     73.1,2,     1.49,6,   2015.4,2,    300.7,3,   2345.4,2,     8.07,2, -999.00,     3.4, -999.00,  -999.0
    31DSCG96_2,  P15S,   169,  2,    231,   1014,2,19960304,1441, -5.0007,-168.7492, 5534,   -999,    168.9,  26.6166,  35.7723,2,  35.7536,2,    155.3,2, 26.5782,    174.0,2,     2.31,2,     3.55,2,     1.63,2,     0.55,2,    1.726,2,    0.976,2,     77.7,2,     1.29,2,   2039.8,2,    330.8,2,   2352.4,2,     8.04,2, -999.00,     3.8, -999.00,  -999.0
    31DSCG96_2,  P15S,   169,  2,    230,   1257,2,19960304,1441, -5.0007,-168.7492, 5534,   -999,    217.0,  21.1080,  35.8350,2,  35.8569,2,    118.7,2, 21.0661,    139.6,2,     3.42,2,     8.92,2,     0.03,2,     0.84,2,    1.903,2,    1.021,2,     78.1,2,     1.13,2,   2115.3,2,    461.6,2,   2361.7,2,     7.92,2, -999.00,     3.8, -999.00,  -999.0
    31DSCG96_2,  P15S,   169,  2,    229,   1256,2,19960304,1441, -5.0007,-168.7492, 5534,   -999,    264.5,  14.6128,  35.1337,2,  35.1348,2,     75.9,2, 14.5733,     83.7,2,    12.72,2,    21.03,2,     0.01,2,     1.63,2,    1.084,2,    0.572,2,     27.9,2,     0.64,2,   2178.5,2,    821.4,2,   2318.8,2,     7.70,2, -999.00,     3.1, -999.00,  -999.0
    31DSCG96_2,  P15S,   169,  2,    228,   1230,2,19960304,1441, -5.0007,-168.7492, 5534,   -999,    328.0,  11.5194,  34.8625,2,  34.8559,2,     64.0,2, 11.4776,     65.5,2,    21.79,2,    28.46,2,     0.00,2,     2.04,2,    0.408,2,    0.192,2,    -17.5,2,    -1.10,4,   2209.9,2,   1119.6,2,   2313.5,3,     7.59,2, -999.00,     3.5, -999.00,  -999.0
    31DSCG96_2,  P15S,   169,  2,    227,   1232,2,19960304,1441, -5.0007,-168.7492, 5534,   -999,    431.9,   9.3436,  34.7039,2,  34.7061,2,     70.8,2,  9.2951,     67.7,2,    28.85,2,    32.49,2,     0.01,2,     2.28,2,    0.142,2,    0.076,2,    -56.3,2,     0.45,2,   2228.6,2,   1258.1,2,   2305.0,2,     7.54,2, -999.00,     2.9, -999.00,  -999.0
    31DSCG96_2,  P15S,   169,  2,    226,   1025,2,19960304,1441, -5.0007,-168.7492, 5534,   -999,    517.1,   8.3047,  34.6404,2,  34.6389,2,     65.3,2,  8.2504,     62.5,2,    34.67,2,    35.56,2,     0.00,2,     2.46,2,    0.056,6,    0.030,6,    -94.0,2,     0.39,2,   2243.6,2,   1392.7,2,   2305.7,2,     7.50,2, -999.00,     2.5, -999.00,  -999.0
    31DSCG96_2,  P15S,   169,  2,    225,   1119,2,19960304,1441, -5.0007,-168.7492, 5534,   -999,    630.7,   7.1871,  34.5844,2,  34.5862,2,     71.0,2,  7.1256,     68.9,6,    41.12,2,    37.29,2,     0.00,2,     2.58,2,    0.020,2,    0.009,2,   -109.2,2,     0.37,2,   2251.1,2,   1434.5,2,   2313.2,2,     7.49,2, -999.00,     2.8, -999.00,  -999.0
    31DSCG96_2,  P15S,   169,  2,    224,   1244,2,19960304,1441, -5.0007,-168.7492, 5534,   -999,    719.1,   6.2423,  34.5523,2,  34.5517,2,     75.8,2,  6.1769,     74.1,2,    51.26,2,    38.92,2,     0.00,2,     2.70,2,    0.005,2,    0.002,2,   -129.6,2,     0.34,2,   2262.9,2,   1480.8,2,   2318.5,2,     7.48,2, -999.00,     3.0, -999.00,  -999.0
    31DSCG96_2,  P15S,   169,  2,    223,   1250,2,19960304,1441, -5.0007,-168.7492, 5534,   -999,    822.4,   5.4755,  34.5385,2,  34.5386,2,     82.4,2,  5.4050,     81.1,2,    61.54,2,    39.47,2,     0.00,2,     2.75,2,    0.002,2,    0.001,2,   -145.0,2,     0.32,2,   2272.7,2,   1477.6,2,   2326.7,2,     7.48,2, -999.00,     2.8, -999.00,  -999.0
    31DSCG96_2,  P15S,   169,  2,    222,   1265,2,19960304,1441, -5.0007,-168.7492, 5534,   -999,    930.7,   4.7164,  34.5410,2,  34.5390,2,     92.8,2,  4.6412,     92.5,2,    74.14,2,    39.07,2,     0.00,2,     2.74,2,    0.001,2,    0.001,2,   -180.3,2,     0.29,2,   2281.9,2,   1446.1,2,   2341.1,2,     7.49,2, -999.00,     2.7, -999.00,  -999.0
    31DSCG96_2,  P15S,   169,  2,    221,   1246,2,19960304,1441, -5.0007,-168.7492, 5534,   -999,   1022.1,   4.4004,  34.5470,2,  34.5458,2,     96.4,2,  4.3197,     95.5,2,    80.76,2,    39.00,2,     0.00,2,     2.75,2,    0.000,2,    0.001,2,   -187.1,2,     0.27,2,   2287.7,2,   1426.9,2,   2352.5,2,     7.50,2, -999.00,     2.7, -999.00,  -999.0
    31DSCG96_2,  P15S,   169,  2,    220,   1015,2,19960304,1441, -5.0007,-168.7492, 5534,   -999,   1137.9,   3.9071,  34.5597,2,  34.5589,2,    102.5,2,  3.8205,    101.3,6,    91.05,2,    38.75,2,     0.00,2,     2.74,2, -999.000,9, -999.000,9,   -184.5,2,     0.25,2,   2296.9,2,   1410.2,2,   2363.5,2,     7.50,2, -999.00,     3.1, -999.00,  -999.0
    31DSCG96_2,  P15S,   169,  2,    219,   1247,2,19960304,1441, -5.0007,-168.7492, 5534,   -999,   1316.4,   3.3586,  34.5797,2,  34.5799,2,    108.8,2,  3.2621,    108.4,2,   102.86,2,    38.47,2,     0.00,2,     2.71,2,    0.001,2,    0.001,2,   -999.0,5,     0.19,2,   2307.9,2,   1412.9,2,   2382.9,2,     7.51,2, -999.00,  -999.0, -999.00,  -999.0
    31DSCG96_2,  P15S,   169,  2,    218,   1299,2,19960304,1441, -5.0007,-168.7492, 5534,   -999,   1565.8,   2.8047,  34.6088,2,  34.6091,2,    110.3,2,  2.6936,    107.5,2,   119.27,2,    38.86,2,     0.00,2,     2.73,2, -999.000,9, -999.000,9,   -999.0,9,  -999.00,9,   2326.3,2,   1408.6,2,   2394.2,2,     7.51,4, -999.00,  -999.0, -999.00,  -999.0
    31DSCG96_2,  P15S,   169,  2,    217,   1263,2,19960304,1441, -5.0007,-168.7492, 5534,   -999,   1816.3,   2.3923,  34.6293,2,  34.6284,2,    118.6,2,  2.2655,    119.2,2,   127.16,2,    38.10,2,     0.00,2,     2.66,2,    0.000,2,    0.001,2,   -999.0,9,  -999.00,9,   2327.2,2,   1330.8,2,   2403.8,2,     7.53,2, -999.00,  -999.0, -999.00,  -999.0
    31DSCG96_2,  P15S,   169,  2,    216,   1259,2,19960304,1441, -5.0007,-168.7492, 5534,   -999,   2068.0,   2.1409,  34.6439,2,  34.6436,2,    123.1,2,  1.9965,    123.9,2,   133.22,2,    37.84,2,     0.00,2,     2.64,2, -999.000,9, -999.000,9,   -999.0,9,  -999.00,9,   2331.5,2,   1314.9,2,   2411.0,2,     7.54,2, -999.00,  -999.0, -999.00,  -999.0
    31DSCG96_2,  P15S,   169,  2,    215,   1264,2,19960304,1441, -5.0007,-168.7492, 5534,   -999,   2316.4,   1.9636,  34.6555,2,  34.6550,2,    126.1,2,  1.8004,    128.2,2,   137.55,2,    37.68,2,     0.00,2,     2.61,2,   -0.001,2,    0.000,2,   -999.0,9,  -999.00,9,   2331.9,2,   1282.0,2,   2402.5,3,     7.55,2, -999.00,  -999.0, -999.00,  -999.0
    31DSCG96_2,  P15S,   169,  2,    214,   1017,2,19960304,1441, -5.0007,-168.7492, 5534,   -999,   2566.4,   1.8531,  34.6630,2,  34.6626,2,    131.8,2,  1.6694,    132.5,2,   139.56,2,    37.40,2,     0.00,2,     2.59,2, -999.000,9, -999.000,9,   -999.0,9,  -999.00,9,   2331.8,2,   1270.1,2,   2418.3,2,     7.55,2, -999.00,  -999.0, -999.00,  -999.0
    31DSCG96_2,  P15S,   169,  2,    213,   1035,2,19960304,1441, -5.0007,-168.7492, 5534,   -999,   2815.8,   1.7199,  34.6718,2,  34.6717,2,    140.6,2,  1.5158,    140.8,2,   140.09,2,    36.71,2,     0.00,2,     2.54,2,    0.001,2,    0.000,2,   -999.0,9,  -999.00,9,   2328.6,2,   1229.0,2,   2422.8,2,     7.57,3, -999.00,  -999.0, -999.00,  -999.0
    31DSCG96_2,  P15S,   169,  2,    212,   1217,2,19960304,1441, -5.0007,-168.7492, 5534,   -999,   3065.1,   1.6221,  34.6777,2,  34.6783,2,    146.8,2,  1.3963,    146.8,2,   140.29,2,    36.44,2,     0.00,2,     2.50,2, -999.000,9, -999.000,9,   -999.0,9,  -999.00,9,   2321.2,2,   1210.1,2,   2417.6,2,     7.58,2, -999.00,  -999.0, -999.00,  -999.0
    31DSCG96_2,  P15S,   169,  2,    211,   1226,2,19960304,1441, -5.0007,-168.7492, 5534,   -999,   3314.1,   1.5454,  34.6827,2,  34.6833,2,    152.9,2,  1.2969,    153.1,2,   139.51,2,    36.03,2,     0.00,2,     2.47,2,   -0.001,2,    0.000,2,   -999.0,9,  -999.00,9,   2319.3,2,   1188.5,2,   2421.3,2,     7.58,2, -999.00,  -999.0, -999.00,  -999.0
    31DSCG96_2,  P15S,   169,  2,    210,   1301,2,19960304,1441, -5.0007,-168.7492, 5534,   -999,   3565.0,   1.4964,  34.6864,2,  34.6862,2,    157.0,2,  1.2236,    157.6,6,   139.55,2,    35.77,2,     0.00,2,     2.45,2, -999.000,9, -999.000,9,   -999.0,9,  -999.00,9,   2317.4,2,   1152.0,2,   2417.3,2,     7.59,2, -999.00,  -999.0, -999.00,  -999.0
    31DSCG96_2,  P15S,   169,  2,    209,   1027,2,19960304,1441, -5.0007,-168.7492, 5534,   -999,   3815.4,   1.4426,  34.6905,2,  34.6907,2,    162.1,2,  1.1450,    162.1,2,   139.49,2,    35.42,2,     0.00,2,     2.42,2,    0.004,3,    0.013,4,   -999.0,9,  -999.00,9,   2313.7,2,   1144.5,2,   2416.8,2,     7.60,2, -999.00,  -999.0, -999.00,  -999.0
    31DSCG96_2,  P15S,   169,  2,    208,   1227,2,19960304,1441, -5.0007,-168.7492, 5534,   -999,   4061.1,   1.4004,  34.6937,2,  34.6952,2,    168.0,2,  1.0776,    167.7,2,   137.09,2,    35.00,2,     0.00,2,     2.39,2,   -0.002,2,    0.000,2,   -999.0,9,  -999.00,9,   2308.6,2,   1126.3,2,   2414.4,2,     7.60,2, -999.00,  -999.0, -999.00,  -999.0
    31DSCG96_2,  P15S,   169,  2,    207,   1242,2,19960304,1441, -5.0007,-168.7492, 5534,   -999,   4307.3,   1.3554,  34.6971,2,  34.6994,2,    174.2,2,  1.0066,    174.6,2,   134.04,2,    34.50,2,     0.00,2,     2.35,2,   -0.001,2,    0.000,2,   -999.0,9,  -999.00,9,   2301.5,2,   1104.4,2,   2406.6,2,     7.61,2, -999.00,  -999.0, -999.00,  -999.0
    31DSCG96_2,  P15S,   169,  2,    206,   1262,2,19960304,1441, -5.0007,-168.7492, 5534,   -999,   4561.6,   1.2917,  34.7012,2,  34.7012,2,    184.1,2,  0.9160,    184.3,2,   129.42,2,    33.81,2,     0.00,2,     2.30,2,    0.001,2,    0.000,2,   -999.0,9,  -999.00,9,   2289.2,2,   1098.8,2,   2396.1,2,     7.61,2, -999.00,  -999.0, -999.00,  -999.0
    31DSCG96_2,  P15S,   169,  2,    205,   1041,2,19960304,1441, -5.0007,-168.7492, 5534,   -999,   4815.5,   1.2264,  34.7044,2,  34.7052,2,    193.3,2,  0.8232,    192.9,2,   124.91,2,    33.16,2,     0.00,2,     2.26,2,    0.002,2,    0.001,2,   -999.0,9,  -999.00,9,   2277.0,2,   1093.2,2,   2384.9,2,     7.61,2, -999.00,  -999.0, -999.00,  -999.0
    31DSCG96_2,  P15S,   169,  2,    204,   1003,2,19960304,1441, -5.0007,-168.7492, 5534,   -999,   5063.6,   1.1927,  34.7067,2,  34.7072,2,    199.2,2,  0.7610,    198.4,2,   122.42,2,    32.77,2,     0.00,2,     2.23,2,    0.004,2,    0.001,2,   -999.0,9,  -999.00,9,   2269.6,2,   1086.2,2,   2376.9,2,     7.61,2, -999.00,  -999.0, -999.00,  -999.0
    31DSCG96_2,  P15S,   169,  2,    203,   1302,2,19960304,1441, -5.0007,-168.7492, 5534,   -999,   5323.2,   1.2081,  34.7075,2,  34.7076,2,    201.2,2,  0.7441,    200.3,2,   121.57,2,    32.60,2,     0.00,2,     2.22,2,    0.003,2,    0.001,2,   -999.0,9,  -999.00,9,   2267.6,2,   1083.2,2,   2376.3,2,     7.61,2, -999.00,  -999.0, -999.00,  -999.0
    31DSCG96_2,  P15S,   169,  2,    202,   1030,2,19960304,1441, -5.0007,-168.7492, 5534,   -999,   5598.3,   1.2377,  34.7071,2,  34.7078,2,    202.1,2,  0.7380,    200.2,2,   121.71,2,    32.58,2,     0.00,2,     2.22,2,    0.003,2,    0.003,2,   -999.0,9,  -999.00,9,   2268.4,2,   1084.2,2,   2374.7,2,     7.61,2, -999.00,  -999.0, -999.00,  -999.0
    31DSCG96_2,  P15S,   169,  2,    201,   1022,2,19960304,1441, -5.0007,-168.7492, 5534,   -999,   5662.8,   1.2439,  34.7068,2,  34.7079,2,    201.7,2,  0.7357,    200.1,2,   122.03,6,    32.62,6,     0.00,6,     2.23,6,    0.004,6,    0.002,6,   -999.0,9,  -999.00,9,   2269.0,2,   1097.4,2,   2377.3,2,     7.61,2, -999.00,  -999.0, -999.00,  -999.0