BOTTLE,20220811CCHSIOAMB
EXPOCODE,SECT_ID,STNNBR,CASTNO,SAMPNO,BTLNBR,BTLNBR_FLAG_W,DATE,TIME,LATITUDE,LONGITUDE,DEPTH,CTDRAW,CTDPRS,CTDTMP,CTDSAL,CTDSAL_FLAG_W,SALNTY,SALNTY_FLAG_W,CTDOXY,CTDOXY_FLAG_W,THETA,OXYGEN,OXYGEN_FLAG_W,SILCAT,SILCAT_FLAG_W,NITRAT,NITRAT_FLAG_W,NITRIT,NITRIT_FLAG_W,PHSPHT,PHSPHT_FLAG_W,CFC-11,CFC-11_FLAG_W,CFC-12,CFC-12_FLAG_W,DELC14,DELC14_FLAG_W,DELC13,DELC13_FLAG_W,TCARBN,TCARBN_FLAG_W,PCO2,PCO2_FLAG_W,ALKALI,ALKALI_FLAG_W,PH,PH_FLAG_W,PCO2TMP,C14ERR,PH_TMP,C13ERR
,,,,,,,,,,,,DBAR,DBAR,ITS-90,PSS-78,,PSS-78,,UMOL/KG,,DEG C,UMOL/KG,,UMOL/KG,,UMOL/KG,,UMOL/KG,,UMOL/KG,,PMOL/KG,,PMOL/KG,,/MILLE,,/MILLE,,UMOL/KG,,UATM,,UMOL/KG,,,,DEG C,/MILLE,DEG C,/MILLE
    31DSCG96_1,  P14S,     7,  1,    127,   1234,2,19960109,1022,-54.1695, 171.1808, 1370,   -999,      8.4,   7.3430,  34.1401,2,  34.1480,3,    301.7,2,  7.3422,    298.4,2,     3.36,2,    18.71,2,     0.19,2,     1.28,2, -999.000,9, -999.000,9,   -999.0,9,  -999.00,9,   2101.4,2,   -999.0,9,   -999.0,9,     7.82,2, -999.00,  -999.0, -999.00,  -999.0
    31DSCG96_1,  P14S,     7,  1,    126,   1025,2,19960109,1022,-54.1695, 171.1808, 1370,   -999,      8.6,   7.3501,  34.1399,2,  34.1409,2,    300.1,2,  7.3493,    298.6,2,     3.35,2,    18.76,2,     0.19,2,     1.28,2,    4.479,2,    2.296,2,   -999.0,9,  -999.00,9,   2103.6,2,   -999.0,9,   -999.0,9,     7.82,2, -999.00,  -999.0, -999.00,  -999.0
    31DSCG96_1,  P14S,     7,  1,    125,   1233,2,19960109,1022,-54.1695, 171.1808, 1370,   -999,     27.9,   7.2236,  34.1441,2,  34.1461,2,    299.6,2,  7.2210,    298.5,2,     3.46,2,    18.67,2,     0.18,2,     1.28,2, -999.000,9, -999.000,9,   -999.0,9,  -999.00,9,   -999.0,9,   -999.0,9,   -999.0,9,     7.82,2, -999.00,  -999.0, -999.00,  -999.0
    31DSCG96_1,  P14S,     7,  1,    124,   1218,2,19960109,1022,-54.1695, 171.1808, 1370,   -999,     53.8,   7.1232,  34.1388,2,  34.1387,2,    297.5,2,  7.1182,    298.9,2,     3.74,2,    18.90,2,     0.18,2,     1.29,2, -999.000,9, -999.000,9,   -999.0,9,  -999.00,9,   2101.7,2,    608.0,2,   -999.0,9,     7.82,2, -999.00,  -999.0, -999.00,  -999.0
    31DSCG96_1,  P14S,     7,  1,    123,   1250,2,19960109,1022,-54.1695, 171.1808, 1370,   -999,     79.6,   7.3959,  34.2386,2,  34.2871,3,    295.7,2,  7.3884,    293.4,2,     4.16,2,    17.41,2,     0.22,2,     1.23,2, -999.000,9, -999.000,9,   -999.0,9,  -999.00,9,   -999.0,9,   -999.0,9,   -999.0,9,     7.82,3, -999.00,  -999.0, -999.00,  -999.0
    31DSCG96_1,  P14S,     7,  1,    122,   1109,2,19960109,1022,-54.1695, 171.1808, 1370,   -999,    104.8,   7.0697,  34.2838,2,  34.2825,2,    288.7,2,  7.0600,    291.0,2,     4.91,2,    18.07,2,     0.28,2,     1.28,2, -999.000,9, -999.000,9,   -999.0,9,  -999.00,9,   2109.0,2,   -999.0,9,   -999.0,9,     7.81,2, -999.00,  -999.0, -999.00,  -999.0
    31DSCG96_1,  P14S,     7,  1,    121,   1246,2,19960109,1022,-54.1695, 171.1808, 1370,   -999,    129.3,   7.0518,  34.2944,2,  34.2946,2,    288.9,2,  7.0398,    288.6,2,     5.12,2,    18.27,2,     0.36,2,     1.28,2,    4.350,2,    2.217,2,   -999.0,9,  -999.00,9,   -999.0,9,   -999.0,9,   -999.0,9,     7.80,2, -999.00,  -999.0, -999.00,  -999.0
    31DSCG96_1,  P14S,     7,  1,    120,   1209,2,19960109,1022,-54.1695, 171.1808, 1370,   -999,    154.8,   6.9058,  34.2809,2,  34.2806,2,    287.7,2,  6.8916,    288.1,2,     5.27,2,    18.85,2,     0.34,2,     1.30,2, -999.000,9, -999.000,9,   -999.0,9,  -999.00,9,   2111.6,2,    638.6,2,   -999.0,9,  -999.00,9, -999.00,  -999.0, -999.00,  -999.0
    31DSCG96_1,  P14S,     7,  1,    119,   1247,2,19960109,1022,-54.1695, 171.1808, 1370,   -999,    181.1,   6.8907,  34.2899,2,  34.2930,2,    286.1,2,  6.8741,    286.2,2,     5.26,2,    19.22,2,     0.04,2,     1.30,2, -999.000,9, -999.000,9,   -999.0,9,  -999.00,9,   -999.0,9,   -999.0,9,   -999.0,9,     7.80,2, -999.00,  -999.0, -999.00,  -999.0
    31DSCG96_1,  P14S,     7,  1,    118,   1222,2,19960109,1022,-54.1695, 171.1808, 1370,   -999,    205.0,   6.9959,  34.3198,2,  34.3182,2,    284.5,2,  6.9769,    282.0,2,     5.41,2,    19.14,2,     0.00,2,     1.30,2, -999.000,9, -999.000,9,   -999.0,9,  -999.00,9,   2113.8,2,   -999.0,9,   -999.0,9,     7.80,2, -999.00,  -999.0, -999.00,  -999.0
    31DSCG96_1,  P14S,     7,  1,    117,   1104,2,19960109,1022,-54.1695, 171.1808, 1370,   -999,    229.9,   7.0028,  34.3230,2,  34.3239,2,    282.7,2,  6.9814,    281.7,2,     5.62,2,    19.19,2,     0.00,2,     1.31,2, -999.000,9, -999.000,9,   -999.0,9,  -999.00,9,   -999.0,9,   -999.0,9,   -999.0,9,     7.80,2, -999.00,  -999.0, -999.00,  -999.0
    31DSCG96_1,  P14S,     7,  1,    116,   1211,2,19960109,1022,-54.1695, 171.1808, 1370,   -999,    265.6,   6.8006,  34.2955,2,  34.2950,2,    275.6,2,  6.7763,    281.8,2,     5.85,2,    19.74,2,     0.00,2,     1.34,2, -999.000,5, -999.000,5,   -999.0,9,  -999.00,9,   2115.3,2,   -999.0,9,   -999.0,9,     7.79,2, -999.00,  -999.0, -999.00,  -999.0
    31DSCG96_1,  P14S,     7,  1,    115,   1041,2,19960109,1022,-54.1695, 171.1808, 1370,   -999,    315.0,   6.8802,  34.3435,2,  34.3422,2,    269.4,2,  6.8510,    268.8,2,     7.58,2,    20.47,2,     0.00,2,     1.38,2, -999.000,9, -999.000,9,   -999.0,9,  -999.00,9,   2124.6,2,   -999.0,9,   -999.0,9,     7.78,2, -999.00,  -999.0, -999.00,  -999.0
    31DSCG96_1,  P14S,     7,  1,    114,   1017,2,19960109,1022,-54.1695, 171.1808, 1370,   -999,    364.9,   6.7686,  34.3485,2,  34.3505,2,    261.5,2,  6.7350,    260.5,2,     8.95,2,    21.37,2,     0.00,2,     1.44,2, -999.000,9, -999.000,9,   -999.0,9,  -999.00,9,   2128.0,2,    705.4,2,   -999.0,9,     7.76,2, -999.00,  -999.0, -999.00,  -999.0
    31DSCG96_1,  P14S,     7,  1,    113,   1008,2,19960109,1022,-54.1695, 171.1808, 1370,   -999,    414.7,   6.5455,  34.3431,2,  34.3432,2,    246.4,2,  6.5079,    250.7,2,    11.01,2,    22.71,2,     0.00,2,     1.53,2, -999.000,9, -999.000,9,   -999.0,9,  -999.00,9,   2136.7,2,   -999.0,9,   -999.0,9,     7.74,2, -999.00,  -999.0, -999.00,  -999.0
    31DSCG96_1,  P14S,     7,  1,    112,   1217,2,19960109,1022,-54.1695, 171.1808, 1370,   -999,    465.8,   6.1872,  34.3245,2,  34.3250,2,    241.3,2,  6.1461,    242.9,2,    13.38,2,    24.23,2,     0.00,2,     1.62,2,    3.078,2,    1.530,2,   -999.0,9,  -999.00,9,   -999.0,9,   -999.0,9,   -999.0,9,     7.72,2, -999.00,  -999.0, -999.00,  -999.0
    31DSCG96_1,  P14S,     7,  1,    111,   1114,2,19960109,1022,-54.1695, 171.1808, 1370,   -999,    514.9,   5.8741,  34.3252,2,  34.3279,2,    247.2,2,  5.8297,    233.4,2,    16.35,2,    25.57,2,     0.00,2,     1.71,2, -999.000,9, -999.000,9,   -999.0,9,  -999.00,9,   2154.3,2,   -999.0,9,   -999.0,9,     7.70,2, -999.00,  -999.0, -999.00,  -999.0
    31DSCG96_1,  P14S,     7,  1,    110,   1036,2,19960109,1022,-54.1695, 171.1808, 1370,   -999,    564.9,   5.0587,  34.2417,2,  34.2418,2,    238.4,2,  5.0134,    245.4,2,    17.08,2,    26.62,2,     0.00,2,     1.77,2, -999.000,9, -999.000,9,   -999.0,9,  -999.00,9,   -999.0,9,   -999.0,9,   -999.0,9,     7.70,2, -999.00,  -999.0, -999.00,  -999.0
    31DSCG96_1,  P14S,     7,  1,    109,   1216,2,19960109,1022,-54.1695, 171.1808, 1370,   -999,    624.6,   4.6862,  34.2431,2,  34.2463,3,    237.1,2,  4.6377,    239.6,2,    20.38,2,    27.82,2,     0.00,2,     1.86,2,    2.975,2,    1.454,2,   -999.0,9,  -999.00,9,   2164.8,2,    877.8,2,   -999.0,9,     7.68,2, -999.00,  -999.0, -999.00,  -999.0
    31DSCG96_1,  P14S,     7,  1,    108,   1018,2,19960109,1022,-54.1695, 171.1808, 1370,   -999,    724.9,   4.2599,  34.2707,2,  34.2704,2,    222.8,2,  4.2054,    227.9,2,    26.42,2,    29.58,2,     0.00,2,     1.99,2, -999.000,9, -999.000,9,   -999.0,9,  -999.00,9,   -999.0,9,   -999.0,9,   -999.0,9,  -999.00,9, -999.00,  -999.0, -999.00,  -999.0
    31DSCG96_1,  P14S,     7,  1,    107,   1245,2,19960109,1022,-54.1695, 171.1808, 1370,   -999,    825.0,   3.7031,  34.3108,2,  34.3106,2,    215.0,2,  3.6439,    213.6,2,    36.53,2,    31.51,2,     0.00,2,     2.13,2,    1.688,2,    0.820,2,   -999.0,9,  -999.00,9,   2196.4,2,   -999.0,9,   -999.0,9,     7.62,2, -999.00,  -999.0, -999.00,  -999.0
    31DSCG96_1,  P14S,     7,  1,    106,   1262,2,19960109,1022,-54.1695, 171.1808, 1370,   -999,    924.4,   3.3143,  34.3551,2,  34.3539,2,    202.6,2,  3.2500,    201.9,2,    45.66,2,    32.72,2,     0.00,2,     2.22,2, -999.000,9, -999.000,9,   -999.0,9,  -999.00,9,   -999.0,9,   -999.0,9,   -999.0,9,     7.60,2, -999.00,  -999.0, -999.00,  -999.0
    31DSCG96_1,  P14S,     7,  1,    105,   1113,2,19960109,1022,-54.1695, 171.1808, 1370,   -999,   1023.1,   3.0422,  34.4184,2,  34.4203,2,    192.5,2,  2.9723,    191.0,2,    54.99,2,    33.41,2,     0.00,2,     2.26,2,    0.861,2,    0.414,2,   -999.0,9,  -999.00,9,   2225.9,2,   1138.2,2,   -999.0,9,     7.59,2, -999.00,  -999.0, -999.00,  -999.0
    31DSCG96_1,  P14S,     7,  1,    104,   1003,2,19960109,1022,-54.1695, 171.1808, 1370,   -999,   1137.3,   2.9228,  34.4442,2,  34.4429,2,    187.9,2,  2.8451,    187.1,2,    58.45,2,    33.64,2,     0.00,2,     2.27,2,    0.759,2,    0.362,2,   -999.0,9,  -999.00,9,   -999.0,9,   -999.0,9,   -999.0,9,     7.58,2, -999.00,  -999.0, -999.00,  -999.0
    31DSCG96_1,  P14S,     7,  1,    102,   1027,2,19960109,1022,-54.1695, 171.1808, 1370,   -999,   1312.2,   2.8136,  34.4774,2,  34.4778,2,    183.4,2,  2.7232,    183.1,2,    62.67,2,    33.81,2,     0.00,2,     2.28,2, -999.000,9, -999.000,9,   -999.0,9,  -999.00,9,   2238.0,2,   -999.0,9,   -999.0,9,     7.58,2, -999.00,  -999.0, -999.00,  -999.0
    31DSCG96_1,  P14S,     7,  1,    103,   9999,2,19960109,1022,-54.1695, 171.1808, 1370,   -999,   1313.5,   2.8133,  34.4775,2,  34.4780,2,    183.5,2,  2.7228,    183.1,2,    62.64,2,    33.82,2,     0.00,2,     2.29,2,    0.620,2,    0.295,2,   -999.0,9,  -999.00,9,   2239.7,2,   -999.0,9,   -999.0,9,     7.58,2, -999.00,  -999.0, -999.00,  -999.0
    31DSCG96_1,  P14S,     7,  1,    101,   1022,2,19960109,1022,-54.1695, 171.1808, 1370,   -999,   1365.2,   2.7930,  34.4856,2,  34.4874,2,    182.1,2,  2.6986,    183.3,2,    63.60,6,    33.78,6,     0.00,6,     2.29,6,    0.589,2,    0.288,2,   -999.0,9,  -999.00,9,   2242.0,3,   1173.4,2,   -999.0,9,     7.58,2, -999.00,  -999.0, -999.00,  -999.0