BOTTLE,20220811CCHSIOAMB
EXPOCODE,SECT_ID,STNNBR,CASTNO,SAMPNO,BTLNBR,BTLNBR_FLAG_W,DATE,TIME,LATITUDE,LONGITUDE,DEPTH,CTDRAW,CTDPRS,CTDTMP,CTDSAL,CTDSAL_FLAG_W,SALNTY,SALNTY_FLAG_W,CTDOXY,CTDOXY_FLAG_W,THETA,OXYGEN,OXYGEN_FLAG_W,SILCAT,SILCAT_FLAG_W,NITRAT,NITRAT_FLAG_W,NITRIT,NITRIT_FLAG_W,PHSPHT,PHSPHT_FLAG_W,CFC-11,CFC-11_FLAG_W,CFC-12,CFC-12_FLAG_W,DELC14,DELC14_FLAG_W,DELC13,DELC13_FLAG_W,TCARBN,TCARBN_FLAG_W,PCO2,PCO2_FLAG_W,ALKALI,ALKALI_FLAG_W,PH,PH_FLAG_W,PCO2TMP,C14ERR,PH_TMP,C13ERR
,,,,,,,,,,,,DBAR,DBAR,ITS-90,PSS-78,,PSS-78,,UMOL/KG,,DEG C,UMOL/KG,,UMOL/KG,,UMOL/KG,,UMOL/KG,,UMOL/KG,,PMOL/KG,,PMOL/KG,,/MILLE,,/MILLE,,UMOL/KG,,UATM,,UMOL/KG,,,,DEG C,/MILLE,DEG C,/MILLE
    31DSCG96_2,  P15S,   154,  1,    136,   1245,2,19960229,1403,-12.4987,-169.9983, 4979,   -999,      4.0,  29.3050,  34.5740,2,  34.5764,2,    192.4,2, 29.3040,    194.0,2,     1.41,2,     0.00,2,     0.00,2,     0.13,2, -999.000,9, -999.000,9,     87.9,2,  -999.00,9,   1906.6,2,    227.9,6,   2271.3,2,     8.16,2, -999.00,     4.1, -999.00,  -999.0
    31DSCG96_2,  P15S,   154,  1,    135,   1113,2,19960229,1403,-12.4987,-169.9983, 4979,   -999,     19.6,  29.3386,  34.6376,2,  34.6611,3,    193.5,2, 29.3338,    194.0,2,     1.47,2,     0.00,2,     0.00,2,     0.13,2, -999.000,9, -999.000,9,   -999.0,9,  -999.00,9,   1911.1,2,    228.4,2,   2278.0,2,     8.16,2, -999.00,  -999.0, -999.00,  -999.0
    31DSCG96_2,  P15S,   154,  1,    134,   1267,2,19960229,1403,-12.4987,-169.9983, 4979,   -999,     45.1,  29.3692,  34.8577,2,  34.8720,2,    194.1,2, 29.3582,    194.9,2,     1.44,2,     0.00,2,     0.00,2,     0.13,2, -999.000,9, -999.000,9,   -999.0,9,  -999.00,9,   1921.8,2,    235.1,2,   2294.8,2,     8.16,2, -999.00,  -999.0, -999.00,  -999.0
    31DSCG96_2,  P15S,   154,  1,    133,   1021,2,19960229,1403,-12.4987,-169.9983, 4979,   -999,     69.0,  29.2425,  35.4908,2,  35.5079,2,    197.9,2, 29.2257,    199.4,2,     1.42,2,     0.00,2,     0.00,2,     0.17,2, -999.000,9, -999.000,9,   -999.0,9,  -999.00,9,   -999.0,9,   -999.0,9,   -999.0,9,  -999.00,9, -999.00,  -999.0, -999.00,  -999.0
    31DSCG96_2,  P15S,   154,  1,    132,   1039,2,19960229,1403,-12.4987,-169.9983, 4979,   -999,     93.7,  28.4317,  35.8179,2,  35.8659,3,    180.9,2, 28.4093,    184.5,2,     1.61,2,     0.20,2,     0.04,2,     0.26,2, -999.000,9, -999.000,9,   -999.0,9,  -999.00,9,   -999.0,9,   -999.0,9,   -999.0,9,     8.10,2, -999.00,  -999.0, -999.00,  -999.0
    31DSCG96_2,  P15S,   154,  1,    131,   1014,2,19960229,1403,-12.4987,-169.9983, 4979,   -999,    109.5,  27.6068,  36.1005,2,  36.1247,3,    180.9,2, 27.5812,    181.2,6,     1.46,2,     0.13,2,     0.04,2,     0.27,2, -999.000,9, -999.000,9,   -999.0,9,  -999.00,9,   -999.0,9,   -999.0,9,   -999.0,9,     8.09,2, -999.00,  -999.0, -999.00,  -999.0
    31DSCG96_2,  P15S,   154,  1,    130,   1257,2,19960229,1403,-12.4987,-169.9983, 4979,   -999,    144.9,  26.0440,  36.2680,2,  36.2665,2,    173.2,2, 26.0115,    172.7,2,     1.38,2,     0.56,2,     0.24,2,     0.33,2, -999.000,9, -999.000,9,   -999.0,9,  -999.00,9,   -999.0,9,   -999.0,9,   -999.0,9,     8.06,2, -999.00,  -999.0, -999.00,  -999.0
    31DSCG96_2,  P15S,   154,  1,    129,   1256,2,19960229,1403,-12.4987,-169.9983, 4979,   -999,    189.3,  23.5216,  36.2129,2,  36.1994,2,    159.6,2, 23.4821,    161.5,2,     1.37,2,     3.66,2,     0.06,2,     0.47,2, -999.000,9, -999.000,9,   -999.0,9,  -999.00,9,   -999.0,9,   -999.0,9,   -999.0,9,     8.01,2, -999.00,  -999.0, -999.00,  -999.0
    31DSCG96_2,  P15S,   154,  1,    128,   1007,2,19960229,1403,-12.4987,-169.9983, 4979,   -999,    239.7,  20.4415,  35.8526,2,  35.8457,2,    157.2,2, 20.3962,    158.0,2,     1.97,2,     6.19,2,     0.01,2,     0.64,2, -999.000,9, -999.000,9,   -999.0,9,  -999.00,9,   -999.0,9,   -999.0,9,   -999.0,9,     7.94,2, -999.00,  -999.0, -999.00,  -999.0
    31DSCG96_2,  P15S,   154,  1,    127,   1232,2,19960229,1403,-12.4987,-169.9983, 4979,   -999,    289.8,  16.6945,  35.3280,2,  35.3074,2,    147.9,2, 16.6471,    148.6,2,     4.67,2,    10.58,2,     0.00,2,     0.93,2, -999.000,9, -999.000,9,   -999.0,9,  -999.00,9,   -999.0,9,   -999.0,9,   -999.0,9,     7.86,2, -999.00,  -999.0, -999.00,  -999.0
    31DSCG96_2,  P15S,   154,  1,    126,   1025,2,19960229,1403,-12.4987,-169.9983, 4979,   -999,    375.2,  11.8824,  34.8284,2,  34.8188,2,    113.6,2, 11.8335,    112.1,2,    13.72,2,    21.63,2,     0.00,2,     1.68,2, -999.000,9, -999.000,9,   -999.0,9,  -999.00,9,   -999.0,9,   -999.0,9,   -999.0,9,     7.69,2, -999.00,  -999.0, -999.00,  -999.0
    31DSCG96_2,  P15S,   154,  1,    125,   1119,2,19960229,1403,-12.4987,-169.9983, 4979,   -999,    476.8,   7.9653,  34.5442,2,  34.5456,2,    146.4,2,  7.9166,    146.6,2,    21.97,2,    27.51,2,     0.00,2,     1.94,2, -999.000,9, -999.000,9,   -999.0,9,  -999.00,9,   -999.0,9,   -999.0,9,   -999.0,9,     7.64,2, -999.00,  -999.0, -999.00,  -999.0
    31DSCG96_2,  P15S,   154,  1,    124,   1244,2,19960229,1403,-12.4987,-169.9983, 4979,   -999,    575.5,   6.6821,  34.4886,2,  34.4854,2,    153.2,2,  6.6285,    148.5,2,    30.37,2,    30.54,2,     0.00,2,     2.11,2, -999.000,9, -999.000,9,   -999.0,9,  -999.00,9,   -999.0,9,   -999.0,9,   -999.0,9,     7.61,2, -999.00,  -999.0, -999.00,  -999.0
    31DSCG96_2,  P15S,   154,  1,    123,   1250,2,19960229,1403,-12.4987,-169.9983, 4979,   -999,    674.4,   5.7667,  34.4720,2,  34.4712,2,    148.8,2,  5.7081,    146.6,2,    40.35,2,    32.53,2,     0.00,2,     2.25,2, -999.000,9, -999.000,9,   -999.0,9,  -999.00,9,   -999.0,9,   -999.0,9,   -999.0,9,     7.59,2, -999.00,  -999.0, -999.00,  -999.0
    31DSCG96_2,  P15S,   154,  1,    122,   1265,2,19960229,1403,-12.4987,-169.9983, 4979,   -999,    776.1,   5.1960,  34.4725,2,  34.4722,2,    146.1,2,  5.1314,    144.5,2,    48.52,2,    33.71,2,     0.00,2,     2.33,2, -999.000,9, -999.000,9,   -999.0,9,  -999.00,9,   -999.0,9,   -999.0,9,   -999.0,9,     7.58,2, -999.00,  -999.0, -999.00,  -999.0
    31DSCG96_2,  P15S,   154,  1,    121,   1246,2,19960229,1403,-12.4987,-169.9983, 4979,   -999,    874.4,   4.7578,  34.4925,2,  34.4917,2,    137.8,2,  4.6874,    135.5,2,    58.29,2,    35.13,2,     0.00,2,     2.43,2, -999.000,9, -999.000,9,   -999.0,9,  -999.00,9,   -999.0,9,   -999.0,9,   -999.0,9,     7.56,2, -999.00,  -999.0, -999.00,  -999.0
    31DSCG96_2,  P15S,   154,  1,    120,   1015,2,19960229,1403,-12.4987,-169.9983, 4979,   -999,    973.2,   4.3380,  34.5029,2,  34.5024,2,    141.5,2,  4.2620,    136.3,2,    65.94,2,    35.44,2,     0.00,2,     2.46,2, -999.000,9, -999.000,9,   -999.0,9,  -999.00,9,   -999.0,9,   -999.0,9,   -999.0,9,     7.56,2, -999.00,  -999.0, -999.00,  -999.0
    31DSCG96_2,  P15S,   154,  1,    119,   1247,2,19960229,1403,-12.4987,-169.9983, 4979,   -999,   1075.0,   4.0392,  34.5191,2,  34.5213,2,    135.8,2,  3.9569,    134.9,2,    73.08,2,    35.94,2,     0.00,2,     2.50,2, -999.000,9, -999.000,9,   -999.0,9,  -999.00,9,   -999.0,9,   -999.0,9,   -999.0,9,     7.56,2, -999.00,  -999.0, -999.00,  -999.0
    31DSCG96_2,  P15S,   154,  1,    118,   1299,2,19960229,1403,-12.4987,-169.9983, 4979,   -999,   1173.6,   3.6617,  34.5382,2,  34.5431,3,    134.0,2,  3.5744,    133.1,2,    81.81,2,    36.40,2,     0.00,2,     2.53,2, -999.000,9, -999.000,9,   -999.0,9,  -999.00,9,   -999.0,9,   -999.0,9,   -999.0,9,     7.55,2, -999.00,  -999.0, -999.00,  -999.0
    31DSCG96_2,  P15S,   154,  1,    117,   1242,2,19960229,1403,-12.4987,-169.9983, 4979,   -999,   1274.4,   3.3819,  34.5539,2,  34.5531,2,    133.6,2,  3.2887,    132.9,6,    88.39,2,    36.61,2,     0.00,2,     2.55,2, -999.000,9, -999.000,9,   -999.0,9,  -999.00,9,   -999.0,9,   -999.0,9,   -999.0,9,     7.55,2, -999.00,  -999.0, -999.00,  -999.0
    31DSCG96_2,  P15S,   154,  1,    116,   1259,2,19960229,1403,-12.4987,-169.9983, 4979,   -999,   1447.4,   2.9644,  34.5800,2,  34.5795,2,    133.9,2,  2.8613,    134.4,2,    98.75,2,    36.81,2,     0.00,2,     2.56,2, -999.000,9, -999.000,9,   -999.0,9,  -999.00,9,   -999.0,9,   -999.0,9,   -999.0,9,     7.55,2, -999.00,  -999.0, -999.00,  -999.0
    31DSCG96_2,  P15S,   154,  1,    115,   1041,2,19960229,1403,-12.4987,-169.9983, 4979,   -999,   1689.5,   2.5029,  34.6084,2,  34.6075,2,    140.3,2,  2.3852,    141.1,2,   108.58,2,    36.50,2,     0.00,2,     2.53,2, -999.000,9, -999.000,9,   -999.0,9,  -999.00,9,   -999.0,9,   -999.0,9,   -999.0,9,     7.56,2, -999.00,  -999.0, -999.00,  -999.0
    31DSCG96_2,  P15S,   154,  1,    114,   1017,2,19960229,1403,-12.4987,-169.9983, 4979,   -999,   1940.6,   2.1962,  34.6323,2,  34.6317,2,    143.3,2,  2.0617,    144.2,2,   117.08,2,    36.34,2,     0.00,2,     2.51,2, -999.000,9, -999.000,9,   -999.0,9,  -999.00,9,   -999.0,9,   -999.0,9,   -999.0,9,     7.57,2, -999.00,  -999.0, -999.00,  -999.0
    31DSCG96_2,  P15S,   154,  1,    113,   1302,2,19960229,1403,-12.4987,-169.9983, 4979,   -999,   2189.9,   2.0073,  34.6492,2,  34.6480,2,    145.5,2,  1.8545,    144.4,2,   123.44,2,    36.33,2,     0.00,2,     2.51,2, -999.000,9, -999.000,9,   -999.0,9,  -999.00,9,   -999.0,9,   -999.0,9,   -999.0,9,     7.57,2, -999.00,  -999.0, -999.00,  -999.0
    31DSCG96_2,  P15S,   154,  1,    112,   1217,2,19960229,1403,-12.4987,-169.9983, 4979,   -999,   2440.1,   1.8871,  34.6607,2,  34.6609,2,    145.2,2,  1.7142,    145.2,2,   128.87,2,    36.36,2,     0.00,2,     2.51,2, -999.000,9, -999.000,9,   -999.0,9,  -999.00,9,   -999.0,9,   -999.0,9,   -999.0,9,     7.57,2, -999.00,  -999.0, -999.00,  -999.0
    31DSCG96_2,  P15S,   154,  1,    111,   1226,2,19960229,1403,-12.4987,-169.9983, 4979,   -999,   2742.9,   1.7644,  34.6701,2,  34.6694,2,    148.0,2,  1.5662,    147.7,2,   132.73,2,    36.23,2,     0.00,2,     2.50,2, -999.000,9, -999.000,9,   -999.0,9,  -999.00,9,   -999.0,9,   -999.0,9,   -999.0,9,     7.58,2, -999.00,  -999.0, -999.00,  -999.0
    31DSCG96_2,  P15S,   154,  1,    110,   1301,2,19960229,1403,-12.4987,-169.9983, 4979,   -999,   2937.9,   1.7006,  34.6742,2,  34.6726,2,    149.9,2,  1.4853,    150.2,2,   133.99,2,    36.09,2,     0.00,2,     2.49,2, -999.000,9, -999.000,9,   -999.0,9,  -999.00,9,   -999.0,9,   -999.0,9,   -999.0,9,     7.58,2, -999.00,  -999.0, -999.00,  -999.0
    31DSCG96_2,  P15S,   154,  1,    109,   1031,2,19960229,1403,-12.4987,-169.9983, 4979,   -999,   3188.5,   1.6335,  34.6787,2,  34.6778,2,    152.6,2,  1.3954,    153.3,2,   135.03,2,    35.88,2,     0.00,2,     2.47,2, -999.000,9, -999.000,9,   -999.0,9,  -999.00,9,   -999.0,9,   -999.0,9,   -999.0,9,     7.58,2, -999.00,  -999.0, -999.00,  -999.0
    31DSCG96_2,  P15S,   154,  1,    108,   1227,2,19960229,1403,-12.4987,-169.9983, 4979,   -999,   3442.2,   1.5675,  34.6831,2,  34.6824,2,    156.6,2,  1.3055,    156.0,2,   134.81,2,    35.59,2,     0.00,2,     2.45,2,    0.002,2,    0.000,2,   -999.0,9,  -999.00,9,   -999.0,9,   -999.0,9,   -999.0,9,     7.58,2, -999.00,  -999.0, -999.00,  -999.0
    31DSCG96_2,  P15S,   154,  1,    107,   1263,2,19960229,1403,-12.4987,-169.9983, 4979,   -999,   3690.9,   1.4912,  34.6900,2,  34.6911,2,    166.0,2,  1.2055,    167.6,6,   130.29,2,    34.79,2,     0.00,2,     2.39,2,    0.003,2,    0.001,2,   -999.0,9,  -999.00,9,   -999.0,9,   -999.0,9,   -999.0,9,     7.59,2, -999.00,  -999.0, -999.00,  -999.0
    31DSCG96_2,  P15S,   154,  1,    106,   1262,2,19960229,1403,-12.4987,-169.9983, 4979,   -999,   3940.0,   1.3765,  34.7041,2,  34.7053,2,    181.9,2,  1.0673,    184.5,2,   121.37,2,    33.37,2,     0.00,2,     2.28,2,    0.005,2,    0.000,2,   -999.0,9,  -999.00,9,   -999.0,9,   -999.0,9,   -999.0,9,     7.60,2, -999.00,  -999.0, -999.00,  -999.0
    31DSCG96_2,  P15S,   154,  1,    105,   1264,2,19960229,1403,-12.4987,-169.9983, 4979,   -999,   4190.3,   1.1888,  34.7128,2,  34.7127,2,    198.8,2,  0.8579,    199.8,2,   117.19,2,    32.37,2,     0.00,2,     2.21,2,    0.002,2,    0.002,2,   -999.0,9,  -999.00,9,   -999.0,9,   -999.0,9,   -999.0,9,     7.61,2, -999.00,  -999.0, -999.00,  -999.0
    31DSCG96_2,  P15S,   154,  1,    104,   1003,2,19960229,1403,-12.4987,-169.9983, 4979,   -999,   4438.1,   1.0631,  34.7113,2,  34.7116,2,    204.5,2,  0.7085,    204.2,2,   119.06,2,    32.26,2,     0.00,2,     2.20,2,    0.004,2,    0.003,2,   -999.0,9,  -999.00,9,   -999.0,9,   -999.0,9,   -999.0,9,     7.61,2, -999.00,  -999.0, -999.00,  -999.0
    31DSCG96_2,  P15S,   154,  1,    103,   1035,2,19960229,1403,-12.4987,-169.9983, 4979,   -999,   4688.3,   1.0412,  34.7099,2,  34.7096,2,    205.8,2,  0.6588,    205.7,2,   120.15,2,    32.23,2,     0.00,2,     2.21,2,    0.006,6,    0.002,6,   -999.0,9,  -999.00,9,   -999.0,9,   -999.0,9,   -999.0,9,     7.61,2, -999.00,  -999.0, -999.00,  -999.0
    31DSCG96_2,  P15S,   154,  1,    102,   1030,2,19960229,1403,-12.4987,-169.9983, 4979,   -999,   4939.4,   1.0554,  34.7093,2,  34.7096,2,    206.5,2,  0.6432,    206.0,2,   120.42,2,    32.18,2,     0.00,2,     2.20,2,    0.007,2,    0.000,2,   -999.0,9,  -999.00,9,   -999.0,9,   -999.0,9,   -999.0,9,     7.61,2, -999.00,  -999.0, -999.00,  -999.0
    31DSCG96_2,  P15S,   154,  1,    101,   1022,2,19960229,1403,-12.4987,-169.9983, 4979,   -999,   5084.1,   1.0714,  34.7092,2,  34.7094,2,    206.7,2,  0.6414,    204.9,6,   120.50,6,    32.20,6,     0.00,6,     2.21,6,    0.007,6,    0.002,6,   -999.0,9,  -999.00,9,   -999.0,9,   -999.0,9,   -999.0,9,     7.61,2, -999.00,  -999.0, -999.00,  -999.0