BOTTLE,20220811CCHSIOAMB
EXPOCODE,SECT_ID,STNNBR,CASTNO,SAMPNO,BTLNBR,BTLNBR_FLAG_W,DATE,TIME,LATITUDE,LONGITUDE,DEPTH,CTDRAW,CTDPRS,CTDTMP,CTDSAL,CTDSAL_FLAG_W,SALNTY,SALNTY_FLAG_W,CTDOXY,CTDOXY_FLAG_W,THETA,OXYGEN,OXYGEN_FLAG_W,SILCAT,SILCAT_FLAG_W,NITRAT,NITRAT_FLAG_W,NITRIT,NITRIT_FLAG_W,PHSPHT,PHSPHT_FLAG_W,CFC-11,CFC-11_FLAG_W,CFC-12,CFC-12_FLAG_W,DELC14,DELC14_FLAG_W,DELC13,DELC13_FLAG_W,TCARBN,TCARBN_FLAG_W,PCO2,PCO2_FLAG_W,ALKALI,ALKALI_FLAG_W,PH,PH_FLAG_W,PCO2TMP,C14ERR,PH_TMP,C13ERR
,,,,,,,,,,,,DBAR,DBAR,ITS-90,PSS-78,,PSS-78,,UMOL/KG,,DEG C,UMOL/KG,,UMOL/KG,,UMOL/KG,,UMOL/KG,,UMOL/KG,,PMOL/KG,,PMOL/KG,,/MILLE,,/MILLE,,UMOL/KG,,UATM,,UMOL/KG,,,,DEG C,/MILLE,DEG C,/MILLE
    31DSCG96_2,  P15S,   111,  1,    136,   1245,2,19960218,0736,-33.0013,-170.0013, 5548,   -999,      2.5,  21.6532,  35.6596,2,  35.6609,2,    215.4,2, 21.6527,    220.2,2,     1.31,2,     0.07,2,     0.01,2,     0.09,2, -999.000,9, -999.000,9,     86.2,2,  -999.00,9,   2038.7,2,    343.2,6,   -999.0,9,     8.03,2, -999.00,     3.8, -999.00,  -999.0
    31DSCG96_2,  P15S,   111,  1,    135,   1113,2,19960218,0736,-33.0013,-170.0013, 5548,   -999,     30.5,  20.8073,  35.5920,2,  35.6146,3,    223.6,2, 20.8015,    225.5,2,     1.37,2,     0.06,2,     0.02,2,     0.11,2, -999.000,9, -999.000,9,   -999.0,9,  -999.00,9,   -999.0,9,   -999.0,9,   -999.0,9,     8.02,2, -999.00,  -999.0, -999.00,  -999.0
    31DSCG96_2,  P15S,   111,  1,    134,   1216,2,19960218,0736,-33.0013,-170.0013, 5548,   -999,     54.9,  18.5550,  35.5441,2,  35.5517,2,    243.1,2, 18.5454,    244.9,2,     1.32,2,     0.07,2,     0.02,2,     0.11,2, -999.000,9, -999.000,9,   -999.0,9,  -999.00,9,   -999.0,9,   -999.0,9,   -999.0,9,     8.02,2, -999.00,  -999.0, -999.00,  -999.0
    31DSCG96_2,  P15S,   111,  1,    133,   1221,2,19960218,0736,-33.0013,-170.0013, 5548,   -999,     78.7,  15.8371,  35.4239,2,  35.4250,2,    249.4,2, 15.8247,    255.1,2,     1.55,2,     0.06,2,     0.01,2,     0.17,2, -999.000,9, -999.000,9,   -999.0,9,  -999.00,9,   -999.0,9,   -999.0,9,   -999.0,9,     7.99,2, -999.00,  -999.0, -999.00,  -999.0
    31DSCG96_2,  P15S,   111,  1,    132,   1039,2,19960218,0736,-33.0013,-170.0013, 5548,   -999,    115.1,  14.5866,  35.3421,2,  35.3426,2,    228.1,2, 14.5694,    232.7,2,     1.93,2,     3.27,2,     0.08,2,     0.35,2, -999.000,9, -999.000,9,   -999.0,9,  -999.00,9,   -999.0,9,   -999.0,9,   -999.0,9,     7.94,2, -999.00,  -999.0, -999.00,  -999.0
    31DSCG96_2,  P15S,   111,  1,    131,   1014,2,19960218,0736,-33.0013,-170.0013, 5548,   -999,    171.2,  13.5487,  35.2133,2,  35.2111,2,    223.9,2, 13.5245,    222.6,2,     2.63,2,     6.47,2,     0.02,2,     0.53,2, -999.000,9, -999.000,9,   -999.0,9,  -999.00,9,   -999.0,9,   -999.0,9,   -999.0,9,     7.90,2, -999.00,  -999.0, -999.00,  -999.0
    31DSCG96_2,  P15S,   111,  1,    130,   1257,2,19960218,0736,-33.0013,-170.0013, 5548,   -999,    214.1,  12.6156,  35.0806,2,  35.0917,2,    203.7,2, 12.5867,    208.2,2,     3.51,2,    10.00,2,     0.02,2,     0.74,2, -999.000,9, -999.000,9,   -999.0,9,  -999.00,9,   -999.0,9,   -999.0,9,   -999.0,9,     7.85,2, -999.00,  -999.0, -999.00,  -999.0
    31DSCG96_2,  P15S,   111,  1,    129,   1256,2,19960218,0736,-33.0013,-170.0013, 5548,   -999,    263.9,  11.4542,  34.9261,2,  34.9277,2,    202.2,2, 11.4207,    200.2,2,     4.41,2,    13.55,2,     0.02,2,     0.96,2, -999.000,9, -999.000,9,   -999.0,9,  -999.00,9,   -999.0,9,   -999.0,9,   -999.0,9,     7.81,2, -999.00,  -999.0, -999.00,  -999.0
    31DSCG96_2,  P15S,   111,  1,    128,   1007,2,19960218,0736,-33.0013,-170.0013, 5548,   -999,    324.9,  10.3420,  34.7895,2,  34.7920,2,    200.1,2, 10.3034,    198.6,2,     5.54,2,    16.47,2,     0.01,2,     1.13,2, -999.000,9, -999.000,9,   -999.0,9,  -999.00,9,   -999.0,9,   -999.0,9,   -999.0,9,     7.78,2, -999.00,  -999.0, -999.00,  -999.0
    31DSCG96_2,  P15S,   111,  1,    127,   1232,2,19960218,0736,-33.0013,-170.0013, 5548,   -999,    422.5,   8.7065,  34.5899,2,  34.5879,2,    206.8,2,  8.6611,    209.4,2,     6.54,2,    19.71,2,     0.01,2,     1.35,2, -999.000,9, -999.000,9,   -999.0,9,  -999.00,9,   -999.0,9,   -999.0,9,   -999.0,9,     7.75,3, -999.00,  -999.0, -999.00,  -999.0
    31DSCG96_2,  P15S,   111,  1,    126,   1025,2,19960218,0736,-33.0013,-170.0013, 5548,   -999,    524.4,   7.7620,  34.4889,2,  34.4888,2,    219.8,2,  7.7091,    221.3,2,     7.24,2,    21.29,2,     0.00,2,     1.44,2, -999.000,9, -999.000,9,   -999.0,9,  -999.00,9,   -999.0,9,   -999.0,9,   -999.0,9,     7.74,2, -999.00,  -999.0, -999.00,  -999.0
    31DSCG96_2,  P15S,   111,  1,    125,   1233,2,19960218,0736,-33.0013,-170.0013, 5548,   -999,    624.1,   7.1359,  34.4303,2,  34.4290,2,    226.0,2,  7.0755,    226.9,2,     8.64,2,    22.70,2,     0.00,2,     1.53,2, -999.000,9, -999.000,9,   -999.0,9,  -999.00,9,   -999.0,9,   -999.0,9,   -999.0,9,     7.73,2, -999.00,  -999.0, -999.00,  -999.0
    31DSCG96_2,  P15S,   111,  1,    124,   1013,2,19960218,0736,-33.0013,-170.0013, 5548,   -999,    724.9,   6.5291,  34.3804,2,  34.3798,2,    225.2,2,  6.4619,    226.6,2,    10.97,2,    24.34,2,     0.00,2,     1.64,2, -999.000,9, -999.000,9,   -999.0,9,  -999.00,9,   -999.0,9,   -999.0,9,   -999.0,9,     7.72,2, -999.00,  -999.0, -999.00,  -999.0
    31DSCG96_2,  P15S,   111,  1,    123,   1250,2,19960218,0736,-33.0013,-170.0013, 5548,   -999,    824.2,   5.9905,  34.3519,2,  34.3526,2,    219.7,2,  5.9169,    220.1,6,    14.92,2,    26.25,2,     0.00,2,     1.78,2, -999.000,9, -999.000,9,   -999.0,9,  -999.00,9,   -999.0,9,   -999.0,9,   -999.0,9,     7.70,2, -999.00,  -999.0, -999.00,  -999.0
    31DSCG96_2,  P15S,   111,  1,    122,   1265,2,19960218,0736,-33.0013,-170.0013, 5548,   -999,    926.8,   5.4126,  34.3427,2,  34.3437,2,    208.2,2,  5.3332,    208.8,2,    21.40,2,    28.43,2,     0.00,2,     1.92,2, -999.000,9, -999.000,9,   -999.0,9,  -999.00,9,   -999.0,9,   -999.0,9,   -999.0,9,     7.67,2, -999.00,  -999.0, -999.00,  -999.0
    31DSCG96_2,  P15S,   111,  1,    121,   1246,2,19960218,0736,-33.0013,-170.0013, 5548,   -999,   1024.4,   4.9455,  34.3576,2,  34.3571,2,    198.1,2,  4.8606,    198.0,2,    29.12,2,    30.14,2,     0.00,2,     2.03,2, -999.000,9, -999.000,9,   -999.0,9,  -999.00,9,   -999.0,9,   -999.0,9,   -999.0,9,     7.64,2, -999.00,  -999.0, -999.00,  -999.0
    31DSCG96_2,  P15S,   111,  1,    120,   1015,2,19960218,0736,-33.0013,-170.0013, 5548,   -999,   1123.3,   4.2566,  34.3731,2,  34.3740,2,    189.9,2,  4.1686,    189.6,2,    39.32,2,    31.93,2,     0.00,2,     2.17,2, -999.000,9, -999.000,9,   -999.0,9,  -999.00,9,   -999.0,9,   -999.0,9,   -999.0,9,     7.62,2, -999.00,  -999.0, -999.00,  -999.0
    31DSCG96_2,  P15S,   111,  1,    119,   1247,2,19960218,0736,-33.0013,-170.0013, 5548,   -999,   1225.6,   3.8099,  34.4046,2,  34.4046,2,    180.9,2,  3.7171,    181.8,2,    48.94,2,    33.06,2,     0.00,2,     2.28,2, -999.000,9, -999.000,9,   -999.0,9,  -999.00,9,   -999.0,9,   -999.0,9,   -999.0,9,     7.61,2, -999.00,  -999.0, -999.00,  -999.0
    31DSCG96_2,  P15S,   111,  1,    118,   1222,2,19960218,0736,-33.0013,-170.0013, 5548,   -999,   1349.4,   3.3318,  34.4644,2,  34.4672,2,    173.6,2,  3.2331,    171.4,2,    63.43,2,    34.09,2,     0.00,2,     2.33,2, -999.000,9, -999.000,9,   -999.0,9,  -999.00,9,   -999.0,9,   -999.0,9,   -999.0,9,     7.59,2, -999.00,  -999.0, -999.00,  -999.0
    31DSCG96_2,  P15S,   111,  1,    117,   1267,2,19960218,0736,-33.0013,-170.0013, 5548,   -999,   1568.1,   2.7936,  34.5492,2,  34.5505,2,    160.6,2,  2.6825,    160.3,2,    84.62,2,    35.00,2,     0.00,2,     2.42,2, -999.000,9, -999.000,9,   -999.0,9,  -999.00,9,   -999.0,9,   -999.0,9,   -999.0,9,     7.58,2, -999.00,  -999.0, -999.00,  -999.0
    31DSCG96_2,  P15S,   111,  1,    116,   1211,2,19960218,0736,-33.0013,-170.0013, 5548,   -999,   1811.4,   2.5004,  34.5997,2,  34.5993,2,    152.6,2,  2.3726,    152.8,2,   100.74,2,    35.48,2,     0.00,2,     2.45,2, -999.000,9, -999.000,9,   -999.0,9,  -999.00,9,   -999.0,9,   -999.0,9,   -999.0,9,     7.57,2, -999.00,  -999.0, -999.00,  -999.0
    31DSCG96_2,  P15S,   111,  1,    115,   1041,2,19960218,0736,-33.0013,-170.0013, 5548,   -999,   2065.4,   2.2970,  34.6196,2,  34.6251,3,    149.3,2,  2.1505,    149.4,6,   110.96,2,    35.87,2,     0.00,2,     2.48,2, -999.000,9, -999.000,9,   -999.0,9,  -999.00,9,   -999.0,9,   -999.0,9,   -999.0,9,     7.57,2, -999.00,  -999.0, -999.00,  -999.0
    31DSCG96_2,  P15S,   111,  1,    114,   1017,2,19960218,0736,-33.0013,-170.0013, 5548,   -999,   2314.8,   2.1531,  34.6393,2,  34.6399,2,    147.3,2,  1.9868,    147.2,2,   117.96,2,    36.10,2,     0.00,2,     2.50,2, -999.000,9, -999.000,9,   -999.0,9,  -999.00,9,   -999.0,9,   -999.0,9,   -999.0,9,     7.57,2, -999.00,  -999.0, -999.00,  -999.0
    31DSCG96_2,  P15S,   111,  1,    113,   1302,2,19960218,0736,-33.0013,-170.0013, 5548,   -999,   2562.0,   2.0227,  34.6511,2,  34.6514,2,    147.8,2,  1.8362,    146.9,2,   123.24,2,    36.16,2,     0.00,2,     2.51,2, -999.000,9, -999.000,9,   -999.0,9,  -999.00,9,   -999.0,9,   -999.0,9,   -999.0,9,     7.57,2, -999.00,  -999.0, -999.00,  -999.0
    31DSCG96_2,  P15S,   111,  1,    112,   1217,2,19960218,0736,-33.0013,-170.0013, 5548,   -999,   2812.9,   1.8901,  34.6644,2,  34.6645,2,    149.7,2,  1.6828,    149.6,2,   126.82,2,    36.03,2,     0.00,2,     2.50,2, -999.000,9, -999.000,9,   -999.0,9,  -999.00,9,   -999.0,9,   -999.0,9,   -999.0,9,     7.57,2, -999.00,  -999.0, -999.00,  -999.0
    31DSCG96_2,  P15S,   111,  1,    111,   1114,2,19960218,0736,-33.0013,-170.0013, 5548,   -999,   3068.7,   1.7928,  34.6810,2,  34.6817,2,    156.7,2,  1.5628,    159.4,2,   123.11,2,    35.11,2,     0.00,2,     2.42,2, -999.000,9, -999.000,9,   -999.0,9,  -999.00,9,   -999.0,9,   -999.0,9,   -999.0,9,     7.58,2, -999.00,  -999.0, -999.00,  -999.0
    31DSCG96_2,  P15S,   111,  1,    110,   1301,2,19960218,0736,-33.0013,-170.0013, 5548,   -999,   3314.9,   1.6734,  34.7012,2,  34.7001,2,    174.4,2,  1.4216,    174.4,2,   115.99,2,    33.72,2,     0.00,2,     2.32,2, -999.000,9, -999.000,9,   -999.0,9,  -999.00,9,   -999.0,9,   -999.0,9,   -999.0,9,     7.59,2, -999.00,  -999.0, -999.00,  -999.0
    31DSCG96_2,  P15S,   111,  1,    109,   1119,2,19960218,0736,-33.0013,-170.0013, 5548,   -999,   3562.2,   1.5584,  34.7181,2,  34.7189,2,    188.3,2,  1.2841,    189.6,6,   108.84,2,    32.42,2,     0.00,2,     2.21,2, -999.000,9, -999.000,9,   -999.0,9,  -999.00,9,   -999.0,9,   -999.0,9,   -999.0,9,     7.60,2, -999.00,  -999.0, -999.00,  -999.0
    31DSCG96_2,  P15S,   111,  1,    108,   1227,2,19960218,0736,-33.0013,-170.0013, 5548,   -999,   3812.7,   1.3851,  34.7208,2,  34.7222,2,    196.0,2,  1.0891,    196.9,2,   110.48,2,    32.14,2,     0.00,2,     2.20,2,    0.003,2,    0.004,2,   -999.0,9,  -999.00,9,   -999.0,9,   -999.0,9,   -999.0,9,     7.61,2, -999.00,  -999.0, -999.00,  -999.0
    31DSCG96_2,  P15S,   111,  1,    107,   1263,2,19960218,0736,-33.0013,-170.0013, 5548,   -999,   4064.3,   1.2044,  34.7174,2,  34.7195,2,    201.1,2,  0.8867,    202.4,6,   114.38,2,    32.17,2,     0.00,2,     2.21,3, -999.000,9, -999.000,9,   -999.0,9,  -999.00,9,   -999.0,9,   -999.0,9,   -999.0,9,     7.61,2, -999.00,  -999.0, -999.00,  -999.0
    31DSCG96_2,  P15S,   111,  1,    106,   1262,2,19960218,0736,-33.0013,-170.0013, 5548,   -999,   4314.0,   1.0850,  34.7129,2,  34.7131,2,    203.9,2,  0.7435,    205.0,2,   117.70,2,    32.20,2,     0.00,2,     2.19,2,    0.006,2,    0.005,2,   -999.0,9,  -999.00,9,   -999.0,9,   -999.0,9,   -999.0,9,     7.61,2, -999.00,  -999.0, -999.00,  -999.0
    31DSCG96_2,  P15S,   111,  1,    105,   1264,2,19960218,0736,-33.0013,-170.0013, 5548,   -999,   4564.5,   1.0318,  34.7100,2,  34.7103,2,    205.2,2,  0.6639,    206.3,2,   119.82,2,    32.31,2,     0.00,2,     2.20,2, -999.000,9, -999.000,9,   -999.0,9,  -999.00,9,   -999.0,9,   -999.0,9,   -999.0,9,     7.61,2, -999.00,  -999.0, -999.00,  -999.0
    31DSCG96_2,  P15S,   111,  1,    104,   1003,2,19960218,0736,-33.0013,-170.0013, 5548,   -999,   4816.3,   1.0183,  34.7085,2,  34.7094,2,    205.9,2,  0.6218,    206.6,2,   120.99,2,    32.30,2,     0.00,2,     2.21,2,    0.012,2,    0.010,2,   -999.0,9,  -999.00,9,   -999.0,9,   -999.0,9,   -999.0,9,     7.61,2, -999.00,  -999.0, -999.00,  -999.0
    31DSCG96_2,  P15S,   111,  1,    103,    999,2,19960218,0736,-33.0013,-170.0013, 5548,   -999,   5061.4,   1.0291,  34.7076,2,  34.7085,2,    206.4,2,  0.6033,    206.4,2,   121.54,2,    32.38,2,     0.00,2,     2.21,2, -999.000,9, -999.000,9,   -999.0,9,  -999.00,9,   -999.0,9,   -999.0,9,   -999.0,9,     7.61,2, -999.00,  -999.0, -999.00,  -999.0
    31DSCG96_2,  P15S,   111,  1,    102,   1030,2,19960218,0736,-33.0013,-170.0013, 5548,   -999,   5311.4,   1.0531,  34.7070,2,  34.7102,3,    206.6,2,  0.5961,    206.9,2,   121.89,2,    32.42,2,     0.00,2,     2.22,2,    0.015,2,    0.011,2,   -999.0,9,  -999.00,9,   -999.0,9,   -999.0,9,   -999.0,9,     7.61,2, -999.00,  -999.0, -999.00,  -999.0
    31DSCG96_2,  P15S,   111,  1,    101,   1022,2,19960218,0736,-33.0013,-170.0013, 5548,   -999,   5673.9,   1.0971,  34.7069,2,  34.7073,2,    206.6,2,  0.5930,    207.0,2,   121.94,6,    32.41,6,     0.00,6,     2.22,6,    0.017,2,    0.012,2,   -999.0,9,  -999.00,9,   -999.0,9,   -999.0,9,   -999.0,9,     7.61,2, -999.00,  -999.0, -999.00,  -999.0