BOTTLE,20220811CCHSIOAMB
EXPOCODE,SECT_ID,STNNBR,CASTNO,SAMPNO,BTLNBR,BTLNBR_FLAG_W,DATE,TIME,LATITUDE,LONGITUDE,DEPTH,CTDRAW,CTDPRS,CTDTMP,CTDSAL,CTDSAL_FLAG_W,SALNTY,SALNTY_FLAG_W,CTDOXY,CTDOXY_FLAG_W,THETA,OXYGEN,OXYGEN_FLAG_W,SILCAT,SILCAT_FLAG_W,NITRAT,NITRAT_FLAG_W,NITRIT,NITRIT_FLAG_W,PHSPHT,PHSPHT_FLAG_W,CFC-11,CFC-11_FLAG_W,CFC-12,CFC-12_FLAG_W,DELC14,DELC14_FLAG_W,DELC13,DELC13_FLAG_W,TCARBN,TCARBN_FLAG_W,PCO2,PCO2_FLAG_W,ALKALI,ALKALI_FLAG_W,PH,PH_FLAG_W,PCO2TMP,C14ERR,PH_TMP,C13ERR
,,,,,,,,,,,,DBAR,DBAR,ITS-90,PSS-78,,PSS-78,,UMOL/KG,,DEG C,UMOL/KG,,UMOL/KG,,UMOL/KG,,UMOL/KG,,UMOL/KG,,PMOL/KG,,PMOL/KG,,/MILLE,,/MILLE,,UMOL/KG,,UATM,,UMOL/KG,,,,DEG C,/MILLE,DEG C,/MILLE
    31DSCG96_1,  P15S,    91,  1,    134,   1119,2,19960202,1014,-41.2667,-173.6442, 3330,   -999,      9.2,  19.1895,  35.2590,2,  35.2582,2,    235.3,2, 19.1879,    236.2,2,     0.77,2,     0.00,2,     0.00,2,     0.01,3,    2.520,2,    1.435,2,     70.0,2,  -999.00,9,   2028.4,2,    345.6,6,   -999.0,9,     8.02,2, -999.00,     3.3, -999.00,  -999.0
    31DSCG96_1,  P15S,    91,  1,    133,   1221,3,19960202,1014,-41.2667,-173.6442, 3330,   -999,      9.2,  19.2099,  35.2559,2,-999.0000,5,    235.3,2, 19.2083,    236.4,2,  -999.00,9,  -999.00,9,  -999.00,9,  -999.00,9, -999.000,9, -999.000,9,   -999.0,9,  -999.00,9,   -999.0,9,   -999.0,9,   -999.0,9,  -999.00,9, -999.00,  -999.0, -999.00,  -999.0
    31DSCG96_1,  P15S,    91,  1,    132,   1039,2,19960202,1014,-41.2667,-173.6442, 3330,   -999,     28.9,  18.5542,  35.2913,2,  35.2917,2,    237.7,2, 18.5491,    238.0,2,     0.79,2,     0.00,2,     0.00,2,     0.04,2, -999.000,9, -999.000,9,   -999.0,9,  -999.00,9,   -999.0,9,   -999.0,9,   -999.0,9,     8.02,2, -999.00,  -999.0, -999.00,  -999.0
    31DSCG96_1,  P15S,    91,  1,    131,   1014,2,19960202,1014,-41.2667,-173.6442, 3330,   -999,     54.4,  16.0081,  35.3412,2,  35.3248,2,    245.3,2, 15.9995,    255.4,2,     0.93,2,     0.04,2,     0.01,2,     0.13,2, -999.000,9, -999.000,9,   -999.0,9,  -999.00,9,   -999.0,9,   -999.0,9,   -999.0,9,     7.99,2, -999.00,  -999.0, -999.00,  -999.0
    31DSCG96_1,  P15S,    91,  1,    130,   1257,2,19960202,1014,-41.2667,-173.6442, 3330,   -999,     79.9,  14.4229,  35.3347,2,  35.3477,2,    222.4,2, 14.4112,    224.9,2,     2.19,2,     4.69,2,     0.03,2,     0.43,2, -999.000,9, -999.000,9,   -999.0,9,  -999.00,9,   -999.0,9,   -999.0,9,   -999.0,9,     7.93,2, -999.00,  -999.0, -999.00,  -999.0
    31DSCG96_1,  P15S,    91,  1,    129,   1256,2,19960202,1014,-41.2667,-173.6442, 3330,   -999,    105.5,  13.8283,  35.2981,2,  35.2934,2,    226.5,2, 13.8131,    226.1,2,     2.82,2,     6.56,2,     0.01,2,     0.53,2,    2.852,2,    1.492,2,   -999.0,9,  -999.00,9,   -999.0,9,   -999.0,9,   -999.0,9,     7.91,2, -999.00,  -999.0, -999.00,  -999.0
    31DSCG96_1,  P15S,    91,  1,    128,   1007,2,19960202,1014,-41.2667,-173.6442, 3330,   -999,    133.5,  13.2741,  35.2245,2,  35.2238,2,    228.1,2, 13.2555,    227.2,2,     3.16,2,     7.27,2,     0.01,2,     0.58,2, -999.000,9, -999.000,9,   -999.0,9,  -999.00,9,   -999.0,9,   -999.0,9,   -999.0,9,     7.90,2, -999.00,  -999.0, -999.00,  -999.0
    31DSCG96_1,  P15S,    91,  1,    127,   1232,2,19960202,1014,-41.2667,-173.6442, 3330,   -999,    154.5,  12.9190,  35.1845,2,  35.1871,2,    231.1,2, 12.8978,    231.2,6,     3.15,2,     7.44,2,     0.01,2,     0.60,2, -999.000,9, -999.000,9,   -999.0,9,  -999.00,9,   -999.0,9,   -999.0,9,   -999.0,9,     7.89,2, -999.00,  -999.0, -999.00,  -999.0
    31DSCG96_1,  P15S,    91,  1,    126,   1025,2,19960202,1014,-41.2667,-173.6442, 3330,   -999,    180.3,  12.8911,  35.2125,2,  35.2110,2,    236.2,2, 12.8664,    235.8,2,     3.14,2,     7.36,2,     0.01,2,     0.59,2,    3.035,2,    1.674,2,   -999.0,9,  -999.00,9,   -999.0,9,   -999.0,9,   -999.0,9,     7.89,2, -999.00,  -999.0, -999.00,  -999.0
    31DSCG96_1,  P15S,    91,  1,    125,   1233,2,19960202,1014,-41.2667,-173.6442, 3330,   -999,    205.3,  12.7544,  35.1881,2,  35.1890,2,    236.8,2, 12.7265,    237.3,2,     3.08,2,     7.43,2,     0.01,2,     0.61,2, -999.000,9, -999.000,9,   -999.0,9,  -999.00,9,   -999.0,9,   -999.0,9,   -999.0,9,     7.89,2, -999.00,  -999.0, -999.00,  -999.0
    31DSCG96_1,  P15S,    91,  1,    124,   1218,2,19960202,1014,-41.2667,-173.6442, 3330,   -999,    230.5,  12.6316,  35.1652,2,  35.1640,2,    238.4,2, 12.6004,    237.5,2,     3.13,2,     7.68,2,     0.01,2,     0.63,2, -999.000,9, -999.000,9,   -999.0,9,  -999.00,9,   -999.0,9,   -999.0,9,   -999.0,9,     7.89,2, -999.00,  -999.0, -999.00,  -999.0
    31DSCG96_1,  P15S,    91,  1,    123,   1250,2,19960202,1014,-41.2667,-173.6442, 3330,   -999,    265.8,  12.3911,  35.1179,2,  35.1161,2,    236.5,2, 12.3555,    233.2,2,     3.44,2,     8.68,2,     0.01,2,     0.70,2,    2.968,2,    1.571,2,   -999.0,9,  -999.00,9,   -999.0,9,   -999.0,9,   -999.0,9,     7.88,2, -999.00,  -999.0, -999.00,  -999.0
    31DSCG96_1,  P15S,    91,  1,    122,   1109,2,19960202,1014,-41.2667,-173.6442, 3330,   -999,    314.7,  11.8173,  35.0157,2,  35.0162,2,    228.9,2, 11.7764,    222.8,2,     4.25,2,    11.02,2,     0.01,2,     0.85,2, -999.000,9, -999.000,9,   -999.0,9,  -999.00,9,   -999.0,9,   -999.0,9,   -999.0,9,     7.85,2, -999.00,  -999.0, -999.00,  -999.0
    31DSCG96_1,  P15S,    91,  1,    121,   1246,2,19960202,1014,-41.2667,-173.6442, 3330,   -999,    364.5,  11.0507,  34.8950,2,  34.8944,2,    218.6,2, 11.0053,    214.7,6,     5.13,2,    13.61,2,     0.00,2,     1.00,2,    2.706,2,    1.359,2,   -999.0,9,  -999.00,9,   -999.0,9,   -999.0,9,   -999.0,9,     7.81,2, -999.00,  -999.0, -999.00,  -999.0
    31DSCG96_1,  P15S,    91,  1,    120,   1015,2,19960202,1014,-41.2667,-173.6442, 3330,   -999,    414.1,  10.5120,  34.8236,2,  34.8227,2,    209.0,2, 10.4620,    206.7,2,     6.10,2,    15.69,2,     0.00,2,     1.14,2, -999.000,9, -999.000,9,   -999.0,9,  -999.00,9,   -999.0,9,   -999.0,9,   -999.0,9,     7.79,2, -999.00,  -999.0, -999.00,  -999.0
    31DSCG96_1,  P15S,    91,  1,    119,   1247,2,19960202,1014,-41.2667,-173.6442, 3330,   -999,    464.9,   9.9687,  34.7602,2,  34.7593,2,    201.8,2,  9.9143,    201.0,2,     7.02,2,    17.61,2,     0.01,2,     1.26,2,    2.294,2,    1.137,2,   -999.0,9,  -999.00,9,   -999.0,9,   -999.0,9,   -999.0,9,     7.77,2, -999.00,  -999.0, -999.00,  -999.0
    31DSCG96_1,  P15S,    91,  1,    118,   1222,2,19960202,1014,-41.2667,-173.6442, 3330,   -999,    515.0,   9.4072,  34.7053,2,  34.7053,2,    201.6,2,  9.3489,    198.8,2,     8.55,2,    19.29,2,     0.00,2,     1.37,2, -999.000,9, -999.000,9,   -999.0,9,  -999.00,9,   -999.0,9,   -999.0,9,   -999.0,9,     7.75,2, -999.00,  -999.0, -999.00,  -999.0
    31DSCG96_1,  P15S,    91,  1,    117,   1267,2,19960202,1014,-41.2667,-173.6442, 3330,   -999,    565.5,   8.8611,  34.6455,2,  34.6447,2,    203.5,2,  8.7992,    202.0,2,     9.58,2,    20.44,2,     0.00,2,     1.44,2,    1.789,2,    0.895,2,   -999.0,9,  -999.00,9,   -999.0,9,   -999.0,9,   -999.0,9,     7.74,2, -999.00,  -999.0, -999.00,  -999.0
    31DSCG96_1,  P15S,    91,  1,    116,   1211,2,19960202,1014,-41.2667,-173.6442, 3330,   -999,    623.8,   8.2942,  34.5767,2,  34.5751,2,    207.6,2,  8.2284,    206.4,2,     9.83,2,    21.41,2,     0.00,2,     1.51,2,    1.725,2,    0.840,2,   -999.0,9,  -999.00,9,   -999.0,9,   -999.0,9,   -999.0,9,     7.73,3, -999.00,  -999.0, -999.00,  -999.0
    31DSCG96_1,  P15S,    91,  1,    115,   1041,2,19960202,1014,-41.2667,-173.6442, 3330,   -999,    724.7,   7.5955,  34.5132,2,  34.5134,2,    206.2,2,  7.5224,    208.1,6,    11.97,2,    23.04,2,     0.00,2,     1.61,2,    1.247,2,    0.621,2,   -999.0,9,  -999.00,9,   -999.0,9,   -999.0,9,   -999.0,9,     7.72,2, -999.00,  -999.0, -999.00,  -999.0
    31DSCG96_1,  P15S,    91,  1,    114,   1017,2,19960202,1014,-41.2667,-173.6442, 3330,   -999,    825.7,   7.0637,  34.4868,2,  34.4870,2,    203.4,2,  6.9831,    203.1,2,    16.12,2,    24.65,2,     0.00,2,     1.72,2,    0.780,2,    0.409,2,   -999.0,9,  -999.00,9,   -999.0,9,   -999.0,9,   -999.0,9,     7.70,2, -999.00,  -999.0, -999.00,  -999.0
    31DSCG96_1,  P15S,    91,  1,    113,   1302,2,19960202,1014,-41.2667,-173.6442, 3330,   -999,    926.3,   6.4676,  34.4552,2,  34.4553,2,    198.5,2,  6.3807,    198.6,2,    20.81,2,    26.39,2,     0.00,2,     1.83,2,    0.519,2,    0.288,2,   -999.0,9,  -999.00,9,   -999.0,9,   -999.0,9,   -999.0,9,     7.69,2, -999.00,  -999.0, -999.00,  -999.0
    31DSCG96_1,  P15S,    91,  1,    112,   1217,2,19960202,1014,-41.2667,-173.6442, 3330,   -999,   1028.7,   5.9399,  34.4386,2,  34.4384,2,    193.5,2,  5.8468,    194.1,2,    26.22,2,    27.88,2,     0.00,2,     1.94,2, -999.000,9, -999.000,9,   -999.0,9,  -999.00,9,   -999.0,9,   -999.0,9,   -999.0,9,     7.67,2, -999.00,  -999.0, -999.00,  -999.0
    31DSCG96_1,  P15S,    91,  1,    111,   1114,2,19960202,1014,-41.2667,-173.6442, 3330,   -999,   1147.0,   5.2499,  34.4604,2,  34.4596,2,    183.8,2,  5.1511,    183.6,2,    39.18,2,    29.77,2,     0.00,2,     2.07,2,    0.231,2,    0.118,2,   -999.0,9,  -999.00,9,   -999.0,9,   -999.0,9,   -999.0,9,     7.64,2, -999.00,  -999.0, -999.00,  -999.0
    31DSCG96_1,  P15S,    91,  1,    110,   1301,2,19960202,1014,-41.2667,-173.6442, 3330,   -999,   1315.4,   4.3760,  34.4814,2,  34.4814,2,    174.5,2,  4.2697,    174.2,2,    54.86,2,    31.82,2,     0.00,2,     2.21,2, -999.000,9, -999.000,9,   -999.0,9,  -999.00,9,   -999.0,9,   -999.0,9,   -999.0,9,     7.62,2, -999.00,  -999.0, -999.00,  -999.0
    31DSCG96_1,  P15S,    91,  1,    109,   1242,2,19960202,1014,-41.2667,-173.6442, 3330,   -999,   1565.6,   3.3369,  34.5458,2,  34.5454,2,    163.2,2,  3.2196,    162.5,2,    79.54,2,    33.79,2,     0.00,2,     2.35,2,    0.037,2,    0.021,2,   -999.0,9,  -999.00,9,   -999.0,9,   -999.0,9,   -999.0,9,     7.59,2, -999.00,  -999.0, -999.00,  -999.0
    31DSCG96_1,  P15S,    91,  1,    108,   1263,2,19960202,1014,-41.2667,-173.6442, 3330,   -999,   1813.2,   2.7038,  34.6002,2,  34.6003,2,    156.7,2,  2.5731,    155.9,2,    98.25,2,    34.74,2,     0.00,2,     2.42,2,    0.011,2,    0.013,4,   -999.0,9,  -999.00,9,   -999.0,9,   -999.0,9,   -999.0,9,     7.58,2, -999.00,  -999.0, -999.00,  -999.0
    31DSCG96_1,  P15S,    91,  1,    107,   1227,2,19960202,1014,-41.2667,-173.6442, 3330,   -999,   2064.8,   2.3607,  34.6305,2,  34.6304,2,    154.3,2,  2.2131,    153.6,6,   107.92,2,    35.02,2,     0.00,2,     2.45,2,    0.010,2,    0.013,4,   -999.0,9,  -999.00,9,   -999.0,9,   -999.0,9,   -999.0,9,     7.58,2, -999.00,  -999.0, -999.00,  -999.0
    31DSCG96_1,  P15S,    91,  1,    106,   1262,2,19960202,1014,-41.2667,-173.6442, 3330,   -999,   2311.7,   2.1286,  34.6570,2,  34.6574,2,    157.1,2,  1.9630,    157.2,2,   111.00,2,    34.79,2,     0.00,2,     2.42,2,    0.006,2,    0.007,2,   -999.0,9,  -999.00,9,   -999.0,9,   -999.0,9,   -999.0,9,     7.58,2, -999.00,  -999.0, -999.00,  -999.0
    31DSCG96_1,  P15S,    91,  1,    105,   1264,2,19960202,1014,-41.2667,-173.6442, 3330,   -999,   2563.9,   1.9171,  34.6958,2,  34.6955,2,    171.3,2,  1.7323,    171.9,2,   105.55,2,    33.56,2,     0.00,2,     2.31,2,    0.008,2,    0.012,4,   -999.0,9,  -999.00,9,   -999.0,9,   -999.0,9,   -999.0,9,     7.59,2, -999.00,  -999.0, -999.00,  -999.0
    31DSCG96_1,  P15S,    91,  1,    104,   1003,2,19960202,1014,-41.2667,-173.6442, 3330,   -999,   2814.7,   1.7415,  34.7208,2,  34.7207,2,    186.3,2,  1.5368,    185.6,2,   101.59,2,    32.12,2,     0.00,2,     2.21,2,    0.012,2,    0.014,4,   -999.0,9,  -999.00,9,   -999.0,9,   -999.0,9,   -999.0,9,     7.60,2, -999.00,  -999.0, -999.00,  -999.0
    31DSCG96_1,  P15S,    91,  1,    102,   1030,2,19960202,1014,-41.2667,-173.6442, 3330,   -999,   3065.0,   1.4756,  34.7279,2,  34.7267,2,    195.1,2,  1.2528,    195.8,2,   104.85,2,    31.77,2,     0.00,2,     2.17,2,    0.014,2,    0.013,2,   -999.0,9,  -999.00,9,   -999.0,9,   -999.0,9,   -999.0,9,     7.61,2, -999.00,  -999.0, -999.00,  -999.0
    31DSCG96_1,  P15S,    91,  1,    103,    999,2,19960202,1014,-41.2667,-173.6442, 3330,   -999,   3065.2,   1.4791,  34.7273,2,  34.7277,2,    195.1,2,  1.2562,    194.9,2,   104.87,2,    31.76,2,     0.00,2,     2.18,2,    0.013,2,    0.032,4,   -999.0,9,  -999.00,9,   -999.0,9,   -999.0,9,   -999.0,9,     7.61,2, -999.00,  -999.0, -999.00,  -999.0
    31DSCG96_1,  P15S,    91,  1,    101,   1022,2,19960202,1014,-41.2667,-173.6442, 3330,   -999,   3350.4,   1.2620,  34.7227,2,  34.7232,2,    200.6,2,  1.0164,    200.4,2,   110.46,6,    31.79,6,     0.00,6,     2.17,6,    0.020,2,    0.016,2,   -999.0,9,  -999.00,9,   -999.0,9,   -999.0,9,   -999.0,9,     7.61,2, -999.00,  -999.0, -999.00,  -999.0