BOTTLE,20220811CCHSIOAMB
EXPOCODE,SECT_ID,STNNBR,CASTNO,SAMPNO,BTLNBR,BTLNBR_FLAG_W,DATE,TIME,LATITUDE,LONGITUDE,DEPTH,CTDRAW,CTDPRS,CTDTMP,CTDSAL,CTDSAL_FLAG_W,SALNTY,SALNTY_FLAG_W,CTDOXY,CTDOXY_FLAG_W,THETA,OXYGEN,OXYGEN_FLAG_W,SILCAT,SILCAT_FLAG_W,NITRAT,NITRAT_FLAG_W,NITRIT,NITRIT_FLAG_W,PHSPHT,PHSPHT_FLAG_W,CFC-11,CFC-11_FLAG_W,CFC-12,CFC-12_FLAG_W,DELC14,DELC14_FLAG_W,DELC13,DELC13_FLAG_W,TCARBN,TCARBN_FLAG_W,PCO2,PCO2_FLAG_W,ALKALI,ALKALI_FLAG_W,PH,PH_FLAG_W,PCO2TMP,C14ERR,PH_TMP,C13ERR
,,,,,,,,,,,,DBAR,DBAR,ITS-90,PSS-78,,PSS-78,,UMOL/KG,,DEG C,UMOL/KG,,UMOL/KG,,UMOL/KG,,UMOL/KG,,UMOL/KG,,PMOL/KG,,PMOL/KG,,/MILLE,,/MILLE,,UMOL/KG,,UATM,,UMOL/KG,,,,DEG C,/MILLE,DEG C,/MILLE
    31DSCG96_2,  P15S,   152,  1,    136,   1245,2,19960229,0231,-13.5015,-169.9997, 4860,   -999,      4.3,  29.2739,  34.7615,2,  34.7802,2,    195.9,2, 29.2729,    194.9,2,     1.58,2,     0.01,2,     0.00,2,     0.12,2, -999.000,9, -999.000,9,     93.5,2,  -999.00,9,   -999.0,9,   -999.0,9,   -999.0,9,  -999.00,9, -999.00,     2.9, -999.00,  -999.0
    31DSCG96_2,  P15S,   152,  1,    135,   1113,2,19960229,0231,-13.5015,-169.9997, 4860,   -999,     19.4,  29.3438,  34.9030,2,  34.9027,2,    193.0,2, 29.3391,    194.6,2,     1.67,2,     0.01,2,     0.00,2,     0.13,2, -999.000,9, -999.000,9,   -999.0,9,  -999.00,9,   1922.9,2,    231.2,2,   2295.4,2,     8.15,2, -999.00,  -999.0, -999.00,  -999.0
    31DSCG96_2,  P15S,   152,  1,    134,   1267,2,19960229,0231,-13.5015,-169.9997, 4860,   -999,     44.6,  29.3528,  35.2543,2,  35.1683,3,    194.7,2, 29.3419,    197.3,2,     1.45,2,     0.01,2,     0.00,2,     0.13,2, -999.000,9, -999.000,9,   -999.0,9,  -999.00,9,   1935.7,2,    230.9,2,   2312.9,2,     8.15,2, -999.00,  -999.0, -999.00,  -999.0
    31DSCG96_2,  P15S,   152,  1,    133,   1221,2,19960229,0231,-13.5015,-169.9997, 4860,   -999,     70.1,  28.7260,  35.6744,2,  35.6653,2,    192.0,2, 28.7092,    191.5,2,     1.64,2,     0.01,2,     0.00,2,     0.22,2, -999.000,9, -999.000,9,   -999.0,9,  -999.00,9,   -999.0,9,   -999.0,9,   -999.0,9,  -999.00,9, -999.00,  -999.0, -999.00,  -999.0
    31DSCG96_2,  P15S,   152,  1,    132,   1039,2,19960229,0231,-13.5015,-169.9997, 4860,   -999,     95.4,  28.0298,  35.9847,2,  35.9826,2,    188.7,2, 28.0072,    190.3,2,     1.51,2,     0.01,2,     0.00,2,     0.22,2, -999.000,9, -999.000,9,   -999.0,9,  -999.00,9,   2001.9,2,    262.9,2,   2367.0,2,     8.12,2, -999.00,  -999.0, -999.00,  -999.0
    31DSCG96_2,  P15S,   152,  1,    131,   1014,2,19960229,0231,-13.5015,-169.9997, 4860,   -999,    124.8,  26.5294,  36.2228,2,  36.2107,2,    171.3,2, 26.5010,    183.2,2,     1.40,2,     0.06,2,     0.02,2,     0.26,2, -999.000,9, -999.000,9,   -999.0,9,  -999.00,9,   -999.0,9,   -999.0,9,   -999.0,9,     8.09,2, -999.00,  -999.0, -999.00,  -999.0
    31DSCG96_2,  P15S,   152,  1,    130,   1257,2,19960229,0231,-13.5015,-169.9997, 4860,   -999,    147.6,  25.2627,  36.3149,2,  36.3125,2,    158.2,2, 25.2303,    164.0,2,     1.54,2,     1.86,2,     0.67,2,     0.43,2, -999.000,9, -999.000,9,   -999.0,9,  -999.00,9,   2067.4,2,    325.7,2,   2389.9,2,     8.04,2, -999.00,  -999.0, -999.00,  -999.0
    31DSCG96_2,  P15S,   152,  1,    129,   1256,2,19960229,0231,-13.5015,-169.9997, 4860,   -999,    194.1,  23.0730,  36.2054,2,  36.2164,2,    157.4,2, 23.0331,   -999.0,9,     1.56,2,     4.60,2,     0.03,2,     0.55,2, -999.000,9, -999.000,9,   -999.0,9,  -999.00,9,   2090.5,2,    371.1,2,   2383.1,2,     7.99,2, -999.00,  -999.0, -999.00,  -999.0
    31DSCG96_2,  P15S,   152,  1,    128,   1007,2,19960229,0231,-13.5015,-169.9997, 4860,   -999,    238.3,  20.3506,  35.8455,2,  35.8417,2,    155.0,2, 20.3057,    154.7,2,     2.23,2,     6.63,2,     0.01,2,     0.69,2, -999.000,9, -999.000,9,   -999.0,9,  -999.00,9,   -999.0,9,   -999.0,9,   -999.0,9,     7.94,2, -999.00,  -999.0, -999.00,  -999.0
    31DSCG96_2,  P15S,   152,  1,    127,   1232,2,19960229,0231,-13.5015,-169.9997, 4860,   -999,    285.1,  17.3837,  35.4318,2,  35.4311,2,    137.3,2, 17.3357,    157.7,3,     4.68,2,    10.61,2,     0.01,2,     0.98,2, -999.000,9, -999.000,9,   -999.0,9,  -999.00,9,   2122.3,2,    538.7,2,   2337.3,2,     7.86,2, -999.00,  -999.0, -999.00,  -999.0
    31DSCG96_2,  P15S,   152,  1,    126,   1025,4,19960229,0231,-13.5015,-169.9997, 4860,   -999,    375.1,  11.8385,  34.8160,2,-999.0000,9,    115.0,2, 11.7897,   -999.0,9,  -999.00,9,  -999.00,9,  -999.00,9,  -999.00,9, -999.000,9, -999.000,9,   -999.0,9,  -999.00,9,   -999.0,9,   -999.0,9,   -999.0,9,  -999.00,9, -999.00,  -999.0, -999.00,  -999.0
    31DSCG96_2,  P15S,   152,  1,    125,   1119,2,19960229,0231,-13.5015,-169.9997, 4860,   -999,    475.1,   8.2846,  34.5634,2,  34.5625,2,    140.1,2,  8.2350,    138.5,6,    22.09,2,    27.63,2,     0.00,2,     1.97,2, -999.000,9, -999.000,9,   -999.0,9,  -999.00,9,   2187.1,2,    975.5,2,   2299.3,2,     7.64,2, -999.00,  -999.0, -999.00,  -999.0
    31DSCG96_2,  P15S,   152,  1,    124,   1244,2,19960229,0231,-13.5015,-169.9997, 4860,   -999,    576.9,   6.5443,  34.4766,2,  34.4756,2,    153.3,2,  6.4912,    150.5,6,    30.44,2,    30.39,2,     0.00,2,     2.12,2, -999.000,9, -999.000,9,   -999.0,9,  -999.00,9,   2197.2,2,   1031.1,2,   2305.8,2,     7.62,2, -999.00,  -999.0, -999.00,  -999.0
    31DSCG96_2,  P15S,   152,  1,    123,   1250,2,19960229,0231,-13.5015,-169.9997, 4860,   -999,    577.3,   6.5438,  34.4766,2,  34.4755,2,    153.3,2,  6.4907,    151.3,2,    30.47,2,    30.43,2,     0.00,2,     2.11,2, -999.000,9, -999.000,9,   -999.0,9,  -999.00,9,   -999.0,9,   -999.0,9,   -999.0,9,     7.62,2, -999.00,  -999.0, -999.00,  -999.0
    31DSCG96_2,  P15S,   152,  1,    122,   1265,2,19960229,0231,-13.5015,-169.9997, 4860,   -999,    676.8,   5.7013,  34.4711,2,  34.4703,2,    148.0,2,  5.6429,    145.9,2,    40.79,2,    32.64,2,     0.00,2,     2.26,2, -999.000,9, -999.000,9,   -999.0,9,  -999.00,9,   -999.0,9,   -999.0,9,   -999.0,9,     7.59,2, -999.00,  -999.0, -999.00,  -999.0
    31DSCG96_2,  P15S,   152,  1,    121,   1246,2,19960229,0231,-13.5015,-169.9997, 4860,   -999,    776.0,   5.1529,  34.4791,2,  34.4776,2,    141.1,2,  5.0886,    141.6,2,    49.89,2,    34.02,2,     0.00,2,     2.35,2, -999.000,9, -999.000,9,   -999.0,9,  -999.00,9,   2231.2,2,   1178.7,2,   2322.3,2,     7.58,2, -999.00,  -999.0, -999.00,  -999.0
    31DSCG96_2,  P15S,   152,  1,    120,   1015,2,19960229,0231,-13.5015,-169.9997, 4860,   -999,    876.7,   4.7046,  34.4941,2,  34.4949,2,    135.8,2,  4.6343,    135.6,2,    59.23,2,    35.22,2,     0.00,2,     2.44,2, -999.000,9, -999.000,9,   -999.0,9,  -999.00,9,   -999.0,9,   -999.0,9,   -999.0,9,     7.56,2, -999.00,  -999.0, -999.00,  -999.0
    31DSCG96_2,  P15S,   152,  1,    119,   1247,2,19960229,0231,-13.5015,-169.9997, 4860,   -999,    977.0,   4.3421,  34.5063,2,  34.5084,2,    134.6,2,  4.2658,    134.6,2,    66.46,2,    35.74,2,     0.00,2,     2.48,2, -999.000,9, -999.000,9,   -999.0,9,  -999.00,9,   -999.0,9,   -999.0,9,   -999.0,9,     7.56,2, -999.00,  -999.0, -999.00,  -999.0
    31DSCG96_2,  P15S,   152,  1,    118,   1299,2,19960229,0231,-13.5015,-169.9997, 4860,   -999,   1074.6,   3.9819,  34.5215,2,  34.5218,2,    135.0,2,  3.9001,    132.6,2,    74.49,2,    36.14,2,     0.00,2,     2.53,2, -999.000,9, -999.000,9,   -999.0,9,  -999.00,9,   2263.4,2,   1238.3,2,   2349.3,2,     7.55,2, -999.00,  -999.0, -999.00,  -999.0
    31DSCG96_2,  P15S,   152,  1,    117,   1242,2,19960229,0231,-13.5015,-169.9997, 4860,   -999,   1174.4,   3.6619,  34.5380,2,  34.5370,2,    133.5,2,  3.5745,    132.8,2,    81.70,2,    36.43,2,     0.00,2,     2.54,2, -999.000,9, -999.000,9,   -999.0,9,  -999.00,9,   -999.0,9,   -999.0,9,   -999.0,9,     7.55,2, -999.00,  -999.0, -999.00,  -999.0
    31DSCG96_2,  P15S,   152,  1,    116,   1259,2,19960229,0231,-13.5015,-169.9997, 4860,   -999,   1274.4,   3.3815,  34.5543,2,  34.5533,2,    132.7,2,  3.2883,    132.1,2,    88.55,2,    36.75,2,     0.00,2,     2.56,2, -999.000,9, -999.000,9,   -999.0,9,  -999.00,9,   -999.0,9,   -999.0,9,   -999.0,9,     7.55,2, -999.00,  -999.0, -999.00,  -999.0
    31DSCG96_2,  P15S,   152,  1,    115,   1041,2,19960229,0231,-13.5015,-169.9997, 4860,   -999,   1450.0,   3.0195,  34.5736,2,  34.5732,2,    136.4,2,  2.9156,    135.9,2,    96.00,2,    36.56,2,     0.00,2,     2.55,2, -999.000,9, -999.000,9,   -999.0,9,  -999.00,9,   2287.0,2,   1255.7,2,   2369.8,2,     7.55,2, -999.00,  -999.0, -999.00,  -999.0
    31DSCG96_2,  P15S,   152,  1,    114,   1017,2,19960229,0231,-13.5015,-169.9997, 4860,   -999,   1686.7,   2.5528,  34.6029,2,  34.6030,2,    141.8,2,  2.4348,    142.5,2,   106.19,2,    36.14,2,     0.00,2,     2.52,2, -999.000,9, -999.000,9,   -999.0,9,  -999.00,9,   -999.0,9,   -999.0,9,   -999.0,9,     7.56,2, -999.00,  -999.0, -999.00,  -999.0
    31DSCG96_2,  P15S,   152,  1,    113,   1302,2,19960229,0231,-13.5015,-169.9997, 4860,   -999,   1940.9,   2.2282,  34.6294,2,  34.6292,2,    144.0,2,  2.0933,    144.7,2,   115.70,2,    36.09,2,     0.00,2,     2.52,2, -999.000,9, -999.000,9,   -999.0,9,  -999.00,9,   2302.5,2,   1207.9,2,   2394.2,2,     7.56,2, -999.00,  -999.0, -999.00,  -999.0
    31DSCG96_2,  P15S,   152,  1,    112,   1217,2,19960229,0231,-13.5015,-169.9997, 4860,   -999,   2189.6,   2.0180,  34.6472,2,  34.6480,2,    146.7,2,  1.8650,    147.7,6,   121.68,2,    35.98,2,     0.00,2,     2.50,2, -999.000,9, -999.000,9,   -999.0,9,  -999.00,9,   -999.0,9,   -999.0,9,   -999.0,9,     7.57,2, -999.00,  -999.0, -999.00,  -999.0
    31DSCG96_2,  P15S,   152,  1,    111,   1226,2,19960229,0231,-13.5015,-169.9997, 4860,   -999,   2439.4,   1.9057,  34.6585,2,  34.6582,2,    147.5,2,  1.7326,    148.1,2,   126.57,2,    36.03,2,     0.00,2,     2.50,2, -999.000,9, -999.000,9,   -999.0,9,  -999.00,9,   2313.4,3,   1196.1,2,   2405.9,2,     7.57,2, -999.00,  -999.0, -999.00,  -999.0
    31DSCG96_2,  P15S,   152,  1,    110,   1301,2,19960229,0231,-13.5015,-169.9997, 4860,   -999,   2691.4,   1.8094,  34.6668,2,  34.6654,2,    148.2,2,  1.6151,    148.1,2,   130.87,2,    36.09,2,     0.00,2,     2.50,2, -999.000,9, -999.000,9,   -999.0,9,  -999.00,9,   -999.0,9,   -999.0,9,   -999.0,9,     7.57,2, -999.00,  -999.0, -999.00,  -999.0
    31DSCG96_2,  P15S,   152,  1,    109,   1031,2,19960229,0231,-13.5015,-169.9997, 4860,   -999,   2940.8,   1.7134,  34.6728,2,  34.6723,2,    149.5,2,  1.4975,    148.2,2,   134.13,2,    36.01,2,     0.00,2,     2.50,2, -999.000,9, -999.000,9,   -999.0,9,  -999.00,9,   2318.0,3,   1194.8,2,   2415.4,2,     7.58,2, -999.00,  -999.0, -999.00,  -999.0
    31DSCG96_2,  P15S,   152,  1,    108,   1227,2,19960229,0231,-13.5015,-169.9997, 4860,   -999,   3188.7,   1.6493,  34.6773,2,  34.6765,2,    151.9,2,  1.4108,    151.9,2,   135.53,2,    35.88,2,     0.00,2,     2.49,2, -999.000,9, -999.000,9,   -999.0,9,  -999.00,9,   -999.0,9,   -999.0,9,   -999.0,9,     7.58,2, -999.00,  -999.0, -999.00,  -999.0
    31DSCG96_2,  P15S,   152,  1,    107,   1263,2,19960229,0231,-13.5015,-169.9997, 4860,   -999,   3440.3,   1.5793,  34.6822,2,  34.6828,2,    156.2,2,  1.3172,    156.8,2,   135.31,2,    35.52,2,     0.00,2,     2.46,2,    0.001,2,    0.000,2,   -999.0,9,  -999.00,9,   2312.3,3,   1168.0,2,   2408.8,2,     7.58,2, -999.00,  -999.0, -999.00,  -999.0
    31DSCG96_2,  P15S,   152,  1,    106,   1262,2,19960229,0231,-13.5015,-169.9997, 4860,   -999,   3688.0,   1.4898,  34.6895,2,  34.6897,2,    168.7,2,  1.2044,    167.1,2,   131.18,2,    34.76,2,     0.00,2,     2.40,2, -999.000,9, -999.000,9,   -999.0,9,  -999.00,9,   -999.0,9,   -999.0,9,   -999.0,9,     7.59,2, -999.00,  -999.0, -999.00,  -999.0
    31DSCG96_2,  P15S,   152,  1,    105,   1264,2,19960229,0231,-13.5015,-169.9997, 4860,   -999,   3937.8,   1.3306,  34.7025,2,  34.7023,2,    185.5,2,  1.0230,    185.3,2,   122.95,2,    33.34,2,     0.00,2,     2.30,2,    0.001,2,    0.000,2,   -999.0,9,  -999.00,9,   2278.2,2,   1103.6,2,   2385.5,2,     7.60,2, -999.00,  -999.0, -999.00,  -999.0
    31DSCG96_2,  P15S,   152,  1,    104,   1003,2,19960229,0231,-13.5015,-169.9997, 4860,   -999,   4188.8,   1.1561,  34.7125,2,  34.7126,2,    200.6,2,  0.8262,    201.2,2,   117.30,2,    32.17,2,     0.00,2,     2.21,2,    0.007,2,    0.002,2,   -999.0,9,  -999.00,9,   -999.0,9,   -999.0,9,   -999.0,9,     7.61,2, -999.00,  -999.0, -999.00,  -999.0
    31DSCG96_2,  P15S,   152,  1,    103,   1035,2,19960229,0231,-13.5015,-169.9997, 4860,   -999,   4439.9,   1.0558,  34.7108,2,  34.7105,2,    204.7,2,  0.7012,    204.7,6,   119.09,2,    32.10,2,     0.00,2,     2.21,2,    0.006,2,    0.003,2,   -999.0,9,  -999.00,9,   2262.4,2,   1073.3,2,   2370.6,2,     7.61,2, -999.00,  -999.0, -999.00,  -999.0
    31DSCG96_2,  P15S,   152,  1,    102,   1030,2,19960229,0231,-13.5015,-169.9997, 4860,   -999,   4689.6,   1.0477,  34.7098,2,  34.7106,2,    205.8,2,  0.6650,    205.8,2,   119.80,2,    32.10,2,     0.00,2,     2.21,2,    0.011,2,    0.005,2,   -999.0,9,  -999.00,9,   -999.0,9,   -999.0,9,   -999.0,9,     7.61,2, -999.00,  -999.0, -999.00,  -999.0
    31DSCG96_2,  P15S,   152,  1,    101,   1022,2,19960229,0231,-13.5015,-169.9997, 4860,   -999,   4949.7,   1.0553,  34.7092,2,  34.7087,2,    206.4,2,  0.6418,    206.1,2,   120.48,6,    32.18,6,     0.00,6,     2.21,2,    0.007,6,    0.005,6,   -999.0,9,  -999.00,9,   2262.2,2,   1102.4,2,   -999.0,9,     7.61,2, -999.00,  -999.0, -999.00,  -999.0