BOTTLE,20220811CCHSIOAMB
EXPOCODE,SECT_ID,STNNBR,CASTNO,SAMPNO,BTLNBR,BTLNBR_FLAG_W,DATE,TIME,LATITUDE,LONGITUDE,DEPTH,CTDRAW,CTDPRS,CTDTMP,CTDSAL,CTDSAL_FLAG_W,SALNTY,SALNTY_FLAG_W,CTDOXY,CTDOXY_FLAG_W,THETA,OXYGEN,OXYGEN_FLAG_W,SILCAT,SILCAT_FLAG_W,NITRAT,NITRAT_FLAG_W,NITRIT,NITRIT_FLAG_W,PHSPHT,PHSPHT_FLAG_W,CFC-11,CFC-11_FLAG_W,CFC-12,CFC-12_FLAG_W,DELC14,DELC14_FLAG_W,DELC13,DELC13_FLAG_W,TCARBN,TCARBN_FLAG_W,PCO2,PCO2_FLAG_W,ALKALI,ALKALI_FLAG_W,PH,PH_FLAG_W,PCO2TMP,C14ERR,PH_TMP,C13ERR
,,,,,,,,,,,,DBAR,DBAR,ITS-90,PSS-78,,PSS-78,,UMOL/KG,,DEG C,UMOL/KG,,UMOL/KG,,UMOL/KG,,UMOL/KG,,UMOL/KG,,PMOL/KG,,PMOL/KG,,/MILLE,,/MILLE,,UMOL/KG,,UATM,,UMOL/KG,,,,DEG C,/MILLE,DEG C,/MILLE
    31DSCG96_1,  P15S,    52,  1,    134,   1119,2,19960124,0122,-57.0037,-170.0027, 5165,   -999,     10.8,   5.5888,  33.9999,2,  34.0008,2,    308.0,2,  5.5880,    313.3,2,     1.54,2,    20.54,2,     0.18,2,     1.42,2,    5.076,2,    2.568,2,    -33.0,2,  -999.00,9,   2105.1,2,    618.1,2,   -999.0,9,     7.81,2, -999.00,     2.7, -999.00,  -999.0
    31DSCG96_1,  P15S,    52,  1,    133,   1221,2,19960124,0122,-57.0037,-170.0027, 5165,   -999,     21.4,   5.5678,  34.0009,2,  33.9998,2,    311.5,2,  5.5661,    313.3,2,     1.57,2,    20.58,2,     0.17,2,     1.42,2,    5.064,2,    2.566,2,   -999.0,9,  -999.00,9,   -999.0,9,   -999.0,9,   -999.0,9,     7.80,2, -999.00,  -999.0, -999.00,  -999.0
    31DSCG96_1,  P15S,    52,  1,    132,   1039,2,19960124,0122,-57.0037,-170.0027, 5165,   -999,     43.1,   5.3794,  34.0175,2,  34.0179,2,    311.6,2,  5.3760,    313.1,2,     1.48,2,    20.67,2,     0.17,2,     1.44,2,    5.085,6,    2.570,6,   -999.0,9,  -999.00,9,   -999.0,9,   -999.0,9,   -999.0,9,     7.80,2, -999.00,  -999.0, -999.00,  -999.0
    31DSCG96_1,  P15S,    52,  1,    131,   1014,2,19960124,0122,-57.0037,-170.0027, 5165,   -999,     69.3,   5.0642,  34.0303,2,  34.0320,2,    309.4,2,  5.0590,    311.4,2,     1.70,2,    20.90,2,     0.19,2,     1.49,2,    5.149,2,    2.576,2,   -999.0,9,  -999.00,9,   -999.0,9,   -999.0,9,   -999.0,9,     7.79,2, -999.00,  -999.0, -999.00,  -999.0
    31DSCG96_1,  P15S,    52,  1,    130,   1257,2,19960124,0122,-57.0037,-170.0027, 5165,   -999,     96.5,   4.0689,  34.1021,2,  34.0998,2,    306.4,2,  4.0623,    299.6,2,    10.15,2,    23.59,2,     0.36,2,     1.70,2,    4.966,2,    2.472,2,   -999.0,9,  -999.00,9,   -999.0,9,   -999.0,9,   -999.0,9,     7.74,2, -999.00,  -999.0, -999.00,  -999.0
    31DSCG96_1,  P15S,    52,  1,    129,   1256,2,19960124,0122,-57.0037,-170.0027, 5165,   -999,    140.9,   3.7808,  34.0963,2,  34.0965,2,    298.0,2,  3.7714,    299.0,2,    11.87,2,    24.83,2,     0.21,2,     1.70,2,    4.884,2,    2.441,2,   -999.0,9,  -999.00,9,   -999.0,9,   -999.0,9,   -999.0,9,     7.73,2, -999.00,  -999.0, -999.00,  -999.0
    31DSCG96_1,  P15S,    52,  1,    128,   1007,2,19960124,0122,-57.0037,-170.0027, 5165,   -999,    190.1,   3.5055,  34.0830,2,  34.0823,2,    300.4,2,  3.4932,    300.8,2,    12.79,2,    25.36,2,     0.09,2,     1.72,2,    4.926,2,    2.437,2,   -999.0,9,  -999.00,9,   -999.0,9,   -999.0,9,   -999.0,9,     7.73,2, -999.00,  -999.0, -999.00,  -999.0
    31DSCG96_1,  P15S,    52,  1,    127,   1234,2,19960124,0122,-57.0037,-170.0027, 5165,   -999,    239.8,   3.2035,  34.0626,2,  34.0634,2,    293.6,2,  3.1885,    301.4,2,    13.67,2,    25.86,2,     0.05,2,     1.76,2,    5.010,2,    2.499,2,   -999.0,9,  -999.00,9,   -999.0,9,   -999.0,9,   -999.0,9,     7.72,2, -999.00,  -999.0, -999.00,  -999.0
    31DSCG96_1,  P15S,    52,  1,    126,   1025,2,19960124,0122,-57.0037,-170.0027, 5165,   -999,    288.7,   2.9334,  34.0576,2,  34.0568,2,    292.1,2,  2.9158,    296.4,2,    15.96,2,    26.87,2,     0.03,2,     1.82,2,    4.868,2,    2.389,2,   -999.0,9,  -999.00,9,   -999.0,9,   -999.0,9,   -999.0,9,     7.71,2, -999.00,  -999.0, -999.00,  -999.0
    31DSCG96_1,  P15S,    52,  1,    125,   1233,2,19960124,0122,-57.0037,-170.0027, 5165,   -999,    372.2,   2.2713,  34.0307,2,  34.0375,2,    285.3,2,  2.2504,    298.7,2,    18.66,2,    27.57,2,     0.18,2,     1.88,2,    4.976,2,    2.431,2,   -999.0,9,  -999.00,9,   -999.0,9,   -999.0,9,   -999.0,9,     7.69,2, -999.00,  -999.0, -999.00,  -999.0
    31DSCG96_1,  P15S,    52,  1,    124,   1218,2,19960124,0122,-57.0037,-170.0027, 5165,   -999,    474.3,   2.9827,  34.1956,2,  34.1970,2,    232.9,2,  2.9528,    243.9,2,    30.91,2,    30.74,2,     0.00,2,     2.09,2,    3.053,2,    1.466,2,   -999.0,9,  -999.00,9,   -999.0,9,   -999.0,9,   -999.0,9,     7.64,2, -999.00,  -999.0, -999.00,  -999.0
    31DSCG96_1,  P15S,    52,  1,    123,   1250,2,19960124,0122,-57.0037,-170.0027, 5165,   -999,    577.2,   2.9835,  34.2949,2,  33.8992,4,    212.7,2,  2.9465,    216.2,2,    41.70,2,    32.55,2,     0.00,2,     2.21,2,    1.946,2,    0.932,2,   -999.0,9,  -999.00,9,   -999.0,9,   -999.0,9,   -999.0,9,     7.61,2, -999.00,  -999.0, -999.00,  -999.0
    31DSCG96_1,  P15S,    52,  1,    122,   1109,2,19960124,0122,-57.0037,-170.0027, 5165,   -999,    672.4,   2.7772,  34.3549,2,  34.3548,2,    202.7,2,  2.7347,    201.7,2,    50.55,2,    33.60,2,     0.00,2,     2.29,2,    1.402,2,    0.670,2,   -999.0,9,  -999.00,9,   -999.0,9,   -999.0,9,   -999.0,9,     7.59,2, -999.00,  -999.0, -999.00,  -999.0
    31DSCG96_1,  P15S,    52,  1,    121,   1246,2,19960124,0122,-57.0037,-170.0027, 5165,   -999,    771.7,   2.6602,  34.4169,2,  34.4164,2,    190.7,2,  2.6114,    189.4,2,    57.94,2,    34.11,2,     0.00,2,     2.33,2,    1.014,6,    0.479,6,   -999.0,9,  -999.00,9,   -999.0,9,   -999.0,9,   -999.0,9,     7.57,2, -999.00,  -999.0, -999.00,  -999.0
    31DSCG96_1,  P15S,    52,  1,    120,   1015,2,19960124,0122,-57.0037,-170.0027, 5165,   -999,    874.9,   2.5511,  34.4711,2,  34.4711,2,    182.2,2,  2.4957,    182.1,2,    63.86,2,    34.34,2,     0.00,2,     2.35,2,    0.761,2,    0.356,2,   -999.0,9,  -999.00,9,   -999.0,9,   -999.0,9,   -999.0,9,     7.57,2, -999.00,  -999.0, -999.00,  -999.0
    31DSCG96_1,  P15S,    52,  1,    119,   1247,2,19960124,0122,-57.0037,-170.0027, 5165,   -999,    979.3,   2.4930,  34.5207,2,  34.5213,2,    177.4,2,  2.4305,    177.2,2,    68.29,2,    34.37,2,     0.00,2,     2.35,2,    0.551,2,    0.266,2,   -999.0,9,  -999.00,9,   -999.0,9,   -999.0,9,   -999.0,9,     7.57,2, -999.00,  -999.0, -999.00,  -999.0
    31DSCG96_1,  P15S,    52,  1,    118,   1222,2,19960124,0122,-57.0037,-170.0027, 5165,   -999,   1075.0,   2.4495,  34.5634,2,  34.5627,2,    175.0,2,  2.3804,    174.8,2,    71.64,2,    34.05,2,     0.00,2,     2.32,2,    0.402,2,    0.193,2,   -999.0,9,  -999.00,9,   -999.0,9,   -999.0,9,   -999.0,9,     7.56,2, -999.00,  -999.0, -999.00,  -999.0
    31DSCG96_1,  P15S,    52,  1,    117,   1267,2,19960124,0122,-57.0037,-170.0027, 5165,   -999,   1212.5,   2.3886,  34.6174,2,  34.6180,2,    174.8,2,  2.3097,    175.1,2,    75.36,2,    33.45,2,     0.00,2,     2.28,2,    0.244,2,    0.131,2,   -999.0,9,  -999.00,9,   -999.0,9,   -999.0,9,   -999.0,9,     7.57,2, -999.00,  -999.0, -999.00,  -999.0
    31DSCG96_1,  P15S,    52,  1,    116,   1211,2,19960124,0122,-57.0037,-170.0027, 5165,   -999,   1441.8,   2.2681,  34.6755,2,  34.6748,2,    178.2,2,  2.1730,    178.5,2,    79.45,2,    32.50,2,     0.00,2,     2.22,2,    0.150,2,    0.074,2,   -999.0,9,  -999.00,9,   -999.0,9,   -999.0,9,   -999.0,9,     7.58,2, -999.00,  -999.0, -999.00,  -999.0
    31DSCG96_1,  P15S,    52,  1,    115,   1041,2,19960124,0122,-57.0037,-170.0027, 5165,   -999,   1690.6,   2.1284,  34.7128,2,  34.7116,2,    183.6,2,  2.0152,    183.9,2,    83.25,2,    31.72,2,     0.00,2,     2.16,2,    0.104,2,    0.051,2,   -999.0,9,  -999.00,9,   -999.0,9,   -999.0,9,   -999.0,9,     7.60,2, -999.00,  -999.0, -999.00,  -999.0
    31DSCG96_1,  P15S,    52,  1,    114,   1017,2,19960124,0122,-57.0037,-170.0027, 5165,   -999,   1945.7,   1.9695,  34.7319,2,  34.7316,2,    188.8,2,  1.8377,    189.2,2,    87.77,2,    31.28,2,     0.00,2,     2.13,2,    0.066,2,    0.031,2,   -999.0,9,  -999.00,9,   -999.0,9,   -999.0,9,   -999.0,9,     7.61,2, -999.00,  -999.0, -999.00,  -999.0
    31DSCG96_1,  P15S,    52,  1,    113,   1302,2,19960124,0122,-57.0037,-170.0027, 5165,   -999,   2289.3,   1.7133,  34.7388,2,  34.7380,2,    194.1,2,  1.5565,    194.6,2,    95.10,2,    31.08,2,     0.00,2,     2.12,2,    0.058,6,    0.030,6,   -999.0,9,  -999.00,9,   -999.0,9,   -999.0,9,   -999.0,9,     7.61,2, -999.00,  -999.0, -999.00,  -999.0
    31DSCG96_1,  P15S,    52,  1,    112,   1217,3,19960124,0122,-57.0037,-170.0027, 5165,   -999,   2437.5,   1.6233,  34.7386,2,  34.7365,2,    196.2,2,  1.4552,    195.8,6,    97.77,2,    31.16,2,     0.00,2,     2.13,2, -999.000,5, -999.000,5,   -999.0,9,  -999.00,9,   -999.0,9,   -999.0,9,   -999.0,9,  -999.00,9, -999.00,  -999.0, -999.00,  -999.0
    31DSCG96_1,  P15S,    52,  1,    111,   1114,2,19960124,0122,-57.0037,-170.0027, 5165,   -999,   2688.2,   1.4525,  34.7343,2,  34.7339,2,    198.9,2,  1.2653,    198.5,2,   103.21,2,    31.39,2,     0.00,2,     2.14,2,    0.047,2,    0.023,2,   -999.0,9,  -999.00,9,   -999.0,9,   -999.0,9,   -999.0,9,     7.61,2, -999.00,  -999.0, -999.00,  -999.0
    31DSCG96_1,  P15S,    52,  1,    110,   1301,2,19960124,0122,-57.0037,-170.0027, 5165,   -999,   2939.3,   1.3023,  34.7287,2,  34.7272,2,    200.7,2,  1.0953,    200.7,2,   107.88,2,    31.62,2,     0.00,2,     2.15,2,    0.040,6,    0.022,6,   -999.0,9,  -999.00,9,   -999.0,9,   -999.0,9,   -999.0,9,     7.61,2, -999.00,  -999.0, -999.00,  -999.0
    31DSCG96_1,  P15S,    52,  1,    109,   1242,2,19960124,0122,-57.0037,-170.0027, 5165,   -999,   3185.3,   1.1622,  34.7227,2,  34.7210,2,    202.5,2,  0.9351,    202.9,2,   112.04,2,    31.77,2,     0.00,2,     2.16,2,    0.042,2,    0.026,2,   -999.0,9,  -999.00,9,   -999.0,9,   -999.0,9,   -999.0,9,     7.61,2, -999.00,  -999.0, -999.00,  -999.0
    31DSCG96_1,  P15S,    52,  1,    108,   1263,2,19960124,0122,-57.0037,-170.0027, 5165,   -999,   3440.4,   1.0474,  34.7173,2,  34.7158,2,    204.7,2,  0.7984,    205.8,6,   115.45,2,    31.89,2,     0.00,2,     2.18,2,    0.043,2,    0.022,2,   -999.0,9,  -999.00,9,   -999.0,9,   -999.0,9,   -999.0,9,     7.61,2, -999.00,  -999.0, -999.00,  -999.0
    31DSCG96_1,  P15S,    52,  1,    107,   1245,2,19960124,0122,-57.0037,-170.0027, 5165,   -999,   3689.4,   0.9558,  34.7126,2,  34.7112,2,    207.1,2,  0.6842,    206.8,2,   118.57,2,    32.09,2,     0.00,2,     2.19,2,    0.056,2,    0.024,2,   -999.0,9,  -999.00,9,   -999.0,9,   -999.0,9,   -999.0,9,     7.61,2, -999.00,  -999.0, -999.00,  -999.0
    31DSCG96_1,  P15S,    52,  1,    106,   1262,2,19960124,0122,-57.0037,-170.0027, 5165,   -999,   3941.1,   0.9031,  34.7091,2,  34.7111,2,    208.3,2,  0.6071,    208.0,2,   120.72,2,    32.20,2,     0.00,2,     2.19,2,    0.068,2,    0.034,2,   -999.0,9,  -999.00,9,   -999.0,9,   -999.0,9,   -999.0,9,     7.61,2, -999.00,  -999.0, -999.00,  -999.0
    31DSCG96_1,  P15S,    52,  1,    105,   1113,2,19960124,0122,-57.0037,-170.0027, 5165,   -999,   4190.7,   0.8771,  34.7072,2,  34.7078,2,    209.1,2,  0.5553,    209.5,6,   122.13,2,    32.23,2,     0.00,2,     2.20,2,    0.078,2,    0.037,2,   -999.0,9,  -999.00,9,   -999.0,9,   -999.0,9,   -999.0,9,     7.61,2, -999.00,  -999.0, -999.00,  -999.0
    31DSCG96_1,  P15S,    52,  1,    104,   1003,2,19960124,0122,-57.0037,-170.0027, 5165,   -999,   4439.9,   0.8712,  34.7060,2,  34.7049,2,    209.6,2,  0.5223,    210.2,2,   123.80,2,    32.25,2,     0.00,2,     2.20,2,    0.066,2,    0.040,2,   -999.0,9,  -999.00,9,   -999.0,9,   -999.0,9,   -999.0,9,     7.61,2, -999.00,  -999.0, -999.00,  -999.0
    31DSCG96_1,  P15S,    52,  1,    103,   9999,2,19960124,0122,-57.0037,-170.0027, 5165,   -999,   4875.2,   0.9069,  34.7049,2,  34.7049,2,    209.9,2,  0.5072,    209.8,2,   124.28,2,    32.29,2,     0.00,2,     2.20,2,    0.082,2,    0.036,2,   -999.0,9,  -999.00,9,   -999.0,9,   -999.0,9,   -999.0,9,     7.61,2, -999.00,  -999.0, -999.00,  -999.0
    31DSCG96_1,  P15S,    52,  1,    102,   1030,2,19960124,0122,-57.0037,-170.0027, 5165,   -999,   4876.9,   0.9067,  34.7050,2,  34.7061,2,    210.0,2,  0.5068,    210.3,2,   124.28,2,    32.26,2,     0.00,2,     2.20,2,    0.085,2,    0.051,2,   -999.0,9,  -999.00,9,   -999.0,9,   -999.0,9,   -999.0,9,     7.61,2, -999.00,  -999.0, -999.00,  -999.0
    31DSCG96_1,  P15S,    52,  1,    101,   1022,2,19960124,0122,-57.0037,-170.0027, 5165,   -999,   5260.1,   0.9498,  34.7044,2,  34.7038,2,    209.7,2,  0.5028,    210.1,2,   124.30,6,    32.25,6,     0.00,6,     2.20,2,    0.091,6,    0.045,6,   -999.0,9,  -999.00,9,   -999.0,9,   -999.0,9,   -999.0,9,     7.61,2, -999.00,  -999.0, -999.00,  -999.0