BOTTLE,20220811CCHSIOAMB
EXPOCODE,SECT_ID,STNNBR,CASTNO,SAMPNO,BTLNBR,BTLNBR_FLAG_W,DATE,TIME,LATITUDE,LONGITUDE,DEPTH,CTDRAW,CTDPRS,CTDTMP,CTDSAL,CTDSAL_FLAG_W,SALNTY,SALNTY_FLAG_W,CTDOXY,CTDOXY_FLAG_W,THETA,OXYGEN,OXYGEN_FLAG_W,SILCAT,SILCAT_FLAG_W,NITRAT,NITRAT_FLAG_W,NITRIT,NITRIT_FLAG_W,PHSPHT,PHSPHT_FLAG_W,CFC-11,CFC-11_FLAG_W,CFC-12,CFC-12_FLAG_W,DELC14,DELC14_FLAG_W,DELC13,DELC13_FLAG_W,TCARBN,TCARBN_FLAG_W,PCO2,PCO2_FLAG_W,ALKALI,ALKALI_FLAG_W,PH,PH_FLAG_W,PCO2TMP,C14ERR,PH_TMP,C13ERR
,,,,,,,,,,,,DBAR,DBAR,ITS-90,PSS-78,,PSS-78,,UMOL/KG,,DEG C,UMOL/KG,,UMOL/KG,,UMOL/KG,,UMOL/KG,,UMOL/KG,,PMOL/KG,,PMOL/KG,,/MILLE,,/MILLE,,UMOL/KG,,UATM,,UMOL/KG,,,,DEG C,/MILLE,DEG C,/MILLE
    31DSCG96_2,  P15S,   165,  1,    136,   1245,2,19960303,1141, -6.9998,-168.7483, 5628,   -999,      4.4,  28.9263,  35.6723,2,  35.6725,2,    200.7,2, 28.9252,    195.9,2,     1.09,2,     0.00,2,     0.00,2,     0.19,2,    1.595,2,    0.904,2,     73.2,2,     1.71,2,   1977.6,2,    264.5,2,   2346.4,2,     8.13,2, -999.00,     3.0, -999.00,  -999.0
    31DSCG96_2,  P15S,   165,  1,    135,   1113,2,19960303,1141, -6.9998,-168.7483, 5628,   -999,     29.8,  28.8141,  35.6687,2,  35.6701,2,    196.4,2, 28.8069,    196.4,2,     1.21,2,     0.00,2,     0.00,2,     0.19,2,    1.623,2,    0.907,2,     82.1,2,     1.72,2,   -999.0,9,   -999.0,9,   -999.0,9,     8.13,2, -999.00,     3.5, -999.00,  -999.0
    31DSCG96_2,  P15S,   165,  1,    134,   1267,2,19960303,1141, -6.9998,-168.7483, 5628,   -999,     53.8,  28.7856,  35.6720,2,  35.6744,2,    195.3,2, 28.7727,    196.8,2,     1.21,2,     0.00,2,     0.00,2,     0.20,2,    1.590,2,    0.902,2,     86.4,2,     1.71,2,   1979.4,2,    253.4,2,   2343.6,2,     8.13,2, -999.00,     3.0, -999.00,  -999.0
    31DSCG96_2,  P15S,   165,  1,    133,   1021,2,19960303,1141, -6.9998,-168.7483, 5628,   -999,     79.6,  28.7482,  35.6709,2,  35.6743,2,    193.9,2, 28.7291,    195.7,2,     1.21,2,     0.05,2,     0.00,2,     0.22,2,    1.588,2,    0.871,2,     85.3,2,     1.72,2,   -999.0,9,   -999.0,9,   -999.0,9,     8.13,2, -999.00,     3.3, -999.00,  -999.0
    31DSCG96_2,  P15S,   165,  1,    132,   1039,2,19960303,1141, -6.9998,-168.7483, 5628,   -999,    112.1,  28.1747,  35.6923,2,  35.6957,2,    191.3,2, 28.1481,    191.2,2,     1.79,2,     1.79,2,     0.07,2,     0.37,2,    1.662,2,    0.923,2,     83.5,2,     1.55,2,   2005.8,2,    278.5,2,   2345.8,2,     8.09,2, -999.00,     3.2, -999.00,  -999.0
    31DSCG96_2,  P15S,   165,  1,    131,   1014,2,19960303,1141, -6.9998,-168.7483, 5628,   -999,    163.9,  26.7525,  36.0018,2,  35.9968,2,    166.4,2, 26.7150,    166.8,2,     1.81,2,     2.70,2,     1.45,2,     0.49,2,    1.720,2,    0.954,2,     83.3,2,     1.34,2,   -999.0,9,   -999.0,9,   -999.0,9,     8.05,2, -999.00,     4.6, -999.00,  -999.0
    31DSCG96_2,  P15S,   165,  1,    130,   1257,2,19960303,1141, -6.9998,-168.7483, 5628,   -999,    213.6,  20.5119,  35.8367,2,  35.9834,3,    145.4,2, 20.4715,    150.4,2,     2.31,2,     6.96,2,     0.01,2,     0.71,2,    1.982,2,    1.060,2,   -999.0,5,     1.21,2,   2106.0,2,    428.3,2,   -999.0,9,     7.95,2, -999.00,  -999.0, -999.00,  -999.0
    31DSCG96_2,  P15S,   165,  1,    129,   1256,3,19960303,1141, -6.9998,-168.7483, 5628,   -999,    265.1,  15.9074,  35.2742,2,  35.2777,2,    112.4,2, 15.8654,    104.4,2,     8.97,2,    16.77,2,     0.00,2,     1.38,2, -999.000,5, -999.000,5,     23.1,2,     0.81,2,   -999.0,9,   -999.0,9,   -999.0,9,  -999.00,9, -999.00,     3.9, -999.00,  -999.0
    31DSCG96_2,  P15S,   165,  1,    128,   1230,2,19960303,1141, -6.9998,-168.7483, 5628,   -999,    324.7,  11.7481,  34.8688,2,  34.8679,2,     86.9,2, 11.7062,     79.3,2,    17.94,2,    25.58,2,     0.00,2,     1.92,2,    0.525,2,    0.266,2,    -12.3,2,     0.59,2,   2197.0,2,   1015.1,2,   2307.6,2,     7.63,2, -999.00,     3.2, -999.00,  -999.0
    31DSCG96_2,  P15S,   165,  1,    127,   1232,2,19960303,1141, -6.9998,-168.7483, 5628,   -999,    425.2,   9.0378,  34.6763,2,  34.6728,2,     95.2,2,  8.9910,   -999.0,9,    26.81,2,    30.76,2,     0.00,2,     2.15,2,    0.149,2,    0.074,2,    -74.5,2,     0.59,2,   -999.0,9,   -999.0,9,   -999.0,9,     7.58,2, -999.00,     2.8, -999.00,  -999.0
    31DSCG96_2,  P15S,   165,  1,    126,   1025,2,19960303,1141, -6.9998,-168.7483, 5628,   -999,    524.3,   7.8165,  34.6025,2,  34.6007,2,    104.0,2,  7.7634,     99.3,2,    32.61,2,    32.87,2,     0.00,2,     2.27,2,    0.069,2,    0.038,2,   -104.5,2,     0.62,2,   2220.4,2,   1177.0,2,   2308.6,2,     7.56,2, -999.00,     4.4, -999.00,  -999.0
    31DSCG96_2,  P15S,   165,  1,    125,   1119,2,19960303,1141, -6.9998,-168.7483, 5628,   -999,    623.5,   6.7755,  34.5558,2,  34.5557,2,    100.4,2,  6.7168,     97.1,2,    40.96,2,    35.17,2,     0.00,2,     2.44,2,    0.025,2,    0.012,2,   -115.4,2,     0.54,2,   -999.0,9,   -999.0,9,   -999.0,9,     7.53,2, -999.00,     3.5, -999.00,  -999.0
    31DSCG96_2,  P15S,   165,  1,    124,   1244,2,19960303,1141, -6.9998,-168.7483, 5628,   -999,    721.4,   5.9957,  34.5321,2,  34.5334,2,     95.5,2,  5.9315,     99.6,2,    49.37,2,    36.51,2,     0.00,2,     2.54,2,    0.011,2,    0.005,2,   -128.2,2,     0.47,2,   2248.1,2,   1302.2,2,   2322.4,2,     7.52,2, -999.00,     3.1, -999.00,  -999.0
    31DSCG96_2,  P15S,   165,  1,    123,   1250,2,19960303,1141, -6.9998,-168.7483, 5628,   -999,    823.3,   5.4865,  34.5337,2,  34.5323,2,     88.1,2,  5.4159,     91.8,2,    58.79,2,    38.11,2,     0.00,2,     2.67,2,    0.003,2,    0.002,2,   -143.4,6,     0.40,6,   -999.0,9,   -999.0,9,   -999.0,9,     7.50,2, -999.00,     2.1, -999.00,  -999.0
    31DSCG96_2,  P15S,   165,  1,    122,   1265,2,19960303,1141, -6.9998,-168.7483, 5628,   -999,    905.7,   5.0205,  34.5334,2,  34.5321,2,     98.2,2,  4.9454,     95.6,2,    66.78,2,    38.31,2,     0.00,2,     2.69,2,    0.004,2,    0.002,2,   -155.1,2,     0.35,2,   2270.5,2,   1380.4,3,   2325.1,2,     7.50,2, -999.00,     3.4, -999.00,  -999.0
    31DSCG96_2,  P15S,   165,  1,    121,   1246,2,19960303,1141, -6.9998,-168.7483, 5628,   -999,   1024.5,   4.5486,  34.5427,2,  34.5417,2,    101.7,2,  4.4665,     97.7,2,    76.80,2,    38.46,2,     0.00,2,     2.72,2,    0.003,2,    0.001,2,   -999.0,5,     0.29,2,   -999.0,9,   -999.0,9,   -999.0,9,     7.50,2, -999.00,  -999.0, -999.00,  -999.0
    31DSCG96_2,  P15S,   165,  1,    120,   1015,2,19960303,1141, -6.9998,-168.7483, 5628,   -999,   1141.1,   4.1027,  34.5536,2,  34.5529,2,    102.6,2,  4.0142,    100.2,2,    86.21,2,    38.49,2,     0.00,2,     2.73,2,    0.000,2,    0.001,2,   -181.2,2,     0.27,2,   2289.4,2,   1382.8,2,   2359.4,2,     7.50,2, -999.00,     2.7, -999.00,  -999.0
    31DSCG96_2,  P15S,   165,  1,    119,   1247,2,19960303,1141, -6.9998,-168.7483, 5628,   -999,   1313.7,   3.4750,  34.5688,2,  34.5698,2,    117.7,2,  3.3777,    118.3,2,    95.53,2,    37.30,2,     0.00,2,     2.63,2,    0.002,2,    0.002,2,   -192.2,2,     0.27,2,   -999.0,9,   -999.0,9,   -999.0,9,     7.53,2, -999.00,     2.8, -999.00,  -999.0
    31DSCG96_2,  P15S,   165,  1,    118,   1299,2,19960303,1141, -6.9998,-168.7483, 5628,   -999,   1562.5,   2.8936,  34.5959,2,  34.5957,2,    123.5,2,  2.7817,    124.2,2,   108.19,2,    37.04,2,     0.00,2,     2.61,2, -999.000,5, -999.000,5,   -205.0,2,     0.22,2,   2302.8,2,   1277.6,2,   2387.9,2,     7.54,2, -999.00,     2.3, -999.00,  -999.0
    31DSCG96_2,  P15S,   165,  1,    117,   1242,2,19960303,1141, -6.9998,-168.7483, 5628,   -999,   1815.7,   2.4169,  34.6247,2,  34.6250,2,    125.2,2,  2.2899,    126.2,2,   121.27,2,    37.28,2,     0.00,2,     2.62,2, -999.000,9, -999.000,9,   -218.8,2,     0.14,2,   -999.0,9,   -999.0,9,   -999.0,9,     7.54,2, -999.00,     2.2, -999.00,  -999.0
    31DSCG96_2,  P15S,   165,  1,    116,   1259,2,19960303,1141, -6.9998,-168.7483, 5628,   -999,   2063.8,   2.1580,  34.6425,2,  34.6421,2,    127.6,2,  2.0137,    128.2,2,   129.41,2,    37.22,2,     0.00,2,     2.61,2, -999.000,9, -999.000,9,   -223.8,2,     0.13,2,   2323.4,2,   1267.7,2,   2408.4,2,     7.55,2, -999.00,     2.5, -999.00,  -999.0
    31DSCG96_2,  P15S,   165,  1,    115,   1041,2,19960303,1141, -6.9998,-168.7483, 5628,   -999,   2315.4,   1.9266,  34.6582,2,  34.6580,2,    133.3,2,  1.7641,    134.9,2,   134.19,2,    36.86,2,     0.00,2,     2.57,2,    0.000,2,    0.000,2,   -227.5,2,     0.11,2,   -999.0,9,   -999.0,9,   -999.0,9,     7.56,2, -999.00,     2.5, -999.00,  -999.0
    31DSCG96_2,  P15S,   165,  1,    114,   1017,2,19960303,1141, -6.9998,-168.7483, 5628,   -999,   2563.4,   1.7997,  34.6675,2,  34.6672,2,    137.8,2,  1.6173,    138.6,2,   137.29,2,    36.63,2,     0.00,2,     2.55,2, -999.000,9, -999.000,9,   -219.0,2,     0.12,2,   2328.5,2,   1214.1,2,   2416.4,2,     7.56,2, -999.00,     3.1, -999.00,  -999.0
    31DSCG96_2,  P15S,   165,  1,    113,   1302,2,19960303,1141, -6.9998,-168.7483, 5628,   -999,   2813.0,   1.7248,  34.6731,2,  34.6724,2,    141.6,2,  1.5209,    142.5,2,   138.25,2,    36.38,2,     0.00,2,     2.53,2, -999.000,9, -999.000,9,   -226.6,2,     0.15,2,   -999.0,9,   -999.0,9,   -999.0,9,     7.57,2, -999.00,     2.8, -999.00,  -999.0
    31DSCG96_2,  P15S,   165,  1,    112,   1217,2,19960303,1141, -6.9998,-168.7483, 5628,   -999,   3063.4,   1.6591,  34.6778,2,  34.6771,2,    147.0,2,  1.4326,    147.9,2,   137.62,2,    35.98,2,     0.00,2,     2.50,2,   -0.002,2,    0.000,2,   -225.5,2,     0.14,2,   2322.6,2,   1194.7,2,   2417.9,2,     7.58,2, -999.00,     3.0, -999.00,  -999.0
    31DSCG96_2,  P15S,   165,  1,    111,   1226,2,19960303,1141, -6.9998,-168.7483, 5628,   -999,   3314.8,   1.5799,  34.6824,2,  34.6820,2,    155.2,2,  1.3305,    155.3,2,   136.04,2,    35.53,2,     0.00,2,     2.46,2, -999.000,9, -999.000,9,   -219.5,2,     0.20,2,   -999.0,9,   -999.0,9,   -999.0,9,     7.59,2, -999.00,     2.4, -999.00,  -999.0
    31DSCG96_2,  P15S,   165,  1,    110,   1301,2,19960303,1141, -6.9998,-168.7483, 5628,   -999,   3564.2,   1.5067,  34.6872,2,  34.6877,2,    161.9,2,  1.2337,    161.9,2,   134.69,2,    35.09,2,     0.00,2,     2.42,2, -999.000,9, -999.000,9,   -220.2,2,     0.23,2,   2310.2,2,   1166.1,2,   2414.3,2,     7.59,2, -999.00,     2.7, -999.00,  -999.0
    31DSCG96_2,  P15S,   165,  1,    109,   1031,2,19960303,1141, -6.9998,-168.7483, 5628,   -999,   3812.4,   1.4280,  34.6918,2,  34.6904,2,    167.8,2,  1.1311,    166.6,2,   134.43,2,    34.73,2,     0.00,2,     2.40,2,   -0.001,2,    0.001,2,   -209.0,2,     0.25,2,   -999.0,9,   -999.0,9,   -999.0,9,     7.60,2, -999.00,     2.5, -999.00,  -999.0
    31DSCG96_2,  P15S,   165,  1,    108,   1227,2,19960303,1141, -6.9998,-168.7483, 5628,   -999,   4062.6,   1.3878,  34.6945,2,  34.6947,2,    172.3,2,  1.0652,    170.7,2,   133.25,2,    34.41,2,     0.00,2,     2.37,2,    0.001,2,    0.000,2,   -209.4,2,     0.29,2,   2303.6,2,   1123.2,2,   2406.3,2,     7.60,2, -999.00,     2.8, -999.00,  -999.0
    31DSCG96_2,  P15S,   165,  1,    107,   1263,2,19960303,1141, -6.9998,-168.7483, 5628,   -999,   4313.8,   1.3503,  34.6979,2,  34.6990,2,    174.9,2,  1.0009,    175.8,2,   133.06,2,    34.21,2,     0.00,2,     2.35,2,    0.003,2,    0.003,2,   -207.8,2,     0.28,2,   -999.0,9,   -999.0,9,   -999.0,9,     7.60,2, -999.00,     3.4, -999.00,  -999.0
    31DSCG96_2,  P15S,   165,  1,    106,   1262,2,19960303,1141, -6.9998,-168.7483, 5628,   -999,   4564.3,   1.3163,  34.7001,2,  34.7011,2,    181.4,2,  0.9395,    182.3,2,   129.63,2,    33.73,2,     0.00,2,     2.32,2, -999.000,9, -999.000,9,   -199.8,2,     0.34,2,   -999.0,9,   -999.0,9,   -999.0,9,  -999.00,9, -999.00,     2.6, -999.00,  -999.0
    31DSCG96_2,  P15S,   165,  1,    105,   1264,2,19960303,1141, -6.9998,-168.7483, 5628,   -999,   4815.7,   1.2507,  34.7036,2,  34.7040,2,    191.6,2,  0.8466,    191.3,2,   125.75,2,    33.11,2,     0.00,2,     2.27,2,    0.000,2,    0.000,2,   -198.6,2,     0.38,2,   2281.7,2,   1078.5,2,   2388.6,2,     7.61,2, -999.00,     2.9, -999.00,  -999.0
    31DSCG96_2,  P15S,   165,  1,    104,   1003,2,19960303,1141, -6.9998,-168.7483, 5628,   -999,   5050.9,   1.2181,  34.7056,2,  34.7068,2,    196.7,2,  0.7871,    195.6,2,   123.85,2,    32.83,2,     0.00,2,     2.25,2,    0.003,2,    0.002,2,   -193.9,2,     0.40,2,   2274.8,2,   1078.4,2,   2380.8,2,     7.61,2, -999.00,     3.1, -999.00,  -999.0
    31DSCG96_2,  P15S,   165,  1,    103,   1035,2,19960303,1141, -6.9998,-168.7483, 5628,   -999,   5324.1,   1.2106,  34.7071,2,  34.7066,2,    200.1,2,  0.7464,    199.2,2,   122.60,2,    32.59,2,     0.00,2,     2.23,2,    0.003,2,    0.001,2,   -186.2,2,     0.42,2,   2270.4,2,   1080.4,2,   2373.2,2,     7.61,2, -999.00,     2.8, -999.00,  -999.0
    31DSCG96_2,  P15S,   165,  1,    102,   1030,2,19960303,1141, -6.9998,-168.7483, 5628,   -999,   5599.4,   1.2296,  34.7069,2,  34.7085,2,    202.2,2,  0.7301,    200.2,2,   122.02,2,    32.51,2,     0.00,2,     2.22,2, -999.000,5, -999.000,5,   -184.0,2,     0.45,2,   -999.0,9,   -999.0,9,   -999.0,9,  -999.00,9, -999.00,     2.5, -999.00,  -999.0
    31DSCG96_2,  P15S,   165,  1,    101,   1022,2,19960303,1141, -6.9998,-168.7483, 5628,   -999,   5764.3,   1.2446,  34.7072,2,  34.7083,2,    203.0,2,  0.7233,    200.4,2,   122.05,6,    32.57,6,     0.00,6,     2.23,6,    0.004,2,    0.002,2,   -999.0,9,  -999.00,9,   2268.0,2,   1076.8,2,   2369.8,2,     7.61,2, -999.00,  -999.0, -999.00,  -999.0