BOTTLE,20220811CCHSIOAMB
EXPOCODE,SECT_ID,STNNBR,CASTNO,SAMPNO,BTLNBR,BTLNBR_FLAG_W,DATE,TIME,LATITUDE,LONGITUDE,DEPTH,CTDRAW,CTDPRS,CTDTMP,CTDSAL,CTDSAL_FLAG_W,SALNTY,SALNTY_FLAG_W,CTDOXY,CTDOXY_FLAG_W,THETA,OXYGEN,OXYGEN_FLAG_W,SILCAT,SILCAT_FLAG_W,NITRAT,NITRAT_FLAG_W,NITRIT,NITRIT_FLAG_W,PHSPHT,PHSPHT_FLAG_W,CFC-11,CFC-11_FLAG_W,CFC-12,CFC-12_FLAG_W,DELC14,DELC14_FLAG_W,DELC13,DELC13_FLAG_W,TCARBN,TCARBN_FLAG_W,PCO2,PCO2_FLAG_W,ALKALI,ALKALI_FLAG_W,PH,PH_FLAG_W,PCO2TMP,C14ERR,PH_TMP,C13ERR
,,,,,,,,,,,,DBAR,DBAR,ITS-90,PSS-78,,PSS-78,,UMOL/KG,,DEG C,UMOL/KG,,UMOL/KG,,UMOL/KG,,UMOL/KG,,UMOL/KG,,PMOL/KG,,PMOL/KG,,/MILLE,,/MILLE,,UMOL/KG,,UATM,,UMOL/KG,,,,DEG C,/MILLE,DEG C,/MILLE
    31DSCG96_2,  P15S,   135,  2,    236,   1245,2,19960225,0107,-20.9950,-169.9933, 5427,   -999,      2.6,  28.7967,  34.7537,2,  34.7565,2,    203.4,2, 28.7961,    200.3,2,     1.05,2,     0.00,2,     0.00,2,     0.00,3,    1.628,2,    0.943,2,     82.4,6,     1.65,2,   1904.5,2,    251.0,3,   2281.4,2,     8.16,2, -999.00,     2.6, -999.00,  -999.0
    31DSCG96_2,  P15S,   135,  2,    235,   1113,2,19960225,0107,-20.9950,-169.9933, 5427,   -999,     30.2,  25.9556,  35.3332,2,  35.3284,2,    208.8,2, 25.9489,    214.0,2,     1.22,2,     0.00,2,     0.00,2,     0.06,2, -999.000,9, -999.000,9,     92.4,2,     1.54,2,   1954.0,2,    254.7,2,   2317.1,2,     8.13,2, -999.00,     3.9, -999.00,  -999.0
    31DSCG96_2,  P15S,   135,  2,    234,   1216,2,19960225,0107,-20.9950,-169.9933, 5427,   -999,     54.8,  24.3573,  35.5448,2,  35.5376,2,    216.2,2, 24.3456,    214.3,2,     1.23,2,     0.00,2,     0.00,2,     0.06,2,    1.935,6,    1.079,6,     80.3,2,     1.50,2,   1977.8,2,    262.0,2,   2332.7,2,     8.11,2, -999.00,     3.1, -999.00,  -999.0
    31DSCG96_2,  P15S,   135,  2,    233,   1221,2,19960225,0107,-20.9950,-169.9933, 5427,   -999,     79.4,  23.2300,  35.6893,2,  35.6979,2,    213.7,2, 23.2137,    202.5,2,     1.27,2,     0.01,2,     0.00,2,     0.14,2,    1.976,2,    1.085,2,     97.9,2,     1.33,2,   2004.3,2,    286.0,2,   2342.1,2,     8.09,2, -999.00,     3.5, -999.00,  -999.0
    31DSCG96_2,  P15S,   135,  2,    232,   1039,2,19960225,0107,-20.9950,-169.9933, 5427,   -999,    114.4,  22.1216,  35.7683,2,  35.7673,2,    208.9,2, 22.0988,    199.1,2,     1.34,2,     0.00,2,     0.04,2,     0.15,2,    2.038,2,    1.112,2,     89.8,2,     1.27,2,   2024.3,2,    309.6,2,   2349.4,2,     8.06,2, -999.00,     3.9, -999.00,  -999.0
    31DSCG96_2,  P15S,   135,  2,    231,   1014,2,19960225,0107,-20.9950,-169.9933, 5427,   -999,    166.8,  20.6124,  35.7722,2,  35.7730,2,    186.3,2, 20.5808,    179.7,2,     1.41,2,     2.65,2,     0.03,2,     0.33,2,    2.036,2,    1.102,2,    111.9,2,     1.11,2,   2057.8,2,    364.4,2,   2347.6,2,     8.01,2, -999.00,     3.2, -999.00,  -999.0
    31DSCG96_2,  P15S,   135,  2,    230,   1257,2,19960225,0107,-20.9950,-169.9933, 5427,   -999,    215.6,  19.0836,  35.6374,2,  35.6396,2,    187.5,2, 19.0448,    182.6,2,     1.69,2,     3.74,2,     0.01,2,     0.39,2,    2.025,2,    1.075,2,    112.6,2,     1.14,2,   2065.4,2,    387.3,2,   2338.9,2,     7.98,2, -999.00,     3.4, -999.00,  -999.0
    31DSCG96_2,  P15S,   135,  2,    229,   1256,2,19960225,0107,-20.9950,-169.9933, 5427,   -999,    263.8,  17.6387,  35.5089,2,  35.5089,2,    192.5,2, 17.5938,    190.1,6,     1.85,2,     4.26,2,     0.01,2,     0.43,2,    2.089,2,    1.095,2,    113.0,2,     1.14,2,   2068.1,2,    401.8,2,   2330.7,2,     7.96,2, -999.00,     2.8, -999.00,  -999.0
    31DSCG96_2,  P15S,   135,  2,    228,   1007,2,19960225,0107,-20.9950,-169.9933, 5427,   -999,    326.8,  15.4600,  35.2725,2,  35.2814,2,    192.2,2, 15.4092,    186.4,2,     3.01,2,     7.54,2,     0.00,2,     0.64,2,    1.895,2,    0.993,2,     81.6,6,     1.16,6,   2087.3,2,    468.3,2,   2320.4,2,     7.90,2, -999.00,     5.2, -999.00,  -999.0
    31DSCG96_2,  P15S,   135,  2,    227,   1232,2,19960225,0107,-20.9950,-169.9933, 5427,   -999,    426.3,  11.6994,  34.8710,2,  34.8841,2,    180.1,2, 11.6442,    189.3,2,     4.84,2,    13.90,2,     0.00,2,     1.02,2,    1.581,2,    0.795,2,     57.5,2,     1.18,2,   2114.1,2,    619.9,2,   2300.3,2,     7.81,2, -999.00,     3.4, -999.00,  -999.0
    31DSCG96_2,  P15S,   135,  2,    226,   1025,2,19960225,0107,-20.9950,-169.9933, 5427,   -999,    527.7,   8.4781,  34.5337,2,  34.5336,2,    201.1,2,  8.4221,    204.2,2,     9.11,3,    22.92,3,     0.00,3,     1.58,3,    1.140,2,    0.558,2,      1.4,2,     1.24,2,   2135.2,2,    728.9,2,   2287.9,2,     7.74,2, -999.00,     3.6, -999.00,  -999.0
    31DSCG96_2,  P15S,   135,  2,    225,   1119,2,19960225,0107,-20.9950,-169.9933, 5427,   -999,    625.5,   6.9897,  34.4038,2,  34.4054,2,    223.9,2,  6.9299,    224.1,2,     9.13,3,    22.96,3,     0.00,3,     1.58,3,    0.950,2,    0.469,2,     -1.8,2,     1.30,2,   2139.3,2,    749.3,2,   2282.1,2,     7.73,2, -999.00,     3.6, -999.00,  -999.0
    31DSCG96_2,  P15S,   135,  2,    224,   1013,2,19960225,0107,-20.9950,-169.9933, 5427,   -999,    726.0,   5.9538,  34.3380,2,  34.3403,2,    221.9,2,  5.8896,    220.8,2,    14.25,2,    26.04,2,     0.00,2,     1.78,2, -999.000,9, -999.000,9,    -57.2,2,     1.26,2,   2152.5,2,    812.8,2,   2287.2,2,     7.70,2, -999.00,     3.4, -999.00,  -999.0
    31DSCG96_2,  P15S,   135,  2,    223,   1250,2,19960225,0107,-20.9950,-169.9933, 5427,   -999,    827.1,   5.2752,  34.3323,2,  34.3322,2,    205.8,2,  5.2058,    202.8,2,    22.92,2,    29.14,2,     0.00,2,     2.00,2,    0.153,2,    0.085,2,   -999.0,5,     1.10,2,   2172.1,2,    905.5,2,   2292.7,2,     7.66,2, -999.00,  -999.0, -999.00,  -999.0
    31DSCG96_2,  P15S,   135,  2,    222,   1265,2,19960225,0107,-20.9950,-169.9933, 5427,   -999,    924.1,   4.6437,  34.3678,2,  34.3676,2,    184.1,2,  4.5700,    179.5,2,    36.74,2,    32.21,2,     0.00,2,     2.21,2, -999.000,9, -999.000,9,   -120.4,2,     0.87,2,   2199.3,2,   1019.2,2,   2306.5,2,     7.61,2, -999.00,     3.2, -999.00,  -999.0
    31DSCG96_2,  P15S,   135,  2,    221,   1246,2,19960225,0107,-20.9950,-169.9933, 5427,   -999,   1025.3,   4.0567,  34.4098,2,  34.4109,2,    169.8,2,  3.9786,    168.2,2,    50.10,2,    33.78,2,     0.00,2,     2.33,2, -999.000,5, -999.000,5,   -156.3,2,     0.54,2,   2221.5,2,   1098.2,2,   2313.4,2,     7.59,2, -999.00,     3.4, -999.00,  -999.0
    31DSCG96_2,  P15S,   135,  2,    220,   1015,2,19960225,0107,-20.9950,-169.9933, 5427,   -999,   1126.9,   3.5238,  34.4598,2,  34.4584,2,    162.8,2,  3.4417,    162.4,2,    63.49,2,    34.62,2,     0.00,2,     2.39,2, -999.000,9, -999.000,9,   -999.0,5,    -8.47,4,   2239.8,2,   1129.7,2,   2335.1,2,     7.58,2, -999.00,  -999.0, -999.00,  -999.0
    31DSCG96_2,  P15S,   135,  2,    219,   1247,2,19960225,0107,-20.9950,-169.9933, 5427,   -999,   1223.5,   3.1088,  34.5097,2,  34.5105,2,    157.7,2,  3.0226,    157.6,6,    77.46,2,    35.12,2,     0.00,2,     2.43,2,    0.001,2,    0.002,2,   -172.0,2,     0.52,2,   2256.7,2,   1158.5,2,   2348.8,2,     7.57,2, -999.00,     3.0, -999.00,  -999.0
    31DSCG96_2,  P15S,   135,  2,    218,   1299,2,19960225,0107,-20.9950,-169.9933, 5427,   -999,   1351.1,   2.7974,  34.5533,2,  34.5543,2,    154.1,2,  2.7039,    152.5,2,    89.43,2,    35.33,2,     0.00,2,     2.46,2, -999.000,9, -999.000,9,   -999.0,9,  -999.00,9,   2271.6,2,   1213.1,2,   2363.1,2,     7.57,2, -999.00,  -999.0, -999.00,  -999.0
    31DSCG96_2,  P15S,   135,  2,    217,   1267,2,19960225,0107,-20.9950,-169.9933, 5427,   -999,   1565.0,   2.5110,  34.5979,2,  34.5989,2,    147.7,2,  2.4035,    147.1,2,   104.46,2,    35.95,2,     0.00,2,     2.50,2,    0.002,2,    0.001,2,   -999.0,9,  -999.00,9,   2289.0,2,   1208.3,2,   2383.7,2,     7.57,2, -999.00,  -999.0, -999.00,  -999.0
    31DSCG96_2,  P15S,   135,  2,    216,   1259,2,19960225,0107,-20.9950,-169.9933, 5427,   -999,   1816.8,   2.3285,  34.6200,2,  34.6199,2,    146.2,2,  2.2027,    145.1,2,   113.17,2,    36.18,2,     0.00,2,     2.52,2, -999.000,9, -999.000,9,   -999.0,9,  -999.00,9,   2299.0,2,   1209.8,2,   -999.0,9,  -999.00,9, -999.00,  -999.0, -999.00,  -999.0
    31DSCG96_2,  P15S,   135,  2,    215,   1041,2,19960225,0107,-20.9950,-169.9933, 5427,   -999,   2064.3,   2.1457,  34.6363,2,  34.6364,2,    146.7,2,  2.0015,    144.8,2,   119.55,2,    36.31,2,     0.00,2,     2.53,2,   -0.001,6,    0.002,6,   -999.0,9,  -999.00,9,   2307.8,2,   1206.2,2,   2395.8,2,     7.57,2, -999.00,  -999.0, -999.00,  -999.0
    31DSCG96_2,  P15S,   135,  2,    214,   1017,2,19960225,0107,-20.9950,-169.9933, 5427,   -999,   2315.6,   1.9944,  34.6494,2,  34.6499,2,    147.1,2,  1.8307,    145.1,2,   125.49,2,    36.35,2,     0.00,2,     2.53,2, -999.000,9, -999.000,9,   -999.0,9,  -999.00,9,   2312.5,2,   1205.2,2,   -999.0,9,     7.57,2, -999.00,  -999.0, -999.00,  -999.0
    31DSCG96_2,  P15S,   135,  2,    213,   1302,2,19960225,0107,-20.9950,-169.9933, 5427,   -999,   2562.5,   1.8945,  34.6584,2,  34.6589,2,    148.0,2,  1.7105,    144.6,2,   129.17,2,    36.30,2,     0.00,2,     2.53,2,   -0.001,2,    0.001,2,   -999.0,9,  -999.00,9,   2315.3,2,   1207.5,2,   -999.0,9,     7.57,2, -999.00,  -999.0, -999.00,  -999.0
    31DSCG96_2,  P15S,   135,  2,    212,   1217,2,19960225,0107,-20.9950,-169.9933, 5427,   -999,   2814.1,   1.8037,  34.6657,2,  34.6670,2,    148.9,2,  1.5980,    145.8,6,   132.89,2,    36.31,2,     0.00,2,     2.53,2, -999.000,9, -999.000,9,   -999.0,9,  -999.00,9,   2319.2,2,   1200.8,2,   -999.0,9,     7.57,2, -999.00,  -999.0, -999.00,  -999.0
    31DSCG96_2,  P15S,   135,  2,    211,   1226,2,19960225,0107,-20.9950,-169.9933, 5427,   -999,   3065.2,   1.7041,  34.6737,2,  34.6746,2,    151.8,2,  1.4765,    149.8,2,   134.21,2,    36.06,2,     0.00,2,     2.50,2,    0.001,2,    0.000,2,   -999.0,9,  -999.00,9,   2317.1,2,   1189.4,2,   2413.6,2,     7.58,2, -999.00,  -999.0, -999.00,  -999.0
    31DSCG96_2,  P15S,   135,  2,    210,   1301,2,19960225,0107,-20.9950,-169.9933, 5427,   -999,   3315.7,   1.5924,  34.6842,2,  34.6848,2,    160.5,2,  1.3425,    160.2,2,   131.60,2,    35.30,2,     0.00,2,     2.45,2,    0.002,2,    0.000,2,   -999.0,9,  -999.00,9,   2308.1,2,   1160.4,2,   2401.6,2,     7.58,2, -999.00,  -999.0, -999.00,  -999.0
    31DSCG96_2,  P15S,   135,  2,    209,   1233,2,19960225,0107,-20.9950,-169.9933, 5427,   -999,   3565.1,   1.4793,  34.7080,2,  34.7079,2,    184.8,2,  1.2068,    182.7,2,   117.30,2,    33.15,2,     0.00,2,     2.29,2, -999.000,5, -999.000,5,   -999.0,9,  -999.00,9,   2277.4,2,   -999.0,9,   2382.1,2,  -999.00,9, -999.00,  -999.0, -999.00,  -999.0
    31DSCG96_2,  P15S,   135,  2,    208,   1227,2,19960225,0107,-20.9950,-169.9933, 5427,   -999,   3813.8,   1.3245,  34.7181,2,  34.7185,2,    199.7,2,  1.0301,    196.8,2,   112.69,2,    32.17,2,     0.00,2,     2.21,2, -999.000,9, -999.000,9,   -999.0,9,  -999.00,9,   2263.4,2,   1082.1,2,   2368.5,2,     7.61,2, -999.00,  -999.0, -999.00,  -999.0
    31DSCG96_2,  P15S,   135,  2,    207,   1263,2,19960225,0107,-20.9950,-169.9933, 5427,   -999,   4064.5,   1.1756,  34.7163,2,  34.7180,2,    205.3,2,  0.8586,    202.2,2,   114.87,2,    32.00,2,     0.00,2,     2.20,2,    0.010,2,    0.005,2,   -999.0,9,  -999.00,9,   2259.8,2,   1052.8,2,   2366.6,2,     7.61,2, -999.00,  -999.0, -999.00,  -999.0
    31DSCG96_2,  P15S,   135,  2,    206,   1262,2,19960225,0107,-20.9950,-169.9933, 5427,   -999,   4313.2,   1.0800,  34.7130,2,  34.7139,2,    207.2,2,  0.7388,    204.4,2,   117.85,2,    32.15,2,     0.00,2,     2.21,2, -999.000,9, -999.000,9,   -999.0,9,  -999.00,9,   2260.3,2,   1057.7,2,   2368.0,2,     7.61,2, -999.00,  -999.0, -999.00,  -999.0
    31DSCG96_2,  P15S,   135,  2,    205,   1264,2,19960225,0107,-20.9950,-169.9933, 5427,   -999,   4563.3,   1.0360,  34.7104,2,  34.7102,2,    208.4,2,  0.6680,    205.8,2,   119.67,2,    32.19,2,     0.00,2,     2.22,2,    0.009,2,    0.004,2,   -999.0,9,  -999.00,9,   2261.1,2,   1053.4,2,   2368.8,2,     7.61,2, -999.00,  -999.0, -999.00,  -999.0
    31DSCG96_2,  P15S,   135,  2,    204,   1003,2,19960225,0107,-20.9950,-169.9933, 5427,   -999,   4815.1,   1.0261,  34.7088,2,  34.7105,2,    209.0,2,  0.6295,    206.4,2,   120.68,2,    32.19,2,     0.00,2,     2.21,2, -999.000,9, -999.000,9,   -999.0,9,  -999.00,9,   2259.8,2,   1056.4,2,   2365.1,2,     7.61,2, -999.00,  -999.0, -999.00,  -999.0
    31DSCG96_2,  P15S,   135,  2,    203,   1035,2,19960225,0107,-20.9950,-169.9933, 5427,   -999,   5067.8,   1.0413,  34.7081,2,  34.7085,2,    209.2,2,  0.6143,    206.4,6,   121.08,2,    32.24,2,     0.00,2,     2.21,2,    0.010,2,    0.004,2,   -999.0,9,  -999.00,9,   2259.6,2,   1051.9,2,   2367.8,2,     7.61,2, -999.00,  -999.0, -999.00,  -999.0
    31DSCG96_2,  P15S,   135,  2,    202,   1030,2,19960225,0107,-20.9950,-169.9933, 5427,   -999,   5317.2,   1.0636,  34.7075,2,  34.7077,2,    209.5,2,  0.6055,    206.4,2,   121.37,6,    32.23,6,     0.00,6,     2.21,2,    0.010,2,    0.006,2,   -999.0,9,  -999.00,9,   2260.5,2,   1054.3,2,   2366.9,2,     7.61,2, -999.00,  -999.0, -999.00,  -999.0
    31DSCG96_2,  P15S,   135,  2,    201,   1022,2,19960225,0107,-20.9950,-169.9933, 5427,   -999,   5564.1,   1.0938,  34.7074,2,  34.7066,2,    209.4,2,  0.6037,    206.7,2,   121.61,2,    32.31,2,     0.00,2,     2.23,3,    0.013,6,    0.008,6,   -999.0,9,  -999.00,9,   2260.6,2,   1051.1,2,   2370.3,2,     7.61,2, -999.00,  -999.0, -999.00,  -999.0