BOTTLE,20220811CCHSIOAMB
EXPOCODE,SECT_ID,STNNBR,CASTNO,SAMPNO,BTLNBR,BTLNBR_FLAG_W,DATE,TIME,LATITUDE,LONGITUDE,DEPTH,CTDRAW,CTDPRS,CTDTMP,CTDSAL,CTDSAL_FLAG_W,SALNTY,SALNTY_FLAG_W,CTDOXY,CTDOXY_FLAG_W,THETA,OXYGEN,OXYGEN_FLAG_W,SILCAT,SILCAT_FLAG_W,NITRAT,NITRAT_FLAG_W,NITRIT,NITRIT_FLAG_W,PHSPHT,PHSPHT_FLAG_W,CFC-11,CFC-11_FLAG_W,CFC-12,CFC-12_FLAG_W,DELC14,DELC14_FLAG_W,DELC13,DELC13_FLAG_W,TCARBN,TCARBN_FLAG_W,PCO2,PCO2_FLAG_W,ALKALI,ALKALI_FLAG_W,PH,PH_FLAG_W,PCO2TMP,C14ERR,PH_TMP,C13ERR
,,,,,,,,,,,,DBAR,DBAR,ITS-90,PSS-78,,PSS-78,,UMOL/KG,,DEG C,UMOL/KG,,UMOL/KG,,UMOL/KG,,UMOL/KG,,UMOL/KG,,PMOL/KG,,PMOL/KG,,/MILLE,,/MILLE,,UMOL/KG,,UATM,,UMOL/KG,,,,DEG C,/MILLE,DEG C,/MILLE
    31DSCG96_2,  P15S,   174,  1,    136,   1245,2,19960306,0828, -0.0013,-168.7498, 5542,   -999,      3.0,  26.2879,  35.3993,2,  35.4028,2,    201.2,2, 26.2872,    200.4,2,     2.73,2,     4.56,2,     0.48,2,     0.50,2,    1.767,2,    0.977,2,     69.0,2,     1.32,2,   2024.1,2,    344.2,2,   2328.7,2,     8.03,2, -999.00,     2.9, -999.00,  -999.0
    31DSCG96_2,  P15S,   174,  1,    135,   1113,2,19960306,0828, -0.0013,-168.7498, 5542,   -999,     20.4,  26.2981,  35.3982,2,  35.3970,2,    200.6,2, 26.2935,    200.2,2,     2.79,2,     4.57,2,     0.48,2,     0.50,2,    1.783,2,    1.005,2,     67.8,2,     1.33,2,   -999.0,9,   -999.0,9,   -999.0,9,  -999.00,9, -999.00,     3.4, -999.00,  -999.0
    31DSCG96_2,  P15S,   174,  1,    134,   1267,2,19960306,0828, -0.0013,-168.7498, 5542,   -999,     44.3,  26.2545,  35.3910,2,  35.3912,2,    199.1,2, 26.2445,    199.6,2,     2.78,2,     4.63,2,     0.50,2,     0.52,2,    1.777,2,    1.014,2,     58.6,2,     1.31,2,   2024.8,2,    336.1,2,   2324.8,2,     8.03,2, -999.00,     3.4, -999.00,  -999.0
    31DSCG96_2,  P15S,   174,  1,    133,   1021,2,19960306,0828, -0.0013,-168.7498, 5542,   -999,     68.0,  25.8265,  35.3308,2,  35.3315,2,    194.6,2, 25.8114,    192.4,2,     3.08,2,     5.17,2,     0.60,2,     0.56,2,    1.766,2,    1.005,2,     65.1,2,     1.24,2,   2029.9,2,    351.7,2,   2319.3,2,     8.02,2, -999.00,     3.0, -999.00,  -999.0
    31DSCG96_2,  P15S,   174,  1,    132,   1039,2,19960306,0828, -0.0013,-168.7498, 5542,   -999,     94.0,  25.8121,  35.3401,2,  35.3420,2,    190.6,2, 25.7913,    190.3,2,     3.13,2,     5.26,2,     0.59,2,     0.56,2,    1.782,2,    0.995,2,     65.7,2,     1.23,2,   2030.3,2,    344.6,2,   2322.7,2,     8.02,2, -999.00,     2.9, -999.00,  -999.0
    31DSCG96_2,  P15S,   174,  1,    131,   1014,2,19960306,0828, -0.0013,-168.7498, 5542,   -999,    138.6,  23.9869,  35.2288,2,  35.2357,2,    134.7,2, 23.9577,    151.1,2,     4.62,2,     8.70,2,     0.09,2,     0.71,2,    1.737,2,    0.960,2,     65.4,2,     0.97,2,   2053.0,2,    405.6,2,   2326.9,3,     7.96,2, -999.00,     4.7, -999.00,  -999.0
    31DSCG96_2,  P15S,   174,  1,    130,   1257,2,19960306,0828, -0.0013,-168.7498, 5542,   -999,    189.1,  17.4665,  35.2476,2,  35.2631,2,    143.6,2, 17.4347,    140.1,2,     7.75,2,    12.53,2,     0.02,2,     0.95,2,    1.507,2,    0.802,2,     49.0,2,     0.89,2,   2102.9,2,    517.6,2,   2317.8,2,     7.87,2, -999.00,     3.3, -999.00,  -999.0
    31DSCG96_2,  P15S,   174,  1,    129,   1256,2,19960306,0828, -0.0013,-168.7498, 5542,   -999,    241.4,  14.6749,  35.0917,2,  35.0915,2,    138.1,2, 14.6388,    134.5,2,    11.95,2,    16.91,2,     0.01,2,     1.24,2,    1.180,2,    0.589,2,     32.9,6,     0.83,6,   2132.5,2,    622.2,3,   -999.0,9,     7.80,2, -999.00,     2.3, -999.00,  -999.0
    31DSCG96_2,  P15S,   174,  1,    128,   1230,2,19960306,0828, -0.0013,-168.7498, 5542,   -999,    289.8,  12.8039,  34.9118,2,  34.9090,2,    120.8,2, 12.7643,    118.8,2,    17.75,2,    21.34,2,     0.01,2,     1.52,2,    0.885,2,    0.467,2,     15.5,2,     0.70,2,   2157.6,3,    758.9,2,   2307.3,2,     7.73,2, -999.00,     2.8, -999.00,  -999.0
    31DSCG96_2,  P15S,   174,  1,    127,   1232,3,19960306,0828, -0.0013,-168.7498, 5542,   -999,    374.2,  10.3975,  34.7442,2,  34.7433,2,     67.6,2, 10.3527,   -999.0,9,    27.81,2,    31.02,2,     0.01,2,     2.15,2, -999.000,5, -999.000,5,    -53.8,2,     0.36,2,   -999.0,9,   -999.0,9,   2315.2,2,  -999.00,9, -999.00,     4.4, -999.00,  -999.0
    31DSCG96_2,  P15S,   174,  1,    126,   1025,2,19960306,0828, -0.0013,-168.7498, 5542,   -999,    475.8,   8.5961,  34.6409,2,  34.6384,2,     72.9,2,  8.5452,     69.8,2,    35.10,2,    34.18,2,     0.00,2,     2.36,2,    0.119,2,    0.065,2,    -86.7,2,     0.37,2,   2233.8,2,   1305.6,2,   2306.1,2,     7.52,2, -999.00,     2.7, -999.00,  -999.0
    31DSCG96_2,  P15S,   174,  1,    125,   1119,2,19960306,0828, -0.0013,-168.7498, 5542,   -999,    576.2,   7.2750,  34.5881,2,  34.5869,2,     60.8,2,  7.2187,     60.0,2,    45.85,2,    38.05,2,     0.00,2,     2.67,2,    0.028,2,    0.009,2,   -122.6,2,     0.30,2,   2257.8,2,   1511.9,2,   2316.6,2,     7.47,2, -999.00,     3.4, -999.00,  -999.0
    31DSCG96_2,  P15S,   174,  1,    124,   1244,2,19960306,0828, -0.0013,-168.7498, 5542,   -999,    675.0,   6.4349,  34.5593,2,  34.5576,2,     73.9,2,  6.3728,     71.1,2,    53.66,2,    38.54,2,     0.00,2,     2.71,2,    0.016,2,    0.005,2,   -132.7,2,     0.27,2,   2264.1,2,   1490.1,2,   2328.5,3,     7.48,2, -999.00,     2.9, -999.00,  -999.0
    31DSCG96_2,  P15S,   174,  1,    123,   1250,2,19960306,0828, -0.0013,-168.7498, 5542,   -999,    774.2,   5.7191,  34.5471,2,  34.5449,2,     81.2,2,  5.6515,     79.0,2,    62.60,2,    38.87,2,     0.00,2,     2.74,2,    0.006,2,    0.001,2,   -143.4,2,     0.28,2,   2271.6,2,   1466.2,2,   2332.6,2,     7.48,2, -999.00,     2.7, -999.00,  -999.0
    31DSCG96_2,  P15S,   174,  1,    122,   1265,2,19960306,0828, -0.0013,-168.7498, 5542,   -999,    874.8,   5.2405,  34.5403,2,  34.5381,2,     96.3,2,  5.1667,     95.7,2,    68.08,2,    37.69,2,     0.00,2,     2.66,2,    0.010,2,    0.002,2,   -154.5,2,     0.33,2,   2269.5,2,   1386.0,3,   2342.2,2,     7.51,2, -999.00,     2.3, -999.00,  -999.0
    31DSCG96_2,  P15S,   174,  1,    121,   1246,2,19960306,0828, -0.0013,-168.7498, 5542,   -999,    974.0,   4.6783,  34.5509,2,  34.5491,2,     91.7,2,  4.5996,     87.9,2,    81.06,2,    39.08,2,     0.00,2,     2.78,2,    0.003,2,    0.000,2,   -171.8,2,     0.20,2,   2289.4,2,   1452.7,2,   2356.2,2,     7.49,2, -999.00,     2.3, -999.00,  -999.0
    31DSCG96_2,  P15S,   174,  1,    120,   1015,2,19960306,0828, -0.0013,-168.7498, 5542,   -999,   1074.0,   4.2576,  34.5615,2,  34.5599,2,     87.7,2,  4.1735,     85.8,2,    91.08,2,    39.68,2,     0.00,2,     2.83,2,   -0.001,2,    0.000,2,   -191.1,2,     0.14,2,   2301.3,2,   1489.4,2,   2356.2,2,     7.48,2, -999.00,     2.3, -999.00,  -999.0
    31DSCG96_2,  P15S,   174,  1,    119,   1247,2,19960306,0828, -0.0013,-168.7498, 5542,   -999,   1215.7,   3.7227,  34.5759,2,  34.5744,2,     94.1,2,  3.6312,     92.1,2,   101.48,2,    39.46,2,     0.00,2,     2.81,2, -999.000,9, -999.000,9,   -193.2,2,     0.11,2,   2310.2,2,   1467.6,2,   2378.2,2,     7.49,2, -999.00,     2.4, -999.00,  -999.0
    31DSCG96_2,  P15S,   174,  1,    118,   1299,2,19960306,0828, -0.0013,-168.7498, 5542,   -999,   1440.3,   3.2480,  34.5951,2,  34.5944,2,     91.4,2,  3.1423,     91.2,2,   115.04,2,    39.89,2,     0.00,2,     2.84,2, -999.000,9, -999.000,9,   -213.4,2,     0.02,2,   2325.9,2,   1479.9,2,   2390.5,2,     7.49,2, -999.00,     2.2, -999.00,  -999.0
    31DSCG96_2,  P15S,   174,  1,    117,   1263,2,19960306,0828, -0.0013,-168.7498, 5542,   -999,   1690.4,   2.6110,  34.6235,2,  34.6238,2,     98.0,2,  2.4918,     99.0,2,   131.10,2,    39.60,2,     0.00,2,     2.80,2, -999.000,9, -999.000,9,   -999.0,9,  -999.00,9,   -999.0,9,   -999.0,9,   -999.0,9,  -999.00,9, -999.00,  -999.0, -999.00,  -999.0
    31DSCG96_2,  P15S,   174,  1,    116,   1259,2,19960306,0828, -0.0013,-168.7498, 5542,   -999,   1941.5,   2.3105,  34.6363,2,  34.6343,2,    108.3,2,  2.1743,    110.0,2,   135.28,2,    38.86,2,     0.00,2,     2.73,2,   -0.001,2,    0.000,2,   -241.0,3,    -0.01,2,   2336.8,2,   1390.8,2,   2414.5,2,     7.52,2, -999.00,     2.3, -999.00,  -999.0
    31DSCG96_2,  P15S,   174,  1,    115,   1264,2,19960306,0828, -0.0013,-168.7498, 5542,   -999,   2186.4,   2.0480,  34.6509,2,  34.6512,2,    116.3,2,  1.8948,    117.2,2,   140.91,2,    38.44,2,     0.00,2,     2.69,2, -999.000,9, -999.000,9,   -999.0,9,  -999.00,9,   2340.8,2,   1375.2,2,   2419.8,2,     7.53,2, -999.00,  -999.0, -999.00,  -999.0
    31DSCG96_2,  P15S,   174,  1,    114,   1017,2,19960306,0828, -0.0013,-168.7498, 5542,   -999,   2439.2,   1.8494,  34.6615,2,  34.6617,2,    122.6,2,  1.6773,    124.5,2,   144.35,2,    38.01,2,     0.00,2,     2.64,2, -999.000,9, -999.000,9,   -999.0,9,  -999.00,9,   2339.2,2,   1317.4,2,   2425.7,2,     7.54,2, -999.00,  -999.0, -999.00,  -999.0
    31DSCG96_2,  P15S,   174,  1,    113,   1035,2,19960306,0828, -0.0013,-168.7498, 5542,   -999,   2688.7,   1.7678,  34.6667,2,  34.6675,2,    127.6,2,  1.5745,    128.7,2,   145.87,2,    37.78,2,     0.00,2,     2.62,2, -999.000,9, -999.000,9,   -999.0,9,  -999.00,9,   2337.3,2,   1295.1,2,   2426.0,2,     7.55,2, -999.00,  -999.0, -999.00,  -999.0
    31DSCG96_2,  P15S,   174,  1,    112,   1217,2,19960306,0828, -0.0013,-168.7498, 5542,   -999,   2941.7,   1.6789,  34.6719,2,  34.6722,2,    133.8,2,  1.4637,    135.0,2,   145.63,2,    37.35,2,     0.00,2,     2.59,2,   -0.001,2,    0.000,2,   -999.0,9,  -999.00,9,   2335.0,2,   1267.2,2,   2425.5,2,     7.56,2, -999.00,  -999.0, -999.00,  -999.0
    31DSCG96_2,  P15S,   174,  1,    111,   1226,2,19960306,0828, -0.0013,-168.7498, 5542,   -999,   3187.8,   1.5906,  34.6768,2,  34.6755,2,    141.2,2,  1.3535,    142.6,2,   144.58,2,    36.81,2,     0.00,2,     2.55,2, -999.000,9, -999.000,9,   -999.0,9,  -999.00,9,   2328.8,2,   1223.7,2,   2422.5,2,     7.57,2, -999.00,  -999.0, -999.00,  -999.0
    31DSCG96_2,  P15S,   174,  1,    110,   1301,2,19960306,0828, -0.0013,-168.7498, 5542,   -999,   3437.6,   1.5286,  34.6814,2,  34.6814,2,    148.2,2,  1.2681,    149.0,2,   143.34,2,    36.35,2,     0.00,2,     2.51,2, -999.000,9, -999.000,9,   -999.0,9,  -999.00,9,   2325.1,2,   1199.1,2,   2421.8,2,     7.57,2, -999.00,  -999.0, -999.00,  -999.0
    31DSCG96_2,  P15S,   174,  1,    109,   1027,2,19960306,0828, -0.0013,-168.7498, 5542,   -999,   3689.3,   1.4768,  34.6866,2,  34.6863,2,    155.1,2,  1.1917,    155.9,2,   141.78,2,    35.90,2,     0.00,2,     2.47,2, -999.000,9, -999.000,9,   -999.0,9,  -999.00,9,   2319.2,2,   1162.4,2,   2420.3,2,     7.58,2, -999.00,  -999.0, -999.00,  -999.0
    31DSCG96_2,  P15S,   174,  1,    108,   1227,2,19960306,0828, -0.0013,-168.7498, 5542,   -999,   3939.5,   1.4305,  34.6909,2,  34.6904,2,    160.8,2,  1.1200,    161.6,2,   140.36,2,    35.53,2,     0.00,2,     2.44,2,   -0.001,2,    0.000,2,   -999.0,9,  -999.00,9,   2316.3,2,   1143.7,2,   2419.4,2,     7.59,2, -999.00,  -999.0, -999.00,  -999.0
    31DSCG96_2,  P15S,   174,  1,    107,   1242,2,19960306,0828, -0.0013,-168.7498, 5542,   -999,   4189.1,   1.3574,  34.6962,2,  34.6955,2,    169.2,2,  1.0218,    171.5,2,   136.29,2,    34.83,2,     0.00,2,     2.39,2,    0.000,2,    0.000,2,   -999.0,9,  -999.00,9,   2306.6,2,   1141.3,2,   2410.6,2,     7.60,2, -999.00,  -999.0, -999.00,  -999.0
    31DSCG96_2,  P15S,   174,  1,    106,   1262,2,19960306,0828, -0.0013,-168.7498, 5542,   -999,   4438.2,   1.2670,  34.7015,2,  34.7003,2,    181.5,2,  0.9061,    183.9,2,   130.13,2,    33.90,2,     0.00,2,     2.32,2,   -0.001,2,    0.000,2,   -999.0,9,  -999.00,9,   2289.6,2,   1092.8,2,   2398.5,2,     7.61,2, -999.00,  -999.0, -999.00,  -999.0
    31DSCG96_2,  P15S,   174,  1,    105,   1041,2,19960306,0828, -0.0013,-168.7498, 5542,   -999,   4689.0,   1.2527,  34.7031,2,  34.7032,2,    187.4,2,  0.8635,    187.6,2,   127.99,2,    33.57,2,     0.00,2,     2.30,2, -999.000,9, -999.000,9,   -999.0,9,  -999.00,9,   -999.0,9,   1076.2,2,   -999.0,9,  -999.00,9, -999.00,  -999.0, -999.00,  -999.0
    31DSCG96_2,  P15S,   174,  1,    104,   1003,2,19960306,0828, -0.0013,-168.7498, 5542,   -999,   4938.5,   1.2540,  34.7045,2,  34.7036,2,    190.2,2,  0.8353,    190.0,2,   126.94,2,    33.42,2,     0.00,2,     2.29,2,    0.000,2,    0.000,2,   -999.0,9,  -999.00,9,   2282.5,2,   1075.2,2,   2391.6,2,     7.61,2, -999.00,  -999.0, -999.00,  -999.0
    31DSCG96_2,  P15S,   174,  1,    103,   1302,2,19960306,0828, -0.0013,-168.7498, 5542,   -999,   5187.8,   1.2762,  34.7047,2,  34.7040,2,    191.9,2,  0.8265,    191.6,2,   126.14,2,    33.30,2,     0.00,2,     2.29,2,   -0.001,2,    0.000,2,   -999.0,9,  -999.00,9,   2280.0,2,   1071.0,2,   2390.5,2,     7.61,2, -999.00,  -999.0, -999.00,  -999.0
    31DSCG96_2,  P15S,   174,  1,    102,   1030,2,19960306,0828, -0.0013,-168.7498, 5542,   -999,   5472.7,   1.3107,  34.7045,2,  34.7045,2,    192.7,2,  0.8242,    191.2,2,   125.84,2,    33.26,2,     0.00,2,     2.28,2,   -0.001,2,    0.000,2,   -999.0,9,  -999.00,9,   2280.2,2,   1070.9,2,   2388.5,2,     7.61,2, -999.00,  -999.0, -999.00,  -999.0
    31DSCG96_2,  P15S,   174,  1,    101,   1022,2,19960306,0828, -0.0013,-168.7498, 5542,   -999,   5680.8,   1.3385,  34.7042,2,  34.7052,2,    192.8,2,  0.8245,    192.0,2,   126.01,6,    33.22,6,     0.00,6,     2.28,6,    0.000,6,    0.000,6,   -999.0,9,  -999.00,9,   2280.5,2,   1069.0,2,   2390.5,2,     7.61,2, -999.00,  -999.0, -999.00,  -999.0
    31DSCG96_2,  P15S,   175,  2,    217,   1263,2,19960308,0014, -7.7467,-168.6700, 5289,   -999,      4.9,  29.3567,  35.2861,2,  35.2939,2,    194.0,2, 29.3555,    194.7,6,     1.66,6,     0.00,6,     0.00,6,     0.21,6,    1.572,2,    0.967,4,   -999.0,9,  -999.00,9,   1953.9,2,    242.3,2,   2326.5,2,     8.14,2, -999.00,  -999.0, -999.00,  -999.0
    31DSCG96_2,  P15S,   175,  2,    216,   1259,2,19960308,0014, -7.7467,-168.6700, 5289,   -999,   3000.1,   1.6660,  34.6763,2,  34.6771,2,    149.6,2,  1.4455,    148.2,2,   137.09,6,    36.22,6,     0.00,6,     2.51,6,   -0.001,2,   -0.001,4,   -999.0,9,  -999.00,9,   2322.2,2,   1187.2,2,   2420.2,2,     7.58,2, -999.00,  -999.0, -999.00,  -999.0
    31DSCG96_2,  P15S,   175,  2,    215,   1264,2,19960308,0014, -7.7467,-168.6700, 5289,   -999,   3201.5,   1.6060,  34.6804,2,  34.6814,2,    154.2,2,  1.3672,    153.3,2,   136.61,6,    35.94,6,     0.00,6,     2.48,6,   -0.001,2,    0.088,4,   -999.0,9,  -999.00,9,   2319.8,2,   1173.6,2,   2422.2,2,     7.58,2, -999.00,  -999.0, -999.00,  -999.0
    31DSCG96_2,  P15S,   175,  2,    214,   1017,2,19960308,0014, -7.7467,-168.6700, 5289,   -999,   3399.8,   1.5566,  34.6837,2,  34.6862,2,    159.1,2,  1.2992,    157.7,2,   135.64,6,    35.60,6,     0.00,6,     2.46,6,   -0.001,2,   -0.001,4,   -999.0,9,  -999.00,9,   2315.4,2,   1162.5,2,   2414.2,2,     7.59,2, -999.00,  -999.0, -999.00,  -999.0
    31DSCG96_2,  P15S,   175,  2,    213,   1035,2,19960308,0014, -7.7467,-168.6700, 5289,   -999,   3601.5,   1.5078,  34.6868,2,  34.6877,2,    162.9,2,  1.2309,    161.9,2,   135.14,6,    35.35,6,     0.00,6,     2.44,6,    0.001,2,    0.149,4,   -999.0,9,  -999.00,9,   2311.2,2,   1146.8,2,   2411.1,2,     7.59,2, -999.00,  -999.0, -999.00,  -999.0
    31DSCG96_2,  P15S,   175,  2,    212,   1217,2,19960308,0014, -7.7467,-168.6700, 5289,   -999,   3799.4,   1.4465,  34.6904,2,  34.6901,2,    167.5,2,  1.1505,    166.1,2,   135.04,6,    35.09,6,     0.00,6,     2.42,6,    0.000,2,    0.114,4,   -999.0,9,  -999.00,9,   2307.9,2,   1130.5,2,   2411.5,2,     7.59,2, -999.00,  -999.0, -999.00,  -999.0
    31DSCG96_2,  P15S,   175,  2,    211,   1226,2,19960308,0014, -7.7467,-168.6700, 5289,   -999,   3999.3,   1.3913,  34.6938,2,  34.6943,2,    170.2,2,  1.0754,    169.3,6,   135.56,6,    34.89,6,     0.00,6,     2.40,6,    0.001,2,   -0.001,4,   -999.0,9,  -999.00,9,   2305.3,2,   1125.1,2,   2411.6,2,     7.60,2, -999.00,  -999.0, -999.00,  -999.0
    31DSCG96_2,  P15S,   175,  2,    210,   1301,2,19960308,0014, -7.7467,-168.6700, 5289,   -999,   4150.3,   1.3830,  34.6950,2,  34.6951,2,    172.4,2,  1.0509,    172.4,2,   134.25,6,    34.72,6,     0.00,6,     2.38,6,   -0.001,2,   -0.001,4,   -999.0,9,  -999.00,9,   2301.9,2,   1138.4,2,   2407.7,2,     7.60,2, -999.00,  -999.0, -999.00,  -999.0
    31DSCG96_2,  P15S,   175,  2,    209,   1027,2,19960308,0014, -7.7467,-168.6700, 5289,   -999,   4297.9,   1.3756,  34.6962,2,  34.6970,2,    174.8,2,  1.0273,    174.3,2,   133.22,6,    34.52,6,     0.00,6,     2.37,6,    0.000,2,   -0.001,4,   -999.0,9,  -999.00,9,   2300.1,2,   1104.6,2,   2407.9,2,     7.60,2, -999.00,  -999.0, -999.00,  -999.0
    31DSCG96_2,  P15S,   175,  2,    208,   1227,2,19960308,0014, -7.7467,-168.6700, 5289,   -999,   4446.2,   1.3437,  34.6981,2,  34.6977,2,    178.4,2,  0.9795,    178.4,2,   131.24,6,    34.18,6,     0.00,6,     2.35,6,    0.003,2,   -0.001,4,   -999.0,9,  -999.00,9,   2294.8,2,   1096.9,2,   2400.9,2,     7.60,2, -999.00,  -999.0, -999.00,  -999.0
    31DSCG96_2,  P15S,   175,  2,    207,   1242,2,19960308,0014, -7.7467,-168.6700, 5289,   -999,   4601.4,   1.3005,  34.7007,2,  34.7025,2,    183.3,2,  0.9199,    184.1,2,   128.73,6,    33.78,6,     0.00,6,     2.32,6,    0.002,2,   -0.001,4,   -999.0,9,  -999.00,9,   2287.1,2,   1087.1,2,   2396.9,2,     7.61,2, -999.00,  -999.0, -999.00,  -999.0
    31DSCG96_2,  P15S,   175,  2,    206,   1262,2,19960308,0014, -7.7467,-168.6700, 5289,   -999,   4749.5,   1.1590,  34.7060,2,  34.7058,2,    195.1,2,  0.7657,    197.4,2,   123.26,6,    32.84,6,     0.00,6,     2.25,6,    0.005,2,   -0.001,4,   -999.0,9,  -999.00,9,   2271.0,2,   1072.9,2,   2380.6,2,     7.61,2, -999.00,  -999.0, -999.00,  -999.0
    31DSCG96_2,  P15S,   175,  2,    205,   1041,2,19960308,0014, -7.7467,-168.6700, 5289,   -999,   4899.9,   1.1485,  34.7067,2,  34.7074,2,    199.7,2,  0.7379,    200.0,2,   122.26,6,    32.65,6,     0.00,6,     2.24,6, -999.000,5, -999.000,5,   -999.0,9,  -999.00,9,   -999.0,9,   -999.0,9,   2378.9,2,  -999.00,9, -999.00,  -999.0, -999.00,  -999.0
    31DSCG96_2,  P15S,   175,  2,    204,   1003,2,19960308,0014, -7.7467,-168.6700, 5289,   -999,   5051.2,   1.1621,  34.7066,2,-999.0000,9,    202.3,2,  0.7330,    199.3,2,   122.30,6,    32.64,6,     0.00,6,     2.24,6,    0.003,6,   -0.001,4,   -999.0,9,  -999.00,9,   2267.8,2,   1073.3,2,   2374.9,2,     7.61,2, -999.00,  -999.0, -999.00,  -999.0
    31DSCG96_2,  P15S,   175,  2,    203,   1302,2,19960308,0014, -7.7467,-168.6700, 5289,   -999,   5200.8,   1.1459,  34.7076,2,  34.7072,2,    203.6,2,  0.6991,    203.3,6,   121.24,6,    32.48,6,     0.00,6,     2.22,6,    0.004,2,   -0.001,4,   -999.0,9,  -999.00,9,   2264.0,2,   1069.8,2,   2374.5,2,     7.61,2, -999.00,  -999.0, -999.00,  -999.0
    31DSCG96_2,  P15S,   175,  2,    202,   1030,2,19960308,0014, -7.7467,-168.6700, 5289,   -999,   5301.4,   1.1556,  34.7078,2,  34.7076,2,    203.8,2,  0.6961,    203.2,2,   121.17,6,    32.44,6,     0.00,6,     2.22,6,    0.003,2,   -0.001,2,   -999.0,9,  -999.00,9,   2265.4,2,   1075.4,2,   2374.1,2,     7.61,2, -999.00,  -999.0, -999.00,  -999.0
    31DSCG96_2,  P15S,   175,  2,    201,   1022,2,19960308,0014, -7.7467,-168.6700, 5289,   -999,   5412.3,   1.1690,  34.7077,2,  34.7081,2,    203.8,2,  0.6953,    210.1,4,   121.04,6,    32.45,6,     0.00,6,     2.23,6,    0.005,2,   -0.001,4,   -999.0,9,  -999.00,9,   2265.0,2,   1106.3,2,   -999.0,9,     7.61,2, -999.00,  -999.0, -999.00,  -999.0