BOTTLE,20220811CCHSIOAMB
EXPOCODE,SECT_ID,STNNBR,CASTNO,SAMPNO,BTLNBR,BTLNBR_FLAG_W,DATE,TIME,LATITUDE,LONGITUDE,DEPTH,CTDRAW,CTDPRS,CTDTMP,CTDSAL,CTDSAL_FLAG_W,SALNTY,SALNTY_FLAG_W,CTDOXY,CTDOXY_FLAG_W,THETA,OXYGEN,OXYGEN_FLAG_W,SILCAT,SILCAT_FLAG_W,NITRAT,NITRAT_FLAG_W,NITRIT,NITRIT_FLAG_W,PHSPHT,PHSPHT_FLAG_W,CFC-11,CFC-11_FLAG_W,CFC-12,CFC-12_FLAG_W,DELC14,DELC14_FLAG_W,DELC13,DELC13_FLAG_W,TCARBN,TCARBN_FLAG_W,PCO2,PCO2_FLAG_W,ALKALI,ALKALI_FLAG_W,PH,PH_FLAG_W,PCO2TMP,C14ERR,PH_TMP,C13ERR
,,,,,,,,,,,,DBAR,DBAR,ITS-90,PSS-78,,PSS-78,,UMOL/KG,,DEG C,UMOL/KG,,UMOL/KG,,UMOL/KG,,UMOL/KG,,UMOL/KG,,PMOL/KG,,PMOL/KG,,/MILLE,,/MILLE,,UMOL/KG,,UATM,,UMOL/KG,,,,DEG C,/MILLE,DEG C,/MILLE
    31DSCG96_2,  P15S,   155,  1,    136,   1245,2,19960229,2018,-12.0008,-170.0022, 5055,   -999,      5.6,  29.2425,  34.5448,2,-999.0000,9,    196.0,2, 29.2412,    194.4,2,  -999.00,9,  -999.00,9,  -999.00,9,  -999.00,9,    1.572,2,    0.903,2,   -999.0,9,  -999.00,9,   1903.4,2,    226.6,2,   2272.4,2,     8.15,2, -999.00,  -999.0, -999.00,  -999.0
    31DSCG96_2,  P15S,   155,  1,    135,   1113,2,19960229,2018,-12.0008,-170.0022, 5055,   -999,     31.1,  29.3329,  34.7267,2,  34.7244,2,    194.3,2, 29.3253,    194.5,2,     1.40,2,     0.00,2,     0.00,2,     0.13,2,    1.578,2,    0.880,2,   -999.0,9,  -999.00,9,   1913.2,2,    229.0,2,   2282.1,2,     8.16,2, -999.00,  -999.0, -999.00,  -999.0
    31DSCG96_2,  P15S,   155,  1,    134,   1267,2,19960229,2018,-12.0008,-170.0022, 5055,   -999,     56.5,  29.6534,  35.1615,2,  35.1510,2,    199.7,2, 29.6395,    199.2,2,     1.30,2,     0.00,2,     0.00,2,     0.16,2,    1.579,6,    0.897,6,   -999.0,9,  -999.00,9,   -999.0,9,   -999.0,9,   -999.0,9,     8.15,2, -999.00,  -999.0, -999.00,  -999.0
    31DSCG96_2,  P15S,   155,  1,    133,   1021,2,19960229,2018,-12.0008,-170.0022, 5055,   -999,     82.5,  29.0624,  35.6183,2,  35.6128,2,    190.8,2, 29.0424,    198.8,2,     1.31,2,     0.00,2,     0.00,2,     0.18,2,    1.628,2,    1.005,3,   -999.0,9,  -999.00,9,   1967.3,2,    249.6,2,   2345.2,2,     8.14,2, -999.00,  -999.0, -999.00,  -999.0
    31DSCG96_2,  P15S,   155,  1,    132,   1039,2,19960229,2018,-12.0008,-170.0022, 5055,   -999,    105.2,  28.1032,  35.9938,2,  35.9952,2,    170.4,2, 28.0782,    187.0,2,     1.43,2,     0.00,2,     0.00,2,     0.24,2,    1.672,2,    0.935,2,   -999.0,9,  -999.00,9,   -999.0,9,   -999.0,9,   -999.0,9,     8.11,2, -999.00,  -999.0, -999.00,  -999.0
    31DSCG96_2,  P15S,   155,  1,    131,   1014,2,19960229,2018,-12.0008,-170.0022, 5055,   -999,    132.0,  26.4503,  36.1982,2,  36.1590,3,    160.5,2, 26.4203,    158.8,2,     1.65,2,     2.22,2,     0.58,2,     0.46,2,    1.758,2,    0.957,2,   -999.0,9,  -999.00,9,   2056.1,2,    327.4,2,   2373.9,2,     8.05,2, -999.00,  -999.0, -999.00,  -999.0
    31DSCG96_2,  P15S,   155,  1,    130,   1257,2,19960229,2018,-12.0008,-170.0022, 5055,   -999,    163.5,  23.7476,  36.2423,2,  36.2461,2,    149.2,2, 23.7132,    151.8,2,     1.58,2,     4.89,2,     0.07,2,     0.57,2,    1.872,2,    1.018,2,   -999.0,9,  -999.00,9,   -999.0,9,   -999.0,9,   -999.0,9,     8.00,2, -999.00,  -999.0, -999.00,  -999.0
    31DSCG96_2,  P15S,   155,  1,    129,   1256,2,19960229,2018,-12.0008,-170.0022, 5055,   -999,    213.7,  21.1843,  35.9635,2,  35.9558,2,    155.8,2, 21.1429,    158.6,2,     1.68,2,     5.43,2,     0.01,2,     0.60,2,    1.899,2,    1.014,2,   -999.0,9,  -999.00,9,   2099.0,2,    420.6,2,   2371.1,2,     7.96,2, -999.00,  -999.0, -999.00,  -999.0
    31DSCG96_2,  P15S,   155,  1,    128,   1007,2,19960229,2018,-12.0008,-170.0022, 5055,   -999,    266.1,  17.9563,  35.5033,2,  35.5044,2,    154.2,2, 17.9104,    153.8,2,     3.20,2,     8.17,2,     0.00,2,     0.78,2,    1.712,2,    0.896,2,   -999.0,9,  -999.00,9,   -999.0,9,   -999.0,9,   -999.0,9,     7.90,2, -999.00,  -999.0, -999.00,  -999.0
    31DSCG96_2,  P15S,   155,  1,    127,   1232,2,19960229,2018,-12.0008,-170.0022, 5055,   -999,    315.0,  14.6095,  35.0978,2,  35.0887,2,    137.2,2, 14.5625,    137.0,2,     7.24,2,    14.07,2,     0.00,2,     1.19,2,    1.221,2,    0.631,2,   -999.0,9,  -999.00,9,   2134.2,2,    639.8,2,   2313.2,2,     7.80,2, -999.00,  -999.0, -999.00,  -999.0
    31DSCG96_2,  P15S,   155,  1,    126,   1025,2,19960229,2018,-12.0008,-170.0022, 5055,   -999,    365.5,  11.9478,  34.8291,2,  34.8289,2,    110.7,2, 11.9000,    112.5,2,    13.24,2,    20.99,2,     0.00,2,     1.66,2,    0.697,2,    0.370,2,   -999.0,9,  -999.00,9,   -999.0,9,   -999.0,9,   -999.0,9,     7.69,2, -999.00,  -999.0, -999.00,  -999.0
    31DSCG96_2,  P15S,   155,  1,    125,   1119,2,19960229,2018,-12.0008,-170.0022, 5055,   -999,    425.4,   9.7512,  34.6642,2,  34.6642,2,    117.3,2,  9.7022,    115.6,6,    19.05,2,    25.88,2,     0.00,2,     1.91,2,    0.358,2,    0.174,2,   -999.0,9,  -999.00,9,   2188.0,2,    969.2,2,   2301.7,2,     7.64,2, -999.00,  -999.0, -999.00,  -999.0
    31DSCG96_2,  P15S,   155,  1,    124,   1244,2,19960229,2018,-12.0008,-170.0022, 5055,   -999,    527.3,   7.6563,  34.5783,2,  34.5782,2,    106.2,2,  7.6034,    104.9,2,    31.69,2,    32.35,2,     0.00,2,     2.27,2,    0.061,2,    0.031,2,   -999.0,9,  -999.00,9,   -999.0,9,   -999.0,9,   -999.0,9,     7.56,2, -999.00,  -999.0, -999.00,  -999.0
    31DSCG96_2,  P15S,   155,  1,    123,   1250,2,19960229,2018,-12.0008,-170.0022, 5055,   -999,    630.3,   6.5065,  34.5355,2,  34.5340,2,    109.8,2,  6.4484,    105.8,2,    40.98,2,    34.81,2,     0.00,2,     2.42,2,    0.021,2,    0.011,2,   -999.0,9,  -999.00,9,   2234.5,3,   1261.6,2,   2311.3,2,     7.54,2, -999.00,  -999.0, -999.00,  -999.0
    31DSCG96_2,  P15S,   155,  1,    122,   1265,2,19960229,2018,-12.0008,-170.0022, 5055,   -999,    729.6,   5.7933,  34.5201,2,  34.5195,2,    105.0,2,  5.7295,    104.4,2,    49.34,2,    36.33,2,     0.00,2,     2.54,2,    0.009,6,    0.004,6,   -999.0,9,  -999.00,9,   -999.0,9,   -999.0,9,   -999.0,9,     7.53,2, -999.00,  -999.0, -999.00,  -999.0
    31DSCG96_2,  P15S,   155,  1,    121,   1246,2,19960229,2018,-12.0008,-170.0022, 5055,   -999,    827.6,   5.1566,  34.4951,2,  34.4948,2,    127.2,2,  5.0877,    127.0,2,    53.42,2,    35.09,2,     0.00,2,     2.45,2,    0.014,3,    0.009,3,   -999.0,9,  -999.00,9,   2241.6,2,   1248.0,2,   2325.3,2,     7.55,4, -999.00,  -999.0, -999.00,  -999.0
    31DSCG96_2,  P15S,   155,  1,    120,   1015,2,19960229,2018,-12.0008,-170.0022, 5055,   -999,    932.1,   4.6782,  34.5124,2,  34.5122,2,    116.7,2,  4.6033,    117.0,2,    64.29,2,    36.72,2,     0.00,2,     2.58,2, -999.000,9, -999.000,9,   -999.0,9,  -999.00,9,   -999.0,9,   -999.0,9,   -999.0,9,     7.53,2, -999.00,  -999.0, -999.00,  -999.0
    31DSCG96_2,  P15S,   155,  1,    119,   1247,2,19960229,2018,-12.0008,-170.0022, 5055,   -999,   1027.5,   4.2708,  34.5190,2,  34.5221,3,    123.7,2,  4.1907,    124.8,6,    70.91,2,    36.41,2,     0.00,2,     2.56,2,    0.004,2,    0.002,2,   -999.0,9,  -999.00,9,   2262.6,2,   1300.6,2,   2338.6,2,     7.54,2, -999.00,  -999.0, -999.00,  -999.0
    31DSCG96_2,  P15S,   155,  1,    118,   1299,2,19960229,2018,-12.0008,-170.0022, 5055,   -999,   1104.1,   4.0259,  34.5294,2,  34.5301,2,    129.5,2,  3.9412,    125.0,2,    76.65,2,    36.60,2,     0.00,2,     2.57,2, -999.000,9, -999.000,9,   -999.0,9,  -999.00,9,   -999.0,9,   -999.0,9,   -999.0,9,     7.54,2, -999.00,  -999.0, -999.00,  -999.0
    31DSCG96_2,  P15S,   155,  1,    117,   1242,2,19960229,2018,-12.0008,-170.0022, 5055,   -999,   1223.1,   3.6024,  34.5457,2,  34.5471,2,    129.9,2,  3.5115,    128.0,2,    85.15,2,    36.63,2,     0.00,2,     2.57,2,    0.000,2,    0.000,2,   -999.0,9,  -999.00,9,   2277.3,2,   1274.4,2,   2359.7,2,     7.54,2, -999.00,  -999.0, -999.00,  -999.0
    31DSCG96_2,  P15S,   155,  1,    116,   1259,2,19960229,2018,-12.0008,-170.0022, 5055,   -999,   1345.5,   3.2707,  34.5658,2,  34.5660,2,    130.0,2,  3.1727,    128.8,2,    93.55,2,    36.84,2,     0.00,2,     2.59,2, -999.000,9, -999.000,9,   -999.0,9,  -999.00,9,   -999.0,9,   -999.0,9,   -999.0,9,     7.54,2, -999.00,  -999.0, -999.00,  -999.0
    31DSCG96_2,  P15S,   155,  1,    115,   1041,2,19960229,2018,-12.0008,-170.0022, 5055,   -999,   1555.0,   2.7748,  34.5926,2,  34.5935,2,    134.9,2,  2.6650,    135.3,2,   103.86,2,    36.55,2,     0.00,2,     2.56,2,   -0.002,2,    0.001,2,   -999.0,9,  -999.00,9,   2293.6,2,   1259.1,2,   2380.5,2,     7.55,2, -999.00,  -999.0, -999.00,  -999.0
    31DSCG96_2,  P15S,   155,  1,    114,   1017,2,19960229,2018,-12.0008,-170.0022, 5055,   -999,   1816.6,   2.3397,  34.6223,2,  34.6243,2,    139.4,2,  2.2136,    140.0,2,   114.78,2,    36.37,2,     0.00,2,     2.54,2,   -0.002,2,    0.001,2,   -999.0,9,  -999.00,9,   -999.0,9,   -999.0,9,   -999.0,9,     7.56,2, -999.00,  -999.0, -999.00,  -999.0
    31DSCG96_2,  P15S,   155,  1,    113,   1302,2,19960229,2018,-12.0008,-170.0022, 5055,   -999,   2066.3,   2.0881,  34.6423,2,  34.6434,2,    141.3,2,  1.9447,    141.3,2,   122.41,2,    36.31,2,     0.00,2,     2.53,2, -999.000,9, -999.000,9,   -999.0,9,  -999.00,9,   2309.0,2,   1229.7,2,   2401.6,2,     7.56,2, -999.00,  -999.0, -999.00,  -999.0
    31DSCG96_2,  P15S,   155,  1,    112,   1217,2,19960229,2018,-12.0008,-170.0022, 5055,   -999,   2316.1,   1.9408,  34.6556,2,  34.6571,2,    141.7,2,  1.7780,    143.1,2,   127.96,6,    36.38,6,     0.00,6,     2.52,2,    0.000,2,    0.002,2,   -999.0,9,  -999.00,9,   -999.0,9,   -999.0,9,   -999.0,9,     7.57,2, -999.00,  -999.0, -999.00,  -999.0
    31DSCG96_2,  P15S,   155,  1,    111,   1226,2,19960229,2018,-12.0008,-170.0022, 5055,   -999,   2563.3,   1.8526,  34.6638,2,  34.6642,2,    144.7,2,  1.6692,    144.7,6,   131.14,2,    36.28,2,     0.00,2,     2.52,2, -999.000,9, -999.000,9,   -999.0,9,  -999.00,9,   2316.8,2,   1218.9,2,   2408.4,2,     7.57,2, -999.00,  -999.0, -999.00,  -999.0
    31DSCG96_2,  P15S,   155,  1,    110,   1301,2,19960229,2018,-12.0008,-170.0022, 5055,   -999,   2816.4,   1.7415,  34.6716,2,  34.6719,2,    148.2,2,  1.5369,    147.8,2,   134.04,2,    36.12,2,     0.00,2,     2.51,2,    0.000,2,    0.000,2,   -999.0,9,  -999.00,9,   -999.0,9,   -999.0,9,   -999.0,9,     7.58,2, -999.00,  -999.0, -999.00,  -999.0
    31DSCG96_2,  P15S,   155,  1,    109,   1031,2,19960229,2018,-12.0008,-170.0022, 5055,   -999,   3056.5,   1.6773,  34.6762,2,  34.6769,2,    151.3,2,  1.4511,    151.0,2,   134.86,2,    35.90,2,     0.00,2,     2.49,2, -999.000,5, -999.000,5,   -999.0,9,  -999.00,9,   2315.8,2,   1191.7,2,   2413.3,2,     7.58,2, -999.00,  -999.0, -999.00,  -999.0
    31DSCG96_2,  P15S,   155,  1,    108,   1227,2,19960229,2018,-12.0008,-170.0022, 5055,   -999,   3304.1,   1.6216,  34.6804,2,  34.6808,2,    155.1,2,  1.3722,    154.8,2,   135.07,2,    35.68,2,     0.00,2,     2.47,2,    0.000,2,    0.002,2,   -999.0,9,  -999.00,9,   -999.0,9,   -999.0,9,   -999.0,9,     7.58,2, -999.00,  -999.0, -999.00,  -999.0
    31DSCG96_2,  P15S,   155,  1,    107,   1263,2,19960229,2018,-12.0008,-170.0022, 5055,   -999,   3568.7,   1.5552,  34.6848,2,  34.6856,2,    159.8,2,  1.2806,    159.6,2,   134.40,2,    35.31,2,     0.00,2,     2.44,2,    0.002,2,    0.001,2,   -999.0,9,  -999.00,9,   2310.4,2,   1171.3,2,   2411.7,2,     7.59,2, -999.00,  -999.0, -999.00,  -999.0
    31DSCG96_2,  P15S,   155,  1,    106,   1262,2,19960229,2018,-12.0008,-170.0022, 5055,   -999,   3815.6,   1.4825,  34.6898,2,  34.6922,2,    165.8,2,  1.1838,    166.2,2,   132.95,2,    35.15,2,     0.00,2,     2.40,2,   -0.001,2,    0.000,2,   -999.0,9,  -999.00,9,   -999.0,9,   -999.0,9,   -999.0,9,     7.59,2, -999.00,  -999.0, -999.00,  -999.0
    31DSCG96_2,  P15S,   155,  1,    105,   1264,2,19960229,2018,-12.0008,-170.0022, 5055,   -999,   4063.7,   1.3446,  34.7069,2,  34.7067,2,    188.7,2,  1.0230,    188.6,6,   120.12,2,    33.16,2,     0.00,2,     2.27,2,    0.002,2,    0.000,2,   -999.0,9,  -999.00,9,   2276.0,2,   1095.6,2,   2381.7,2,     7.60,2, -999.00,  -999.0, -999.00,  -999.0
    31DSCG96_2,  P15S,   155,  1,    104,   1003,2,19960229,2018,-12.0008,-170.0022, 5055,   -999,   4317.1,   1.1629,  34.7124,2,  34.7131,2,    201.1,2,  0.8187,    200.5,2,   117.58,2,    32.25,2,     0.00,2,     2.21,2,    0.002,2,    0.002,2,   -999.0,9,  -999.00,9,   -999.0,9,   -999.0,9,   -999.0,9,  -999.00,9, -999.00,  -999.0, -999.00,  -999.0
    31DSCG96_2,  P15S,   155,  1,    103,   1035,2,19960229,2018,-12.0008,-170.0022, 5055,   -999,   4566.0,   1.0487,  34.7105,2,  34.7113,2,    205.2,2,  0.6800,    205.2,2,   119.25,2,    32.13,2,     0.00,2,     2.20,2,    0.006,2,    0.001,2,   -999.0,9,  -999.00,9,   2261.4,2,   1068.3,2,   2369.8,2,     7.61,2, -999.00,  -999.0, -999.00,  -999.0
    31DSCG96_2,  P15S,   155,  1,    102,   1030,2,19960229,2018,-12.0008,-170.0022, 5055,   -999,   4815.3,   1.0541,  34.7096,2,  34.7107,2,    205.3,2,  0.6565,    205.5,2,   119.92,2,    32.12,2,     0.00,2,     2.20,2,    0.005,6,    0.002,6,   -999.0,9,  -999.00,9,   -999.0,9,   -999.0,9,   -999.0,9,     7.61,2, -999.00,  -999.0, -999.00,  -999.0
    31DSCG96_2,  P15S,   155,  1,    101,   1022,2,19960229,2018,-12.0008,-170.0022, 5055,   -999,   5014.1,   1.0664,  34.7091,2,  34.7106,2,    205.9,2,  0.6450,    205.7,2,   120.29,6,    32.22,6,     0.00,6,     2.20,6,    0.009,2,    0.005,2,   -999.0,9,  -999.00,9,   2261.4,2,   1092.5,2,   2371.0,2,     7.61,2, -999.00,  -999.0, -999.00,  -999.0