BOTTLE,20220811CCHSIOAMB
EXPOCODE,SECT_ID,STNNBR,CASTNO,SAMPNO,BTLNBR,BTLNBR_FLAG_W,DATE,TIME,LATITUDE,LONGITUDE,DEPTH,CTDRAW,CTDPRS,CTDTMP,CTDSAL,CTDSAL_FLAG_W,SALNTY,SALNTY_FLAG_W,CTDOXY,CTDOXY_FLAG_W,THETA,OXYGEN,OXYGEN_FLAG_W,SILCAT,SILCAT_FLAG_W,NITRAT,NITRAT_FLAG_W,NITRIT,NITRIT_FLAG_W,PHSPHT,PHSPHT_FLAG_W,CFC-11,CFC-11_FLAG_W,CFC-12,CFC-12_FLAG_W,DELC14,DELC14_FLAG_W,DELC13,DELC13_FLAG_W,TCARBN,TCARBN_FLAG_W,PCO2,PCO2_FLAG_W,ALKALI,ALKALI_FLAG_W,PH,PH_FLAG_W,PCO2TMP,C14ERR,PH_TMP,C13ERR
,,,,,,,,,,,,DBAR,DBAR,ITS-90,PSS-78,,PSS-78,,UMOL/KG,,DEG C,UMOL/KG,,UMOL/KG,,UMOL/KG,,UMOL/KG,,UMOL/KG,,PMOL/KG,,PMOL/KG,,/MILLE,,/MILLE,,UMOL/KG,,UATM,,UMOL/KG,,,,DEG C,/MILLE,DEG C,/MILLE
    31DSCG96_2,  P15S,   108,  1,    136,   1245,2,19960217,1137,-34.5042,-170.0032, 5457,   -999,      5.2,  21.1110,  35.5566,2,  35.5561,2,    223.2,2, 21.1100,    222.3,2,     1.26,2,     0.04,2,     0.00,2,     0.09,2,    2.236,2,    1.215,2,     78.5,2,  -999.00,9,   2037.8,2,    353.0,6,   -999.0,9,     8.02,2, -999.00,     3.9, -999.00,  -999.0
    31DSCG96_2,  P15S,   108,  1,    135,   1113,2,19960217,1137,-34.5042,-170.0032, 5457,   -999,     19.9,  21.1026,  35.5544,2,  35.5576,2,    220.2,2, 21.0988,    222.3,6,     1.31,2,     0.04,2,     0.00,2,     0.10,2,    2.241,4,    1.236,4,   -999.0,9,  -999.00,9,   -999.0,9,   -999.0,9,   -999.0,9,     8.02,2, -999.00,  -999.0, -999.00,  -999.0
    31DSCG96_2,  P15S,   108,  1,    134,   1216,2,19960217,1137,-34.5042,-170.0032, 5457,   -999,     51.9,  17.9204,  35.4660,2,  35.4736,2,    230.4,2, 17.9115,    247.3,2,     1.29,2,     0.03,2,     0.00,2,     0.11,2,    2.615,6,    1.389,6,   -999.0,9,  -999.00,9,   -999.0,9,   -999.0,9,   -999.0,9,     8.01,2, -999.00,  -999.0, -999.00,  -999.0
    31DSCG96_2,  P15S,   108,  1,    133,   1221,2,19960217,1137,-34.5042,-170.0032, 5457,   -999,     69.6,  16.2073,  35.4588,2,  35.4548,2,    250.0,2, 16.1962,    256.7,2,     1.44,2,     0.08,2,     0.00,2,     0.14,2,    2.752,2,    1.442,2,   -999.0,9,  -999.00,9,   -999.0,9,   -999.0,9,   -999.0,9,     8.00,2, -999.00,  -999.0, -999.00,  -999.0
    31DSCG96_2,  P15S,   108,  1,    132,   1039,2,19960217,1137,-34.5042,-170.0032, 5457,   -999,     92.6,  15.1881,  35.4034,2,  35.4057,2,    250.3,2, 15.1740,    243.0,2,     1.74,2,     0.43,2,     0.05,2,     0.23,2,    2.762,2,    1.463,2,   -999.0,9,  -999.00,9,   -999.0,9,   -999.0,9,   -999.0,9,     7.97,2, -999.00,  -999.0, -999.00,  -999.0
    31DSCG96_2,  P15S,   108,  1,    131,   1014,2,19960217,1137,-34.5042,-170.0032, 5457,   -999,    141.6,  14.4498,  35.3439,2,  35.3474,2,    224.7,2, 14.4288,    222.4,2,     2.29,2,     5.20,2,     0.02,2,     0.45,2,    2.752,2,    1.441,2,   -999.0,9,  -999.00,9,   -999.0,9,   -999.0,9,   -999.0,9,     7.92,2, -999.00,  -999.0, -999.00,  -999.0
    31DSCG96_2,  P15S,   108,  1,    130,   1257,2,19960217,1137,-34.5042,-170.0032, 5457,   -999,    189.6,  13.5266,  35.2066,2,  35.2057,2,    221.1,2, 13.4998,    216.3,2,     2.85,2,     7.29,2,     0.01,2,     0.58,2,    2.744,2,    1.432,2,   -999.0,9,  -999.00,9,   -999.0,9,   -999.0,9,   -999.0,9,     7.89,2, -999.00,  -999.0, -999.00,  -999.0
    31DSCG96_2,  P15S,   108,  1,    129,   1256,2,19960217,1137,-34.5042,-170.0032, 5457,   -999,    239.6,  12.3765,  35.0651,2,  35.0651,2,    211.9,2, 12.3446,    212.8,2,     3.58,2,    10.21,2,     0.00,2,     0.75,2,    2.778,2,    1.429,2,   -999.0,9,  -999.00,9,   -999.0,9,   -999.0,9,   -999.0,9,     7.85,2, -999.00,  -999.0, -999.00,  -999.0
    31DSCG96_2,  P15S,   108,  1,    128,   1007,2,19960217,1137,-34.5042,-170.0032, 5457,   -999,    292.7,  11.6270,  34.9776,2,  34.9761,2,    212.6,2, 11.5895,    212.2,2,     4.31,2,    12.19,2,     0.00,2,     0.87,2,    2.718,2,    1.386,2,   -999.0,9,  -999.00,9,   -999.0,9,   -999.0,9,   -999.0,9,     7.83,2, -999.00,  -999.0, -999.00,  -999.0
    31DSCG96_2,  P15S,   108,  1,    127,   1232,2,19960217,1137,-34.5042,-170.0032, 5457,   -999,    378.2,  10.2312,  34.7909,2,  34.7949,2,    203.1,2, 10.1864,    200.3,6,     6.04,2,    16.75,2,     0.00,2,     1.15,2,    2.316,2,    1.163,2,   -999.0,9,  -999.00,9,   -999.0,9,   -999.0,9,   -999.0,9,     7.78,2, -999.00,  -999.0, -999.00,  -999.0
    31DSCG96_2,  P15S,   108,  1,    126,   1025,2,19960217,1137,-34.5042,-170.0032, 5457,   -999,    479.1,   8.6338,  34.5895,2,  34.5732,2,    207.2,2,  8.5824,    208.6,2,     7.29,2,    20.16,2,     0.00,2,     1.37,2,    2.153,2,    1.047,2,   -999.0,9,  -999.00,9,   -999.0,9,   -999.0,9,   -999.0,9,     7.74,2, -999.00,  -999.0, -999.00,  -999.0
    31DSCG96_2,  P15S,   108,  1,    125,   1233,2,19960217,1137,-34.5042,-170.0032, 5457,   -999,    580.4,   7.7216,  34.4939,2,  34.4931,2,    219.6,2,  7.6630,    217.9,2,     8.14,2,    21.80,2,     0.00,2,     1.47,2,    1.604,2,    0.778,2,   -999.0,9,  -999.00,9,   -999.0,9,   -999.0,9,   -999.0,9,     7.73,2, -999.00,  -999.0, -999.00,  -999.0
    31DSCG96_2,  P15S,   108,  1,    124,   1013,2,19960217,1137,-34.5042,-170.0032, 5457,   -999,    668.6,   7.1335,  34.4301,2,  34.4303,2,    223.3,2,  7.0686,    227.0,2,     8.74,2,    22.72,2,     0.00,2,     1.53,2,    1.330,2,    0.661,2,   -999.0,9,  -999.00,9,   -999.0,9,   -999.0,9,   -999.0,9,     7.73,2, -999.00,  -999.0, -999.00,  -999.0
    31DSCG96_2,  P15S,   108,  1,    123,   1250,2,19960217,1137,-34.5042,-170.0032, 5457,   -999,    769.7,   6.6162,  34.3906,2,  34.3910,2,    220.7,2,  6.5440,    224.4,2,    11.21,2,    24.34,2,     0.00,2,     1.64,2,    0.863,2,    0.446,2,   -999.0,9,  -999.00,9,   -999.0,9,   -999.0,9,   -999.0,9,     7.72,3, -999.00,  -999.0, -999.00,  -999.0
    31DSCG96_2,  P15S,   108,  1,    122,   1265,2,19960217,1137,-34.5042,-170.0032, 5457,   -999,    872.7,   6.0384,  34.3667,2,  34.3666,2,    215.0,2,  5.9598,    215.1,2,    16.23,2,    26.52,2,     0.00,2,     1.78,2,    0.543,2,    0.283,2,   -999.0,9,  -999.00,9,   -999.0,9,   -999.0,9,   -999.0,9,     7.70,2, -999.00,  -999.0, -999.00,  -999.0
    31DSCG96_2,  P15S,   108,  1,    121,   1246,2,19960217,1137,-34.5042,-170.0032, 5457,   -999,    976.9,   5.3142,  34.3597,2,  34.3596,2,    204.1,2,  5.2309,    202.6,2,    24.87,2,    29.04,2,     0.00,2,     1.96,2,    0.300,2,    0.157,2,   -999.0,9,  -999.00,9,   -999.0,9,   -999.0,9,   -999.0,9,     7.66,2, -999.00,  -999.0, -999.00,  -999.0
    31DSCG96_2,  P15S,   108,  1,    120,   1015,2,19960217,1137,-34.5042,-170.0032, 5457,   -999,   1074.1,   4.7479,  34.3654,2,  34.3645,2,    195.1,2,  4.6602,    194.9,2,    32.50,2,    30.70,2,     0.00,2,     2.07,2,    0.186,2,    0.101,2,   -999.0,9,  -999.00,9,   -999.0,9,   -999.0,9,   -999.0,9,     7.64,2, -999.00,  -999.0, -999.00,  -999.0
    31DSCG96_2,  P15S,   108,  1,    119,   1247,2,19960217,1137,-34.5042,-170.0032, 5457,   -999,   1170.6,   4.2052,  34.3749,2,  34.3754,2,    187.7,2,  4.1136,    189.2,2,    40.30,2,    32.05,2,     0.00,2,     2.17,2,    0.100,2,    0.058,2,   -999.0,9,  -999.00,9,   -999.0,9,   -999.0,9,   -999.0,9,     7.62,2, -999.00,  -999.0, -999.00,  -999.0
    31DSCG96_2,  P15S,   108,  1,    118,   1222,2,19960217,1137,-34.5042,-170.0032, 5457,   -999,   1273.8,   3.7066,  34.4133,2,  34.4144,2,    179.8,2,  3.6107,    180.8,2,    51.04,2,    33.21,2,     0.00,2,     2.26,2,    0.054,2,    0.039,2,   -999.0,9,  -999.00,9,   -999.0,9,   -999.0,9,   -999.0,9,     7.60,2, -999.00,  -999.0, -999.00,  -999.0
    31DSCG96_2,  P15S,   108,  1,    117,   1267,2,19960217,1137,-34.5042,-170.0032, 5457,   -999,   1450.1,   3.1927,  34.4939,2,  34.4937,2,    166.7,2,  3.0870,    168.3,6,    69.60,2,    34.24,2,     0.00,2,     2.34,2,    0.020,2,    0.013,2,   -999.0,9,  -999.00,9,   -999.0,9,   -999.0,9,   -999.0,9,     7.59,2, -999.00,  -999.0, -999.00,  -999.0
    31DSCG96_2,  P15S,   108,  1,    116,   1211,2,19960217,1137,-34.5042,-170.0032, 5457,   -999,   1690.0,   2.7122,  34.5699,2,  34.5696,2,    156.8,2,  2.5920,    157.5,2,    90.14,2,    35.06,2,     0.00,2,     2.41,2,    0.003,2,    0.005,2,   -999.0,9,  -999.00,9,   -999.0,9,   -999.0,9,   -999.0,9,     7.58,2, -999.00,  -999.0, -999.00,  -999.0
    31DSCG96_2,  P15S,   108,  1,    115,   1041,2,19960217,1137,-34.5042,-170.0032, 5457,   -999,   1936.6,   2.4420,  34.6105,2,  34.6099,2,    151.2,2,  2.3044,    151.6,2,   104.72,2,    35.53,2,     0.00,2,     2.45,2,    0.003,2,    0.018,4,   -999.0,9,  -999.00,9,   -999.0,9,   -999.0,9,   -999.0,9,     7.57,2, -999.00,  -999.0, -999.00,  -999.0
    31DSCG96_2,  P15S,   108,  1,    114,   1017,2,19960217,1137,-34.5042,-170.0032, 5457,   -999,   2191.7,   2.2547,  34.6312,2,  34.6307,2,    149.4,2,  2.0977,    149.4,2,   113.02,2,    35.78,2,     0.00,2,     2.47,2,    0.000,2,    0.003,2,   -999.0,9,  -999.00,9,   -999.0,9,   -999.0,9,   -999.0,9,     7.57,2, -999.00,  -999.0, -999.00,  -999.0
    31DSCG96_2,  P15S,   108,  1,    113,   1302,2,19960217,1137,-34.5042,-170.0032, 5457,   -999,   2440.1,   2.1091,  34.6445,2,  34.6440,2,    148.0,2,  1.9322,    147.6,2,   119.23,2,    35.98,2,     0.00,2,     2.49,2, -999.000,9, -999.000,9,   -999.0,9,  -999.00,9,   -999.0,9,   -999.0,9,   -999.0,9,     7.57,2, -999.00,  -999.0, -999.00,  -999.0
    31DSCG96_2,  P15S,   108,  1,    112,   1217,2,19960217,1137,-34.5042,-170.0032, 5457,   -999,   2688.4,   1.9819,  34.6572,2,  34.6567,2,    148.8,2,  1.7845,    149.0,2,   123.58,2,    35.95,2,     0.00,2,     2.48,2,    0.000,2,    0.002,2,   -999.0,9,  -999.00,9,   -999.0,9,   -999.0,9,   -999.0,9,     7.57,2, -999.00,  -999.0, -999.00,  -999.0
    31DSCG96_2,  P15S,   108,  1,    111,   1114,2,19960217,1137,-34.5042,-170.0032, 5457,   -999,   2943.5,   1.8665,  34.6747,2,  34.6740,2,    156.4,2,  1.6471,    156.5,2,   122.15,2,    35.24,2,     0.00,2,     2.43,2, -999.000,9, -999.000,9,   -999.0,9,  -999.00,9,   -999.0,9,   -999.0,9,   -999.0,9,     7.58,2, -999.00,  -999.0, -999.00,  -999.0
    31DSCG96_2,  P15S,   108,  1,    110,   1301,2,19960217,1137,-34.5042,-170.0032, 5457,   -999,   3189.7,   1.7686,  34.6939,2,  34.6936,2,    167.9,2,  1.5272,    168.7,2,   116.63,2,    34.05,2,     0.00,2,     2.34,2,    0.000,2,    0.001,2,   -999.0,9,  -999.00,9,   -999.0,9,   -999.0,9,   -999.0,9,     7.59,2, -999.00,  -999.0, -999.00,  -999.0
    31DSCG96_2,  P15S,   108,  1,    109,   1119,2,19960217,1137,-34.5042,-170.0032, 5457,   -999,   3435.5,   1.6364,  34.7122,2,  34.7119,2,    183.1,2,  1.3732,    183.3,2,   110.53,2,    32.78,2,     0.00,2,     2.25,2,    0.005,2,    0.001,2,   -999.0,9,  -999.00,9,   -999.0,9,   -999.0,9,   -999.0,9,     7.60,2, -999.00,  -999.0, -999.00,  -999.0
    31DSCG96_2,  P15S,   108,  1,    108,   1227,2,19960217,1137,-34.5042,-170.0032, 5457,   -999,   3688.2,   1.4447,  34.7206,2,  34.7197,2,    194.0,2,  1.1602,    194.4,2,   109.70,2,    32.12,2,     0.00,2,     2.19,2,    0.003,2,    0.005,2,   -999.0,9,  -999.00,9,   -999.0,9,   -999.0,9,   -999.0,9,     7.61,2, -999.00,  -999.0, -999.00,  -999.0
    31DSCG96_2,  P15S,   108,  1,    107,   1263,2,19960217,1137,-34.5042,-170.0032, 5457,   -999,   3939.6,   1.2724,  34.7194,2,  34.7197,2,    199.8,2,  0.9662,    200.5,6,   112.47,2,    31.99,2,     0.00,2,     2.18,2,    0.007,2,    0.005,2,   -999.0,9,  -999.00,9,   -999.0,9,   -999.0,9,   -999.0,9,     7.61,2, -999.00,  -999.0, -999.00,  -999.0
    31DSCG96_2,  P15S,   108,  1,    106,   1262,2,19960217,1137,-34.5042,-170.0032, 5457,   -999,   4189.9,   1.1363,  34.7154,2,  34.7144,2,    203.2,2,  0.8069,    203.7,2,   116.32,2,    32.08,2,     0.00,2,     2.19,2,    0.011,2,    0.011,2,   -999.0,9,  -999.00,9,   -999.0,9,   -999.0,9,   -999.0,9,     7.61,2, -999.00,  -999.0, -999.00,  -999.0
    31DSCG96_2,  P15S,   108,  1,    105,   1264,2,19960217,1137,-34.5042,-170.0032, 5457,   -999,   4437.8,   1.0445,  34.7109,2,  34.7104,2,    205.0,2,  0.6904,    205.7,2,   119.44,2,    32.23,2,     0.00,2,     2.20,2,    0.014,2,    0.010,2,   -999.0,9,  -999.00,9,   -999.0,9,   -999.0,9,   -999.0,9,     7.61,2, -999.00,  -999.0, -999.00,  -999.0
    31DSCG96_2,  P15S,   108,  1,    104,   1003,2,19960217,1137,-34.5042,-170.0032, 5457,   -999,   4686.3,   1.0111,  34.7089,2,  34.7087,2,    205.9,2,  0.6299,    206.2,2,   120.91,2,    32.22,2,     0.00,2,     2.20,2,    0.018,2,    0.011,2,   -999.0,9,  -999.00,9,   -999.0,9,   -999.0,9,   -999.0,9,     7.61,2, -999.00,  -999.0, -999.00,  -999.0
    31DSCG96_2,  P15S,   108,  1,    103,    999,2,19960217,1137,-34.5042,-170.0032, 5457,   -999,   4928.5,   1.0164,  34.7077,2,  34.7080,2,    206.2,2,  0.6068,    206.7,2,   121.63,2,    32.29,2,     0.00,2,     2.20,2,    0.022,2,    0.007,2,   -999.0,9,  -999.00,9,   -999.0,9,   -999.0,9,   -999.0,9,     7.61,2, -999.00,  -999.0, -999.00,  -999.0
    31DSCG96_2,  P15S,   108,  1,    102,   1030,2,19960217,1137,-34.5042,-170.0032, 5457,   -999,   5261.5,   1.0445,  34.7073,2,  34.7066,2,    207.0,2,  0.5939,    206.8,2,   122.04,2,    32.25,2,     0.00,2,     2.21,2,    0.022,2,    0.014,2,   -999.0,9,  -999.00,9,   -999.0,9,   -999.0,9,   -999.0,9,     7.61,2, -999.00,  -999.0, -999.00,  -999.0
    31DSCG96_2,  P15S,   108,  1,    101,   1022,2,19960217,1137,-34.5042,-170.0032, 5457,   -999,   5588.3,   1.0853,  34.7070,2,  34.7083,2,    207.2,2,  0.5925,    206.8,2,   122.21,6,    32.31,6,     0.00,6,     2.21,2,    0.025,6,    0.013,6,   -999.0,9,  -999.00,9,   -999.0,9,   -999.0,9,   -999.0,9,     7.61,2, -999.00,  -999.0, -999.00,  -999.0