BOTTLE,20220811CCHSIOAMB
EXPOCODE,SECT_ID,STNNBR,CASTNO,SAMPNO,BTLNBR,BTLNBR_FLAG_W,DATE,TIME,LATITUDE,LONGITUDE,DEPTH,CTDRAW,CTDPRS,CTDTMP,CTDSAL,CTDSAL_FLAG_W,SALNTY,SALNTY_FLAG_W,CTDOXY,CTDOXY_FLAG_W,THETA,OXYGEN,OXYGEN_FLAG_W,SILCAT,SILCAT_FLAG_W,NITRAT,NITRAT_FLAG_W,NITRIT,NITRIT_FLAG_W,PHSPHT,PHSPHT_FLAG_W,CFC-11,CFC-11_FLAG_W,CFC-12,CFC-12_FLAG_W,DELC14,DELC14_FLAG_W,DELC13,DELC13_FLAG_W,TCARBN,TCARBN_FLAG_W,PCO2,PCO2_FLAG_W,ALKALI,ALKALI_FLAG_W,PH,PH_FLAG_W,PCO2TMP,C14ERR,PH_TMP,C13ERR
,,,,,,,,,,,,DBAR,DBAR,ITS-90,PSS-78,,PSS-78,,UMOL/KG,,DEG C,UMOL/KG,,UMOL/KG,,UMOL/KG,,UMOL/KG,,UMOL/KG,,PMOL/KG,,PMOL/KG,,/MILLE,,/MILLE,,UMOL/KG,,UATM,,UMOL/KG,,,,DEG C,/MILLE,DEG C,/MILLE
    31DSCG96_2,  P15S,   104,  1,    136,   1245,2,19960216,1135,-36.0033,-170.0043, 5050,   -999,      4.3,  20.6477,  35.3551,2,  35.3552,2,    226.2,2, 20.6469,    224.8,2,     1.32,2,     0.02,2,     0.00,2,     0.10,2,    2.311,2,    1.285,2,     83.3,2,  -999.00,9,   2032.2,2,    352.3,2,   2326.0,2,     8.01,2, -999.00,     3.6, -999.00,  -999.0
    31DSCG96_2,  P15S,   104,  1,    135,   1113,2,19960216,1135,-36.0033,-170.0043, 5050,   -999,     19.6,  20.6558,  35.3661,2,  35.3555,2,    224.5,2, 20.6521,    224.8,6,     1.34,2,     0.00,2,     0.00,2,     0.10,2, -999.000,9, -999.000,9,   -999.0,9,  -999.00,9,   2030.3,2,    353.4,2,   2334.2,3,     8.01,2, -999.00,  -999.0, -999.00,  -999.0
    31DSCG96_2,  P15S,   104,  1,    134,   1216,2,19960216,1135,-36.0033,-170.0043, 5050,   -999,     43.6,  19.8225,  35.4919,2,  35.4930,2,    233.9,2, 19.8145,    235.4,2,     1.39,2,     0.02,2,     0.00,2,     0.09,2,    2.403,2,    1.338,2,   -999.0,9,  -999.00,9,   2027.6,2,    341.7,2,   2341.6,3,     8.02,2, -999.00,  -999.0, -999.00,  -999.0
    31DSCG96_2,  P15S,   104,  1,    133,   1221,2,19960216,1135,-36.0033,-170.0043, 5050,   -999,     66.6,  16.0119,  35.2076,2,  35.2104,2,    259.3,2, 16.0014,    262.6,2,     1.52,2,     0.02,2,     0.00,2,     0.14,2, -999.000,9, -999.000,9,   -999.0,9,  -999.00,9,   2034.2,2,    369.8,2,   2319.5,2,     8.00,2, -999.00,  -999.0, -999.00,  -999.0
    31DSCG96_2,  P15S,   104,  1,    132,   1039,2,19960216,1135,-36.0033,-170.0043, 5050,   -999,     95.9,  13.6559,  35.1721,2,  35.1671,2,    232.7,2, 13.6423,    243.5,2,     1.91,2,     2.25,2,     0.22,2,     0.33,2,    3.039,6,    1.623,6,   -999.0,9,  -999.00,9,   2068.5,2,    444.0,2,   2314.8,2,     7.93,2, -999.00,  -999.0, -999.00,  -999.0
    31DSCG96_2,  P15S,   104,  1,    131,   1014,2,19960216,1135,-36.0033,-170.0043, 5050,   -999,    119.2,  13.1651,  35.1497,2,  35.1496,2,    229.7,2, 13.1486,    231.2,2,     2.45,2,     5.87,2,     0.01,2,     0.50,2, -999.000,9, -999.000,9,   -999.0,9,  -999.00,9,   2081.3,2,    482.1,2,   2312.1,2,     7.90,2, -999.00,  -999.0, -999.00,  -999.0
    31DSCG96_2,  P15S,   104,  1,    130,   1257,2,19960216,1135,-36.0033,-170.0043, 5050,   -999,    146.9,  12.4176,  35.0562,2,  35.0580,2,    226.7,2, 12.3980,    225.8,2,     2.96,2,     8.13,2,     0.01,2,     0.63,2,    3.002,2,    1.578,2,   -999.0,9,  -999.00,9,   2091.9,2,    524.7,2,   2310.8,3,     7.87,2, -999.00,  -999.0, -999.00,  -999.0
    31DSCG96_2,  P15S,   104,  1,    129,   1256,2,19960216,1135,-36.0033,-170.0043, 5050,   -999,    190.7,  11.7032,  34.9854,2,  34.9832,2,    220.2,2, 11.6787,    220.6,2,     3.72,2,    10.84,2,     0.01,2,     0.79,2,    2.975,2,    1.523,2,   -999.0,9,  -999.00,9,   2106.0,3,    572.8,2,   2309.4,2,     7.84,2, -999.00,  -999.0, -999.00,  -999.0
    31DSCG96_2,  P15S,   104,  1,    128,   1007,2,19960216,1135,-36.0033,-170.0043, 5050,   -999,    241.8,  11.1618,  34.9123,2,  34.9111,2,    221.8,2, 11.1317,    218.2,2,     4.39,2,    12.54,2,     0.01,2,     0.89,2, -999.000,9, -999.000,9,   -999.0,9,  -999.00,9,   2110.8,3,    616.0,2,   2306.1,2,     7.82,2, -999.00,  -999.0, -999.00,  -999.0
    31DSCG96_2,  P15S,   104,  1,    127,   1232,2,19960216,1135,-36.0033,-170.0043, 5050,   -999,    294.7,  10.4695,  34.8190,2,  34.8203,2,    211.6,2, 10.4342,    207.8,2,     5.50,2,    15.36,2,     0.00,2,     1.06,2,    2.644,2,    1.346,2,   -999.0,9,  -999.00,9,   2121.8,2,    655.9,2,   2300.6,2,     7.79,2, -999.00,  -999.0, -999.00,  -999.0
    31DSCG96_2,  P15S,   104,  1,    126,   1025,2,19960216,1135,-36.0033,-170.0043, 5050,   -999,    376.3,   9.3132,  34.6719,2,  34.6705,2,    204.7,2,  9.2712,    203.4,2,     6.90,2,    18.85,2,     0.01,2,     1.28,2,    2.305,2,    1.156,2,   -999.0,9,  -999.00,9,   2132.8,2,    728.3,2,   2293.3,2,     7.75,2, -999.00,  -999.0, -999.00,  -999.0
    31DSCG96_2,  P15S,   104,  1,    125,   1233,2,19960216,1135,-36.0033,-170.0043, 5050,   -999,    471.6,   8.3642,  34.5574,2,  34.5573,2,    215.0,2,  8.3147,    213.6,6,     7.45,2,    20.47,2,     0.00,2,     1.39,2,    2.213,2,    1.093,2,   -999.0,9,  -999.00,9,   2134.7,2,    753.7,2,   2291.5,2,     7.74,2, -999.00,  -999.0, -999.00,  -999.0
    31DSCG96_2,  P15S,   104,  1,    124,   1013,2,19960216,1135,-36.0033,-170.0043, 5050,   -999,    576.2,   7.6405,  34.4856,2,  34.4849,2,    219.7,2,  7.5827,    220.6,2,     8.76,2,    21.90,2,     0.00,2,     1.48,2,    1.845,2,    0.914,2,   -999.0,9,  -999.00,9,   2137.4,2,    764.0,2,   2287.5,2,     7.73,2, -999.00,  -999.0, -999.00,  -999.0
    31DSCG96_2,  P15S,   104,  1,    123,   1250,2,19960216,1135,-36.0033,-170.0043, 5050,   -999,    680.4,   7.0269,  34.4390,2,  34.4396,2,    217.4,2,  6.9614,    218.1,2,    11.31,2,    23.72,2,     0.00,2,     1.60,2,    1.171,2,    0.583,2,   -999.0,9,  -999.00,9,   2143.1,2,    795.8,2,   2290.2,2,     7.72,2, -999.00,  -999.0, -999.00,  -999.0
    31DSCG96_2,  P15S,   104,  1,    122,   1265,2,19960216,1135,-36.0033,-170.0043, 5050,   -999,    775.8,   6.4213,  34.4039,2,  34.4036,2,    211.1,2,  6.3497,    212.4,2,    15.51,2,    25.69,2,     0.00,2,     1.74,2,    0.713,2,    0.364,2,   -999.0,9,  -999.00,9,   2155.4,2,    841.2,2,   2291.4,2,     7.70,2, -999.00,  -999.0, -999.00,  -999.0
    31DSCG96_2,  P15S,   104,  1,    121,   1246,2,19960216,1135,-36.0033,-170.0043, 5050,   -999,    873.7,   5.7757,  34.3889,2,  34.3897,2,    203.7,2,  5.6988,    202.8,2,    22.46,2,    27.81,2,     0.00,2,     1.88,2,    0.413,2,    0.215,2,   -999.0,9,  -999.00,9,   2168.2,2,    900.1,2,   2297.6,2,     7.67,2, -999.00,  -999.0, -999.00,  -999.0
    31DSCG96_2,  P15S,   104,  1,    120,   1015,2,19960216,1135,-36.0033,-170.0043, 5050,   -999,    968.9,   5.1475,  34.3853,2,  34.3861,2,    194.5,2,  5.0661,    194.9,2,    30.46,2,    29.68,2,     0.00,2,     2.02,2,    0.237,2,    0.130,2,   -999.0,9,  -999.00,9,   2185.0,2,    966.1,2,   2302.6,2,     7.65,2, -999.00,  -999.0, -999.00,  -999.0
    31DSCG96_2,  P15S,   104,  1,    119,   1247,2,19960216,1135,-36.0033,-170.0043, 5050,   -999,   1072.3,   4.6585,  34.4021,2,  34.4024,2,    190.4,2,  4.5715,    187.8,2,    38.66,2,    31.02,2,     0.00,2,     2.11,2,    0.148,2,    0.082,2,   -999.0,9,  -999.00,9,   2197.6,2,   1024.0,2,   2314.0,3,     7.63,2, -999.00,  -999.0, -999.00,  -999.0
    31DSCG96_2,  P15S,   104,  1,    118,   1222,2,19960216,1135,-36.0033,-170.0043, 5050,   -999,   1169.4,   4.1851,  34.4195,2,  34.4195,2,    182.1,2,  4.0937,    181.6,2,    46.94,2,    32.13,2,     0.00,2,     2.19,2, -999.000,9, -999.000,9,   -999.0,9,  -999.00,9,   2214.0,2,   1050.4,2,   2318.4,2,     7.62,2, -999.00,  -999.0, -999.00,  -999.0
    31DSCG96_2,  P15S,   104,  1,    117,   1267,2,19960216,1135,-36.0033,-170.0043, 5050,   -999,   1271.2,   3.7669,  34.4491,2,  34.4487,2,    175.7,2,  3.6705,    175.9,2,    56.35,2,    33.04,2,     0.00,2,     2.27,2,    0.055,2,    0.077,4,   -999.0,9,  -999.00,9,   2225.3,2,   1087.7,2,   2328.2,2,     7.60,2, -999.00,  -999.0, -999.00,  -999.0
    31DSCG96_2,  P15S,   104,  1,    116,   1211,2,19960216,1135,-36.0033,-170.0043, 5050,   -999,   1450.2,   3.1512,  34.5162,2,  34.5173,2,    165.4,2,  3.0460,    164.8,2,    74.78,2,    34.30,2,     0.00,2,     2.36,2, -999.000,9, -999.000,9,   -999.0,9,  -999.00,9,   2251.4,2,   1150.6,2,   2350.1,2,     7.58,3, -999.00,  -999.0, -999.00,  -999.0
    31DSCG96_2,  P15S,   104,  1,    115,   1041,2,19960216,1135,-36.0033,-170.0043, 5050,   -999,   1688.2,   2.7356,  34.5740,2,  34.5737,2,    156.7,2,  2.6152,    156.7,6,    91.75,2,    34.90,2,     0.00,2,     2.42,2,    0.004,2,    0.006,2,   -999.0,9,  -999.00,9,   2272.6,2,   1176.7,2,   2368.2,2,     7.58,2, -999.00,  -999.0, -999.00,  -999.0
    31DSCG96_2,  P15S,   104,  1,    114,   1017,2,19960216,1135,-36.0033,-170.0043, 5050,   -999,   1945.1,   2.4672,  34.6095,2,  34.6089,2,    151.3,2,  2.3285,    151.3,2,   104.75,2,    35.38,2,     0.00,2,     2.46,2, -999.000,9, -999.000,9,   -999.0,9,  -999.00,9,   2288.1,2,   1207.8,2,   2383.3,2,     7.58,2, -999.00,  -999.0, -999.00,  -999.0
    31DSCG96_2,  P15S,   104,  1,    113,   1302,2,19960216,1135,-36.0033,-170.0043, 5050,   -999,   2191.8,   2.3116,  34.6275,2,  34.6276,2,    149.7,2,  2.1536,    149.3,2,   111.54,2,    35.59,2,     0.00,2,     2.47,2,    0.003,2,    0.004,2,   -999.0,9,  -999.00,9,   2294.6,2,   1208.5,2,   2389.7,2,     7.57,2, -999.00,  -999.0, -999.00,  -999.0
    31DSCG96_2,  P15S,   104,  1,    112,   1217,2,19960216,1135,-36.0033,-170.0043, 5050,   -999,   2433.8,   2.1851,  34.6413,2,  34.6423,2,    149.7,2,  2.0074,    149.1,2,   116.37,2,    35.67,2,     0.00,2,     2.47,2, -999.000,9, -999.000,9,   -999.0,9,  -999.00,9,   2300.8,2,   1210.6,2,   2396.3,2,     7.57,2, -999.00,  -999.0, -999.00,  -999.0
    31DSCG96_2,  P15S,   104,  1,    111,   1114,2,19960216,1135,-36.0033,-170.0043, 5050,   -999,   2684.8,   2.0569,  34.6538,2,  34.6536,2,    150.1,2,  1.8584,    149.4,2,   120.77,2,    35.70,2,     0.00,2,     2.48,2,    0.001,2,    0.002,2,   -999.0,9,  -999.00,9,   2303.9,2,   1219.0,2,   2399.1,2,     7.57,2, -999.00,  -999.0, -999.00,  -999.0
    31DSCG96_2,  P15S,   104,  1,    110,   1301,2,19960216,1135,-36.0033,-170.0043, 5050,   -999,   2937.4,   1.9003,  34.6764,2,  34.6761,2,    157.8,2,  1.6807,    158.4,2,   119.30,2,    34.91,2,     0.00,2,     2.41,2, -999.000,9, -999.000,9,   -999.0,9,  -999.00,9,   2297.9,2,   1204.5,2,   2398.0,2,     7.58,2, -999.00,  -999.0, -999.00,  -999.0
    31DSCG96_2,  P15S,   104,  1,    109,   1119,2,19960216,1135,-36.0033,-170.0043, 5050,   -999,   3187.9,   1.7541,  34.7052,2,  34.7054,2,    175.5,2,  1.5131,    176.5,2,   110.46,2,    33.22,2,     0.00,2,     2.28,2,    0.003,2,    0.005,2,   -999.0,9,  -999.00,9,   2276.4,2,   1135.2,2,   2378.4,2,     7.60,2, -999.00,  -999.0, -999.00,  -999.0
    31DSCG96_2,  P15S,   104,  1,    108,   1227,2,19960216,1135,-36.0033,-170.0043, 5050,   -999,   3440.3,   1.6049,  34.7203,2,  34.7200,2,    189.4,2,  1.3420,    188.9,2,   106.81,2,    32.22,2,     0.00,2,     2.20,2, -999.000,9, -999.000,9,   -999.0,9,  -999.00,9,   2265.4,2,   1097.5,2,   2370.8,2,     7.60,2, -999.00,  -999.0, -999.00,  -999.0
    31DSCG96_2,  P15S,   104,  1,    107,   1263,2,19960216,1135,-36.0033,-170.0043, 5050,   -999,   3693.3,   1.4092,  34.7212,2,  34.7217,2,    196.0,2,  1.1251,   -999.0,9,   109.34,2,    31.98,2,     0.00,2,     2.18,2,    0.005,2,    0.005,2,   -999.0,9,  -999.00,9,   2260.9,2,   1083.1,2,   2368.0,2,     7.61,2, -999.00,  -999.0, -999.00,  -999.0
    31DSCG96_2,  P15S,   104,  1,    106,   1262,2,19960216,1135,-36.0033,-170.0043, 5050,   -999,   3945.3,   1.2394,  34.7184,2,  34.7182,2,    200.7,2,  0.9335,    201.3,2,   112.91,2,    32.02,2,     0.00,2,     2.18,2, -999.000,9, -999.000,9,   -999.0,9,  -999.00,9,   2260.1,2,   1082.7,2,   2367.6,2,     7.61,2, -999.00,  -999.0, -999.00,  -999.0
    31DSCG96_2,  P15S,   104,  1,    105,   1264,2,19960216,1135,-36.0033,-170.0043, 5050,   -999,   4188.4,   1.1259,  34.7147,2,  34.7143,2,    203.2,2,  0.7970,    203.8,6,   116.40,2,    32.11,2,     0.00,2,     2.20,2,    0.014,2,    0.012,2,   -999.0,9,  -999.00,9,   2260.6,2,   1086.8,2,   2368.7,2,     7.61,2, -999.00,  -999.0, -999.00,  -999.0
    31DSCG96_2,  P15S,   104,  1,    104,   1003,2,19960216,1135,-36.0033,-170.0043, 5050,   -999,   4438.6,   1.0588,  34.7115,2,  34.7114,2,    204.7,2,  0.7043,    205.1,2,   118.80,2,    32.23,2,     0.00,2,     2.19,2,    0.016,2,    0.011,2,   -999.0,9,  -999.00,9,   2261.1,2,   1083.9,2,   2370.2,2,     7.61,2, -999.00,  -999.0, -999.00,  -999.0
    31DSCG96_2,  P15S,   104,  1,    103,    999,2,19960216,1135,-36.0033,-170.0043, 5050,   -999,   4688.9,   1.0232,  34.7092,2,  34.7091,2,    206.4,2,  0.6413,    205.9,2,   120.31,2,    32.35,2,     0.00,2,     2.20,2,    0.020,2,    0.008,3,   -999.0,9,  -999.00,9,   2261.8,2,   1087.1,2,   2370.9,2,     7.61,3, -999.00,  -999.0, -999.00,  -999.0
    31DSCG96_2,  P15S,   104,  1,    102,   1030,2,19960216,1135,-36.0033,-170.0043, 5050,   -999,   4937.9,   1.0182,  34.7081,2,  34.7074,2,    206.3,2,  0.6075,    206.8,2,   121.47,2,    32.36,2,     0.00,2,     2.20,2,    0.023,2,    0.015,2,   -999.0,9,  -999.00,9,   2262.4,2,   1097.0,2,   2366.8,2,     7.61,2, -999.00,  -999.0, -999.00,  -999.0
    31DSCG96_2,  P15S,   104,  1,    101,   1022,2,19960216,1135,-36.0033,-170.0043, 5050,   -999,   5154.6,   1.0343,  34.7074,2,  34.7068,2,    206.8,2,  0.5971,    206.9,2,   121.81,6,    32.35,6,     0.00,6,     2.21,2,    0.030,6,    0.017,6,   -999.0,9,  -999.00,9,   2261.2,2,   1099.5,2,   2371.9,2,     7.61,2, -999.00,  -999.0, -999.00,  -999.0