BOTTLE,20220811CCHSIOAMB
EXPOCODE,SECT_ID,STNNBR,CASTNO,SAMPNO,BTLNBR,BTLNBR_FLAG_W,DATE,TIME,LATITUDE,LONGITUDE,DEPTH,CTDRAW,CTDPRS,CTDTMP,CTDSAL,CTDSAL_FLAG_W,SALNTY,SALNTY_FLAG_W,CTDOXY,CTDOXY_FLAG_W,THETA,OXYGEN,OXYGEN_FLAG_W,SILCAT,SILCAT_FLAG_W,NITRAT,NITRAT_FLAG_W,NITRIT,NITRIT_FLAG_W,PHSPHT,PHSPHT_FLAG_W,CFC-11,CFC-11_FLAG_W,CFC-12,CFC-12_FLAG_W,DELC14,DELC14_FLAG_W,DELC13,DELC13_FLAG_W,TCARBN,TCARBN_FLAG_W,PCO2,PCO2_FLAG_W,ALKALI,ALKALI_FLAG_W,PH,PH_FLAG_W,PCO2TMP,C14ERR,PH_TMP,C13ERR
,,,,,,,,,,,,DBAR,DBAR,ITS-90,PSS-78,,PSS-78,,UMOL/KG,,DEG C,UMOL/KG,,UMOL/KG,,UMOL/KG,,UMOL/KG,,UMOL/KG,,PMOL/KG,,PMOL/KG,,/MILLE,,/MILLE,,UMOL/KG,,UATM,,UMOL/KG,,,,DEG C,/MILLE,DEG C,/MILLE
    31DSCG96_1,  P14S,     9,  2,    234,   1224,2,19960109,1852,-54.5050, 171.4970, 4390,   -999,      9.3,   6.5779,  34.0632,2,  34.0654,2,    303.1,2,  6.5771,    303.6,2,     3.37,2,    19.91,2,     0.24,2,     1.37,2,    4.710,6,    2.421,6,   -999.0,9,  -999.00,9,   2101.9,2,    624.1,6,   -999.0,9,     7.80,2, -999.00,  -999.0, -999.00,  -999.0
    31DSCG96_1,  P14S,     9,  2,    233,   1221,2,19960109,1852,-54.5050, 171.4970, 4390,   -999,     28.8,   6.5387,  34.0892,2,  34.0881,2,    302.8,2,  6.5362,    303.4,2,     3.66,2,    19.74,2,     0.23,2,     1.36,2,    4.608,2,    2.367,2,   -999.0,9,  -999.00,9,   -999.0,9,   -999.0,9,   -999.0,9,     7.81,2, -999.00,  -999.0, -999.00,  -999.0
    31DSCG96_1,  P14S,     9,  2,    232,   1039,2,19960109,1852,-54.5050, 171.4970, 4390,   -999,     54.0,   6.5225,  34.0943,2,  34.0931,2,    301.8,2,  6.5178,    302.8,2,     3.62,2,    19.76,2,     0.22,2,     1.36,2,    4.655,2,    2.377,2,   -999.0,9,  -999.00,9,   2106.9,2,    645.0,3,   -999.0,9,     7.81,2, -999.00,  -999.0, -999.00,  -999.0
    31DSCG96_1,  P14S,     9,  2,    231,   1042,2,19960109,1852,-54.5050, 171.4970, 4390,   -999,     83.2,   6.5064,  34.1167,2,  34.1157,2,    300.1,2,  6.4991,    301.0,2,     3.77,2,    19.53,2,     0.21,2,     1.36,2,    4.619,2,    2.349,2,   -999.0,9,  -999.00,9,   -999.0,9,   -999.0,9,   -999.0,9,     7.81,2, -999.00,  -999.0, -999.00,  -999.0
    31DSCG96_1,  P14S,     9,  2,    230,   1257,2,19960109,1852,-54.5050, 171.4970, 4390,   -999,    104.7,   5.6366,  34.0406,2,  34.0391,2,    300.2,2,  5.6282,    302.1,2,     4.31,2,    20.90,2,     0.23,2,     1.48,2,    4.725,2,    2.427,2,   -999.0,9,  -999.00,9,   2110.7,2,    655.6,2,   -999.0,9,     7.78,4, -999.00,  -999.0, -999.00,  -999.0
    31DSCG96_1,  P14S,     9,  2,    229,   1256,2,19960109,1852,-54.5050, 171.4970, 4390,   -999,    129.4,   5.5246,  34.1062,2,  34.1069,2,    297.2,2,  5.5142,    295.8,2,     6.34,2,    21.43,2,     0.29,2,     1.50,2,    4.652,2,    2.342,2,   -999.0,9,  -999.00,9,   -999.0,9,   -999.0,9,   -999.0,9,     7.78,2, -999.00,  -999.0, -999.00,  -999.0
    31DSCG96_1,  P14S,     9,  2,    228,   1007,2,19960109,1852,-54.5050, 171.4970, 4390,   -999,    164.7,   5.5325,  34.1520,2,  34.1518,2,    294.1,2,  5.5192,    284.3,2,     8.18,2,    22.55,2,     0.04,2,     1.52,2,    4.403,2,    2.211,2,   -999.0,9,  -999.00,9,   -999.0,9,   -999.0,9,   -999.0,9,     7.76,2, -999.00,  -999.0, -999.00,  -999.0
    31DSCG96_1,  P14S,     9,  2,    227,   1234,2,19960109,1852,-54.5050, 171.4970, 4390,   -999,    215.2,   4.9848,  34.1019,2,  34.1035,2,    274.7,2,  4.9682,    287.0,2,     9.09,2,    23.45,2,     0.09,2,     1.59,2,    4.490,2,    2.246,2,   -999.0,9,  -999.00,9,   2127.3,2,    725.5,2,   -999.0,9,     7.75,2, -999.00,  -999.0, -999.00,  -999.0
    31DSCG96_1,  P14S,     9,  2,    226,   1025,2,19960109,1852,-54.5050, 171.4970, 4390,   -999,    264.7,   5.4960,  34.2144,2,  34.2127,2,    280.8,2,  5.4745,    263.6,2,    11.91,2,    24.12,2,     0.01,2,     1.63,2,    3.757,4,    1.896,4,   -999.0,9,  -999.00,9,   -999.0,9,   -999.0,9,   -999.0,9,     7.73,2, -999.00,  -999.0, -999.00,  -999.0
    31DSCG96_1,  P14S,     9,  2,    225,   1233,2,19960109,1852,-54.5050, 171.4970, 4390,   -999,    310.2,   4.9382,  34.1708,2,  34.1698,2,    278.4,2,  4.9143,    284.4,2,    10.86,2,    23.53,2,     0.07,2,     1.60,2,    4.498,2,    2.242,2,   -999.0,9,  -999.00,9,   2131.0,2,    740.6,2,   -999.0,9,     7.74,2, -999.00,  -999.0, -999.00,  -999.0
    31DSCG96_1,  P14S,     9,  2,    224,   1218,2,19960109,1852,-54.5050, 171.4970, 4390,   -999,    367.0,   4.5605,  34.1666,2,  34.1656,2,    250.9,2,  4.5331,    275.6,2,    13.71,2,    25.13,2,     0.01,2,     1.70,2,    4.111,2,    2.063,2,   -999.0,9,  -999.00,9,   -999.0,9,   -999.0,9,   -999.0,9,     7.73,2, -999.00,  -999.0, -999.00,  -999.0
    31DSCG96_1,  P14S,     9,  2,    223,   1250,2,19960109,1852,-54.5050, 171.4970, 4390,   -999,    424.9,   4.2387,  34.1673,2,  34.1672,2,    256.6,2,  4.2078,    267.4,2,    16.58,2,    26.37,2,     0.01,2,     1.78,2,    3.798,2,    1.911,2,   -999.0,9,  -999.00,9,   2149.3,2,    822.8,2,   -999.0,9,     7.71,2, -999.00,  -999.0, -999.00,  -999.0
    31DSCG96_1,  P14S,     9,  2,    222,   1109,2,19960109,1852,-54.5050, 171.4970, 4390,   -999,    524.9,   4.0461,  34.2222,2,  34.2202,2,    234.1,2,  4.0083,   -999.0,9,    24.16,2,    28.88,2,     0.01,2,     1.96,2,    2.917,2,    1.405,2,   -999.0,9,  -999.00,9,   2168.7,2,    920.2,2,   -999.0,9,     7.66,2, -999.00,  -999.0, -999.00,  -999.0
    31DSCG96_1,  P14S,     9,  2,    221,   1246,2,19960109,1852,-54.5050, 171.4970, 4390,   -999,    623.5,   3.7538,  34.2853,2,  34.2848,2,    216.2,2,  3.7099,   -999.0,9,    33.64,2,    30.94,2,     0.00,2,     2.10,2,    2.040,2,    0.978,2,   -999.0,9,  -999.00,9,   2189.2,2,    994.9,2,   -999.0,9,     7.63,2, -999.00,  -999.0, -999.00,  -999.0
    31DSCG96_1,  P14S,     9,  2,    220,   1209,2,19960109,1852,-54.5050, 171.4970, 4390,   -999,    724.6,   3.3352,  34.3462,2,  34.3443,2,    205.1,2,  3.2858,   -999.0,9,    44.59,2,    32.48,2,     0.00,2,     2.21,2,    1.348,2,    0.656,2,   -999.0,9,  -999.00,9,   -999.0,9,   -999.0,9,   -999.0,9,     7.61,2, -999.00,  -999.0, -999.00,  -999.0
    31DSCG96_1,  P14S,     9,  2,    219,   1247,2,19960109,1852,-54.5050, 171.4970, 4390,   -999,    824.8,   2.9809,  34.3730,2,  34.3717,2,    197.7,2,  2.9263,   -999.0,9,    51.11,2,    33.32,2,     0.00,2,     2.27,2,    1.181,2,    0.565,2,   -999.0,9,  -999.00,9,   2217.0,2,   1113.0,2,   -999.0,9,     7.59,2, -999.00,  -999.0, -999.00,  -999.0
    31DSCG96_1,  P14S,     9,  2,    218,   1222,2,19960109,1852,-54.5050, 171.4970, 4390,   -999,    924.7,   2.8575,  34.4254,2,  34.4250,2,    189.4,2,  2.7964,   -999.0,9,    57.84,2,    33.81,2,     0.00,2,     2.31,2,    0.838,2,    0.410,2,   -999.0,9,  -999.00,9,   -999.0,9,   -999.0,9,   -999.0,9,     7.58,2, -999.00,  -999.0, -999.00,  -999.0
    31DSCG96_1,  P14S,     9,  2,    217,   1104,2,19960109,1852,-54.5050, 171.4970, 4390,   -999,   1025.2,   2.6712,  34.5042,2,  34.5021,2,    178.4,2,  2.6040,   -999.0,9,    66.12,2,    33.98,2,     0.00,2,     2.32,2,    0.493,2,    0.233,2,   -999.0,9,  -999.00,9,   2240.1,2,   1185.1,2,   -999.0,9,     7.57,2, -999.00,  -999.0, -999.00,  -999.0
    31DSCG96_1,  P14S,     9,  2,    216,   1211,2,19960109,1852,-54.5050, 171.4970, 4390,   -999,   1142.0,   2.6002,  34.5463,2,  34.5446,2,    177.3,2,  2.5248,   -999.0,9,    69.93,2,    33.74,2,     0.00,2,     2.30,2,    0.382,2,    0.191,2,   -999.0,9,  -999.00,9,   -999.0,9,   -999.0,9,   -999.0,9,     7.57,2, -999.00,  -999.0, -999.00,  -999.0
    31DSCG96_1,  P14S,     9,  2,    215,   1041,2,19960109,1852,-54.5050, 171.4970, 4390,   -999,   1321.8,   2.5130,  34.5863,2,  34.5855,2,    175.8,2,  2.4248,   -999.0,9,    73.35,2,    33.49,2,     0.00,2,     2.28,2,    0.295,2,    0.142,2,   -999.0,9,  -999.00,9,   -999.0,9,   -999.0,9,   -999.0,9,     7.58,2, -999.00,  -999.0, -999.00,  -999.0
    31DSCG96_1,  P14S,     9,  2,    214,   1017,2,19960109,1852,-54.5050, 171.4970, 4390,   -999,   1524.3,   2.4307,  34.6181,2,  34.6175,2,    175.9,2,  2.3274,   -999.0,9,    75.65,2,    33.26,2,     0.00,2,     2.26,2,    0.244,2,    0.125,2,   -999.0,9,  -999.00,9,   2247.8,2,   1172.8,2,   -999.0,9,     7.58,2, -999.00,  -999.0, -999.00,  -999.0
    31DSCG96_1,  P14S,     9,  2,    213,   1008,2,19960109,1852,-54.5050, 171.4970, 4390,   -999,   1814.5,   2.3035,  34.6778,2,  34.6774,2,    180.9,2,  2.1780,   -999.0,9,    80.46,2,    32.32,2,     0.00,2,     2.19,2,    0.139,2,    0.063,2,   -999.0,9,  -999.00,9,   -999.0,9,   -999.0,9,   -999.0,9,     7.59,2, -999.00,  -999.0, -999.00,  -999.0
    31DSCG96_1,  P14S,     9,  2,    212,   1217,2,19960109,1852,-54.5050, 171.4970, 4390,   -999,   2055.3,   2.1885,  34.7091,2,-999.0000,9,    185.5,2,  2.0442,   -999.0,9,  -999.00,9,  -999.00,9,  -999.00,9,  -999.00,9,    0.106,2,    0.048,2,   -999.0,9,  -999.00,9,   2249.7,2,   1112.5,2,   -999.0,9,     7.60,2, -999.00,  -999.0, -999.00,  -999.0
    31DSCG96_1,  P14S,     9,  2,    211,   1114,2,19960109,1852,-54.5050, 171.4970, 4390,   -999,   2290.8,   2.0816,  34.7259,2,  34.7245,2,    189.3,2,  1.9183,   -999.0,9,    86.62,2,    31.34,2,     0.00,2,     2.12,2,    0.086,2,    0.057,3,   -999.0,9,  -999.00,9,   -999.0,9,   -999.0,9,   -999.0,9,     7.61,2, -999.00,  -999.0, -999.00,  -999.0
    31DSCG96_1,  P14S,     9,  2,    210,   1036,2,19960109,1852,-54.5050, 171.4970, 4390,   -999,   2566.0,   1.9335,  34.7390,2,  34.7369,2,    194.2,2,  1.7480,   -999.0,9,    90.61,2,    31.02,2,     0.00,2,     2.10,2,    0.065,2,    0.033,2,   -999.0,9,  -999.00,9,   -999.0,9,   -999.0,9,   -999.0,9,     7.61,2, -999.00,  -999.0, -999.00,  -999.0
    31DSCG96_1,  P14S,     9,  2,    209,   1216,2,19960109,1852,-54.5050, 171.4970, 4390,   -999,   2814.5,   1.7278,  34.7390,2,  34.7375,2,    197.6,2,  1.5233,   -999.0,9,    96.91,2,    31.10,2,     0.00,2,     2.11,2,    0.054,2,    0.041,3,   -999.0,9,  -999.00,9,   -999.0,9,   -999.0,9,   -999.0,9,     7.61,2, -999.00,  -999.0, -999.00,  -999.0
    31DSCG96_1,  P14S,     9,  2,    208,   1018,2,19960109,1852,-54.5050, 171.4970, 4390,   -999,   3065.8,   1.5425,  34.7356,2,  34.7334,2,    200.3,2,  1.3181,   -999.0,9,   102.43,2,    31.25,2,     0.00,2,     2.17,3,    0.049,2,    0.023,2,   -999.0,9,  -999.00,9,   2254.0,2,   1076.9,2,   -999.0,9,     7.62,2, -999.00,  -999.0, -999.00,  -999.0
    31DSCG96_1,  P14S,     9,  2,    207,   1245,2,19960109,1852,-54.5050, 171.4970, 4390,   -999,   3316.1,   1.3789,  34.7296,2,  34.7292,2,    203.0,2,  1.1339,   -999.0,9,   107.60,2,    31.49,2,     0.00,2,     2.14,2,    0.049,2,    0.027,2,   -999.0,9,  -999.00,9,   -999.0,9,   -999.0,9,   -999.0,9,  -999.00,9, -999.00,  -999.0, -999.00,  -999.0
    31DSCG96_1,  P14S,     9,  2,    206,   1262,2,19960109,1852,-54.5050, 171.4970, 4390,   -999,   3566.9,   1.1509,  34.7204,2,  34.7199,2,    205.8,2,  0.8866,   -999.0,9,   114.37,2,    31.77,2,     0.00,2,     2.16,2,    0.066,2,    0.042,2,   -999.0,9,  -999.00,9,   -999.0,9,   -999.0,9,   -999.0,9,     7.61,2, -999.00,  -999.0, -999.00,  -999.0
    31DSCG96_1,  P14S,     9,  2,    205,   1113,2,19960109,1852,-54.5050, 171.4970, 4390,   -999,   3815.2,   1.0034,  34.7139,2,  34.7123,2,    208.5,2,  0.7176,   -999.0,9,   118.64,2,    31.97,2,     0.00,2,     2.17,2,    0.073,2,    0.048,2,   -999.0,9,  -999.00,9,   -999.0,9,   -999.0,9,   -999.0,9,     7.61,3, -999.00,  -999.0, -999.00,  -999.0
    31DSCG96_1,  P14S,     9,  2,    204,   1003,2,19960109,1852,-54.5050, 171.4970, 4390,   -999,   4063.5,   0.8835,  34.7077,2,  34.7076,2,    211.1,2,  0.5752,   -999.0,9,   122.34,2,    32.13,2,     0.00,2,     2.18,2,    0.107,2,    0.059,2,   -999.0,9,  -999.00,9,   2257.1,2,   1095.4,2,   -999.0,9,     7.61,2, -999.00,  -999.0, -999.00,  -999.0
    31DSCG96_1,  P14S,     9,  2,    203,   9999,2,19960109,1852,-54.5050, 171.4970, 4390,   -999,   4314.4,   0.8182,  34.7039,2,  34.7024,2,    212.3,2,  0.4848,   -999.0,9,   124.77,2,    32.21,2,     0.00,2,     2.19,2,    0.121,2,    0.074,2,   -999.0,9,  -999.00,9,   -999.0,9,   -999.0,9,   -999.0,9,     7.61,2, -999.00,  -999.0, -999.00,  -999.0
    31DSCG96_1,  P14S,     9,  2,    202,   1027,2,19960109,1852,-54.5050, 171.4970, 4390,   -999,   4314.5,   0.8181,  34.7040,2,  34.7028,2,    212.3,2,  0.4846,   -999.0,9,   124.61,2,    32.20,2,     0.00,2,     2.18,2,    0.137,6,    0.070,6,   -999.0,9,  -999.00,9,   -999.0,9,   -999.0,9,   -999.0,9,     7.61,2, -999.00,  -999.0, -999.00,  -999.0
    31DSCG96_1,  P14S,     9,  2,    201,   1022,2,19960109,1852,-54.5050, 171.4970, 4390,   -999,   4501.8,   0.8147,  34.7033,2,  34.7017,2,    212.6,2,  0.4607,   -999.0,9,   125.48,6,    32.25,6,     0.00,6,     2.19,6,    0.133,2,    0.065,2,   -999.0,9,  -999.00,9,   2259.3,2,   1099.6,2,   -999.0,9,     7.61,2, -999.00,  -999.0, -999.00,  -999.0