BOTTLE,20220811CCHSIOAMB
EXPOCODE,SECT_ID,STNNBR,CASTNO,SAMPNO,BTLNBR,BTLNBR_FLAG_W,DATE,TIME,LATITUDE,LONGITUDE,DEPTH,CTDRAW,CTDPRS,CTDTMP,CTDSAL,CTDSAL_FLAG_W,SALNTY,SALNTY_FLAG_W,CTDOXY,CTDOXY_FLAG_W,THETA,OXYGEN,OXYGEN_FLAG_W,SILCAT,SILCAT_FLAG_W,NITRAT,NITRAT_FLAG_W,NITRIT,NITRIT_FLAG_W,PHSPHT,PHSPHT_FLAG_W,CFC-11,CFC-11_FLAG_W,CFC-12,CFC-12_FLAG_W,DELC14,DELC14_FLAG_W,DELC13,DELC13_FLAG_W,TCARBN,TCARBN_FLAG_W,PCO2,PCO2_FLAG_W,ALKALI,ALKALI_FLAG_W,PH,PH_FLAG_W,PCO2TMP,C14ERR,PH_TMP,C13ERR
,,,,,,,,,,,,DBAR,DBAR,ITS-90,PSS-78,,PSS-78,,UMOL/KG,,DEG C,UMOL/KG,,UMOL/KG,,UMOL/KG,,UMOL/KG,,UMOL/KG,,PMOL/KG,,PMOL/KG,,/MILLE,,/MILLE,,UMOL/KG,,UATM,,UMOL/KG,,,,DEG C,/MILLE,DEG C,/MILLE
    31DSCG96_1,  P15S,    84,  1,    120,   1015,2,19960201,0710,-43.6463,-174.5360,  790,   -999,     10.5,  17.8632,  35.1180,2,  35.1189,2,    240.0,2, 17.8614,    240.9,2,     1.06,2,     0.06,2,     0.01,2,     0.07,2, -999.000,9, -999.000,9,     57.7,2,     1.90,2,   2029.7,2,    359.9,2,   2315.4,2,     8.01,2, -999.00,     3.9, -999.00,  -999.0
    31DSCG96_1,  P15S,    84,  1,    119,   1247,2,19960201,0710,-43.6463,-174.5360,  790,   -999,     20.3,  17.5853,  35.1304,2,  35.1315,2,    242.7,2, 17.5819,    243.0,2,     1.05,2,     0.05,2,     0.02,2,     0.12,2, -999.000,9, -999.000,9,     70.3,2,     1.90,2,   -999.0,9,   -999.0,9,   -999.0,9,     8.01,2, -999.00,     4.6, -999.00,  -999.0
    31DSCG96_1,  P15S,    84,  1,    118,   1222,2,19960201,0710,-43.6463,-174.5360,  790,   -999,     44.6,  14.3995,  35.0372,2,  35.0435,2,    249.8,2, 14.3930,    251.7,2,     1.51,2,     0.94,2,     0.21,2,     0.26,2, -999.000,9, -999.000,9,     65.7,2,     1.71,2,   2052.2,2,    402.6,2,   2308.2,2,     7.96,2, -999.00,     2.3, -999.00,  -999.0
    31DSCG96_1,  P15S,    84,  1,    117,   1267,2,19960201,0710,-43.6463,-174.5360,  790,   -999,     70.7,  13.5400,  35.0133,2,  35.0113,2,    247.8,2, 13.5301,    244.0,2,     1.89,2,     3.08,2,     0.19,2,     0.38,2, -999.000,9, -999.000,9,   -999.0,9,  -999.00,9,   -999.0,9,   -999.0,9,   -999.0,9,     7.93,2, -999.00,  -999.0, -999.00,  -999.0
    31DSCG96_1,  P15S,    84,  1,    116,   1211,2,19960201,0710,-43.6463,-174.5360,  790,   -999,     93.4,  12.6407,  35.0083,2,  35.0079,2,    244.4,2, 12.6281,    240.3,2,     2.60,2,     6.27,2,     0.04,2,     0.55,2, -999.000,9, -999.000,9,   -999.0,9,  -999.00,9,   2074.9,2,    480.2,2,   2307.9,2,     7.90,2, -999.00,  -999.0, -999.00,  -999.0
    31DSCG96_1,  P15S,    84,  1,    115,   1041,2,19960201,0710,-43.6463,-174.5360,  790,   -999,    120.6,  12.1072,  35.0149,2,  35.0136,2,    240.1,2, 12.0914,    238.8,2,     3.37,2,     8.39,2,     0.04,2,     0.66,2, -999.000,9, -999.000,9,   -999.0,9,  -999.00,9,   -999.0,9,   -999.0,9,   -999.0,9,     7.88,2, -999.00,  -999.0, -999.00,  -999.0
    31DSCG96_1,  P15S,    84,  1,    114,   1017,2,19960201,0710,-43.6463,-174.5360,  790,   -999,    145.7,  11.6760,  34.9783,2,  34.9788,2,    239.1,2, 11.6573,    238.8,2,     3.93,2,     9.61,2,     0.03,2,     0.75,2, -999.000,9, -999.000,9,     51.9,2,     1.25,2,   2098.1,2,   -999.0,9,   2301.1,2,     7.86,2, -999.00,     2.6, -999.00,  -999.0
    31DSCG96_1,  P15S,    84,  1,    113,   1302,2,19960201,0710,-43.6463,-174.5360,  790,   -999,    169.8,  11.3980,  34.9345,2,  34.9336,2,    241.6,2, 11.3766,    240.0,2,     4.07,2,    10.09,2,     0.02,2,     0.77,2, -999.000,9, -999.000,9,     45.0,2,     1.28,2,   -999.0,9,   -999.0,9,   -999.0,9,     7.86,2, -999.00,     2.1, -999.00,  -999.0
    31DSCG96_1,  P15S,    84,  1,    112,   1217,2,19960201,0710,-43.6463,-174.5360,  790,   -999,    194.8,  11.1410,  34.8913,2,  34.8900,2,    241.6,2, 11.1168,    240.7,2,     4.19,2,    10.51,2,     0.02,2,     0.81,2, -999.000,9, -999.000,9,     52.7,2,     1.29,2,   2100.0,2,    553.2,2,   2303.0,2,     7.85,2, -999.00,     2.5, -999.00,  -999.0
    31DSCG96_1,  P15S,    84,  1,    111,   1114,2,19960201,0710,-43.6463,-174.5360,  790,   -999,    220.5,  10.9489,  34.8614,2,  34.8609,2,    239.9,2, 10.9218,    237.2,2,     4.52,2,    11.39,2,     0.01,2,     0.86,2, -999.000,9, -999.000,9,     42.9,2,     1.28,2,   -999.0,9,   -999.0,9,   -999.0,9,     7.84,2, -999.00,     2.6, -999.00,  -999.0
    31DSCG96_1,  P15S,    84,  1,    110,   1301,2,19960201,0710,-43.6463,-174.5360,  790,   -999,    245.4,  10.7057,  34.8263,2,  34.8262,2,    236.4,2, 10.6759,    234.5,2,     4.80,2,    12.12,2,     0.02,2,     0.91,2, -999.000,9, -999.000,9,     38.0,2,     1.28,2,   2106.0,2,   -999.0,9,   2300.1,2,  -999.00,9, -999.00,     2.3, -999.00,  -999.0
    31DSCG96_1,  P15S,    84,  1,    109,   1242,2,19960201,0710,-43.6463,-174.5360,  790,   -999,    289.8,  10.3245,  34.7839,2,  34.7832,2,    220.3,2, 10.2901,    217.7,2,     6.29,2,    15.02,2,     0.02,2,     1.09,2, -999.000,9, -999.000,9,     32.4,2,     1.23,2,   2118.0,2,    633.5,2,   2298.2,2,     7.80,2, -999.00,     2.5, -999.00,  -999.0
    31DSCG96_1,  P15S,    84,  1,    108,   1263,2,19960201,0710,-43.6463,-174.5360,  790,   -999,    340.2,   9.9378,  34.7484,2,  34.7477,2,    209.6,2,  9.8983,    207.3,2,     7.71,2,    17.20,2,     0.01,2,     1.23,2, -999.000,9, -999.000,9,     29.5,2,     1.15,2,   -999.0,9,   -999.0,9,   -999.0,9,  -999.00,9, -999.00,     2.2, -999.00,  -999.0
    31DSCG96_1,  P15S,    84,  1,    107,   1245,2,19960201,0710,-43.6463,-174.5360,  790,   -999,    391.0,   9.4425,  34.6905,2,  34.6892,2,    209.0,2,  9.3985,    206.6,2,     8.48,2,    18.47,2,     0.01,2,     1.31,2, -999.000,9, -999.000,9,     11.2,2,     1.16,2,   2132.3,2,   -999.0,9,   2295.1,2,     7.76,2, -999.00,     2.3, -999.00,  -999.0
    31DSCG96_1,  P15S,    84,  1,    106,   1262,2,19960201,0710,-43.6463,-174.5360,  790,   -999,    438.3,   9.0598,  34.6548,2,  34.6550,2,    206.5,2,  9.0115,    204.4,2,     9.67,2,    19.76,2,     0.01,2,     1.39,2, -999.000,9, -999.000,9,      5.6,2,     1.14,2,   -999.0,9,   -999.0,9,   -999.0,9,  -999.00,9, -999.00,     2.1, -999.00,  -999.0
    31DSCG96_1,  P15S,    84,  1,    105,   1113,2,19960201,0710,-43.6463,-174.5360,  790,   -999,    489.4,   8.6905,  34.6186,2,  34.6188,2,    206.9,2,  8.6378,    205.2,2,    10.54,2,    20.60,2,     0.01,2,     1.44,2, -999.000,9, -999.000,9,    -15.2,6,     1.11,2,   2140.4,2,    745.0,2,   2295.2,2,     7.74,2, -999.00,     4.1, -999.00,  -999.0
    31DSCG96_1,  P15S,    84,  1,    104,   1003,2,19960201,0710,-43.6463,-174.5360,  790,   -999,    538.2,   8.3656,  34.5869,2,  34.5852,2,    206.8,2,  8.3088,    206.0,2,    11.38,2,    21.27,2,     0.01,2,     1.49,2, -999.000,9, -999.000,9,      3.8,2,     1.17,2,   -999.0,9,   -999.0,9,   -999.0,9,  -999.00,9, -999.00,     2.7, -999.00,  -999.0
    31DSCG96_1,  P15S,    84,  1,    103,   1216,2,19960201,0710,-43.6463,-174.5360,  790,   -999,    589.9,   8.0906,  34.5674,2,  34.5675,2,    206.0,2,  8.0294,    205.5,2,    12.78,2,    22.03,2,     0.02,2,     1.54,2, -999.000,9, -999.000,9,    -14.4,2,     1.18,2,   2143.5,2,    767.3,2,   2293.8,2,     7.73,2, -999.00,     2.9, -999.00,  -999.0
    31DSCG96_1,  P15S,    84,  1,    102,   1030,2,19960201,0710,-43.6463,-174.5360,  790,   -999,    674.7,   7.4729,  34.5113,2,  34.5112,2,    206.2,2,  7.4057,    206.6,2,    15.17,2,    23.45,2,     0.01,2,     1.63,2, -999.000,9, -999.000,9,    -47.4,2,     1.14,2,   -999.0,9,   -999.0,9,   -999.0,9,  -999.00,9, -999.00,     2.2, -999.00,  -999.0
    31DSCG96_1,  P15S,    84,  1,    101,   1022,2,19960201,0710,-43.6463,-174.5360,  790,   -999,    787.0,   6.8655,  34.4794,2,  34.4803,2,    200.1,2,  6.7901,    201.0,2,    20.49,6,    25.27,6,     0.03,6,     1.74,6, -999.000,9, -999.000,9,    -57.0,2,     1.09,2,   2162.0,2,    850.6,2,   2298.2,2,     7.69,2, -999.00,     2.3, -999.00,  -999.0
    31DSCG96_1,  P15S,    85,  1,    121,   1246,2,19960201,1023,-43.2537,-174.9987,  790,   -999,     10.0,  18.2981,  35.0767,2,  35.0751,2,    240.6,2, 18.2964,    239.3,2,     0.82,6,     0.04,6,     0.00,6,     0.00,3,    2.659,2,    1.490,2,   -999.0,9,  -999.00,9,   2027.4,2,    360.4,6,   -999.0,9,     8.01,2, -999.00,  -999.0, -999.00,  -999.0
    31DSCG96_1,  P15S,    85,  1,    120,   1015,2,19960201,1023,-43.2537,-174.9987,  790,   -999,     13.7,  18.1183,  35.0760,2,  35.0765,2,    240.6,2, 18.1159,    240.5,2,     0.82,6,     0.05,6,     0.00,6,     0.00,3, -999.000,9, -999.000,9,   -999.0,9,  -999.00,9,   -999.0,9,   -999.0,9,   -999.0,9,     8.01,2, -999.00,  -999.0, -999.00,  -999.0
    31DSCG96_1,  P15S,    85,  1,    119,   1247,2,19960201,1023,-43.2537,-174.9987,  790,   -999,     29.6,  17.6414,  35.0625,2,  35.0641,2,    244.1,2, 17.6364,    243.7,2,     0.85,6,     0.05,6,     0.00,6,     0.00,3, -999.000,9, -999.000,9,   -999.0,9,  -999.00,9,   -999.0,9,   -999.0,9,   -999.0,9,     8.01,2, -999.00,  -999.0, -999.00,  -999.0
    31DSCG96_1,  P15S,    85,  1,    118,   1222,2,19960201,1023,-43.2537,-174.9987,  790,   -999,     54.8,  14.5771,  35.0091,2,  35.0154,2,    250.5,2, 14.5690,    242.8,2,     1.36,2,     0.81,2,     0.27,2,     0.15,3,    3.109,2,    1.686,2,   -999.0,9,  -999.00,9,   -999.0,9,   -999.0,9,   -999.0,9,     7.96,2, -999.00,  -999.0, -999.00,  -999.0
    31DSCG96_1,  P15S,    85,  1,    117,   1267,2,19960201,1023,-43.2537,-174.9987,  790,   -999,     79.1,  13.0860,  35.0569,2,  35.0555,2,    239.0,2, 13.0751,    240.9,2,     2.02,2,     4.94,2,     0.07,2,     0.34,3, -999.000,9, -999.000,9,   -999.0,9,  -999.00,9,   -999.0,9,   -999.0,9,   -999.0,9,     7.92,2, -999.00,  -999.0, -999.00,  -999.0
    31DSCG96_1,  P15S,    85,  1,    116,   1211,2,19960201,1023,-43.2537,-174.9987,  790,   -999,    104.5,  12.5014,  35.0357,2,  35.0350,2,    236.5,2, 12.4874,    238.8,2,     2.75,2,     7.22,2,     0.01,2,     0.47,3,    3.189,2,    1.709,2,   -999.0,9,  -999.00,9,   -999.0,9,   -999.0,9,   -999.0,9,     7.90,2, -999.00,  -999.0, -999.00,  -999.0
    31DSCG96_1,  P15S,    85,  1,    115,   1041,2,19960201,1023,-43.2537,-174.9987,  790,   -999,    130.4,  12.0025,  35.0072,2,  35.0067,2,    238.4,2, 11.9855,    239.1,2,     3.30,2,     8.80,2,     0.01,2,     0.56,3, -999.000,9, -999.000,9,   -999.0,9,  -999.00,9,   -999.0,9,   -999.0,9,   -999.0,9,     7.88,2, -999.00,  -999.0, -999.00,  -999.0
    31DSCG96_1,  P15S,    85,  1,    114,   1017,2,19960201,1023,-43.2537,-174.9987,  790,   -999,    155.2,  11.6119,  34.9670,2,  34.9683,2,    240.4,2, 11.5921,    239.0,2,     3.73,2,     9.84,2,     0.01,2,     0.63,3,    3.199,2,    1.712,2,   -999.0,9,  -999.00,9,   -999.0,9,   -999.0,9,   -999.0,9,     7.86,2, -999.00,  -999.0, -999.00,  -999.0
    31DSCG96_1,  P15S,    85,  1,    113,   1302,2,19960201,1023,-43.2537,-174.9987,  790,   -999,    180.6,  11.2678,  34.9141,2,  34.9152,2,    242.6,2, 11.2452,    241.2,2,     3.87,2,    10.23,2,     0.01,2,     0.66,3, -999.000,9, -999.000,9,   -999.0,9,  -999.00,9,   -999.0,9,   -999.0,9,   -999.0,9,     7.86,2, -999.00,  -999.0, -999.00,  -999.0
    31DSCG96_1,  P15S,    85,  1,    112,   1217,2,19960201,1023,-43.2537,-174.9987,  790,   -999,    205.1,  11.0394,  34.8763,2,  34.8765,2,    241.0,2, 11.0141,    240.7,2,     3.99,6,    10.73,6,     0.01,6,     0.67,3,    3.194,2,    1.688,2,     74.1,2,  -999.00,9,   -999.0,9,   -999.0,9,   -999.0,9,     7.85,2, -999.00,     3.2, -999.00,  -999.0
    31DSCG96_1,  P15S,    85,  1,    111,   1114,2,19960201,1023,-43.2537,-174.9987,  790,   -999,    230.5,  10.7815,  34.8379,2,  34.8383,2,    237.6,2, 10.7534,    237.2,2,     4.31,6,    11.63,2,     0.01,6,     0.72,3, -999.000,9, -999.000,9,   -999.0,9,  -999.00,9,   -999.0,9,   -999.0,9,   -999.0,9,     7.84,2, -999.00,  -999.0, -999.00,  -999.0
    31DSCG96_1,  P15S,    85,  1,    110,   1301,2,19960201,1023,-43.2537,-174.9987,  790,   -999,    264.4,  10.5123,  34.8014,2,  34.8008,2,    227.8,2, 10.4806,    227.2,2,     5.05,6,    13.36,6,     0.01,6,     0.90,3, -999.000,9, -999.000,9,   -999.0,9,  -999.00,9,   -999.0,9,   -999.0,9,   -999.0,9,     7.82,2, -999.00,  -999.0, -999.00,  -999.0
    31DSCG96_1,  P15S,    85,  1,    109,   1242,2,19960201,1023,-43.2537,-174.9987,  790,   -999,    314.2,  10.0836,  34.7532,2,  34.7525,2,    216.7,2, 10.0468,    214.7,2,     6.34,2,    15.89,2,     0.00,2,     1.05,3,    2.756,2,    1.424,2,   -999.0,9,  -999.00,9,   -999.0,9,   -999.0,9,   -999.0,9,     7.79,2, -999.00,  -999.0, -999.00,  -999.0
    31DSCG96_1,  P15S,    85,  1,    108,   1263,2,19960201,1023,-43.2537,-174.9987,  790,   -999,    365.4,   9.5931,  34.6992,2,  34.6993,2,    209.7,2,  9.5516,    208.7,2,     7.42,2,    17.79,2,     0.01,2,     1.19,3, -999.000,9, -999.000,9,   -999.0,9,  -999.00,9,   -999.0,9,   -999.0,9,   -999.0,9,     7.77,2, -999.00,  -999.0, -999.00,  -999.0
    31DSCG96_1,  P15S,    85,  1,    107,   1245,2,19960201,1023,-43.2537,-174.9987,  790,   -999,    415.7,   9.1335,  34.6509,2,  34.6515,2,    209.7,2,  9.0876,    208.4,2,     8.42,2,    19.04,2,     0.00,2,     1.27,3,    2.402,2,    1.236,2,   -999.0,9,  -999.00,9,   -999.0,9,   -999.0,9,   -999.0,9,     7.75,2, -999.00,  -999.0, -999.00,  -999.0
    31DSCG96_1,  P15S,    85,  1,    106,   1262,2,19960201,1023,-43.2537,-174.9987,  790,   -999,    465.1,   8.7220,  34.6088,2,  34.6083,2,    210.3,2,  8.6719,    209.9,2,     9.27,2,    20.01,2,     0.00,2,     1.34,3, -999.000,9, -999.000,9,   -999.0,9,  -999.00,9,   -999.0,9,   -999.0,9,   -999.0,9,     7.75,2, -999.00,  -999.0, -999.00,  -999.0
    31DSCG96_1,  P15S,    85,  1,    105,   1113,2,19960201,1023,-43.2537,-174.9987,  790,   -999,    515.5,   8.3273,  34.5735,2,  34.5731,2,    211.0,2,  8.2731,    210.3,2,    10.41,2,    20.96,2,     0.00,2,     1.41,3,    2.049,2,    1.055,2,   -999.0,9,  -999.00,9,   -999.0,9,   -999.0,9,   -999.0,9,     7.74,2, -999.00,  -999.0, -999.00,  -999.0
    31DSCG96_1,  P15S,    85,  1,    104,   1003,2,19960201,1023,-43.2537,-174.9987,  790,   -999,    565.8,   7.9859,  34.5471,2,  34.5479,2,    209.2,2,  7.9278,    208.7,2,    11.73,2,    21.89,2,     0.00,2,     1.47,3, -999.000,9, -999.000,9,   -999.0,9,  -999.00,9,   -999.0,9,   -999.0,9,   -999.0,9,     7.73,2, -999.00,  -999.0, -999.00,  -999.0
    31DSCG96_1,  P15S,    85,  1,    103,   1216,2,19960201,1023,-43.2537,-174.9987,  790,   -999,    623.9,   7.6114,  34.5203,2,  34.5201,2,    207.4,2,  7.5488,    206.8,2,    13.43,2,    22.96,2,     0.00,2,     1.54,3,    1.393,2,    0.734,2,   -999.0,9,  -999.00,9,   -999.0,9,   -999.0,9,   -999.0,9,     7.72,2, -999.00,  -999.0, -999.00,  -999.0
    31DSCG96_1,  P15S,    85,  1,    102,   1030,2,19960201,1023,-43.2537,-174.9987,  790,   -999,    724.5,   6.9897,  34.4842,2,  34.4838,2,    202.3,2,  6.9199,    202.1,2,    17.78,2,    24.80,2,     0.00,2,     1.66,3,    0.873,2,    0.479,2,   -999.0,9,  -999.00,9,   -999.0,9,   -999.0,9,   -999.0,9,     7.70,2, -999.00,  -999.0, -999.00,  -999.0
    31DSCG96_1,  P15S,    85,  1,    101,   1022,2,19960201,1023,-43.2537,-174.9987,  790,   -999,    783.7,   6.6863,  34.4707,2,  34.4704,2,    198.0,2,  6.6122,    198.8,2,    20.66,6,    25.82,6,     0.01,6,     1.74,3,    0.701,2,    0.382,2,   -999.0,9,  -999.00,9,   -999.0,9,   -999.0,9,   -999.0,9,     7.69,2, -999.00,  -999.0, -999.00,  -999.0