BOTTLE,20220811CCHSIOAMB
EXPOCODE,SECT_ID,STNNBR,CASTNO,SAMPNO,BTLNBR,BTLNBR_FLAG_W,DATE,TIME,LATITUDE,LONGITUDE,DEPTH,CTDRAW,CTDPRS,CTDTMP,CTDSAL,CTDSAL_FLAG_W,SALNTY,SALNTY_FLAG_W,CTDOXY,CTDOXY_FLAG_W,THETA,OXYGEN,OXYGEN_FLAG_W,SILCAT,SILCAT_FLAG_W,NITRAT,NITRAT_FLAG_W,NITRIT,NITRIT_FLAG_W,PHSPHT,PHSPHT_FLAG_W,CFC-11,CFC-11_FLAG_W,CFC-12,CFC-12_FLAG_W,DELC14,DELC14_FLAG_W,DELC13,DELC13_FLAG_W,TCARBN,TCARBN_FLAG_W,PCO2,PCO2_FLAG_W,ALKALI,ALKALI_FLAG_W,PH,PH_FLAG_W,PCO2TMP,C14ERR,PH_TMP,C13ERR
,,,,,,,,,,,,DBAR,DBAR,ITS-90,PSS-78,,PSS-78,,UMOL/KG,,DEG C,UMOL/KG,,UMOL/KG,,UMOL/KG,,UMOL/KG,,UMOL/KG,,PMOL/KG,,PMOL/KG,,/MILLE,,/MILLE,,UMOL/KG,,UATM,,UMOL/KG,,,,DEG C,/MILLE,DEG C,/MILLE
    31DSCG96_2,  P15S,   153,  1,    136,   1245,2,19960229,0821,-12.9987,-170.0000, 4949,   -999,      5.3,  29.5402,  34.7959,2,  34.7868,2,    193.9,2, 29.5390,    194.0,2,     1.41,2,     0.00,2,     0.00,2,     0.14,2,    1.557,2,    0.890,2,     62.7,2,     1.60,2,   1917.2,2,    247.4,3,   2287.2,2,     8.15,2, -999.00,     3.4, -999.00,  -999.0
    31DSCG96_2,  P15S,   153,  1,    135,   1113,2,19960229,0821,-12.9987,-170.0000, 4949,   -999,     27.7,  29.3523,  34.8255,2,  34.8267,2,    194.6,2, 29.3455,    194.2,2,     1.49,2,     0.00,2,     0.00,2,     0.14,2,    1.582,2,    0.911,2,   -999.0,5,     1.63,2,   1919.2,2,    237.1,2,   2290.2,2,     8.16,2, -999.00,  -999.0, -999.00,  -999.0
    31DSCG96_2,  P15S,   153,  1,    134,   1267,2,19960229,0821,-12.9987,-170.0000, 4949,   -999,     53.7,  29.3192,  35.0534,2,  35.0584,2,    195.8,2, 29.3061,    195.4,2,     1.48,2,     0.00,2,     0.00,2,     0.13,2,    1.556,2,    0.909,2,     72.6,2,     1.63,2,   1931.3,2,    235.9,2,   2300.5,2,     8.15,2, -999.00,     3.3, -999.00,  -999.0
    31DSCG96_2,  P15S,   153,  1,    133,   1221,2,19960229,0821,-12.9987,-170.0000, 4949,   -999,     78.6,  28.6802,  35.6697,2,  35.6770,2,    201.5,2, 28.6613,    192.0,2,     1.51,2,     0.00,2,     0.00,2,     0.22,2, -999.000,5, -999.000,5,   -999.0,9,  -999.00,9,   -999.0,9,   -999.0,9,   -999.0,9,  -999.00,9, -999.00,  -999.0, -999.00,  -999.0
    31DSCG96_2,  P15S,   153,  1,    132,   1039,2,19960229,0821,-12.9987,-170.0000, 4949,   -999,    104.8,  27.5695,  36.0995,2,  36.1028,2,    189.4,2, 27.5450,    183.9,2,     1.44,2,     0.00,2,     0.01,2,     0.25,2,    1.703,6,    0.951,6,     83.5,2,     1.56,2,   2020.0,2,    276.0,2,   2374.0,2,     8.10,2, -999.00,     4.5, -999.00,  -999.0
    31DSCG96_2,  P15S,   153,  1,    131,   1014,2,19960229,0821,-12.9987,-170.0000, 4949,   -999,    129.5,  25.8090,  36.2678,2,  36.2719,2,    170.6,2, 25.7801,    171.8,2,     1.42,2,     0.64,2,     0.34,2,     0.34,2,    1.784,2,    0.988,2,     61.9,2,     1.41,2,   2054.8,2,    312.7,2,   2387.1,2,     8.06,2, -999.00,     4.4, -999.00,  -999.0
    31DSCG96_2,  P15S,   153,  1,    130,   1257,2,19960229,0821,-12.9987,-170.0000, 4949,   -999,    163.4,  23.6430,  36.1926,2,  36.1951,2,    161.1,2, 23.6088,    163.9,2,     1.38,2,     2.78,2,     0.07,2,     0.43,2,    1.934,2,    1.050,2,     77.2,2,     1.27,2,   2076.3,2,    345.2,2,   2379.8,2,     8.02,2, -999.00,     4.5, -999.00,  -999.0
    31DSCG96_2,  P15S,   153,  1,    129,   1256,2,19960229,0821,-12.9987,-170.0000, 4949,   -999,    216.1,  21.0929,  35.9437,2,  35.9503,2,    149.4,2, 21.0512,    150.3,6,     2.14,2,     6.82,2,     0.01,2,     0.70,2,    1.917,2,    1.033,2,     70.9,2,     1.19,2,   2110.1,2,    429.1,2,   2367.8,2,     7.94,2, -999.00,     4.5, -999.00,  -999.0
    31DSCG96_2,  P15S,   153,  1,    128,   1007,2,19960229,0821,-12.9987,-170.0000, 4949,   -999,    264.1,  19.4459,  35.7131,2,  35.7078,2,    149.8,2, 19.3977,    150.8,2,     2.78,2,     7.73,2,     0.01,2,     0.76,2,    1.838,2,    0.972,2,     98.5,6,     1.17,6,   2111.7,3,    460.5,2,   2353.1,2,     7.91,2, -999.00,     3.4, -999.00,  -999.0
    31DSCG96_2,  P15S,   153,  1,    127,   1232,2,19960229,0821,-12.9987,-170.0000, 4949,   -999,    315.2,  15.7849,  35.2263,2,  35.2320,2,    137.1,2, 15.7352,    136.7,2,     5.95,2,    12.45,2,     0.01,2,     1.09,2,    1.443,2,    0.753,2,     49.3,2,     1.00,2,   2130.0,2,    582.6,2,   2324.5,2,     7.83,2, -999.00,     4.3, -999.00,  -999.0
    31DSCG96_2,  P15S,   153,  1,    126,   1025,2,19960229,0821,-12.9987,-170.0000, 4949,   -999,    363.7,  13.0531,  34.9261,2,  34.9272,2,    118.7,2, 13.0027,    122.3,2,    10.28,2,    18.04,2,     0.00,2,     1.45,2,    0.939,2,    0.485,2,     31.3,2,     0.88,2,   2152.7,2,    753.8,2,   2305.3,2,     7.74,2, -999.00,     4.9, -999.00,  -999.0
    31DSCG96_2,  P15S,   153,  1,    125,   1119,2,19960229,0821,-12.9987,-170.0000, 4949,   -999,    425.0,   9.6543,  34.6456,2,  34.6438,2,    128.3,2,  9.6057,    125.2,2,    18.26,2,    25.38,2,     0.00,2,     1.87,2,    0.355,2,    0.191,2,    -48.2,2,     0.84,2,   2181.5,2,    932.7,2,   2298.7,2,     7.65,2, -999.00,     3.8, -999.00,  -999.0
    31DSCG96_2,  P15S,   153,  1,    124,   1244,2,19960229,0821,-12.9987,-170.0000, 4949,   -999,    523.1,   7.1047,  34.4999,2,  34.4981,2,    152.6,2,  7.0545,    149.8,2,    26.67,2,    29.19,2,     0.00,2,     2.04,2,    0.181,2,    0.098,2,    -78.3,2,     0.87,2,   2192.4,2,    990.2,2,   2299.1,2,     7.63,2, -999.00,     3.2, -999.00,  -999.0
    31DSCG96_2,  P15S,   153,  1,    123,   1250,2,19960229,0821,-12.9987,-170.0000, 4949,   -999,    619.3,   6.0324,  34.4753,2,  34.4730,2,    152.3,2,  5.9777,    147.0,2,    36.82,2,    31.81,2,     0.00,2,     2.21,2,    0.081,2,    0.044,2,   -116.0,2,     0.77,2,   2211.1,2,   1081.3,2,   2311.2,2,     7.60,2, -999.00,     2.9, -999.00,  -999.0
    31DSCG96_2,  P15S,   153,  1,    122,   1265,2,19960229,0821,-12.9987,-170.0000, 4949,   -999,    725.7,   5.4096,  34.4841,2,  34.4825,2,    147.9,2,  5.3483,    137.3,2,    47.46,2,    33.92,2,     0.00,2,     2.36,2,    0.032,2,    0.015,2,   -127.9,2,     0.67,2,   2228.3,2,   1157.3,2,   2318.6,2,     7.57,2, -999.00,     3.0, -999.00,  -999.0
    31DSCG96_2,  P15S,   153,  1,    121,   1246,2,19960229,0821,-12.9987,-170.0000, 4949,   -999,    823.8,   4.8872,  34.4865,2,  34.4853,2,    139.6,2,  4.8204,    138.9,6,    55.22,2,    34.48,2,     0.00,2,     2.40,2,    0.013,2,    0.007,2,   -168.3,2,     0.61,2,   2237.8,2,   1182.9,2,   2326.7,2,     7.57,2, -999.00,     2.9, -999.00,  -999.0
    31DSCG96_2,  P15S,   153,  1,    120,   1015,2,19960229,0821,-12.9987,-170.0000, 4949,   -999,    923.9,   4.5087,  34.5010,2,  34.4997,2,    136.0,2,  4.4357,    133.3,2,    63.31,2,    35.40,2,     0.00,2,     2.47,2,    0.004,2,    0.003,2,   -179.4,2,     0.54,2,   2250.8,2,   1215.4,2,   2334.2,2,     7.56,2, -999.00,     2.6, -999.00,  -999.0
    31DSCG96_2,  P15S,   153,  1,    119,   1247,2,19960229,0821,-12.9987,-170.0000, 4949,   -999,   1024.0,   4.1671,  34.5117,2,  34.5111,2,    136.3,2,  4.0881,    136.5,2,    69.50,2,    35.46,2,     0.00,2,     2.48,2,    0.005,2,    0.003,2,   -182.5,2,     0.50,2,   2255.8,2,   1212.5,2,   2342.0,2,     7.56,3, -999.00,     2.9, -999.00,  -999.0
    31DSCG96_2,  P15S,   153,  1,    118,   1299,2,19960229,0821,-12.9987,-170.0000, 4949,   -999,   1125.7,   3.8099,  34.5295,2,  34.5299,2,    135.7,2,  3.7253,    133.8,2,    78.18,2,    36.08,2,     0.00,2,     2.52,2, -999.000,9, -999.000,9,   -999.0,9,  -999.00,9,   2266.8,2,   1239.8,2,   2351.7,2,     7.55,2, -999.00,  -999.0, -999.00,  -999.0
    31DSCG96_2,  P15S,   153,  1,    117,   1242,2,19960229,0821,-12.9987,-170.0000, 4949,   -999,   1228.0,   3.5307,  34.5483,2,  34.5477,2,    131.1,2,  3.4400,    130.2,2,    85.91,2,    36.65,2,     0.00,2,     2.56,2,   -0.001,2,    0.000,2,   -999.0,9,  -999.00,9,   2276.4,2,   1298.1,2,   2361.7,2,     7.55,2, -999.00,  -999.0, -999.00,  -999.0
    31DSCG96_2,  P15S,   153,  1,    116,   1259,2,19960229,0821,-12.9987,-170.0000, 4949,   -999,   1348.7,   3.2178,  34.5635,2,  34.5591,3,    133.3,2,  3.1201,    133.0,2,    92.13,2,    36.62,2,     0.00,2,     2.55,2, -999.000,9, -999.000,9,   -999.0,9,  -999.00,9,   2283.2,2,   1267.5,2,   2367.8,2,     7.55,2, -999.00,  -999.0, -999.00,  -999.0
    31DSCG96_2,  P15S,   153,  1,    115,   1041,2,19960229,0821,-12.9987,-170.0000, 4949,   -999,   1544.2,   2.8140,  34.5892,2,  34.5888,2,    135.7,2,  2.7046,    135.8,2,   102.05,2,    36.61,2,     0.00,2,     2.55,2, -999.000,9, -999.000,9,   -999.0,9,  -999.00,9,   2292.1,2,   1256.1,2,   2380.4,2,     7.55,2, -999.00,  -999.0, -999.00,  -999.0
    31DSCG96_2,  P15S,   153,  1,    114,   1017,2,19960229,0821,-12.9987,-170.0000, 4949,   -999,   1815.0,   2.3523,  34.6207,2,  34.6201,2,    141.0,2,  2.2262,    141.5,2,   113.26,2,    36.35,2,     0.00,2,     2.53,2,    0.000,2,    0.001,2,   -999.0,9,  -999.00,9,   2301.2,2,   1229.0,2,   2390.2,2,     7.56,2, -999.00,  -999.0, -999.00,  -999.0
    31DSCG96_2,  P15S,   153,  1,    113,   1302,2,19960229,0821,-12.9987,-170.0000, 4949,   -999,   2065.0,   2.1110,  34.6399,2,  34.6398,2,    143.9,2,  1.9673,    144.4,6,   119.89,2,    36.25,2,     0.00,2,     2.52,2, -999.000,9, -999.000,9,   -999.0,9,  -999.00,9,   2305.7,2,   1217.2,2,   2399.6,2,     7.57,2, -999.00,  -999.0, -999.00,  -999.0
    31DSCG96_2,  P15S,   153,  1,    112,   1217,2,19960229,0821,-12.9987,-170.0000, 4949,   -999,   2313.7,   1.9624,  34.6539,2,  34.6534,2,    145.2,2,  1.7995,    145.4,2,   125.15,2,    36.22,2,     0.00,2,     2.51,2, -999.000,9, -999.000,9,   -999.0,9,  -999.00,9,   2310.7,2,   1205.8,2,   2404.5,2,     7.57,2, -999.00,  -999.0, -999.00,  -999.0
    31DSCG96_2,  P15S,   153,  1,    111,   1226,2,19960229,0821,-12.9987,-170.0000, 4949,   -999,   2560.2,   1.8466,  34.6643,2,  34.6641,2,    148.0,2,  1.6636,    147.5,2,   129.04,2,    36.11,2,     0.00,2,     2.50,2,   -0.001,2,    0.000,2,   -999.0,9,  -999.00,9,   2314.0,2,   1197.1,2,   2410.7,2,     7.57,2, -999.00,  -999.0, -999.00,  -999.0
    31DSCG96_2,  P15S,   153,  1,    110,   1301,2,19960229,0821,-12.9987,-170.0000, 4949,   -999,   2803.3,   1.7462,  34.6716,2,  34.6706,2,    150.8,2,  1.5427,    151.2,2,   131.14,2,    35.90,2,     0.00,2,     2.48,2, -999.000,9, -999.000,9,   -999.0,9,  -999.00,9,   2312.1,2,   1189.1,2,   2411.6,2,     7.58,2, -999.00,  -999.0, -999.00,  -999.0
    31DSCG96_2,  P15S,   153,  1,    109,   1031,2,19960229,0821,-12.9987,-170.0000, 4949,   -999,   3035.8,   1.6827,  34.6757,2,  34.6746,2,    153.8,2,  1.4583,    153.2,2,   132.57,2,    35.82,2,     0.00,2,     2.47,2, -999.000,9, -999.000,9,   -999.0,9,  -999.00,9,   2314.4,2,   1188.1,2,   2411.6,2,     7.58,2, -999.00,  -999.0, -999.00,  -999.0
    31DSCG96_2,  P15S,   153,  1,    108,   1227,2,19960229,0821,-12.9987,-170.0000, 4949,   -999,   3312.8,   1.6150,  34.6800,2,  34.6798,2,    154.2,2,  1.3649,    154.4,2,   135.01,2,    35.74,2,     0.00,2,     2.47,2,   -0.001,2,    0.000,2,   -999.0,9,  -999.00,9,   2315.7,2,   1214.8,2,   2412.2,2,     7.58,2, -999.00,  -999.0, -999.00,  -999.0
    31DSCG96_2,  P15S,   153,  1,    107,   1263,2,19960229,0821,-12.9987,-170.0000, 4949,   -999,   3557.0,   1.5544,  34.6846,2,  34.6849,2,    159.9,2,  1.2810,    159.9,2,   133.93,2,    35.33,2,     0.00,2,     2.44,2, -999.000,9, -999.000,9,   -999.0,9,  -999.00,9,   2310.2,2,   1186.3,2,   2409.6,2,     7.58,2, -999.00,  -999.0, -999.00,  -999.0
    31DSCG96_2,  P15S,   153,  1,    106,   1262,2,19960229,0821,-12.9987,-170.0000, 4949,   -999,   3812.9,   1.4496,  34.6940,2,  34.6936,2,    172.6,2,  1.1521,    172.9,2,   128.01,2,    34.30,2,     0.00,2,     2.36,2,    0.002,2,    0.000,2,   -999.0,9,  -999.00,9,   2294.3,2,   1147.5,2,   2396.0,2,     7.59,2, -999.00,  -999.0, -999.00,  -999.0
    31DSCG96_2,  P15S,   153,  1,    105,   1264,2,19960229,0821,-12.9987,-170.0000, 4949,   -999,   4063.8,   1.2827,  34.7113,2,  34.7118,2,    194.4,2,  0.9628,    194.6,6,   117.33,2,    32.63,2,     0.00,2,     2.24,2, -999.000,9, -999.000,9,   -999.0,9,  -999.00,9,   2269.4,2,   1091.1,2,   2376.3,2,     7.61,2, -999.00,  -999.0, -999.00,  -999.0
    31DSCG96_2,  P15S,   153,  1,    104,   1003,2,19960229,0821,-12.9987,-170.0000, 4949,   -999,   4312.2,   1.1048,  34.7119,2,  34.7123,2,    202.9,2,  0.7629,    202.8,2,   118.13,2,    32.24,2,     0.00,2,     2.20,2,    0.002,2,    0.000,2,   -999.0,9,  -999.00,9,   2262.5,2,   1075.2,2,   2370.3,2,     7.61,2, -999.00,  -999.0, -999.00,  -999.0
    31DSCG96_2,  P15S,   153,  1,    103,   1035,2,19960229,0821,-12.9987,-170.0000, 4949,   -999,   4563.5,   1.0349,  34.7102,2,  34.7094,2,    205.4,2,  0.6670,    205.6,2,   119.73,2,    32.19,2,     0.00,2,     2.21,2,    0.009,2,    0.003,2,   -999.0,9,  -999.00,9,   2261.7,2,   1072.7,2,   2370.4,2,     7.61,2, -999.00,  -999.0, -999.00,  -999.0
    31DSCG96_2,  P15S,   153,  1,    102,   1030,2,19960229,0821,-12.9987,-170.0000, 4949,   -999,   4814.8,   1.0466,  34.7094,2,  34.7088,2,    205.8,2,  0.6494,    206.0,2,   120.08,2,    32.22,2,     0.00,2,     2.21,2,    0.006,6,    0.003,6,   -999.0,9,  -999.00,9,   2259.4,2,   1076.8,2,   2370.0,2,     7.61,2, -999.00,  -999.0, -999.00,  -999.0
    31DSCG96_2,  P15S,   153,  1,    101,   1022,2,19960229,0821,-12.9987,-170.0000, 4949,   -999,   5045.7,   1.0661,  34.7090,2,  34.7091,2,    206.7,2,  0.6409,    206.2,2,   120.37,6,    32.19,6,     0.00,6,     2.21,6,    0.008,2,    0.002,2,   -999.0,9,  -999.00,9,   2260.3,2,   1076.1,2,   2370.5,2,     7.61,2, -999.00,  -999.0, -999.00,  -999.0