BOTTLE,20220811CCHSIOAMB
EXPOCODE,SECT_ID,STNNBR,CASTNO,SAMPNO,BTLNBR,BTLNBR_FLAG_W,DATE,TIME,LATITUDE,LONGITUDE,DEPTH,CTDRAW,CTDPRS,CTDTMP,CTDSAL,CTDSAL_FLAG_W,SALNTY,SALNTY_FLAG_W,CTDOXY,CTDOXY_FLAG_W,THETA,OXYGEN,OXYGEN_FLAG_W,SILCAT,SILCAT_FLAG_W,NITRAT,NITRAT_FLAG_W,NITRIT,NITRIT_FLAG_W,PHSPHT,PHSPHT_FLAG_W,CFC-11,CFC-11_FLAG_W,CFC-12,CFC-12_FLAG_W,DELC14,DELC14_FLAG_W,DELC13,DELC13_FLAG_W,TCARBN,TCARBN_FLAG_W,PCO2,PCO2_FLAG_W,ALKALI,ALKALI_FLAG_W,PH,PH_FLAG_W,PCO2TMP,C14ERR,PH_TMP,C13ERR
,,,,,,,,,,,,DBAR,DBAR,ITS-90,PSS-78,,PSS-78,,UMOL/KG,,DEG C,UMOL/KG,,UMOL/KG,,UMOL/KG,,UMOL/KG,,UMOL/KG,,PMOL/KG,,PMOL/KG,,/MILLE,,/MILLE,,UMOL/KG,,UATM,,UMOL/KG,,,,DEG C,/MILLE,DEG C,/MILLE
    31DSCG96_1,  P15S,    51,  1,    134,   1119,2,19960123,1858,-57.5022,-170.0068, 5001,   -999,     10.9,   5.4641,  34.0224,2,  34.0226,2,    310.7,2,  5.4632,    313.2,2,     1.30,2,    20.67,2,     0.18,2,     1.42,2, -999.000,9, -999.000,9,    -21.1,2,  -999.00,9,   2104.2,2,    624.4,2,   2284.5,2,     7.81,2, -999.00,     2.6, -999.00,  -999.0
    31DSCG96_1,  P15S,    51,  1,    133,   1221,2,19960123,1858,-57.5022,-170.0068, 5001,   -999,     30.5,   5.4371,  34.0217,2,  34.0213,2,    312.8,2,  5.4347,    312.8,2,     1.30,2,    20.65,2,     0.18,2,     1.42,2, -999.000,9, -999.000,9,   -999.0,9,  -999.00,9,   2104.7,2,    623.9,2,   2283.4,2,     7.80,2, -999.00,  -999.0, -999.00,  -999.0
    31DSCG96_1,  P15S,    51,  1,    132,   1039,2,19960123,1858,-57.5022,-170.0068, 5001,   -999,     56.0,   5.3747,  34.0198,2,  34.0212,2,    312.2,2,  5.3703,    313.0,2,     1.27,2,    20.67,2,     0.17,2,     1.43,2, -999.000,9, -999.000,9,   -999.0,9,  -999.00,9,   2105.2,2,    628.1,2,   2285.6,2,     7.81,2, -999.00,  -999.0, -999.00,  -999.0
    31DSCG96_1,  P15S,    51,  1,    131,   1014,2,19960123,1858,-57.5022,-170.0068, 5001,   -999,     80.8,   5.2758,  34.0205,2,  34.0227,2,    311.2,2,  5.2695,    312.0,2,     1.49,2,    20.76,2,     0.18,2,     1.46,2, -999.000,9, -999.000,9,   -999.0,9,  -999.00,9,   2107.2,2,    638.6,2,   2284.8,2,     7.80,2, -999.00,  -999.0, -999.00,  -999.0
    31DSCG96_1,  P15S,    51,  1,    130,   1257,2,19960123,1858,-57.5022,-170.0068, 5001,   -999,    114.2,   3.7130,  34.0701,2,  34.0687,2,    304.8,2,  3.7054,    305.5,2,     9.87,2,    23.67,2,     0.28,2,     1.70,2, -999.000,9, -999.000,9,   -999.0,9,  -999.00,9,   2132.6,2,    755.9,2,   2287.2,2,     7.74,2, -999.00,  -999.0, -999.00,  -999.0
    31DSCG96_1,  P15S,    51,  1,    129,   1256,2,19960123,1858,-57.5022,-170.0068, 5001,   -999,    164.2,   3.5293,  34.0835,2,  34.0829,2,    299.7,2,  3.5186,    298.5,2,    12.72,2,    25.51,2,     0.05,2,     1.74,2, -999.000,9, -999.000,9,   -999.0,9,  -999.00,9,   2137.6,2,    774.7,2,   2286.2,2,     7.73,2, -999.00,  -999.0, -999.00,  -999.0
    31DSCG96_1,  P15S,    51,  1,    128,   1007,2,19960123,1858,-57.5022,-170.0068, 5001,   -999,    216.0,   3.1413,  34.0704,2,  34.0702,2,    295.5,2,  3.1279,    295.9,2,    14.99,2,    26.49,2,     0.00,2,     1.79,2, -999.000,9, -999.000,9,   -999.0,9,  -999.00,9,   2142.9,2,    805.4,2,   2287.2,2,     7.71,2, -999.00,  -999.0, -999.00,  -999.0
    31DSCG96_1,  P15S,    51,  1,    127,   1234,2,19960123,1858,-57.5022,-170.0068, 5001,   -999,    277.6,   3.0511,  34.1014,2,  34.1011,2,    285.0,2,  3.0339,    278.5,2,    19.65,2,    28.01,2,     0.00,2,     1.90,2, -999.000,9, -999.000,9,   -999.0,9,  -999.00,9,   2155.7,2,    863.4,2,   2289.9,2,     7.69,2, -999.00,  -999.0, -999.00,  -999.0
    31DSCG96_1,  P15S,    51,  1,    126,   1025,2,19960123,1858,-57.5022,-170.0068, 5001,   -999,    325.8,   3.3049,  34.1681,2,  34.1689,2,    256.5,2,  3.2839,    254.0,6,    24.59,2,    29.33,2,     0.00,2,     1.99,2, -999.000,9, -999.000,9,   -999.0,9,  -999.00,9,   2166.9,2,    914.0,2,   2292.8,2,     7.66,2, -999.00,  -999.0, -999.00,  -999.0
    31DSCG96_1,  P15S,    51,  1,    125,   1233,2,19960123,1858,-57.5022,-170.0068, 5001,   -999,    426.3,   3.3589,  34.2633,2,  34.2612,2,    225.8,2,  3.3309,    224.3,2,    34.75,2,    31.49,2,     0.00,2,     2.14,2, -999.000,9, -999.000,9,   -999.0,9,  -999.00,9,   2189.5,2,   1013.7,2,   2303.5,3,     7.62,2, -999.00,  -999.0, -999.00,  -999.0
    31DSCG96_1,  P15S,    51,  1,    124,   1218,2,19960123,1858,-57.5022,-170.0068, 5001,   -999,    524.1,   3.0637,  34.3151,2,  34.3141,2,    212.9,2,  3.0300,    210.2,2,    43.50,2,    32.75,2,     0.00,2,     2.24,2, -999.000,9, -999.000,9,   -999.0,9,  -999.00,9,   2204.6,2,   1079.8,2,   2308.7,2,     7.60,2, -999.00,  -999.0, -999.00,  -999.0
    31DSCG96_1,  P15S,    51,  1,    123,   1250,2,19960123,1858,-57.5022,-170.0068, 5001,   -999,    626.7,   2.8082,  34.3641,2,  34.3623,2,    201.5,2,  2.7686,    199.8,2,    51.18,2,    33.65,2,     0.00,2,     2.29,2, -999.000,9, -999.000,9,   -999.0,9,  -999.00,9,   2218.0,2,   1133.4,2,   2315.7,2,     7.59,2, -999.00,  -999.0, -999.00,  -999.0
    31DSCG96_1,  P15S,    51,  1,    122,   1109,2,19960123,1858,-57.5022,-170.0068, 5001,   -999,    724.4,   2.6614,  34.4201,2,  34.4215,2,    190.5,2,  2.6159,    189.6,2,    58.31,2,    34.25,2,     0.00,2,     2.33,2, -999.000,9, -999.000,9,   -999.0,9,  -999.00,9,   2228.3,2,   1179.1,2,   2321.6,2,     7.57,2, -999.00,  -999.0, -999.00,  -999.0
    31DSCG96_1,  P15S,    51,  1,    121,   1246,2,19960123,1858,-57.5022,-170.0068, 5001,   -999,    825.8,   2.5733,  34.4742,2,  34.4724,2,    182.8,2,  2.5212,    182.0,2,    64.10,2,    34.38,2,     0.00,2,     2.35,2, -999.000,9, -999.000,9,   -999.0,9,  -999.00,9,   2237.6,2,   1191.5,2,   2329.4,2,     7.57,2, -999.00,  -999.0, -999.00,  -999.0
    31DSCG96_1,  P15S,    51,  1,    120,   1015,2,19960123,1858,-57.5022,-170.0068, 5001,   -999,    927.9,   2.4955,  34.5284,2,  34.5271,2,    177.4,2,  2.4367,    176.9,6,    69.08,2,    34.30,2,     0.00,2,     2.34,2, -999.000,9, -999.000,9,   -999.0,9,  -999.00,9,   2243.1,2,   1199.2,2,   2334.7,2,     7.57,2, -999.00,  -999.0, -999.00,  -999.0
    31DSCG96_1,  P15S,    51,  1,    119,   1247,2,19960123,1858,-57.5022,-170.0068, 5001,   -999,   1025.0,   2.4493,  34.5703,2,  34.5695,2,    174.7,2,  2.3838,    175.1,2,    72.42,2,    34.07,2,     0.00,2,     2.32,2, -999.000,9, -999.000,9,   -999.0,9,  -999.00,9,   2246.0,2,   1211.2,2,   2338.1,2,     7.57,2, -999.00,  -999.0, -999.00,  -999.0
    31DSCG96_1,  P15S,    51,  1,    118,   1222,2,19960123,1858,-57.5022,-170.0068, 5001,   -999,   1141.9,   2.3901,  34.6131,2,  34.6116,2,    174.6,2,  2.3165,    174.5,2,    75.46,2,    33.56,2,     0.00,2,     2.29,2, -999.000,9, -999.000,9,   -999.0,9,  -999.00,9,   2249.9,2,   1184.5,2,   2340.7,2,     7.57,2, -999.00,  -999.0, -999.00,  -999.0
    31DSCG96_1,  P15S,    51,  1,    117,   1267,2,19960123,1858,-57.5022,-170.0068, 5001,   -999,   1313.4,   2.2948,  34.6607,2,  34.6600,2,    176.3,2,  2.2093,    177.2,2,    79.46,2,    32.88,2,     0.00,2,     2.24,2, -999.000,9, -999.000,9,   -999.0,9,  -999.00,9,   2248.3,2,   1147.3,2,   2345.6,2,     7.58,2, -999.00,  -999.0, -999.00,  -999.0
    31DSCG96_1,  P15S,    51,  1,    116,   1211,2,19960123,1858,-57.5022,-170.0068, 5001,   -999,   1563.6,   2.1599,  34.7058,2,  34.7040,2,    181.6,2,  2.0565,    182.5,2,    82.43,2,    31.96,2,     0.00,2,     2.18,2, -999.000,9, -999.000,9,   -999.0,9,  -999.00,9,   2245.3,2,   1131.6,2,   2350.6,2,     7.59,2, -999.00,  -999.0, -999.00,  -999.0
    31DSCG96_1,  P15S,    51,  1,    115,   1041,2,19960123,1858,-57.5022,-170.0068, 5001,   -999,   1815.2,   2.0084,  34.7305,2,  34.7293,2,    188.0,2,  1.8867,    188.0,2,    86.48,2,    31.33,2,     0.00,2,     2.13,2, -999.000,9, -999.000,9,   -999.0,9,  -999.00,9,   2244.3,2,   1088.9,2,   2354.0,2,     7.60,2, -999.00,  -999.0, -999.00,  -999.0
    31DSCG96_1,  P15S,    51,  1,    114,   1017,2,19960123,1858,-57.5022,-170.0068, 5001,   -999,   2065.0,   1.8247,  34.7399,2,  34.7412,2,    192.6,2,  1.6852,    192.7,6,    91.80,2,    31.11,2,     0.00,2,     2.12,2, -999.000,9, -999.000,9,   -999.0,9,  -999.00,9,   2245.4,2,   1088.0,2,   2357.6,2,     7.61,2, -999.00,  -999.0, -999.00,  -999.0
    31DSCG96_1,  P15S,    51,  1,    113,   1302,2,19960123,1858,-57.5022,-170.0068, 5001,   -999,   2315.3,   1.6444,  34.7390,2,  34.7385,2,    195.2,2,  1.4866,    195.8,2,    97.25,2,    31.15,2,     0.00,2,     2.12,2, -999.000,9, -999.000,9,   -999.0,9,  -999.00,9,   2247.3,2,   1066.9,2,   2359.9,2,     7.61,2, -999.00,  -999.0, -999.00,  -999.0
    31DSCG96_1,  P15S,    51,  1,    112,   1217,2,19960123,1858,-57.5022,-170.0068, 5001,   -999,   2568.0,   1.4511,  34.7338,2,  34.7337,2,    197.8,2,  1.2747,    198.2,2,   103.29,2,    31.43,2,     0.00,2,     2.14,2, -999.000,9, -999.000,9,   -999.0,9,  -999.00,9,   2251.6,2,   1070.3,2,   2363.3,2,     7.61,2, -999.00,  -999.0, -999.00,  -999.0
    31DSCG96_1,  P15S,    51,  1,    111,   1114,2,19960123,1858,-57.5022,-170.0068, 5001,   -999,   2809.5,   1.2930,  34.7285,2,  34.7280,2,    200.6,2,  1.0980,    200.5,2,   108.16,2,    31.62,2,     0.00,2,     2.16,2, -999.000,9, -999.000,9,   -999.0,9,  -999.00,9,   2254.1,2,   1083.2,2,   2363.9,2,     7.61,2, -999.00,  -999.0, -999.00,  -999.0
    31DSCG96_1,  P15S,    51,  1,    110,   1301,2,19960123,1858,-57.5022,-170.0068, 5001,   -999,   3063.6,   1.1626,  34.7232,2,  34.7221,2,    202.6,2,  0.9470,    202.9,2,   112.19,2,    31.81,2,     0.00,2,     2.17,2, -999.000,9, -999.000,9,   -999.0,9,  -999.00,9,   2255.4,2,   1093.9,2,   2366.1,2,     7.61,2, -999.00,  -999.0, -999.00,  -999.0
    31DSCG96_1,  P15S,    51,  1,    109,   1242,2,19960123,1858,-57.5022,-170.0068, 5001,   -999,   3315.5,   1.0354,  34.7174,2,  34.7159,2,    205.1,2,  0.7988,    205.3,2,   115.91,2,    31.99,2,     0.00,2,     2.18,2, -999.000,9, -999.000,9,   -999.0,9,  -999.00,9,   2255.2,2,   1086.7,2,   2365.9,2,     7.61,2, -999.00,  -999.0, -999.00,  -999.0
    31DSCG96_1,  P15S,    51,  1,    108,   1263,2,19960123,1858,-57.5022,-170.0068, 5001,   -999,   3565.2,   0.9455,  34.7128,2,  34.7108,2,    206.9,2,  0.6867,    207.4,6,   118.76,2,    32.11,2,     0.00,2,     2.19,2, -999.000,9, -999.000,9,   -999.0,9,  -999.00,9,   2257.2,2,   1086.2,2,   2366.1,2,     7.61,2, -999.00,  -999.0, -999.00,  -999.0
    31DSCG96_1,  P15S,    51,  1,    107,   1245,2,19960123,1858,-57.5022,-170.0068, 5001,   -999,   3813.2,   0.8869,  34.7096,2,  34.7085,2,    208.1,2,  0.6045,    208.3,2,   120.92,2,    32.17,2,     0.00,2,     2.20,2, -999.000,9, -999.000,9,   -999.0,9,  -999.00,9,   2257.0,2,   1084.6,2,   2365.6,2,     7.61,2, -999.00,  -999.0, -999.00,  -999.0
    31DSCG96_1,  P15S,    51,  1,    106,   1262,2,19960123,1858,-57.5022,-170.0068, 5001,   -999,   4064.3,   0.8622,  34.7072,2,  34.7081,2,    208.6,2,  0.5544,    209.2,2,   122.49,2,    32.23,2,     0.00,2,     2.21,2, -999.000,9, -999.000,9,   -999.0,9,  -999.00,9,   2257.5,2,   1089.6,2,   2367.2,2,     7.61,2, -999.00,  -999.0, -999.00,  -999.0
    31DSCG96_1,  P15S,    51,  1,    105,   1113,2,19960123,1858,-57.5022,-170.0068, 5001,   -999,   4313.5,   0.8597,  34.7062,2,  34.7048,2,    208.5,2,  0.5251,    209.8,2,   123.38,2,    32.24,2,     0.00,2,     2.20,2, -999.000,9, -999.000,9,   -999.0,9,  -999.00,9,   2257.2,2,   1085.1,2,   2369.8,3,     7.60,3, -999.00,  -999.0, -999.00,  -999.0
    31DSCG96_1,  P15S,    51,  1,    104,   1003,2,19960123,1858,-57.5022,-170.0068, 5001,   -999,   4566.8,   0.8735,  34.7054,2,  34.7042,2,    209.8,2,  0.5103,    209.3,2,   124.02,2,    32.26,2,     0.00,2,     2.20,2, -999.000,9, -999.000,9,   -999.0,9,  -999.00,9,   2258.9,2,   1092.4,2,   2368.0,2,     7.61,2, -999.00,  -999.0, -999.00,  -999.0
    31DSCG96_1,  P15S,    51,  1,    103,   9999,2,19960123,1858,-57.5022,-170.0068, 5001,   -999,   4813.2,   0.8975,  34.7051,2,  34.7037,2,    209.3,2,  0.5054,    209.5,2,   124.49,2,    32.31,2,     0.00,2,     2.21,2, -999.000,9, -999.000,9,   -999.0,9,  -999.00,9,   2258.3,2,   1084.4,2,   -999.0,9,     7.61,2, -999.00,  -999.0, -999.00,  -999.0
    31DSCG96_1,  P15S,    51,  1,    102,   1030,2,19960123,1858,-57.5022,-170.0068, 5001,   -999,   4813.3,   0.8974,  34.7052,2,  34.7040,2,    209.3,2,  0.5053,    209.8,2,   124.40,2,    32.28,2,     0.00,2,     2.21,2, -999.000,9, -999.000,9,   -999.0,9,  -999.00,9,   -999.0,9,   1090.8,2,   2365.8,2,     7.61,2, -999.00,  -999.0, -999.00,  -999.0
    31DSCG96_1,  P15S,    51,  1,    101,   1022,2,19960123,1858,-57.5022,-170.0068, 5001,   -999,   5107.0,   0.9332,  34.7048,2,  34.7032,2,    210.4,2,  0.5052,    209.8,2,   124.54,6,    32.33,6,     0.00,6,     2.20,6, -999.000,9, -999.000,9,   -999.0,9,  -999.00,9,   2257.2,2,   1096.1,2,   2363.8,2,     7.61,2, -999.00,  -999.0, -999.00,  -999.0