BOTTLE,20220811CCHSIOAMB
EXPOCODE,SECT_ID,STNNBR,CASTNO,SAMPNO,BTLNBR,BTLNBR_FLAG_W,DATE,TIME,LATITUDE,LONGITUDE,DEPTH,CTDRAW,CTDPRS,CTDTMP,CTDSAL,CTDSAL_FLAG_W,SALNTY,SALNTY_FLAG_W,CTDOXY,CTDOXY_FLAG_W,THETA,OXYGEN,OXYGEN_FLAG_W,SILCAT,SILCAT_FLAG_W,NITRAT,NITRAT_FLAG_W,NITRIT,NITRIT_FLAG_W,PHSPHT,PHSPHT_FLAG_W,CFC-11,CFC-11_FLAG_W,CFC-12,CFC-12_FLAG_W,DELC14,DELC14_FLAG_W,DELC13,DELC13_FLAG_W,TCARBN,TCARBN_FLAG_W,PCO2,PCO2_FLAG_W,ALKALI,ALKALI_FLAG_W,PH,PH_FLAG_W,PCO2TMP,C14ERR,PH_TMP,C13ERR
,,,,,,,,,,,,DBAR,DBAR,ITS-90,PSS-78,,PSS-78,,UMOL/KG,,DEG C,UMOL/KG,,UMOL/KG,,UMOL/KG,,UMOL/KG,,UMOL/KG,,PMOL/KG,,PMOL/KG,,/MILLE,,/MILLE,,UMOL/KG,,UATM,,UMOL/KG,,,,DEG C,/MILLE,DEG C,/MILLE
    31DSCG96_2,  P15S,   168,  1,    136,   1245,2,19960304,0803, -5.5018,-168.7498, 5347,   -999,      5.2,  28.7556,  35.6136,2,  35.6192,2,    197.6,2, 28.7543,    196.1,2,     1.46,2,     0.42,2,     0.03,2,     0.22,2, -999.000,9, -999.000,9,     75.9,2,  -999.00,9,   1979.9,2,    255.0,6,   2344.4,2,     8.12,2, -999.00,     3.3, -999.00,  -999.0
    31DSCG96_2,  P15S,   168,  1,    135,   1113,2,19960304,0803, -5.5018,-168.7498, 5347,   -999,     20.6,  28.7048,  35.6185,2,  35.6214,2,    195.8,2, 28.6998,    196.1,2,     1.50,2,     0.50,2,     0.03,2,     0.24,2, -999.000,9, -999.000,9,   -999.0,9,  -999.00,9,   1980.8,2,    260.8,2,   2344.1,2,     8.12,2, -999.00,  -999.0, -999.00,  -999.0
    31DSCG96_2,  P15S,   168,  1,    134,   1267,2,19960304,0803, -5.5018,-168.7498, 5347,   -999,     43.1,  28.3956,  35.6783,2,  35.6817,2,    195.9,2, 28.3854,    197.3,2,     1.62,2,     1.14,2,     0.05,2,     0.28,2, -999.000,9, -999.000,9,   -999.0,9,  -999.00,9,   1994.0,2,    266.8,2,   2344.5,2,     8.11,2, -999.00,  -999.0, -999.00,  -999.0
    31DSCG96_2,  P15S,   168,  1,    133,   1021,2,19960304,0803, -5.5018,-168.7498, 5347,   -999,     70.2,  28.1011,  35.6902,2,  35.6780,2,    191.5,2, 28.0845,    190.9,2,     1.95,2,     1.97,2,     0.21,2,     0.38,2, -999.000,9, -999.000,9,   -999.0,9,  -999.00,9,   -999.0,9,   -999.0,9,   -999.0,9,     8.09,2, -999.00,  -999.0, -999.00,  -999.0
    31DSCG96_2,  P15S,   168,  1,    132,   1039,2,19960304,0803, -5.5018,-168.7498, 5347,   -999,     95.2,  27.7625,  35.6897,2,  35.6921,2,    196.2,2, 27.7401,    197.8,2,     2.04,2,     2.88,2,     0.09,2,     0.41,2, -999.000,9, -999.000,9,   -999.0,9,  -999.00,9,   -999.0,9,   -999.0,9,   -999.0,9,     8.08,2, -999.00,  -999.0, -999.00,  -999.0
    31DSCG96_2,  P15S,   168,  1,    131,   1014,2,19960304,0803, -5.5018,-168.7498, 5347,   -999,    140.1,  27.5358,  35.6618,2,  35.6665,2,    186.9,2, 27.5031,    195.7,2,     2.08,2,     3.22,2,     0.21,2,     0.45,2, -999.000,9, -999.000,9,   -999.0,9,  -999.00,9,   -999.0,9,   -999.0,9,   -999.0,9,  -999.00,9, -999.00,  -999.0, -999.00,  -999.0
    31DSCG96_2,  P15S,   168,  1,    130,   1257,2,19960304,0803, -5.5018,-168.7498, 5347,   -999,    190.5,  23.5257,  35.9111,2,  35.9157,2,    136.2,2, 23.4859,    146.1,2,     2.95,2,     8.04,2,     0.06,2,     0.75,2, -999.000,9, -999.000,9,   -999.0,9,  -999.00,9,   -999.0,9,   -999.0,9,   -999.0,9,     7.96,2, -999.00,  -999.0, -999.00,  -999.0
    31DSCG96_2,  P15S,   168,  1,    129,   1256,2,19960304,0803, -5.5018,-168.7498, 5347,   -999,    239.1,  17.1095,  35.3940,2,  35.3926,2,    109.4,2, 17.0697,    108.9,2,     7.39,2,    15.03,2,     0.01,2,     1.28,2, -999.000,9, -999.000,9,   -999.0,9,  -999.00,9,   -999.0,9,   -999.0,9,   -999.0,9,     7.80,2, -999.00,  -999.0, -999.00,  -999.0
    31DSCG96_2,  P15S,   168,  1,    128,   1230,2,19960304,0803, -5.5018,-168.7498, 5347,   -999,    291.0,  13.4911,  35.0407,2,  35.0470,2,     84.9,2, 13.4500,     84.0,2,    14.38,2,    22.60,2,     0.01,2,     1.72,2, -999.000,9, -999.000,9,   -999.0,9,  -999.00,9,   -999.0,9,   -999.0,9,   -999.0,9,     7.68,2, -999.00,  -999.0, -999.00,  -999.0
    31DSCG96_2,  P15S,   168,  1,    127,   1232,2,19960304,0803, -5.5018,-168.7498, 5347,   -999,    374.5,  10.1101,  34.7578,2,  34.7572,2,     91.0,2, 10.0661,   -999.0,9,    24.20,2,    29.47,2,     0.00,2,     2.07,2, -999.000,9, -999.000,9,   -999.0,9,  -999.00,9,   -999.0,9,   -999.0,9,   -999.0,9,     7.59,2, -999.00,  -999.0, -999.00,  -999.0
    31DSCG96_2,  P15S,   168,  1,    126,   1025,2,19960304,0803, -5.5018,-168.7498, 5347,   -999,    474.1,   9.1359,  34.6892,2,  34.6870,2,     73.9,2,  9.0833,     69.0,2,    29.84,2,    33.00,2,     0.00,2,     2.31,2, -999.000,9, -999.000,9,   -999.0,9,  -999.00,9,   -999.0,9,   -999.0,9,   -999.0,9,     7.53,2, -999.00,  -999.0, -999.00,  -999.0
    31DSCG96_2,  P15S,   168,  1,    125,   1119,2,19960304,0803, -5.5018,-168.7498, 5347,   -999,    575.8,   8.1864,  34.6338,2,  34.6340,2,     59.3,2,  8.1262,     58.4,6,    35.62,2,    36.18,2,     0.00,2,     2.51,2, -999.000,9, -999.000,9,   -999.0,9,  -999.00,9,   -999.0,9,   -999.0,9,   -999.0,9,     7.49,2, -999.00,  -999.0, -999.00,  -999.0
    31DSCG96_2,  P15S,   168,  1,    124,   1244,2,19960304,0803, -5.5018,-168.7498, 5347,   -999,    673.7,   7.1836,  34.5847,2,  34.5851,2,     69.9,2,  7.1179,     66.5,2,    42.07,2,    37.66,2,     0.00,2,     2.61,2, -999.000,9, -999.000,9,   -999.0,9,  -999.00,9,   -999.0,9,   -999.0,9,   -999.0,9,     7.48,2, -999.00,  -999.0, -999.00,  -999.0
    31DSCG96_2,  P15S,   168,  1,    123,   1250,2,19960304,0803, -5.5018,-168.7498, 5347,   -999,    773.2,   6.0919,  34.5491,2,  34.5478,2,     74.0,2,  6.0222,     72.1,6,    53.36,2,    39.34,2,     0.00,2,     2.75,2, -999.000,9, -999.000,9,   -999.0,9,  -999.00,9,   -999.0,9,   -999.0,9,   -999.0,9,     7.47,2, -999.00,  -999.0, -999.00,  -999.0
    31DSCG96_2,  P15S,   168,  1,    122,   1265,2,19960304,0803, -5.5018,-168.7498, 5347,   -999,    877.0,   5.2799,  34.5383,2,  34.5366,2,     85.2,2,  5.2057,     83.9,2,    64.81,2,    39.31,2,     0.00,2,     2.76,2, -999.000,9, -999.000,9,   -999.0,9,  -999.00,9,   -999.0,9,   -999.0,9,   -999.0,9,     7.48,2, -999.00,  -999.0, -999.00,  -999.0
    31DSCG96_2,  P15S,   168,  1,    121,   1246,2,19960304,0803, -5.5018,-168.7498, 5347,   -999,    977.2,   4.6249,  34.5435,2,  34.5417,2,     91.2,2,  4.5463,     91.3,2,    75.99,2,    39.20,2,     0.00,2,     2.77,2, -999.000,9, -999.000,9,   -999.0,9,  -999.00,9,   -999.0,9,   -999.0,9,   -999.0,9,     7.49,2, -999.00,  -999.0, -999.00,  -999.0
    31DSCG96_2,  P15S,   168,  1,    120,   1015,2,19960304,0803, -5.5018,-168.7498, 5347,   -999,   1077.1,   4.1603,  34.5512,2,  34.5500,2,    100.0,2,  4.0768,     99.4,2,    84.77,2,    38.71,2,     0.00,2,     2.74,2, -999.000,9, -999.000,9,   -999.0,9,  -999.00,9,   -999.0,9,   -999.0,9,   -999.0,9,     7.50,2, -999.00,  -999.0, -999.00,  -999.0
    31DSCG96_2,  P15S,   168,  1,    119,   1247,2,19960304,0803, -5.5018,-168.7498, 5347,   -999,   1217.8,   3.6642,  34.5689,2,  34.5669,2,    105.5,2,  3.5731,    104.7,2,    95.80,2,    38.46,2,     0.00,2,     2.73,2, -999.000,9, -999.000,9,   -999.0,9,  -999.00,9,   -999.0,9,   -999.0,9,   -999.0,9,     7.51,2, -999.00,  -999.0, -999.00,  -999.0
    31DSCG96_2,  P15S,   168,  1,    118,   1299,2,19960304,0803, -5.5018,-168.7498, 5347,   -999,   1436.8,   3.1231,  34.5898,2,  34.5897,2,    110.6,2,  3.0191,    111.2,2,   108.00,2,    38.21,2,     0.00,2,     2.70,2, -999.000,9, -999.000,9,   -999.0,9,  -999.00,9,   -999.0,9,   -999.0,9,   -999.0,9,     7.52,3, -999.00,  -999.0, -999.00,  -999.0
    31DSCG96_2,  P15S,   168,  1,    117,   1263,2,19960304,0803, -5.5018,-168.7498, 5347,   -999,   1691.8,   2.5896,  34.6184,2,  34.6176,2,    115.2,2,  2.4707,    115.3,2,   121.96,2,    38.17,2,     0.00,2,     2.69,2, -999.000,9, -999.000,9,   -999.0,9,  -999.00,9,   -999.0,9,   -999.0,9,   -999.0,9,     7.53,2, -999.00,  -999.0, -999.00,  -999.0
    31DSCG96_2,  P15S,   168,  1,    116,   1259,2,19960304,0803, -5.5018,-168.7498, 5347,   -999,   1940.4,   2.2610,  34.6367,2,  34.6364,2,    120.2,2,  2.1256,    121.7,2,   129.70,2,    37.79,2,     0.00,2,     2.65,2, -999.000,9, -999.000,9,   -999.0,9,  -999.00,9,   -999.0,9,   -999.0,9,   -999.0,9,     7.54,2, -999.00,  -999.0, -999.00,  -999.0
    31DSCG96_2,  P15S,   168,  1,    115,   1264,2,19960304,0803, -5.5018,-168.7498, 5347,   -999,   2191.9,   2.0567,  34.6488,2,  34.6481,2,    126.7,2,  1.9029,    127.5,2,   133.87,2,    37.51,2,     0.00,2,     2.62,2, -999.000,9, -999.000,9,   -999.0,9,  -999.00,9,   -999.0,9,   -999.0,9,   -999.0,9,     7.54,2, -999.00,  -999.0, -999.00,  -999.0
    31DSCG96_2,  P15S,   168,  1,    114,   1017,2,19960304,0803, -5.5018,-168.7498, 5347,   -999,   2440.1,   1.8769,  34.6608,2,  34.6597,2,    132.4,2,  1.7042,    132.3,2,   137.92,2,    37.25,2,     0.00,2,     2.59,2, -999.000,9, -999.000,9,   -999.0,9,  -999.00,9,   -999.0,9,   -999.0,9,   -999.0,9,     7.55,2, -999.00,  -999.0, -999.00,  -999.0
    31DSCG96_2,  P15S,   168,  1,    113,   1035,2,19960304,0803, -5.5018,-168.7498, 5347,   -999,   2687.6,   1.7528,  34.6691,2,  34.6681,2,    138.2,2,  1.5599,    138.0,6,   139.73,2,    36.85,2,     0.00,2,     2.56,2, -999.000,9, -999.000,9,   -999.0,9,  -999.00,9,   -999.0,9,   -999.0,9,   -999.0,9,     7.56,2, -999.00,  -999.0, -999.00,  -999.0
    31DSCG96_2,  P15S,   168,  1,    112,   1217,2,19960304,0803, -5.5018,-168.7498, 5347,   -999,   2939.0,   1.6499,  34.6761,2,  34.6745,2,    145.3,2,  1.4356,    145.4,2,   139.43,2,    36.36,2,     0.00,2,     2.52,2, -999.000,9, -999.000,9,   -999.0,9,  -999.00,9,   -999.0,9,   -999.0,9,   -999.0,9,     7.57,2, -999.00,  -999.0, -999.00,  -999.0
    31DSCG96_2,  P15S,   168,  1,    111,   1226,2,19960304,0803, -5.5018,-168.7498, 5347,   -999,   3188.9,   1.5909,  34.6808,2,  34.6796,2,    151.8,2,  1.3537,    151.8,2,   137.99,2,    35.90,2,     0.00,2,     2.48,2, -999.000,9, -999.000,9,   -999.0,9,  -999.00,9,   -999.0,9,   -999.0,9,   -999.0,9,     7.58,2, -999.00,  -999.0, -999.00,  -999.0
    31DSCG96_2,  P15S,   168,  1,    110,   1301,2,19960304,0803, -5.5018,-168.7498, 5347,   -999,   3442.6,   1.5361,  34.6847,2,  34.6832,2,    157.0,2,  1.2748,    157.3,2,   137.05,2,    35.64,2,     0.00,2,     2.45,2, -999.000,9, -999.000,9,   -999.0,9,  -999.00,9,   -999.0,9,   -999.0,9,   -999.0,9,     7.59,2, -999.00,  -999.0, -999.00,  -999.0
    31DSCG96_2,  P15S,   168,  1,    109,   1031,2,19960304,0803, -5.5018,-168.7498, 5347,   -999,   3686.8,   1.4633,  34.6895,2,  34.6877,2,    163.6,2,  1.1788,    163.8,2,   135.41,2,    35.15,2,     0.00,2,     2.41,2, -999.000,9, -999.000,9,   -999.0,9,  -999.00,9,   -999.0,9,   -999.0,9,   -999.0,9,  -999.00,9, -999.00,  -999.0, -999.00,  -999.0
    31DSCG96_2,  P15S,   168,  1,    108,   1227,2,19960304,0803, -5.5018,-168.7498, 5347,   -999,   3938.3,   1.3939,  34.6935,2,  34.6925,2,    169.9,2,  1.0845,    167.2,2,   134.22,2,    34.71,2,     0.00,2,     2.38,2, -999.000,9, -999.000,9,   -999.0,9,  -999.00,9,   -999.0,9,   -999.0,9,   -999.0,9,     7.60,2, -999.00,  -999.0, -999.00,  -999.0
    31DSCG96_2,  P15S,   168,  1,    107,   1242,2,19960304,0803, -5.5018,-168.7498, 5347,   -999,   4156.9,   1.3464,  34.6968,2,  34.6960,2,    174.0,2,  1.0146,    174.6,2,   133.17,2,    34.43,2,     0.00,2,     2.36,2,   -0.002,2,    0.001,2,   -999.0,9,  -999.00,9,   -999.0,9,   -999.0,9,   -999.0,9,     7.60,2, -999.00,  -999.0, -999.00,  -999.0
    31DSCG96_2,  P15S,   168,  1,    106,   1262,2,19960304,0803, -5.5018,-168.7498, 5347,   -999,   4438.5,   1.3185,  34.6996,2,  34.6985,2,    180.5,2,  0.9560,    180.5,2,   130.59,2,    34.02,2,     0.00,2,     2.34,3, -999.000,9, -999.000,9,   -999.0,9,  -999.00,9,   -999.0,9,   -999.0,9,   -999.0,9,     7.61,2, -999.00,  -999.0, -999.00,  -999.0
    31DSCG96_2,  P15S,   168,  1,    105,   1041,2,19960304,0803, -5.5018,-168.7498, 5347,   -999,   4689.9,   1.2836,  34.7021,2,  34.7024,2,    185.7,2,  0.8933,    186.2,2,   127.61,2,    33.57,2,     0.00,2,     2.30,2,   -0.001,2,    0.000,2,   -999.0,9,  -999.00,9,   -999.0,9,   -999.0,9,   -999.0,9,     7.61,2, -999.00,  -999.0, -999.00,  -999.0
    31DSCG96_2,  P15S,   168,  1,    104,   1003,2,19960304,0803, -5.5018,-168.7498, 5347,   -999,   4938.8,   1.2164,  34.7053,2,  34.7052,2,    194.4,2,  0.7989,    194.7,6,   123.90,2,    33.00,2,     0.00,2,     2.25,2, -999.000,9, -999.000,9,   -999.0,9,  -999.00,9,   -999.0,9,   -999.0,9,   -999.0,9,     7.61,2, -999.00,  -999.0, -999.00,  -999.0
    31DSCG96_2,  P15S,   168,  1,    103,   1302,2,19960304,0803, -5.5018,-168.7498, 5347,   -999,   5189.3,   1.2069,  34.7064,2,  34.7058,2,    198.8,2,  0.7594,    198.0,2,   122.59,2,    32.74,2,     0.00,2,     2.23,2,    0.001,2,    0.003,2,   -999.0,9,  -999.00,9,   -999.0,9,   -999.0,9,   -999.0,9,     7.61,2, -999.00,  -999.0, -999.00,  -999.0
    31DSCG96_2,  P15S,   168,  1,    102,   1030,2,19960304,0803, -5.5018,-168.7498, 5347,   -999,   5473.0,   1.2233,  34.7067,2,  34.7075,2,    200.9,2,  0.7400,    199.6,2,   121.89,2,    32.60,2,     0.00,2,     2.23,2, -999.000,9, -999.000,9,   -999.0,9,  -999.00,9,   -999.0,9,   -999.0,9,   -999.0,9,     7.61,2, -999.00,  -999.0, -999.00,  -999.0
    31DSCG96_2,  P15S,   168,  1,    101,   1022,2,19960304,0803, -5.5018,-168.7498, 5347,   -999,   5520.1,   1.2288,  34.7070,2,  34.7066,2,    200.9,2,  0.7393,    199.6,2,   122.08,6,    32.61,6,     0.00,6,     2.23,6,    0.001,2,    0.002,2,   -999.0,9,  -999.00,9,   -999.0,9,   -999.0,9,   -999.0,9,     7.61,2, -999.00,  -999.0, -999.00,  -999.0