BOTTLE,20220811CCHSIOAMB
EXPOCODE,SECT_ID,STNNBR,CASTNO,SAMPNO,BTLNBR,BTLNBR_FLAG_W,DATE,TIME,LATITUDE,LONGITUDE,DEPTH,CTDRAW,CTDPRS,CTDTMP,CTDSAL,CTDSAL_FLAG_W,SALNTY,SALNTY_FLAG_W,CTDOXY,CTDOXY_FLAG_W,THETA,OXYGEN,OXYGEN_FLAG_W,SILCAT,SILCAT_FLAG_W,NITRAT,NITRAT_FLAG_W,NITRIT,NITRIT_FLAG_W,PHSPHT,PHSPHT_FLAG_W,CFC-11,CFC-11_FLAG_W,CFC-12,CFC-12_FLAG_W,DELC14,DELC14_FLAG_W,DELC13,DELC13_FLAG_W,TCARBN,TCARBN_FLAG_W,PCO2,PCO2_FLAG_W,ALKALI,ALKALI_FLAG_W,PH,PH_FLAG_W,PCO2TMP,C14ERR,PH_TMP,C13ERR
,,,,,,,,,,,,DBAR,DBAR,ITS-90,PSS-78,,PSS-78,,UMOL/KG,,DEG C,UMOL/KG,,UMOL/KG,,UMOL/KG,,UMOL/KG,,UMOL/KG,,PMOL/KG,,PMOL/KG,,/MILLE,,/MILLE,,UMOL/KG,,UATM,,UMOL/KG,,,,DEG C,/MILLE,DEG C,/MILLE
    31DSCG96_1,  P14S,    31,  2,    228,   1007,2,19960116,1459,-65.3368, 170.9995, 3449,   -999,    129.4,   0.4680,  34.5594,2,  34.5569,2,    235.2,2,  0.4628,    218.2,2,    86.12,2,    32.30,2,     0.03,2,     2.19,2,    1.797,2,    1.194,2,   -999.0,9,  -999.00,9,   -999.0,9,   -999.0,9,   -999.0,9,     7.59,2, -999.00,  -999.0, -999.00,  -999.0
    31DSCG96_1,  P14S,    31,  2,    227,   1234,2,19960116,1459,-65.3368, 170.9995, 3449,   -999,    153.9,   1.0374,  34.6578,2,  34.6505,2,    207.2,2,  1.0304,    201.6,6,    90.09,2,    32.48,2,     0.02,2,     2.20,2, -999.000,9, -999.000,9,   -999.0,9,  -999.00,9,   -999.0,9,   -999.0,9,   -999.0,9,     7.58,2, -999.00,  -999.0, -999.00,  -999.0
    31DSCG96_1,  P14S,    31,  2,    226,   1025,2,19960116,1459,-65.3368, 170.9995, 3449,   -999,    179.9,   1.1434,  34.6809,2,  34.6816,2,    198.6,2,  1.1351,    197.4,2,    92.08,2,    32.34,2,     0.01,2,     2.20,2,    0.727,2,    0.398,2,   -999.0,9,  -999.00,9,   -999.0,9,   -999.0,9,   -999.0,9,     7.59,2, -999.00,  -999.0, -999.00,  -999.0
    31DSCG96_1,  P14S,    31,  2,    225,   1233,2,19960116,1459,-65.3368, 170.9995, 3449,   -999,    206.2,   1.1430,  34.6890,2,  34.6906,2,    196.0,2,  1.1334,    198.0,2,    93.35,2,    32.26,2,     0.01,2,     2.19,2,    0.667,6,    0.417,6,   -999.0,9,  -999.00,9,   -999.0,9,   -999.0,9,   -999.0,9,     7.58,2, -999.00,  -999.0, -999.00,  -999.0
    31DSCG96_1,  P14S,    31,  2,    224,   1218,2,19960116,1459,-65.3368, 170.9995, 3449,   -999,    231.6,   1.1781,  34.6970,2,  34.6969,2,    197.2,2,  1.1672,    198.6,2,    94.29,2,    32.18,2,     0.01,2,     2.18,2,    0.569,2,    0.622,4,   -999.0,9,  -999.00,9,   -999.0,9,   -999.0,9,   -999.0,9,     7.59,2, -999.00,  -999.0, -999.00,  -999.0
    31DSCG96_1,  P14S,    31,  2,    223,   1250,2,19960116,1459,-65.3368, 170.9995, 3449,   -999,    266.0,   1.1972,  34.7037,2,  34.7048,2,    197.2,2,  1.1845,    196.6,6,    95.57,2,    32.16,2,     0.01,2,     2.18,2, -999.000,9, -999.000,9,   -999.0,9,  -999.00,9,   -999.0,9,   -999.0,9,   -999.0,9,     7.59,2, -999.00,  -999.0, -999.00,  -999.0
    31DSCG96_1,  P14S,    31,  2,    222,   1109,2,19960116,1459,-65.3368, 170.9995, 3449,   -999,    316.6,   1.1916,  34.7091,2,  34.7089,2,    195.2,2,  1.1763,    196.3,2,    97.36,2,    32.14,2,     0.01,2,     2.18,2,    0.425,2,    0.331,4,   -999.0,9,  -999.00,9,   -999.0,9,   -999.0,9,   -999.0,9,     7.59,2, -999.00,  -999.0, -999.00,  -999.0
    31DSCG96_1,  P14S,    31,  2,    221,   1246,2,19960116,1459,-65.3368, 170.9995, 3449,   -999,    365.4,   1.1849,  34.7139,2,  34.7136,2,    197.0,2,  1.1671,    195.4,2,    99.69,2,    32.23,2,     0.00,2,     2.19,2, -999.000,9, -999.000,9,   -999.0,9,  -999.00,9,   -999.0,9,   -999.0,9,   -999.0,9,     7.59,2, -999.00,  -999.0, -999.00,  -999.0
    31DSCG96_1,  P14S,    31,  2,    220,   1015,2,19960116,1459,-65.3368, 170.9995, 3449,   -999,    405.0,   1.1728,  34.7148,2,  34.7156,2,    197.4,2,  1.1531,    196.2,2,   100.30,2,    32.18,2,     0.00,2,     2.18,2,    0.321,2,    0.325,4,   -999.0,9,  -999.00,9,   -999.0,9,   -999.0,9,   -999.0,9,     7.60,2, -999.00,  -999.0, -999.00,  -999.0
    31DSCG96_1,  P14S,    31,  2,    219,   1247,2,19960116,1459,-65.3368, 170.9995, 3449,   -999,    462.8,   1.1420,  34.7163,2,  34.7162,2,    198.3,2,  1.1194,    197.1,2,   101.66,2,    32.09,2,     0.00,2,     2.18,2, -999.000,9, -999.000,9,   -999.0,9,  -999.00,9,   -999.0,9,   -999.0,9,   -999.0,9,     7.60,2, -999.00,  -999.0, -999.00,  -999.0
    31DSCG96_1,  P14S,    31,  2,    218,   1222,2,19960116,1459,-65.3368, 170.9995, 3449,   -999,    525.7,   1.1022,  34.7173,2,  34.7199,2,    198.5,2,  1.0764,    197.5,2,   103.89,2,    32.05,2,     0.00,2,     2.18,2,    0.251,2,    0.175,3,   -999.0,9,  -999.00,9,   -999.0,9,   -999.0,9,   -999.0,9,     7.60,2, -999.00,  -999.0, -999.00,  -999.0
    31DSCG96_1,  P14S,    31,  2,    217,   1267,2,19960116,1459,-65.3368, 170.9995, 3449,   -999,    624.9,   1.0402,  34.7174,2,  34.7183,2,    199.7,2,  1.0093,    199.3,2,   106.50,2,    32.13,2,     0.01,2,     2.18,2,    0.213,2,    0.261,4,   -999.0,9,  -999.00,9,   -999.0,9,   -999.0,9,   -999.0,9,     7.60,2, -999.00,  -999.0, -999.00,  -999.0
    31DSCG96_1,  P14S,    31,  2,    216,   1211,2,19960116,1459,-65.3368, 170.9995, 3449,   -999,    722.7,   0.9848,  34.7165,2,  34.7161,2,    201.1,2,  0.9487,    200.0,2,   108.89,2,    32.19,2,     0.00,2,     2.18,2,    0.174,2,    0.147,3,   -999.0,9,  -999.00,9,   -999.0,9,   -999.0,9,   -999.0,9,     7.60,2, -999.00,  -999.0, -999.00,  -999.0
    31DSCG96_1,  P14S,    31,  2,    215,   1041,2,19960116,1459,-65.3368, 170.9995, 3449,   -999,    825.0,   0.9150,  34.7148,2,  34.7152,2,    202.2,2,  0.8735,    200.9,6,   111.66,2,    32.28,2,     0.00,2,     2.20,2,    0.153,2,    0.132,3,   -999.0,9,  -999.00,9,   -999.0,9,   -999.0,9,   -999.0,9,     7.60,2, -999.00,  -999.0, -999.00,  -999.0
    31DSCG96_1,  P14S,    31,  2,    214,   1017,2,19960116,1459,-65.3368, 170.9995, 3449,   -999,    926.5,   0.8409,  34.7119,2,  34.7120,2,    203.3,2,  0.7941,    201.3,2,   114.83,2,    32.45,2,     0.00,2,     2.21,2,    0.122,2,    0.459,4,   -999.0,9,  -999.00,9,   -999.0,9,   -999.0,9,   -999.0,9,     7.60,2, -999.00,  -999.0, -999.00,  -999.0
    31DSCG96_1,  P14S,    31,  2,    213,   1008,2,19960116,1459,-65.3368, 170.9995, 3449,   -999,   1024.7,   0.7854,  34.7101,2,  34.7111,2,    203.0,2,  0.7332,    201.9,2,   117.10,2,    32.52,2,     0.00,2,     2.21,2,    0.102,2,    0.375,4,   -999.0,9,  -999.00,9,   -999.0,9,   -999.0,9,   -999.0,9,     7.60,2, -999.00,  -999.0, -999.00,  -999.0
    31DSCG96_1,  P14S,    31,  2,    212,   1217,2,19960116,1459,-65.3368, 170.9995, 3449,   -999,   1139.6,   0.7155,  34.7075,2,  34.7099,2,    203.5,2,  0.6571,    203.4,2,   119.51,2,    32.62,2,     0.00,2,     2.22,2,    0.098,2,    0.259,4,   -999.0,9,  -999.00,9,   -999.0,9,   -999.0,9,   -999.0,9,     7.60,2, -999.00,  -999.0, -999.00,  -999.0
    31DSCG96_1,  P14S,    31,  2,    211,   1114,2,19960116,1459,-65.3368, 170.9995, 3449,   -999,   1315.4,   0.6130,  34.7038,2,  34.7069,3,    205.5,2,  0.5447,    206.7,2,   122.06,2,    32.71,2,     0.00,2,     2.23,2, -999.000,5, -999.000,5,   -999.0,9,  -999.00,9,   -999.0,9,   -999.0,9,   -999.0,9,     7.60,2, -999.00,  -999.0, -999.00,  -999.0
    31DSCG96_1,  P14S,    31,  2,    210,   1036,2,19960116,1459,-65.3368, 170.9995, 3449,   -999,   1560.6,   0.5042,  34.7020,2,  34.7039,2,    208.7,2,  0.4212,    208.4,2,   124.98,2,    32.66,2,     0.00,2,     2.23,2,    0.120,2,    0.197,4,   -999.0,9,  -999.00,9,   -999.0,9,   -999.0,9,   -999.0,9,     7.60,2, -999.00,  -999.0, -999.00,  -999.0
    31DSCG96_1,  P14S,    31,  2,    209,   1216,2,19960116,1459,-65.3368, 170.9995, 3449,   -999,   1816.8,   0.3779,  34.6988,2,  34.7003,2,    211.0,2,  0.2792,    211.4,2,   125.85,2,    32.76,2,     0.00,2,     2.24,2,    0.204,2,    0.188,4,   -999.0,9,  -999.00,9,   -999.0,9,   -999.0,9,   -999.0,9,     7.60,2, -999.00,  -999.0, -999.00,  -999.0
    31DSCG96_1,  P14S,    31,  2,    208,   1263,2,19960116,1459,-65.3368, 170.9995, 3449,   -999,   2063.9,   0.2850,  34.6974,2,  34.6966,2,    214.1,2,  0.1701,    214.3,2,   124.97,2,    32.75,2,     0.00,2,     2.23,2,    0.324,2,    0.413,4,   -999.0,9,  -999.00,9,   -999.0,9,   -999.0,9,   -999.0,9,     7.60,2, -999.00,  -999.0, -999.00,  -999.0
    31DSCG96_1,  P14S,    31,  2,    207,   1245,2,19960116,1459,-65.3368, 170.9995, 3449,   -999,   2312.7,   0.1923,  34.6961,2,  34.6966,2,    218.0,2,  0.0605,    217.7,6,   121.75,2,    32.63,2,     0.00,2,     2.22,2,    0.542,2,    0.321,2,   -999.0,9,  -999.00,9,   -999.0,9,   -999.0,9,   -999.0,9,     7.59,3, -999.00,  -999.0, -999.00,  -999.0
    31DSCG96_1,  P14S,    31,  2,    206,   1262,2,19960116,1459,-65.3368, 170.9995, 3449,   -999,   2566.0,   0.0704,  34.6922,2,  34.6914,2,    222.2,2, -0.0789,    223.3,2,   117.39,2,    32.45,2,     0.00,2,     2.21,2,    0.873,2,    0.442,2,   -999.0,9,  -999.00,9,   -999.0,9,   -999.0,9,   -999.0,9,     7.60,2, -999.00,  -999.0, -999.00,  -999.0
    31DSCG96_1,  P14S,    31,  2,    205,   1113,2,19960116,1459,-65.3368, 170.9995, 3449,   -999,   2813.5,   0.0272,  34.6953,2,  34.6972,2,    225.1,2, -0.1412,    225.3,2,   113.35,2,    32.39,2,     0.00,2,     2.20,2,    1.147,2,    0.552,2,   -999.0,9,  -999.00,9,   -999.0,9,   -999.0,9,   -999.0,9,     7.60,2, -999.00,  -999.0, -999.00,  -999.0
    31DSCG96_1,  P14S,    31,  2,    204,   1003,2,19960116,1459,-65.3368, 170.9995, 3449,   -999,   3062.7,   0.0062,  34.6978,2,  34.6974,2,    225.8,2, -0.1829,    226.3,2,   110.88,6,    32.33,6,     0.00,6,     2.20,6,    1.299,2,    0.815,3,   -999.0,9,  -999.00,9,   -999.0,9,   -999.0,9,   -999.0,9,     7.60,2, -999.00,  -999.0, -999.00,  -999.0
    31DSCG96_1,  P14S,    31,  2,    202,   1027,2,19960116,1459,-65.3368, 170.9995, 3449,   -999,   3310.5,  -0.0049,  34.6988,2,  34.6985,2,    227.9,2, -0.2156,    227.9,2,   109.08,6,    32.29,6,     0.00,6,     2.20,6,    1.454,2,    0.736,2,   -999.0,9,  -999.00,9,   -999.0,9,   -999.0,9,   -999.0,9,     7.60,2, -999.00,  -999.0, -999.00,  -999.0
    31DSCG96_1,  P14S,    31,  2,    203,   9999,2,19960116,1459,-65.3368, 170.9995, 3449,   -999,   3311.5,  -0.0048,  34.6987,2,  34.6984,2,    227.9,2, -0.2156,    228.4,2,   109.04,6,    32.28,6,     0.00,6,     2.20,6,    1.434,6,    0.686,6,   -999.0,9,  -999.00,9,   -999.0,9,   -999.0,9,   -999.0,9,     7.60,2, -999.00,  -999.0, -999.00,  -999.0
    31DSCG96_1,  P14S,    31,  2,    201,   1022,2,19960116,1459,-65.3368, 170.9995, 3449,   -999,   3460.7,  -0.0285,  34.6988,2,  34.6983,2,    230.7,2, -0.2523,    230.9,2,   106.11,6,    32.20,6,     0.00,6,     2.19,6,    1.653,2,    0.852,2,   -999.0,9,  -999.00,9,   -999.0,9,   -999.0,9,   -999.0,9,     7.60,2, -999.00,  -999.0, -999.00,  -999.0