BOTTLE,20220811CCHSIOAMB
EXPOCODE,SECT_ID,STNNBR,CASTNO,SAMPNO,BTLNBR,BTLNBR_FLAG_W,DATE,TIME,LATITUDE,LONGITUDE,DEPTH,CTDRAW,CTDPRS,CTDTMP,CTDSAL,CTDSAL_FLAG_W,SALNTY,SALNTY_FLAG_W,CTDOXY,CTDOXY_FLAG_W,THETA,OXYGEN,OXYGEN_FLAG_W,SILCAT,SILCAT_FLAG_W,NITRAT,NITRAT_FLAG_W,NITRIT,NITRIT_FLAG_W,PHSPHT,PHSPHT_FLAG_W,CFC-11,CFC-11_FLAG_W,CFC-12,CFC-12_FLAG_W,DELC14,DELC14_FLAG_W,DELC13,DELC13_FLAG_W,TCARBN,TCARBN_FLAG_W,PCO2,PCO2_FLAG_W,ALKALI,ALKALI_FLAG_W,PH,PH_FLAG_W,PCO2TMP,C14ERR,PH_TMP,C13ERR
,,,,,,,,,,,,DBAR,DBAR,ITS-90,PSS-78,,PSS-78,,UMOL/KG,,DEG C,UMOL/KG,,UMOL/KG,,UMOL/KG,,UMOL/KG,,UMOL/KG,,PMOL/KG,,PMOL/KG,,/MILLE,,/MILLE,,UMOL/KG,,UATM,,UMOL/KG,,,,DEG C,/MILLE,DEG C,/MILLE
    31DSCG96_2,  P15S,   166,  2,    236,   1245,2,19960303,1854, -6.5017,-168.7487, 5498,   -999,      6.2,  28.9284,  35.4905,2,  35.4847,2,    194.8,2, 28.9269,    195.9,2,     1.40,2,     0.02,2,     0.01,2,     0.19,2, -999.000,9, -999.000,9,     73.9,2,  -999.00,9,   1966.9,2,    251.8,2,   2332.3,2,     8.13,2, -999.00,     3.3, -999.00,  -999.0
    31DSCG96_2,  P15S,   166,  2,    235,   1113,2,19960303,1854, -6.5017,-168.7487, 5498,   -999,     21.7,  28.8105,  35.4380,3,  35.5323,2,    194.9,2, 28.8053,    196.0,2,     1.52,2,     0.10,2,     0.01,2,     0.22,2, -999.000,9, -999.000,9,   -999.0,9,  -999.00,9,   1969.7,2,    254.4,2,   2340.2,2,     8.13,2, -999.00,  -999.0, -999.00,  -999.0
    31DSCG96_2,  P15S,   166,  2,    234,   1267,2,19960303,1854, -6.5017,-168.7487, 5498,   -999,     47.5,  28.2902,  35.7043,2,  35.7030,2,    196.3,2, 28.2790,    197.0,2,     1.82,2,     1.50,2,     0.06,2,     0.31,2, -999.000,9, -999.000,9,   -999.0,9,  -999.00,9,   1999.8,2,    274.5,2,   2348.0,2,     8.10,2, -999.00,  -999.0, -999.00,  -999.0
    31DSCG96_2,  P15S,   166,  2,    233,   1021,2,19960303,1854, -6.5017,-168.7487, 5498,   -999,     72.5,  27.8431,  35.7056,2,  35.7099,2,    195.5,2, 27.8261,    198.7,2,     1.83,2,     2.49,2,     0.07,2,     0.38,2, -999.000,9, -999.000,9,   -999.0,9,  -999.00,9,   -999.0,9,   -999.0,9,   -999.0,9,     8.09,2, -999.00,  -999.0, -999.00,  -999.0
    31DSCG96_2,  P15S,   166,  2,    232,   1039,2,19960303,1854, -6.5017,-168.7487, 5498,   -999,    100.7,  27.5603,  35.6765,2,  35.6783,2,    198.1,2, 27.5368,    197.6,2,     2.11,2,     3.28,2,     0.10,2,     0.44,2, -999.000,9, -999.000,9,   -999.0,9,  -999.00,9,   -999.0,9,   -999.0,9,   -999.0,9,     8.07,2, -999.00,  -999.0, -999.00,  -999.0
    31DSCG96_2,  P15S,   166,  2,    231,   1014,2,19960303,1854, -6.5017,-168.7487, 5498,   -999,    140.1,  26.9441,  35.6737,2,  35.6859,2,    187.8,2, 26.9120,    187.1,2,     2.15,2,     3.57,2,     0.88,2,     0.53,2, -999.000,9, -999.000,9,   -999.0,9,  -999.00,9,   -999.0,9,   -999.0,9,   -999.0,9,     8.05,2, -999.00,  -999.0, -999.00,  -999.0
    31DSCG96_2,  P15S,   166,  2,    230,   1257,2,19960303,1854, -6.5017,-168.7487, 5498,   -999,    190.1,  23.4624,  36.1686,2,  36.1736,2,    151.5,2, 23.4228,    155.9,2,     2.00,2,     5.86,2,     0.03,2,     0.62,2, -999.000,9, -999.000,9,   -999.0,9,  -999.00,9,   -999.0,9,   -999.0,9,   -999.0,9,     7.98,2, -999.00,  -999.0, -999.00,  -999.0
    31DSCG96_2,  P15S,   166,  2,    229,   1256,2,19960303,1854, -6.5017,-168.7487, 5498,   -999,    239.7,  18.9899,  35.6385,2,  35.6445,2,    130.2,2, 18.9470,    134.5,2,     4.10,2,    10.29,2,     0.01,2,     0.96,2, -999.000,9, -999.000,9,   -999.0,9,  -999.00,9,   -999.0,9,   -999.0,9,   -999.0,9,     7.88,2, -999.00,  -999.0, -999.00,  -999.0
    31DSCG96_2,  P15S,   166,  2,    228,   1230,2,19960303,1854, -6.5017,-168.7487, 5498,   -999,    286.8,  13.5169,  35.0457,2,  35.0558,2,     85.5,2, 13.4763,     87.3,2,    13.80,2,    22.03,2,     0.01,2,     1.69,2, -999.000,9, -999.000,9,   -999.0,9,  -999.00,9,   -999.0,9,   -999.0,9,   -999.0,9,     7.69,2, -999.00,  -999.0, -999.00,  -999.0
    31DSCG96_2,  P15S,   166,  2,    227,   1232,2,19960303,1854, -6.5017,-168.7487, 5498,   -999,    375.7,   9.6900,  34.7259,2,  34.7337,2,    103.8,2,  9.6470,    102.2,2,    23.58,2,    28.43,2,     0.00,2,     1.98,2, -999.000,9, -999.000,9,   -999.0,9,  -999.00,9,   -999.0,9,   -999.0,9,   -999.0,9,     7.62,2, -999.00,  -999.0, -999.00,  -999.0
    31DSCG96_2,  P15S,   166,  2,    226,   1025,2,19960303,1854, -6.5017,-168.7487, 5498,   -999,    474.9,   8.1607,  34.6251,2,  34.6251,2,    103.6,2,  8.1114,     94.0,2,    32.05,2,    32.83,2,     0.00,2,     2.26,2, -999.000,9, -999.000,9,   -999.0,9,  -999.00,9,   -999.0,9,   -999.0,9,   -999.0,9,     7.56,2, -999.00,  -999.0, -999.00,  -999.0
    31DSCG96_2,  P15S,   166,  2,    225,   1119,2,19960303,1854, -6.5017,-168.7487, 5498,   -999,    574.7,   7.0269,  34.5748,2,  34.5737,2,     70.2,2,  6.9719,     79.3,2,    41.99,2,    36.80,2,     0.00,2,     2.54,2, -999.000,9, -999.000,9,   -999.0,9,  -999.00,9,   -999.0,9,   -999.0,9,   -999.0,9,     7.50,2, -999.00,  -999.0, -999.00,  -999.0
    31DSCG96_2,  P15S,   166,  2,    224,   1244,2,19960303,1854, -6.5017,-168.7487, 5498,   -999,    677.1,   6.3143,  34.5544,2,  34.5545,2,     80.8,2,  6.2527,     72.6,2,    50.19,2,    39.07,2,     0.00,2,     2.71,2, -999.000,9, -999.000,9,   -999.0,9,  -999.00,9,   -999.0,9,   -999.0,9,   -999.0,9,     7.48,2, -999.00,  -999.0, -999.00,  -999.0
    31DSCG96_2,  P15S,   166,  2,    223,   1250,2,19960303,1854, -6.5017,-168.7487, 5498,   -999,    809.7,   5.4844,  34.5396,2,  34.5382,2,     78.7,2,  5.4150,     79.7,2,    61.55,2,    39.62,2,     0.00,2,     2.76,2, -999.000,9, -999.000,9,   -999.0,9,  -999.00,9,   -999.0,9,   -999.0,9,   -999.0,9,     7.48,2, -999.00,  -999.0, -999.00,  -999.0
    31DSCG96_2,  P15S,   166,  2,    222,   1265,2,19960303,1854, -6.5017,-168.7487, 5498,   -999,    923.5,   4.8376,  34.5398,2,  34.5390,2,     87.5,2,  4.7623,     89.2,2,    71.99,2,    39.35,2,     0.00,2,     2.76,2, -999.000,9, -999.000,9,   -999.0,9,  -999.00,9,   -999.0,9,   -999.0,9,   -999.0,9,     7.49,2, -999.00,  -999.0, -999.00,  -999.0
    31DSCG96_2,  P15S,   166,  2,    221,   1246,2,19960303,1854, -6.5017,-168.7487, 5498,   -999,   1196.7,   3.8507,  34.5613,2,  34.5608,2,    103.0,2,  3.7596,    102.4,6,    91.84,2,    38.77,2,     0.00,2,     2.74,2, -999.000,9, -999.000,9,   -999.0,9,  -999.00,9,   -999.0,9,   -999.0,9,   -999.0,9,     7.51,2, -999.00,  -999.0, -999.00,  -999.0
    31DSCG96_2,  P15S,   166,  2,    220,   1015,2,19960303,1854, -6.5017,-168.7487, 5498,   -999,   1442.3,   3.1682,  34.5892,2,  34.5880,2,    108.7,2,  3.0632,    107.3,2,   108.15,2,    38.72,2,     0.00,2,     2.73,2, -999.000,9, -999.000,9,   -999.0,9,  -999.00,9,   -999.0,9,   -999.0,9,   -999.0,9,     7.51,2, -999.00,  -999.0, -999.00,  -999.0
    31DSCG96_2,  P15S,   166,  2,    219,   1247,2,19960303,1854, -6.5017,-168.7487, 5498,   -999,   1690.2,   2.6462,  34.6117,2,  34.6114,2,    122.1,2,  2.5267,    124.6,2,   116.64,2,    37.67,2,     0.00,2,     2.64,2, -999.000,9, -999.000,9,   -999.0,9,  -999.00,9,   -999.0,9,   -999.0,9,   -999.0,9,     7.54,3, -999.00,  -999.0, -999.00,  -999.0
    31DSCG96_2,  P15S,   166,  2,    218,   1299,2,19960303,1854, -6.5017,-168.7487, 5498,   -999,   1934.8,   2.2833,  34.6345,2,  34.6364,2,    124.6,2,  2.1481,    126.5,2,   126.10,2,    37.60,2,     0.00,2,     2.62,2, -999.000,9, -999.000,9,   -999.0,9,  -999.00,9,   -999.0,9,   -999.0,9,   -999.0,9,     7.54,2, -999.00,  -999.0, -999.00,  -999.0
    31DSCG96_2,  P15S,   166,  2,    217,   1242,2,19960303,1854, -6.5017,-168.7487, 5498,   -999,   2187.4,   2.0223,  34.6521,2,  34.6543,2,    128.0,2,  1.8695,    130.5,2,   133.54,2,    37.38,2,     0.00,2,     2.61,2, -999.000,9, -999.000,9,   -999.0,9,  -999.00,9,   -999.0,9,   -999.0,9,   -999.0,9,     7.55,2, -999.00,  -999.0, -999.00,  -999.0
    31DSCG96_2,  P15S,   166,  2,    216,   1259,2,19960303,1854, -6.5017,-168.7487, 5498,   -999,   2438.7,   1.8741,  34.6625,2,  34.6628,2,    132.8,2,  1.7016,    135.2,2,   136.50,2,    37.10,2,     0.00,2,     2.58,2, -999.000,9, -999.000,9,   -999.0,9,  -999.00,9,   -999.0,9,   -999.0,9,   -999.0,9,     7.56,2, -999.00,  -999.0, -999.00,  -999.0
    31DSCG96_2,  P15S,   166,  2,    215,   1041,2,19960303,1854, -6.5017,-168.7487, 5498,   -999,   2685.7,   1.7616,  34.6704,2,  34.6702,2,    138.6,2,  1.5687,    140.7,6,   138.31,2,    36.87,2,     0.00,2,     2.55,2, -999.000,9, -999.000,9,   -999.0,9,  -999.00,9,   -999.0,9,   -999.0,9,   -999.0,9,     7.57,2, -999.00,  -999.0, -999.00,  -999.0
    31DSCG96_2,  P15S,   166,  2,    214,   1017,2,19960303,1854, -6.5017,-168.7487, 5498,   -999,   2942.2,   1.6776,  34.6759,2,  34.6767,2,    146.3,2,  1.4624,    146.8,2,   137.89,2,    36.32,2,     0.00,2,     2.51,2, -999.000,9, -999.000,9,   -999.0,9,  -999.00,9,   -999.0,9,   -999.0,9,   -999.0,9,     7.58,2, -999.00,  -999.0, -999.00,  -999.0
    31DSCG96_2,  P15S,   166,  2,    213,   1302,2,19960303,1854, -6.5017,-168.7487, 5498,   -999,   3191.7,   1.6033,  34.6809,2,  34.6799,2,    152.5,2,  1.3656,    152.9,2,   137.12,2,    35.91,2,     0.00,2,     2.48,2, -999.000,9, -999.000,9,   -999.0,9,  -999.00,9,   -999.0,9,   -999.0,9,   -999.0,9,     7.58,2, -999.00,  -999.0, -999.00,  -999.0
    31DSCG96_2,  P15S,   166,  2,    212,   1217,2,19960303,1854, -6.5017,-168.7487, 5498,   -999,   3441.4,   1.5506,  34.6845,2,  34.6835,2,    156.7,2,  1.2891,    157.2,2,   136.30,2,    35.57,2,     0.00,2,     2.45,2, -999.000,9, -999.000,9,   -999.0,9,  -999.00,9,   -999.0,9,   -999.0,9,   -999.0,9,     7.59,2, -999.00,  -999.0, -999.00,  -999.0
    31DSCG96_2,  P15S,   166,  2,    211,   1226,2,19960303,1854, -6.5017,-168.7487, 5498,   -999,   3693.5,   1.4767,  34.6891,2,  34.6907,2,    163.6,2,  1.1911,    164.0,2,   134.58,2,    35.12,2,     0.00,2,     2.42,2, -999.000,9, -999.000,9,   -999.0,9,  -999.00,9,   -999.0,9,   -999.0,9,   -999.0,9,     7.59,2, -999.00,  -999.0, -999.00,  -999.0
    31DSCG96_2,  P15S,   166,  2,    210,   1301,2,19960303,1854, -6.5017,-168.7487, 5498,   -999,   3946.2,   1.4101,  34.6932,2,  34.6942,2,    169.7,2,  1.0994,    170.5,2,   133.14,2,    34.69,2,     0.00,2,     2.38,2, -999.000,9, -999.000,9,   -999.0,9,  -999.00,9,   -999.0,9,   -999.0,9,   -999.0,9,     7.60,2, -999.00,  -999.0, -999.00,  -999.0
    31DSCG96_2,  P15S,   166,  2,    209,   1031,2,19960303,1854, -6.5017,-168.7487, 5498,   -999,   4189.1,   1.3582,  34.6966,2,  34.6970,2,    174.8,2,  1.0225,    176.7,6,   131.60,2,    34.30,2,     0.00,2,     2.35,2,    0.001,2,    0.001,2,   -999.0,9,  -999.00,9,   -999.0,9,   -999.0,9,   -999.0,9,     7.60,2, -999.00,  -999.0, -999.00,  -999.0
    31DSCG96_2,  P15S,   166,  2,    208,   1227,2,19960303,1854, -6.5017,-168.7487, 5498,   -999,   4435.6,   1.3193,  34.6995,2,  34.6997,2,    179.8,2,  0.9571,    180.9,2,   130.40,2,    34.05,2,     0.00,2,     2.33,2, -999.000,9, -999.000,9,   -999.0,9,  -999.00,9,   -999.0,9,   -999.0,9,   -999.0,9,     7.61,2, -999.00,  -999.0, -999.00,  -999.0
    31DSCG96_2,  P15S,   166,  2,    207,   1263,2,19960303,1854, -6.5017,-168.7487, 5498,   -999,   4688.8,   1.2662,  34.7028,2,  34.7034,2,    186.7,2,  0.8765,    188.3,2,   126.81,2,    33.42,2,     0.00,2,     2.29,2,    0.004,2,    0.003,2,   -999.0,9,  -999.00,9,   -999.0,9,   -999.0,9,   -999.0,9,     7.61,2, -999.00,  -999.0, -999.00,  -999.0
    31DSCG96_2,  P15S,   166,  2,    206,   1262,2,19960303,1854, -6.5017,-168.7487, 5498,   -999,   4940.1,   1.2280,  34.7052,2,  34.7068,2,    192.7,2,  0.8100,    194.4,2,   124.13,2,    32.83,2,     0.00,2,     2.26,2, -999.000,9, -999.000,9,   -999.0,9,  -999.00,9,   -999.0,9,   -999.0,9,   -999.0,9,     7.61,2, -999.00,  -999.0, -999.00,  -999.0
    31DSCG96_2,  P15S,   166,  2,    205,   1264,2,19960303,1854, -6.5017,-168.7487, 5498,   -999,   5125.3,   1.2120,  34.7061,2,  34.7061,2,    197.8,2,  0.7721,    198.4,2,   123.10,2,    32.79,2,     0.00,2,     2.24,2,    0.003,2,    0.002,2,   -999.0,9,  -999.00,9,   -999.0,9,   -999.0,9,   -999.0,9,     7.61,2, -999.00,  -999.0, -999.00,  -999.0
    31DSCG96_2,  P15S,   166,  2,    204,   1003,2,19960303,1854, -6.5017,-168.7487, 5498,   -999,   5278.0,   1.2099,  34.7065,2,  34.7072,2,    199.7,2,  0.7514,    198.6,2,   122.41,2,    32.69,2,     0.00,2,     2.24,2,    0.002,2,    0.001,2,   -999.0,9,  -999.00,9,   -999.0,9,   -999.0,9,   -999.0,9,     7.61,2, -999.00,  -999.0, -999.00,  -999.0
    31DSCG96_2,  P15S,   166,  2,    203,   1035,2,19960303,1854, -6.5017,-168.7487, 5498,   -999,   5401.9,   1.2139,  34.7068,2,  34.7068,2,    200.8,2,  0.7399,    199.9,2,   122.43,2,    32.53,2,     0.00,2,     2.23,2,    0.004,2,    0.002,2,   -999.0,9,  -999.00,9,   -999.0,9,   -999.0,9,   -999.0,9,     7.61,2, -999.00,  -999.0, -999.00,  -999.0
    31DSCG96_2,  P15S,   166,  2,    202,   1030,2,19960303,1854, -6.5017,-168.7487, 5498,   -999,   5525.5,   1.2219,  34.7071,2,  34.7076,2,    201.7,2,  0.7320,    201.8,2,   121.89,2,    32.51,2,     0.00,2,     2.22,2,    0.007,2,    0.005,2,   -999.0,9,  -999.00,9,   -999.0,9,   -999.0,9,   -999.0,9,     7.61,2, -999.00,  -999.0, -999.00,  -999.0
    31DSCG96_2,  P15S,   166,  2,    201,   1022,2,19960303,1854, -6.5017,-168.7487, 5498,   -999,   5645.5,   1.2359,  34.7069,2,  34.7076,2,    201.8,2,  0.7303,    201.4,2,   122.07,6,    32.55,6,     0.00,6,     2.23,6,    0.004,6,    0.008,3,   -999.0,9,  -999.00,9,   -999.0,9,   -999.0,9,   -999.0,9,     7.61,2, -999.00,  -999.0, -999.00,  -999.0