BOTTLE,20220811CCHSIOAMB
EXPOCODE,SECT_ID,STNNBR,CASTNO,SAMPNO,BTLNBR,BTLNBR_FLAG_W,DATE,TIME,LATITUDE,LONGITUDE,DEPTH,CTDRAW,CTDPRS,CTDTMP,CTDSAL,CTDSAL_FLAG_W,SALNTY,SALNTY_FLAG_W,CTDOXY,CTDOXY_FLAG_W,THETA,OXYGEN,OXYGEN_FLAG_W,SILCAT,SILCAT_FLAG_W,NITRAT,NITRAT_FLAG_W,NITRIT,NITRIT_FLAG_W,PHSPHT,PHSPHT_FLAG_W,CFC-11,CFC-11_FLAG_W,CFC-12,CFC-12_FLAG_W,DELC14,DELC14_FLAG_W,DELC13,DELC13_FLAG_W,TCARBN,TCARBN_FLAG_W,PCO2,PCO2_FLAG_W,ALKALI,ALKALI_FLAG_W,PH,PH_FLAG_W,PCO2TMP,C14ERR,PH_TMP,C13ERR
,,,,,,,,,,,,DBAR,DBAR,ITS-90,PSS-78,,PSS-78,,UMOL/KG,,DEG C,UMOL/KG,,UMOL/KG,,UMOL/KG,,UMOL/KG,,UMOL/KG,,PMOL/KG,,PMOL/KG,,/MILLE,,/MILLE,,UMOL/KG,,UATM,,UMOL/KG,,,,DEG C,/MILLE,DEG C,/MILLE
    31DSCG96_2,  P15S,   112,  1,    136,   1245,2,19960218,1404,-32.5022,-170.0022, 5501,   -999,      4.7,  21.9754,  35.7777,2,  35.7771,2,    224.5,2, 21.9745,    218.3,2,     1.25,2,     0.02,2,     0.00,2,     0.06,2,    2.113,2,    1.175,2,     71.3,3,     1.23,2,   2029.2,2,    322.2,2,   2346.1,2,     8.04,2, -999.00,     5.4, -999.00,  -999.0
    31DSCG96_2,  P15S,   112,  1,    135,   1113,2,19960218,1404,-32.5022,-170.0022, 5501,   -999,     18.4,  21.9768,  35.7768,2,  35.7785,2,    216.3,2, 21.9732,    218.3,2,     1.28,2,     0.02,2,     0.00,2,     0.06,2,    2.130,2,    1.178,2,   -999.0,5,     1.44,2,   2032.9,2,    323.3,2,   2346.1,2,     8.04,2, -999.00,  -999.0, -999.00,  -999.0
    31DSCG96_2,  P15S,   112,  1,    134,   1216,2,19960218,1404,-32.5022,-170.0022, 5501,   -999,     44.1,  21.9532,  35.7656,2,  35.7741,2,    224.8,2, 21.9445,    218.7,2,     1.25,2,     0.02,2,     0.00,2,     0.07,2,    2.146,2,    1.187,2,    100.1,2,     1.46,2,   2031.3,2,    323.5,2,   2342.8,2,     8.04,2, -999.00,     4.5, -999.00,  -999.0
    31DSCG96_2,  P15S,   112,  1,    133,   1221,2,19960218,1404,-32.5022,-170.0022, 5501,   -999,     70.3,  17.6914,  35.5545,2,  35.5742,2,    240.3,2, 17.6795,    253.7,2,     1.54,2,     0.01,2,     0.00,2,     0.11,2,    2.561,2,    1.375,2,     22.7,3,     1.53,2,   2034.6,2,    337.6,2,   2334.5,2,     8.03,3, -999.00,     4.2, -999.00,  -999.0
    31DSCG96_2,  P15S,   112,  1,    132,   1039,2,19960218,1404,-32.5022,-170.0022, 5501,   -999,     94.1,  15.8199,  35.4880,2,  35.4889,2,    217.8,2, 15.8051,    240.4,2,     1.91,2,     0.40,2,     0.05,2,     0.22,2,    2.653,6,    1.405,6,     87.1,6,     1.33,2,   2060.1,2,    394.7,2,   2332.7,2,     7.98,2, -999.00,     2.8, -999.00,  -999.0
    31DSCG96_2,  P15S,   112,  1,    131,   1014,2,19960218,1404,-32.5022,-170.0022, 5501,   -999,    141.4,  14.6087,  35.3715,2,  35.3803,2,    215.9,2, 14.5877,    218.1,2,     2.48,2,     5.83,2,     0.01,2,     0.48,2,    2.642,2,    1.393,2,     82.3,2,     1.16,2,   2081.4,2,    461.5,2,   2325.3,2,     7.92,2, -999.00,     4.4, -999.00,  -999.0
    31DSCG96_2,  P15S,   112,  1,    130,   1257,2,19960218,1404,-32.5022,-170.0022, 5501,   -999,    187.5,  13.9073,  35.2776,2,  35.2722,2,    206.6,2, 13.8803,    208.4,2,     3.20,2,     8.45,2,     0.01,2,     0.64,2,    2.521,2,    1.314,2,     85.4,2,     1.12,2,   2093.6,2,    499.1,2,   2313.7,2,     7.89,2, -999.00,     3.6, -999.00,  -999.0
    31DSCG96_2,  P15S,   112,  1,    129,   1256,2,19960218,1404,-32.5022,-170.0022, 5501,   -999,    238.3,  12.8936,  35.1405,2,  35.1390,2,    201.3,2, 12.8609,    202.5,6,     4.03,2,    10.87,2,     0.01,2,     0.79,2,    2.426,2,    1.252,2,     69.5,2,     1.09,2,   2104.7,2,    546.9,2,   2310.0,2,     7.85,2, -999.00,     4.9, -999.00,  -999.0
    31DSCG96_2,  P15S,   112,  1,    128,   1007,2,19960218,1404,-32.5022,-170.0022, 5501,   -999,    291.7,  11.9580,  35.0178,2,  35.0202,2,    209.0,2, 11.9199,    208.3,2,     4.18,2,    11.86,2,     0.01,2,     0.85,2,    2.611,2,    1.338,2,     65.4,2,     1.09,2,   2111.4,2,    586.1,2,   2306.3,2,     7.83,2, -999.00,     3.6, -999.00,  -999.0
    31DSCG96_2,  P15S,   112,  1,    127,   1232,2,19960218,1404,-32.5022,-170.0022, 5501,   -999,    378.3,  10.6105,  34.8364,2,  34.8498,2,    199.4,2, 10.5646,    200.5,2,     5.60,2,    15.74,2,     0.00,2,     1.09,2,    2.217,2,    1.114,2,     45.3,2,     1.11,2,   2121.0,2,    648.0,2,   2300.7,2,     7.79,2, -999.00,     4.3, -999.00,  -999.0
    31DSCG96_2,  P15S,   112,  1,    126,   1025,2,19960218,1404,-32.5022,-170.0022, 5501,   -999,    470.4,   9.0508,  34.6382,2,  34.6383,2,    202.2,2,  8.9989,    202.8,2,     6.98,2,    19.52,2,     0.00,2,     1.33,2,    1.718,2,    0.848,2,     31.2,2,     1.18,2,   2132.1,2,    728.3,2,   2286.5,2,     7.75,2, -999.00,     3.7, -999.00,  -999.0
    31DSCG96_2,  P15S,   112,  1,    125,   1233,2,19960218,1404,-32.5022,-170.0022, 5501,   -999,    573.9,   7.8599,  34.5050,2,  34.5060,2,    214.7,2,  7.8015,    216.0,2,     7.95,2,    21.55,2,     0.00,2,     1.46,2,    1.387,2,    0.685,2,   -999.0,5,     1.20,2,   2135.0,2,    745.0,2,   2285.4,2,     7.74,2, -999.00,  -999.0, -999.00,  -999.0
    31DSCG96_2,  P15S,   112,  1,    124,   1013,2,19960218,1404,-32.5022,-170.0022, 5501,   -999,    676.2,   7.1781,  34.4433,2,  34.4427,2,    220.1,2,  7.1122,    221.1,2,     9.61,2,    23.07,2,     0.00,2,     1.56,2,    1.028,2,    0.518,2,    -21.0,2,     1.29,2,   2138.7,2,    764.1,2,   2283.8,2,     7.73,2, -999.00,     3.2, -999.00,  -999.0
    31DSCG96_2,  P15S,   112,  1,    123,   1250,2,19960218,1404,-32.5022,-170.0022, 5501,   -999,    774.9,   6.6253,  34.4056,2,  34.4067,2,    215.1,2,  6.5526,    217.9,2,    12.86,2,    24.81,2,     0.00,2,     1.67,2,    0.674,2,    0.353,2,    -34.1,2,     1.21,2,   2146.6,2,    804.0,2,   2288.2,2,     7.71,2, -999.00,     3.4, -999.00,  -999.0
    31DSCG96_2,  P15S,   112,  1,    122,   1265,2,19960218,1404,-32.5022,-170.0022, 5501,   -999,    878.2,   6.0334,  34.3825,2,  34.3828,2,    208.1,2,  5.9543,    209.9,2,    18.13,2,    26.82,2,     0.00,2,     1.82,2,    0.379,2,    0.205,2,    -74.0,2,     1.19,2,   2158.4,2,    850.7,2,   2289.0,2,     7.69,2, -999.00,     3.4, -999.00,  -999.0
    31DSCG96_2,  P15S,   112,  1,    121,   1246,2,19960218,1404,-32.5022,-170.0022, 5501,   -999,    973.8,   5.3420,  34.3585,2,  34.3592,2,    199.9,2,  5.2588,    203.2,6,    24.30,2,    28.91,2,     0.00,2,     1.96,2,    0.196,2,    0.107,2,    -99.9,2,     1.07,2,   2172.7,2,    913.5,2,   2296.1,2,     7.66,2, -999.00,     3.4, -999.00,  -999.0
    31DSCG96_2,  P15S,   112,  1,    120,   1015,2,19960218,1404,-32.5022,-170.0022, 5501,   -999,   1072.1,   4.8185,  34.3697,2,  34.3697,2,    191.6,2,  4.7303,    194.1,2,    32.36,2,    30.59,2,     0.00,2,     2.07,2,    0.134,2,    0.071,2,   -114.5,2,     0.93,2,   2187.8,2,    976.5,2,   2302.0,2,     7.64,2, -999.00,     2.9, -999.00,  -999.0
    31DSCG96_2,  P15S,   112,  1,    119,   1247,2,19960218,1404,-32.5022,-170.0022, 5501,   -999,   1175.2,   4.1581,  34.3851,2,  34.3860,2,    184.4,2,  4.0664,    186.6,2,    42.31,2,    32.21,2,     0.00,2,     2.19,2,    0.059,2,    0.033,2,   -133.2,2,     0.86,6,   2206.1,2,   1061.8,2,   2311.7,2,     7.62,3, -999.00,     2.9, -999.00,  -999.0
    31DSCG96_2,  P15S,   112,  1,    118,   1222,2,19960218,1404,-32.5022,-170.0022, 5501,   -999,   1276.3,   3.6506,  34.4220,2,  34.4243,2,    176.9,2,  3.5550,    178.7,2,    53.02,2,    33.28,2,     0.00,2,     2.28,2,    0.030,2,    0.018,2,   -146.1,2,     0.67,2,   2222.3,2,   1083.5,2,   2319.5,2,     7.60,2, -999.00,     2.8, -999.00,  -999.0
    31DSCG96_2,  P15S,   112,  1,    117,   1267,2,19960218,1404,-32.5022,-170.0022, 5501,   -999,   1454.3,   3.0386,  34.5052,2,  34.5086,3,    165.1,2,  2.9343,    166.6,2,    72.78,2,    34.44,2,     0.00,2,     2.37,2,    0.009,2,    0.011,4,   -162.7,2,     0.49,2,   2247.7,2,   1158.6,2,   2344.7,2,     7.58,2, -999.00,     3.4, -999.00,  -999.0
    31DSCG96_2,  P15S,   112,  1,    116,   1211,2,19960218,1404,-32.5022,-170.0022, 5501,   -999,   1694.1,   2.5971,  34.5824,2,  34.5838,2,    155.7,2,  2.4779,    155.5,2,    94.58,2,    35.12,2,     0.00,2,     2.43,2,    0.004,2,    0.004,2,   -199.4,2,     0.38,2,   2272.6,2,   1189.9,2,   2370.1,2,     7.58,2, -999.00,     2.6, -999.00,  -999.0
    31DSCG96_2,  P15S,   112,  1,    115,   1041,2,19960218,1404,-32.5022,-170.0022, 5501,   -999,   1942.0,   2.3647,  34.6165,2,  34.6175,2,    150.6,2,  2.2277,    150.2,2,   107.49,2,    35.58,2,     0.00,2,     2.46,2,   -0.001,2,    0.002,2,   -206.4,2,     0.24,2,   2289.7,2,   1205.6,2,   2383.7,2,     7.57,2, -999.00,     2.5, -999.00,  -999.0
    31DSCG96_2,  P15S,   112,  1,    114,   1017,2,19960218,1404,-32.5022,-170.0022, 5501,   -999,   2189.2,   2.2098,  34.6307,2,  34.6361,3,    148.2,2,  2.0538,    148.0,2,   115.20,2,    35.85,2,     0.00,2,     2.49,2,    0.000,2,    0.001,2,   -212.1,2,     0.23,2,   2300.0,2,   1211.0,2,   2392.6,2,     7.57,2, -999.00,     3.2, -999.00,  -999.0
    31DSCG96_2,  P15S,   112,  1,    113,   1302,2,19960218,1404,-32.5022,-170.0022, 5501,   -999,   2438.3,   2.0695,  34.6467,2,  34.6467,2,    146.3,2,  1.8935,    146.7,6,   121.58,2,    36.00,2,     0.00,2,     2.50,2, -999.000,5, -999.000,5,   -228.8,2,    -0.14,3,   2307.5,2,   1217.6,2,   2403.8,2,     7.57,2, -999.00,     2.4, -999.00,  -999.0
    31DSCG96_2,  P15S,   112,  1,    112,   1217,2,19960218,1404,-32.5022,-170.0022, 5501,   -999,   2689.1,   1.9488,  34.6579,2,  34.6581,2,    147.6,2,  1.7520,    148.4,2,   125.52,2,    36.04,2,     0.00,2,     2.49,2,   -0.001,2,    0.002,2,   -223.5,2,     0.12,2,   2310.6,2,   1223.4,2,   2403.3,2,     7.57,2, -999.00,     2.8, -999.00,  -999.0
    31DSCG96_2,  P15S,   112,  1,    111,   1114,2,19960218,1404,-32.5022,-170.0022, 5501,   -999,   2939.8,   1.8462,  34.6706,2,  34.6712,2,    150.5,2,  1.6276,    152.9,2,   126.17,2,    35.59,2,     0.00,2,     2.47,2, -999.000,5, -999.000,5,   -218.7,2,     0.20,2,   2306.6,2,   1205.8,2,   2405.1,2,     7.58,2, -999.00,     2.9, -999.00,  -999.0
    31DSCG96_2,  P15S,   112,  1,    110,   1301,2,19960218,1404,-32.5022,-170.0022, 5501,   -999,   3189.0,   1.7527,  34.6861,2,  34.6868,2,    161.7,2,  1.5117,    162.2,2,   122.51,2,    34.73,2,     0.00,2,     2.40,2,    0.000,2,    0.000,2,   -200.2,2,     0.14,2,   2297.7,2,   1188.3,2,   2394.8,2,     7.58,2, -999.00,     2.4, -999.00,  -999.0
    31DSCG96_2,  P15S,   112,  1,    109,   1119,2,19960218,1404,-32.5022,-170.0022, 5501,   -999,   3441.1,   1.6453,  34.7106,2,  34.7120,2,    181.8,2,  1.3813,    182.5,2,   110.85,2,    32.83,2,     0.00,2,     2.25,2,    0.003,2,    0.003,2,   -175.9,2,     0.31,2,   2272.7,2,   1114.6,2,   2377.8,2,     7.60,2, -999.00,     2.6, -999.00,  -999.0
    31DSCG96_2,  P15S,   112,  1,    108,   1227,2,19960218,1404,-32.5022,-170.0022, 5501,   -999,   3691.3,   1.4724,  34.7191,2,  34.7221,3,    192.7,2,  1.1869,    192.8,2,   109.57,2,    32.16,2,     0.00,2,     2.20,2,    0.003,2,    0.002,2,   -167.2,2,     0.32,2,   2263.6,2,   1094.3,2,   2368.6,2,     7.61,2, -999.00,     2.9, -999.00,  -999.0
    31DSCG96_2,  P15S,   112,  1,    107,   1263,2,19960218,1404,-32.5022,-170.0022, 5501,   -999,   3940.5,   1.3004,  34.7198,2,  34.7216,2,    199.2,2,  0.9933,    200.1,2,   111.66,2,    31.94,2,     0.00,2,     2.18,2,    0.005,2,    0.004,2,   -162.7,2,     0.37,2,   2259.5,2,   1084.7,2,   2368.8,2,     7.61,2, -999.00,     2.9, -999.00,  -999.0
    31DSCG96_2,  P15S,   112,  1,    106,   1262,2,19960218,1404,-32.5022,-170.0022, 5501,   -999,   4191.0,   1.1487,  34.7155,2,  34.7185,2,    202.6,2,  0.8188,    203.7,2,   115.64,2,    31.98,2,     0.00,2,     2.19,2,    0.007,2,    0.005,2,   -162.6,2,     0.39,2,   2259.2,2,   1081.0,2,   2366.5,2,     7.61,3, -999.00,     2.8, -999.00,  -999.0
    31DSCG96_2,  P15S,   112,  1,    105,   1264,2,19960218,1404,-32.5022,-170.0022, 5501,   -999,   4439.9,   1.0730,  34.7118,2,  34.7125,2,    204.2,2,  0.7178,    205.4,6,   118.17,2,    32.10,2,     0.00,2,     2.20,2,    0.008,2,    0.004,2,   -161.7,2,     0.30,2,   2259.7,2,   -999.0,9,   2369.3,2,     7.61,2, -999.00,     2.9, -999.00,  -999.0
    31DSCG96_2,  P15S,   112,  1,    104,   1003,2,19960218,1404,-32.5022,-170.0022, 5501,   -999,   4693.0,   1.0332,  34.7097,2,  34.7110,2,    205.3,2,  0.6505,    206.3,2,   119.81,2,    32.20,2,     0.00,2,     2.19,2,    0.010,2,    0.009,2,   -155.6,2,     0.36,2,   2261.5,2,   1082.7,6,   2367.5,2,     7.61,2, -999.00,     2.6, -999.00,  -999.0
    31DSCG96_2,  P15S,   112,  1,    103,    999,2,19960218,1404,-32.5022,-170.0022, 5501,   -999,   4936.5,   1.0264,  34.7083,2,  34.7091,2,    206.0,2,  0.6156,    206.4,2,   120.88,2,    32.24,2,     0.00,2,     2.20,2,    0.015,2,    0.006,2,   -160.1,2,     0.34,2,   2261.7,2,   1077.9,2,   2370.8,2,     7.61,2, -999.00,     2.9, -999.00,  -999.0
    31DSCG96_2,  P15S,   112,  1,    102,   1030,2,19960218,1404,-32.5022,-170.0022, 5501,   -999,   5287.0,   1.0513,  34.7074,2,  34.7073,2,    206.5,2,  0.5973,    206.8,2,   121.52,2,    32.26,2,     0.00,2,     2.21,2,    0.021,6,    0.012,6,   -162.7,2,     0.35,2,   2260.9,2,   1086.7,2,   2368.9,2,     7.61,2, -999.00,     2.7, -999.00,  -999.0
    31DSCG96_2,  P15S,   112,  1,    101,   1022,2,19960218,1404,-32.5022,-170.0022, 5501,   -999,   5650.3,   1.0960,  34.7071,2,  34.7078,2,    206.4,2,  0.5949,    210.2,4,   121.75,6,    32.31,6,     0.00,6,     2.21,6,    0.019,2,    0.012,2,   -162.3,2,     0.36,2,   2260.9,2,   1094.8,2,   2371.4,2,     7.61,2, -999.00,     2.8, -999.00,  -999.0