BOTTLE,20220811CCHSIOAMB
EXPOCODE,SECT_ID,STNNBR,CASTNO,SAMPNO,BTLNBR,BTLNBR_FLAG_W,DATE,TIME,LATITUDE,LONGITUDE,DEPTH,CTDRAW,CTDPRS,CTDTMP,CTDSAL,CTDSAL_FLAG_W,SALNTY,SALNTY_FLAG_W,CTDOXY,CTDOXY_FLAG_W,THETA,OXYGEN,OXYGEN_FLAG_W,SILCAT,SILCAT_FLAG_W,NITRAT,NITRAT_FLAG_W,NITRIT,NITRIT_FLAG_W,PHSPHT,PHSPHT_FLAG_W,CFC-11,CFC-11_FLAG_W,CFC-12,CFC-12_FLAG_W,DELC14,DELC14_FLAG_W,DELC13,DELC13_FLAG_W,TCARBN,TCARBN_FLAG_W,PCO2,PCO2_FLAG_W,ALKALI,ALKALI_FLAG_W,PH,PH_FLAG_W,PCO2TMP,C14ERR,PH_TMP,C13ERR
,,,,,,,,,,,,DBAR,DBAR,ITS-90,PSS-78,,PSS-78,,UMOL/KG,,DEG C,UMOL/KG,,UMOL/KG,,UMOL/KG,,UMOL/KG,,UMOL/KG,,PMOL/KG,,PMOL/KG,,/MILLE,,/MILLE,,UMOL/KG,,UATM,,UMOL/KG,,,,DEG C,/MILLE,DEG C,/MILLE
    31DSCG96_1,  P15S,    38,  1,    124,    429,2,19960119,1858,-63.9957,-170.0333, 2783,   -999,      8.2,   0.2633,  33.8634,2,  33.8660,2,    353.1,2,  0.2630,    354.9,2,    25.68,2,    24.12,2,     0.23,2,     1.56,2, -999.000,9, -999.000,9,   -999.0,9,  -999.00,9,   2141.8,2,    723.2,2,   2295.6,2,     7.75,2, -999.00,  -999.0, -999.00,  -999.0
    31DSCG96_1,  P15S,    38,  1,    123,    428,2,19960119,1858,-63.9957,-170.0333, 2783,   -999,     20.7,   0.2641,  33.8633,2,  33.8664,2,    352.8,2,  0.2633,    355.1,2,    25.53,2,    24.08,2,     0.23,2,     2.39,4, -999.000,9, -999.000,9,   -999.0,9,  -999.00,9,   2141.6,2,    732.0,6,   2292.9,2,     7.75,2, -999.00,  -999.0, -999.00,  -999.0
    31DSCG96_1,  P15S,    38,  1,    122,    407,2,19960119,1858,-63.9957,-170.0333, 2783,   -999,     41.4,   0.2575,  33.8619,2,  33.8670,2,    352.8,2,  0.2560,   -999.0,9,    25.62,2,    24.10,2,     0.23,2,     1.44,2, -999.000,9, -999.000,9,   -999.0,9,  -999.00,9,   2142.1,2,   -999.0,9,   2297.3,2,  -999.00,9, -999.00,  -999.0, -999.00,  -999.0
    31DSCG96_1,  P15S,    38,  1,    121,    417,2,19960119,1858,-63.9957,-170.0333, 2783,   -999,     68.2,  -0.9392,  33.9341,2,  33.9406,2,    348.8,2, -0.9410,    339.7,2,    51.57,2,    27.08,2,     0.17,2,     1.96,2, -999.000,9, -999.000,9,   -999.0,9,  -999.00,9,   2171.4,2,    868.3,2,   2298.1,2,     7.68,2, -999.00,  -999.0, -999.00,  -999.0
    31DSCG96_1,  P15S,    38,  1,    120,    405,2,19960119,1858,-63.9957,-170.0333, 2783,   -999,     96.6,  -1.2788,  34.0286,2,  34.0314,2,    319.9,2, -1.2811,    320.1,2,    60.26,2,    29.18,2,     0.15,2,     2.11,2, -999.000,9, -999.000,9,   -999.0,9,  -999.00,9,   2187.7,2,    959.8,2,   2306.3,2,     7.65,2, -999.00,  -999.0, -999.00,  -999.0
    31DSCG96_1,  P15S,    38,  1,    119,    416,2,19960119,1858,-63.9957,-170.0333, 2783,   -999,    122.0,  -0.8832,  34.1661,2,  34.1388,3,    289.6,2, -0.8866,    294.6,2,    65.33,2,    30.91,2,     0.14,2,     2.22,2, -999.000,9, -999.000,9,   -999.0,9,  -999.00,9,   2201.5,2,   1021.4,3,   2308.9,2,     7.62,2, -999.00,  -999.0, -999.00,  -999.0
    31DSCG96_1,  P15S,    38,  1,    118,    420,2,19960119,1858,-63.9957,-170.0333, 2783,   -999,    140.8,   0.0104,  34.3092,2,  34.3260,2,    249.3,2,  0.0054,    239.9,2,    69.57,2,    32.99,2,     0.11,2,     2.30,2, -999.000,9, -999.000,9,   -999.0,9,  -999.00,9,   2224.4,2,   1150.0,2,   2321.1,2,     7.58,2, -999.00,  -999.0, -999.00,  -999.0
    31DSCG96_1,  P15S,    38,  1,    117,    424,2,19960119,1858,-63.9957,-170.0333, 2783,   -999,    196.3,   1.7628,  34.5795,2,  34.5659,2,    186.8,2,  1.7527,    183.5,2,    77.12,2,    34.28,2,     0.02,2,     2.32,2, -999.000,9, -999.000,9,   -999.0,9,  -999.00,9,   2249.3,2,   1250.9,2,   2334.6,2,     7.55,2, -999.00,  -999.0, -999.00,  -999.0
    31DSCG96_1,  P15S,    38,  1,    116,    409,2,19960119,1858,-63.9957,-170.0333, 2783,   -999,    241.4,   1.9855,  34.6326,2,  34.6313,2,    171.7,2,  1.9725,    173.9,2,    79.92,2,    33.99,2,     0.01,2,     2.33,2, -999.000,9, -999.000,9,   -999.0,9,  -999.00,9,   2252.0,2,   1230.6,2,   2341.1,2,     7.56,2, -999.00,  -999.0, -999.00,  -999.0
    31DSCG96_1,  P15S,    38,  1,    115,    413,2,19960119,1858,-63.9957,-170.0333, 2783,   -999,    289.8,   2.0169,  34.6620,2,  34.6620,2,    173.6,2,  2.0011,    173.9,2,    81.51,2,    33.53,2,     0.00,2,     2.25,2, -999.000,9, -999.000,9,   -999.0,9,  -999.00,9,   2252.2,2,   1209.1,2,   2342.7,2,     7.56,2, -999.00,  -999.0, -999.00,  -999.0
    31DSCG96_1,  P15S,    38,  1,    114,    419,2,19960119,1858,-63.9957,-170.0333, 2783,   -999,    373.9,   1.9763,  34.6856,2,  34.6872,2,    177.1,2,  1.9557,    176.7,2,    82.93,2,    32.99,2,     0.00,2,     2.21,2, -999.000,9, -999.000,9,   -999.0,9,  -999.00,9,   2251.6,2,   1183.9,2,   2346.2,2,     7.57,2, -999.00,  -999.0, -999.00,  -999.0
    31DSCG96_1,  P15S,    38,  1,    113,    434,2,19960119,1858,-63.9957,-170.0333, 2783,   -999,    472.7,   1.9288,  34.7072,2,-999.0000,9,    180.4,2,  1.9025,    180.8,2,    84.58,2,    32.34,2,     0.00,2,     2.17,2, -999.000,9, -999.000,9,   -999.0,9,  -999.00,9,   2249.0,2,   1147.9,2,   2347.0,2,     7.58,2, -999.00,  -999.0, -999.00,  -999.0
    31DSCG96_1,  P15S,    38,  1,    112,    404,2,19960119,1858,-63.9957,-170.0333, 2783,   -999,    568.3,   1.8930,  34.7223,2,  34.7249,2,    185.3,2,  1.8612,    185.2,2,    86.10,2,    31.74,2,     0.00,2,     2.39,4, -999.000,9, -999.000,9,   -999.0,9,  -999.00,9,   2251.4,2,   1134.1,2,   2347.0,2,     7.59,2, -999.00,  -999.0, -999.00,  -999.0
    31DSCG96_1,  P15S,    38,  1,    111,    427,2,19960119,1858,-63.9957,-170.0333, 2783,   -999,    676.3,   1.8316,  34.7285,2,  34.7287,2,    188.6,2,  1.7935,    187.7,2,    87.69,2,    31.53,2,     0.00,2,     2.12,2, -999.000,9, -999.000,9,   -999.0,9,  -999.00,9,   2250.4,2,   1118.0,2,   2353.4,2,     7.60,2, -999.00,  -999.0, -999.00,  -999.0
    31DSCG96_1,  P15S,    38,  1,    110,    401,2,19960119,1858,-63.9957,-170.0333, 2783,   -999,    773.5,   1.7870,  34.7356,2,  34.7382,2,    190.2,2,  1.7430,    190.3,2,    89.63,2,    31.24,2,     0.00,2,     2.09,2, -999.000,9, -999.000,9,   -999.0,9,  -999.00,9,   2250.2,2,   1114.5,2,   2350.0,2,     7.60,2, -999.00,  -999.0, -999.00,  -999.0
    31DSCG96_1,  P15S,    38,  1,    109,    435,2,19960119,1858,-63.9957,-170.0333, 2783,   -999,    878.1,   1.6983,  34.7387,2,  34.7386,2,    192.5,2,  1.6482,    193.0,2,    91.97,6,    31.11,6,     0.00,6,     2.09,6, -999.000,9, -999.000,9,   -999.0,9,  -999.00,9,   2248.7,2,   1102.7,2,   -999.0,9,     7.61,2, -999.00,  -999.0, -999.00,  -999.0
    31DSCG96_1,  P15S,    38,  1,    108,    440,2,19960119,1858,-63.9957,-170.0333, 2783,   -999,    978.2,   1.6183,  34.7389,2,-999.0000,9,    194.8,2,  1.5623,    194.1,2,    94.31,6,    31.14,6,     0.00,6,     2.15,4, -999.000,9, -999.000,9,   -999.0,9,  -999.00,9,   2249.5,2,   1069.7,2,   2351.0,2,     7.61,2, -999.00,  -999.0, -999.00,  -999.0
    31DSCG96_1,  P15S,    38,  1,    107,    436,2,19960119,1858,-63.9957,-170.0333, 2783,   -999,   1073.3,   1.5425,  34.7380,2,  34.7425,3,    195.2,2,  1.4809,    195.7,2,    96.27,6,    31.18,6,     0.00,6,     2.10,6, -999.000,9, -999.000,9,   -999.0,9,  -999.00,9,   2250.4,2,   1069.3,2,   2356.7,2,     7.61,2, -999.00,  -999.0, -999.00,  -999.0
    31DSCG96_1,  P15S,    38,  1,    106,    441,2,19960119,1858,-63.9957,-170.0333, 2783,   -999,   1177.3,   1.4510,  34.7360,2,  34.7371,2,    196.6,2,  1.3832,    197.1,2,    98.68,6,    31.23,6,     0.00,6,     2.10,6, -999.000,9, -999.000,9,   -999.0,9,  -999.00,9,   2251.0,2,   1075.2,2,   2354.1,2,     7.61,2, -999.00,  -999.0, -999.00,  -999.0
    31DSCG96_1,  P15S,    38,  1,    105,    423,2,19960119,1858,-63.9957,-170.0333, 2783,   -999,   1346.4,   1.3115,  34.7317,2,-999.0000,9,    198.6,2,  1.2336,    199.1,2,  -999.00,9,  -999.00,9,  -999.00,9,  -999.00,9, -999.000,9, -999.000,9,   -999.0,9,  -999.00,9,   2252.6,2,   1079.1,2,   2359.6,2,     7.61,2, -999.00,  -999.0, -999.00,  -999.0
    31DSCG96_1,  P15S,    38,  1,    104,    433,2,19960119,1858,-63.9957,-170.0333, 2783,   -999,   1689.4,   1.0672,  34.7218,2,  34.7228,2,    200.9,2,  0.9680,    202.4,2,   110.14,6,    31.77,6,     0.00,6,     2.16,4, -999.000,9, -999.000,9,   -999.0,9,  -999.00,9,   2255.7,2,   1060.5,2,   -999.0,9,     7.61,2, -999.00,  -999.0, -999.00,  -999.0
    31DSCG96_1,  P15S,    38,  1,    103,    439,2,19960119,1858,-63.9957,-170.0333, 2783,   -999,   2099.4,   0.7927,  34.7098,2,  34.7110,2,    205.8,2,  0.6669,    208.0,2,   119.21,6,    32.17,6,     0.00,6,     2.15,3, -999.000,9, -999.000,9,   -999.0,9,  -999.00,9,   2258.1,2,   1094.7,2,   2362.2,2,     7.61,2, -999.00,  -999.0, -999.00,  -999.0
    31DSCG96_1,  P15S,    38,  1,    102,    414,2,19960119,1858,-63.9957,-170.0333, 2783,   -999,   2496.9,   0.6984,  34.7055,2,  34.7072,2,    206.8,2,  0.5426,    212.4,3,   126.37,6,    32.40,6,     0.00,6,     2.19,4, -999.000,9, -999.000,9,   -999.0,9,  -999.00,9,   2260.4,2,   1104.6,2,   -999.0,9,     7.60,2, -999.00,  -999.0, -999.00,  -999.0
    31DSCG96_1,  P15S,    38,  1,    101,    406,2,19960119,1858,-63.9957,-170.0333, 2783,   -999,   2918.1,   0.7321,  34.7056,2,  34.7068,2,    207.6,2,  0.5395,    221.6,3,   126.37,6,    32.20,6,     0.00,6,     2.20,6, -999.000,9, -999.000,9,   -124.9,3,  -999.00,9,   2259.5,2,   1121.2,2,   2362.7,2,     7.60,2, -999.00,     3.7, -999.00,  -999.0
    31DSCG96_1,  P15S,    39,  1,    124,    429,2,19960120,0057,-63.5015,-170.0050, 2805,   -999,      8.0,   0.5317,  33.7964,2,  33.7988,2,    356.9,2,  0.5314,    356.2,2,    15.63,2,    22.49,2,     0.25,2,     1.26,2,    6.692,6,    3.181,6,   -999.0,9,  -999.00,9,   -999.0,9,   -999.0,9,   -999.0,9,     7.77,2, -999.00,  -999.0, -999.00,  -999.0
    31DSCG96_1,  P15S,    39,  1,    123,    428,2,19960120,0057,-63.5015,-170.0050, 2805,   -999,     29.7,   0.5395,  33.7966,2,  33.7984,2,    355.6,2,  0.5384,    356.4,2,    15.57,2,    22.47,2,     0.25,2,     1.26,2,    6.682,2,    3.206,2,   -999.0,9,  -999.00,9,   -999.0,9,   -999.0,9,   -999.0,9,     7.78,2, -999.00,  -999.0, -999.00,  -999.0
    31DSCG96_1,  P15S,    39,  1,    122,    407,2,19960120,0057,-63.5015,-170.0050, 2805,   -999,     54.0,   0.1761,  33.7953,2,  33.7980,2,    356.0,2,  0.1742,    354.3,2,    18.77,2,    23.07,2,     0.24,2,     1.38,2,    6.652,2,    3.171,2,   -999.0,9,  -999.00,9,   -999.0,9,   -999.0,9,   -999.0,9,     7.77,2, -999.00,  -999.0, -999.00,  -999.0
    31DSCG96_1,  P15S,    39,  1,    121,    417,2,19960120,0057,-63.5015,-170.0050, 2805,   -999,     79.0,  -0.8646,  33.8930,2,  33.8885,2,    331.6,2, -0.8667,    337.4,2,    44.30,2,    27.10,2,     0.18,2,     1.99,2,    6.328,6,    3.027,6,   -999.0,9,  -999.00,9,   -999.0,9,   -999.0,9,   -999.0,9,     7.69,2, -999.00,  -999.0, -999.00,  -999.0
    31DSCG96_1,  P15S,    39,  1,    120,    405,2,19960120,0057,-63.5015,-170.0050, 2805,   -999,    100.1,  -0.7550,  34.0543,2,  34.0487,2,    305.2,2, -0.7578,    306.3,2,    55.87,2,    30.48,2,     0.15,2,     2.15,2,    5.249,2,    2.537,2,   -999.0,9,  -999.00,9,   -999.0,9,   -999.0,9,   -999.0,9,     7.64,2, -999.00,  -999.0, -999.00,  -999.0
    31DSCG96_1,  P15S,    39,  1,    119,    416,2,19960120,0057,-63.5015,-170.0050, 2805,   -999,    130.0,   0.4541,  34.2512,2,  34.2528,2,    282.8,2,  0.4490,    251.0,2,    60.59,2,    33.10,2,     0.14,2,     2.28,2,    3.470,2,    1.659,2,   -999.0,9,  -999.00,9,   -999.0,9,   -999.0,9,   -999.0,9,     7.59,2, -999.00,  -999.0, -999.00,  -999.0
    31DSCG96_1,  P15S,    39,  1,    118,    420,2,19960120,0057,-63.5015,-170.0050, 2805,   -999,    164.9,   1.1665,  34.3797,2,  34.3786,2,    199.6,2,  1.1590,    215.1,2,    66.42,2,    34.22,2,     0.07,2,     2.34,2,    2.254,2,    1.084,2,   -999.0,9,  -999.00,9,   -999.0,9,   -999.0,9,   -999.0,9,     7.56,2, -999.00,  -999.0, -999.00,  -999.0
    31DSCG96_1,  P15S,    39,  1,    117,    424,2,19960120,0057,-63.5015,-170.0050, 2805,   -999,    216.2,   1.9352,  34.5142,2,  34.5093,2,    182.2,2,  1.9238,    182.4,2,    71.95,2,    34.92,2,     0.02,2,     2.41,2,    1.042,2,    0.490,2,   -999.0,9,  -999.00,9,   -999.0,9,   -999.0,9,   -999.0,9,     7.55,2, -999.00,  -999.0, -999.00,  -999.0
    31DSCG96_1,  P15S,    39,  1,    116,    409,2,19960120,0057,-63.5015,-170.0050, 2805,   -999,    262.5,   2.1430,  34.5794,2,  34.5837,2,    171.2,2,  2.1285,    172.3,2,    75.78,2,    34.45,2,     0.01,2,     2.34,2,    0.498,2,    0.262,2,   -999.0,9,  -999.00,9,   -999.0,9,   -999.0,9,   -999.0,9,     7.55,2, -999.00,  -999.0, -999.00,  -999.0
    31DSCG96_1,  P15S,    39,  1,    115,    413,2,19960120,0057,-63.5015,-170.0050, 2805,   -999,    324.1,   2.1815,  34.6175,2,  34.6177,2,    170.7,2,  2.1634,    172.1,2,    77.52,2,    34.01,2,     0.01,2,     2.31,2,    0.373,2,    0.176,2,   -999.0,9,  -999.00,9,   -999.0,9,   -999.0,9,   -999.0,9,     7.56,2, -999.00,  -999.0, -999.00,  -999.0
    31DSCG96_1,  P15S,    39,  1,    114,    419,2,19960120,0057,-63.5015,-170.0050, 2805,   -999,    425.6,   2.1315,  34.6600,2,  34.6596,2,    173.9,2,  2.1074,    175.2,2,    80.14,2,    33.27,2,     0.01,2,     2.24,2,    0.264,2,    0.123,2,   -999.0,9,  -999.00,9,   -999.0,9,   -999.0,9,   -999.0,9,     7.57,2, -999.00,  -999.0, -999.00,  -999.0
    31DSCG96_1,  P15S,    39,  1,    113,    434,2,19960120,0057,-63.5015,-170.0050, 2805,   -999,    527.7,   2.0761,  34.6945,2,  34.6944,2,    179.3,2,  2.0460,    179.4,2,    82.34,2,    32.40,2,     0.01,2,     2.19,2,    0.167,2,    0.082,2,   -999.0,9,  -999.00,9,   -999.0,9,   -999.0,9,   -999.0,9,     7.58,3, -999.00,  -999.0, -999.00,  -999.0
    31DSCG96_1,  P15S,    39,  1,    112,    404,2,19960120,0057,-63.5015,-170.0050, 2805,   -999,    630.0,   2.0284,  34.7119,2,  34.7130,2,    182.8,2,  1.9921,    183.7,2,    83.79,2,    31.86,2,     0.01,2,     2.15,2,    0.132,2,    0.070,2,   -999.0,9,  -999.00,9,   -999.0,9,   -999.0,9,   -999.0,9,     7.59,2, -999.00,  -999.0, -999.00,  -999.0
    31DSCG96_1,  P15S,    39,  1,    111,    427,2,19960120,0057,-63.5015,-170.0050, 2805,   -999,    725.3,   1.9675,  34.7229,2,  34.7258,2,    185.4,2,  1.9255,    185.9,2,    85.38,2,    31.51,2,     0.01,2,     2.13,2,    0.115,2,    0.054,2,   -999.0,9,  -999.00,9,   -999.0,9,   -999.0,9,   -999.0,9,     7.60,2, -999.00,  -999.0, -999.00,  -999.0
    31DSCG96_1,  P15S,    39,  1,    110,    401,2,19960120,0057,-63.5015,-170.0050, 2805,   -999,    827.0,   1.9091,  34.7297,2,  34.7303,2,    187.4,2,  1.8609,    188.1,2,    86.98,2,    31.39,2,     0.01,2,     2.12,2,    0.104,2,    0.059,2,   -999.0,9,  -999.00,9,   -999.0,9,   -999.0,9,   -999.0,9,     7.60,2, -999.00,  -999.0, -999.00,  -999.0
    31DSCG96_1,  P15S,    39,  1,    109,    435,3,19960120,0057,-63.5015,-170.0050, 2805,   -999,    919.5,   1.8269,  34.7346,2,  34.7346,2,    188.8,2,  1.7732,    189.6,2,    88.85,2,    31.21,2,     0.01,2,     2.10,2, -999.000,5, -999.000,5,   -999.0,9,  -999.00,9,   -999.0,9,   -999.0,9,   -999.0,9,     7.60,2, -999.00,  -999.0, -999.00,  -999.0
    31DSCG96_1,  P15S,    39,  1,    108,    440,2,19960120,0057,-63.5015,-170.0050, 2805,   -999,   1021.6,   1.7497,  34.7375,2,  34.7386,2,    191.9,2,  1.6898,    192.1,2,    90.96,2,    31.11,2,     0.01,2,     2.10,2,    0.095,2,    0.050,2,   -999.0,9,  -999.00,9,   -999.0,9,   -999.0,9,   -999.0,9,     7.61,2, -999.00,  -999.0, -999.00,  -999.0
    31DSCG96_1,  P15S,    39,  1,    107,    436,2,19960120,0057,-63.5015,-170.0050, 2805,   -999,   1124.8,   1.6639,  34.7393,2,  34.7397,2,    192.9,2,  1.5978,    194.8,2,    93.34,2,    31.11,2,     0.00,2,     2.09,2,    0.081,2,    0.048,2,   -999.0,9,  -999.00,9,   -999.0,9,   -999.0,9,   -999.0,9,     7.61,2, -999.00,  -999.0, -999.00,  -999.0
    31DSCG96_1,  P15S,    39,  1,    106,    441,2,19960120,0057,-63.5015,-170.0050, 2805,   -999,   1244.9,   1.5510,  34.7379,2,  34.7392,2,    195.2,2,  1.4777,    195.7,2,    96.59,2,    31.02,2,     0.01,2,     2.09,2,    0.091,2,    0.043,2,   -999.0,9,  -999.00,9,   -999.0,9,   -999.0,9,   -999.0,9,     7.61,2, -999.00,  -999.0, -999.00,  -999.0
    31DSCG96_1,  P15S,    39,  1,    105,    423,2,19960120,0057,-63.5015,-170.0050, 2805,   -999,   1507.0,   1.3625,  34.7336,2,  34.7337,2,    197.8,2,  1.2728,    199.0,2,   102.16,6,    31.32,6,     0.01,2,     2.12,6,    0.084,2,    0.041,2,   -999.0,9,  -999.00,9,   -999.0,9,   -999.0,9,   -999.0,9,     7.61,2, -999.00,  -999.0, -999.00,  -999.0
    31DSCG96_1,  P15S,    39,  1,    104,    433,2,19960120,0057,-63.5015,-170.0050, 2805,   -999,   1897.4,   1.0308,  34.7202,2,  34.7207,2,    202.2,2,  0.9167,    203.5,2,   112.09,6,    31.81,6,     0.00,2,     2.14,6, -999.000,5, -999.000,5,   -999.0,9,  -999.00,9,   -999.0,9,   -999.0,9,   -999.0,9,     7.61,2, -999.00,  -999.0, -999.00,  -999.0
    31DSCG96_1,  P15S,    39,  1,    103,    439,2,19960120,0057,-63.5015,-170.0050, 2805,   -999,   2301.0,   0.7664,  34.7081,2,  34.7201,4,    206.0,2,  0.6253,    207.2,2,   121.70,6,    32.18,6,     0.00,2,     2.17,6,    0.120,2,    0.056,2,   -999.0,9,  -999.00,9,   -999.0,9,   -999.0,9,   -999.0,9,     7.60,3, -999.00,  -999.0, -999.00,  -999.0
    31DSCG96_1,  P15S,    39,  1,    102,    414,2,19960120,0057,-63.5015,-170.0050, 2805,   -999,   2699.7,   0.7152,  34.7059,2,  34.7053,2,    207.5,2,  0.5420,    207.9,2,   127.17,6,    32.37,6,     0.00,2,     2.18,6,    0.122,2,    0.066,2,   -999.0,9,  -999.00,9,   -999.0,9,   -999.0,9,   -999.0,9,     7.60,2, -999.00,  -999.0, -999.00,  -999.0
    31DSCG96_1,  P15S,    39,  1,    101,    406,2,19960120,0057,-63.5015,-170.0050, 2805,   -999,   2838.8,   0.7280,  34.7052,2,  34.7054,2,    207.0,2,  0.5424,    208.0,2,   127.05,6,    32.31,6,     0.00,6,     2.16,3,    0.128,6,    0.061,6,   -999.0,9,  -999.00,9,   -999.0,9,   -999.0,9,   -999.0,9,     7.60,2, -999.00,  -999.0, -999.00,  -999.0