BOTTLE,20220811CCHSIOAMB
EXPOCODE,SECT_ID,STNNBR,CASTNO,SAMPNO,BTLNBR,BTLNBR_FLAG_W,DATE,TIME,LATITUDE,LONGITUDE,DEPTH,CTDRAW,CTDPRS,CTDTMP,CTDSAL,CTDSAL_FLAG_W,SALNTY,SALNTY_FLAG_W,CTDOXY,CTDOXY_FLAG_W,THETA,OXYGEN,OXYGEN_FLAG_W,SILCAT,SILCAT_FLAG_W,NITRAT,NITRAT_FLAG_W,NITRIT,NITRIT_FLAG_W,PHSPHT,PHSPHT_FLAG_W,CFC-11,CFC-11_FLAG_W,CFC-12,CFC-12_FLAG_W,DELC14,DELC14_FLAG_W,DELC13,DELC13_FLAG_W,TCARBN,TCARBN_FLAG_W,PCO2,PCO2_FLAG_W,ALKALI,ALKALI_FLAG_W,PH,PH_FLAG_W,PCO2TMP,C14ERR,PH_TMP,C13ERR
,,,,,,,,,,,,DBAR,DBAR,ITS-90,PSS-78,,PSS-78,,UMOL/KG,,DEG C,UMOL/KG,,UMOL/KG,,UMOL/KG,,UMOL/KG,,UMOL/KG,,PMOL/KG,,PMOL/KG,,/MILLE,,/MILLE,,UMOL/KG,,UATM,,UMOL/KG,,,,DEG C,/MILLE,DEG C,/MILLE
    31DSCG96_2,  P15S,   144,  1,    136,   1245,2,19960227,0746,-16.5043,-169.9980, 5109,   -999,      5.5,  29.4881,  34.6909,2,  34.6911,2,   -999.0,9, 29.4867,    195.2,2,     1.40,2,     0.00,2,     0.00,2,     0.08,2,    1.567,2,    0.886,2,     47.1,2,  -999.00,9,   1913.0,2,    255.1,3,   2281.0,2,     8.15,2, -999.00,     5.5, -999.00,  -999.0
    31DSCG96_2,  P15S,   144,  1,    135,   1113,2,19960227,0746,-16.5043,-169.9980, 5109,   -999,     18.9,  29.3705,  34.7448,2,  34.7327,2,   -999.0,9, 29.3659,    196.4,2,     1.52,2,     0.00,2,     0.00,2,     0.09,2,    1.612,2,    0.914,2,   -999.0,9,  -999.00,9,   1915.3,2,    241.9,2,   2283.5,2,     8.15,2, -999.00,  -999.0, -999.00,  -999.0
    31DSCG96_2,  P15S,   144,  1,    134,   1267,2,19960227,0746,-16.5043,-169.9980, 5109,   -999,     44.6,  28.2459,  35.2467,2,  35.2465,2,   -999.0,9, 28.2354,    206.7,2,     1.43,2,     0.00,2,     0.00,2,     0.10,2,    1.689,2,    0.966,2,   -999.0,9,  -999.00,9,   1942.2,2,    241.9,6,   2318.1,2,     8.15,2, -999.00,  -999.0, -999.00,  -999.0
    31DSCG96_2,  P15S,   144,  1,    133,   1221,3,19960227,0746,-16.5043,-169.9980, 5109,   -999,     69.8,  26.3194,  35.4428,2,  35.4433,2,   -999.0,9, 26.3037,    211.0,2,     1.36,2,     0.00,2,     0.00,2,     0.09,2, -999.000,5, -999.000,5,   -999.0,9,  -999.00,9,   -999.0,9,   -999.0,9,   -999.0,9,  -999.00,9, -999.00,  -999.0, -999.00,  -999.0
    31DSCG96_2,  P15S,   144,  1,    132,   1039,2,19960227,0746,-16.5043,-169.9980, 5109,   -999,     93.7,  24.8688,  35.6962,2,  35.6932,2,   -999.0,9, 24.8485,    200.0,2,     1.45,2,     0.00,2,     0.00,2,     0.14,2,    1.877,2,    1.044,2,   -999.0,9,  -999.00,9,   1995.8,2,    275.7,2,   2345.2,2,     8.10,2, -999.00,  -999.0, -999.00,  -999.0
    31DSCG96_2,  P15S,   144,  1,    131,   1014,2,19960227,0746,-16.5043,-169.9980, 5109,   -999,    116.1,  23.6155,  35.7184,2,  35.7190,2,   -999.0,9, 23.5913,    195.6,2,     1.33,2,     0.00,2,     0.12,2,     0.16,2,    1.947,2,    1.077,2,   -999.0,9,  -999.00,9,   2008.2,2,    298.5,2,   2346.1,2,     8.08,2, -999.00,  -999.0, -999.00,  -999.0
    31DSCG96_2,  P15S,   144,  1,    130,   1257,2,19960227,0746,-16.5043,-169.9980, 5109,   -999,    145.2,  22.5622,  35.7578,2,  35.7493,2,   -999.0,9, 22.5328,    189.3,2,     1.34,2,     0.83,2,     0.03,2,     0.20,2,    1.986,2,    1.100,2,   -999.0,9,  -999.00,9,   2022.7,2,    305.9,2,   2346.7,2,     8.06,2, -999.00,  -999.0, -999.00,  -999.0
    31DSCG96_2,  P15S,   144,  1,    129,   1256,2,19960227,0746,-16.5043,-169.9980, 5109,   -999,    191.0,  21.3501,  35.8411,2,  35.8520,2,   -999.0,9, 21.3129,    174.7,2,     1.49,2,     2.54,2,     0.02,2,     0.35,2,    1.978,6,    1.062,6,   -999.0,9,  -999.00,9,   2059.6,2,    350.9,2,   2355.8,2,     8.01,2, -999.00,  -999.0, -999.00,  -999.0
    31DSCG96_2,  P15S,   144,  1,    128,   1007,2,19960227,0746,-16.5043,-169.9980, 5109,   -999,    239.1,  19.4497,  35.6746,2,  35.6745,2,   -999.0,9, 19.4061,    179.2,2,     1.76,2,     3.77,2,     0.01,2,     0.41,2,    1.996,2,    1.064,2,   -999.0,9,  -999.00,9,   2065.1,2,    376.8,2,   2342.6,2,     7.98,2, -999.00,  -999.0, -999.00,  -999.0
    31DSCG96_2,  P15S,   144,  1,    127,   1232,2,19960227,0746,-16.5043,-169.9980, 5109,   -999,    288.8,  17.8762,  35.5184,2,  35.5109,2,   -999.0,9, 17.8265,    185.5,2,     2.07,2,     4.63,2,     0.01,2,     0.44,2,    2.014,2,    1.059,2,   -999.0,9,  -999.00,9,   2069.3,2,    408.2,2,   2332.6,2,     7.96,2, -999.00,  -999.0, -999.00,  -999.0
    31DSCG96_2,  P15S,   144,  1,    126,   1025,2,19960227,0746,-16.5043,-169.9980, 5109,   -999,    374.0,  13.0823,  34.9249,2,  34.9181,2,   -999.0,9, 13.0303,    145.2,2,     8.44,2,    16.05,2,     0.01,2,     1.28,2,    1.065,2,    0.548,2,   -999.0,9,  -999.00,9,   2137.0,2,    675.4,2,   2305.7,2,     7.77,2, -999.00,  -999.0, -999.00,  -999.0
    31DSCG96_2,  P15S,   144,  1,    125,   1119,2,19960227,0746,-16.5043,-169.9980, 5109,   -999,    475.7,   8.8031,  34.5606,2,  34.5617,2,   -999.0,9,  8.7516,    142.2,6,    17.46,2,    25.62,2,     0.00,2,     1.86,2,    0.334,2,    0.173,2,   -999.0,9,  -999.00,9,   2175.9,2,    925.3,2,   2296.4,2,  -999.00,9, -999.00,  -999.0, -999.00,  -999.0
    31DSCG96_2,  P15S,   144,  1,    124,   1244,2,19960227,0746,-16.5043,-169.9980, 5109,   -999,    574.3,   6.4744,  34.4251,2,  34.4238,2,   -999.0,9,  6.4219,    172.1,2,    23.80,2,    28.87,2,     0.00,2,     2.01,2,    0.182,2,    0.095,2,   -999.0,9,  -999.00,9,   -999.0,9,    950.0,2,   2292.2,2,     7.64,2, -999.00,  -999.0, -999.00,  -999.0
    31DSCG96_2,  P15S,   144,  1,    123,   1250,2,19960227,0746,-16.5043,-169.9980, 5109,   -999,    672.5,   5.2710,  34.4137,2,  34.4127,2,   -999.0,9,  5.2152,    165.1,2,    36.91,2,    31.87,2,     0.00,2,     2.21,2,    0.054,2,    0.031,2,   -999.0,9,  -999.00,9,   2205.8,2,   1047.5,2,   2307.1,2,     7.61,2, -999.00,  -999.0, -999.00,  -999.0
    31DSCG96_2,  P15S,   144,  1,    122,   1265,2,19960227,0746,-16.5043,-169.9980, 5109,   -999,    772.9,   4.7547,  34.4494,2,  34.4483,2,   -999.0,9,  4.6931,    154.7,2,    49.70,2,    33.43,2,     0.00,2,     2.32,2,    0.022,2,    0.010,2,   -999.0,9,  -999.00,9,   2226.1,2,   1116.5,2,   2319.8,2,     7.59,2, -999.00,  -999.0, -999.00,  -999.0
    31DSCG96_2,  P15S,   144,  1,    121,   1246,2,19960227,0746,-16.5043,-169.9980, 5109,   -999,    874.6,   4.3244,  34.4757,2,  34.4755,2,   -999.0,9,  4.2569,    148.5,2,    60.17,2,    34.44,2,     0.00,2,     2.40,2,    0.011,2,    0.006,2,   -999.0,9,  -999.00,9,   2240.3,2,   1150.3,2,   2333.5,2,     7.57,2, -999.00,  -999.0, -999.00,  -999.0
    31DSCG96_2,  P15S,   144,  1,    120,   1015,2,19960227,0746,-16.5043,-169.9980, 5109,   -999,    974.6,   4.0330,  34.5027,2,  34.5016,2,   -999.0,9,  3.9592,    141.3,2,    69.31,2,    35.19,2,     0.00,2,     2.46,2,    0.005,2,    0.003,2,   -999.0,9,  -999.00,9,   2254.1,2,   1187.5,2,   2341.3,2,     7.56,2, -999.00,  -999.0, -999.00,  -999.0
    31DSCG96_2,  P15S,   144,  1,    119,   1247,2,19960227,0746,-16.5043,-169.9980, 5109,   -999,   1075.5,   3.6979,  34.5183,2,  34.5183,2,   -999.0,9,  3.6184,    142.2,2,    76.18,2,    35.51,2,     0.00,2,     2.49,2,    0.003,2,    0.002,2,   -999.0,9,  -999.00,9,   2260.9,2,   1206.7,2,   2351.6,2,     7.56,2, -999.00,  -999.0, -999.00,  -999.0
    31DSCG96_2,  P15S,   144,  1,    118,   1299,2,19960227,0746,-16.5043,-169.9980, 5109,   -999,   1176.7,   3.4043,  34.5351,2,  34.5357,2,   -999.0,9,  3.3190,    142.5,2,    82.96,2,    35.71,2,     0.00,2,     2.49,2, -999.000,9, -999.000,9,   -999.0,9,  -999.00,9,   2268.7,2,   1246.5,2,   2356.3,2,     7.56,2, -999.00,  -999.0, -999.00,  -999.0
    31DSCG96_2,  P15S,   144,  1,    117,   1242,2,19960227,0746,-16.5043,-169.9980, 5109,   -999,   1275.0,   3.1337,  34.5442,2,  34.5437,2,   -999.0,9,  3.0430,    146.0,6,    86.88,2,    35.68,2,     0.00,2,     2.49,2,    0.000,2,    0.000,2,   -999.0,9,  -999.00,9,   2271.6,2,   1216.8,2,   2363.0,2,     7.56,2, -999.00,  -999.0, -999.00,  -999.0
    31DSCG96_2,  P15S,   144,  1,    116,   1259,2,19960227,0746,-16.5043,-169.9980, 5109,   -999,   1441.3,   2.8472,  34.5754,2,  34.5756,2,   -999.0,9,  2.7459,    142.5,2,    96.93,2,    36.04,2,     0.00,2,     2.51,2, -999.000,9, -999.000,9,   -999.0,9,  -999.00,9,   2283.0,2,   1234.5,2,   2372.2,2,     7.56,2, -999.00,  -999.0, -999.00,  -999.0
    31DSCG96_2,  P15S,   144,  1,    115,   1041,2,19960227,0746,-16.5043,-169.9980, 5109,   -999,   1690.8,   2.5022,  34.6048,2,  34.6047,2,   -999.0,9,  2.3845,    144.1,2,   107.30,2,    36.07,2,     0.00,2,     2.52,2,    0.000,2,    0.001,2,   -999.0,9,  -999.00,9,   2292.2,2,   1218.8,2,   2386.0,2,     7.56,2, -999.00,  -999.0, -999.00,  -999.0
    31DSCG96_2,  P15S,   144,  1,    114,   1017,2,19960227,0746,-16.5043,-169.9980, 5109,   -999,   1939.2,   2.2669,  34.6251,2,  34.6245,2,   -999.0,9,  2.1316,    145.5,2,   114.08,2,    36.05,2,     0.00,2,     2.51,2, -999.000,9, -999.000,9,   -999.0,9,  -999.00,9,   2298.8,2,   1212.0,2,   2390.7,2,     7.57,2, -999.00,  -999.0, -999.00,  -999.0
    31DSCG96_2,  P15S,   144,  1,    113,   1302,2,19960227,0746,-16.5043,-169.9980, 5109,   -999,   2189.5,   2.0653,  34.6427,2,  34.6409,2,   -999.0,9,  1.9116,    146.8,2,   120.27,2,    36.00,2,     0.00,2,     2.51,2,    0.002,2,    0.000,2,   -999.0,9,  -999.00,9,   2307.8,2,   1209.3,2,   2400.5,2,     7.57,2, -999.00,  -999.0, -999.00,  -999.0
    31DSCG96_2,  P15S,   144,  1,    112,   1217,2,19960227,0746,-16.5043,-169.9980, 5109,   -999,   2439.5,   1.9267,  34.6551,2,  34.6547,2,   -999.0,9,  1.7532,    147.8,2,   125.39,2,    35.99,2,     0.00,2,     2.51,2, -999.000,9, -999.000,9,   -999.0,9,  -999.00,9,   2311.4,2,   1204.6,2,   2403.9,2,     7.57,2, -999.00,  -999.0, -999.00,  -999.0
    31DSCG96_2,  P15S,   144,  1,    111,   1226,2,19960227,0746,-16.5043,-169.9980, 5109,   -999,   2691.9,   1.8104,  34.6652,2,  34.6628,2,   -999.0,9,  1.6161,    150.2,2,   128.56,2,    35.88,2,     0.00,2,     2.50,2,    0.003,2,    0.000,2,   -999.0,9,  -999.00,9,   2312.4,2,   1196.8,2,   2408.4,2,     7.58,2, -999.00,  -999.0, -999.00,  -999.0
    31DSCG96_2,  P15S,   144,  1,    110,   1301,2,19960227,0746,-16.5043,-169.9980, 5109,   -999,   2939.4,   1.7363,  34.6715,2,  34.6704,2,   -999.0,9,  1.5201,    153.4,6,   130.12,2,    35.78,2,     0.00,2,     2.48,2, -999.000,9, -999.000,9,   -999.0,9,  -999.00,9,   2310.8,2,   1180.6,2,   2407.8,2,     7.58,2, -999.00,  -999.0, -999.00,  -999.0
    31DSCG96_2,  P15S,   144,  1,    109,   1031,2,19960227,0746,-16.5043,-169.9980, 5109,   -999,   3189.8,   1.6609,  34.6774,2,  34.6767,2,   -999.0,9,  1.4220,    156.0,2,   131.67,2,    35.54,2,     0.00,2,     2.46,2,    0.001,2,    0.000,2,   -999.0,9,  -999.00,9,   2311.9,2,   1219.4,3,   2409.3,2,     7.58,2, -999.00,  -999.0, -999.00,  -999.0
    31DSCG96_2,  P15S,   144,  1,    108,   1227,2,19960227,0746,-16.5043,-169.9980, 5109,   -999,   3440.9,   1.5980,  34.6820,2,  34.6802,2,   -999.0,9,  1.3353,    159.7,2,   131.88,2,    35.36,2,     0.00,2,     2.46,2,    0.001,2,    0.000,2,   -999.0,9,  -999.00,9,   2308.0,2,   1176.9,2,   2406.8,2,     7.59,2, -999.00,  -999.0, -999.00,  -999.0
    31DSCG96_2,  P15S,   144,  1,    107,   1263,2,19960227,0746,-16.5043,-169.9980, 5109,   -999,   3689.3,   1.5157,  34.6885,2,  34.6874,2,   -999.0,9,  1.2295,    167.6,2,   129.68,2,    34.79,2,     0.00,2,     2.42,2,    0.002,2,    0.001,2,   -999.0,9,  -999.00,9,   2300.9,2,   1148.3,2,   2402.6,2,     7.59,2, -999.00,  -999.0, -999.00,  -999.0
    31DSCG96_2,  P15S,   144,  1,    106,   1262,2,19960227,0746,-16.5043,-169.9980, 5109,   -999,   3940.3,   1.4258,  34.6971,2,  34.6956,2,   -999.0,9,  1.1153,    177.9,2,   125.57,2,    33.97,2,     0.00,2,     2.35,2,   -0.002,2,    0.001,2,   -999.0,9,  -999.00,9,   2288.6,2,   1125.2,2,   2391.5,2,     7.60,2, -999.00,  -999.0, -999.00,  -999.0
    31DSCG96_2,  P15S,   144,  1,    105,   1264,2,19960227,0746,-16.5043,-169.9980, 5109,   -999,   4187.6,   1.3222,  34.7146,2,  34.7132,2,   -999.0,9,  0.9876,    196.1,2,   114.99,2,    32.26,2,     0.00,2,     2.23,2,    0.004,2,    0.002,2,   -999.0,9,  -999.00,9,   2266.2,2,   1083.0,2,   2372.6,2,     7.61,2, -999.00,  -999.0, -999.00,  -999.0
    31DSCG96_2,  P15S,   144,  1,    104,   1003,2,19960227,0746,-16.5043,-169.9980, 5109,   -999,   4439.3,   1.1389,  34.7131,2,  34.7118,2,   -999.0,9,  0.7817,    203.1,6,   117.34,2,    32.05,2,     0.00,2,     2.21,2,    0.002,2,    0.004,2,   -999.0,9,  -999.00,9,   2261.6,2,   1071.2,2,   2366.2,2,     7.61,2, -999.00,  -999.0, -999.00,  -999.0
    31DSCG96_2,  P15S,   144,  1,    103,   1035,2,19960227,0746,-16.5043,-169.9980, 5109,   -999,   4689.6,   1.0434,  34.7099,2,  34.7085,2,   -999.0,9,  0.6608,    206.0,2,   120.01,2,    32.13,2,     0.00,2,     2.22,2,    0.008,2,    0.004,2,   -999.0,9,  -999.00,9,   2261.7,2,   1035.0,3,   2370.0,2,     7.61,2, -999.00,  -999.0, -999.00,  -999.0
    31DSCG96_2,  P15S,   144,  1,    102,   1030,2,19960227,0746,-16.5043,-169.9980, 5109,   -999,   4937.6,   1.0539,  34.7094,2,  34.7083,2,   -999.0,9,  0.6419,    206.1,2,   120.37,2,    32.08,2,     0.00,2,     2.22,2,    0.005,6,    0.003,6,   -999.0,9,  -999.00,9,   2260.7,2,   1065.8,2,   2367.1,2,     7.61,2, -999.00,  -999.0, -999.00,  -999.0
    31DSCG96_2,  P15S,   144,  1,    101,   1022,2,19960227,0746,-16.5043,-169.9980, 5109,   -999,   5207.9,   1.0727,  34.7086,2,  34.7087,2,   -999.0,9,  0.6276,    206.4,2,   120.79,6,    32.14,6,     0.00,6,     2.21,6,    0.010,2,    0.006,2,   -999.0,9,  -999.00,9,   2259.7,2,   1066.4,2,   2370.9,2,     7.61,2, -999.00,  -999.0, -999.00,  -999.0