BOTTLE,20220811CCHSIOAMB
EXPOCODE,SECT_ID,STNNBR,CASTNO,SAMPNO,BTLNBR,BTLNBR_FLAG_W,DATE,TIME,LATITUDE,LONGITUDE,DEPTH,CTDRAW,CTDPRS,CTDTMP,CTDSAL,CTDSAL_FLAG_W,SALNTY,SALNTY_FLAG_W,CTDOXY,CTDOXY_FLAG_W,THETA,OXYGEN,OXYGEN_FLAG_W,SILCAT,SILCAT_FLAG_W,NITRAT,NITRAT_FLAG_W,NITRIT,NITRIT_FLAG_W,PHSPHT,PHSPHT_FLAG_W,CFC-11,CFC-11_FLAG_W,CFC-12,CFC-12_FLAG_W,DELC14,DELC14_FLAG_W,DELC13,DELC13_FLAG_W,TCARBN,TCARBN_FLAG_W,PCO2,PCO2_FLAG_W,ALKALI,ALKALI_FLAG_W,PH,PH_FLAG_W,PCO2TMP,C14ERR,PH_TMP,C13ERR
,,,,,,,,,,,,DBAR,DBAR,ITS-90,PSS-78,,PSS-78,,UMOL/KG,,DEG C,UMOL/KG,,UMOL/KG,,UMOL/KG,,UMOL/KG,,UMOL/KG,,PMOL/KG,,PMOL/KG,,/MILLE,,/MILLE,,UMOL/KG,,UATM,,UMOL/KG,,,,DEG C,/MILLE,DEG C,/MILLE
    31DSCG96_1,  P15S,    63,  1,    140,   -999,2,19960126,2325,-52.0020,-170.1297, 4968,   -999,      0.0,-999.0000,-999.0000,9,-999.0000,5,   -999.0,9,-999.0000,   -999.0,9,  -999.00,9,  -999.00,9,  -999.00,9,  -999.00,9, -999.000,9, -999.000,9,   -999.0,9,  -999.00,9,   2144.5,2,   -999.0,9,   -999.0,9,  -999.00,9, -999.00,  -999.0, -999.00,  -999.0
    31DSCG96_1,  P15S,    63,  1,    124,    429,2,19960126,2325,-52.0020,-170.1297, 4968,   -999,     10.4,   9.9014,  34.4061,2,  34.4059,2,    277.6,2,  9.9002,    286.2,2,     1.31,2,    11.36,2,     0.15,2,     0.83,2,    3.929,2,    2.073,2,   -999.0,9,  -999.00,9,   -999.0,9,    515.9,2,   -999.0,9,     7.87,2, -999.00,  -999.0, -999.00,  -999.0
    31DSCG96_1,  P15S,    63,  1,    123,    428,2,19960126,2325,-52.0020,-170.1297, 4968,   -999,     30.0,   9.7700,  34.4012,2,  34.4014,2,    285.6,2,  9.7667,    287.5,2,     1.31,2,    11.47,2,     0.15,2,     0.85,2,    3.918,2,    2.081,2,   -999.0,9,  -999.00,9,   -999.0,9,   -999.0,9,   -999.0,9,     7.88,2, -999.00,  -999.0, -999.00,  -999.0
    31DSCG96_1,  P15S,    63,  1,    122,    407,2,19960126,2325,-52.0020,-170.1297, 4968,   -999,     67.5,   8.9232,  34.4252,2,  34.3796,3,    286.2,2,  8.9160,    282.8,2,     1.65,2,    13.55,2,     0.24,2,     1.01,2,    4.049,6,    2.130,6,   -999.0,9,  -999.00,9,   -999.0,9,   -999.0,9,   -999.0,9,  -999.00,9, -999.00,  -999.0, -999.00,  -999.0
    31DSCG96_1,  P15S,    63,  1,    121,    417,2,19960126,2325,-52.0020,-170.1297, 4968,   -999,    115.2,   8.0025,  34.4754,2,  34.4744,2,    264.1,2,  7.9910,    258.5,2,     5.31,2,    17.72,2,     0.03,2,     1.23,2,    3.719,2,    1.927,2,   -999.0,9,  -999.00,9,   -999.0,9,   -999.0,9,   -999.0,9,     7.79,2, -999.00,  -999.0, -999.00,  -999.0
    31DSCG96_1,  P15S,    63,  1,    120,    405,2,19960126,2325,-52.0020,-170.1297, 4968,   -999,    161.3,   7.4517,  34.4144,2,  34.4159,2,    265.1,2,  7.4362,    269.0,2,     5.82,2,    18.42,2,     0.07,2,     1.28,2,    3.939,2,    2.040,2,   -999.0,9,  -999.00,9,   -999.0,9,   -999.0,9,   -999.0,9,     7.79,2, -999.00,  -999.0, -999.00,  -999.0
    31DSCG96_1,  P15S,    63,  1,    119,    416,2,19960126,2325,-52.0020,-170.1297, 4968,   -999,    221.7,   7.1555,  34.3921,2,  34.3928,2,    272.1,2,  7.1346,    269.1,2,     6.52,2,    19.34,2,     0.01,2,     1.35,2,    3.864,2,    1.986,2,   -999.0,9,  -999.00,9,   -999.0,9,   -999.0,9,   -999.0,9,  -999.00,9, -999.00,  -999.0, -999.00,  -999.0
    31DSCG96_1,  P15S,    63,  1,    118,    420,2,19960126,2325,-52.0020,-170.1297, 4968,   -999,    324.4,   6.7936,  34.3645,2,  34.3663,2,    276.5,2,  6.7637,    267.9,2,     7.56,2,    20.48,2,     0.00,2,     1.41,2,    3.732,2,    1.931,2,   -999.0,9,  -999.00,9,   -999.0,9,   -999.0,9,   -999.0,9,     7.77,2, -999.00,  -999.0, -999.00,  -999.0
    31DSCG96_1,  P15S,    63,  1,    117,    424,2,19960126,2325,-52.0020,-170.1297, 4968,   -999,    426.8,   6.2934,  34.3126,2,  34.3140,2,    269.1,2,  6.2555,    268.9,2,     8.70,2,    21.60,2,     0.00,2,     1.49,2,    3.752,2,    1.922,2,   -999.0,9,  -999.00,9,   -999.0,9,   -999.0,9,   -999.0,9,     7.76,2, -999.00,  -999.0, -999.00,  -999.0
    31DSCG96_1,  P15S,    63,  1,    116,    409,2,19960126,2325,-52.0020,-170.1297, 4968,   -999,    522.8,   5.5310,  34.2331,2,  34.2345,2,    262.1,2,  5.4874,    274.6,2,    10.02,2,    23.15,2,     0.01,2,     1.59,2,    3.984,2,    2.035,2,   -999.0,9,  -999.00,9,   -999.0,9,   -999.0,9,   -999.0,9,     7.75,2, -999.00,  -999.0, -999.00,  -999.0
    31DSCG96_1,  P15S,    63,  1,    115,    413,2,19960126,2325,-52.0020,-170.1297, 4968,   -999,    625.9,   5.0366,  34.2277,2,  34.2275,2,    239.0,2,  4.9863,    259.9,2,    14.26,2,    25.33,2,     0.01,2,     1.74,2,    3.489,2,    1.761,2,   -999.0,9,  -999.00,9,   -999.0,9,   -999.0,9,   -999.0,9,     7.72,2, -999.00,  -999.0, -999.00,  -999.0
    31DSCG96_1,  P15S,    63,  1,    114,    419,2,19960126,2325,-52.0020,-170.1297, 4968,   -999,    722.0,   4.9654,  34.3081,2,  34.3093,2,    225.4,2,  4.9071,    221.7,2,    23.90,2,    28.49,2,     0.01,2,     1.95,2,    2.069,2,    1.000,2,   -999.0,9,  -999.00,9,   -999.0,9,   -999.0,9,   -999.0,9,     7.66,2, -999.00,  -999.0, -999.00,  -999.0
    31DSCG96_1,  P15S,    63,  1,    113,    434,2,19960126,2325,-52.0020,-170.1297, 4968,   -999,    850.7,   4.3328,  34.3308,2,  34.3335,2,    210.9,2,  4.2674,    210.3,2,    32.95,2,    30.58,2,     0.00,2,     2.09,2,    1.500,2,    0.739,2,   -999.0,9,  -999.00,9,   -999.0,9,   -999.0,9,   -999.0,9,     7.63,2, -999.00,  -999.0, -999.00,  -999.0
    31DSCG96_1,  P15S,    63,  1,    112,    404,2,19960126,2325,-52.0020,-170.1297, 4968,   -999,   1049.3,   3.3212,  34.3627,2,  34.3628,2,    202.3,2,  3.2472,    200.6,2,    47.13,2,    32.94,2,     0.00,2,     2.25,2,    1.184,2,    0.572,2,   -999.0,9,  -999.00,9,   -999.0,9,   -999.0,9,   -999.0,9,     7.60,2, -999.00,  -999.0, -999.00,  -999.0
    31DSCG96_1,  P15S,    63,  1,    111,    427,2,19960126,2325,-52.0020,-170.1297, 4968,   -999,   1248.6,   2.8415,  34.4492,2,  34.4508,2,    183.5,2,  2.7559,    184.8,2,    61.14,2,    34.21,2,     0.00,2,     2.34,2,    0.688,2,    0.342,2,   -999.0,9,  -999.00,9,   -999.0,9,   -999.0,9,   -999.0,9,     7.58,2, -999.00,  -999.0, -999.00,  -999.0
    31DSCG96_1,  P15S,    63,  1,    110,    401,2,19960126,2325,-52.0020,-170.1297, 4968,   -999,   1511.2,   2.5842,  34.5507,2,  34.5516,2,    173.8,2,  2.4803,    175.4,2,    72.84,2,    34.27,2,     0.00,2,     2.34,2,    0.327,2,    0.180,2,   -999.0,9,  -999.00,9,   -999.0,9,   -999.0,9,   -999.0,9,     7.57,2, -999.00,  -999.0, -999.00,  -999.0
    31DSCG96_1,  P15S,    63,  1,    109,    435,2,19960126,2325,-52.0020,-170.1297, 4968,   -999,   1907.0,   2.3271,  34.6636,2,  34.6646,2,    176.3,2,  2.1935,    177.6,2,    80.39,2,    32.95,2,     0.00,2,     2.24,2,    0.130,2,    0.060,2,   -999.0,9,  -999.00,9,   -999.0,9,   -999.0,9,   -999.0,9,     7.58,2, -999.00,  -999.0, -999.00,  -999.0
    31DSCG96_1,  P15S,    63,  1,    108,    440,2,19960126,2325,-52.0020,-170.1297, 4968,   -999,   2295.3,   2.1055,  34.7211,2,  34.7212,2,    185.8,2,  1.9415,    186.8,2,    85.86,2,    31.71,2,     0.00,2,     2.16,2,    0.067,2,    0.042,2,   -999.0,9,  -999.00,9,   -999.0,9,   -999.0,9,   -999.0,9,     7.60,2, -999.00,  -999.0, -999.00,  -999.0
    31DSCG96_1,  P15S,    63,  1,    107,    436,2,19960126,2325,-52.0020,-170.1297, 4968,   -999,   2704.6,   1.8345,  34.7366,2,  34.7375,2,    193.0,2,  1.6381,    193.5,2,    93.56,2,    31.36,2,     0.00,2,     2.13,2,    0.041,2,    0.026,2,   -999.0,9,  -999.00,9,   -999.0,9,   -999.0,9,   -999.0,9,     7.61,2, -999.00,  -999.0, -999.00,  -999.0
    31DSCG96_1,  P15S,    63,  1,    106,    441,2,19960126,2325,-52.0020,-170.1297, 4968,   -999,   3093.4,   1.5330,  34.7333,2,  34.7354,2,    198.5,2,  1.3062,    198.2,2,   102.55,2,    31.56,2,     0.00,2,     2.14,2,    0.031,2,    0.015,2,   -999.0,9,  -999.00,9,   -999.0,9,   -999.0,9,   -999.0,9,     7.61,2, -999.00,  -999.0, -999.00,  -999.0
    31DSCG96_1,  P15S,    63,  1,    105,    423,3,19960126,2325,-52.0020,-170.1297, 4968,   -999,   3495.9,   1.2560,  34.7237,2,  34.7155,3,    203.1,2,  0.9961,    206.4,3,   107.43,3,    31.21,3,     0.00,3,     2.13,3,    0.078,4,    0.043,4,   -999.0,9,  -999.00,9,   -999.0,9,   -999.0,9,   -999.0,9,     7.62,3, -999.00,  -999.0, -999.00,  -999.0
    31DSCG96_1,  P15S,    63,  1,    104,    433,2,19960126,2325,-52.0020,-170.1297, 4968,   -999,   3894.9,   1.0517,  34.7140,2,  34.7169,2,    206.8,2,  0.7563,    206.6,2,   117.11,2,    32.11,2,     0.00,2,     2.19,2,    0.042,2,    0.026,2,   -999.0,9,  -999.00,9,   -999.0,9,   -999.0,9,   -999.0,9,     7.61,2, -999.00,  -999.0, -999.00,  -999.0
    31DSCG96_1,  P15S,    63,  1,    103,    439,2,19960126,2325,-52.0020,-170.1297, 4968,   -999,   4297.0,   0.9286,  34.7074,2,  34.7091,2,    209.1,2,  0.5938,    209.1,2,   121.59,2,    32.32,2,     0.00,2,     2.19,2,    0.052,6,    0.028,6,   -999.0,9,  -999.00,9,   -999.0,9,   -999.0,9,   -999.0,9,  -999.00,9, -999.00,  -999.0, -999.00,  -999.0
    31DSCG96_1,  P15S,    63,  1,    102,    414,2,19960126,2325,-52.0020,-170.1297, 4968,   -999,   4701.5,   0.9044,  34.7046,2,  34.7070,2,    209.9,2,  0.5250,    210.0,2,   123.65,2,    32.39,2,     0.00,2,     2.20,2,    0.070,2,    0.043,2,   -999.0,9,  -999.00,9,   -999.0,9,   -999.0,9,   -999.0,9,     7.61,2, -999.00,  -999.0, -999.00,  -999.0
    31DSCG96_1,  P15S,    63,  1,    101,    406,2,19960126,2325,-52.0020,-170.1297, 4968,   -999,   5065.0,   0.9206,  34.7037,2,  34.7047,2,    210.4,2,  0.4981,    210.6,2,   124.49,6,    32.43,6,     0.00,6,     2.21,6,    0.089,2,    0.054,2,   -999.0,9,  -999.00,9,   -999.0,9,   -999.0,9,   -999.0,9,  -999.00,9, -999.00,  -999.0, -999.00,  -999.0
    31DSCG96_1,  P15S,    64,  1,    124,    429,2,19960127,0606,-51.4993,-170.0040, 4757,   -999,     10.4,  10.3675,  34.2944,2,  34.2959,2,    282.3,2, 10.3663,    284.5,2,     0.90,2,    12.62,2,     0.15,2,     0.92,2, -999.000,9, -999.000,9,   -999.0,9,  -999.00,9,   2074.6,2,    507.6,2,   2285.6,2,     7.88,2, -999.00,  -999.0, -999.00,  -999.0
    31DSCG96_1,  P15S,    64,  1,    123,    428,2,19960127,0606,-51.4993,-170.0040, 4757,   -999,     19.6,  10.3681,  34.2951,2,  34.2953,2,    280.4,2, 10.3658,    284.6,2,     0.90,2,    12.62,2,     0.15,2,     0.92,2, -999.000,9, -999.000,9,   -999.0,9,  -999.00,9,   2073.0,2,    504.3,2,   2283.2,2,     7.88,2, -999.00,  -999.0, -999.00,  -999.0
    31DSCG96_1,  P15S,    64,  1,    122,    407,2,19960127,0606,-51.4993,-170.0040, 4757,   -999,     40.2,  10.2160,  34.2901,2,-999.0000,9,    282.0,2, 10.2114,    286.4,2,     0.90,2,    12.61,2,     0.15,2,     0.94,2, -999.000,9, -999.000,9,   -999.0,9,  -999.00,9,   2073.0,2,    507.7,2,   2284.4,2,     7.88,2, -999.00,  -999.0, -999.00,  -999.0
    31DSCG96_1,  P15S,    64,  1,    121,    417,2,19960127,0606,-51.4993,-170.0040, 4757,   -999,     87.8,   7.1053,  34.2939,2,-999.0000,9,    281.6,2,  7.0971,    287.0,2,     4.58,2,    17.59,2,     0.41,2,     1.34,2, -999.000,9, -999.000,9,   -999.0,9,  -999.00,9,   2109.5,2,    625.4,2,   2280.0,2,     7.80,2, -999.00,  -999.0, -999.00,  -999.0
    31DSCG96_1,  P15S,    64,  1,    120,    405,2,19960127,0606,-51.4993,-170.0040, 4757,   -999,    137.5,   6.6843,  34.3244,2,  34.3281,2,    278.2,2,  6.6720,    279.1,2,     6.65,2,    19.92,2,     0.06,2,     1.46,2, -999.000,9, -999.000,9,   -999.0,9,  -999.00,9,   2118.1,2,    668.2,2,   2284.9,2,     7.78,2, -999.00,  -999.0, -999.00,  -999.0
    31DSCG96_1,  P15S,    64,  1,    119,    416,2,19960127,0606,-51.4993,-170.0040, 4757,   -999,    190.3,   6.5443,  34.3238,2,-999.0000,9,    277.5,2,  6.5273,    281.2,2,     6.65,2,    19.86,2,     0.03,2,     1.46,2, -999.000,9, -999.000,9,   -999.0,9,  -999.00,9,   2115.9,2,    669.9,2,   2282.5,2,     7.78,2, -999.00,  -999.0, -999.00,  -999.0
    31DSCG96_1,  P15S,    64,  1,    118,    420,2,19960127,0606,-51.4993,-170.0040, 4757,   -999,    272.1,   6.1579,  34.2830,2,  34.2832,2,    276.9,2,  6.1344,    282.7,2,     7.38,2,    20.91,2,     0.01,2,     1.52,2, -999.000,9, -999.000,9,   -999.0,9,  -999.00,9,   2118.4,2,    678.4,2,   2286.6,2,     7.77,2, -999.00,  -999.0, -999.00,  -999.0
    31DSCG96_1,  P15S,    64,  1,    117,    424,4,19960127,0606,-51.4993,-170.0040, 4757,   -999,    365.8,   5.6920,  34.2440,2,-999.0000,9,    269.0,2,  5.6614,   -999.0,9,  -999.00,9,  -999.00,9,  -999.00,9,  -999.00,9, -999.000,9, -999.000,9,   -999.0,9,  -999.00,9,   -999.0,9,   -999.0,9,   -999.0,9,  -999.00,9, -999.00,  -999.0, -999.00,  -999.0
    31DSCG96_1,  P15S,    64,  1,    116,    409,4,19960127,0606,-51.4993,-170.0040, 4757,   -999,    478.4,   5.1715,  34.2241,2,  34.2565,3,    262.5,2,  5.1331,    276.7,3,     7.77,3,    20.14,3,     0.07,3,     1.50,3, -999.000,9, -999.000,9,   -999.0,9,  -999.00,9,   2113.0,3,    658.7,3,   2281.9,2,     7.79,3, -999.00,  -999.0, -999.00,  -999.0
    31DSCG96_1,  P15S,    64,  1,    115,    413,2,19960127,0606,-51.4993,-170.0040, 4757,   -999,    583.4,   4.6292,  34.2251,2,-999.0000,9,    234.8,2,  4.5843,    250.9,2,    18.15,2,    27.11,2,     0.01,2,     1.85,2, -999.000,9, -999.000,9,   -999.0,9,  -999.00,9,   2156.3,2,    841.9,2,   2289.0,2,     7.69,2, -999.00,  -999.0, -999.00,  -999.0
    31DSCG96_1,  P15S,    64,  1,    114,    419,2,19960127,0606,-51.4993,-170.0040, 4757,   -999,    673.8,   4.3422,  34.2591,2,-999.0000,9,    216.5,2,  4.2913,    229.7,2,    25.01,2,    29.40,2,     0.00,2,     2.00,2, -999.000,9, -999.000,9,   -999.0,9,  -999.00,9,   2173.3,2,    928.1,2,   2290.7,2,     7.66,2, -999.00,  -999.0, -999.00,  -999.0
    31DSCG96_1,  P15S,    64,  1,    113,    434,2,19960127,0606,-51.4993,-170.0040, 4757,   -999,    777.0,   4.1166,  34.3257,2,-999.0000,9,    212.8,2,  4.0586,    210.4,2,    34.46,2,    31.02,2,     0.00,2,     2.12,2, -999.000,9, -999.000,9,   -999.0,9,  -999.00,9,   2192.4,2,    983.8,2,   2302.1,2,     7.63,2, -999.00,  -999.0, -999.00,  -999.0
    31DSCG96_1,  P15S,    64,  1,    112,    404,2,19960127,0606,-51.4993,-170.0040, 4757,   -999,    951.1,   3.3355,  34.3521,2,  34.3511,2,    198.3,2,  3.2690,    202.3,2,    45.35,2,    32.82,2,     0.00,2,     2.25,2, -999.000,9, -999.000,9,   -999.0,9,  -999.00,9,   2209.1,2,   1075.5,2,   2309.5,2,     7.60,2, -999.00,  -999.0, -999.00,  -999.0
    31DSCG96_1,  P15S,    64,  1,    111,    427,2,19960127,0606,-51.4993,-170.0040, 4757,   -999,   1148.6,   2.8934,  34.4449,2,  34.4467,2,    184.2,2,  2.8151,    184.1,2,    60.61,2,    34.19,2,     0.00,2,     2.34,2, -999.000,9, -999.000,9,   -999.0,9,  -999.00,9,   2231.7,2,   1150.8,2,   2322.2,2,     7.58,2, -999.00,  -999.0, -999.00,  -999.0
    31DSCG96_1,  P15S,    64,  1,    110,    401,2,19960127,0606,-51.4993,-170.0040, 4757,   -999,   1340.6,   2.6503,  34.5241,2,  34.5238,2,    175.5,2,  2.5593,    175.6,2,    70.43,2,    34.40,6,     0.00,6,     2.35,6, -999.000,9, -999.000,9,   -999.0,9,  -999.00,9,   2244.4,2,   1189.1,2,   2335.9,2,     7.57,2, -999.00,  -999.0, -999.00,  -999.0
    31DSCG96_1,  P15S,    64,  1,    109,    435,2,19960127,0606,-51.4993,-170.0040, 4757,   -999,   1709.9,   2.3706,  34.6387,2,  34.6382,2,    173.5,2,  2.2530,    173.7,2,    80.90,6,    33.59,6,     0.00,6,     2.28,6, -999.000,9, -999.000,9,   -999.0,9,  -999.00,9,   2254.0,2,   1179.0,2,   2344.8,2,     7.58,2, -999.00,  -999.0, -999.00,  -999.0
    31DSCG96_1,  P15S,    64,  1,    108,    440,2,19960127,0606,-51.4993,-170.0040, 4757,   -999,   2100.1,   2.1447,  34.7069,2,-999.0000,9,    182.2,2,  1.9972,    183.5,2,    85.58,6,    32.22,6,     0.00,6,     2.19,6, -999.000,9, -999.000,9,   -999.0,9,  -999.00,9,   2250.4,2,   1129.3,2,   2352.7,2,     7.59,2, -999.00,  -999.0, -999.00,  -999.0
    31DSCG96_1,  P15S,    64,  1,    107,    436,2,19960127,0606,-51.4993,-170.0040, 4757,   -999,   2491.3,   1.8883,  34.7337,2,  34.7354,2,    191.3,2,  1.7105,    191.0,2,    91.72,6,    31.51,6,     0.00,6,     2.14,6, -999.000,9, -999.000,9,   -999.0,9,  -999.00,9,   2249.7,2,   1076.7,2,   2356.0,2,     7.61,2, -999.00,  -999.0, -999.00,  -999.0
    31DSCG96_1,  P15S,    64,  1,    106,    441,2,19960127,0606,-51.4993,-170.0040, 4757,   -999,   2897.3,   1.5763,  34.7341,2,-999.0000,9,    197.6,2,  1.3672,    196.7,2,   100.87,6,    31.59,2,     0.00,6,     2.14,6, -999.000,9, -999.000,9,   -999.0,9,  -999.00,9,   2252.3,2,   1072.3,2,   2361.4,2,     7.61,2, -999.00,  -999.0, -999.00,  -999.0
    31DSCG96_1,  P15S,    64,  1,    105,    423,2,19960127,0606,-51.4993,-170.0040, 4757,   -999,   3291.4,   1.2844,  34.7255,2,-999.0000,9,    201.9,2,  1.0442,    201.5,2,  -999.00,9,  -999.00,9,  -999.00,9,  -999.00,9, -999.000,9, -999.000,9,   -999.0,9,  -999.00,9,   2255.8,2,   1080.5,2,   2363.8,2,     7.61,2, -999.00,  -999.0, -999.00,  -999.0
    31DSCG96_1,  P15S,    64,  1,    104,    433,2,19960127,0606,-51.4993,-170.0040, 4757,   -999,   3695.8,   1.0639,  34.7155,2,  34.7167,2,    206.0,2,  0.7888,    205.2,2,   116.15,6,    32.19,2,     0.00,6,     2.18,6, -999.000,9, -999.000,9,   -999.0,9,  -999.00,9,   2257.3,2,   1080.8,2,   2365.7,2,     7.61,2, -999.00,  -999.0, -999.00,  -999.0
    31DSCG96_1,  P15S,    64,  1,    103,    439,2,19960127,0606,-51.4993,-170.0040, 4757,   -999,   4096.5,   0.9339,  34.7085,2,  34.7094,2,    208.9,2,  0.6205,    207.9,2,   120.79,6,    32.42,2,     0.00,6,     2.20,6, -999.000,9, -999.000,9,   -999.0,9,  -999.00,9,   2257.4,2,   1082.8,2,   2365.0,2,     7.61,2, -999.00,  -999.0, -999.00,  -999.0
    31DSCG96_1,  P15S,    64,  1,    102,    414,2,19960127,0606,-51.4993,-170.0040, 4757,   -999,   4497.4,   0.9063,  34.7053,2,-999.0000,9,    209.9,2,  0.5499,    208.8,2,   122.94,6,    32.48,2,     0.00,6,     2.20,6, -999.000,9, -999.000,9,   -999.0,9,  -999.00,9,   2258.1,2,   1090.0,2,   2364.8,2,     7.61,2, -999.00,  -999.0, -999.00,  -999.0
    31DSCG96_1,  P15S,    64,  1,    101,    406,2,19960127,0606,-51.4993,-170.0040, 4757,   -999,   4869.3,   0.9147,  34.7041,2,-999.0000,9,    209.9,2,  0.5155,    209.6,2,   124.00,6,    32.56,6,     0.00,6,     2.21,6, -999.000,9, -999.000,9,   -999.0,9,  -999.00,9,   2259.6,2,   1092.5,2,   2368.0,2,     7.61,2, -999.00,  -999.0, -999.00,  -999.0