BOTTLE,20220811CCHSIOAMB
EXPOCODE,SECT_ID,STNNBR,CASTNO,SAMPNO,BTLNBR,BTLNBR_FLAG_W,DATE,TIME,LATITUDE,LONGITUDE,DEPTH,CTDRAW,CTDPRS,CTDTMP,CTDSAL,CTDSAL_FLAG_W,SALNTY,SALNTY_FLAG_W,CTDOXY,CTDOXY_FLAG_W,THETA,OXYGEN,OXYGEN_FLAG_W,SILCAT,SILCAT_FLAG_W,NITRAT,NITRAT_FLAG_W,NITRIT,NITRIT_FLAG_W,PHSPHT,PHSPHT_FLAG_W,CFC-11,CFC-11_FLAG_W,CFC-12,CFC-12_FLAG_W,DELC14,DELC14_FLAG_W,DELC13,DELC13_FLAG_W,TCARBN,TCARBN_FLAG_W,PCO2,PCO2_FLAG_W,ALKALI,ALKALI_FLAG_W,PH,PH_FLAG_W,PCO2TMP,C14ERR,PH_TMP,C13ERR
,,,,,,,,,,,,DBAR,DBAR,ITS-90,PSS-78,,PSS-78,,UMOL/KG,,DEG C,UMOL/KG,,UMOL/KG,,UMOL/KG,,UMOL/KG,,UMOL/KG,,PMOL/KG,,PMOL/KG,,/MILLE,,/MILLE,,UMOL/KG,,UATM,,UMOL/KG,,,,DEG C,/MILLE,DEG C,/MILLE
    31DSCG96_2,  P15S,   107,  1,    136,   1245,4,19960217,0415,-35.0080,-169.9930, 5226,   -999,      4.7,  20.9845,  35.5328,2,-999.0000,9,    227.0,2, 20.9836,   -999.0,9,  -999.00,9,  -999.00,9,  -999.00,9,  -999.00,9, -999.000,9, -999.000,9,   -999.0,9,  -999.00,9,   -999.0,9,   -999.0,9,   -999.0,9,  -999.00,9, -999.00,  -999.0, -999.00,  -999.0
    31DSCG96_2,  P15S,   107,  1,    135,   1113,2,19960217,0415,-35.0080,-169.9930, 5226,   -999,     18.8,  20.9864,  35.5314,2,  35.5336,2,    222.1,2, 20.9828,    224.3,2,     1.41,2,     0.01,2,     0.00,2,     0.09,2, -999.000,9, -999.000,9,   -999.0,9,  -999.00,9,   2031.1,2,    343.9,2,   2329.9,2,     8.03,2, -999.00,  -999.0, -999.00,  -999.0
    31DSCG96_2,  P15S,   107,  1,    134,   1216,2,19960217,0415,-35.0080,-169.9930, 5226,   -999,     45.0,  19.7703,  35.5342,2,  35.5325,2,    232.6,2, 19.7621,    235.8,2,     1.41,2,     0.01,2,     0.00,2,     0.10,2, -999.000,9, -999.000,9,   -999.0,9,  -999.00,9,   2031.8,2,    330.7,2,   2334.0,2,     8.03,2, -999.00,  -999.0, -999.00,  -999.0
    31DSCG96_2,  P15S,   107,  1,    133,   1221,4,19960217,0415,-35.0080,-169.9930, 5226,   -999,     69.9,  16.8223,  35.4388,2,-999.0000,9,    242.0,2, 16.8109,   -999.0,9,  -999.00,9,  -999.00,9,  -999.00,9,  -999.00,9, -999.000,9, -999.000,9,   -999.0,9,  -999.00,9,   -999.0,9,   -999.0,9,   -999.0,9,  -999.00,9, -999.00,  -999.0, -999.00,  -999.0
    31DSCG96_2,  P15S,   107,  1,    132,   1039,2,19960217,0415,-35.0080,-169.9930, 5226,   -999,     94.8,  14.6982,  35.3785,2,  35.3781,2,    232.7,2, 14.6841,    228.9,2,     2.39,2,     3.49,2,     0.10,2,     0.38,2, -999.000,9, -999.000,9,   -999.0,9,  -999.00,9,   2075.1,2,    441.1,2,   2323.1,2,     7.94,2, -999.00,  -999.0, -999.00,  -999.0
    31DSCG96_2,  P15S,   107,  1,    131,   1014,2,19960217,0415,-35.0080,-169.9930, 5226,   -999,    118.1,  14.2134,  35.3261,2,  35.3259,2,    218.8,2, 14.1962,    219.9,2,     2.70,2,     6.21,2,     0.01,2,     0.51,2, -999.000,9, -999.000,9,   -999.0,9,  -999.00,9,   2083.5,2,    463.9,2,   2321.2,2,     7.91,2, -999.00,  -999.0, -999.00,  -999.0
    31DSCG96_2,  P15S,   107,  1,    130,   1257,2,19960217,0415,-35.0080,-169.9930, 5226,   -999,    143.9,  13.8974,  35.2903,2,  35.2901,2,    223.4,2, 13.8767,    220.6,2,     2.84,2,     6.72,2,     0.01,2,     0.54,2, -999.000,9, -999.000,9,   -999.0,9,  -999.00,9,   2085.1,2,    479.2,2,   2318.9,2,     7.91,2, -999.00,  -999.0, -999.00,  -999.0
    31DSCG96_2,  P15S,   107,  1,    129,   1256,2,19960217,0415,-35.0080,-169.9930, 5226,   -999,    190.4,  13.2557,  35.2068,2,  35.2054,2,    214.7,2, 13.2292,    216.4,2,     3.54,2,     8.72,2,     0.01,2,     0.65,2, -999.000,9, -999.000,9,   -999.0,9,  -999.00,9,   2095.4,2,    508.4,2,   2316.0,2,     7.88,2, -999.00,  -999.0, -999.00,  -999.0
    31DSCG96_2,  P15S,   107,  1,    128,   1007,2,19960217,0415,-35.0080,-169.9930, 5226,   -999,    237.8,  12.2207,  35.0642,2,  35.0644,2,    208.5,2, 12.1892,    206.6,2,     4.66,2,    11.77,2,     0.01,2,     0.84,2, -999.000,9, -999.000,9,   -999.0,9,  -999.00,9,   2108.0,2,    575.3,2,   2308.4,2,     7.84,2, -999.00,  -999.0, -999.00,  -999.0
    31DSCG96_2,  P15S,   107,  1,    127,   1232,2,19960217,0415,-35.0080,-169.9930, 5226,   -999,    289.5,  11.5478,  34.9736,2,  34.9725,2,    217.1,2, 11.5109,    216.6,2,     4.47,2,    12.03,2,     0.00,2,     0.86,2, -999.000,9, -999.000,9,   -999.0,9,  -999.00,9,   2110.9,2,    594.3,2,   2306.1,2,     7.83,2, -999.00,  -999.0, -999.00,  -999.0
    31DSCG96_2,  P15S,   107,  1,    126,   1025,2,19960217,0415,-35.0080,-169.9930, 5226,   -999,    374.2,  10.3310,  34.8069,2,  34.8068,2,    200.1,2, 10.2864,    199.3,2,     6.46,2,    16.83,2,     0.00,2,     1.16,2, -999.000,9, -999.000,9,   -999.0,9,  -999.00,9,   2128.7,2,    671.2,2,   2300.3,2,     7.78,2, -999.00,  -999.0, -999.00,  -999.0
    31DSCG96_2,  P15S,   107,  1,    125,   1233,2,19960217,0415,-35.0080,-169.9930, 5226,   -999,    479.3,   8.8642,  34.6274,2,  34.6287,2,    203.9,2,  8.8120,    202.9,2,     7.95,2,    20.13,2,     0.00,2,     1.36,2, -999.000,9, -999.000,9,   -999.0,9,  -999.00,9,   2136.9,2,    735.6,2,   2292.6,2,     7.74,2, -999.00,  -999.0, -999.00,  -999.0
    31DSCG96_2,  P15S,   107,  1,    124,   1013,2,19960217,0415,-35.0080,-169.9930, 5226,   -999,    575.6,   7.9993,  34.5318,2,  34.5312,2,    211.2,2,  7.9400,    211.6,6,     9.05,2,    21.73,2,     0.00,2,     1.47,2, -999.000,9, -999.000,9,   -999.0,9,  -999.00,9,   2139.3,2,    763.5,2,   2289.2,2,     7.73,2, -999.00,  -999.0, -999.00,  -999.0
    31DSCG96_2,  P15S,   107,  1,    123,   1250,2,19960217,0415,-35.0080,-169.9930, 5226,   -999,    676.4,   7.3230,  34.4692,2,  34.4694,2,    215.3,2,  7.2564,    215.6,2,    10.72,2,    23.11,2,     0.00,2,     1.57,2, -999.000,9, -999.000,9,   -999.0,9,  -999.00,9,   2141.1,2,    773.5,2,   2289.9,2,     7.72,2, -999.00,  -999.0, -999.00,  -999.0
    31DSCG96_2,  P15S,   107,  1,    122,   1265,2,19960217,0415,-35.0080,-169.9930, 5226,   -999,    775.0,   6.7302,  34.4243,2,  34.4229,2,    212.5,2,  6.6569,    214.5,2,    13.39,2,    24.71,2,     0.00,2,     1.67,2, -999.000,9, -999.000,9,   -999.0,9,  -999.00,9,   2148.3,2,    802.8,2,   2288.3,2,     7.71,2, -999.00,  -999.0, -999.00,  -999.0
    31DSCG96_2,  P15S,   107,  1,    121,   1246,2,19960217,0415,-35.0080,-169.9930, 5226,   -999,    875.0,   5.9384,  34.3884,2,  34.3862,2,    207.8,2,  5.8602,    207.0,2,    19.74,2,    27.16,2,     0.00,2,     1.84,2, -999.000,9, -999.000,9,   -999.0,9,  -999.00,9,   2162.8,2,    870.1,2,   2294.6,2,     7.68,2, -999.00,  -999.0, -999.00,  -999.0
    31DSCG96_2,  P15S,   107,  1,    120,   1015,2,19960217,0415,-35.0080,-169.9930, 5226,   -999,    975.9,   5.3419,  34.3771,2,  34.3763,2,    199.5,2,  5.2584,    199.4,2,    26.43,2,    29.04,2,     0.00,2,     1.96,2, -999.000,9, -999.000,9,   -999.0,9,  -999.00,9,   2176.2,2,    935.8,2,   2298.5,2,     7.66,2, -999.00,  -999.0, -999.00,  -999.0
    31DSCG96_2,  P15S,   107,  1,    119,   1247,2,19960217,0415,-35.0080,-169.9930, 5226,   -999,   1073.2,   4.6991,  34.3756,2,  34.3758,2,    193.0,2,  4.6118,    192.6,2,    34.47,2,    30.77,2,     0.00,2,     2.09,2, -999.000,9, -999.000,9,   -999.0,9,  -999.00,9,   2190.5,2,   1002.4,2,   2306.6,2,     7.64,2, -999.00,  -999.0, -999.00,  -999.0
    31DSCG96_2,  P15S,   107,  1,    118,   1222,2,19960217,0415,-35.0080,-169.9930, 5226,   -999,   1171.3,   4.1727,  34.3929,2,  34.3946,2,    185.0,2,  4.0813,    186.3,2,    43.06,2,    32.06,2,     0.00,2,     2.19,2, -999.000,9, -999.000,9,   -999.0,9,  -999.00,9,   2205.3,2,   1041.2,2,   2312.9,2,     7.62,2, -999.00,  -999.0, -999.00,  -999.0
    31DSCG96_2,  P15S,   107,  1,    117,   1267,2,19960217,0415,-35.0080,-169.9930, 5226,   -999,   1277.1,   3.7197,  34.4435,2,  34.4423,2,    179.2,2,  3.6233,    176.8,2,    55.80,2,    33.14,2,     0.00,2,     2.27,2, -999.000,9, -999.000,9,   -999.0,9,  -999.00,9,   2222.8,2,   1095.6,2,   2328.1,2,     7.60,2, -999.00,  -999.0, -999.00,  -999.0
    31DSCG96_2,  P15S,   107,  1,    116,   1211,2,19960217,0415,-35.0080,-169.9930, 5226,   -999,   1451.3,   3.1567,  34.4964,2,  34.4958,2,    168.2,2,  3.0513,    167.9,2,    70.38,2,    34.22,2,     0.00,2,     2.35,2, -999.000,9, -999.000,9,   -999.0,9,  -999.00,9,   2246.6,2,   1148.3,2,   2342.1,2,     7.58,2, -999.00,  -999.0, -999.00,  -999.0
    31DSCG96_2,  P15S,   107,  1,    115,   1041,2,19960217,0415,-35.0080,-169.9930, 5226,   -999,   1692.9,   2.7193,  34.5697,2,  34.5697,2,    157.2,2,  2.5988,    157.8,2,    90.31,2,    34.93,2,     0.00,2,     2.41,2, -999.000,9, -999.000,9,   -999.0,9,  -999.00,9,   2272.7,2,   1178.4,2,   2366.7,2,     7.58,2, -999.00,  -999.0, -999.00,  -999.0
    31DSCG96_2,  P15S,   107,  1,    114,   1017,2,19960217,0415,-35.0080,-169.9930, 5226,   -999,   1944.9,   2.4692,  34.6060,2,  34.6061,2,    152.0,2,  2.3305,    153.0,2,   102.77,2,    35.37,2,     0.00,2,     2.45,2, -999.000,9, -999.000,9,   -999.0,9,  -999.00,9,   2286.0,2,   1202.5,2,   2379.5,2,     7.58,2, -999.00,  -999.0, -999.00,  -999.0
    31DSCG96_2,  P15S,   107,  1,    113,   1302,2,19960217,0415,-35.0080,-169.9930, 5226,   -999,   2192.1,   2.3028,  34.6268,2,  34.6269,2,    149.9,2,  2.1450,    149.9,2,   111.01,2,    35.62,2,     0.00,2,     2.47,2, -999.000,9, -999.000,9,   -999.0,9,  -999.00,9,   2297.2,2,   1213.3,2,   2391.2,2,     7.57,2, -999.00,  -999.0, -999.00,  -999.0
    31DSCG96_2,  P15S,   107,  1,    112,   1217,2,19960217,0415,-35.0080,-169.9930, 5226,   -999,   2438.9,   2.1488,  34.6424,2,  34.6427,2,    148.6,2,  1.9713,    148.3,6,   118.09,2,    35.85,2,     0.00,2,     2.48,2, -999.000,9, -999.000,9,   -999.0,9,  -999.00,9,   2303.3,2,   1220.5,2,   2397.3,2,     7.57,2, -999.00,  -999.0, -999.00,  -999.0
    31DSCG96_2,  P15S,   107,  1,    111,   1114,2,19960217,0415,-35.0080,-169.9930, 5226,   -999,   2699.9,   2.0071,  34.6555,2,  34.6558,2,    148.7,2,  1.8081,    149.0,2,   122.80,2,    35.82,2,     0.00,2,     2.48,2, -999.000,9, -999.000,9,   -999.0,9,  -999.00,9,   2307.8,2,   1214.1,2,   2402.4,2,     7.57,2, -999.00,  -999.0, -999.00,  -999.0
    31DSCG96_2,  P15S,   107,  1,    110,   1301,2,19960217,0415,-35.0080,-169.9930, 5226,   -999,   2950.2,   1.8563,  34.6706,2,  34.6708,2,    152.2,2,  1.6365,    154.1,2,   125.25,2,    35.52,2,     0.00,2,     2.46,2, -999.000,9, -999.000,9,   -999.0,9,  -999.00,9,   2305.8,2,   1225.1,3,   2399.8,2,     7.58,2, -999.00,  -999.0, -999.00,  -999.0
    31DSCG96_2,  P15S,   107,  1,    109,   1119,2,19960217,0415,-35.0080,-169.9930, 5226,   -999,   3186.8,   1.7398,  34.6906,2,  34.6898,2,    167.5,2,  1.4994,    166.6,2,   119.95,2,    34.36,2,     0.00,2,     2.37,2, -999.000,9, -999.000,9,   -999.0,9,  -999.00,9,   2293.7,2,   1162.5,2,   2392.7,2,     7.59,2, -999.00,  -999.0, -999.00,  -999.0
    31DSCG96_2,  P15S,   107,  1,    108,   1227,2,19960217,0415,-35.0080,-169.9930, 5226,   -999,   3441.7,   1.6280,  34.7119,2,  34.7121,2,    183.6,2,  1.3644,    184.0,2,   110.75,2,    32.77,2,     0.00,2,     2.25,2, -999.000,9, -999.000,9,   -999.0,9,  -999.00,9,   2270.5,2,   1122.1,2,   2375.9,2,     7.60,2, -999.00,  -999.0, -999.00,  -999.0
    31DSCG96_2,  P15S,   107,  1,    107,   1263,2,19960217,0415,-35.0080,-169.9930, 5226,   -999,   3689.4,   1.4596,  34.7218,2,  34.7223,2,    194.7,2,  1.1746,    195.3,2,   108.65,2,    31.98,2,     0.00,2,     2.18,2, -999.000,9, -999.000,9,   -999.0,9,  -999.00,9,   2262.0,2,   1096.2,2,   2370.0,2,     7.61,2, -999.00,  -999.0, -999.00,  -999.0
    31DSCG96_2,  P15S,   107,  1,    106,   1262,2,19960217,0415,-35.0080,-169.9930, 5226,   -999,   3921.3,   1.2760,  34.7194,2,  34.7197,2,    199.7,2,  0.9716,    201.1,2,   112.42,2,    31.95,2,     0.00,2,     2.18,2, -999.000,9, -999.000,9,   -999.0,9,  -999.00,9,   2260.0,2,   1085.9,2,   2366.9,2,     7.61,2, -999.00,  -999.0, -999.00,  -999.0
    31DSCG96_2,  P15S,   107,  1,    105,   1264,2,19960217,0415,-35.0080,-169.9930, 5226,   -999,   4185.0,   1.1058,  34.7146,2,  34.7142,2,    203.3,2,  0.7778,    204.4,2,   117.10,2,    32.12,2,     0.00,2,     2.19,2, -999.000,9, -999.000,9,   -999.0,9,  -999.00,9,   2261.2,2,   1096.8,3,   2367.5,2,     7.62,2, -999.00,  -999.0, -999.00,  -999.0
    31DSCG96_2,  P15S,   107,  1,    104,   1003,2,19960217,0415,-35.0080,-169.9930, 5226,   -999,   4434.2,   1.0150,  34.7101,2,  34.7098,2,    205.7,2,  0.6623,    206.3,2,   120.10,2,    32.19,2,     0.00,2,     2.20,2, -999.000,9, -999.000,9,   -999.0,9,  -999.00,9,   2263.4,2,   1087.4,2,   2367.2,2,     7.61,2, -999.00,  -999.0, -999.00,  -999.0
    31DSCG96_2,  P15S,   107,  1,    103,    999,2,19960217,0415,-35.0080,-169.9930, 5226,   -999,   4686.6,   0.9969,  34.7082,2,  34.7082,2,    206.3,2,  0.6161,    206.4,2,   121.18,2,    32.22,2,     0.00,2,     2.20,2, -999.000,9, -999.000,9,   -999.0,9,  -999.00,9,   2263.0,2,   1092.0,2,   2370.1,2,     7.61,2, -999.00,  -999.0, -999.00,  -999.0
    31DSCG96_2,  P15S,   107,  1,    102,   1030,2,19960217,0415,-35.0080,-169.9930, 5226,   -999,   4935.4,   1.0112,  34.7075,2,  34.7073,2,    206.8,2,  0.6010,    207.6,2,   121.58,2,    32.24,2,     0.00,2,     2.20,2, -999.000,9, -999.000,9,   -999.0,9,  -999.00,9,   2258.4,2,   1090.8,2,   2366.8,2,     7.61,2, -999.00,  -999.0, -999.00,  -999.0
    31DSCG96_2,  P15S,   107,  1,    101,   1022,2,19960217,0415,-35.0080,-169.9930, 5226,   -999,   5334.8,   1.0534,  34.7070,2,  34.7073,2,    207.2,2,  0.5935,    207.4,6,   121.83,6,    32.25,6,     0.00,6,     2.21,2, -999.000,9, -999.000,9,   -999.0,9,  -999.00,9,   2259.2,2,   1093.3,2,   2368.7,2,     7.61,2, -999.00,  -999.0, -999.00,  -999.0