BOTTLE,20220811CCHSIOAMB
EXPOCODE,SECT_ID,STNNBR,CASTNO,SAMPNO,BTLNBR,BTLNBR_FLAG_W,DATE,TIME,LATITUDE,LONGITUDE,DEPTH,CTDRAW,CTDPRS,CTDTMP,CTDSAL,CTDSAL_FLAG_W,SALNTY,SALNTY_FLAG_W,CTDOXY,CTDOXY_FLAG_W,THETA,OXYGEN,OXYGEN_FLAG_W,SILCAT,SILCAT_FLAG_W,NITRAT,NITRAT_FLAG_W,NITRIT,NITRIT_FLAG_W,PHSPHT,PHSPHT_FLAG_W,CFC-11,CFC-11_FLAG_W,CFC-12,CFC-12_FLAG_W,DELC14,DELC14_FLAG_W,DELC13,DELC13_FLAG_W,TCARBN,TCARBN_FLAG_W,PCO2,PCO2_FLAG_W,ALKALI,ALKALI_FLAG_W,PH,PH_FLAG_W,PCO2TMP,C14ERR,PH_TMP,C13ERR
,,,,,,,,,,,,DBAR,DBAR,ITS-90,PSS-78,,PSS-78,,UMOL/KG,,DEG C,UMOL/KG,,UMOL/KG,,UMOL/KG,,UMOL/KG,,UMOL/KG,,PMOL/KG,,PMOL/KG,,/MILLE,,/MILLE,,UMOL/KG,,UATM,,UMOL/KG,,,,DEG C,/MILLE,DEG C,/MILLE
    31DSCG96_1,  P14S,    32,  1,    133,   1221,2,19960117,0011,-66.0153, 171.0272, 3151,   -999,     10.7,  -0.8921,  33.5704,2,-999.0000,9,    343.2,2, -0.8924,    350.3,2,  -999.00,9,  -999.00,9,  -999.00,9,  -999.00,9,    5.983,2,    3.048,2,   -999.0,9,  -999.00,9,   2138.9,2,    813.3,2,   2278.6,2,     7.71,2, -999.00,  -999.0, -999.00,  -999.0
    31DSCG96_1,  P14S,    32,  1,    132,   1039,2,19960117,0011,-66.0153, 171.0272, 3151,   -999,     11.4,  -0.9540,  33.5815,2,  33.5788,2,    343.2,2, -0.9543,    350.4,2,    71.22,2,    25.97,2,     0.15,2,     1.72,2,    5.774,2,    2.994,2,   -999.0,9,  -999.00,9,   2140.5,2,    814.5,2,   2278.2,2,     7.71,2, -999.00,  -999.0, -999.00,  -999.0
    31DSCG96_1,  P14S,    32,  1,    134,   1224,2,19960117,0011,-66.0153, 171.0272, 3151,   -999,     11.5,  -0.9222,  33.5728,2,  33.5745,2,    350.3,2, -0.9225,    350.5,2,    71.31,2,    26.05,2,     0.15,2,     1.73,2,    5.992,2,    3.100,2,   -999.0,9,  -999.00,9,   -999.0,9,    806.5,2,   -999.0,9,     7.71,2, -999.00,  -999.0, -999.00,  -999.0
    31DSCG96_1,  P14S,    32,  1,    131,   1042,3,19960117,0011,-66.0153, 171.0272, 3151,   -999,     45.1,  -1.4549,  34.0968,2,  34.0805,2,    318.3,2, -1.4559,    307.3,2,    74.67,2,    28.30,2,     0.11,2,     1.91,2,    4.361,4,    2.690,4,   -999.0,9,  -999.00,9,   -999.0,9,    933.5,2,   -999.0,9,  -999.00,9, -999.00,  -999.0, -999.00,  -999.0
    31DSCG96_1,  P14S,    32,  1,    130,   1257,2,19960117,0011,-66.0153, 171.0272, 3151,   -999,     70.3,  -1.0745,  34.2663,2,  34.2743,2,    293.4,2, -1.0763,    266.9,2,    79.72,2,    30.42,2,     0.11,2,     2.04,2,    3.527,2,    1.773,2,   -999.0,9,  -999.00,9,   2213.9,2,   1040.4,2,   2322.7,2,     7.62,2, -999.00,  -999.0, -999.00,  -999.0
    31DSCG96_1,  P14S,    32,  1,    129,   1256,2,19960117,0011,-66.0153, 171.0272, 3151,   -999,     95.8,  -0.2123,  34.4395,2,  34.4449,2,    256.3,2, -0.2156,    238.5,2,    83.91,2,    31.50,2,     0.08,2,     2.10,2,    2.564,2,    1.447,2,   -999.0,9,  -999.00,9,   2230.3,2,   1094.7,2,   2332.3,2,     7.60,2, -999.00,  -999.0, -999.00,  -999.0
    31DSCG96_1,  P14S,    32,  1,    128,   1007,2,19960117,0011,-66.0153, 171.0272, 3151,   -999,    119.1,   0.6501,  34.5946,2,  34.5936,2,    221.2,2,  0.6451,    209.4,2,    90.02,2,    32.22,2,     0.02,2,     2.15,2, -999.000,9, -999.000,9,   -999.0,9,  -999.00,9,   2244.6,2,   1145.1,2,   2342.8,2,     7.59,2, -999.00,  -999.0, -999.00,  -999.0
    31DSCG96_1,  P14S,    32,  1,    127,   1234,2,19960117,0011,-66.0153, 171.0272, 3151,   -999,    144.2,   1.0729,  34.6763,2,  34.6755,2,    200.0,2,  1.0663,    196.8,2,    94.16,2,    32.40,2,     0.02,2,     2.16,2,    0.723,2,    0.561,4,   -999.0,9,  -999.00,9,   2250.9,2,   1166.9,2,   2349.1,2,     7.58,2, -999.00,  -999.0, -999.00,  -999.0
    31DSCG96_1,  P14S,    32,  1,    126,   1025,2,19960117,0011,-66.0153, 171.0272, 3151,   -999,    168.9,   1.2221,  34.7060,2,  34.7063,2,    194.6,2,  1.2142,    192.4,2,    96.65,2,    32.37,2,     0.01,2,     2.16,2, -999.000,9, -999.000,9,   -999.0,9,  -999.00,9,   2254.1,2,   1143.5,2,   2353.2,2,     7.58,2, -999.00,  -999.0, -999.00,  -999.0
    31DSCG96_1,  P14S,    32,  1,    125,   1233,2,19960117,0011,-66.0153, 171.0272, 3151,   -999,    192.4,   1.2338,  34.7111,2,  34.7132,2,    193.7,2,  1.2247,    194.8,2,    97.78,2,    32.26,2,     0.01,2,     2.16,2,    0.391,2,    0.413,4,   -999.0,9,  -999.00,9,   2254.4,2,   1098.1,3,   2353.9,2,     7.58,2, -999.00,  -999.0, -999.00,  -999.0
    31DSCG96_1,  P14S,    32,  1,    124,   1218,2,19960117,0011,-66.0153, 171.0272, 3151,   -999,    219.6,   1.2388,  34.7145,2,  34.7144,2,    193.2,2,  1.2283,    192.6,2,    98.64,2,    32.30,2,     0.01,2,     2.16,2, -999.000,9, -999.000,9,   -999.0,9,  -999.00,9,   2254.8,2,   1137.0,2,   2355.2,2,     7.59,2, -999.00,  -999.0, -999.00,  -999.0
    31DSCG96_1,  P14S,    32,  1,    123,   1250,2,19960117,0011,-66.0153, 171.0272, 3151,   -999,    245.1,   1.2271,  34.7161,2,  34.7160,2,    193.2,2,  1.2154,    193.3,2,    99.47,2,    32.22,2,     0.01,2,     2.16,2,    0.322,2,    0.427,4,   -999.0,9,  -999.00,9,   2254.1,2,   1137.8,2,   2355.4,2,     7.59,2, -999.00,  -999.0, -999.00,  -999.0
    31DSCG96_1,  P14S,    32,  1,    122,   1109,2,19960117,0011,-66.0153, 171.0272, 3151,   -999,    290.7,   1.2080,  34.7175,2,  34.7200,2,    193.2,2,  1.1940,    193.8,2,   100.54,2,    32.15,2,     0.01,2,     2.16,2,    0.291,2,    0.428,4,   -999.0,9,  -999.00,9,   2254.2,2,   1114.2,2,   2355.4,2,     7.59,2, -999.00,  -999.0, -999.00,  -999.0
    31DSCG96_1,  P14S,    32,  1,    121,   1246,2,19960117,0011,-66.0153, 171.0272, 3151,   -999,    340.7,   1.1868,  34.7190,2,  34.7194,2,    194.3,2,  1.1703,    194.1,2,   102.09,2,    32.18,2,     0.00,2,     2.16,2,    0.263,2,    0.266,4,   -999.0,9,  -999.00,9,   2255.1,2,   1129.1,2,   2356.6,2,     7.59,2, -999.00,  -999.0, -999.00,  -999.0
    31DSCG96_1,  P14S,    32,  1,    120,   1015,2,19960117,0011,-66.0153, 171.0272, 3151,   -999,    387.3,   1.1671,  34.7192,2,  34.7194,2,    194.5,2,  1.1483,    194.5,2,   103.04,2,    32.24,2,     0.00,2,     2.16,2, -999.000,9, -999.000,9,   -999.0,9,  -999.00,9,   2254.9,2,   1131.5,2,   2357.5,2,     7.59,2, -999.00,  -999.0, -999.00,  -999.0
    31DSCG96_1,  P14S,    32,  1,    119,   1247,2,19960117,0011,-66.0153, 171.0272, 3151,   -999,    439.1,   1.1375,  34.7195,2,  34.7197,2,    194.7,2,  1.1162,    195.1,2,   104.39,6,    32.19,2,     0.01,6,     2.17,2, -999.000,5, -999.000,5,   -999.0,9,  -999.00,9,   2254.7,2,   1137.0,2,   2357.3,2,     7.59,2, -999.00,  -999.0, -999.00,  -999.0
    31DSCG96_1,  P14S,    32,  1,    118,   1222,2,19960117,0011,-66.0153, 171.0272, 3151,   -999,    490.5,   1.1132,  34.7195,2,  34.7198,2,    196.1,2,  1.0892,    195.3,2,   105.55,2,    32.21,2,     0.00,2,     2.17,2, -999.000,9, -999.000,9,   -999.0,9,  -999.00,9,   2256.8,2,   1119.9,2,   2357.8,2,     7.59,2, -999.00,  -999.0, -999.00,  -999.0
    31DSCG96_1,  P14S,    32,  1,    117,   1267,2,19960117,0011,-66.0153, 171.0272, 3151,   -999,    575.0,   1.0623,  34.7195,2,  34.7211,2,    197.4,2,  1.0340,    197.4,2,   107.82,2,    32.18,2,     0.00,2,     2.18,2,    0.167,2,    0.445,4,   -999.0,9,  -999.00,9,   2256.4,2,   1107.6,2,   2360.3,2,     7.60,2, -999.00,  -999.0, -999.00,  -999.0
    31DSCG96_1,  P14S,    32,  1,    116,   1211,2,19960117,0011,-66.0153, 171.0272, 3151,   -999,    675.3,   1.0057,  34.7184,2,  34.7179,2,    198.7,2,  0.9722,    198.0,2,   109.87,2,    32.22,2,     0.00,2,     2.18,2,    0.144,2,    0.232,4,   -999.0,9,  -999.00,9,   2256.7,2,   1101.5,2,   2360.9,2,     7.60,2, -999.00,  -999.0, -999.00,  -999.0
    31DSCG96_1,  P14S,    32,  1,    115,   1041,2,19960117,0011,-66.0153, 171.0272, 3151,   -999,    776.5,   0.9482,  34.7165,2,  34.7170,2,    199.7,2,  0.9093,    199.3,2,   111.70,2,    32.23,2,     0.00,2,     2.18,2,    0.124,6,    0.189,4,   -999.0,9,  -999.00,9,   2256.8,2,   1107.8,2,   2360.9,2,  -999.00,9, -999.00,  -999.0, -999.00,  -999.0
    31DSCG96_1,  P14S,    32,  1,    114,   1017,2,19960117,0011,-66.0153, 171.0272, 3151,   -999,    875.0,   0.8845,  34.7141,2,  34.7148,2,    201.2,2,  0.8404,    201.6,6,   113.49,2,    32.23,2,     0.00,2,     2.19,2, -999.000,9, -999.000,9,   -999.0,9,  -999.00,9,   2256.5,2,   1102.2,2,   2362.4,2,     7.60,2, -999.00,  -999.0, -999.00,  -999.0
    31DSCG96_1,  P14S,    32,  1,    113,   1008,2,19960117,0011,-66.0153, 171.0272, 3151,   -999,    973.3,   0.8275,  34.7124,2,  34.7121,2,    201.0,2,  0.7780,    201.7,2,   115.98,2,    32.38,2,     0.00,2,     2.20,4,    0.101,2,    0.124,4,   -999.0,9,  -999.00,9,   2257.0,2,   1100.1,2,   2363.5,2,     7.60,2, -999.00,  -999.0, -999.00,  -999.0
    31DSCG96_1,  P14S,    32,  1,    112,   1217,2,19960117,0011,-66.0153, 171.0272, 3151,   -999,   1074.4,   0.7735,  34.7102,2,  34.7100,2,    203.2,2,  0.7184,    202.8,2,   118.09,2,    32.47,2,     0.00,2,     2.18,4, -999.000,9, -999.000,9,   -999.0,9,  -999.00,9,   2257.2,2,   1101.4,2,   2364.1,2,     7.60,2, -999.00,  -999.0, -999.00,  -999.0
    31DSCG96_1,  P14S,    32,  1,    111,   1114,2,19960117,0011,-66.0153, 171.0272, 3151,   -999,   1214.7,   0.7007,  34.7075,2,  34.7075,2,    204.6,2,  0.6378,    204.4,2,   120.16,2,    32.52,2,     0.00,2,     2.19,4,    0.092,6,    0.174,4,   -999.0,9,  -999.00,9,   2257.7,2,   1116.6,2,   2362.4,2,     7.60,2, -999.00,  -999.0, -999.00,  -999.0
    31DSCG96_1,  P14S,    32,  1,    110,   1036,2,19960117,0011,-66.0153, 171.0272, 3151,   -999,   1439.1,   0.5784,  34.7038,2,  34.7037,2,    207.1,2,  0.5025,    206.7,2,   123.52,2,    32.61,2,     0.00,2,     2.19,4,    0.100,2,    0.098,4,   -999.0,9,  -999.00,9,   2258.6,2,   1118.7,2,   -999.0,5,     7.60,2, -999.00,  -999.0, -999.00,  -999.0
    31DSCG96_1,  P14S,    32,  1,    109,   1216,2,19960117,0011,-66.0153, 171.0272, 3151,   -999,   1689.4,   0.4784,  34.7026,2,  34.7024,2,    209.5,2,  0.3871,    209.1,2,   125.81,2,    32.65,2,     0.00,2,     2.20,4,    0.125,2,    0.155,4,   -999.0,9,  -999.00,9,   2258.5,2,   1102.4,2,   2363.8,2,     7.60,2, -999.00,  -999.0, -999.00,  -999.0
    31DSCG96_1,  P14S,    32,  1,    108,   1263,2,19960117,0011,-66.0153, 171.0272, 3151,   -999,   1939.1,   0.3849,  34.7011,2,  34.7008,2,    211.3,2,  0.2774,    211.6,2,   126.96,2,    32.66,2,     0.00,2,     2.21,4,    0.183,2,    0.263,4,   -999.0,9,  -999.00,9,   2257.7,2,   1102.6,2,   2364.1,2,     7.60,2, -999.00,  -999.0, -999.00,  -999.0
    31DSCG96_1,  P14S,    32,  1,    107,   1245,2,19960117,0011,-66.0153, 171.0272, 3151,   -999,   2189.9,   0.3011,  34.6997,2,  34.6994,2,    214.4,2,  0.1767,    214.1,6,   125.34,2,    32.54,2,     0.00,2,     2.19,4,    0.349,2,    0.213,2,   -999.0,9,  -999.00,9,   2256.9,2,   1106.7,2,   2363.8,2,     7.60,2, -999.00,  -999.0, -999.00,  -999.0
    31DSCG96_1,  P14S,    32,  1,    106,   1262,2,19960117,0011,-66.0153, 171.0272, 3151,   -999,   2437.1,   0.2095,  34.6966,2,  34.6967,2,    217.0,2,  0.0677,    218.3,2,   121.01,2,    32.46,2,     0.00,2,     2.19,4,    0.621,2,    0.397,2,   -999.0,9,  -999.00,9,   2256.1,2,   1103.1,2,   2361.9,2,     7.60,2, -999.00,  -999.0, -999.00,  -999.0
    31DSCG96_1,  P14S,    32,  1,    105,   1113,2,19960117,0011,-66.0153, 171.0272, 3151,   -999,   2688.6,   0.1146,  34.6945,2,  34.6955,2,    221.8,2, -0.0454,    222.4,2,   116.82,2,    32.37,2,     0.00,2,     2.19,4,    0.887,2,    0.536,2,   -999.0,9,  -999.00,9,   2255.3,2,   1101.8,2,   2360.4,2,     7.60,2, -999.00,  -999.0, -999.00,  -999.0
    31DSCG96_1,  P14S,    32,  1,    104,   1003,2,19960117,0011,-66.0153, 171.0272, 3151,   -999,   2938.2,  -0.0187,  34.6962,2,  34.6952,2,    228.1,2, -0.1966,    228.7,6,   108.20,2,    32.01,2,     0.00,2,     2.17,4,    1.459,2,    0.812,2,   -999.0,9,  -999.00,9,   2252.4,2,   1093.2,2,   2357.3,2,     7.60,2, -999.00,  -999.0, -999.00,  -999.0
    31DSCG96_1,  P14S,    32,  1,    102,   1027,2,19960117,0011,-66.0153, 171.0272, 3151,   -999,   3041.1,  -0.0642,  34.6969,2,  34.6959,2,    230.0,2, -0.2498,    231.6,2,   105.20,2,    31.95,2,     0.00,2,     2.18,4,    1.682,2,    0.888,2,   -999.0,9,  -999.00,9,   -999.0,9,   1095.8,2,   -999.0,9,     7.60,2, -999.00,  -999.0, -999.00,  -999.0
    31DSCG96_1,  P14S,    32,  1,    103,   9999,2,19960117,0011,-66.0153, 171.0272, 3151,   -999,   3043.0,  -0.0641,  34.6968,2,  34.6958,2,    229.9,2, -0.2499,    231.8,2,   105.11,2,    31.94,2,     0.00,2,     2.18,4,    1.683,2,    0.856,2,   -999.0,9,  -999.00,9,   2252.3,2,   1095.3,2,   2359.2,2,     7.60,2, -999.00,  -999.0, -999.00,  -999.0
    31DSCG96_1,  P14S,    32,  1,    101,   1022,2,19960117,0011,-66.0153, 171.0272, 3151,   -999,   3155.3,  -0.0840,  34.6983,2,  34.6973,2,    232.3,2, -0.2791,    233.4,2,   104.26,6,    31.98,6,     0.00,6,     2.20,4,    1.814,2,    0.931,2,   -999.0,9,  -999.00,9,   2252.1,2,   1115.0,2,   2356.1,2,     7.60,2, -999.00,  -999.0, -999.00,  -999.0