BOTTLE,20220811CCHSIOAMB
EXPOCODE,SECT_ID,STNNBR,CASTNO,SAMPNO,BTLNBR,BTLNBR_FLAG_W,DATE,TIME,LATITUDE,LONGITUDE,DEPTH,CTDRAW,CTDPRS,CTDTMP,CTDSAL,CTDSAL_FLAG_W,SALNTY,SALNTY_FLAG_W,CTDOXY,CTDOXY_FLAG_W,THETA,OXYGEN,OXYGEN_FLAG_W,SILCAT,SILCAT_FLAG_W,NITRAT,NITRAT_FLAG_W,NITRIT,NITRIT_FLAG_W,PHSPHT,PHSPHT_FLAG_W,CFC-11,CFC-11_FLAG_W,CFC-12,CFC-12_FLAG_W,DELC14,DELC14_FLAG_W,DELC13,DELC13_FLAG_W,TCARBN,TCARBN_FLAG_W,PCO2,PCO2_FLAG_W,ALKALI,ALKALI_FLAG_W,PH,PH_FLAG_W,PCO2TMP,C14ERR,PH_TMP,C13ERR
,,,,,,,,,,,,DBAR,DBAR,ITS-90,PSS-78,,PSS-78,,UMOL/KG,,DEG C,UMOL/KG,,UMOL/KG,,UMOL/KG,,UMOL/KG,,UMOL/KG,,PMOL/KG,,PMOL/KG,,/MILLE,,/MILLE,,UMOL/KG,,UATM,,UMOL/KG,,,,DEG C,/MILLE,DEG C,/MILLE
    31DSCG96_1,  P15S,    79,  1,    134,   1119,2,19960131,1035,-44.8353,-173.1365, 3838,   -999,      8.4,  16.7275,  34.9310,2,  34.9351,2,    250.5,2, 16.7261,    250.1,2,     0.58,2,     0.00,2,     0.00,2,     0.07,2,    2.857,2,    1.618,2,   -999.0,9,  -999.00,9,   2028.1,2,    362.4,6,   -999.0,9,     8.01,2, -999.00,  -999.0, -999.00,  -999.0
    31DSCG96_1,  P15S,    79,  1,    133,   1221,3,19960131,1035,-44.8353,-173.1365, 3838,   -999,     13.4,  16.2285,  34.9931,2,-999.0000,5,    253.4,2, 16.2264,    253.3,2,     0.70,2,     0.00,2,     0.00,2,     0.08,2, -999.000,9, -999.000,9,   -999.0,9,  -999.00,9,   -999.0,9,   -999.0,9,   -999.0,9,  -999.00,9, -999.00,  -999.0, -999.00,  -999.0
    31DSCG96_1,  P15S,    79,  1,    132,   1039,2,19960131,1035,-44.8353,-173.1365, 3838,   -999,     28.1,  16.0868,  34.9926,2,  34.9948,2,    253.9,2, 16.0824,    253.5,2,     0.69,2,     0.00,2,     0.00,2,     0.13,2,    2.900,6,    1.619,6,   -999.0,9,  -999.00,9,   -999.0,9,   -999.0,9,   -999.0,9,     8.01,2, -999.00,  -999.0, -999.00,  -999.0
    31DSCG96_1,  P15S,    79,  1,    131,   1014,2,19960131,1035,-44.8353,-173.1365, 3838,   -999,     53.6,  12.9365,  35.0010,2,  34.9987,2,    247.8,2, 12.9292,    243.0,2,     2.15,2,     5.01,2,     0.10,2,     0.45,2, -999.000,9, -999.000,9,   -999.0,9,  -999.00,9,   -999.0,9,   -999.0,9,   -999.0,9,     7.91,2, -999.00,  -999.0, -999.00,  -999.0
    31DSCG96_1,  P15S,    79,  1,    130,   1257,2,19960131,1035,-44.8353,-173.1365, 3838,   -999,     79.3,  12.4066,  34.9879,2,  34.9871,2,    243.3,2, 12.3961,    244.2,2,     2.55,2,     6.62,2,     0.02,2,     0.53,2,    3.266,2,    1.781,2,   -999.0,9,  -999.00,9,   -999.0,9,   -999.0,9,   -999.0,9,     7.90,2, -999.00,  -999.0, -999.00,  -999.0
    31DSCG96_1,  P15S,    79,  1,    129,   1256,2,19960131,1035,-44.8353,-173.1365, 3838,   -999,    104.4,  12.3655,  35.0808,2,  35.0802,2,    242.4,2, 12.3517,    239.5,6,     3.20,2,     7.87,2,     0.02,2,     0.59,2, -999.000,9, -999.000,9,   -999.0,9,  -999.00,9,   -999.0,9,   -999.0,9,   -999.0,9,     7.88,2, -999.00,  -999.0, -999.00,  -999.0
    31DSCG96_1,  P15S,    79,  1,    128,   1007,2,19960131,1035,-44.8353,-173.1365, 3838,   -999,    130.2,  12.1764,  35.0735,2,  35.0716,2,    241.1,2, 12.1592,    239.4,2,     3.36,2,     8.56,2,     0.01,2,     0.63,2,    3.142,2,    1.732,2,   -999.0,9,  -999.00,9,   -999.0,9,   -999.0,9,   -999.0,9,     7.88,2, -999.00,  -999.0, -999.00,  -999.0
    31DSCG96_1,  P15S,    79,  1,    127,   1232,2,19960131,1035,-44.8353,-173.1365, 3838,   -999,    154.0,  11.8468,  35.0178,2,  35.0186,2,    242.8,2, 11.8269,    241.2,2,     3.46,2,     9.02,2,     0.02,2,     0.67,2, -999.000,9, -999.000,9,   -999.0,9,  -999.00,9,   -999.0,9,   -999.0,9,   -999.0,9,     7.87,2, -999.00,  -999.0, -999.00,  -999.0
    31DSCG96_1,  P15S,    79,  1,    126,   1025,2,19960131,1035,-44.8353,-173.1365, 3838,   -999,    173.8,  11.5254,  34.9567,2,  34.9572,2,    243.1,2, 11.5033,    242.7,2,     3.45,2,     9.36,2,     0.01,2,     0.70,2,    3.209,2,    1.723,2,   -999.0,9,  -999.00,9,   -999.0,9,   -999.0,9,   -999.0,9,     7.87,2, -999.00,  -999.0, -999.00,  -999.0
    31DSCG96_1,  P15S,    79,  1,    125,   1233,2,19960131,1035,-44.8353,-173.1365, 3838,   -999,    202.5,  11.1445,  34.8899,2,  34.8899,2,    242.9,2, 11.1193,    240.6,2,     3.72,2,    10.30,2,     0.01,2,     0.77,2, -999.000,9, -999.000,9,   -999.0,9,  -999.00,9,   -999.0,9,   -999.0,9,   -999.0,9,     7.85,2, -999.00,  -999.0, -999.00,  -999.0
    31DSCG96_1,  P15S,    79,  1,    124,   1218,2,19960131,1035,-44.8353,-173.1365, 3838,   -999,    230.9,  10.7057,  34.8252,2,  34.8255,2,    240.6,2, 10.6777,    232.5,2,     4.35,2,    12.03,2,     0.01,2,     0.87,2,    3.107,2,    1.659,2,   -999.0,9,  -999.00,9,   -999.0,9,   -999.0,9,   -999.0,9,     7.83,2, -999.00,  -999.0, -999.00,  -999.0
    31DSCG96_1,  P15S,    79,  1,    123,   1250,2,19960131,1035,-44.8353,-173.1365, 3838,   -999,    265.2,  10.0781,  34.7305,2,  34.9930,4,    231.6,2, 10.0472,    235.6,6,     4.50,2,    13.00,2,     0.01,2,     0.94,2, -999.000,9, -999.000,9,   -999.0,9,  -999.00,9,   -999.0,9,   -999.0,9,   -999.0,9,     7.82,2, -999.00,  -999.0, -999.00,  -999.0
    31DSCG96_1,  P15S,    79,  1,    122,   1109,2,19960131,1035,-44.8353,-173.1365, 3838,   -999,    314.5,   9.5646,  34.6687,2,  34.6691,2,    232.3,2,  9.5291,    239.8,2,     4.90,2,    14.34,2,     0.01,2,     1.03,2,    3.282,2,    1.745,2,   -999.0,9,  -999.00,9,   -999.0,9,   -999.0,9,   -999.0,9,  -999.00,9, -999.00,  -999.0, -999.00,  -999.0
    31DSCG96_1,  P15S,    79,  1,    121,   1246,2,19960131,1035,-44.8353,-173.1365, 3838,   -999,    363.4,   9.1314,  34.6214,2,  34.6206,2,    242.6,2,  9.0914,    235.8,2,     5.61,2,    16.20,2,     0.01,2,     1.14,2, -999.000,9, -999.000,9,   -999.0,9,  -999.00,9,   -999.0,9,   -999.0,9,   -999.0,9,     7.79,2, -999.00,  -999.0, -999.00,  -999.0
    31DSCG96_1,  P15S,    79,  1,    120,   1015,2,19960131,1035,-44.8353,-173.1365, 3838,   -999,    414.8,   8.7724,  34.5875,2,  34.5862,2,    232.8,2,  8.7277,    233.8,2,     6.10,2,    17.34,2,     0.01,2,     1.22,2,    3.162,2,    1.661,2,   -999.0,9,  -999.00,9,   -999.0,9,   -999.0,9,   -999.0,9,     7.78,2, -999.00,  -999.0, -999.00,  -999.0
    31DSCG96_1,  P15S,    79,  1,    119,   1247,2,19960131,1035,-44.8353,-173.1365, 3838,   -999,    466.0,   8.3819,  34.5420,2,  34.5436,2,    229.3,2,  8.3329,    234.0,2,     6.36,2,    18.41,2,     0.01,2,     1.28,2, -999.000,9, -999.000,9,   -999.0,9,  -999.00,9,   -999.0,9,   -999.0,9,   -999.0,9,     7.77,2, -999.00,  -999.0, -999.00,  -999.0
    31DSCG96_1,  P15S,    79,  1,    118,   1222,2,19960131,1035,-44.8353,-173.1365, 3838,   -999,    527.6,   8.0244,  34.5069,2,  34.5058,2,    232.9,2,  7.9702,    231.0,2,     7.43,2,    20.00,2,     0.00,2,     1.38,2,    2.916,2,    1.481,2,   -999.0,9,  -999.00,9,   -999.0,9,   -999.0,9,   -999.0,9,     7.75,2, -999.00,  -999.0, -999.00,  -999.0
    31DSCG96_1,  P15S,    79,  1,    117,   1267,2,19960131,1035,-44.8353,-173.1365, 3838,   -999,    626.6,   7.5170,  34.4532,2,  34.4515,2,    236.6,2,  7.4546,    237.4,6,     7.93,2,    21.01,2,     0.00,2,     1.45,2,    2.850,2,    1.489,2,   -999.0,9,  -999.00,9,   -999.0,9,   -999.0,9,   -999.0,9,     7.75,2, -999.00,  -999.0, -999.00,  -999.0
    31DSCG96_1,  P15S,    79,  1,    116,   1211,2,19960131,1035,-44.8353,-173.1365, 3838,   -999,    727.2,   7.2358,  34.4535,2,  34.4534,2,    228.3,2,  7.1644,    223.5,2,    11.30,2,    22.88,2,     0.00,2,     1.57,2,    1.893,2,    0.994,2,   -999.0,9,  -999.00,9,   -999.0,9,   -999.0,9,   -999.0,9,     7.73,2, -999.00,  -999.0, -999.00,  -999.0
    31DSCG96_1,  P15S,    79,  1,    115,   1041,2,19960131,1035,-44.8353,-173.1365, 3838,   -999,    820.0,   7.0406,  34.4767,2,  34.4739,2,    215.4,2,  6.9607,    206.6,2,    15.84,2,    24.61,2,     0.00,2,     1.68,2,    1.048,2,    0.599,2,   -999.0,9,  -999.00,9,   -999.0,9,   -999.0,9,   -999.0,9,     7.71,2, -999.00,  -999.0, -999.00,  -999.0
    31DSCG96_1,  P15S,    79,  1,    114,   1017,2,19960131,1035,-44.8353,-173.1365, 3838,   -999,    922.3,   6.5095,  34.4480,2,  34.4473,2,    199.8,2,  6.4227,    202.4,2,    20.24,2,    26.20,2,     0.00,2,     1.79,2, -999.000,5, -999.000,5,   -999.0,9,  -999.00,9,   -999.0,9,   -999.0,9,   -999.0,9,     7.69,2, -999.00,  -999.0, -999.00,  -999.0
    31DSCG96_1,  P15S,    79,  1,    113,   1302,2,19960131,1035,-44.8353,-173.1365, 3838,   -999,   1024.5,   5.7380,  34.4087,2,  34.4087,2,    198.9,2,  5.6469,    199.7,2,    25.87,2,    28.13,2,     0.00,2,     1.92,2,    0.693,2,    0.383,2,   -999.0,9,  -999.00,9,   -999.0,9,   -999.0,9,   -999.0,9,     7.67,2, -999.00,  -999.0, -999.00,  -999.0
    31DSCG96_1,  P15S,    79,  1,    112,   1217,2,19960131,1035,-44.8353,-173.1365, 3838,   -999,   1143.9,   5.0019,  34.3964,2,  34.3948,2,    195.2,2,  4.9056,    194.1,2,    33.77,2,    30.09,2,     0.00,2,     2.05,2,    0.498,2,    0.299,2,   -999.0,9,  -999.00,9,   -999.0,9,   -999.0,9,   -999.0,9,     7.64,2, -999.00,  -999.0, -999.00,  -999.0
    31DSCG96_1,  P15S,    79,  1,    111,   1114,2,19960131,1035,-44.8353,-173.1365, 3838,   -999,   1315.3,   4.0664,  34.4037,2,  34.4023,2,    186.8,2,  3.9633,    189.2,6,    46.26,2,    32.13,2,     0.00,2,     2.21,2,    0.576,2,    0.341,2,   -999.0,9,  -999.00,9,   -999.0,9,   -999.0,9,   -999.0,9,     7.62,2, -999.00,  -999.0, -999.00,  -999.0
    31DSCG96_1,  P15S,    79,  1,    110,   1301,2,19960131,1035,-44.8353,-173.1365, 3838,   -999,   1565.1,   3.1671,  34.4562,2,  34.4556,2,    178.4,2,  3.0521,    180.0,2,    62.15,2,    33.92,2,     0.00,2,     2.32,2,    0.482,2,    0.265,2,   -999.0,9,  -999.00,9,   -999.0,9,   -999.0,9,   -999.0,9,     7.59,2, -999.00,  -999.0, -999.00,  -999.0
    31DSCG96_1,  P15S,    79,  1,    109,   1242,2,19960131,1035,-44.8353,-173.1365, 3838,   -999,   1814.7,   2.7778,  34.5392,2,  34.5388,2,    171.4,2,  2.6462,    169.7,2,    76.25,2,    34.43,2,     0.00,2,     2.36,2,    0.263,2,    0.168,2,   -999.0,9,  -999.00,9,   -999.0,9,   -999.0,9,   -999.0,9,     7.57,2, -999.00,  -999.0, -999.00,  -999.0
    31DSCG96_1,  P15S,    79,  1,    108,   1263,2,19960131,1035,-44.8353,-173.1365, 3838,   -999,   2065.9,   2.5084,  34.6063,2,  34.6017,3,    169.0,2,  2.3585,    168.7,2,    83.12,2,    34.10,2,     0.00,2,     2.35,2,    0.167,2,    0.119,2,   -999.0,9,  -999.00,9,   -999.0,9,   -999.0,9,   -999.0,9,     7.57,2, -999.00,  -999.0, -999.00,  -999.0
    31DSCG96_1,  P15S,    79,  1,    107,   1245,2,19960131,1035,-44.8353,-173.1365, 3838,   -999,   2313.8,   2.2867,  34.6489,2,  34.6480,2,    162.4,2,  2.1182,    161.1,2,   100.93,2,    34.55,2,     0.00,2,     2.37,2,    0.041,2,    0.058,4,   -999.0,9,  -999.00,9,   -999.0,9,   -999.0,9,   -999.0,9,     7.58,2, -999.00,  -999.0, -999.00,  -999.0
    31DSCG96_1,  P15S,    79,  1,    106,   1262,2,19960131,1035,-44.8353,-173.1365, 3838,   -999,   2565.7,   2.1222,  34.6951,2,  34.6946,2,    176.4,2,  1.9333,    175.1,2,    94.75,2,    32.93,2,     0.00,2,     2.24,2,    0.044,2,    0.058,4,   -999.0,9,  -999.00,9,   -999.0,9,   -999.0,9,   -999.0,9,     7.59,2, -999.00,  -999.0, -999.00,  -999.0
    31DSCG96_1,  P15S,    79,  1,    105,   1113,2,19960131,1035,-44.8353,-173.1365, 3838,   -999,   2815.6,   1.9464,  34.7263,2,  34.7245,2,    187.0,2,  1.7374,    187.3,2,    93.00,2,    31.74,2,     0.00,2,     2.15,2,    0.037,2,    0.051,4,   -999.0,9,  -999.00,9,   -999.0,9,   -999.0,9,   -999.0,9,     7.60,2, -999.00,  -999.0, -999.00,  -999.0
    31DSCG96_1,  P15S,    79,  1,    104,   1003,2,19960131,1035,-44.8353,-173.1365, 3838,   -999,   3055.7,   1.7188,  34.7331,2,  34.7309,2,    194.7,2,  1.4915,    193.0,2,    98.29,2,    31.53,2,     0.00,2,     2.14,2,    0.032,2,    0.062,4,   -999.0,9,  -999.00,9,   -999.0,9,   -999.0,9,   -999.0,9,     7.61,2, -999.00,  -999.0, -999.00,  -999.0
    31DSCG96_1,  P15S,    79,  1,    103,   1216,2,19960131,1035,-44.8353,-173.1365, 3838,   -999,   3315.2,   1.4747,  34.7303,2,  34.7283,2,    199.5,2,  1.2275,    198.0,2,   104.85,2,    31.63,2,     0.00,2,     2.14,2,    0.032,2,    0.061,4,   -999.0,9,  -999.00,9,   -999.0,9,   -999.0,9,   -999.0,9,     7.61,2, -999.00,  -999.0, -999.00,  -999.0
    31DSCG96_1,  P15S,    79,  1,    102,   1030,2,19960131,1035,-44.8353,-173.1365, 3838,   -999,   3562.7,   1.1286,  34.7184,2,  34.7174,2,    205.4,2,  0.8653,    203.4,2,   114.50,2,    32.07,2,     0.00,2,     2.17,2,    0.046,6,    0.088,4,   -999.0,9,  -999.00,9,   -999.0,9,   -999.0,9,   -999.0,9,     7.61,2, -999.00,  -999.0, -999.00,  -999.0
    31DSCG96_1,  P15S,    79,  1,    101,   1022,2,19960131,1035,-44.8353,-173.1365, 3838,   -999,   3866.9,   0.8868,  34.7082,2,  34.7064,2,    209.7,2,  0.5989,    207.6,2,   121.55,6,    32.24,6,     0.00,6,     2.19,6,    0.073,2,    0.086,4,   -999.0,9,  -999.00,9,   -999.0,9,   -999.0,9,   -999.0,9,     7.61,2, -999.00,  -999.0, -999.00,  -999.0