BOTTLE,20220811CCHSIOAMB
EXPOCODE,SECT_ID,STNNBR,CASTNO,SAMPNO,BTLNBR,BTLNBR_FLAG_W,DATE,TIME,LATITUDE,LONGITUDE,DEPTH,CTDRAW,CTDPRS,CTDTMP,CTDSAL,CTDSAL_FLAG_W,SALNTY,SALNTY_FLAG_W,CTDOXY,CTDOXY_FLAG_W,THETA,OXYGEN,OXYGEN_FLAG_W,SILCAT,SILCAT_FLAG_W,NITRAT,NITRAT_FLAG_W,NITRIT,NITRIT_FLAG_W,PHSPHT,PHSPHT_FLAG_W,CFC-11,CFC-11_FLAG_W,CFC-12,CFC-12_FLAG_W,DELC14,DELC14_FLAG_W,DELC13,DELC13_FLAG_W,TCARBN,TCARBN_FLAG_W,PCO2,PCO2_FLAG_W,ALKALI,ALKALI_FLAG_W,PH,PH_FLAG_W,PCO2TMP,C14ERR,PH_TMP,C13ERR
,,,,,,,,,,,,DBAR,DBAR,ITS-90,PSS-78,,PSS-78,,UMOL/KG,,DEG C,UMOL/KG,,UMOL/KG,,UMOL/KG,,UMOL/KG,,UMOL/KG,,PMOL/KG,,PMOL/KG,,/MILLE,,/MILLE,,UMOL/KG,,UATM,,UMOL/KG,,,,DEG C,/MILLE,DEG C,/MILLE
    31DSCG96_1,  P15S,    56,  1,    134,   1119,2,19960125,0307,-54.9970,-169.9995, 4820,   -999,     10.1,   6.7648,  34.0789,2,  34.0801,2,    307.4,2,  6.7639,    305.5,2,     4.24,2,    20.18,2,     0.17,2,     1.40,2,    4.619,2,    2.435,2,     -7.7,2,  -999.00,9,   2103.7,2,    626.5,2,   -999.0,9,     7.81,2, -999.00,     3.0, -999.00,  -999.0
    31DSCG96_1,  P15S,    56,  1,    133,   1221,2,19960125,0307,-54.9970,-169.9995, 4820,   -999,     18.9,   6.6911,  34.0780,2,  34.0785,2,    305.8,2,  6.6894,    306.4,2,     4.28,2,    20.21,2,     0.16,2,     1.40,2, -999.000,9, -999.000,9,   -999.0,9,  -999.00,9,   -999.0,9,   -999.0,9,   -999.0,9,     7.81,2, -999.00,  -999.0, -999.00,  -999.0
    31DSCG96_1,  P15S,    56,  1,    132,   1039,2,19960125,0307,-54.9970,-169.9995, 4820,   -999,     46.5,   6.6361,  34.0799,2,  34.0799,2,    305.8,2,  6.6320,    306.1,2,     4.31,2,    20.25,2,     0.16,2,     1.41,2,    4.692,6,    2.434,6,   -999.0,9,  -999.00,9,   -999.0,9,   -999.0,9,   -999.0,9,     7.81,2, -999.00,  -999.0, -999.00,  -999.0
    31DSCG96_1,  P15S,    56,  1,    131,   1014,2,19960125,0307,-54.9970,-169.9995, 4820,   -999,     68.4,   5.9396,  34.0961,2,  34.0986,2,    303.9,2,  5.9339,    305.2,2,     4.83,2,    20.63,2,     0.16,2,     1.47,2, -999.000,9, -999.000,9,   -999.0,9,  -999.00,9,   -999.0,9,   -999.0,9,   -999.0,9,     7.79,2, -999.00,  -999.0, -999.00,  -999.0
    31DSCG96_1,  P15S,    56,  1,    130,   1257,2,19960125,0307,-54.9970,-169.9995, 4820,   -999,     94.9,   5.8200,  34.1021,2,  34.1053,2,    301.8,2,  5.8121,    303.6,2,     5.42,2,    20.77,2,     0.17,2,     1.50,2,    4.691,2,    2.435,2,   -999.0,9,  -999.00,9,   -999.0,9,   -999.0,9,   -999.0,9,  -999.00,9, -999.00,  -999.0, -999.00,  -999.0
    31DSCG96_1,  P15S,    56,  1,    129,   1256,2,19960125,0307,-54.9970,-169.9995, 4820,   -999,    139.0,   4.3872,  34.1088,2,  34.1093,2,    305.5,2,  4.3773,    303.5,2,     8.62,2,    22.58,2,     0.29,2,     1.60,2, -999.000,5, -999.000,5,   -999.0,9,  -999.00,9,   -999.0,9,   -999.0,9,   -999.0,9,     7.76,2, -999.00,  -999.0, -999.00,  -999.0
    31DSCG96_1,  P15S,    56,  1,    128,   1007,2,19960125,0307,-54.9970,-169.9995, 4820,   -999,    191.2,   4.2649,  34.1169,2,  34.1165,2,    300.7,2,  4.2513,    298.0,2,     9.81,2,    23.60,2,     0.26,2,     1.64,2, -999.000,5, -999.000,5,   -999.0,9,  -999.00,9,   -999.0,9,   -999.0,9,   -999.0,9,     7.75,2, -999.00,  -999.0, -999.00,  -999.0
    31DSCG96_1,  P15S,    56,  1,    127,   1234,2,19960125,0307,-54.9970,-169.9995, 4820,   -999,    241.8,   4.1333,  34.1248,2,  34.1270,2,    288.6,2,  4.1163,    290.3,2,    11.69,2,    24.82,2,     0.02,2,     1.70,2,    4.460,2,    2.263,2,   -999.0,9,  -999.00,9,   -999.0,9,   -999.0,9,   -999.0,9,     7.73,2, -999.00,  -999.0, -999.00,  -999.0
    31DSCG96_1,  P15S,    56,  1,    126,   1025,2,19960125,0307,-54.9970,-169.9995, 4820,   -999,    288.4,   3.9312,  34.1210,2,  34.1224,2,    287.6,2,  3.9112,    287.9,2,    13.20,2,    25.57,2,     0.01,2,     1.74,2,   -0.012,4,    2.218,2,   -999.0,9,  -999.00,9,   -999.0,9,   -999.0,9,   -999.0,9,     7.72,2, -999.00,  -999.0, -999.00,  -999.0
    31DSCG96_1,  P15S,    56,  1,    125,   1233,2,19960125,0307,-54.9970,-169.9995, 4820,   -999,    376.8,   3.9348,  34.1705,2,  34.1661,2,    261.6,2,  3.9085,    263.4,2,    18.35,2,    27.44,2,     0.01,2,     1.87,2, -999.000,5, -999.000,5,   -999.0,9,  -999.00,9,   -999.0,9,   -999.0,9,   -999.0,9,     7.69,2, -999.00,  -999.0, -999.00,  -999.0
    31DSCG96_1,  P15S,    56,  1,    124,   1218,2,19960125,0307,-54.9970,-169.9995, 4820,   -999,    474.2,   4.0370,  34.2528,2,  34.2539,2,    229.5,2,  4.0031,    229.6,2,    26.95,2,    29.86,2,     0.00,2,     2.04,2,    2.490,2,    1.174,2,   -999.0,9,  -999.00,9,   -999.0,9,   -999.0,9,   -999.0,9,     7.65,2, -999.00,  -999.0, -999.00,  -999.0
    31DSCG96_1,  P15S,    56,  1,    123,   1250,2,19960125,0307,-54.9970,-169.9995, 4820,   -999,    576.4,   3.4509,  34.2647,2,  34.2656,2,    222.6,2,  3.4118,    224.4,2,    34.01,2,    31.34,2,     0.00,2,     2.14,2, -999.000,5, -999.000,5,   -999.0,9,  -999.00,9,   -999.0,9,   -999.0,9,   -999.0,9,     7.63,2, -999.00,  -999.0, -999.00,  -999.0
    31DSCG96_1,  P15S,    56,  1,    122,   1109,2,19960125,0307,-54.9970,-169.9995, 4820,   -999,    675.2,   3.1017,  34.3143,2,  34.3152,2,    211.3,2,  3.0573,    210.2,2,    42.96,6,    32.72,6,     0.00,6,     2.25,3,    1.666,2,    0.779,2,   -999.0,9,  -999.00,9,   -999.0,9,   -999.0,9,   -999.0,9,     7.60,2, -999.00,  -999.0, -999.00,  -999.0
    31DSCG96_1,  P15S,    56,  1,    121,   1246,2,19960125,0307,-54.9970,-169.9995, 4820,   -999,    776.8,   2.8954,  34.3706,2,  34.3709,2,    200.4,2,  2.8448,    197.6,2,    51.06,2,    33.64,2,     0.00,2,     2.30,2,    1.215,2,    0.570,2,   -999.0,9,  -999.00,9,   -999.0,9,   -999.0,9,   -999.0,9,     7.59,2, -999.00,  -999.0, -999.00,  -999.0
    31DSCG96_1,  P15S,    56,  1,    120,   1015,2,19960125,0307,-54.9970,-169.9995, 4820,   -999,    875.9,   2.7233,  34.4233,2,  34.4217,2,    188.9,2,  2.6667,    188.6,2,    57.90,2,    34.13,2,     0.00,2,     2.34,2,    0.907,2,    0.436,2,   -999.0,9,  -999.00,9,   -999.0,9,   -999.0,9,   -999.0,9,     7.58,2, -999.00,  -999.0, -999.00,  -999.0
    31DSCG96_1,  P15S,    56,  1,    119,   1247,2,19960125,0307,-54.9970,-169.9995, 4820,   -999,    974.5,   2.6145,  34.4734,2,  34.4742,2,    182.2,2,  2.5515,    182.2,2,    63.83,2,    34.30,2,     0.00,2,     2.35,2,    0.665,2,    0.312,2,   -999.0,9,  -999.00,9,   -999.0,9,   -999.0,9,   -999.0,9,     7.57,2, -999.00,  -999.0, -999.00,  -999.0
    31DSCG96_1,  P15S,    56,  1,    118,   1222,2,19960125,0307,-54.9970,-169.9995, 4820,   -999,   1075.3,   2.5141,  34.5158,2,  34.5163,2,    177.6,2,  2.4445,    176.4,2,    68.04,2,    34.40,2,     0.00,2,     2.35,2,    0.535,2,    0.253,2,   -999.0,9,  -999.00,9,   -999.0,9,   -999.0,9,   -999.0,9,     7.56,2, -999.00,  -999.0, -999.00,  -999.0
    31DSCG96_1,  P15S,    56,  1,    117,   1267,3,19960125,0307,-54.9970,-169.9995, 4820,   -999,   1216.5,   2.4291,  34.5824,2,-999.0000,9,    174.3,2,  2.3496,   -999.0,9,  -999.00,9,  -999.00,9,  -999.00,9,  -999.00,9, -999.000,9, -999.000,9,   -999.0,9,  -999.00,9,   -999.0,9,   -999.0,9,   -999.0,9,  -999.00,9, -999.00,  -999.0, -999.00,  -999.0
    31DSCG96_1,  P15S,    56,  1,    116,   1211,3,19960125,0307,-54.9970,-169.9995, 4820,   -999,   1440.2,   2.3130,  34.6557,2,-999.0000,9,    175.9,2,  2.2176,   -999.0,9,  -999.00,9,  -999.00,9,  -999.00,9,  -999.00,9, -999.000,9, -999.000,9,   -999.0,9,  -999.00,9,   -999.0,9,   -999.0,9,   -999.0,9,  -999.00,9, -999.00,  -999.0, -999.00,  -999.0
    31DSCG96_1,  P15S,    56,  1,    115,   1041,2,19960125,0307,-54.9970,-169.9995, 4820,   -999,   1691.2,   2.1759,  34.7036,2,  34.7067,3,    181.1,2,  2.0621,    182.6,2,    82.34,2,    31.90,2,     0.00,2,     2.18,2,    0.097,2,    0.053,2,   -999.0,9,  -999.00,9,   -999.0,9,   -999.0,9,   -999.0,9,     7.59,2, -999.00,  -999.0, -999.00,  -999.0
    31DSCG96_1,  P15S,    56,  1,    114,   1017,2,19960125,0307,-54.9970,-169.9995, 4820,   -999,   1941.4,   2.0160,  34.7282,2,  34.7312,2,    187.2,2,  1.8839,    188.3,2,    86.63,2,    31.27,2,     0.00,2,     2.14,2,    0.065,2,    0.036,2,   -999.0,9,  -999.00,9,   -999.0,9,   -999.0,9,   -999.0,9,     7.60,2, -999.00,  -999.0, -999.00,  -999.0
    31DSCG96_1,  P15S,    56,  1,    113,   1302,2,19960125,0307,-54.9970,-169.9995, 4820,   -999,   2193.3,   1.8471,  34.7374,2,  34.7388,2,    192.1,2,  1.6963,    192.3,2,    91.39,2,    31.13,2,     0.00,2,     2.13,2,    0.057,2,    0.026,2,   -999.0,9,  -999.00,9,   -999.0,9,   -999.0,9,   -999.0,9,     7.61,2, -999.00,  -999.0, -999.00,  -999.0
    31DSCG96_1,  P15S,    56,  1,    112,   1217,2,19960125,0307,-54.9970,-169.9995, 4820,   -999,   2442.9,   1.6571,  34.7377,2,  34.7380,2,    195.4,2,  1.4879,    195.6,2,    96.97,2,    31.12,2,     0.00,2,     2.13,2,    0.042,2,    0.022,2,   -999.0,9,  -999.00,9,   -999.0,9,   -999.0,9,   -999.0,9,     7.61,2, -999.00,  -999.0, -999.00,  -999.0
    31DSCG96_1,  P15S,    56,  1,    111,   1114,2,19960125,0307,-54.9970,-169.9995, 4820,   -999,   2692.4,   1.4832,  34.7338,2,  34.7339,2,    198.1,2,  1.2950,    198.1,2,   102.29,2,    31.35,2,     0.00,2,     2.14,2,    0.040,6,    0.021,6,   -999.0,9,  -999.00,9,   -999.0,9,   -999.0,9,   -999.0,9,     7.61,2, -999.00,  -999.0, -999.00,  -999.0
    31DSCG96_1,  P15S,    56,  1,    110,   1301,2,19960125,0307,-54.9970,-169.9995, 4820,   -999,   2936.6,   1.3227,  34.7283,2,  34.7292,2,    199.9,2,  1.1155,    200.5,6,   107.36,2,    31.53,2,     0.00,2,     2.16,2,    0.032,2,    0.017,2,   -999.0,9,  -999.00,9,   -999.0,9,   -999.0,9,   -999.0,9,     7.61,2, -999.00,  -999.0, -999.00,  -999.0
    31DSCG96_1,  P15S,    56,  1,    109,   1242,2,19960125,0307,-54.9970,-169.9995, 4820,   -999,   3188.6,   1.1760,  34.7219,2,  34.7219,2,    202.1,2,  0.9483,    202.6,2,   111.83,2,    31.76,2,     0.00,2,     2.17,2,    0.035,2,    0.021,2,   -999.0,9,  -999.00,9,   -999.0,9,   -999.0,9,   -999.0,9,     7.61,2, -999.00,  -999.0, -999.00,  -999.0
    31DSCG96_1,  P15S,    56,  1,    108,   1263,2,19960125,0307,-54.9970,-169.9995, 4820,   -999,   3433.7,   1.0478,  34.7163,2,  34.7158,2,    204.7,2,  0.7994,    205.6,6,   115.53,6,    31.92,6,     0.00,6,     2.15,3,    0.043,2,    0.024,2,   -999.0,9,  -999.00,9,   -999.0,9,   -999.0,9,   -999.0,9,     7.61,2, -999.00,  -999.0, -999.00,  -999.0
    31DSCG96_1,  P15S,    56,  1,    107,   1245,2,19960125,0307,-54.9970,-169.9995, 4820,   -999,   3683.9,   0.9523,  34.7114,2,  34.7138,2,    206.9,2,  0.6814,    207.3,2,   118.67,2,    32.03,2,     0.00,2,     2.19,2,    0.055,2,    0.024,2,   -999.0,9,  -999.00,9,   -999.0,9,   -999.0,9,   -999.0,9,     7.61,2, -999.00,  -999.0, -999.00,  -999.0
    31DSCG96_1,  P15S,    56,  1,    106,   1262,2,19960125,0307,-54.9970,-169.9995, 4820,   -999,   3938.4,   0.8942,  34.7082,2,  34.7081,2,    208.0,2,  0.5987,    208.3,6,   121.14,2,    32.13,2,     0.00,2,     2.19,2,    0.057,2,    0.029,2,   -999.0,9,  -999.00,9,   -999.0,9,   -999.0,9,   -999.0,9,     7.61,2, -999.00,  -999.0, -999.00,  -999.0
    31DSCG96_1,  P15S,    56,  1,    105,   1113,2,19960125,0307,-54.9970,-169.9995, 4820,   -999,   4184.8,   0.8713,  34.7062,2,  34.7082,2,    208.9,2,  0.5503,    209.5,2,   122.54,2,    32.20,2,     0.00,2,     2.20,2,    0.064,2,    0.033,2,   -999.0,9,  -999.00,9,   -999.0,9,   -999.0,9,   -999.0,9,     7.61,2, -999.00,  -999.0, -999.00,  -999.0
    31DSCG96_1,  P15S,    56,  1,    104,   1003,2,19960125,0307,-54.9970,-169.9995, 4820,   -999,   4440.0,   0.8735,  34.7050,2,  34.7049,2,    209.3,2,  0.5245,    210.6,2,   123.36,2,    32.18,2,     0.00,2,     2.20,2,    0.076,2,    0.040,2,   -999.0,9,  -999.00,9,   -999.0,9,   -999.0,9,   -999.0,9,     7.61,2, -999.00,  -999.0, -999.00,  -999.0
    31DSCG96_1,  P15S,    56,  1,    103,   9999,2,19960125,0307,-54.9970,-169.9995, 4820,   -999,   4854.7,   0.9022,  34.7046,2,  34.7039,2,    209.3,2,  0.5051,    210.0,2,   124.45,2,    32.28,2,     0.00,2,     2.20,2,    0.079,6,    0.043,6,   -999.0,9,  -999.00,9,   -999.0,9,   -999.0,9,   -999.0,9,     7.61,2, -999.00,  -999.0, -999.00,  -999.0
    31DSCG96_1,  P15S,    56,  1,    102,   1030,2,19960125,0307,-54.9970,-169.9995, 4820,   -999,   4854.8,   0.9020,  34.7044,2,  34.7037,2,    209.3,2,  0.5049,    210.2,2,   124.37,2,    32.24,2,     0.00,2,     2.20,2,    0.083,2,    0.044,2,   -999.0,9,  -999.00,9,   -999.0,9,   -999.0,9,   -999.0,9,     7.61,2, -999.00,  -999.0, -999.00,  -999.0
    31DSCG96_1,  P15S,    56,  1,    101,   1022,2,19960125,0307,-54.9970,-169.9995, 4820,   -999,   4914.0,   0.9095,  34.7041,2,  34.7042,2,    209.3,2,  0.5053,    209.9,2,   124.38,6,    32.24,6,     0.00,6,     2.20,6,    0.089,2,    0.042,2,   -999.0,9,  -999.00,9,   -999.0,9,   -999.0,9,   -999.0,9,     7.61,2, -999.00,  -999.0, -999.00,  -999.0