BOTTLE,20220811CCHSIOAMB
EXPOCODE,SECT_ID,STNNBR,CASTNO,SAMPNO,BTLNBR,BTLNBR_FLAG_W,DATE,TIME,LATITUDE,LONGITUDE,DEPTH,CTDRAW,CTDPRS,CTDTMP,CTDSAL,CTDSAL_FLAG_W,SALNTY,SALNTY_FLAG_W,CTDOXY,CTDOXY_FLAG_W,THETA,OXYGEN,OXYGEN_FLAG_W,SILCAT,SILCAT_FLAG_W,NITRAT,NITRAT_FLAG_W,NITRIT,NITRIT_FLAG_W,PHSPHT,PHSPHT_FLAG_W,CFC-11,CFC-11_FLAG_W,CFC-12,CFC-12_FLAG_W,DELC14,DELC14_FLAG_W,DELC13,DELC13_FLAG_W,TCARBN,TCARBN_FLAG_W,PCO2,PCO2_FLAG_W,ALKALI,ALKALI_FLAG_W,PH,PH_FLAG_W,PCO2TMP,C14ERR,PH_TMP,C13ERR
,,,,,,,,,,,,DBAR,DBAR,ITS-90,PSS-78,,PSS-78,,UMOL/KG,,DEG C,UMOL/KG,,UMOL/KG,,UMOL/KG,,UMOL/KG,,UMOL/KG,,PMOL/KG,,PMOL/KG,,/MILLE,,/MILLE,,UMOL/KG,,UATM,,UMOL/KG,,,,DEG C,/MILLE,DEG C,/MILLE
    31DSCG96_1,  P15S,    69,  2,    234,   1119,2,19960128,1633,-48.9928,-169.9905, 5235,   -999,     10.7,  13.3998,  34.5692,2,  34.5696,2,    273.7,2, 13.3983,    271.8,2,     0.88,2,     5.17,2,     0.10,2,     0.44,2,    3.347,2,    1.790,2,   -999.0,9,  -999.00,9,   2047.1,2,    422.3,6,   -999.0,9,     7.95,2, -999.00,  -999.0, -999.00,  -999.0
    31DSCG96_1,  P15S,    69,  2,    233,   1221,2,19960128,1633,-48.9928,-169.9905, 5235,   -999,     31.2,  12.7041,  34.5854,2,  34.5822,2,    282.2,2, 12.6999,    280.8,2,     0.88,2,     5.28,2,     0.10,2,     0.46,2,    3.456,2,    1.861,2,   -999.0,9,  -999.00,9,   -999.0,9,   -999.0,9,   -999.0,9,     7.94,2, -999.00,  -999.0, -999.00,  -999.0
    31DSCG96_1,  P15S,    69,  2,    232,   1039,2,19960128,1633,-48.9928,-169.9905, 5235,   -999,     54.9,  11.5540,  34.5838,2,  34.5885,2,    270.8,2, 11.5471,    273.2,2,     1.16,2,     6.35,2,     0.13,2,     0.55,2,    3.520,2,    1.868,2,   -999.0,9,  -999.00,9,   -999.0,9,   -999.0,9,   -999.0,9,     7.92,2, -999.00,  -999.0, -999.00,  -999.0
    31DSCG96_1,  P15S,    69,  2,    231,   1014,2,19960128,1633,-48.9928,-169.9905, 5235,   -999,     81.6,   9.9838,  34.5690,2,  34.5711,2,    277.4,2,  9.9745,    277.4,2,     1.27,2,     8.43,2,     0.18,2,     0.75,2,    3.822,6,    2.010,6,   -999.0,9,  -999.00,9,   -999.0,9,   -999.0,9,   -999.0,9,     7.87,2, -999.00,  -999.0, -999.00,  -999.0
    31DSCG96_1,  P15S,    69,  2,    230,   1257,2,19960128,1633,-48.9928,-169.9905, 5235,   -999,    116.2,   9.6737,  34.6273,2,  34.6276,2,    259.7,2,  9.6606,    260.4,2,     2.95,2,    12.01,2,     0.21,2,     0.91,2,    3.658,2,    2.020,2,   -999.0,9,  -999.00,9,   -999.0,9,   -999.0,9,   -999.0,9,     7.84,2, -999.00,  -999.0, -999.00,  -999.0
    31DSCG96_1,  P15S,    69,  2,    229,   1256,2,19960128,1633,-48.9928,-169.9905, 5235,   -999,    165.5,   8.8533,  34.5718,2,  34.5729,2,    256.9,2,  8.8356,    253.7,6,     4.44,2,    15.28,2,     0.01,2,     1.09,2,    3.572,2,    1.875,2,   -999.0,9,  -999.00,9,   -999.0,9,   -999.0,9,   -999.0,9,     7.81,2, -999.00,  -999.0, -999.00,  -999.0
    31DSCG96_1,  P15S,    69,  2,    228,   1007,2,19960128,1633,-48.9928,-169.9905, 5235,   -999,    216.5,   8.4377,  34.5353,2,  34.5379,2,    250.8,2,  8.4152,    255.3,2,     4.99,2,    16.24,2,     0.01,2,     1.15,2,    3.637,2,    1.887,2,   -999.0,9,  -999.00,9,   -999.0,9,   -999.0,9,   -999.0,9,     7.79,2, -999.00,  -999.0, -999.00,  -999.0
    31DSCG96_1,  P15S,    69,  2,    227,   1234,4,19960128,1633,-48.9928,-169.9905, 5235,   -999,    265.5,   8.1662,  34.5089,2,  34.5158,2,    260.9,2,  8.1391,    252.8,2,     5.67,2,    17.55,2,     0.01,2,     1.23,2, -999.000,5, -999.000,5,   -999.0,9,  -999.00,9,   -999.0,9,   -999.0,9,   -999.0,9,  -999.00,9, -999.00,  -999.0, -999.00,  -999.0
    31DSCG96_1,  P15S,    69,  2,    226,   1025,2,19960128,1633,-48.9928,-169.9905, 5235,   -999,    327.5,   7.8135,  34.4665,2,  34.4691,2,    254.5,2,  7.7808,    251.4,2,     6.23,2,    18.78,2,     0.01,2,     1.31,2,    3.523,2,    1.805,2,   -999.0,9,  -999.00,9,   -999.0,9,   -999.0,9,   -999.0,9,     7.77,2, -999.00,  -999.0, -999.00,  -999.0
    31DSCG96_1,  P15S,    69,  2,    225,   1233,2,19960128,1633,-48.9928,-169.9905, 5235,   -999,    424.9,   7.3623,  34.4211,2,  34.4202,2,    250.6,2,  7.3211,    251.5,2,     7.32,2,    20.34,2,     0.01,2,     1.41,2,    3.380,2,    1.716,2,   -999.0,9,  -999.00,9,   -999.0,9,   -999.0,9,   -999.0,9,     7.76,2, -999.00,  -999.0, -999.00,  -999.0
    31DSCG96_1,  P15S,    69,  2,    224,   1218,2,19960128,1633,-48.9928,-169.9905, 5235,   -999,    524.0,   6.9837,  34.3883,2,  34.3883,2,    254.8,2,  6.9340,    254.9,2,     8.27,2,    21.05,2,     0.01,2,     1.47,2,    3.301,2,    1.676,2,   -999.0,9,  -999.00,9,   -999.0,9,   -999.0,9,   -999.0,9,     7.76,2, -999.00,  -999.0, -999.00,  -999.0
    31DSCG96_1,  P15S,    69,  2,    223,   1250,2,19960128,1633,-48.9928,-169.9905, 5235,   -999,    624.4,   6.5732,  34.3537,2,  34.3537,2,    251.1,2,  6.5155,    250.2,2,    10.16,2,    22.44,2,     0.01,2,     1.56,2,    3.078,2,    1.545,2,   -999.0,9,  -999.00,9,   -999.0,9,   -999.0,9,   -999.0,9,     7.74,2, -999.00,  -999.0, -999.00,  -999.0
    31DSCG96_1,  P15S,    69,  2,    222,   1109,2,19960128,1633,-48.9928,-169.9905, 5235,   -999,    727.1,   6.1095,  34.3466,2,  34.3480,2,    231.7,2,  6.0444,    230.8,2,    14.98,2,    25.16,2,     0.00,2,     1.73,2,    2.243,2,    1.112,2,   -999.0,9,  -999.00,9,   -999.0,9,   -999.0,9,   -999.0,9,     7.71,2, -999.00,  -999.0, -999.00,  -999.0
    31DSCG96_1,  P15S,    69,  2,    221,   1246,2,19960128,1633,-48.9928,-169.9905, 5235,   -999,    828.0,   5.6354,  34.3436,2,  34.3426,2,    221.7,2,  5.5637,    219.8,6,    20.10,2,    27.06,2,     0.00,2,     1.86,2,    1.814,2,    0.904,2,   -999.0,9,  -999.00,9,   -999.0,9,   -999.0,9,   -999.0,9,     7.68,2, -999.00,  -999.0, -999.00,  -999.0
    31DSCG96_1,  P15S,    69,  2,    220,   1015,2,19960128,1633,-48.9928,-169.9905, 5235,   -999,    936.9,   5.1077,  34.3524,2,  34.3514,2,    211.2,2,  5.0296,    209.8,2,    27.09,2,    28.96,2,     0.00,2,     1.99,2,    1.355,2,    0.664,2,   -999.0,9,  -999.00,9,   -999.0,9,   -999.0,9,   -999.0,9,     7.66,2, -999.00,  -999.0, -999.00,  -999.0
    31DSCG96_1,  P15S,    69,  2,    219,   1247,2,19960128,1633,-48.9928,-169.9905, 5235,   -999,   1076.6,   4.2822,  34.3495,2,  34.3496,2,    204.5,2,  4.1981,    203.7,2,    35.95,2,    30.95,2,     0.00,2,     2.12,2,    1.162,2,    0.576,2,   -999.0,9,  -999.00,9,   -999.0,9,   -999.0,9,   -999.0,9,     7.63,2, -999.00,  -999.0, -999.00,  -999.0
    31DSCG96_1,  P15S,    69,  2,    218,   1222,2,19960128,1633,-48.9928,-169.9905, 5235,   -999,   1139.7,   4.0053,  34.3591,2,  34.3596,2,    202.4,2,  3.9181,    200.7,2,    40.37,2,    31.62,2,     0.00,2,     2.18,2,    1.084,2,    0.524,2,   -999.0,9,  -999.00,9,   -999.0,9,   -999.0,9,   -999.0,9,     7.62,2, -999.00,  -999.0, -999.00,  -999.0
    31DSCG96_1,  P15S,    69,  2,    217,   1267,2,19960128,1633,-48.9928,-169.9905, 5235,   -999,   1310.5,   3.3221,  34.3972,2,  34.3986,2,    193.8,2,  3.2269,    192.0,2,    51.93,2,    33.21,2,     0.00,2,     2.30,2,    0.854,2,    0.434,2,   -999.0,9,  -999.00,9,   -999.0,9,   -999.0,9,   -999.0,9,     7.59,2, -999.00,  -999.0, -999.00,  -999.0
    31DSCG96_1,  P15S,    69,  2,    216,   1211,2,19960128,1633,-48.9928,-169.9905, 5235,   -999,   1560.1,   2.8656,  34.4915,2,  34.4913,2,    178.1,2,  2.7545,    177.0,2,    67.36,2,    34.20,2,     0.00,2,     2.35,2,    0.443,2,    0.223,2,   -999.0,9,  -999.00,9,   -999.0,9,   -999.0,9,   -999.0,9,     7.58,2, -999.00,  -999.0, -999.00,  -999.0
    31DSCG96_1,  P15S,    69,  2,    215,   1041,2,19960128,1633,-48.9928,-169.9905, 5235,   -999,   1814.4,   2.5706,  34.5781,2,  34.5773,2,    171.8,2,  2.4417,    170.4,2,    78.03,2,    34.20,2,     0.00,2,     2.35,2,    0.223,2,    0.123,2,   -999.0,9,  -999.00,9,   -999.0,9,   -999.0,9,   -999.0,9,     7.57,2, -999.00,  -999.0, -999.00,  -999.0
    31DSCG96_1,  P15S,    69,  2,    214,   1017,2,19960128,1633,-48.9928,-169.9905, 5235,   -999,   2064.4,   2.3789,  34.6449,2,  34.6448,2,    173.2,2,  2.2310,    172.5,2,    83.02,2,    33.50,2,     0.00,2,     2.29,2,    0.124,2,    0.065,2,   -999.0,9,  -999.00,9,   -999.0,9,   -999.0,9,   -999.0,9,     7.58,2, -999.00,  -999.0, -999.00,  -999.0
    31DSCG96_1,  P15S,    69,  2,    213,   1302,2,19960128,1633,-48.9928,-169.9905, 5235,   -999,   2314.2,   2.2471,  34.6890,2,  34.6881,2,    179.2,2,  2.0790,    178.4,6,    84.75,2,    32.57,2,     0.00,2,     2.23,2,    0.083,2,    0.042,2,   -999.0,9,  -999.00,9,   -999.0,9,   -999.0,9,   -999.0,9,     7.59,2, -999.00,  -999.0, -999.00,  -999.0
    31DSCG96_1,  P15S,    69,  2,    212,   1217,2,19960128,1633,-48.9928,-169.9905, 5235,   -999,   2561.5,   2.1080,  34.7191,2,  34.7182,2,    185.8,2,  1.9197,    185.2,2,    86.99,2,    31.79,2,     0.00,2,     2.17,2,    0.060,2,    0.035,2,   -999.0,9,  -999.00,9,   -999.0,9,   -999.0,9,   -999.0,9,     7.60,2, -999.00,  -999.0, -999.00,  -999.0
    31DSCG96_1,  P15S,    69,  2,    211,   1114,2,19960128,1633,-48.9928,-169.9905, 5235,   -999,   2812.7,   1.9343,  34.7343,2,  34.7355,2,    191.1,2,  1.7257,    190.8,2,    91.34,2,    31.44,2,     0.00,2,     2.14,2,    0.041,2,    0.024,2,   -999.0,9,  -999.00,9,   -999.0,9,   -999.0,9,   -999.0,9,     7.61,2, -999.00,  -999.0, -999.00,  -999.0
    31DSCG96_1,  P15S,    69,  2,    210,   1301,2,19960128,1633,-48.9928,-169.9905, 5235,   -999,   3064.4,   1.7511,  34.7369,2,  34.7360,2,    195.0,2,  1.5221,    194.2,2,    96.33,2,    31.37,2,     0.00,2,     2.14,2,    0.037,2,    0.019,2,   -999.0,9,  -999.00,9,   -999.0,9,   -999.0,9,   -999.0,9,     7.61,2, -999.00,  -999.0, -999.00,  -999.0
    31DSCG96_1,  P15S,    69,  2,    209,   1242,2,19960128,1633,-48.9928,-169.9905, 5235,   -999,   3310.0,   1.5548,  34.7342,2,  34.7334,2,    197.7,2,  1.3061,    197.7,2,   102.58,2,    31.53,2,     0.00,2,     2.15,2,    0.029,2,    0.019,2,   -999.0,9,  -999.00,9,   -999.0,9,   -999.0,9,   -999.0,9,     7.61,2, -999.00,  -999.0, -999.00,  -999.0
    31DSCG96_1,  P15S,    69,  2,    208,   1263,2,19960128,1633,-48.9928,-169.9905, 5235,   -999,   3562.3,   1.3740,  34.7287,2,  34.7273,2,    200.8,2,  1.1044,    200.4,6,   107.98,2,    31.74,2,     0.00,2,     2.16,2,    0.027,2,    0.018,2,   -999.0,9,  -999.00,9,   -999.0,9,   -999.0,9,   -999.0,9,     7.61,2, -999.00,  -999.0, -999.00,  -999.0
    31DSCG96_1,  P15S,    69,  2,    207,   1245,2,19960128,1633,-48.9928,-169.9905, 5235,   -999,   3813.6,   1.2188,  34.7221,2,  34.7211,2,    203.8,2,  0.9273,    203.1,2,   112.58,2,    31.86,2,     0.00,2,     2.17,2,    0.027,2,    0.018,2,   -999.0,9,  -999.00,9,   -999.0,9,   -999.0,9,   -999.0,9,     7.61,2, -999.00,  -999.0, -999.00,  -999.0
    31DSCG96_1,  P15S,    69,  2,    206,   1262,2,19960128,1633,-48.9928,-169.9905, 5235,   -999,   4064.4,   1.0836,  34.7162,2,  34.7158,2,    206.1,2,  0.7693,    205.6,2,   116.77,2,    32.08,2,     0.00,2,     2.18,2,    0.039,2,    0.021,2,   -999.0,9,  -999.00,9,   -999.0,9,   -999.0,9,   -999.0,9,     7.61,2, -999.00,  -999.0, -999.00,  -999.0
    31DSCG96_1,  P15S,    69,  2,    205,   1113,2,19960128,1633,-48.9928,-169.9905, 5235,   -999,   4314.1,   0.9910,  34.7109,2,  34.7099,2,    207.7,2,  0.6523,    207.4,2,   119.88,2,    32.23,2,     0.00,2,     2.19,2,    0.047,2,    0.027,2,   -999.0,9,  -999.00,9,   -999.0,9,   -999.0,9,   -999.0,9,     7.61,2, -999.00,  -999.0, -999.00,  -999.0
    31DSCG96_1,  P15S,    69,  2,    204,   1003,2,19960128,1633,-48.9928,-169.9905, 5235,   -999,   4569.2,   0.9515,  34.7080,2,  34.7091,2,    208.8,2,  0.5856,    208.0,2,   121.84,2,    32.30,2,     0.00,2,     2.20,2, -999.000,5, -999.000,5,   -999.0,9,  -999.00,9,   -999.0,9,   -999.0,9,   -999.0,9,     7.61,2, -999.00,  -999.0, -999.00,  -999.0
    31DSCG96_1,  P15S,    69,  2,    203,    422,2,19960128,1633,-48.9928,-169.9905, 5235,   -999,   4819.2,   0.9474,  34.7066,2,  34.7057,2,    209.3,2,  0.5530,    208.9,2,   123.04,2,    32.37,2,     0.00,2,     2.20,2,    0.050,2,    0.031,2,   -999.0,9,  -999.00,9,   -999.0,9,   -999.0,9,   -999.0,9,  -999.00,9, -999.00,  -999.0, -999.00,  -999.0
    31DSCG96_1,  P15S,    69,  2,    202,   1030,2,19960128,1633,-48.9928,-169.9905, 5235,   -999,   5056.8,   0.9573,  34.7057,2,  34.7048,2,    209.7,2,  0.5345,    208.8,2,   123.31,2,    32.34,2,     0.00,2,     2.20,2,    0.066,2,    0.039,2,   -999.0,9,  -999.00,9,   -999.0,9,   -999.0,9,   -999.0,9,     7.61,2, -999.00,  -999.0, -999.00,  -999.0
    31DSCG96_1,  P15S,    69,  2,    201,   1022,2,19960128,1633,-48.9928,-169.9905, 5235,   -999,   5338.1,   0.9737,  34.7048,2,  34.7048,2,    209.3,2,  0.5162,    209.3,2,   124.02,6,    32.39,6,     0.00,6,     2.20,6,    0.081,6,    0.042,6,   -999.0,9,  -999.00,9,   -999.0,9,   -999.0,9,   -999.0,9,     7.61,2, -999.00,  -999.0, -999.00,  -999.0