BOTTLE,20220811CCHSIOAMB
EXPOCODE,SECT_ID,STNNBR,CASTNO,SAMPNO,BTLNBR,BTLNBR_FLAG_W,DATE,TIME,LATITUDE,LONGITUDE,DEPTH,CTDRAW,CTDPRS,CTDTMP,CTDSAL,CTDSAL_FLAG_W,SALNTY,SALNTY_FLAG_W,CTDOXY,CTDOXY_FLAG_W,THETA,OXYGEN,OXYGEN_FLAG_W,SILCAT,SILCAT_FLAG_W,NITRAT,NITRAT_FLAG_W,NITRIT,NITRIT_FLAG_W,PHSPHT,PHSPHT_FLAG_W,CFC-11,CFC-11_FLAG_W,CFC-12,CFC-12_FLAG_W,DELC14,DELC14_FLAG_W,DELC13,DELC13_FLAG_W,TCARBN,TCARBN_FLAG_W,PCO2,PCO2_FLAG_W,ALKALI,ALKALI_FLAG_W,PH,PH_FLAG_W,PCO2TMP,C14ERR,PH_TMP,C13ERR
,,,,,,,,,,,,DBAR,DBAR,ITS-90,PSS-78,,PSS-78,,UMOL/KG,,DEG C,UMOL/KG,,UMOL/KG,,UMOL/KG,,UMOL/KG,,UMOL/KG,,PMOL/KG,,PMOL/KG,,/MILLE,,/MILLE,,UMOL/KG,,UATM,,UMOL/KG,,,,DEG C,/MILLE,DEG C,/MILLE
    31DSCG96_1,  P15S,    41,  1,    140,   -999,2,19960120,1206,-62.4992,-169.9960, 2504,   -999,      0.0,-999.0000,-999.0000,9,-999.0000,5,   -999.0,9,-999.0000,   -999.0,9,  -999.00,9,  -999.00,9,  -999.00,9,  -999.00,9, -999.000,9, -999.000,9,   -999.0,9,  -999.00,9,   2192.2,2,   -999.0,9,   -999.0,9,  -999.00,9, -999.00,  -999.0, -999.00,  -999.0
    31DSCG96_1,  P15S,    41,  1,    130,   1257,2,19960120,1206,-62.4992,-169.9960, 2504,   -999,      8.3,   0.8207,  33.7172,2,  33.7208,2,    350.5,2,  0.8203,    354.3,2,     5.15,2,    23.15,2,     0.22,2,     1.32,2, -999.000,9, -999.000,9,   -999.0,9,  -999.00,9,   -999.0,9,   -999.0,9,   -999.0,9,  -999.00,9, -999.00,  -999.0, -999.00,  -999.0
    31DSCG96_1,  P15S,    41,  1,    132,   1039,2,19960120,1206,-62.4992,-169.9960, 2504,   -999,      9.1,   0.8228,  33.7193,2,  33.7204,2,    350.6,2,  0.8224,    354.8,2,     5.17,2,    23.18,2,     0.22,2,     1.30,2, -999.000,9, -999.000,9,   -999.0,9,  -999.00,9,   -999.0,9,   -999.0,9,   -999.0,9,  -999.00,9, -999.00,  -999.0, -999.00,  -999.0
    31DSCG96_1,  P15S,    41,  1,    131,   1042,2,19960120,1206,-62.4992,-169.9960, 2504,   -999,      9.3,   0.8262,  33.7187,2,  33.7208,2,    350.6,2,  0.8258,    354.4,2,     5.15,2,    23.18,2,     0.22,2,     1.30,2, -999.000,9, -999.000,9,   -999.0,9,  -999.00,9,   -999.0,9,    700.2,6,   -999.0,9,     7.77,2, -999.00,  -999.0, -999.00,  -999.0
    31DSCG96_1,  P15S,    41,  1,    134,   1119,2,19960120,1206,-62.4992,-169.9960, 2504,   -999,     10.2,   0.8239,  33.7188,2,  33.7208,2,    351.5,2,  0.8235,    354.5,2,     5.10,2,    23.23,2,     0.22,2,     1.31,2, -999.000,9, -999.000,9,    -79.0,2,  -999.00,9,   -999.0,9,   -999.0,9,   -999.0,9,  -999.00,9, -999.00,     2.8, -999.00,  -999.0
    31DSCG96_1,  P15S,    41,  1,    133,   1221,2,19960120,1206,-62.4992,-169.9960, 2504,   -999,     11.2,   0.8242,  33.7186,2,  33.7207,2,    352.0,2,  0.8237,    354.0,2,     5.11,2,    23.19,2,     0.22,2,     1.30,2,    6.733,6,    3.203,6,   -999.0,9,  -999.00,9,   -999.0,9,   -999.0,9,   -999.0,9,  -999.00,9, -999.00,  -999.0, -999.00,  -999.0
    31DSCG96_1,  P15S,    41,  1,    129,   1256,2,19960120,1206,-62.4992,-169.9960, 2504,   -999,     25.3,   0.8291,  33.7189,2,  33.7203,2,    353.2,2,  0.8280,    354.4,2,     5.00,2,    23.17,2,     0.22,2,     1.31,2,    6.771,2,    3.210,2,   -999.0,9,  -999.00,9,   -999.0,9,   -999.0,9,   -999.0,9,     7.77,2, -999.00,  -999.0, -999.00,  -999.0
    31DSCG96_1,  P15S,    41,  1,    128,   1007,2,19960120,1206,-62.4992,-169.9960, 2504,   -999,     53.9,   0.7387,  33.7235,2,  33.7232,2,    347.4,2,  0.7365,    354.0,2,     5.75,2,    23.28,2,     0.22,2,     1.36,2, -999.000,9, -999.000,9,   -999.0,9,  -999.00,9,   -999.0,9,   -999.0,9,   -999.0,9,     7.77,2, -999.00,  -999.0, -999.00,  -999.0
    31DSCG96_1,  P15S,    41,  1,    127,   1234,2,19960120,1206,-62.4992,-169.9960, 2504,   -999,     79.8,  -0.5901,  33.8504,2,  33.8517,2,    338.9,2, -0.5925,    338.2,6,    34.33,2,    27.29,2,     0.17,2,     2.00,2,    6.615,2,    3.165,2,   -999.0,9,  -999.00,9,   -999.0,9,   -999.0,9,   -999.0,9,     7.69,2, -999.00,  -999.0, -999.00,  -999.0
    31DSCG96_1,  P15S,    41,  1,    126,   1025,2,19960120,1206,-62.4992,-169.9960, 2504,   -999,    103.1,  -0.5150,  33.9904,2,  33.9915,2,    327.9,2, -0.5182,    317.5,2,    45.22,2,    30.13,2,     0.18,2,     2.12,2, -999.000,9, -999.000,9,   -999.0,9,  -999.00,9,   -999.0,9,   -999.0,9,   -999.0,9,     7.65,2, -999.00,  -999.0, -999.00,  -999.0
    31DSCG96_1,  P15S,    41,  1,    125,   1233,2,19960120,1206,-62.4992,-169.9960, 2504,   -999,    129.7,  -0.1444,  34.0760,2,  34.0759,2,    301.2,2, -0.1489,    295.3,2,    49.98,2,    31.64,2,     0.22,2,     2.17,2,    4.987,2,    2.390,2,   -999.0,9,  -999.00,9,   -999.0,9,   -999.0,9,   -999.0,9,     7.62,2, -999.00,  -999.0, -999.00,  -999.0
    31DSCG96_1,  P15S,    41,  1,    124,   1218,2,19960120,1206,-62.4992,-169.9960, 2504,   -999,    150.3,   0.4761,  34.1674,2,  34.1657,2,    280.8,2,  0.4701,    270.6,2,    51.94,2,    32.55,2,     0.07,2,     2.22,2, -999.000,9, -999.000,9,   -999.0,9,  -999.00,9,   -999.0,9,   -999.0,9,   -999.0,9,     7.61,2, -999.00,  -999.0, -999.00,  -999.0
    31DSCG96_1,  P15S,    41,  1,    123,   1250,2,19960120,1206,-62.4992,-169.9960, 2504,   -999,    178.9,   0.5020,  34.2038,2,  34.2118,2,    244.8,2,  0.4948,    260.9,2,    55.47,2,    32.95,2,     0.04,2,     2.26,2,    3.922,2,    1.861,2,   -999.0,9,  -999.00,9,   -999.0,9,   -999.0,9,   -999.0,9,     7.60,2, -999.00,  -999.0, -999.00,  -999.0
    31DSCG96_1,  P15S,    41,  1,    122,   1109,2,19960120,1206,-62.4992,-169.9960, 2504,   -999,    203.1,   1.1461,  34.3045,2,  34.3039,2,    236.3,2,  1.1368,    229.5,2,    59.37,2,    34.03,2,     0.01,2,     2.32,2, -999.000,9, -999.000,9,   -999.0,9,  -999.00,9,   -999.0,9,   -999.0,9,   -999.0,9,     7.58,2, -999.00,  -999.0, -999.00,  -999.0
    31DSCG96_1,  P15S,    41,  1,    121,   1246,2,19960120,1206,-62.4992,-169.9960, 2504,   -999,    227.2,   1.6918,  34.3894,2,  34.3885,2,    206.7,2,  1.6802,    203.8,6,    63.19,2,    34.75,2,     0.01,2,     2.38,2,    1.883,2,    0.881,2,   -999.0,9,  -999.00,9,   -999.0,9,   -999.0,9,   -999.0,9,     7.56,2, -999.00,  -999.0, -999.00,  -999.0
    31DSCG96_1,  P15S,    41,  1,    120,   1015,2,19960120,1206,-62.4992,-169.9960, 2504,   -999,    263.6,   2.0116,  34.4545,2,  34.4528,2,    187.3,2,  1.9974,    187.1,2,    66.76,2,    35.02,2,     0.00,2,     2.39,2, -999.000,9, -999.000,9,   -999.0,9,  -999.00,9,   -999.0,9,   -999.0,9,   -999.0,9,     7.55,2, -999.00,  -999.0, -999.00,  -999.0
    31DSCG96_1,  P15S,    41,  1,    119,   1247,2,19960120,1206,-62.4992,-169.9960, 2504,   -999,    313.2,   2.1502,  34.5214,2,  34.5207,2,    177.4,2,  2.1327,    175.5,2,    71.45,2,    35.11,2,     0.00,2,     2.39,2,    0.791,2,    0.365,2,   -999.0,9,  -999.00,9,   -999.0,9,   -999.0,9,   -999.0,9,     7.55,2, -999.00,  -999.0, -999.00,  -999.0
    31DSCG96_1,  P15S,    41,  1,    118,   1222,2,19960120,1206,-62.4992,-169.9960, 2504,   -999,    363.0,   2.2338,  34.5717,2,  34.5732,2,    172.5,2,  2.2132,    171.3,2,    74.24,2,    34.58,2,     0.00,2,     2.35,2, -999.000,9, -999.000,9,   -999.0,9,  -999.00,9,   -999.0,9,   -999.0,9,   -999.0,9,     7.55,2, -999.00,  -999.0, -999.00,  -999.0
    31DSCG96_1,  P15S,    41,  1,    117,   1267,2,19960120,1206,-62.4992,-169.9960, 2504,   -999,    413.8,   2.2334,  34.5891,2,  34.5904,2,    171.2,2,  2.2097,    171.8,2,    75.40,2,    34.44,2,     0.00,2,     2.35,2,    0.438,2,    0.203,2,   -999.0,9,  -999.00,9,   -999.0,9,   -999.0,9,   -999.0,9,     7.55,2, -999.00,  -999.0, -999.00,  -999.0
    31DSCG96_1,  P15S,    41,  1,    116,   1211,2,19960120,1206,-62.4992,-169.9960, 2504,   -999,    436.9,   2.2404,  34.5996,2,  34.5995,2,    171.3,2,  2.2153,    171.7,2,    75.71,2,    34.18,2,     0.00,2,     2.33,2, -999.000,9, -999.000,9,   -999.0,9,  -999.00,9,   -999.0,9,   -999.0,9,   -999.0,9,     7.56,2, -999.00,  -999.0, -999.00,  -999.0
    31DSCG96_1,  P15S,    41,  1,    115,   1041,2,19960120,1206,-62.4992,-169.9960, 2504,   -999,    514.5,   2.2270,  34.6358,2,  34.6352,2,    173.2,2,  2.1971,    172.7,6,    77.76,2,    33.48,2,     0.00,2,     2.28,2,    0.277,2,    0.127,2,   -999.0,9,  -999.00,9,   -999.0,9,   -999.0,9,   -999.0,9,     7.57,2, -999.00,  -999.0, -999.00,  -999.0
    31DSCG96_1,  P15S,    41,  1,    114,   1017,2,19960120,1206,-62.4992,-169.9960, 2504,   -999,    562.6,   2.2352,  34.6537,2,  34.6529,2,    174.3,2,  2.2022,    174.7,2,    78.38,2,    33.11,2,     0.00,2,     2.26,2, -999.000,9, -999.000,9,   -999.0,9,  -999.00,9,   -999.0,9,   -999.0,9,   -999.0,9,     7.57,2, -999.00,  -999.0, -999.00,  -999.0
    31DSCG96_1,  P15S,    41,  1,    113,   1008,2,19960120,1206,-62.4992,-169.9960, 2504,   -999,    623.8,   2.1981,  34.6699,2,  34.6692,2,    176.2,2,  2.1614,    176.3,2,    79.56,2,    32.87,2,     0.00,2,     2.23,2,    0.187,2,    0.088,2,   -999.0,9,  -999.00,9,   -999.0,9,   -999.0,9,   -999.0,9,     7.58,2, -999.00,  -999.0, -999.00,  -999.0
    31DSCG96_1,  P15S,    41,  1,    112,   1217,2,19960120,1206,-62.4992,-169.9960, 2504,   -999,    724.1,   2.1282,  34.6922,2,  34.6934,2,    180.1,2,  2.0854,    179.0,2,    81.44,2,    32.45,2,     0.00,2,     2.21,2,    0.157,2,    0.073,2,   -999.0,9,  -999.00,9,   -999.0,9,   -999.0,9,   -999.0,9,     7.59,2, -999.00,  -999.0, -999.00,  -999.0
    31DSCG96_1,  P15S,    41,  1,    111,   1114,2,19960120,1206,-62.4992,-169.9960, 2504,   -999,    808.0,   2.0801,  34.7088,2,  34.7083,2,    181.4,2,  2.0321,    182.5,2,    82.87,2,    31.92,2,     0.00,2,     2.17,2,    0.133,2,    0.057,2,   -999.0,9,  -999.00,9,   -999.0,9,   -999.0,9,   -999.0,9,     7.59,2, -999.00,  -999.0, -999.00,  -999.0
    31DSCG96_1,  P15S,    41,  1,    110,   1036,2,19960120,1206,-62.4992,-169.9960, 2504,   -999,    924.9,   2.0311,  34.7182,2,  34.7175,2,    185.6,2,  1.9756,    184.2,2,    84.05,2,    31.71,2,     0.00,2,     2.15,2,    0.111,2,    0.056,2,   -999.0,9,  -999.00,9,   -999.0,9,   -999.0,9,   -999.0,9,     7.60,2, -999.00,  -999.0, -999.00,  -999.0
    31DSCG96_1,  P15S,    41,  1,    109,   1216,2,19960120,1206,-62.4992,-169.9960, 2504,   -999,   1026.0,   1.9552,  34.7280,2,  34.7271,2,    188.3,2,  1.8934,    186.8,6,    86.13,2,    31.42,2,     0.00,2,     2.13,2,    0.092,2,    0.045,2,   -999.0,9,  -999.00,9,   -999.0,9,   -999.0,9,   -999.0,9,     7.60,2, -999.00,  -999.0, -999.00,  -999.0
    31DSCG96_1,  P15S,    41,  1,    108,   1263,2,19960120,1206,-62.4992,-169.9960, 2504,   -999,   1147.4,   1.8723,  34.7352,2,  34.7348,2,    190.0,2,  1.8027,    189.5,2,    88.32,2,    31.23,2,     0.00,2,     2.12,2,    0.096,2,    0.044,2,   -999.0,9,  -999.00,9,   -999.0,9,   -999.0,9,   -999.0,9,     7.61,2, -999.00,  -999.0, -999.00,  -999.0
    31DSCG96_1,  P15S,    41,  1,    107,   1245,2,19960120,1206,-62.4992,-169.9960, 2504,   -999,   1315.8,   1.7240,  34.7393,2,  34.7390,2,    193.5,2,  1.6439,    192.8,2,    92.37,2,    31.19,2,     0.00,2,     2.11,2,    0.086,2,    0.037,2,   -999.0,9,  -999.00,9,   -999.0,9,   -999.0,9,   -999.0,9,     7.61,2, -999.00,  -999.0, -999.00,  -999.0
    31DSCG96_1,  P15S,    41,  1,    106,   1262,2,19960120,1206,-62.4992,-169.9960, 2504,   -999,   1566.5,   1.5244,  34.7375,2,  34.7374,2,    196.9,2,  1.4284,    196.3,2,    97.89,2,    31.28,2,     0.00,2,     2.12,2,    0.090,2,    0.038,2,   -999.0,9,  -999.00,9,   -999.0,9,   -999.0,9,   -999.0,9,     7.61,2, -999.00,  -999.0, -999.00,  -999.0
    31DSCG96_1,  P15S,    41,  1,    105,   1113,2,19960120,1206,-62.4992,-169.9960, 2504,   -999,   1816.9,   1.3388,  34.7322,2,  34.7318,2,    198.3,2,  1.2264,    199.0,2,   103.65,2,    31.44,2,     0.00,2,     2.14,2,    0.067,2,    0.033,2,   -999.0,9,  -999.00,9,   -999.0,9,   -999.0,9,   -999.0,9,     7.61,2, -999.00,  -999.0, -999.00,  -999.0
    31DSCG96_1,  P15S,    41,  1,    104,   1003,2,19960120,1206,-62.4992,-169.9960, 2504,   -999,   2060.8,   1.1464,  34.7243,2,  34.7237,2,    201.9,2,  1.0179,    201.2,2,   109.25,2,    31.70,2,     0.00,2,     2.16,2,    0.073,2,    0.039,2,   -999.0,9,  -999.00,9,   -999.0,9,   -999.0,9,   -999.0,9,     7.61,2, -999.00,  -999.0, -999.00,  -999.0
    31DSCG96_1,  P15S,    41,  1,    102,   1027,2,19960120,1206,-62.4992,-169.9960, 2504,   -999,   2310.5,   0.9829,  34.7171,2,  34.7160,2,    204.1,2,  0.8371,    203.7,2,   114.40,2,    31.96,2,     0.00,2,     2.18,2,    0.085,2,    0.043,2,   -999.0,9,  -999.00,9,   -999.0,9,   -999.0,9,   -999.0,9,     7.61,2, -999.00,  -999.0, -999.00,  -999.0
    31DSCG96_1,  P15S,    41,  1,    103,   9999,2,19960120,1206,-62.4992,-169.9960, 2504,   -999,   2311.6,   0.9832,  34.7172,2,  34.7169,2,    204.1,2,  0.8373,    204.0,2,   114.43,2,    31.98,2,     0.00,2,     2.18,2,    0.078,6,    0.039,6,   -999.0,9,  -999.00,9,   -999.0,9,   -999.0,9,   -999.0,9,     7.61,2, -999.00,  -999.0, -999.00,  -999.0
    31DSCG96_1,  P15S,    41,  1,    101,   1022,2,19960120,1206,-62.4992,-169.9960, 2504,   -999,   2472.4,   0.8541,  34.7118,2,  34.7106,2,    206.1,2,  0.6974,    205.5,2,   119.37,2,    32.15,6,     0.00,6,     2.19,6,    0.081,2,    0.039,2,   -999.0,9,  -999.00,9,   -999.0,9,   -999.0,9,   -999.0,9,     7.61,2, -999.00,  -999.0, -999.00,  -999.0