BOTTLE,20220811CCHSIOAMB
EXPOCODE,SECT_ID,STNNBR,CASTNO,SAMPNO,BTLNBR,BTLNBR_FLAG_W,DATE,TIME,LATITUDE,LONGITUDE,DEPTH,CTDRAW,CTDPRS,CTDTMP,CTDSAL,CTDSAL_FLAG_W,SALNTY,SALNTY_FLAG_W,CTDOXY,CTDOXY_FLAG_W,THETA,OXYGEN,OXYGEN_FLAG_W,SILCAT,SILCAT_FLAG_W,NITRAT,NITRAT_FLAG_W,NITRIT,NITRIT_FLAG_W,PHSPHT,PHSPHT_FLAG_W,CFC-11,CFC-11_FLAG_W,CFC-12,CFC-12_FLAG_W,DELC14,DELC14_FLAG_W,DELC13,DELC13_FLAG_W,TCARBN,TCARBN_FLAG_W,PCO2,PCO2_FLAG_W,ALKALI,ALKALI_FLAG_W,PH,PH_FLAG_W,PCO2TMP,C14ERR,PH_TMP,C13ERR
,,,,,,,,,,,,DBAR,DBAR,ITS-90,PSS-78,,PSS-78,,UMOL/KG,,DEG C,UMOL/KG,,UMOL/KG,,UMOL/KG,,UMOL/KG,,UMOL/KG,,PMOL/KG,,PMOL/KG,,/MILLE,,/MILLE,,UMOL/KG,,UATM,,UMOL/KG,,,,DEG C,/MILLE,DEG C,/MILLE
    31DSCG96_2,  P15S,   100,  1,    136,   1245,2,19960215,1033,-37.7628,-171.1997, 4980,   -999,      5.2,  20.0614,  35.3193,2,  35.3165,2,    225.9,2, 20.0604,    227.1,2,     1.51,2,     0.02,2,     0.00,2,     0.12,2,    2.385,2,    1.291,2,     85.8,2,  -999.00,9,   2035.5,2,    366.0,3,   -999.0,9,     8.01,2, -999.00,     2.9, -999.00,  -999.0
    31DSCG96_2,  P15S,   100,  1,    135,   1113,2,19960215,1033,-37.7628,-171.1997, 4980,   -999,     20.1,  20.0649,  35.3181,2,  35.3169,2,    228.5,2, 20.0611,    227.2,2,     1.53,2,     0.02,2,     0.00,2,     0.13,2,    2.386,6,    1.316,6,   -999.0,9,  -999.00,9,   -999.0,9,   -999.0,9,   -999.0,9,     8.01,2, -999.00,  -999.0, -999.00,  -999.0
    31DSCG96_2,  P15S,   100,  1,    134,   1119,2,19960215,1033,-37.7628,-171.1997, 4980,   -999,     45.5,  19.5690,  35.2915,2,  35.3081,2,    228.1,2, 19.5607,   -999.0,9,     1.53,2,     0.03,2,     0.00,2,     0.13,2,    2.425,2,    1.347,2,   -999.0,9,  -999.00,9,   -999.0,9,   -999.0,9,   -999.0,9,     8.01,2, -999.00,  -999.0, -999.00,  -999.0
    31DSCG96_2,  P15S,   100,  1,    133,   1221,2,19960215,1033,-37.7628,-171.1997, 4980,   -999,     94.4,  13.4593,  35.1049,2,  35.1031,2,    249.1,2, 13.4461,   -999.0,9,     2.01,2,     1.77,2,     0.12,2,     0.31,2,    3.122,2,    1.635,2,   -999.0,9,  -999.00,9,   -999.0,9,   -999.0,9,   -999.0,9,     7.93,2, -999.00,  -999.0, -999.00,  -999.0
    31DSCG96_2,  P15S,   100,  1,    130,   1257,4,19960215,1033,-37.7628,-171.1997, 4980,   -999,    145.7,  12.6227,  35.0847,2,-999.0000,9,    239.3,2, 12.6031,   -999.0,9,  -999.00,9,  -999.00,9,  -999.00,9,  -999.00,9, -999.000,9, -999.000,9,   -999.0,9,  -999.00,9,   -999.0,9,   -999.0,9,   -999.0,9,  -999.00,9, -999.00,  -999.0, -999.00,  -999.0
    31DSCG96_2,  P15S,   100,  1,    129,   1256,4,19960215,1033,-37.7628,-171.1997, 4980,   -999,    190.3,  12.1710,  35.0461,2,-999.0000,9,    227.7,2, 12.1459,   -999.0,9,  -999.00,9,  -999.00,9,  -999.00,9,  -999.00,9, -999.000,9, -999.000,9,   -999.0,9,  -999.00,9,   -999.0,9,   -999.0,9,   -999.0,9,  -999.00,9, -999.00,  -999.0, -999.00,  -999.0
    31DSCG96_2,  P15S,   100,  1,    128,   1007,2,19960215,1033,-37.7628,-171.1997, 4980,   -999,    238.7,  11.4025,  34.9439,2,  34.9420,2,    223.4,2, 11.3723,    218.9,2,     4.29,2,    11.79,2,     0.00,2,     0.85,2,    2.984,2,    1.511,2,   -999.0,9,  -999.00,9,   -999.0,9,   -999.0,9,   -999.0,9,     7.83,2, -999.00,  -999.0, -999.00,  -999.0
    31DSCG96_2,  P15S,   100,  1,    127,   1232,2,19960215,1033,-37.7628,-171.1997, 4980,   -999,    288.2,  10.5952,  34.8322,2,  34.8282,2,    211.5,2, 10.5604,    209.2,2,     5.40,2,    14.93,2,     0.00,2,     1.04,2,    2.726,2,    1.383,2,   -999.0,9,  -999.00,9,   -999.0,9,   -999.0,9,   -999.0,9,     7.80,3, -999.00,  -999.0, -999.00,  -999.0
    31DSCG96_2,  P15S,   100,  1,    126,   1025,2,19960215,1033,-37.7628,-171.1997, 4980,   -999,    371.5,   9.4110,  34.6843,2,  34.6838,2,    202.7,2,  9.3693,    201.3,2,     6.99,2,    18.76,2,     0.00,2,     1.27,2,    2.190,2,    1.084,2,   -999.0,9,  -999.00,9,   -999.0,9,   -999.0,9,   -999.0,9,     7.76,2, -999.00,  -999.0, -999.00,  -999.0
    31DSCG96_2,  P15S,   100,  1,    125,   1233,2,19960215,1033,-37.7628,-171.1997, 4980,   -999,    473.7,   8.2339,  34.5409,2,  34.5373,2,    214.0,2,  8.1846,    216.8,6,     7.56,2,    20.57,2,     0.00,2,     1.39,2,    2.355,2,    1.150,2,   -999.0,9,  -999.00,9,   -999.0,9,   -999.0,9,   -999.0,9,     7.74,2, -999.00,  -999.0, -999.00,  -999.0
    31DSCG96_2,  P15S,   100,  1,    124,   1013,2,19960215,1033,-37.7628,-171.1997, 4980,   -999,    575.0,   7.6962,  34.4983,2,  34.4966,2,    222.3,2,  7.6383,    217.2,2,     9.37,2,    22.13,2,     0.00,2,     1.50,2,    1.718,2,    0.853,2,   -999.0,9,  -999.00,9,   -999.0,9,   -999.0,9,   -999.0,9,     7.73,2, -999.00,  -999.0, -999.00,  -999.0
    31DSCG96_2,  P15S,   100,  1,    123,   1250,2,19960215,1033,-37.7628,-171.1997, 4980,   -999,    672.1,   7.0804,  34.4418,2,  34.4391,2,    217.3,2,  7.0154,    218.1,2,    11.04,2,    23.56,2,     0.00,2,     1.59,2,    1.155,2,    0.577,2,   -999.0,9,  -999.00,9,   -999.0,9,   -999.0,9,   -999.0,9,     7.72,2, -999.00,  -999.0, -999.00,  -999.0
    31DSCG96_2,  P15S,   100,  1,    122,   1265,2,19960215,1033,-37.7628,-171.1997, 4980,   -999,    774.1,   6.5677,  34.4096,2,  34.4090,2,    212.9,2,  6.4954,    212.8,2,    14.20,2,    25.12,2,     0.00,2,     1.70,2,    0.700,2,    0.361,2,   -999.0,9,  -999.00,9,   -999.0,9,   -999.0,9,   -999.0,9,     7.71,2, -999.00,  -999.0, -999.00,  -999.0
    31DSCG96_2,  P15S,   100,  1,    121,   1246,2,19960215,1033,-37.7628,-171.1997, 4980,   -999,    876.1,   6.0426,  34.3928,2,  34.3913,2,    207.3,2,  5.9636,    205.3,2,    19.32,2,    26.95,2,     0.00,2,     1.83,2,    0.442,2,    0.228,2,   -999.0,9,  -999.00,9,   -999.0,9,   -999.0,9,   -999.0,9,     7.68,2, -999.00,  -999.0, -999.00,  -999.0
    31DSCG96_2,  P15S,   100,  1,    120,   1015,2,19960215,1033,-37.7628,-171.1997, 4980,   -999,    975.5,   5.5992,  34.4093,2,  34.4088,2,    194.2,2,  5.5138,    195.2,2,    27.66,2,    28.65,2,     0.00,2,     1.95,2,    0.289,2,    0.157,2,   -999.0,9,  -999.00,9,   -999.0,9,   -999.0,9,   -999.0,9,     7.66,2, -999.00,  -999.0, -999.00,  -999.0
    31DSCG96_2,  P15S,   100,  1,    119,   1247,2,19960215,1033,-37.7628,-171.1997, 4980,   -999,   1074.1,   5.0060,  34.4191,2,  34.4185,2,    186.3,2,  4.9160,    187.2,6,    36.92,2,    30.27,2,     0.00,2,     2.07,2,    0.166,2,    0.092,2,   -999.0,9,  -999.00,9,   -999.0,9,   -999.0,9,   -999.0,9,     7.64,2, -999.00,  -999.0, -999.00,  -999.0
    31DSCG96_2,  P15S,   100,  1,    118,   1222,2,19960215,1033,-37.7628,-171.1997, 4980,   -999,   1174.7,   4.4776,  34.4300,2,  34.4290,2,    180.3,2,  4.3830,    181.3,2,    45.16,2,    31.56,2,     0.00,2,     2.16,2,    0.096,6,    0.058,6,   -999.0,9,  -999.00,9,   -999.0,9,   -999.0,9,   -999.0,9,     7.62,2, -999.00,  -999.0, -999.00,  -999.0
    31DSCG96_2,  P15S,   100,  1,    117,   1267,2,19960215,1033,-37.7628,-171.1997, 4980,   -999,   1273.0,   3.9928,  34.4520,2,  34.4508,2,    174.7,2,  3.8940,    176.1,2,    54.82,2,    32.64,2,     0.00,2,     2.24,2,    0.054,2,    0.034,2,   -999.0,9,  -999.00,9,   -999.0,9,   -999.0,9,   -999.0,9,     7.61,2, -999.00,  -999.0, -999.00,  -999.0
    31DSCG96_2,  P15S,   100,  1,    116,   1211,2,19960215,1033,-37.7628,-171.1997, 4980,   -999,   1447.2,   3.3368,  34.5014,2,  34.5003,2,    166.1,2,  3.2297,    166.7,2,    70.84,2,    33.92,2,     0.00,2,     2.34,2,    0.016,2,    0.013,2,   -999.0,9,  -999.00,9,   -999.0,9,   -999.0,9,   -999.0,9,  -999.00,9, -999.00,  -999.0, -999.00,  -999.0
    31DSCG96_2,  P15S,   100,  1,    115,   1041,2,19960215,1033,-37.7628,-171.1997, 4980,   -999,   1691.4,   2.8218,  34.5689,2,  34.5678,2,    157.5,2,  2.7000,    157.3,2,    90.46,2,    34.79,2,     0.00,2,     2.40,2,    0.006,2,    0.007,2,   -999.0,9,  -999.00,9,   -999.0,9,   -999.0,9,   -999.0,9,     7.58,2, -999.00,  -999.0, -999.00,  -999.0
    31DSCG96_2,  P15S,   100,  1,    114,   1017,2,19960215,1033,-37.7628,-171.1997, 4980,   -999,   1938.7,   2.5171,  34.6064,2,  34.6053,2,    152.4,2,  2.3782,    151.8,2,   103.60,2,    35.34,2,     0.00,2,     2.45,2,    0.011,4,    0.046,4,   -999.0,9,  -999.00,9,   -999.0,9,   -999.0,9,   -999.0,9,  -999.00,9, -999.00,  -999.0, -999.00,  -999.0
    31DSCG96_2,  P15S,   100,  1,    113,   1302,2,19960215,1033,-37.7628,-171.1997, 4980,   -999,   2189.5,   2.3524,  34.6256,2,  34.6243,2,    150.4,2,  2.1940,    149.9,6,   110.85,2,    35.54,2,     0.00,2,     2.47,2,    0.005,2,    0.006,2,   -999.0,9,  -999.00,9,   -999.0,9,   -999.0,9,   -999.0,9,     7.57,2, -999.00,  -999.0, -999.00,  -999.0
    31DSCG96_2,  P15S,   100,  1,    112,   1217,2,19960215,1033,-37.7628,-171.1997, 4980,   -999,   2442.2,   2.2189,  34.6399,2,  34.6386,2,    150.7,2,  2.0399,    149.8,2,   115.53,2,    35.60,2,     0.00,2,     2.47,2,    0.003,2,    0.006,2,   -999.0,9,  -999.00,9,   -999.0,9,   -999.0,9,   -999.0,9,  -999.00,9, -999.00,  -999.0, -999.00,  -999.0
    31DSCG96_2,  P15S,   100,  1,    111,   1114,2,19960215,1033,-37.7628,-171.1997, 4980,   -999,   2686.7,   2.0711,  34.6577,2,  34.6566,2,    152.1,2,  1.8721,    152.9,2,   117.97,2,    35.36,2,     0.00,2,     2.47,2,    0.002,2,    0.003,2,   -999.0,9,  -999.00,9,   -999.0,9,   -999.0,9,   -999.0,9,     7.58,2, -999.00,  -999.0, -999.00,  -999.0
    31DSCG96_2,  P15S,   100,  1,    110,   1301,2,19960215,1033,-37.7628,-171.1997, 4980,   -999,   2938.3,   1.9230,  34.6801,2,  34.6782,2,    161.9,2,  1.7028,    161.3,2,   116.31,2,    34.54,2,     0.00,2,     2.39,2,    0.001,2,    0.004,2,   -999.0,9,  -999.00,9,   -999.0,9,   -999.0,9,   -999.0,9,  -999.00,9, -999.00,  -999.0, -999.00,  -999.0
    31DSCG96_2,  P15S,   100,  1,    109,   1242,2,19960215,1033,-37.7628,-171.1997, 4980,   -999,   3178.8,   1.7815,  34.7079,2,  34.7065,2,    178.7,2,  1.5408,    178.2,2,   108.21,2,    32.98,2,     0.00,2,     2.28,2,    0.003,2,    0.004,2,   -999.0,9,  -999.00,9,   -999.0,9,   -999.0,9,   -999.0,9,  -999.00,9, -999.00,  -999.0, -999.00,  -999.0
    31DSCG96_2,  P15S,   100,  1,    108,   1227,2,19960215,1033,-37.7628,-171.1997, 4980,   -999,   3442.8,   1.6158,  34.7265,2,  34.7257,2,    192.1,2,  1.3523,    192.3,2,   104.09,2,    31.85,2,     0.00,2,     2.18,2,    0.009,2,    0.009,2,   -999.0,9,  -999.00,9,   -999.0,9,   -999.0,9,   -999.0,9,     7.61,2, -999.00,  -999.0, -999.00,  -999.0
    31DSCG96_2,  P15S,   100,  1,    107,   1263,2,19960215,1033,-37.7628,-171.1997, 4980,   -999,   3691.6,   1.4018,  34.7265,2,  34.7250,2,    199.3,2,  1.1181,    199.2,6,   108.25,2,    31.75,2,     0.00,2,     2.17,2,    0.017,2,    0.012,2,   -999.0,9,  -999.00,9,   -999.0,9,   -999.0,9,   -999.0,9,  -999.00,9, -999.00,  -999.0, -999.00,  -999.0
    31DSCG96_2,  P15S,   100,  1,    106,   1262,2,19960215,1033,-37.7628,-171.1997, 4980,   -999,   3940.5,   1.2126,  34.7196,2,  34.7188,2,    202.6,2,  0.9079,    202.4,2,   113.71,2,    31.96,2,     0.00,2,     2.18,2,    0.021,2,    0.012,2,   -999.0,9,  -999.00,9,   -999.0,9,   -999.0,9,   -999.0,9,  -999.00,9, -999.00,  -999.0, -999.00,  -999.0
    31DSCG96_2,  P15S,   100,  1,    105,   1264,2,19960215,1033,-37.7628,-171.1997, 4980,   -999,   4189.5,   1.0509,  34.7127,2,  34.7120,2,    205.4,2,  0.7241,    203.8,2,   118.52,2,    32.14,2,     0.00,2,     2.19,2,    0.014,3,    0.012,2,   -999.0,9,  -999.00,9,   -999.0,9,   -999.0,9,   -999.0,9,     7.61,2, -999.00,  -999.0, -999.00,  -999.0
    31DSCG96_2,  P15S,   100,  1,    104,   1003,2,19960215,1033,-37.7628,-171.1997, 4980,   -999,   4438.3,   1.0017,  34.7096,2,  34.7083,2,    206.1,2,  0.6489,    206.1,2,   120.57,2,    32.19,2,     0.00,2,     2.20,2, -999.000,5, -999.000,5,   -999.0,9,  -999.00,9,   -999.0,9,   -999.0,9,   -999.0,9,  -999.00,9, -999.00,  -999.0, -999.00,  -999.0
    31DSCG96_2,  P15S,   100,  1,    103,    999,2,19960215,1033,-37.7628,-171.1997, 4980,   -999,   4637.5,   0.9774,  34.7081,2,  34.7080,2,    207.4,2,  0.6029,    206.3,2,   121.87,2,    32.31,2,     0.00,2,     2.21,2,    0.028,2,    0.018,2,   -999.0,9,  -999.00,9,   -999.0,9,   -999.0,9,   -999.0,9,     7.61,2, -999.00,  -999.0, -999.00,  -999.0
    31DSCG96_2,  P15S,   100,  1,    102,   1030,2,19960215,1033,-37.7628,-171.1997, 4980,   -999,   4941.4,   0.9690,  34.7061,2,  34.7053,2,    208.5,2,  0.5595,    206.2,2,   122.88,2,    32.33,2,     0.00,2,     2.21,2,    0.061,2,    0.032,2,   -999.0,9,  -999.00,9,   -999.0,9,   -999.0,9,   -999.0,9,  -999.00,9, -999.00,  -999.0, -999.00,  -999.0
    31DSCG96_2,  P15S,   100,  1,    101,   1022,2,19960215,1033,-37.7628,-171.1997, 4980,   -999,   5115.2,   0.9708,  34.7051,2,  34.7050,2,    208.7,2,  0.5405,    206.4,2,   123.53,6,    32.37,6,     0.00,6,     2.21,2,    0.067,6,    0.042,6,   -999.0,9,  -999.00,9,   -999.0,9,   -999.0,9,   -999.0,9,     7.61,2, -999.00,  -999.0, -999.00,  -999.0