BOTTLE,20220811CCHSIOAMB
EXPOCODE,SECT_ID,STNNBR,CASTNO,SAMPNO,BTLNBR,BTLNBR_FLAG_W,DATE,TIME,LATITUDE,LONGITUDE,DEPTH,CTDRAW,CTDPRS,CTDTMP,CTDSAL,CTDSAL_FLAG_W,SALNTY,SALNTY_FLAG_W,CTDOXY,CTDOXY_FLAG_W,THETA,OXYGEN,OXYGEN_FLAG_W,SILCAT,SILCAT_FLAG_W,NITRAT,NITRAT_FLAG_W,NITRIT,NITRIT_FLAG_W,PHSPHT,PHSPHT_FLAG_W,CFC-11,CFC-11_FLAG_W,CFC-12,CFC-12_FLAG_W,DELC14,DELC14_FLAG_W,DELC13,DELC13_FLAG_W,TCARBN,TCARBN_FLAG_W,PCO2,PCO2_FLAG_W,ALKALI,ALKALI_FLAG_W,PH,PH_FLAG_W,PCO2TMP,C14ERR,PH_TMP,C13ERR
,,,,,,,,,,,,DBAR,DBAR,ITS-90,PSS-78,,PSS-78,,UMOL/KG,,DEG C,UMOL/KG,,UMOL/KG,,UMOL/KG,,UMOL/KG,,UMOL/KG,,PMOL/KG,,PMOL/KG,,/MILLE,,/MILLE,,UMOL/KG,,UATM,,UMOL/KG,,,,DEG C,/MILLE,DEG C,/MILLE
    31DSCG96_1,  P15S,    70,  1,    134,   1119,2,19960128,2248,-48.5000,-170.0033, 5280,   -999,     10.7,  13.5360,  34.5091,2,  34.5108,2,    270.0,2, 13.5346,    274.1,2,     1.06,2,     7.42,2,     0.11,2,     0.62,3, -999.000,9, -999.000,9,     21.8,2,     2.01,2,   2056.2,2,    436.4,2,   2294.6,2,     7.93,2, -999.00,     2.7, -999.00,  -999.0
    31DSCG96_1,  P15S,    70,  1,    133,   1221,2,19960128,2248,-48.5000,-170.0033, 5280,   -999,     19.8,  12.8648,  34.4963,2,  34.4971,2,    281.2,2, 12.8621,    283.4,2,     1.13,2,     7.12,2,     0.10,2,     0.61,3, -999.000,9, -999.000,9,     25.0,2,     2.04,2,   -999.0,9,   -999.0,9,   -999.0,9,     7.93,2, -999.00,     3.2, -999.00,  -999.0
    31DSCG96_1,  P15S,    70,  1,    132,   1039,2,19960128,2248,-48.5000,-170.0033, 5280,   -999,     40.4,  12.3314,  34.4973,2,  34.4974,2,    277.9,2, 12.3261,    279.0,2,     1.14,2,     7.58,2,     0.09,2,     0.64,3, -999.000,9, -999.000,9,     11.7,2,     1.96,2,   2058.0,2,    443.3,2,   2294.8,2,     7.93,2, -999.00,     3.5, -999.00,  -999.0
    31DSCG96_1,  P15S,    70,  1,    131,   1014,2,19960128,2248,-48.5000,-170.0033, 5280,   -999,     70.0,  10.2634,  34.4574,2,  34.4598,2,    283.8,2, 10.2553,    284.6,2,     1.14,2,     9.64,2,     0.13,2,     0.85,3, -999.000,9, -999.000,9,      8.7,2,     1.81,2,   -999.0,9,   -999.0,9,   -999.0,9,     7.89,2, -999.00,     3.3, -999.00,  -999.0
    31DSCG96_1,  P15S,    70,  1,    130,   1257,2,19960128,2248,-48.5000,-170.0033, 5280,   -999,     95.3,   9.0156,  34.4307,2,  34.4340,2,    274.4,2,  9.0054,    280.6,2,     1.55,2,    11.31,2,     0.21,2,     1.01,3, -999.000,9, -999.000,9,      7.6,2,     1.64,2,   2090.8,2,    543.9,2,   2292.5,2,     7.85,2, -999.00,     3.6, -999.00,  -999.0
    31DSCG96_1,  P15S,    70,  1,    129,   1256,2,19960128,2248,-48.5000,-170.0033, 5280,   -999,    141.4,   7.8394,  34.4312,2,  34.4305,2,    266.5,2,  7.8254,    268.6,2,     5.06,2,    17.49,2,     0.01,2,     1.25,3, -999.000,9, -999.000,9,     11.3,2,     1.45,2,   -999.0,9,   -999.0,9,   -999.0,9,     7.80,2, -999.00,     3.1, -999.00,  -999.0
    31DSCG96_1,  P15S,    70,  1,    128,   1007,2,19960128,2248,-48.5000,-170.0033, 5280,   -999,    189.2,   7.2236,  34.3786,2,  34.3786,2,    266.7,2,  7.2058,    267.7,2,     6.59,2,    19.55,2,     0.01,2,     1.37,3, -999.000,9, -999.000,9,     20.5,2,     1.44,2,   2121.5,2,    669.4,2,   2286.1,2,     7.78,2, -999.00,     3.8, -999.00,  -999.0
    31DSCG96_1,  P15S,    70,  1,    127,   1232,2,19960128,2248,-48.5000,-170.0033, 5280,   -999,    238.1,   7.1542,  34.3874,2,  34.3871,2,    269.7,2,  7.1318,    263.0,2,     7.08,2,    20.04,2,     0.01,2,     1.40,3, -999.000,9, -999.000,9,   -999.0,5,     1.37,2,   -999.0,9,   -999.0,9,   -999.0,9,     7.77,2, -999.00,  -999.0, -999.00,  -999.0
    31DSCG96_1,  P15S,    70,  1,    126,   1025,2,19960128,2248,-48.5000,-170.0033, 5280,   -999,    288.3,   6.9448,  34.3686,2,  34.3688,2,    269.0,2,  6.9180,    268.8,2,     7.08,2,    20.02,2,     0.01,2,     1.41,3, -999.000,9, -999.000,9,     -3.4,2,     0.34,4,   2120.7,2,    675.5,2,   2285.8,2,     7.77,2, -999.00,     3.1, -999.00,  -999.0
    31DSCG96_1,  P15S,    70,  1,    125,   1233,2,19960128,2248,-48.5000,-170.0033, 5280,   -999,    374.9,   6.7543,  34.3562,2,  34.3573,2,    273.9,2,  6.7198,    272.3,2,     7.22,2,    20.16,2,     0.01,2,     1.42,3, -999.000,9, -999.000,9,     10.9,2,     1.28,2,   -999.0,9,   -999.0,9,   -999.0,9,     7.77,2, -999.00,     2.7, -999.00,  -999.0
    31DSCG96_1,  P15S,    70,  1,    124,   1218,2,19960128,2248,-48.5000,-170.0033, 5280,   -999,    476.6,   6.4752,  34.3332,2,  34.3388,2,    264.6,2,  6.4320,    263.5,2,     8.81,2,    21.54,2,     0.01,2,     1.52,3, -999.000,9, -999.000,9,    -15.4,6,     1.36,6,   2127.4,2,    707.5,2,   2288.6,2,     7.76,2, -999.00,     2.3, -999.00,  -999.0
    31DSCG96_1,  P15S,    70,  1,    123,   1250,2,19960128,2248,-48.5000,-170.0033, 5280,   -999,    574.3,   6.1325,  34.3128,2,  34.3068,3,    247.0,2,  6.0816,    254.8,2,    11.10,2,    23.28,2,     0.01,2,     1.62,3, -999.000,9, -999.000,9,    -40.0,2,     1.32,2,   -999.0,9,   -999.0,9,   -999.0,9,     7.74,2, -999.00,     2.3, -999.00,  -999.0
    31DSCG96_1,  P15S,    70,  1,    122,   1109,2,19960128,2248,-48.5000,-170.0033, 5280,   -999,    676.2,   5.6700,  34.2931,2,  34.2942,2,    240.0,2,  5.6120,    243.6,2,    14.74,2,    25.21,2,     0.00,2,     1.74,3, -999.000,9, -999.000,9,    -29.1,2,     1.25,2,   2148.7,2,    798.3,2,   2290.2,2,     7.71,2, -999.00,     2.3, -999.00,  -999.0
    31DSCG96_1,  P15S,    70,  1,    121,   1246,2,19960128,2248,-48.5000,-170.0033, 5280,   -999,    776.6,   5.3379,  34.3202,2,  34.3232,3,    225.9,2,  5.2727,    223.2,2,    21.17,2,    27.58,2,     0.00,2,     1.89,3, -999.000,9, -999.000,9,    -74.7,2,     1.12,2,   -999.0,9,   -999.0,9,   -999.0,9,     7.68,2, -999.00,     2.5, -999.00,  -999.0
    31DSCG96_1,  P15S,    70,  1,    120,   1015,2,19960128,2248,-48.5000,-170.0033, 5280,   -999,    875.4,   4.7383,  34.3147,2,  34.3175,2,    217.4,2,  4.6682,    216.4,2,    27.15,2,    29.39,2,     0.00,2,     2.01,3, -999.000,9, -999.000,9,    -73.1,2,     1.05,2,   2179.4,2,    944.2,2,   2299.6,2,     7.65,2, -999.00,     2.4, -999.00,  -999.0
    31DSCG96_1,  P15S,    70,  1,    119,   1247,2,19960128,2248,-48.5000,-170.0033, 5280,   -999,    977.4,   4.2811,  34.3369,2,  34.3372,2,    208.1,2,  4.2055,    207.8,2,    34.40,2,    30.84,2,     0.01,2,     2.11,3, -999.000,9, -999.000,9,   -111.0,2,     0.93,2,   -999.0,9,   -999.0,9,   -999.0,9,     7.63,2, -999.00,     3.2, -999.00,  -999.0
    31DSCG96_1,  P15S,    70,  1,    118,   1222,2,19960128,2248,-48.5000,-170.0033, 5280,   -999,   1074.6,   3.9591,  34.3590,2,  34.3607,2,    202.3,2,  3.8778,    200.3,2,    40.90,2,    31.87,2,     0.00,2,     2.18,3, -999.000,9, -999.000,9,   -101.8,2,     1.12,3,   2202.9,2,   1034.6,2,   2309.1,2,     7.62,2, -999.00,     2.4, -999.00,  -999.0
    31DSCG96_1,  P15S,    70,  1,    117,   1267,2,19960128,2248,-48.5000,-170.0033, 5280,   -999,   1213.8,   3.3822,  34.3877,2,  34.3869,2,    196.8,2,  3.2944,    195.3,2,    50.14,2,    33.07,2,     0.00,2,     2.27,3, -999.000,9, -999.000,9,   -118.9,2,     0.74,2,   -999.0,9,   -999.0,9,   -999.0,9,     7.60,2, -999.00,     3.0, -999.00,  -999.0
    31DSCG96_1,  P15S,    70,  1,    116,   1211,2,19960128,2248,-48.5000,-170.0033, 5280,   -999,   1441.3,   2.9297,  34.4722,2,  34.4734,2,    180.5,2,  2.8277,    179.7,2,    64.81,2,    34.17,2,     0.00,2,     2.34,3, -999.000,9, -999.000,9,   -156.7,2,     0.60,2,   2239.4,2,   1176.0,2,   2331.6,2,     7.58,2, -999.00,     2.8, -999.00,  -999.0
    31DSCG96_1,  P15S,    70,  1,    115,   1041,2,19960128,2248,-48.5000,-170.0033, 5280,   -999,   1688.8,   2.6174,  34.5578,2,  34.5574,2,    172.7,2,  2.4985,    172.2,2,    75.72,2,    34.33,2,     0.00,2,     2.35,3, -999.000,9, -999.000,9,   -999.0,9,  -999.00,9,   -999.0,9,   -999.0,9,   -999.0,9,     7.57,2, -999.00,  -999.0, -999.00,  -999.0
    31DSCG96_1,  P15S,    70,  1,    114,   1017,2,19960128,2248,-48.5000,-170.0033, 5280,   -999,   1941.2,   2.4196,  34.6282,2,  34.6305,2,    172.4,2,  2.2818,    171.8,2,    82.38,2,    33.80,2,     0.00,2,     2.31,3, -999.000,9, -999.000,9,   -999.0,9,  -999.00,9,   2257.8,2,   1170.9,2,   2350.4,2,     7.57,2, -999.00,  -999.0, -999.00,  -999.0
    31DSCG96_1,  P15S,    70,  1,    113,   1302,2,19960128,2248,-48.5000,-170.0033, 5280,   -999,   2188.7,   2.2668,  34.6777,2,  34.6783,2,    177.8,2,  2.1097,    176.4,2,    86.05,2,    32.93,2,     0.00,2,     2.25,3, -999.000,9, -999.000,9,   -999.0,9,  -999.00,9,   -999.0,9,   -999.0,9,   -999.0,9,     7.59,2, -999.00,  -999.0, -999.00,  -999.0
    31DSCG96_1,  P15S,    70,  1,    112,   1217,2,19960128,2248,-48.5000,-170.0033, 5280,   -999,   2440.5,   2.1447,  34.7119,2,  34.7123,2,    183.9,2,  1.9669,    184.2,2,    86.27,2,    32.01,2,     0.00,2,     2.17,3, -999.000,9, -999.000,9,   -999.0,9,  -999.00,9,   2252.9,2,   1103.8,2,   2352.5,2,     7.60,2, -999.00,  -999.0, -999.00,  -999.0
    31DSCG96_1,  P15S,    70,  1,    111,   1114,2,19960128,2248,-48.5000,-170.0033, 5280,   -999,   2693.5,   1.9933,  34.7288,2,  34.7301,2,    189.5,2,  1.7949,    188.7,6,   101.26,3,    31.59,2,     0.00,2,     2.15,3, -999.000,9, -999.000,9,   -999.0,9,  -999.00,9,   -999.0,9,   -999.0,9,   -999.0,9,     7.60,2, -999.00,  -999.0, -999.00,  -999.0
    31DSCG96_1,  P15S,    70,  1,    110,   1301,2,19960128,2248,-48.5000,-170.0033, 5280,   -999,   2939.7,   1.8209,  34.7360,2,  34.7363,2,    194.1,2,  1.6026,    193.8,2,    94.73,2,    31.42,2,     0.00,2,     2.13,3, -999.000,9, -999.000,9,   -999.0,9,  -999.00,9,   2251.5,2,   1071.2,2,   2358.1,2,     7.61,2, -999.00,  -999.0, -999.00,  -999.0
    31DSCG96_1,  P15S,    70,  1,    109,   1242,2,19960128,2248,-48.5000,-170.0033, 5280,   -999,   3188.9,   1.6289,  34.7354,2,  34.7365,2,    196.7,2,  1.3905,    196.8,6,   100.40,2,    31.52,2,     0.00,2,     2.14,3, -999.000,9, -999.000,9,   -999.0,9,  -999.00,9,   -999.0,9,   -999.0,9,   -999.0,9,     7.61,2, -999.00,  -999.0, -999.00,  -999.0
    31DSCG96_1,  P15S,    70,  1,    108,   1263,2,19960128,2248,-48.5000,-170.0033, 5280,   -999,   3442.5,   1.4478,  34.7302,2,  34.7300,2,    199.7,2,  1.1884,    199.8,2,   105.77,2,    31.70,2,     0.00,2,     2.14,3, -999.000,9, -999.000,9,   -999.0,9,  -999.00,9,   2254.9,2,   1063.3,2,   2362.5,2,     7.61,2, -999.00,  -999.0, -999.00,  -999.0
    31DSCG96_1,  P15S,    70,  1,    107,   1245,2,19960128,2248,-48.5000,-170.0033, 5280,   -999,   3688.2,   1.2858,  34.7243,2,  34.7238,2,    202.2,2,  1.0056,    202.2,2,   110.78,2,    31.93,2,     0.00,2,     2.16,3,    0.026,6,    0.014,6,   -999.0,9,  -999.00,9,   -999.0,9,   -999.0,9,   -999.0,9,     7.61,2, -999.00,  -999.0, -999.00,  -999.0
    31DSCG96_1,  P15S,    70,  1,    106,   1262,2,19960128,2248,-48.5000,-170.0033, 5280,   -999,   3939.5,   1.1320,  34.7175,2,  34.7186,2,    205.3,2,  0.8296,    205.2,6,   115.37,2,    32.08,2,     0.00,2,     2.17,3,    0.035,2,    0.023,2,   -999.0,9,  -999.00,9,   2258.1,2,   1071.0,2,   2364.2,2,     7.61,2, -999.00,  -999.0, -999.00,  -999.0
    31DSCG96_1,  P15S,    70,  1,    105,   1113,2,19960128,2248,-48.5000,-170.0033, 5280,   -999,   4185.1,   1.0233,  34.7123,2,  34.7129,2,    207.0,2,  0.6978,    207.5,2,   118.89,2,    32.23,2,     0.00,2,     2.17,3,    0.038,2,    0.023,2,   -999.0,9,  -999.00,9,   -999.0,9,   -999.0,9,   -999.0,9,     7.61,2, -999.00,  -999.0, -999.00,  -999.0
    31DSCG96_1,  P15S,    70,  1,    104,   1003,2,19960128,2248,-48.5000,-170.0033, 5280,   -999,   4443.5,   0.9525,  34.7084,2,  34.7097,2,    208.7,2,  0.6007,    207.7,2,   121.59,2,    32.35,2,     0.00,2,     2.18,3,    0.050,2,    0.030,2,   -999.0,9,  -999.00,9,   2258.6,2,   1080.2,2,   2365.0,2,     7.61,3, -999.00,  -999.0, -999.00,  -999.0
    31DSCG96_1,  P15S,    70,  1,    103,   1216,2,19960128,2248,-48.5000,-170.0033, 5280,   -999,   4739.9,   0.9411,  34.7065,2,  34.7080,2,    209.5,2,  0.5561,    209.0,2,   123.07,2,    32.36,2,     0.00,2,     2.18,3,    0.054,2,    0.038,2,   -999.0,9,  -999.00,9,   -999.0,9,   -999.0,9,   -999.0,9,     7.61,2, -999.00,  -999.0, -999.00,  -999.0
    31DSCG96_1,  P15S,    70,  1,    102,   1030,2,19960128,2248,-48.5000,-170.0033, 5280,   -999,   5037.0,   0.9531,  34.7057,2,  34.7074,2,    209.7,2,  0.5328,   -999.0,9,   123.42,2,    32.39,2,     0.00,2,     2.17,3,    0.067,2,    0.037,2,   -999.0,9,  -999.00,9,   2259.8,2,   1085.9,2,   2365.8,2,  -999.00,9, -999.00,  -999.0, -999.00,  -999.0
    31DSCG96_1,  P15S,    70,  1,    101,   1022,2,19960128,2248,-48.5000,-170.0033, 5280,   -999,   5406.3,   0.9916,  34.7048,2,  34.7062,2,    209.3,2,  0.5251,    209.8,2,   123.85,6,    32.41,6,     0.00,6,     2.17,3,    0.072,6,    0.040,6,   -999.0,9,  -999.00,9,   2260.0,2,   1084.1,2,   2364.6,2,     7.61,2, -999.00,  -999.0, -999.00,  -999.0