BOTTLE,20220811CCHSIOAMB
EXPOCODE,SECT_ID,STNNBR,CASTNO,SAMPNO,BTLNBR,BTLNBR_FLAG_W,DATE,TIME,LATITUDE,LONGITUDE,DEPTH,CTDRAW,CTDPRS,CTDTMP,CTDSAL,CTDSAL_FLAG_W,SALNTY,SALNTY_FLAG_W,CTDOXY,CTDOXY_FLAG_W,THETA,OXYGEN,OXYGEN_FLAG_W,SILCAT,SILCAT_FLAG_W,NITRAT,NITRAT_FLAG_W,NITRIT,NITRIT_FLAG_W,PHSPHT,PHSPHT_FLAG_W,CFC-11,CFC-11_FLAG_W,CFC-12,CFC-12_FLAG_W,DELC14,DELC14_FLAG_W,DELC13,DELC13_FLAG_W,TCARBN,TCARBN_FLAG_W,PCO2,PCO2_FLAG_W,ALKALI,ALKALI_FLAG_W,PH,PH_FLAG_W,PCO2TMP,C14ERR,PH_TMP,C13ERR
,,,,,,,,,,,,DBAR,DBAR,ITS-90,PSS-78,,PSS-78,,UMOL/KG,,DEG C,UMOL/KG,,UMOL/KG,,UMOL/KG,,UMOL/KG,,UMOL/KG,,PMOL/KG,,PMOL/KG,,/MILLE,,/MILLE,,UMOL/KG,,UATM,,UMOL/KG,,,,DEG C,/MILLE,DEG C,/MILLE
    31DSCG96_1,  P15S,    50,  1,    134,   1119,2,19960123,1212,-57.9950,-170.0138, 4140,   -999,      8.9,   4.7409,  33.9764,2,  33.9770,2,    320.7,2,  4.7403,    319.7,2,     0.40,2,    21.17,2,     0.19,2,     1.35,2,    5.302,2,    2.653,2,    -34.6,2,     1.80,2,   2105.4,2,    621.3,2,   2283.9,2,     7.80,2, -999.00,     2.8, -999.00,  -999.0
    31DSCG96_1,  P15S,    50,  1,    133,   1221,2,19960123,1212,-57.9950,-170.0138, 4140,   -999,     17.5,   4.7405,  33.9766,2,  33.9760,2,    320.7,2,  4.7393,    319.4,2,     0.55,2,    21.18,2,     0.20,2,     1.35,2, -999.000,9, -999.000,9,    -31.8,2,     1.77,2,   -999.0,9,   -999.0,9,   -999.0,9,     7.80,2, -999.00,     3.2, -999.00,  -999.0
    31DSCG96_1,  P15S,    50,  1,    132,   1039,2,19960123,1212,-57.9950,-170.0138, 4140,   -999,     43.8,   4.7208,  33.9783,2,  33.9780,2,    320.0,2,  4.7176,    319.4,2,     0.43,2,    21.23,2,     0.20,2,     1.36,2,    5.257,6,    2.655,6,   -999.0,9,  -999.00,9,   2107.0,2,    622.0,2,   2281.8,2,     7.80,2, -999.00,  -999.0, -999.00,  -999.0
    31DSCG96_1,  P15S,    50,  1,    131,   1014,2,19960123,1212,-57.9950,-170.0138, 4140,   -999,     67.4,   4.6121,  33.9790,2,  33.9792,2,    318.0,2,  4.6072,    318.5,2,     0.54,2,    21.34,2,     0.20,2,     1.41,2,    5.347,2,    2.660,2,   -999.0,9,  -999.00,9,   -999.0,9,   -999.0,9,   -999.0,9,     7.80,2, -999.00,  -999.0, -999.00,  -999.0
    31DSCG96_1,  P15S,    50,  1,    130,   1257,2,19960123,1212,-57.9950,-170.0138, 4140,   -999,     81.9,   4.3173,  33.9784,2,  33.9786,2,    314.6,2,  4.3116,    314.3,2,     2.20,2,    21.87,2,     0.20,2,     1.53,2,    5.347,2,    2.664,2,   -999.0,9,  -999.00,9,   2115.9,2,    663.2,2,   2283.5,2,     7.78,2, -999.00,  -999.0, -999.00,  -999.0
    31DSCG96_1,  P15S,    50,  1,    129,   1256,2,19960123,1212,-57.9950,-170.0138, 4140,   -999,    117.6,   3.4231,  34.0573,2,  34.0580,2,    309.6,2,  3.4157,    309.6,6,    11.13,2,    24.09,2,     0.39,2,     1.70,2,    5.315,2,    2.631,2,   -999.0,9,  -999.00,9,   -999.0,9,   -999.0,9,   -999.0,9,     7.74,2, -999.00,  -999.0, -999.00,  -999.0
    31DSCG96_1,  P15S,    50,  1,    128,   1007,2,19960123,1212,-57.9950,-170.0138, 4140,   -999,    143.5,   3.2149,  34.0514,2,  34.0507,2,    308.6,2,  3.2060,    311.0,2,    11.64,2,    24.68,2,     0.52,2,     1.70,2,    5.265,2,    2.635,2,    -35.8,2,     1.45,2,   2133.4,2,    742.4,2,   2285.6,2,     7.74,2, -999.00,     3.4, -999.00,  -999.0
    31DSCG96_1,  P15S,    50,  1,    127,   1234,2,19960123,1212,-57.9950,-170.0138, 4140,   -999,    190.7,   3.0221,  34.0459,2,  34.0457,2,    304.0,2,  3.0105,    307.2,2,    13.31,2,    25.77,2,     0.18,2,     1.75,2,    5.237,2,    2.589,2,   -999.0,9,  -999.00,9,   -999.0,9,   -999.0,9,   -999.0,9,     7.73,2, -999.00,  -999.0, -999.00,  -999.0
    31DSCG96_1,  P15S,    50,  1,    126,   1025,2,19960123,1212,-57.9950,-170.0138, 4140,   -999,    239.5,   2.7279,  34.0406,2,  34.0407,2,    305.4,2,  2.7138,    300.9,2,    15.53,2,    26.80,2,     0.00,2,     1.81,2,    5.034,2,    2.457,2,   -999.0,5,     1.39,2,   2144.0,2,    804.2,6,   2289.0,3,     7.71,2, -999.00,  -999.0, -999.00,  -999.0
    31DSCG96_1,  P15S,    50,  1,    125,   1233,2,19960123,1212,-57.9950,-170.0138, 4140,   -999,    288.7,   2.6831,  34.0660,2,  34.0657,2,    287.9,2,  2.6660,    287.3,2,    18.81,2,    27.88,2,     0.01,2,     1.89,2,    4.537,2,    2.224,2,   -999.0,9,  -999.00,9,   -999.0,9,   -999.0,9,   -999.0,9,     7.69,3, -999.00,  -999.0, -999.00,  -999.0
    31DSCG96_1,  P15S,    50,  1,    124,   1218,2,19960123,1212,-57.9950,-170.0138, 4140,   -999,    375.5,   3.3044,  34.2124,2,  34.2114,2,    241.7,2,  3.2800,    238.2,2,    29.50,2,    30.59,2,     0.00,2,     2.08,2,    2.835,2,    1.374,2,   -999.0,9,  -999.00,9,   2181.4,2,    962.4,2,   2290.9,2,     7.64,2, -999.00,  -999.0, -999.00,  -999.0
    31DSCG96_1,  P15S,    50,  1,    123,   1250,2,19960123,1212,-57.9950,-170.0138, 4140,   -999,    474.1,   3.1178,  34.2872,2,  34.2859,2,    216.0,2,  3.0873,    216.6,2,    39.57,2,    32.29,2,     0.00,2,     2.20,2,    1.950,2,    0.936,2,   -999.0,9,  -999.00,9,   -999.0,9,   -999.0,9,   -999.0,9,     7.61,2, -999.00,  -999.0, -999.00,  -999.0
    31DSCG96_1,  P15S,    50,  1,    122,   1109,2,19960123,1212,-57.9950,-170.0138, 4140,   -999,    573.7,   2.8853,  34.3395,2,  34.3393,2,    203.5,2,  2.8490,    203.9,2,    47.96,2,    33.34,2,     0.00,2,     2.27,2,    1.466,2,    0.707,2,   -999.0,9,  -999.00,9,   2213.4,2,   1098.4,2,   2313.2,2,     7.59,2, -999.00,  -999.0, -999.00,  -999.0
    31DSCG96_1,  P15S,    50,  1,    121,   1246,2,19960123,1212,-57.9950,-170.0138, 4140,   -999,    676.1,   2.6872,  34.3952,2,  34.3948,2,    192.0,2,  2.6449,    192.4,6,    55.92,2,    34.15,2,     0.00,2,     2.33,2,    1.129,2,    0.537,2,   -999.0,9,  -999.00,9,   -999.0,9,   -999.0,9,   -999.0,9,     7.57,2, -999.00,  -999.0, -999.00,  -999.0
    31DSCG96_1,  P15S,    50,  1,    120,   1015,2,19960123,1212,-57.9950,-170.0138, 4140,   -999,    774.7,   2.6244,  34.4544,2,  34.4550,2,    183.1,2,  2.5756,    183.7,2,    62.03,2,    34.38,2,     0.00,2,     2.34,2,    0.769,2,    0.367,2,   -999.0,9,  -999.00,9,   2234.7,2,   1193.3,2,   2326.1,2,     7.57,2, -999.00,  -999.0, -999.00,  -999.0
    31DSCG96_1,  P15S,    50,  1,    119,   1247,2,19960123,1212,-57.9950,-170.0138, 4140,   -999,    874.2,   2.5122,  34.5059,2,  34.5053,2,    177.8,2,  2.4571,    177.8,2,    67.30,2,    34.50,2,     0.00,2,     2.35,2,    0.594,2,    0.284,2,   -999.0,9,  -999.00,9,   -999.0,9,   -999.0,9,   -999.0,9,     7.56,2, -999.00,  -999.0, -999.00,  -999.0
    31DSCG96_1,  P15S,    50,  1,    118,   1222,2,19960123,1212,-57.9950,-170.0138, 4140,   -999,    975.0,   2.4639,  34.5560,2,  34.5536,2,    174.6,2,  2.4019,    174.6,2,    71.11,2,    34.17,2,     0.00,2,     2.33,2,    0.389,2,    0.190,2,   -999.0,9,  -999.00,9,   2245.3,2,   1212.4,2,   2333.7,2,     7.56,2, -999.00,  -999.0, -999.00,  -999.0
    31DSCG96_1,  P15S,    50,  1,    117,   1267,2,19960123,1212,-57.9950,-170.0138, 4140,   -999,   1073.1,   2.3923,  34.5950,2,  34.5957,2,    173.6,2,  2.3237,    173.8,2,    74.27,2,    33.83,2,     0.00,2,     2.31,2,    0.296,2,    0.141,2,   -999.0,9,  -999.00,9,   -999.0,9,   -999.0,9,   -999.0,9,     7.57,2, -999.00,  -999.0, -999.00,  -999.0
    31DSCG96_1,  P15S,    50,  1,    116,   1211,2,19960123,1212,-57.9950,-170.0138, 4140,   -999,   1216.7,   2.3173,  34.6415,2,  34.6405,2,    175.0,2,  2.2388,    174.6,2,    77.49,2,    33.24,2,     0.00,2,     2.27,2,    0.200,6,    0.097,6,   -999.0,9,  -999.00,9,   2249.3,2,   1192.2,2,   2341.9,2,     7.57,2, -999.00,  -999.0, -999.00,  -999.0
    31DSCG96_1,  P15S,    50,  1,    115,   1041,2,19960123,1212,-57.9950,-170.0138, 4140,   -999,   1438.8,   2.2037,  34.6920,2,  34.6923,2,    179.0,2,  2.1095,    179.5,6,    81.29,2,    32.26,2,     0.00,2,     2.20,2,    0.118,2,    0.057,2,   -999.0,9,  -999.00,9,   -999.0,9,   -999.0,9,   -999.0,9,     7.59,2, -999.00,  -999.0, -999.00,  -999.0
    31DSCG96_1,  P15S,    50,  1,    114,   1017,2,19960123,1212,-57.9950,-170.0138, 4140,   -999,   1661.4,   2.0662,  34.7218,2,  34.7214,2,    184.9,2,  1.9562,    184.8,2,    85.14,2,    31.59,2,     0.00,2,     2.15,2, -999.000,5, -999.000,5,   -155.9,2,     0.45,2,   2247.7,2,   1124.6,2,   2352.0,2,     7.60,2, -999.00,     3.1, -999.00,  -999.0
    31DSCG96_1,  P15S,    50,  1,    113,   1302,2,19960123,1212,-57.9950,-170.0138, 4140,   -999,   1936.7,   1.8714,  34.7378,2,  34.7373,2,    190.4,2,  1.7417,    190.3,2,    90.66,2,    31.19,2,     0.00,2,     2.13,2,    0.048,2,    0.033,2,   -999.0,9,  -999.00,9,   -999.0,9,   -999.0,9,   -999.0,9,     7.61,2, -999.00,  -999.0, -999.00,  -999.0
    31DSCG96_1,  P15S,    50,  1,    112,   1217,2,19960123,1212,-57.9950,-170.0138, 4140,   -999,   2188.0,   1.6848,  34.7396,2,  34.7388,2,    194.8,2,  1.5372,    194.4,2,    96.10,2,    31.17,2,     0.00,2,     2.12,2,    0.038,2,    0.029,2,   -999.0,9,  -999.00,9,   2249.6,2,   1078.6,2,   2357.5,2,     7.61,2, -999.00,  -999.0, -999.00,  -999.0
    31DSCG96_1,  P15S,    50,  1,    111,   1114,2,19960123,1212,-57.9950,-170.0138, 4140,   -999,   2440.0,   1.4988,  34.7359,2,  34.7346,2,    196.7,2,  1.3328,    196.9,2,   101.68,2,    31.33,2,     0.00,2,     2.14,2,    0.039,2,    0.020,2,   -999.0,9,  -999.00,9,   -999.0,9,   -999.0,9,   -999.0,9,     7.61,2, -999.00,  -999.0, -999.00,  -999.0
    31DSCG96_1,  P15S,    50,  1,    110,   1301,2,19960123,1212,-57.9950,-170.0138, 4140,   -999,   2689.1,   1.3190,  34.7301,2,  34.7290,2,    199.6,2,  1.1344,    199.3,2,   107.24,2,    31.56,2,     0.00,2,     2.15,2,    0.025,2,    0.015,2,   -166.0,2,     0.46,2,   2254.3,2,   1064.0,2,   2364.2,2,     7.61,2, -999.00,     2.6, -999.00,  -999.0
    31DSCG96_1,  P15S,    50,  1,    109,   1242,2,19960123,1212,-57.9950,-170.0138, 4140,   -999,   2940.3,   1.1851,  34.7240,2,  34.7241,2,    202.0,2,  0.9806,    201.9,2,   111.37,2,    31.70,2,     0.00,2,     2.16,2,    0.031,2,    0.016,2,   -999.0,9,  -999.00,9,   -999.0,9,   -999.0,9,   -999.0,9,     7.61,2, -999.00,  -999.0, -999.00,  -999.0
    31DSCG96_1,  P15S,    50,  1,    108,   1263,2,19960123,1212,-57.9950,-170.0138, 4140,   -999,   3189.6,   1.0613,  34.7183,2,  34.7170,2,    204.6,2,  0.8362,    204.1,2,   115.02,2,    31.87,2,     0.00,2,     2.18,2,    0.030,2,    0.017,2,   -999.0,9,  -999.00,9,   2256.1,2,   1079.2,2,   2366.4,2,     7.61,2, -999.00,  -999.0, -999.00,  -999.0
    31DSCG96_1,  P15S,    50,  1,    107,   1245,2,19960123,1212,-57.9950,-170.0138, 4140,   -999,   3439.7,   0.9603,  34.7139,2,  34.7134,2,    206.6,2,  0.7135,    206.4,2,   118.13,2,    32.01,2,     0.00,2,     2.18,2,    0.035,2,    0.020,2,   -173.7,2,     0.36,2,   -999.0,9,   -999.0,9,   -999.0,9,     7.61,2, -999.00,     3.0, -999.00,  -999.0
    31DSCG96_1,  P15S,    50,  1,    106,   1262,2,19960123,1212,-57.9950,-170.0138, 4140,   -999,   3687.5,   0.8773,  34.7094,2,  34.7076,2,    208.1,2,  0.6080,    208.0,2,   120.81,2,    32.10,2,     0.00,2,     2.19,2,    0.046,2,    0.022,2,   -999.0,9,  -999.00,9,   2257.6,2,   1086.4,2,   2366.5,2,     7.61,2, -999.00,  -999.0, -999.00,  -999.0
    31DSCG96_1,  P15S,    50,  1,    105,   1113,2,19960123,1212,-57.9950,-170.0138, 4140,   -999,   3938.6,   0.8456,  34.7071,2,  34.7056,2,    209.1,2,  0.5515,    208.8,6,   123.47,2,    32.17,2,     0.00,2,     2.20,2,    0.044,2,    0.025,2,   -999.0,9,  -999.00,9,   -999.0,9,   -999.0,9,   -999.0,9,     7.61,2, -999.00,  -999.0, -999.00,  -999.0
    31DSCG96_1,  P15S,    50,  1,    104,   1003,2,19960123,1212,-57.9950,-170.0138, 4140,   -999,   4189.3,   0.8505,  34.7060,2,  34.7053,2,    209.1,2,  0.5296,    208.4,2,   124.81,2,    32.26,2,     0.00,2,     2.20,2,    0.045,6,    0.027,6,   -168.1,2,     0.45,2,   2258.6,2,   1087.5,2,   -999.0,9,     7.61,2, -999.00,     3.1, -999.00,  -999.0
    31DSCG96_1,  P15S,    50,  1,    103,   9999,2,19960123,1212,-57.9950,-170.0138, 4140,   -999,   4438.5,   0.8683,  34.7056,2,  34.7043,2,    208.6,2,  0.5197,    208.8,2,   125.48,2,    32.24,2,     0.00,2,     2.20,2,    0.064,2,    0.031,2,   -163.3,2,     0.44,2,   -999.0,9,   -999.0,9,   -999.0,9,     7.61,2, -999.00,     3.2, -999.00,  -999.0
    31DSCG96_1,  P15S,    50,  1,    102,   1030,2,19960123,1212,-57.9950,-170.0138, 4140,   -999,   4440.9,   0.8682,  34.7056,2,  34.7050,2,    209.3,2,  0.5193,    211.1,3,   125.35,2,    32.26,2,     0.00,2,     2.20,2,    0.058,2,    0.030,2,   -999.0,9,  -999.00,9,   2257.3,2,   1093.6,2,   2367.9,2,     7.61,2, -999.00,  -999.0, -999.00,  -999.0
    31DSCG96_1,  P15S,    50,  1,    101,   1022,2,19960123,1212,-57.9950,-170.0138, 4140,   -999,   4489.5,   0.8720,  34.7056,2,  34.7048,2,    208.5,2,  0.5176,    208.8,2,   125.38,6,    32.25,6,     0.00,6,     2.20,6, -999.000,5, -999.000,5,   -999.0,9,  -999.00,9,   2258.5,2,   1095.6,2,   -999.0,9,     7.61,2, -999.00,  -999.0, -999.00,  -999.0