BOTTLE,20220811CCHSIOAMB
EXPOCODE,SECT_ID,STNNBR,CASTNO,SAMPNO,BTLNBR,BTLNBR_FLAG_W,DATE,TIME,LATITUDE,LONGITUDE,DEPTH,CTDRAW,CTDPRS,CTDTMP,CTDSAL,CTDSAL_FLAG_W,SALNTY,SALNTY_FLAG_W,CTDOXY,CTDOXY_FLAG_W,THETA,OXYGEN,OXYGEN_FLAG_W,SILCAT,SILCAT_FLAG_W,NITRAT,NITRAT_FLAG_W,NITRIT,NITRIT_FLAG_W,PHSPHT,PHSPHT_FLAG_W,CFC-11,CFC-11_FLAG_W,CFC-12,CFC-12_FLAG_W,DELC14,DELC14_FLAG_W,DELC13,DELC13_FLAG_W,TCARBN,TCARBN_FLAG_W,PCO2,PCO2_FLAG_W,ALKALI,ALKALI_FLAG_W,PH,PH_FLAG_W,PCO2TMP,C14ERR,PH_TMP,C13ERR
,,,,,,,,,,,,DBAR,DBAR,ITS-90,PSS-78,,PSS-78,,UMOL/KG,,DEG C,UMOL/KG,,UMOL/KG,,UMOL/KG,,UMOL/KG,,UMOL/KG,,PMOL/KG,,PMOL/KG,,/MILLE,,/MILLE,,UMOL/KG,,UATM,,UMOL/KG,,,,DEG C,/MILLE,DEG C,/MILLE
    31DSCG96_1,  P15S,    86,  1,    132,   1039,2,19960201,1328,-42.9315,-174.7867, 1059,   -999,      2.3,  18.4561,  35.1277,2,  34.7050,4,    237.6,2, 18.4557,   -999.0,9,  -999.00,9,  -999.00,9,  -999.00,9,  -999.00,9, -999.000,9, -999.000,9,   -999.0,9,  -999.00,9,   -999.0,9,   -999.0,9,   -999.0,9,  -999.00,9, -999.00,  -999.0, -999.00,  -999.0
    31DSCG96_1,  P15S,    86,  1,    131,   1014,2,19960201,1328,-42.9315,-174.7867, 1059,   -999,      5.2,  18.4171,  35.1207,2,  34.7106,4,    237.7,2, 18.4162,   -999.0,9,  -999.00,9,  -999.00,9,  -999.00,9,  -999.00,9, -999.000,9, -999.000,9,   -999.0,9,  -999.00,9,   -999.0,9,   -999.0,9,   -999.0,9,  -999.00,9, -999.00,  -999.0, -999.00,  -999.0
    31DSCG96_1,  P15S,    86,  1,    129,   1256,2,19960201,1328,-42.9315,-174.7867, 1059,   -999,      9.8,  18.1353,  35.0883,2,  35.0061,3,    238.9,2, 18.1336,   -999.0,9,  -999.00,9,  -999.00,9,  -999.00,9,  -999.00,9, -999.000,9, -999.000,9,   -999.0,9,  -999.00,9,   -999.0,9,   -999.0,9,   -999.0,9,  -999.00,9, -999.00,  -999.0, -999.00,  -999.0
    31DSCG96_1,  P15S,    86,  1,    130,   1257,2,19960201,1328,-42.9315,-174.7867, 1059,   -999,     10.1,  18.1037,  35.0799,2,-999.0000,5,    238.9,2, 18.1019,    239.4,2,     0.79,2,     0.04,2,     0.00,2,     0.02,3,    2.611,2,    1.476,2,   -999.0,9,  -999.00,9,   2026.2,2,    357.9,2,   2313.6,2,     8.01,2, -999.00,  -999.0, -999.00,  -999.0
    31DSCG96_1,  P15S,    86,  1,    127,   1232,2,19960201,1328,-42.9315,-174.7867, 1059,   -999,     19.9,  17.8580,  35.0609,2,-999.0000,9,    241.0,2, 17.8546,   -999.0,9,  -999.00,9,  -999.00,9,  -999.00,9,  -999.00,9, -999.000,9, -999.000,9,   -999.0,9,  -999.00,9,   -999.0,9,   -999.0,9,   -999.0,9,  -999.00,9, -999.00,  -999.0, -999.00,  -999.0
    31DSCG96_1,  P15S,    86,  1,    128,   1007,2,19960201,1328,-42.9315,-174.7867, 1059,   -999,     20.1,  17.8599,  35.0616,2,  35.0611,2,    241.0,2, 17.8565,    242.0,2,     0.75,2,     0.03,2,     0.00,2,     0.04,2, -999.000,9, -999.000,9,   -999.0,9,  -999.00,9,   -999.0,9,   -999.0,9,   -999.0,9,     8.01,2, -999.00,  -999.0, -999.00,  -999.0
    31DSCG96_1,  P15S,    86,  1,    126,   1025,2,19960201,1328,-42.9315,-174.7867, 1059,   -999,     35.1,  17.4637,  35.2048,2,-999.0000,9,    251.8,2, 17.4578,   -999.0,9,  -999.00,9,  -999.00,9,  -999.00,9,  -999.00,9, -999.000,9, -999.000,9,   -999.0,9,  -999.00,9,   -999.0,9,   -999.0,9,   -999.0,9,  -999.00,9, -999.00,  -999.0, -999.00,  -999.0
    31DSCG96_1,  P15S,    86,  1,    125,   1233,2,19960201,1328,-42.9315,-174.7867, 1059,   -999,     44.9,  14.9269,  35.0053,2,  35.0880,3,    254.1,2, 14.9202,    252.5,2,     0.92,2,     0.09,2,     0.01,2,     0.13,2, -999.000,9, -999.000,9,   -999.0,9,  -999.00,9,   2037.4,2,    393.9,2,   2302.3,2,     7.98,2, -999.00,  -999.0, -999.00,  -999.0
    31DSCG96_1,  P15S,    86,  1,    124,   1218,2,19960201,1328,-42.9315,-174.7867, 1059,   -999,     54.6,  13.7369,  34.9821,2,-999.0000,9,    249.7,2, 13.7292,   -999.0,9,  -999.00,9,  -999.00,9,  -999.00,9,  -999.00,9, -999.000,9, -999.000,9,   -999.0,9,  -999.00,9,   -999.0,9,   -999.0,9,   -999.0,9,  -999.00,9, -999.00,  -999.0, -999.00,  -999.0
    31DSCG96_1,  P15S,    86,  1,    123,   1250,2,19960201,1328,-42.9315,-174.7867, 1059,   -999,     69.8,  13.0089,  34.9709,2,  34.9713,2,    242.7,2, 12.9993,    253.7,2,     1.46,2,     2.91,2,     0.51,2,     0.34,2,    3.280,2,    1.768,2,   -999.0,9,  -999.00,9,   -999.0,9,   -999.0,9,   -999.0,9,     7.93,2, -999.00,  -999.0, -999.00,  -999.0
    31DSCG96_1,  P15S,    86,  1,    122,   1109,2,19960201,1328,-42.9315,-174.7867, 1059,   -999,     70.2,  12.9930,  34.9730,2,  34.9712,2,    242.7,2, 12.9834,    252.9,2,     1.46,2,     3.06,2,     0.51,2,     0.38,2, -999.000,9, -999.000,9,   -999.0,9,  -999.00,9,   2063.8,2,   -999.0,9,   2308.7,2,     7.93,2, -999.00,  -999.0, -999.00,  -999.0
    31DSCG96_1,  P15S,    86,  1,    121,   1246,2,19960201,1328,-42.9315,-174.7867, 1059,   -999,     94.0,  12.5151,  35.0493,2,  35.0499,2,    230.3,2, 12.5025,    233.4,2,     2.83,2,     7.80,2,     0.02,2,     0.61,2, -999.000,9, -999.000,9,   -999.0,9,  -999.00,9,   2084.8,2,    496.9,2,   2308.9,2,     7.89,2, -999.00,  -999.0, -999.00,  -999.0
    31DSCG96_1,  P15S,    86,  1,    120,   1015,2,19960201,1328,-42.9315,-174.7867, 1059,   -999,    101.4,  12.5148,  35.0743,2,-999.0000,9,    229.1,2, 12.5012,   -999.0,9,  -999.00,9,  -999.00,9,  -999.00,9,  -999.00,9, -999.000,9, -999.000,9,   -999.0,9,  -999.00,9,   -999.0,9,   -999.0,9,   -999.0,9,  -999.00,9, -999.00,  -999.0, -999.00,  -999.0
    31DSCG96_1,  P15S,    86,  1,    119,   1247,2,19960201,1328,-42.9315,-174.7867, 1059,   -999,    120.3,  12.4706,  35.0915,2,  35.0940,2,    229.6,2, 12.4545,    229.3,2,     3.82,6,     8.87,6,     0.02,6,     0.64,3,    2.956,2,    1.594,2,   -999.0,9,  -999.00,9,   -999.0,9,   -999.0,9,   -999.0,9,     7.88,2, -999.00,  -999.0, -999.00,  -999.0
    31DSCG96_1,  P15S,    86,  1,    118,   1222,2,19960201,1328,-42.9315,-174.7867, 1059,   -999,    143.4,  12.2592,  35.0756,2,  35.0738,2,    233.2,2, 12.2403,    231.4,2,     3.64,6,     9.06,6,     0.02,6,     0.69,2, -999.000,9, -999.000,9,   -999.0,9,  -999.00,9,   2094.3,2,    519.4,2,   2308.8,2,     7.88,2, -999.00,  -999.0, -999.00,  -999.0
    31DSCG96_1,  P15S,    86,  1,    117,   1267,2,19960201,1328,-42.9315,-174.7867, 1059,   -999,    150.5,  12.1379,  35.0540,2,-999.0000,5,    233.3,2, 12.1181,   -999.0,9,  -999.00,9,  -999.00,9,  -999.00,9,  -999.00,9, -999.000,9, -999.000,9,   -999.0,9,  -999.00,9,   -999.0,9,   -999.0,9,   -999.0,9,  -999.00,9, -999.00,  -999.0, -999.00,  -999.0
    31DSCG96_1,  P15S,    86,  1,    116,   1211,2,19960201,1328,-42.9315,-174.7867, 1059,   -999,    169.0,  11.6993,  34.9793,2,  34.9764,2,    238.0,2, 11.6776,    234.7,2,     3.45,2,     9.96,2,     0.01,2,     0.75,2, -999.000,9, -999.000,9,   -999.0,9,  -999.00,9,   -999.0,9,   -999.0,9,   -999.0,9,     7.86,2, -999.00,  -999.0, -999.00,  -999.0
    31DSCG96_1,  P15S,    86,  1,    115,   1041,2,19960201,1328,-42.9315,-174.7867, 1059,   -999,    195.6,  11.3249,  34.9191,2,  34.9212,2,    238.3,2, 11.3004,    230.4,2,     4.15,2,    11.22,2,     0.01,2,     0.83,2, -999.000,9, -999.000,9,   -999.0,9,  -999.00,9,   -999.0,9,   -999.0,9,   -999.0,9,     7.85,2, -999.00,  -999.0, -999.00,  -999.0
    31DSCG96_1,  P15S,    86,  1,    114,   1017,2,19960201,1328,-42.9315,-174.7867, 1059,   -999,    219.5,  10.9426,  34.8637,2,  34.8619,2,    230.8,2, 10.9157,    231.1,2,     4.40,2,    12.07,2,     0.01,2,     0.89,2,    3.067,2,    1.636,2,   -999.0,9,  -999.00,9,   2104.3,2,    580.5,2,   2299.8,2,     7.83,2, -999.00,  -999.0, -999.00,  -999.0
    31DSCG96_1,  P15S,    86,  1,    113,   1302,2,19960201,1328,-42.9315,-174.7867, 1059,   -999,    244.7,  10.7004,  34.8339,2,  34.8334,2,    222.8,2, 10.6707,    221.0,2,     5.27,2,    13.74,2,     0.01,2,     0.99,2, -999.000,9, -999.000,9,   -999.0,9,  -999.00,9,   -999.0,9,   -999.0,9,   -999.0,9,     7.82,2, -999.00,  -999.0, -999.00,  -999.0
    31DSCG96_1,  P15S,    86,  1,    112,   1217,2,19960201,1328,-42.9315,-174.7867, 1059,   -999,    289.9,  10.1466,  34.7594,2,  34.7599,2,    217.5,2, 10.1126,    217.0,2,     6.01,2,    15.47,2,     0.01,2,     1.10,2, -999.000,9, -999.000,9,     57.7,2,  -999.00,9,   2119.2,2,    657.5,3,   2299.7,2,     7.80,2, -999.00,     3.2, -999.00,  -999.0
    31DSCG96_1,  P15S,    86,  1,    111,   1114,2,19960201,1328,-42.9315,-174.7867, 1059,   -999,    339.9,   9.6877,  34.7016,2,  34.7022,2,    219.7,2,  9.6489,    220.2,2,     6.41,2,    16.21,2,     0.01,2,     1.15,2,    2.818,2,    1.473,2,   -999.0,9,  -999.00,9,   -999.0,9,   -999.0,9,   -999.0,9,     7.78,2, -999.00,  -999.0, -999.00,  -999.0
    31DSCG96_1,  P15S,    86,  1,    110,   1301,2,19960201,1328,-42.9315,-174.7867, 1059,   -999,    389.8,   9.4130,  34.6816,2,  34.6828,2,    210.5,2,  9.3692,    208.8,2,     7.81,2,    18.36,2,     0.01,2,     1.29,2, -999.000,9, -999.000,9,   -999.0,9,  -999.00,9,   2132.0,2,    703.7,2,   2295.1,2,     7.76,2, -999.00,  -999.0, -999.00,  -999.0
    31DSCG96_1,  P15S,    86,  1,    109,   1242,2,19960201,1328,-42.9315,-174.7867, 1059,   -999,    438.3,   9.1352,  34.6693,2,  34.6624,2,    210.9,2,  9.0867,    206.0,2,     8.99,2,    19.39,2,     0.01,2,     1.36,2,    2.159,2,    1.194,2,   -999.0,9,  -999.00,9,   -999.0,9,   -999.0,9,   -999.0,9,     7.75,2, -999.00,  -999.0, -999.00,  -999.0
    31DSCG96_1,  P15S,    86,  1,    108,   1263,2,19960201,1328,-42.9315,-174.7867, 1059,   -999,    489.0,   8.7126,  34.6292,2,  34.6287,2,    204.9,2,  8.6599,    203.1,2,    10.13,2,    20.62,2,     0.01,2,     1.43,2, -999.000,9, -999.000,9,   -999.0,9,  -999.00,9,   2142.8,2,    750.5,2,   2295.9,2,     7.74,2, -999.00,  -999.0, -999.00,  -999.0
    31DSCG96_1,  P15S,    86,  1,    107,   1245,2,19960201,1328,-42.9315,-174.7867, 1059,   -999,    540.7,   8.1323,  34.5620,2,  34.5640,2,    212.0,2,  8.0762,    211.9,2,    11.00,2,    21.25,2,     0.00,2,     1.48,2,    1.910,2,    1.007,2,   -999.0,9,  -999.00,9,   -999.0,9,   -999.0,9,   -999.0,9,     7.74,2, -999.00,  -999.0, -999.00,  -999.0
    31DSCG96_1,  P15S,    86,  1,    106,   1262,2,19960201,1328,-42.9315,-174.7867, 1059,   -999,    589.2,   7.8042,  34.5382,2,  34.5388,2,    206.1,2,  7.7443,    206.1,2,    12.23,2,    22.63,2,     0.00,2,     1.55,2, -999.000,9, -999.000,9,   -999.0,9,  -999.00,9,   -999.0,9,   -999.0,9,   -999.0,9,     7.72,2, -999.00,  -999.0, -999.00,  -999.0
    31DSCG96_1,  P15S,    86,  1,    105,   1113,2,19960201,1328,-42.9315,-174.7867, 1059,   -999,    674.2,   7.3695,  34.5024,2,  34.5032,2,    205.9,2,  7.3028,    206.0,2,    13.99,2,    23.71,2,     0.00,2,     1.62,2,    1.025,2,    0.621,2,   -999.0,9,  -999.00,9,   -999.0,9,   -999.0,9,   -999.0,9,     7.71,2, -999.00,  -999.0, -999.00,  -999.0
    31DSCG96_1,  P15S,    86,  1,    104,   1003,2,19960201,1328,-42.9315,-174.7867, 1059,   -999,    774.1,   6.7613,  34.4718,2,  34.4716,2,    201.0,2,  6.6878,    200.4,2,    19.19,2,    25.54,2,     0.00,2,     1.75,2, -999.000,9, -999.000,9,   -999.0,9,  -999.00,9,   2163.1,2,    852.5,2,   2295.4,2,     7.69,2, -999.00,  -999.0, -999.00,  -999.0
    31DSCG96_1,  P15S,    86,  1,    103,   1216,2,19960201,1328,-42.9315,-174.7867, 1059,   -999,    876.7,   6.2589,  34.4593,2,  34.4618,2,    195.1,2,  6.1783,    194.9,2,    24.93,2,    26.99,2,     0.00,2,     1.84,2,    0.490,2,    0.296,2,   -999.0,9,  -999.00,9,   -999.0,9,   -999.0,9,   -999.0,9,     7.68,2, -999.00,  -999.0, -999.00,  -999.0
    31DSCG96_1,  P15S,    86,  1,    102,   1030,2,19960201,1328,-42.9315,-174.7867, 1059,   -999,    975.4,   5.5683,  34.4532,2,  34.4533,2,    188.0,2,  5.4831,    187.7,2,    34.17,2,    28.87,2,     0.00,2,     1.97,2,    0.292,2,    0.205,2,   -999.0,9,  -999.00,9,   -999.0,9,   -999.0,9,   -999.0,9,     7.65,3, -999.00,  -999.0, -999.00,  -999.0
    31DSCG96_1,  P15S,    86,  1,    101,   1022,2,19960201,1328,-42.9315,-174.7867, 1059,   -999,   1054.5,   5.1078,  34.4585,2,  34.4577,2,    181.9,2,  5.0187,    182.7,2,    41.26,6,    30.09,6,     0.00,6,     2.05,6,    0.200,6,    0.154,6,   -999.0,9,  -999.00,9,   2196.3,2,    991.8,2,   2314.6,2,     7.64,2, -999.00,  -999.0, -999.00,  -999.0