BOTTLE,20220811CCHSIOAMB
EXPOCODE,SECT_ID,STNNBR,CASTNO,SAMPNO,BTLNBR,BTLNBR_FLAG_W,DATE,TIME,LATITUDE,LONGITUDE,DEPTH,CTDRAW,CTDPRS,CTDTMP,CTDSAL,CTDSAL_FLAG_W,SALNTY,SALNTY_FLAG_W,CTDOXY,CTDOXY_FLAG_W,THETA,OXYGEN,OXYGEN_FLAG_W,SILCAT,SILCAT_FLAG_W,NITRAT,NITRAT_FLAG_W,NITRIT,NITRIT_FLAG_W,PHSPHT,PHSPHT_FLAG_W,CFC-11,CFC-11_FLAG_W,CFC-12,CFC-12_FLAG_W,DELC14,DELC14_FLAG_W,DELC13,DELC13_FLAG_W,TCARBN,TCARBN_FLAG_W,PCO2,PCO2_FLAG_W,ALKALI,ALKALI_FLAG_W,PH,PH_FLAG_W,PCO2TMP,C14ERR,PH_TMP,C13ERR
,,,,,,,,,,,,DBAR,DBAR,ITS-90,PSS-78,,PSS-78,,UMOL/KG,,DEG C,UMOL/KG,,UMOL/KG,,UMOL/KG,,UMOL/KG,,UMOL/KG,,PMOL/KG,,PMOL/KG,,/MILLE,,/MILLE,,UMOL/KG,,UATM,,UMOL/KG,,,,DEG C,/MILLE,DEG C,/MILLE
    31DSCG96_2,  P15S,   140,  1,    136,   1245,2,19960226,0730,-18.5055,-170.0018, 5232,   -999,      5.1,  29.1154,  34.8634,2,  34.8677,2,    198.0,2, 29.1142,    198.9,2,     1.19,2,     0.07,2,     0.00,2,     0.02,3,    1.616,2,    0.903,2,     79.1,2,  -999.00,9,   1916.8,2,    221.7,2,   -999.0,9,     8.16,2, -999.00,     4.7, -999.00,  -999.0
    31DSCG96_2,  P15S,   140,  1,    135,   1113,2,19960226,0730,-18.5055,-170.0018, 5232,   -999,     18.5,  28.6744,  34.8649,2,  34.8690,2,    197.8,2, 28.6700,    200.8,2,     1.22,2,     0.07,2,     0.00,2,     0.03,3, -999.000,9, -999.000,9,   -999.0,9,  -999.00,9,   -999.0,9,    233.7,2,   -999.0,9,  -999.00,9, -999.00,  -999.0, -999.00,  -999.0
    31DSCG96_2,  P15S,   140,  1,    134,   1267,2,19960226,0730,-18.5055,-170.0018, 5232,   -999,     44.2,  27.2209,  35.1959,2,  35.2122,2,    207.5,2, 27.2107,    213.5,2,     1.20,2,     0.03,2,     0.00,2,     0.04,2,    1.794,2,    1.013,2,   -999.0,9,  -999.00,9,   1943.8,2,    258.5,2,   -999.0,9,     8.14,2, -999.00,  -999.0, -999.00,  -999.0
    31DSCG96_2,  P15S,   140,  1,    133,   1221,2,19960226,0730,-18.5055,-170.0018, 5232,   -999,     68.5,  25.6265,  35.4509,2,  35.5003,3,    210.6,2, 25.6113,    213.7,2,     1.24,2,     0.00,2,     0.00,2,     0.08,2,    1.888,6,    1.062,6,   -999.0,9,  -999.00,9,   -999.0,9,   -999.0,9,   -999.0,9,     8.13,2, -999.00,  -999.0, -999.00,  -999.0
    31DSCG96_2,  P15S,   140,  1,    132,   1039,2,19960226,0730,-18.5055,-170.0018, 5232,   -999,     93.9,  23.7419,  35.7326,2,  35.7376,2,    208.2,2, 23.7222,    205.7,2,     1.22,2,     0.01,2,     0.00,2,     0.12,2,    1.969,2,    1.094,2,   -999.0,9,  -999.00,9,   -999.0,9,   -999.0,9,   -999.0,9,     8.09,2, -999.00,  -999.0, -999.00,  -999.0
    31DSCG96_2,  P15S,   140,  1,    131,   1014,2,19960226,0730,-18.5055,-170.0018, 5232,   -999,    138.7,  21.5312,  35.7880,2,  35.7866,2,    195.6,2, 21.5041,    187.2,6,     1.25,2,     1.26,2,     0.05,2,     0.23,2,    2.051,2,    1.088,2,   -999.0,9,  -999.00,9,   -999.0,9,   -999.0,9,   -999.0,9,     8.03,2, -999.00,  -999.0, -999.00,  -999.0
    31DSCG96_2,  P15S,   140,  1,    130,   1257,2,19960226,0730,-18.5055,-170.0018, 5232,   -999,    187.7,  19.8479,  35.7044,2,  35.6920,2,    182.8,2, 19.8132,    185.5,2,     1.40,2,     2.83,2,     0.01,2,     0.32,2,    2.073,2,    1.116,2,   -999.0,9,  -999.00,9,   -999.0,9,   -999.0,9,   -999.0,9,     8.00,2, -999.00,  -999.0, -999.00,  -999.0
    31DSCG96_2,  P15S,   140,  1,    129,   1256,2,19960226,0730,-18.5055,-170.0018, 5232,   -999,    239.9,  18.0476,  35.5826,2,  35.5887,2,    192.4,2, 18.0062,    193.6,2,     1.57,2,     3.41,2,     0.01,2,     0.35,2,    2.163,2,    1.138,2,   -999.0,9,  -999.00,9,   -999.0,9,   -999.0,9,   -999.0,9,     7.98,2, -999.00,  -999.0, -999.00,  -999.0
    31DSCG96_2,  P15S,   140,  1,    128,   1007,2,19960226,0730,-18.5055,-170.0018, 5232,   -999,    289.6,  16.6089,  35.4707,2,  35.4800,2,    196.0,2, 16.5615,    196.1,2,     1.94,2,     4.80,2,     0.01,2,     0.45,2,    2.204,2,    1.158,2,   -999.0,9,  -999.00,9,   -999.0,9,   -999.0,9,   -999.0,9,     7.95,2, -999.00,  -999.0, -999.00,  -999.0
    31DSCG96_2,  P15S,   140,  1,    127,   1232,2,19960226,0730,-18.5055,-170.0018, 5232,   -999,    375.3,  14.6067,  35.2391,2,  35.2376,2,    190.1,2, 14.5505,    194.0,2,     2.81,2,     8.03,2,     0.00,2,     0.65,2,    2.062,2,    1.070,2,   -999.0,9,  -999.00,9,   -999.0,9,   -999.0,9,   -999.0,9,     7.89,2, -999.00,  -999.0, -999.00,  -999.0
    31DSCG96_2,  P15S,   140,  1,    126,   1025,2,19960226,0730,-18.5055,-170.0018, 5232,   -999,    475.4,   9.8051,  34.6442,2,  34.6441,2,    189.1,2,  9.7501,    186.8,2,     7.56,2,    18.81,2,     0.00,2,     1.37,2,    1.084,2,    0.541,2,   -999.0,9,  -999.00,9,   -999.0,9,   -999.0,9,   -999.0,9,     7.75,2, -999.00,  -999.0, -999.00,  -999.0
    31DSCG96_2,  P15S,   140,  1,    125,   1119,2,19960226,0730,-18.5055,-170.0018, 5232,   -999,    578.2,   7.1220,  34.4121,2,  34.4117,2,    207.5,2,  7.0664,    216.0,2,     9.74,2,    23.28,2,     0.00,2,     1.61,2,    0.882,2,    0.439,2,   -999.0,9,  -999.00,9,   -999.0,9,   -999.0,9,   -999.0,9,     7.72,2, -999.00,  -999.0, -999.00,  -999.0
    31DSCG96_2,  P15S,   140,  1,    124,   1244,2,19960226,0730,-18.5055,-170.0018, 5232,   -999,    673.7,   6.0843,  34.3488,2,  34.3482,2,    200.3,2,  6.0243,    210.3,2,    15.34,2,    26.60,2,     0.00,2,     1.83,2,    0.391,2,    0.211,2,   -999.0,9,  -999.00,9,   -999.0,9,   -999.0,9,   -999.0,9,     7.68,2, -999.00,  -999.0, -999.00,  -999.0
    31DSCG96_2,  P15S,   140,  1,    123,   1250,2,19960226,0730,-18.5055,-170.0018, 5232,   -999,    771.6,   5.3747,  34.3657,2,  34.3661,2,    173.9,2,  5.3097,    180.8,2,    28.35,2,    30.67,2,     0.00,2,     2.12,2,    0.111,2,    0.062,2,   -999.0,9,  -999.00,9,   -999.0,9,   -999.0,9,   -999.0,9,     7.63,2, -999.00,  -999.0, -999.00,  -999.0
    31DSCG96_2,  P15S,   140,  1,    122,   1265,2,19960226,0730,-18.5055,-170.0018, 5232,   -999,    872.2,   4.8235,  34.4022,2,  34.4016,2,    159.7,2,  4.7530,    164.6,2,    41.08,2,    32.86,2,     0.00,2,     2.29,2,    0.029,2,    0.019,2,   -999.0,9,  -999.00,9,   -999.0,9,   -999.0,9,   -999.0,9,     7.60,2, -999.00,  -999.0, -999.00,  -999.0
    31DSCG96_2,  P15S,   140,  1,    121,   1246,2,19960226,0730,-18.5055,-170.0018, 5232,   -999,    972.2,   4.2097,  34.4453,2,  34.4455,2,    154.1,2,  4.1349,    155.4,6,    55.61,2,    34.32,2,     0.00,2,     2.38,2,    0.007,2,    0.004,2,   -999.0,9,  -999.00,9,   -999.0,9,   -999.0,9,   -999.0,9,     7.58,2, -999.00,  -999.0, -999.00,  -999.0
    31DSCG96_2,  P15S,   140,  1,    120,   1015,2,19960226,0730,-18.5055,-170.0018, 5232,   -999,   1075.5,   3.7127,  34.4773,2,  34.4768,2,    152.6,2,  3.6332,    153.8,2,    66.41,2,    34.91,2,     0.00,2,     2.42,2, -999.000,9, -999.000,9,   -999.0,9,  -999.00,9,   -999.0,9,   -999.0,9,   -999.0,9,     7.57,2, -999.00,  -999.0, -999.00,  -999.0
    31DSCG96_2,  P15S,   140,  1,    119,   1247,2,19960226,0730,-18.5055,-170.0018, 5232,   -999,   1180.0,   3.2774,  34.5119,2,  34.5108,2,    151.0,2,  3.1931,    152.7,2,    77.27,2,    35.30,2,     0.00,2,     2.45,2,    0.000,2,    0.002,2,   -999.0,9,  -999.00,9,   -999.0,9,   -999.0,9,   -999.0,9,     7.57,3, -999.00,  -999.0, -999.00,  -999.0
    31DSCG96_2,  P15S,   140,  1,    118,   1299,2,19960226,0730,-18.5055,-170.0018, 5232,   -999,   1275.2,   3.0014,  34.5382,2,  34.5372,2,    149.6,2,  2.9120,    151.4,2,    85.20,2,    35.47,2,     0.00,2,     2.46,2, -999.000,9, -999.000,9,   -999.0,9,  -999.00,9,   -999.0,9,   -999.0,9,   -999.0,9,     7.57,2, -999.00,  -999.0, -999.00,  -999.0
    31DSCG96_2,  P15S,   140,  1,    117,   1242,2,19960226,0730,-18.5055,-170.0018, 5232,   -999,   1439.7,   2.6912,  34.5807,2,  34.5800,2,    145.3,2,  2.5917,    146.8,2,    98.67,2,    35.90,2,     0.00,2,     2.50,2,    0.001,2,    0.000,2,   -999.0,9,  -999.00,9,   -999.0,9,   -999.0,9,   -999.0,9,     7.57,2, -999.00,  -999.0, -999.00,  -999.0
    31DSCG96_2,  P15S,   140,  1,    116,   1259,2,19960226,0730,-18.5055,-170.0018, 5232,   -999,   1681.6,   2.4257,  34.6111,2,  34.6100,2,    143.6,2,  2.3097,    144.4,2,   109.51,2,    36.14,2,     0.00,2,     2.52,2, -999.000,9, -999.000,9,   -999.0,9,  -999.00,9,   -999.0,9,   -999.0,9,   -999.0,9,     7.56,2, -999.00,  -999.0, -999.00,  -999.0
    31DSCG96_2,  P15S,   140,  1,    115,   1041,2,19960226,0730,-18.5055,-170.0018, 5232,   -999,   1938.4,   2.2346,  34.6287,2,  34.6277,2,    144.0,2,  2.0998,    144.7,2,   116.05,2,    36.23,2,     0.00,2,     2.52,2,   -0.001,2,    0.001,2,   -999.0,9,  -999.00,9,   -999.0,9,   -999.0,9,   -999.0,9,     7.56,2, -999.00,  -999.0, -999.00,  -999.0
    31DSCG96_2,  P15S,   140,  1,    114,   1017,2,19960226,0730,-18.5055,-170.0018, 5232,   -999,   2190.5,   2.0634,  34.6434,2,  34.6432,2,    144.9,2,  1.9096,    145.1,2,   122.10,2,    36.25,2,     0.00,2,     2.53,2, -999.000,9, -999.000,9,   -999.0,9,  -999.00,9,   -999.0,9,   -999.0,9,   -999.0,9,     7.57,2, -999.00,  -999.0, -999.00,  -999.0
    31DSCG96_2,  P15S,   140,  1,    113,   1302,2,19960226,0730,-18.5055,-170.0018, 5232,   -999,   2440.6,   1.9251,  34.6552,2,  34.6545,2,    146.2,2,  1.7515,    146.3,2,   126.59,2,    36.18,2,     0.00,2,     2.53,2,    0.000,2,    0.001,2,   -999.0,9,  -999.00,9,   -999.0,9,   -999.0,9,   -999.0,9,     7.57,2, -999.00,  -999.0, -999.00,  -999.0
    31DSCG96_2,  P15S,   140,  1,    112,   1217,2,19960226,0730,-18.5055,-170.0018, 5232,   -999,   2690.5,   1.8387,  34.6628,2,  34.6618,2,    147.0,2,  1.6439,    146.8,2,   130.23,2,    36.21,2,     0.00,2,     2.51,2, -999.000,9, -999.000,9,   -999.0,9,  -999.00,9,   -999.0,9,   -999.0,9,   -999.0,9,     7.57,2, -999.00,  -999.0, -999.00,  -999.0
    31DSCG96_2,  P15S,   140,  1,    111,   1226,2,19960226,0730,-18.5055,-170.0018, 5232,   -999,   2939.1,   1.7517,  34.6699,2,  34.6691,2,    148.7,2,  1.5352,    151.0,6,   131.05,2,    35.90,2,     0.00,2,     2.49,2,    0.000,2,    0.001,2,   -999.0,9,  -999.00,9,   -999.0,9,   -999.0,9,   -999.0,9,     7.58,2, -999.00,  -999.0, -999.00,  -999.0
    31DSCG96_2,  P15S,   140,  1,    110,   1301,2,19960226,0730,-18.5055,-170.0018, 5232,   -999,   3189.9,   1.6829,  34.6756,2,  34.6742,2,    154.7,2,  1.4435,    154.3,2,   131.94,2,    35.71,2,     0.00,2,     2.47,2,    0.000,2,    0.001,2,   -999.0,9,  -999.00,9,   -999.0,9,   -999.0,9,   -999.0,9,     7.58,2, -999.00,  -999.0, -999.00,  -999.0
    31DSCG96_2,  P15S,   140,  1,    109,   1031,2,19960226,0730,-18.5055,-170.0018, 5232,   -999,   3439.6,   1.5826,  34.6843,2,  34.6835,2,    161.7,2,  1.3204,    162.0,2,   130.34,2,    35.07,2,     0.00,2,     2.43,2, -999.000,5, -999.000,5,   -999.0,9,  -999.00,9,   -999.0,9,   -999.0,9,   -999.0,9,  -999.00,9, -999.00,  -999.0, -999.00,  -999.0
    31DSCG96_2,  P15S,   140,  1,    108,   1227,2,19960226,0730,-18.5055,-170.0018, 5232,   -999,   3683.4,   1.4645,  34.6983,2,  34.6971,2,    177.4,2,  1.1802,    176.4,2,   123.54,2,    33.89,2,     0.00,2,     2.34,2,    0.002,2,    0.000,2,   -999.0,9,  -999.00,9,   -999.0,9,   -999.0,9,   -999.0,9,     7.60,2, -999.00,  -999.0, -999.00,  -999.0
    31DSCG96_2,  P15S,   140,  1,    107,   1263,2,19960226,0730,-18.5055,-170.0018, 5232,   -999,   3932.7,   1.3008,  34.7133,2,  34.7132,2,    195.1,2,  0.9945,    194.8,2,   115.45,2,    32.44,2,     0.00,2,     2.25,2,    0.002,2,    0.002,2,   -999.0,9,  -999.00,9,   -999.0,9,   -999.0,9,   -999.0,9,     7.61,2, -999.00,  -999.0, -999.00,  -999.0
    31DSCG96_2,  P15S,   140,  1,    106,   1262,2,19960226,0730,-18.5055,-170.0018, 5232,   -999,   4191.4,   1.1148,  34.7129,2,  34.7141,2,    202.2,2,  0.7859,    202.8,2,   117.28,2,    32.14,2,     0.00,2,     2.21,2,    0.004,2,    0.002,2,   -999.0,9,  -999.00,9,   -999.0,9,   -999.0,9,   -999.0,9,     7.61,2, -999.00,  -999.0, -999.00,  -999.0
    31DSCG96_2,  P15S,   140,  1,    105,   1264,2,19960226,0730,-18.5055,-170.0018, 5232,   -999,   4441.0,   1.0243,  34.7103,2,  34.7097,2,    205.1,2,  0.6705,    205.4,2,   119.54,2,    32.20,2,     0.00,2,     2.22,2,    0.004,2,    0.003,2,   -999.0,9,  -999.00,9,   -999.0,9,   -999.0,9,   -999.0,9,     7.61,2, -999.00,  -999.0, -999.00,  -999.0
    31DSCG96_2,  P15S,   140,  1,    104,   1003,2,19960226,0730,-18.5055,-170.0018, 5232,   -999,   4691.6,   1.0044,  34.7086,2,  34.7087,2,    205.9,2,  0.6229,    206.2,6,   120.73,2,    32.23,2,     0.00,2,     2.23,2,    0.008,2,    0.003,2,   -999.0,9,  -999.00,9,   -999.0,9,   -999.0,9,   -999.0,9,     7.61,2, -999.00,  -999.0, -999.00,  -999.0
    31DSCG96_2,  P15S,   140,  1,    103,   1035,2,19960226,0730,-18.5055,-170.0018, 5232,   -999,   4942.2,   1.0289,  34.7083,2,  34.7087,2,    206.4,2,  0.6172,    206.4,2,   120.91,2,    32.20,2,     0.00,2,     2.23,2,    0.007,2,    0.003,2,   -999.0,9,  -999.00,9,   -999.0,9,   -999.0,9,   -999.0,9,     7.61,2, -999.00,  -999.0, -999.00,  -999.0
    31DSCG96_2,  P15S,   140,  1,    102,   1030,2,19960226,0730,-18.5055,-170.0018, 5232,   -999,   5189.4,   1.0576,  34.7082,2,  34.7088,2,    206.6,2,  0.6153,    206.3,2,   120.92,2,    32.23,2,     0.00,2,     2.22,2,    0.009,6,    0.004,6,   -999.0,9,  -999.00,9,   -999.0,9,   -999.0,9,   -999.0,9,     7.61,2, -999.00,  -999.0, -999.00,  -999.0
    31DSCG96_2,  P15S,   140,  1,    101,   1022,2,19960226,0730,-18.5055,-170.0018, 5232,   -999,   5340.3,   1.0765,  34.7078,2,  34.7073,2,    206.8,2,  0.6151,    206.4,2,   120.96,6,    32.22,6,     0.00,6,     2.23,6,    0.007,2,    0.004,2,   -999.0,9,  -999.00,9,   -999.0,9,   -999.0,9,   -999.0,9,     7.61,2, -999.00,  -999.0, -999.00,  -999.0