BOTTLE,20220811CCHSIOAMB
EXPOCODE,SECT_ID,STNNBR,CASTNO,SAMPNO,BTLNBR,BTLNBR_FLAG_W,DATE,TIME,LATITUDE,LONGITUDE,DEPTH,CTDRAW,CTDPRS,CTDTMP,CTDSAL,CTDSAL_FLAG_W,SALNTY,SALNTY_FLAG_W,CTDOXY,CTDOXY_FLAG_W,THETA,OXYGEN,OXYGEN_FLAG_W,SILCAT,SILCAT_FLAG_W,NITRAT,NITRAT_FLAG_W,NITRIT,NITRIT_FLAG_W,PHSPHT,PHSPHT_FLAG_W,CFC-11,CFC-11_FLAG_W,CFC-12,CFC-12_FLAG_W,DELC14,DELC14_FLAG_W,DELC13,DELC13_FLAG_W,TCARBN,TCARBN_FLAG_W,PCO2,PCO2_FLAG_W,ALKALI,ALKALI_FLAG_W,PH,PH_FLAG_W,PCO2TMP,C14ERR,PH_TMP,C13ERR
,,,,,,,,,,,,DBAR,DBAR,ITS-90,PSS-78,,PSS-78,,UMOL/KG,,DEG C,UMOL/KG,,UMOL/KG,,UMOL/KG,,UMOL/KG,,UMOL/KG,,PMOL/KG,,PMOL/KG,,/MILLE,,/MILLE,,UMOL/KG,,UATM,,UMOL/KG,,,,DEG C,/MILLE,DEG C,/MILLE
    31DSCG96_1,  P14S,    19,  1,    124,    429,2,19960112,2208,-59.4780, 173.9950, 5002,   -999,     11.2,   5.2806,  34.0020,2,  34.0038,2,    311.6,2,  5.2797,    310.7,2,     3.30,2,    21.29,2,     0.22,2,     1.43,2,    5.012,2,    2.539,2,   -999.0,9,  -999.00,9,   -999.0,9,   -999.0,9,   -999.0,9,     7.80,2, -999.00,  -999.0, -999.00,  -999.0
    31DSCG96_1,  P14S,    19,  1,    123,    428,2,19960112,2208,-59.4780, 173.9950, 5002,   -999,     29.3,   5.2812,  34.0035,2,  34.0068,2,    311.2,2,  5.2789,    310.3,2,     3.31,2,    21.30,2,     0.23,2,     1.44,2,    4.946,2,    2.549,2,   -999.0,9,  -999.00,9,   -999.0,9,   -999.0,9,   -999.0,9,     7.79,2, -999.00,  -999.0, -999.00,  -999.0
    31DSCG96_1,  P14S,    19,  1,    122,    407,2,19960112,2208,-59.4780, 173.9950, 5002,   -999,     63.7,   5.3465,  34.0520,2,  34.0516,2,    307.8,2,  5.3415,    309.3,2,     3.73,2,    20.91,2,     0.22,2,     1.42,2,    4.887,2,    2.494,2,   -999.0,9,  -999.00,9,   -999.0,9,   -999.0,9,   -999.0,9,     7.80,2, -999.00,  -999.0, -999.00,  -999.0
    31DSCG96_1,  P14S,    19,  1,    121,    417,2,19960112,2208,-59.4780, 173.9950, 5002,   -999,    115.9,   4.8246,  34.0794,2,  34.0801,2,    299.0,2,  4.8160,    297.9,2,     7.97,2,    22.64,2,     0.25,2,     1.54,2,    4.777,2,    2.403,2,   -999.0,9,  -999.00,9,   -999.0,9,   -999.0,9,   -999.0,9,     7.76,2, -999.00,  -999.0, -999.00,  -999.0
    31DSCG96_1,  P14S,    19,  1,    120,    405,2,19960112,2208,-59.4780, 173.9950, 5002,   -999,    165.5,   5.4139,  34.2138,2,  34.2185,2,    279.0,2,  5.4006,    290.2,2,     8.59,2,    21.95,2,     0.06,2,     1.47,2,    4.466,2,    2.275,2,   -999.0,9,  -999.00,9,   -999.0,9,   -999.0,9,   -999.0,9,     7.77,2, -999.00,  -999.0, -999.00,  -999.0
    31DSCG96_1,  P14S,    19,  1,    119,    416,2,19960112,2208,-59.4780, 173.9950, 5002,   -999,    223.5,   4.7173,  34.1534,2,  34.1551,2,    292.6,2,  4.7006,    292.7,2,     9.81,2,    23.26,2,     0.03,2,     1.55,2,    4.563,2,    2.302,2,   -999.0,9,  -999.00,9,   -999.0,9,   -999.0,9,   -999.0,9,     7.76,2, -999.00,  -999.0, -999.00,  -999.0
    31DSCG96_1,  P14S,    19,  1,    118,    420,2,19960112,2208,-59.4780, 173.9950, 5002,   -999,    327.0,   4.5667,  34.1670,2,  34.1710,2,    263.4,2,  4.5424,    283.7,2,    12.04,2,    24.39,2,     0.01,2,     1.63,2,    4.325,2,    2.185,2,   -999.0,9,  -999.00,9,   -999.0,9,   -999.0,9,   -999.0,9,     7.74,2, -999.00,  -999.0, -999.00,  -999.0
    31DSCG96_1,  P14S,    19,  1,    117,    424,3,19960112,2208,-59.4780, 173.9950, 5002,   -999,    420.1,   3.9861,  34.1864,2,-999.0000,9,    246.3,2,  3.9564,   -999.0,9,  -999.00,9,  -999.00,9,  -999.00,9,  -999.00,9, -999.000,5, -999.000,5,   -999.0,9,  -999.00,9,   -999.0,9,   -999.0,9,   -999.0,9,  -999.00,9, -999.00,  -999.0, -999.00,  -999.0
    31DSCG96_1,  P14S,    19,  1,    116,    409,2,19960112,2208,-59.4780, 173.9950, 5002,   -999,    528.4,   3.8457,  34.2739,2,  34.2804,3,    225.4,2,  3.8084,    223.5,2,    31.35,2,    30.58,2,     0.00,2,     2.05,2,    2.199,2,    1.046,2,   -999.0,9,  -999.00,9,   -999.0,9,   -999.0,9,   -999.0,9,     7.64,2, -999.00,  -999.0, -999.00,  -999.0
    31DSCG96_1,  P14S,    19,  1,    115,    413,2,19960112,2208,-59.4780, 173.9950, 5002,   -999,    622.2,   3.4280,  34.2984,2,  34.3028,3,    216.2,2,  3.3857,    216.0,2,    38.35,2,    31.84,2,     0.01,2,     2.15,2,    1.877,2,    0.892,2,   -999.0,9,  -999.00,9,   -999.0,9,   -999.0,9,   -999.0,9,     7.62,2, -999.00,  -999.0, -999.00,  -999.0
    31DSCG96_1,  P14S,    19,  1,    114,    419,2,19960112,2208,-59.4780, 173.9950, 5002,   -999,    733.6,   2.8058,  34.3194,2,  34.3202,2,    203.3,2,  2.7589,   -999.0,9,    47.10,2,    33.30,2,     0.00,2,     2.24,2,    1.753,2,    0.819,2,   -999.0,9,  -999.00,9,   -999.0,9,   -999.0,9,   -999.0,9,     7.59,2, -999.00,  -999.0, -999.00,  -999.0
    31DSCG96_1,  P14S,    19,  1,    113,    434,2,19960112,2208,-59.4780, 173.9950, 5002,   -999,    846.6,   2.6951,  34.4067,2,  34.4106,3,    189.5,2,  2.6408,    192.5,2,    57.29,2,    33.99,2,     0.00,2,     2.29,2,    1.050,2,    0.505,2,   -999.0,9,  -999.00,9,   -999.0,9,   -999.0,9,   -999.0,9,     7.58,2, -999.00,  -999.0, -999.00,  -999.0
    31DSCG96_1,  P14S,    19,  1,    112,    404,2,19960112,2208,-59.4780, 173.9950, 5002,   -999,   1058.2,   2.5198,  34.5183,2,  34.5198,2,    177.9,2,  2.4514,    178.6,2,    68.69,2,    34.29,2,     0.00,2,     2.32,2,    0.543,2,    0.277,2,   -999.0,9,  -999.00,9,   -999.0,9,   -999.0,9,   -999.0,9,     7.57,2, -999.00,  -999.0, -999.00,  -999.0
    31DSCG96_1,  P14S,    19,  1,    111,    427,2,19960112,2208,-59.4780, 173.9950, 5002,   -999,   1247.4,   2.3857,  34.6013,2,  34.6038,2,    174.4,2,  2.3043,    175.4,2,    75.17,2,    33.79,2,     0.00,2,     2.27,2,    0.321,2,    0.173,2,   -999.0,9,  -999.00,9,   -999.0,9,   -999.0,9,   -999.0,9,     7.57,2, -999.00,  -999.0, -999.00,  -999.0
    31DSCG96_1,  P14S,    19,  1,    110,    401,2,19960112,2208,-59.4780, 173.9950, 5002,   -999,   1504.9,   2.2651,  34.6781,2,  34.6810,2,    179.9,2,  2.1650,    179.8,2,    80.71,2,    32.52,2,     0.00,2,     2.18,2,    0.146,2,    0.080,2,   -999.0,9,  -999.00,9,   -999.0,9,   -999.0,9,   -999.0,9,     7.59,2, -999.00,  -999.0, -999.00,  -999.0
    31DSCG96_1,  P14S,    19,  1,    109,    435,2,19960112,2208,-59.4780, 173.9950, 5002,   -999,   1900.1,   2.0462,  34.7260,2,-999.0000,9,    188.5,2,  1.9171,   -999.0,9,  -999.00,9,  -999.00,9,  -999.00,9,  -999.00,9, -999.000,5, -999.000,5,   -999.0,9,  -999.00,9,   -999.0,9,   -999.0,9,   -999.0,9,  -999.00,9, -999.00,  -999.0, -999.00,  -999.0
    31DSCG96_1,  P14S,    19,  1,    108,    440,2,19960112,2208,-59.4780, 173.9950, 5002,   -999,   2306.3,   1.7482,  34.7400,2,  34.7410,2,    195.2,2,  1.5893,    195.4,2,    95.12,6,    31.16,2,     0.00,6,     2.08,2,    0.061,2,    0.025,2,   -999.0,9,  -999.00,9,   -999.0,9,   -999.0,9,   -999.0,9,     7.61,2, -999.00,  -999.0, -999.00,  -999.0
    31DSCG96_1,  P14S,    19,  1,    107,    436,2,19960112,2208,-59.4780, 173.9950, 5002,   -999,   2679.9,   1.4225,  34.7332,2,  34.7374,3,    199.4,2,  1.2367,    200.0,2,   104.67,2,    31.41,2,     0.00,2,     2.11,2,    0.061,2,    0.034,2,   -999.0,9,  -999.00,9,   -999.0,9,   -999.0,9,   -999.0,9,     7.61,2, -999.00,  -999.0, -999.00,  -999.0
    31DSCG96_1,  P14S,    19,  1,    106,    441,2,19960112,2208,-59.4780, 173.9950, 5002,   -999,   3093.8,   1.1447,  34.7217,2,  34.7229,2,    203.6,2,  0.9267,    204.5,2,   112.96,2,    31.85,2,     0.00,2,     2.14,2,    0.065,2,    0.039,2,   -999.0,9,  -999.00,9,   -999.0,9,   -999.0,9,   -999.0,9,  -999.00,9, -999.00,  -999.0, -999.00,  -999.0
    31DSCG96_1,  P14S,    19,  1,    105,    423,2,19960112,2208,-59.4780, 173.9950, 5002,   -999,   3506.1,   0.9754,  34.7136,2,-999.0000,9,    207.0,2,  0.7217,    206.8,2,  -999.00,9,  -999.00,9,  -999.00,9,  -999.00,9,    0.077,2,    0.034,3,   -999.0,9,  -999.00,9,   -999.0,9,   -999.0,9,   -999.0,9,     7.61,2, -999.00,  -999.0, -999.00,  -999.0
    31DSCG96_1,  P14S,    19,  1,    104,    433,2,19960112,2208,-59.4780, 173.9950, 5002,   -999,   3897.4,   0.8639,  34.7078,2,  34.7115,3,    209.4,2,  0.5735,    209.3,2,   122.60,2,    32.23,2,     0.00,2,     2.15,2,    0.095,2,    0.044,2,   -999.0,9,  -999.00,9,   -999.0,9,   -999.0,9,   -999.0,9,     7.61,2, -999.00,  -999.0, -999.00,  -999.0
    31DSCG96_1,  P14S,    19,  1,    103,    439,2,19960112,2208,-59.4780, 173.9950, 5002,   -999,   4287.2,   0.8182,  34.7044,2,  34.7055,2,    211.2,2,  0.4877,    211.5,2,   125.84,2,    32.31,2,     0.00,2,     2.16,2,    0.124,2,    0.061,2,   -999.0,9,  -999.00,9,   -999.0,9,   -999.0,9,   -999.0,9,     7.61,2, -999.00,  -999.0, -999.00,  -999.0
    31DSCG96_1,  P14S,    19,  1,    102,    414,2,19960112,2208,-59.4780, 173.9950, 5002,   -999,   4697.6,   0.8442,  34.7038,2,-999.0000,9,    212.1,2,  0.4671,    211.1,2,  -999.00,9,  -999.00,9,  -999.00,9,  -999.00,9,    0.140,2,    0.044,3,   -999.0,9,  -999.00,9,   -999.0,9,   -999.0,9,   -999.0,9,     7.61,2, -999.00,  -999.0, -999.00,  -999.0
    31DSCG96_1,  P14S,    19,  1,    101,    406,2,19960112,2208,-59.4780, 173.9950, 5002,   -999,   5075.3,   0.8867,  34.7033,2,  34.7081,3,    212.2,2,  0.4641,    211.9,2,   126.73,2,    32.39,2,     0.00,2,     2.17,2,    0.142,2,    0.075,2,   -999.0,9,  -999.00,9,   -999.0,9,   1121.8,2,   -999.0,9,     7.61,2, -999.00,  -999.0, -999.00,  -999.0
    31DSCG96_1,  P14S,    20,  1,    124,    429,2,19960113,0530,-59.9647, 173.9650, 4346,   -999,     11.1,   3.9896,  33.9224,2,  33.9236,2,    327.3,2,  3.9888,    321.5,2,     2.40,2,    22.92,2,     0.24,2,     1.49,2, -999.000,9, -999.000,9,   -999.0,9,  -999.00,9,   2118.2,2,    670.0,2,   2282.7,2,     7.78,2, -999.00,  -999.0, -999.00,  -999.0
    31DSCG96_1,  P14S,    20,  1,    123,    428,2,19960113,0530,-59.9647, 173.9650, 4346,   -999,     17.1,   3.9889,  33.9222,2,  33.9234,2,    327.0,2,  3.9877,    320.5,2,     2.38,2,    22.87,2,     0.24,2,     1.50,2, -999.000,9, -999.000,9,   -999.0,9,  -999.00,9,   2118.3,2,    674.6,2,   2282.7,2,     7.78,2, -999.00,  -999.0, -999.00,  -999.0
    31DSCG96_1,  P14S,    20,  1,    122,    407,2,19960113,0530,-59.9647, 173.9650, 4346,   -999,     43.8,   3.9833,  33.9215,2,  33.9250,2,    327.2,2,  3.9803,    320.5,2,     2.46,6,    22.99,6,     0.25,6,     1.51,2, -999.000,9, -999.000,9,   -999.0,9,  -999.00,9,   2118.8,2,    671.3,2,   2280.7,2,     7.78,2, -999.00,  -999.0, -999.00,  -999.0
    31DSCG96_1,  P14S,    20,  1,    121,    417,2,19960113,0530,-59.9647, 173.9650, 4346,   -999,     90.1,   3.8057,  33.9327,2,  33.9272,2,    324.8,2,  3.7997,    317.9,2,     3.49,6,    23.31,6,     0.25,6,     1.55,2, -999.000,9, -999.000,9,   -999.0,9,  -999.00,9,   2122.4,2,    698.7,2,   2281.4,2,     7.77,2, -999.00,  -999.0, -999.00,  -999.0
    31DSCG96_1,  P14S,    20,  1,    120,    405,2,19960113,0530,-59.9647, 173.9650, 4346,   -999,    139.9,   4.0822,  34.0563,2,  34.0522,2,    285.4,2,  4.0726,    286.8,2,    12.63,6,    25.63,6,     0.02,6,     1.72,6, -999.000,9, -999.000,9,   -999.0,9,  -999.00,9,   2140.7,2,    769.2,2,   2282.0,2,     7.73,2, -999.00,  -999.0, -999.00,  -999.0
    31DSCG96_1,  P14S,    20,  1,    119,    416,2,19960113,0530,-59.9647, 173.9650, 4346,   -999,    189.0,   3.5740,  34.0584,2,  34.0557,2,    284.6,2,  3.5617,    284.1,2,    16.29,2,    26.87,2,     0.10,2,     1.80,2, -999.000,9, -999.000,9,   -999.0,9,  -999.00,9,   2149.7,2,    829.6,2,   2283.1,2,     7.71,2, -999.00,  -999.0, -999.00,  -999.0
    31DSCG96_1,  P14S,    20,  1,    118,    420,2,19960113,0530,-59.9647, 173.9650, 4346,   -999,    241.2,   3.5390,  34.1127,2,  34.1164,2,    312.6,2,  3.5232,    268.8,2,    20.05,2,    28.00,2,     0.05,2,     1.87,2, -999.000,9, -999.000,9,   -999.0,9,  -999.00,9,   2159.6,2,    853.1,2,   2289.9,2,     7.69,2, -999.00,  -999.0, -999.00,  -999.0
    31DSCG96_1,  P14S,    20,  1,    117,    424,2,19960113,0530,-59.9647, 173.9650, 4346,   -999,    292.8,   4.1618,  34.2418,2,  34.2398,2,    315.1,2,  4.1410,    237.1,2,    24.67,2,    29.12,2,     0.00,2,     1.95,2, -999.000,9, -999.000,9,   -999.0,9,  -999.00,9,   2172.7,2,   -999.0,9,   2296.5,2,     7.66,2, -999.00,  -999.0, -999.00,  -999.0
    31DSCG96_1,  P14S,    20,  1,    116,    409,2,19960113,0530,-59.9647, 173.9650, 4346,   -999,    371.0,   3.4593,  34.2243,2,  34.2257,2,    263.8,2,  3.4348,    237.2,2,    30.38,2,    30.48,2,     0.00,2,     2.05,2, -999.000,9, -999.000,9,   -999.0,9,  -999.00,9,   2183.8,2,    969.9,2,   2299.4,2,     7.64,2, -999.00,  -999.0, -999.00,  -999.0
    31DSCG96_1,  P14S,    20,  1,    115,    413,2,19960113,0530,-59.9647, 173.9650, 4346,   -999,    472.7,   2.8951,  34.2369,2,  34.2405,2,    228.0,2,  2.8656,    230.4,2,  -999.00,9,  -999.00,9,  -999.00,9,  -999.00,9, -999.000,9, -999.000,9,   -999.0,9,  -999.00,9,   2194.4,2,   1034.1,2,   2302.9,2,     7.62,2, -999.00,  -999.0, -999.00,  -999.0
    31DSCG96_1,  P14S,    20,  1,    114,    419,3,19960113,0530,-59.9647, 173.9650, 4346,   -999,    577.0,   2.9808,  34.3521,2,-999.0000,9,    207.1,2,  2.9437,   -999.0,9,    37.87,2,    31.99,2,     0.00,2,     2.15,2, -999.000,9, -999.000,9,   -999.0,9,  -999.00,9,   -999.0,9,   -999.0,9,   -999.0,9,     7.60,2, -999.00,  -999.0, -999.00,  -999.0
    31DSCG96_1,  P14S,    20,  1,    113,    434,2,19960113,0530,-59.9647, 173.9650, 4346,   -999,    679.4,   2.5389,  34.3820,2,-999.0000,5,    190.9,2,  2.4971,    196.1,2,    48.58,2,    33.20,2,     0.00,2,     2.24,2, -999.000,9, -999.000,9,   -999.0,9,  -999.00,9,   2225.6,2,   1161.3,2,   2320.9,2,     7.57,2, -999.00,  -999.0, -999.00,  -999.0
    31DSCG96_1,  P14S,    20,  1,    112,    404,2,19960113,0530,-59.9647, 173.9650, 4346,   -999,    777.8,   2.4641,  34.4552,2,  34.4554,2,    180.5,2,  2.4160,    186.2,2,    64.04,2,    34.57,2,     0.00,2,     2.34,2, -999.000,9, -999.000,9,   -999.0,9,  -999.00,9,   2237.6,2,   1213.1,2,   2326.9,2,     7.56,2, -999.00,  -999.0, -999.00,  -999.0
    31DSCG96_1,  P14S,    20,  1,    111,    427,2,19960113,0530,-59.9647, 173.9650, 4346,   -999,    956.3,   2.4506,  34.5690,2,-999.0000,9,    175.1,2,  2.3900,    177.7,2,    72.73,2,    34.01,2,     0.00,2,     2.30,2, -999.000,9, -999.000,9,   -999.0,9,  -999.00,9,   2244.5,2,   1197.4,2,   -999.0,9,     7.57,2, -999.00,  -999.0, -999.00,  -999.0
    31DSCG96_1,  P14S,    20,  1,    110,    401,2,19960113,0530,-59.9647, 173.9650, 4346,   -999,   1151.8,   2.3323,  34.6340,2,  34.6341,2,    176.4,2,  2.2585,    177.2,2,    77.37,2,    33.33,2,     0.00,2,     2.25,2, -999.000,9, -999.000,9,   -999.0,9,  -999.00,9,   2249.4,2,   -999.0,9,   2347.1,2,     7.58,2, -999.00,  -999.0, -999.00,  -999.0
    31DSCG96_1,  P14S,    20,  1,    109,    435,3,19960113,0530,-59.9647, 173.9650, 4346,   -999,   1355.7,   2.2233,  34.6866,2,  34.6865,2,    181.3,2,  2.1352,   -999.0,9,    81.01,2,    32.36,2,     0.00,2,     2.17,2, -999.000,9, -999.000,9,   -999.0,9,  -999.00,9,   -999.0,9,   -999.0,9,   -999.0,9,  -999.00,9, -999.00,  -999.0, -999.00,  -999.0
    31DSCG96_1,  P14S,    20,  1,    108,    440,2,19960113,0530,-59.9647, 173.9650, 4346,   -999,   1706.2,   2.0009,  34.7275,2,  34.7279,2,    188.6,2,  1.8881,    190.2,2,    87.51,2,    31.39,2,     0.00,2,     2.12,2, -999.000,9, -999.000,9,   -999.0,9,  -999.00,9,   2248.4,2,   1102.4,2,   -999.0,9,     7.61,2, -999.00,  -999.0, -999.00,  -999.0
    31DSCG96_1,  P14S,    20,  1,    107,    436,2,19960113,0530,-59.9647, 173.9650, 4346,   -999,   2098.0,   1.7221,  34.7390,2,  34.7395,2,    195.6,2,  1.5814,    196.1,2,    95.21,2,    31.16,2,     0.00,2,     2.13,2, -999.000,9, -999.000,9,   -999.0,9,  -999.00,9,   2249.9,2,   1079.1,2,   2358.1,2,     7.61,2, -999.00,  -999.0, -999.00,  -999.0
    31DSCG96_1,  P14S,    20,  1,    106,    441,3,19960113,0530,-59.9647, 173.9650, 4346,   -999,   2502.3,   1.4122,  34.7328,2,  34.7327,2,    199.2,2,  1.2423,   -999.0,9,   104.61,2,    31.44,2,     0.00,2,     2.13,2, -999.000,9, -999.000,9,   -999.0,9,  -999.00,9,   -999.0,9,   -999.0,9,   -999.0,9,  -999.00,9, -999.00,  -999.0, -999.00,  -999.0
    31DSCG96_1,  P14S,    20,  1,    105,    423,4,19960113,0530,-59.9647, 173.9650, 4346,   -999,   2889.9,   1.1870,  34.7240,2,-999.0000,9,    202.4,2,  0.9870,    204.7,2,  -999.00,9,  -999.00,9,  -999.00,9,  -999.00,9, -999.000,9, -999.000,9,   -999.0,9,  -999.00,9,   2255.2,3,   1079.0,2,   2367.4,2,     7.62,2, -999.00,  -999.0, -999.00,  -999.0
    31DSCG96_1,  P14S,    20,  1,    104,    433,2,19960113,0530,-59.9647, 173.9650, 4346,   -999,   3291.5,   0.9987,  34.7154,2,  34.7150,2,    206.2,2,  0.7654,    207.0,2,   117.27,2,    31.97,2,     0.00,2,     2.15,2, -999.000,9, -999.000,9,   -999.0,9,  -999.00,9,   2256.8,2,   1083.3,2,   2365.0,2,     7.61,2, -999.00,  -999.0, -999.00,  -999.0
    31DSCG96_1,  P14S,    20,  1,    103,    439,2,19960113,0530,-59.9647, 173.9650, 4346,   -999,   3692.0,   0.8688,  34.7087,2,  34.7085,2,    208.9,2,  0.5993,    209.4,2,   121.58,2,    32.18,2,     0.00,2,     2.19,3, -999.000,9, -999.000,9,   -999.0,9,  -999.00,9,   2257.2,2,   1092.0,2,   2370.7,3,     7.61,2, -999.00,  -999.0, -999.00,  -999.0
    31DSCG96_1,  P14S,    20,  1,    102,    414,2,19960113,0530,-59.9647, 173.9650, 4346,   -999,   4098.4,   0.8087,  34.7044,2,  34.7049,2,    210.4,2,  0.4988,    210.7,2,   124.45,2,    32.33,2,     0.00,2,     2.18,2, -999.000,9, -999.000,9,   -999.0,9,  -999.00,9,   2257.7,2,   1093.0,2,   -999.0,9,  -999.00,9, -999.00,  -999.0, -999.00,  -999.0
    31DSCG96_1,  P14S,    20,  1,    101,    406,2,19960113,0530,-59.9647, 173.9650, 4346,   -999,   4414.5,   0.8088,  34.7031,2,  34.7030,2,    211.6,2,  0.4647,    211.0,2,   126.02,6,    32.38,6,     0.00,6,     2.19,6, -999.000,9, -999.000,9,   -999.0,9,  -999.00,9,   2258.1,2,   1100.4,2,   2365.7,2,     7.61,2, -999.00,  -999.0, -999.00,  -999.0