BOTTLE,20220811CCHSIOAMB
EXPOCODE,SECT_ID,STNNBR,CASTNO,SAMPNO,BTLNBR,BTLNBR_FLAG_W,DATE,TIME,LATITUDE,LONGITUDE,DEPTH,CTDRAW,CTDPRS,CTDTMP,CTDSAL,CTDSAL_FLAG_W,SALNTY,SALNTY_FLAG_W,CTDOXY,CTDOXY_FLAG_W,THETA,OXYGEN,OXYGEN_FLAG_W,SILCAT,SILCAT_FLAG_W,NITRAT,NITRAT_FLAG_W,NITRIT,NITRIT_FLAG_W,PHSPHT,PHSPHT_FLAG_W,CFC-11,CFC-11_FLAG_W,CFC-12,CFC-12_FLAG_W,DELC14,DELC14_FLAG_W,DELC13,DELC13_FLAG_W,TCARBN,TCARBN_FLAG_W,PCO2,PCO2_FLAG_W,ALKALI,ALKALI_FLAG_W,PH,PH_FLAG_W,PCO2TMP,C14ERR,PH_TMP,C13ERR
,,,,,,,,,,,,DBAR,DBAR,ITS-90,PSS-78,,PSS-78,,UMOL/KG,,DEG C,UMOL/KG,,UMOL/KG,,UMOL/KG,,UMOL/KG,,UMOL/KG,,PMOL/KG,,PMOL/KG,,/MILLE,,/MILLE,,UMOL/KG,,UATM,,UMOL/KG,,,,DEG C,/MILLE,DEG C,/MILLE
    31DSCG96_1,  P15S,    88,  1,    131,   1014,2,19960201,2014,-42.4012,-174.4058, 2668,   -999,     10.1,  18.6655,  35.2908,2,  35.2930,2,    234.7,2, 18.6638,    236.1,2,     0.91,2,     0.00,2,     0.00,2,     0.00,3, -999.000,9, -999.000,9,   -999.0,9,  -999.00,9,   -999.0,9,   -999.0,9,   -999.0,9,  -999.00,9, -999.00,  -999.0, -999.00,  -999.0
    31DSCG96_1,  P15S,    88,  1,    130,   1257,2,19960201,2014,-42.4012,-174.4058, 2668,   -999,     10.9,  18.6463,  35.2919,2,  35.2909,2,    235.3,2, 18.6444,    236.3,2,     0.91,2,     0.04,2,     0.00,2,     0.03,3,    2.525,2,    1.400,2,   -999.0,9,  -999.00,9,   2028.5,2,    353.9,2,   -999.0,9,     8.02,2, -999.00,  -999.0, -999.00,  -999.0
    31DSCG96_1,  P15S,    88,  1,    129,   1256,2,19960201,2014,-42.4012,-174.4058, 2668,   -999,     21.1,  18.2926,  35.2987,2,  35.3019,2,    236.8,2, 18.2890,    238.3,2,     0.91,2,     0.07,2,     0.00,2,     0.07,2, -999.000,9, -999.000,9,   -999.0,9,  -999.00,9,   -999.0,9,   -999.0,9,   -999.0,9,     8.01,2, -999.00,  -999.0, -999.00,  -999.0
    31DSCG96_1,  P15S,    88,  1,    128,   1007,2,19960201,2014,-42.4012,-174.4058, 2668,   -999,     45.0,  14.4966,  34.8919,2,  34.9025,2,    246.0,2, 14.4900,    242.9,2,     1.05,2,     0.30,2,     0.10,2,     0.22,2, -999.000,9, -999.000,9,   -999.0,9,  -999.00,9,   -999.0,9,   -999.0,9,   -999.0,9,     7.95,2, -999.00,  -999.0, -999.00,  -999.0
    31DSCG96_1,  P15S,    88,  1,    127,   1232,2,19960201,2014,-42.4012,-174.4058, 2668,   -999,     69.6,  12.8285,  34.9925,2,  34.9966,2,    231.3,2, 12.8191,    233.5,2,     2.70,2,     6.58,2,     0.03,2,     0.54,2,    3.138,2,    1.712,2,   -999.0,9,  -999.00,9,   -999.0,9,   -999.0,9,   -999.0,9,     7.90,2, -999.00,  -999.0, -999.00,  -999.0
    31DSCG96_1,  P15S,    88,  1,    126,   1025,2,19960201,2014,-42.4012,-174.4058, 2668,   -999,     94.4,  12.4974,  35.0485,2,  35.0487,2,    233.9,2, 12.4848,    234.4,2,     2.76,2,     7.57,2,     0.02,2,     0.60,2, -999.000,9, -999.000,9,   -999.0,9,  -999.00,9,   -999.0,9,   -999.0,9,   -999.0,9,     7.89,2, -999.00,  -999.0, -999.00,  -999.0
    31DSCG96_1,  P15S,    88,  1,    125,   1233,2,19960201,2014,-42.4012,-174.4058, 2668,   -999,    119.5,  12.2669,  35.0558,2,  35.0570,2,    234.6,2, 12.2512,    234.3,2,     3.19,2,     8.44,2,     0.01,2,     0.65,2,    3.075,6,    1.710,6,   -999.0,9,  -999.00,9,   -999.0,9,   -999.0,9,   -999.0,9,     7.88,2, -999.00,  -999.0, -999.00,  -999.0
    31DSCG96_1,  P15S,    88,  1,    124,   1218,2,19960201,2014,-42.4012,-174.4058, 2668,   -999,    143.8,  12.0016,  35.0219,2,  35.0233,2,    231.7,2, 11.9829,    233.0,2,     3.49,2,     9.28,2,     0.01,2,     0.71,2, -999.000,9, -999.000,9,   -999.0,9,  -999.00,9,   -999.0,9,   -999.0,9,   -999.0,9,  -999.00,9, -999.00,  -999.0, -999.00,  -999.0
    31DSCG96_1,  P15S,    88,  1,    123,   1250,2,19960201,2014,-42.4012,-174.4058, 2668,   -999,    169.2,  11.6852,  34.9739,2,  34.9744,2,    233.6,2, 11.6635,    231.6,2,     3.75,2,    10.15,2,     0.01,2,     0.77,2,    3.065,2,    1.674,2,   -999.0,9,  -999.00,9,   -999.0,9,   -999.0,9,   -999.0,9,     7.86,2, -999.00,  -999.0, -999.00,  -999.0
    31DSCG96_1,  P15S,    88,  1,    122,   1109,2,19960201,2014,-42.4012,-174.4058, 2668,   -999,    194.2,  11.4251,  34.9350,2,  34.9351,2,    232.7,2, 11.4006,    228.3,2,     4.22,2,    11.20,2,     0.01,2,     0.84,2, -999.000,9, -999.000,9,   -999.0,9,  -999.00,9,   -999.0,9,   -999.0,9,   -999.0,9,     7.85,2, -999.00,  -999.0, -999.00,  -999.0
    31DSCG96_1,  P15S,    88,  1,    121,   1246,2,19960201,2014,-42.4012,-174.4058, 2668,   -999,    220.1,  11.1246,  34.8899,2,  34.8882,2,    229.7,2, 11.0973,    227.8,2,     4.34,2,    11.91,2,     0.01,2,     0.89,2,    3.014,2,    1.607,2,   -999.0,9,  -999.00,9,   -999.0,9,   -999.0,9,   -999.0,9,     7.84,2, -999.00,  -999.0, -999.00,  -999.0
    31DSCG96_1,  P15S,    88,  1,    120,   1015,2,19960201,2014,-42.4012,-174.4058, 2668,   -999,    245.7,  10.7240,  34.8308,2,  34.8321,2,    230.6,2, 10.6942,    224.4,2,     4.95,2,    13.36,2,     0.01,2,     0.99,2, -999.000,9, -999.000,9,   -999.0,9,  -999.00,9,   -999.0,9,   -999.0,9,   -999.0,9,     7.82,2, -999.00,  -999.0, -999.00,  -999.0
    31DSCG96_1,  P15S,    88,  1,    119,   1247,2,19960201,2014,-42.4012,-174.4058, 2668,   -999,    290.1,  10.2098,  34.7709,2,  34.7731,2,    219.6,2, 10.1756,    216.4,2,     6.10,2,    15.50,2,     0.00,2,     1.12,2,    2.737,2,    1.433,2,   -999.0,9,  -999.00,9,   -999.0,9,   -999.0,9,   -999.0,9,     7.79,2, -999.00,  -999.0, -999.00,  -999.0
    31DSCG96_1,  P15S,    88,  1,    118,   1222,2,19960201,2014,-42.4012,-174.4058, 2668,   -999,    340.3,   9.7878,  34.7213,2,  34.7222,2,    208.4,2,  9.7487,    212.5,2,     7.07,2,    17.12,2,     0.01,2,     1.23,2, -999.000,9, -999.000,9,   -999.0,9,  -999.00,9,   -999.0,9,   -999.0,9,   -999.0,9,     7.78,2, -999.00,  -999.0, -999.00,  -999.0
    31DSCG96_1,  P15S,    88,  1,    117,   1267,2,19960201,2014,-42.4012,-174.4058, 2668,   -999,    389.8,   9.3444,  34.6788,2,  34.6805,2,    209.0,2,  9.3007,    208.9,2,     8.22,2,    18.63,2,     0.01,2,     1.33,2,    2.405,2,    1.278,2,   -999.0,9,  -999.00,9,   -999.0,9,   -999.0,9,   -999.0,9,     7.76,2, -999.00,  -999.0, -999.00,  -999.0
    31DSCG96_1,  P15S,    88,  1,    116,   1211,2,19960201,2014,-42.4012,-174.4058, 2668,   -999,    439.9,   8.9367,  34.6360,2,  34.6347,2,    210.0,2,  8.8887,    209.7,2,     9.07,2,    19.60,2,     0.00,2,     1.39,2, -999.000,9, -999.000,9,   -999.0,9,  -999.00,9,   -999.0,9,   -999.0,9,   -999.0,9,     7.75,2, -999.00,  -999.0, -999.00,  -999.0
    31DSCG96_1,  P15S,    88,  1,    115,   1041,2,19960201,2014,-42.4012,-174.4058, 2668,   -999,    489.9,   8.5547,  34.6019,2,  34.6024,2,    210.1,2,  8.5025,    209.5,2,    10.10,2,    20.56,2,     0.01,2,     1.45,2,    2.062,2,    1.106,2,   -999.0,9,  -999.00,9,   -999.0,9,   -999.0,9,   -999.0,9,     7.75,2, -999.00,  -999.0, -999.00,  -999.0
    31DSCG96_1,  P15S,    88,  1,    114,   1017,2,19960201,2014,-42.4012,-174.4058, 2668,   -999,    539.9,   8.2439,  34.5706,2,  34.5703,2,    208.8,2,  8.1874,    212.8,2,    10.65,2,    21.00,2,     0.00,2,     1.49,2, -999.000,9, -999.000,9,   -999.0,9,  -999.00,9,   -999.0,9,   -999.0,9,   -999.0,9,     7.74,2, -999.00,  -999.0, -999.00,  -999.0
    31DSCG96_1,  P15S,    88,  1,    113,   1302,2,19960201,2014,-42.4012,-174.4058, 2668,   -999,    574.9,   8.0795,  34.5582,2,  34.5575,2,    207.3,2,  8.0200,    210.5,2,    11.39,2,    21.61,2,     0.00,2,     1.53,2,    1.822,6,    0.964,6,   -999.0,9,  -999.00,9,   -999.0,9,   -999.0,9,   -999.0,9,     7.73,2, -999.00,  -999.0, -999.00,  -999.0
    31DSCG96_1,  P15S,    88,  1,    112,   1217,2,19960201,2014,-42.4012,-174.4058, 2668,   -999,    675.4,   7.5464,  34.5188,2,  34.5186,2,    205.4,2,  7.4787,    206.2,2,    13.95,2,    23.33,2,     0.00,2,     1.63,2, -999.000,9, -999.000,9,   -999.0,9,  -999.00,9,   -999.0,9,   -999.0,9,   -999.0,9,     7.72,2, -999.00,  -999.0, -999.00,  -999.0
    31DSCG96_1,  P15S,    88,  1,    111,   1114,2,19960201,2014,-42.4012,-174.4058, 2668,   -999,    775.2,   6.9032,  34.4795,2,  34.4791,2,    200.4,2,  6.8288,    201.9,2,    17.96,2,    25.16,2,     0.00,2,     1.75,2,    0.747,2,    0.447,2,   -999.0,9,  -999.00,9,   -999.0,9,   -999.0,9,   -999.0,9,     7.70,2, -999.00,  -999.0, -999.00,  -999.0
    31DSCG96_1,  P15S,    88,  1,    110,   1301,2,19960201,2014,-42.4012,-174.4058, 2668,   -999,    875.7,   6.2575,  34.4472,2,  34.4487,2,    194.7,2,  6.1770,    197.8,2,    23.31,2,    26.97,2,     0.00,2,     1.87,2, -999.000,9, -999.000,9,   -999.0,9,  -999.00,9,   -999.0,9,   -999.0,9,   -999.0,9,     7.68,2, -999.00,  -999.0, -999.00,  -999.0
    31DSCG96_1,  P15S,    88,  1,    109,   1242,2,19960201,2014,-42.4012,-174.4058, 2668,   -999,    975.7,   5.6396,  34.4438,2,  34.4451,2,    189.4,2,  5.5538,    189.9,2,    31.70,2,    28.76,2,     0.00,2,     1.99,2,    0.303,2,    0.175,2,   -999.0,9,  -999.00,9,   -999.0,9,   -999.0,9,   -999.0,9,     7.65,2, -999.00,  -999.0, -999.00,  -999.0
    31DSCG96_1,  P15S,    88,  1,    108,   1263,2,19960201,2014,-42.4012,-174.4058, 2668,   -999,   1076.6,   5.0195,  34.4397,2,  34.4395,2,    184.4,2,  4.9292,    184.5,2,    39.60,2,    30.29,2,     0.00,2,     2.10,2, -999.000,9, -999.000,9,   -999.0,9,  -999.00,9,   -999.0,9,   -999.0,9,   -999.0,9,     7.64,2, -999.00,  -999.0, -999.00,  -999.0
    31DSCG96_1,  P15S,    88,  1,    107,   1245,2,19960201,2014,-42.4012,-174.4058, 2668,   -999,   1214.1,   4.4908,  34.4710,2,  34.4721,2,    175.2,2,  4.3925,    176.3,2,    51.90,2,    31.49,2,     0.00,2,     2.19,2,    0.114,2,    0.102,4,   -999.0,9,  -999.00,9,   -999.0,9,   -999.0,9,   -999.0,9,     7.62,2, -999.00,  -999.0, -999.00,  -999.0
    31DSCG96_1,  P15S,    88,  1,    106,   1262,2,19960201,2014,-42.4012,-174.4058, 2668,   -999,   1440.5,   3.5811,  34.5309,2,  34.5314,2,    164.7,2,  3.4719,    165.2,6,    74.03,2,    33.29,2,     0.00,2,     2.32,2, -999.000,9, -999.000,9,   -999.0,9,  -999.00,9,   -999.0,9,   -999.0,9,   -999.0,9,  -999.00,9, -999.00,  -999.0, -999.00,  -999.0
    31DSCG96_1,  P15S,    88,  1,    105,   1113,2,19960201,2014,-42.4012,-174.4058, 2668,   -999,   1692.2,   2.7270,  34.5971,2,  34.5971,2,    156.7,2,  2.6063,    156.0,2,    97.53,2,    34.67,2,     0.00,2,     2.41,2,    0.017,2,    0.049,4,   -999.0,9,  -999.00,9,   -999.0,9,   -999.0,9,   -999.0,9,     7.58,2, -999.00,  -999.0, -999.00,  -999.0
    31DSCG96_1,  P15S,    88,  1,    104,   1003,2,19960201,2014,-42.4012,-174.4058, 2668,   -999,   1942.1,   2.3505,  34.6301,2,  34.6297,2,    154.2,2,  2.2137,    153.3,6,   108.52,2,    35.07,2,     0.00,2,     2.43,2,    0.005,6,    0.009,4,   -999.0,9,  -999.00,9,   -999.0,9,   -999.0,9,   -999.0,9,     7.58,2, -999.00,  -999.0, -999.00,  -999.0
    31DSCG96_1,  P15S,    88,  1,    103,   1027,2,19960201,2014,-42.4012,-174.4058, 2668,   -999,   2190.9,   2.0962,  34.6563,2,  34.6563,2,    156.3,2,  1.9418,    156.1,2,   112.87,2,    34.88,2,     0.00,2,     2.41,2,    0.002,2,    0.160,4,   -999.0,9,  -999.00,9,   -999.0,9,   -999.0,9,   -999.0,9,     7.58,2, -999.00,  -999.0, -999.00,  -999.0
    31DSCG96_1,  P15S,    88,  1,    102,   1030,2,19960201,2014,-42.4012,-174.4058, 2668,   -999,   2438.9,   1.9005,  34.6949,2,  34.6956,2,    170.3,2,  1.7273,    171.7,2,   106.05,2,    33.34,2,     0.00,2,     2.30,2,    0.019,2,    0.109,4,   -999.0,9,  -999.00,9,   -999.0,9,   -999.0,9,   -999.0,9,     7.59,2, -999.00,  -999.0, -999.00,  -999.0
    31DSCG96_1,  P15S,    88,  1,    101,   1022,2,19960201,2014,-42.4012,-174.4058, 2668,   -999,   2674.2,   1.7174,  34.7229,2,  34.7233,2,    185.8,2,  1.5263,    186.2,6,   102.07,6,    32.08,6,     0.00,6,     2.19,6,    0.016,6,    0.063,4,   -999.0,9,  -999.00,9,   -999.0,9,   -999.0,9,   -999.0,9,     7.60,2, -999.00,  -999.0, -999.00,  -999.0