BOTTLE,20220811CCHSIOAMB
EXPOCODE,SECT_ID,STNNBR,CASTNO,SAMPNO,BTLNBR,BTLNBR_FLAG_W,DATE,TIME,LATITUDE,LONGITUDE,DEPTH,CTDRAW,CTDPRS,CTDTMP,CTDSAL,CTDSAL_FLAG_W,SALNTY,SALNTY_FLAG_W,CTDOXY,CTDOXY_FLAG_W,THETA,OXYGEN,OXYGEN_FLAG_W,SILCAT,SILCAT_FLAG_W,NITRAT,NITRAT_FLAG_W,NITRIT,NITRIT_FLAG_W,PHSPHT,PHSPHT_FLAG_W,CFC-11,CFC-11_FLAG_W,CFC-12,CFC-12_FLAG_W,DELC14,DELC14_FLAG_W,DELC13,DELC13_FLAG_W,TCARBN,TCARBN_FLAG_W,PCO2,PCO2_FLAG_W,ALKALI,ALKALI_FLAG_W,PH,PH_FLAG_W,PCO2TMP,C14ERR,PH_TMP,C13ERR
,,,,,,,,,,,,DBAR,DBAR,ITS-90,PSS-78,,PSS-78,,UMOL/KG,,DEG C,UMOL/KG,,UMOL/KG,,UMOL/KG,,UMOL/KG,,UMOL/KG,,PMOL/KG,,PMOL/KG,,/MILLE,,/MILLE,,UMOL/KG,,UATM,,UMOL/KG,,,,DEG C,/MILLE,DEG C,/MILLE
    31DSCG96_2,  P15S,   159,  1,    136,   1245,2,19960301,2112, -9.9258,-169.6285, 5179,   -999,      6.8,  29.1382,  34.6516,2,  34.6515,2,    195.4,2, 29.1365,    194.1,2,     1.44,2,     0.02,2,     0.00,2,     0.15,2,    1.552,2,    0.924,2,     71.8,2,     1.67,2,   1918.9,2,    230.3,2,   2277.4,2,     8.15,2, -999.00,     4.4, -999.00,  -999.0
    31DSCG96_2,  P15S,   159,  1,    135,   1113,2,19960301,2112, -9.9258,-169.6285, 5179,   -999,     20.8,  29.1388,  34.6512,2,  34.6504,2,    194.1,2, 29.1337,    194.3,2,     1.55,2,     0.02,2,     0.00,2,     0.16,2,    1.574,2,    0.934,2,   -999.0,9,  -999.00,9,   1914.9,2,    228.1,2,   2280.2,2,     8.15,2, -999.00,  -999.0, -999.00,  -999.0
    31DSCG96_2,  P15S,   159,  1,    134,   1267,2,19960301,2112, -9.9258,-169.6285, 5179,   -999,     45.9,  29.5158,  35.1960,2,  35.1931,2,    195.0,2, 29.5046,    198.5,2,     1.44,2,     0.03,2,     0.00,2,     0.19,2,    1.566,6,    0.915,6,     70.9,2,     1.72,2,   1949.3,2,    239.1,2,   2316.1,2,     8.14,2, -999.00,     4.3, -999.00,  -999.0
    31DSCG96_2,  P15S,   159,  1,    133,   1021,2,19960301,2112, -9.9258,-169.6285, 5179,   -999,     70.2,  28.9987,  35.5595,2,  35.5517,2,    197.1,2, 28.9817,    191.9,2,     1.85,2,     0.74,2,     0.11,2,     0.29,2,    1.585,2,    0.974,2,   -999.0,9,  -999.00,9,   1989.2,2,    266.5,2,   2339.1,2,     8.11,2, -999.00,  -999.0, -999.00,  -999.0
    31DSCG96_2,  P15S,   159,  1,    132,   1039,2,19960301,2112, -9.9258,-169.6285, 5179,   -999,     93.6,  27.6700,  35.7221,2,  35.7197,2,    179.1,2, 27.6481,    171.3,2,     2.28,2,     2.68,2,     1.17,2,     0.50,2,    1.667,2,    0.937,2,     77.3,2,     1.38,2,   2030.6,3,    314.3,2,   2349.0,2,     8.05,2, -999.00,     3.5, -999.00,  -999.0
    31DSCG96_2,  P15S,   159,  1,    131,   1014,2,19960301,2112, -9.9258,-169.6285, 5179,   -999,    142.2,  25.8881,  36.0624,2,  36.0510,2,    155.0,2, 25.8564,    153.4,2,     2.15,2,     4.69,2,     0.57,2,     0.57,2,    1.771,2,    0.957,2,   -999.0,9,  -999.00,9,   2063.5,3,    340.2,2,   2370.5,2,     8.02,2, -999.00,  -999.0, -999.00,  -999.0
    31DSCG96_2,  P15S,   159,  1,    130,   1257,2,19960301,2112, -9.9258,-169.6285, 5179,   -999,    191.8,  23.0091,  36.1606,2,  36.1653,2,    151.8,2, 22.9697,    152.2,2,     1.87,2,     5.73,2,     0.01,2,     0.62,2,    1.896,2,    1.058,2,   -999.0,9,  -999.00,9,   2101.2,3,    385.9,2,   2379.9,2,     7.98,2, -999.00,  -999.0, -999.00,  -999.0
    31DSCG96_2,  P15S,   159,  1,    129,   1256,2,19960301,2112, -9.9258,-169.6285, 5179,   -999,    242.7,  18.4616,  35.5986,2,  35.6040,2,    140.3,2, 18.4190,    133.3,2,     4.50,2,    10.65,2,     0.00,2,     0.97,2,    1.709,2,    0.897,2,     74.5,2,     1.06,2,   2129.5,3,    530.8,2,   2347.9,2,     7.87,2, -999.00,     3.2, -999.00,  -999.0
    31DSCG96_2,  P15S,   159,  1,    128,   1007,2,19960301,2112, -9.9258,-169.6285, 5179,   -999,    291.4,  16.1148,  35.3110,2,  35.3102,2,    115.6,2, 16.0682,    111.8,2,     7.95,2,    15.41,2,     0.00,2,     1.29,2,    1.297,2,    0.712,2,   -999.0,9,  -999.00,9,   2155.0,3,    672.0,2,   2331.3,2,     7.79,2, -999.00,  -999.0, -999.00,  -999.0
    31DSCG96_2,  P15S,   159,  1,    127,   1232,2,19960301,2112, -9.9258,-169.6285, 5179,   -999,    374.6,  11.8606,  34.8808,2,  34.8805,2,     90.6,2, 11.8118,   -999.0,9,    17.02,2,    24.66,2,     0.00,2,     1.85,2,    0.534,2,    0.309,2,   -999.0,9,  -999.00,9,   2194.1,3,    945.0,2,   2310.0,2,     7.65,2, -999.00,  -999.0, -999.00,  -999.0
    31DSCG96_2,  P15S,   159,  1,    126,   1025,2,19960301,2112, -9.9258,-169.6285, 5179,   -999,    474.7,   8.8126,  34.6319,2,  34.6309,2,    114.0,2,  8.7611,    110.6,2,    24.55,2,    29.08,2,     0.00,2,     2.07,2,    0.180,2,    0.109,2,    -79.9,2,     0.72,2,   2202.6,3,   1061.3,2,   2302.4,2,     7.60,2, -999.00,     2.7, -999.00,  -999.0
    31DSCG96_2,  P15S,   159,  1,    125,   1119,2,19960301,2112, -9.9258,-169.6285, 5179,   -999,    574.5,   6.9620,  34.5463,2,  34.5472,2,    122.5,2,  6.9073,    117.4,6,    35.47,2,    32.82,2,     0.00,2,     2.29,2,    0.061,2,    0.023,2,   -999.0,9,  -999.00,9,   2219.2,3,   1160.4,2,   2310.7,2,     7.57,2, -999.00,  -999.0, -999.00,  -999.0
    31DSCG96_2,  P15S,   159,  1,    124,   1244,2,19960301,2112, -9.9258,-169.6285, 5179,   -999,    676.1,   6.1590,  34.5232,2,  34.5217,2,    119.3,2,  6.0982,    113.5,2,    43.98,2,    34.79,2,     0.00,2,     2.42,2,    0.024,2,    0.012,2,   -999.0,9,  -999.00,9,   2233.1,3,   1227.9,2,   2315.9,2,     7.55,2, -999.00,  -999.0, -999.00,  -999.0
    31DSCG96_2,  P15S,   159,  1,    123,   1250,2,19960301,2112, -9.9258,-169.6285, 5179,   -999,    800.8,   5.3301,  34.5109,2,  34.5103,2,    119.3,2,  5.2625,    116.5,2,    54.44,2,    35.98,2,     0.00,2,     2.51,2,    0.010,2,    0.004,2,   -134.0,6,     0.54,6,   2248.5,3,   1263.3,2,   2327.8,2,     7.54,2, -999.00,     4.4, -999.00,  -999.0
    31DSCG96_2,  P15S,   159,  1,    122,   1265,2,19960301,2112, -9.9258,-169.6285, 5179,   -999,    928.3,   4.7200,  34.5181,2,  34.5175,2,    117.6,2,  4.6451,    116.1,2,    65.28,2,    36.93,2,     0.00,2,     2.59,2,    0.002,2,    0.001,2,   -999.0,9,  -999.00,9,   2261.6,3,   1297.7,2,   2337.0,2,     7.53,2, -999.00,  -999.0, -999.00,  -999.0
    31DSCG96_2,  P15S,   159,  1,    121,   1246,2,19960301,2112, -9.9258,-169.6285, 5179,   -999,   1049.3,   4.2476,  34.5309,2,  34.5301,2,    119.0,2,  4.1657,    117.8,2,    74.69,2,    37.20,2,     0.00,2,     2.61,2,    0.001,2,    0.001,2,   -999.0,9,  -999.00,9,   2270.1,3,   1307.6,2,   2350.1,2,     7.53,2, -999.00,  -999.0, -999.00,  -999.0
    31DSCG96_2,  P15S,   159,  1,    120,   1015,2,19960301,2112, -9.9258,-169.6285, 5179,   -999,   1213.2,   3.6146,  34.5517,2,  34.5510,2,    124.9,2,  3.5243,    124.9,2,    87.11,2,    37.01,2,     0.00,2,     2.60,2, -999.000,9, -999.000,9,   -186.5,2,     0.35,2,   2280.9,3,   1300.6,2,   2361.4,2,     7.54,2, -999.00,     2.9, -999.00,  -999.0
    31DSCG96_2,  P15S,   159,  1,    119,   1247,2,19960301,2112, -9.9258,-169.6285, 5179,   -999,   1440.7,   2.9348,  34.5850,2,  34.5851,2,    132.0,2,  2.8326,    132.9,6,   101.00,2,    36.69,2,     0.00,2,     2.57,2, -999.000,9, -999.000,9,   -999.0,9,  -999.00,9,   2292.8,3,   1291.2,2,   2379.8,2,     7.55,3, -999.00,  -999.0, -999.00,  -999.0
    31DSCG96_2,  P15S,   159,  1,    118,   1299,2,19960301,2112, -9.9258,-169.6285, 5179,   -999,   1690.1,   2.5390,  34.6135,2,  34.6147,2,    131.1,2,  2.4208,    131.9,2,   114.38,2,    36.98,2,     0.00,2,     2.59,2,    0.002,2,    0.001,2,   -225.4,2,     0.23,2,   2302.9,2,   1264.6,2,   2389.6,2,     7.55,2, -999.00,     2.1, -999.00,  -999.0
    31DSCG96_2,  P15S,   159,  1,    117,   1242,2,19960301,2112, -9.9258,-169.6285, 5179,   -999,   1938.6,   2.2398,  34.6336,2,  34.6331,2,    134.9,2,  2.1049,    134.7,2,   121.91,2,    36.77,2,     0.00,2,     2.57,2, -999.000,9, -999.000,9,   -999.0,5,     0.18,2,   2310.0,2,   1248.7,2,   2403.0,2,     7.56,2, -999.00,  -999.0, -999.00,  -999.0
    31DSCG96_2,  P15S,   159,  1,    116,   1259,2,19960301,2112, -9.9258,-169.6285, 5179,   -999,   2191.7,   2.0123,  34.6513,2,  34.6479,3,    135.2,2,  1.8592,    137.3,2,   129.30,2,    36.81,2,     0.00,2,     2.57,2, -999.000,9, -999.000,9,   -226.7,2,     0.17,2,   2317.4,2,   1240.6,2,   2407.4,2,     7.56,2, -999.00,     2.1, -999.00,  -999.0
    31DSCG96_2,  P15S,   159,  1,    115,   1041,2,19960301,2112, -9.9258,-169.6285, 5179,   -999,   2443.6,   1.8704,  34.6621,2,  34.6635,2,    139.2,2,  1.6975,    139.4,2,   133.83,2,    36.70,2,     0.00,2,     2.55,2,    0.002,2,    0.000,2,   -225.5,2,     0.15,2,   2320.8,2,   1225.5,2,   2417.5,3,     7.56,2, -999.00,     2.1, -999.00,  -999.0
    31DSCG96_2,  P15S,   159,  1,    114,   1017,2,19960301,2112, -9.9258,-169.6285, 5179,   -999,   2686.9,   1.7708,  34.6702,2,  34.6688,2,    145.2,2,  1.5776,    145.9,2,   133.89,2,    36.27,2,     0.00,2,     2.52,2, -999.000,9, -999.000,9,   -233.6,2,     0.15,2,   2317.6,2,   1204.3,2,   2413.3,2,     7.57,2, -999.00,     2.1, -999.00,  -999.0
    31DSCG96_2,  P15S,   159,  1,    113,   1302,2,19960301,2112, -9.9258,-169.6285, 5179,   -999,   2939.7,   1.6719,  34.6771,2,  34.6762,2,    149.8,2,  1.4571,    150.4,2,   135.26,2,    35.99,2,     0.00,2,     2.50,2, -999.000,9, -999.000,9,   -224.6,2,     0.20,2,   2316.2,2,   1182.1,2,   2414.8,2,     7.58,2, -999.00,     2.5, -999.00,  -999.0
    31DSCG96_2,  P15S,   159,  1,    112,   1217,2,19960301,2112, -9.9258,-169.6285, 5179,   -999,   3188.9,   1.6124,  34.6808,2,  34.6799,2,    154.0,2,  1.3747,    153.7,2,   135.46,2,    35.76,2,     0.00,2,     2.47,2,   -0.001,2,    0.000,2,   -225.7,2,     0.21,2,   2315.7,2,   1172.9,2,   2411.8,2,     7.58,2, -999.00,     2.4, -999.00,  -999.0
    31DSCG96_2,  P15S,   159,  1,    111,   1226,2,19960301,2112, -9.9258,-169.6285, 5179,   -999,   3440.3,   1.5533,  34.6849,2,  34.6832,2,    157.5,2,  1.2918,    158.1,6,   135.93,2,    35.56,2,     0.00,2,     2.46,2, -999.000,9, -999.000,9,   -210.5,2,     0.22,2,   2312.9,2,   1161.6,2,   2414.3,2,     7.59,2, -999.00,     2.8, -999.00,  -999.0
    31DSCG96_2,  P15S,   159,  1,    110,   1301,2,19960301,2112, -9.9258,-169.6285, 5179,   -999,   3689.4,   1.5197,  34.6874,2,  34.6879,2,    160.7,2,  1.2334,    161.1,2,   135.79,2,    35.36,2,     0.00,2,     2.44,2,   -0.001,2,    0.000,2,   -225.0,2,     0.23,2,   2310.9,2,   1171.6,2,   2411.8,2,     7.59,2, -999.00,     2.7, -999.00,  -999.0
    31DSCG96_2,  P15S,   159,  1,    109,   1031,2,19960301,2112, -9.9258,-169.6285, 5179,   -999,   3942.1,   1.4301,  34.6945,2,  34.6939,2,    171.6,2,  1.1193,    172.7,2,   130.17,2,    34.41,2,     0.00,2,     2.37,2,   -0.001,2,    0.001,2,   -194.5,2,     0.29,2,   2297.7,2,   1115.2,2,   2397.1,2,     7.60,3, -999.00,     2.7, -999.00,  -999.0
    31DSCG96_2,  P15S,   159,  1,    108,   1227,2,19960301,2112, -9.9258,-169.6285, 5179,   -999,   4190.3,   1.2761,  34.7093,2,  34.7090,2,    193.5,2,  0.9426,    193.1,2,   119.50,2,    32.78,2,     0.00,2,     2.25,2,    0.003,2,    0.001,2,   -179.7,2,     0.42,2,   2271.0,2,   1077.5,2,   2376.4,2,     7.61,2, -999.00,     3.2, -999.00,  -999.0
    31DSCG96_2,  P15S,   159,  1,    107,   1263,2,19960301,2112, -9.9258,-169.6285, 5179,   -999,   4443.7,   1.1080,  34.7119,2,  34.7145,2,    203.5,2,  0.7513,    203.2,2,   118.27,2,    32.13,2,     0.00,2,     2.21,2,    0.007,2,    0.004,2,   -169.0,2,     0.47,2,   2260.6,2,   1060.2,2,   2373.0,2,     7.61,3, -999.00,     2.4, -999.00,  -999.0
    31DSCG96_2,  P15S,   159,  1,    106,   1262,2,19960301,2112, -9.9258,-169.6285, 5179,   -999,   4685.4,   1.0679,  34.7105,2,  34.7129,2,    205.3,2,  0.6850,    205.3,2,   119.55,2,    32.18,2,     0.00,2,     2.20,2,    0.006,2,    0.001,2,   -151.4,2,     0.46,2,   2260.3,2,   1058.2,2,   2366.6,2,     7.61,2, -999.00,     3.0, -999.00,  -999.0
    31DSCG96_2,  P15S,   159,  1,    105,   1264,2,19960301,2112, -9.9258,-169.6285, 5179,   -999,   4814.4,   1.0683,  34.7102,2,  34.7108,2,    205.7,2,  0.6704,    205.8,6,   120.01,2,    32.21,2,     0.00,2,     2.21,2,    0.007,2,    0.002,2,   -999.0,5,     0.49,2,   2261.2,2,   1060.1,2,   2369.5,2,     7.61,2, -999.00,  -999.0, -999.00,  -999.0
    31DSCG96_2,  P15S,   159,  1,    104,   1003,2,19960301,2112, -9.9258,-169.6285, 5179,   -999,   4937.9,   1.0727,  34.7102,2,  34.7097,2,    206.2,2,  0.6601,    205.5,2,   120.22,2,    32.24,2,     0.00,2,     2.21,2,    0.007,2,    0.003,2,   -169.8,2,     0.48,2,   2261.0,2,   1067.0,2,   2365.0,2,     7.61,2, -999.00,     2.9, -999.00,  -999.0
    31DSCG96_2,  P15S,   159,  1,    103,   1035,2,19960301,2112, -9.9258,-169.6285, 5179,   -999,   5067.3,   1.0782,  34.7096,2,  34.7086,2,    206.4,2,  0.6499,    206.0,2,   120.49,2,    32.24,2,     0.00,2,     2.20,2,    0.004,6,    0.002,6,   -159.2,2,     0.49,2,   2260.4,2,   1058.2,2,   2367.0,2,     7.61,2, -999.00,     3.0, -999.00,  -999.0
    31DSCG96_2,  P15S,   159,  1,    102,   1030,2,19960301,2112, -9.9258,-169.6285, 5179,   -999,   5190.8,   1.0893,  34.7094,2,  34.7096,2,    206.8,2,  0.6458,    206.8,2,   120.50,2,    32.20,2,     0.00,2,     2.21,2,    0.007,6,    0.002,6,   -161.0,2,     0.49,2,   2258.8,2,   1054.5,2,   2366.8,2,     7.61,3, -999.00,     3.1, -999.00,  -999.0
    31DSCG96_2,  P15S,   159,  1,    101,   1022,2,19960301,2112, -9.9258,-169.6285, 5179,   -999,   5280.5,   1.1015,  34.7091,2,  34.7108,2,    206.8,2,  0.6465,    207.0,2,   120.45,6,    32.21,6,     0.00,6,     2.21,6,    0.006,2,    0.004,2,   -162.8,2,     0.47,2,   2258.7,2,   1067.5,2,   2371.4,2,     7.61,2, -999.00,     3.0, -999.00,  -999.0