BOTTLE,20220811CCHSIOAMB
EXPOCODE,SECT_ID,STNNBR,CASTNO,SAMPNO,BTLNBR,BTLNBR_FLAG_W,DATE,TIME,LATITUDE,LONGITUDE,DEPTH,CTDRAW,CTDPRS,CTDTMP,CTDSAL,CTDSAL_FLAG_W,SALNTY,SALNTY_FLAG_W,CTDOXY,CTDOXY_FLAG_W,THETA,OXYGEN,OXYGEN_FLAG_W,SILCAT,SILCAT_FLAG_W,NITRAT,NITRAT_FLAG_W,NITRIT,NITRIT_FLAG_W,PHSPHT,PHSPHT_FLAG_W,CFC-11,CFC-11_FLAG_W,CFC-12,CFC-12_FLAG_W,DELC14,DELC14_FLAG_W,DELC13,DELC13_FLAG_W,TCARBN,TCARBN_FLAG_W,PCO2,PCO2_FLAG_W,ALKALI,ALKALI_FLAG_W,PH,PH_FLAG_W,PCO2TMP,C14ERR,PH_TMP,C13ERR
,,,,,,,,,,,,DBAR,DBAR,ITS-90,PSS-78,,PSS-78,,UMOL/KG,,DEG C,UMOL/KG,,UMOL/KG,,UMOL/KG,,UMOL/KG,,UMOL/KG,,PMOL/KG,,PMOL/KG,,/MILLE,,/MILLE,,UMOL/KG,,UATM,,UMOL/KG,,,,DEG C,/MILLE,DEG C,/MILLE
    31DSCG96_2,  P15S,   150,  2,    236,   1245,2,19960228,1648,-13.9717,-169.9997, 2947,   -999,      5.5,  29.2830,  34.6227,2,  34.6267,2,    195.5,2, 29.2817,    193.7,2,     1.36,2,     0.00,2,     0.00,2,     0.14,2,    1.568,2,    0.920,2,     97.6,2,  -999.00,9,   1909.1,2,    228.8,2,   2278.0,2,     8.15,2, -999.00,     3.3, -999.00,  -999.0
    31DSCG96_2,  P15S,   150,  2,    235,   1113,2,19960228,1648,-13.9717,-169.9997, 2947,   -999,     20.3,  29.3373,  34.6504,2,  34.6479,2,    195.1,2, 29.3323,    193.5,2,     1.47,2,     0.00,2,     0.00,2,     0.14,2, -999.000,9, -999.000,9,   -999.0,9,  -999.00,9,   1911.3,2,    229.2,2,   2277.2,2,     8.15,2, -999.00,  -999.0, -999.00,  -999.0
    31DSCG96_2,  P15S,   150,  2,    234,   1267,2,19960228,1648,-13.9717,-169.9997, 2947,   -999,     44.4,  29.3530,  34.9802,2,  34.9537,3,    196.2,2, 29.3421,    196.0,2,     1.48,2,     0.01,2,     0.00,2,     0.13,2,    1.579,6,    0.919,6,   -999.0,9,  -999.00,9,   1927.1,2,    230.2,2,   2299.2,2,     8.15,2, -999.00,  -999.0, -999.00,  -999.0
    31DSCG96_2,  P15S,   150,  2,    233,   1221,2,19960228,1648,-13.9717,-169.9997, 2947,   -999,     68.8,  29.0688,  35.5433,2,  35.5296,2,    197.9,2, 29.0521,    195.2,2,     1.49,2,     0.01,2,     0.00,2,     0.20,2, -999.000,9, -999.000,9,   -999.0,9,  -999.00,9,   1973.9,2,    255.7,2,   2337.3,2,     8.13,2, -999.00,  -999.0, -999.00,  -999.0
    31DSCG96_2,  P15S,   150,  2,    232,   1039,2,19960228,1648,-13.9717,-169.9997, 2947,   -999,     95.2,  28.1204,  36.0482,2,  36.0185,3,    188.3,2, 28.0978,    190.2,2,     1.49,2,     0.04,2,     0.00,2,     0.22,2,    1.669,2,    0.956,2,   -999.0,9,  -999.00,9,   2004.8,2,    262.6,2,   2372.2,2,     8.12,2, -999.00,  -999.0, -999.00,  -999.0
    31DSCG96_2,  P15S,   150,  2,    231,   1014,2,19960228,1648,-13.9717,-169.9997, 2947,   -999,    119.4,  26.5252,  36.2766,2,  36.2789,2,    171.3,2, 26.4981,    172.9,2,     1.50,2,     0.58,2,     0.21,2,     0.33,2, -999.000,9, -999.000,9,   -999.0,9,  -999.00,9,   2049.5,2,    301.8,2,   2390.1,2,     8.07,2, -999.00,  -999.0, -999.00,  -999.0
    31DSCG96_2,  P15S,   150,  2,    230,   1257,2,19960228,1648,-13.9717,-169.9997, 2947,   -999,    143.5,  24.6358,  36.3113,2,  36.3217,2,    158.0,2, 24.6048,    159.5,2,     1.51,2,     3.50,2,     0.37,2,     0.49,2,    1.913,2,    1.043,2,   -999.0,9,  -999.00,9,   2078.3,2,    345.4,2,   2390.4,2,     8.02,2, -999.00,  -999.0, -999.00,  -999.0
    31DSCG96_2,  P15S,   150,  2,    229,   1256,2,19960228,1648,-13.9717,-169.9997, 2947,   -999,    168.6,  23.7999,  36.2689,2,  36.2718,2,    157.3,2, 23.7644,    159.0,2,     1.52,2,     4.20,2,     0.09,2,     0.51,2, -999.000,9, -999.000,9,   -999.0,9,  -999.00,9,   2087.7,2,    365.2,2,   2384.8,2,     8.00,2, -999.00,  -999.0, -999.00,  -999.0
    31DSCG96_2,  P15S,   150,  2,    228,   1007,2,19960228,1648,-13.9717,-169.9997, 2947,   -999,    193.8,  22.4584,  36.1355,2,  36.1375,2,    157.6,2, 22.4192,    158.4,2,     1.52,2,     5.01,2,     0.02,2,     0.57,2,    1.931,2,    1.031,2,   -999.0,9,  -999.00,9,   2097.4,2,    402.0,2,   2380.9,2,     7.98,2, -999.00,  -999.0, -999.00,  -999.0
    31DSCG96_2,  P15S,   150,  2,    227,   1232,2,19960228,1648,-13.9717,-169.9997, 2947,   -999,    219.5,  20.7055,  35.9006,2,  35.8986,2,    157.5,2, 20.6637,    154.6,2,     2.09,2,     6.52,2,     0.01,2,     0.68,2, -999.000,9, -999.000,9,   -999.0,9,  -999.00,9,   2106.8,2,    429.8,2,   2364.0,2,     7.94,3, -999.00,  -999.0, -999.00,  -999.0
    31DSCG96_2,  P15S,   150,  2,    226,   1025,2,19960228,1648,-13.9717,-169.9997, 2947,   -999,    247.4,  19.1772,  35.6803,2,  35.6805,2,    152.2,2, 19.1325,    149.6,2,     2.90,2,     8.00,2,     0.01,2,     0.80,2,    1.842,2,    0.969,2,   -999.0,9,  -999.00,9,   2113.9,2,    471.8,2,   2349.6,2,     7.91,2, -999.00,  -999.0, -999.00,  -999.0
    31DSCG96_2,  P15S,   150,  2,    225,   1119,2,19960228,1648,-13.9717,-169.9997, 2947,   -999,    291.1,  17.0139,  35.3862,2,  35.3924,2,    138.2,2, 16.9656,    137.1,6,     4.95,2,    11.16,2,     0.00,2,     1.02,2, -999.000,9, -999.000,9,   -999.0,9,  -999.00,9,   2127.6,2,    551.6,2,   2338.0,2,     7.85,2, -999.00,  -999.0, -999.00,  -999.0
    31DSCG96_2,  P15S,   150,  2,    224,   1244,2,19960228,1648,-13.9717,-169.9997, 2947,   -999,    341.4,  13.1988,  34.9416,2,  34.9476,2,    131.9,2, 13.1511,    122.7,2,     9.95,2,    17.58,2,     0.00,2,     1.43,2,    0.991,2,    0.522,2,   -999.0,9,  -999.00,9,   2152.7,2,    726.3,2,   2306.0,2,     7.74,2, -999.00,  -999.0, -999.00,  -999.0
    31DSCG96_2,  P15S,   150,  2,    223,   1250,2,19960228,1648,-13.9717,-169.9997, 2947,   -999,    389.5,  11.0125,  34.7409,2,  34.7458,2,    117.0,2, 10.9641,    112.6,2,    15.06,2,    22.91,2,     0.00,2,     1.76,2, -999.000,9, -999.000,9,   -999.0,9,  -999.00,9,   2176.3,2,    897.2,2,   2299.0,2,     7.67,2, -999.00,  -999.0, -999.00,  -999.0
    31DSCG96_2,  P15S,   150,  2,    222,   1265,2,19960228,1648,-13.9717,-169.9997, 2947,   -999,    440.3,   9.7816,  34.6497,2,  34.6465,2,    121.1,2,  9.7308,    118.0,2,    18.22,2,    25.57,2,     0.00,2,     1.89,2,    0.333,2,    0.191,2,   -999.0,9,  -999.00,9,   2184.9,2,    961.0,2,   2295.6,2,     7.64,2, -999.00,  -999.0, -999.00,  -999.0
    31DSCG96_2,  P15S,   150,  2,    221,   1246,2,19960228,1648,-13.9717,-169.9997, 2947,   -999,    490.7,   7.5738,  34.5167,2,  34.5164,2,    146.3,2,  7.5251,    143.7,2,    24.45,2,    28.60,2,     0.00,2,     2.02,2, -999.000,9, -999.000,9,   -999.0,9,  -999.00,9,   2190.3,2,   1007.2,2,   2299.1,2,     7.63,2, -999.00,  -999.0, -999.00,  -999.0
    31DSCG96_2,  P15S,   150,  2,    220,   1015,2,19960228,1648,-13.9717,-169.9997, 2947,   -999,    542.0,   6.6612,  34.4661,2,  34.4673,2,    157.9,2,  6.6110,    156.4,2,    27.53,2,    29.63,2,     0.00,2,     2.07,2,    0.132,2,    0.074,2,   -999.0,9,  -999.00,9,   2192.9,2,   1016.2,2,   2301.9,2,     7.63,2, -999.00,  -999.0, -999.00,  -999.0
    31DSCG96_2,  P15S,   150,  2,    219,   1247,2,19960228,1648,-13.9717,-169.9997, 2947,   -999,    592.5,   6.1338,  34.4670,2,  34.4674,2,    154.1,2,  6.0811,    153.2,2,    34.39,2,    30.97,2,     0.00,2,     2.16,2, -999.000,9, -999.000,9,   -999.0,9,  -999.00,9,   2204.2,2,   1087.4,2,   2310.4,2,     7.61,2, -999.00,  -999.0, -999.00,  -999.0
    31DSCG96_2,  P15S,   150,  2,    218,   1299,2,19960228,1648,-13.9717,-169.9997, 2947,   -999,    675.3,   5.5658,  34.4740,2,  34.4749,2,    150.1,2,  5.5082,    148.6,2,    43.66,2,    32.34,2,     0.00,2,     2.25,2,    0.080,2,    0.038,2,   -999.0,9,  -999.00,9,   2217.8,2,   1087.5,2,   2315.1,2,     7.59,2, -999.00,  -999.0, -999.00,  -999.0
    31DSCG96_2,  P15S,   150,  2,    217,   1242,2,19960228,1648,-13.9717,-169.9997, 2947,   -999,    774.9,   4.9989,  34.4844,2,  34.4840,2,    143.8,2,  4.9356,    142.7,2,    52.96,2,    33.84,2,     0.00,2,     2.36,2, -999.000,9, -999.000,9,   -999.0,9,  -999.00,9,   2232.6,2,   1148.3,2,   2327.1,2,     7.58,2, -999.00,  -999.0, -999.00,  -999.0
    31DSCG96_2,  P15S,   150,  2,    216,   1259,2,19960228,1648,-13.9717,-169.9997, 2947,   -999,    876.8,   4.6885,  34.4928,2,  34.4926,2,    141.1,2,  4.6183,    140.7,2,    58.96,2,    34.47,2,     0.00,2,     2.40,2,    0.021,2,    0.010,2,   -999.0,9,  -999.00,9,   2241.0,2,   1170.6,2,   2329.0,2,     7.57,2, -999.00,  -999.0, -999.00,  -999.0
    31DSCG96_2,  P15S,   150,  2,    215,   1041,2,19960228,1648,-13.9717,-169.9997, 2947,   -999,    978.0,   4.3576,  34.5047,2,  34.5047,2,    135.3,2,  4.2811,    135.5,6,    66.02,2,    35.40,2,     0.00,2,     2.47,2, -999.000,9, -999.000,9,   -999.0,9,  -999.00,9,   2251.5,2,   1209.7,2,   2339.5,2,     7.56,2, -999.00,  -999.0, -999.00,  -999.0
    31DSCG96_2,  P15S,   150,  2,    214,   1017,2,19960228,1648,-13.9717,-169.9997, 2947,   -999,   1074.9,   4.0447,  34.5192,2,  34.5186,2,    134.1,2,  3.9623,    134.0,2,    73.04,2,    35.86,2,     0.00,2,     2.51,2,    0.001,2,    0.003,2,   -999.0,9,  -999.00,9,   2259.9,2,   1231.3,2,   2345.2,2,     7.55,2, -999.00,  -999.0, -999.00,  -999.0
    31DSCG96_2,  P15S,   150,  2,    213,   1302,2,19960228,1648,-13.9717,-169.9997, 2947,   -999,   1171.3,   3.7836,  34.5338,2,  34.5339,2,    131.7,2,  3.6953,    131.2,2,    79.77,2,    36.35,2,     0.00,2,     2.54,2, -999.000,9, -999.000,9,   -999.0,9,  -999.00,9,   2269.0,2,   1260.4,2,   2356.4,2,     7.55,2, -999.00,  -999.0, -999.00,  -999.0
    31DSCG96_2,  P15S,   150,  2,    212,   1217,2,19960228,1648,-13.9717,-169.9997, 2947,   -999,   1275.6,   3.4995,  34.5491,2,  34.5493,2,    131.8,2,  3.4052,    132.1,2,    86.12,2,    36.51,2,     0.00,2,     2.55,2,    0.000,2,    0.001,2,   -999.0,9,  -999.00,9,   2275.9,2,   1263.4,2,   2358.5,2,     7.55,2, -999.00,  -999.0, -999.00,  -999.0
    31DSCG96_2,  P15S,   150,  2,    211,   1226,2,19960228,1648,-13.9717,-169.9997, 2947,   -999,   1451.5,   2.9913,  34.5776,2,  34.5787,2,    135.9,2,  2.8876,    135.5,2,    97.45,2,    36.48,2,     0.00,2,     2.55,2, -999.000,9, -999.000,9,   -999.0,9,  -999.00,9,   2287.1,2,   1258.4,2,   2374.3,2,     7.55,2, -999.00,  -999.0, -999.00,  -999.0
    31DSCG96_2,  P15S,   150,  2,    210,   1301,2,19960228,1648,-13.9717,-169.9997, 2947,   -999,   1690.8,   2.5292,  34.6055,2,  34.6046,2,    141.7,2,  2.4112,    142.6,2,   106.79,2,    36.15,2,     0.00,2,     2.52,2, -999.000,9, -999.000,9,   -999.0,9,  -999.00,9,   2292.7,2,   1260.0,2,   2381.2,2,     7.56,2, -999.00,  -999.0, -999.00,  -999.0
    31DSCG96_2,  P15S,   150,  2,    209,   1031,2,19960228,1648,-13.9717,-169.9997, 2947,   -999,   1937.8,   2.2600,  34.6273,2,  34.6292,2,    143.2,2,  2.1249,    144.4,2,   114.65,2,    36.10,2,     0.00,2,     2.52,2,    0.000,2,    0.001,2,   -999.0,9,  -999.00,9,   2300.0,2,   1218.5,2,   2392.2,2,     7.57,2, -999.00,  -999.0, -999.00,  -999.0
    31DSCG96_2,  P15S,   150,  2,    208,   1227,2,19960228,1648,-13.9717,-169.9997, 2947,   -999,   2192.1,   2.0951,  34.6417,2,  34.6423,2,    144.9,2,  1.9406,    145.6,2,   120.24,2,    36.09,2,     0.00,2,     2.51,2,    0.001,2,    0.000,2,   -999.0,9,  -999.00,9,   2306.9,2,   1214.7,2,   2396.9,2,     7.57,2, -999.00,  -999.0, -999.00,  -999.0
    31DSCG96_2,  P15S,   150,  2,    207,   1263,2,19960228,1648,-13.9717,-169.9997, 2947,   -999,   2441.2,   1.9785,  34.6525,2,  34.6539,2,    146.9,2,  1.8039,    147.6,6,   123.69,2,    35.94,2,     0.00,2,     2.50,2,    0.000,2,    0.000,2,   -999.0,9,  -999.00,9,   2308.5,2,   1200.0,2,   2406.2,2,     7.57,2, -999.00,  -999.0, -999.00,  -999.0
    31DSCG96_2,  P15S,   150,  2,    206,   1262,2,19960228,1648,-13.9717,-169.9997, 2947,   -999,   2690.5,   1.8421,  34.6639,2,  34.6633,2,    149.2,2,  1.6473,    149.0,2,   128.68,2,    35.94,2,     0.00,2,     2.49,2,   -0.001,2,    0.000,2,   -999.0,9,  -999.00,9,   2313.1,2,   1195.3,2,   2407.7,2,     7.58,2, -999.00,  -999.0, -999.00,  -999.0
    31DSCG96_2,  P15S,   150,  2,    205,   1264,2,19960228,1648,-13.9717,-169.9997, 2947,   -999,   2939.7,   1.7666,  34.6703,2,  34.6719,2,    150.9,2,  1.5497,    151.3,2,   130.63,2,    35.80,2,     0.00,2,     2.48,2,   -0.001,2,    0.000,2,   -999.0,9,  -999.00,9,   2313.6,2,   1192.6,2,   2406.5,2,     7.58,2, -999.00,  -999.0, -999.00,  -999.0
    31DSCG96_2,  P15S,   150,  2,    202,   1030,2,19960228,1648,-13.9717,-169.9997, 2947,   -999,   2983.5,   1.7288,  34.6722,2,  34.6730,2,    152.1,2,  1.5085,    152.3,2,   131.20,2,    35.72,2,     0.00,2,     2.47,2,    0.001,2,    0.002,2,   -999.0,9,  -999.00,9,   -999.0,9,   1198.9,2,   -999.0,9,  -999.00,9, -999.00,  -999.0, -999.00,  -999.0
    31DSCG96_2,  P15S,   150,  2,    201,   1022,2,19960228,1648,-13.9717,-169.9997, 2947,   -999,   2984.3,   1.7280,  34.6726,2,  34.6735,2,    152.1,2,  1.5076,    152.5,6,   131.20,6,    35.73,6,     0.00,6,     2.47,6,    0.001,2,    0.000,2,   -999.0,9,  -999.00,9,   2311.0,2,   1220.5,3,   2410.5,2,     7.58,2, -999.00,  -999.0, -999.00,  -999.0
    31DSCG96_2,  P15S,   150,  2,    204,   1003,2,19960228,1648,-13.9717,-169.9997, 2947,   -999,   2984.7,   1.7287,  34.6721,2,  34.6716,2,    152.1,2,  1.5083,    152.0,2,   131.37,2,    35.69,2,     0.00,2,     2.48,2,    0.001,2,    0.000,2,   -999.0,9,  -999.00,9,   -999.0,9,   1188.2,2,   -999.0,9,  -999.00,9, -999.00,  -999.0, -999.00,  -999.0
    31DSCG96_2,  P15S,   150,  2,    203,   1035,2,19960228,1648,-13.9717,-169.9997, 2947,   -999,   2985.3,   1.7280,  34.6723,2,  34.6735,2,    152.1,2,  1.5075,    152.5,2,   131.16,2,    35.67,2,     0.00,2,     2.47,2,    0.002,2,    0.001,2,   -999.0,9,  -999.00,9,   -999.0,9,   1185.5,2,   -999.0,9,     7.58,2, -999.00,  -999.0, -999.00,  -999.0