BOTTLE,20220811CCHSIOAMB
EXPOCODE,SECT_ID,STNNBR,CASTNO,SAMPNO,BTLNBR,BTLNBR_FLAG_W,DATE,TIME,LATITUDE,LONGITUDE,DEPTH,CTDRAW,CTDPRS,CTDTMP,CTDSAL,CTDSAL_FLAG_W,SALNTY,SALNTY_FLAG_W,CTDOXY,CTDOXY_FLAG_W,THETA,OXYGEN,OXYGEN_FLAG_W,SILCAT,SILCAT_FLAG_W,NITRAT,NITRAT_FLAG_W,NITRIT,NITRIT_FLAG_W,PHSPHT,PHSPHT_FLAG_W,CFC-11,CFC-11_FLAG_W,CFC-12,CFC-12_FLAG_W,DELC14,DELC14_FLAG_W,DELC13,DELC13_FLAG_W,TCARBN,TCARBN_FLAG_W,PCO2,PCO2_FLAG_W,ALKALI,ALKALI_FLAG_W,PH,PH_FLAG_W,PCO2TMP,C14ERR,PH_TMP,C13ERR
,,,,,,,,,,,,DBAR,DBAR,ITS-90,PSS-78,,PSS-78,,UMOL/KG,,DEG C,UMOL/KG,,UMOL/KG,,UMOL/KG,,UMOL/KG,,UMOL/KG,,PMOL/KG,,PMOL/KG,,/MILLE,,/MILLE,,UMOL/KG,,UATM,,UMOL/KG,,,,DEG C,/MILLE,DEG C,/MILLE
    31DSCG96_2,  P15S,   134,  2,    236,   1245,2,19960224,1837,-21.5062,-170.0010, 5388,   -999,      3.7,  28.2645,  34.8739,2,-999.0000,5,   -999.0,9, 28.2637,    198.0,2,  -999.00,9,  -999.00,9,  -999.00,9,  -999.00,9,    1.619,2,    0.938,2,     98.3,2,  -999.00,9,   1919.8,2,    223.1,6,   -999.0,9,     8.15,2, -999.00,     4.1, -999.00,  -999.0
    31DSCG96_2,  P15S,   134,  2,    235,   1113,2,19960224,1837,-21.5062,-170.0010, 5388,   -999,     19.6,  28.1516,  34.8853,2,  34.8875,2,   -999.0,9, 28.1469,    198.0,2,     1.17,2,     0.16,2,     0.00,2,     0.01,3,    1.643,6,    0.939,6,   -999.0,9,  -999.00,9,   1923.2,2,    229.1,6,   -999.0,9,     8.15,2, -999.00,  -999.0, -999.00,  -999.0
    31DSCG96_2,  P15S,   134,  2,    234,   1216,2,19960224,1837,-21.5062,-170.0010, 5388,   -999,     43.0,  25.9815,  35.3348,2,  35.3484,2,   -999.0,9, 25.9719,    213.3,2,     1.36,2,     0.18,2,     0.00,2,     0.07,2,    1.842,2,    1.039,2,   -999.0,9,  -999.00,9,   1960.5,2,    264.2,6,   -999.0,9,     8.13,2, -999.00,  -999.0, -999.00,  -999.0
    31DSCG96_2,  P15S,   134,  2,    233,   1221,2,19960224,1837,-21.5062,-170.0010, 5388,   -999,     69.6,  23.9959,  35.6645,2,  35.6651,2,   -999.0,9, 23.9813,    213.2,2,     1.09,2,     0.11,2,     0.00,2,     0.08,2,    1.967,2,    1.094,2,   -999.0,9,  -999.00,9,   -999.0,9,   -999.0,9,   -999.0,9,     8.11,2, -999.00,  -999.0, -999.00,  -999.0
    31DSCG96_2,  P15S,   134,  2,    232,   1039,2,19960224,1837,-21.5062,-170.0010, 5388,   -999,     95.4,  22.9791,  35.7481,2,  35.7485,2,   -999.0,9, 22.9595,    205.4,2,     1.10,2,     0.10,2,     0.00,2,     0.12,2,    1.984,2,    1.092,2,   -999.0,9,  -999.00,9,   -999.0,9,   -999.0,9,   -999.0,9,     8.08,2, -999.00,  -999.0, -999.00,  -999.0
    31DSCG96_2,  P15S,   134,  2,    231,   1014,2,19960224,1837,-21.5062,-170.0010, 5388,   -999,    139.2,  21.4576,  35.7967,2,  35.7938,2,   -999.0,9, 21.4305,    186.3,6,     1.21,2,     1.30,2,     0.06,2,     0.24,2,    2.051,2,    1.120,2,   -999.0,9,  -999.00,9,   -999.0,9,   -999.0,9,   -999.0,9,     8.03,2, -999.00,  -999.0, -999.00,  -999.0
    31DSCG96_2,  P15S,   134,  2,    230,   1257,2,19960224,1837,-21.5062,-170.0010, 5388,   -999,    188.9,  20.0601,  35.7184,2,  35.7177,2,   -999.0,9, 20.0250,    185.4,2,     1.37,2,     2.69,2,     0.00,2,     0.31,2,    2.054,2,    1.107,2,   -999.0,9,  -999.00,9,   -999.0,9,   -999.0,9,   -999.0,9,     8.00,2, -999.00,  -999.0, -999.00,  -999.0
    31DSCG96_2,  P15S,   134,  2,    229,   1256,2,19960224,1837,-21.5062,-170.0010, 5388,   -999,    239.1,  18.4256,  35.5899,2,  35.5890,2,   -999.0,9, 18.3837,    189.2,2,     1.64,2,     3.71,2,     0.00,2,     0.37,2,    2.093,2,    1.118,2,   -999.0,9,  -999.00,9,   -999.0,9,   -999.0,9,   -999.0,9,     7.98,2, -999.00,  -999.0, -999.00,  -999.0
    31DSCG96_2,  P15S,   134,  2,    228,   1007,2,19960224,1837,-21.5062,-170.0010, 5388,   -999,    290.4,  16.7879,  35.4177,2,  35.4162,2,   -999.0,9, 16.7401,    187.8,2,     2.13,2,     5.46,2,     0.00,2,     0.49,2,    2.010,2,    1.059,2,   -999.0,9,  -999.00,9,   -999.0,9,   -999.0,9,   -999.0,9,     7.94,2, -999.00,  -999.0, -999.00,  -999.0
    31DSCG96_2,  P15S,   134,  2,    227,   1232,2,19960224,1837,-21.5062,-170.0010, 5388,   -999,    375.6,  14.2118,  35.1143,2,  35.1127,2,   -999.0,9, 14.1566,    185.1,2,     3.46,2,     9.76,2,     0.00,2,     0.77,2,    1.725,2,    0.891,2,   -999.0,9,  -999.00,9,   -999.0,9,   -999.0,9,   -999.0,9,     7.87,2, -999.00,  -999.0, -999.00,  -999.0
    31DSCG96_2,  P15S,   134,  2,    226,   1025,2,19960224,1837,-21.5062,-170.0010, 5388,   -999,    475.2,  10.2825,  34.6804,2,  34.6747,2,   -999.0,9, 10.2258,    190.6,2,     6.79,2,    17.81,2,     0.00,2,     1.29,2,    1.158,2,    0.586,2,   -999.0,9,  -999.00,9,   -999.0,9,   -999.0,9,   -999.0,9,     7.77,2, -999.00,  -999.0, -999.00,  -999.0
    31DSCG96_2,  P15S,   134,  2,    225,   1119,2,19960224,1837,-21.5062,-170.0010, 5388,   -999,    573.0,   7.4937,  34.4352,2,  34.4336,2,   -999.0,9,  7.4369,    206.1,2,    10.09,2,    23.32,2,     0.00,2,     1.62,2,    0.872,2,    0.446,2,   -999.0,9,  -999.00,9,   -999.0,9,   -999.0,9,   -999.0,9,     7.71,2, -999.00,  -999.0, -999.00,  -999.0
    31DSCG96_2,  P15S,   134,  2,    224,   1013,2,19960224,1837,-21.5062,-170.0010, 5388,   -999,    673.6,   6.1777,  34.3498,2,  34.3492,2,   -999.0,9,  6.1173,    217.9,2,    14.29,2,    26.28,2,     0.00,2,     1.80,2,    0.450,2,    0.246,2,   -999.0,9,  -999.00,9,   -999.0,9,   -999.0,9,   -999.0,9,  -999.00,9, -999.00,  -999.0, -999.00,  -999.0
    31DSCG96_2,  P15S,   134,  2,    223,   1250,2,19960224,1837,-21.5062,-170.0010, 5388,   -999,    775.5,   5.3811,  34.3310,2,  34.3305,2,   -999.0,9,  5.3157,    205.0,2,    21.49,2,    28.85,2,     0.00,2,     1.97,2,    0.185,2,    0.103,2,   -999.0,9,  -999.00,9,   -999.0,9,   -999.0,9,   -999.0,9,     7.66,2, -999.00,  -999.0, -999.00,  -999.0
    31DSCG96_2,  P15S,   134,  2,    222,   1265,2,19960224,1837,-21.5062,-170.0010, 5388,   -999,    877.3,   4.7351,  34.3551,2,  34.3551,2,   -999.0,9,  4.6648,    185.9,2,    33.25,2,    31.61,2,     0.00,2,     2.16,2,    0.064,2,    0.038,2,   -999.0,9,  -999.00,9,   -999.0,9,   -999.0,9,   -999.0,9,     7.62,2, -999.00,  -999.0, -999.00,  -999.0
    31DSCG96_2,  P15S,   134,  2,    221,   1246,2,19960224,1837,-21.5062,-170.0010, 5388,   -999,    975.1,   4.2323,  34.4035,2,  34.4027,2,   -999.0,9,  4.1571,    168.3,6,    47.28,2,    33.59,2,     0.00,2,     2.31,2,    0.017,2,    0.009,2,   -999.0,9,  -999.00,9,   -999.0,9,   -999.0,9,   -999.0,9,     7.59,2, -999.00,  -999.0, -999.00,  -999.0
    31DSCG96_2,  P15S,   134,  2,    220,   1015,2,19960224,1837,-21.5062,-170.0010, 5388,   -999,   1074.9,   3.6121,  34.4551,2,  34.4565,2,   -999.0,9,  3.5335,    160.8,2,    63.04,2,    34.73,2,     0.00,2,     2.39,2, -999.000,9, -999.000,9,   -999.0,9,  -999.00,9,   -999.0,9,   -999.0,9,   -999.0,9,     7.58,2, -999.00,  -999.0, -999.00,  -999.0
    31DSCG96_2,  P15S,   134,  2,    219,   1247,2,19960224,1837,-21.5062,-170.0010, 5388,   -999,   1177.0,   3.1818,  34.4916,2,  34.4920,2,   -999.0,9,  3.0986,    160.8,2,    72.68,2,    34.96,2,     0.00,2,     2.41,2,    0.001,2,    0.003,2,   -999.0,9,  -999.00,9,   -999.0,9,   -999.0,9,   -999.0,9,     7.58,2, -999.00,  -999.0, -999.00,  -999.0
    31DSCG96_2,  P15S,   134,  2,    218,   1299,2,19960224,1837,-21.5062,-170.0010, 5388,   -999,   1274.9,   2.9213,  34.5341,2,  34.5344,2,   -999.0,9,  2.8328,    155.4,2,    84.20,2,    35.34,2,     0.00,2,     2.45,2, -999.000,9, -999.000,9,   -999.0,9,  -999.00,9,   -999.0,9,   -999.0,9,   -999.0,9,     7.57,2, -999.00,  -999.0, -999.00,  -999.0
    31DSCG96_2,  P15S,   134,  2,    217,   1267,2,19960224,1837,-21.5062,-170.0010, 5388,   -999,   1428.8,   2.6692,  34.5750,2,  34.5761,2,   -999.0,9,  2.5709,    150.3,2,    96.04,2,    35.61,2,     0.00,2,     2.47,2,    0.003,2,    0.002,2,   -999.0,9,  -999.00,9,   -999.0,9,   -999.0,9,   -999.0,9,     7.57,2, -999.00,  -999.0, -999.00,  -999.0
    31DSCG96_2,  P15S,   134,  2,    216,   1259,2,19960224,1837,-21.5062,-170.0010, 5388,   -999,   1685.4,   2.4019,  34.6126,2,  34.6123,2,   -999.0,9,  2.2859,    144.6,2,   110.23,2,    36.14,2,     0.00,2,     2.51,2, -999.000,9, -999.000,9,   -999.0,9,  -999.00,9,   -999.0,9,   -999.0,9,   -999.0,9,     7.57,2, -999.00,  -999.0, -999.00,  -999.0
    31DSCG96_2,  P15S,   134,  2,    215,   1041,2,19960224,1837,-21.5062,-170.0010, 5388,   -999,   1922.6,   2.2265,  34.6291,2,  34.6284,2,   -999.0,9,  2.0932,    144.4,2,   116.57,2,    36.21,2,     0.00,2,     2.52,2,   -0.001,2,    0.001,2,   -999.0,9,  -999.00,9,   -999.0,9,   -999.0,9,   -999.0,9,     7.57,2, -999.00,  -999.0, -999.00,  -999.0
    31DSCG96_2,  P15S,   134,  2,    214,   1017,2,19960224,1837,-21.5062,-170.0010, 5388,   -999,   2190.9,   2.0566,  34.6442,2,  34.6439,2,   -999.0,9,  1.9029,    144.4,2,   122.95,2,    36.31,2,     0.00,2,     2.53,2,   -0.001,2,    0.001,2,   -999.0,9,  -999.00,9,   -999.0,9,   -999.0,9,   -999.0,9,     7.57,2, -999.00,  -999.0, -999.00,  -999.0
    31DSCG96_2,  P15S,   134,  2,    213,   1302,2,19960224,1837,-21.5062,-170.0010, 5388,   -999,   2438.2,   1.9291,  34.6551,2,  34.6548,2,   -999.0,9,  1.7556,    144.4,2,   128.09,2,    36.37,2,     0.00,2,     2.53,2,   -0.001,2,    0.001,2,   -999.0,9,  -999.00,9,   -999.0,9,   -999.0,9,   -999.0,9,     7.57,2, -999.00,  -999.0, -999.00,  -999.0
    31DSCG96_2,  P15S,   134,  2,    212,   1217,2,19960224,1837,-21.5062,-170.0010, 5388,   -999,   2694.1,   1.8345,  34.6632,2,  34.6627,2,   -999.0,9,  1.6395,    145.3,2,   131.92,2,    36.33,2,     0.00,2,     2.52,2,    0.002,2,    0.003,2,   -999.0,9,  -999.00,9,   -999.0,9,   -999.0,9,   -999.0,9,     7.57,2, -999.00,  -999.0, -999.00,  -999.0
    31DSCG96_2,  P15S,   134,  2,    211,   1226,2,19960224,1837,-21.5062,-170.0010, 5388,   -999,   2942.4,   1.7444,  34.6700,2,  34.6702,2,   -999.0,9,  1.5277,    147.7,6,   134.16,2,    36.21,2,     0.00,2,     2.51,2,    0.000,2,    0.001,2,   -999.0,9,  -999.00,9,   -999.0,9,   -999.0,9,   -999.0,9,     7.57,2, -999.00,  -999.0, -999.00,  -999.0
    31DSCG96_2,  P15S,   134,  2,    210,   1301,2,19960224,1837,-21.5062,-170.0010, 5388,   -999,   3193.3,   1.6288,  34.6800,2,  34.6793,2,   -999.0,9,  1.3903,    155.6,2,   133.03,2,    35.66,2,     0.00,2,     2.47,2,    0.004,2,    0.002,2,   -999.0,9,  -999.00,9,   -999.0,9,   -999.0,9,   -999.0,9,     7.58,2, -999.00,  -999.0, -999.00,  -999.0
    31DSCG96_2,  P15S,   134,  2,    209,   1233,2,19960224,1837,-21.5062,-170.0010, 5388,   -999,   3437.2,   1.5187,  34.7006,2,  34.6999,2,   -999.0,9,  1.2583,    174.8,2,   121.79,2,    33.89,2,     0.00,2,     2.34,2,    0.004,2,    0.001,2,   -999.0,9,  -999.00,9,   -999.0,9,   -999.0,9,   -999.0,9,     7.59,2, -999.00,  -999.0, -999.00,  -999.0
    31DSCG96_2,  P15S,   134,  2,    208,   1227,2,19960224,1837,-21.5062,-170.0010, 5388,   -999,   3690.4,   1.3702,  34.7183,2,  34.7176,2,   -999.0,9,  1.0875,    194.5,2,   112.33,2,    32.30,2,     0.00,2,     2.21,2,    0.005,2,    0.003,2,   -999.0,9,  -999.00,9,   -999.0,9,   -999.0,9,   -999.0,9,     7.61,2, -999.00,  -999.0, -999.00,  -999.0
    31DSCG96_2,  P15S,   134,  2,    207,   1263,2,19960224,1837,-21.5062,-170.0010, 5388,   -999,   3939.3,   1.1979,  34.7173,2,  34.7176,2,   -999.0,9,  0.8937,    201.6,2,   114.08,2,    32.07,2,     0.00,2,     2.20,2,    0.006,2,    0.004,2,   -999.0,9,  -999.00,9,   -999.0,9,   -999.0,9,   -999.0,9,     7.61,2, -999.00,  -999.0, -999.00,  -999.0
    31DSCG96_2,  P15S,   134,  2,    206,   1262,2,19960224,1837,-21.5062,-170.0010, 5388,   -999,   4186.4,   1.1054,  34.7143,2,  34.7142,2,   -999.0,9,  0.7773,    204.2,2,   116.95,2,    32.12,2,     0.00,2,     2.20,2,    0.008,2,    0.004,2,   -999.0,9,  -999.00,9,   -999.0,9,   -999.0,9,   -999.0,9,     7.61,2, -999.00,  -999.0, -999.00,  -999.0
    31DSCG96_2,  P15S,   134,  2,    205,   1264,2,19960224,1837,-21.5062,-170.0010, 5388,   -999,   4439.2,   1.0371,  34.7111,2,  34.7108,2,   -999.0,9,  0.6831,    205.7,2,   119.43,2,    32.22,2,     0.00,2,     2.21,2,    0.010,2,    0.005,2,   -999.0,9,  -999.00,9,   -999.0,9,   -999.0,9,   -999.0,9,     7.61,2, -999.00,  -999.0, -999.00,  -999.0
    31DSCG96_2,  P15S,   134,  2,    204,   1003,2,19960224,1837,-21.5062,-170.0010, 5388,   -999,   4689.1,   1.0201,  34.7093,2,  34.7087,2,   -999.0,9,  0.6383,    205.7,2,   120.53,2,    32.23,2,     0.00,2,     2.21,2,    0.008,2,    0.004,2,   -999.0,9,  -999.00,9,   -999.0,9,   -999.0,9,   -999.0,9,     7.61,2, -999.00,  -999.0, -999.00,  -999.0
    31DSCG96_2,  P15S,   134,  2,    203,   1035,2,19960224,1837,-21.5062,-170.0010, 5388,   -999,   4940.0,   1.0277,  34.7084,2,  34.7078,2,   -999.0,9,  0.6164,    205.2,2,   121.17,2,    32.30,2,     0.00,2,     2.21,2,    0.007,2,    0.004,2,   -999.0,9,  -999.00,9,   -999.0,9,   -999.0,9,   -999.0,9,     7.61,2, -999.00,  -999.0, -999.00,  -999.0
    31DSCG96_2,  P15S,   134,  2,    202,   1030,2,19960224,1837,-21.5062,-170.0010, 5388,   -999,   5188.2,   1.0502,  34.7080,2,  34.7081,2,   -999.0,9,  0.6083,    206.2,2,   121.37,2,    32.29,2,     0.00,2,     2.21,2,    0.011,2,    0.005,2,   -999.0,9,  -999.00,9,   -999.0,9,   -999.0,9,   -999.0,9,  -999.00,9, -999.00,  -999.0, -999.00,  -999.0
    31DSCG96_2,  P15S,   134,  2,    201,   1022,2,19960224,1837,-21.5062,-170.0010, 5388,   -999,   5512.4,   1.0838,  34.7073,2,  34.7083,2,   -999.0,9,  0.6006,    206.2,6,   121.56,6,    32.32,6,     0.00,6,     2.22,6,    0.012,6,    0.007,6,   -999.0,9,  -999.00,9,   -999.0,9,   -999.0,9,   -999.0,9,     7.61,2, -999.00,  -999.0, -999.00,  -999.0