BOTTLE,20220811CCHSIOAMB
EXPOCODE,SECT_ID,STNNBR,CASTNO,SAMPNO,BTLNBR,BTLNBR_FLAG_W,DATE,TIME,LATITUDE,LONGITUDE,DEPTH,CTDRAW,CTDPRS,CTDTMP,CTDSAL,CTDSAL_FLAG_W,SALNTY,SALNTY_FLAG_W,CTDOXY,CTDOXY_FLAG_W,THETA,OXYGEN,OXYGEN_FLAG_W,SILCAT,SILCAT_FLAG_W,NITRAT,NITRAT_FLAG_W,NITRIT,NITRIT_FLAG_W,PHSPHT,PHSPHT_FLAG_W,CFC-11,CFC-11_FLAG_W,CFC-12,CFC-12_FLAG_W,DELC14,DELC14_FLAG_W,DELC13,DELC13_FLAG_W,TCARBN,TCARBN_FLAG_W,PCO2,PCO2_FLAG_W,ALKALI,ALKALI_FLAG_W,PH,PH_FLAG_W,PCO2TMP,C14ERR,PH_TMP,C13ERR
,,,,,,,,,,,,DBAR,DBAR,ITS-90,PSS-78,,PSS-78,,UMOL/KG,,DEG C,UMOL/KG,,UMOL/KG,,UMOL/KG,,UMOL/KG,,UMOL/KG,,PMOL/KG,,PMOL/KG,,/MILLE,,/MILLE,,UMOL/KG,,UATM,,UMOL/KG,,,,DEG C,/MILLE,DEG C,/MILLE
    31DSCG96_1,  P14S,     2,  1,    122,   1109,2,19960107,0450,-48.3178, 158.4978, 4850,   -999,   1599.9,   2.6780,  34.5523,2,  34.5513,2,    164.1,1,  2.5657,   -999.0,9,  -999.00,9,  -999.00,9,  -999.00,9,  -999.00,9,    0.265,2,    0.125,2,   -999.0,9,  -999.00,9,   -999.0,9,   -999.0,9,   -999.0,9,  -999.00,9, -999.00,  -999.0, -999.00,  -999.0
    31DSCG96_1,  P14S,     2,  1,    121,   1246,2,19960107,0450,-48.3178, 158.4978, 4850,   -999,   1600.5,   2.6769,  34.5529,2,  34.5516,2,    164.6,1,  2.5646,   -999.0,9,  -999.00,9,  -999.00,9,  -999.00,9,  -999.00,9,    0.252,2,    0.119,2,   -999.0,9,  -999.00,9,   -999.0,9,   -999.0,9,   -999.0,9,  -999.00,9, -999.00,  -999.0, -999.00,  -999.0
    31DSCG96_1,  P14S,     2,  1,    120,   1209,2,19960107,0450,-48.3178, 158.4978, 4850,   -999,   1797.7,   2.5049,  34.6150,2,  34.6152,2,    165.2,1,  2.3782,   -999.0,9,  -999.00,9,  -999.00,9,  -999.00,9,  -999.00,9,    0.158,2,    0.116,2,   -999.0,9,  -999.00,9,   -999.0,9,   -999.0,9,   -999.0,9,  -999.00,9, -999.00,  -999.0, -999.00,  -999.0
    31DSCG96_1,  P14S,     2,  1,    119,   1247,2,19960107,0450,-48.3178, 158.4978, 4850,   -999,   1799.6,   2.5029,  34.6156,2,  34.6149,2,    165.0,1,  2.3761,   -999.0,9,  -999.00,9,  -999.00,9,  -999.00,9,  -999.00,9,    0.184,3,    0.078,3,   -999.0,9,  -999.00,9,   -999.0,9,   -999.0,9,   -999.0,9,  -999.00,9, -999.00,  -999.0, -999.00,  -999.0
    31DSCG96_1,  P14S,     2,  1,    117,   1104,2,19960107,0450,-48.3178, 158.4978, 4850,   -999,   1999.0,   2.3501,  34.6686,2,  34.6678,2,    168.5,1,  2.2083,   -999.0,9,  -999.00,9,  -999.00,9,  -999.00,9,  -999.00,9,    0.107,2,    0.048,2,   -999.0,9,  -999.00,9,   -999.0,9,   -999.0,9,   -999.0,9,  -999.00,9, -999.00,  -999.0, -999.00,  -999.0
    31DSCG96_1,  P14S,     2,  1,    118,   1222,2,19960107,0450,-48.3178, 158.4978, 4850,   -999,   1999.7,   2.3507,  34.6685,2,  34.6719,3,    168.4,1,  2.2088,   -999.0,9,  -999.00,9,  -999.00,9,  -999.00,9,  -999.00,9,    0.128,2,    0.075,2,   -999.0,9,  -999.00,9,   -999.0,9,   -999.0,9,   -999.0,9,  -999.00,9, -999.00,  -999.0, -999.00,  -999.0
    31DSCG96_1,  P14S,     2,  1,    129,   1023,3,19960107,0450,-48.3178, 158.4978, 4850,   -999,   2235.5,   2.1800,  34.7046,2,-999.0000,9,    175.5,1,  2.0201,   -999.0,9,  -999.00,9,  -999.00,9,  -999.00,9,  -999.00,9, -999.000,5, -999.000,5,   -999.0,9,  -999.00,9,   -999.0,9,   -999.0,9,   -999.0,9,  -999.00,9, -999.00,  -999.0, -999.00,  -999.0
    31DSCG96_1,  P14S,     2,  1,    128,   1007,2,19960107,0450,-48.3178, 158.4978, 4850,   -999,   2236.1,   2.1799,  34.7045,2,  34.7046,2,    175.2,1,  2.0200,   -999.0,9,  -999.00,9,  -999.00,9,  -999.00,9,  -999.00,9, -999.000,5, -999.000,5,   -999.0,9,  -999.00,9,   2251.0,2,   -999.0,9,   -999.0,9,     7.60,2, -999.00,  -999.0, -999.00,  -999.0
    31DSCG96_1,  P14S,     2,  1,    133,   1221,3,19960107,0450,-48.3178, 158.4978, 4850,   -999,   2236.5,   2.1794,  34.7047,2,-999.0000,9,    175.2,1,  2.0194,   -999.0,9,  -999.00,9,  -999.00,9,  -999.00,9,  -999.00,9,    0.057,2,    0.022,2,   -999.0,9,  -999.00,9,   2250.3,2,   -999.0,9,   -999.0,9,  -999.00,9, -999.00,  -999.0, -999.00,  -999.0
    31DSCG96_1,  P14S,     2,  1,    125,   1233,2,19960107,0450,-48.3178, 158.4978, 4850,   -999,   2236.8,   2.1797,  34.7046,2,  34.7049,2,    174.3,1,  2.0197,   -999.0,9,  -999.00,9,  -999.00,9,  -999.00,9,  -999.00,9,    0.267,4,    0.070,4,   -999.0,9,  -999.00,9,   -999.0,9,   -999.0,9,   -999.0,9,  -999.00,9, -999.00,  -999.0, -999.00,  -999.0
    31DSCG96_1,  P14S,     2,  1,    134,   1224,2,19960107,0450,-48.3178, 158.4978, 4850,   -999,   2236.9,   2.1794,  34.7044,2,  34.7045,2,    175.2,1,  2.0194,   -999.0,9,  -999.00,9,  -999.00,9,  -999.00,9,  -999.00,9,    0.056,2,    0.028,2,   -999.0,9,  -999.00,9,   -999.0,9,   -999.0,9,   -999.0,9,     7.60,2, -999.00,  -999.0, -999.00,  -999.0
    31DSCG96_1,  P14S,     2,  1,    131,   1042,2,19960107,0450,-48.3178, 158.4978, 4850,   -999,   2237.1,   2.1796,  34.7046,2,  34.7039,2,    175.1,1,  2.0196,   -999.0,9,  -999.00,9,  -999.00,9,  -999.00,9,  -999.00,9,    0.061,2,    0.026,2,   -999.0,9,  -999.00,9,   2252.1,2,   -999.0,9,   -999.0,9,  -999.00,9, -999.00,  -999.0, -999.00,  -999.0
    31DSCG96_1,  P14S,     2,  1,    127,   1026,2,19960107,0450,-48.3178, 158.4978, 4850,   -999,   2237.4,   2.1797,  34.7047,2,  34.7047,2,    175.1,1,  2.0197,   -999.0,9,  -999.00,9,  -999.00,9,  -999.00,9,  -999.00,9, -999.000,5, -999.000,5,   -999.0,9,  -999.00,9,   -999.0,9,   -999.0,9,   -999.0,9,  -999.00,9, -999.00,  -999.0, -999.00,  -999.0
    31DSCG96_1,  P14S,     2,  1,    123,   1250,2,19960107,0450,-48.3178, 158.4978, 4850,   -999,   2237.4,   2.1797,  34.7048,2,  34.7059,2,    175.4,1,  2.0197,   -999.0,9,  -999.00,9,  -999.00,9,  -999.00,9,  -999.00,9,    0.055,2,    0.026,2,   -999.0,9,  -999.00,9,   -999.0,9,   -999.0,9,   -999.0,9,     7.60,2, -999.00,  -999.0, -999.00,  -999.0
    31DSCG96_1,  P14S,     2,  1,    130,   1257,2,19960107,0450,-48.3178, 158.4978, 4850,   -999,   2237.5,   2.1798,  34.7045,2,  34.7046,2,    175.4,1,  2.0197,   -999.0,9,  -999.00,9,  -999.00,9,  -999.00,9,  -999.00,9,    0.062,2,    0.028,2,   -999.0,9,  -999.00,9,   2250.9,2,   -999.0,9,   -999.0,9,  -999.00,9, -999.00,  -999.0, -999.00,  -999.0
    31DSCG96_1,  P14S,     2,  1,    132,   1039,2,19960107,0450,-48.3178, 158.4978, 4850,   -999,   2237.6,   2.1801,  34.7044,2,  34.7049,2,    175.2,1,  2.0200,   -999.0,9,  -999.00,9,  -999.00,9,  -999.00,9,  -999.00,9,    0.066,2,    0.032,2,   -999.0,9,  -999.00,9,   2252.0,2,   -999.0,9,   -999.0,9,  -999.00,9, -999.00,  -999.0, -999.00,  -999.0
    31DSCG96_1,  P14S,     2,  1,    126,   1025,2,19960107,0450,-48.3178, 158.4978, 4850,   -999,   2238.6,   2.1800,  34.7047,2,  34.7042,2,    175.2,1,  2.0198,   -999.0,9,  -999.00,9,  -999.00,9,  -999.00,9,  -999.00,9, -999.000,5, -999.000,5,   -999.0,9,  -999.00,9,   -999.0,9,   -999.0,9,   -999.0,9,     7.60,2, -999.00,  -999.0, -999.00,  -999.0
    31DSCG96_1,  P14S,     2,  1,    124,   1218,2,19960107,0450,-48.3178, 158.4978, 4850,   -999,   2238.9,   2.1801,  34.7047,2,  34.7040,2,    175.6,1,  2.0199,   -999.0,9,  -999.00,9,  -999.00,9,  -999.00,9,  -999.00,9,    0.058,2,    0.030,2,   -999.0,9,  -999.00,9,   -999.0,9,   -999.0,9,   -999.0,9,  -999.00,9, -999.00,  -999.0, -999.00,  -999.0
    31DSCG96_1,  P14S,     2,  1,    115,   1041,2,19960107,0450,-48.3178, 158.4978, 4850,   -999,   2499.9,   1.9105,  34.7245,2,  34.7234,2,    177.0,1,  1.7316,   -999.0,9,  -999.00,9,  -999.00,9,  -999.00,9,  -999.00,9,    0.021,2,    0.011,2,   -999.0,9,  -999.00,9,   -999.0,9,   -999.0,9,   -999.0,9,  -999.00,9, -999.00,  -999.0, -999.00,  -999.0
    31DSCG96_1,  P14S,     2,  1,    116,   1211,2,19960107,0450,-48.3178, 158.4978, 4850,   -999,   2503.3,   1.9092,  34.7245,2,  34.7248,2,    177.0,1,  1.7300,   -999.0,9,  -999.00,9,  -999.00,9,  -999.00,9,  -999.00,9,    0.045,2,    0.040,3,   -999.0,9,  -999.00,9,   -999.0,9,   -999.0,9,   -999.0,9,  -999.00,9, -999.00,  -999.0, -999.00,  -999.0
    31DSCG96_1,  P14S,     2,  1,    114,   1017,2,19960107,0450,-48.3178, 158.4978, 4850,   -999,   2999.0,   1.5659,  34.7279,2,  34.7284,2,    181.2,1,  1.3474,   -999.0,9,  -999.00,9,  -999.00,9,  -999.00,9,  -999.00,9,    0.013,2,    0.037,3,   -999.0,9,  -999.00,9,   -999.0,9,   -999.0,9,   -999.0,9,  -999.00,9, -999.00,  -999.0, -999.00,  -999.0
    31DSCG96_1,  P14S,     2,  1,    113,   1008,2,19960107,0450,-48.3178, 158.4978, 4850,   -999,   2999.0,   1.5660,  34.7279,2,  34.7266,2,    181.5,1,  1.3475,   -999.0,9,  -999.00,9,  -999.00,9,  -999.00,9,  -999.00,9,    0.009,2,    0.007,2,   -999.0,9,  -999.00,9,   -999.0,9,   -999.0,9,   -999.0,9,  -999.00,9, -999.00,  -999.0, -999.00,  -999.0
    31DSCG96_1,  P14S,     2,  1,    112,   1217,2,19960107,0450,-48.3178, 158.4978, 4850,   -999,   3497.4,   1.2935,  34.7208,2,  34.7220,2,    184.4,1,  1.0325,   -999.0,9,  -999.00,9,  -999.00,9,  -999.00,9,  -999.00,9,    0.017,2,    0.006,2,   -999.0,9,  -999.00,9,   -999.0,9,   -999.0,9,   -999.0,9,  -999.00,9, -999.00,  -999.0, -999.00,  -999.0
    31DSCG96_1,  P14S,     2,  1,    111,   1114,2,19960107,0450,-48.3178, 158.4978, 4850,   -999,   3497.9,   1.2932,  34.7210,2,  34.7215,2,    184.7,1,  1.0322,   -999.0,9,  -999.00,9,  -999.00,9,  -999.00,9,  -999.00,9,    0.010,2,    0.006,2,   -999.0,9,  -999.00,9,   -999.0,9,   -999.0,9,   -999.0,9,  -999.00,9, -999.00,  -999.0, -999.00,  -999.0
    31DSCG96_1,  P14S,     2,  1,    110,   1036,2,19960107,0450,-48.3178, 158.4978, 4850,   -999,   3997.2,   1.1458,  34.7160,2,  34.7160,2,    188.0,1,  0.8369,   -999.0,9,  -999.00,9,  -999.00,9,  -999.00,9,  -999.00,9, -999.000,5, -999.000,5,   -999.0,9,  -999.00,9,   -999.0,9,   -999.0,9,   -999.0,9,  -999.00,9, -999.00,  -999.0, -999.00,  -999.0
    31DSCG96_1,  P14S,     2,  1,    109,   1005,2,19960107,0450,-48.3178, 158.4978, 4850,   -999,   3997.6,   1.1459,  34.7162,2,  34.7146,2,    189.2,1,  0.8370,   -999.0,9,  -999.00,9,  -999.00,9,  -999.00,9,  -999.00,9,    0.023,2,    0.008,2,   -999.0,9,  -999.00,9,   -999.0,9,   -999.0,9,   -999.0,9,  -999.00,9, -999.00,  -999.0, -999.00,  -999.0
    31DSCG96_1,  P14S,     2,  1,    107,   1245,2,19960107,0450,-48.3178, 158.4978, 4850,   -999,   4495.9,   1.0676,  34.7115,2,  34.7128,2,    196.3,1,  0.7063,   -999.0,9,  -999.00,9,  -999.00,9,  -999.00,9,  -999.00,9,    0.030,2,    0.023,2,   -999.0,9,  -999.00,9,   -999.0,9,   -999.0,9,   -999.0,9,  -999.00,9, -999.00,  -999.0, -999.00,  -999.0
    31DSCG96_1,  P14S,     2,  1,    105,   1113,2,19960107,0450,-48.3178, 158.4978, 4850,   -999,   4496.5,   1.0678,  34.7112,2,  34.7107,2,    196.2,1,  0.7064,   -999.0,9,  -999.00,9,  -999.00,9,  -999.00,9,  -999.00,9,    0.034,2,    0.016,2,   -999.0,9,  -999.00,9,   -999.0,9,   -999.0,9,   -999.0,9,  -999.00,9, -999.00,  -999.0, -999.00,  -999.0
    31DSCG96_1,  P14S,     2,  1,    103,   9999,2,19960107,0450,-48.3178, 158.4978, 4850,   -999,   4497.1,   1.0676,  34.7115,2,  34.7107,2,    194.1,1,  0.7061,   -999.0,9,  -999.00,9,  -999.00,9,  -999.00,9,  -999.00,9,    0.027,2,    0.012,2,   -999.0,9,  -999.00,9,   -999.0,9,   -999.0,9,   -999.0,9,  -999.00,9, -999.00,  -999.0, -999.00,  -999.0
    31DSCG96_1,  P14S,     2,  1,    108,   1018,2,19960107,0450,-48.3178, 158.4978, 4850,   -999,   4497.2,   1.0680,  34.7113,2,  34.7127,2,    192.8,1,  0.7065,   -999.0,9,  -999.00,9,  -999.00,9,  -999.00,9,  -999.00,9,    0.036,2,    0.032,3,   -999.0,9,  -999.00,9,   -999.0,9,   -999.0,9,   -999.0,9,  -999.00,9, -999.00,  -999.0, -999.00,  -999.0
    31DSCG96_1,  P14S,     2,  1,    104,   1003,2,19960107,0450,-48.3178, 158.4978, 4850,   -999,   4497.7,   1.0676,  34.7115,2,  34.6859,4,    193.2,1,  0.7061,   -999.0,9,  -999.00,9,  -999.00,9,  -999.00,9,  -999.00,9,    0.047,3,    0.003,4,   -999.0,9,  -999.00,9,   -999.0,9,   -999.0,9,   -999.0,9,  -999.00,9, -999.00,  -999.0, -999.00,  -999.0
    31DSCG96_1,  P14S,     2,  1,    106,   1262,2,19960107,0450,-48.3178, 158.4978, 4850,   -999,   4498.2,   1.0679,  34.7113,2,  34.7134,2,    193.1,1,  0.7063,   -999.0,9,  -999.00,9,  -999.00,9,  -999.00,9,  -999.00,9,    0.032,2,    0.023,2,   -999.0,9,  -999.00,9,   -999.0,9,   -999.0,9,   -999.0,9,  -999.00,9, -999.00,  -999.0, -999.00,  -999.0
    31DSCG96_1,  P14S,     2,  1,    102,   1027,2,19960107,0450,-48.3178, 158.4978, 4850,   -999,   4697.8,   1.0573,  34.7102,2,  34.7058,3,    196.7,1,  0.6733,   -999.0,9,  -999.00,9,  -999.00,9,  -999.00,9,  -999.00,9,    0.049,2,    0.056,3,   -999.0,9,  -999.00,9,   -999.0,9,   -999.0,9,   -999.0,9,  -999.00,9, -999.00,  -999.0, -999.00,  -999.0
    31DSCG96_1,  P14S,     2,  1,    101,   1022,2,19960107,0450,-48.3178, 158.4978, 4850,   -999,   4901.7,   1.0514,  34.7090,2,  34.7125,3,    200.1,1,  0.6438,   -999.0,9,  -999.00,9,  -999.00,9,  -999.00,9,  -999.00,9,    0.101,3,    0.031,2,   -999.0,9,  -999.00,9,   -999.0,9,   -999.0,9,   -999.0,9,  -999.00,9, -999.00,  -999.0, -999.00,  -999.0