BOTTLE,20220811CCHSIOAMB
EXPOCODE,SECT_ID,STNNBR,CASTNO,SAMPNO,BTLNBR,BTLNBR_FLAG_W,DATE,TIME,LATITUDE,LONGITUDE,DEPTH,CTDRAW,CTDPRS,CTDTMP,CTDSAL,CTDSAL_FLAG_W,SALNTY,SALNTY_FLAG_W,CTDOXY,CTDOXY_FLAG_W,THETA,OXYGEN,OXYGEN_FLAG_W,SILCAT,SILCAT_FLAG_W,NITRAT,NITRAT_FLAG_W,NITRIT,NITRIT_FLAG_W,PHSPHT,PHSPHT_FLAG_W,CFC-11,CFC-11_FLAG_W,CFC-12,CFC-12_FLAG_W,DELC14,DELC14_FLAG_W,DELC13,DELC13_FLAG_W,TCARBN,TCARBN_FLAG_W,PCO2,PCO2_FLAG_W,ALKALI,ALKALI_FLAG_W,PH,PH_FLAG_W,PCO2TMP,C14ERR,PH_TMP,C13ERR
,,,,,,,,,,,,DBAR,DBAR,ITS-90,PSS-78,,PSS-78,,UMOL/KG,,DEG C,UMOL/KG,,UMOL/KG,,UMOL/KG,,UMOL/KG,,UMOL/KG,,PMOL/KG,,PMOL/KG,,/MILLE,,/MILLE,,UMOL/KG,,UATM,,UMOL/KG,,,,DEG C,/MILLE,DEG C,/MILLE
    31DSCG96_1,  P15S,    73,  1,    140,   -999,2,19960129,1902,-47.1077,-170.4615, 5365,   -999,      0.0,-999.0000,-999.0000,9,-999.0000,5,   -999.0,9,-999.0000,   -999.0,9,  -999.00,9,  -999.00,9,  -999.00,9,  -999.00,9, -999.000,9, -999.000,9,   -999.0,9,  -999.00,9,   2108.0,2,   -999.0,9,   -999.0,9,  -999.00,9, -999.00,  -999.0, -999.00,  -999.0
    31DSCG96_1,  P15S,    73,  1,    134,   1119,3,19960129,1902,-47.1077,-170.4615, 5365,   -999,     10.1,  14.4507,  34.5710,2,-999.0000,9,    236.1,2, 14.4493,   -999.0,9,  -999.00,9,  -999.00,9,  -999.00,9,  -999.00,9, -999.000,9, -999.000,9,     39.2,2,  -999.00,9,   -999.0,9,   -999.0,9,   -999.0,9,  -999.00,9, -999.00,     3.5, -999.00,  -999.0
    31DSCG96_1,  P15S,    73,  1,    133,   1221,2,19960129,1902,-47.1077,-170.4615, 5365,   -999,     32.3,  12.3848,  34.6046,2,  34.6183,2,    277.4,2, 12.3806,    278.1,2,     1.23,2,     5.14,2,     0.08,2,     0.46,2,    3.472,6,    1.850,6,   -999.0,9,  -999.00,9,   -999.0,9,    436.0,2,   -999.0,9,     7.94,2, -999.00,  -999.0, -999.00,  -999.0
    31DSCG96_1,  P15S,    73,  1,    132,   1039,2,19960129,1902,-47.1077,-170.4615, 5365,   -999,     54.1,  12.2386,  34.6251,2,  34.6266,2,    274.7,2, 12.2315,    275.9,2,     1.23,2,     5.40,2,     0.09,2,     0.50,2,    3.485,2,    1.839,2,   -999.0,9,  -999.00,9,   -999.0,9,   -999.0,9,   -999.0,9,     7.93,2, -999.00,  -999.0, -999.00,  -999.0
    31DSCG96_1,  P15S,    73,  1,    131,   1014,2,19960129,1902,-47.1077,-170.4615, 5365,   -999,     80.1,  10.5280,  34.5972,2,  34.6013,2,    275.2,2, 10.5185,    275.3,2,     1.46,2,     7.81,2,     0.24,2,     0.69,2,    3.752,2,    1.967,2,   -999.0,9,  -999.00,9,   -999.0,9,   -999.0,9,   -999.0,9,     7.89,2, -999.00,  -999.0, -999.00,  -999.0
    31DSCG96_1,  P15S,    73,  1,    130,   1257,2,19960129,1902,-47.1077,-170.4615, 5365,   -999,    115.1,   9.6608,  34.5896,2,  34.5903,2,    265.9,2,  9.6478,    266.1,2,     2.19,2,    10.76,2,     0.57,2,     0.88,2,    3.817,2,    1.985,2,   -999.0,9,  -999.00,9,   -999.0,9,   -999.0,9,   -999.0,9,     7.85,2, -999.00,  -999.0, -999.00,  -999.0
    31DSCG96_1,  P15S,    73,  1,    129,   1256,2,19960129,1902,-47.1077,-170.4615, 5365,   -999,    162.7,   9.2968,  34.6077,2,  34.6101,2,    259.2,2,  9.2789,    258.5,2,     3.64,2,    13.40,2,     0.01,2,     0.97,2,    3.724,2,    1.937,2,   -999.0,9,  -999.00,9,   -999.0,9,   -999.0,9,   -999.0,9,     7.83,2, -999.00,  -999.0, -999.00,  -999.0
    31DSCG96_1,  P15S,    73,  1,    128,   1007,2,19960129,1902,-47.1077,-170.4615, 5365,   -999,    215.9,   8.7850,  34.5576,2,  34.5601,2,    261.4,2,  8.7620,    259.9,2,     4.03,2,    14.81,2,     0.01,2,     1.06,2,    3.734,2,    1.919,2,   -999.0,9,  -999.00,9,   -999.0,9,   -999.0,9,   -999.0,9,     7.81,2, -999.00,  -999.0, -999.00,  -999.0
    31DSCG96_1,  P15S,    73,  1,    127,   1232,2,19960129,1902,-47.1077,-170.4615, 5365,   -999,    264.8,   8.5376,  34.5476,2,  34.5483,2,    261.4,2,  8.5098,    247.8,2,     5.27,2,    16.84,2,     0.01,2,     1.19,2,    3.460,2,    1.798,2,   -999.0,9,  -999.00,9,   -999.0,9,   -999.0,9,   -999.0,9,     7.79,2, -999.00,  -999.0, -999.00,  -999.0
    31DSCG96_1,  P15S,    73,  1,    126,   1025,2,19960129,1902,-47.1077,-170.4615, 5365,   -999,    324.9,   8.2000,  34.5115,2,  34.5131,2,    261.5,2,  8.1666,    259.1,6,     5.27,2,    16.84,2,     0.01,2,     1.20,2,    3.685,2,    1.882,2,   -999.0,9,  -999.00,9,   -999.0,9,   -999.0,9,   -999.0,9,     7.79,2, -999.00,  -999.0, -999.00,  -999.0
    31DSCG96_1,  P15S,    73,  1,    125,   1233,2,19960129,1902,-47.1077,-170.4615, 5365,   -999,    424.4,   7.4952,  34.4268,2,  34.4271,2,    255.5,2,  7.4536,    253.6,2,     6.74,2,    19.79,2,     0.00,2,     1.38,2,    3.554,2,    1.793,2,   -999.0,9,  -999.00,9,   -999.0,9,   -999.0,9,   -999.0,9,     7.77,2, -999.00,  -999.0, -999.00,  -999.0
    31DSCG96_1,  P15S,    73,  1,    124,   1218,2,19960129,1902,-47.1077,-170.4615, 5365,   -999,    525.8,   7.2659,  34.4211,2,  34.4244,3,    251.3,2,  7.2149,    251.2,2,     8.37,2,    20.71,2,     0.01,2,     1.45,2, -999.000,5, -999.000,5,   -999.0,9,  -999.00,9,   -999.0,9,   -999.0,9,   -999.0,9,  -999.00,9, -999.00,  -999.0, -999.00,  -999.0
    31DSCG96_1,  P15S,    73,  1,    123,   1250,2,19960129,1902,-47.1077,-170.4615, 5365,   -999,    625.5,   6.7948,  34.3681,2,  34.3676,2,    264.9,2,  6.7360,    259.0,2,     8.56,2,    21.21,2,     0.00,2,     1.50,2,    3.444,2,    1.740,2,   -999.0,9,  -999.00,9,   -999.0,9,   -999.0,9,   -999.0,9,     7.76,2, -999.00,  -999.0, -999.00,  -999.0
    31DSCG96_1,  P15S,    73,  1,    122,   1109,2,19960129,1902,-47.1077,-170.4615, 5365,   -999,    724.0,   6.4139,  34.3414,2,  34.3417,2,    252.7,2,  6.3474,    249.8,2,    10.94,2,    22.92,2,     0.00,2,     1.59,2,    2.999,2,    1.507,2,   -999.0,9,  -999.00,9,   -999.0,9,   -999.0,9,   -999.0,9,     7.74,2, -999.00,  -999.0, -999.00,  -999.0
    31DSCG96_1,  P15S,    73,  1,    121,   1246,2,19960129,1902,-47.1077,-170.4615, 5365,   -999,    824.3,   6.1463,  34.3500,2,  34.3501,2,    233.7,2,  6.0717,    232.0,2,    15.17,2,    24.98,2,     0.00,2,     1.72,2,    2.321,2,    1.162,2,   -999.0,9,  -999.00,9,   -999.0,9,   -999.0,9,   -999.0,9,     7.71,2, -999.00,  -999.0, -999.00,  -999.0
    31DSCG96_1,  P15S,    73,  1,    120,   1015,2,19960129,1902,-47.1077,-170.4615, 5365,   -999,    924.6,   5.7698,  34.3740,2,  34.3742,2,    218.9,2,  5.6880,    213.9,2,    21.75,2,    27.13,2,     0.00,2,     1.86,2,    1.519,2,    0.775,2,   -999.0,9,  -999.00,9,   -999.0,9,   -999.0,9,   -999.0,9,     7.68,2, -999.00,  -999.0, -999.00,  -999.0
    31DSCG96_1,  P15S,    73,  1,    119,   1247,2,19960129,1902,-47.1077,-170.4615, 5365,   -999,   1022.0,   5.2137,  34.3748,2,  34.3757,2,    206.8,2,  5.1269,    204.3,2,    28.53,2,    28.99,2,     0.00,2,     1.99,2,    1.053,2,    0.522,2,   -999.0,9,  -999.00,9,   -999.0,9,   -999.0,9,   -999.0,9,     7.66,2, -999.00,  -999.0, -999.00,  -999.0
    31DSCG96_1,  P15S,    73,  1,    118,   1222,2,19960129,1902,-47.1077,-170.4615, 5365,   -999,   1138.8,   4.5214,  34.3655,2,  34.3658,2,    200.7,2,  4.4298,    201.1,6,    35.80,2,    30.68,2,     0.00,2,     2.11,2,    1.068,2,    0.524,2,   -999.0,9,  -999.00,9,   -999.0,9,   -999.0,9,   -999.0,9,     7.63,2, -999.00,  -999.0, -999.00,  -999.0
    31DSCG96_1,  P15S,    73,  1,    117,   1267,2,19960129,1902,-47.1077,-170.4615, 5365,   -999,   1317.5,   3.7579,  34.4014,2,  34.4024,2,    191.9,2,  3.6578,    191.2,2,    49.29,2,    32.51,2,     0.00,2,     2.24,2,    0.735,2,    0.374,2,   -999.0,9,  -999.00,9,   -999.0,9,   -999.0,9,   -999.0,9,     7.61,2, -999.00,  -999.0, -999.00,  -999.0
    31DSCG96_1,  P15S,    73,  1,    116,   1211,2,19960129,1902,-47.1077,-170.4615, 5365,   -999,   1560.9,   2.9839,  34.4626,2,  34.4620,2,    182.2,2,  2.8715,    182.3,2,    63.41,2,    34.02,2,     0.00,2,     2.34,2,    0.544,2,    0.270,2,   -999.0,9,  -999.00,9,   -999.0,9,   -999.0,9,   -999.0,9,     7.58,2, -999.00,  -999.0, -999.00,  -999.0
    31DSCG96_1,  P15S,    73,  1,    115,   1041,2,19960129,1902,-47.1077,-170.4615, 5365,   -999,   1815.2,   2.6613,  34.5492,2,  34.5491,2,    173.0,2,  2.5312,    172.2,2,    75.12,2,    34.29,2,     0.00,2,     2.35,2,    0.293,6,    0.144,6,   -999.0,9,  -999.00,9,   -999.0,9,   -999.0,9,   -999.0,9,     7.57,2, -999.00,  -999.0, -999.00,  -999.0
    31DSCG96_1,  P15S,    73,  1,    114,   1017,2,19960129,1902,-47.1077,-170.4615, 5365,   -999,   2067.5,   2.4298,  34.6294,2,  34.6288,2,    173.2,2,  2.2810,    173.3,2,    80.94,2,    33.59,2,     0.00,2,     2.30,2,    0.163,2,    0.095,2,   -999.0,9,  -999.00,9,   -999.0,9,   -999.0,9,   -999.0,9,     7.58,2, -999.00,  -999.0, -999.00,  -999.0
    31DSCG96_1,  P15S,    73,  1,    113,   1302,2,19960129,1902,-47.1077,-170.4615, 5365,   -999,   2314.1,   2.2823,  34.6799,2,  34.6789,2,    177.2,2,  2.1137,    177.6,2,    84.68,2,    32.75,2,     0.00,2,     2.24,2,    0.096,2,    0.052,2,   -999.0,9,  -999.00,9,   -999.0,9,   -999.0,9,   -999.0,9,     7.59,2, -999.00,  -999.0, -999.00,  -999.0
    31DSCG96_1,  P15S,    73,  1,    112,   1217,2,19960129,1902,-47.1077,-170.4615, 5365,   -999,   2562.7,   2.1479,  34.7135,2,  34.7129,2,    183.8,2,  1.9588,    184.6,2,    86.53,2,    31.94,2,     0.00,2,     2.18,2,    0.069,2,    0.034,2,   -999.0,9,  -999.00,9,   -999.0,9,   -999.0,9,   -999.0,9,     7.60,2, -999.00,  -999.0, -999.00,  -999.0
    31DSCG96_1,  P15S,    73,  1,    111,   1114,2,19960129,1902,-47.1077,-170.4615, 5365,   -999,   2817.6,   1.9819,  34.7316,2,  34.7317,2,    189.6,2,  1.7719,    190.1,2,    90.41,2,    31.44,2,     0.00,2,     2.14,2,    0.049,2,    0.027,2,   -999.0,9,  -999.00,9,   -999.0,9,   -999.0,9,   -999.0,9,     7.61,2, -999.00,  -999.0, -999.00,  -999.0
    31DSCG96_1,  P15S,    73,  1,    110,   1301,2,19960129,1902,-47.1077,-170.4615, 5365,   -999,   3064.3,   1.8076,  34.7370,2,  34.7363,2,    193.4,2,  1.5774,    194.3,6,    95.32,2,    31.33,2,     0.00,2,     2.14,2,    0.038,2,    0.023,2,   -999.0,9,  -999.00,9,   -999.0,9,   -999.0,9,   -999.0,9,     7.61,2, -999.00,  -999.0, -999.00,  -999.0
    31DSCG96_1,  P15S,    73,  1,    109,   1242,2,19960129,1902,-47.1077,-170.4615, 5365,   -999,   3315.3,   1.6052,  34.7346,2,  34.7338,2,    196.9,2,  1.3548,    197.3,2,   101.42,2,    31.48,2,     0.00,2,     2.15,2,    0.036,2,    0.021,2,   -999.0,9,  -999.00,9,   -999.0,9,   -999.0,9,   -999.0,9,     7.61,2, -999.00,  -999.0, -999.00,  -999.0
    31DSCG96_1,  P15S,    73,  1,    108,   1263,2,19960129,1902,-47.1077,-170.4615, 5365,   -999,   3565.2,   1.4126,  34.7290,2,  34.7281,2,    199.7,2,  1.1417,    200.7,2,   107.01,2,    31.63,2,     0.00,2,     2.16,2,    0.036,2,    0.022,2,   -999.0,9,  -999.00,9,   -999.0,9,   -999.0,9,   -999.0,9,     7.62,2, -999.00,  -999.0, -999.00,  -999.0
    31DSCG96_1,  P15S,    73,  1,    107,   1245,2,19960129,1902,-47.1077,-170.4615, 5365,   -999,   3814.6,   1.2601,  34.7229,2,  34.7252,2,    201.9,2,  0.9674,    202.8,2,   111.80,2,    31.86,2,     0.00,2,     2.17,2,    0.042,2,    0.027,2,   -999.0,9,  -999.00,9,   -999.0,9,   -999.0,9,   -999.0,9,     7.61,2, -999.00,  -999.0, -999.00,  -999.0
    31DSCG96_1,  P15S,    73,  1,    106,   1262,2,19960129,1902,-47.1077,-170.4615, 5365,   -999,   4064.1,   1.1248,  34.7168,2,  34.7164,2,    204.8,2,  0.8093,    205.4,2,   115.96,2,    32.05,2,     0.00,2,     2.18,2,    0.052,2,    0.032,2,   -999.0,9,  -999.00,9,   -999.0,9,   -999.0,9,   -999.0,9,     7.61,2, -999.00,  -999.0, -999.00,  -999.0
    31DSCG96_1,  P15S,    73,  1,    105,   1113,2,19960129,1902,-47.1077,-170.4615, 5365,   -999,   4315.3,   1.0367,  34.7121,2,  34.7112,2,    206.4,2,  0.6965,    207.4,2,   118.91,2,    32.18,2,     0.00,2,     2.19,2,    0.053,2,    0.033,2,   -999.0,9,  -999.00,9,   -999.0,9,   -999.0,9,   -999.0,9,     7.61,2, -999.00,  -999.0, -999.00,  -999.0
    31DSCG96_1,  P15S,    73,  1,    104,   1003,2,19960129,1902,-47.1077,-170.4615, 5365,   -999,   4613.8,   0.9706,  34.7085,2,  34.7074,2,    208.3,2,  0.5991,    208.3,2,   121.50,2,    32.22,2,     0.00,2,     2.20,2,    0.066,2,    0.034,2,   -999.0,9,  -999.00,9,   -999.0,9,   -999.0,9,   -999.0,9,     7.61,2, -999.00,  -999.0, -999.00,  -999.0
    31DSCG96_1,  P15S,    73,  1,    103,   1216,2,19960129,1902,-47.1077,-170.4615, 5365,   -999,   4912.6,   0.9561,  34.7063,2,  34.7059,2,    209.2,2,  0.5504,    209.7,2,   122.80,2,    32.29,2,     0.00,2,     2.20,2,    0.071,6,    0.043,6,   -999.0,9,  -999.00,9,   -999.0,9,   -999.0,9,   -999.0,9,     7.61,2, -999.00,  -999.0, -999.00,  -999.0
    31DSCG96_1,  P15S,    73,  1,    102,   1030,2,19960129,1902,-47.1077,-170.4615, 5365,   -999,   5214.2,   0.9531,  34.7044,2,  34.7036,2,    209.7,2,  0.5115,    209.4,2,   124.14,2,    32.35,2,     0.00,2,     2.20,2,    0.091,2,    0.067,2,   -999.0,9,  -999.00,9,   -999.0,9,   -999.0,9,   -999.0,9,     7.61,3, -999.00,  -999.0, -999.00,  -999.0
    31DSCG96_1,  P15S,    73,  1,    101,   1022,2,19960129,1902,-47.1077,-170.4615, 5365,   -999,   5498.2,   0.9809,  34.7040,2,  34.7032,2,    209.5,2,  0.5033,    209.8,2,   124.44,6,    32.42,6,     0.00,6,     2.20,6,    0.098,2,    0.054,2,   -999.0,9,  -999.00,9,   -999.0,9,   -999.0,9,   -999.0,9,     7.61,2, -999.00,  -999.0, -999.00,  -999.0