BOTTLE,20220811CCHSIOAMB
EXPOCODE,SECT_ID,STNNBR,CASTNO,SAMPNO,BTLNBR,BTLNBR_FLAG_W,DATE,TIME,LATITUDE,LONGITUDE,DEPTH,CTDRAW,CTDPRS,CTDTMP,CTDSAL,CTDSAL_FLAG_W,SALNTY,SALNTY_FLAG_W,CTDOXY,CTDOXY_FLAG_W,THETA,OXYGEN,OXYGEN_FLAG_W,SILCAT,SILCAT_FLAG_W,NITRAT,NITRAT_FLAG_W,NITRIT,NITRIT_FLAG_W,PHSPHT,PHSPHT_FLAG_W,CFC-11,CFC-11_FLAG_W,CFC-12,CFC-12_FLAG_W,DELC14,DELC14_FLAG_W,DELC13,DELC13_FLAG_W,TCARBN,TCARBN_FLAG_W,PCO2,PCO2_FLAG_W,ALKALI,ALKALI_FLAG_W,PH,PH_FLAG_W,PCO2TMP,C14ERR,PH_TMP,C13ERR
,,,,,,,,,,,,DBAR,DBAR,ITS-90,PSS-78,,PSS-78,,UMOL/KG,,DEG C,UMOL/KG,,UMOL/KG,,UMOL/KG,,UMOL/KG,,UMOL/KG,,PMOL/KG,,PMOL/KG,,/MILLE,,/MILLE,,UMOL/KG,,UATM,,UMOL/KG,,,,DEG C,/MILLE,DEG C,/MILLE
    31DSCG96_2,  P15S,   120,  2,    236,   1245,2,19960220,1809,-28.5077,-169.9962, 5425,   -999,      4.7,  23.9467,  35.8507,3,  35.8641,3,    213.9,2, 23.9457,    211.7,2,     1.30,2,     0.02,2,     0.00,2,     0.03,3,    1.949,2,    1.125,2,    112.3,2,  -999.00,9,   2016.0,2,    297.7,2,   2350.3,2,     8.08,2, -999.00,     3.1, -999.00,  -999.0
    31DSCG96_2,  P15S,   120,  2,    235,   1113,2,19960220,1809,-28.5077,-169.9962, 5425,   -999,     20.3,  23.9484,  35.8486,2,  35.8496,2,    210.6,2, 23.9442,    211.6,2,     1.30,2,     0.02,2,     0.00,2,     0.04,3,    1.925,2,    1.141,2,   -999.0,9,  -999.00,9,   2016.9,2,    297.1,2,   2350.2,2,     8.08,2, -999.00,  -999.0, -999.00,  -999.0
    31DSCG96_2,  P15S,   120,  2,    234,   1216,2,19960220,1809,-28.5077,-169.9962, 5425,   -999,     44.6,  21.2852,  35.7602,2,  35.7918,3,    223.4,2, 21.2765,    233.6,2,     1.35,2,     0.03,2,     0.00,2,     0.06,2,    2.255,6,    1.234,6,   -999.0,9,  -999.00,9,   2022.7,2,    310.2,2,   2346.5,2,     8.06,2, -999.00,  -999.0, -999.00,  -999.0
    31DSCG96_2,  P15S,   120,  2,    233,   1221,2,19960220,1809,-28.5077,-169.9962, 5425,   -999,     69.8,  18.7748,  35.7049,2,  35.7036,2,    235.9,2, 18.7624,    236.7,2,     1.52,2,     0.05,2,     0.00,2,     0.10,2,    2.382,2,    1.284,2,   -999.0,9,  -999.00,9,   2033.2,2,    326.0,2,   2340.6,2,     8.04,2, -999.00,  -999.0, -999.00,  -999.0
    31DSCG96_2,  P15S,   120,  2,    232,   1039,2,19960220,1809,-28.5077,-169.9962, 5425,   -999,     96.2,  17.7255,  35.6600,2,  35.6599,2,    221.0,2, 17.7091,    221.9,2,     1.54,2,     0.13,2,     0.01,2,     0.17,2,    2.407,2,    1.288,2,   -999.0,9,  -999.00,9,   2050.1,2,    360.2,2,   2337.6,2,     8.01,2, -999.00,  -999.0, -999.00,  -999.0
    31DSCG96_2,  P15S,   120,  2,    231,   1014,2,19960220,1809,-28.5077,-169.9962, 5425,   -999,    140.1,  16.9598,  35.6012,2,  35.6025,2,    206.8,2, 16.9366,    208.8,6,     1.86,2,     3.05,2,     0.03,2,     0.31,2,    2.415,2,    1.286,2,   -999.0,9,  -999.00,9,   2064.3,2,    396.7,2,   2334.1,2,     7.97,2, -999.00,  -999.0, -999.00,  -999.0
    31DSCG96_2,  P15S,   120,  2,    230,   1257,2,19960220,1809,-28.5077,-169.9962, 5425,   -999,    190.0,  16.0022,  35.4884,2,  35.4919,2,    202.7,2, 15.9720,    203.2,2,     2.42,2,     5.21,2,     0.01,2,     0.44,2,    2.370,2,    1.245,2,   -999.0,9,  -999.00,9,   2077.6,2,    442.6,2,   2325.2,2,     7.94,2, -999.00,  -999.0, -999.00,  -999.0
    31DSCG96_2,  P15S,   120,  2,    229,   1256,2,19960220,1809,-28.5077,-169.9962, 5425,   -999,    238.9,  14.7235,  35.3307,2,  35.3277,2,    202.4,2, 14.6876,    201.0,2,     3.04,2,     7.48,2,     0.00,2,     0.59,2,    2.310,2,    1.189,2,   -999.0,9,  -999.00,9,   2088.8,2,    488.8,2,   2319.2,2,     7.90,2, -999.00,  -999.0, -999.00,  -999.0
    31DSCG96_2,  P15S,   120,  2,    228,   1007,2,19960220,1809,-28.5077,-169.9962, 5425,   -999,    290.6,  13.6056,  35.1698,2,  35.1659,2,    196.9,2, 13.5641,    195.4,2,     3.64,2,     9.73,2,     0.00,2,     0.74,2,    2.146,2,    1.096,2,   -999.0,9,  -999.00,9,   2099.4,2,    524.1,2,   2309.0,2,     7.87,2, -999.00,  -999.0, -999.00,  -999.0
    31DSCG96_2,  P15S,   120,  2,    227,   1232,2,19960220,1809,-28.5077,-169.9962, 5425,   -999,    376.8,  11.2803,  34.8878,2,  34.8887,2,    195.2,2, 11.2327,    197.3,2,     5.06,2,    14.38,2,     0.00,2,     1.02,2,    2.013,6,    0.993,6,   -999.0,9,  -999.00,9,   2118.6,2,    621.7,2,   2297.5,2,     7.81,2, -999.00,  -999.0, -999.00,  -999.0
    31DSCG96_2,  P15S,   120,  2,    226,   1025,2,19960220,1809,-28.5077,-169.9962, 5425,   -999,    474.6,   9.0569,  34.6131,2,  34.6091,2,    206.3,2,  9.0046,    206.4,2,     6.44,2,    18.84,2,     0.00,2,     1.31,2,    1.569,2,    0.770,2,   -999.0,9,  -999.00,9,   -999.0,9,   -999.0,9,   -999.0,9,  -999.00,9, -999.00,  -999.0, -999.00,  -999.0
    31DSCG96_2,  P15S,   120,  2,    225,   1119,2,19960220,1809,-28.5077,-169.9962, 5425,   -999,    575.8,   7.6093,  34.4626,2,  34.4624,2,    223.5,2,  7.5517,    222.9,2,     7.58,2,    21.32,2,     0.00,2,     1.46,2,    1.330,2,    0.652,2,   -999.0,9,  -999.00,9,   2133.6,2,    743.2,2,   2286.0,2,     7.74,2, -999.00,  -999.0, -999.00,  -999.0
    31DSCG96_2,  P15S,   120,  2,    224,   1013,2,19960220,1809,-28.5077,-169.9962, 5425,   -999,    676.9,   6.7944,  34.3929,2,  34.3921,2,    229.3,2,  6.7305,    229.0,2,     9.49,2,    23.18,2,     0.00,2,     1.58,2,    0.910,2,    0.448,2,   -999.0,9,  -999.00,9,   2137.7,2,    737.6,2,   2283.1,2,     7.73,2, -999.00,  -999.0, -999.00,  -999.0
    31DSCG96_2,  P15S,   120,  2,    223,   1250,2,19960220,1809,-28.5077,-169.9962, 5425,   -999,    775.0,   6.1618,  34.3523,2,  34.3514,2,    225.9,2,  6.0918,    224.9,2,    12.87,2,    25.23,2,     0.00,2,     1.71,2,    0.498,2,    0.261,2,   -999.0,9,  -999.00,9,   2147.1,2,    797.6,2,   2287.1,2,     7.71,2, -999.00,  -999.0, -999.00,  -999.0
    31DSCG96_2,  P15S,   120,  2,    222,   1265,2,19960220,1809,-28.5077,-169.9962, 5425,   -999,    874.2,   5.6013,  34.3339,2,  34.3334,2,    215.8,2,  5.5255,    215.6,2,    18.14,2,    27.36,2,     0.00,2,     1.86,2,    0.272,2,    0.153,2,   -999.0,9,  -999.00,9,   2160.6,2,    861.6,2,   2286.8,2,     7.69,2, -999.00,  -999.0, -999.00,  -999.0
    31DSCG96_2,  P15S,   120,  2,    221,   1246,2,19960220,1809,-28.5077,-169.9962, 5425,   -999,    977.6,   4.9096,  34.3361,2,  34.3367,2,    201.7,2,  4.8293,    201.3,6,    27.43,2,    29.99,2,     0.00,2,     2.04,2,    0.115,2,    0.065,2,   -999.0,9,  -999.00,9,   2178.9,2,    953.5,2,   2296.2,2,     7.65,2, -999.00,  -999.0, -999.00,  -999.0
    31DSCG96_2,  P15S,   120,  2,    220,   1015,2,19960220,1809,-28.5077,-169.9962, 5425,   -999,   1077.2,   4.3325,  34.3627,2,  34.3627,2,    189.5,2,  4.2478,    188.3,2,    37.94,2,    31.87,2,     0.00,2,     2.18,2,    0.039,2,    0.025,2,   -999.0,9,  -999.00,9,   2199.2,2,   1033.5,2,   2304.5,2,     7.62,2, -999.00,  -999.0, -999.00,  -999.0
    31DSCG96_2,  P15S,   120,  2,    219,   1247,2,19960220,1809,-28.5077,-169.9962, 5425,   -999,   1175.0,   3.8469,  34.3930,2,  34.3932,2,    181.8,2,  3.7581,    181.9,2,    47.37,2,    33.00,2,     0.00,2,     2.26,2,    0.018,2,    0.016,2,   -999.0,9,  -999.00,9,   2213.9,2,   1086.6,2,   2316.9,2,     7.61,3, -999.00,  -999.0, -999.00,  -999.0
    31DSCG96_2,  P15S,   120,  2,    218,   1222,2,19960220,1809,-28.5077,-169.9962, 5425,   -999,   1275.2,   3.4153,  34.4336,2,  34.4348,2,    175.1,2,  3.3221,    175.0,2,    57.49,2,    33.82,2,     0.00,2,     2.32,2,    0.006,2,    0.007,2,   -999.0,9,  -999.00,9,   2228.6,2,   1115.7,2,   2324.8,2,     7.59,2, -999.00,  -999.0, -999.00,  -999.0
    31DSCG96_2,  P15S,   120,  2,    217,   1267,2,19960220,1809,-28.5077,-169.9962, 5425,   -999,   1446.1,   2.9179,  34.5129,2,  34.5149,2,    164.5,2,  2.8156,    164.9,2,    76.04,2,    34.66,2,     0.00,2,     2.39,2,    0.001,2,    0.001,2,   -999.0,9,  -999.00,9,   2253.3,2,   1165.7,2,   2346.9,2,     7.58,2, -999.00,  -999.0, -999.00,  -999.0
    31DSCG96_2,  P15S,   120,  2,    216,   1259,2,19960220,1809,-28.5077,-169.9962, 5425,   -999,   1691.3,   2.5343,  34.5851,2,  34.5866,2,    153.7,2,  2.4162,    154.5,2,    96.72,2,    35.32,2,     0.00,2,     2.44,2,   -0.001,2,    0.004,2,   -999.0,9,  -999.00,9,   2277.9,2,   1193.7,2,   2369.4,2,     7.57,2, -999.00,  -999.0, -999.00,  -999.0
    31DSCG96_2,  P15S,   120,  2,    215,   1041,2,19960220,1809,-28.5077,-169.9962, 5425,   -999,   1943.7,   2.2719,  34.6227,2,  34.6231,2,    148.3,2,  2.1361,    148.4,2,   111.39,2,    35.78,2,     0.00,2,     2.48,2,    0.000,2,    0.002,2,   -999.0,9,  -999.00,9,   2296.0,2,   1217.5,2,   2392.1,2,     7.57,2, -999.00,  -999.0, -999.00,  -999.0
    31DSCG96_2,  P15S,   120,  2,    214,   1017,2,19960220,1809,-28.5077,-169.9962, 5425,   -999,   2189.3,   2.1045,  34.6325,2,  34.6400,2,    145.8,2,  1.9501,    146.0,2,   120.13,2,    36.07,2,     0.00,2,     2.51,2,   -0.001,2,    0.004,2,   -999.0,9,  -999.00,9,   2305.3,2,   1224.2,2,   2396.3,2,     7.57,2, -999.00,  -999.0, -999.00,  -999.0
    31DSCG96_2,  P15S,   120,  2,    213,   1302,2,19960220,1809,-28.5077,-169.9962, 5425,   -999,   2439.1,   1.9871,  34.6471,2,  34.6520,2,    146.1,2,  1.8126,    145.5,2,   125.28,2,    36.18,2,     0.00,2,     2.51,2,    0.001,2,    0.003,2,   -999.0,9,  -999.00,9,   2310.6,2,   1236.0,2,   2402.8,2,     7.57,2, -999.00,  -999.0, -999.00,  -999.0
    31DSCG96_2,  P15S,   120,  2,    212,   1217,2,19960220,1809,-28.5077,-169.9962, 5425,   -999,   2691.3,   1.8947,  34.6597,2,  34.6615,2,    146.9,2,  1.6987,    146.5,2,   128.54,2,    36.11,2,     0.00,2,     2.51,2,    0.000,2,    0.003,2,   -999.0,9,  -999.00,9,   2312.9,2,   1222.5,2,   2407.2,2,     7.57,2, -999.00,  -999.0, -999.00,  -999.0
    31DSCG96_2,  P15S,   120,  2,    211,   1114,2,19960220,1809,-28.5077,-169.9962, 5425,   -999,   2939.1,   1.8017,  34.6693,2,  34.6700,2,    149.6,2,  1.5842,    149.7,6,   130.35,2,    35.88,2,     0.00,2,     2.49,2,    0.000,2,    0.003,2,   -999.0,9,  -999.00,9,   2313.3,2,   1218.8,2,   2408.7,2,     7.57,2, -999.00,  -999.0, -999.00,  -999.0
    31DSCG96_2,  P15S,   120,  2,    210,   1301,2,19960220,1809,-28.5077,-169.9962, 5425,   -999,   3188.7,   1.7001,  34.6829,2,  34.6828,2,    159.2,2,  1.4604,    159.3,2,   127.16,2,    35.07,2,     0.00,2,     2.43,2,    0.000,2,    0.002,2,   -999.0,9,  -999.00,9,   2303.9,2,   1199.9,2,   2398.5,2,     7.58,2, -999.00,  -999.0, -999.00,  -999.0
    31DSCG96_2,  P15S,   120,  2,    209,   1233,2,19960220,1809,-28.5077,-169.9962, 5425,   -999,   3442.3,   1.6193,  34.7026,2,  34.7031,2,    178.3,2,  1.3559,    178.2,2,   117.08,2,    33.53,2,     0.00,2,     2.31,2,    0.002,2,    0.004,2,   -999.0,9,  -999.00,9,   2282.7,2,   1136.3,2,   2383.9,2,     7.59,2, -999.00,  -999.0, -999.00,  -999.0
    31DSCG96_2,  P15S,   120,  2,    208,   1227,2,19960220,1809,-28.5077,-169.9962, 5425,   -999,   3689.1,   1.4764,  34.7173,2,  34.7170,2,    192.3,2,  1.1910,    191.5,2,   110.92,2,    32.30,2,     0.00,2,     2.22,2,    0.000,2,    0.003,2,   -999.0,9,  -999.00,9,   2265.6,2,   1095.3,2,   2368.5,2,     7.61,2, -999.00,  -999.0, -999.00,  -999.0
    31DSCG96_2,  P15S,   120,  2,    207,   1263,2,19960220,1809,-28.5077,-169.9962, 5425,   -999,   3940.5,   1.2852,  34.7188,2,  34.7207,2,    200.0,2,  0.9784,    199.9,2,   112.27,2,    31.90,2,     0.00,2,     2.19,2,    0.003,2,    0.005,2,   -999.0,9,  -999.00,9,   2260.0,2,   1077.4,2,   2366.5,2,     7.61,2, -999.00,  -999.0, -999.00,  -999.0
    31DSCG96_2,  P15S,   120,  2,    206,   1262,2,19960220,1809,-28.5077,-169.9962, 5425,   -999,   4187.8,   1.1496,  34.7152,2,  34.7162,2,    203.5,2,  0.8201,    203.4,2,   115.70,2,    31.95,2,     0.00,2,     2.19,2,    0.006,2,    0.005,2,   -999.0,9,  -999.00,9,   2259.5,2,   1080.1,2,   2366.8,2,     7.61,2, -999.00,  -999.0, -999.00,  -999.0
    31DSCG96_2,  P15S,   120,  2,    205,   1264,2,19960220,1809,-28.5077,-169.9962, 5425,   -999,   4440.6,   1.0477,  34.7110,2,  34.7124,2,    205.4,2,  0.6932,    205.6,2,   118.89,2,    32.12,2,     0.00,2,     2.19,2,    0.008,6,    0.007,6,   -999.0,9,  -999.00,9,   2259.3,2,   1079.1,2,   2370.8,2,     7.61,2, -999.00,  -999.0, -999.00,  -999.0
    31DSCG96_2,  P15S,   120,  2,    204,   1003,2,19960220,1809,-28.5077,-169.9962, 5425,   -999,   4691.5,   1.0179,  34.7090,2,  34.7091,2,    206.3,2,  0.6359,    206.1,2,   120.50,2,    32.17,2,     0.00,2,     2.20,2,    0.010,2,    0.007,2,   -999.0,9,  -999.00,9,   2260.4,2,   1084.5,2,   2372.7,2,     7.61,2, -999.00,  -999.0, -999.00,  -999.0
    31DSCG96_2,  P15S,   120,  2,    203,   1035,2,19960220,1809,-28.5077,-169.9962, 5425,   -999,   4938.6,   1.0221,  34.7080,2,  34.7093,2,    206.3,2,  0.6112,    206.8,2,   121.23,2,    32.29,2,     0.00,2,     2.21,2,    0.010,2,    0.009,2,   -999.0,9,  -999.00,9,   2260.6,2,   1089.4,2,   2369.9,2,     7.61,2, -999.00,  -999.0, -999.00,  -999.0
    31DSCG96_2,  P15S,   120,  2,    202,   1030,2,19960220,1809,-28.5077,-169.9962, 5425,   -999,   5187.8,   1.0438,  34.7075,2,  34.7085,2,    206.4,2,  0.6022,    206.7,2,   121.46,6,    32.24,2,     0.00,6,     2.20,6,    0.012,2,    0.010,2,   -999.0,9,  -999.00,9,   2259.5,2,   1081.9,2,   2380.8,3,     7.61,2, -999.00,  -999.0, -999.00,  -999.0
    31DSCG96_2,  P15S,   120,  2,    201,   1022,2,19960220,1809,-28.5077,-169.9962, 5425,   -999,   5554.3,   1.0874,  34.7068,2,  34.7085,2,    206.3,2,  0.5989,    206.8,6,   121.74,6,    32.10,3,     0.00,6,     2.21,6,    0.012,6,    0.008,6,   -999.0,9,  -999.00,9,   2260.9,2,   1094.3,2,   2379.5,3,     7.61,2, -999.00,  -999.0, -999.00,  -999.0