BOTTLE,20220811CCHSIOAMB
EXPOCODE,SECT_ID,STNNBR,CASTNO,SAMPNO,BTLNBR,BTLNBR_FLAG_W,DATE,TIME,LATITUDE,LONGITUDE,DEPTH,CTDRAW,CTDPRS,CTDTMP,CTDSAL,CTDSAL_FLAG_W,SALNTY,SALNTY_FLAG_W,CTDOXY,CTDOXY_FLAG_W,THETA,OXYGEN,OXYGEN_FLAG_W,SILCAT,SILCAT_FLAG_W,NITRAT,NITRAT_FLAG_W,NITRIT,NITRIT_FLAG_W,PHSPHT,PHSPHT_FLAG_W,CFC-11,CFC-11_FLAG_W,CFC-12,CFC-12_FLAG_W,DELC14,DELC14_FLAG_W,DELC13,DELC13_FLAG_W,TCARBN,TCARBN_FLAG_W,PCO2,PCO2_FLAG_W,ALKALI,ALKALI_FLAG_W,PH,PH_FLAG_W,PCO2TMP,C14ERR,PH_TMP,C13ERR
,,,,,,,,,,,,DBAR,DBAR,ITS-90,PSS-78,,PSS-78,,UMOL/KG,,DEG C,UMOL/KG,,UMOL/KG,,UMOL/KG,,UMOL/KG,,UMOL/KG,,PMOL/KG,,PMOL/KG,,/MILLE,,/MILLE,,UMOL/KG,,UATM,,UMOL/KG,,,,DEG C,/MILLE,DEG C,/MILLE
    31DSCG96_2,  P15S,   109,  1,    136,   1245,2,19960217,1849,-33.9962,-169.9993, 5501,   -999,      5.8,  21.2407,  35.5626,2,  35.5607,2,    225.7,2, 21.2396,    222.0,2,     1.27,2,     0.02,2,     0.00,2,     0.09,2, -999.000,9, -999.000,9,     89.0,2,     1.52,2,   2036.6,2,    346.5,2,   -999.0,9,     8.02,2, -999.00,     4.3, -999.00,  -999.0
    31DSCG96_2,  P15S,   109,  1,    135,   1113,2,19960217,1849,-33.9962,-169.9993, 5501,   -999,     31.8,  20.9069,  35.5585,2,  35.5607,2,    219.1,2, 20.9008,    224.9,2,     1.28,2,     0.01,2,     0.00,2,     0.10,2, -999.000,9, -999.000,9,     84.3,2,     1.58,2,   2036.6,2,   -999.0,9,   -999.0,9,     8.02,2, -999.00,     3.8, -999.00,  -999.0
    31DSCG96_2,  P15S,   109,  1,    134,   1216,2,19960217,1849,-33.9962,-169.9993, 5501,   -999,     56.2,  18.1452,  35.5036,2,  35.5189,2,    229.6,2, 18.1355,    251.9,2,     1.28,2,     0.02,2,     0.00,2,     0.11,2, -999.000,9, -999.000,9,     81.1,2,     1.63,2,   -999.0,9,   -999.0,9,   -999.0,9,     8.02,2, -999.00,     3.9, -999.00,  -999.0
    31DSCG96_2,  P15S,   109,  1,    133,   1221,2,19960217,1849,-33.9962,-169.9993, 5501,   -999,     84.0,  15.6358,  35.4457,2,  35.4476,2,    246.7,2, 15.6227,    250.5,2,     1.57,2,     0.03,2,     0.00,2,     0.18,2, -999.000,9, -999.000,9,     72.6,2,     1.53,2,   2051.6,2,    385.5,2,   2325.9,2,     7.99,2, -999.00,     4.3, -999.00,  -999.0
    31DSCG96_2,  P15S,   109,  1,    132,   1039,2,19960217,1849,-33.9962,-169.9993, 5501,   -999,    114.6,  14.9427,  35.3954,2,  35.3955,2,    226.4,2, 14.9253,    229.7,2,     1.85,2,     2.85,2,     0.18,2,     0.34,2, -999.000,9, -999.000,9,     71.5,2,     1.32,2,   -999.0,9,   -999.0,9,   -999.0,9,     7.95,2, -999.00,     3.5, -999.00,  -999.0
    31DSCG96_2,  P15S,   109,  1,    131,   1014,2,19960217,1849,-33.9962,-169.9993, 5501,   -999,    166.2,  14.0063,  35.2679,2,  35.2685,2,    216.3,2, 13.9822,    213.9,2,     2.68,2,     6.75,2,     0.01,2,     0.55,2, -999.000,9, -999.000,9,     65.8,2,     1.20,2,   2086.9,2,    602.9,3,   2316.4,2,     7.90,2, -999.00,     3.5, -999.00,  -999.0
    31DSCG96_2,  P15S,   109,  1,    130,   1257,2,19960217,1849,-33.9962,-169.9993, 5501,   -999,    216.2,  12.8868,  35.1161,2,  35.1180,2,    203.4,2, 12.8572,    202.5,2,     3.54,2,    10.09,2,     0.01,2,     0.75,2, -999.000,9, -999.000,9,     57.2,2,     1.16,2,   -999.0,9,   -999.0,9,   -999.0,9,     7.85,2, -999.00,     4.2, -999.00,  -999.0
    31DSCG96_2,  P15S,   109,  1,    129,   1256,2,19960217,1849,-33.9962,-169.9993, 5501,   -999,    265.1,  11.7850,  34.9773,2,  34.9776,2,    201.8,2, 11.7507,    201.6,6,     4.36,2,    12.69,2,     0.01,2,     0.91,2, -999.000,9, -999.000,9,     95.5,3,     1.14,2,   2113.3,2,    431.5,4,   2300.6,2,     7.82,2, -999.00,     3.5, -999.00,  -999.0
    31DSCG96_2,  P15S,   109,  1,    128,   1007,2,19960217,1849,-33.9962,-169.9993, 5501,   -999,    325.4,  10.6028,  34.8249,2,  34.8254,2,    201.4,2, 10.5635,    201.7,2,     5.25,2,    15.65,2,     0.00,2,     1.10,2, -999.000,9, -999.000,9,     21.9,2,     0.56,3,   -999.0,9,   -999.0,9,   -999.0,9,     7.79,2, -999.00,     3.3, -999.00,  -999.0
    31DSCG96_2,  P15S,   109,  1,    127,   1232,2,19960217,1849,-33.9962,-169.9993, 5501,   -999,    426.4,   8.8393,  34.6036,2,  34.6042,2,    206.1,2,  8.7931,    208.9,2,     6.25,2,    19.15,2,     0.00,2,     1.31,2, -999.000,9, -999.000,9,     29.7,2,     1.24,2,   2132.0,2,    719.6,2,   2289.0,2,     7.75,2, -999.00,     3.3, -999.00,  -999.0
    31DSCG96_2,  P15S,   109,  1,    126,   1025,2,19960217,1849,-33.9962,-169.9993, 5501,   -999,    524.5,   7.6779,  34.4777,2,  34.4757,2,    217.8,2,  7.6253,    224.4,2,     7.14,2,    21.13,2,     0.00,2,     1.44,2, -999.000,9, -999.000,9,   -999.0,5,     0.75,3,   -999.0,9,   -999.0,9,   -999.0,9,     7.74,2, -999.00,  -999.0, -999.00,  -999.0
    31DSCG96_2,  P15S,   109,  1,    125,   1233,2,19960217,1849,-33.9962,-169.9993, 5501,   -999,    626.5,   7.0668,  34.4211,2,  34.4221,2,    227.5,2,  7.0065,    229.0,2,     8.42,2,    22.49,2,     0.00,2,     1.53,2, -999.000,9, -999.000,9,      0.2,2,     1.28,6,   2135.5,2,    749.7,2,   2283.1,2,     7.73,2, -999.00,     3.2, -999.00,  -999.0
    31DSCG96_2,  P15S,   109,  1,    124,   1013,2,19960217,1849,-33.9962,-169.9993, 5501,   -999,    725.7,   6.5882,  34.3825,2,  34.3846,2,    227.1,2,  6.5206,    228.4,2,    10.35,2,    23.85,2,     0.00,2,     1.62,2, -999.000,9, -999.000,9,    -30.1,2,     1.29,2,   -999.0,9,   -999.0,9,   -999.0,9,     7.72,2, -999.00,     5.4, -999.00,  -999.0
    31DSCG96_2,  P15S,   109,  1,    123,   1250,2,19960217,1849,-33.9962,-169.9993, 5501,   -999,    925.8,   5.5586,  34.3428,2,  34.3424,2,    213.5,2,  5.4783,    211.6,2,    19.64,2,    27.70,2,     0.00,2,     1.88,2, -999.000,9, -999.000,9,   -999.0,9,  -999.00,9,   2163.2,2,    875.4,2,   2289.0,2,     7.68,2, -999.00,  -999.0, -999.00,  -999.0
    31DSCG96_2,  P15S,   109,  1,    122,   1265,2,19960217,1849,-33.9962,-169.9993, 5501,   -999,    927.0,   5.5512,  34.3429,2,  34.3423,2,    213.3,2,  5.4708,    211.7,2,    19.63,2,    27.71,2,     0.00,2,     1.88,2, -999.000,9, -999.000,9,    -81.0,2,     1.18,2,   -999.0,9,   -999.0,9,   -999.0,9,     7.68,2, -999.00,     3.0, -999.00,  -999.0
    31DSCG96_2,  P15S,   109,  1,    121,   1246,2,19960217,1849,-33.9962,-169.9993, 5501,   -999,   1027.9,   4.9693,  34.3474,2,  34.3480,2,    202.1,2,  4.8839,    201.3,6,    27.27,2,    29.72,2,     0.00,2,     2.02,2, -999.000,9, -999.000,9,    -94.4,2,     1.08,2,   2179.8,2,    941.4,2,   2295.5,2,     7.65,2, -999.00,     3.9, -999.00,  -999.0
    31DSCG96_2,  P15S,   109,  1,    120,   1015,2,19960217,1849,-33.9962,-169.9993, 5501,   -999,   1126.4,   4.3959,  34.3632,2,  34.3631,2,    193.6,2,  4.3065,    192.1,2,    36.37,2,    31.37,2,     0.00,2,     2.14,2, -999.000,9, -999.000,9,   -132.8,2,     0.87,2,   -999.0,9,   -999.0,9,   -999.0,9,     7.63,2, -999.00,     2.8, -999.00,  -999.0
    31DSCG96_2,  P15S,   109,  1,    119,   1247,2,19960217,1849,-33.9962,-169.9993, 5501,   -999,   1227.1,   3.8983,  34.3971,2,  34.3993,2,    185.0,2,  3.8045,    184.3,2,    46.46,2,    32.57,2,     0.00,2,     2.23,2, -999.000,9, -999.000,9,   -160.9,3,     0.79,2,   2210.7,2,   1066.5,2,   2315.7,2,     7.61,2, -999.00,     3.7, -999.00,  -999.0
    31DSCG96_2,  P15S,   109,  1,    118,   1222,2,19960217,1849,-33.9962,-169.9993, 5501,   -999,   1352.9,   3.3348,  34.4440,2,  34.4427,2,    175.9,2,  3.2359,    174.8,2,    59.09,2,    33.80,2,     0.00,2,     2.32,2, -999.000,9, -999.000,9,   -201.2,3,     0.69,2,   -999.0,9,   -999.0,9,   -999.0,9,     7.59,2, -999.00,     6.8, -999.00,  -999.0
    31DSCG96_2,  P15S,   109,  1,    117,   1267,2,19960217,1849,-33.9962,-169.9993, 5501,   -999,   1563.8,   2.8257,  34.5397,2,  34.5388,2,    163.5,2,  2.7146,    162.0,2,    80.90,2,    34.65,2,     0.00,2,     2.40,2, -999.000,9, -999.000,9,   -999.0,9,  -999.00,9,   2259.6,2,   1184.6,2,   2352.0,2,     7.58,3, -999.00,  -999.0, -999.00,  -999.0
    31DSCG96_2,  P15S,   109,  1,    116,   1211,2,19960217,1849,-33.9962,-169.9993, 5501,   -999,   1811.9,   2.5188,  34.5996,2,  34.5994,2,    153.8,2,  2.3907,    153.4,2,    99.89,2,    35.16,2,     0.00,2,     2.44,2, -999.000,9, -999.000,9,   -999.0,9,  -999.00,9,   -999.0,9,   -999.0,9,   -999.0,9,     7.57,2, -999.00,  -999.0, -999.00,  -999.0
    31DSCG96_2,  P15S,   109,  1,    115,   1041,2,19960217,1849,-33.9962,-169.9993, 5501,   -999,   2065.7,   2.3084,  34.6244,2,  34.6246,2,    149.6,2,  2.1616,    149.9,2,   110.03,2,    35.51,2,     0.00,2,     2.47,2, -999.000,9, -999.000,9,   -999.0,9,  -999.00,9,   2293.8,2,   1235.1,2,   2388.0,2,     7.57,2, -999.00,  -999.0, -999.00,  -999.0
    31DSCG96_2,  P15S,   109,  1,    114,   1017,2,19960217,1849,-33.9962,-169.9993, 5501,   -999,   2317.5,   2.1553,  34.6398,2,  34.6391,2,    148.6,2,  1.9887,    148.1,2,   116.52,2,    35.68,2,     0.00,2,     2.49,2, -999.000,9, -999.000,9,   -999.0,9,  -999.00,9,   -999.0,9,   -999.0,9,   -999.0,9,     7.57,2, -999.00,  -999.0, -999.00,  -999.0
    31DSCG96_2,  P15S,   109,  1,    113,   1302,2,19960217,1849,-33.9962,-169.9993, 5501,   -999,   2564.3,   2.0163,  34.6513,2,  34.6527,2,    147.4,2,  1.8297,    146.8,2,   123.11,2,    35.86,2,     0.00,2,     2.50,2, -999.000,9, -999.000,9,   -999.0,9,  -999.00,9,   2308.4,2,   1227.7,2,   2401.7,2,     7.57,2, -999.00,  -999.0, -999.00,  -999.0
    31DSCG96_2,  P15S,   109,  1,    112,   1217,2,19960217,1849,-33.9962,-169.9993, 5501,   -999,   2816.6,   1.9039,  34.6622,2,  34.6612,2,    148.6,2,  1.6960,    148.6,2,   126.79,2,    35.89,2,     0.00,2,     2.50,2, -999.000,9, -999.000,9,   -999.0,9,  -999.00,9,   -999.0,9,   -999.0,9,   -999.0,9,     7.57,2, -999.00,  -999.0, -999.00,  -999.0
    31DSCG96_2,  P15S,   109,  1,    111,   1114,3,19960217,1849,-33.9962,-169.9993, 5501,   -999,   3064.2,   1.7878,  34.6786,2,  34.6840,3,    155.9,2,  1.5583,    157.3,2,   124.08,2,    35.00,2,     0.00,2,     2.43,2, -999.000,9, -999.000,9,   -999.0,9,  -999.00,9,   2301.1,2,   1195.0,2,   2401.6,2,     7.58,2, -999.00,  -999.0, -999.00,  -999.0
    31DSCG96_2,  P15S,   109,  1,    110,   1301,2,19960217,1849,-33.9962,-169.9993, 5501,   -999,   3317.2,   1.6870,  34.7002,2,  34.6995,2,    171.8,2,  1.4347,    173.6,2,   116.02,2,    33.60,2,     0.00,2,     2.32,2, -999.000,9, -999.000,9,   -999.0,9,  -999.00,9,   -999.0,9,   -999.0,9,   -999.0,9,     7.59,2, -999.00,  -999.0, -999.00,  -999.0
    31DSCG96_2,  P15S,   109,  1,    109,   1119,2,19960217,1849,-33.9962,-169.9993, 5501,   -999,   3565.3,   1.5690,  34.7170,2,  34.7160,2,    187.4,2,  1.2941,    188.4,2,   109.13,2,    32.36,2,     0.00,2,     2.22,2, -999.000,9, -999.000,9,   -999.0,9,  -999.00,9,   2265.8,2,   1098.1,2,   2372.0,2,     7.60,2, -999.00,  -999.0, -999.00,  -999.0
    31DSCG96_2,  P15S,   109,  1,    108,   1227,2,19960217,1849,-33.9962,-169.9993, 5501,   -999,   3815.5,   1.3862,  34.7205,2,  34.7201,2,    196.2,2,  1.0899,    196.9,2,   110.15,2,    31.93,2,     0.00,2,     2.19,2, -999.000,9, -999.000,9,   -999.0,9,  -999.00,9,   -999.0,9,   -999.0,9,   -999.0,9,     7.61,2, -999.00,  -999.0, -999.00,  -999.0
    31DSCG96_2,  P15S,   109,  1,    107,   1263,2,19960217,1849,-33.9962,-169.9993, 5501,   -999,   4062.3,   1.2266,  34.7182,2,  34.7177,2,    201.3,2,  0.9085,    201.8,2,   113.34,2,    31.90,2,     0.00,2,     2.19,2, -999.000,9, -999.000,9,   -999.0,9,  -999.00,9,   2258.4,2,   1088.3,2,   2370.0,2,     7.61,2, -999.00,  -999.0, -999.00,  -999.0
    31DSCG96_2,  P15S,   109,  1,    106,   1262,2,19960217,1849,-33.9962,-169.9993, 5501,   -999,   4317.4,   1.0961,  34.7136,2,  34.7127,2,    203.7,2,  0.7539,    204.7,2,   117.15,2,    32.01,2,     0.00,2,     2.19,2, -999.000,9, -999.000,9,   -999.0,9,  -999.00,9,   -999.0,9,   -999.0,9,   -999.0,9,     7.61,2, -999.00,  -999.0, -999.00,  -999.0
    31DSCG96_2,  P15S,   109,  1,    105,   1264,2,19960217,1849,-33.9962,-169.9993, 5501,   -999,   4567.9,   1.0398,  34.7102,2,  34.7108,2,    204.8,2,  0.6713,    206.1,6,   119.42,2,    32.08,2,     0.00,2,     2.20,2,    0.015,2,    0.008,2,   -999.0,9,  -999.00,9,   2259.1,2,   1080.0,2,   2370.5,2,     7.61,3, -999.00,  -999.0, -999.00,  -999.0
    31DSCG96_2,  P15S,   109,  1,    104,   1003,2,19960217,1849,-33.9962,-169.9993, 5501,   -999,   4815.6,   1.0203,  34.7086,2,  34.7081,2,    206.6,2,  0.6238,    206.4,2,   120.91,2,    32.20,2,     0.00,2,     2.21,2,    0.021,2,    0.016,2,   -999.0,9,  -999.00,9,   -999.0,9,   -999.0,9,   -999.0,9,     7.61,2, -999.00,  -999.0, -999.00,  -999.0
    31DSCG96_2,  P15S,   109,  1,    103,    999,2,19960217,1849,-33.9962,-169.9993, 5501,   -999,   5062.1,   1.0288,  34.7077,2,  34.7078,2,    206.9,2,  0.6029,    214.1,3,   121.53,2,    32.19,2,     0.00,2,     2.20,2,    0.025,2,    0.010,2,   -999.0,9,  -999.00,9,   2259.4,2,   1081.6,2,   2375.7,2,     7.61,2, -999.00,  -999.0, -999.00,  -999.0
    31DSCG96_2,  P15S,   109,  1,    102,   1030,2,19960217,1849,-33.9962,-169.9993, 5501,   -999,   5314.2,   1.0525,  34.7073,2,  34.7079,2,    206.6,2,  0.5951,    206.8,2,   121.63,2,    32.18,2,     0.00,2,     2.21,2,    0.026,2,    0.015,2,   -999.0,9,  -999.00,9,   -999.0,9,   -999.0,9,   -999.0,9,     7.61,2, -999.00,  -999.0, -999.00,  -999.0
    31DSCG96_2,  P15S,   109,  1,    101,   1022,2,19960217,1849,-33.9962,-169.9993, 5501,   -999,   5639.6,   1.0916,  34.7068,2,  34.7083,2,    207.1,2,  0.5921,    206.9,2,   121.78,6,    32.22,6,     0.00,6,     2.21,6,    0.021,6,    0.013,6,   -999.0,9,  -999.00,9,   2260.0,2,   1088.3,2,   2375.1,2,     7.61,2, -999.00,  -999.0, -999.00,  -999.0