BOTTLE,20220811CCHSIOAMB
EXPOCODE,SECT_ID,STNNBR,CASTNO,SAMPNO,BTLNBR,BTLNBR_FLAG_W,DATE,TIME,LATITUDE,LONGITUDE,DEPTH,CTDRAW,CTDPRS,CTDTMP,CTDSAL,CTDSAL_FLAG_W,SALNTY,SALNTY_FLAG_W,CTDOXY,CTDOXY_FLAG_W,THETA,OXYGEN,OXYGEN_FLAG_W,SILCAT,SILCAT_FLAG_W,NITRAT,NITRAT_FLAG_W,NITRIT,NITRIT_FLAG_W,PHSPHT,PHSPHT_FLAG_W,CFC-11,CFC-11_FLAG_W,CFC-12,CFC-12_FLAG_W,DELC14,DELC14_FLAG_W,DELC13,DELC13_FLAG_W,TCARBN,TCARBN_FLAG_W,PCO2,PCO2_FLAG_W,ALKALI,ALKALI_FLAG_W,PH,PH_FLAG_W,PCO2TMP,C14ERR,PH_TMP,C13ERR
,,,,,,,,,,,,DBAR,DBAR,ITS-90,PSS-78,,PSS-78,,UMOL/KG,,DEG C,UMOL/KG,,UMOL/KG,,UMOL/KG,,UMOL/KG,,UMOL/KG,,PMOL/KG,,PMOL/KG,,/MILLE,,/MILLE,,UMOL/KG,,UATM,,UMOL/KG,,,,DEG C,/MILLE,DEG C,/MILLE
    31DSCG96_2,  P15S,   102,  1,    136,   1245,2,19960215,2306,-36.8715,-170.6163, 5254,   -999,      4.8,  20.1315,  35.1422,2,-999.0000,9,    228.7,2, 20.1307,    228.2,2,  -999.00,9,  -999.00,9,  -999.00,9,  -999.00,9,    2.370,2,    1.301,2,     85.0,2,  -999.00,9,   2038.0,2,    377.2,6,   -999.0,9,     8.00,2, -999.00,     3.1, -999.00,  -999.0
    31DSCG96_2,  P15S,   102,  1,    135,   1113,2,19960215,2306,-36.8715,-170.6163, 5254,   -999,     19.7,  19.8855,  35.1322,2,  35.1350,2,    228.8,2, 19.8819,    228.4,2,     1.28,2,     0.02,2,     0.00,2,     0.13,2,    2.381,2,    1.321,2,   -999.0,9,  -999.00,9,   -999.0,9,   -999.0,9,   -999.0,9,     7.99,2, -999.00,  -999.0, -999.00,  -999.0
    31DSCG96_2,  P15S,   102,  1,    134,   1119,2,19960215,2306,-36.8715,-170.6163, 5254,   -999,     45.0,  15.4755,  35.0143,2,  35.0181,2,    242.2,2, 15.4685,    266.3,2,     1.32,2,     0.02,2,     0.00,2,     0.14,2,    2.995,2,    1.618,2,   -999.0,9,  -999.00,9,   -999.0,9,   -999.0,9,   -999.0,9,     7.98,2, -999.00,  -999.0, -999.00,  -999.0
    31DSCG96_2,  P15S,   102,  1,    133,   1221,2,19960215,2306,-36.8715,-170.6163, 5254,   -999,     70.3,  13.3793,  34.9986,2,  34.9950,2,    263.2,2, 13.3695,    257.2,2,     1.58,2,     0.44,2,     0.05,2,     0.25,2,    3.187,2,    1.694,2,   -999.0,9,  -999.00,9,   -999.0,9,   -999.0,9,   -999.0,9,     7.94,2, -999.00,  -999.0, -999.00,  -999.0
    31DSCG96_2,  P15S,   102,  1,    132,   1039,2,19960215,2306,-36.8715,-170.6163, 5254,   -999,     97.3,  12.6011,  34.9777,2,  34.9750,2,    244.1,2, 12.5881,    243.5,2,     1.96,2,     4.51,2,     0.03,2,     0.44,2,    3.213,2,    1.688,2,   -999.0,9,  -999.00,9,   -999.0,9,   -999.0,9,   -999.0,9,     7.91,2, -999.00,  -999.0, -999.00,  -999.0
    31DSCG96_2,  P15S,   102,  1,    131,   1014,2,19960215,2306,-36.8715,-170.6163, 5254,   -999,    138.3,  12.0724,  34.9656,2,  34.9655,2,    237.1,2, 12.0544,    239.5,2,     2.56,2,     6.97,2,     0.01,2,     0.57,2,    3.213,2,    1.688,2,   -999.0,9,  -999.00,9,   -999.0,9,   -999.0,9,   -999.0,9,     7.88,3, -999.00,  -999.0, -999.00,  -999.0
    31DSCG96_2,  P15S,   102,  1,    130,   1257,2,19960215,2306,-36.8715,-170.6163, 5254,   -999,    188.6,  11.4992,  34.9463,2,  34.9425,2,    228.6,2, 11.4753,    225.8,2,     3.65,2,    10.72,2,     0.00,2,     0.78,2,    3.083,2,    1.600,2,   -999.0,9,  -999.00,9,   -999.0,9,   -999.0,9,   -999.0,9,     7.84,2, -999.00,  -999.0, -999.00,  -999.0
    31DSCG96_2,  P15S,   102,  1,    129,   1256,2,19960215,2306,-36.8715,-170.6163, 5254,   -999,    241.6,  10.6342,  34.8274,2,  34.8302,2,    221.2,2, 10.6050,    216.4,6,     4.71,2,    13.82,2,     0.00,2,     0.97,2,    2.921,2,    1.480,2,   -999.0,9,  -999.00,9,   -999.0,9,   -999.0,9,   -999.0,9,     7.81,2, -999.00,  -999.0, -999.00,  -999.0
    31DSCG96_2,  P15S,   102,  1,    128,   1007,2,19960215,2306,-36.8715,-170.6163, 5254,   -999,    293.6,   9.7623,  34.7168,2,  34.7215,2,    213.1,2,  9.7286,    206.8,2,     5.69,2,    16.73,2,     0.00,2,     1.15,2,    2.665,2,    1.362,2,   -999.0,9,  -999.00,9,   -999.0,9,   -999.0,9,   -999.0,9,     7.77,2, -999.00,  -999.0, -999.00,  -999.0
    31DSCG96_2,  P15S,   102,  1,    127,   1232,2,19960215,2306,-36.8715,-170.6163, 5254,   -999,    375.3,   8.7403,  34.5921,2,  34.5932,2,    210.2,2,  8.7000,    215.0,2,     6.43,2,    19.11,2,     0.00,2,     1.30,2,    2.565,2,    1.268,2,   -999.0,9,  -999.00,9,   -999.0,9,   -999.0,9,   -999.0,9,     7.75,2, -999.00,  -999.0, -999.00,  -999.0
    31DSCG96_2,  P15S,   102,  1,    126,   1025,2,19960215,2306,-36.8715,-170.6163, 5254,   -999,    474.4,   7.9670,  34.5095,2,  34.5109,2,    217.2,2,  7.9186,    222.0,2,     7.52,2,    20.92,2,     0.00,2,     1.41,2,    2.322,2,    1.156,2,   -999.0,9,  -999.00,9,   -999.0,9,   -999.0,9,   -999.0,9,     7.74,2, -999.00,  -999.0, -999.00,  -999.0
    31DSCG96_2,  P15S,   102,  1,    125,   1233,2,19960215,2306,-36.8715,-170.6163, 5254,   -999,    576.4,   7.3629,  34.4547,2,  34.4548,2,    223.2,2,  7.3064,    224.8,2,     8.69,2,    22.25,2,     0.00,2,     1.50,2,    1.739,2,    0.858,2,   -999.0,9,  -999.00,9,   -999.0,9,   -999.0,9,   -999.0,9,     7.73,2, -999.00,  -999.0, -999.00,  -999.0
    31DSCG96_2,  P15S,   102,  1,    124,   1013,2,19960215,2306,-36.8715,-170.6163, 5254,   -999,    676.1,   6.9851,  34.4341,2,  34.4331,2,    219.3,2,  6.9203,    219.1,2,    11.25,2,    23.71,2,     0.00,2,     1.60,2,    1.123,6,    0.567,6,   -999.0,9,  -999.00,9,   -999.0,9,   -999.0,9,   -999.0,9,     7.72,2, -999.00,  -999.0, -999.00,  -999.0
    31DSCG96_2,  P15S,   102,  1,    123,   1250,2,19960215,2306,-36.8715,-170.6163, 5254,   -999,    774.8,   6.4357,  34.3969,2,  34.3952,2,    213.2,2,  6.3641,    214.9,2,    14.50,2,    25.42,2,     0.00,2,     1.72,2,    0.779,2,    0.396,2,   -999.0,9,  -999.00,9,   -999.0,9,   -999.0,9,   -999.0,9,     7.70,2, -999.00,  -999.0, -999.00,  -999.0
    31DSCG96_2,  P15S,   102,  1,    122,   1265,2,19960215,2306,-36.8715,-170.6163, 5254,   -999,    876.0,   5.8751,  34.3752,2,  34.3750,2,    207.1,2,  5.7973,    208.3,2,    19.58,2,    27.30,2,     0.00,2,     1.84,2,    0.518,2,    0.274,2,   -999.0,9,  -999.00,9,   -999.0,9,   -999.0,9,   -999.0,9,     7.68,2, -999.00,  -999.0, -999.00,  -999.0
    31DSCG96_2,  P15S,   102,  1,    121,   1246,2,19960215,2306,-36.8715,-170.6163, 5254,   -999,    975.0,   5.2676,  34.3743,2,  34.3727,2,    200.1,2,  5.1848,    199.0,6,    27.21,2,    29.22,2,     0.00,2,     1.98,2,    0.301,2,    0.160,2,   -999.0,9,  -999.00,9,   -999.0,9,   -999.0,9,   -999.0,9,     7.65,2, -999.00,  -999.0, -999.00,  -999.0
    31DSCG96_2,  P15S,   102,  1,    120,   1015,2,19960215,2306,-36.8715,-170.6163, 5254,   -999,   1073.9,   4.6613,  34.3866,2,  34.3859,2,    192.1,2,  4.5742,    190.8,2,    36.35,2,    30.88,2,     0.00,2,     2.10,2,    0.189,2,    0.103,2,   -999.0,9,  -999.00,9,   -999.0,9,   -999.0,9,   -999.0,9,     7.63,2, -999.00,  -999.0, -999.00,  -999.0
    31DSCG96_2,  P15S,   102,  1,    119,   1247,2,19960215,2306,-36.8715,-170.6163, 5254,   -999,   1175.4,   4.2082,  34.4234,2,  34.4222,2,    182.7,2,  4.1160,    181.7,2,    47.40,2,    32.04,2,     0.00,2,     2.19,2,    0.098,2,    0.056,2,   -999.0,9,  -999.00,9,   -999.0,9,   -999.0,9,   -999.0,9,     7.62,2, -999.00,  -999.0, -999.00,  -999.0
    31DSCG96_2,  P15S,   102,  1,    118,   1222,2,19960215,2306,-36.8715,-170.6163, 5254,   -999,   1272.4,   3.6735,  34.4462,2,  34.4450,2,    177.5,2,  3.5780,    175.8,2,    56.92,2,    33.17,2,     0.00,2,     2.27,2,    0.049,2,    0.033,2,   -999.0,9,  -999.00,9,   -999.0,9,   -999.0,9,   -999.0,9,     7.60,2, -999.00,  -999.0, -999.00,  -999.0
    31DSCG96_2,  P15S,   102,  1,    117,   1267,2,19960215,2306,-36.8715,-170.6163, 5254,   -999,   1448.6,   3.2151,  34.5200,2,  34.5189,2,    165.8,2,  3.1093,    164.5,2,    75.46,2,    34.11,2,     0.00,2,     2.35,2,    0.020,2,    0.018,2,   -999.0,9,  -999.00,9,   -999.0,9,   -999.0,9,   -999.0,9,     7.59,2, -999.00,  -999.0, -999.00,  -999.0
    31DSCG96_2,  P15S,   102,  1,    116,   1211,2,19960215,2306,-36.8715,-170.6163, 5254,   -999,   1691.8,   2.7793,  34.5697,2,  34.5693,2,    157.4,2,  2.6581,    157.5,2,    90.56,2,    34.84,2,     0.00,2,     2.41,2,    0.010,2,    0.017,4,   -999.0,9,  -999.00,9,   -999.0,9,   -999.0,9,   -999.0,9,     7.58,2, -999.00,  -999.0, -999.00,  -999.0
    31DSCG96_2,  P15S,   102,  1,    115,   1041,2,19960215,2306,-36.8715,-170.6163, 5254,   -999,   1942.0,   2.4986,  34.6057,2,  34.6049,2,    152.3,2,  2.3597,    152.0,6,   103.08,2,    35.35,2,     0.00,2,     2.45,2,    0.002,2,    0.005,2,   -999.0,9,  -999.00,9,   -999.0,9,   -999.0,9,   -999.0,9,     7.58,2, -999.00,  -999.0, -999.00,  -999.0
    31DSCG96_2,  P15S,   102,  1,    114,   1017,2,19960215,2306,-36.8715,-170.6163, 5254,   -999,   2189.5,   2.3209,  34.6270,2,  34.6256,2,    150.1,2,  2.1630,    149.5,2,   111.41,2,    35.61,2,     0.00,2,     2.47,2,    0.002,2,    0.006,2,   -999.0,9,  -999.00,9,   -999.0,9,   -999.0,9,   -999.0,9,     7.57,2, -999.00,  -999.0, -999.00,  -999.0
    31DSCG96_2,  P15S,   102,  1,    113,   1302,2,19960215,2306,-36.8715,-170.6163, 5254,   -999,   2437.4,   2.1795,  34.6415,2,  34.6399,2,    149.4,2,  2.0016,    148.7,2,   117.12,2,    35.64,2,     0.00,2,     2.48,2,    0.001,2,    0.003,2,   -999.0,9,  -999.00,9,   -999.0,9,   -999.0,9,   -999.0,9,     7.57,2, -999.00,  -999.0, -999.00,  -999.0
    31DSCG96_2,  P15S,   102,  1,    112,   1217,2,19960215,2306,-36.8715,-170.6163, 5254,   -999,   2690.9,   2.0305,  34.6563,2,  34.6544,2,    151.4,2,  1.8319,    149.9,2,   121.34,2,    35.71,2,     0.00,2,     2.47,2,    0.003,2,    0.009,4,   -999.0,9,  -999.00,9,   -999.0,9,   -999.0,9,   -999.0,9,     7.57,2, -999.00,  -999.0, -999.00,  -999.0
    31DSCG96_2,  P15S,   102,  1,    111,   1114,2,19960215,2306,-36.8715,-170.6163, 5254,   -999,   2938.5,   1.8944,  34.6763,2,  34.6749,2,    158.3,2,  1.6748,    158.2,2,   119.78,2,    34.93,2,     0.00,2,     2.42,2,    0.000,2,    0.002,2,   -999.0,9,  -999.00,9,   -999.0,9,   -999.0,9,   -999.0,9,     7.58,2, -999.00,  -999.0, -999.00,  -999.0
    31DSCG96_2,  P15S,   102,  1,    110,   1301,2,19960215,2306,-36.8715,-170.6163, 5254,   -999,   3187.2,   1.7629,  34.7029,2,  34.7016,2,    173.1,2,  1.5218,    174.8,2,   111.52,2,    33.38,2,     0.00,2,     2.29,2,    0.000,2,    0.004,2,   -999.0,9,  -999.00,9,   -999.0,9,   -999.0,9,   -999.0,9,     7.59,2, -999.00,  -999.0, -999.00,  -999.0
    31DSCG96_2,  P15S,   102,  1,    109,   1242,2,19960215,2306,-36.8715,-170.6163, 5254,   -999,   3440.6,   1.6155,  34.7168,2,  34.7160,2,    186.2,2,  1.3523,    187.1,2,   108.34,2,    32.46,2,     0.00,2,     2.22,2,    0.003,2,    0.003,2,   -999.0,9,  -999.00,9,   -999.0,9,   -999.0,9,   -999.0,9,     7.60,2, -999.00,  -999.0, -999.00,  -999.0
    31DSCG96_2,  P15S,   102,  1,    108,   1227,2,19960215,2306,-36.8715,-170.6163, 5254,   -999,   3688.7,   1.4317,  34.7211,2,  34.7197,2,    195.1,2,  1.1475,    195.3,2,   109.62,2,    32.03,2,     0.00,2,     2.19,2,    0.005,2,    0.017,4,   -999.0,9,  -999.00,9,   -999.0,9,   -999.0,9,   -999.0,9,     7.61,2, -999.00,  -999.0, -999.00,  -999.0
    31DSCG96_2,  P15S,   102,  1,    107,   1208,2,19960215,2306,-36.8715,-170.6163, 5254,   -999,   3940.4,   1.2600,  34.7198,2,  34.7189,2,    200.8,2,  0.9540,    201.0,2,   112.60,2,    31.93,2,     0.00,2,     2.18,2,    0.012,2,    0.008,2,   -999.0,9,  -999.00,9,   -999.0,9,   -999.0,9,   -999.0,9,     7.61,2, -999.00,  -999.0, -999.00,  -999.0
    31DSCG96_2,  P15S,   102,  1,    106,   1262,2,19960215,2306,-36.8715,-170.6163, 5254,   -999,   4189.5,   1.1458,  34.7156,2,  34.7155,2,    203.6,2,  0.8162,    203.8,2,   115.90,2,    32.04,2,     0.00,2,     2.18,2,    0.010,2,    0.011,2,   -999.0,9,  -999.00,9,   -999.0,9,   -999.0,9,   -999.0,9,     7.61,2, -999.00,  -999.0, -999.00,  -999.0
    31DSCG96_2,  P15S,   102,  1,    105,   1264,2,19960215,2306,-36.8715,-170.6163, 5254,   -999,   4440.0,   1.0741,  34.7123,2,  34.7108,2,    205.2,2,  0.7189,    205.3,6,   118.52,2,    32.13,2,     0.00,2,     2.19,2,    0.013,2,    0.009,2,   -999.0,9,  -999.00,9,   -999.0,9,   -999.0,9,   -999.0,9,     7.61,2, -999.00,  -999.0, -999.00,  -999.0
    31DSCG96_2,  P15S,   102,  1,    104,   1003,2,19960215,2306,-36.8715,-170.6163, 5254,   -999,   4690.4,   1.0415,  34.7100,2,  34.7097,2,    206.2,2,  0.6588,    205.9,2,   120.21,2,    32.24,2,     0.00,2,     2.20,2,    0.024,2,    0.026,4,   -999.0,9,  -999.00,9,   -999.0,9,   -999.0,9,   -999.0,9,     7.61,2, -999.00,  -999.0, -999.00,  -999.0
    31DSCG96_2,  P15S,   102,  1,    103,    999,2,19960215,2306,-36.8715,-170.6163, 5254,   -999,   4940.8,   1.0314,  34.7082,2,  34.7083,2,    206.9,2,  0.6199,    206.2,2,   121.30,2,    32.28,2,     0.00,2,     2.20,2,    0.026,2,    0.012,4,   -999.0,9,  -999.00,9,   -999.0,9,   -999.0,9,   -999.0,9,     7.61,2, -999.00,  -999.0, -999.00,  -999.0
    31DSCG96_2,  P15S,   102,  1,    102,   1030,2,19960215,2306,-36.8715,-170.6163, 5254,   -999,   5192.0,   1.0422,  34.7075,2,  34.7067,2,    207.2,2,  0.6002,    207.0,2,   121.85,2,    32.26,2,     0.00,2,     2.21,2,    0.031,6,    0.018,6,   -999.0,9,  -999.00,9,   -999.0,9,   -999.0,9,   -999.0,9,     7.61,2, -999.00,  -999.0, -999.00,  -999.0
    31DSCG96_2,  P15S,   102,  1,    101,   1022,2,19960215,2306,-36.8715,-170.6163, 5254,   -999,   5382.9,   1.0556,  34.7068,2,  34.7066,2,    207.5,2,  0.5896,    207.2,2,   122.18,6,    32.32,6,     0.00,6,     2.21,2,    0.036,2,    0.020,2,   -999.0,9,  -999.00,9,   -999.0,9,   -999.0,9,   -999.0,9,     7.61,2, -999.00,  -999.0, -999.00,  -999.0