BOTTLE,20220811CCHSIOAMB
EXPOCODE,SECT_ID,STNNBR,CASTNO,SAMPNO,BTLNBR,BTLNBR_FLAG_W,DATE,TIME,LATITUDE,LONGITUDE,DEPTH,CTDRAW,CTDPRS,CTDTMP,CTDSAL,CTDSAL_FLAG_W,SALNTY,SALNTY_FLAG_W,CTDOXY,CTDOXY_FLAG_W,THETA,OXYGEN,OXYGEN_FLAG_W,SILCAT,SILCAT_FLAG_W,NITRAT,NITRAT_FLAG_W,NITRIT,NITRIT_FLAG_W,PHSPHT,PHSPHT_FLAG_W,CFC-11,CFC-11_FLAG_W,CFC-12,CFC-12_FLAG_W,DELC14,DELC14_FLAG_W,DELC13,DELC13_FLAG_W,TCARBN,TCARBN_FLAG_W,PCO2,PCO2_FLAG_W,ALKALI,ALKALI_FLAG_W,PH,PH_FLAG_W,PCO2TMP,C14ERR,PH_TMP,C13ERR
,,,,,,,,,,,,DBAR,DBAR,ITS-90,PSS-78,,PSS-78,,UMOL/KG,,DEG C,UMOL/KG,,UMOL/KG,,UMOL/KG,,UMOL/KG,,UMOL/KG,,PMOL/KG,,PMOL/KG,,/MILLE,,/MILLE,,UMOL/KG,,UATM,,UMOL/KG,,,,DEG C,/MILLE,DEG C,/MILLE
    31DSCG96_1,  P15S,    34,  1,    133,   1221,2,19960118,1930,-66.3387,-169.9995, 3430,   -999,      8.6,  -0.3824,  33.9541,2,  33.9563,2,    342.7,2, -0.3826,    345.1,2,    67.23,2,    27.27,2,     0.15,2,     1.69,4, -999.000,9, -999.000,9,   -999.0,9,  -999.00,9,   2170.9,2,    848.8,2,   2302.5,2,     7.68,2, -999.00,  -999.0, -999.00,  -999.0
    31DSCG96_1,  P15S,    34,  1,    134,   1224,2,19960118,1930,-66.3387,-169.9995, 3430,   -999,      8.9,  -0.3846,  33.9541,2,  33.9558,2,    342.7,2, -0.3848,    345.3,2,    67.24,2,    27.27,2,     0.15,2,     1.69,4, -999.000,9, -999.000,9,   -121.3,2,  -999.00,9,   -999.0,9,   -999.0,9,   -999.0,9,     7.68,2, -999.00,     2.5, -999.00,  -999.0
    31DSCG96_1,  P15S,    34,  1,    132,   1039,2,19960118,1930,-66.3387,-169.9995, 3430,   -999,     20.2,  -0.3859,  33.9544,2,  33.9570,2,    347.9,2, -0.3865,    345.2,2,    67.37,2,    27.33,2,     0.15,2,     1.70,4, -999.000,9, -999.000,9,   -999.0,9,  -999.00,9,   -999.0,9,   -999.0,9,   -999.0,9,     7.68,2, -999.00,  -999.0, -999.00,  -999.0
    31DSCG96_1,  P15S,    34,  1,    131,   1042,2,19960118,1930,-66.3387,-169.9995, 3430,   -999,     43.7,  -0.4053,  33.9592,2,  33.9621,2,    346.1,2, -0.4066,    345.4,2,    67.15,2,    27.32,2,     0.15,2,     1.71,4, -999.000,9, -999.000,9,   -999.0,9,  -999.00,9,   2172.0,2,    862.4,2,   2304.5,2,     7.68,2, -999.00,  -999.0, -999.00,  -999.0
    31DSCG96_1,  P15S,    34,  1,    130,   1257,2,19960118,1930,-66.3387,-169.9995, 3430,   -999,     71.7,  -1.1654,  34.0214,2,  34.0223,2,    318.2,2, -1.1671,    333.6,2,    68.31,2,    27.78,2,     0.10,2,     1.79,4, -999.000,9, -999.000,9,   -999.0,9,  -999.00,9,   -999.0,9,   -999.0,9,   -999.0,9,     7.67,2, -999.00,  -999.0, -999.00,  -999.0
    31DSCG96_1,  P15S,    34,  1,    129,   1256,2,19960118,1930,-66.3387,-169.9995, 3430,   -999,     93.7,  -1.5947,  34.1221,2,  34.1256,2,    305.4,2, -1.5967,    304.5,2,    70.45,2,    28.97,2,     0.07,2,     1.96,4, -999.000,9, -999.000,9,   -999.0,9,  -999.00,9,   2193.3,2,    952.4,2,   2312.9,2,     7.65,2, -999.00,  -999.0, -999.00,  -999.0
    31DSCG96_1,  P15S,    34,  1,    128,   1007,2,19960118,1930,-66.3387,-169.9995, 3430,   -999,    119.0,  -1.3745,  34.2272,2,  34.2320,2,    275.1,2, -1.3774,    280.7,2,    73.75,2,    30.19,2,     0.10,2,     2.01,4, -999.000,9, -999.000,9,   -999.0,9,  -999.00,9,   -999.0,9,   -999.0,9,   -999.0,9,     7.62,2, -999.00,  -999.0, -999.00,  -999.0
    31DSCG96_1,  P15S,    34,  1,    127,   1234,2,19960118,1930,-66.3387,-169.9995, 3430,   -999,    143.6,  -0.4204,  34.3945,2,  34.3913,2,    243.1,2, -0.4250,    245.0,2,    80.37,2,    31.57,2,     0.03,2,     2.08,4, -999.000,9, -999.000,9,   -999.0,9,  -999.00,9,   2230.4,2,   1089.3,3,   2328.8,2,     7.60,2, -999.00,  -999.0, -999.00,  -999.0
    31DSCG96_1,  P15S,    34,  1,    126,   1025,2,19960118,1930,-66.3387,-169.9995, 3430,   -999,    170.7,   0.4191,  34.5376,2,  34.5353,2,    210.1,2,  0.4123,    216.0,2,    86.72,2,    32.47,2,     0.01,2,     2.14,4, -999.000,9, -999.000,9,   -999.0,9,  -999.00,9,   -999.0,9,   -999.0,9,   -999.0,9,     7.58,2, -999.00,  -999.0, -999.00,  -999.0
    31DSCG96_1,  P15S,    34,  1,    125,   1233,2,19960118,1930,-66.3387,-169.9995, 3430,   -999,    194.4,   0.9713,  34.6319,2,  34.6327,2,    195.2,2,  0.9625,    197.2,6,    91.13,2,    32.92,2,     0.01,2,     2.17,4, -999.000,9, -999.000,9,   -999.0,9,  -999.00,9,   2250.1,2,   1165.3,2,   2344.2,2,     7.57,2, -999.00,  -999.0, -999.00,  -999.0
    31DSCG96_1,  P15S,    34,  1,    124,   1218,2,19960118,1930,-66.3387,-169.9995, 3430,   -999,    220.7,   1.2117,  34.6749,2,  34.6751,2,    189.3,2,  1.2012,    190.2,2,    93.78,2,    32.94,2,     0.01,2,     2.17,4, -999.000,9, -999.000,9,   -999.0,9,  -999.00,9,   -999.0,9,   -999.0,9,   -999.0,9,     7.57,2, -999.00,  -999.0, -999.00,  -999.0
    31DSCG96_1,  P15S,    34,  1,    123,   1250,2,19960118,1930,-66.3387,-169.9995, 3430,   -999,    242.9,   1.3053,  34.6936,2,  34.6927,2,    188.1,2,  1.2935,    187.7,2,    94.84,2,    32.84,2,     0.00,2,     2.17,4, -999.000,9, -999.000,9,   -999.0,9,  -999.00,9,   2254.3,2,   1145.0,2,   2351.1,2,     7.58,2, -999.00,  -999.0, -999.00,  -999.0
    31DSCG96_1,  P15S,    34,  1,    122,   1109,2,19960118,1930,-66.3387,-169.9995, 3430,   -999,    289.7,   1.3611,  34.7126,2,  34.7131,2,    186.1,2,  1.3469,    187.3,2,    96.97,2,    32.64,2,     0.00,2,     2.14,4, -999.000,9, -999.000,9,   -999.0,9,  -999.00,9,   -999.0,9,   -999.0,9,   -999.0,9,     7.58,2, -999.00,  -999.0, -999.00,  -999.0
    31DSCG96_1,  P15S,    34,  1,    121,   1246,2,19960118,1930,-66.3387,-169.9995, 3430,   -999,    340.7,   1.3506,  34.7227,2,  34.7237,2,    186.5,2,  1.3337,    187.1,2,   100.44,2,    32.60,2,     0.00,2,     2.14,4, -999.000,9, -999.000,9,   -999.0,9,  -999.00,9,   2255.9,2,   1150.1,2,   2356.1,2,     7.58,2, -999.00,  -999.0, -999.00,  -999.0
    31DSCG96_1,  P15S,    34,  1,    120,   1015,2,19960118,1930,-66.3387,-169.9995, 3430,   -999,    388.4,   1.3123,  34.7243,2,  34.7242,2,    186.9,2,  1.2930,    188.2,2,   101.78,2,    32.54,2,     0.00,2,     2.14,4, -999.000,9, -999.000,9,   -999.0,9,  -999.00,9,   -999.0,9,   -999.0,9,   -999.0,9,     7.58,2, -999.00,  -999.0, -999.00,  -999.0
    31DSCG96_1,  P15S,    34,  1,    119,   1247,2,19960118,1930,-66.3387,-169.9995, 3430,   -999,    440.3,   1.2989,  34.7263,2,  34.7271,2,    188.8,2,  1.2769,    187.8,6,   103.33,2,    32.55,2,     0.00,2,     2.13,4, -999.000,9, -999.000,9,   -999.0,9,  -999.00,9,   2256.1,2,   -999.0,9,   2356.5,2,     7.59,2, -999.00,  -999.0, -999.00,  -999.0
    31DSCG96_1,  P15S,    34,  1,    118,   1222,2,19960118,1930,-66.3387,-169.9995, 3430,   -999,    491.2,   1.2415,  34.7245,2,  34.7249,2,    190.1,2,  1.2169,    189.4,2,   104.55,2,    32.54,2,     0.00,2,     2.14,4, -999.000,9, -999.000,9,   -999.0,9,  -999.00,9,   -999.0,9,   -999.0,9,   -999.0,9,     7.59,2, -999.00,  -999.0, -999.00,  -999.0
    31DSCG96_1,  P15S,    34,  1,    117,   1267,2,19960118,1930,-66.3387,-169.9995, 3430,   -999,    573.2,   1.1781,  34.7235,2,  34.7240,2,    192.1,2,  1.1493,    192.3,2,   106.14,2,    32.44,2,     0.00,2,     2.13,4, -999.000,9, -999.000,9,   -999.0,9,  -999.00,9,   2255.2,2,   1133.4,2,   2358.9,2,     7.59,2, -999.00,  -999.0, -999.00,  -999.0
    31DSCG96_1,  P15S,    34,  1,    116,   1211,2,19960118,1930,-66.3387,-169.9995, 3430,   -999,    671.2,   1.1003,  34.7212,2,  34.7213,2,    194.8,2,  1.0665,    195.6,2,   107.72,2,    32.33,2,     0.00,2,     2.12,4, -999.000,9, -999.000,9,   -999.0,9,  -999.00,9,   -999.0,9,   -999.0,9,   -999.0,9,     7.60,2, -999.00,  -999.0, -999.00,  -999.0
    31DSCG96_1,  P15S,    34,  1,    115,   1041,2,19960118,1930,-66.3387,-169.9995, 3430,   -999,    773.9,   1.0314,  34.7197,2,  34.7202,2,    198.1,2,  0.9921,    198.6,2,   110.09,2,    32.36,2,     0.00,2,     2.14,4, -999.000,9, -999.000,9,   -999.0,9,  -999.00,9,   2256.5,2,   -999.0,9,   2362.2,2,     7.60,2, -999.00,  -999.0, -999.00,  -999.0
    31DSCG96_1,  P15S,    34,  1,    114,   1017,2,19960118,1930,-66.3387,-169.9995, 3430,   -999,    874.0,   0.9707,  34.7178,2,  34.7184,2,    199.5,2,  0.9260,    198.8,2,   112.04,2,    32.35,2,     0.00,2,     2.15,4, -999.000,9, -999.000,9,   -999.0,9,  -999.00,9,   -999.0,9,   -999.0,9,   -999.0,9,     7.60,2, -999.00,  -999.0, -999.00,  -999.0
    31DSCG96_1,  P15S,    34,  1,    113,   1008,2,19960118,1930,-66.3387,-169.9995, 3430,   -999,    976.5,   0.9046,  34.7156,2,  34.7157,2,    200.7,2,  0.8543,    200.4,6,   114.20,6,    32.37,6,     0.00,6,     2.16,4, -999.000,9, -999.000,9,   -999.0,9,  -999.00,9,   2257.1,2,   1098.3,2,   2362.5,2,     7.60,2, -999.00,  -999.0, -999.00,  -999.0
    31DSCG96_1,  P15S,    34,  1,    112,   1217,2,19960118,1930,-66.3387,-169.9995, 3430,   -999,   1074.8,   0.8396,  34.7128,2,  34.7132,2,    202.5,2,  0.7840,    201.8,2,   116.27,2,    32.44,2,     0.00,2,     2.20,2, -999.000,9, -999.000,9,   -999.0,9,  -999.00,9,   -999.0,9,   -999.0,9,   -999.0,9,     7.60,2, -999.00,  -999.0, -999.00,  -999.0
    31DSCG96_1,  P15S,    34,  1,    111,   1114,2,19960118,1930,-66.3387,-169.9995, 3430,   -999,   1213.9,   0.7578,  34.7096,2,  34.7130,3,    204.1,2,  0.6944,    203.4,2,   118.70,2,    32.52,2,     0.00,2,     2.20,2, -999.000,9, -999.000,9,   -999.0,9,  -999.00,9,   2257.7,2,   -999.0,9,   -999.0,5,     7.60,2, -999.00,  -999.0, -999.00,  -999.0
    31DSCG96_1,  P15S,    34,  1,    110,   1036,2,19960118,1930,-66.3387,-169.9995, 3430,   -999,   1439.2,   0.6523,  34.7063,2,  34.7058,2,    206.2,2,  0.5755,    205.7,2,   121.96,2,    32.62,2,     0.00,2,     2.21,2, -999.000,9, -999.000,9,   -999.0,9,  -999.00,9,   -999.0,9,   -999.0,9,   -999.0,9,  -999.00,9, -999.00,  -999.0, -999.00,  -999.0
    31DSCG96_1,  P15S,    34,  1,    109,   1216,2,19960118,1930,-66.3387,-169.9995, 3430,   -999,   1690.3,   0.5493,  34.7038,2,  34.7039,2,    208.3,2,  0.4570,    207.5,2,   125.31,2,    32.77,2,     0.00,2,     2.22,2, -999.000,9, -999.000,9,   -999.0,9,  -999.00,9,   2260.8,2,   1109.0,2,   2365.6,2,     7.60,2, -999.00,  -999.0, -999.00,  -999.0
    31DSCG96_1,  P15S,    34,  1,    108,   1263,2,19960118,1930,-66.3387,-169.9995, 3430,   -999,   1937.8,   0.4494,  34.7024,2,  34.7033,2,    209.6,2,  0.3410,    209.6,2,   126.83,2,    32.70,2,     0.00,2,     2.22,2, -999.000,9, -999.000,9,   -999.0,9,  -999.00,9,   -999.0,9,   -999.0,9,   -999.0,9,     7.60,2, -999.00,  -999.0, -999.00,  -999.0
    31DSCG96_1,  P15S,    34,  1,    107,   1245,2,19960118,1930,-66.3387,-169.9995, 3430,   -999,   2188.9,   0.3567,  34.7011,2,  34.7000,2,    212.6,2,  0.2314,    211.9,6,   127.64,2,    32.64,2,     0.00,2,     2.22,2,    0.192,6,    0.105,6,   -999.0,9,  -999.00,9,   2260.4,2,   -999.0,9,   2364.3,2,     7.60,3, -999.00,  -999.0, -999.00,  -999.0
    31DSCG96_1,  P15S,    34,  1,    106,   1262,2,19960118,1930,-66.3387,-169.9995, 3430,   -999,   2441.0,   0.2722,  34.6987,2,  34.6982,2,    215.1,2,  0.1289,    215.2,2,   125.51,2,    32.50,2,     0.00,2,     2.21,2,    0.341,2,    0.177,2,   -999.0,9,  -999.00,9,   -999.0,9,   -999.0,9,   -999.0,9,     7.60,2, -999.00,  -999.0, -999.00,  -999.0
    31DSCG96_1,  P15S,    34,  1,    105,   1113,2,19960118,1930,-66.3387,-169.9995, 3430,   -999,   2686.2,   0.2186,  34.6979,2,  34.6971,2,    217.7,2,  0.0567,    217.9,2,   123.91,2,    32.50,2,     0.00,2,     2.21,2,    0.485,2,    0.235,2,   -999.0,9,  -999.00,9,   2257.3,2,   1103.8,2,   2355.1,2,     7.60,3, -999.00,  -999.0, -999.00,  -999.0
    31DSCG96_1,  P15S,    34,  1,    103,   9999,2,19960118,1930,-66.3387,-169.9995, 3430,   -999,   2941.1,   0.2105,  34.6977,2,  34.6973,2,    218.5,2,  0.0273,    218.2,2,   123.30,2,    32.43,2,     0.00,2,     2.21,2,    0.546,6,    0.308,6,   -999.0,9,  -999.00,9,   2258.6,2,   -999.0,9,   2361.9,2,     7.60,2, -999.00,  -999.0, -999.00,  -999.0
    31DSCG96_1,  P15S,    34,  1,    104,   1003,2,19960118,1930,-66.3387,-169.9995, 3430,   -999,   2941.3,   0.2113,  34.6974,2,  34.6967,2,    218.5,2,  0.0280,    217.9,2,   123.59,2,    32.49,2,     0.00,2,     2.22,2,    0.539,2,    0.265,2,   -999.0,9,  -999.00,9,   -999.0,9,   -999.0,9,   -999.0,9,     7.60,2, -999.00,  -999.0, -999.00,  -999.0
    31DSCG96_1,  P15S,    34,  1,    102,   1027,2,19960118,1930,-66.3387,-169.9995, 3430,   -999,   3183.0,   0.2187,  34.6976,2,  34.6968,2,    219.1,2,  0.0141,    218.6,2,   123.13,2,    32.41,2,     0.00,2,     2.20,2,    0.563,2,    0.288,2,   -999.0,9,  -999.00,9,   -999.0,9,   -999.0,9,   -999.0,9,     7.60,2, -999.00,  -999.0, -999.00,  -999.0
    31DSCG96_1,  P15S,    34,  1,    101,   1022,2,19960118,1930,-66.3387,-169.9995, 3430,   -999,   3429.5,   0.2357,  34.6973,2,  34.6969,2,    219.3,2,  0.0082,    219.4,2,   123.37,6,    32.47,6,     0.00,6,     2.20,2,    0.584,6,    0.287,6,   -999.0,9,  -999.00,9,   2256.6,2,   1120.0,2,   2360.3,2,     7.60,2, -999.00,  -999.0, -999.00,  -999.0