BOTTLE,20220811CCHSIOAMB
EXPOCODE,SECT_ID,STNNBR,CASTNO,SAMPNO,BTLNBR,BTLNBR_FLAG_W,DATE,TIME,LATITUDE,LONGITUDE,DEPTH,CTDRAW,CTDPRS,CTDTMP,CTDSAL,CTDSAL_FLAG_W,SALNTY,SALNTY_FLAG_W,CTDOXY,CTDOXY_FLAG_W,THETA,OXYGEN,OXYGEN_FLAG_W,SILCAT,SILCAT_FLAG_W,NITRAT,NITRAT_FLAG_W,NITRIT,NITRIT_FLAG_W,PHSPHT,PHSPHT_FLAG_W,CFC-11,CFC-11_FLAG_W,CFC-12,CFC-12_FLAG_W,DELC14,DELC14_FLAG_W,DELC13,DELC13_FLAG_W,TCARBN,TCARBN_FLAG_W,PCO2,PCO2_FLAG_W,ALKALI,ALKALI_FLAG_W,PH,PH_FLAG_W,PCO2TMP,C14ERR,PH_TMP,C13ERR
,,,,,,,,,,,,DBAR,DBAR,ITS-90,PSS-78,,PSS-78,,UMOL/KG,,DEG C,UMOL/KG,,UMOL/KG,,UMOL/KG,,UMOL/KG,,UMOL/KG,,PMOL/KG,,PMOL/KG,,/MILLE,,/MILLE,,UMOL/KG,,UATM,,UMOL/KG,,,,DEG C,/MILLE,DEG C,/MILLE
    31DSCG96_1,  P14S,    23,  1,    124,    429,2,19960114,0856,-61.4998, 174.0035, 5037,   -999,      6.2,   3.5413,  33.9159,2,  33.9172,2,    322.0,2,  3.5409,    324.8,2,     0.91,2,    23.02,2,     0.24,2,     1.42,2,    5.459,2,    2.734,2,   -999.0,9,  -999.00,9,   -999.0,9,   -999.0,9,   -999.0,9,     7.78,2, -999.00,  -999.0, -999.00,  -999.0
    31DSCG96_1,  P14S,    23,  1,    123,    428,2,19960114,0856,-61.4998, 174.0035, 5037,   -999,     28.2,   3.5175,  33.9166,2,  33.9174,2,    325.2,2,  3.5157,    324.7,2,     1.00,6,    23.02,6,     0.25,6,     1.41,2,    5.511,2,    2.765,2,   -999.0,9,  -999.00,9,   -999.0,9,   -999.0,9,   -999.0,9,     7.78,2, -999.00,  -999.0, -999.00,  -999.0
    31DSCG96_1,  P14S,    23,  1,    122,    407,2,19960114,0856,-61.4998, 174.0035, 5037,   -999,     64.2,   3.4853,  33.9171,2,  33.9187,2,    323.4,2,  3.4812,    323.8,2,     1.11,6,    23.09,6,     0.24,6,     1.46,2,    5.406,2,    2.736,2,   -999.0,9,  -999.00,9,   -999.0,9,   -999.0,9,   -999.0,9,     7.78,2, -999.00,  -999.0, -999.00,  -999.0
    31DSCG96_1,  P14S,    23,  1,    121,    417,2,19960114,0856,-61.4998, 174.0035, 5037,   -999,    114.6,   2.8103,  33.9687,2,  33.9677,2,    316.0,2,  2.8036,    308.4,2,    11.53,6,    25.86,6,     0.19,6,     1.73,6,    5.280,2,    2.621,2,   -999.0,9,  -999.00,9,   -999.0,9,   -999.0,9,   -999.0,9,     7.73,2, -999.00,  -999.0, -999.00,  -999.0
    31DSCG96_1,  P14S,    23,  1,    120,    405,2,19960114,0856,-61.4998, 174.0035, 5037,   -999,    165.8,   2.7730,  34.0225,2,  34.0229,2,    304.1,2,  2.7633,    297.8,2,    16.19,2,    27.03,2,     0.18,2,     1.78,2,    4.897,2,    2.427,2,   -999.0,9,  -999.00,9,   -999.0,9,   -999.0,9,   -999.0,9,     7.71,2, -999.00,  -999.0, -999.00,  -999.0
    31DSCG96_1,  P14S,    23,  1,    119,    416,2,19960114,0856,-61.4998, 174.0035, 5037,   -999,    224.4,   2.4408,  34.0318,2,  34.0263,2,    303.9,2,  2.4281,    303.8,2,    17.68,2,    27.55,2,     0.16,2,     1.80,2,    5.065,2,    2.523,2,   -999.0,9,  -999.00,9,   -999.0,9,   -999.0,9,   -999.0,9,     7.70,2, -999.00,  -999.0, -999.00,  -999.0
    31DSCG96_1,  P14S,    23,  1,    118,    420,2,19960114,0856,-61.4998, 174.0035, 5037,   -999,    322.4,   2.9637,  34.1984,2,  34.1938,2,    237.1,2,  2.9438,    243.8,2,    31.66,2,    31.07,2,     0.01,2,     2.03,2,    3.151,2,    1.484,2,   -999.0,9,  -999.00,9,   -999.0,9,   -999.0,9,   -999.0,9,     7.64,2, -999.00,  -999.0, -999.00,  -999.0
    31DSCG96_1,  P14S,    23,  1,    117,    424,2,19960114,0856,-61.4998, 174.0035, 5037,   -999,    425.6,   2.6670,  34.2745,2,  34.2743,2,    220.0,2,  2.6413,    221.2,2,    43.08,2,    32.96,2,     0.01,2,     2.17,2,    2.259,2,    1.067,2,   -999.0,9,  -999.00,9,   -999.0,9,   -999.0,9,   -999.0,9,     7.60,2, -999.00,  -999.0, -999.00,  -999.0
    31DSCG96_1,  P14S,    23,  1,    116,    409,2,19960114,0856,-61.4998, 174.0035, 5037,   -999,    524.9,   2.5387,  34.3475,2,  34.3481,2,    205.4,2,  2.5071,    204.0,2,    52.25,2,    33.97,2,     0.00,2,     2.24,2,    1.598,2,    0.761,2,   -999.0,9,  -999.00,9,   -999.0,9,   -999.0,9,   -999.0,9,     7.58,2, -999.00,  -999.0, -999.00,  -999.0
    31DSCG96_1,  P14S,    23,  1,    115,    413,4,19960114,0856,-61.4998, 174.0035, 5037,   -999,    603.0,   2.5344,  34.4144,2,-999.0000,9,    191.1,2,  2.4976,   -999.0,9,  -999.00,9,  -999.00,9,  -999.00,9,  -999.00,9, -999.000,9, -999.000,9,   -999.0,9,  -999.00,9,   -999.0,9,   -999.0,9,   -999.0,9,  -999.00,9, -999.00,  -999.0, -999.00,  -999.0
    31DSCG96_1,  P14S,    23,  1,    114,    419,2,19960114,0856,-61.4998, 174.0035, 5037,   -999,    724.7,   2.4953,  34.4915,2,  34.4918,2,    180.8,2,  2.4506,    180.7,2,    66.11,2,    34.48,2,     0.00,2,     2.28,2,    0.691,2,    0.327,2,   -999.0,9,  -999.00,9,   -999.0,9,   -999.0,9,   -999.0,9,     7.56,2, -999.00,  -999.0, -999.00,  -999.0
    31DSCG96_1,  P14S,    23,  1,    113,    434,2,19960114,0856,-61.4998, 174.0035, 5037,   -999,    849.9,   2.4468,  34.5546,2,  34.5548,2,    176.5,2,  2.3937,    176.1,2,    71.07,2,    34.16,2,     0.01,2,     2.27,2,    0.423,2,    0.206,2,   -999.0,9,  -999.00,9,   -999.0,9,   -999.0,9,   -999.0,9,     7.57,2, -999.00,  -999.0, -999.00,  -999.0
    31DSCG96_1,  P14S,    23,  1,    112,    404,2,19960114,0856,-61.4998, 174.0035, 5037,   -999,   1100.1,   2.3147,  34.6462,2,  34.6452,2,    176.4,2,  2.2447,    176.7,2,    77.43,2,    33.18,2,     0.00,2,     2.19,2, -999.000,5, -999.000,5,   -999.0,9,  -999.00,9,   -999.0,9,   -999.0,9,   -999.0,9,     7.58,2, -999.00,  -999.0, -999.00,  -999.0
    31DSCG96_1,  P14S,    23,  1,    111,    427,2,19960114,0856,-61.4998, 174.0035, 5037,   -999,   1500.6,   2.0962,  34.7176,2,  34.7175,2,    185.3,2,  1.9984,    187.2,2,    83.74,2,    31.69,2,     0.00,2,     2.10,2,    0.125,2,    0.055,2,   -999.0,9,  -999.00,9,   -999.0,9,   -999.0,9,   -999.0,9,     7.60,2, -999.00,  -999.0, -999.00,  -999.0
    31DSCG96_1,  P14S,    23,  1,    110,    401,2,19960114,0856,-61.4998, 174.0035, 5037,   -999,   1900.9,   1.8297,  34.7396,2,  34.7386,2,    192.9,2,  1.7036,    193.3,2,    91.29,2,    31.08,2,     0.00,2,     2.06,2,    0.081,2,    0.036,2,   -999.0,9,  -999.00,9,   -999.0,9,   -999.0,9,   -999.0,9,     7.61,2, -999.00,  -999.0, -999.00,  -999.0
    31DSCG96_1,  P14S,    23,  1,    109,    435,2,19960114,0856,-61.4998, 174.0035, 5037,   -999,   2299.5,   1.5107,  34.7372,2,  34.7362,2,    197.8,2,  1.3565,    199.6,2,   100.35,2,    31.30,2,     0.00,2,     2.07,2,    0.053,2,    0.024,2,   -999.0,9,  -999.00,9,   -999.0,9,   -999.0,9,   -999.0,9,  -999.00,9, -999.00,  -999.0, -999.00,  -999.0
    31DSCG96_1,  P14S,    23,  1,    108,    440,2,19960114,0856,-61.4998, 174.0035, 5037,   -999,   2700.6,   1.2430,  34.7272,2,  34.7261,2,    201.5,2,  1.0589,    202.1,2,   108.35,2,    31.66,2,     0.00,2,     2.10,2,    0.072,2,    0.036,2,   -999.0,9,  -999.00,9,   -999.0,9,   -999.0,9,   -999.0,9,  -999.00,9, -999.00,  -999.0, -999.00,  -999.0
    31DSCG96_1,  P14S,    23,  1,    107,    436,2,19960114,0856,-61.4998, 174.0035, 5037,   -999,   3100.9,   1.0165,  34.7164,2,  34.7152,2,    204.9,2,  0.8008,    205.7,2,   115.52,2,    32.01,2,     0.00,2,     2.13,2,    0.082,2,    0.036,2,   -999.0,9,  -999.00,9,   -999.0,9,   -999.0,9,   -999.0,9,  -999.00,9, -999.00,  -999.0, -999.00,  -999.0
    31DSCG96_1,  P14S,    23,  1,    106,    441,2,19960114,0856,-61.4998, 174.0035, 5037,   -999,   3501.6,   0.8635,  34.7093,2,  34.7087,2,    208.4,2,  0.6131,    208.7,2,   120.82,2,    32.27,2,     0.00,2,     2.15,2,    0.117,2,    0.055,2,   -999.0,9,  -999.00,9,   -999.0,9,   -999.0,9,   -999.0,9,  -999.00,9, -999.00,  -999.0, -999.00,  -999.0
    31DSCG96_1,  P14S,    23,  1,    105,    423,2,19960114,0856,-61.4998, 174.0035, 5037,   -999,   3898.4,   0.7978,  34.7053,2,  34.7036,2,    210.5,2,  0.5092,    210.4,2,   123.75,2,    32.35,2,     0.00,2,     2.16,2,    0.116,2,    0.056,2,   -999.0,9,  -999.00,9,   -999.0,9,   -999.0,9,   -999.0,9,  -999.00,9, -999.00,  -999.0, -999.00,  -999.0
    31DSCG96_1,  P14S,    23,  1,    104,    433,2,19960114,0856,-61.4998, 174.0035, 5037,   -999,   4297.7,   0.8009,  34.7037,2,  34.7027,2,    211.4,2,  0.4698,    210.5,2,   125.48,6,    32.43,6,     0.00,6,     2.17,6,    0.132,2,    0.059,2,   -999.0,9,  -999.00,9,   -999.0,9,   -999.0,9,   -999.0,9,  -999.00,9, -999.00,  -999.0, -999.00,  -999.0
    31DSCG96_1,  P14S,    23,  1,    103,    439,2,19960114,0856,-61.4998, 174.0035, 5037,   -999,   4701.7,   0.8270,  34.7032,2,  34.7028,2,    211.8,2,  0.4500,    212.9,2,   126.22,6,    32.47,6,     0.00,6,     2.19,6,    0.148,2,    0.065,2,   -999.0,9,  -999.00,9,   -999.0,9,   -999.0,9,   -999.0,9,  -999.00,9, -999.00,  -999.0, -999.00,  -999.0
    31DSCG96_1,  P14S,    23,  1,    102,    414,2,19960114,0856,-61.4998, 174.0035, 5037,   -999,   5098.2,   0.8655,  34.7028,2,  34.7024,2,    212.5,2,  0.4409,    211.2,2,   127.74,6,    32.48,6,     0.00,6,     2.18,6,    0.159,2,    0.066,2,   -999.0,9,  -999.00,9,   -999.0,9,   -999.0,9,   -999.0,9,  -999.00,9, -999.00,  -999.0, -999.00,  -999.0
    31DSCG96_1,  P14S,    23,  1,    101,    406,2,19960114,0856,-61.4998, 174.0035, 5037,   -999,   5129.3,   0.8694,  34.7027,2,  34.7015,2,    212.3,2,  0.4410,     32.1,4,   127.91,6,    32.50,6,     0.00,6,     2.17,6,    0.158,2,    0.068,2,   -999.0,9,  -999.00,9,   -999.0,9,   -999.0,9,   -999.0,9,  -999.00,9, -999.00,  -999.0, -999.00,  -999.0
    31DSCG96_1,  P14S,    24,  2,    224,    429,2,19960114,1631,-62.0007, 173.2687, 4450,   -999,     10.2,   2.3227,  33.9361,2,  33.9379,2,    333.4,2,  2.3221,    331.5,2,     7.89,6,    25.74,6,     0.27,6,     1.60,2, -999.000,9, -999.000,9,   -999.0,9,  -999.00,9,   2138.1,2,    734.1,2,   2291.0,2,     7.75,2, -999.00,  -999.0, -999.00,  -999.0
    31DSCG96_1,  P14S,    24,  2,    223,    428,2,19960114,1631,-62.0007, 173.2687, 4450,   -999,     20.0,   2.3219,  33.9364,2,  33.9377,2,    333.4,2,  2.3208,    331.3,2,     7.91,6,    25.72,6,     0.27,6,     1.59,2, -999.000,9, -999.000,9,   -999.0,9,  -999.00,9,   2138.1,2,    732.3,2,   2289.7,2,     7.75,2, -999.00,  -999.0, -999.00,  -999.0
    31DSCG96_1,  P14S,    24,  2,    222,    407,2,19960114,1631,-62.0007, 173.2687, 4450,   -999,     43.8,   2.2865,  33.9381,2,-999.0000,5,    332.9,2,  2.2841,    330.4,2,     8.51,6,    25.90,6,     0.27,6,     1.62,2, -999.000,9, -999.000,9,   -999.0,9,  -999.00,9,   2137.7,2,    741.1,2,   2291.2,2,     7.74,2, -999.00,  -999.0, -999.00,  -999.0
    31DSCG96_1,  P14S,    24,  2,    221,    417,2,19960114,1631,-62.0007, 173.2687, 4450,   -999,     92.8,   1.9103,  33.9790,2,  33.9813,2,    331.2,2,  1.9055,    325.5,2,    16.38,2,    27.19,6,     0.22,6,     1.79,2, -999.000,9, -999.000,9,   -999.0,9,  -999.00,9,   2150.6,2,    781.5,2,   2293.5,2,     7.72,2, -999.00,  -999.0, -999.00,  -999.0
    31DSCG96_1,  P14S,    24,  2,    220,    405,2,19960114,1631,-62.0007, 173.2687, 4450,   -999,    142.6,   1.8024,  33.9908,2,  33.9922,2,    303.9,2,  1.7952,   -999.0,9,    17.58,2,    27.04,6,     0.23,6,     1.73,2, -999.000,9, -999.000,9,   -999.0,9,  -999.00,9,   2151.7,2,    714.0,3,   2297.0,2,     7.73,2, -999.00,  -999.0, -999.00,  -999.0
    31DSCG96_1,  P14S,    24,  2,    219,    416,2,19960114,1631,-62.0007, 173.2687, 4450,   -999,    193.1,   1.8552,  34.0923,2,  34.0933,2,    282.6,2,  1.8453,    277.8,2,    30.01,2,    30.84,2,     0.04,2,     2.09,2, -999.000,9, -999.000,9,   -999.0,9,  -999.00,9,   2179.3,2,    952.7,2,   2295.9,2,     7.65,2, -999.00,  -999.0, -999.00,  -999.0
    31DSCG96_1,  P14S,    24,  2,    218,    420,2,19960114,1631,-62.0007, 173.2687, 4450,   -999,    277.1,   1.7918,  34.2090,2,  34.2057,2,    239.9,2,  1.7775,    251.3,2,    41.91,2,    32.60,2,     0.06,2,     2.20,2, -999.000,9, -999.000,9,   -999.0,9,  -999.00,9,   2201.9,3,   1046.5,2,   2307.1,2,     7.61,2, -999.00,  -999.0, -999.00,  -999.0
    31DSCG96_1,  P14S,    24,  2,    217,    424,2,19960114,1631,-62.0007, 173.2687, 4450,   -999,    370.9,   2.3339,  34.3797,2,  34.3790,2,    198.3,2,  2.3126,    197.7,2,    55.82,2,    34.60,2,     0.01,2,     2.33,2, -999.000,9, -999.000,9,   -999.0,9,  -999.00,9,   2228.2,2,   1187.6,2,   2320.0,2,     7.57,2, -999.00,  -999.0, -999.00,  -999.0
    31DSCG96_1,  P14S,    24,  2,    216,    409,2,19960114,1631,-62.0007, 173.2687, 4450,   -999,    471.0,   2.2562,  34.4477,2,  34.4475,2,    185.5,2,  2.2290,    185.9,2,    63.15,2,    35.06,2,     0.01,2,     2.40,3, -999.000,9, -999.000,9,   -999.0,9,  -999.00,9,   2240.7,2,   1225.8,2,   2326.2,2,     7.56,2, -999.00,  -999.0, -999.00,  -999.0
    31DSCG96_1,  P14S,    24,  2,    215,    413,2,19960114,1631,-62.0007, 173.2687, 4450,   -999,    574.0,   2.3383,  34.5450,2,-999.0000,5,    175.5,2,  2.3043,    175.5,2,    69.77,2,    34.57,2,     0.00,2,     2.43,3, -999.000,9, -999.000,9,   -999.0,9,  -999.00,9,   2247.8,2,   1218.7,2,   2333.5,2,     7.56,2, -999.00,  -999.0, -999.00,  -999.0
    31DSCG96_1,  P14S,    24,  2,    214,    419,2,19960114,1631,-62.0007, 173.2687, 4450,   -999,    673.6,   2.2429,  34.5830,2,  34.5826,2,    174.5,2,  2.2029,    174.1,2,    73.29,2,    34.43,2,     0.01,6,  -999.00,5, -999.000,9, -999.000,9,   -999.0,9,  -999.00,9,   2251.6,2,   1230.1,2,   2336.2,2,     7.56,2, -999.00,  -999.0, -999.00,  -999.0
    31DSCG96_1,  P14S,    24,  2,    213,    434,2,19960114,1631,-62.0007, 173.2687, 4450,   -999,    776.0,   2.2615,  34.6320,2,-999.0000,5,    174.6,2,  2.2145,    174.4,2,    75.70,2,    33.70,2,     0.00,2,     2.27,2, -999.000,9, -999.000,9,   -999.0,9,  -999.00,9,   2251.1,2,   1201.7,2,   2340.9,2,     7.57,2, -999.00,  -999.0, -999.00,  -999.0
    31DSCG96_1,  P14S,    24,  2,    212,    404,2,19960114,1631,-62.0007, 173.2687, 4450,   -999,    955.7,   2.1831,  34.6858,2,  34.6870,2,    178.3,2,  2.1244,    179.7,2,    79.44,2,    32.54,2,     0.00,2,     2.20,2, -999.000,9, -999.000,9,   -999.0,9,  -999.00,9,   2249.8,2,   1146.9,2,   2347.5,2,     7.59,2, -999.00,  -999.0, -999.00,  -999.0
    31DSCG96_1,  P14S,    24,  2,    211,    427,2,19960114,1631,-62.0007, 173.2687, 4450,   -999,   1151.1,   2.0756,  34.7128,2,  34.7126,2,    184.4,2,  2.0040,    183.4,2,    82.15,2,    31.98,2,     0.00,2,     2.15,2, -999.000,9, -999.000,9,   -999.0,9,  -999.00,9,   2249.9,2,   1126.7,2,   2350.9,2,     7.60,2, -999.00,  -999.0, -999.00,  -999.0
    31DSCG96_1,  P14S,    24,  2,    210,    401,2,19960114,1631,-62.0007, 173.2687, 4450,   -999,   1345.3,   1.9660,  34.7302,2,  34.7307,2,    187.9,2,  1.8813,    187.9,2,    85.19,2,    31.50,2,     0.00,2,     2.12,2, -999.000,9, -999.000,9,   -999.0,9,  -999.00,9,   2249.4,2,   1101.9,2,   2350.8,2,     7.60,2, -999.00,  -999.0, -999.00,  -999.0
    31DSCG96_1,  P14S,    24,  2,    209,    435,2,19960114,1631,-62.0007, 173.2687, 4450,   -999,   1698.3,   1.7032,  34.7402,2,  34.7396,2,    194.5,2,  1.5950,    194.5,2,    92.15,2,    31.25,2,     0.00,2,     2.11,2, -999.000,9, -999.000,9,   -999.0,9,  -999.00,9,   2250.0,2,   1091.0,2,   2354.8,2,     7.61,2, -999.00,  -999.0, -999.00,  -999.0
    31DSCG96_1,  P14S,    24,  2,    208,    440,2,19960114,1631,-62.0007, 173.2687, 4450,   -999,   2101.5,   1.3772,  34.7334,2,  34.7343,2,    199.6,2,  1.2417,    199.4,2,   102.26,2,    31.45,2,     0.00,2,     2.12,2, -999.000,9, -999.000,9,   -999.0,9,  -999.00,9,   2254.3,2,   1065.4,2,   2361.2,2,     7.61,2, -999.00,  -999.0, -999.00,  -999.0
    31DSCG96_1,  P14S,    24,  2,    207,    436,2,19960114,1631,-62.0007, 173.2687, 4450,   -999,   2503.5,   1.1036,  34.7224,2,  34.7221,2,    202.8,2,  0.9394,    203.2,2,   110.65,2,    31.89,2,     0.00,2,     2.15,2, -999.000,9, -999.000,9,   -999.0,9,  -999.00,9,   2256.2,2,   1076.0,2,   2362.2,2,     7.61,2, -999.00,  -999.0, -999.00,  -999.0
    31DSCG96_1,  P14S,    24,  2,    206,    441,2,19960114,1631,-62.0007, 173.2687, 4450,   -999,   2909.0,   0.9264,  34.7136,2,  34.7136,2,    206.3,2,  0.7303,    206.2,2,   116.56,2,    32.17,2,     0.00,2,     2.18,2, -999.000,9, -999.000,9,   -999.0,9,  -999.00,9,   2259.0,2,   1076.9,2,   2364.4,2,     7.61,2, -999.00,  -999.0, -999.00,  -999.0
    31DSCG96_1,  P14S,    24,  2,    205,    423,2,19960114,1631,-62.0007, 173.2687, 4450,   -999,   3300.5,   0.8176,  34.7079,2,  34.7073,2,    208.8,2,  0.5878,    208.6,2,   120.12,2,    32.30,2,     0.00,2,     2.19,2, -999.000,9, -999.000,9,   -999.0,9,  -999.00,9,   2259.1,2,   1085.4,2,   2364.2,2,     7.61,2, -999.00,  -999.0, -999.00,  -999.0
    31DSCG96_1,  P14S,    24,  2,    204,    433,2,19960114,1631,-62.0007, 173.2687, 4450,   -999,   3699.9,   0.7636,  34.7047,2,  34.7035,2,    209.8,2,  0.4961,    209.7,2,   122.97,2,    32.41,2,     0.00,2,     2.19,2, -999.000,9, -999.000,9,   -999.0,9,  -999.00,9,   2259.1,2,   1094.6,2,   2364.5,2,     7.61,2, -999.00,  -999.0, -999.00,  -999.0
    31DSCG96_1,  P14S,    24,  2,    203,    439,2,19960114,1631,-62.0007, 173.2687, 4450,   -999,   4096.8,   0.7636,  34.7033,2,  34.7027,2,    211.2,2,  0.4552,    211.1,2,   124.21,6,    32.48,6,     0.00,6,     2.21,6, -999.000,9, -999.000,9,   -999.0,9,  -999.00,9,   2259.9,2,   1092.5,2,   2364.0,2,     7.61,3, -999.00,  -999.0, -999.00,  -999.0
    31DSCG96_1,  P14S,    24,  2,    202,    414,2,19960114,1631,-62.0007, 173.2687, 4450,   -999,   4500.3,   0.7954,  34.7028,2,  34.7014,2,    211.4,2,  0.4422,    210.7,2,   124.64,6,    32.49,6,     0.00,6,     2.21,6, -999.000,9, -999.000,9,   -999.0,9,  -999.00,9,   2259.4,2,   1097.8,2,   2360.1,2,     7.61,2, -999.00,  -999.0, -999.00,  -999.0
    31DSCG96_1,  P14S,    24,  2,    201,    406,2,19960114,1631,-62.0007, 173.2687, 4450,   -999,   4535.6,   0.8003,  34.7025,2,  34.7025,2,    212.0,2,  0.4430,    210.7,2,   124.67,6,    32.47,6,     0.00,6,     2.20,6, -999.000,9, -999.000,9,   -999.0,9,  -999.00,9,   2258.0,2,   1113.1,2,   2361.5,2,     7.61,2, -999.00,  -999.0, -999.00,  -999.0