BOTTLE,20220811CCHSIOAMB
EXPOCODE,SECT_ID,STNNBR,CASTNO,SAMPNO,BTLNBR,BTLNBR_FLAG_W,DATE,TIME,LATITUDE,LONGITUDE,DEPTH,CTDRAW,CTDPRS,CTDTMP,CTDSAL,CTDSAL_FLAG_W,SALNTY,SALNTY_FLAG_W,CTDOXY,CTDOXY_FLAG_W,THETA,OXYGEN,OXYGEN_FLAG_W,SILCAT,SILCAT_FLAG_W,NITRAT,NITRAT_FLAG_W,NITRIT,NITRIT_FLAG_W,PHSPHT,PHSPHT_FLAG_W,CFC-11,CFC-11_FLAG_W,CFC-12,CFC-12_FLAG_W,DELC14,DELC14_FLAG_W,DELC13,DELC13_FLAG_W,TCARBN,TCARBN_FLAG_W,PCO2,PCO2_FLAG_W,ALKALI,ALKALI_FLAG_W,PH,PH_FLAG_W,PCO2TMP,C14ERR,PH_TMP,C13ERR
,,,,,,,,,,,,DBAR,DBAR,ITS-90,PSS-78,,PSS-78,,UMOL/KG,,DEG C,UMOL/KG,,UMOL/KG,,UMOL/KG,,UMOL/KG,,UMOL/KG,,PMOL/KG,,PMOL/KG,,/MILLE,,/MILLE,,UMOL/KG,,UATM,,UMOL/KG,,,,DEG C,/MILLE,DEG C,/MILLE
    31DSCG96_1,  P15S,    49,  1,    134,   1119,2,19960123,0547,-58.4940,-170.0135, 5188,   -999,      9.9,   4.5888,  33.9600,2,  33.9613,2,    316.5,2,  4.5881,    319.2,2,     0.69,2,    21.26,2,     0.19,2,     1.39,2,    5.327,2,    2.661,2,    -36.0,2,  -999.00,9,   2107.9,2,    642.2,6,   -999.0,9,     7.80,2, -999.00,     3.0, -999.00,  -999.0
    31DSCG96_1,  P15S,    49,  1,    133,   1221,2,19960123,0547,-58.4940,-170.0135, 5188,   -999,     30.7,   4.5866,  33.9603,2,  33.9621,2,    320.4,2,  4.5844,    318.8,2,     0.66,2,    21.27,2,     0.19,2,     1.39,2, -999.000,5, -999.000,5,   -999.0,9,  -999.00,9,   -999.0,9,   -999.0,9,   -999.0,9,     7.80,2, -999.00,  -999.0, -999.00,  -999.0
    31DSCG96_1,  P15S,    49,  1,    132,   1039,2,19960123,0547,-58.4940,-170.0135, 5188,   -999,     54.0,   4.5301,  33.9608,2,  33.9619,2,    319.3,2,  4.5262,    318.7,2,     0.81,2,    21.26,2,     0.19,2,     1.39,2, -999.000,5, -999.000,5,   -999.0,9,  -999.00,9,   -999.0,9,   -999.0,9,   -999.0,9,     7.80,2, -999.00,  -999.0, -999.00,  -999.0
    31DSCG96_1,  P15S,    49,  1,    131,   1014,2,19960123,0547,-58.4940,-170.0135, 5188,   -999,     80.1,   4.4436,  33.9650,2,  33.9635,2,    317.2,2,  4.4379,    317.4,2,     0.96,2,    21.35,2,     0.19,2,     1.45,2, -999.000,5, -999.000,5,   -999.0,9,  -999.00,9,   -999.0,9,   -999.0,9,   -999.0,9,     7.79,2, -999.00,  -999.0, -999.00,  -999.0
    31DSCG96_1,  P15S,    49,  1,    130,   1257,2,19960123,0547,-58.4940,-170.0135, 5188,   -999,    111.7,   3.6941,  34.0876,2,  34.0876,2,    306.2,2,  3.6867,    296.5,2,    12.13,2,    25.05,2,     0.38,2,     1.74,2, -999.000,5, -999.000,5,   -999.0,9,  -999.00,9,   -999.0,9,   -999.0,9,   -999.0,9,     7.73,2, -999.00,  -999.0, -999.00,  -999.0
    31DSCG96_1,  P15S,    49,  1,    129,   1256,2,19960123,0547,-58.4940,-170.0135, 5188,   -999,    162.2,   3.3957,  34.0778,2,  34.0781,2,    301.5,2,  3.3854,    299.1,2,    13.94,2,    25.65,2,     0.03,2,     1.74,2,    4.920,6,    2.426,6,   -999.0,9,  -999.00,9,   -999.0,9,   -999.0,9,   -999.0,9,     7.73,2, -999.00,  -999.0, -999.00,  -999.0
    31DSCG96_1,  P15S,    49,  1,    128,   1007,2,19960123,0547,-58.4940,-170.0135, 5188,   -999,    219.5,   2.9202,  34.0494,2,  34.0495,2,    308.5,2,  2.9070,    301.1,2,    15.58,2,    26.32,2,     0.02,2,     1.79,2, -999.000,5, -999.000,5,   -999.0,9,  -999.00,9,   -999.0,9,   -999.0,9,   -999.0,9,     7.72,2, -999.00,  -999.0, -999.00,  -999.0
    31DSCG96_1,  P15S,    49,  1,    127,   1234,2,19960123,0547,-58.4940,-170.0135, 5188,   -999,    264.8,   2.6042,  34.0448,2,  34.0432,2,    298.4,2,  2.5888,    296.7,2,    17.78,2,    27.27,2,     0.01,2,     1.85,2, -999.000,5, -999.000,5,   -999.0,9,  -999.00,9,   -999.0,9,   -999.0,9,   -999.0,9,     7.70,2, -999.00,  -999.0, -999.00,  -999.0
    31DSCG96_1,  P15S,    49,  1,    126,   1025,2,19960123,0547,-58.4940,-170.0135, 5188,   -999,    323.3,   3.1679,  34.1590,2,  34.1560,2,    270.6,2,  3.1475,    256.0,2,    25.38,2,    29.34,2,     0.00,2,     2.00,2,    3.487,2,    1.698,2,   -999.0,9,  -999.00,9,   -999.0,9,   -999.0,9,   -999.0,9,     7.66,2, -999.00,  -999.0, -999.00,  -999.0
    31DSCG96_1,  P15S,    49,  1,    125,   1233,2,19960123,0547,-58.4940,-170.0135, 5188,   -999,    425.1,   3.2642,  34.2535,2,  34.2506,2,    223.8,2,  3.2365,    226.2,2,    35.18,2,    31.42,2,     0.01,2,     2.14,2, -999.000,5, -999.000,5,   -999.0,9,  -999.00,9,   -999.0,9,   -999.0,9,   -999.0,9,     7.62,2, -999.00,  -999.0, -999.00,  -999.0
    31DSCG96_1,  P15S,    49,  1,    124,   1218,2,19960123,0547,-58.4940,-170.0135, 5188,   -999,    528.1,   2.9409,  34.3051,2,  34.3040,2,    210.9,2,  2.9075,    211.9,2,    44.27,2,    32.84,2,     0.00,2,     2.24,2, -999.000,5, -999.000,5,   -999.0,9,  -999.00,9,   -999.0,9,   -999.0,9,   -999.0,9,     7.60,2, -999.00,  -999.0, -999.00,  -999.0
    31DSCG96_1,  P15S,    49,  1,    123,   1250,2,19960123,0547,-58.4940,-170.0135, 5188,   -999,    626.9,   2.7867,  34.3679,2,  34.3674,2,    199.3,2,  2.7472,    198.3,2,    52.46,2,    33.62,2,     0.01,2,     2.30,2,    1.274,2,    0.608,2,   -999.0,9,  -999.00,9,   -999.0,9,   -999.0,9,   -999.0,9,     7.58,2, -999.00,  -999.0, -999.00,  -999.0
    31DSCG96_1,  P15S,    49,  1,    122,   1109,2,19960123,0547,-58.4940,-170.0135, 5188,   -999,    709.4,   2.6845,  34.4235,2,  34.4237,2,    189.0,2,  2.6398,    188.6,2,    59.05,2,    34.03,2,     0.00,2,     2.33,2, -999.000,5, -999.000,5,   -999.0,9,  -999.00,9,   -999.0,9,   -999.0,9,   -999.0,9,     7.57,3, -999.00,  -999.0, -999.00,  -999.0
    31DSCG96_1,  P15S,    49,  1,    121,   1246,2,19960123,0547,-58.4940,-170.0135, 5188,   -999,    826.4,   2.5306,  34.4750,2,  34.4738,2,    180.3,2,  2.4787,    181.8,2,    65.15,2,    34.39,2,     0.01,2,     2.35,2, -999.000,5, -999.000,5,   -999.0,9,  -999.00,9,   -999.0,9,   -999.0,9,   -999.0,9,     7.56,2, -999.00,  -999.0, -999.00,  -999.0
    31DSCG96_1,  P15S,    49,  1,    120,   1015,2,19960123,0547,-58.4940,-170.0135, 5188,   -999,    927.0,   2.4699,  34.5306,2,  34.5295,2,    176.1,2,  2.4113,    176.7,2,    69.92,2,    34.26,2,     0.00,2,     2.34,2,    0.732,6,    0.350,6,   -999.0,9,  -999.00,9,   -999.0,9,   -999.0,9,   -999.0,9,  -999.00,9, -999.00,  -999.0, -999.00,  -999.0
    31DSCG96_1,  P15S,    49,  1,    119,   1247,2,19960123,0547,-58.4940,-170.0135, 5188,   -999,   1021.6,   2.4323,  34.5743,2,  34.5729,2,    174.8,2,  2.3672,    174.6,2,    73.14,2,    33.92,2,     0.00,2,     2.32,2, -999.000,5, -999.000,5,   -999.0,9,  -999.00,9,   -999.0,9,   -999.0,9,   -999.0,9,     7.57,2, -999.00,  -999.0, -999.00,  -999.0
    31DSCG96_1,  P15S,    49,  1,    118,   1222,2,19960123,0547,-58.4940,-170.0135, 5188,   -999,   1130.8,   2.3744,  34.6130,2,  34.6114,2,    174.9,2,  2.3017,    174.0,2,    75.94,2,    33.52,2,     0.00,2,     2.29,2, -999.000,5, -999.000,5,   -999.0,9,  -999.00,9,   -999.0,9,   -999.0,9,   -999.0,9,     7.57,2, -999.00,  -999.0, -999.00,  -999.0
    31DSCG96_1,  P15S,    49,  1,    117,   1267,2,19960123,0547,-58.4940,-170.0135, 5188,   -999,   1317.5,   2.2777,  34.6665,2,  34.6653,2,    177.3,2,  2.1920,    177.4,6,    79.47,2,    32.66,2,     0.00,2,     2.23,2,    0.157,2,    0.082,2,   -999.0,9,  -999.00,9,   -999.0,9,   -999.0,9,   -999.0,9,     7.58,2, -999.00,  -999.0, -999.00,  -999.0
    31DSCG96_1,  P15S,    49,  1,    116,   1211,2,19960123,0547,-58.4940,-170.0135, 5188,   -999,   1562.2,   2.1533,  34.7077,2,  34.7066,2,    183.3,2,  2.0500,    183.2,2,    83.03,2,    31.72,2,     0.00,2,     2.16,2, -999.000,5, -999.000,5,   -999.0,9,  -999.00,9,   -999.0,9,   -999.0,9,   -999.0,9,     7.59,2, -999.00,  -999.0, -999.00,  -999.0
    31DSCG96_1,  P15S,    49,  1,    115,   1041,2,19960123,0547,-58.4940,-170.0135, 5188,   -999,   1814.7,   1.9784,  34.7321,2,  34.7307,2,    188.0,2,  1.8572,    188.3,2,    87.77,2,    31.19,2,     0.00,2,     2.14,2, -999.000,5, -999.000,5,   -999.0,9,  -999.00,9,   -999.0,9,   -999.0,9,   -999.0,9,     7.60,2, -999.00,  -999.0, -999.00,  -999.0
    31DSCG96_1,  P15S,    49,  1,    114,   1017,2,19960123,0547,-58.4940,-170.0135, 5188,   -999,   2066.0,   1.8081,  34.7394,2,  34.7377,2,    192.7,2,  1.6687,    192.4,2,    92.72,2,    31.00,2,     0.00,2,     2.12,2,    0.057,2,    0.034,2,   -999.0,9,  -999.00,9,   -999.0,9,   -999.0,9,   -999.0,9,     7.61,2, -999.00,  -999.0, -999.00,  -999.0
    31DSCG96_1,  P15S,    49,  1,    113,   1008,2,19960123,0547,-58.4940,-170.0135, 5188,   -999,   2310.7,   1.6095,  34.7388,2,  34.7371,2,    196.3,2,  1.4527,    195.8,6,    98.65,2,    31.13,2,     0.00,2,     2.13,2, -999.000,5, -999.000,5,   -999.0,9,  -999.00,9,   -999.0,9,   -999.0,9,   -999.0,9,     7.61,2, -999.00,  -999.0, -999.00,  -999.0
    31DSCG96_1,  P15S,    49,  1,    112,   1217,2,19960123,0547,-58.4940,-170.0135, 5188,   -999,   2565.2,   1.4314,  34.7337,2,  34.7320,2,    198.0,2,  1.2556,    198.5,2,   104.05,2,    31.29,2,     0.00,2,     2.14,2, -999.000,5, -999.000,5,   -999.0,9,  -999.00,9,   -999.0,9,   -999.0,9,   -999.0,9,     7.61,2, -999.00,  -999.0, -999.00,  -999.0
    31DSCG96_1,  P15S,    49,  1,    111,   1114,2,19960123,0547,-58.4940,-170.0135, 5188,   -999,   2815.2,   1.2861,  34.7288,2,  34.7267,2,    199.9,2,  1.0908,    200.5,2,   108.62,2,    31.51,2,     0.00,2,     2.15,2,    0.045,6,    0.027,6,   -999.0,9,  -999.00,9,   -999.0,9,   -999.0,9,   -999.0,9,     7.61,2, -999.00,  -999.0, -999.00,  -999.0
    31DSCG96_1,  P15S,    49,  1,    110,   1036,2,19960123,0547,-58.4940,-170.0135, 5188,   -999,   3067.4,   1.1429,  34.7225,2,  34.7204,2,    203.4,2,  0.9274,    202.9,2,   113.04,2,    31.69,2,     0.00,2,     2.16,2, -999.000,5, -999.000,5,   -999.0,9,  -999.00,9,   -999.0,9,   -999.0,9,   -999.0,9,     7.61,2, -999.00,  -999.0, -999.00,  -999.0
    31DSCG96_1,  P15S,    49,  1,    109,   1216,2,19960123,0547,-58.4940,-170.0135, 5188,   -999,   3313.9,   1.0232,  34.7170,2,  34.7153,2,    205.0,2,  0.7871,    205.3,2,   116.72,2,    31.85,2,     0.00,2,     2.18,2, -999.000,5, -999.000,5,   -999.0,9,  -999.00,9,   -999.0,9,   -999.0,9,   -999.0,9,     7.61,2, -999.00,  -999.0, -999.00,  -999.0
    31DSCG96_1,  P15S,    49,  1,    108,   1263,2,19960123,0547,-58.4940,-170.0135, 5188,   -999,   3562.0,   0.9161,  34.7115,2,  34.7097,2,    207.6,2,  0.6584,    208.9,2,   120.76,2,    32.05,2,     0.00,2,     2.19,2,    0.043,2,    0.022,2,   -999.0,9,  -999.00,9,   -999.0,9,   -999.0,9,   -999.0,9,     7.61,2, -999.00,  -999.0, -999.00,  -999.0
    31DSCG96_1,  P15S,    49,  1,    107,   1245,2,19960123,0547,-58.4940,-170.0135, 5188,   -999,   3813.7,   0.8576,  34.7081,2,  34.7063,2,    208.5,2,  0.5760,    208.4,2,   123.31,2,    32.13,2,     0.00,2,     2.19,2, -999.000,5, -999.000,5,   -999.0,9,  -999.00,9,   -999.0,9,   -999.0,9,   -999.0,9,     7.61,2, -999.00,  -999.0, -999.00,  -999.0
    31DSCG96_1,  P15S,    49,  1,    106,   1262,2,19960123,0547,-58.4940,-170.0135, 5188,   -999,   4063.6,   0.8574,  34.7069,2,  34.7062,2,    208.3,2,  0.5498,    208.4,2,   124.98,2,    32.15,2,     0.00,2,     2.20,2, -999.000,5, -999.000,5,   -999.0,9,  -999.00,9,   -999.0,9,   -999.0,9,   -999.0,9,     7.61,2, -999.00,  -999.0, -999.00,  -999.0
    31DSCG96_1,  P15S,    49,  1,    105,   1113,2,19960123,0547,-58.4940,-170.0135, 5188,   -999,   4313.1,   0.8666,  34.7066,2,  34.7051,2,    209.1,2,  0.5319,    209.0,2,   126.85,2,    32.25,2,     0.00,2,     2.20,2,    0.040,2,    0.031,2,   -999.0,9,  -999.00,9,   -999.0,9,   -999.0,9,   -999.0,9,     7.61,2, -999.00,  -999.0, -999.00,  -999.0
    31DSCG96_1,  P15S,    49,  1,    104,   1003,2,19960123,0547,-58.4940,-170.0135, 5188,   -999,   4625.6,   0.8914,  34.7058,2,  34.7042,2,    209.7,2,  0.5211,    208.9,2,   125.87,2,    32.23,2,     0.00,2,     2.20,2, -999.000,5, -999.000,5,   -999.0,9,  -999.00,9,   -999.0,9,   -999.0,9,   -999.0,9,     7.61,2, -999.00,  -999.0, -999.00,  -999.0
    31DSCG96_1,  P15S,    49,  1,    103,   9999,2,19960123,0547,-58.4940,-170.0135, 5188,   -999,   5115.7,   0.9397,  34.7053,2,  34.7035,2,    210.5,2,  0.5104,    209.3,2,   125.33,2,    32.22,2,     0.00,2,     2.20,2,    0.078,2,    0.041,2,   -999.0,9,  -999.00,9,   -999.0,9,   -999.0,9,   -999.0,9,     7.61,2, -999.00,  -999.0, -999.00,  -999.0
    31DSCG96_1,  P15S,    49,  1,    102,   1027,2,19960123,0547,-58.4940,-170.0135, 5188,   -999,   5117.7,   0.9400,  34.7052,2,  34.7045,2,    210.5,2,  0.5105,    210.4,2,   125.27,2,    32.21,2,     0.00,2,     2.20,2, -999.000,5, -999.000,5,   -999.0,9,  -999.00,9,   -999.0,9,   -999.0,9,   -999.0,9,     7.61,2, -999.00,  -999.0, -999.00,  -999.0
    31DSCG96_1,  P15S,    49,  1,    101,   1022,2,19960123,0547,-58.4940,-170.0135, 5188,   -999,   5291.3,   0.9603,  34.7051,2,  34.7034,2,    210.1,2,  0.5091,    209.7,2,   125.24,6,    32.20,6,     0.00,6,     2.20,6,    0.081,6,    0.040,6,   -999.0,9,  -999.00,9,   -999.0,9,   -999.0,9,   -999.0,9,     7.61,2, -999.00,  -999.0, -999.00,  -999.0