BOTTLE,20220811CCHSIOAMB
EXPOCODE,SECT_ID,STNNBR,CASTNO,SAMPNO,BTLNBR,BTLNBR_FLAG_W,DATE,TIME,LATITUDE,LONGITUDE,DEPTH,CTDRAW,CTDPRS,CTDTMP,CTDSAL,CTDSAL_FLAG_W,SALNTY,SALNTY_FLAG_W,CTDOXY,CTDOXY_FLAG_W,THETA,OXYGEN,OXYGEN_FLAG_W,SILCAT,SILCAT_FLAG_W,NITRAT,NITRAT_FLAG_W,NITRIT,NITRIT_FLAG_W,PHSPHT,PHSPHT_FLAG_W,CFC-11,CFC-11_FLAG_W,CFC-12,CFC-12_FLAG_W,DELC14,DELC14_FLAG_W,DELC13,DELC13_FLAG_W,TCARBN,TCARBN_FLAG_W,PCO2,PCO2_FLAG_W,ALKALI,ALKALI_FLAG_W,PH,PH_FLAG_W,PCO2TMP,C14ERR,PH_TMP,C13ERR
,,,,,,,,,,,,DBAR,DBAR,ITS-90,PSS-78,,PSS-78,,UMOL/KG,,DEG C,UMOL/KG,,UMOL/KG,,UMOL/KG,,UMOL/KG,,UMOL/KG,,PMOL/KG,,PMOL/KG,,/MILLE,,/MILLE,,UMOL/KG,,UATM,,UMOL/KG,,,,DEG C,/MILLE,DEG C,/MILLE
    31DSCG96_2,  P15S,   143,  1,    136,   1245,2,19960227,0156,-17.0015,-169.9972, 4954,   -999,      4.4,  29.4012,  34.6935,2,  34.6948,2,    202.2,2, 29.4001,    198.6,2,     1.37,2,     0.01,2,     0.00,2,     0.05,2, -999.000,9, -999.000,9,     91.4,2,  -999.00,9,   1911.1,2,    231.5,6,   2277.8,2,  -999.00,9, -999.00,     4.2, -999.00,  -999.0
    31DSCG96_2,  P15S,   143,  1,    135,   1113,2,19960227,0156,-17.0015,-169.9972, 4954,   -999,     31.9,  28.0703,  34.8537,2,  34.7923,3,    207.3,2, 28.0628,    206.6,2,     1.47,2,     0.01,2,     0.00,2,     0.05,2, -999.000,9, -999.000,9,   -999.0,9,  -999.00,9,   1920.7,2,    253.3,2,   2282.3,2,     8.15,2, -999.00,  -999.0, -999.00,  -999.0
    31DSCG96_2,  P15S,   143,  1,    134,   1267,2,19960227,0156,-17.0015,-169.9972, 4954,   -999,     56.2,  26.4381,  35.4229,2,  35.4022,2,    210.6,2, 26.4254,    212.7,2,     1.32,2,     0.01,2,     0.00,2,     0.08,2, -999.000,9, -999.000,9,   -999.0,9,  -999.00,9,   1960.0,2,    273.3,2,   2328.0,2,     8.14,2, -999.00,  -999.0, -999.00,  -999.0
    31DSCG96_2,  P15S,   143,  1,    133,   1221,2,19960227,0156,-17.0015,-169.9972, 4954,   -999,     80.4,  25.0405,  35.6079,2,  35.6048,2,    206.7,2, 25.0230,    207.8,2,     1.27,2,     0.01,2,     0.00,2,     0.10,2, -999.000,9, -999.000,9,   -999.0,9,  -999.00,9,   -999.0,9,   -999.0,9,   -999.0,9,     8.12,2, -999.00,  -999.0, -999.00,  -999.0
    31DSCG96_2,  P15S,   143,  1,    132,   1039,2,19960227,0156,-17.0015,-169.9972, 4954,   -999,    106.2,  23.8718,  35.7426,2,  35.7416,2,    196.0,2, 23.8494,    195.8,2,     1.29,2,     0.05,2,     0.04,2,     0.14,2, -999.000,9, -999.000,9,   -999.0,9,  -999.00,9,   -999.0,9,   -999.0,9,   -999.0,9,     8.08,2, -999.00,  -999.0, -999.00,  -999.0
    31DSCG96_2,  P15S,   143,  1,    131,   1014,2,19960227,0156,-17.0015,-169.9972, 4954,   -999,    130.0,  22.7798,  35.7076,2,  35.7076,2,    193.3,2, 22.7534,    196.3,2,     1.31,2,     0.32,2,     0.12,2,     0.14,2, -999.000,9, -999.000,9,   -999.0,9,  -999.00,9,   -999.0,9,   -999.0,9,   -999.0,9,     8.07,2, -999.00,  -999.0, -999.00,  -999.0
    31DSCG96_2,  P15S,   143,  1,    130,   1257,2,19960227,0156,-17.0015,-169.9972, 4954,   -999,    165.5,  21.6646,  35.8307,2,  35.8341,2,    179.7,2, 21.6321,    178.8,2,     1.43,2,     2.11,2,     0.02,2,     0.29,2, -999.000,9, -999.000,9,   -999.0,9,  -999.00,9,   -999.0,9,   -999.0,9,   -999.0,9,     8.02,2, -999.00,  -999.0, -999.00,  -999.0
    31DSCG96_2,  P15S,   143,  1,    129,   1256,2,19960227,0156,-17.0015,-169.9972, 4954,   -999,    216.5,  19.8167,  35.7038,2,  35.7044,2,    181.7,2, 19.7767,    181.6,6,     1.62,2,     3.22,2,     0.01,2,     0.35,2, -999.000,9, -999.000,9,   -999.0,9,  -999.00,9,   -999.0,9,   -999.0,9,   -999.0,9,     7.99,2, -999.00,  -999.0, -999.00,  -999.0
    31DSCG96_2,  P15S,   143,  1,    128,   1007,2,19960227,0156,-17.0015,-169.9972, 4954,   -999,    265.2,  18.1145,  35.5285,2,  35.5289,2,    184.0,2, 18.0685,    181.9,2,     2.06,2,     4.75,2,     0.00,2,     0.45,2, -999.000,9, -999.000,9,   -999.0,9,  -999.00,9,   -999.0,9,   -999.0,9,   -999.0,9,     7.96,2, -999.00,  -999.0, -999.00,  -999.0
    31DSCG96_2,  P15S,   143,  1,    127,   1232,2,19960227,0156,-17.0015,-169.9972, 4954,   -999,    314.6,  15.8774,  35.2558,2,  35.2526,2,    169.8,2, 15.8276,    168.3,2,     3.99,2,     9.16,2,     0.00,2,     0.78,2, -999.000,9, -999.000,9,   -999.0,9,  -999.00,9,   -999.0,9,   -999.0,9,   -999.0,9,     7.89,2, -999.00,  -999.0, -999.00,  -999.0
    31DSCG96_2,  P15S,   143,  1,    126,   1025,2,19960227,0156,-17.0015,-169.9972, 4954,   -999,    364.6,  13.3716,  34.9699,2,  34.9691,2,    162.0,2, 13.3202,    160.0,2,     6.75,2,    14.10,2,     0.00,2,     1.10,2, -999.000,9, -999.000,9,   -999.0,9,  -999.00,9,   -999.0,9,   -999.0,9,   -999.0,9,     7.81,2, -999.00,  -999.0, -999.00,  -999.0
    31DSCG96_2,  P15S,   143,  1,    125,   1119,2,19960227,0156,-17.0015,-169.9972, 4954,   -999,    425.6,  10.4320,  34.6818,2,  34.6847,2,    138.4,2, 10.3809,    137.3,2,    13.68,2,    22.20,2,     0.00,2,     1.66,2, -999.000,9, -999.000,9,   -999.0,9,  -999.00,9,   -999.0,9,   -999.0,9,   -999.0,9,     7.69,2, -999.00,  -999.0, -999.00,  -999.0
    31DSCG96_2,  P15S,   143,  1,    124,   1244,2,19960227,0156,-17.0015,-169.9972, 4954,   -999,    524.7,   7.5666,  34.4722,2,  34.4732,2,    167.8,2,  7.5144,    167.5,2,    17.96,2,    26.57,2,     0.00,2,     1.87,2, -999.000,9, -999.000,9,   -999.0,9,  -999.00,9,   -999.0,9,   -999.0,9,   -999.0,9,     7.66,2, -999.00,  -999.0, -999.00,  -999.0
    31DSCG96_2,  P15S,   143,  1,    123,   1250,2,19960227,0156,-17.0015,-169.9972, 4954,   -999,    625.8,   6.2303,  34.4016,2,  34.4007,2,    178.3,2,  6.1740,    177.8,2,    23.25,2,    29.00,2,     0.00,2,     2.00,2, -999.000,9, -999.000,9,   -999.0,9,  -999.00,9,   -999.0,9,   -999.0,9,   -999.0,9,     7.64,2, -999.00,  -999.0, -999.00,  -999.0
    31DSCG96_2,  P15S,   143,  1,    122,   1265,2,19960227,0156,-17.0015,-169.9972, 4954,   -999,    726.2,   5.2142,  34.3873,2,  34.3861,2,    172.7,2,  5.1540,    172.5,2,    33.65,2,    31.63,2,     0.00,2,     2.17,2, -999.000,9, -999.000,9,   -999.0,9,  -999.00,9,   -999.0,9,   -999.0,9,   -999.0,9,     7.62,2, -999.00,  -999.0, -999.00,  -999.0
    31DSCG96_2,  P15S,   143,  1,    121,   1246,2,19960227,0156,-17.0015,-169.9972, 4954,   -999,    824.7,   4.5127,  34.4217,2,  34.4213,2,    161.3,2,  4.4482,    161.1,6,    47.98,2,    33.60,2,     0.00,2,     2.32,2, -999.000,9, -999.000,9,   -999.0,9,  -999.00,9,   -999.0,9,   -999.0,9,   -999.0,9,     7.59,2, -999.00,  -999.0, -999.00,  -999.0
    31DSCG96_2,  P15S,   143,  1,    120,   1015,2,19960227,0156,-17.0015,-169.9972, 4954,   -999,    925.0,   3.9976,  34.4650,2,  34.4644,2,    154.4,2,  3.9282,    154.4,2,    61.47,2,    34.57,2,     0.00,2,     2.39,2, -999.000,9, -999.000,9,   -999.0,9,  -999.00,9,   -999.0,9,   -999.0,9,   -999.0,9,     7.58,2, -999.00,  -999.0, -999.00,  -999.0
    31DSCG96_2,  P15S,   143,  1,    119,   1247,2,19960227,0156,-17.0015,-169.9972, 4954,   -999,   1023.2,   3.6470,  34.5049,2,  34.5055,2,    148.2,2,  3.5721,    148.8,2,    73.51,2,    35.20,2,     0.00,2,     2.44,2, -999.000,9, -999.000,9,   -999.0,9,  -999.00,9,   -999.0,9,   -999.0,9,   -999.0,9,     7.57,2, -999.00,  -999.0, -999.00,  -999.0
    31DSCG96_2,  P15S,   143,  1,    118,   1299,2,19960227,0156,-17.0015,-169.9972, 4954,   -999,   1125.3,   3.3889,  34.5318,2,  34.5319,2,    144.6,2,  3.3079,    143.2,2,    82.29,2,    35.75,2,     0.00,2,     2.48,2, -999.000,9, -999.000,9,   -999.0,9,  -999.00,9,   -999.0,9,   -999.0,9,   -999.0,9,     7.56,2, -999.00,  -999.0, -999.00,  -999.0
    31DSCG96_2,  P15S,   143,  1,    117,   1242,2,19960227,0156,-17.0015,-169.9972, 4954,   -999,   1224.2,   3.1498,  34.5478,2,  34.5475,2,    142.4,2,  3.0630,    144.3,2,    88.10,2,    35.84,2,     0.00,2,     2.49,2, -999.000,9, -999.000,9,   -999.0,9,  -999.00,9,   -999.0,9,   -999.0,9,   -999.0,9,     7.56,2, -999.00,  -999.0, -999.00,  -999.0
    31DSCG96_2,  P15S,   143,  1,    116,   1259,2,19960227,0156,-17.0015,-169.9972, 4954,   -999,   1349.4,   2.9118,  34.5694,2,  34.5681,2,    142.3,2,  2.8173,    143.3,2,    95.16,2,    36.05,2,     0.00,2,     2.51,2, -999.000,9, -999.000,9,   -999.0,9,  -999.00,9,   -999.0,9,   -999.0,9,   -999.0,9,     7.56,2, -999.00,  -999.0, -999.00,  -999.0
    31DSCG96_2,  P15S,   143,  1,    115,   1041,2,19960227,0156,-17.0015,-169.9972, 4954,   -999,   1566.0,   2.6180,  34.5965,2,  34.5957,2,    142.4,2,  2.5092,    142.9,2,   104.66,2,    36.20,2,     0.00,2,     2.52,2, -999.000,9, -999.000,9,   -999.0,9,  -999.00,9,   -999.0,9,   -999.0,9,   -999.0,9,     7.56,2, -999.00,  -999.0, -999.00,  -999.0
    31DSCG96_2,  P15S,   143,  1,    114,   1017,2,19960227,0156,-17.0015,-169.9972, 4954,   -999,   1814.5,   2.3425,  34.6190,2,  34.6179,2,    143.6,2,  2.2167,    144.9,2,   112.24,2,    36.15,2,     0.00,2,     2.51,2, -999.000,9, -999.000,9,   -999.0,9,  -999.00,9,   -999.0,9,   -999.0,9,   -999.0,9,     7.57,2, -999.00,  -999.0, -999.00,  -999.0
    31DSCG96_2,  P15S,   143,  1,    113,   1302,2,19960227,0156,-17.0015,-169.9972, 4954,   -999,   2063.9,   2.1328,  34.6368,2,  34.6364,2,    145.7,2,  1.9889,    147.2,2,   117.89,2,    36.08,2,     0.00,2,     2.50,2, -999.000,9, -999.000,9,   -999.0,9,  -999.00,9,   -999.0,9,   -999.0,9,   -999.0,9,     7.57,2, -999.00,  -999.0, -999.00,  -999.0
    31DSCG96_2,  P15S,   143,  1,    112,   1217,2,19960227,0156,-17.0015,-169.9972, 4954,   -999,   2315.1,   1.9658,  34.6515,2,  34.6504,2,    147.1,2,  1.8027,    148.2,2,   123.88,2,    36.06,2,     0.00,2,     2.50,2, -999.000,9, -999.000,9,   -999.0,9,  -999.00,9,   -999.0,9,   -999.0,9,   -999.0,9,     7.57,2, -999.00,  -999.0, -999.00,  -999.0
    31DSCG96_2,  P15S,   143,  1,    111,   1226,2,19960227,0156,-17.0015,-169.9972, 4954,   -999,   2559.2,   1.8630,  34.6612,2,  34.6603,2,    149.2,2,  1.6799,    149.8,6,   127.61,2,    36.04,2,     0.00,2,     2.49,2, -999.000,9, -999.000,9,   -999.0,9,  -999.00,9,   -999.0,9,   -999.0,9,   -999.0,9,     7.58,2, -999.00,  -999.0, -999.00,  -999.0
    31DSCG96_2,  P15S,   143,  1,    110,   1301,2,19960227,0156,-17.0015,-169.9972, 4954,   -999,   2815.4,   1.7643,  34.6685,2,  34.6669,2,    152.0,2,  1.5593,    152.5,2,   129.76,2,    35.81,2,     0.00,2,     2.48,2, -999.000,9, -999.000,9,   -999.0,9,  -999.00,9,   -999.0,9,   -999.0,9,   -999.0,9,     7.58,2, -999.00,  -999.0, -999.00,  -999.0
    31DSCG96_2,  P15S,   143,  1,    109,   1031,2,19960227,0156,-17.0015,-169.9972, 4954,   -999,   3066.1,   1.6632,  34.6764,2,  34.6744,2,    156.7,2,  1.4364,    157.2,2,   130.37,2,    35.46,2,     0.00,2,     2.45,2, -999.000,9, -999.000,9,   -999.0,9,  -999.00,9,   -999.0,9,   -999.0,9,   -999.0,9,     7.58,2, -999.00,  -999.0, -999.00,  -999.0
    31DSCG96_2,  P15S,   143,  1,    108,   1227,2,19960227,0156,-17.0015,-169.9972, 4954,   -999,   3315.4,   1.5847,  34.6817,2,  34.6804,2,    158.0,2,  1.3351,    159.2,2,   132.72,2,    35.38,2,     0.00,2,     2.45,2, -999.000,9, -999.000,9,   -999.0,9,  -999.00,9,   -999.0,9,   -999.0,9,   -999.0,9,     7.58,2, -999.00,  -999.0, -999.00,  -999.0
    31DSCG96_2,  P15S,   143,  1,    107,   1263,2,19960227,0156,-17.0015,-169.9972, 4954,   -999,   3561.2,   1.5209,  34.6873,2,  34.6873,2,    164.2,2,  1.2479,    166.0,2,   130.83,2,    34.82,2,     0.00,2,     2.41,2,    0.006,2,    0.002,2,   -999.0,9,  -999.00,9,   -999.0,9,   -999.0,9,   -999.0,9,     7.59,2, -999.00,  -999.0, -999.00,  -999.0
    31DSCG96_2,  P15S,   143,  1,    106,   1262,2,19960227,0156,-17.0015,-169.9972, 4954,   -999,   3813.3,   1.4275,  34.7056,2,  34.7047,2,    180.4,2,  1.1304,    183.7,2,   120.03,2,    33.18,2,     0.00,2,     2.29,2, -999.000,9, -999.000,9,   -999.0,9,  -999.00,9,   -999.0,9,   -999.0,9,   -999.0,9,     7.60,2, -999.00,  -999.0, -999.00,  -999.0
    31DSCG96_2,  P15S,   143,  1,    105,   1264,2,19960227,0156,-17.0015,-169.9972, 4954,   -999,   4066.2,   1.2631,  34.7157,2,  34.7148,2,    197.2,2,  0.9434,    198.6,6,   115.03,2,    32.15,2,     0.00,2,     2.21,2,    0.005,2,    0.004,2,   -999.0,9,  -999.00,9,   -999.0,9,   -999.0,9,   -999.0,9,     7.61,2, -999.00,  -999.0, -999.00,  -999.0
    31DSCG96_2,  P15S,   143,  1,    104,   1003,2,19960227,0156,-17.0015,-169.9972, 4954,   -999,   4314.9,   1.1207,  34.7131,2,  34.7127,2,    202.8,2,  0.7780,    203.4,2,   117.36,2,    32.07,2,     0.00,2,     2.20,2, -999.000,9, -999.000,9,   -999.0,9,  -999.00,9,   -999.0,9,   -999.0,9,   -999.0,9,     7.61,2, -999.00,  -999.0, -999.00,  -999.0
    31DSCG96_2,  P15S,   143,  1,    103,   1035,2,19960227,0156,-17.0015,-169.9972, 4954,   -999,   4565.0,   1.0338,  34.7102,2,  34.7106,2,    205.3,2,  0.6657,    205.6,2,   119.76,2,    32.11,2,     0.00,2,     2.20,2,    0.008,2,    0.003,2,   -999.0,9,  -999.00,9,   -999.0,9,   -999.0,9,   -999.0,9,     7.61,2, -999.00,  -999.0, -999.00,  -999.0
    31DSCG96_2,  P15S,   143,  1,    102,   1030,2,19960227,0156,-17.0015,-169.9972, 4954,   -999,   4813.6,   1.0223,  34.7086,2,  34.7087,2,    206.1,2,  0.6260,    206.6,2,   120.78,2,    32.10,2,     0.00,2,     2.21,2,    0.011,2,    0.004,2,   -999.0,9,  -999.00,9,   -999.0,9,   -999.0,9,   -999.0,9,     7.61,2, -999.00,  -999.0, -999.00,  -999.0
    31DSCG96_2,  P15S,   143,  1,    101,   1022,2,19960227,0156,-17.0015,-169.9972, 4954,   -999,   5080.1,   1.0496,  34.7083,2,  34.7081,2,    206.5,2,  0.6208,    206.4,2,   121.05,6,    32.12,6,     0.00,6,     2.21,6,    0.010,6,    0.005,6,   -999.0,9,  -999.00,9,   -999.0,9,   -999.0,9,   -999.0,9,     7.61,2, -999.00,  -999.0, -999.00,  -999.0