BOTTLE,20220811CCHSIOAMB
EXPOCODE,SECT_ID,STNNBR,CASTNO,SAMPNO,BTLNBR,BTLNBR_FLAG_W,DATE,TIME,LATITUDE,LONGITUDE,DEPTH,CTDRAW,CTDPRS,CTDTMP,CTDSAL,CTDSAL_FLAG_W,SALNTY,SALNTY_FLAG_W,CTDOXY,CTDOXY_FLAG_W,THETA,OXYGEN,OXYGEN_FLAG_W,SILCAT,SILCAT_FLAG_W,NITRAT,NITRAT_FLAG_W,NITRIT,NITRIT_FLAG_W,PHSPHT,PHSPHT_FLAG_W,CFC-11,CFC-11_FLAG_W,CFC-12,CFC-12_FLAG_W,DELC14,DELC14_FLAG_W,DELC13,DELC13_FLAG_W,TCARBN,TCARBN_FLAG_W,PCO2,PCO2_FLAG_W,ALKALI,ALKALI_FLAG_W,PH,PH_FLAG_W,PCO2TMP,C14ERR,PH_TMP,C13ERR
,,,,,,,,,,,,DBAR,DBAR,ITS-90,PSS-78,,PSS-78,,UMOL/KG,,DEG C,UMOL/KG,,UMOL/KG,,UMOL/KG,,UMOL/KG,,UMOL/KG,,PMOL/KG,,PMOL/KG,,/MILLE,,/MILLE,,UMOL/KG,,UATM,,UMOL/KG,,,,DEG C,/MILLE,DEG C,/MILLE
    31DSCG96_1,  P15S,    47,  2,    234,   1119,2,19960122,1702,-59.5032,-169.9982, 4030,   -999,      9.9,   4.2533,  33.9335,2,  33.9338,2,    317.4,2,  4.2526,    320.7,2,     0.96,2,    21.82,2,     0.19,2,     1.44,2, -999.000,9, -999.000,9,    -40.1,2,  -999.00,9,   2111.4,2,    624.8,3,   2285.6,2,     7.80,2, -999.00,     2.8, -999.00,  -999.0
    31DSCG96_1,  P15S,    47,  2,    233,   1221,2,19960122,1702,-59.5032,-169.9982, 4030,   -999,     29.3,   4.2428,  33.9338,2,  33.9341,2,    321.0,2,  4.2408,    320.4,2,     1.03,2,    21.81,2,     0.19,2,     1.44,2, -999.000,9, -999.000,9,   -999.0,9,  -999.00,9,   2111.3,2,    641.8,6,   2285.7,2,     7.80,2, -999.00,  -999.0, -999.00,  -999.0
    31DSCG96_1,  P15S,    47,  2,    232,   1039,2,19960122,1702,-59.5032,-169.9982, 4030,   -999,     53.3,   4.2353,  33.9340,2,  33.9330,2,    319.9,2,  4.2316,    320.4,2,     1.07,2,    21.81,2,     0.19,2,     1.46,2, -999.000,9, -999.000,9,   -999.0,9,  -999.00,9,   -999.0,9,   -999.0,9,   -999.0,9,     7.79,2, -999.00,  -999.0, -999.00,  -999.0
    31DSCG96_1,  P15S,    47,  2,    231,   1042,2,19960122,1702,-59.5032,-169.9982, 4030,   -999,     82.1,   3.7304,  34.0713,2,  34.0719,2,    302.9,2,  3.7250,    303.4,2,    10.08,2,    23.68,2,     0.28,2,     1.74,2, -999.000,9, -999.000,9,   -999.0,9,  -999.00,9,   -999.0,9,   -999.0,9,   -999.0,9,  -999.00,9, -999.00,  -999.0, -999.00,  -999.0
    31DSCG96_1,  P15S,    47,  2,    230,   1257,2,19960122,1702,-59.5032,-169.9982, 4030,   -999,    105.8,   3.6223,  34.0834,2,  34.0824,2,    299.8,2,  3.6154,    300.6,2,    11.96,2,    24.90,2,     0.34,2,     1.74,2, -999.000,9, -999.000,9,   -999.0,9,  -999.00,9,   -999.0,9,   -999.0,9,   -999.0,9,     7.73,2, -999.00,  -999.0, -999.00,  -999.0
    31DSCG96_1,  P15S,    47,  2,    229,   1256,2,19960122,1702,-59.5032,-169.9982, 4030,   -999,    131.4,   3.4898,  34.0810,2,  34.0810,2,    307.9,2,  3.4814,    298.7,2,    12.67,2,    25.44,2,     0.10,2,     1.76,2, -999.000,9, -999.000,9,   -999.0,9,  -999.00,9,   2138.0,2,    774.8,2,   2283.4,2,     7.73,2, -999.00,  -999.0, -999.00,  -999.0
    31DSCG96_1,  P15S,    47,  2,    228,   1007,2,19960122,1702,-59.5032,-169.9982, 4030,   -999,    157.5,   3.2725,  34.0677,2,  34.0682,2,    300.3,2,  3.2627,    299.4,2,    13.30,2,    25.77,2,     0.14,2,     1.78,2, -999.000,9, -999.000,9,   -999.0,9,  -999.00,9,   -999.0,9,   -999.0,9,   -999.0,9,     7.72,2, -999.00,  -999.0, -999.00,  -999.0
    31DSCG96_1,  P15S,    47,  2,    227,   1234,2,19960122,1702,-59.5032,-169.9982, 4030,   -999,    181.0,   3.1381,  34.0649,2,  34.0660,2,    297.5,2,  3.1269,    297.1,2,    14.70,2,    26.40,2,     0.01,2,     1.81,2, -999.000,9, -999.000,9,   -999.0,9,  -999.00,9,   2143.6,2,    806.2,2,   2285.0,2,     7.72,2, -999.00,  -999.0, -999.00,  -999.0
    31DSCG96_1,  P15S,    47,  2,    226,   1025,2,19960122,1702,-59.5032,-169.9982, 4030,   -999,    214.7,   2.7206,  34.0362,2,  34.0359,2,    308.9,2,  2.7080,    301.8,2,    15.63,2,    26.69,2,     0.12,2,     1.83,2, -999.000,9, -999.000,9,   -999.0,9,  -999.00,9,   -999.0,9,   -999.0,9,   -999.0,9,     7.71,2, -999.00,  -999.0, -999.00,  -999.0
    31DSCG96_1,  P15S,    47,  2,    225,   1233,2,19960122,1702,-59.5032,-169.9982, 4030,   -999,    267.3,   2.6072,  34.0536,2,  34.0538,2,    275.7,2,  2.5916,    292.0,6,    18.46,2,    27.65,2,     0.01,2,     1.90,2, -999.000,9, -999.000,9,   -999.0,9,  -999.00,9,   2152.1,2,    831.2,2,   2285.4,2,     7.70,2, -999.00,  -999.0, -999.00,  -999.0
    31DSCG96_1,  P15S,    47,  2,    224,   1218,2,19960122,1702,-59.5032,-169.9982, 4030,   -999,    313.4,   3.3199,  34.1767,2,  34.1755,2,    256.6,2,  3.2997,    250.3,2,    25.33,2,    29.58,2,     0.01,2,     2.02,2, -999.000,9, -999.000,9,   -999.0,9,  -999.00,9,   -999.0,9,   -999.0,9,   -999.0,9,     7.66,2, -999.00,  -999.0, -999.00,  -999.0
    31DSCG96_1,  P15S,    47,  2,    223,   1250,2,19960122,1702,-59.5032,-169.9982, 4030,   -999,    363.7,   3.5061,  34.2407,2,  34.2400,2,    232.2,2,  3.4820,    230.0,2,    30.93,2,    30.80,2,     0.00,2,     2.11,2, -999.000,9, -999.000,9,   -999.0,9,  -999.00,9,   2185.4,2,    985.6,2,   2298.3,2,     7.64,2, -999.00,  -999.0, -999.00,  -999.0
    31DSCG96_1,  P15S,    47,  2,    222,   1109,2,19960122,1702,-59.5032,-169.9982, 4030,   -999,    414.9,   3.3338,  34.2700,2,  34.2701,2,    223.1,2,  3.3066,    221.3,2,    35.85,2,    31.74,2,     0.00,2,     2.17,2, -999.000,9, -999.000,9,   -999.0,9,  -999.00,9,   -999.0,9,   -999.0,9,   -999.0,9,     7.62,2, -999.00,  -999.0, -999.00,  -999.0
    31DSCG96_1,  P15S,    47,  2,    221,   1246,2,19960122,1702,-59.5032,-169.9982, 4030,   -999,    466.1,   3.1228,  34.2906,2,  34.2907,2,    216.9,2,  3.0928,    215.4,6,    40.24,2,    32.44,2,     0.00,2,     2.22,2, -999.000,9, -999.000,9,   -999.0,9,  -999.00,9,   2201.5,2,   1058.2,2,   2302.7,2,     7.61,2, -999.00,  -999.0, -999.00,  -999.0
    31DSCG96_1,  P15S,    47,  2,    220,   1015,2,19960122,1702,-59.5032,-169.9982, 4030,   -999,    537.4,   2.9196,  34.3298,2,  34.3284,2,    206.6,2,  2.8856,    206.3,2,    46.37,2,    33.21,2,     0.00,2,     2.27,2, -999.000,9, -999.000,9,   -999.0,9,  -999.00,9,   -999.0,9,   -999.0,9,   -999.0,9,     7.60,2, -999.00,  -999.0, -999.00,  -999.0
    31DSCG96_1,  P15S,    47,  2,    219,   1247,2,19960122,1702,-59.5032,-169.9982, 4030,   -999,    623.2,   2.7783,  34.3801,2,  34.3800,2,    196.5,2,  2.7391,    195.5,2,    53.34,2,    33.82,2,     0.00,2,     2.32,2, -999.000,9, -999.000,9,   -999.0,9,  -999.00,9,   2221.4,2,   -999.0,9,   2318.3,2,     7.58,2, -999.00,  -999.0, -999.00,  -999.0
    31DSCG96_1,  P15S,    47,  2,    218,   1222,2,19960122,1702,-59.5032,-169.9982, 4030,   -999,    724.9,   2.6257,  34.4354,2,  34.4343,2,    186.4,2,  2.5803,    185.9,2,    60.23,2,    34.37,2,     0.00,2,     2.36,2, -999.000,9, -999.000,9,   -999.0,9,  -999.00,9,   -999.0,9,   -999.0,9,   -999.0,9,     7.57,2, -999.00,  -999.0, -999.00,  -999.0
    31DSCG96_1,  P15S,    47,  2,    217,   1267,2,19960122,1702,-59.5032,-169.9982, 4030,   -999,    821.0,   2.5447,  34.4909,2,  34.4918,2,    179.5,2,  2.4931,    179.2,6,    65.83,2,    34.52,2,     0.00,2,     2.36,2, -999.000,9, -999.000,9,   -999.0,9,  -999.00,9,   2221.5,3,   1197.9,2,   2328.4,2,     7.56,2, -999.00,  -999.0, -999.00,  -999.0
    31DSCG96_1,  P15S,    47,  2,    216,   1211,2,19960122,1702,-59.5032,-169.9982, 4030,   -999,    923.4,   2.4828,  34.5478,2,  34.5482,2,    175.8,2,  2.4244,    175.5,2,    70.84,2,    34.28,2,     0.00,2,     2.34,2, -999.000,9, -999.000,9,   -999.0,9,  -999.00,9,   -999.0,9,   -999.0,9,   -999.0,9,     7.57,2, -999.00,  -999.0, -999.00,  -999.0
    31DSCG96_1,  P15S,    47,  2,    215,   1041,2,19960122,1702,-59.5032,-169.9982, 4030,   -999,   1028.5,   2.4066,  34.5873,2,  34.5866,2,    174.2,2,  2.3412,    173.2,2,    73.76,2,    34.04,2,     0.00,2,     2.33,2, -999.000,9, -999.000,9,   -999.0,9,  -999.00,9,   2246.6,2,   -999.0,9,   2344.6,3,     7.56,2, -999.00,  -999.0, -999.00,  -999.0
    31DSCG96_1,  P15S,    47,  2,    214,   1017,2,19960122,1702,-59.5032,-169.9982, 4030,   -999,   1128.3,   2.3572,  34.6220,2,  34.6211,2,    174.7,2,  2.2849,    173.9,2,    76.11,2,    33.65,2,     0.00,2,     2.30,2, -999.000,9, -999.000,9,   -999.0,9,  -999.00,9,   -999.0,9,   -999.0,9,   -999.0,9,     7.57,2, -999.00,  -999.0, -999.00,  -999.0
    31DSCG96_1,  P15S,    47,  2,    213,   1008,2,19960122,1702,-59.5032,-169.9982, 4030,   -999,   1312.7,   2.2671,  34.6713,2,  34.6699,2,    177.2,2,  2.1818,    177.1,6,    79.45,2,    32.76,2,     0.00,2,     2.24,2, -999.000,9, -999.000,9,   -999.0,9,  -999.00,9,   2251.6,2,   1159.3,2,   2343.0,2,     7.58,2, -999.00,  -999.0, -999.00,  -999.0
    31DSCG96_1,  P15S,    47,  2,    212,   1217,2,19960122,1702,-59.5032,-169.9982, 4030,   -999,   1564.9,   2.1285,  34.7121,2,  34.7125,2,    183.4,2,  2.0253,    182.8,2,    83.35,2,    31.93,2,     0.00,2,     2.18,2, -999.000,9, -999.000,9,   -999.0,9,  -999.00,9,   -999.0,9,   -999.0,9,   -999.0,9,     7.60,2, -999.00,  -999.0, -999.00,  -999.0
    31DSCG96_1,  P15S,    47,  2,    211,   1114,2,19960122,1702,-59.5032,-169.9982, 4030,   -999,   1816.5,   1.9795,  34.7323,2,  34.7316,2,    189.2,2,  1.8581,    188.5,2,    87.38,2,    31.32,2,     0.00,2,     2.14,2, -999.000,9, -999.000,9,   -999.0,9,  -999.00,9,   2250.0,2,   -999.0,9,   2362.1,3,     7.60,2, -999.00,  -999.0, -999.00,  -999.0
    31DSCG96_1,  P15S,    47,  2,    210,   1036,2,19960122,1702,-59.5032,-169.9982, 4030,   -999,   2059.9,   1.7930,  34.7404,2,  34.7391,2,    193.3,2,  1.6544,    192.8,2,    92.72,2,    31.21,2,     0.00,2,     2.13,2, -999.000,9, -999.000,9,   -999.0,9,  -999.00,9,   -999.0,9,   -999.0,9,   -999.0,9,     7.61,2, -999.00,  -999.0, -999.00,  -999.0
    31DSCG96_1,  P15S,    47,  2,    209,   1216,2,19960122,1702,-59.5032,-169.9982, 4030,   -999,   2314.2,   1.5938,  34.7385,2,  34.7372,2,    196.7,2,  1.4369,    196.1,2,    98.68,2,    31.32,2,     0.00,2,     2.14,2, -999.000,9, -999.000,9,   -999.0,9,  -999.00,9,   2252.7,2,   1071.1,2,   2359.9,2,     7.61,2, -999.00,  -999.0, -999.00,  -999.0
    31DSCG96_1,  P15S,    47,  2,    208,   1263,2,19960122,1702,-59.5032,-169.9982, 4030,   -999,   2561.3,   1.4220,  34.7336,2,  34.7324,2,    198.9,2,  1.2468,    198.3,2,   104.01,2,    31.52,2,     0.00,2,     2.15,2, -999.000,9, -999.000,9,   -999.0,9,  -999.00,9,   -999.0,9,   -999.0,9,   -999.0,9,     7.61,2, -999.00,  -999.0, -999.00,  -999.0
    31DSCG96_1,  P15S,    47,  2,    207,   1245,2,19960122,1702,-59.5032,-169.9982, 4030,   -999,   2814.2,   1.2733,  34.7279,2,  34.7267,2,    200.9,2,  1.0783,    200.2,2,   108.57,2,    31.71,2,     0.00,2,     2.17,2, -999.000,9, -999.000,9,   -999.0,9,  -999.00,9,   2257.7,2,   -999.0,9,   2364.9,2,     7.61,2, -999.00,  -999.0, -999.00,  -999.0
    31DSCG96_1,  P15S,    47,  2,    206,   1262,2,19960122,1702,-59.5032,-169.9982, 4030,   -999,   3066.9,   1.1402,  34.7219,2,  34.7211,2,    203.3,2,  0.9249,    202.6,2,   112.65,2,    31.85,2,     0.00,2,     2.18,2, -999.000,9, -999.000,9,   -999.0,9,  -999.00,9,   -999.0,9,   -999.0,9,   -999.0,9,     7.61,2, -999.00,  -999.0, -999.00,  -999.0
    31DSCG96_1,  P15S,    47,  2,    205,   1113,2,19960122,1702,-59.5032,-169.9982, 4030,   -999,   3315.4,   1.0334,  34.7169,2,  34.7158,2,    205.5,2,  0.7968,    204.6,2,   116.13,2,    32.05,2,     0.00,2,     2.19,2, -999.000,9, -999.000,9,   -999.0,9,  -999.00,9,   2257.8,2,   1083.0,2,   2362.6,2,     7.61,3, -999.00,  -999.0, -999.00,  -999.0
    31DSCG96_1,  P15S,    47,  2,    204,   1003,2,19960122,1702,-59.5032,-169.9982, 4030,   -999,   3564.7,   0.9312,  34.7119,2,  34.7105,2,    207.5,2,  0.6728,    206.1,2,   119.79,2,    32.15,2,     0.00,2,     2.20,2, -999.000,9, -999.000,9,   -999.0,9,  -999.00,9,   -999.0,9,   -999.0,9,   -999.0,9,     7.61,2, -999.00,  -999.0, -999.00,  -999.0
    31DSCG96_1,  P15S,    47,  2,    203,   9999,2,19960122,1702,-59.5032,-169.9982, 4030,   -999,   3565.3,   0.9301,  34.7116,2,  34.7106,2,    207.5,2,  0.6717,    206.1,2,   119.71,2,    32.16,2,     0.00,2,     2.19,2, -999.000,9, -999.000,9,   -999.0,9,  -999.00,9,   2260.1,2,   -999.0,9,   2366.5,2,     7.61,2, -999.00,  -999.0, -999.00,  -999.0
    31DSCG96_1,  P15S,    47,  2,    202,   1027,2,19960122,1702,-59.5032,-169.9982, 4030,   -999,   3811.5,   0.8699,  34.7083,2,  34.7079,2,    208.7,2,  0.5882,    207.3,2,   122.93,2,    32.24,2,     0.00,2,     2.20,2, -999.000,9, -999.000,9,   -999.0,9,  -999.00,9,   2258.3,2,   -999.0,9,   -999.0,5,     7.61,2, -999.00,  -999.0, -999.00,  -999.0
    31DSCG96_1,  P15S,    47,  2,    201,   1022,3,19960122,1702,-59.5032,-169.9982, 4030,   -999,   4100.7,   0.8609,  34.7068,2,  34.7057,2,    209.3,2,  0.5492,    210.0,2,   123.01,6,    32.27,6,     0.00,6,     2.21,6, -999.000,9, -999.000,9,   -999.0,9,  -999.00,9,   -999.0,9,   1099.5,2,   -999.0,9,  -999.00,9, -999.00,  -999.0, -999.00,  -999.0