BOTTLE,20220811CCHSIOAMB
EXPOCODE,SECT_ID,STNNBR,CASTNO,SAMPNO,BTLNBR,BTLNBR_FLAG_W,DATE,TIME,LATITUDE,LONGITUDE,DEPTH,CTDRAW,CTDPRS,CTDTMP,CTDSAL,CTDSAL_FLAG_W,SALNTY,SALNTY_FLAG_W,CTDOXY,CTDOXY_FLAG_W,THETA,OXYGEN,OXYGEN_FLAG_W,SILCAT,SILCAT_FLAG_W,NITRAT,NITRAT_FLAG_W,NITRIT,NITRIT_FLAG_W,PHSPHT,PHSPHT_FLAG_W,CFC-11,CFC-11_FLAG_W,CFC-12,CFC-12_FLAG_W,DELC14,DELC14_FLAG_W,DELC13,DELC13_FLAG_W,TCARBN,TCARBN_FLAG_W,PCO2,PCO2_FLAG_W,ALKALI,ALKALI_FLAG_W,PH,PH_FLAG_W,PCO2TMP,C14ERR,PH_TMP,C13ERR
,,,,,,,,,,,,DBAR,DBAR,ITS-90,PSS-78,,PSS-78,,UMOL/KG,,DEG C,UMOL/KG,,UMOL/KG,,UMOL/KG,,UMOL/KG,,UMOL/KG,,PMOL/KG,,PMOL/KG,,/MILLE,,/MILLE,,UMOL/KG,,UATM,,UMOL/KG,,,,DEG C,/MILLE,DEG C,/MILLE
    31DSCG96_1,  P15S,    87,  1,    127,   1232,2,19960201,1627,-42.7467,-174.6557, 1590,   -999,     10.5,  18.3094,  35.0811,2,  35.0825,2,    239.8,2, 18.3076,    238.7,2,     0.97,2,     0.03,2,     0.00,2,     0.00,3,    2.588,2,    1.461,2,   -999.0,9,  -999.00,9,   2026.0,2,    354.5,2,   2315.9,2,     8.01,2, -999.00,  -999.0, -999.00,  -999.0
    31DSCG96_1,  P15S,    87,  1,    126,   1025,2,19960201,1627,-42.7467,-174.6557, 1590,   -999,     15.1,  18.2064,  35.0813,2,  35.0895,2,    239.4,2, 18.2038,    240.0,2,     0.90,2,     0.04,2,     0.00,2,     0.02,3,    2.614,2,    1.457,2,   -999.0,9,  -999.00,9,   2026.5,2,   -999.0,9,   2314.8,2,     8.01,2, -999.00,  -999.0, -999.00,  -999.0
    31DSCG96_1,  P15S,    87,  1,    125,   1233,2,19960201,1627,-42.7467,-174.6557, 1590,   -999,     29.4,  17.9580,  35.0839,2,  35.0847,2,    242.2,2, 17.9530,    241.0,2,     0.96,2,     0.04,2,     0.00,2,     0.07,2, -999.000,9, -999.000,9,   -999.0,9,  -999.00,9,   2027.3,2,    353.3,2,   2311.3,2,     8.01,2, -999.00,  -999.0, -999.00,  -999.0
    31DSCG96_1,  P15S,    87,  1,    124,   1218,2,19960201,1627,-42.7467,-174.6557, 1590,   -999,     53.7,  14.1735,  34.9521,2,  34.9553,2,    253.5,2, 14.1657,    258.6,2,     1.51,2,     1.28,2,     0.23,2,     0.26,2, -999.000,9, -999.000,9,   -999.0,9,  -999.00,9,   2052.9,2,    415.7,2,   2308.0,2,     7.95,2, -999.00,  -999.0, -999.00,  -999.0
    31DSCG96_1,  P15S,    87,  1,    123,   1250,2,19960201,1627,-42.7467,-174.6557, 1590,   -999,     78.7,  12.5875,  34.9963,2,  34.9939,2,    237.5,2, 12.5769,    239.7,2,     2.09,2,     6.06,2,     0.05,2,     0.51,2,    3.232,2,    1.742,2,   -999.0,9,  -999.00,9,   2075.5,2,   -999.0,9,   2306.6,2,     7.91,2, -999.00,  -999.0, -999.00,  -999.0
    31DSCG96_1,  P15S,    87,  1,    122,   1109,2,19960201,1627,-42.7467,-174.6557, 1590,   -999,    104.9,  12.2586,  35.0294,2,  35.0269,2,    234.0,2, 12.2448,    236.3,2,     2.68,2,     7.60,2,     0.02,2,     0.61,2, -999.000,9, -999.000,9,   -999.0,9,  -999.00,9,   2085.8,2,    491.1,2,   2309.0,2,     7.89,2, -999.00,  -999.0, -999.00,  -999.0
    31DSCG96_1,  P15S,    87,  1,    121,   1246,2,19960201,1627,-42.7467,-174.6557, 1590,   -999,    121.5,  12.1224,  35.0352,2,  35.0313,2,    235.1,2, 12.1065,    234.3,2,     3.35,2,     8.66,2,     0.02,2,     0.68,2,    3.111,2,    1.680,2,   -999.0,9,  -999.00,9,   2092.4,2,   -999.0,9,   2306.7,2,     7.88,2, -999.00,  -999.0, -999.00,  -999.0
    31DSCG96_1,  P15S,    87,  1,    120,   1015,2,19960201,1627,-42.7467,-174.6557, 1590,   -999,    154.3,  11.5831,  34.9603,2,  34.9516,2,    232.3,2, 11.5635,    231.4,2,     3.97,2,    10.44,2,     0.01,2,     0.78,2, -999.000,9, -999.000,9,   -999.0,9,  -999.00,9,   2099.9,2,    545.9,2,   2305.4,2,     7.85,2, -999.00,  -999.0, -999.00,  -999.0
    31DSCG96_1,  P15S,    87,  1,    119,   1247,2,19960201,1627,-42.7467,-174.6557, 1590,   -999,    179.8,  11.1238,  34.8808,2,  34.8785,2,    238.8,2, 11.1015,    237.3,2,     4.07,2,    10.96,2,     0.01,2,     0.82,2,    3.199,2,    1.706,2,   -999.0,9,  -999.00,9,   2101.0,2,   -999.0,9,   2302.3,2,     7.85,2, -999.00,  -999.0, -999.00,  -999.0
    31DSCG96_1,  P15S,    87,  1,    118,   1222,2,19960201,1627,-42.7467,-174.6557, 1590,   -999,    203.8,  10.8791,  34.8438,2,  34.8402,2,    238.1,2, 10.8542,    235.7,2,     4.31,2,    11.47,2,     0.02,2,     0.87,2, -999.000,9, -999.000,9,   -999.0,9,  -999.00,9,   2103.1,2,    571.6,2,   2299.9,2,     7.84,2, -999.00,  -999.0, -999.00,  -999.0
    31DSCG96_1,  P15S,    87,  1,    117,   1267,2,19960201,1627,-42.7467,-174.6557, 1590,   -999,    227.0,  10.6451,  34.8071,2,  34.8062,2,    235.6,2, 10.6177,    235.5,2,     4.50,2,    12.12,2,     0.02,2,     0.92,2,    3.201,2,    1.702,2,   -999.0,9,  -999.00,9,   2105.5,2,   -999.0,9,   2299.0,2,     7.83,2, -999.00,  -999.0, -999.00,  -999.0
    31DSCG96_1,  P15S,    87,  1,    116,   1211,2,19960201,1627,-42.7467,-174.6557, 1590,   -999,    263.8,  10.3856,  34.7769,2,  34.7760,2,    222.2,2, 10.3543,    228.3,2,     5.15,2,    13.61,2,     0.01,2,     1.01,2, -999.000,9, -999.000,9,   -999.0,9,  -999.00,9,   2112.4,2,    609.3,2,   2296.9,2,     7.81,2, -999.00,  -999.0, -999.00,  -999.0
    31DSCG96_1,  P15S,    87,  1,    115,   1041,2,19960201,1627,-42.7467,-174.6557, 1590,   -999,    314.4,   9.9458,  34.7375,2,  34.7369,2,    212.3,2,  9.9094,    213.1,2,     6.79,2,    16.47,2,     0.01,2,     1.19,2,    2.653,2,    1.390,2,   -999.0,9,  -999.00,9,   2124.3,2,   -999.0,9,   2295.5,2,     7.78,2, -999.00,  -999.0, -999.00,  -999.0
    31DSCG96_1,  P15S,    87,  1,    114,   1017,2,19960201,1627,-42.7467,-174.6557, 1590,   -999,    364.5,   9.5500,  34.7031,2,  34.7027,2,    207.5,2,  9.5087,    206.8,2,     7.99,2,    18.21,2,     0.00,2,     1.29,2, -999.000,9, -999.000,9,   -999.0,9,  -999.00,9,   2131.8,2,    700.9,2,   2293.7,2,     7.77,2, -999.00,  -999.0, -999.00,  -999.0
    31DSCG96_1,  P15S,    87,  1,    113,   1302,2,19960201,1627,-42.7467,-174.6557, 1590,   -999,    414.7,   8.9866,  34.6402,2,  34.6389,2,    208.2,2,  8.9413,    207.5,2,     8.93,2,    19.58,2,     0.01,2,     1.39,2,    2.319,2,    1.197,2,   -999.0,9,  -999.00,9,   2135.8,2,   -999.0,9,   2290.4,2,     7.75,2, -999.00,  -999.0, -999.00,  -999.0
    31DSCG96_1,  P15S,    87,  1,    112,   1217,2,19960201,1627,-42.7467,-174.6557, 1590,   -999,    465.0,   8.5960,  34.6035,2,  34.6020,2,    208.5,2,  8.5464,    208.7,2,     9.81,2,    20.50,2,     0.00,2,     1.44,2, -999.000,9, -999.000,9,   -999.0,9,  -999.00,9,   2139.2,2,    749.3,2,   2292.3,2,     7.74,2, -999.00,  -999.0, -999.00,  -999.0
    31DSCG96_1,  P15S,    87,  1,    111,   1114,2,19960201,1627,-42.7467,-174.6557, 1590,   -999,    515.4,   8.2873,  34.5785,2,  34.5761,2,    207.1,2,  8.2333,    208.9,2,    11.10,2,    21.26,2,     0.00,2,     1.50,2,    1.872,2,    0.966,2,   -999.0,9,  -999.00,9,   2141.8,2,    755.4,2,   2289.9,2,     7.73,3, -999.00,  -999.0, -999.00,  -999.0
    31DSCG96_1,  P15S,    87,  1,    110,   1301,2,19960201,1627,-42.7467,-174.6557, 1590,   -999,    564.5,   7.9295,  34.5513,2,  34.5505,2,    205.6,2,  7.8716,    207.8,2,    12.65,2,    22.19,2,     0.00,2,     1.55,2, -999.000,9, -999.000,9,   -999.0,9,  -999.00,9,   2146.1,2,    768.3,2,   2292.5,2,     7.73,2, -999.00,  -999.0, -999.00,  -999.0
    31DSCG96_1,  P15S,    87,  1,    109,   1242,2,19960201,1627,-42.7467,-174.6557, 1590,   -999,    623.6,   7.5003,  34.5188,2,  34.5188,2,    204.7,2,  7.4383,    205.0,2,    14.50,2,    23.43,2,     0.00,2,     1.63,2,    1.190,2,    0.626,2,   -999.0,9,  -999.00,9,   2151.1,2,    792.4,2,   2290.7,2,  -999.00,9, -999.00,  -999.0, -999.00,  -999.0
    31DSCG96_1,  P15S,    87,  1,    108,   1263,2,19960201,1627,-42.7467,-174.6557, 1590,   -999,    725.1,   6.9348,  34.4839,2,  34.4839,2,    201.8,2,  6.8653,    201.3,2,    18.11,2,    25.05,2,     0.00,2,     1.74,2, -999.000,9, -999.000,9,   -999.0,9,  -999.00,9,   2159.2,2,    831.9,2,   2296.0,2,     7.70,2, -999.00,  -999.0, -999.00,  -999.0
    31DSCG96_1,  P15S,    87,  1,    107,   1245,2,19960201,1627,-42.7467,-174.6557, 1590,   -999,    825.5,   6.4618,  34.4685,2,  34.4699,2,    196.9,2,  6.3850,    196.5,2,    22.85,2,    26.41,2,     0.00,2,     1.85,2,    0.516,2,    0.309,2,   -999.0,9,  -999.00,9,   2166.8,2,    867.0,2,   2297.4,2,     7.68,2, -999.00,  -999.0, -999.00,  -999.0
    31DSCG96_1,  P15S,    87,  1,    106,   1262,2,19960201,1627,-42.7467,-174.6557, 1590,   -999,    925.5,   5.8039,  34.4365,2,  34.4369,2,    192.8,2,  5.7217,    192.9,2,    28.46,2,    28.22,2,     0.00,2,     1.95,2, -999.000,9, -999.000,9,     94.2,4,  -999.00,9,   2178.3,2,    922.3,2,   2302.2,2,     7.66,2, -999.00,     3.6, -999.00,  -999.0
    31DSCG96_1,  P15S,    87,  1,    105,   1113,2,19960201,1627,-42.7467,-174.6557, 1590,   -999,   1023.8,   5.4408,  34.4539,2,  34.4533,2,    186.5,2,  5.3520,    186.5,2,    35.89,2,    29.25,2,     0.00,2,     2.02,2,    0.247,2,    0.174,2,   -999.0,9,  -999.00,9,   2189.8,2,    955.3,2,   2308.5,2,     7.65,2, -999.00,  -999.0, -999.00,  -999.0
    31DSCG96_1,  P15S,    87,  1,    104,   1003,2,19960201,1627,-42.7467,-174.6557, 1590,   -999,   1140.7,   4.8347,  34.4640,2,  34.4640,2,    179.8,2,  4.7400,    179.4,2,    46.00,2,    30.72,2,     0.00,2,     2.13,2, -999.000,9, -999.000,9,   -999.0,9,  -999.00,9,   2207.3,2,   -999.0,9,   2319.4,2,     7.63,2, -999.00,  -999.0, -999.00,  -999.0
    31DSCG96_1,  P15S,    87,  1,    103,   1216,2,19960201,1627,-42.7467,-174.6557, 1590,   -999,   1314.2,   3.9236,  34.5050,2,  34.5049,2,    170.0,2,  3.8218,    169.3,2,    64.91,2,    32.65,2,     0.00,2,     2.27,2,    0.070,2,    0.101,4,   -999.0,9,  -999.00,9,   2233.8,2,   1089.5,2,   2336.0,2,     7.61,2, -999.00,  -999.0, -999.00,  -999.0
    31DSCG96_1,  P15S,    87,  1,    102,   1030,2,19960201,1627,-42.7467,-174.6557, 1590,   -999,   1558.8,   3.2188,  34.5561,2,  34.5561,2,    161.6,2,  3.1035,    161.0,2,    83.40,2,    33.87,2,     0.00,2,     2.37,2, -999.000,9, -999.000,9,   -999.0,9,  -999.00,9,   2259.2,2,   -999.0,9,   -999.0,5,     7.59,2, -999.00,  -999.0, -999.00,  -999.0
    31DSCG96_1,  P15S,    87,  1,    101,   1022,2,19960201,1627,-42.7467,-174.6557, 1590,   -999,   1593.1,   3.1205,  34.5649,2,  34.5642,2,    160.6,2,  3.0034,    159.9,2,    86.15,6,    33.98,6,     0.00,6,     2.37,6,    0.031,6,    0.056,4,   -999.0,9,  -999.00,9,   2262.4,2,   1157.9,2,   -999.0,5,     7.59,2, -999.00,  -999.0, -999.00,  -999.0