BOTTLE,20220811CCHSIOAMB
EXPOCODE,SECT_ID,STNNBR,CASTNO,SAMPNO,BTLNBR,BTLNBR_FLAG_W,DATE,TIME,LATITUDE,LONGITUDE,DEPTH,CTDRAW,CTDPRS,CTDTMP,CTDSAL,CTDSAL_FLAG_W,SALNTY,SALNTY_FLAG_W,CTDOXY,CTDOXY_FLAG_W,THETA,OXYGEN,OXYGEN_FLAG_W,SILCAT,SILCAT_FLAG_W,NITRAT,NITRAT_FLAG_W,NITRIT,NITRIT_FLAG_W,PHSPHT,PHSPHT_FLAG_W,CFC-11,CFC-11_FLAG_W,CFC-12,CFC-12_FLAG_W,DELC14,DELC14_FLAG_W,DELC13,DELC13_FLAG_W,TCARBN,TCARBN_FLAG_W,PCO2,PCO2_FLAG_W,ALKALI,ALKALI_FLAG_W,PH,PH_FLAG_W,PCO2TMP,C14ERR,PH_TMP,C13ERR
,,,,,,,,,,,,DBAR,DBAR,ITS-90,PSS-78,,PSS-78,,UMOL/KG,,DEG C,UMOL/KG,,UMOL/KG,,UMOL/KG,,UMOL/KG,,UMOL/KG,,PMOL/KG,,PMOL/KG,,/MILLE,,/MILLE,,UMOL/KG,,UATM,,UMOL/KG,,,,DEG C,/MILLE,DEG C,/MILLE
    31DSCG96_1,  P14S,    10,  2,    234,   1224,2,19960110,0203,-54.9955, 172.0123, 5345,   -999,      9.7,   6.8358,  34.1005,2,-999.0000,9,    300.8,2,  6.8349,    302.3,2,  -999.00,9,  -999.00,9,  -999.00,9,  -999.00,9, -999.000,9, -999.000,9,   -999.0,9,  -999.00,9,   2102.4,2,    620.2,6,   -999.0,9,     7.81,2, -999.00,  -999.0, -999.00,  -999.0
    31DSCG96_1,  P14S,    10,  2,    233,   1221,2,19960110,0203,-54.9955, 172.0123, 5345,   -999,     20.5,   6.8802,  34.1322,2,  34.1287,2,    301.2,2,  6.8783,    301.1,2,     3.50,2,    19.13,2,     0.22,2,     1.31,2, -999.000,9, -999.000,9,   -999.0,9,  -999.00,9,   -999.0,9,    614.2,6,   -999.0,9,     7.82,3, -999.00,  -999.0, -999.00,  -999.0
    31DSCG96_1,  P14S,    10,  2,    232,   1039,2,19960110,0203,-54.9955, 172.0123, 5345,   -999,     44.7,   6.6645,  34.1261,2,  34.1309,2,    301.8,2,  6.6605,    302.3,2,     3.54,2,    19.36,2,     0.22,2,     1.33,2, -999.000,9, -999.000,9,   -999.0,9,  -999.00,9,   -999.0,9,   -999.0,9,   -999.0,9,     7.81,2, -999.00,  -999.0, -999.00,  -999.0
    31DSCG96_1,  P14S,    10,  2,    231,   1042,2,19960110,0203,-54.9955, 172.0123, 5345,   -999,     70.9,   6.5525,  34.1997,2,  34.2019,2,    296.9,2,  6.5463,    297.1,2,     4.40,2,    19.34,2,     0.22,2,     1.34,2, -999.000,9, -999.000,9,   -999.0,9,  -999.00,9,   -999.0,9,   -999.0,9,   -999.0,9,     7.80,2, -999.00,  -999.0, -999.00,  -999.0
    31DSCG96_1,  P14S,    10,  2,    230,   1257,2,19960110,0203,-54.9955, 172.0123, 5345,   -999,     96.8,   6.8089,  34.2975,2,  34.2945,2,    291.9,2,  6.8001,    284.4,2,     5.50,2,    19.56,2,     0.09,2,     1.34,2, -999.000,9, -999.000,9,   -999.0,9,  -999.00,9,   -999.0,9,   -999.0,9,   -999.0,9,     7.79,2, -999.00,  -999.0, -999.00,  -999.0
    31DSCG96_1,  P14S,    10,  2,    229,   1256,2,19960110,0203,-54.9955, 172.0123, 5345,   -999,    142.4,   6.7637,  34.3131,2,  34.3126,2,    289.2,2,  6.7508,    278.4,2,     6.27,2,    19.93,2,     0.02,2,     1.36,2, -999.000,9, -999.000,9,   -999.0,9,  -999.00,9,   -999.0,9,   -999.0,9,   -999.0,9,     7.78,2, -999.00,  -999.0, -999.00,  -999.0
    31DSCG96_1,  P14S,    10,  2,    228,   1007,2,19960110,0203,-54.9955, 172.0123, 5345,   -999,    194.0,   6.3464,  34.2814,2,  34.2762,2,    283.6,2,  6.3295,    272.0,2,     7.89,2,    21.51,2,     0.03,2,     1.46,2, -999.000,9, -999.000,9,   -999.0,9,  -999.00,9,   -999.0,9,   -999.0,9,   -999.0,9,     7.76,2, -999.00,  -999.0, -999.00,  -999.0
    31DSCG96_1,  P14S,    10,  2,    227,   1234,2,19960110,0203,-54.9955, 172.0123, 5345,   -999,    243.9,   6.1658,  34.2684,2,  34.2643,2,    279.6,2,  6.1447,    268.2,2,     8.77,2,    22.22,2,     0.01,2,     1.50,2, -999.000,9, -999.000,9,   -999.0,9,  -999.00,9,   -999.0,9,   -999.0,9,   -999.0,9,     7.76,2, -999.00,  -999.0, -999.00,  -999.0
    31DSCG96_1,  P14S,    10,  2,    226,   1025,2,19960110,0203,-54.9955, 172.0123, 5345,   -999,    294.5,   5.6932,  34.2376,2,  34.2306,2,    269.4,2,  5.6687,    262.1,2,    10.99,2,    23.84,2,     0.00,2,     1.61,2, -999.000,9, -999.000,9,   -999.0,9,  -999.00,9,   -999.0,9,   -999.0,9,   -999.0,9,     7.73,2, -999.00,  -999.0, -999.00,  -999.0
    31DSCG96_1,  P14S,    10,  2,    225,   1233,2,19960110,0203,-54.9955, 172.0123, 5345,   -999,    378.3,   5.6240,  34.2885,2,  34.2867,2,    251.2,2,  5.5925,    240.9,2,    15.21,2,    25.50,2,     0.00,2,     1.72,2, -999.000,9, -999.000,9,   -999.0,9,  -999.00,9,   -999.0,9,   -999.0,9,   -999.0,9,     7.70,2, -999.00,  -999.0, -999.00,  -999.0
    31DSCG96_1,  P14S,    10,  2,    224,   1218,2,19960110,0203,-54.9955, 172.0123, 5345,   -999,    481.4,   4.9554,  34.2809,2,  34.2835,2,    230.1,2,  4.9174,    232.2,2,    20.43,2,    27.66,2,     0.00,2,     1.87,2, -999.000,9, -999.000,9,   -999.0,9,  -999.00,9,   -999.0,9,   -999.0,9,   -999.0,9,     7.68,2, -999.00,  -999.0, -999.00,  -999.0
    31DSCG96_1,  P14S,    10,  2,    223,   1250,2,19960110,0203,-54.9955, 172.0123, 5345,   -999,    575.5,   4.5238,  34.3003,2,  34.2994,2,    227.6,2,  4.4799,    222.1,2,    26.43,2,    29.33,2,     0.00,2,     1.99,2, -999.000,9, -999.000,9,   -999.0,9,  -999.00,9,   -999.0,9,   -999.0,9,   -999.0,9,     7.65,2, -999.00,  -999.0, -999.00,  -999.0
    31DSCG96_1,  P14S,    10,  2,    222,   1109,2,19960110,0203,-54.9955, 172.0123, 5345,   -999,    675.4,   3.8744,  34.3092,2,  34.3054,3,    220.5,2,  3.8258,    216.0,2,    33.35,2,    30.87,2,     0.00,2,     2.10,2, -999.000,9, -999.000,9,   -999.0,9,  -999.00,9,   -999.0,9,   -999.0,9,   -999.0,9,     7.63,2, -999.00,  -999.0, -999.00,  -999.0
    31DSCG96_1,  P14S,    10,  2,    221,   1246,2,19960110,0203,-54.9955, 172.0123, 5345,   -999,    776.6,   3.3924,  34.3230,2,  34.3235,2,    213.4,2,  3.3388,    209.0,2,    40.97,2,    32.16,2,     0.00,2,     2.19,2, -999.000,9, -999.000,9,   -999.0,9,  -999.00,9,   -999.0,9,   -999.0,9,   -999.0,9,     7.61,2, -999.00,  -999.0, -999.00,  -999.0
    31DSCG96_1,  P14S,    10,  2,    220,   1209,2,19960110,0203,-54.9955, 172.0123, 5345,   -999,    874.5,   3.1195,  34.3698,2,  34.3678,2,    204.4,2,  3.0604,    198.6,2,    48.77,2,    33.11,2,     0.00,2,     2.27,2, -999.000,9, -999.000,9,   -999.0,9,  -999.00,9,   -999.0,9,   -999.0,9,   -999.0,9,     7.60,2, -999.00,  -999.0, -999.00,  -999.0
    31DSCG96_1,  P14S,    10,  2,    219,   1247,2,19960110,0203,-54.9955, 172.0123, 5345,   -999,    976.9,   2.9402,  34.4063,2,  34.4064,2,    193.2,2,  2.8747,    192.0,2,    54.48,2,    33.57,2,     0.00,2,     2.30,2, -999.000,9, -999.000,9,   -999.0,9,  -999.00,9,   -999.0,9,   -999.0,9,   -999.0,9,     7.59,4, -999.00,  -999.0, -999.00,  -999.0
    31DSCG96_1,  P14S,    10,  2,    218,   1222,2,19960110,0203,-54.9955, 172.0123, 5345,   -999,   1073.1,   2.7478,  34.4462,2,  34.4444,2,    186.7,2,  2.6766,    184.7,2,    59.93,2,    33.98,2,     0.00,2,     2.33,2, -999.000,9, -999.000,9,   -999.0,9,  -999.00,9,   -999.0,9,   -999.0,9,   -999.0,9,     7.57,2, -999.00,  -999.0, -999.00,  -999.0
    31DSCG96_1,  P14S,    10,  2,    217,   1104,2,19960110,0203,-54.9955, 172.0123, 5345,   -999,   1211.7,   2.6119,  34.5196,2,  34.5181,2,    179.6,2,  2.5313,    178.2,2,    67.61,2,    33.95,2,     0.00,2,     2.32,2, -999.000,9, -999.000,9,   -999.0,9,  -999.00,9,   -999.0,9,   -999.0,9,   -999.0,9,  -999.00,9, -999.00,  -999.0, -999.00,  -999.0
    31DSCG96_1,  P14S,    10,  2,    216,   1211,2,19960110,0203,-54.9955, 172.0123, 5345,   -999,   1440.1,   2.4181,  34.6088,2,  34.6059,2,    176.7,2,  2.3216,    175.1,2,    74.41,2,    33.52,2,     0.00,2,     2.28,2, -999.000,9, -999.000,9,   -999.0,9,  -999.00,9,   -999.0,9,   -999.0,9,   -999.0,9,  -999.00,9, -999.00,  -999.0, -999.00,  -999.0
    31DSCG96_1,  P14S,    10,  2,    215,   1041,2,19960110,0203,-54.9955, 172.0123, 5345,   -999,   1689.9,   2.2837,  34.6779,2,  34.6779,2,    179.0,2,  2.1687,    178.8,2,    79.91,2,    32.36,2,     0.00,2,     2.20,2, -999.000,9, -999.000,9,   -999.0,9,  -999.00,9,   -999.0,9,   -999.0,9,   -999.0,9,     7.59,2, -999.00,  -999.0, -999.00,  -999.0
    31DSCG96_1,  P14S,    10,  2,    214,   1017,2,19960110,0203,-54.9955, 172.0123, 5345,   -999,   1939.9,   2.1305,  34.7169,2,  34.7192,2,    185.7,2,  1.9969,    185.4,2,    84.00,2,    31.51,2,     0.00,2,     2.14,2,    0.095,6,    0.050,6,   -999.0,9,  -999.00,9,   -999.0,9,   -999.0,9,   -999.0,9,  -999.00,9, -999.00,  -999.0, -999.00,  -999.0
    31DSCG96_1,  P14S,    10,  2,    213,   1008,2,19960110,0203,-54.9955, 172.0123, 5345,   -999,   2199.5,   1.9630,  34.7352,2,  34.7351,2,    191.4,2,  1.8098,    189.9,2,    88.63,2,    31.05,2,     0.00,2,     2.11,2, -999.000,9, -999.000,9,   -999.0,9,  -999.00,9,   -999.0,9,   -999.0,9,   -999.0,9,     7.61,2, -999.00,  -999.0, -999.00,  -999.0
    31DSCG96_1,  P14S,    10,  2,    212,   1217,2,19960110,0203,-54.9955, 172.0123, 5345,   -999,   2442.1,   1.7906,  34.7401,2,  34.7382,2,    195.6,2,  1.6190,    195.0,2,    93.73,2,    30.91,2,     0.00,2,     2.11,2, -999.000,9, -999.000,9,   -999.0,9,  -999.00,9,   -999.0,9,   -999.0,9,   -999.0,9,  -999.00,9, -999.00,  -999.0, -999.00,  -999.0
    31DSCG96_1,  P14S,    10,  2,    211,   1114,2,19960110,0203,-54.9955, 172.0123, 5345,   -999,   2690.5,   1.6186,  34.7383,2,  34.7371,2,    198.8,2,  1.4278,    196.9,2,    98.99,6,    31.13,6,     0.00,6,     2.11,3,    0.050,6,    0.022,2,   -999.0,9,  -999.00,9,   -999.0,9,   -999.0,9,   -999.0,9,     7.61,2, -999.00,  -999.0, -999.00,  -999.0
    31DSCG96_1,  P14S,    10,  2,    210,   1036,2,19960110,0203,-54.9955, 172.0123, 5345,   -999,   2941.3,   1.4160,  34.7327,2,  34.7305,2,    201.1,2,  1.2063,    199.6,2,   105.30,2,    31.28,2,     0.00,2,     2.13,2, -999.000,9, -999.000,9,   -999.0,9,  -999.00,9,   -999.0,9,   -999.0,9,   -999.0,9,  -999.00,9, -999.00,  -999.0, -999.00,  -999.0
    31DSCG96_1,  P14S,    10,  2,    209,   1216,2,19960110,0203,-54.9955, 172.0123, 5345,   -999,   3185.2,   1.3006,  34.7277,2,  34.7260,2,    202.9,2,  1.0702,    201.0,2,   108.98,2,    31.50,2,     0.00,2,     2.15,2, -999.000,9, -999.000,9,   -999.0,9,  -999.00,9,   -999.0,9,   -999.0,9,   -999.0,9,     7.61,2, -999.00,  -999.0, -999.00,  -999.0
    31DSCG96_1,  P14S,    10,  2,    208,   1018,2,19960110,0203,-54.9955, 172.0123, 5345,   -999,   3433.9,   1.1649,  34.7219,2,  34.7231,2,    205.0,2,  0.9136,    203.2,6,   113.36,2,    31.66,2,     0.00,2,     2.16,2,    0.049,2,    0.033,2,   -999.0,9,  -999.00,9,   -999.0,9,   -999.0,9,   -999.0,9,  -999.00,9, -999.00,  -999.0, -999.00,  -999.0
    31DSCG96_1,  P14S,    10,  2,    207,   1245,2,19960110,0203,-54.9955, 172.0123, 5345,   -999,   3690.1,   1.0828,  34.7175,2,  34.7155,2,    206.8,2,  0.8077,    205.1,2,   116.09,2,    31.78,2,     0.00,2,     2.16,2, -999.000,9, -999.000,9,   -999.0,9,  -999.00,9,   -999.0,9,   -999.0,9,   -999.0,9,     7.61,2, -999.00,  -999.0, -999.00,  -999.0
    31DSCG96_1,  P14S,    10,  2,    206,   1262,2,19960110,0203,-54.9955, 172.0123, 5345,   -999,   3938.5,   0.9998,  34.7132,2,  34.7109,2,    208.6,2,  0.7013,    206.4,2,   118.83,2,    31.87,2,     0.00,2,     2.18,2,    0.076,2,    0.039,2,   -999.0,9,  -999.00,9,   -999.0,9,   -999.0,9,   -999.0,9,  -999.00,9, -999.00,  -999.0, -999.00,  -999.0
    31DSCG96_1,  P14S,    10,  2,    205,   1113,2,19960110,0203,-54.9955, 172.0123, 5345,   -999,   4376.4,   0.9140,  34.7078,2,  34.7069,2,    210.9,2,  0.5709,    209.0,2,   121.96,2,    32.05,2,     0.00,2,     2.19,2, -999.000,5, -999.000,5,   -999.0,9,  -999.00,9,   -999.0,9,   -999.0,9,   -999.0,9,     7.61,2, -999.00,  -999.0, -999.00,  -999.0
    31DSCG96_1,  P14S,    10,  2,    204,   1003,2,19960110,0203,-54.9955, 172.0123, 5345,   -999,   4874.4,   0.8861,  34.7045,2,  34.7037,2,    211.9,2,  0.4873,    210.3,6,   124.29,2,    32.06,2,     0.00,2,     2.19,2,    0.124,2,    0.075,2,   -999.0,9,  -999.00,9,   -999.0,9,   -999.0,9,   -999.0,9,  -999.00,9, -999.00,  -999.0, -999.00,  -999.0
    31DSCG96_1,  P14S,    10,  2,    203,   9999,2,19960110,0203,-54.9955, 172.0123, 5345,   -999,   5334.7,   0.8911,  34.7023,2,  34.7011,2,    211.4,2,  0.4370,    210.2,2,   125.63,6,    32.34,2,     0.00,6,     2.18,2,    0.155,2,    0.108,4,   -999.0,9,  -999.00,9,   -999.0,9,   -999.0,9,   -999.0,9,     7.61,2, -999.00,  -999.0, -999.00,  -999.0
    31DSCG96_1,  P14S,    10,  2,    202,   1027,2,19960110,0203,-54.9955, 172.0123, 5345,   -999,   5334.9,   0.8911,  34.7022,2,  34.7009,2,    211.4,2,  0.4370,    210.8,2,   125.66,2,  -999.00,5,     0.00,2,     2.18,2,    0.156,2,    0.082,2,   -999.0,9,  -999.00,9,   -999.0,9,   -999.0,9,   -999.0,9,  -999.00,9, -999.00,  -999.0, -999.00,  -999.0
    31DSCG96_1,  P14S,    10,  2,    201,   1022,2,19960110,0203,-54.9955, 172.0123, 5345,   -999,   5467.8,   0.9082,  34.7020,2,  34.7018,2,    211.7,2,  0.4371,    211.3,2,   125.71,6,    32.44,6,     0.00,6,     2.18,6,    0.156,6,    0.081,6,   -999.0,9,  -999.00,9,   -999.0,9,   -999.0,9,   -999.0,9,     7.61,2, -999.00,  -999.0, -999.00,  -999.0