BOTTLE,20220811CCHSIOAMB
EXPOCODE,SECT_ID,STNNBR,CASTNO,SAMPNO,BTLNBR,BTLNBR_FLAG_W,DATE,TIME,LATITUDE,LONGITUDE,DEPTH,CTDRAW,CTDPRS,CTDTMP,CTDSAL,CTDSAL_FLAG_W,SALNTY,SALNTY_FLAG_W,CTDOXY,CTDOXY_FLAG_W,THETA,OXYGEN,OXYGEN_FLAG_W,SILCAT,SILCAT_FLAG_W,NITRAT,NITRAT_FLAG_W,NITRIT,NITRIT_FLAG_W,PHSPHT,PHSPHT_FLAG_W,CFC-11,CFC-11_FLAG_W,CFC-12,CFC-12_FLAG_W,DELC14,DELC14_FLAG_W,DELC13,DELC13_FLAG_W,TCARBN,TCARBN_FLAG_W,PCO2,PCO2_FLAG_W,ALKALI,ALKALI_FLAG_W,PH,PH_FLAG_W,PCO2TMP,C14ERR,PH_TMP,C13ERR
,,,,,,,,,,,,DBAR,DBAR,ITS-90,PSS-78,,PSS-78,,UMOL/KG,,DEG C,UMOL/KG,,UMOL/KG,,UMOL/KG,,UMOL/KG,,UMOL/KG,,PMOL/KG,,PMOL/KG,,/MILLE,,/MILLE,,UMOL/KG,,UATM,,UMOL/KG,,,,DEG C,/MILLE,DEG C,/MILLE
    31DSCG96_2,  P15S,    96,  1,    136,   1245,2,19960214,0937,-39.5168,-172.4195, 4751,   -999,      4.2,  18.4150,  35.1031,2,  35.1046,2,    236.6,2, 18.4142,    237.0,2,     1.23,2,     0.04,2,     0.00,2,     0.11,2,    2.599,2,    1.419,2,     81.8,2,  -999.00,9,   2033.1,2,    357.8,2,   2314.4,2,     8.01,2, -999.00,     3.3, -999.00,  -999.0
    31DSCG96_2,  P15S,    96,  1,    135,   1113,2,19960214,0937,-39.5168,-172.4195, 4751,   -999,     18.4,  18.4030,  35.1069,2,  35.1047,2,    237.4,2, 18.3997,    236.7,2,     1.22,2,     0.06,2,     0.00,2,     0.11,2,    2.585,6,    1.409,6,   -999.0,9,  -999.00,9,   -999.0,9,   -999.0,9,   -999.0,9,  -999.00,9, -999.00,  -999.0, -999.00,  -999.0
    31DSCG96_2,  P15S,    96,  1,    134,   1119,2,19960214,0937,-39.5168,-172.4195, 4751,   -999,     44.0,  18.4813,  35.3013,2,  35.3032,2,    236.6,2, 18.4736,    236.1,2,     1.35,2,     0.07,2,     0.00,2,     0.12,2,    2.559,2,    1.390,2,   -999.0,9,  -999.00,9,   2037.4,2,    354.2,2,   2327.0,2,     8.01,2, -999.00,  -999.0, -999.00,  -999.0
    31DSCG96_2,  P15S,    96,  1,    133,   1221,2,19960214,0937,-39.5168,-172.4195, 4751,   -999,     68.7,  14.6829,  35.2707,2,  35.2694,2,    237.5,2, 14.6727,    236.7,2,     2.02,2,     1.27,2,     0.10,2,     0.29,2, -999.000,9, -999.000,9,   -999.0,9,  -999.00,9,   -999.0,9,   -999.0,9,   -999.0,9,  -999.00,9, -999.00,  -999.0, -999.00,  -999.0
    31DSCG96_2,  P15S,    96,  1,    132,   1039,2,19960214,0937,-39.5168,-172.4195, 4751,   -999,     96.0,  13.4584,  35.2321,2,  35.2357,2,    227.3,2, 13.4449,    224.8,2,     3.11,2,     7.15,2,     0.02,2,     0.56,2,    2.905,2,    1.528,2,   -999.0,9,  -999.00,9,   2088.1,2,    482.9,2,   2318.4,2,     7.90,2, -999.00,  -999.0, -999.00,  -999.0
    31DSCG96_2,  P15S,    96,  1,    131,   1014,2,19960214,0937,-39.5168,-172.4195, 4751,   -999,    121.3,  12.9141,  35.1661,2,  35.1655,2,    231.7,2, 12.8975,    228.9,2,     3.25,2,     7.65,2,     0.01,2,     0.59,2, -999.000,9, -999.000,9,   -999.0,9,  -999.00,9,   -999.0,9,   -999.0,9,   -999.0,9,  -999.00,9, -999.00,  -999.0, -999.00,  -999.0
    31DSCG96_2,  P15S,    96,  1,    130,   1257,2,19960214,0937,-39.5168,-172.4195, 4751,   -999,    144.9,  12.6685,  35.1417,2,  35.1395,2,    235.0,2, 12.6489,    231.1,2,     3.39,2,     8.01,2,     0.01,2,     0.62,2,    2.995,2,    1.582,2,   -999.0,9,  -999.00,9,   2094.6,2,    502.7,2,   2312.3,2,     7.88,2, -999.00,  -999.0, -999.00,  -999.0
    31DSCG96_2,  P15S,    96,  1,    129,   1256,2,19960214,0937,-39.5168,-172.4195, 4751,   -999,    190.8,  12.6069,  35.1592,2,  35.1576,2,    238.9,2, 12.5811,    239.7,2,     3.11,2,     7.70,2,     0.01,2,     0.59,2,    3.102,2,    1.618,2,   -999.0,9,  -999.00,9,   2092.9,2,    499.0,2,   2316.3,2,     7.89,2, -999.00,  -999.0, -999.00,  -999.0
    31DSCG96_2,  P15S,    96,  1,    128,   1007,2,19960214,0937,-39.5168,-172.4195, 4751,   -999,    239.1,  11.7912,  35.0117,2,  35.0091,2,    227.1,2, 11.7603,    223.5,2,     4.19,2,    10.91,2,     0.01,2,     0.78,2,    2.921,2,    1.517,2,   -999.0,9,  -999.00,9,   2103.9,2,    556.7,2,   2305.4,2,     7.85,2, -999.00,  -999.0, -999.00,  -999.0
    31DSCG96_2,  P15S,    96,  1,    127,   1232,2,19960214,0937,-39.5168,-172.4195, 4751,   -999,    288.2,  11.1772,  34.9177,2,  34.9141,2,    213.8,2, 11.1412,    214.6,2,     5.03,2,    13.24,2,     0.00,2,     0.93,2,    2.802,2,    1.432,2,   -999.0,9,  -999.00,9,   2116.2,2,    606.3,2,   2303.1,2,     7.82,2, -999.00,  -999.0, -999.00,  -999.0
    31DSCG96_2,  P15S,    96,  1,    126,   1025,2,19960214,0937,-39.5168,-172.4195, 4751,   -999,    340.3,  10.5351,  34.8332,2,  34.8305,2,    202.0,2, 10.4941,    204.1,2,     6.27,2,    16.01,2,     0.00,2,     1.10,2, -999.000,9, -999.000,9,   -999.0,9,  -999.00,9,   -999.0,9,   -999.0,9,   -999.0,9,  -999.00,9, -999.00,  -999.0, -999.00,  -999.0
    31DSCG96_2,  P15S,    96,  1,    125,   1233,2,19960214,0937,-39.5168,-172.4195, 4751,   -999,    387.7,   9.9765,  34.7600,2,  34.7582,2,    203.3,2,  9.9312,    200.4,2,     7.08,2,    17.74,2,     0.00,2,     1.21,2,    2.346,2,    1.185,2,   -999.0,9,  -999.00,9,   -999.0,9,   -999.0,9,   -999.0,9,  -999.00,9, -999.00,  -999.0, -999.00,  -999.0
    31DSCG96_2,  P15S,    96,  1,    124,   1013,2,19960214,0937,-39.5168,-172.4195, 4751,   -999,    477.3,   8.8846,  34.6254,2,  34.6255,2,    206.4,2,  8.8326,    206.1,2,     8.01,2,    19.99,2,     0.00,2,     1.36,2,    2.243,2,    1.104,2,   -999.0,9,  -999.00,9,   2135.1,2,    730.6,2,   2290.9,2,     7.74,2, -999.00,  -999.0, -999.00,  -999.0
    31DSCG96_2,  P15S,    96,  1,    123,   1250,2,19960214,0937,-39.5168,-172.4195, 4751,   -999,    580.0,   8.0969,  34.5436,2,  34.5428,2,    211.8,2,  8.0367,    211.2,6,     9.27,2,    21.57,2,     0.00,2,     1.46,2,    1.893,2,    0.930,2,   -999.0,9,  -999.00,9,   -999.0,9,   -999.0,9,   -999.0,9,  -999.00,9, -999.00,  -999.0, -999.00,  -999.0
    31DSCG96_2,  P15S,    96,  1,    122,   1265,2,19960214,0937,-39.5168,-172.4195, 4751,   -999,    673.0,   7.4823,  34.4927,2,  34.4913,2,    210.8,2,  7.4152,    211.3,2,    11.27,2,    23.17,2,     0.00,2,     1.57,2,    1.228,2,    0.616,2,   -999.0,9,  -999.00,9,   -999.0,9,   -999.0,9,   -999.0,9,  -999.00,9, -999.00,  -999.0, -999.00,  -999.0
    31DSCG96_2,  P15S,    96,  1,    121,   1246,2,19960214,0937,-39.5168,-172.4195, 4751,   -999,    775.6,   6.9756,  34.4670,2,  34.4652,2,    204.6,2,  6.9007,    206.3,2,    15.34,2,    24.77,2,     0.00,2,     1.68,2,    0.875,2,    0.442,2,   -999.0,9,  -999.00,9,   2153.5,2,    825.6,2,   2294.4,2,     7.71,2, -999.00,  -999.0, -999.00,  -999.0
    31DSCG96_2,  P15S,    96,  1,    120,   1015,2,19960214,0937,-39.5168,-172.4195, 4751,   -999,    872.8,   6.4577,  34.4489,2,  34.4482,2,    198.2,2,  6.3762,    200.0,2,    20.43,2,    26.40,2,     0.00,2,     1.79,2,    0.553,2,    0.289,2,   -999.0,9,  -999.00,9,   -999.0,9,   -999.0,9,   -999.0,9,  -999.00,9, -999.00,  -999.0, -999.00,  -999.0
    31DSCG96_2,  P15S,    96,  1,    119,   1247,2,19960214,0937,-39.5168,-172.4195, 4751,   -999,    974.6,   5.7795,  34.4281,2,  34.4275,2,    192.1,2,  5.6929,    194.0,2,    27.32,2,    28.28,2,     0.00,2,     1.92,2,    0.347,6,    0.183,6,   -999.0,9,  -999.00,9,   -999.0,9,   -999.0,9,   -999.0,9,  -999.00,9, -999.00,  -999.0, -999.00,  -999.0
    31DSCG96_2,  P15S,    96,  1,    118,   1222,2,19960214,0937,-39.5168,-172.4195, 4751,   -999,   1078.3,   5.2326,  34.4362,2,  34.4360,2,    185.0,2,  5.1404,    186.3,2,    35.71,2,    29.74,2,     0.00,2,     2.02,2,    0.203,2,    0.108,2,   -999.0,9,  -999.00,9,   2191.2,2,    959.4,2,   2308.9,2,     7.65,2, -999.00,  -999.0, -999.00,  -999.0
    31DSCG96_2,  P15S,    96,  1,    117,   1267,2,19960214,0937,-39.5168,-172.4195, 4751,   -999,   1174.9,   4.7510,  34.4550,2,  34.4538,2,    179.8,2,  4.6539,    180.1,2,    45.39,2,    31.01,2,     0.00,2,     2.12,2,    0.140,2,    0.078,2,   -999.0,9,  -999.00,9,   -999.0,9,   -999.0,9,   -999.0,9,  -999.00,9, -999.00,  -999.0, -999.00,  -999.0
    31DSCG96_2,  P15S,    96,  1,    116,   1211,2,19960214,0937,-39.5168,-172.4195, 4751,   -999,   1278.0,   4.2030,  34.4627,2,  34.4612,2,    175.2,2,  4.1017,    175.8,2,    53.44,2,    32.19,2,     0.00,2,     2.20,2,    0.085,2,    0.047,2,   -999.0,9,  -999.00,9,   -999.0,9,   -999.0,9,   -999.0,9,  -999.00,9, -999.00,  -999.0, -999.00,  -999.0
    31DSCG96_2,  P15S,    96,  1,    115,   1041,2,19960214,0937,-39.5168,-172.4195, 4751,   -999,   1452.7,   3.5594,  34.5164,2,  34.5158,2,    166.8,2,  3.4494,    166.1,2,    71.05,2,    33.48,2,     0.00,2,     2.30,2,    0.044,2,    0.027,2,   -999.0,9,  -999.00,9,   2242.4,2,   1110.3,2,   2347.5,2,     7.60,2, -999.00,  -999.0, -999.00,  -999.0
    31DSCG96_2,  P15S,    96,  1,    114,   1017,2,19960214,0937,-39.5168,-172.4195, 4751,   -999,   1691.1,   2.8927,  34.5682,2,  34.5657,2,    158.8,2,  2.7700,    158.6,2,    88.59,2,    34.60,2,     0.00,2,     2.38,2,    0.018,2,    0.013,2,   -999.0,9,  -999.00,9,   -999.0,9,   -999.0,9,   -999.0,9,  -999.00,9, -999.00,  -999.0, -999.00,  -999.0
    31DSCG96_2,  P15S,    96,  1,    113,   1302,2,19960214,0937,-39.5168,-172.4195, 4751,   -999,   1941.7,   2.5348,  34.6072,2,  34.6066,2,    153.2,2,  2.3954,    152.7,2,   102.51,2,    35.25,2,     0.00,2,     2.43,2,    0.005,2,    0.004,2,   -999.0,9,  -999.00,9,   2283.8,2,   1192.3,2,   2379.8,2,     7.58,2, -999.00,  -999.0, -999.00,  -999.0
    31DSCG96_2,  P15S,    96,  1,    112,   1217,2,19960214,0937,-39.5168,-172.4195, 4751,   -999,   2195.0,   2.3444,  34.6282,2,  34.6275,2,    152.0,2,  2.1856,    150.9,2,   110.39,2,    35.40,2,     0.00,2,     2.45,2,    0.004,2,    0.002,2,   -999.0,9,  -999.00,9,   -999.0,9,   -999.0,9,   -999.0,9,  -999.00,9, -999.00,  -999.0, -999.00,  -999.0
    31DSCG96_2,  P15S,    96,  1,    111,   1114,2,19960214,0937,-39.5168,-172.4195, 4751,   -999,   2436.9,   2.1748,  34.6458,2,  34.6454,2,    152.4,2,  1.9971,    151.1,2,   115.32,2,    35.49,2,     0.00,2,     2.45,2,    0.001,2,    0.002,2,   -999.0,9,  -999.00,9,   2298.1,2,   1195.2,2,   2396.7,2,     7.58,2, -999.00,  -999.0, -999.00,  -999.0
    31DSCG96_2,  P15S,    96,  1,    110,   1301,2,19960214,0937,-39.5168,-172.4195, 4751,   -999,   2686.1,   2.0018,  34.6660,2,  34.6638,2,    156.2,2,  1.8042,    155.2,2,   117.75,2,    35.19,2,     0.00,2,     2.43,2,    0.003,2,    0.004,2,   -999.0,9,  -999.00,9,   -999.0,9,   -999.0,9,   -999.0,9,  -999.00,9, -999.00,  -999.0, -999.00,  -999.0
    31DSCG96_2,  P15S,    96,  1,    109,   1242,2,19960214,0937,-39.5168,-172.4195, 4751,   -999,   2940.2,   1.8410,  34.6983,2,  34.6973,2,    173.3,2,  1.6223,    171.8,2,   109.85,2,    33.56,2,     0.00,2,     2.30,2,    0.006,2,    0.003,2,   -999.0,9,  -999.00,9,   2279.9,2,   1141.1,2,   2380.5,2,     7.59,2, -999.00,  -999.0, -999.00,  -999.0
    31DSCG96_2,  P15S,    96,  1,    108,   1263,2,19960214,0937,-39.5168,-172.4195, 4751,   -999,   3187.7,   1.6731,  34.7189,2,  34.7181,2,    187.0,2,  1.4339,    186.5,2,   105.30,2,    32.31,2,     0.00,2,     2.21,2,    0.003,2,    0.005,2,   -999.0,9,  -999.00,9,   -999.0,9,   -999.0,9,   -999.0,9,  -999.00,9, -999.00,  -999.0, -999.00,  -999.0
    31DSCG96_2,  P15S,    96,  1,    107,   1227,2,19960214,0937,-39.5168,-172.4195, 4751,   -999,   3435.5,   1.4916,  34.7277,2,  34.7274,2,    197.1,2,  1.2319,    196.3,6,   105.43,2,    31.69,2,     0.00,2,     2.17,2,    0.013,2,    0.009,2,   -999.0,9,  -999.00,9,   2254.9,2,   1073.9,2,   2367.1,2,     7.61,2, -999.00,  -999.0, -999.00,  -999.0
    31DSCG96_2,  P15S,    96,  1,    106,   1262,2,19960214,0937,-39.5168,-172.4195, 4751,   -999,   3693.2,   1.2941,  34.7223,2,  34.7221,2,    201.2,2,  1.0131,    200.5,2,   110.72,2,    31.81,2,     0.00,2,     2.17,2,    0.015,2,    0.009,2,   -999.0,9,  -999.00,9,   -999.0,9,   -999.0,9,   -999.0,9,  -999.00,9, -999.00,  -999.0, -999.00,  -999.0
    31DSCG96_2,  P15S,    96,  1,    105,   1264,2,19960214,0937,-39.5168,-172.4195, 4751,   -999,   3940.0,   1.1106,  34.7156,2,  34.7154,2,    204.2,2,  0.8088,    203.9,2,   116.02,2,    32.03,2,     0.00,2,     2.19,2,    0.020,2,    0.012,2,   -999.0,9,  -999.00,9,   2259.9,2,   1077.6,2,   2370.3,2,     7.61,2, -999.00,  -999.0, -999.00,  -999.0
    31DSCG96_2,  P15S,    96,  1,    104,   1003,2,19960214,0937,-39.5168,-172.4195, 4751,   -999,   4188.7,   1.0055,  34.7109,2,  34.7113,2,    206.1,2,  0.6801,    205.6,2,   119.37,2,    32.18,2,     0.00,2,     2.19,2,    0.029,2,    0.015,2,   -999.0,9,  -999.00,9,   -999.0,9,   -999.0,9,   -999.0,9,  -999.00,9, -999.00,  -999.0, -999.00,  -999.0
    31DSCG96_2,  P15S,    96,  1,    103,    999,2,19960214,0937,-39.5168,-172.4195, 4751,   -999,   4445.4,   0.9620,  34.7079,2,  34.7080,2,    207.5,2,  0.6097,    206.4,2,   121.29,2,    32.32,2,     0.00,2,     2.21,2,    0.037,2,    0.023,2,   -999.0,9,  -999.00,9,   2261.2,2,   1086.5,2,   2368.3,2,     7.61,2, -999.00,  -999.0, -999.00,  -999.0
    31DSCG96_2,  P15S,    96,  1,    102,   1030,2,19960214,0937,-39.5168,-172.4195, 4751,   -999,   4690.1,   0.9430,  34.7059,2,  34.7052,2,    208.2,2,  0.5636,    207.7,2,   122.79,2,    32.49,2,     0.00,2,     2.21,2,    0.055,6,    0.028,6,   -999.0,9,  -999.00,9,   -999.0,9,   -999.0,9,   -999.0,9,  -999.00,9, -999.00,  -999.0, -999.00,  -999.0
    31DSCG96_2,  P15S,    96,  1,    101,   1022,2,19960214,0937,-39.5168,-172.4195, 4751,   -999,   4846.1,   0.9441,  34.7053,2,  34.7049,2,    208.3,2,  0.5467,    207.7,2,   123.20,6,    32.39,6,     0.00,6,     2.22,2,    0.070,2,    0.031,2,   -999.0,9,  -999.00,9,   2261.1,2,   1097.6,2,   2371.2,2,     7.61,2, -999.00,  -999.0, -999.00,  -999.0