BOTTLE,20220811CCHSIOAMB
EXPOCODE,SECT_ID,STNNBR,CASTNO,SAMPNO,BTLNBR,BTLNBR_FLAG_W,DATE,TIME,LATITUDE,LONGITUDE,DEPTH,CTDRAW,CTDPRS,CTDTMP,CTDSAL,CTDSAL_FLAG_W,SALNTY,SALNTY_FLAG_W,CTDOXY,CTDOXY_FLAG_W,THETA,OXYGEN,OXYGEN_FLAG_W,SILCAT,SILCAT_FLAG_W,NITRAT,NITRAT_FLAG_W,NITRIT,NITRIT_FLAG_W,PHSPHT,PHSPHT_FLAG_W,CFC-11,CFC-11_FLAG_W,CFC-12,CFC-12_FLAG_W,DELC14,DELC14_FLAG_W,DELC13,DELC13_FLAG_W,TCARBN,TCARBN_FLAG_W,PCO2,PCO2_FLAG_W,ALKALI,ALKALI_FLAG_W,PH,PH_FLAG_W,PCO2TMP,C14ERR,PH_TMP,C13ERR
,,,,,,,,,,,,DBAR,DBAR,ITS-90,PSS-78,,PSS-78,,UMOL/KG,,DEG C,UMOL/KG,,UMOL/KG,,UMOL/KG,,UMOL/KG,,UMOL/KG,,PMOL/KG,,PMOL/KG,,/MILLE,,/MILLE,,UMOL/KG,,UATM,,UMOL/KG,,,,DEG C,/MILLE,DEG C,/MILLE
    31DSCG96_1,  P15S,    43,  1,    140,   -999,2,19960121,0037,-61.4920,-169.9995, 3501,   -999,      0.0,-999.0000,-999.0000,9,-999.0000,5,   -999.0,9,-999.0000,   -999.0,9,  -999.00,9,  -999.00,9,  -999.00,9,  -999.00,9, -999.000,9, -999.000,9,   -999.0,9,  -999.00,9,   2179.0,2,   -999.0,9,   -999.0,9,  -999.00,9, -999.00,  -999.0, -999.00,  -999.0
    31DSCG96_1,  P15S,    43,  1,    124,    429,2,19960121,0037,-61.4920,-169.9995, 3501,   -999,      9.0,   1.6025,  33.7115,2,  33.7162,2,    349.6,2,  1.6021,    349.2,2,     0.93,2,    21.86,2,     0.21,2,     1.25,2,    6.481,2,    3.129,2,   -103.7,2,     1.83,2,   -999.0,9,    672.6,2,   -999.0,9,  -999.00,9, -999.00,     3.0, -999.00,  -999.0
    31DSCG96_1,  P15S,    43,  1,    123,    428,2,19960121,0037,-61.4920,-169.9995, 3501,   -999,     28.5,   1.5962,  33.7093,2,  33.7155,2,    353.8,2,  1.5948,    348.6,2,     0.97,2,    21.88,2,     0.21,2,     1.27,2,    6.386,2,    3.151,2,   -999.0,5,     1.82,2,   -999.0,9,   -999.0,9,   -999.0,9,  -999.00,9, -999.00,  -999.0, -999.00,  -999.0
    31DSCG96_1,  P15S,    43,  1,    122,    407,2,19960121,0037,-61.4920,-169.9995, 3501,   -999,     57.4,   0.5902,  33.8316,2,  33.7977,3,    352.6,2,  0.5880,    342.8,2,    12.20,2,    24.46,2,     0.18,2,     1.72,2,    6.666,2,    3.218,2,   -100.6,2,     1.48,2,   -999.0,9,   -999.0,9,   -999.0,9,  -999.00,9, -999.00,     2.7, -999.00,  -999.0
    31DSCG96_1,  P15S,    43,  1,    121,    417,2,19960121,0037,-61.4920,-169.9995, 3501,   -999,     83.4,   0.2024,  33.8368,2,  33.8620,3,    344.1,2,  0.1994,    336.0,2,    21.77,2,    26.28,2,     0.17,2,     1.89,2,    6.393,2,    3.103,2,    -85.7,2,     1.36,2,   -999.0,9,   -999.0,9,   -999.0,9,  -999.00,9, -999.00,     3.0, -999.00,  -999.0
    31DSCG96_1,  P15S,    43,  1,    120,    405,2,19960121,0037,-61.4920,-169.9995, 3501,   -999,    114.9,   0.3084,  33.9779,2,  33.9614,2,    332.8,2,  0.3040,    318.6,2,    30.48,2,    28.77,2,     0.21,2,     2.00,2,    5.846,6,    2.840,6,    -87.4,2,     1.21,2,   -999.0,9,   -999.0,9,   -999.0,9,  -999.00,9, -999.00,     3.0, -999.00,  -999.0
    31DSCG96_1,  P15S,    43,  1,    119,    416,2,19960121,0037,-61.4920,-169.9995, 3501,   -999,    164.0,  -1.0130,  33.9776,2,  33.9684,2,    282.0,2, -1.0174,    347.5,3,    48.12,2,    29.28,2,     0.13,2,     2.06,2,    6.101,2,    2.976,2,   -112.6,2,     1.02,2,   -999.0,9,   -999.0,9,   -999.0,9,  -999.00,9, -999.00,     2.4, -999.00,  -999.0
    31DSCG96_1,  P15S,    43,  1,    118,    420,2,19960121,0037,-61.4920,-169.9995, 3501,   -999,    210.6,   0.3745,  34.1849,2,  34.0960,3,    252.9,2,  0.3662,    291.0,2,    45.85,2,    31.08,2,     0.12,2,     2.15,2,    4.839,2,    2.363,2,   -119.9,2,     0.93,2,   -999.0,9,   -999.0,9,   -999.0,9,  -999.00,9, -999.00,     5.5, -999.00,  -999.0
    31DSCG96_1,  P15S,    43,  1,    117,    424,2,19960121,0037,-61.4920,-169.9995, 3501,   -999,    262.5,   1.3647,  34.2786,2,  34.2718,2,    236.2,2,  1.3520,    235.3,2,    54.29,2,    33.32,2,     0.02,2,     2.28,2,    2.902,2,    1.391,2,   -145.2,2,     0.71,2,   -999.0,9,   -999.0,9,   -999.0,9,  -999.00,9, -999.00,     2.8, -999.00,  -999.0
    31DSCG96_1,  P15S,    43,  1,    116,    409,2,19960121,0037,-61.4920,-169.9995, 3501,   -999,    326.3,   1.8995,  34.3905,2,  34.3930,2,    215.3,2,  1.8821,    199.9,2,    62.04,2,    34.49,2,     0.01,2,     2.37,2,    1.683,2,    0.807,2,   -142.1,2,     0.54,2,   -999.0,9,   -999.0,9,   -999.0,9,  -999.00,9, -999.00,     8.4, -999.00,  -999.0
    31DSCG96_1,  P15S,    43,  1,    115,    413,2,19960121,0037,-61.4920,-169.9995, 3501,   -999,    431.9,   2.2128,  34.5123,2,  34.5162,2,    174.8,2,  2.1882,    176.7,2,    70.60,2,    34.69,2,     0.01,2,     2.38,2,    0.756,2,    0.380,2,   -153.5,2,     0.42,2,   -999.0,9,   -999.0,9,   -999.0,9,  -999.00,9, -999.00,     2.7, -999.00,  -999.0
    31DSCG96_1,  P15S,    43,  1,    114,    419,2,19960121,0037,-61.4920,-169.9995, 3501,   -999,    517.7,   2.2696,  34.5696,2,  34.5716,2,    172.0,2,  2.2394,    172.5,2,    73.96,6,    34.43,2,     0.00,6,     2.35,6,    0.482,2,    0.230,2,   -161.5,6,     0.44,6,   -999.0,9,   -999.0,9,   -999.0,9,  -999.00,9, -999.00,     3.5, -999.00,  -999.0
    31DSCG96_1,  P15S,    43,  1,    113,    434,2,19960121,0037,-61.4920,-169.9995, 3501,   -999,    619.6,   2.2584,  34.6208,2,  34.6208,2,    172.1,2,  2.2218,    172.4,2,    76.98,6,    33.76,2,     0.00,6,     2.30,2,    0.311,2,    0.157,2,   -174.2,2,     0.40,2,   -999.0,9,   -999.0,9,   -999.0,9,  -999.00,9, -999.00,     2.6, -999.00,  -999.0
    31DSCG96_1,  P15S,    43,  1,    112,    404,2,19960121,0037,-61.4920,-169.9995, 3501,   -999,    717.4,   2.2142,  34.6511,2,  34.6521,2,    174.3,2,  2.1714,    175.5,2,    79.00,2,    33.08,2,     0.01,2,     2.27,2,    0.224,2,    0.115,2,   -175.4,2,     0.41,2,   -999.0,9,   -999.0,9,   -999.0,9,  -999.00,9, -999.00,     2.1, -999.00,  -999.0
    31DSCG96_1,  P15S,    43,  1,    111,    427,2,19960121,0037,-61.4920,-169.9995, 3501,   -999,    817.9,   2.1645,  34.6780,2,  34.6792,2,    176.7,2,  2.1153,    178.2,2,    80.66,2,    32.52,2,     0.00,2,     2.23,2,    0.188,6,    0.091,6,   -178.4,2,     0.42,2,   -999.0,9,   -999.0,9,   -999.0,9,  -999.00,9, -999.00,     2.8, -999.00,  -999.0
    31DSCG96_1,  P15S,    43,  1,    110,    401,2,19960121,0037,-61.4920,-169.9995, 3501,   -999,    912.3,   2.1028,  34.6971,2,  34.6967,2,    179.2,2,  2.0476,    180.7,2,    82.09,2,    32.01,2,     0.00,2,     2.20,2,    0.157,2,    0.105,2,   -999.0,5,     0.42,2,   -999.0,9,   -999.0,9,   -999.0,9,  -999.00,9, -999.00,  -999.0, -999.00,  -999.0
    31DSCG96_1,  P15S,    43,  1,    109,    435,2,19960121,0037,-61.4920,-169.9995, 3501,   -999,   1024.0,   2.0382,  34.7111,2,  34.7115,2,    184.1,2,  1.9758,    183.0,2,    83.93,2,    31.82,2,     0.00,2,     2.17,2,    0.147,2,    0.076,2,   -999.0,5,     0.44,2,   -999.0,9,   -999.0,9,   -999.0,9,  -999.00,9, -999.00,  -999.0, -999.00,  -999.0
    31DSCG96_1,  P15S,    43,  1,    108,    440,2,19960121,0037,-61.4920,-169.9995, 3501,   -999,   1119.4,   1.9868,  34.7202,2,  34.7222,2,    185.4,2,  1.9182,    186.0,2,    85.28,2,    31.84,2,     0.00,2,     2.14,2,    0.119,2,    0.077,2,   -246.8,4,    -2.76,4,   -999.0,9,   -999.0,9,   -999.0,9,  -999.00,9, -999.00,     3.0, -999.00,  -999.0
    31DSCG96_1,  P15S,    43,  1,    107,    436,2,19960121,0037,-61.4920,-169.9995, 3501,   -999,   1250.0,   1.9056,  34.7317,2,-999.0000,5,    188.8,2,  1.8285,   -999.0,9,  -999.00,9,  -999.00,9,  -999.00,9,  -999.00,9, -999.000,5, -999.000,5,   -999.0,9,  -999.00,9,   -999.0,9,   -999.0,9,   -999.0,9,  -999.00,9, -999.00,  -999.0, -999.00,  -999.0
    31DSCG96_1,  P15S,    43,  1,    106,    441,2,19960121,0037,-61.4920,-169.9995, 3501,   -999,   1503.5,   1.6944,  34.7387,2,  34.7409,2,    193.1,2,  1.6010,    194.1,2,    93.06,2,    31.42,2,     0.00,2,     2.12,2,    0.093,2,    0.065,2,   -190.3,2,     0.50,2,   -999.0,9,   -999.0,9,   -999.0,9,  -999.00,9, -999.00,     2.9, -999.00,  -999.0
    31DSCG96_1,  P15S,    43,  1,    105,    423,2,19960121,0037,-61.4920,-169.9995, 3501,   -999,   1908.2,   1.3994,  34.7338,2,  34.7364,2,    198.4,2,  1.2790,    198.8,2,   102.62,2,    31.55,2,     0.00,2,     2.14,2,    0.051,2,    0.037,2,   -999.0,5,     0.47,2,   -999.0,9,   -999.0,9,   -999.0,9,  -999.00,9, -999.00,  -999.0, -999.00,  -999.0
    31DSCG96_1,  P15S,    43,  1,    104,    433,2,19960121,0037,-61.4920,-169.9995, 3501,   -999,   2297.7,   1.1147,  34.7230,2,  34.7223,2,    202.6,2,  0.9677,    202.5,2,   103.21,3,    31.56,3,     0.00,2,     2.14,3,    0.059,2,    0.043,2,   -193.1,2,     0.46,2,   -999.0,9,   -999.0,9,   -999.0,9,  -999.00,9, -999.00,     2.3, -999.00,  -999.0
    31DSCG96_1,  P15S,    43,  1,    103,    439,3,19960121,0037,-61.4920,-169.9995, 3501,   -999,   2706.8,   0.8684,  34.7112,2,  34.7334,4,    206.2,2,  0.6914,    198.8,3,   103.13,3,    31.53,3,     0.00,2,     2.14,3,    0.058,2,    0.118,4,   -191.6,2,     0.46,2,   -999.0,9,   -999.0,9,   -999.0,9,  -999.00,9, -999.00,     3.1, -999.00,  -999.0
    31DSCG96_1,  P15S,    43,  1,    102,    414,2,19960121,0037,-61.4920,-169.9995, 3501,   -999,   3099.7,   0.7789,  34.7067,2,  34.7064,2,    206.9,2,  0.5688,    207.1,2,   129.24,2,    32.62,2,     0.00,2,     2.21,2,    0.083,2,    0.056,2,   -195.4,2,     0.83,3,   -999.0,9,   -999.0,9,   -999.0,9,  -999.00,9, -999.00,     3.0, -999.00,  -999.0
    31DSCG96_1,  P15S,    43,  1,    101,    406,2,19960121,0037,-61.4920,-169.9995, 3501,   -999,   3427.8,   0.7890,  34.7057,2,  34.7054,2,    207.9,2,  0.5477,    208.4,2,   130.71,6,    32.54,6,     0.00,6,     2.22,6,    0.073,3,    0.081,3,   -197.1,2,     0.43,2,   -999.0,9,   -999.0,9,   -999.0,9,  -999.00,9, -999.00,     3.2, -999.00,  -999.0
    31DSCG96_1,  P15S,    44,  1,    124,    429,2,19960121,2105,-61.0010,-170.0053, 3630,   -999,     11.1,   2.1572,  33.8042,2,  33.8059,2,    340.4,2,  2.1567,    341.6,2,     0.98,2,    23.23,2,     0.21,2,     1.49,2, -999.000,9, -999.000,9,   -999.0,9,  -999.00,9,   2113.4,2,    676.4,2,   2282.0,2,     7.78,2, -999.00,  -999.0, -999.00,  -999.0
    31DSCG96_1,  P15S,    44,  1,    123,    428,2,19960121,2105,-61.0010,-170.0053, 3630,   -999,     18.6,   2.1478,  33.8050,2,  33.8067,2,    343.1,2,  2.1469,    341.2,2,     0.98,2,    23.21,2,     0.21,2,     1.50,2, -999.000,9, -999.000,9,   -999.0,9,  -999.00,9,   2112.8,2,    688.1,2,   2283.3,3,     7.78,2, -999.00,  -999.0, -999.00,  -999.0
    31DSCG96_1,  P15S,    44,  1,    122,    407,2,19960121,2105,-61.0010,-170.0053, 3630,   -999,     43.3,   2.1486,  33.8019,2,-999.0000,9,    342.4,2,  2.1464,    341.3,2,     0.98,2,    23.19,2,     0.20,2,     1.51,2, -999.000,9, -999.000,9,   -999.0,9,  -999.00,9,   2111.9,2,    675.4,2,   2281.2,2,     7.78,2, -999.00,  -999.0, -999.00,  -999.0
    31DSCG96_1,  P15S,    44,  1,    121,    417,2,19960121,2105,-61.0010,-170.0053, 3630,   -999,     90.4,   0.7637,  33.8545,2,  33.8539,2,    339.6,2,  0.7600,    335.1,2,    17.22,2,    25.92,2,     0.14,2,     1.83,2, -999.000,9, -999.000,9,   -999.0,9,  -999.00,9,   2139.0,2,    773.9,2,   -999.0,9,     7.72,2, -999.00,  -999.0, -999.00,  -999.0
    31DSCG96_1,  P15S,    44,  1,    120,    405,2,19960121,2105,-61.0010,-170.0053, 3630,   -999,    141.2,   0.5139,  33.8754,2,  33.8754,2,    334.7,2,  0.5083,    333.4,2,    18.98,2,    26.46,2,     0.17,2,     1.85,2, -999.000,9, -999.000,9,   -999.0,9,  -999.00,9,   2141.7,2,    807.9,2,   2282.9,2,     7.71,2, -999.00,  -999.0, -999.00,  -999.0
    31DSCG96_1,  P15S,    44,  1,    119,    416,2,19960121,2105,-61.0010,-170.0053, 3630,   -999,    190.1,   1.5275,  34.0410,2,  34.0358,2,    285.8,2,  1.5183,    287.6,2,    26.79,2,    29.74,2,     0.01,2,     2.03,2, -999.000,9, -999.000,9,   -999.0,9,  -999.00,9,   2165.1,2,    954.0,3,   2290.3,2,     7.67,2, -999.00,  -999.0, -999.00,  -999.0
    31DSCG96_1,  P15S,    44,  1,    118,    420,2,19960121,2105,-61.0010,-170.0053, 3630,   -999,    239.8,   2.3895,  34.2285,2,  34.2264,2,    235.9,2,  2.3760,    233.2,2,    40.32,2,    32.55,2,     0.01,2,     2.23,2, -999.000,9, -999.000,9,   -999.0,9,  -999.00,9,   2195.6,2,   1049.2,2,   2304.1,3,     7.61,2, -999.00,  -999.0, -999.00,  -999.0
    31DSCG96_1,  P15S,    44,  1,    117,    424,2,19960121,2105,-61.0010,-170.0053, 3630,   -999,    290.5,   2.4012,  34.2863,2,  34.2854,2,    215.3,2,  2.3846,    217.6,2,    46.81,2,    33.45,2,     0.01,2,     2.30,2, -999.000,9, -999.000,9,   -999.0,9,  -999.00,9,   2209.8,2,   1112.3,2,   2307.5,2,     7.59,2, -999.00,  -999.0, -999.00,  -999.0
    31DSCG96_1,  P15S,    44,  1,    116,    409,2,19960121,2105,-61.0010,-170.0053, 3630,   -999,    373.6,   2.3889,  34.3740,2,  34.3723,2,    198.0,2,  2.3673,    197.9,2,    56.45,2,    34.42,2,     0.01,2,     2.36,2, -999.000,9, -999.000,9,   -999.0,9,  -999.00,9,   2225.6,2,   1177.7,2,   2317.8,2,     7.57,2, -999.00,  -999.0, -999.00,  -999.0
    31DSCG96_1,  P15S,    44,  1,    115,    413,2,19960121,2105,-61.0010,-170.0053, 3630,   -999,    475.4,   2.3752,  34.4550,2,  34.4570,2,    184.6,2,  2.3473,    183.6,2,    64.35,2,    34.73,2,     0.01,2,     2.38,2, -999.000,9, -999.000,9,   -999.0,9,  -999.00,9,   2240.3,2,   1222.3,2,   2326.0,2,     7.56,2, -999.00,  -999.0, -999.00,  -999.0
    31DSCG96_1,  P15S,    44,  1,    114,    419,2,19960121,2105,-61.0010,-170.0053, 3630,   -999,    572.2,   2.3801,  34.5224,2,-999.0000,9,    177.5,2,  2.3460,    175.9,2,    69.73,2,    34.62,2,     0.01,2,     2.37,2, -999.000,9, -999.000,9,   -999.0,9,  -999.00,9,   2245.5,2,   1238.6,2,   2334.5,2,     7.55,2, -999.00,  -999.0, -999.00,  -999.0
    31DSCG96_1,  P15S,    44,  1,    113,    434,2,19960121,2105,-61.0010,-170.0053, 3630,   -999,    677.0,   2.3360,  34.5794,2,-999.0000,9,    174.0,2,  2.2953,    173.2,2,  -999.00,9,  -999.00,9,  -999.00,9,  -999.00,9, -999.000,9, -999.000,9,   -999.0,9,  -999.00,9,   2250.5,2,   1221.0,2,   2337.0,2,     7.56,2, -999.00,  -999.0, -999.00,  -999.0
    31DSCG96_1,  P15S,    44,  1,    112,    404,2,19960121,2105,-61.0010,-170.0053, 3630,   -999,    737.7,   2.3395,  34.6027,2,  34.6026,2,    174.3,2,  2.2947,    173.7,2,    75.02,2,    33.80,2,     0.01,2,     2.32,2, -999.000,9, -999.000,9,   -999.0,9,  -999.00,9,   2249.5,2,   1212.1,2,   2340.8,2,     7.56,2, -999.00,  -999.0, -999.00,  -999.0
    31DSCG96_1,  P15S,    44,  1,    111,    427,2,19960121,2105,-61.0010,-170.0053, 3630,   -999,    952.3,   2.2316,  34.6708,2,  34.6691,2,    178.0,2,  2.1727,    177.4,2,    79.32,2,    32.74,2,     0.00,2,     2.25,2, -999.000,9, -999.000,9,   -999.0,9,  -999.00,9,   2250.1,2,   1164.3,2,   2344.2,2,     7.58,2, -999.00,  -999.0, -999.00,  -999.0
    31DSCG96_1,  P15S,    44,  1,    110,    401,2,19960121,2105,-61.0010,-170.0053, 3630,   -999,   1147.1,   2.1169,  34.7056,2,  34.7062,2,    181.9,2,  2.0452,    182.4,2,    82.72,2,    32.01,2,     0.00,2,     2.19,2, -999.000,9, -999.000,9,   -999.0,9,  -999.00,9,   2248.8,2,   1129.8,2,   2350.3,2,     7.59,2, -999.00,  -999.0, -999.00,  -999.0
    31DSCG96_1,  P15S,    44,  1,    109,    435,2,19960121,2105,-61.0010,-170.0053, 3630,   -999,   1348.0,   2.0118,  34.7261,2,-999.0000,9,    187.7,2,  1.9264,    186.7,2,    85.64,2,    31.41,2,     0.00,2,     2.15,2, -999.000,9, -999.000,9,   -999.0,9,  -999.00,9,   2247.1,2,   1115.9,2,   2351.8,2,     7.60,2, -999.00,  -999.0, -999.00,  -999.0
    31DSCG96_1,  P15S,    44,  1,    108,    440,2,19960121,2105,-61.0010,-170.0053, 3630,   -999,   1700.9,   1.7483,  34.7396,2,  34.7408,2,    193.9,2,  1.6392,    194.1,2,    93.13,2,    31.07,2,     0.00,2,     2.13,2, -999.000,9, -999.000,9,   -999.0,9,  -999.00,9,   2249.5,2,   1073.1,2,   2358.2,2,     7.61,2, -999.00,  -999.0, -999.00,  -999.0
    31DSCG96_1,  P15S,    44,  1,    107,    436,2,19960121,2105,-61.0010,-170.0053, 3630,   -999,   2099.2,   1.4207,  34.7341,2,  34.7364,2,    197.8,2,  1.2848,    198.9,2,   103.13,2,    31.22,2,     0.00,2,     2.16,2, -999.000,9, -999.000,9,   -999.0,9,  -999.00,9,   2252.5,2,   1069.5,2,   -999.0,9,     7.61,2, -999.00,  -999.0, -999.00,  -999.0
    31DSCG96_1,  P15S,    44,  1,    106,    441,2,19960121,2105,-61.0010,-170.0053, 3630,   -999,   2500.6,   1.1609,  34.7242,2,  34.7241,2,    202.2,2,  0.9959,    202.0,2,   110.77,6,    31.65,6,     0.00,6,     2.18,6, -999.000,9, -999.000,9,   -999.0,9,  -999.00,9,   2255.3,2,   1068.2,2,   2363.1,2,     7.61,2, -999.00,  -999.0, -999.00,  -999.0
    31DSCG96_1,  P15S,    44,  1,    105,    423,2,19960121,2105,-61.0010,-170.0053, 3630,   -999,   2901.8,   0.9753,  34.7150,2,  34.7156,2,    205.8,2,  0.7788,    204.3,2,   116.78,6,    31.94,6,     0.00,6,     2.19,6, -999.000,9, -999.000,9,   -999.0,9,  -999.00,9,   2254.8,2,   1074.5,2,   2362.9,2,     7.61,2, -999.00,  -999.0, -999.00,  -999.0
    31DSCG96_1,  P15S,    44,  1,    104,    433,2,19960121,2105,-61.0010,-170.0053, 3630,   -999,   3299.0,   0.8299,  34.7085,2,-999.0000,9,    207.7,2,  0.5999,    205.4,2,  -999.00,9,  -999.00,9,  -999.00,9,  -999.00,9, -999.000,9, -999.000,9,   -999.0,9,  -999.00,9,   2255.1,2,   1095.3,2,   2362.5,2,     7.61,2, -999.00,  -999.0, -999.00,  -999.0
    31DSCG96_1,  P15S,    44,  1,    103,    439,2,19960121,2105,-61.0010,-170.0053, 3630,   -999,   3698.5,   0.8219,  34.7066,2,  34.7058,2,    209.1,2,  0.5530,    205.3,2,   127.47,6,    32.28,6,     0.00,6,     2.21,6, -999.000,9, -999.000,9,   -999.0,9,  -999.00,9,   2257.8,2,   1093.7,2,   -999.0,9,     7.61,2, -999.00,  -999.0, -999.00,  -999.0
    31DSCG96_1,  P15S,    44,  1,    102,    414,2,19960121,2105,-61.0010,-170.0053, 3630,   -999,   4101.2,   0.8479,  34.7055,2,  34.7057,2,    208.2,2,  0.5365,    204.8,2,   128.21,6,    32.30,6,     0.00,6,     2.21,6, -999.000,9, -999.000,9,   -999.0,9,  -999.00,9,   2259.0,2,   1094.4,2,   -999.0,9,     7.61,2, -999.00,  -999.0, -999.00,  -999.0
    31DSCG96_1,  P15S,    44,  1,    101,    406,2,19960121,2105,-61.0010,-170.0053, 3630,   -999,   4188.0,   0.8548,  34.7056,2,  34.7056,2,    209.9,2,  0.5339,    196.2,3,   128.33,6,    32.31,6,     0.00,6,     2.22,6, -999.000,9, -999.000,9,   -999.0,9,  -999.00,9,   2257.9,2,   1100.0,2,   -999.0,9,     7.61,2, -999.00,  -999.0, -999.00,  -999.0