BOTTLE,20220811CCHSIOAMB
EXPOCODE,SECT_ID,STNNBR,CASTNO,SAMPNO,BTLNBR,BTLNBR_FLAG_W,DATE,TIME,LATITUDE,LONGITUDE,DEPTH,CTDRAW,CTDPRS,CTDTMP,CTDSAL,CTDSAL_FLAG_W,SALNTY,SALNTY_FLAG_W,CTDOXY,CTDOXY_FLAG_W,THETA,OXYGEN,OXYGEN_FLAG_W,SILCAT,SILCAT_FLAG_W,NITRAT,NITRAT_FLAG_W,NITRIT,NITRIT_FLAG_W,PHSPHT,PHSPHT_FLAG_W,CFC-11,CFC-11_FLAG_W,CFC-12,CFC-12_FLAG_W,DELC14,DELC14_FLAG_W,DELC13,DELC13_FLAG_W,TCARBN,TCARBN_FLAG_W,PCO2,PCO2_FLAG_W,ALKALI,ALKALI_FLAG_W,PH,PH_FLAG_W,PCO2TMP,C14ERR,PH_TMP,C13ERR
,,,,,,,,,,,,DBAR,DBAR,ITS-90,PSS-78,,PSS-78,,UMOL/KG,,DEG C,UMOL/KG,,UMOL/KG,,UMOL/KG,,UMOL/KG,,UMOL/KG,,PMOL/KG,,PMOL/KG,,/MILLE,,/MILLE,,UMOL/KG,,UATM,,UMOL/KG,,,,DEG C,/MILLE,DEG C,/MILLE
    31DSCG96_2,  P15S,   128,  2,    235,   1113,2,19960223,0016,-24.5008,-170.0012, 5610,   -999,      3.9,  26.6716,  35.3642,2,  35.3639,2,    205.6,2, 26.6707,   -999.0,9,     1.02,2,     0.03,2,     0.00,2,     0.00,3, -999.000,9, -999.000,9,   -999.0,9,  -999.00,9,   -999.0,9,   -999.0,9,   -999.0,9,  -999.00,9, -999.00,  -999.0, -999.00,  -999.0
    31DSCG96_2,  P15S,   128,  2,    236,   1245,2,19960223,0016,-24.5008,-170.0012, 5610,   -999,      4.3,  26.6702,  35.3646,2,-999.0000,5,    205.6,2, 26.6692,    204.6,2,  -999.00,9,  -999.00,9,  -999.00,9,  -999.00,9, -999.000,9, -999.000,9,     84.8,2,  -999.00,9,   1950.5,2,    242.1,6,   -999.0,9,     8.14,2, -999.00,     2.9, -999.00,  -999.0
    31DSCG96_2,  P15S,   128,  2,    234,   1216,2,19960223,0016,-24.5008,-170.0012, 5610,   -999,     19.3,  26.5858,  35.3640,2,  35.3637,2,    204.5,2, 26.5814,    204.1,2,     0.96,2,     0.03,2,     0.00,2,     0.00,3, -999.000,9, -999.000,9,   -999.0,9,  -999.00,9,   -999.0,9,   -999.0,9,   -999.0,9,     8.14,2, -999.00,  -999.0, -999.00,  -999.0
    31DSCG96_2,  P15S,   128,  2,    233,   1221,2,19960223,0016,-24.5008,-170.0012, 5610,   -999,     44.5,  24.5018,  35.5555,2,  35.5542,2,    216.7,2, 24.4923,    219.3,2,     1.12,2,     0.03,2,     0.00,2,     0.02,3, -999.000,9, -999.000,9,   -999.0,9,  -999.00,9,   -999.0,9,   -999.0,9,   -999.0,9,     8.11,2, -999.00,  -999.0, -999.00,  -999.0
    31DSCG96_2,  P15S,   128,  2,    232,   1039,2,19960223,0016,-24.5008,-170.0012, 5610,   -999,     69.2,  21.8220,  35.7380,2,  35.7397,2,    222.7,2, 21.8084,    226.5,2,     1.13,2,     0.03,2,     0.00,2,     0.07,2, -999.000,9, -999.000,9,   -999.0,9,  -999.00,9,   -999.0,9,   -999.0,9,   -999.0,9,     8.08,2, -999.00,  -999.0, -999.00,  -999.0
    31DSCG96_2,  P15S,   128,  2,    231,   1014,2,19960223,0016,-24.5008,-170.0012, 5610,   -999,     93.6,  20.8310,  35.7656,2,  35.7642,2,    217.1,2, 20.8131,    220.7,2,     1.15,2,     0.02,2,     0.00,2,     0.09,2, -999.000,9, -999.000,9,   -999.0,9,  -999.00,9,   -999.0,9,   -999.0,9,   -999.0,9,     8.06,2, -999.00,  -999.0, -999.00,  -999.0
    31DSCG96_2,  P15S,   128,  2,    230,   1257,2,19960223,0016,-24.5008,-170.0012, 5610,   -999,    139.6,  19.4796,  35.7450,2,  35.7426,2,    209.6,2, 19.4542,    210.4,2,     1.28,2,     0.75,2,     0.17,2,     0.17,2, -999.000,9, -999.000,9,   -999.0,9,  -999.00,9,   -999.0,9,   -999.0,9,   -999.0,9,     8.03,2, -999.00,  -999.0, -999.00,  -999.0
    31DSCG96_2,  P15S,   128,  2,    229,   1256,2,19960223,0016,-24.5008,-170.0012, 5610,   -999,    190.0,  18.1489,  35.6370,2,  35.6347,2,    193.8,2, 18.1159,    194.8,6,     1.62,2,     3.54,2,     0.01,2,     0.34,2, -999.000,9, -999.000,9,   -999.0,9,  -999.00,9,   -999.0,9,   -999.0,9,   -999.0,9,     7.98,2, -999.00,  -999.0, -999.00,  -999.0
    31DSCG96_2,  P15S,   128,  2,    228,   1007,2,19960223,0016,-24.5008,-170.0012, 5610,   -999,    239.2,  17.3486,  35.6053,2,  35.5973,2,    204.2,2, 17.3083,    201.4,2,     1.75,2,     3.80,2,     0.01,2,     0.36,2, -999.000,9, -999.000,9,   -999.0,9,  -999.00,9,   -999.0,9,   -999.0,9,   -999.0,9,     7.97,2, -999.00,  -999.0, -999.00,  -999.0
    31DSCG96_2,  P15S,   128,  2,    227,   1232,2,19960223,0016,-24.5008,-170.0012, 5610,   -999,    376.4,  13.9487,  35.1876,2,  35.1903,2,    196.6,2, 13.8940,    195.2,2,     3.21,2,     8.96,2,     0.00,2,     0.70,2, -999.000,9, -999.000,9,   -999.0,9,  -999.00,9,   -999.0,9,   -999.0,9,   -999.0,9,     7.88,2, -999.00,  -999.0, -999.00,  -999.0
    31DSCG96_2,  P15S,   128,  2,    226,   1025,2,19960223,0016,-24.5008,-170.0012, 5610,   -999,    476.2,  10.8142,  34.7967,2,  34.7982,2,    199.4,2, 10.7555,    195.8,2,     5.11,2,    15.42,2,     0.00,2,     1.11,2, -999.000,9, -999.000,9,   -999.0,9,  -999.00,9,   -999.0,9,   -999.0,9,   -999.0,9,     7.79,2, -999.00,  -999.0, -999.00,  -999.0
    31DSCG96_2,  P15S,   128,  2,    225,   1119,2,19960223,0016,-24.5008,-170.0012, 5610,   -999,    572.4,   8.3445,  34.5223,2,  34.5198,2,    216.7,2,  8.2841,    213.7,2,     6.68,2,    19.97,2,     0.00,2,     1.39,2, -999.000,9, -999.000,9,   -999.0,9,  -999.00,9,   -999.0,9,   -999.0,9,   -999.0,9,     7.75,2, -999.00,  -999.0, -999.00,  -999.0
    31DSCG96_2,  P15S,   128,  2,    224,   1013,2,19960223,0016,-24.5008,-170.0012, 5610,   -999,    676.8,   6.8997,  34.3927,2,  34.3924,2,    222.7,2,  6.8352,    224.6,2,     9.43,2,    23.18,2,     0.00,2,     1.60,2, -999.000,9, -999.000,9,   -999.0,9,  -999.00,9,   -999.0,9,   -999.0,9,   -999.0,9,     7.72,2, -999.00,  -999.0, -999.00,  -999.0
    31DSCG96_2,  P15S,   128,  2,    223,   1250,2,19960223,0016,-24.5008,-170.0012, 5610,   -999,    775.0,   6.0576,  34.3435,2,  34.3429,2,    221.6,2,  5.9882,    216.3,2,    14.47,2,    26.20,2,     0.00,2,     1.80,2, -999.000,9, -999.000,9,   -999.0,9,  -999.00,9,   -999.0,9,   -999.0,9,   -999.0,9,     7.69,2, -999.00,  -999.0, -999.00,  -999.0
    31DSCG96_2,  P15S,   128,  2,    222,   1265,2,19960223,0016,-24.5008,-170.0012, 5610,   -999,    877.5,   5.3565,  34.3261,2,  34.3258,2,    205.8,2,  5.2821,    208.7,2,    20.70,2,    28.42,2,     0.00,2,     1.95,2, -999.000,9, -999.000,9,   -999.0,9,  -999.00,9,   -999.0,9,   -999.0,9,   -999.0,9,     7.67,2, -999.00,  -999.0, -999.00,  -999.0
    31DSCG96_2,  P15S,   128,  2,    221,   1246,2,19960223,0016,-24.5008,-170.0012, 5610,   -999,    974.2,   4.7520,  34.3440,2,  34.3429,2,    191.2,2,  4.6731,    192.6,6,    30.98,2,    30.87,2,     0.00,2,     2.12,2, -999.000,9, -999.000,9,   -999.0,9,  -999.00,9,   -999.0,9,   -999.0,9,   -999.0,9,     7.63,2, -999.00,  -999.0, -999.00,  -999.0
    31DSCG96_2,  P15S,   128,  2,    220,   1015,2,19960223,0016,-24.5008,-170.0012, 5610,   -999,   1075.7,   4.2643,  34.3841,2,  34.3833,2,    175.2,2,  4.1803,    176.3,2,    43.51,2,    32.89,2,     0.00,2,     2.26,2, -999.000,9, -999.000,9,   -999.0,9,  -999.00,9,   -999.0,9,   -999.0,9,   -999.0,9,     7.60,2, -999.00,  -999.0, -999.00,  -999.0
    31DSCG96_2,  P15S,   128,  2,    219,   1247,2,19960223,0016,-24.5008,-170.0012, 5610,   -999,   1212.9,   3.5764,  34.4348,2,  34.4349,2,    170.0,2,  3.4868,    170.0,2,    58.04,2,    34.04,2,     0.00,2,     2.35,2, -999.000,9, -999.000,9,   -999.0,9,  -999.00,9,   -999.0,9,   -999.0,9,   -999.0,9,     7.59,2, -999.00,  -999.0, -999.00,  -999.0
    31DSCG96_2,  P15S,   128,  2,    218,   1299,2,19960223,0016,-24.5008,-170.0012, 5610,   -999,   1439.0,   2.8212,  34.5336,2,  34.5330,2,    160.2,2,  2.7205,    159.0,2,    82.67,2,    34.91,2,     0.00,2,     2.42,2, -999.000,9, -999.000,9,   -999.0,9,  -999.00,9,   -999.0,9,   -999.0,9,   -999.0,9,     7.58,2, -999.00,  -999.0, -999.00,  -999.0
    31DSCG96_2,  P15S,   128,  2,    217,   1267,2,19960223,0016,-24.5008,-170.0012, 5610,   -999,   1687.0,   2.4690,  34.5985,2,  34.5979,2,    150.2,2,  2.3520,    150.6,2,   102.73,2,    35.59,2,     0.00,2,     2.48,2, -999.000,9, -999.000,9,   -999.0,9,  -999.00,9,   -999.0,9,   -999.0,9,   -999.0,9,     7.57,2, -999.00,  -999.0, -999.00,  -999.0
    31DSCG96_2,  P15S,   128,  2,    216,   1259,2,19960223,0016,-24.5008,-170.0012, 5610,   -999,   1875.5,   2.3206,  34.6196,2,  34.6185,2,    147.0,2,  2.1899,    146.7,2,   111.36,2,    35.89,2,     0.00,2,     2.50,2, -999.000,9, -999.000,9,   -999.0,9,  -999.00,9,   -999.0,9,   -999.0,9,   -999.0,9,     7.57,2, -999.00,  -999.0, -999.00,  -999.0
    31DSCG96_2,  P15S,   128,  2,    215,   1041,2,19960223,0016,-24.5008,-170.0012, 5610,   -999,   2189.0,   2.1096,  34.6405,2,  34.6397,2,    145.4,2,  1.9551,    144.8,2,   120.76,2,    36.13,2,     0.00,2,     2.52,2, -999.000,9, -999.000,9,   -999.0,9,  -999.00,9,   -999.0,9,   -999.0,9,   -999.0,9,     7.57,2, -999.00,  -999.0, -999.00,  -999.0
    31DSCG96_2,  P15S,   128,  2,    214,   1017,2,19960223,0016,-24.5008,-170.0012, 5610,   -999,   2442.6,   1.9897,  34.6512,2,  34.6509,2,    145.5,2,  1.8148,    145.1,2,   125.60,2,    36.22,2,     0.00,2,     2.52,2, -999.000,9, -999.000,9,   -999.0,9,  -999.00,9,   -999.0,9,   -999.0,9,   -999.0,9,     7.57,2, -999.00,  -999.0, -999.00,  -999.0
    31DSCG96_2,  P15S,   128,  2,    213,   1302,2,19960223,0016,-24.5008,-170.0012, 5610,   -999,   2691.4,   1.8866,  34.6603,2,  34.6592,2,    145.6,2,  1.6908,    145.3,2,   129.94,2,    36.19,2,     0.00,2,     2.52,2, -999.000,9, -999.000,9,   -999.0,9,  -999.00,9,   -999.0,9,   -999.0,9,   -999.0,9,     7.57,2, -999.00,  -999.0, -999.00,  -999.0
    31DSCG96_2,  P15S,   128,  2,    212,   1217,2,19960223,0016,-24.5008,-170.0012, 5610,   -999,   2881.1,   1.8092,  34.6664,2,  34.6654,2,    146.4,2,  1.5971,    146.5,2,   132.43,2,    36.14,2,     0.00,2,     2.52,2, -999.000,9, -999.000,9,   -999.0,9,  -999.00,9,   -999.0,9,   -999.0,9,   -999.0,9,     7.57,2, -999.00,  -999.0, -999.00,  -999.0
    31DSCG96_2,  P15S,   128,  2,    211,   1114,2,19960223,0016,-24.5008,-170.0012, 5610,   -999,   3191.4,   1.6698,  34.6784,2,  34.6772,2,    153.5,2,  1.4305,    153.7,6,   132.70,2,    35.68,2,     0.00,2,     2.48,2, -999.000,9, -999.000,9,   -999.0,9,  -999.00,9,   -999.0,9,   -999.0,9,   -999.0,9,     7.58,2, -999.00,  -999.0, -999.00,  -999.0
    31DSCG96_2,  P15S,   128,  2,    210,   1301,2,19960223,0016,-24.5008,-170.0012, 5610,   -999,   3440.9,   1.5676,  34.6970,2,  34.6955,2,    170.7,2,  1.3056,    171.3,2,   123.01,2,    34.09,2,     0.00,2,     2.36,2, -999.000,9, -999.000,9,   -999.0,9,  -999.00,9,   -999.0,9,   -999.0,9,   -999.0,9,     7.59,2, -999.00,  -999.0, -999.00,  -999.0
    31DSCG96_2,  P15S,   128,  2,    209,   1233,2,19960223,0016,-24.5008,-170.0012, 5610,   -999,   3687.6,   1.4287,  34.7159,2,  34.7150,2,    190.8,2,  1.1448,    191.0,2,   112.90,2,    32.42,2,     0.00,2,     2.23,2, -999.000,9, -999.000,9,   -999.0,9,  -999.00,9,   -999.0,9,   -999.0,9,   -999.0,9,     7.61,2, -999.00,  -999.0, -999.00,  -999.0
    31DSCG96_2,  P15S,   128,  2,    208,   1227,2,19960223,0016,-24.5008,-170.0012, 5610,   -999,   3938.6,   1.2981,  34.7197,2,  34.7186,2,    199.3,2,  0.9912,    199.2,2,   112.20,2,    31.93,2,     0.00,2,     2.19,2,    0.008,2,    0.004,2,   -999.0,9,  -999.00,9,   -999.0,9,   -999.0,9,   -999.0,9,     7.61,2, -999.00,  -999.0, -999.00,  -999.0
    31DSCG96_2,  P15S,   128,  2,    207,   1263,2,19960223,0016,-24.5008,-170.0012, 5610,   -999,   4186.8,   1.1764,  34.7169,2,  34.7158,2,    202.7,2,  0.8462,    202.8,2,   115.04,2,    31.94,2,     0.00,2,     2.19,2, -999.000,9, -999.000,9,   -999.0,9,  -999.00,9,   -999.0,9,   -999.0,9,   -999.0,9,     7.61,2, -999.00,  -999.0, -999.00,  -999.0
    31DSCG96_2,  P15S,   128,  2,    206,   1262,2,19960223,0016,-24.5008,-170.0012, 5610,   -999,   4435.7,   1.0879,  34.7133,2,  34.7120,2,    204.0,2,  0.7327,    204.6,2,   117.85,2,    32.03,2,     0.00,2,     2.20,2,    0.009,2,    0.005,2,   -999.0,9,  -999.00,9,   -999.0,9,   -999.0,9,   -999.0,9,     7.61,2, -999.00,  -999.0, -999.00,  -999.0
    31DSCG96_2,  P15S,   128,  2,    205,   1264,2,19960223,0016,-24.5008,-170.0012, 5610,   -999,   4725.4,   1.0435,  34.7105,2,  34.7097,2,    205.5,2,  0.6568,    206.1,6,   119.87,2,    32.10,2,     0.00,2,     2.21,2, -999.000,9, -999.000,9,   -999.0,9,  -999.00,9,   -999.0,9,   -999.0,9,   -999.0,9,     7.61,2, -999.00,  -999.0, -999.00,  -999.0
    31DSCG96_2,  P15S,   128,  2,    204,   1003,2,19960223,0016,-24.5008,-170.0012, 5610,   -999,   5027.0,   1.0409,  34.7086,2,  34.7079,2,    191.1,4,  0.6188,    206.7,2,   121.03,2,    32.15,2,     0.00,2,     2.21,2,    0.009,2,    0.004,2,   -999.0,9,  -999.00,9,   -999.0,9,   -999.0,9,   -999.0,9,  -999.00,9, -999.00,  -999.0, -999.00,  -999.0
    31DSCG96_2,  P15S,   128,  2,    203,   1035,2,19960223,0016,-24.5008,-170.0012, 5610,   -999,   5327.6,   1.0664,  34.7077,2,  34.7082,2,    190.7,4,  0.6069,    207.0,2,   121.25,2,    32.23,2,     0.00,2,     2.21,2, -999.000,9, -999.000,9,   -999.0,9,  -999.00,9,   -999.0,9,   -999.0,9,   -999.0,9,     7.61,2, -999.00,  -999.0, -999.00,  -999.0
    31DSCG96_2,  P15S,   128,  2,    202,   1030,2,19960223,0016,-24.5008,-170.0012, 5610,   -999,   5623.2,   1.0991,  34.7073,2,  34.7073,2,    191.9,4,  0.6013,    207.1,2,   121.44,2,    32.21,2,     0.00,2,     2.21,2,    0.011,2,    0.005,2,   -999.0,9,  -999.00,9,   -999.0,9,   -999.0,9,   -999.0,9,     7.61,2, -999.00,  -999.0, -999.00,  -999.0
    31DSCG96_2,  P15S,   128,  2,    201,   1022,2,19960223,0016,-24.5008,-170.0012, 5610,   -999,   5756.7,   1.1143,  34.7071,2,  34.7069,2,    178.0,4,  0.5989,    207.1,2,   121.46,6,    32.20,6,     0.00,6,     2.22,2,    0.013,6,    0.007,6,   -999.0,9,  -999.00,9,   -999.0,9,   -999.0,9,   -999.0,9,     7.61,2, -999.00,  -999.0, -999.00,  -999.0