BOTTLE,20220811CCHSIOAMB
EXPOCODE,SECT_ID,STNNBR,CASTNO,SAMPNO,BTLNBR,BTLNBR_FLAG_W,DATE,TIME,LATITUDE,LONGITUDE,DEPTH,CTDRAW,CTDPRS,CTDTMP,CTDSAL,CTDSAL_FLAG_W,SALNTY,SALNTY_FLAG_W,CTDOXY,CTDOXY_FLAG_W,THETA,OXYGEN,OXYGEN_FLAG_W,SILCAT,SILCAT_FLAG_W,NITRAT,NITRAT_FLAG_W,NITRIT,NITRIT_FLAG_W,PHSPHT,PHSPHT_FLAG_W,CFC-11,CFC-11_FLAG_W,CFC-12,CFC-12_FLAG_W,DELC14,DELC14_FLAG_W,DELC13,DELC13_FLAG_W,TCARBN,TCARBN_FLAG_W,PCO2,PCO2_FLAG_W,ALKALI,ALKALI_FLAG_W,PH,PH_FLAG_W,PCO2TMP,C14ERR,PH_TMP,C13ERR
,,,,,,,,,,,,DBAR,DBAR,ITS-90,PSS-78,,PSS-78,,UMOL/KG,,DEG C,UMOL/KG,,UMOL/KG,,UMOL/KG,,UMOL/KG,,UMOL/KG,,PMOL/KG,,PMOL/KG,,/MILLE,,/MILLE,,UMOL/KG,,UATM,,UMOL/KG,,,,DEG C,/MILLE,DEG C,/MILLE
    31DSCG96_2,  P15S,   151,  1,    136,   1245,2,19960228,2111,-13.8180,-170.0010, 4297,   -999,      5.4,  29.3688,  34.5396,2,  34.5459,2,    196.4,2, 29.3675,    194.2,2,     1.45,2,     0.02,2,     0.00,2,     0.14,2,    1.570,2,    0.921,2,   -999.0,9,  -999.00,9,   1906.9,2,    232.7,6,   2271.5,2,     8.15,3, -999.00,  -999.0, -999.00,  -999.0
    31DSCG96_2,  P15S,   151,  1,    135,   1113,2,19960228,2111,-13.8180,-170.0010, 4297,   -999,     29.6,  29.3146,  34.6067,2,  34.6253,2,    193.8,2, 29.3074,    194.5,2,     1.46,2,     0.02,2,     0.00,2,     0.14,2,    1.565,6,    0.893,6,   -999.0,9,  -999.00,9,   1910.8,2,    228.5,2,   2275.3,2,     8.15,2, -999.00,  -999.0, -999.00,  -999.0
    31DSCG96_2,  P15S,   151,  1,    134,   1267,2,19960228,2111,-13.8180,-170.0010, 4297,   -999,     54.5,  29.3782,  35.3971,2,  35.3914,2,    197.2,2, 29.3648,    198.5,2,     1.47,2,     0.02,2,     0.00,2,     0.18,2,    1.606,2,    0.919,2,   -999.0,9,  -999.00,9,   1959.2,2,    246.1,2,   2330.1,2,     8.13,2, -999.00,  -999.0, -999.00,  -999.0
    31DSCG96_2,  P15S,   151,  1,    133,   1221,2,19960228,2111,-13.8180,-170.0010, 4297,   -999,     80.0,  28.5582,  35.6114,2,  35.5696,3,    199.8,2, 28.5390,    201.8,2,     1.45,2,     0.02,2,     0.00,2,     0.15,2,    1.664,2,    0.954,2,   -999.0,9,  -999.00,9,   -999.0,9,   -999.0,9,   -999.0,9,     8.15,2, -999.00,  -999.0, -999.00,  -999.0
    31DSCG96_2,  P15S,   151,  1,    132,   1039,2,19960228,2111,-13.8180,-170.0010, 4297,   -999,    105.0,  27.4909,  36.0625,2,  36.0451,2,    187.2,2, 27.4664,    190.2,2,     1.49,2,     0.01,2,     0.00,2,     0.22,2,    1.703,2,    0.960,2,   -999.0,9,  -999.00,9,   -999.0,9,   -999.0,9,   -999.0,9,     8.11,2, -999.00,  -999.0, -999.00,  -999.0
    31DSCG96_2,  P15S,   151,  1,    131,   1014,2,19960228,2111,-13.8180,-170.0010, 4297,   -999,    130.1,  25.9564,  36.3037,2,  36.3096,2,    175.6,2, 25.9272,    167.5,2,     1.53,2,     1.37,2,     0.55,2,     0.39,2,    1.772,2,    0.975,2,   -999.0,9,  -999.00,9,   -999.0,9,   -999.0,9,   -999.0,9,     8.05,2, -999.00,  -999.0, -999.00,  -999.0
    31DSCG96_2,  P15S,   151,  1,    130,   1257,2,19960228,2111,-13.8180,-170.0010, 4297,   -999,    157.0,  24.3161,  36.3002,2,  36.2931,2,    161.2,2, 24.2825,    159.5,2,     1.52,2,     3.89,2,     0.18,2,     0.50,2,    1.861,2,    1.017,2,   -999.0,9,  -999.00,9,   -999.0,9,   -999.0,9,   -999.0,9,     8.01,2, -999.00,  -999.0, -999.00,  -999.0
    31DSCG96_2,  P15S,   151,  1,    129,   1256,2,19960228,2111,-13.8180,-170.0010, 4297,   -999,    180.0,  23.0032,  36.1953,2,  36.1905,2,    158.3,2, 22.9662,    158.8,2,     1.56,2,     4.70,2,     0.02,2,     0.55,2,    1.905,2,    1.034,2,   -999.0,9,  -999.00,9,   -999.0,9,   -999.0,9,   -999.0,9,     7.99,2, -999.00,  -999.0, -999.00,  -999.0
    31DSCG96_2,  P15S,   151,  1,    128,   1007,2,19960228,2111,-13.8180,-170.0010, 4297,   -999,    216.3,  20.6191,  35.8859,2,  35.8855,2,    157.1,2, 20.5780,    151.3,2,     2.22,2,     6.61,2,     0.00,2,     0.69,2,    1.908,2,    1.018,2,   -999.0,9,  -999.00,9,   -999.0,9,   -999.0,9,   -999.0,9,     7.94,2, -999.00,  -999.0, -999.00,  -999.0
    31DSCG96_2,  P15S,   151,  1,    127,   1232,2,19960228,2111,-13.8180,-170.0010, 4297,   -999,    265.8,  18.5252,  35.5887,2,  35.5919,2,    146.7,2, 18.4784,    147.6,2,     3.45,2,     8.77,2,     0.00,2,     0.84,2,    1.799,2,    0.950,2,   -999.0,9,  -999.00,9,   -999.0,9,   -999.0,9,   -999.0,9,     7.89,2, -999.00,  -999.0, -999.00,  -999.0
    31DSCG96_2,  P15S,   151,  1,    126,   1025,2,19960228,2111,-13.8180,-170.0010, 4297,   -999,    315.6,  15.4234,  35.1830,2,  35.2018,2,    128.8,2, 15.3745,    130.6,2,     6.70,2,    13.39,2,     0.00,2,     1.16,2,    1.414,2,    0.728,2,   -999.0,9,  -999.00,9,   -999.0,9,   -999.0,9,   -999.0,9,     7.81,2, -999.00,  -999.0, -999.00,  -999.0
    31DSCG96_2,  P15S,   151,  1,    125,   1119,2,19960228,2111,-13.8180,-170.0010, 4297,   -999,    365.6,  11.9328,  34.8215,2,  34.8196,2,    114.3,2, 11.8850,    112.0,6,    13.24,2,    21.19,2,     0.00,2,     1.67,2,    0.701,2,    0.364,2,   -999.0,9,  -999.00,9,   -999.0,9,   -999.0,9,   -999.0,9,     7.69,2, -999.00,  -999.0, -999.00,  -999.0
    31DSCG96_2,  P15S,   151,  1,    124,   1244,2,19960228,2111,-13.8180,-170.0010, 4297,   -999,    415.0,  10.4553,  34.6995,2,  34.6962,2,    114.3,2, 10.4054,    112.8,2,    16.92,2,    24.52,2,     0.00,2,     1.85,2,    0.408,2,    0.223,2,   -999.0,9,  -999.00,9,   -999.0,9,   -999.0,9,   -999.0,9,     7.65,2, -999.00,  -999.0, -999.00,  -999.0
    31DSCG96_2,  P15S,   151,  1,    123,   1250,2,19960228,2111,-13.8180,-170.0010, 4297,   -999,    469.6,   9.0870,  34.6049,2,  34.6130,2,    127.4,2,  9.0352,    124.6,2,    19.81,2,    26.53,2,     0.00,2,     1.93,2,    0.270,2,    0.144,2,   -999.0,9,  -999.00,9,   -999.0,9,   -999.0,9,   -999.0,9,     7.63,2, -999.00,  -999.0, -999.00,  -999.0
    31DSCG96_2,  P15S,   151,  1,    122,   1265,2,19960228,2111,-13.8180,-170.0010, 4297,   -999,    527.0,   7.4004,  34.5093,2,  34.5097,2,    144.6,2,  7.3487,    144.8,2,    25.17,2,    28.92,2,     0.00,2,     2.04,2,    0.150,2,    0.087,2,   -999.0,9,  -999.00,9,   -999.0,9,   -999.0,9,   -999.0,9,     7.62,2, -999.00,  -999.0, -999.00,  -999.0
    31DSCG96_2,  P15S,   151,  1,    121,   1246,2,19960228,2111,-13.8180,-170.0010, 4297,   -999,    624.0,   6.0239,  34.4650,2,  34.4646,2,    154.7,2,  5.9688,    151.4,2,    35.90,2,    31.51,2,     0.00,2,     2.19,2,    0.075,2,    0.045,2,   -999.0,9,  -999.00,9,   -999.0,9,   -999.0,9,   -999.0,9,     7.60,2, -999.00,  -999.0, -999.00,  -999.0
    31DSCG96_2,  P15S,   151,  1,    120,   1015,2,19960228,2111,-13.8180,-170.0010, 4297,   -999,    726.3,   5.3263,  34.4747,2,  34.4754,2,    147.2,2,  5.2655,    143.8,2,    46.91,2,    33.35,2,     0.00,2,     2.32,2, -999.000,9, -999.000,9,   -999.0,9,  -999.00,9,   -999.0,9,   -999.0,9,   -999.0,9,     7.58,2, -999.00,  -999.0, -999.00,  -999.0
    31DSCG96_2,  P15S,   151,  1,    119,   1247,2,19960228,2111,-13.8180,-170.0010, 4297,   -999,    826.1,   4.8111,  34.4887,2,  34.4895,2,    143.5,2,  4.7446,    141.5,2,    56.30,2,    34.27,2,     0.00,2,     2.39,2,    0.024,2,    0.012,2,   -999.0,9,  -999.00,9,   -999.0,9,   -999.0,9,   -999.0,9,     7.57,2, -999.00,  -999.0, -999.00,  -999.0
    31DSCG96_2,  P15S,   151,  1,    118,   1299,2,19960228,2111,-13.8180,-170.0010, 4297,   -999,    925.7,   4.5733,  34.4959,2,  34.4981,2,    141.2,2,  4.4997,    139.3,6,    61.53,2,    34.82,2,     0.00,2,     2.42,2, -999.000,9, -999.000,9,   -999.0,9,  -999.00,9,   -999.0,9,   -999.0,9,   -999.0,9,     7.57,3, -999.00,  -999.0, -999.00,  -999.0
    31DSCG96_2,  P15S,   151,  1,    117,   1242,2,19960228,2111,-13.8180,-170.0010, 4297,   -999,   1024.1,   4.1235,  34.5164,2,  34.5169,2,    133.9,2,  4.0448,    132.4,2,    71.90,2,    36.04,2,     0.00,2,     2.52,2,    0.001,2,    0.000,2,   -999.0,9,  -999.00,9,   -999.0,9,   -999.0,9,   -999.0,9,     7.55,2, -999.00,  -999.0, -999.00,  -999.0
    31DSCG96_2,  P15S,   151,  1,    116,   1259,2,19960228,2111,-13.8180,-170.0010, 4297,   -999,   1140.8,   3.7892,  34.5286,2,  34.5294,2,    135.8,2,  3.7035,    135.7,2,    78.07,2,    35.99,2,     0.00,2,     2.51,2, -999.000,9, -999.000,9,   -999.0,9,  -999.00,9,   -999.0,9,   -999.0,9,   -999.0,9,     7.56,3, -999.00,  -999.0, -999.00,  -999.0
    31DSCG96_2,  P15S,   151,  1,    115,   1041,2,19960228,2111,-13.8180,-170.0010, 4297,   -999,   1225.7,   3.5057,  34.5465,2,  34.5461,2,    132.9,2,  3.4155,    132.6,2,    85.43,2,    36.52,2,     0.00,2,     2.55,2,    0.001,2,    0.000,2,   -999.0,9,  -999.00,9,   -999.0,9,   -999.0,9,   -999.0,9,     7.55,2, -999.00,  -999.0, -999.00,  -999.0
    31DSCG96_2,  P15S,   151,  1,    114,   1017,2,19960228,2111,-13.8180,-170.0010, 4297,   -999,   1351.7,   3.2093,  34.5628,2,  34.5627,2,    133.9,2,  3.1115,    134.2,2,    92.02,2,    36.57,2,     0.00,2,     2.56,2, -999.000,9, -999.000,9,   -999.0,9,  -999.00,9,   -999.0,9,   -999.0,9,   -999.0,9,     7.55,2, -999.00,  -999.0, -999.00,  -999.0
    31DSCG96_2,  P15S,   151,  1,    113,   1302,2,19960228,2111,-13.8180,-170.0010, 4297,   -999,   1565.3,   2.7777,  34.5884,2,  34.5893,2,    138.3,2,  2.6670,    139.3,2,   101.16,2,    36.39,2,     0.00,2,     2.54,2, -999.000,9, -999.000,9,   -999.0,9,  -999.00,9,   -999.0,9,   -999.0,9,   -999.0,9,     7.56,2, -999.00,  -999.0, -999.00,  -999.0
    31DSCG96_2,  P15S,   151,  1,    112,   1217,2,19960228,2111,-13.8180,-170.0010, 4297,   -999,   1815.2,   2.3639,  34.6176,2,  34.6196,2,    143.4,2,  2.2377,    144.9,2,   110.75,2,    36.16,2,     0.00,2,     2.51,2,    0.001,2,    0.001,2,   -999.0,9,  -999.00,9,   -999.0,9,   -999.0,9,   -999.0,9,     7.57,2, -999.00,  -999.0, -999.00,  -999.0
    31DSCG96_2,  P15S,   151,  1,    111,   1226,2,19960228,2111,-13.8180,-170.0010, 4297,   -999,   2067.0,   2.1195,  34.6384,2,  34.6379,2,    145.2,2,  1.9755,    146.0,6,   118.54,2,    36.16,2,     0.00,2,     2.51,2, -999.000,9, -999.000,9,   -999.0,9,  -999.00,9,   -999.0,9,   -999.0,9,   -999.0,9,     7.57,2, -999.00,  -999.0, -999.00,  -999.0
    31DSCG96_2,  P15S,   151,  1,    110,   1301,2,19960228,2111,-13.8180,-170.0010, 4297,   -999,   2314.4,   1.9851,  34.6510,2,  34.6516,2,    147.1,2,  1.8217,    147.6,2,   123.27,2,    36.10,2,     0.00,2,     2.50,2, -999.000,9, -999.000,9,   -999.0,9,  -999.00,9,   -999.0,9,   -999.0,9,   -999.0,9,     7.57,2, -999.00,  -999.0, -999.00,  -999.0
    31DSCG96_2,  P15S,   151,  1,    109,   1031,2,19960228,2111,-13.8180,-170.0010, 4297,   -999,   2564.4,   1.9064,  34.6593,2,  34.6589,2,    148.1,2,  1.7220,    147.9,2,   126.70,2,    36.10,2,     0.00,2,     2.50,2,   -0.001,2,    0.000,2,   -999.0,9,  -999.00,9,   -999.0,9,   -999.0,9,   -999.0,9,     7.57,2, -999.00,  -999.0, -999.00,  -999.0
    31DSCG96_2,  P15S,   151,  1,    108,   1227,2,19960228,2111,-13.8180,-170.0010, 4297,   -999,   2819.6,   1.7961,  34.6679,2,  34.6673,2,    149.7,2,  1.5900,    149.4,2,   130.57,2,    36.07,2,     0.00,2,     2.49,2, -999.000,9, -999.000,9,   -999.0,9,  -999.00,9,   -999.0,9,   -999.0,9,   -999.0,9,     7.58,2, -999.00,  -999.0, -999.00,  -999.0
    31DSCG96_2,  P15S,   151,  1,    107,   1263,2,19960228,2111,-13.8180,-170.0010, 4297,   -999,   3063.2,   1.7113,  34.6739,2,  34.6751,2,    151.9,2,  1.4837,    152.0,2,   132.53,2,    35.85,2,     0.00,2,     2.48,2, -999.000,9, -999.000,9,   -999.0,9,  -999.00,9,   -999.0,9,   -999.0,9,   -999.0,9,     7.58,2, -999.00,  -999.0, -999.00,  -999.0
    31DSCG96_2,  P15S,   151,  1,    106,   1262,2,19960228,2111,-13.8180,-170.0010, 4297,   -999,   3315.3,   1.6441,  34.6786,2,  34.6777,2,    154.4,2,  1.3931,    154.3,2,   134.18,2,    35.77,2,     0.00,2,     2.48,2,    0.001,2,    0.000,2,   -999.0,9,  -999.00,9,   -999.0,9,   -999.0,9,   -999.0,9,     7.58,2, -999.00,  -999.0, -999.00,  -999.0
    31DSCG96_2,  P15S,   151,  1,    105,   1264,2,19960228,2111,-13.8180,-170.0010, 4297,   -999,   3565.2,   1.5285,  34.6864,2,  34.6870,2,    163.1,2,  1.2549,    163.2,6,   132.32,2,    35.15,2,     0.00,2,     2.43,2, -999.000,9, -999.000,9,   -999.0,9,  -999.00,9,   -999.0,9,   -999.0,9,   -999.0,9,     7.59,2, -999.00,  -999.0, -999.00,  -999.0
    31DSCG96_2,  P15S,   151,  1,    104,   1003,2,19960228,2111,-13.8180,-170.0010, 4297,   -999,   3814.1,   1.3833,  34.6996,2,  34.6991,2,    180.3,2,  1.0874,    179.8,2,   124.57,2,    33.89,2,     0.00,2,     2.33,2, -999.000,9, -999.000,9,   -999.0,9,  -999.00,9,   -999.0,9,   -999.0,9,   -999.0,9,     7.60,2, -999.00,  -999.0, -999.00,  -999.0
    31DSCG96_2,  P15S,   151,  1,    103,   1035,2,19960228,2111,-13.8180,-170.0010, 4297,   -999,   4064.3,   1.2359,  34.7108,2,  34.7118,2,    194.8,2,  0.9173,    196.4,2,   118.10,2,    32.56,2,     0.00,2,     2.23,2,    0.003,2,    0.000,2,   -999.0,9,  -999.00,9,   -999.0,9,   -999.0,9,   -999.0,9,     7.61,2, -999.00,  -999.0, -999.00,  -999.0
    31DSCG96_2,  P15S,   151,  1,    102,   1030,2,19960228,2111,-13.8180,-170.0010, 4297,   -999,   4317.2,   1.0928,  34.7116,2,  34.7125,2,    203.3,2,  0.7507,    203.9,2,   118.27,2,    32.26,2,     0.00,2,     2.21,2,    0.007,6,    0.001,6,   -999.0,9,  -999.00,9,   -999.0,9,   -999.0,9,   -999.0,9,     7.61,2, -999.00,  -999.0, -999.00,  -999.0
    31DSCG96_2,  P15S,   151,  1,    101,   1022,2,19960228,2111,-13.8180,-170.0010, 4297,   -999,   4363.8,   1.0844,  34.7115,2,  34.7115,2,    203.6,2,  0.7374,    204.3,2,   118.55,6,    32.19,6,     0.00,6,     2.21,6,    0.001,2,    0.000,2,   -999.0,9,  -999.00,9,   -999.0,9,   -999.0,9,   -999.0,9,     7.61,2, -999.00,  -999.0, -999.00,  -999.0