BOTTLE,20220811CCHSIOAMB
EXPOCODE,SECT_ID,STNNBR,CASTNO,SAMPNO,BTLNBR,BTLNBR_FLAG_W,DATE,TIME,LATITUDE,LONGITUDE,DEPTH,CTDRAW,CTDPRS,CTDTMP,CTDSAL,CTDSAL_FLAG_W,SALNTY,SALNTY_FLAG_W,CTDOXY,CTDOXY_FLAG_W,THETA,OXYGEN,OXYGEN_FLAG_W,SILCAT,SILCAT_FLAG_W,NITRAT,NITRAT_FLAG_W,NITRIT,NITRIT_FLAG_W,PHSPHT,PHSPHT_FLAG_W,CFC-11,CFC-11_FLAG_W,CFC-12,CFC-12_FLAG_W,DELC14,DELC14_FLAG_W,DELC13,DELC13_FLAG_W,TCARBN,TCARBN_FLAG_W,PCO2,PCO2_FLAG_W,ALKALI,ALKALI_FLAG_W,PH,PH_FLAG_W,PCO2TMP,C14ERR,PH_TMP,C13ERR
,,,,,,,,,,,,DBAR,DBAR,ITS-90,PSS-78,,PSS-78,,UMOL/KG,,DEG C,UMOL/KG,,UMOL/KG,,UMOL/KG,,UMOL/KG,,UMOL/KG,,PMOL/KG,,PMOL/KG,,/MILLE,,/MILLE,,UMOL/KG,,UATM,,UMOL/KG,,,,DEG C,/MILLE,DEG C,/MILLE
    31DSCG96_2,  P15S,   130,  1,    136,   1245,2,19960223,1404,-23.5010,-170.0010, 5626,   -999,      4.3,  26.6242,  35.2124,2,  35.2100,2,    206.7,2, 26.6232,    202.6,2,     1.12,2,     0.03,2,     0.00,2,     0.00,3,    1.740,2,    0.970,2,     87.6,2,  -999.00,9,   1944.9,2,    235.9,2,   2307.0,2,     8.14,2, -999.00,     4.6, -999.00,  -999.0
    31DSCG96_2,  P15S,   130,  1,    135,   1113,2,19960223,1404,-23.5010,-170.0010, 5626,   -999,     20.1,  26.6305,  35.2119,2,  35.2276,2,    203.0,2, 26.6259,    202.5,2,     1.13,2,     0.02,2,     0.00,2,     0.00,3, -999.000,9, -999.000,9,   -999.0,9,  -999.00,9,   1945.5,2,    234.5,2,   2310.3,2,     8.14,2, -999.00,  -999.0, -999.00,  -999.0
    31DSCG96_2,  P15S,   130,  1,    134,   1216,2,19960223,1404,-23.5010,-170.0010, 5626,   -999,     46.5,  26.4184,  35.3153,2,  35.2790,3,    203.6,2, 26.4079,    203.5,2,     1.14,2,     0.03,2,     0.00,2,     0.00,3,    1.744,2,    0.986,2,   -999.0,9,  -999.00,9,   1947.8,2,    235.1,2,   2312.5,2,     8.14,2, -999.00,  -999.0, -999.00,  -999.0
    31DSCG96_2,  P15S,   130,  1,    133,   1221,2,19960223,1404,-23.5010,-170.0010, 5626,   -999,     71.3,  23.3112,  35.7145,2,  35.7105,2,    219.0,2, 23.2964,    221.9,2,     1.18,2,     0.04,2,     0.00,2,     0.05,2,    2.069,2,    1.134,2,   -999.0,9,  -999.00,9,   2000.0,2,    272.4,2,   2344.8,2,     8.09,2, -999.00,  -999.0, -999.00,  -999.0
    31DSCG96_2,  P15S,   130,  1,    132,   1039,2,19960223,1404,-23.5010,-170.0010, 5626,   -999,     94.2,  21.4250,  35.7664,2,  35.7633,2,    219.7,2, 21.4067,    221.0,2,     1.24,2,     0.07,2,     0.00,2,     0.08,2,    2.174,2,    1.182,2,   -999.0,9,  -999.00,9,   2015.8,2,    292.8,2,   2345.7,2,     8.07,2, -999.00,  -999.0, -999.00,  -999.0
    31DSCG96_2,  P15S,   130,  1,    131,   1014,2,19960223,1404,-23.5010,-170.0010, 5626,   -999,    141.0,  20.0837,  35.7644,2,  35.7620,2,    216.4,2, 20.0575,    217.9,2,     1.16,2,     0.07,2,     0.02,2,     0.11,2, -999.000,9, -999.000,9,   -999.0,9,  -999.00,9,   2026.1,2,    314.3,2,   2345.8,2,     8.05,2, -999.00,  -999.0, -999.00,  -999.0
    31DSCG96_2,  P15S,   130,  1,    130,   1257,2,19960223,1404,-23.5010,-170.0010, 5626,   -999,    189.8,  18.9171,  35.7005,2,  35.6971,2,    202.8,2, 18.8832,    200.4,2,     1.46,2,     2.17,2,     0.02,2,     0.25,2,    2.224,2,    1.183,2,   -999.0,9,  -999.00,9,   2048.6,2,    361.2,2,   2339.6,2,     8.01,2, -999.00,  -999.0, -999.00,  -999.0
    31DSCG96_2,  P15S,   130,  1,    129,   1256,2,19960223,1404,-23.5010,-170.0010, 5626,   -999,    239.1,  17.6454,  35.5817,2,  35.5785,2,    196.8,2, 17.6047,    193.6,2,     1.80,2,     4.23,2,     0.01,2,     0.38,2,    2.164,2,    1.134,2,   -999.0,9,  -999.00,9,   2065.8,2,    421.2,2,   2330.1,2,     7.97,2, -999.00,  -999.0, -999.00,  -999.0
    31DSCG96_2,  P15S,   130,  1,    128,   1007,2,19960223,1404,-23.5010,-170.0010, 5626,   -999,    291.6,  16.4233,  35.4835,2,  35.4802,2,    196.3,2, 16.3760,    193.9,2,     2.31,2,     5.85,2,     0.01,2,     0.49,2,    2.186,2,    1.139,2,   -999.0,9,  -999.00,9,   2074.2,2,    423.9,2,   2325.0,2,     7.94,2, -999.00,  -999.0, -999.00,  -999.0
    31DSCG96_2,  P15S,   130,  1,    127,   1232,2,19960223,1404,-23.5010,-170.0010, 5626,   -999,    377.9,  13.9268,  35.1804,2,  35.1817,2,    195.5,2, 13.8719,    191.8,2,     3.48,2,     9.73,2,     0.01,2,     0.74,2,    1.988,2,    1.007,2,   -999.0,9,  -999.00,9,   2097.6,2,    508.7,2,   2310.8,2,     7.87,2, -999.00,  -999.0, -999.00,  -999.0
    31DSCG96_2,  P15S,   130,  1,    126,   1025,3,19960223,1404,-23.5010,-170.0010, 5626,   -999,    476.6,  10.8433,  34.8138,2,  34.8218,2,    195.3,2, 10.7844,    193.5,2,     5.31,2,    15.72,2,     0.01,2,     1.12,2, -999.000,5, -999.000,5,   -999.0,9,  -999.00,9,   -999.0,9,   -999.0,9,   -999.0,9,  -999.00,9, -999.00,  -999.0, -999.00,  -999.0
    31DSCG96_2,  P15S,   130,  1,    125,   1119,2,19960223,1404,-23.5010,-170.0010, 5626,   -999,    575.9,   8.1815,  34.5177,2,  34.5192,2,    210.9,2,  8.1214,    210.1,6,     7.49,2,    20.76,2,     0.00,2,     1.44,2,    1.231,6,    0.603,6,   -999.0,9,  -999.00,9,   2134.0,2,    720.5,2,   2285.3,2,     7.74,2, -999.00,  -999.0, -999.00,  -999.0
    31DSCG96_2,  P15S,   130,  1,    124,   1013,2,19960223,1404,-23.5010,-170.0010, 5626,   -999,    673.9,   6.8335,  34.3907,2,  34.3891,2,    224.3,2,  6.7697,    221.9,2,    10.03,2,    23.66,2,     0.00,2,     1.62,2,    0.836,2,    0.415,2,   -999.0,9,  -999.00,9,   2139.8,2,    760.0,2,   2281.9,2,     7.72,2, -999.00,  -999.0, -999.00,  -999.0
    31DSCG96_2,  P15S,   130,  1,    123,   1250,2,19960223,1404,-23.5010,-170.0010, 5626,   -999,    775.3,   5.9123,  34.3382,2,  34.3374,2,    219.3,2,  5.8438,    216.3,2,    15.30,2,    26.50,2,     0.00,2,     1.81,2,    0.340,2,    0.184,2,   -999.0,9,  -999.00,9,   2154.6,2,    825.4,2,   2287.5,2,     7.69,2, -999.00,  -999.0, -999.00,  -999.0
    31DSCG96_2,  P15S,   130,  1,    122,   1265,2,19960223,1404,-23.5010,-170.0010, 5626,   -999,    876.8,   5.2878,  34.3395,2,  34.3383,2,    198.7,2,  5.2139,    197.6,2,    24.19,2,    29.50,2,     0.00,2,     2.02,2,    0.134,2,    0.078,2,   -999.0,9,  -999.00,9,   2175.6,2,    915.8,2,   2291.4,2,     7.65,2, -999.00,  -999.0, -999.00,  -999.0
    31DSCG96_2,  P15S,   130,  1,    121,   1246,2,19960223,1404,-23.5010,-170.0010, 5626,   -999,    979.7,   4.6308,  34.3645,2,  34.3631,2,    182.8,2,  4.5523,    181.8,2,    35.95,2,    31.93,2,     0.00,2,     2.19,2,    0.045,2,    0.025,2,   -999.0,9,  -999.00,9,   2199.4,2,   1001.3,3,   2305.7,2,     7.62,2, -999.00,  -999.0, -999.00,  -999.0
    31DSCG96_2,  P15S,   130,  1,    120,   1015,2,19960223,1404,-23.5010,-170.0010, 5626,   -999,   1077.1,   4.0949,  34.4076,2,  34.4064,2,    172.7,2,  4.0121,    169.3,2,    49.09,2,    33.63,2,     0.00,2,     2.31,2,    0.010,2,    0.008,2,   -999.0,9,  -999.00,9,   2220.8,2,   1087.6,2,   2316.1,2,     7.59,2, -999.00,  -999.0, -999.00,  -999.0
    31DSCG96_2,  P15S,   130,  1,    119,   1247,2,19960223,1404,-23.5010,-170.0010, 5626,   -999,   1213.1,   3.4896,  34.4636,2,  34.4638,2,    164.1,2,  3.4007,    162.3,2,    64.80,2,    34.63,2,     0.00,2,     2.39,2,    0.002,2,    0.001,2,   -999.0,9,  -999.00,9,   2241.1,2,   1156.1,2,   2336.2,2,     7.58,2, -999.00,  -999.0, -999.00,  -999.0
    31DSCG96_2,  P15S,   130,  1,    118,   1299,2,19960223,1404,-23.5010,-170.0010, 5626,   -999,   1436.4,   2.8087,  34.5401,2,  34.5413,2,    157.5,2,  2.7084,    158.1,2,    85.02,2,    35.14,2,     0.00,2,     2.43,2, -999.000,9, -999.000,9,   -999.0,9,  -999.00,9,   2264.9,2,   1159.6,2,   2356.7,2,     7.58,2, -999.00,  -999.0, -999.00,  -999.0
    31DSCG96_2,  P15S,   130,  1,    117,   1267,2,19960223,1404,-23.5010,-170.0010, 5626,   -999,   1691.9,   2.4279,  34.6050,2,  34.6044,2,    147.9,2,  2.3110,    149.0,6,   105.71,2,    35.81,2,     0.00,2,     2.48,2,   -0.001,2,    0.000,2,   -999.0,9,  -999.00,9,   2289.7,2,   1186.2,2,   2384.1,2,     7.57,2, -999.00,  -999.0, -999.00,  -999.0
    31DSCG96_2,  P15S,   130,  1,    116,   1259,2,19960223,1404,-23.5010,-170.0010, 5626,   -999,   1944.1,   2.2618,  34.6265,2,  34.6258,2,    144.9,2,  2.1261,    145.2,2,   114.94,2,    36.15,2,     0.00,2,     2.51,2, -999.000,9, -999.000,9,   -999.0,9,  -999.00,9,   2302.1,2,   1197.6,2,   2392.9,2,     7.57,2, -999.00,  -999.0, -999.00,  -999.0
    31DSCG96_2,  P15S,   130,  1,    115,   1041,2,19960223,1404,-23.5010,-170.0010, 5626,   -999,   2184.8,   2.1121,  34.6411,2,  34.6400,2,    144.9,2,  1.9580,    144.8,2,   120.95,2,    36.23,2,     0.00,2,     2.52,2,   -0.001,2,    0.001,2,   -999.0,9,  -999.00,9,   2307.7,2,   1198.9,2,   2399.6,2,     7.57,2, -999.00,  -999.0, -999.00,  -999.0
    31DSCG96_2,  P15S,   130,  1,    114,   1017,2,19960223,1404,-23.5010,-170.0010, 5626,   -999,   2441.0,   1.9840,  34.6522,2,  34.6507,2,    145.5,2,  1.8094,    144.8,2,   126.03,2,    36.30,2,     0.00,2,     2.52,2, -999.000,9, -999.000,9,   -999.0,9,  -999.00,9,   2313.4,2,   1202.4,2,   2401.3,2,     7.57,2, -999.00,  -999.0, -999.00,  -999.0
    31DSCG96_2,  P15S,   130,  1,    113,   1302,2,19960223,1404,-23.5010,-170.0010, 5626,   -999,   2690.2,   1.8644,  34.6624,2,  34.6602,2,    146.0,2,  1.6692,    145.6,2,   130.28,2,    36.28,2,     0.00,2,     2.52,2,   -0.001,2,    0.001,2,   -999.0,9,  -999.00,9,   2314.1,2,   1200.7,2,   2411.6,2,     7.57,2, -999.00,  -999.0, -999.00,  -999.0
    31DSCG96_2,  P15S,   130,  1,    112,   1217,2,19960223,1404,-23.5010,-170.0010, 5626,   -999,   2938.4,   1.7582,  34.6704,2,  34.6692,2,    147.0,2,  1.5416,    147.1,2,   133.82,2,    36.21,2,     0.00,2,     2.51,2, -999.000,9, -999.000,9,   -999.0,9,  -999.00,9,   2317.2,2,   1197.9,2,   2410.7,2,     7.57,2, -999.00,  -999.0, -999.00,  -999.0
    31DSCG96_2,  P15S,   130,  1,    111,   1226,2,19960223,1404,-23.5010,-170.0010, 5626,   -999,   3187.2,   1.6774,  34.6783,2,  34.6764,2,    152.5,2,  1.4383,    153.1,2,   133.20,2,    35.77,2,     0.00,2,     2.48,2,    0.002,2,   -0.001,2,   -999.0,9,  -999.00,9,   2312.5,2,   1180.0,2,   2410.8,2,     7.58,2, -999.00,  -999.0, -999.00,  -999.0
    31DSCG96_2,  P15S,   130,  1,    110,   1301,2,19960223,1404,-23.5010,-170.0010, 5626,   -999,   3440.1,   1.5568,  34.6970,2,  34.6951,2,    169.7,2,  1.2952,    170.6,2,   124.02,2,    34.30,2,     0.00,2,     2.36,2,    0.000,2,    0.001,2,   -999.0,9,  -999.00,9,   2291.5,2,   1154.7,2,   2394.4,2,  -999.00,9, -999.00,  -999.0, -999.00,  -999.0
    31DSCG96_2,  P15S,   130,  1,    109,   1233,2,19960223,1404,-23.5010,-170.0010, 5626,   -999,   3687.1,   1.4461,  34.7136,2,  34.7130,2,    188.2,2,  1.1618,    187.9,6,   114.80,2,    32.80,2,     0.00,2,     2.25,2,    0.004,2,    0.002,2,   -999.0,9,  -999.00,9,   2272.1,2,   1078.5,2,   2378.2,2,     7.60,2, -999.00,  -999.0, -999.00,  -999.0
    31DSCG96_2,  P15S,   130,  1,    108,   1227,2,19960223,1404,-23.5010,-170.0010, 5626,   -999,   3937.4,   1.2915,  34.7194,2,  34.7181,2,    198.5,2,  0.9849,    198.6,2,   112.84,2,    32.10,2,     0.00,2,     2.20,2,    0.005,2,    0.002,2,   -999.0,9,  -999.00,9,   2259.6,2,   1056.4,2,   2367.6,2,     7.61,2, -999.00,  -999.0, -999.00,  -999.0
    31DSCG96_2,  P15S,   130,  1,    107,   1263,2,19960223,1404,-23.5010,-170.0010, 5626,   -999,   4189.8,   1.1611,  34.7169,2,  34.7168,2,    202.8,2,  0.8310,    202.9,2,   115.41,2,    32.07,2,     0.00,2,     2.19,2,    0.007,6,    0.004,6,   -999.0,9,  -999.00,9,   2259.2,2,   1053.2,2,   2368.3,2,     7.61,2, -999.00,  -999.0, -999.00,  -999.0
    31DSCG96_2,  P15S,   130,  1,    106,   1262,2,19960223,1404,-23.5010,-170.0010, 5626,   -999,   4437.3,   1.0868,  34.7140,2,  34.7128,2,    197.0,4,  0.7315,    204.9,2,   117.88,2,    32.21,2,     0.00,2,     2.20,2,    0.007,2,    0.003,2,   -999.0,9,  -999.00,9,   2257.2,2,   1052.1,2,   2367.7,2,     7.61,2, -999.00,  -999.0, -999.00,  -999.0
    31DSCG96_2,  P15S,   130,  1,    105,   1264,2,19960223,1404,-23.5010,-170.0010, 5626,   -999,   4725.5,   1.0436,  34.7111,2,  34.7102,2,    188.7,4,  0.6569,    206.2,2,   119.86,2,    32.28,2,     0.00,2,     2.20,2,    0.006,2,    0.003,2,   -999.0,9,  -999.00,9,   2260.1,2,   1052.2,2,   2369.6,2,     7.61,2, -999.00,  -999.0, -999.00,  -999.0
    31DSCG96_2,  P15S,   130,  1,    104,   1003,2,19960223,1404,-23.5010,-170.0010, 5626,   -999,   5066.1,   1.0442,  34.7096,2,  34.7101,2,    194.4,4,  0.6172,    206.1,2,   120.86,2,    32.35,2,     0.00,2,     2.20,2,    0.010,2,    0.005,2,   -999.0,9,  -999.00,9,   2259.2,2,   1053.6,2,   2369.0,2,     7.60,4, -999.00,  -999.0, -999.00,  -999.0
    31DSCG96_2,  P15S,   130,  1,    103,   1035,2,19960223,1404,-23.5010,-170.0010, 5626,   -999,   5324.5,   1.0679,  34.7086,2,  34.7076,2,    190.4,4,  0.6087,    206.6,2,   121.35,2,    32.42,2,     0.00,2,     2.21,2,    0.008,2,    0.005,2,   -999.0,9,  -999.00,9,   2262.3,2,   1060.9,2,   2370.0,2,     7.61,2, -999.00,  -999.0, -999.00,  -999.0
    31DSCG96_2,  P15S,   130,  1,    102,   1030,2,19960223,1404,-23.5010,-170.0010, 5626,   -999,   5622.9,   1.1016,  34.7079,2,  34.7077,2,    188.5,4,  0.6038,    206.4,2,   121.55,2,    32.42,2,     0.00,2,     2.21,2,    0.013,2,    0.017,4,   -999.0,9,  -999.00,9,   2261.2,2,   1066.7,2,   2370.0,2,     7.61,2, -999.00,  -999.0, -999.00,  -999.0
    31DSCG96_2,  P15S,   130,  1,    101,   1022,2,19960223,1404,-23.5010,-170.0010, 5626,   -999,   5778.7,   1.1198,  34.7078,2,  34.7098,2,    186.3,4,  0.6014,    207.0,6,   121.62,6,    32.42,2,     0.00,6,     2.21,6,    0.012,6,    0.005,6,   -999.0,9,  -999.00,9,   2260.8,2,   1087.0,2,   2370.9,2,     7.61,2, -999.00,  -999.0, -999.00,  -999.0