BOTTLE,20220811CCHSIOAMB
EXPOCODE,SECT_ID,STNNBR,CASTNO,SAMPNO,BTLNBR,BTLNBR_FLAG_W,DATE,TIME,LATITUDE,LONGITUDE,DEPTH,CTDRAW,CTDPRS,CTDTMP,CTDSAL,CTDSAL_FLAG_W,SALNTY,SALNTY_FLAG_W,CTDOXY,CTDOXY_FLAG_W,THETA,OXYGEN,OXYGEN_FLAG_W,SILCAT,SILCAT_FLAG_W,NITRAT,NITRAT_FLAG_W,NITRIT,NITRIT_FLAG_W,PHSPHT,PHSPHT_FLAG_W,CFC-11,CFC-11_FLAG_W,CFC-12,CFC-12_FLAG_W,DELC14,DELC14_FLAG_W,DELC13,DELC13_FLAG_W,TCARBN,TCARBN_FLAG_W,PCO2,PCO2_FLAG_W,ALKALI,ALKALI_FLAG_W,PH,PH_FLAG_W,PCO2TMP,C14ERR,PH_TMP,C13ERR
,,,,,,,,,,,,DBAR,DBAR,ITS-90,PSS-78,,PSS-78,,UMOL/KG,,DEG C,UMOL/KG,,UMOL/KG,,UMOL/KG,,UMOL/KG,,UMOL/KG,,PMOL/KG,,PMOL/KG,,/MILLE,,/MILLE,,UMOL/KG,,UATM,,UMOL/KG,,,,DEG C,/MILLE,DEG C,/MILLE
    31DSCG96_2,  P15S,   163,  2,    236,   1245,2,19960302,2343, -8.0002,-168.6163, 5138,   -999,      5.3,  29.3849,  35.2909,2,  35.2924,2,    197.3,2, 29.3836,    195.3,2,     1.39,2,     0.00,2,     0.00,2,     0.18,2,    1.553,2,    0.959,4,     81.4,2,  -999.00,9,   1953.8,3,    242.2,2,   2324.3,2,     8.14,2, -999.00,     3.4, -999.00,  -999.0
    31DSCG96_2,  P15S,   163,  2,    235,   1113,2,19960302,2343, -8.0002,-168.6163, 5138,   -999,     29.6,  29.0716,  35.2891,2,  35.2895,2,    195.3,2, 29.0644,    195.4,2,     1.54,2,     0.00,2,     0.00,2,     0.19,2, -999.000,9, -999.000,9,   -999.0,9,  -999.00,9,   1955.7,3,    242.1,2,   2321.6,2,     8.14,2, -999.00,  -999.0, -999.00,  -999.0
    31DSCG96_2,  P15S,   163,  2,    234,   1267,2,19960302,2343, -8.0002,-168.6163, 5138,   -999,     57.9,  29.0720,  35.3109,2,  35.3096,2,    193.8,2, 29.0579,    195.7,2,     1.42,2,     0.00,2,     0.00,2,     0.19,2, -999.000,5, -999.000,5,   -999.0,9,  -999.00,9,   1957.1,3,    245.9,2,   2324.7,2,     8.14,2, -999.00,  -999.0, -999.00,  -999.0
    31DSCG96_2,  P15S,   163,  2,    233,   1021,2,19960302,2343, -8.0002,-168.6163, 5138,   -999,     80.7,  28.6998,  35.5829,2,  35.5862,2,    195.5,2, 28.6804,    195.6,2,     1.71,2,     0.95,2,     0.03,2,     0.29,2,    1.592,2,    0.897,2,   -999.0,9,  -999.00,9,   1990.4,3,    264.6,2,   2338.1,2,     8.11,2, -999.00,  -999.0, -999.00,  -999.0
    31DSCG96_2,  P15S,   163,  2,    232,   1039,2,19960302,2343, -8.0002,-168.6163, 5138,   -999,    117.1,  28.3778,  35.6078,2,  35.6087,2,    196.4,2, 28.3499,    197.4,2,     1.98,2,     1.78,2,     0.04,2,     0.34,2, -999.000,9, -999.000,9,   -999.0,9,  -999.00,9,   -999.0,9,    290.1,2,   -999.0,9,     8.09,2, -999.00,  -999.0, -999.00,  -999.0
    31DSCG96_2,  P15S,   163,  2,    231,   1014,2,19960302,2343, -8.0002,-168.6163, 5138,   -999,    166.5,  27.0752,  35.8216,2,-999.0000,9,    163.0,2, 27.0368,    163.3,2,     2.28,2,     3.28,2,     1.73,2,     0.55,2,    1.708,2,    0.945,2,   -999.0,9,  -999.00,9,   2042.0,3,    334.4,2,   2357.1,2,     8.04,2, -999.00,  -999.0, -999.00,  -999.0
    31DSCG96_2,  P15S,   163,  2,    230,   1257,2,19960302,2343, -8.0002,-168.6163, 5138,   -999,    211.0,  23.2768,  36.1739,2,  36.1666,2,    150.6,2, 23.2331,    151.1,2,     1.94,2,     5.81,2,     0.01,2,     0.63,2,    1.898,2,    1.015,2,   -999.0,9,  -999.00,9,   2096.4,3,    410.6,2,   2381.5,2,     7.98,2, -999.00,  -999.0, -999.00,  -999.0
    31DSCG96_2,  P15S,   163,  2,    229,   1256,2,19960302,2343, -8.0002,-168.6163, 5138,   -999,    261.8,  17.2430,  35.4139,2,  35.4080,2,    129.1,2, 17.1992,    120.7,2,     6.18,2,    13.08,2,     0.00,2,     1.16,2,    1.633,6,    0.853,6,   -999.0,9,  -999.00,9,   2141.1,3,    600.8,2,   2335.9,2,     7.82,2, -999.00,  -999.0, -999.00,  -999.0
    31DSCG96_2,  P15S,   163,  2,    228,   1007,2,19960302,2343, -8.0002,-168.6163, 5138,   -999,    324.5,  12.0602,  34.8840,2,  34.8844,2,     79.5,2, 12.0175,     78.7,2,    17.10,2,    24.75,2,     0.00,2,     1.90,2, -999.000,5, -999.000,5,   -999.0,9,  -999.00,9,   2195.1,3,    980.1,2,   2309.6,2,     7.63,2, -999.00,  -999.0, -999.00,  -999.0
    31DSCG96_2,  P15S,   163,  2,    227,   1232,2,19960302,2343, -8.0002,-168.6163, 5138,   -999,    428.4,   9.2670,  34.6908,2,  34.6904,2,     94.9,2,  9.2192,     92.9,6,    25.94,2,    30.18,2,     0.00,2,     2.12,2,    0.177,2,    0.089,2,   -999.0,9,  -999.00,9,   2209.7,3,   1117.4,2,   2307.0,2,     7.58,2, -999.00,  -999.0, -999.00,  -999.0
    31DSCG96_2,  P15S,   163,  2,    226,   1025,2,19960302,2343, -8.0002,-168.6163, 5138,   -999,    526.3,   7.5728,  34.5906,2,  34.5897,2,    101.9,2,  7.5204,     99.1,2,    34.50,2,    33.57,2,     0.00,2,     2.32,2,    0.056,2,    0.030,2,   -999.0,9,  -999.00,9,   2225.9,2,   1221.1,2,   2308.2,2,     7.55,2, -999.00,  -999.0, -999.00,  -999.0
    31DSCG96_2,  P15S,   163,  2,    225,   1119,2,19960302,2343, -8.0002,-168.6163, 5138,   -999,    624.4,   6.6031,  34.5494,2,  34.5483,2,    101.6,2,  6.5451,     98.2,2,    42.90,2,    35.64,2,     0.00,2,     2.47,2,    0.022,2,    0.012,2,   -999.0,9,  -999.00,9,   2240.5,2,   1294.7,2,   2316.8,2,     7.53,2, -999.00,  -999.0, -999.00,  -999.0
    31DSCG96_2,  P15S,   163,  2,    224,   1244,2,19960302,2343, -8.0002,-168.6163, 5138,   -999,    767.6,   5.5611,  34.5277,2,  34.5262,2,    102.7,2,  5.4951,     99.7,2,    55.75,2,    37.36,2,     0.00,2,     2.61,2,    0.004,2,    0.004,2,   -999.0,9,  -999.00,9,   2254.0,2,   -999.0,9,   2326.0,2,     7.52,2, -999.00,  -999.0, -999.00,  -999.0
    31DSCG96_2,  P15S,   163,  2,    223,   1250,2,19960302,2343, -8.0002,-168.6163, 5138,   -999,    915.2,   4.8246,  34.5245,2,  34.5249,2,    109.7,2,  4.7501,    108.6,2,    66.28,2,    37.49,2,     0.00,2,     2.62,2,    0.003,2,    0.002,2,   -999.0,9,  -999.00,9,   2261.5,2,   1339.9,3,   2339.7,2,     7.52,2, -999.00,  -999.0, -999.00,  -999.0
    31DSCG96_2,  P15S,   163,  2,    222,   1265,2,19960302,2343, -8.0002,-168.6163, 5138,   -999,   1063.6,   4.1454,  34.5422,2,  34.5409,2,    114.5,2,  4.0632,    114.4,2,    80.36,2,    37.51,2,     0.00,2,     2.63,2,    0.001,2,    0.001,2,   -999.0,9,  -999.00,9,   2278.1,2,   1326.5,3,   2355.6,2,     7.53,2, -999.00,  -999.0, -999.00,  -999.0
    31DSCG96_2,  P15S,   163,  2,    221,   1246,2,19960302,2343, -8.0002,-168.6163, 5138,   -999,   1314.3,   3.3685,  34.5681,2,  34.5674,2,    123.3,2,  3.2721,    123.3,2,    95.14,2,    37.28,2,     0.00,2,     2.61,2, -999.000,9, -999.000,9,   -999.0,9,  -999.00,9,   2289.7,2,   1309.0,3,   2369.7,2,     7.54,2, -999.00,  -999.0, -999.00,  -999.0
    31DSCG96_2,  P15S,   163,  2,    220,   1015,2,19960302,2343, -8.0002,-168.6163, 5138,   -999,   1567.3,   2.7325,  34.6048,2,  34.6044,2,    122.0,2,  2.6222,    123.8,2,   112.26,2,    37.58,2,     0.00,2,     2.63,2, -999.000,9, -999.000,9,   -999.0,9,  -999.00,9,   2308.0,2,   1351.3,2,   2387.5,2,     7.54,2, -999.00,  -999.0, -999.00,  -999.0
    31DSCG96_2,  P15S,   163,  2,    219,   1247,2,19960302,2343, -8.0002,-168.6163, 5138,   -999,   1813.9,   2.4027,  34.6257,2,  34.6278,2,    125.4,2,  2.2760,    126.4,6,   122.09,2,    37.58,2,     0.00,2,     2.63,2,    0.003,2,    0.001,2,   -999.0,9,  -999.00,9,   2316.1,2,   1297.5,2,   2399.3,2,     7.54,2, -999.00,  -999.0, -999.00,  -999.0
    31DSCG96_2,  P15S,   163,  2,    218,   1299,2,19960302,2343, -8.0002,-168.6163, 5138,   -999,   2061.9,   2.1503,  34.6432,2,  34.6437,2,    128.6,2,  2.0063,    128.1,2,   129.70,2,    37.47,2,     0.00,2,     2.61,2, -999.000,9, -999.000,9,   -999.0,9,  -999.00,9,   2325.5,3,   1297.7,2,   2409.3,2,     7.55,2, -999.00,  -999.0, -999.00,  -999.0
    31DSCG96_2,  P15S,   163,  2,    217,   1242,2,19960302,2343, -8.0002,-168.6163, 5138,   -999,   2317.7,   1.9586,  34.6560,2,  34.6573,2,    133.6,2,  1.7954,    134.8,2,   133.41,2,    37.13,2,     0.00,2,     2.58,2, -999.000,9, -999.000,9,   -999.0,9,  -999.00,9,   2324.8,3,   1261.7,2,   2412.3,2,     7.55,2, -999.00,  -999.0, -999.00,  -999.0
    31DSCG96_2,  P15S,   163,  2,    216,   1259,2,19960302,2343, -8.0002,-168.6163, 5138,   -999,   2564.5,   1.8272,  34.6657,2,  34.6659,2,    138.6,2,  1.6442,    138.7,2,   136.52,2,    36.81,2,     0.00,2,     2.56,2,   -0.002,2,    0.000,2,   -999.0,9,  -999.00,9,   2325.2,3,   1235.3,2,   2415.9,2,     7.56,2, -999.00,  -999.0, -999.00,  -999.0
    31DSCG96_2,  P15S,   163,  2,    215,   1041,2,19960302,2343, -8.0002,-168.6163, 5138,   -999,   2816.3,   1.7450,  34.6718,2,  34.6717,2,    143.7,2,  1.5403,    143.3,2,   137.13,2,    36.59,2,     0.00,2,     2.53,2, -999.000,9, -999.000,9,   -999.0,9,  -999.00,9,   2323.9,3,   1217.6,2,   2417.6,2,     7.57,2, -999.00,  -999.0, -999.00,  -999.0
    31DSCG96_2,  P15S,   163,  2,    214,   1017,2,19960302,2343, -8.0002,-168.6163, 5138,   -999,   3065.8,   1.6616,  34.6775,2,  34.6777,2,    149.7,2,  1.4348,    149.4,2,   136.63,2,    36.06,2,     0.00,2,     2.49,2, -999.000,9, -999.000,9,   -999.0,9,  -999.00,9,   2321.4,2,   1191.0,2,   2415.9,2,     7.58,2, -999.00,  -999.0, -999.00,  -999.0
    31DSCG96_2,  P15S,   163,  2,    213,   1302,2,19960302,2343, -8.0002,-168.6163, 5138,   -999,   3315.0,   1.5819,  34.6824,2,  34.6828,2,    156.4,2,  1.3324,    155.6,2,   136.18,2,    35.75,2,     0.00,2,     2.46,2,   -0.001,2,    0.000,2,   -999.0,9,  -999.00,9,   2316.1,2,   1172.0,2,   2416.7,2,     7.58,2, -999.00,  -999.0, -999.00,  -999.0
    31DSCG96_2,  P15S,   163,  2,    212,   1217,2,19960302,2343, -8.0002,-168.6163, 5138,   -999,   3561.7,   1.5122,  34.6869,2,  34.6873,2,    161.5,2,  1.2393,    160.8,2,   135.52,2,    35.20,3,     0.00,2,     2.44,2, -999.000,9, -999.000,9,   -999.0,9,  -999.00,9,   2310.0,2,   1163.4,2,   2413.8,2,     7.59,2, -999.00,  -999.0, -999.00,  -999.0
    31DSCG96_2,  P15S,   163,  2,    211,   1226,2,19960302,2343, -8.0002,-168.6163, 5138,   -999,   3815.8,   1.4471,  34.6909,2,  34.6912,2,    166.1,2,  1.1494,    165.8,6,   135.16,2,    35.08,2,     0.00,2,     2.41,2, -999.000,9, -999.000,9,   -999.0,9,  -999.00,9,   2306.3,2,   1161.7,2,   2410.8,2,     7.60,2, -999.00,  -999.0, -999.00,  -999.0
    31DSCG96_2,  P15S,   163,  2,    210,   1301,2,19960302,2343, -8.0002,-168.6163, 5138,   -999,   4066.6,   1.4089,  34.6937,2,  34.6951,2,    171.4,2,  1.0852,    169.7,2,   134.66,2,    34.84,2,     0.00,2,     2.39,2,   -0.002,2,    0.001,2,   -999.0,9,  -999.00,9,   2302.8,2,   1121.2,2,   2409.0,2,     7.60,2, -999.00,  -999.0, -999.00,  -999.0
    31DSCG96_2,  P15S,   163,  2,    209,   1031,2,19960302,2343, -8.0002,-168.6163, 5138,   -999,   4190.2,   1.3924,  34.6952,2,  34.6966,2,    173.8,2,  1.0556,    173.6,2,   132.46,2,    34.51,2,     0.00,2,     2.37,2, -999.000,9, -999.000,9,   -999.0,9,  -999.00,9,   2297.1,2,   1117.0,2,   2406.1,2,     7.60,3, -999.00,  -999.0, -999.00,  -999.0
    31DSCG96_2,  P15S,   163,  2,    208,   1227,2,19960302,2343, -8.0002,-168.6163, 5138,   -999,   4314.3,   1.3821,  34.6963,2,  34.6966,2,    174.8,2,  1.0317,    174.2,2,   132.93,2,    34.51,2,     0.00,2,     2.37,2,   -0.002,2,    0.000,2,   -999.0,9,  -999.00,9,   2298.4,2,   1114.2,2,   2403.2,2,     7.60,2, -999.00,  -999.0, -999.00,  -999.0
    31DSCG96_2,  P15S,   163,  2,    207,   1263,2,19960302,2343, -8.0002,-168.6163, 5138,   -999,   4438.9,   1.3592,  34.6981,2,  34.6997,2,    177.3,2,  0.9955,    177.5,2,   131.57,2,    34.21,2,     0.00,2,     2.35,2,    0.006,2,    0.002,2,   -999.0,9,  -999.00,9,   -999.0,9,   1105.8,2,   2401.4,2,     7.61,2, -999.00,  -999.0, -999.00,  -999.0
    31DSCG96_2,  P15S,   163,  2,    206,   1262,2,19960302,2343, -8.0002,-168.6163, 5138,   -999,   4564.4,   1.3386,  34.6994,2,  34.6998,2,    179.7,2,  0.9611,    180.1,2,   130.36,2,    33.97,2,     0.00,2,     2.33,2, -999.000,5, -999.000,5,   -999.0,9,  -999.00,9,   2291.3,2,   -999.0,9,   2397.4,2,  -999.00,9, -999.00,  -999.0, -999.00,  -999.0
    31DSCG96_2,  P15S,   163,  2,    205,   1264,2,19960302,2343, -8.0002,-168.6163, 5138,   -999,   4689.4,   1.2356,  34.7036,2,  34.7040,2,    191.0,2,  0.8469,    190.8,6,   126.02,2,    33.35,2,     0.00,2,     2.28,2,    0.002,2,    0.001,2,   -999.0,9,  -999.00,9,   2277.8,2,   1080.6,2,   2384.2,2,     7.61,2, -999.00,  -999.0, -999.00,  -999.0
    31DSCG96_2,  P15S,   163,  2,    204,   1003,2,19960302,2343, -8.0002,-168.6163, 5138,   -999,   4814.5,   1.1694,  34.7062,2,  34.7062,2,    197.2,2,  0.7681,    197.3,2,   123.35,2,    32.85,2,     0.00,2,     2.25,2,    0.005,2,    0.004,2,   -999.0,9,  -999.00,9,   2270.4,2,   1076.9,2,   2376.2,2,     7.61,2, -999.00,  -999.0, -999.00,  -999.0
    31DSCG96_2,  P15S,   163,  2,    203,   1035,2,19960302,2343, -8.0002,-168.6163, 5138,   -999,   4948.9,   1.1552,  34.7074,2,  34.7089,2,    199.8,2,  0.7386,    199.6,2,   122.35,2,    32.61,2,     0.00,2,     2.23,2,    0.005,2,    0.003,2,   -999.0,9,  -999.00,9,   2267.3,2,   1068.9,2,   2374.4,2,     7.61,2, -999.00,  -999.0, -999.00,  -999.0
    31DSCG96_2,  P15S,   163,  2,    202,   1030,2,19960302,2343, -8.0002,-168.6163, 5138,   -999,   5066.4,   1.1326,  34.7082,2,  34.7097,2,    203.7,2,  0.7026,   -999.0,9,   121.20,2,    32.37,2,     0.00,2,     2.22,2,    0.008,2,    0.004,2,   -999.0,9,  -999.00,9,   2263.8,2,   1082.6,2,   2374.0,2,     7.61,2, -999.00,  -999.0, -999.00,  -999.0
    31DSCG96_2,  P15S,   163,  2,    201,   1022,2,19960302,2343, -8.0002,-168.6163, 5138,   -999,   5260.5,   1.1296,  34.7088,2,-999.0000,5,    205.6,2,  0.6761,    204.9,2,   120.37,6,    32.22,6,     0.00,6,     2.17,3,    0.005,6,    0.002,6,   -999.0,9,  -999.00,9,   2258.2,2,   1091.2,2,   2370.6,2,     7.61,2, -999.00,  -999.0, -999.00,  -999.0