BOTTLE,20220811CCHSIOAMB
EXPOCODE,SECT_ID,STNNBR,CASTNO,SAMPNO,BTLNBR,BTLNBR_FLAG_W,DATE,TIME,LATITUDE,LONGITUDE,DEPTH,CTDRAW,CTDPRS,CTDTMP,CTDSAL,CTDSAL_FLAG_W,SALNTY,SALNTY_FLAG_W,CTDOXY,CTDOXY_FLAG_W,THETA,OXYGEN,OXYGEN_FLAG_W,SILCAT,SILCAT_FLAG_W,NITRAT,NITRAT_FLAG_W,NITRIT,NITRIT_FLAG_W,PHSPHT,PHSPHT_FLAG_W,CFC-11,CFC-11_FLAG_W,CFC-12,CFC-12_FLAG_W,DELC14,DELC14_FLAG_W,DELC13,DELC13_FLAG_W,TCARBN,TCARBN_FLAG_W,PCO2,PCO2_FLAG_W,ALKALI,ALKALI_FLAG_W,PH,PH_FLAG_W,PCO2TMP,C14ERR,PH_TMP,C13ERR
,,,,,,,,,,,,DBAR,DBAR,ITS-90,PSS-78,,PSS-78,,UMOL/KG,,DEG C,UMOL/KG,,UMOL/KG,,UMOL/KG,,UMOL/KG,,UMOL/KG,,PMOL/KG,,PMOL/KG,,/MILLE,,/MILLE,,UMOL/KG,,UATM,,UMOL/KG,,,,DEG C,/MILLE,DEG C,/MILLE
    31DSCG96_1,  P14S,    11,  1,    140,      0,2,19960110,0904,-55.5068, 172.4492, 5319,   -999,      3.3,   7.1254,  34.3627,2,-999.0000,5,    298.5,2,  7.1251,   -999.0,9,  -999.00,9,  -999.00,9,  -999.00,9,  -999.00,9, -999.000,9, -999.000,9,   -999.0,9,  -999.00,9,   2100.2,2,   -999.0,9,   -999.0,9,  -999.00,9, -999.00,  -999.0, -999.00,  -999.0
    31DSCG96_1,  P14S,    11,  1,    129,   1256,2,19960110,0904,-55.5068, 172.4492, 5319,   -999,    161.7,   6.5724,  34.3869,2,  34.3685,2,    285.4,2,  6.5580,    298.1,2,     5.03,2,    17.33,2,     0.18,2,     1.16,2,    4.443,2,    2.269,2,   -999.0,9,  -999.00,9,   2103.9,2,    606.2,2,   2285.6,2,     7.82,2, -999.00,  -999.0, -999.00,  -999.0
    31DSCG96_1,  P14S,    11,  1,    128,   1007,2,19960110,0904,-55.5068, 172.4492, 5319,   -999,    210.8,   6.6201,  34.4006,2,  34.3993,2,    284.2,2,  6.6011,    286.3,2,     6.78,2,    19.09,2,     0.02,2,     1.28,2,    4.274,2,    2.161,2,   -999.0,9,  -999.00,9,   2115.3,2,    651.8,2,   -999.0,5,     7.79,3, -999.00,  -999.0, -999.00,  -999.0
    31DSCG96_1,  P14S,    11,  1,    127,   1234,2,19960110,0904,-55.5068, 172.4492, 5319,   -999,    268.1,   6.5568,  34.3899,2,  34.3886,2,    285.1,2,  6.5327,    287.1,2,     6.87,2,    19.22,2,     0.01,2,     1.29,2,    4.276,2,    2.171,2,   -999.0,9,  -999.00,9,   2114.8,2,   -999.0,9,   2288.6,2,     7.79,2, -999.00,  -999.0, -999.00,  -999.0
    31DSCG96_1,  P14S,    11,  1,    126,   1025,2,19960110,0904,-55.5068, 172.4492, 5319,   -999,    325.9,   6.5144,  34.3817,2,  34.3803,2,    285.7,2,  6.4851,    287.7,2,     6.85,2,    19.30,2,     0.01,2,     1.30,2,    4.332,2,    2.191,2,   -999.0,9,  -999.00,9,   2114.8,2,    654.3,3,   2287.5,2,     7.79,2, -999.00,  -999.0, -999.00,  -999.0
    31DSCG96_1,  P14S,    11,  1,    125,   1233,2,19960110,0904,-55.5068, 172.4492, 5319,   -999,    424.6,   6.3193,  34.3510,2,  34.3505,2,    287.3,2,  6.2815,    289.2,2,     6.93,2,    19.66,2,     0.00,2,     1.33,2,    4.354,2,    2.219,2,   -999.0,9,  -999.00,9,   2115.5,2,    658.6,2,   2287.4,2,     7.78,2, -999.00,  -999.0, -999.00,  -999.0
    31DSCG96_1,  P14S,    11,  1,    124,   1218,2,19960110,0904,-55.5068, 172.4492, 5319,   -999,    522.4,   5.8882,  34.3033,2,  34.3030,2,    288.5,2,  5.8430,    291.5,2,     7.47,2,    20.59,2,     0.00,2,     1.39,2,   -0.035,4,    2.241,2,   -999.0,9,  -999.00,9,   2118.4,2,   -999.0,9,   2285.7,2,     7.78,2, -999.00,  -999.0, -999.00,  -999.0
    31DSCG96_1,  P14S,    11,  1,    123,   1250,2,19960110,0904,-55.5068, 172.4492, 5319,   -999,    626.1,   5.1686,  34.2263,2,  34.2309,3,    282.2,2,  5.1176,    278.1,2,    11.00,2,    23.45,2,     0.01,2,     1.57,2,    4.110,2,    2.054,2,   -999.0,9,  -999.00,9,   2134.3,2,    743.5,2,   2286.3,2,     7.74,2, -999.00,  -999.0, -999.00,  -999.0
    31DSCG96_1,  P14S,    11,  1,    122,   1109,2,19960110,0904,-55.5068, 172.4492, 5319,   -999,    728.4,   4.9617,  34.2505,2,  34.2552,3,    251.8,2,  4.9030,    250.4,2,    17.12,2,    26.28,2,     0.01,2,     1.76,2,    3.200,2,    1.585,2,   -999.0,9,  -999.00,9,   2154.8,2,   -999.0,9,   2289.6,2,     7.70,2, -999.00,  -999.0, -999.00,  -999.0
    31DSCG96_1,  P14S,    11,  1,    121,   1246,2,19960110,0904,-55.5068, 172.4492, 5319,   -999,    824.8,   4.5010,  34.3085,2,  34.3096,2,    222.4,2,  4.4368,    219.7,2,    27.99,2,    29.56,2,     0.00,2,     1.98,2,   -0.004,4,    0.967,2,   -999.0,9,  -999.00,9,   2180.9,2,    963.1,2,   2298.9,2,     7.65,2, -999.00,  -999.0, -999.00,  -999.0
    31DSCG96_1,  P14S,    11,  1,    120,   1209,2,19960110,0904,-55.5068, 172.4492, 5319,   -999,    923.7,   3.8668,  34.3128,2,  34.3136,2,    212.5,2,  3.7987,    215.7,6,    35.09,2,    31.12,2,     0.00,2,     2.10,2,    1.746,2,    0.876,2,   -999.0,9,  -999.00,9,   2193.2,2,   -999.0,9,   2303.3,2,     7.63,2, -999.00,  -999.0, -999.00,  -999.0
    31DSCG96_1,  P14S,    11,  1,    119,   1247,2,19960110,0904,-55.5068, 172.4492, 5319,   -999,   1024.7,   3.5080,  34.3292,2,  34.3276,2,    207.6,2,  3.4344,    209.0,2,    40.78,2,    32.05,2,     0.00,2,     2.16,2,    1.541,2,    0.750,2,   -999.0,9,  -999.00,9,   2203.1,2,   1051.4,2,   2308.0,2,     7.62,2, -999.00,  -999.0, -999.00,  -999.0
    31DSCG96_1,  P14S,    11,  1,    118,   1222,2,19960110,0904,-55.5068, 172.4492, 5319,   -999,   1140.6,   3.0542,  34.4010,2,  34.4014,2,    194.7,2,  2.9752,    193.3,2,    53.30,6,    33.42,6,     0.00,6,     2.26,6,    0.974,2,    0.496,2,   -999.0,9,  -999.00,9,   2223.1,2,   1110.0,2,   2317.9,2,     7.59,2, -999.00,  -999.0, -999.00,  -999.0
    31DSCG96_1,  P14S,    11,  1,    117,   1104,3,19960110,0904,-55.5068, 172.4492, 5319,   -999,   1317.8,   2.7097,  34.4852,2,-999.0000,5,    183.6,2,  2.6199,    215.9,3,  -999.00,9,  -999.00,9,  -999.00,9,  -999.00,9, -999.000,5, -999.000,5,   -999.0,9,  -999.00,9,   -999.0,9,   -999.0,9,   -999.0,9,  -999.00,9, -999.00,  -999.0, -999.00,  -999.0
    31DSCG96_1,  P14S,    11,  1,    116,   1211,2,19960110,0904,-55.5068, 172.4492, 5319,   -999,   1565.1,   2.4882,  34.5968,2,  34.5973,2,    176.2,2,  2.3809,    175.4,2,    74.06,6,    33.62,6,     0.00,6,     2.27,2,    0.269,2,    0.142,2,   -999.0,9,  -999.00,9,   2247.4,2,   1178.1,2,   2340.1,2,     7.57,2, -999.00,  -999.0, -999.00,  -999.0
    31DSCG96_1,  P14S,    11,  1,    115,   1041,2,19960110,0904,-55.5068, 172.4492, 5319,   -999,   1819.2,   2.3637,  34.6572,2,  34.6561,2,    177.1,2,  2.2370,    177.1,6,    78.29,6,    32.88,6,     0.00,6,     2.21,2,    0.170,2,    0.086,2,   -999.0,9,  -999.00,9,   2249.2,2,   1155.8,2,   2346.1,2,     7.58,2, -999.00,  -999.0, -999.00,  -999.0
    31DSCG96_1,  P14S,    11,  1,    114,   1017,2,19960110,0904,-55.5068, 172.4492, 5319,   -999,   2064.0,   2.2554,  34.6954,2,  34.6935,2,    182.6,2,  2.1093,    181.3,2,    81.73,6,    32.14,6,     0.00,6,     2.16,6,    0.113,2,    0.056,2,   -999.0,9,  -999.00,9,   2248.6,2,   1100.2,6,   2347.4,2,     7.59,2, -999.00,  -999.0, -999.00,  -999.0
    31DSCG96_1,  P14S,    11,  1,    113,   1008,2,19960110,0904,-55.5068, 172.4492, 5319,   -999,   2314.7,   2.0893,  34.7265,2,  34.7260,2,    188.3,2,  1.9239,    187.3,2,    86.02,6,    31.42,6,     0.00,6,     2.11,2,    0.087,2,    0.041,2,   -999.0,9,  -999.00,9,   2248.1,2,   -999.0,9,   2357.3,3,     7.60,2, -999.00,  -999.0, -999.00,  -999.0
    31DSCG96_1,  P14S,    11,  1,    112,   1217,2,19960110,0904,-55.5068, 172.4492, 5319,   -999,   2569.0,   1.8976,  34.7387,2,  34.7377,2,    192.2,2,  1.7126,    192.1,2,    91.45,2,    31.18,2,     0.00,2,     2.09,2,    0.058,2,    0.049,4,   -999.0,9,  -999.00,9,   2249.1,2,   1074.0,2,   -999.0,5,     7.61,2, -999.00,  -999.0, -999.00,  -999.0
    31DSCG96_1,  P14S,    11,  1,    111,   1114,2,19960110,0904,-55.5068, 172.4492, 5319,   -999,   2821.0,   1.6610,  34.7385,2,  34.7383,2,    196.5,2,  1.4573,    196.1,2,    98.45,2,    31.22,2,     0.00,2,     2.10,2,    0.050,2,    0.021,2,   -999.0,9,  -999.00,9,   2252.2,2,   -999.0,9,   2362.7,2,     7.62,2, -999.00,  -999.0, -999.00,  -999.0
    31DSCG96_1,  P14S,    11,  1,    110,   1036,2,19960110,0904,-55.5068, 172.4492, 5319,   -999,   3062.7,   1.4652,  34.7335,2,  34.7310,2,    199.8,2,  1.2428,    198.9,6,   104.48,2,    31.45,2,     0.00,2,     2.11,2,    0.046,2,    0.021,2,   -999.0,9,  -999.00,9,   2254.5,2,   1077.4,2,   2358.8,2,     7.62,2, -999.00,  -999.0, -999.00,  -999.0
    31DSCG96_1,  P14S,    11,  1,    109,   1216,2,19960110,0904,-55.5068, 172.4492, 5319,   -999,   3309.4,   1.3072,  34.7274,2,  34.7257,2,    202.1,2,  1.0646,    202.4,2,   109.44,2,    31.71,2,     0.00,2,     2.13,2,    0.042,2,    0.020,2,   -999.0,9,  -999.00,9,   2256.4,2,   1063.0,2,   -999.0,5,     7.61,2, -999.00,  -999.0, -999.00,  -999.0
    31DSCG96_1,  P14S,    11,  1,    108,   1018,2,19960110,0904,-55.5068, 172.4492, 5319,   -999,   3559.7,   1.1682,  34.7213,2,  34.7201,2,    204.3,2,  0.9042,    203.2,2,   113.76,2,    31.85,2,     0.00,2,     2.15,2,    0.062,2,    0.036,2,   -999.0,9,  -999.00,9,   2257.3,2,   1062.0,2,   2367.6,2,     7.61,2, -999.00,  -999.0, -999.00,  -999.0
    31DSCG96_1,  P14S,    11,  1,    107,   1245,2,19960110,0904,-55.5068, 172.4492, 5319,   -999,   3818.7,   1.0869,  34.7173,2,  34.7157,2,    206.4,2,  0.7984,    204.9,2,   116.42,2,    32.00,2,     0.00,2,     2.15,2,    0.066,2,    0.039,2,   -999.0,9,  -999.00,9,   2257.8,2,   1066.8,2,   2367.4,2,     7.61,3, -999.00,  -999.0, -999.00,  -999.0
    31DSCG96_1,  P14S,    11,  1,    106,   1262,2,19960110,0904,-55.5068, 172.4492, 5319,   -999,   4068.0,   1.0149,  34.7131,2,  34.7122,2,    207.6,2,  0.7022,    206.8,2,   119.04,2,    32.10,2,     0.00,2,     2.16,2,    0.081,2,    0.052,2,   -999.0,9,  -999.00,9,   2257.2,2,   1071.4,2,   2369.9,2,     7.61,2, -999.00,  -999.0, -999.00,  -999.0
    31DSCG96_1,  P14S,    11,  1,    105,   1113,2,19960110,0904,-55.5068, 172.4492, 5319,   -999,   4309.8,   0.9600,  34.7099,2,  34.7093,2,    208.6,2,  0.6228,    208.0,6,   120.85,2,    32.18,2,     0.00,2,     2.16,2,    0.094,2,    0.049,2,   -999.0,9,  -999.00,9,   2258.1,2,   -999.0,9,   2366.5,2,     7.61,2, -999.00,  -999.0, -999.00,  -999.0
    31DSCG96_1,  P14S,    11,  1,    104,   1003,2,19960110,0904,-55.5068, 172.4492, 5319,   -999,   4626.7,   0.9285,  34.7071,2,  34.7065,2,    210.0,2,  0.5568,    208.9,2,   122.69,2,    32.26,2,     0.00,2,     2.17,2,    0.107,2,    0.056,2,   -999.0,9,  -999.00,9,   2259.1,2,   1081.7,2,   2369.4,2,     7.61,3, -999.00,  -999.0, -999.00,  -999.0
    31DSCG96_1,  P14S,    11,  1,    103,   9999,2,19960110,0904,-55.5068, 172.4492, 5319,   -999,   5120.0,   0.9001,  34.7038,2,  34.7044,2,    210.9,2,  0.4718,    209.9,2,   124.90,2,    32.31,2,     0.00,2,     2.17,2, -999.000,5, -999.000,5,   -999.0,9,  -999.00,9,   2258.5,2,   -999.0,9,   2368.5,2,     7.62,2, -999.00,  -999.0, -999.00,  -999.0
    31DSCG96_1,  P14S,    11,  1,    102,   1027,2,19960110,0904,-55.5068, 172.4492, 5319,   -999,   5121.4,   0.9004,  34.7037,2,  34.7032,2,    210.9,2,  0.4719,    210.5,2,   124.91,2,    32.34,2,     0.00,2,     2.17,2,    0.139,2,    0.073,2,   -999.0,9,  -999.00,9,   2258.1,2,   1090.9,2,   2369.5,2,     7.61,2, -999.00,  -999.0, -999.00,  -999.0
    31DSCG96_1,  P14S,    11,  1,    101,   1022,2,19960110,0904,-55.5068, 172.4492, 5319,   -999,   5445.8,   0.9147,  34.7025,2,  34.7024,2,    210.9,2,  0.4461,    210.9,2,   125.68,6,    32.35,6,     0.00,6,     2.18,6,    0.149,6,    0.084,6,   -999.0,9,  -999.00,9,   2258.5,2,   1097.5,2,   2367.4,2,     7.61,2, -999.00,  -999.0, -999.00,  -999.0
    31DSCG96_1,  P14S,    12,  2,    224,    429,2,19960110,1750,-55.9968, 173.0092, 5415,   -999,     10.1,   7.0431,  34.2691,2,  34.2691,2,    298.3,4,  7.0422,    300.1,2,     4.08,2,    17.93,2,     0.20,2,     1.18,2, -999.000,9, -999.000,9,   -999.0,9,  -999.00,9,   2101.3,2,    601.9,2,   2287.0,2,     7.82,2, -999.00,  -999.0, -999.00,  -999.0
    31DSCG96_1,  P14S,    12,  2,    223,    428,2,19960110,1750,-55.9968, 173.0092, 5415,   -999,     39.8,   7.1143,  34.3588,2,  34.3590,2,    298.0,4,  7.1106,    300.5,2,     4.34,2,    17.20,2,     0.18,2,     1.14,2, -999.000,9, -999.000,9,   -999.0,9,  -999.00,9,   2101.9,2,    602.9,2,   2288.0,2,     7.82,2, -999.00,  -999.0, -999.00,  -999.0
    31DSCG96_1,  P14S,    12,  2,    222,    407,2,19960110,1750,-55.9968, 173.0092, 5415,   -999,     85.6,   6.8731,  34.3593,2,  34.3616,2,    200.2,4,  6.8654,    296.4,2,     5.61,2,    17.72,2,     0.19,2,     1.23,2, -999.000,9, -999.000,9,   -999.0,9,  -999.00,9,   2107.3,2,    616.9,2,   2292.8,2,     7.81,2, -999.00,  -999.0, -999.00,  -999.0
    31DSCG96_1,  P14S,    12,  2,    221,    417,2,19960110,1750,-55.9968, 173.0092, 5415,   -999,    137.7,   6.6273,  34.3778,2,  34.3768,2,    167.0,4,  6.6150,    289.7,2,     6.68,2,    18.68,2,     0.24,2,     1.30,2, -999.000,9, -999.000,9,   -999.0,9,  -999.00,9,   2114.5,2,    636.7,2,   2289.6,2,     7.79,2, -999.00,  -999.0, -999.00,  -999.0
    31DSCG96_1,  P14S,    12,  2,    220,    405,2,19960110,1750,-55.9968, 173.0092, 5415,   -999,    189.4,   6.6718,  34.4094,2,  34.4092,2,    167.3,4,  6.6547,    285.8,2,     6.92,2,    19.00,2,     0.01,2,     1.30,2, -999.000,9, -999.000,9,   -999.0,9,  -999.00,9,   2114.0,2,    655.9,2,   2288.4,2,     7.79,2, -999.00,  -999.0, -999.00,  -999.0
    31DSCG96_1,  P14S,    12,  2,    219,    416,2,19960110,1750,-55.9968, 173.0092, 5415,   -999,    276.3,   6.5878,  34.3951,2,  34.3938,2,    171.0,4,  6.5629,    287.1,2,     6.91,2,    19.15,2,     0.01,2,     1.30,2, -999.000,9, -999.000,9,   -999.0,9,  -999.00,9,   2116.1,2,    665.8,2,   2288.0,2,     7.79,2, -999.00,  -999.0, -999.00,  -999.0
    31DSCG96_1,  P14S,    12,  2,    218,    420,2,19960110,1750,-55.9968, 173.0092, 5415,   -999,    374.0,   6.5040,  34.3795,2,  34.3806,2,    173.7,4,  6.4702,    287.5,2,     6.92,2,    19.34,2,     0.00,2,     1.32,2, -999.000,9, -999.000,9,   -999.0,9,  -999.00,9,   2114.5,2,    648.2,2,   2288.6,2,     7.79,2, -999.00,  -999.0, -999.00,  -999.0
    31DSCG96_1,  P14S,    12,  2,    217,    424,2,19960110,1750,-55.9968, 173.0092, 5415,   -999,    473.4,   5.9372,  34.3074,2,  34.3064,2,    182.0,4,  5.8963,    291.1,2,     7.47,2,    20.54,2,     0.00,2,     1.40,2, -999.000,9, -999.000,9,   -999.0,9,  -999.00,9,   2117.9,2,    667.3,2,   2286.2,2,     7.78,2, -999.00,  -999.0, -999.00,  -999.0
    31DSCG96_1,  P14S,    12,  2,    216,    409,2,19960110,1750,-55.9968, 173.0092, 5415,   -999,    580.9,   5.6721,  34.2817,2,  34.2807,2,    186.8,4,  5.6227,    283.8,2,     9.13,2,    21.78,2,     0.00,2,     1.49,2, -999.000,9, -999.000,9,   -999.0,9,  -999.00,9,   2124.6,2,    695.4,2,   2287.8,2,     7.76,2, -999.00,  -999.0, -999.00,  -999.0
    31DSCG96_1,  P14S,    12,  2,    215,    413,2,19960110,1750,-55.9968, 173.0092, 5415,   -999,    680.8,   4.9554,  34.2160,2,  34.2170,2,    189.9,4,  4.9008,    270.6,2,    13.17,2,    24.63,2,     0.00,2,     1.66,2, -999.000,9, -999.000,9,   -999.0,9,  -999.00,9,   2140.5,2,    764.2,2,   2287.1,2,     7.73,2, -999.00,  -999.0, -999.00,  -999.0
    31DSCG96_1,  P14S,    12,  2,    214,    419,2,19960110,1750,-55.9968, 173.0092, 5415,   -999,    780.2,   4.7796,  34.2917,2,  34.2914,2,    198.3,4,  4.7174,    227.3,2,    23.75,2,    28.47,2,     0.00,2,     1.93,2, -999.000,9, -999.000,9,   -999.0,9,  -999.00,9,   2170.7,2,    915.7,2,   2294.6,2,     7.67,2, -999.00,  -999.0, -999.00,  -999.0
    31DSCG96_1,  P14S,    12,  2,    213,    434,2,19960110,1750,-55.9968, 173.0092, 5415,   -999,    951.7,   3.6305,  34.3049,2,-999.0000,9,    200.6,4,  3.5619,    214.7,2,  -999.00,9,  -999.00,9,  -999.00,9,  -999.00,9, -999.000,9, -999.000,9,   -999.0,9,  -999.00,9,   2195.6,2,   1024.6,2,   2302.8,2,     7.62,2, -999.00,  -999.0, -999.00,  -999.0
    31DSCG96_1,  P14S,    12,  2,    212,    404,2,19960110,1750,-55.9968, 173.0092, 5415,   -999,   1309.0,   2.7047,  34.4746,2,  34.4743,2,    214.7,4,  2.6158,    182.6,2,    63.64,2,    34.14,2,     0.00,2,     2.33,2, -999.000,9, -999.000,9,   -999.0,9,  -999.00,9,   2236.3,2,   1174.4,2,   2328.4,2,     7.57,2, -999.00,  -999.0, -999.00,  -999.0
    31DSCG96_1,  P14S,    12,  2,    211,    427,2,19960110,1750,-55.9968, 173.0092, 5415,   -999,   1697.5,   2.4202,  34.6316,2,  34.6321,2,    217.0,4,  2.3029,    176.1,2,    76.55,2,    33.21,2,     0.00,2,     2.26,2, -999.000,9, -999.000,9,   -999.0,9,  -999.00,9,   2249.8,2,   1174.5,2,   2343.1,2,     7.58,2, -999.00,  -999.0, -999.00,  -999.0
    31DSCG96_1,  P14S,    12,  2,    210,    401,2,19960110,1750,-55.9968, 173.0092, 5415,   -999,   2098.4,   2.1937,  34.7103,2,  34.7105,2,    115.4,4,  2.0455,    183.8,2,    83.37,2,    31.79,2,     0.00,2,     2.16,2, -999.000,9, -999.000,9,   -999.0,9,  -999.00,9,   2248.0,2,   1096.0,2,   2348.2,2,     7.60,2, -999.00,  -999.0, -999.00,  -999.0
    31DSCG96_1,  P14S,    12,  2,    209,    435,2,19960110,1750,-55.9968, 173.0092, 5415,   -999,   2504.4,   1.9273,  34.7366,2,  34.7349,2,    141.3,4,  1.7476,    191.6,2,    90.94,2,    31.18,2,     0.00,2,     2.11,2, -999.000,9, -999.000,9,   -999.0,9,  -999.00,9,   -999.0,9,   -999.0,9,   -999.0,9,  -999.00,9, -999.00,  -999.0, -999.00,  -999.0
    31DSCG96_1,  P14S,    12,  2,    208,    440,2,19960110,1750,-55.9968, 173.0092, 5415,   -999,   2902.1,   1.5972,  34.7368,2,  34.7367,2,    139.5,4,  1.3872,    197.0,2,   100.60,2,    31.34,2,     0.00,2,     2.14,2, -999.000,9, -999.000,9,   -999.0,9,  -999.00,9,   2253.7,2,   1060.4,2,   2362.5,2,     7.62,2, -999.00,  -999.0, -999.00,  -999.0
    31DSCG96_1,  P14S,    12,  2,    207,    436,2,19960110,1750,-55.9968, 173.0092, 5415,   -999,   3297.4,   1.3144,  34.7276,2,  34.7276,2,    152.8,4,  1.0728,    200.9,2,   109.62,2,    31.68,2,     0.00,2,     2.15,2, -999.000,9, -999.000,9,   -999.0,9,  -999.00,9,   2255.3,2,   1061.3,2,   2365.7,2,     7.61,2, -999.00,  -999.0, -999.00,  -999.0
    31DSCG96_1,  P14S,    12,  2,    206,    441,2,19960110,1750,-55.9968, 173.0092, 5415,   -999,   3699.8,   1.1162,  34.7188,2,  34.7179,2,    162.0,4,  0.8393,    204.4,2,   115.57,2,    31.98,2,     0.00,2,     2.19,3, -999.000,9, -999.000,9,   -999.0,9,  -999.00,9,   -999.0,9,   -999.0,9,   -999.0,9,  -999.00,9, -999.00,  -999.0, -999.00,  -999.0
    31DSCG96_1,  P14S,    12,  2,    205,    423,2,19960110,1750,-55.9968, 173.0092, 5415,   -999,   4103.9,   1.0172,  34.7126,2,-999.0000,9,    160.9,4,  0.7006,    206.8,2,   119.11,2,    32.12,2,     0.00,2,     2.18,2, -999.000,9, -999.000,9,   -999.0,9,  -999.00,9,   2257.8,2,   1073.9,2,   2365.5,2,     7.61,2, -999.00,  -999.0, -999.00,  -999.0
    31DSCG96_1,  P14S,    12,  2,    204,    433,2,19960110,1750,-55.9968, 173.0092, 5415,   -999,   4494.8,   0.9422,  34.7083,2,  34.7080,2,    161.6,4,  0.5850,    208.5,2,   122.19,2,    32.26,2,     0.00,2,     2.18,2, -999.000,9, -999.000,9,   -999.0,9,  -999.00,9,   2258.6,2,   1073.2,2,   2365.2,2,     7.61,2, -999.00,  -999.0, -999.00,  -999.0
    31DSCG96_1,  P14S,    12,  2,    203,    439,4,19960110,1750,-55.9968, 173.0092, 5415,   -999,   4900.2,   0.9043,  34.7045,2,  34.2147,4,    174.1,4,  0.5018,    269.7,3,    13.40,3,    24.68,3,     0.00,3,     1.66,3, -999.000,9, -999.000,9,   -999.0,9,  -999.00,9,   2139.9,3,    764.2,4,   -999.0,9,     7.73,4, -999.00,  -999.0, -999.00,  -999.0
    31DSCG96_1,  P14S,    12,  2,    202,    414,2,19960110,1750,-55.9968, 173.0092, 5415,   -999,   5300.9,   0.9174,  34.7028,2,  34.7031,2,    172.7,4,  0.4666,    211.0,2,   125.37,2,    32.33,2,     0.00,2,     2.22,3, -999.000,9, -999.000,9,   -999.0,9,  -999.00,9,   2257.2,2,   1094.2,2,   2364.2,2,     7.61,2, -999.00,  -999.0, -999.00,  -999.0
    31DSCG96_1,  P14S,    12,  2,    201,    406,2,19960110,1750,-55.9968, 173.0092, 5415,   -999,   5541.1,   0.9351,  34.7018,2,  34.7030,2,    186.0,4,  0.4539,    213.4,2,   125.54,6,    32.37,6,     0.00,6,     2.20,3, -999.000,9, -999.000,9,   -999.0,9,  -999.00,9,   2258.4,2,   1092.5,2,   2365.8,2,     7.61,2, -999.00,  -999.0, -999.00,  -999.0