BOTTLE,20220811CCHSIOAMB
EXPOCODE,SECT_ID,STNNBR,CASTNO,SAMPNO,BTLNBR,BTLNBR_FLAG_W,DATE,TIME,LATITUDE,LONGITUDE,DEPTH,CTDRAW,CTDPRS,CTDTMP,CTDSAL,CTDSAL_FLAG_W,SALNTY,SALNTY_FLAG_W,CTDOXY,CTDOXY_FLAG_W,THETA,OXYGEN,OXYGEN_FLAG_W,SILCAT,SILCAT_FLAG_W,NITRAT,NITRAT_FLAG_W,NITRIT,NITRIT_FLAG_W,PHSPHT,PHSPHT_FLAG_W,CFC-11,CFC-11_FLAG_W,CFC-12,CFC-12_FLAG_W,DELC14,DELC14_FLAG_W,DELC13,DELC13_FLAG_W,TCARBN,TCARBN_FLAG_W,PCO2,PCO2_FLAG_W,ALKALI,ALKALI_FLAG_W,PH,PH_FLAG_W,PCO2TMP,C14ERR,PH_TMP,C13ERR
,,,,,,,,,,,,DBAR,DBAR,ITS-90,PSS-78,,PSS-78,,UMOL/KG,,DEG C,UMOL/KG,,UMOL/KG,,UMOL/KG,,UMOL/KG,,UMOL/KG,,PMOL/KG,,PMOL/KG,,/MILLE,,/MILLE,,UMOL/KG,,UATM,,UMOL/KG,,,,DEG C,/MILLE,DEG C,/MILLE
    31DSCG96_1,  P14S,    13,  1,    124,    429,2,19960111,0042,-56.4872, 173.5038, 5345,   -999,      9.2,   6.7875,  34.1575,2,  34.1582,2,    303.2,2,  6.7867,    301.9,2,     3.74,2,    19.19,2,     0.22,2,     1.25,2,    4.529,2,    2.323,2,   -999.0,9,  -999.00,9,   -999.0,9,   -999.0,9,   -999.0,9,     7.81,2, -999.00,  -999.0, -999.00,  -999.0
    31DSCG96_1,  P14S,    13,  1,    123,    428,2,19960111,0042,-56.4872, 173.5038, 5345,   -999,     31.3,   6.7753,  34.1780,2,  34.1775,2,    302.9,2,  6.7725,    301.9,2,     3.85,2,    18.99,2,     0.21,2,     1.23,2,    4.537,2,    2.321,2,   -999.0,9,  -999.00,9,   -999.0,9,   -999.0,9,   -999.0,9,     7.81,2, -999.00,  -999.0, -999.00,  -999.0
    31DSCG96_1,  P14S,    13,  1,    122,    407,2,19960111,0042,-56.4872, 173.5038, 5345,   -999,     63.1,   6.7240,  34.2176,2,-999.0000,9,    301.4,2,  6.7184,    299.6,2,     4.38,2,    18.80,2,     0.20,2,     1.25,2,    4.485,2,    2.304,2,   -999.0,9,  -999.00,9,   -999.0,9,   -999.0,9,   -999.0,9,     7.81,2, -999.00,  -999.0, -999.00,  -999.0
    31DSCG96_1,  P14S,    13,  1,    121,    417,2,19960111,0042,-56.4872, 173.5038, 5345,   -999,    113.0,   6.0008,  34.2096,2,  34.2109,2,    289.7,2,  5.9913,    280.7,2,     7.60,3,    21.73,3,     0.10,3,     1.43,3,    4.279,2,    2.150,2,   -999.0,9,  -999.00,9,   -999.0,9,   -999.0,9,   -999.0,9,     7.77,2, -999.00,  -999.0, -999.00,  -999.0
    31DSCG96_1,  P14S,    13,  1,    120,    405,2,19960111,0042,-56.4872, 173.5038, 5345,   -999,    167.2,   6.1787,  34.3075,2,  34.3090,2,    288.8,2,  6.1643,    290.5,2,     7.28,2,    19.79,2,     0.39,2,     1.33,2,    4.378,2,    2.231,2,   -999.0,9,  -999.00,9,   -999.0,9,   -999.0,9,   -999.0,9,     7.79,2, -999.00,  -999.0, -999.00,  -999.0
    31DSCG96_1,  P14S,    13,  1,    119,    416,2,19960111,0042,-56.4872, 173.5038, 5345,   -999,    223.3,   6.1726,  34.3258,2,  34.3273,2,    289.3,2,  6.1533,    288.7,2,     7.43,2,    20.16,2,     0.01,2,     1.33,2,    4.326,2,    2.205,2,   -999.0,9,  -999.00,9,   -999.0,9,   -999.0,9,   -999.0,9,     7.78,2, -999.00,  -999.0, -999.00,  -999.0
    31DSCG96_1,  P14S,    13,  1,    118,    420,2,19960111,0042,-56.4872, 173.5038, 5345,   -999,    325.2,   5.6933,  34.2765,2,  34.2777,2,    287.6,2,  5.6661,    286.9,2,     8.34,2,    21.32,2,     0.01,2,     1.43,2,    4.320,2,    2.200,2,   -999.0,9,  -999.00,9,   -999.0,9,   -999.0,9,   -999.0,9,     7.77,2, -999.00,  -999.0, -999.00,  -999.0
    31DSCG96_1,  P14S,    13,  1,    117,    424,2,19960111,0042,-56.4872, 173.5038, 5345,   -999,    426.6,   4.8757,  34.1989,2,  34.2002,2,    282.1,2,  4.8426,    277.2,2,    12.21,2,    24.27,2,     0.01,2,     1.61,2,    4.046,2,    2.027,2,   -999.0,9,  -999.00,9,   -999.0,9,   -999.0,9,   -999.0,9,     7.73,2, -999.00,  -999.0, -999.00,  -999.0
    31DSCG96_1,  P14S,    13,  1,    116,    409,2,19960111,0042,-56.4872, 173.5038, 5345,   -999,    526.5,   4.7799,  34.2761,2,  34.2781,2,    240.7,2,  4.7390,    233.6,2,    21.88,2,    27.89,2,     0.01,2,     1.86,2,    2.687,2,    1.276,2,   -999.0,9,  -999.00,9,   -999.0,9,   -999.0,9,   -999.0,9,     7.68,2, -999.00,  -999.0, -999.00,  -999.0
    31DSCG96_1,  P14S,    13,  1,    115,    413,2,19960111,0042,-56.4872, 173.5038, 5345,   -999,    622.5,   4.1842,  34.2741,2,  34.2714,2,    229.8,2,  4.1383,    227.0,2,    27.91,2,    29.84,2,     0.01,2,     1.99,2,    2.375,2,    1.127,2,   -999.0,9,  -999.00,9,   -999.0,9,   -999.0,9,   -999.0,9,     7.65,2, -999.00,  -999.0, -999.00,  -999.0
    31DSCG96_1,  P14S,    13,  1,    114,    419,2,19960111,0042,-56.4872, 173.5038, 5345,   -999,    725.2,   3.6293,  34.2949,2,-999.0000,9,    217.9,2,  3.5783,    217.9,2,  -999.00,9,  -999.00,9,  -999.00,9,  -999.00,9,    1.937,2,    0.926,2,   -999.0,9,  -999.00,9,   -999.0,9,   -999.0,9,   -999.0,9,  -999.00,9, -999.00,  -999.0, -999.00,  -999.0
    31DSCG96_1,  P14S,    13,  1,    113,    434,2,19960111,0042,-56.4872, 173.5038, 5345,   -999,    921.7,   2.9616,  34.3698,2,  34.3703,2,    199.3,2,  2.9001,    198.7,2,    50.91,2,    33.51,2,     0.00,2,     2.25,2,    1.223,2,    0.586,2,   -999.0,9,  -999.00,9,   -999.0,9,   -999.0,9,   -999.0,9,     7.59,2, -999.00,  -999.0, -999.00,  -999.0
    31DSCG96_1,  P14S,    13,  1,    112,    404,2,19960111,0042,-56.4872, 173.5038, 5345,   -999,   1099.6,   2.6736,  34.4591,2,  34.4598,2,    183.3,2,  2.6009,    184.7,2,    62.53,6,    34.27,2,     0.00,6,     2.36,2,    0.741,2,    0.362,2,   -999.0,9,  -999.00,9,   -999.0,9,   -999.0,9,   -999.0,9,     7.57,2, -999.00,  -999.0, -999.00,  -999.0
    31DSCG96_1,  P14S,    13,  1,    111,    427,2,19960111,0042,-56.4872, 173.5038, 5345,   -999,   1496.3,   2.3932,  34.6224,2,  34.6212,2,    175.2,2,  2.2925,    175.6,2,    75.97,6,    33.56,6,     0.00,6,     2.32,3,    0.254,2,    0.129,2,   -999.0,9,  -999.00,9,   -999.0,9,   -999.0,9,   -999.0,9,     7.57,2, -999.00,  -999.0, -999.00,  -999.0
    31DSCG96_1,  P14S,    13,  1,    110,    401,2,19960111,0042,-56.4872, 173.5038, 5345,   -999,   1880.0,   2.1755,  34.7074,2,  34.7072,2,    183.0,2,  2.0462,    183.2,2,    82.60,6,    32.03,6,     0.00,6,     2.23,3,    0.140,2,    0.072,2,   -999.0,9,  -999.00,9,   -999.0,9,   -999.0,9,   -999.0,9,     7.59,2, -999.00,  -999.0, -999.00,  -999.0
    31DSCG96_1,  P14S,    13,  1,    109,    435,2,19960111,0042,-56.4872, 173.5038, 5345,   -999,   2293.5,   1.8986,  34.7337,2,  34.7320,2,    191.8,2,  1.7383,   -999.0,9,    91.64,6,    31.42,6,     0.00,6,     2.12,2, -999.000,5, -999.000,5,   -999.0,9,  -999.00,9,   -999.0,9,   -999.0,9,   -999.0,9,  -999.00,9, -999.00,  -999.0, -999.00,  -999.0
    31DSCG96_1,  P14S,    13,  1,    108,    440,2,19960111,0042,-56.4872, 173.5038, 5345,   -999,   2697.5,   1.6348,  34.7385,2,  34.7385,2,    196.9,2,  1.4431,    197.3,2,    98.92,6,    31.32,6,     0.00,6,     2.12,2,    0.058,2,    0.032,2,   -999.0,9,  -999.00,9,   -999.0,9,   -999.0,9,   -999.0,9,     7.61,2, -999.00,  -999.0, -999.00,  -999.0
    31DSCG96_1,  P14S,    13,  1,    107,    436,2,19960111,0042,-56.4872, 173.5038, 5345,   -999,   3099.7,   1.3638,  34.7295,2,  34.7287,2,    200.9,2,  1.1402,    199.3,2,   107.57,6,    31.67,6,     0.00,6,     2.14,2,    0.046,2,    0.028,2,   -999.0,9,  -999.00,9,   -999.0,9,   -999.0,9,   -999.0,9,     7.61,2, -999.00,  -999.0, -999.00,  -999.0
    31DSCG96_1,  P14S,    13,  1,    106,    441,2,19960111,0042,-56.4872, 173.5038, 5345,   -999,   3498.8,   1.1544,  34.7204,2,  34.7194,2,    203.7,2,  0.8969,   -999.0,9,   114.07,6,    31.96,6,     0.00,6,     2.17,2,    0.053,2,    0.023,2,   -999.0,9,  -999.00,9,   -999.0,9,   -999.0,9,   -999.0,9,  -999.00,9, -999.00,  -999.0, -999.00,  -999.0
    31DSCG96_1,  P14S,    13,  1,    105,    423,2,19960111,0042,-56.4872, 173.5038, 5345,   -999,   3897.3,   1.0160,  34.7130,2,  34.7130,2,    206.1,2,  0.7213,    206.3,2,   118.39,6,    32.19,6,     0.00,6,     2.17,2,    0.069,2,    0.040,2,   -999.0,9,  -999.00,9,   -999.0,9,   -999.0,9,   -999.0,9,     7.61,2, -999.00,  -999.0, -999.00,  -999.0
    31DSCG96_1,  P14S,    13,  1,    104,    433,2,19960111,0042,-56.4872, 173.5038, 5345,   -999,   4298.0,   0.9292,  34.7077,2,  34.7070,2,    208.6,2,  0.5942,    207.9,2,   121.68,6,    32.30,6,     0.00,6,     2.17,2,    0.086,2,    0.039,2,   -999.0,9,  -999.00,9,   -999.0,9,   -999.0,9,   -999.0,9,     7.61,2, -999.00,  -999.0, -999.00,  -999.0
    31DSCG96_1,  P14S,    13,  1,    103,    439,2,19960111,0042,-56.4872, 173.5038, 5345,   -999,   4698.8,   0.8932,  34.7044,2,  34.7039,2,    209.9,2,  0.5144,    209.8,2,   124.09,6,    32.38,6,     0.00,6,     2.16,3,    0.108,2,    0.051,2,   -999.0,9,  -999.00,9,   -999.0,9,   -999.0,9,   -999.0,9,     7.61,2, -999.00,  -999.0, -999.00,  -999.0
    31DSCG96_1,  P14S,    13,  1,    102,    414,2,19960111,0042,-56.4872, 173.5038, 5345,   -999,   5106.0,   0.8975,  34.7030,2,  34.7014,2,    210.2,2,  0.4709,    210.5,2,   125.49,2,    32.40,2,     0.00,2,     2.16,3,    0.125,2,    0.056,2,   -999.0,9,  -999.00,9,   -999.0,9,   -999.0,9,   -999.0,9,     7.61,2, -999.00,  -999.0, -999.00,  -999.0
    31DSCG96_1,  P14S,    13,  1,    101,    406,2,19960111,0042,-56.4872, 173.5038, 5345,   -999,   5462.3,   0.9175,  34.7016,2,  34.7008,2,    211.2,2,  0.4468,    211.0,2,   126.03,6,    32.38,6,     0.00,6,     2.17,6,    0.141,2,    0.068,2,   -999.0,9,  -999.00,9,   -999.0,9,   -999.0,9,   -999.0,9,     7.61,2, -999.00,  -999.0, -999.00,  -999.0