BOTTLE,20220811CCHSIOAMB
EXPOCODE,SECT_ID,STNNBR,CASTNO,SAMPNO,BTLNBR,BTLNBR_FLAG_W,DATE,TIME,LATITUDE,LONGITUDE,DEPTH,CTDRAW,CTDPRS,CTDTMP,CTDSAL,CTDSAL_FLAG_W,SALNTY,SALNTY_FLAG_W,CTDOXY,CTDOXY_FLAG_W,THETA,OXYGEN,OXYGEN_FLAG_W,SILCAT,SILCAT_FLAG_W,NITRAT,NITRAT_FLAG_W,NITRIT,NITRIT_FLAG_W,PHSPHT,PHSPHT_FLAG_W,CFC-11,CFC-11_FLAG_W,CFC-12,CFC-12_FLAG_W,DELC14,DELC14_FLAG_W,DELC13,DELC13_FLAG_W,TCARBN,TCARBN_FLAG_W,PCO2,PCO2_FLAG_W,ALKALI,ALKALI_FLAG_W,PH,PH_FLAG_W,PCO2TMP,C14ERR,PH_TMP,C13ERR
,,,,,,,,,,,,DBAR,DBAR,ITS-90,PSS-78,,PSS-78,,UMOL/KG,,DEG C,UMOL/KG,,UMOL/KG,,UMOL/KG,,UMOL/KG,,UMOL/KG,,PMOL/KG,,PMOL/KG,,/MILLE,,/MILLE,,UMOL/KG,,UATM,,UMOL/KG,,,,DEG C,/MILLE,DEG C,/MILLE
    31DSCG96_1,  P15S,    92,  2,    234,   1119,2,19960202,1545,-40.8258,-173.3257, 4170,   -999,     10.7,  18.7365,  35.2633,2,  35.2566,2,    236.1,2, 18.7346,    237.9,6,     1.00,2,     0.03,2,     0.00,2,     0.02,3, -999.000,9, -999.000,9,   -999.0,9,  -999.00,9,   2027.2,2,    346.0,2,   2318.4,2,     8.02,2, -999.00,  -999.0, -999.00,  -999.0
    31DSCG96_1,  P15S,    92,  2,    233,   1221,2,19960202,1545,-40.8258,-173.3257, 4170,   -999,     20.5,  18.5602,  35.2671,2,  35.2703,2,    238.6,2, 18.5566,    237.9,2,     1.03,2,     0.05,2,     0.00,2,     0.05,2, -999.000,9, -999.000,9,   -999.0,9,  -999.00,9,   -999.0,9,   -999.0,9,   -999.0,9,  -999.00,9, -999.00,  -999.0, -999.00,  -999.0
    31DSCG96_1,  P15S,    92,  2,    232,   1039,2,19960202,1545,-40.8258,-173.3257, 4170,   -999,     45.5,  17.0911,  35.2493,2,  35.2956,3,    253.3,2, 17.0836,    247.6,2,     0.97,2,     0.04,2,     0.00,2,     0.11,2, -999.000,9, -999.000,9,   -999.0,9,  -999.00,9,   -999.0,9,   -999.0,9,   -999.0,9,     8.01,2, -999.00,  -999.0, -999.00,  -999.0
    31DSCG96_1,  P15S,    92,  2,    231,   1014,2,19960202,1545,-40.8258,-173.3257, 4170,   -999,     70.5,  14.6709,  35.3057,2,  35.2935,2,    227.9,2, 14.6604,    227.3,2,     1.86,2,     3.08,2,     0.09,2,     0.39,2, -999.000,9, -999.000,9,   -999.0,9,  -999.00,9,   2073.9,2,    441.0,2,   2322.4,2,     7.94,2, -999.00,  -999.0, -999.00,  -999.0
    31DSCG96_1,  P15S,    92,  2,    230,   1257,2,19960202,1545,-40.8258,-173.3257, 4170,   -999,     94.7,  14.0830,  35.3017,2,  35.2951,2,    223.0,2, 14.0693,    223.1,2,     3.04,2,     6.39,2,     0.01,2,     0.54,2, -999.000,9, -999.000,9,   -999.0,9,  -999.00,9,   -999.0,9,   -999.0,9,   -999.0,9,     7.91,2, -999.00,  -999.0, -999.00,  -999.0
    31DSCG96_1,  P15S,    92,  2,    229,   1256,2,19960202,1545,-40.8258,-173.3257, 4170,   -999,    119.7,  13.0442,  35.1201,2,  35.1232,2,    222.0,2, 13.0277,    224.8,2,     3.59,2,     7.70,2,     0.01,2,     0.63,2, -999.000,9, -999.000,9,   -999.0,9,  -999.00,9,   2088.7,2,    501.0,2,   2311.3,2,     7.89,2, -999.00,  -999.0, -999.00,  -999.0
    31DSCG96_1,  P15S,    92,  2,    228,   1007,2,19960202,1545,-40.8258,-173.3257, 4170,   -999,    144.6,  12.7156,  35.1073,2,  35.1076,2,    228.0,2, 12.6960,    228.8,2,     3.52,2,     7.93,2,     0.00,2,     0.65,2, -999.000,9, -999.000,9,   -999.0,9,  -999.00,9,   -999.0,9,   -999.0,9,   -999.0,9,     7.89,2, -999.00,  -999.0, -999.00,  -999.0
    31DSCG96_1,  P15S,    92,  2,    227,   1232,2,19960202,1545,-40.8258,-173.3257, 4170,   -999,    189.8,  12.4731,  35.1071,2,  35.1066,2,    229.9,2, 12.4477,    230.1,2,     3.52,2,     8.62,2,     0.00,2,     0.70,2, -999.000,9, -999.000,9,   -999.0,9,  -999.00,9,   2094.7,2,    512.9,2,   2310.0,2,     7.88,2, -999.00,  -999.0, -999.00,  -999.0
    31DSCG96_1,  P15S,    92,  2,    226,   1025,2,19960202,1545,-40.8258,-173.3257, 4170,   -999,    240.5,  12.0719,  35.0580,2,  35.0598,2,    226.4,2, 12.0403,    225.0,2,     4.11,2,    10.18,2,     0.00,2,     0.80,2, -999.000,9, -999.000,9,   -999.0,9,  -999.00,9,   -999.0,9,   -999.0,9,   -999.0,9,  -999.00,9, -999.00,  -999.0, -999.00,  -999.0
    31DSCG96_1,  P15S,    92,  2,    225,   1233,2,19960202,1545,-40.8258,-173.3257, 4170,   -999,    290.7,  11.3336,  34.9264,2,  34.9253,2,    228.1,2, 11.2970,    229.7,6,     4.08,2,    11.28,2,     0.00,2,     0.88,2, -999.000,9, -999.000,9,   -999.0,9,  -999.00,9,   2103.9,2,    566.7,2,   2302.0,2,     7.84,3, -999.00,  -999.0, -999.00,  -999.0
    31DSCG96_1,  P15S,    92,  2,    224,   1218,2,19960202,1545,-40.8258,-173.3257, 4170,   -999,    340.5,  10.8194,  34.8613,2,  34.8623,2,    213.0,2, 10.7777,    213.4,2,     5.38,2,    14.19,2,     0.00,2,     1.05,2, -999.000,9, -999.000,9,   -999.0,9,  -999.00,9,   -999.0,9,   -999.0,9,   -999.0,9,     7.81,2, -999.00,  -999.0, -999.00,  -999.0
    31DSCG96_1,  P15S,    92,  2,    223,   1250,2,19960202,1545,-40.8258,-173.3257, 4170,   -999,    390.0,  10.3053,  34.8006,2,  34.8009,2,    203.8,2, 10.2589,    203.0,2,     6.62,2,    16.51,2,     0.00,2,     1.21,2, -999.000,9, -999.000,9,   -999.0,9,  -999.00,9,   2128.2,2,    674.7,2,   2299.0,2,     7.78,2, -999.00,  -999.0, -999.00,  -999.0
    31DSCG96_1,  P15S,    92,  2,    222,   1109,2,19960202,1545,-40.8258,-173.3257, 4170,   -999,    474.9,   9.3486,  34.6909,2,  34.6908,2,    200.5,2,  9.2952,    200.2,2,     8.28,2,    19.22,2,     0.00,2,     1.38,2, -999.000,9, -999.000,9,   -999.0,9,  -999.00,9,   -999.0,9,   -999.0,9,   -999.0,9,  -999.00,9, -999.00,  -999.0, -999.00,  -999.0
    31DSCG96_1,  P15S,    92,  2,    221,   1246,2,19960202,1545,-40.8258,-173.3257, 4170,   -999,    569.8,   8.3099,  34.5731,2,  34.5732,2,    207.9,2,  8.2499,    207.4,2,     9.81,2,    21.14,2,     0.00,2,     1.51,2, -999.000,9, -999.000,9,   -999.0,9,  -999.00,9,   2142.7,2,    750.8,2,   2291.5,2,     7.73,2, -999.00,  -999.0, -999.00,  -999.0
    31DSCG96_1,  P15S,    92,  2,    220,   1015,2,19960202,1545,-40.8258,-173.3257, 4170,   -999,    676.3,   7.5935,  34.5068,2,  34.5077,2,    210.2,2,  7.5255,    210.5,2,    11.55,2,    22.64,2,     0.00,2,     1.60,2, -999.000,9, -999.000,9,   -999.0,9,  -999.00,9,   -999.0,9,   -999.0,9,   -999.0,9,     7.72,2, -999.00,  -999.0, -999.00,  -999.0
    31DSCG96_1,  P15S,    92,  2,    219,   1247,2,19960202,1545,-40.8258,-173.3257, 4170,   -999,    773.5,   7.1187,  34.4730,2,  34.4727,2,    207.7,2,  7.0432,    208.3,2,    14.22,2,    24.03,2,     0.00,2,     1.71,2, -999.000,9, -999.000,9,   -999.0,9,  -999.00,9,   2151.3,2,    806.9,2,   2290.5,2,     7.71,2, -999.00,  -999.0, -999.00,  -999.0
    31DSCG96_1,  P15S,    92,  2,    218,   1222,2,19960202,1545,-40.8258,-173.3257, 4170,   -999,    873.6,   6.7106,  34.4730,2,  34.4727,2,    198.7,2,  6.6273,    199.4,2,    19.88,2,    25.56,2,     0.00,2,     1.80,2, -999.000,9, -999.000,9,   -999.0,9,  -999.00,9,   -999.0,9,   -999.0,9,   -999.0,9,     7.69,2, -999.00,  -999.0, -999.00,  -999.0
    31DSCG96_1,  P15S,    92,  2,    217,   1267,2,19960202,1545,-40.8258,-173.3257, 4170,   -999,    975.8,   5.9837,  34.4246,2,  34.4247,2,    196.7,2,  5.8954,    198.6,6,    24.44,2,    27.42,2,     0.00,2,     1.93,2, -999.000,9, -999.000,9,   -999.0,9,  -999.00,9,   2172.5,2,    893.9,2,   2298.3,2,     7.67,2, -999.00,  -999.0, -999.00,  -999.0
    31DSCG96_1,  P15S,    92,  2,    216,   1211,2,19960202,1545,-40.8258,-173.3257, 4170,   -999,   1082.8,   5.4045,  34.4489,2,  34.4454,3,    186.4,2,  5.3104,    187.1,2,    35.24,2,    29.17,2,     0.00,2,     2.04,2, -999.000,9, -999.000,9,   -999.0,9,  -999.00,9,   -999.0,9,   -999.0,9,   -999.0,9,     7.65,2, -999.00,  -999.0, -999.00,  -999.0
    31DSCG96_1,  P15S,    92,  2,    215,   1041,2,19960202,1545,-40.8258,-173.3257, 4170,   -999,   1218.0,   4.7605,  34.4581,2,  34.4578,2,    179.4,2,  4.6594,    179.7,2,    46.03,2,    30.76,2,     0.00,2,     2.17,2, -999.000,5, -999.000,5,   -999.0,9,  -999.00,9,   2209.6,2,   1011.7,2,   2315.7,2,     7.63,2, -999.00,  -999.0, -999.00,  -999.0
    31DSCG96_1,  P15S,    92,  2,    214,   1017,2,19960202,1545,-40.8258,-173.3257, 4170,   -999,   1440.8,   3.7868,  34.5144,2,  34.5135,2,    166.8,2,  3.6754,    167.4,2,    68.12,2,    32.70,2,     0.00,2,     2.32,2, -999.000,9, -999.000,9,   -999.0,9,  -999.00,9,   -999.0,9,   -999.0,9,   -999.0,9,     7.60,2, -999.00,  -999.0, -999.00,  -999.0
    31DSCG96_1,  P15S,    92,  2,    213,   1302,2,19960202,1545,-40.8258,-173.3257, 4170,   -999,   1686.5,   2.9475,  34.5789,2,  34.5793,2,    158.8,2,  2.8245,    157.9,2,    91.07,2,    34.19,2,     0.00,2,     2.41,2, -999.000,5, -999.000,5,   -999.0,9,  -999.00,9,   2271.6,2,   1153.1,2,   -999.0,5,     7.59,2, -999.00,  -999.0, -999.00,  -999.0
    31DSCG96_1,  P15S,    92,  2,    212,   1217,2,19960202,1545,-40.8258,-173.3257, 4170,   -999,   1939.6,   2.4506,  34.6218,2,  34.6230,2,    154.5,2,  2.3125,    154.0,2,   105.74,2,    34.73,2,     0.00,2,     2.45,2, -999.000,9, -999.000,9,   -999.0,9,  -999.00,9,   -999.0,9,   -999.0,9,   -999.0,9,     7.58,2, -999.00,  -999.0, -999.00,  -999.0
    31DSCG96_1,  P15S,    92,  2,    211,   1114,2,19960202,1545,-40.8258,-173.3257, 4170,   -999,   2188.7,   2.1882,  34.6483,2,  34.6483,2,    154.8,2,  2.0324,    155.0,2,   111.44,2,    34.72,2,     0.00,2,     2.44,2,    0.004,2,    0.028,4,   -999.0,9,  -999.00,9,   2294.5,2,   -999.0,9,   -999.0,5,     7.58,2, -999.00,  -999.0, -999.00,  -999.0
    31DSCG96_1,  P15S,    92,  2,    210,   1301,2,19960202,1545,-40.8258,-173.3257, 4170,   -999,   2439.4,   1.9695,  34.6818,2,  34.6806,2,    164.1,2,  1.7952,    165.3,2,   109.26,2,    33.78,2,     0.00,2,     2.37,2, -999.000,9, -999.000,9,   -999.0,9,  -999.00,9,   -999.0,9,   -999.0,9,   -999.0,9,     7.58,2, -999.00,  -999.0, -999.00,  -999.0
    31DSCG96_1,  P15S,    92,  2,    209,   1242,2,19960202,1545,-40.8258,-173.3257, 4170,   -999,   2687.3,   1.8250,  34.7126,2,  34.7122,2,    180.0,2,  1.6306,    180.5,6,   102.65,2,    32.41,2,     0.00,2,     2.25,2,    0.011,2,    0.014,4,   -999.0,9,  -999.00,9,   2269.1,2,   1111.4,2,   -999.0,5,     7.60,2, -999.00,  -999.0, -999.00,  -999.0
    31DSCG96_1,  P15S,    92,  2,    208,   1263,2,19960202,1545,-40.8258,-173.3257, 4170,   -999,   2937.2,   1.6466,  34.7278,2,  34.7271,2,    191.7,2,  1.4323,    191.5,2,   101.83,2,    31.61,2,     0.00,2,     2.19,2, -999.000,9, -999.000,9,   -999.0,9,  -999.00,9,   -999.0,9,   -999.0,9,   -999.0,9,     7.61,2, -999.00,  -999.0, -999.00,  -999.0
    31DSCG96_1,  P15S,    92,  2,    207,   1227,2,19960202,1545,-40.8258,-173.3257, 4170,   -999,   3186.7,   1.4554,  34.7281,2,  34.7284,2,    197.0,2,  1.2213,    197.0,2,   105.58,2,    31.50,2,     0.00,2,     2.18,2,    0.016,2,    0.043,4,   -999.0,9,  -999.00,9,   2258.0,2,   1078.0,2,   2362.2,2,     7.61,2, -999.00,  -999.0, -999.00,  -999.0
    31DSCG96_1,  P15S,    92,  2,    206,   1262,2,19960202,1545,-40.8258,-173.3257, 4170,   -999,   3438.8,   1.2994,  34.7239,2,  34.7232,2,    200.2,2,  1.0442,    200.1,2,   110.00,2,    31.64,2,     0.00,2,     2.18,2, -999.000,9, -999.000,9,   -999.0,9,  -999.00,9,   -999.0,9,   -999.0,9,   -999.0,9,     7.61,2, -999.00,  -999.0, -999.00,  -999.0
    31DSCG96_1,  P15S,    92,  2,    205,   1264,2,19960202,1545,-40.8258,-173.3257, 4170,   -999,   3689.5,   1.1325,  34.7177,2,  34.7177,2,    203.0,2,  0.8562,    203.3,2,   114.49,2,    31.76,2,     0.00,2,     2.21,3,    0.025,2,    0.049,4,   -999.0,9,  -999.00,9,   2259.8,2,   1081.0,2,   2366.1,2,     7.61,2, -999.00,  -999.0, -999.00,  -999.0
    31DSCG96_1,  P15S,    92,  2,    204,   1003,2,19960202,1545,-40.8258,-173.3257, 4170,   -999,   3940.6,   1.0167,  34.7123,2,  34.7119,2,    205.0,2,  0.7175,    205.2,2,   118.45,2,    31.86,2,     0.00,2,     2.19,2, -999.000,9, -999.000,9,   -999.0,9,  -999.00,9,   -999.0,9,   -999.0,9,   -999.0,9,     7.61,2, -999.00,  -999.0, -999.00,  -999.0
    31DSCG96_1,  P15S,    92,  2,    202,   1030,2,19960202,1545,-40.8258,-173.3257, 4170,   -999,   4190.2,   0.9208,  34.7076,2,  34.7072,2,    206.0,2,  0.5978,    206.4,2,   122.04,2,    32.15,2,     0.00,2,     2.22,2,    0.043,2,    0.028,2,   -999.0,9,  -999.00,9,   -999.0,9,   -999.0,9,   -999.0,9,     7.61,2, -999.00,  -999.0, -999.00,  -999.0
    31DSCG96_1,  P15S,    92,  2,    203,    999,2,19960202,1545,-40.8258,-173.3257, 4170,   -999,   4190.4,   0.9208,  34.7075,2,  34.7085,2,    206.0,2,  0.5977,    205.8,2,   122.03,2,    32.14,2,     0.00,2,     2.21,2,    0.048,2,    0.062,4,   -999.0,9,  -999.00,9,   2262.6,2,   1072.2,2,   2370.8,2,     7.61,2, -999.00,  -999.0, -999.00,  -999.0
    31DSCG96_1,  P15S,    92,  2,    201,   1022,2,19960202,1545,-40.8258,-173.3257, 4170,   -999,   4237.3,   0.9014,  34.7065,2,  34.7072,2,    206.3,2,  0.5738,    208.7,2,   122.85,6,    32.28,6,     0.00,6,     2.22,2,    0.054,6,    0.126,4,   -999.0,9,  -999.00,9,   2263.1,2,   1094.9,2,   2369.7,2,     7.61,2, -999.00,  -999.0, -999.00,  -999.0