BOTTLE,20220811CCHSIOAMB
EXPOCODE,SECT_ID,STNNBR,CASTNO,SAMPNO,BTLNBR,BTLNBR_FLAG_W,DATE,TIME,LATITUDE,LONGITUDE,DEPTH,CTDRAW,CTDPRS,CTDTMP,CTDSAL,CTDSAL_FLAG_W,SALNTY,SALNTY_FLAG_W,CTDOXY,CTDOXY_FLAG_W,THETA,OXYGEN,OXYGEN_FLAG_W,SILCAT,SILCAT_FLAG_W,NITRAT,NITRAT_FLAG_W,NITRIT,NITRIT_FLAG_W,PHSPHT,PHSPHT_FLAG_W,CFC-11,CFC-11_FLAG_W,CFC-12,CFC-12_FLAG_W,DELC14,DELC14_FLAG_W,DELC13,DELC13_FLAG_W,TCARBN,TCARBN_FLAG_W,PCO2,PCO2_FLAG_W,ALKALI,ALKALI_FLAG_W,PH,PH_FLAG_W,PCO2TMP,C14ERR,PH_TMP,C13ERR
,,,,,,,,,,,,DBAR,DBAR,ITS-90,PSS-78,,PSS-78,,UMOL/KG,,DEG C,UMOL/KG,,UMOL/KG,,UMOL/KG,,UMOL/KG,,UMOL/KG,,PMOL/KG,,PMOL/KG,,/MILLE,,/MILLE,,UMOL/KG,,UATM,,UMOL/KG,,,,DEG C,/MILLE,DEG C,/MILLE
    31DSCG96_1,  P14S,     4,  1,    125,   1233,2,19960109,0013,-53.0017, 169.9883,  198,   -999,      9.1,   8.2756,  34.4001,2,-999.0000,9,    292.9,2,  8.2747,   -999.0,9,     5.42,2,    15.63,2,     0.23,2,     1.10,2, -999.000,9, -999.000,9,   -999.0,9,  -999.00,9,   -999.0,9,   -999.0,9,   -999.0,9,  -999.00,9, -999.00,  -999.0, -999.00,  -999.0
    31DSCG96_1,  P14S,     4,  1,    109,   1005,2,19960109,0013,-53.0017, 169.9883,  198,   -999,      9.3,   8.2721,  34.3915,2,  34.4000,2,    292.9,2,  8.2712,    293.8,2,     5.52,2,    15.65,2,     0.23,2,     1.10,2,    4.179,2,    2.183,2,   -999.0,9,  -999.00,9,   -999.0,9,   -999.0,9,   -999.0,9,  -999.00,9, -999.00,  -999.0, -999.00,  -999.0
    31DSCG96_1,  P14S,     4,  1,    127,   1234,2,19960109,0013,-53.0017, 169.9883,  198,   -999,      9.8,   8.2728,  34.4000,2,-999.0000,9,    293.2,2,  8.2718,   -999.0,9,     5.38,2,    15.65,2,     0.23,2,     1.11,2, -999.000,9, -999.000,9,   -999.0,9,  -999.00,9,   -999.0,9,   -999.0,9,   -999.0,9,  -999.00,9, -999.00,  -999.0, -999.00,  -999.0
    31DSCG96_1,  P14S,     4,  1,    123,   1250,2,19960109,0013,-53.0017, 169.9883,  198,   -999,     10.0,   8.2777,  34.4002,2,-999.0000,9,    293.2,2,  8.2767,   -999.0,9,     5.39,2,    15.67,2,     0.23,2,     1.11,2, -999.000,9, -999.000,9,   -999.0,9,  -999.00,9,   -999.0,9,   -999.0,9,   -999.0,9,  -999.00,9, -999.00,  -999.0, -999.00,  -999.0
    31DSCG96_1,  P14S,     4,  1,    131,   1042,2,19960109,0013,-53.0017, 169.9883,  198,   -999,     10.1,   8.2581,  34.4001,2,-999.0000,9,    293.2,2,  8.2571,   -999.0,9,     5.34,2,    15.62,2,     0.22,2,     1.10,2, -999.000,9, -999.000,9,   -999.0,9,  -999.00,9,   -999.0,9,   -999.0,9,   -999.0,9,  -999.00,9, -999.00,  -999.0, -999.00,  -999.0
    31DSCG96_1,  P14S,     4,  1,    119,   1247,2,19960109,0013,-53.0017, 169.9883,  198,   -999,     10.1,   8.2708,  34.4001,2,-999.0000,9,    293.2,2,  8.2698,   -999.0,9,     5.43,2,    15.66,2,     0.23,2,     1.10,2, -999.000,9, -999.000,9,   -999.0,9,  -999.00,9,   -999.0,9,   -999.0,9,   -999.0,9,  -999.00,9, -999.00,  -999.0, -999.00,  -999.0
    31DSCG96_1,  P14S,     4,  1,    111,   1114,2,19960109,0013,-53.0017, 169.9883,  198,   -999,     10.1,   8.2693,  34.4006,2,-999.0000,9,    293.2,2,  8.2683,   -999.0,9,     5.48,2,    15.64,2,     0.23,2,     1.10,2, -999.000,5, -999.000,5,   -999.0,9,  -999.00,9,   -999.0,9,   -999.0,9,   -999.0,9,  -999.00,9, -999.00,  -999.0, -999.00,  -999.0
    31DSCG96_1,  P14S,     4,  1,    134,   1224,2,19960109,0013,-53.0017, 169.9883,  198,   -999,     10.2,   8.2584,  34.4001,2,-999.0000,9,    293.2,2,  8.2574,   -999.0,9,     5.36,2,    15.68,2,     0.23,2,     1.10,2, -999.000,9, -999.000,9,   -999.0,9,  -999.00,9,   -999.0,9,   -999.0,9,   -999.0,9,  -999.00,9, -999.00,  -999.0, -999.00,  -999.0
    31DSCG96_1,  P14S,     4,  1,    133,   1221,2,19960109,0013,-53.0017, 169.9883,  198,   -999,     10.3,   8.2581,  34.3997,2,-999.0000,9,    293.2,2,  8.2571,   -999.0,9,     5.30,2,    15.67,2,     0.23,2,     1.10,2, -999.000,9, -999.000,9,   -999.0,9,  -999.00,9,   -999.0,9,   -999.0,9,   -999.0,9,  -999.00,9, -999.00,  -999.0, -999.00,  -999.0
    31DSCG96_1,  P14S,     4,  1,    129,   1256,2,19960109,0013,-53.0017, 169.9883,  198,   -999,     10.3,   8.2623,  34.3998,2,-999.0000,9,    293.2,2,  8.2613,   -999.0,9,     5.41,2,    15.67,2,     0.23,2,     1.10,2, -999.000,9, -999.000,9,   -999.0,9,  -999.00,9,   -999.0,9,   -999.0,9,   -999.0,9,  -999.00,9, -999.00,  -999.0, -999.00,  -999.0
    31DSCG96_1,  P14S,     4,  1,    122,   1109,2,19960109,0013,-53.0017, 169.9883,  198,   -999,     10.3,   8.2758,  34.3998,2,-999.0000,9,    293.2,2,  8.2748,   -999.0,9,     5.40,2,    15.67,2,     0.23,2,     1.11,2, -999.000,9, -999.000,9,   -999.0,9,  -999.00,9,   -999.0,9,   -999.0,9,   -999.0,9,  -999.00,9, -999.00,  -999.0, -999.00,  -999.0
    31DSCG96_1,  P14S,     4,  1,    121,   1246,2,19960109,0013,-53.0017, 169.9883,  198,   -999,     10.3,   8.2674,  34.3999,2,-999.0000,9,    293.2,2,  8.2664,   -999.0,9,     5.40,2,    15.67,2,     0.23,2,     1.10,2, -999.000,9, -999.000,9,   -999.0,9,  -999.00,9,   -999.0,9,   -999.0,9,   -999.0,9,  -999.00,9, -999.00,  -999.0, -999.00,  -999.0
    31DSCG96_1,  P14S,     4,  1,    117,   1104,2,19960109,0013,-53.0017, 169.9883,  198,   -999,     10.3,   8.2710,  34.3999,2,-999.0000,9,    293.2,2,  8.2700,   -999.0,9,     5.46,2,    15.67,2,     0.23,2,     1.12,2, -999.000,9, -999.000,9,   -999.0,9,  -999.00,9,   -999.0,9,   -999.0,9,   -999.0,9,  -999.00,9, -999.00,  -999.0, -999.00,  -999.0
    31DSCG96_1,  P14S,     4,  1,    115,   1041,2,19960109,0013,-53.0017, 169.9883,  198,   -999,     10.3,   8.2700,  34.3999,2,-999.0000,9,    293.2,2,  8.2690,   -999.0,9,     5.41,2,    15.65,2,     0.23,2,     1.10,2, -999.000,9, -999.000,9,   -999.0,9,  -999.00,9,   -999.0,9,   -999.0,9,   -999.0,9,  -999.00,9, -999.00,  -999.0, -999.00,  -999.0
    31DSCG96_1,  P14S,     4,  1,    113,   1008,2,19960109,0013,-53.0017, 169.9883,  198,   -999,     10.3,   8.2702,  34.3996,2,-999.0000,9,    293.2,2,  8.2692,   -999.0,9,     5.50,2,    15.66,2,     0.23,2,     1.12,2, -999.000,9, -999.000,9,   -999.0,9,  -999.00,9,   -999.0,9,   -999.0,9,   -999.0,9,  -999.00,9, -999.00,  -999.0, -999.00,  -999.0
    31DSCG96_1,  P14S,     4,  1,    130,   1257,2,19960109,0013,-53.0017, 169.9883,  198,   -999,     10.4,   8.2591,  34.3999,2,-999.0000,9,    293.2,2,  8.2581,   -999.0,9,     5.34,2,    15.67,2,     0.23,2,     1.10,2, -999.000,9, -999.000,9,   -999.0,9,  -999.00,9,   -999.0,9,   -999.0,9,   -999.0,9,  -999.00,9, -999.00,  -999.0, -999.00,  -999.0
    31DSCG96_1,  P14S,     4,  1,    116,   1211,2,19960109,0013,-53.0017, 169.9883,  198,   -999,     10.4,   8.2718,  34.3999,2,-999.0000,9,    293.2,2,  8.2708,   -999.0,9,     5.43,2,    15.64,2,     0.23,2,     1.10,2, -999.000,9, -999.000,9,   -999.0,9,  -999.00,9,   -999.0,9,   -999.0,9,   -999.0,9,  -999.00,9, -999.00,  -999.0, -999.00,  -999.0
    31DSCG96_1,  P14S,     4,  1,    114,   1017,2,19960109,0013,-53.0017, 169.9883,  198,   -999,     10.4,   8.2702,  34.4003,2,-999.0000,9,    293.2,2,  8.2692,   -999.0,9,     5.50,2,    15.67,2,     0.23,2,     1.11,2, -999.000,9, -999.000,9,   -999.0,9,  -999.00,9,   -999.0,9,   -999.0,9,   -999.0,9,  -999.00,9, -999.00,  -999.0, -999.00,  -999.0
    31DSCG96_1,  P14S,     4,  1,    120,   1209,2,19960109,0013,-53.0017, 169.9883,  198,   -999,     10.5,   8.2682,  34.3997,2,-999.0000,9,    293.1,2,  8.2672,   -999.0,9,     5.40,2,    15.68,2,     0.23,2,     1.10,2, -999.000,9, -999.000,9,   -999.0,9,  -999.00,9,   -999.0,9,   -999.0,9,   -999.0,9,  -999.00,9, -999.00,  -999.0, -999.00,  -999.0
    31DSCG96_1,  P14S,     4,  1,    118,   1222,2,19960109,0013,-53.0017, 169.9883,  198,   -999,     10.5,   8.2713,  34.3998,2,-999.0000,9,    293.1,2,  8.2703,   -999.0,9,     5.46,2,    15.68,2,     0.23,2,     1.10,2, -999.000,9, -999.000,9,   -999.0,9,  -999.00,9,   -999.0,9,   -999.0,9,   -999.0,9,  -999.00,9, -999.00,  -999.0, -999.00,  -999.0
    31DSCG96_1,  P14S,     4,  1,    110,   1036,2,19960109,0013,-53.0017, 169.9883,  198,   -999,     10.5,   8.2681,  34.4006,2,  34.4007,2,    293.1,2,  8.2671,    293.5,2,     5.51,2,    15.67,2,     0.23,2,     1.09,2,    4.191,6,    2.200,6,   -999.0,9,  -999.00,9,   2095.3,2,    575.6,6,   -999.0,9,     7.84,2, -999.00,  -999.0, -999.00,  -999.0
    31DSCG96_1,  P14S,     4,  1,    132,   1039,2,19960109,0013,-53.0017, 169.9883,  198,   -999,     10.6,   8.2568,  34.3996,2,-999.0000,9,    293.1,2,  8.2558,   -999.0,9,     5.34,2,    15.67,2,     0.23,2,     1.10,2, -999.000,9, -999.000,9,   -999.0,9,  -999.00,9,   -999.0,9,   -999.0,9,   -999.0,9,  -999.00,9, -999.00,  -999.0, -999.00,  -999.0
    31DSCG96_1,  P14S,     4,  1,    128,   1007,2,19960109,0013,-53.0017, 169.9883,  198,   -999,     10.6,   8.2610,  34.4002,2,-999.0000,9,    293.1,2,  8.2600,   -999.0,9,     5.43,2,    15.68,2,     0.23,2,     1.10,2, -999.000,9, -999.000,9,   -999.0,9,  -999.00,9,   -999.0,9,   -999.0,9,   -999.0,9,  -999.00,9, -999.00,  -999.0, -999.00,  -999.0
    31DSCG96_1,  P14S,     4,  1,    112,   1217,2,19960109,0013,-53.0017, 169.9883,  198,   -999,     10.6,   8.2677,  34.4006,2,-999.0000,9,    293.1,2,  8.2667,   -999.0,9,     5.51,2,    15.65,2,     0.23,2,     1.10,2, -999.000,5, -999.000,5,   -999.0,9,  -999.00,9,   -999.0,9,   -999.0,9,   -999.0,9,  -999.00,9, -999.00,  -999.0, -999.00,  -999.0
    31DSCG96_1,  P14S,     4,  1,    126,   1025,2,19960109,0013,-53.0017, 169.9883,  198,   -999,     11.2,   8.2723,  34.4000,2,-999.0000,9,    293.1,2,  8.2712,   -999.0,9,     5.38,2,    15.64,2,     0.23,2,     1.10,2, -999.000,9, -999.000,9,   -999.0,9,  -999.00,9,   -999.0,9,   -999.0,9,   -999.0,9,  -999.00,9, -999.00,  -999.0, -999.00,  -999.0
    31DSCG96_1,  P14S,     4,  1,    124,   1218,2,19960109,0013,-53.0017, 169.9883,  198,   -999,     11.3,   8.2750,  34.4003,2,-999.0000,9,    293.1,2,  8.2739,   -999.0,9,     5.42,2,    15.66,2,     0.23,2,     1.11,2, -999.000,9, -999.000,9,   -999.0,9,  -999.00,9,   -999.0,9,   -999.0,9,   -999.0,9,  -999.00,9, -999.00,  -999.0, -999.00,  -999.0
    31DSCG96_1,  P14S,     4,  1,    108,   1018,2,19960109,0013,-53.0017, 169.9883,  198,   -999,     17.5,   8.2518,  34.3997,2,  34.3998,2,    292.8,2,  8.2501,    293.1,2,     5.52,2,    15.66,2,     0.23,2,     1.10,2,    4.203,2,    2.201,2,   -999.0,9,  -999.00,9,   2095.4,2,   -999.0,9,   -999.0,9,     7.84,2, -999.00,  -999.0, -999.00,  -999.0
    31DSCG96_1,  P14S,     4,  1,    107,   1245,2,19960109,0013,-53.0017, 169.9883,  198,   -999,     45.2,   8.1580,  34.3985,2,  34.3983,2,    292.2,2,  8.1535,    292.0,2,     5.65,2,    15.66,2,     0.21,2,     1.10,2,    4.209,2,    2.203,2,   -999.0,9,  -999.00,9,   2097.2,2,    580.5,2,   -999.0,9,     7.83,2, -999.00,  -999.0, -999.00,  -999.0
    31DSCG96_1,  P14S,     4,  1,    106,   1262,2,19960109,0013,-53.0017, 169.9883,  198,   -999,     67.2,   8.0066,  34.3943,2,  34.3947,2,    291.3,2,  7.9999,    290.0,2,     5.81,2,    15.81,2,     0.22,2,     1.13,2,    4.181,2,    2.185,2,   -999.0,9,  -999.00,9,   2099.1,2,   -999.0,9,   -999.0,9,     7.83,2, -999.00,  -999.0, -999.00,  -999.0
    31DSCG96_1,  P14S,     4,  1,    105,   1113,2,19960109,0013,-53.0017, 169.9883,  198,   -999,     92.8,   7.5495,  34.3958,2,  34.3979,2,    285.4,2,  7.5405,    286.7,2,     5.99,2,    16.72,2,     0.30,2,     1.22,2,    4.260,2,    2.203,2,   -999.0,9,  -999.00,9,   2108.2,2,    622.1,2,   -999.0,9,     7.81,2, -999.00,  -999.0, -999.00,  -999.0
    31DSCG96_1,  P14S,     4,  1,    104,   1003,3,19960109,0013,-53.0017, 169.9883,  198,   -999,    117.7,   7.1622,  34.3993,2,  34.3992,2,    281.4,2,  7.1512,    282.1,2,     6.21,2,    17.55,2,     0.34,2,     1.30,2,    4.334,2,    2.240,2,   -999.0,9,  -999.00,9,   2115.0,2,   -999.0,9,   -999.0,9,     7.80,2, -999.00,  -999.0, -999.00,  -999.0
    31DSCG96_1,  P14S,     4,  1,    103,   9999,2,19960109,0013,-53.0017, 169.9883,  198,   -999,    146.0,   7.1648,  34.3992,2,  34.3990,2,    281.7,2,  7.1511,    281.8,2,     6.22,2,    17.54,2,     0.34,2,     1.28,2,    4.324,2,    2.227,2,   -999.0,9,  -999.00,9,   2114.4,2,    648.6,2,   -999.0,9,     7.80,2, -999.00,  -999.0, -999.00,  -999.0
    31DSCG96_1,  P14S,     4,  1,    102,   1027,2,19960109,0013,-53.0017, 169.9883,  198,   -999,    166.8,   7.1670,  34.3993,2,  34.3998,2,    282.1,2,  7.1514,    281.9,2,     6.27,2,    17.51,2,     0.34,2,     1.28,2,    4.377,2,    2.254,2,   -999.0,9,  -999.00,9,   2113.2,2,   -999.0,9,   -999.0,9,     7.79,2, -999.00,  -999.0, -999.00,  -999.0
    31DSCG96_1,  P14S,     4,  1,    101,   1022,2,19960109,0013,-53.0017, 169.9883,  198,   -999,    183.6,   7.1684,  34.3990,2,  34.3991,2,    282.7,2,  7.1512,    282.1,2,     6.28,2,    17.55,2,     0.34,2,     1.29,2,    4.401,2,    2.261,2,   -999.0,9,  -999.00,9,   2113.6,2,    649.6,2,   -999.0,9,     7.79,2, -999.00,  -999.0, -999.00,  -999.0