BOTTLE,20220811CCHSIOAMB
EXPOCODE,SECT_ID,STNNBR,CASTNO,SAMPNO,BTLNBR,BTLNBR_FLAG_W,DATE,TIME,LATITUDE,LONGITUDE,DEPTH,CTDRAW,CTDPRS,CTDTMP,CTDSAL,CTDSAL_FLAG_W,SALNTY,SALNTY_FLAG_W,CTDOXY,CTDOXY_FLAG_W,THETA,OXYGEN,OXYGEN_FLAG_W,SILCAT,SILCAT_FLAG_W,NITRAT,NITRAT_FLAG_W,NITRIT,NITRIT_FLAG_W,PHSPHT,PHSPHT_FLAG_W,CFC-11,CFC-11_FLAG_W,CFC-12,CFC-12_FLAG_W,DELC14,DELC14_FLAG_W,DELC13,DELC13_FLAG_W,TCARBN,TCARBN_FLAG_W,PCO2,PCO2_FLAG_W,ALKALI,ALKALI_FLAG_W,PH,PH_FLAG_W,PCO2TMP,C14ERR,PH_TMP,C13ERR
,,,,,,,,,,,,DBAR,DBAR,ITS-90,PSS-78,,PSS-78,,UMOL/KG,,DEG C,UMOL/KG,,UMOL/KG,,UMOL/KG,,UMOL/KG,,UMOL/KG,,PMOL/KG,,PMOL/KG,,/MILLE,,/MILLE,,UMOL/KG,,UATM,,UMOL/KG,,,,DEG C,/MILLE,DEG C,/MILLE
    31DSCG96_2,  P15S,   164,  1,    136,   1245,3,19960303,0542, -7.5008,-168.7492, 5244,   -999,      4.0,  29.1485,  35.3588,2,  35.3585,2,    194.0,2, 29.1475,   -999.0,9,     1.46,2,     0.01,2,     0.00,2,     0.18,2, -999.000,9, -999.000,9,     93.5,2,  -999.00,9,   -999.0,9,   -999.0,9,   -999.0,9,  -999.00,9, -999.00,     3.3, -999.00,  -999.0
    31DSCG96_2,  P15S,   164,  1,    135,   1113,2,19960303,0542, -7.5008,-168.7492, 5244,   -999,     20.9,  29.1117,  35.3591,2,  35.3591,2,    195.3,2, 29.1066,    195.5,2,     1.59,2,     0.00,2,     0.00,2,     0.20,2, -999.000,9, -999.000,9,   -999.0,9,  -999.00,9,   1958.1,2,    251.7,6,   2326.9,2,     8.14,2, -999.00,  -999.0, -999.00,  -999.0
    31DSCG96_2,  P15S,   164,  1,    134,   1267,2,19960303,0542, -7.5008,-168.7492, 5244,   -999,     43.9,  29.0379,  35.3642,2,  35.3650,2,    195.2,2, 29.0272,    195.9,2,     1.48,2,     0.00,2,     0.00,2,     0.19,2, -999.000,9, -999.000,9,   -999.0,9,  -999.00,9,   -999.0,9,   -999.0,9,   2329.4,2,     8.14,2, -999.00,  -999.0, -999.00,  -999.0
    31DSCG96_2,  P15S,   164,  1,    133,   1021,2,19960303,0542, -7.5008,-168.7492, 5244,   -999,     69.1,  29.0386,  35.3678,2,  35.3713,2,    194.9,2, 29.0218,    195.3,2,     1.61,2,     0.03,2,     0.00,2,     0.21,2, -999.000,9, -999.000,9,   -999.0,9,  -999.00,9,   -999.0,9,   -999.0,9,   -999.0,9,     8.14,2, -999.00,  -999.0, -999.00,  -999.0
    31DSCG96_2,  P15S,   164,  1,    132,   1039,2,19960303,0542, -7.5008,-168.7492, 5244,   -999,     92.9,  29.0714,  35.5385,2,  35.5383,2,    194.7,2, 29.0489,    194.3,2,     1.65,2,     0.22,2,     0.01,2,     0.24,2, -999.000,9, -999.000,9,   -999.0,9,  -999.00,9,   1974.2,2,    253.7,2,   2340.6,2,     8.13,2, -999.00,  -999.0, -999.00,  -999.0
    31DSCG96_2,  P15S,   164,  1,    131,   1014,2,19960303,0542, -7.5008,-168.7492, 5244,   -999,    140.0,  28.0169,  35.6504,2,  35.6462,2,    183.3,2, 27.9838,    180.2,2,     2.13,2,     2.13,2,     0.60,2,     0.45,2, -999.000,9, -999.000,9,   -999.0,9,  -999.00,9,   2015.5,2,    299.2,2,   2345.7,2,     8.07,2, -999.00,  -999.0, -999.00,  -999.0
    31DSCG96_2,  P15S,   164,  1,    130,   1257,2,19960303,0542, -7.5008,-168.7492, 5244,   -999,    190.4,  25.3674,  36.2207,2,  36.2066,2,    149.7,2, 25.3254,    150.2,2,     1.93,2,     4.84,2,     0.19,2,     0.56,2, -999.000,9, -999.000,9,   -999.0,9,  -999.00,9,   2074.4,2,    347.0,2,   2381.0,2,     8.02,2, -999.00,  -999.0, -999.00,  -999.0
    31DSCG96_2,  P15S,   164,  1,    129,   1256,2,19960303,0542, -7.5008,-168.7492, 5244,   -999,    239.0,  19.4648,  35.7031,2,  35.7028,2,    146.8,2, 19.4212,    138.7,2,     3.68,2,     9.55,2,     0.01,2,     0.91,2, -999.000,9, -999.000,9,   -999.0,9,  -999.00,9,   -999.0,9,   -999.0,9,   -999.0,9,     7.89,2, -999.00,  -999.0, -999.00,  -999.0
    31DSCG96_2,  P15S,   164,  1,    128,   1230,2,19960303,0542, -7.5008,-168.7492, 5244,   -999,    292.2,  14.9074,  35.1455,2,  35.1573,2,    114.0,2, 14.8631,    101.5,2,     9.75,2,    17.52,2,     0.01,2,     1.47,2, -999.000,9, -999.000,9,   -999.0,9,  -999.00,9,   2163.3,2,    731.4,2,   2320.3,2,     7.74,2, -999.00,  -999.0, -999.00,  -999.0
    31DSCG96_2,  P15S,   164,  1,    127,   1232,2,19960303,0542, -7.5008,-168.7492, 5244,   -999,    374.0,  10.1501,  34.7462,2,  34.7461,2,     80.7,2, 10.1060,   -999.0,9,    22.95,2,    29.00,2,     0.00,2,     2.08,2, -999.000,9, -999.000,9,   -999.0,9,  -999.00,9,   -999.0,9,   -999.0,9,   -999.0,9,     7.59,2, -999.00,  -999.0, -999.00,  -999.0
    31DSCG96_2,  P15S,   164,  1,    126,   1025,2,19960303,0542, -7.5008,-168.7492, 5244,   -999,    476.2,   8.2883,  34.6309,2,  34.6304,2,     98.2,2,  8.2385,     95.4,2,    30.27,2,    32.24,2,     0.00,2,     2.23,2, -999.000,9, -999.000,9,   -999.0,9,  -999.00,9,   -999.0,9,   -999.0,9,   -999.0,9,     7.56,2, -999.00,  -999.0, -999.00,  -999.0
    31DSCG96_2,  P15S,   164,  1,    125,   1119,2,19960303,0542, -7.5008,-168.7492, 5244,   -999,    575.5,   7.2885,  34.5776,2,  34.5758,2,    102.8,2,  7.2323,     98.6,2,    36.71,2,    34.17,2,     0.00,2,     2.36,2, -999.000,9, -999.000,9,   -999.0,9,  -999.00,9,   2228.2,2,   1240.5,2,   2311.6,2,     7.55,2, -999.00,  -999.0, -999.00,  -999.0
    31DSCG96_2,  P15S,   164,  1,    124,   1244,2,19960303,0542, -7.5008,-168.7492, 5244,   -999,    674.2,   6.3208,  34.5424,2,  34.5419,2,    101.5,2,  6.2594,     98.3,6,    46.09,2,    36.25,2,     0.00,2,     2.53,2, -999.000,9, -999.000,9,   -999.0,9,  -999.00,9,   -999.0,9,   -999.0,9,   -999.0,9,     7.52,2, -999.00,  -999.0, -999.00,  -999.0
    31DSCG96_2,  P15S,   164,  1,    123,   1250,2,19960303,0542, -7.5008,-168.7492, 5244,   -999,    774.4,   5.5800,  34.5267,2,  34.5248,2,    105.1,2,  5.5133,    101.6,2,    55.08,2,    37.19,2,     0.00,2,     2.60,2, -999.000,9, -999.000,9,   -999.0,9,  -999.00,9,   -999.0,9,   -999.0,9,   -999.0,9,     7.52,2, -999.00,  -999.0, -999.00,  -999.0
    31DSCG96_2,  P15S,   164,  1,    122,   1265,2,19960303,0542, -7.5008,-168.7492, 5244,   -999,    873.0,   4.9592,  34.5335,2,  34.5332,2,    101.3,2,  4.8875,     97.6,2,    67.68,2,    38.37,2,     0.00,2,     2.70,2, -999.000,9, -999.000,9,   -999.0,9,  -999.00,9,   2273.3,2,   -999.0,9,   2338.6,2,     7.50,2, -999.00,  -999.0, -999.00,  -999.0
    31DSCG96_2,  P15S,   164,  1,    121,   1246,2,19960303,0542, -7.5008,-168.7492, 5244,   -999,    971.7,   4.4995,  34.5353,2,  34.5340,2,    110.2,2,  4.4224,    109.0,2,    74.38,2,    37.71,2,     0.00,2,     2.66,2, -999.000,9, -999.000,9,   -999.0,9,  -999.00,9,   -999.0,9,   -999.0,9,   -999.0,9,     7.52,2, -999.00,  -999.0, -999.00,  -999.0
    31DSCG96_2,  P15S,   164,  1,    120,   1015,2,19960303,0542, -7.5008,-168.7492, 5244,   -999,   1072.3,   4.1400,  34.5490,2,  34.5476,2,    106.7,2,  4.0571,    105.8,2,    83.91,2,    38.26,2,     0.00,2,     2.70,2, -999.000,9, -999.000,9,   -999.0,9,  -999.00,9,   2287.4,2,   1384.4,2,   2359.4,2,     7.51,2, -999.00,  -999.0, -999.00,  -999.0
    31DSCG96_2,  P15S,   164,  1,    119,   1247,2,19960303,0542, -7.5008,-168.7492, 5244,   -999,   1176.0,   3.7607,  34.5540,2,  34.5536,2,    119.7,2,  3.6722,    120.0,2,    88.08,2,    37.34,2,     0.00,2,     2.62,2, -999.000,9, -999.000,9,   -999.0,9,  -999.00,9,   -999.0,9,   -999.0,9,   -999.0,9,     7.53,2, -999.00,  -999.0, -999.00,  -999.0
    31DSCG96_2,  P15S,   164,  1,    118,   1299,2,19960303,0542, -7.5008,-168.7492, 5244,   -999,   1275.0,   3.4609,  34.5682,2,  34.5680,2,    121.3,2,  3.3669,    120.9,2,    95.69,2,    37.48,2,     0.00,2,     2.64,2, -999.000,9, -999.000,9,   -999.0,9,  -999.00,9,   -999.0,9,   -999.0,9,   -999.0,9,     7.53,2, -999.00,  -999.0, -999.00,  -999.0
    31DSCG96_2,  P15S,   164,  1,    117,   1242,2,19960303,0542, -7.5008,-168.7492, 5244,   -999,   1451.5,   3.0749,  34.5854,2,  34.5848,2,    123.8,2,  2.9702,    123.9,2,   103.98,2,    37.39,2,     0.00,2,     2.63,2, -999.000,9, -999.000,9,   -999.0,9,  -999.00,9,   2299.2,2,   1327.5,2,   2380.2,2,     7.54,2, -999.00,  -999.0, -999.00,  -999.0
    31DSCG96_2,  P15S,   164,  1,    116,   1259,2,19960303,0542, -7.5008,-168.7492, 5244,   -999,   1690.5,   2.5692,  34.6145,2,  34.6128,2,    125.5,2,  2.4507,    126.2,2,   117.03,2,    37.51,2,     0.00,2,     2.63,2, -999.000,9, -999.000,9,   -999.0,9,  -999.00,9,   -999.0,9,   -999.0,9,   -999.0,9,     7.54,2, -999.00,  -999.0, -999.00,  -999.0
    31DSCG96_2,  P15S,   164,  1,    115,   1041,2,19960303,0542, -7.5008,-168.7492, 5244,   -999,   1940.2,   2.2334,  34.6373,2,  34.6368,2,    126.6,2,  2.0984,    127.6,2,   127.48,2,    37.58,2,     0.00,2,     2.62,2, -999.000,9, -999.000,9,   -999.0,9,  -999.00,9,   2322.3,2,   1294.6,2,   2407.7,2,     7.54,2, -999.00,  -999.0, -999.00,  -999.0
    31DSCG96_2,  P15S,   164,  1,    114,   1017,2,19960303,0542, -7.5008,-168.7492, 5244,   -999,   2191.2,   2.0160,  34.6520,2,  34.6523,2,    130.2,2,  1.8629,    131.6,2,   133.26,2,    37.33,2,     0.00,2,     2.60,2, -999.000,9, -999.000,9,   -999.0,9,  -999.00,9,   -999.0,9,   -999.0,9,   -999.0,9,     7.55,2, -999.00,  -999.0, -999.00,  -999.0
    31DSCG96_2,  P15S,   164,  1,    113,   1302,2,19960303,0542, -7.5008,-168.7492, 5244,   -999,   2434.2,   1.8831,  34.6617,2,  34.6597,2,    134.7,2,  1.7108,    135.1,2,   136.88,2,    37.23,2,     0.00,2,     2.59,2, -999.000,9, -999.000,9,   -999.0,9,  -999.00,9,   2328.0,2,   1254.1,2,   2417.4,2,     7.56,2, -999.00,  -999.0, -999.00,  -999.0
    31DSCG96_2,  P15S,   164,  1,    112,   1217,2,19960303,0542, -7.5008,-168.7492, 5244,   -999,   2689.4,   1.7706,  34.6699,2,  34.6678,2,    140.3,2,  1.5772,    140.3,6,   138.14,2,    36.89,2,     0.00,2,     2.55,2, -999.000,9, -999.000,9,   -999.0,9,  -999.00,9,   -999.0,9,   -999.0,9,   -999.0,9,     7.57,2, -999.00,  -999.0, -999.00,  -999.0
    31DSCG96_2,  P15S,   164,  1,    111,   1226,2,19960303,0542, -7.5008,-168.7492, 5244,   -999,   2937.8,   1.6917,  34.6751,2,  34.6734,2,    146.7,2,  1.4766,    146.6,2,   138.19,2,    36.53,2,     0.00,2,     2.52,2, -999.000,9, -999.000,9,   -999.0,9,  -999.00,9,   2322.6,2,   1195.3,2,   2419.7,2,     7.57,2, -999.00,  -999.0, -999.00,  -999.0
    31DSCG96_2,  P15S,   164,  1,    110,   1301,2,19960303,0542, -7.5008,-168.7492, 5244,   -999,   3195.3,   1.6159,  34.6802,2,  34.6783,2,    152.3,2,  1.3775,    152.4,2,   137.45,2,    36.09,2,     0.00,2,     2.48,2, -999.000,9, -999.000,9,   -999.0,9,  -999.00,9,   -999.0,9,   -999.0,9,   -999.0,9,     7.58,2, -999.00,  -999.0, -999.00,  -999.0
    31DSCG96_2,  P15S,   164,  1,    109,   1031,2,19960303,0542, -7.5008,-168.7492, 5244,   -999,   3433.0,   1.5353,  34.6850,2,  34.6831,2,    158.6,2,  1.2750,    159.5,2,   135.84,2,    35.60,2,     0.00,2,     2.45,2, -999.000,9, -999.000,9,   -999.0,9,  -999.00,9,   2312.5,2,   1155.8,2,   2412.9,2,     7.59,2, -999.00,  -999.0, -999.00,  -999.0
    31DSCG96_2,  P15S,   164,  1,    108,   1227,2,19960303,0542, -7.5008,-168.7492, 5244,   -999,   3688.9,   1.4761,  34.6892,2,  34.6872,2,    163.5,2,  1.1910,    165.1,2,   134.53,2,    35.18,2,     0.00,2,     2.42,2,   -0.001,2,    0.001,2,   -999.0,9,  -999.00,9,   -999.0,9,   -999.0,9,   -999.0,9,     7.59,2, -999.00,  -999.0, -999.00,  -999.0
    31DSCG96_2,  P15S,   164,  1,    107,   1263,2,19960303,0542, -7.5008,-168.7492, 5244,   -999,   3940.1,   1.4095,  34.6930,2,  34.6924,2,    167.5,2,  1.0995,    168.6,2,   135.55,2,    34.98,2,     0.00,2,     2.41,2,    0.003,2,    0.001,2,   -999.0,9,  -999.00,9,   2305.8,2,   1122.1,2,   2408.7,2,     7.60,2, -999.00,  -999.0, -999.00,  -999.0
    31DSCG96_2,  P15S,   164,  1,    106,   1262,2,19960303,0542, -7.5008,-168.7492, 5244,   -999,   4191.4,   1.3774,  34.6958,2,  34.6953,2,    171.9,2,  1.0409,    173.6,2,   133.72,2,    34.64,2,     0.00,2,     2.38,2,    0.001,2,    0.002,2,   -999.0,9,  -999.00,9,   -999.0,9,   -999.0,9,   -999.0,9,     7.60,2, -999.00,  -999.0, -999.00,  -999.0
    31DSCG96_2,  P15S,   164,  1,    105,   1264,2,19960303,0542, -7.5008,-168.7492, 5244,   -999,   4449.8,   1.3494,  34.6984,2,  34.6974,2,    178.1,2,  0.9847,    178.7,2,   131.83,2,    34.32,2,     0.00,2,     2.35,2,   -0.002,2,    0.000,2,   -999.0,9,  -999.00,9,   2293.8,2,   1093.5,2,   2403.9,2,     7.61,2, -999.00,  -999.0, -999.00,  -999.0
    31DSCG96_2,  P15S,   164,  1,    104,   1003,2,19960303,0542, -7.5008,-168.7492, 5244,   -999,   4679.9,   1.2585,  34.7034,2,  34.7018,2,    188.6,2,  0.8701,    189.1,2,   126.56,2,    33.52,2,     0.00,2,     2.29,2,    0.002,6,    0.001,6,   -999.0,9,  -999.00,9,   -999.0,9,   -999.0,9,   -999.0,9,     7.61,2, -999.00,  -999.0, -999.00,  -999.0
    31DSCG96_2,  P15S,   164,  1,    103,   1035,2,19960303,0542, -7.5008,-168.7492, 5244,   -999,   4938.7,   1.1759,  34.7065,2,  34.7054,2,    198.5,2,  0.7598,    198.3,2,   123.37,2,    32.91,2,     0.00,2,     2.26,2,    0.003,2,    0.001,2,   -999.0,9,  -999.00,9,   2268.1,2,   1071.3,2,   2378.1,2,     7.61,2, -999.00,  -999.0, -999.00,  -999.0
    31DSCG96_2,  P15S,   164,  1,    102,   1030,2,19960303,0542, -7.5008,-168.7492, 5244,   -999,   5179.4,   1.1809,  34.7073,2,  34.7079,2,    200.8,2,  0.7355,    199.7,2,   122.28,2,    32.70,2,     0.00,2,     2.23,2, -999.000,9, -999.000,9,   -999.0,9,  -999.00,9,   2266.3,2,   1067.9,3,   2376.5,2,  -999.00,9, -999.00,  -999.0, -999.00,  -999.0
    31DSCG96_2,  P15S,   164,  1,    101,   1022,2,19960303,0542, -7.5008,-168.7492, 5244,   -999,   5361.8,   1.1898,  34.7076,2,  34.7072,2,    202.0,2,  0.7216,    200.5,6,   121.94,6,    32.63,6,     0.00,6,     2.23,6,    0.004,2,    0.002,2,   -999.0,9,  -999.00,9,   2265.1,2,   1092.5,2,   2374.2,2,     7.61,2, -999.00,  -999.0, -999.00,  -999.0