BOTTLE,20220811CCHSIOAMB
EXPOCODE,SECT_ID,STNNBR,CASTNO,SAMPNO,BTLNBR,BTLNBR_FLAG_W,DATE,TIME,LATITUDE,LONGITUDE,DEPTH,CTDRAW,CTDPRS,CTDTMP,CTDSAL,CTDSAL_FLAG_W,SALNTY,SALNTY_FLAG_W,CTDOXY,CTDOXY_FLAG_W,THETA,OXYGEN,OXYGEN_FLAG_W,SILCAT,SILCAT_FLAG_W,NITRAT,NITRAT_FLAG_W,NITRIT,NITRIT_FLAG_W,PHSPHT,PHSPHT_FLAG_W,CFC-11,CFC-11_FLAG_W,CFC-12,CFC-12_FLAG_W,DELC14,DELC14_FLAG_W,DELC13,DELC13_FLAG_W,TCARBN,TCARBN_FLAG_W,PCO2,PCO2_FLAG_W,ALKALI,ALKALI_FLAG_W,PH,PH_FLAG_W,PCO2TMP,C14ERR,PH_TMP,C13ERR
,,,,,,,,,,,,DBAR,DBAR,ITS-90,PSS-78,,PSS-78,,UMOL/KG,,DEG C,UMOL/KG,,UMOL/KG,,UMOL/KG,,UMOL/KG,,UMOL/KG,,PMOL/KG,,PMOL/KG,,/MILLE,,/MILLE,,UMOL/KG,,UATM,,UMOL/KG,,,,DEG C,/MILLE,DEG C,/MILLE
    31DSCG96_2,  P15S,   133,  1,    136,   1245,2,19960224,1127,-22.0007,-169.9980, 5587,   -999,      6.4,  27.9314,  34.8328,2,  34.8325,2,   -999.0,9, 27.9299,    198.4,2,     1.25,2,     0.03,2,     0.00,2,     0.01,3, -999.000,9, -999.000,9,     84.5,2,  -999.00,9,   1919.4,2,    225.8,2,   2285.0,2,     8.15,2, -999.00,     4.6, -999.00,  -999.0
    31DSCG96_2,  P15S,   133,  1,    135,   1113,2,19960224,1127,-22.0007,-169.9980, 5587,   -999,     29.7,  27.7974,  34.8752,2,  34.8465,3,   -999.0,9, 27.7905,    199.1,6,     1.26,2,     0.03,2,     0.00,2,     0.02,3, -999.000,9, -999.000,9,   -999.0,9,  -999.00,9,   -999.0,9,   -999.0,9,   -999.0,9,     8.15,2, -999.00,  -999.0, -999.00,  -999.0
    31DSCG96_2,  P15S,   133,  1,    134,   1216,2,19960224,1127,-22.0007,-169.9980, 5587,   -999,     53.1,  25.6728,  35.3915,2,  35.3973,2,   -999.0,9, 25.6611,    214.1,2,     1.27,2,     0.01,2,     0.00,2,     0.06,2, -999.000,9, -999.000,9,   -999.0,9,  -999.00,9,   1964.0,2,    244.5,2,   2327.1,2,     8.13,2, -999.00,  -999.0, -999.00,  -999.0
    31DSCG96_2,  P15S,   133,  1,    133,   1221,2,19960224,1127,-22.0007,-169.9980, 5587,   -999,     80.1,  23.1691,  35.7767,2,  35.7672,2,   -999.0,9, 23.1526,    203.5,2,     1.28,2,     0.03,2,     0.00,2,     0.12,2, -999.000,9, -999.000,9,   -999.0,9,  -999.00,9,   -999.0,9,   -999.0,9,   -999.0,9,     8.08,2, -999.00,  -999.0, -999.00,  -999.0
    31DSCG96_2,  P15S,   133,  1,    132,   1039,2,19960224,1127,-22.0007,-169.9980, 5587,   -999,    114.3,  22.0271,  35.7989,2,  35.7989,2,   -999.0,9, 22.0044,    193.2,2,     1.43,2,     0.03,2,     0.01,2,     0.17,2, -999.000,9, -999.000,9,   -999.0,9,  -999.00,9,   2033.7,2,    307.9,2,   2348.6,2,     8.05,2, -999.00,  -999.0, -999.00,  -999.0
    31DSCG96_2,  P15S,   133,  1,    131,   1014,2,19960224,1127,-22.0007,-169.9980, 5587,   -999,    164.2,  20.7012,  35.7594,2,  35.7578,2,   -999.0,9, 20.6700,    190.2,2,     1.44,2,     1.68,2,     0.03,2,     0.24,2, -999.000,9, -999.000,9,   -999.0,9,  -999.00,9,   2045.3,2,    330.4,3,   2345.6,2,     8.02,2, -999.00,  -999.0, -999.00,  -999.0
    31DSCG96_2,  P15S,   133,  1,    130,   1257,2,19960224,1127,-22.0007,-169.9980, 5587,   -999,    213.4,  19.2410,  35.6548,2,  35.6541,2,   -999.0,9, 19.2025,    187.3,2,     1.60,2,     3.04,2,     0.01,2,     0.33,2, -999.000,9, -999.000,9,   -999.0,9,  -999.00,9,   2061.3,2,    363.5,2,   2337.8,2,     7.99,2, -999.00,  -999.0, -999.00,  -999.0
    31DSCG96_2,  P15S,   133,  1,    129,   1256,2,19960224,1127,-22.0007,-169.9980, 5587,   -999,    262.6,  17.8070,  35.5080,2,  35.5165,2,   -999.0,9, 17.7620,    189.4,2,     1.90,2,     4.09,2,     0.00,2,     0.40,2, -999.000,9, -999.000,9,   -999.0,9,  -999.00,9,   2068.8,2,    394.4,2,   2329.4,2,     7.96,2, -999.00,  -999.0, -999.00,  -999.0
    31DSCG96_2,  P15S,   133,  1,    128,   1007,2,19960224,1127,-22.0007,-169.9980, 5587,   -999,    324.7,  15.7088,  35.2810,2,  35.2809,2,   -999.0,9, 15.6577,    188.0,2,     2.74,2,     6.84,2,     0.00,2,     0.58,2, -999.000,9, -999.000,9,   -999.0,9,  -999.00,9,   -999.0,9,    461.5,2,   2317.2,2,     7.91,2, -999.00,  -999.0, -999.00,  -999.0
    31DSCG96_2,  P15S,   133,  1,    127,   1232,2,19960224,1127,-22.0007,-169.9980, 5587,   -999,    426.0,  12.1240,  34.8783,2,  34.8804,2,   -999.0,9, 12.0676,    184.7,2,     5.14,2,    13.75,2,     0.00,2,     1.03,2, -999.000,9, -999.000,9,   -999.0,9,  -999.00,9,   -999.0,9,   -999.0,9,   -999.0,9,     7.82,2, -999.00,  -999.0, -999.00,  -999.0
    31DSCG96_2,  P15S,   133,  1,    126,   1025,2,19960224,1127,-22.0007,-169.9980, 5587,   -999,    528.4,   8.7573,  34.5382,2,  34.5395,2,   -999.0,9,  8.7000,    193.4,2,     8.76,2,    20.83,2,     0.00,2,     1.48,2, -999.000,9, -999.000,9,   -999.0,9,  -999.00,9,   2085.8,3,    723.6,2,   2284.3,2,     7.73,2, -999.00,  -999.0, -999.00,  -999.0
    31DSCG96_2,  P15S,   133,  1,    125,   1119,2,19960224,1127,-22.0007,-169.9980, 5587,   -999,    625.6,   6.9297,  34.4024,2,  34.4018,2,   -999.0,9,  6.8702,    187.2,6,    15.62,2,    26.49,2,     0.00,2,     1.85,2, -999.000,9, -999.000,9,   -999.0,9,  -999.00,9,   -999.0,9,   -999.0,9,   -999.0,9,     7.67,2, -999.00,  -999.0, -999.00,  -999.0
    31DSCG96_2,  P15S,   133,  1,    124,   1013,2,19960224,1127,-22.0007,-169.9980, 5587,   -999,    720.8,   5.9301,  34.3594,2,  34.3592,2,   -999.0,9,  5.8665,    191.2,2,    20.76,2,    28.69,2,     0.00,2,     1.98,2, -999.000,9, -999.000,9,   -999.0,9,  -999.00,9,   -999.0,9,   -999.0,9,   -999.0,9,     7.65,2, -999.00,  -999.0, -999.00,  -999.0
    31DSCG96_2,  P15S,   133,  1,    123,   1250,2,19960224,1127,-22.0007,-169.9980, 5587,   -999,    819.0,   5.2038,  34.3641,2,  34.3640,2,   -999.0,9,  5.1356,    179.7,2,    30.22,2,    31.18,2,     0.00,2,     2.14,2, -999.000,9, -999.000,9,   -999.0,9,  -999.00,9,   2140.2,3,   1012.4,2,   2297.6,2,     7.62,2, -999.00,  -999.0, -999.00,  -999.0
    31DSCG96_2,  P15S,   133,  1,    122,   1265,2,19960224,1127,-22.0007,-169.9980, 5587,   -999,    919.3,   4.6517,  34.3854,2,  34.3860,2,   -999.0,9,  4.5783,    171.0,2,    40.76,2,    32.84,2,     0.00,2,     2.26,2, -999.000,9, -999.000,9,   -999.0,9,  -999.00,9,   -999.0,9,   -999.0,9,   -999.0,9,     7.60,2, -999.00,  -999.0, -999.00,  -999.0
    31DSCG96_2,  P15S,   133,  1,    121,   1246,2,19960224,1127,-22.0007,-169.9980, 5587,   -999,   1025.5,   4.1096,  34.4243,2,  34.4246,2,   -999.0,9,  4.0311,    162.1,2,    52.94,2,    34.14,2,     0.00,2,     2.35,2, -999.000,9, -999.000,9,   -999.0,9,  -999.00,9,   2193.7,3,   1095.0,2,   2320.9,2,  -999.00,9, -999.00,  -999.0, -999.00,  -999.0
    31DSCG96_2,  P15S,   133,  1,    120,   1015,2,19960224,1127,-22.0007,-169.9980, 5587,   -999,   1141.7,   3.6166,  34.4762,2,  34.4764,2,   -999.0,9,  3.5324,    155.1,2,    67.45,2,    34.98,2,     0.00,2,     2.42,2, -999.000,9, -999.000,9,   -999.0,9,  -999.00,9,   -999.0,9,   -999.0,9,   -999.0,9,     7.57,2, -999.00,  -999.0, -999.00,  -999.0
    31DSCG96_2,  P15S,   133,  1,    119,   1247,2,19960224,1127,-22.0007,-169.9980, 5587,   -999,   1316.6,   2.9573,  34.5222,2,  34.5219,2,   -999.0,9,  2.8651,    158.3,2,    80.89,2,    35.10,2,     0.00,2,     2.43,2, -999.000,9, -999.000,9,   -999.0,9,  -999.00,9,   -999.0,9,   -999.0,9,   -999.0,9,     7.57,2, -999.00,  -999.0, -999.00,  -999.0
    31DSCG96_2,  P15S,   133,  1,    118,   1299,2,19960224,1127,-22.0007,-169.9980, 5587,   -999,   1563.0,   2.5164,  34.5895,2,  34.5906,2,   -999.0,9,  2.4090,    150.8,2,   100.65,2,    35.58,2,     0.00,2,     2.47,2, -999.000,9, -999.000,9,   -999.0,9,  -999.00,9,   2285.1,2,   1175.8,2,   2374.6,2,     7.57,2, -999.00,  -999.0, -999.00,  -999.0
    31DSCG96_2,  P15S,   133,  1,    117,   1267,2,19960224,1127,-22.0007,-169.9980, 5587,   -999,   1813.2,   2.3093,  34.6208,2,  34.6212,2,   -999.0,9,  2.1840,    145.6,2,   113.15,2,    36.00,2,     0.00,2,     2.51,2, -999.000,9, -999.000,9,   -999.0,9,  -999.00,9,   -999.0,9,   -999.0,9,   -999.0,9,     7.57,2, -999.00,  -999.0, -999.00,  -999.0
    31DSCG96_2,  P15S,   133,  1,    116,   1259,2,19960224,1127,-22.0007,-169.9980, 5587,   -999,   2066.3,   2.1604,  34.6352,2,  34.6360,2,   -999.0,9,  2.0158,    144.4,2,   119.38,2,    36.20,2,     0.00,2,     2.52,2, -999.000,9, -999.000,9,   -999.0,9,  -999.00,9,   2305.6,2,   1199.4,2,   2396.6,2,     7.57,2, -999.00,  -999.0, -999.00,  -999.0
    31DSCG96_2,  P15S,   133,  1,    115,   1041,2,19960224,1127,-22.0007,-169.9980, 5587,   -999,   2320.4,   2.0176,  34.6480,2,  34.6475,2,   -999.0,9,  1.8531,    144.8,2,   124.93,2,    36.31,2,     0.00,2,     2.53,2, -999.000,9, -999.000,9,   -999.0,9,  -999.00,9,   -999.0,9,   -999.0,9,   -999.0,9,     7.57,2, -999.00,  -999.0, -999.00,  -999.0
    31DSCG96_2,  P15S,   133,  1,    114,   1017,2,19960224,1127,-22.0007,-169.9980, 5587,   -999,   2563.8,   1.9098,  34.6575,2,  34.6582,2,   -999.0,9,  1.7254,    144.8,2,   129.28,2,    36.30,2,     0.00,2,     2.53,2, -999.000,9, -999.000,9,   -999.0,9,  -999.00,9,   2316.0,2,   1202.2,2,   2408.8,2,     7.57,2, -999.00,  -999.0, -999.00,  -999.0
    31DSCG96_2,  P15S,   133,  1,    113,   1302,2,19960224,1127,-22.0007,-169.9980, 5587,   -999,   2813.8,   1.8001,  34.6661,2,  34.6672,2,   -999.0,9,  1.5945,    146.2,6,   133.07,2,    36.26,2,     0.00,2,     2.52,2, -999.000,9, -999.000,9,   -999.0,9,  -999.00,9,   -999.0,9,   -999.0,9,   -999.0,9,     7.57,2, -999.00,  -999.0, -999.00,  -999.0
    31DSCG96_2,  P15S,   133,  1,    112,   1217,2,19960224,1127,-22.0007,-169.9980, 5587,   -999,   3060.1,   1.6900,  34.6752,2,  34.6774,2,   -999.0,9,  1.4632,    151.0,2,   134.02,2,    35.95,2,     0.00,2,     2.49,2, -999.000,9, -999.000,9,   -999.0,9,  -999.00,9,   2315.7,2,   1173.9,2,   2409.4,2,     7.58,2, -999.00,  -999.0, -999.00,  -999.0
    31DSCG96_2,  P15S,   133,  1,    111,   1226,2,19960224,1127,-22.0007,-169.9980, 5587,   -999,   3315.6,   1.5752,  34.6892,2,  34.6896,2,   -999.0,9,  1.3257,    164.6,2,   128.13,2,    34.81,2,     0.00,2,     2.41,2,    0.000,2,    0.001,2,   -999.0,9,  -999.00,9,   -999.0,9,   -999.0,9,   -999.0,9,     7.59,2, -999.00,  -999.0, -999.00,  -999.0
    31DSCG96_2,  P15S,   133,  1,    110,   1301,2,19960224,1127,-22.0007,-169.9980, 5587,   -999,   3565.2,   1.4520,  34.7113,2,  34.7126,2,   -999.0,9,  1.1802,    186.4,2,   115.80,2,    32.90,2,     0.00,2,     2.27,2, -999.000,9, -999.000,9,   -999.0,9,  -999.00,9,   2273.5,2,   1069.6,2,   2378.3,2,     7.60,3, -999.00,  -999.0, -999.00,  -999.0
    31DSCG96_2,  P15S,   133,  1,    109,   1233,2,19960224,1127,-22.0007,-169.9980, 5587,   -999,   3816.4,   1.2990,  34.7188,2,  34.7196,2,   -999.0,9,  1.0050,    198.5,2,   112.67,2,    32.05,2,     0.00,2,     2.20,2, -999.000,9, -999.000,9,   -999.0,9,  -999.00,9,   -999.0,9,   -999.0,9,   -999.0,9,     7.61,2, -999.00,  -999.0, -999.00,  -999.0
    31DSCG96_2,  P15S,   133,  1,    108,   1227,2,19960224,1127,-22.0007,-169.9980, 5587,   -999,   4062.2,   1.1700,  34.7164,2,  34.7153,2,   -999.0,9,  0.8534,    202.3,2,   115.37,2,    32.06,2,     0.00,2,     2.20,2,    0.007,2,    0.004,2,   -999.0,9,  -999.00,9,   2259.8,2,   1034.4,3,   2366.3,2,     7.61,2, -999.00,  -999.0, -999.00,  -999.0
    31DSCG96_2,  P15S,   133,  1,    107,   1263,2,19960224,1127,-22.0007,-169.9980, 5587,   -999,   4314.1,   1.0801,  34.7127,2,  34.7135,2,   -999.0,9,  0.7388,    204.7,2,   117.96,2,    32.08,2,     0.00,2,     2.20,2, -999.000,9, -999.000,9,   -999.0,9,  -999.00,9,   -999.0,9,   -999.0,9,   -999.0,9,  -999.00,9, -999.00,  -999.0, -999.00,  -999.0
    31DSCG96_2,  P15S,   133,  1,    106,   1262,2,19960224,1127,-22.0007,-169.9980, 5587,   -999,   4566.1,   1.0389,  34.7103,2,  34.7114,2,   -999.0,9,  0.6706,    206.0,2,   119.76,2,    32.18,2,     0.00,2,     2.21,2, -999.000,9, -999.000,9,   -999.0,9,  -999.00,9,   2261.1,2,   1048.3,2,   2368.7,2,     7.61,2, -999.00,  -999.0, -999.00,  -999.0
    31DSCG96_2,  P15S,   133,  1,    105,   1264,2,19960224,1127,-22.0007,-169.9980, 5587,   -999,   4815.3,   1.0286,  34.7090,2,  34.7099,2,   -999.0,9,  0.6319,    206.4,2,   120.85,2,    32.23,2,     0.00,2,     2.21,2,    0.004,3,    0.004,2,   -999.0,9,  -999.00,9,   -999.0,9,   -999.0,9,   -999.0,9,     7.61,2, -999.00,  -999.0, -999.00,  -999.0
    31DSCG96_2,  P15S,   133,  1,    104,   1003,2,19960224,1127,-22.0007,-169.9980, 5587,   -999,   5067.6,   1.0424,  34.7082,2,  34.7099,2,   -999.0,9,  0.6154,    206.1,2,   121.18,2,    32.20,2,     0.00,2,     2.21,2, -999.000,9, -999.000,9,   -999.0,9,  -999.00,9,   -999.0,9,   -999.0,9,   -999.0,9,  -999.00,9, -999.00,  -999.0, -999.00,  -999.0
    31DSCG96_2,  P15S,   133,  1,    103,   1035,2,19960224,1127,-22.0007,-169.9980, 5587,   -999,   5321.3,   1.0685,  34.7077,2,  34.7085,2,   -999.0,9,  0.6097,    206.6,2,   121.52,2,    32.25,2,     0.00,2,     2.21,2,    0.009,2,    0.004,2,   -999.0,9,  -999.00,9,   2259.6,2,   -999.0,9,   2367.0,2,     7.61,3, -999.00,  -999.0, -999.00,  -999.0
    31DSCG96_2,  P15S,   133,  1,    102,   1030,2,19960224,1127,-22.0007,-169.9980, 5587,   -999,   5599.3,   1.1028,  34.7076,2,  34.7084,2,   -999.0,9,  0.6080,    206.4,2,   121.49,2,    32.23,2,     0.00,2,     2.21,2, -999.000,9, -999.000,9,   -999.0,9,  -999.00,9,   -999.0,9,   -999.0,9,   -999.0,9,     7.61,2, -999.00,  -999.0, -999.00,  -999.0
    31DSCG96_2,  P15S,   133,  1,    101,   1022,2,19960224,1127,-22.0007,-169.9980, 5587,   -999,   5729.7,   1.1158,  34.7071,2,  34.7079,2,   -999.0,9,  0.6038,    206.6,6,   121.73,6,    32.26,6,     0.00,6,     2.22,6,    0.012,6,    0.007,6,   -999.0,9,  -999.00,9,   2261.9,2,   1070.8,2,   2371.1,2,     7.61,2, -999.00,  -999.0, -999.00,  -999.0