BOTTLE,20220811CCHSIOAMB
EXPOCODE,SECT_ID,STNNBR,CASTNO,SAMPNO,BTLNBR,BTLNBR_FLAG_W,DATE,TIME,LATITUDE,LONGITUDE,DEPTH,CTDRAW,CTDPRS,CTDTMP,CTDSAL,CTDSAL_FLAG_W,SALNTY,SALNTY_FLAG_W,CTDOXY,CTDOXY_FLAG_W,THETA,OXYGEN,OXYGEN_FLAG_W,SILCAT,SILCAT_FLAG_W,NITRAT,NITRAT_FLAG_W,NITRIT,NITRIT_FLAG_W,PHSPHT,PHSPHT_FLAG_W,CFC-11,CFC-11_FLAG_W,CFC-12,CFC-12_FLAG_W,DELC14,DELC14_FLAG_W,DELC13,DELC13_FLAG_W,TCARBN,TCARBN_FLAG_W,PCO2,PCO2_FLAG_W,ALKALI,ALKALI_FLAG_W,PH,PH_FLAG_W,PCO2TMP,C14ERR,PH_TMP,C13ERR
,,,,,,,,,,,,DBAR,DBAR,ITS-90,PSS-78,,PSS-78,,UMOL/KG,,DEG C,UMOL/KG,,UMOL/KG,,UMOL/KG,,UMOL/KG,,UMOL/KG,,PMOL/KG,,PMOL/KG,,/MILLE,,/MILLE,,UMOL/KG,,UATM,,UMOL/KG,,,,DEG C,/MILLE,DEG C,/MILLE
    31DSCG96_2,  P15S,   176,  1,    116,   1259,2,19960308,0549, -8.2515,-168.6880, 4944,   -999,   3049.9,   1.6691,  34.6766,2,  34.6771,2,    151.0,2,  1.4437,    150.1,2,   135.89,6,    36.17,6,     0.00,6,     2.49,6,   -0.001,2,   -0.001,4,   -999.0,9,  -999.00,9,   2319.2,2,   1182.9,2,   2415.1,2,     7.58,2, -999.00,  -999.0, -999.00,  -999.0
    31DSCG96_2,  P15S,   176,  1,    115,   1264,2,19960308,0549, -8.2515,-168.6880, 4944,   -999,   3200.8,   1.6027,  34.6806,2,  34.6815,2,    154.6,2,  1.3640,    154.0,2,   135.89,6,    35.95,6,     0.00,6,     2.47,6,   -0.003,2,   -0.001,4,   -999.0,9,  -999.00,9,   2316.7,2,   1175.0,2,   2415.4,2,     7.58,2, -999.00,  -999.0, -999.00,  -999.0
    31DSCG96_2,  P15S,   176,  1,    114,   1017,2,19960308,0549, -8.2515,-168.6880, 4944,   -999,   3346.7,   1.5595,  34.6830,2,  34.6838,2,    157.9,2,  1.3074,    157.6,2,   135.49,6,    35.73,6,     0.00,6,     2.45,6,   -0.003,2,   -0.001,4,   -999.0,9,  -999.00,9,   2314.7,2,   1160.5,2,   2412.5,2,     7.59,2, -999.00,  -999.0, -999.00,  -999.0
    31DSCG96_2,  P15S,   176,  1,    113,   1035,2,19960308,0549, -8.2515,-168.6880, 4944,   -999,   3496.9,   1.5258,  34.6855,2,  34.6853,2,    161.3,2,  1.2593,    160.6,2,   134.86,6,    35.50,6,     0.00,6,     2.44,6,   -0.003,2,   -0.001,4,   -999.0,9,  -999.00,9,   2314.4,3,   1145.6,2,   2412.3,2,     7.59,2, -999.00,  -999.0, -999.00,  -999.0
    31DSCG96_2,  P15S,   176,  1,    112,   1217,2,19960308,0549, -8.2515,-168.6880, 4944,   -999,   3648.1,   1.4940,  34.6875,2,  34.6827,3,    162.6,2,  1.2126,    157.8,3,   135.40,6,    35.75,6,     0.00,6,     2.46,6,   -0.002,2,   -0.001,4,   -999.0,9,  -999.00,9,   2308.7,2,   1155.6,2,   -999.0,9,     7.59,3, -999.00,  -999.0, -999.00,  -999.0
    31DSCG96_2,  P15S,   176,  1,    111,   1226,2,19960308,0549, -8.2515,-168.6880, 4944,   -999,   3798.5,   1.4574,  34.6897,2,  34.6902,2,    165.8,2,  1.1612,    165.4,2,   135.15,6,    35.26,6,     0.00,6,     2.42,6,   -0.001,2,   -0.001,4,   -999.0,9,  -999.00,9,   2309.5,2,   1143.7,2,   2410.4,2,     7.59,2, -999.00,  -999.0, -999.00,  -999.0
    31DSCG96_2,  P15S,   176,  1,    110,   1301,2,19960308,0549, -8.2515,-168.6880, 4944,   -999,   3948.3,   1.4375,  34.6911,2,  34.6922,2,    165.1,2,  1.1258,    165.3,2,   136.72,6,    35.28,6,     0.00,6,     2.42,6,   -0.001,2,   -0.001,4,   -999.0,9,  -999.00,9,   2309.1,2,   1144.4,2,   2412.6,2,     7.59,2, -999.00,  -999.0, -999.00,  -999.0
    31DSCG96_2,  P15S,   176,  1,    109,   1027,2,19960308,0549, -8.2515,-168.6880, 4944,   -999,   4100.0,   1.4247,  34.6929,2,  34.6924,2,    168.9,2,  1.0969,    169.9,2,   133.67,6,    34.95,6,     0.00,6,     2.39,6,   -0.001,2,   -0.001,4,   -999.0,9,  -999.00,9,   2302.3,2,   1155.4,2,   2408.1,2,     7.60,2, -999.00,  -999.0, -999.00,  -999.0
    31DSCG96_2,  P15S,   176,  1,    108,   1227,2,19960308,0549, -8.2515,-168.6880, 4944,   -999,   4250.9,   1.4048,  34.6946,2,  34.6938,2,    171.1,2,  1.0609,    170.6,2,   134.64,6,    34.85,6,     0.00,6,     2.39,6,    0.000,2,   -0.001,4,   -999.0,9,  -999.00,9,   2303.7,2,   1112.0,2,   2406.4,2,     7.60,2, -999.00,  -999.0, -999.00,  -999.0
    31DSCG96_2,  P15S,   176,  1,    107,   1242,2,19960308,0549, -8.2515,-168.6880, 4944,   -999,   4401.5,   1.3542,  34.6975,2,  34.6972,2,    177.0,2,  0.9948,    176.9,2,   131.77,6,    34.41,6,     0.00,6,     2.36,6,    0.001,2,   -0.001,4,   -999.0,9,  -999.00,9,   2295.8,2,   1096.3,2,   2401.3,2,     7.60,2, -999.00,  -999.0, -999.00,  -999.0
    31DSCG96_2,  P15S,   176,  1,    106,   1262,2,19960308,0549, -8.2515,-168.6880, 4944,   -999,   4548.5,   1.0576,  34.7089,2,  34.7091,2,    204.4,2,  0.6907,    203.1,2,   120.18,6,    32.45,6,     0.00,6,     2.21,6,    0.003,2,   -0.001,4,   -999.0,9,  -999.00,9,   2261.6,2,   1057.4,2,   2369.0,2,     7.61,2, -999.00,  -999.0, -999.00,  -999.0
    31DSCG96_2,  P15S,   176,  1,    105,   1009,2,19960308,0549, -8.2515,-168.6880, 4944,   -999,   4648.7,   1.0559,  34.7088,2,  34.7084,2,    205.2,2,  0.6776,    204.5,2,   120.01,6,    32.41,6,     0.00,6,     2.21,6, -999.000,5, -999.000,5,   -999.0,9,  -999.00,9,   2260.7,2,   1057.5,2,   2365.4,2,     7.61,2, -999.00,  -999.0, -999.00,  -999.0
    31DSCG96_2,  P15S,   176,  1,    104,   1003,2,19960308,0549, -8.2515,-168.6880, 4944,   -999,   4749.9,   1.0563,  34.7091,2,  34.7082,2,    205.2,2,  0.6664,    205.2,2,   119.98,6,    32.35,6,     0.00,6,     2.21,6,    0.007,2,   -0.001,4,   -999.0,9,  -999.00,9,   2261.0,2,   1065.1,2,   2370.3,2,     7.61,2, -999.00,  -999.0, -999.00,  -999.0
    31DSCG96_2,  P15S,   176,  1,    103,   1302,2,19960308,0549, -8.2515,-168.6880, 4944,   -999,   4848.8,   1.0684,  34.7089,2,  34.7080,2,    205.1,2,  0.6665,    204.4,2,   120.06,6,    32.38,6,     0.00,6,     2.22,6,    0.003,2,   -0.001,4,   -999.0,9,  -999.00,9,   2260.4,2,   1068.9,2,   2369.9,2,     7.61,2, -999.00,  -999.0, -999.00,  -999.0
    31DSCG96_2,  P15S,   176,  1,    102,   1030,2,19960308,0549, -8.2515,-168.6880, 4944,   -999,   4949.3,   1.0810,  34.7089,2,  34.7082,2,    205.1,2,  0.6668,    205.5,2,   120.06,6,    32.38,6,     0.00,6,     2.21,6,    0.005,2,   -0.001,4,   -999.0,9,  -999.00,9,   2260.5,2,   1066.4,2,   2368.4,2,     7.61,2, -999.00,  -999.0, -999.00,  -999.0
    31DSCG96_2,  P15S,   176,  1,    101,   1022,2,19960308,0549, -8.2515,-168.6880, 4944,   -999,   5049.4,   1.0922,  34.7089,2,  34.7162,3,    205.4,2,  0.6656,    205.8,6,   120.10,2,    32.40,2,     0.00,2,     2.21,2,    0.005,6,   -0.001,4,   -999.0,9,  -999.00,9,   2260.7,2,   1091.5,2,   2369.5,2,     7.61,2, -999.00,  -999.0, -999.00,  -999.0
    31DSCG96_2,  P15S,   177,  1,    113,   1035,2,19960308,1642,-10.1455,-168.9807, 4628,   -999,   2948.5,   1.6593,  34.6762,2,  34.6758,2,    150.6,2,  1.4439,    151.5,6,   134.60,6,    36.15,6,     0.00,6,     2.49,6, -999.000,9, -999.000,9,   -999.0,9,  -999.00,9,   2316.4,2,   1184.0,6,   2414.0,6,     7.58,2, -999.00,  -999.0, -999.00,  -999.0
    31DSCG96_2,  P15S,   177,  1,    112,   1217,2,19960308,1642,-10.1455,-168.9807, 4628,   -999,   3100.1,   1.6331,  34.6783,2,  34.6765,2,    153.2,2,  1.4036,    153.2,2,   134.82,6,    35.98,6,     0.00,6,     2.47,6, -999.000,9, -999.000,9,   -999.0,9,  -999.00,9,   2315.6,2,   1176.3,2,   2412.2,2,     7.58,2, -999.00,  -999.0, -999.00,  -999.0
    31DSCG96_2,  P15S,   177,  1,    111,   1226,2,19960308,1642,-10.1455,-168.9807, 4628,   -999,   3249.2,   1.5918,  34.6809,2,  34.6810,2,    155.5,2,  1.3486,    156.3,2,   134.60,6,    35.84,6,     0.00,6,     2.46,6,   -0.001,2,    0.000,4,   -999.0,9,  -999.00,9,   2313.4,2,   1166.6,2,   2409.9,2,     7.58,2, -999.00,  -999.0, -999.00,  -999.0
    31DSCG96_2,  P15S,   177,  1,    110,   1301,2,19960308,1642,-10.1455,-168.9807, 4628,   -999,   3400.5,   1.5465,  34.6838,2,  34.6854,2,    159.1,2,  1.2893,    159.4,6,   134.52,6,    35.64,6,     0.00,6,     2.45,6, -999.000,9, -999.000,9,   -999.0,9,  -999.00,9,   2311.5,2,   1164.9,2,   2410.3,2,     7.59,2, -999.00,  -999.0, -999.00,  -999.0
    31DSCG96_2,  P15S,   177,  1,    109,   1027,2,19960308,1642,-10.1455,-168.9807, 4628,   -999,   3549.2,   1.5236,  34.6855,2,  34.6855,2,    161.3,2,  1.2517,    161.3,2,   134.45,6,    35.50,6,     0.00,6,     2.43,6,   -0.001,2,    0.083,4,   -999.0,9,  -999.00,9,   2310.3,2,   1160.9,2,   2409.4,2,     7.59,2, -999.00,  -999.0, -999.00,  -999.0
    31DSCG96_2,  P15S,   177,  1,    108,   1227,2,19960308,1642,-10.1455,-168.9807, 4628,   -999,   3700.1,   1.5048,  34.6872,2,  34.6883,2,    163.5,2,  1.2178,    163.3,2,   134.02,6,    35.37,6,     0.00,6,     2.42,6,    0.000,2,    0.000,4,   -999.0,9,  -999.00,9,   2308.8,2,   1171.9,2,   2408.5,2,     7.59,2, -999.00,  -999.0, -999.00,  -999.0
    31DSCG96_2,  P15S,   177,  1,    107,   1242,2,19960308,1642,-10.1455,-168.9807, 4628,   -999,   3848.0,   1.4698,  34.6895,2,  34.6904,2,    166.3,2,  1.1680,    166.0,2,   133.94,6,    35.23,6,     0.00,6,     2.41,6,   -0.001,2,    0.000,4,   -999.0,9,  -999.00,9,   2306.8,2,   1119.2,2,   2405.9,2,     7.59,2, -999.00,  -999.0, -999.00,  -999.0
    31DSCG96_2,  P15S,   177,  1,    106,   1262,2,19960308,1642,-10.1455,-168.9807, 4628,   -999,   3998.7,   1.4451,  34.6914,2,  34.6942,2,    168.0,2,  1.1278,    167.4,2,   134.46,6,    35.15,6,     0.00,6,     2.40,6,   -0.001,2,    0.000,4,   -999.0,9,  -999.00,9,   2306.5,2,   1118.9,2,   2406.6,2,     7.60,2, -999.00,  -999.0, -999.00,  -999.0
    31DSCG96_2,  P15S,   177,  1,    105,   1009,2,19960308,1642,-10.1455,-168.9807, 4628,   -999,   4144.6,   1.3773,  34.6960,2,  34.6948,2,    174.7,2,  1.0460,    175.7,2,   130.72,6,    34.53,6,     0.00,6,     2.36,6,    0.014,4,    0.085,4,   -999.0,9,  -999.00,9,   2297.1,2,   1101.0,2,   2396.5,2,     7.60,2, -999.00,  -999.0, -999.00,  -999.0
    31DSCG96_2,  P15S,   177,  1,    104,   1003,2,19960308,1642,-10.1455,-168.9807, 4628,   -999,   4299.0,   1.2274,  34.7018,2,  34.7029,2,    188.2,2,  0.8834,    188.7,2,   125.33,6,    33.57,6,     0.00,6,     2.29,6,    0.000,6,    0.000,4,   -999.0,9,  -999.00,9,   2280.3,2,   1079.0,2,   2386.7,2,     7.61,2, -999.00,  -999.0, -999.00,  -999.0
    31DSCG96_2,  P15S,   177,  1,    103,   1302,2,19960308,1642,-10.1455,-168.9807, 4628,   -999,   4450.8,   1.1608,  34.7057,2,  34.7056,2,    195.4,2,  0.8018,    196.3,2,   122.25,6,    32.97,6,     0.00,6,     2.25,6,    0.002,2,    0.084,4,   -999.0,9,  -999.00,9,   2271.5,2,   1070.0,2,   2377.5,2,     7.61,2, -999.00,  -999.0, -999.00,  -999.0
    31DSCG96_2,  P15S,   177,  1,    102,   1030,2,19960308,1642,-10.1455,-168.9807, 4628,   -999,   4600.6,   1.0588,  34.7087,2,  34.7089,2,    203.8,2,  0.6859,    204.0,2,   120.13,6,    32.53,6,     0.00,6,     2.21,6,    0.002,2,    0.000,4,   -999.0,9,  -999.00,9,   2263.0,2,   1057.7,2,   2370.4,2,     7.61,2, -999.00,  -999.0, -999.00,  -999.0
    31DSCG96_2,  P15S,   177,  1,    101,   1022,2,19960308,1642,-10.1455,-168.9807, 4628,   -999,   4705.6,   1.0551,  34.7087,2,  34.7109,2,    204.9,2,  0.6702,    205.1,2,   120.21,6,    32.49,6,     0.00,6,     2.21,6,    0.004,6,    0.084,4,   -999.0,9,  -999.00,9,   2262.1,2,   1079.6,2,   2369.5,2,     7.61,2, -999.00,  -999.0, -999.00,  -999.0
    31DSCG96_2,  P15S,   178,  1,    117,   1263,2,19960308,2108,-10.0680,-169.2117, 5226,   -999,   3051.7,   1.6858,  34.6752,2,  34.6753,2,    151.2,2,  1.4599,    151.3,2,   134.42,2,    36.39,2,     0.00,2,     2.48,2, -999.000,9, -999.000,9,   -999.0,9,  -999.00,9,   2317.0,2,   1168.5,2,   2412.1,2,     7.58,2, -999.00,  -999.0, -999.00,  -999.0
    31DSCG96_2,  P15S,   178,  1,    116,   1259,2,19960308,2108,-10.0680,-169.2117, 5226,   -999,   3199.7,   1.6352,  34.6786,2,  34.6777,2,    153.0,2,  1.3959,    152.5,2,   135.95,2,    36.33,2,     0.00,2,     2.48,2, -999.000,9, -999.000,9,   -999.0,9,  -999.00,9,   2316.8,2,   1177.4,2,   2414.8,2,     7.58,2, -999.00,  -999.0, -999.00,  -999.0
    31DSCG96_2,  P15S,   178,  1,    115,   1264,2,19960308,2108,-10.0680,-169.2117, 5226,   -999,   3348.8,   1.5919,  34.6814,2,  34.6811,2,    156.8,2,  1.3388,    156.7,6,   135.05,2,    36.04,2,     0.00,2,     2.46,2, -999.000,9, -999.000,9,   -999.0,9,  -999.00,9,   2312.0,2,   1167.4,2,   2412.4,2,     7.58,2, -999.00,  -999.0, -999.00,  -999.0
    31DSCG96_2,  P15S,   178,  1,    114,   1017,2,19960308,2108,-10.0680,-169.2117, 5226,   -999,   3499.3,   1.5681,  34.6833,2,  34.6836,2,    159.4,2,  1.3002,    160.1,2,   134.61,2,    35.88,2,     0.00,2,     2.44,2,    0.000,2,    0.000,2,   -999.0,9,  -999.00,9,   2311.6,2,   1162.3,2,   2408.7,2,     7.59,2, -999.00,  -999.0, -999.00,  -999.0
    31DSCG96_2,  P15S,   178,  1,    113,   1035,2,19960308,2108,-10.0680,-169.2117, 5226,   -999,   3650.3,   1.5348,  34.6857,2,  34.6861,2,    162.1,2,  1.2521,    162.0,2,   134.16,2,    35.68,2,     0.00,2,     2.43,2, -999.000,9, -999.000,9,   -999.0,9,  -999.00,9,   2308.0,2,   1155.1,2,   2409.9,2,     7.59,2, -999.00,  -999.0, -999.00,  -999.0
    31DSCG96_2,  P15S,   178,  1,    112,   1217,2,19960308,2108,-10.0680,-169.2117, 5226,   -999,   3801.0,   1.4980,  34.6887,2,  34.6882,2,    165.8,2,  1.2005,    165.5,2,   132.96,2,    35.39,2,     0.00,2,     2.41,2,   -0.001,2,    0.000,2,   -999.0,9,  -999.00,9,   2303.3,2,   1142.5,2,   2409.0,2,     7.59,2, -999.00,  -999.0, -999.00,  -999.0
    31DSCG96_2,  P15S,   178,  1,    111,   1226,2,19960308,2108,-10.0680,-169.2117, 5226,   -999,   3949.6,   1.4373,  34.6927,2,  34.6941,2,    170.0,2,  1.1255,    169.8,2,   131.31,2,    34.93,2,     0.00,2,     2.38,2,    0.000,2,    0.000,2,   -999.0,9,  -999.00,9,   2297.9,2,   1129.3,2,   2399.0,2,     7.59,2, -999.00,  -999.0, -999.00,  -999.0
    31DSCG96_2,  P15S,   178,  1,    110,   1301,2,19960308,2108,-10.0680,-169.2117, 5226,   -999,   4098.9,   1.3432,  34.6986,2,  34.6987,2,    178.8,2,  1.0178,    180.5,2,   127.64,2,    34.23,2,     0.00,2,     2.33,2, -999.000,9, -999.000,9,   -999.0,9,  -999.00,9,   -999.0,9,   -999.0,9,   -999.0,9,  -999.00,9, -999.00,  -999.0, -999.00,  -999.0
    31DSCG96_2,  P15S,   178,  1,    109,   1027,2,19960308,2108,-10.0680,-169.2117, 5226,   -999,   4249.4,   1.2579,  34.7078,2,  34.7070,2,    191.4,2,  0.9185,    193.5,6,   119.95,2,    33.12,2,     0.00,2,     2.25,2,    0.002,2,    0.000,2,   -999.0,9,  -999.00,9,   2270.8,2,   1109.0,2,   2375.1,2,     7.61,2, -999.00,  -999.0, -999.00,  -999.0
    31DSCG96_2,  P15S,   178,  1,    108,   1227,2,19960308,2108,-10.0680,-169.2117, 5226,   -999,   4401.2,   1.1326,  34.7086,2,  34.7091,2,    199.3,2,  0.7800,    199.3,2,   119.87,2,    32.83,2,     0.00,2,     2.23,2,    0.002,2,    0.003,2,   -999.0,9,  -999.00,9,   2266.8,2,   1077.0,2,   2371.8,2,     7.61,2, -999.00,  -999.0, -999.00,  -999.0
    31DSCG96_2,  P15S,   178,  1,    107,   1242,2,19960308,2108,-10.0680,-169.2117, 5226,   -999,   4549.5,   1.0772,  34.7084,2,  34.7098,2,    203.3,2,  0.7096,    202.9,2,   120.30,2,    32.67,2,     0.00,2,     2.22,2,    0.002,2,   -0.001,2,   -999.0,9,  -999.00,9,   2263.2,2,   1066.0,2,   2368.4,2,     7.61,2, -999.00,  -999.0, -999.00,  -999.0
    31DSCG96_2,  P15S,   178,  1,    106,   1262,2,19960308,2108,-10.0680,-169.2117, 5226,   -999,   4701.2,   1.0556,  34.7090,2,  34.7096,2,    205.7,2,  0.6712,    205.0,2,   120.10,2,    32.57,2,     0.00,2,     2.21,2,    0.003,2,    0.002,2,   -999.0,9,  -999.00,9,   2262.5,2,   1070.2,2,   2365.5,2,     7.61,2, -999.00,  -999.0, -999.00,  -999.0
    31DSCG96_2,  P15S,   178,  1,    105,   1009,2,19960308,2108,-10.0680,-169.2117, 5226,   -999,   4849.8,   1.0581,  34.7090,2,  34.7097,2,    206.4,2,  0.6564,    206.3,6,   120.16,2,    32.45,2,     0.00,2,     2.21,2, -999.000,9, -999.000,9,   -999.0,9,  -999.00,9,   2261.6,2,   1067.7,2,   2368.7,2,     7.61,2, -999.00,  -999.0, -999.00,  -999.0
    31DSCG96_2,  P15S,   178,  1,    104,   1003,2,19960308,2108,-10.0680,-169.2117, 5226,   -999,   5000.4,   1.0739,  34.7087,2,  34.7088,2,    205.9,2,  0.6538,    205.6,2,   120.20,2,    32.45,2,     0.00,2,     2.21,2,    0.005,2,    0.004,2,   -999.0,9,  -999.00,9,   2262.0,2,   1071.0,2,   2371.4,2,     7.61,2, -999.00,  -999.0, -999.00,  -999.0
    31DSCG96_2,  P15S,   178,  1,    103,   1302,2,19960308,2108,-10.0680,-169.2117, 5226,   -999,   5100.1,   1.0852,  34.7087,2,  34.7089,2,    205.6,2,  0.6528,    201.4,3,   120.21,2,    32.46,2,     0.00,2,     2.21,2,    0.003,2,    0.001,2,   -999.0,9,  -999.00,9,   2261.7,2,   1072.8,2,   2368.0,2,     7.61,2, -999.00,  -999.0, -999.00,  -999.0
    31DSCG96_2,  P15S,   178,  1,    102,   1030,2,19960308,2108,-10.0680,-169.2117, 5226,   -999,   5200.9,   1.0962,  34.7088,2,  34.7096,2,    205.5,2,  0.6512,    205.9,2,   120.25,2,    32.41,2,     0.00,2,     2.21,2,    0.004,2,    0.002,2,   -999.0,9,  -999.00,9,   2260.9,2,   1075.4,2,   2366.3,2,     7.61,2, -999.00,  -999.0, -999.00,  -999.0
    31DSCG96_2,  P15S,   178,  1,    101,   1022,2,19960308,2108,-10.0680,-169.2117, 5226,   -999,   5335.8,   1.1121,  34.7087,2,  34.7106,2,    204.8,2,  0.6499,    206.4,2,   120.21,6,    32.48,6,     0.00,6,     2.20,6,    0.005,6,    0.003,6,   -999.0,9,  -999.00,9,   2261.3,2,   1089.6,2,   2365.9,2,     7.61,2, -999.00,  -999.0, -999.00,  -999.0