BOTTLE,20220811CCHSIOAMB
EXPOCODE,SECT_ID,STNNBR,CASTNO,SAMPNO,BTLNBR,BTLNBR_FLAG_W,DATE,TIME,LATITUDE,LONGITUDE,DEPTH,CTDRAW,CTDPRS,CTDTMP,CTDSAL,CTDSAL_FLAG_W,SALNTY,SALNTY_FLAG_W,CTDOXY,CTDOXY_FLAG_W,THETA,OXYGEN,OXYGEN_FLAG_W,SILCAT,SILCAT_FLAG_W,NITRAT,NITRAT_FLAG_W,NITRIT,NITRIT_FLAG_W,PHSPHT,PHSPHT_FLAG_W,CFC-11,CFC-11_FLAG_W,CFC-12,CFC-12_FLAG_W,DELC14,DELC14_FLAG_W,DELC13,DELC13_FLAG_W,TCARBN,TCARBN_FLAG_W,PCO2,PCO2_FLAG_W,ALKALI,ALKALI_FLAG_W,PH,PH_FLAG_W,PCO2TMP,C14ERR,PH_TMP,C13ERR
,,,,,,,,,,,,DBAR,DBAR,ITS-90,PSS-78,,PSS-78,,UMOL/KG,,DEG C,UMOL/KG,,UMOL/KG,,UMOL/KG,,UMOL/KG,,UMOL/KG,,PMOL/KG,,PMOL/KG,,/MILLE,,/MILLE,,UMOL/KG,,UATM,,UMOL/KG,,,,DEG C,/MILLE,DEG C,/MILLE
    31DSCG96_1,  P15S,    65,  1,    124,    429,2,19960127,1221,-51.0027,-170.0062, 5239,   -999,      9.9,  10.2959,  34.2852,2,  34.2877,2,    286.1,2, 10.2948,    284.8,2,     0.81,2,    12.77,2,     0.15,2,     0.93,2,    3.904,2,    2.040,2,     29.9,2,  -999.00,9,   -999.0,9,   -999.0,9,   -999.0,9,     7.87,2, -999.00,     3.8, -999.00,  -999.0
    31DSCG96_1,  P15S,    65,  1,    123,    428,2,19960127,1221,-51.0027,-170.0062, 5239,   -999,     28.3,  10.2789,  34.2841,2,  34.2846,2,    284.8,2, 10.2756,    285.1,6,     0.83,2,    12.77,2,     0.15,2,     0.94,2,    3.907,2,    2.073,2,   -999.0,9,  -999.00,9,   -999.0,9,   -999.0,9,   -999.0,9,     7.88,2, -999.00,  -999.0, -999.00,  -999.0
    31DSCG96_1,  P15S,    65,  1,    122,    407,2,19960127,1221,-51.0027,-170.0062, 5239,   -999,     63.7,   8.7235,  34.3546,2,  34.3272,3,    287.1,2,  8.7168,    288.2,2,     1.79,2,    13.38,2,     0.18,2,     1.06,2,    4.145,6,    2.145,6,   -999.0,9,  -999.00,9,   -999.0,9,   -999.0,9,   -999.0,9,  -999.00,9, -999.00,  -999.0, -999.00,  -999.0
    31DSCG96_1,  P15S,    65,  1,    121,    417,2,19960127,1221,-51.0027,-170.0062, 5239,   -999,    114.9,   7.0818,  34.3428,2,  34.3465,2,    274.8,2,  7.0711,    277.6,6,     5.67,2,    18.77,2,     0.18,2,     1.34,2,    4.212,2,    2.179,2,   -999.0,9,  -999.00,9,   -999.0,9,   -999.0,9,   -999.0,9,     7.79,2, -999.00,  -999.0, -999.00,  -999.0
    31DSCG96_1,  P15S,    65,  1,    120,    405,2,19960127,1221,-51.0027,-170.0062, 5239,   -999,    177.5,   6.6984,  34.3370,2,  34.3373,2,    276.7,2,  6.6824,    279.6,2,     6.34,2,    19.62,2,     0.04,2,     1.37,2,    4.226,2,    2.155,2,   -999.0,9,  -999.00,9,   -999.0,9,   -999.0,9,   -999.0,9,     7.78,2, -999.00,  -999.0, -999.00,  -999.0
    31DSCG96_1,  P15S,    65,  1,    119,    416,2,19960127,1221,-51.0027,-170.0062, 5239,   -999,    213.0,   6.5665,  34.3281,2,  34.3274,2,    278.4,2,  6.5474,    280.5,2,     6.68,2,    19.83,2,     0.02,2,     1.39,2,    4.172,2,    2.145,2,   -999.0,9,  -999.00,9,   -999.0,9,   -999.0,9,   -999.0,9,     7.78,2, -999.00,  -999.0, -999.00,  -999.0
    31DSCG96_1,  P15S,    65,  1,    118,    420,2,19960127,1221,-51.0027,-170.0062, 5239,   -999,    324.2,   6.1108,  34.2832,2,  34.2843,2,    270.5,2,  6.0827,    273.8,2,     8.27,2,    21.52,2,     0.01,2,     1.50,2,    3.936,2,    2.000,2,   -999.0,9,  -999.00,9,   -999.0,9,   -999.0,9,   -999.0,9,     7.76,2, -999.00,  -999.0, -999.00,  -999.0
    31DSCG96_1,  P15S,    65,  1,    117,    424,2,19960127,1221,-51.0027,-170.0062, 5239,   -999,    424.9,   5.4113,  34.2178,2,  34.2166,2,    268.5,2,  5.3765,    282.5,2,     9.38,2,    22.82,2,     0.01,2,     1.59,2,    4.216,2,    2.126,2,   -999.0,9,  -999.00,9,   -999.0,9,   -999.0,9,   -999.0,9,     7.75,2, -999.00,  -999.0, -999.00,  -999.0
    31DSCG96_1,  P15S,    65,  1,    116,    409,2,19960127,1221,-51.0027,-170.0062, 5239,   -999,    523.7,   5.3040,  34.2638,2,  34.2724,3,    259.6,2,  5.2611,    245.0,2,    16.32,2,    25.99,2,     0.01,2,     1.79,2,    3.008,2,    1.497,2,   -999.0,9,  -999.00,9,   -999.0,9,   -999.0,9,   -999.0,9,     7.70,2, -999.00,  -999.0, -999.00,  -999.0
    31DSCG96_1,  P15S,    65,  1,    115,    413,2,19960127,1221,-51.0027,-170.0062, 5239,   -999,    623.8,   4.7325,  34.2569,2,  34.2599,2,    238.3,2,  4.6837,    236.3,2,    20.83,2,    27.95,2,     0.01,2,     1.92,2,    2.719,2,    1.321,2,   -999.0,9,  -999.00,9,   -999.0,9,   -999.0,9,   -999.0,9,     7.68,2, -999.00,  -999.0, -999.00,  -999.0
    31DSCG96_1,  P15S,    65,  1,    114,    419,2,19960127,1221,-51.0027,-170.0062, 5239,   -999,    727.6,   4.2546,  34.2843,2,  34.2853,2,    219.1,2,  4.1998,    221.6,2,    28.43,2,    30.07,2,     0.00,2,     2.05,2,    2.114,6,    1.015,6,   -999.0,9,  -999.00,9,   -999.0,9,   -999.0,9,   -999.0,9,  -999.00,9, -999.00,  -999.0, -999.00,  -999.0
    31DSCG96_1,  P15S,    65,  1,    113,    434,2,19960127,1221,-51.0027,-170.0062, 5239,   -999,    856.9,   3.7212,  34.3272,2,  34.3286,2,    208.3,2,  3.6593,    208.0,2,    39.14,2,    31.94,2,     0.00,2,     2.19,2,    1.476,2,    0.708,2,   -999.0,9,  -999.00,9,   -999.0,9,   -999.0,9,   -999.0,9,     7.62,2, -999.00,  -999.0, -999.00,  -999.0
    31DSCG96_1,  P15S,    65,  1,    112,    404,2,19960127,1221,-51.0027,-170.0062, 5239,   -999,   1105.3,   2.9616,  34.4053,2,  34.4047,2,    190.4,2,  2.8861,    192.2,2,    54.65,2,    33.91,2,     0.00,2,     2.32,2,    0.967,2,    0.473,2,   -999.0,9,  -999.00,9,   -999.0,9,   -999.0,9,   -999.0,9,     7.58,2, -999.00,  -999.0, -999.00,  -999.0
    31DSCG96_1,  P15S,    65,  1,    111,    427,2,19960127,1221,-51.0027,-170.0062, 5239,   -999,   1504.4,   2.5291,  34.5748,2,  34.5746,2,    173.1,2,  2.4263,    172.8,2,    75.86,2,    34.18,2,     0.00,2,     2.34,2,    0.255,2,    0.128,2,   -999.0,9,  -999.00,9,   -999.0,9,   -999.0,9,   -999.0,9,     7.57,2, -999.00,  -999.0, -999.00,  -999.0
    31DSCG96_1,  P15S,    65,  1,    110,    401,2,19960127,1221,-51.0027,-170.0062, 5239,   -999,   1897.8,   2.2703,  34.6763,2,  34.6770,2,    177.2,2,  2.1383,    177.8,2,    83.03,2,    32.84,2,     0.00,2,     2.25,2,    0.104,6,    0.050,6,   -999.0,9,  -999.00,9,   -999.0,9,   -999.0,9,   -999.0,9,     7.58,2, -999.00,  -999.0, -999.00,  -999.0
    31DSCG96_1,  P15S,    65,  1,    109,    435,2,19960127,1221,-51.0027,-170.0062, 5239,   -999,   2301.7,   2.0504,  34.7225,2,  34.7226,2,    186.6,2,  1.8868,    187.0,2,    87.61,2,    31.76,2,     0.00,2,     2.17,2,    0.055,2,    0.023,2,   -999.0,9,  -999.00,9,   -999.0,9,   -999.0,9,   -999.0,9,     7.60,3, -999.00,  -999.0, -999.00,  -999.0
    31DSCG96_1,  P15S,    65,  1,    108,    440,2,19960127,1221,-51.0027,-170.0062, 5239,   -999,   2696.8,   1.7726,  34.7364,2,  34.7374,2,    194.5,2,  1.5782,    193.7,2,    95.20,2,    31.40,2,     0.00,2,     2.15,2,    0.035,2,    0.021,2,   -999.0,9,  -999.00,9,   -999.0,9,   -999.0,9,   -999.0,9,     7.61,2, -999.00,  -999.0, -999.00,  -999.0
    31DSCG96_1,  P15S,    65,  1,    107,    436,2,19960127,1221,-51.0027,-170.0062, 5239,   -999,   3103.8,   1.4798,  34.7321,2,  34.7332,2,    199.4,2,  1.2532,    198.8,2,   103.96,2,    31.65,2,     0.00,2,     2.16,2,    0.028,2,    0.016,2,   -999.0,9,  -999.00,9,   -999.0,9,   -999.0,9,   -999.0,9,     7.61,2, -999.00,  -999.0, -999.00,  -999.0
    31DSCG96_1,  P15S,    65,  1,    106,    441,2,19960127,1221,-51.0027,-170.0062, 5239,   -999,   3505.2,   1.2403,  34.7234,2,  34.7251,2,    203.1,2,  0.9799,    202.6,2,   111.27,2,    31.87,2,     0.00,2,     2.18,2,    0.027,2,    0.029,4,   -999.0,9,  -999.00,9,   -999.0,9,   -999.0,9,   -999.0,9,     7.61,2, -999.00,  -999.0, -999.00,  -999.0
    31DSCG96_1,  P15S,    65,  1,    105,    423,2,19960127,1221,-51.0027,-170.0062, 5239,   -999,   3898.0,   1.0520,  34.7145,2,  34.7152,2,    206.7,2,  0.7563,    206.2,2,   117.21,2,    32.16,2,     0.00,2,     2.20,2,    0.039,2,    0.019,2,   -999.0,9,  -999.00,9,   -999.0,9,   -999.0,9,   -999.0,9,     7.61,2, -999.00,  -999.0, -999.00,  -999.0
    31DSCG96_1,  P15S,    65,  1,    104,    433,2,19960127,1221,-51.0027,-170.0062, 5239,   -999,   4302.7,   0.9388,  34.7081,2,  34.7088,2,    209.2,2,  0.6030,    208.3,2,   121.36,6,    32.34,6,     0.00,6,     2.21,2,    0.054,2,    0.026,2,   -999.0,9,  -999.00,9,   -999.0,9,   -999.0,9,   -999.0,9,     7.61,2, -999.00,  -999.0, -999.00,  -999.0
    31DSCG96_1,  P15S,    65,  1,    103,    439,2,19960127,1221,-51.0027,-170.0062, 5239,   -999,   4701.8,   0.9194,  34.7056,2,  34.7068,2,    210.1,2,  0.5395,    210.3,2,   123.21,6,    32.42,6,     0.00,6,     2.21,2,    0.065,2,    0.034,2,   -999.0,9,  -999.00,9,   -999.0,9,   -999.0,9,   -999.0,9,     7.61,2, -999.00,  -999.0, -999.00,  -999.0
    31DSCG96_1,  P15S,    65,  1,    102,    414,2,19960127,1221,-51.0027,-170.0062, 5239,   -999,   5095.9,   0.9240,  34.7034,2,  34.7040,2,    210.2,2,  0.4977,    209.9,2,   124.56,6,    32.48,6,     0.00,6,     2.21,2,    0.087,2,    0.050,2,   -999.0,9,  -999.00,9,   -999.0,9,   -999.0,9,   -999.0,9,     7.61,2, -999.00,  -999.0, -999.00,  -999.0
    31DSCG96_1,  P15S,    65,  1,    101,    406,2,19960127,1221,-51.0027,-170.0062, 5239,   -999,   5317.8,   0.9501,  34.7032,2,  34.7058,2,    210.5,2,  0.4960,    210.3,2,   124.73,6,    32.53,6,     0.00,6,     2.22,6,    0.090,6,    0.049,6,   -999.0,9,  -999.00,9,   -999.0,9,   -999.0,9,   -999.0,9,     7.61,2, -999.00,  -999.0, -999.00,  -999.0