BOTTLE,20220811CCHSIOAMB
EXPOCODE,SECT_ID,STNNBR,CASTNO,SAMPNO,BTLNBR,BTLNBR_FLAG_W,DATE,TIME,LATITUDE,LONGITUDE,DEPTH,CTDRAW,CTDPRS,CTDTMP,CTDSAL,CTDSAL_FLAG_W,SALNTY,SALNTY_FLAG_W,CTDOXY,CTDOXY_FLAG_W,THETA,OXYGEN,OXYGEN_FLAG_W,SILCAT,SILCAT_FLAG_W,NITRAT,NITRAT_FLAG_W,NITRIT,NITRIT_FLAG_W,PHSPHT,PHSPHT_FLAG_W,CFC-11,CFC-11_FLAG_W,CFC-12,CFC-12_FLAG_W,DELC14,DELC14_FLAG_W,DELC13,DELC13_FLAG_W,TCARBN,TCARBN_FLAG_W,PCO2,PCO2_FLAG_W,ALKALI,ALKALI_FLAG_W,PH,PH_FLAG_W,PCO2TMP,C14ERR,PH_TMP,C13ERR
,,,,,,,,,,,,DBAR,DBAR,ITS-90,PSS-78,,PSS-78,,UMOL/KG,,DEG C,UMOL/KG,,UMOL/KG,,UMOL/KG,,UMOL/KG,,UMOL/KG,,PMOL/KG,,PMOL/KG,,/MILLE,,/MILLE,,UMOL/KG,,UATM,,UMOL/KG,,,,DEG C,/MILLE,DEG C,/MILLE
    31DSCG96_2,  P15S,   123,  1,    136,   1245,2,19960221,1202,-27.0047,-169.9910, 5214,   -999,      4.8,  24.9462,  35.6206,2,  35.6200,2,    209.3,2, 24.9452,    207.6,2,     1.07,2,     0.07,2,     0.00,2,     0.01,3, -999.000,9, -999.000,9,    106.4,2,  -999.00,9,   1986.2,2,    274.9,2,   2334.4,2,     8.11,2, -999.00,     3.7, -999.00,  -999.0
    31DSCG96_2,  P15S,   123,  1,    135,   1113,2,19960221,1202,-27.0047,-169.9910, 5214,   -999,     29.9,  24.5002,  35.6860,2,  35.6806,2,    211.1,2, 24.4938,    210.3,6,     1.22,2,     0.07,2,     0.00,2,     0.02,3, -999.000,9, -999.000,9,   -999.0,9,  -999.00,9,   -999.0,9,   -999.0,9,   -999.0,9,     8.10,2, -999.00,  -999.0, -999.00,  -999.0
    31DSCG96_2,  P15S,   123,  1,    134,   1216,2,19960221,1202,-27.0047,-169.9910, 5214,   -999,     54.5,  22.5508,  35.8227,2,  35.8149,2,    220.8,2, 22.5398,    223.4,2,     1.23,2,     0.07,2,     0.00,2,     0.04,3, -999.000,9, -999.000,9,   -999.0,9,  -999.00,9,   2015.7,2,    304.3,2,   2347.4,2,     8.07,2, -999.00,  -999.0, -999.00,  -999.0
    31DSCG96_2,  P15S,   123,  1,    133,   1221,2,19960221,1202,-27.0047,-169.9910, 5214,   -999,     80.5,  21.1174,  35.8170,2,  35.8171,2,    231.9,2, 21.1019,    229.9,2,     1.23,2,     0.07,2,     0.00,2,     0.06,2, -999.000,9, -999.000,9,   -999.0,9,  -999.00,9,   -999.0,9,   -999.0,9,   -999.0,9,  -999.00,9, -999.00,  -999.0, -999.00,  -999.0
    31DSCG96_2,  P15S,   123,  1,    132,   1039,2,19960221,1202,-27.0047,-169.9910, 5214,   -999,    103.9,  18.1868,  35.6805,2,  35.6806,2,    230.3,2, 18.1688,    240.1,2,     1.38,2,     0.06,2,     0.00,2,     0.11,2, -999.000,9, -999.000,9,   -999.0,9,  -999.00,9,   2034.2,2,    338.3,2,   2340.9,2,     8.03,2, -999.00,  -999.0, -999.00,  -999.0
    31DSCG96_2,  P15S,   123,  1,    131,   1014,2,19960221,1202,-27.0047,-169.9910, 5214,   -999,    130.3,  17.0005,  35.6224,2,  35.6217,2,    208.8,2, 16.9789,    211.4,2,     1.72,2,     2.83,2,     0.11,2,     0.30,2, -999.000,9, -999.000,9,   -999.0,9,  -999.00,9,   -999.0,9,   -999.0,9,   -999.0,9,     7.98,2, -999.00,  -999.0, -999.00,  -999.0
    31DSCG96_2,  P15S,   123,  1,    130,   1257,2,19960221,1202,-27.0047,-169.9910, 5214,   -999,    165.1,  16.2955,  35.5546,2,  35.5534,2,    209.3,2, 16.2690,    210.8,2,     1.96,2,     4.17,2,     0.02,2,     0.37,2, -999.000,9, -999.000,9,   -999.0,9,  -999.00,9,   2067.4,2,    416.7,2,   2328.7,2,     7.96,2, -999.00,  -999.0, -999.00,  -999.0
    31DSCG96_2,  P15S,   123,  1,    129,   1256,2,19960221,1202,-27.0047,-169.9910, 5214,   -999,    215.4,  15.4475,  35.4587,2,  35.4705,2,    212.8,2, 15.4141,    210.8,2,     2.42,2,     5.74,2,     0.01,2,     0.47,2, -999.000,9, -999.000,9,   -999.0,9,  -999.00,9,   -999.0,9,   -999.0,9,   -999.0,9,     7.94,2, -999.00,  -999.0, -999.00,  -999.0
    31DSCG96_2,  P15S,   123,  1,    128,   1007,2,19960221,1202,-27.0047,-169.9910, 5214,   -999,    265.1,  14.6789,  35.3731,2,  35.3713,2,    212.0,2, 14.6391,    210.0,2,     2.90,2,     7.12,2,     0.01,2,     0.56,2, -999.000,9, -999.000,9,   -999.0,9,  -999.00,9,   2083.1,2,   -999.0,9,   2325.5,2,     7.92,2, -999.00,  -999.0, -999.00,  -999.0
    31DSCG96_2,  P15S,   123,  1,    127,   1232,2,19960221,1202,-27.0047,-169.9910, 5214,   -999,    327.6,  13.4931,  35.1918,2,  35.1930,2,    197.8,2, 13.4466,    198.3,2,     3.75,2,    10.14,2,     0.01,2,     0.75,2, -999.000,9, -999.000,9,   -999.0,9,  -999.00,9,   2098.4,2,    530.2,2,   2311.4,2,     7.87,2, -999.00,  -999.0, -999.00,  -999.0
    31DSCG96_2,  P15S,   123,  1,    126,   1025,2,19960221,1202,-27.0047,-169.9910, 5214,   -999,    426.5,  10.9409,  34.8601,2,  34.8710,2,    197.5,2, 10.8880,    195.8,2,     5.37,2,    15.37,2,     0.00,2,     1.07,2, -999.000,9, -999.000,9,   -999.0,9,  -999.00,9,   -999.0,9,   -999.0,9,   -999.0,9,     7.80,2, -999.00,  -999.0, -999.00,  -999.0
    31DSCG96_2,  P15S,   123,  1,    125,   1119,2,19960221,1202,-27.0047,-169.9910, 5214,   -999,    525.0,   8.6039,  34.5666,2,  34.5669,2,    209.2,2,  8.5476,    211.0,2,     6.39,2,    19.67,2,     0.00,2,     1.34,2, -999.000,9, -999.000,9,   -999.0,9,  -999.00,9,   2131.4,2,   -999.0,9,   2286.2,2,     7.75,2, -999.00,  -999.0, -999.00,  -999.0
    31DSCG96_2,  P15S,   123,  1,    124,   1013,2,19960221,1202,-27.0047,-169.9910, 5214,   -999,    623.4,   7.3395,  34.4406,2,  34.4387,2,    226.3,2,  7.2782,    226.2,2,     7.87,2,    22.03,2,     0.00,2,     1.49,2, -999.000,9, -999.000,9,   -999.0,9,  -999.00,9,   -999.0,9,   -999.0,9,   -999.0,9,     7.74,2, -999.00,  -999.0, -999.00,  -999.0
    31DSCG96_2,  P15S,   123,  1,    123,   1250,2,19960221,1202,-27.0047,-169.9910, 5214,   -999,    726.0,   6.6451,  34.3813,2,  34.3817,2,    228.9,2,  6.5771,    229.1,6,     9.87,2,    23.76,2,     0.00,2,     1.60,2, -999.000,9, -999.000,9,   -999.0,9,  -999.00,9,   -999.0,9,   -999.0,9,   -999.0,9,     7.73,2, -999.00,  -999.0, -999.00,  -999.0
    31DSCG96_2,  P15S,   123,  1,    122,   1265,2,19960221,1202,-27.0047,-169.9910, 5214,   -999,    826.4,   5.8655,  34.3373,2,  34.3388,2,    221.1,2,  5.7924,    221.6,2,    14.91,2,    26.41,2,     0.00,2,     1.78,2, -999.000,9, -999.000,9,   -999.0,9,  -999.00,9,   2151.4,2,    832.3,2,   2288.0,2,     7.70,2, -999.00,  -999.0, -999.00,  -999.0
    31DSCG96_2,  P15S,   123,  1,    121,   1246,2,19960221,1202,-27.0047,-169.9910, 5214,   -999,    924.8,   5.2068,  34.3321,2,  34.3316,2,    207.9,2,  5.1290,    206.7,2,    23.01,2,    29.09,2,     0.00,2,     1.97,2, -999.000,9, -999.000,9,   -999.0,9,  -999.00,9,   -999.0,9,   -999.0,9,   -999.0,9,     7.66,2, -999.00,  -999.0, -999.00,  -999.0
    31DSCG96_2,  P15S,   123,  1,    120,   1015,2,19960221,1202,-27.0047,-169.9910, 5214,   -999,   1023.2,   4.5762,  34.3492,2,  34.3476,2,    194.3,2,  4.4943,    193.6,2,    32.94,2,    31.31,2,     0.00,2,     2.12,2, -999.000,9, -999.000,9,   -999.0,9,  -999.00,9,   2191.2,2,    999.1,2,   2304.1,2,     7.63,2, -999.00,  -999.0, -999.00,  -999.0
    31DSCG96_2,  P15S,   123,  1,    119,   1247,2,19960221,1202,-27.0047,-169.9910, 5214,   -999,   1124.9,   3.9266,  34.3805,2,  34.3802,2,    185.6,2,  3.8413,    185.1,2,    44.32,2,    32.89,2,     0.00,2,     2.23,2, -999.000,9, -999.000,9,   -999.0,9,  -999.00,9,   -999.0,9,   -999.0,9,   -999.0,9,     7.61,2, -999.00,  -999.0, -999.00,  -999.0
    31DSCG96_2,  P15S,   123,  1,    118,   1299,2,19960221,1202,-27.0047,-169.9910, 5214,   -999,   1224.8,   3.5279,  34.4243,2,  34.4238,2,    176.3,2,  3.4378,    176.1,2,    55.32,2,    33.90,2,     0.00,2,     2.31,2, -999.000,9, -999.000,9,   -999.0,9,  -999.00,9,   2227.2,2,   1114.4,2,   2319.5,2,     7.59,2, -999.00,  -999.0, -999.00,  -999.0
    31DSCG96_2,  P15S,   123,  1,    117,   1267,2,19960221,1202,-27.0047,-169.9910, 5214,   -999,   1348.8,   3.1147,  34.4805,2,  34.4825,2,    168.9,2,  3.0183,    168.2,2,    68.91,2,    34.68,2,     0.00,2,     2.37,2, -999.000,9, -999.000,9,   -999.0,9,  -999.00,9,   -999.0,9,   -999.0,9,   -999.0,9,     7.58,2, -999.00,  -999.0, -999.00,  -999.0
    31DSCG96_2,  P15S,   123,  1,    116,   1259,2,19960221,1202,-27.0047,-169.9910, 5214,   -999,   1563.9,   2.6524,  34.5620,2,  34.5609,2,    157.3,2,  2.5434,    157.4,2,    90.10,2,    35.30,2,     0.00,2,     2.43,2, -999.000,9, -999.000,9,   -999.0,9,  -999.00,9,   2270.8,2,   1216.4,2,   2364.6,2,     7.57,2, -999.00,  -999.0, -999.00,  -999.0
    31DSCG96_2,  P15S,   123,  1,    115,   1041,2,19960221,1202,-27.0047,-169.9910, 5214,   -999,   1808.9,   2.3621,  34.6095,2,  34.6108,2,    149.0,2,  2.2365,    149.3,2,   107.43,2,    35.89,2,     0.00,2,     2.47,2, -999.000,9, -999.000,9,   -999.0,9,  -999.00,9,   -999.0,9,   -999.0,9,   -999.0,9,     7.57,2, -999.00,  -999.0, -999.00,  -999.0
    31DSCG96_2,  P15S,   123,  1,    114,   1017,2,19960221,1202,-27.0047,-169.9910, 5214,   -999,   2064.3,   2.1895,  34.6222,2,  34.6315,2,    145.7,2,  2.0447,    145.8,2,   117.53,2,    36.25,2,     0.00,2,     2.50,2, -999.000,9, -999.000,9,   -999.0,9,  -999.00,9,   2303.6,2,   1235.7,2,   2395.9,2,     7.57,2, -999.00,  -999.0, -999.00,  -999.0
    31DSCG96_2,  P15S,   123,  1,    113,   1302,2,19960221,1202,-27.0047,-169.9910, 5214,   -999,   2315.0,   2.0543,  34.6457,2,  34.6440,2,    145.6,2,  1.8897,    145.1,6,   123.24,2,    36.35,2,     0.00,2,     2.51,2, -999.000,9, -999.000,9,   -999.0,9,  -999.00,9,   -999.0,9,   -999.0,9,   -999.0,9,     7.57,2, -999.00,  -999.0, -999.00,  -999.0
    31DSCG96_2,  P15S,   123,  1,    112,   1217,2,19960221,1202,-27.0047,-169.9910, 5214,   -999,   2563.9,   1.9283,  34.6566,2,  34.6571,2,    146.2,2,  1.7435,    145.7,2,   127.78,2,    36.33,2,     0.00,2,     2.51,2, -999.000,9, -999.000,9,   -999.0,9,  -999.00,9,   2314.6,2,   1238.4,2,   2409.0,2,     7.57,2, -999.00,  -999.0, -999.00,  -999.0
    31DSCG96_2,  P15S,   123,  1,    111,   1114,2,19960221,1202,-27.0047,-169.9910, 5214,   -999,   2814.4,   1.8437,  34.6640,2,  34.6627,2,    147.1,2,  1.6372,    147.0,2,   130.76,2,    36.30,2,     0.00,2,     2.51,2, -999.000,9, -999.000,9,   -999.0,9,  -999.00,9,   -999.0,9,   -999.0,9,   -999.0,9,     7.57,2, -999.00,  -999.0, -999.00,  -999.0
    31DSCG96_2,  P15S,   123,  1,    110,   1301,2,19960221,1202,-27.0047,-169.9910, 5214,   -999,   3066.0,   1.7364,  34.6742,2,  34.6753,2,    150.1,2,  1.5080,    152.0,2,   131.48,2,    35.88,2,     0.00,2,     2.47,2, -999.000,9, -999.000,9,   -999.0,9,  -999.00,9,   2309.7,2,   1214.7,2,   2407.7,2,     7.58,3, -999.00,  -999.0, -999.00,  -999.0
    31DSCG96_2,  P15S,   123,  1,    109,   1233,2,19960221,1202,-27.0047,-169.9910, 5214,   -999,   3316.9,   1.6396,  34.6884,2,  34.6874,2,    161.4,2,  1.3884,    163.4,2,   126.70,2,    34.91,2,     0.00,2,     2.40,2,    0.001,2,    0.001,2,   -999.0,9,  -999.00,9,   -999.0,9,   -999.0,9,   -999.0,9,     7.59,2, -999.00,  -999.0, -999.00,  -999.0
    31DSCG96_2,  P15S,   123,  1,    108,   1227,2,19960221,1202,-27.0047,-169.9910, 5214,   -999,   3565.1,   1.5250,  34.7119,2,  34.7114,2,    183.5,2,  1.2513,    185.1,2,   113.87,2,    32.96,2,     0.00,2,     2.25,2, -999.000,9, -999.000,9,   -999.0,9,  -999.00,9,   2279.9,3,   1105.2,3,   2378.4,2,     7.60,2, -999.00,  -999.0, -999.00,  -999.0
    31DSCG96_2,  P15S,   123,  1,    107,   1263,2,19960221,1202,-27.0047,-169.9910, 5214,   -999,   3814.6,   1.3935,  34.7195,2,  34.7204,2,    195.1,2,  1.0971,    196.2,2,   110.84,2,    32.18,2,     0.00,2,     2.19,2,    0.003,2,    0.002,2,   -999.0,9,  -999.00,9,   -999.0,9,   -999.0,9,   -999.0,9,     7.61,3, -999.00,  -999.0, -999.00,  -999.0
    31DSCG96_2,  P15S,   123,  1,    106,   1262,2,19960221,1202,-27.0047,-169.9910, 5214,   -999,   4066.3,   1.2228,  34.7170,2,  34.7169,2,    201.1,2,  0.9043,    201.5,2,   114.12,2,    32.20,2,     0.00,2,     2.19,2, -999.000,9, -999.000,9,   -999.0,9,  -999.00,9,   2258.5,2,   1058.5,3,   2367.5,2,     7.61,2, -999.00,  -999.0, -999.00,  -999.0
    31DSCG96_2,  P15S,   123,  1,    105,   1264,2,19960221,1202,-27.0047,-169.9910, 5214,   -999,   4311.6,   1.1088,  34.7135,2,  34.7093,3,    203.9,2,  0.7668,    204.3,2,   117.09,2,    32.14,2,     0.00,2,     2.19,2, -999.000,5, -999.000,5,   -999.0,9,  -999.00,9,   -999.0,9,   -999.0,9,   -999.0,9,     7.61,2, -999.00,  -999.0, -999.00,  -999.0
    31DSCG96_2,  P15S,   123,  1,    104,   1003,2,19960221,1202,-27.0047,-169.9910, 5214,   -999,   4562.9,   1.0297,  34.7100,2,  34.7132,3,    205.9,2,  0.6621,    205.6,2,   119.84,2,    32.34,2,     0.00,2,     2.20,2, -999.000,9, -999.000,9,   -999.0,9,  -999.00,9,   2257.5,2,   1069.7,3,   2369.4,2,     7.61,2, -999.00,  -999.0, -999.00,  -999.0
    31DSCG96_2,  P15S,   123,  1,    103,   1035,2,19960221,1202,-27.0047,-169.9910, 5214,   -999,   4812.5,   1.0160,  34.7083,2,  34.7075,2,    206.1,2,  0.6200,    206.6,6,   121.06,2,    32.34,2,     0.00,2,     2.21,2,    0.008,2,    0.004,2,   -999.0,9,  -999.00,9,   -999.0,9,   -999.0,9,   -999.0,9,     7.61,3, -999.00,  -999.0, -999.00,  -999.0
    31DSCG96_2,  P15S,   123,  1,    102,   1030,2,19960221,1202,-27.0047,-169.9910, 5214,   -999,   5062.6,   1.0355,  34.7080,2,  34.7064,2,    206.3,2,  0.6093,    206.4,2,   121.42,2,    32.30,2,     0.00,2,     2.21,2, -999.000,9, -999.000,9,   -999.0,9,  -999.00,9,   2259.3,2,   1073.7,3,   2366.0,2,     7.61,2, -999.00,  -999.0, -999.00,  -999.0
    31DSCG96_2,  P15S,   123,  1,    101,   1022,2,19960221,1202,-27.0047,-169.9910, 5214,   -999,   5329.8,   1.0649,  34.7072,2,  34.7080,2,    206.8,2,  0.6052,    206.4,2,   121.57,6,    32.33,6,     0.00,6,     2.21,2,    0.009,6,    0.005,6,   -999.0,9,  -999.00,9,   2259.6,2,   1069.8,3,   2371.3,2,     7.61,2, -999.00,  -999.0, -999.00,  -999.0