BOTTLE,20220811CCHSIOAMB
EXPOCODE,SECT_ID,STNNBR,CASTNO,SAMPNO,BTLNBR,BTLNBR_FLAG_W,DATE,TIME,LATITUDE,LONGITUDE,DEPTH,CTDRAW,CTDPRS,CTDTMP,CTDSAL,CTDSAL_FLAG_W,SALNTY,SALNTY_FLAG_W,CTDOXY,CTDOXY_FLAG_W,THETA,OXYGEN,OXYGEN_FLAG_W,SILCAT,SILCAT_FLAG_W,NITRAT,NITRAT_FLAG_W,NITRIT,NITRIT_FLAG_W,PHSPHT,PHSPHT_FLAG_W,CFC-11,CFC-11_FLAG_W,CFC-12,CFC-12_FLAG_W,DELC14,DELC14_FLAG_W,DELC13,DELC13_FLAG_W,TCARBN,TCARBN_FLAG_W,PCO2,PCO2_FLAG_W,ALKALI,ALKALI_FLAG_W,PH,PH_FLAG_W,PCO2TMP,C14ERR,PH_TMP,C13ERR
,,,,,,,,,,,,DBAR,DBAR,ITS-90,PSS-78,,PSS-78,,UMOL/KG,,DEG C,UMOL/KG,,UMOL/KG,,UMOL/KG,,UMOL/KG,,UMOL/KG,,PMOL/KG,,PMOL/KG,,/MILLE,,/MILLE,,UMOL/KG,,UATM,,UMOL/KG,,,,DEG C,/MILLE,DEG C,/MILLE
    31DSCG96_1,  P15S,    53,  1,    134,   1119,2,19960124,0751,-56.4977,-169.9965, 5055,   -999,     10.4,   6.3927,  34.0745,2,  34.0755,2,    302.2,2,  6.3919,    305.9,2,     3.34,2,    19.80,2,     0.17,2,     1.38,2,    4.806,2,    2.467,2,    -24.6,2,     1.79,2,   2101.7,2,    623.5,2,   2282.4,2,     7.81,2, -999.00,     2.9, -999.00,  -999.0
    31DSCG96_1,  P15S,    53,  1,    133,   1221,3,19960124,0751,-56.4977,-169.9965, 5055,   -999,     29.7,   6.4004,  34.0744,2,-999.0000,9,    301.3,2,  6.3979,   -999.0,9,  -999.00,9,  -999.00,9,  -999.00,9,  -999.00,9, -999.000,9, -999.000,9,   -999.0,9,  -999.00,9,   -999.0,9,   -999.0,9,   -999.0,9,  -999.00,9, -999.00,  -999.0, -999.00,  -999.0
    31DSCG96_1,  P15S,    53,  1,    132,   1039,2,19960124,0751,-56.4977,-169.9965, 5055,   -999,     55.6,   6.2830,  34.0669,2,  34.0669,2,    300.8,2,  6.2782,    306.7,2,     3.20,2,    19.93,2,     0.17,2,     1.39,2, -999.000,9, -999.000,9,    -25.3,2,     1.75,2,   2101.8,2,    623.7,2,   2282.9,2,     7.81,2, -999.00,     3.1, -999.00,  -999.0
    31DSCG96_1,  P15S,    53,  1,    131,   1014,2,19960124,0751,-56.4977,-169.9965, 5055,   -999,     78.0,   6.2774,  34.0806,2,  34.0808,2,    300.6,2,  6.2707,    305.3,2,     3.62,2,    19.90,2,     0.17,2,     1.40,2, -999.000,9, -999.000,9,   -999.0,9,  -999.00,5,   -999.0,9,   -999.0,9,   -999.0,9,     7.80,2, -999.00,  -999.0, -999.00,  -999.0
    31DSCG96_1,  P15S,    53,  1,    130,   1257,2,19960124,0751,-56.4977,-169.9965, 5055,   -999,    113.1,   5.7182,  34.2219,2,  34.2227,2,    289.6,2,  5.7089,    289.3,2,     7.33,2,    21.45,2,     0.05,2,     1.47,2, -999.000,9, -999.000,9,    -20.3,2,     1.47,2,   2121.3,2,    700.5,2,   2284.7,2,     7.77,2, -999.00,     3.1, -999.00,  -999.0
    31DSCG96_1,  P15S,    53,  1,    129,   1256,2,19960124,0751,-56.4977,-169.9965, 5055,   -999,    167.7,   5.3993,  34.2042,2,  34.2044,2,    286.8,2,  5.3859,    287.1,2,     8.39,2,    22.41,2,     0.02,2,     1.53,2,    4.433,2,    2.224,2,    -26.3,2,     1.47,2,   -999.0,9,   -999.0,9,   -999.0,9,     7.76,3, -999.00,     3.8, -999.00,  -999.0
    31DSCG96_1,  P15S,    53,  1,    128,   1007,2,19960124,0751,-56.4977,-169.9965, 5055,   -999,    216.2,   5.0419,  34.1833,2,  34.1838,2,    284.2,2,  5.0252,    284.5,2,     9.87,2,    23.43,2,     0.02,2,     1.60,2, -999.000,9, -999.000,9,    -23.8,2,     1.41,2,   2131.9,2,    733.1,6,   2286.1,2,     7.75,2, -999.00,     3.0, -999.00,  -999.0
    31DSCG96_1,  P15S,    53,  1,    127,   1234,2,19960124,0751,-56.4977,-169.9965, 5055,   -999,    267.4,   4.7253,  34.1729,2,  34.1716,2,    274.5,2,  4.7051,    281.3,2,    11.41,2,    24.35,2,     0.01,2,     1.66,2, -999.000,9, -999.000,9,    -40.8,2,     1.38,2,   -999.0,9,   -999.0,9,   -999.0,9,     7.74,2, -999.00,     2.8, -999.00,  -999.0
    31DSCG96_1,  P15S,    53,  1,    126,   1025,2,19960124,0751,-56.4977,-169.9965, 5055,   -999,    326.2,   4.3971,  34.1649,2,  34.1646,2,    285.6,2,  4.3733,    275.6,2,    13.63,2,    25.47,2,     0.01,2,     1.74,2, -999.000,9, -999.000,9,   -999.0,5,     1.33,2,   -999.0,9,   -999.0,9,   -999.0,9,     7.72,2, -999.00,  -999.0, -999.00,  -999.0
    31DSCG96_1,  P15S,    53,  1,    125,   1233,2,19960124,0751,-56.4977,-169.9965, 5055,   -999,    421.3,   4.1713,  34.2078,2,  34.2086,2,    256.8,2,  4.1409,    247.1,2,    20.93,2,    28.26,2,     0.01,2,     1.92,2,    3.164,6,    1.539,6,    -60.1,2,     1.15,2,   2167.0,2,    876.9,2,   2291.6,2,     7.67,2, -999.00,     3.0, -999.00,  -999.0
    31DSCG96_1,  P15S,    53,  1,    124,   1218,2,19960124,0751,-56.4977,-169.9965, 5055,   -999,    524.0,   3.8253,  34.2476,2,  34.2477,2,    228.9,2,  3.7885,    230.1,2,    28.51,2,    30.31,2,     0.01,2,     2.06,2, -999.000,9, -999.000,9,    -66.0,2,     1.03,2,   -999.0,9,   -999.0,9,   -999.0,9,     7.64,2, -999.00,     2.9, -999.00,  -999.0
    31DSCG96_1,  P15S,    53,  1,    123,   1250,2,19960124,0751,-56.4977,-169.9965, 5055,   -999,    624.0,   3.4124,  34.2866,2,  34.2861,2,    217.2,2,  3.3701,    217.7,2,    36.84,2,    31.81,2,     0.01,2,     2.16,2, -999.000,9, -999.000,9,    -86.6,2,     0.91,2,   2195.8,2,   1037.2,2,   2304.1,2,     7.62,2, -999.00,     2.9, -999.00,  -999.0
    31DSCG96_1,  P15S,    53,  1,    122,   1109,2,19960124,0751,-56.4977,-169.9965, 5055,   -999,    725.5,   3.1035,  34.3395,2,  34.3386,2,    205.9,2,  3.0554,    204.7,2,    45.77,2,    33.01,2,     0.00,2,     2.25,2,    1.427,2,    0.671,2,   -105.9,2,     0.76,2,   -999.0,9,   -999.0,9,   -999.0,9,     7.60,2, -999.00,     3.2, -999.00,  -999.0
    31DSCG96_1,  P15S,    53,  1,    121,   1246,2,19960124,0751,-56.4977,-169.9965, 5055,   -999,    827.9,   2.8663,  34.3847,2,  34.3836,2,    196.2,2,  2.8122,    195.3,6,    52.87,2,    33.80,2,     0.00,2,     2.30,2, -999.000,9, -999.000,9,   -128.9,2,     0.71,2,   2223.6,2,   1146.6,2,   -999.0,9,     7.58,2, -999.00,     3.4, -999.00,  -999.0
    31DSCG96_1,  P15S,    53,  1,    120,   1015,2,19960124,0751,-56.4977,-169.9965, 5055,   -999,    926.3,   2.7204,  34.4347,2,  34.4334,2,    186.9,2,  2.6601,    186.8,2,    59.24,2,    34.20,2,     0.00,2,     2.33,2, -999.000,9, -999.000,9,   -135.4,2,     0.60,2,   -999.0,9,   -999.0,9,   -999.0,9,     7.58,2, -999.00,     3.4, -999.00,  -999.0
    31DSCG96_1,  P15S,    53,  1,    119,   1247,2,19960124,0751,-56.4977,-169.9965, 5055,   -999,   1024.8,   2.5923,  34.4833,2,  34.4831,2,    180.5,2,  2.5258,    180.6,2,    64.83,2,    34.44,2,     0.00,2,     2.35,2,    0.650,2,    0.299,2,   -146.9,2,     0.54,2,   2241.6,2,   1191.6,2,   2330.6,2,     7.57,2, -999.00,     2.5, -999.00,  -999.0
    31DSCG96_1,  P15S,    53,  1,    118,   1222,2,19960124,0751,-56.4977,-169.9965, 5055,   -999,   1141.7,   2.5133,  34.5461,2,  34.5461,2,    175.7,2,  2.4388,    175.2,2,    70.53,2,    34.22,2,     0.00,2,     2.33,2, -999.000,9, -999.000,9,   -148.4,2,     0.49,2,   -999.0,9,   -999.0,9,   -999.0,9,     7.57,2, -999.00,     2.8, -999.00,  -999.0
    31DSCG96_1,  P15S,    53,  1,    117,   1267,2,19960124,0751,-56.4977,-169.9965, 5055,   -999,   1314.4,   2.4117,  34.6107,2,  34.6124,2,    174.0,2,  2.3250,    174.1,6,    75.87,2,    33.73,2,     0.00,2,     2.30,2, -999.000,9, -999.000,9,   -167.9,2,     0.35,2,   -999.0,9,   -999.0,9,   -999.0,9,     7.57,2, -999.00,     2.9, -999.00,  -999.0
    31DSCG96_1,  P15S,    53,  1,    116,   1211,2,19960124,0751,-56.4977,-169.9965, 5055,   -999,   1564.2,   2.2811,  34.6726,2,  34.6731,2,    177.3,2,  2.1762,    178.5,2,    79.40,2,    32.79,2,     0.00,2,     2.22,2, -999.000,9, -999.000,9,   -161.1,2,     0.44,2,   2248.9,2,   1163.5,2,   2348.3,2,     7.58,2, -999.00,     2.7, -999.00,  -999.0
    31DSCG96_1,  P15S,    53,  1,    115,   1041,2,19960124,0751,-56.4977,-169.9965, 5055,   -999,   1817.5,   2.1505,  34.7119,2,  34.7114,2,    182.7,2,  2.0268,    183.1,2,    83.08,2,    31.87,2,     0.00,2,     2.17,2,    0.111,2,    0.044,2,   -999.0,9,  -999.00,9,   -999.0,9,   -999.0,9,   -999.0,9,     7.59,2, -999.00,  -999.0, -999.00,  -999.0
    31DSCG96_1,  P15S,    53,  1,    114,   1017,2,19960124,0751,-56.4977,-169.9965, 5055,   -999,   2061.5,   1.9916,  34.7329,2,  34.7324,2,    188.1,2,  1.8497,    188.8,2,    87.38,2,    31.33,2,     0.00,2,     2.13,2, -999.000,9, -999.000,9,   -999.0,9,  -999.00,9,   2248.5,2,   1088.0,2,   2352.3,2,     7.61,2, -999.00,  -999.0, -999.00,  -999.0
    31DSCG96_1,  P15S,    53,  1,    113,   1302,2,19960124,0751,-56.4977,-169.9965, 5055,   -999,   2307.8,   1.7980,  34.7396,2,  34.7388,2,    192.3,2,  1.6381,    192.9,2,    93.03,2,    31.23,2,     0.00,2,     2.12,2, -999.000,9, -999.000,9,   -999.0,9,  -999.00,9,   -999.0,9,   -999.0,9,   -999.0,9,     7.61,2, -999.00,  -999.0, -999.00,  -999.0
    31DSCG96_1,  P15S,    53,  1,    112,   1217,2,19960124,0751,-56.4977,-169.9965, 5055,   -999,   2555.8,   1.6232,  34.7386,2,  34.7403,2,    195.9,2,  1.4445,    196.2,2,    98.23,2,    31.31,2,     0.00,2,     2.13,2, -999.000,9, -999.000,9,   -999.0,9,  -999.00,9,   2251.0,2,   1075.5,2,   2362.8,2,     7.61,2, -999.00,  -999.0, -999.00,  -999.0
    31DSCG96_1,  P15S,    53,  1,    111,   1114,2,19960124,0751,-56.4977,-169.9965, 5055,   -999,   2807.6,   1.4588,  34.7334,2,  34.7325,2,    197.8,2,  1.2606,    198.4,6,   103.48,2,    31.51,2,     0.00,2,     2.14,2,    0.039,2,    0.017,2,   -999.0,9,  -999.00,9,   -999.0,9,   -999.0,9,   -999.0,9,     7.61,2, -999.00,  -999.0, -999.00,  -999.0
    31DSCG96_1,  P15S,    53,  1,    110,   1301,2,19960124,0751,-56.4977,-169.9965, 5055,   -999,   3062.7,   1.2976,  34.7279,2,  34.7268,2,    200.1,2,  1.0790,    201.0,2,   108.37,2,    31.75,2,     0.00,2,     2.16,2, -999.000,9, -999.000,9,   -999.0,9,  -999.00,9,   2255.8,2,   1066.9,2,   2366.5,2,     7.61,2, -999.00,  -999.0, -999.00,  -999.0
    31DSCG96_1,  P15S,    53,  1,    109,   1242,2,19960124,0751,-56.4977,-169.9965, 5055,   -999,   3312.0,   1.1759,  34.7227,2,  34.7215,2,    202.8,2,  0.9363,    202.9,2,   112.17,2,    31.96,2,     0.00,2,     2.17,2, -999.000,9, -999.000,9,   -999.0,9,  -999.00,9,   -999.0,9,   -999.0,9,   -999.0,9,     7.61,2, -999.00,  -999.0, -999.00,  -999.0
    31DSCG96_1,  P15S,    53,  1,    108,   1263,2,19960124,0751,-56.4977,-169.9965, 5055,   -999,   3569.0,   1.0581,  34.7169,2,  34.7159,2,    205.0,2,  0.7960,    205.1,2,   115.72,2,    32.03,2,     0.00,2,     2.18,2, -999.000,9, -999.000,9,   -999.0,9,  -999.00,9,   2256.5,2,   1088.1,2,   2368.1,2,     7.61,2, -999.00,  -999.0, -999.00,  -999.0
    31DSCG96_1,  P15S,    53,  1,    107,   1245,2,19960124,0751,-56.4977,-169.9965, 5055,   -999,   3813.1,   0.9751,  34.7125,2,  34.7117,2,    206.9,2,  0.6904,    207.0,2,   118.25,2,    32.16,2,     0.00,2,     2.18,2,    0.059,2,    0.027,2,   -999.0,9,  -999.00,9,   -999.0,9,   -999.0,9,   -999.0,9,     7.61,2, -999.00,  -999.0, -999.00,  -999.0
    31DSCG96_1,  P15S,    53,  1,    106,   1262,2,19960124,0751,-56.4977,-169.9965, 5055,   -999,   4063.7,   0.9134,  34.7091,2,  34.7080,2,    207.6,2,  0.6041,    208.5,2,   120.71,2,    32.25,2,     0.00,2,     2.19,2, -999.000,9, -999.000,9,   -999.0,9,  -999.00,9,   2258.0,2,   1083.6,2,   2367.4,2,     7.61,2, -999.00,  -999.0, -999.00,  -999.0
    31DSCG96_1,  P15S,    53,  1,    105,   1113,2,19960124,0751,-56.4977,-169.9965, 5055,   -999,   4311.3,   0.8963,  34.7076,2,  34.7064,2,    208.8,2,  0.5609,    209.1,6,   122.12,2,    32.35,2,     0.00,2,     2.20,2, -999.000,9, -999.000,9,   -999.0,9,  -999.00,9,   -999.0,9,   -999.0,9,   -999.0,9,     7.61,2, -999.00,  -999.0, -999.00,  -999.0
    31DSCG96_1,  P15S,    53,  1,    104,   1003,2,19960124,0751,-56.4977,-169.9965, 5055,   -999,   4566.7,   0.8921,  34.7057,2,  34.7052,2,    209.2,2,  0.5284,    209.1,2,   123.12,2,    32.34,2,     0.00,2,     2.19,2, -999.000,9, -999.000,9,   -999.0,9,  -999.00,9,   2258.5,2,   1084.5,2,   2369.0,2,     7.61,2, -999.00,  -999.0, -999.00,  -999.0
    31DSCG96_1,  P15S,    53,  1,    103,   9999,2,19960124,0751,-56.4977,-169.9965, 5055,   -999,   4794.9,   0.8971,  34.7049,2,  34.7042,2,    209.6,2,  0.5071,    209.6,2,   124.24,2,    32.42,2,     0.00,2,     2.20,2,    0.085,6,    0.046,6,   -999.0,9,  -999.00,9,   -999.0,9,   -999.0,9,   -999.0,9,     7.61,3, -999.00,  -999.0, -999.00,  -999.0
    31DSCG96_1,  P15S,    53,  1,    102,   1030,2,19960124,0751,-56.4977,-169.9965, 5055,   -999,   4795.7,   0.8969,  34.7052,2,  34.7044,2,    209.5,2,  0.5068,    209.8,2,   124.33,2,    32.40,2,     0.00,2,     2.20,2, -999.000,9, -999.000,9,   -999.0,9,  -999.00,9,   -999.0,9,   -999.0,9,   -999.0,9,     7.61,2, -999.00,  -999.0, -999.00,  -999.0
    31DSCG96_1,  P15S,    53,  1,    101,   1022,2,19960124,0751,-56.4977,-169.9965, 5055,   -999,   5144.9,   0.9266,  34.7044,2,  34.7037,2,    210.4,2,  0.4943,    210.1,2,   124.41,6,    32.33,6,     0.00,6,     2.20,6, -999.000,5, -999.000,5,   -999.0,9,  -999.00,9,   2260.2,2,   1096.3,2,   2367.7,2,     7.61,2, -999.00,  -999.0, -999.00,  -999.0