BOTTLE,20220811CCHSIOAMB
EXPOCODE,SECT_ID,STNNBR,CASTNO,SAMPNO,BTLNBR,BTLNBR_FLAG_W,DATE,TIME,LATITUDE,LONGITUDE,DEPTH,CTDRAW,CTDPRS,CTDTMP,CTDSAL,CTDSAL_FLAG_W,SALNTY,SALNTY_FLAG_W,CTDOXY,CTDOXY_FLAG_W,THETA,OXYGEN,OXYGEN_FLAG_W,SILCAT,SILCAT_FLAG_W,NITRAT,NITRAT_FLAG_W,NITRIT,NITRIT_FLAG_W,PHSPHT,PHSPHT_FLAG_W,CFC-11,CFC-11_FLAG_W,CFC-12,CFC-12_FLAG_W,DELC14,DELC14_FLAG_W,DELC13,DELC13_FLAG_W,TCARBN,TCARBN_FLAG_W,PCO2,PCO2_FLAG_W,ALKALI,ALKALI_FLAG_W,PH,PH_FLAG_W,PCO2TMP,C14ERR,PH_TMP,C13ERR
,,,,,,,,,,,,DBAR,DBAR,ITS-90,PSS-78,,PSS-78,,UMOL/KG,,DEG C,UMOL/KG,,UMOL/KG,,UMOL/KG,,UMOL/KG,,UMOL/KG,,PMOL/KG,,PMOL/KG,,/MILLE,,/MILLE,,UMOL/KG,,UATM,,UMOL/KG,,,,DEG C,/MILLE,DEG C,/MILLE
    31DSCG96_1,  P15S,    77,  1,    134,   1119,2,19960130,2127,-45.5603,-172.2787, 4953,   -999,     11.3,  15.7671,  34.7943,2,  34.8022,2,    256.6,2, 15.7654,    260.0,2,     0.51,2,     0.28,2,     0.02,2,     0.15,2,    2.966,2,    1.656,2,   -999.0,9,  -999.00,9,   2028.4,2,    359.7,2,   2308.2,2,     8.00,2, -999.00,  -999.0, -999.00,  -999.0
    31DSCG96_1,  P15S,    77,  1,    133,   1221,2,19960130,2127,-45.5603,-172.2787, 4953,   -999,     29.9,  15.0193,  34.7264,2,-999.0000,9,    262.1,2, 15.0148,    264.4,2,     0.81,2,     2.07,2,     0.05,2,     0.27,2,    3.127,6,    1.704,6,   -999.0,9,  -999.00,9,   2037.6,2,    381.3,6,   2303.3,2,     7.98,2, -999.00,  -999.0, -999.00,  -999.0
    31DSCG96_1,  P15S,    77,  1,    132,   1039,2,19960130,2127,-45.5603,-172.2787, 4953,   -999,     51.6,  13.3739,  34.6857,2,  34.6890,2,    267.4,2, 13.3667,    270.4,2,     0.89,2,     3.15,2,     0.07,2,     0.37,2,    3.369,2,    1.844,2,   -999.0,9,  -999.00,9,   -999.0,9,   -999.0,9,   -999.0,9,     7.95,2, -999.00,  -999.0, -999.00,  -999.0
    31DSCG96_1,  P15S,    77,  1,    131,   1014,2,19960130,2127,-45.5603,-172.2787, 4953,   -999,     79.7,  10.7817,  34.6421,2,  34.6417,2,    261.3,2, 10.7721,    263.6,2,     2.26,2,     6.58,2,     0.28,2,     0.65,2,    3.707,2,    1.974,2,   -999.0,9,  -999.00,9,   2080.2,2,    499.1,2,   2300.1,2,     7.89,2, -999.00,  -999.0, -999.00,  -999.0
    31DSCG96_1,  P15S,    77,  1,    130,   1257,2,19960130,2127,-45.5603,-172.2787, 4953,   -999,    104.1,  10.5244,  34.6414,2,  34.6431,2,    258.2,2, 10.5120,    260.9,2,     2.64,2,     8.09,2,     0.79,2,     0.70,2,    3.709,2,    1.972,2,   -999.0,9,  -999.00,9,   -999.0,9,   -999.0,9,   -999.0,9,     7.87,2, -999.00,  -999.0, -999.00,  -999.0
    31DSCG96_1,  P15S,    77,  1,    129,   1256,2,19960130,2127,-45.5603,-172.2787, 4953,   -999,    123.3,   9.8794,  34.6420,2,  34.6450,2,    258.7,2,  9.8653,    258.4,2,     3.05,2,    11.09,2,     0.02,2,     0.81,2,    3.727,2,    1.988,2,   -999.0,9,  -999.00,9,   2093.4,2,    557.8,2,   2295.6,2,     7.85,2, -999.00,  -999.0, -999.00,  -999.0
    31DSCG96_1,  P15S,    77,  1,    128,   1007,2,19960130,2127,-45.5603,-172.2787, 4953,   -999,    165.4,   9.2981,  34.6124,2,  34.6084,2,    258.9,2,  9.2799,    260.9,2,     3.51,2,    12.78,2,     0.02,2,     0.92,2,    3.740,2,    1.988,2,   -999.0,9,  -999.00,9,   -999.0,9,   -999.0,9,   -999.0,9,     7.83,2, -999.00,  -999.0, -999.00,  -999.0
    31DSCG96_1,  P15S,    77,  1,    127,   1232,2,19960130,2127,-45.5603,-172.2787, 4953,   -999,    215.6,   9.0650,  34.5766,2,  34.5750,2,    268.7,2,  9.0415,    265.7,2,     3.42,2,    12.86,2,     0.02,2,     0.94,2,    3.804,2,    1.980,2,   -999.0,9,  -999.00,9,   2098.6,2,    578.6,2,   2277.4,3,     7.83,2, -999.00,  -999.0, -999.00,  -999.0
    31DSCG96_1,  P15S,    77,  1,    126,   1025,2,19960130,2127,-45.5603,-172.2787, 4953,   -999,    264.6,   8.7005,  34.5537,2,  34.5511,2,    260.1,2,  8.6724,    245.2,2,     5.23,2,    16.68,2,     0.02,2,     1.17,2,    3.482,2,    1.796,2,   -999.0,9,  -999.00,9,   -999.0,9,   -999.0,9,   -999.0,9,     7.79,2, -999.00,  -999.0, -999.00,  -999.0
    31DSCG96_1,  P15S,    77,  1,    125,   1233,2,19960130,2127,-45.5603,-172.2787, 4953,   -999,    329.9,   8.1341,  34.5087,2,  34.5067,2,    241.2,2,  8.1003,    234.6,2,     7.17,2,    19.71,2,     0.01,2,     1.35,2,    3.121,2,    1.591,2,   -999.0,9,  -999.00,9,   2129.6,2,    703.1,2,   2287.6,2,     7.76,2, -999.00,  -999.0, -999.00,  -999.0
    31DSCG96_1,  P15S,    77,  1,    124,   1218,2,19960130,2127,-45.5603,-172.2787, 4953,   -999,    425.0,   7.6327,  34.4564,2,  34.4560,2,    243.3,2,  7.5905,    241.1,2,     7.86,2,    20.52,2,     0.01,2,     1.41,2,    3.138,2,    1.608,2,   -999.0,9,  -999.00,9,   -999.0,9,   -999.0,9,   -999.0,9,     7.75,2, -999.00,  -999.0, -999.00,  -999.0
    31DSCG96_1,  P15S,    77,  1,    123,   1250,2,19960130,2127,-45.5603,-172.2787, 4953,   -999,    525.6,   7.1725,  34.4093,2,  34.4093,2,    247.8,2,  7.1219,    246.4,2,     8.68,2,    21.33,2,     0.01,2,     1.47,2,    3.147,2,    1.601,2,   -999.0,9,  -999.00,9,   2130.4,2,    726.9,2,   2286.6,2,     7.75,2, -999.00,  -999.0, -999.00,  -999.0
    31DSCG96_1,  P15S,    77,  1,    122,   1109,2,19960130,2127,-45.5603,-172.2787, 4953,   -999,    626.8,   6.8556,  34.3988,2,  34.3973,2,    243.6,2,  6.7963,    241.8,2,    10.64,2,    22.44,2,     0.01,2,     1.54,2,    2.740,2,    1.389,2,   -999.0,9,  -999.00,9,   -999.0,9,   -999.0,9,   -999.0,9,     7.74,2, -999.00,  -999.0, -999.00,  -999.0
    31DSCG96_1,  P15S,    77,  1,    121,   1246,2,19960130,2127,-45.5603,-172.2787, 4953,   -999,    725.7,   6.4099,  34.3774,2,  34.3768,2,    225.1,2,  6.3432,    228.0,2,    14.56,2,    24.69,2,     0.00,2,     1.69,2,    2.110,2,    1.071,2,   -999.0,9,  -999.00,9,   2149.8,2,    809.7,2,   2291.3,2,     7.71,2, -999.00,  -999.0, -999.00,  -999.0
    31DSCG96_1,  P15S,    77,  1,    120,   1015,2,19960130,2127,-45.5603,-172.2787, 4953,   -999,    826.5,   5.9608,  34.3706,2,  34.3726,2,    218.4,2,  5.8872,    216.3,2,    19.12,2,    26.57,2,     0.00,2,     1.81,2,    1.552,2,    0.835,2,   -999.0,9,  -999.00,9,   -999.0,9,   -999.0,9,   -999.0,9,     7.69,2, -999.00,  -999.0, -999.00,  -999.0
    31DSCG96_1,  P15S,    77,  1,    119,   1247,2,19960130,2127,-45.5603,-172.2787, 4953,   -999,    926.0,   5.5535,  34.3861,2,  34.3872,2,    202.8,2,  5.4731,    205.1,2,    25.66,2,    28.38,2,     0.00,2,     1.93,2,    0.916,2,    0.519,4,   -999.0,9,  -999.00,9,   2175.9,2,    923.2,2,   2298.1,2,     7.66,2, -999.00,  -999.0, -999.00,  -999.0
    31DSCG96_1,  P15S,    77,  1,    118,   1222,2,19960130,2127,-45.5603,-172.2787, 4953,   -999,   1026.3,   5.0706,  34.3942,2,  34.3929,2,    197.1,2,  4.9845,    194.8,2,    32.71,2,    29.96,2,     0.00,2,     2.04,2,    0.506,2,    0.287,2,   -999.0,9,  -999.00,9,   -999.0,9,   -999.0,9,   -999.0,9,     7.65,2, -999.00,  -999.0, -999.00,  -999.0
    31DSCG96_1,  P15S,    77,  1,    117,   1267,2,19960130,2127,-45.5603,-172.2787, 4953,   -999,   1142.1,   4.5701,  34.4154,2,  34.4131,2,    190.6,2,  4.4776,    188.6,2,    41.78,2,    31.24,2,     0.00,2,     2.14,2,    0.388,2,    0.256,2,   -999.0,9,  -999.00,9,   2203.7,2,   1018.2,2,   2313.5,2,     7.63,2, -999.00,  -999.0, -999.00,  -999.0
    31DSCG96_1,  P15S,    77,  1,    116,   1211,2,19960130,2127,-45.5603,-172.2787, 4953,   -999,   1316.3,   3.8577,  34.4519,2,  34.4587,3,    181.5,2,  3.7565,    177.9,2,    56.86,2,    32.79,2,     0.00,2,     2.24,2,    0.249,2,    0.152,2,   -999.0,9,  -999.00,9,   -999.0,9,   -999.0,9,   -999.0,9,  -999.00,9, -999.00,  -999.0, -999.00,  -999.0
    31DSCG96_1,  P15S,    77,  1,    115,   1041,2,19960130,2127,-45.5603,-172.2787, 4953,   -999,   1563.9,   3.1004,  34.5049,2,  34.5053,2,    174.8,2,  2.9862,    171.6,6,    71.13,2,    34.24,2,     0.00,2,     2.34,2,    0.252,2,    0.193,4,   -999.0,9,  -999.00,9,   2245.8,2,   1149.5,2,   2340.5,2,     7.58,2, -999.00,  -999.0, -999.00,  -999.0
    31DSCG96_1,  P15S,    77,  1,    114,   1017,2,19960130,2127,-45.5603,-172.2787, 4953,   -999,   1812.5,   2.6411,  34.5852,2,  34.5845,2,    168.9,2,  2.5113,    164.3,2,    87.12,2,    34.62,2,     0.00,2,     2.37,2,    0.121,2,    0.124,4,   -999.0,9,  -999.00,9,   -999.0,9,   -999.0,9,   -999.0,9,     7.58,2, -999.00,  -999.0, -999.00,  -999.0
    31DSCG96_1,  P15S,    77,  1,    113,   1302,2,19960130,2127,-45.5603,-172.2787, 4953,   -999,   2066.1,   2.3782,  34.6379,2,  34.6371,2,    164.3,2,  2.2303,    167.4,2,    89.78,2,    34.08,2,     0.00,2,     2.33,2,    0.098,2,    0.197,4,   -999.0,9,  -999.00,9,   2266.1,2,   1180.9,2,   2358.8,2,     7.58,2, -999.00,  -999.0, -999.00,  -999.0
    31DSCG96_1,  P15S,    77,  1,    112,   1217,2,19960130,2127,-45.5603,-172.2787, 4953,   -999,   2314.5,   2.1976,  34.6855,2,  34.6852,2,    174.2,2,  2.0304,    174.9,6,    90.90,2,    33.09,2,     0.00,2,     2.26,2,    0.063,6,    0.127,4,   -999.0,9,  -999.00,9,   -999.0,9,   -999.0,9,   -999.0,9,     7.59,2, -999.00,  -999.0, -999.00,  -999.0
    31DSCG96_1,  P15S,    77,  1,    111,   1114,2,19960130,2127,-45.5603,-172.2787, 4953,   -999,   2564.6,   2.0655,  34.7193,2,  34.7188,2,    184.3,2,  1.8777,    185.2,2,    89.11,2,    31.92,2,     0.00,2,     2.17,2,    0.056,2,    0.037,2,   -999.0,9,  -999.00,9,   2253.0,2,   1170.9,3,   2354.2,2,     7.60,2, -999.00,  -999.0, -999.00,  -999.0
    31DSCG96_1,  P15S,    77,  1,    110,   1301,2,19960130,2127,-45.5603,-172.2787, 4953,   -999,   2810.5,   1.9050,  34.7328,2,  34.7322,2,    190.3,2,  1.6973,    190.8,6,    92.64,2,    31.55,2,     0.00,2,     2.15,2,    0.041,2,    0.034,4,   -999.0,9,  -999.00,9,   -999.0,9,   -999.0,9,   -999.0,9,     7.61,2, -999.00,  -999.0, -999.00,  -999.0
    31DSCG96_1,  P15S,    77,  1,    109,   1242,2,19960130,2127,-45.5603,-172.2787, 4953,   -999,   3064.6,   1.6918,  34.7353,2,  34.7345,2,    194.7,2,  1.4642,    195.1,2,    98.57,2,    31.52,2,     0.00,2,     2.14,2,    0.032,2,    0.022,2,   -999.0,9,  -999.00,9,   2253.0,2,   1085.4,2,   2365.1,2,     7.61,2, -999.00,  -999.0, -999.00,  -999.0
    31DSCG96_1,  P15S,    77,  1,    108,   1263,2,19960130,2127,-45.5603,-172.2787, 4953,   -999,   3312.0,   1.5121,  34.7316,2,  34.7300,2,    198.2,2,  1.2643,    198.3,2,   103.87,2,    31.66,2,     0.00,2,     2.15,2,    0.033,2,    0.027,4,   -999.0,9,  -999.00,9,   -999.0,9,   -999.0,9,   -999.0,9,     7.61,2, -999.00,  -999.0, -999.00,  -999.0
    31DSCG96_1,  P15S,    77,  1,    107,   1245,2,19960130,2127,-45.5603,-172.2787, 4953,   -999,   3565.6,   1.2822,  34.7244,2,  34.7230,2,    201.5,2,  1.0146,    206.8,3,   110.54,2,    31.91,2,     0.00,2,     2.17,2,    0.036,2,    0.023,2,   -999.0,9,  -999.00,9,   2257.2,2,   1136.2,3,   2364.2,2,     7.61,2, -999.00,  -999.0, -999.00,  -999.0
    31DSCG96_1,  P15S,    77,  1,    106,   1262,2,19960130,2127,-45.5603,-172.2787, 4953,   -999,   3813.5,   1.1162,  34.7175,2,  34.7171,2,    204.5,2,  0.8276,    204.9,6,   115.43,2,    32.11,2,     0.00,2,     2.18,2,    0.048,2,    0.034,2,   -999.0,9,  -999.00,9,   -999.0,9,   -999.0,9,   -999.0,9,     7.61,2, -999.00,  -999.0, -999.00,  -999.0
    31DSCG96_1,  P15S,    77,  1,    105,   1113,2,19960130,2127,-45.5603,-172.2787, 4953,   -999,   4062.8,   0.9924,  34.7116,2,  34.7104,2,    206.8,2,  0.6809,    207.2,2,   119.22,2,    32.26,2,     0.00,2,     2.19,2,    0.064,2,    0.039,2,   -999.0,9,  -999.00,9,   2258.3,2,   1055.8,3,   2363.5,2,     7.61,2, -999.00,  -999.0, -999.00,  -999.0
    31DSCG96_1,  P15S,    77,  1,    104,   1003,2,19960130,2127,-45.5603,-172.2787, 4953,   -999,   4314.6,   0.9366,  34.7081,2,  34.7085,2,    208.2,2,  0.5996,    208.0,2,   121.49,2,    32.32,2,     0.00,2,     2.20,2,    0.070,2,    0.047,2,   -999.0,9,  -999.00,9,   -999.0,9,   -999.0,9,   -999.0,9,     7.61,2, -999.00,  -999.0, -999.00,  -999.0
    31DSCG96_1,  P15S,    77,  1,    103,   1216,2,19960130,2127,-45.5603,-172.2787, 4953,   -999,   4567.0,   0.9090,  34.7064,2,  34.7051,2,    209.2,2,  0.5447,    209.2,2,   123.04,2,    32.40,2,     0.00,2,     2.20,2,    0.084,2,    0.062,4,   -999.0,9,  -999.00,9,   2259.3,2,   1100.5,2,   2364.5,2,     7.61,3, -999.00,  -999.0, -999.00,  -999.0
    31DSCG96_1,  P15S,    77,  1,    102,   1030,2,19960130,2127,-45.5603,-172.2787, 4953,   -999,   4815.1,   0.9090,  34.7047,2,  34.7044,2,    209.5,2,  0.5163,    209.3,2,   123.86,2,    32.42,2,     0.00,2,     2.20,2,    0.090,6,    0.058,6,   -999.0,9,  -999.00,9,   -999.0,9,   -999.0,9,   -999.0,9,     7.61,3, -999.00,  -999.0, -999.00,  -999.0
    31DSCG96_1,  P15S,    77,  1,    101,   1022,2,19960130,2127,-45.5603,-172.2787, 4953,   -999,   5056.0,   0.9220,  34.7042,2,  34.7048,2,    209.7,2,  0.5006,    214.2,3,   124.53,6,    32.43,6,     0.00,6,     2.21,6,    0.102,2,    0.068,2,   -999.0,9,  -999.00,9,   2259.8,2,   1099.7,2,   2366.2,2,     7.61,2, -999.00,  -999.0, -999.00,  -999.0