BOTTLE,20220811CCHSIOAMB
EXPOCODE,SECT_ID,STNNBR,CASTNO,SAMPNO,BTLNBR,BTLNBR_FLAG_W,DATE,TIME,LATITUDE,LONGITUDE,DEPTH,CTDRAW,CTDPRS,CTDTMP,CTDSAL,CTDSAL_FLAG_W,SALNTY,SALNTY_FLAG_W,CTDOXY,CTDOXY_FLAG_W,THETA,OXYGEN,OXYGEN_FLAG_W,SILCAT,SILCAT_FLAG_W,NITRAT,NITRAT_FLAG_W,NITRIT,NITRIT_FLAG_W,PHSPHT,PHSPHT_FLAG_W,CFC-11,CFC-11_FLAG_W,CFC-12,CFC-12_FLAG_W,DELC14,DELC14_FLAG_W,DELC13,DELC13_FLAG_W,TCARBN,TCARBN_FLAG_W,PCO2,PCO2_FLAG_W,ALKALI,ALKALI_FLAG_W,PH,PH_FLAG_W,PCO2TMP,C14ERR,PH_TMP,C13ERR
,,,,,,,,,,,,DBAR,DBAR,ITS-90,PSS-78,,PSS-78,,UMOL/KG,,DEG C,UMOL/KG,,UMOL/KG,,UMOL/KG,,UMOL/KG,,UMOL/KG,,PMOL/KG,,PMOL/KG,,/MILLE,,/MILLE,,UMOL/KG,,UATM,,UMOL/KG,,,,DEG C,/MILLE,DEG C,/MILLE
    31DSCG96_2,  P15S,    98,  1,    136,   1245,2,19960214,2202,-38.6302,-171.8105, 4901,   -999,      4.9,  19.9231,  35.2820,2,  35.2818,2,    228.6,2, 19.9222,    229.2,2,     1.47,2,     0.00,2,     0.00,2,     0.11,2,    2.402,2,    1.319,2,     88.3,2,  -999.00,9,   2033.0,2,    361.2,2,   -999.0,9,     8.00,2, -999.00,     2.9, -999.00,  -999.0
    31DSCG96_2,  P15S,    98,  1,    135,   1113,2,19960214,2202,-38.6302,-171.8105, 4901,   -999,     21.4,  19.7669,  35.2902,2,  35.2909,2,    228.6,2, 19.7630,    228.5,2,     1.47,2,     0.00,2,     0.00,2,     0.11,2, -999.000,9, -999.000,9,   -999.0,9,  -999.00,9,   -999.0,9,   -999.0,9,   -999.0,9,     8.01,2, -999.00,  -999.0, -999.00,  -999.0
    31DSCG96_2,  P15S,    98,  1,    134,   1119,2,19960214,2202,-38.6302,-171.8105, 4901,   -999,     46.3,  17.9037,  35.1652,2,  35.2724,4,    230.7,2, 17.8958,    237.9,2,     1.47,2,     0.01,2,     0.00,2,     0.12,2,    2.526,6,    1.372,6,   -999.0,9,  -999.00,9,   -999.0,9,   -999.0,9,   -999.0,9,     8.01,2, -999.00,  -999.0, -999.00,  -999.0
    31DSCG96_2,  P15S,    98,  1,    133,   1221,2,19960214,2202,-38.6302,-171.8105, 4901,   -999,     68.7,  13.4963,  35.0155,2,  35.0263,2,    260.1,2, 13.4867,    263.3,2,     1.87,2,     0.13,2,     0.00,2,     0.21,2,    3.202,2,    1.706,2,   -999.0,9,  -999.00,9,   -999.0,9,   -999.0,9,   -999.0,9,     7.96,2, -999.00,  -999.0, -999.00,  -999.0
    31DSCG96_2,  P15S,    98,  1,    132,   1039,2,19960214,2202,-38.6302,-171.8105, 4901,   -999,     93.7,  12.7434,  35.0537,2,  35.0551,2,    254.3,2, 12.7307,    238.7,2,     2.31,2,     5.07,2,     0.06,2,     0.46,2,    3.155,2,    1.648,2,   -999.0,9,  -999.00,9,   -999.0,9,   -999.0,9,   -999.0,9,     7.90,2, -999.00,  -999.0, -999.00,  -999.0
    31DSCG96_2,  P15S,    98,  1,    131,   1014,2,19960214,2202,-38.6302,-171.8105, 4901,   -999,    119.3,  12.4781,  35.0393,2,  35.0397,2,    237.6,2, 12.4622,    238.3,2,     2.52,2,     6.14,2,     0.02,2,     0.52,2,    3.177,2,    1.660,2,   -999.0,9,  -999.00,9,   -999.0,9,   -999.0,9,   -999.0,9,     7.90,2, -999.00,  -999.0, -999.00,  -999.0
    31DSCG96_2,  P15S,    98,  1,    130,   1257,2,19960214,2202,-38.6302,-171.8105, 4901,   -999,    145.3,  12.1770,  35.0203,2,  35.0151,2,    240.2,2, 12.1579,    237.0,6,     2.82,2,     7.31,2,     0.01,2,     0.58,2,    3.183,2,    1.656,2,   -999.0,9,  -999.00,9,   -999.0,9,   -999.0,9,   -999.0,9,     7.88,2, -999.00,  -999.0, -999.00,  -999.0
    31DSCG96_2,  P15S,    98,  1,    129,   1256,2,19960214,2202,-38.6302,-171.8105, 4901,   -999,    190.1,  11.7506,  34.9907,2,  34.9939,2,    237.5,2, 11.7261,    225.5,2,     3.67,2,    10.22,2,     0.01,2,     0.74,2,    3.054,2,    1.570,2,   -999.0,9,  -999.00,9,   -999.0,9,   -999.0,9,   -999.0,9,     7.85,2, -999.00,  -999.0, -999.00,  -999.0
    31DSCG96_2,  P15S,    98,  1,    128,   1007,2,19960214,2202,-38.6302,-171.8105, 4901,   -999,    240.7,  11.0159,  34.8863,2,  34.8926,2,    226.3,2, 10.9861,    218.2,2,     4.49,2,    12.75,2,     0.00,2,     0.90,2,    2.950,2,    1.566,2,   -999.0,9,  -999.00,9,   -999.0,9,   -999.0,9,   -999.0,9,     7.82,2, -999.00,  -999.0, -999.00,  -999.0
    31DSCG96_2,  P15S,    98,  1,    127,   1232,2,19960214,2202,-38.6302,-171.8105, 4901,   -999,    289.8,  10.4030,  34.8034,2,  34.8022,2,    218.6,2, 10.3684,    210.1,2,     5.48,2,    15.32,2,     0.00,2,     1.06,2,    2.756,2,    1.407,2,   -999.0,9,  -999.00,9,   -999.0,9,   -999.0,9,   -999.0,9,     7.79,2, -999.00,  -999.0, -999.00,  -999.0
    31DSCG96_2,  P15S,    98,  1,    126,   1025,2,19960214,2202,-38.6302,-171.8105, 4901,   -999,    344.9,   9.7342,  34.7220,2,  34.7221,2,    208.1,2,  9.6947,    204.5,2,     6.56,2,    17.65,2,     0.00,2,     1.20,2,    2.510,2,    1.267,2,   -999.0,9,  -999.00,9,   -999.0,9,   -999.0,9,   -999.0,9,     7.77,2, -999.00,  -999.0, -999.00,  -999.0
    31DSCG96_2,  P15S,    98,  1,    125,   1233,2,19960214,2202,-38.6302,-171.8105, 4901,   -999,    390.0,   9.2137,  34.6603,2,  34.6582,2,    205.8,2,  9.1704,    204.2,2,     7.32,2,    19.15,2,     0.00,2,     1.30,2,    2.367,2,    1.178,2,   -999.0,9,  -999.00,9,   -999.0,9,   -999.0,9,   -999.0,9,     7.75,2, -999.00,  -999.0, -999.00,  -999.0
    31DSCG96_2,  P15S,    98,  1,    124,   1013,2,19960214,2202,-38.6302,-171.8105, 4901,   -999,    472.0,   8.4363,  34.5753,2,  34.5739,2,    210.0,2,  8.3865,    209.3,2,     8.51,2,    20.87,2,     0.00,2,     1.41,2,    2.147,2,    1.063,2,   -999.0,9,  -999.00,9,   -999.0,9,   -999.0,9,   -999.0,9,     7.73,2, -999.00,  -999.0, -999.00,  -999.0
    31DSCG96_2,  P15S,    98,  1,    123,   1250,2,19960214,2202,-38.6302,-171.8105, 4901,   -999,    576.5,   7.7799,  34.5104,2,  34.5094,2,    214.6,2,  7.7215,    214.4,2,     9.60,2,    22.14,2,     0.00,2,     1.49,2,    1.765,2,    0.862,2,   -999.0,9,  -999.00,9,   -999.0,9,   -999.0,9,   -999.0,9,     7.73,2, -999.00,  -999.0, -999.00,  -999.0
    31DSCG96_2,  P15S,    98,  1,    122,   1265,2,19960214,2202,-38.6302,-171.8105, 4901,   -999,    676.0,   7.1893,  34.4628,2,  34.4629,2,    214.5,2,  7.1233,    213.9,6,    12.17,2,    23.72,2,     0.00,2,     1.60,2,    1.220,2,    0.625,2,   -999.0,9,  -999.00,9,   -999.0,9,   -999.0,9,   -999.0,9,     7.72,2, -999.00,  -999.0, -999.00,  -999.0
    31DSCG96_2,  P15S,    98,  1,    121,   1246,2,19960214,2202,-38.6302,-171.8105, 4901,   -999,    776.5,   6.6540,  34.4319,2,  34.4309,2,    209.1,2,  6.5809,    209.4,2,    15.67,2,    25.32,2,     0.00,2,     1.71,2,    0.817,2,    0.416,2,   -999.0,9,  -999.00,9,   -999.0,9,   -999.0,9,   -999.0,9,     7.70,2, -999.00,  -999.0, -999.00,  -999.0
    31DSCG96_2,  P15S,    98,  1,    120,   1015,2,19960214,2202,-38.6302,-171.8105, 4901,   -999,    877.1,   6.1612,  34.4229,2,  34.4244,2,    200.8,2,  6.0813,    201.1,2,    21.57,2,    27.08,2,     0.00,2,     1.83,2,    0.501,2,    0.265,2,   -999.0,9,  -999.00,9,   -999.0,9,   -999.0,9,   -999.0,9,     7.68,2, -999.00,  -999.0, -999.00,  -999.0
    31DSCG96_2,  P15S,    98,  1,    119,   1247,2,19960214,2202,-38.6302,-171.8105, 4901,   -999,    977.0,   5.5120,  34.4179,2,  34.4175,2,    195.8,2,  5.4271,    192.9,2,    29.76,2,    28.99,2,     0.00,2,     1.97,2,    0.281,2,    0.150,2,   -999.0,9,  -999.00,9,   -999.0,9,   -999.0,9,   -999.0,9,     7.66,2, -999.00,  -999.0, -999.00,  -999.0
    31DSCG96_2,  P15S,    98,  1,    118,   1222,2,19960214,2202,-38.6302,-171.8105, 4901,   -999,   1078.0,   4.9519,  34.4270,2,  34.4278,2,    187.6,2,  4.8620,    185.4,2,    38.64,2,    30.50,2,     0.00,2,     2.07,2,    0.170,2,    0.104,2,   -999.0,9,  -999.00,9,   -999.0,9,   -999.0,9,   -999.0,9,     7.64,2, -999.00,  -999.0, -999.00,  -999.0
    31DSCG96_2,  P15S,    98,  1,    117,   1267,2,19960214,2202,-38.6302,-171.8105, 4901,   -999,   1175.7,   4.3807,  34.4372,2,  34.4367,2,    182.3,2,  4.2869,    179.2,2,    47.39,2,    31.79,2,     0.00,2,     2.17,2,    0.115,2,    0.070,2,   -999.0,9,  -999.00,9,   -999.0,9,   -999.0,9,   -999.0,9,     7.62,2, -999.00,  -999.0, -999.00,  -999.0
    31DSCG96_2,  P15S,    98,  1,    116,   1211,2,19960214,2202,-38.6302,-171.8105, 4901,   -999,   1277.2,   3.9180,  34.4687,2,  34.4697,2,    175.1,2,  3.8196,    173.7,2,    58.31,2,    32.77,2,     0.00,2,     2.25,2,    0.064,2,    0.046,2,   -999.0,9,  -999.00,9,   -999.0,9,   -999.0,9,   -999.0,9,     7.61,2, -999.00,  -999.0, -999.00,  -999.0
    31DSCG96_2,  P15S,    98,  1,    115,   1041,2,19960214,2202,-38.6302,-171.8105, 4901,   -999,   1453.8,   3.3399,  34.5136,2,  34.5139,2,    165.6,2,  3.2322,    165.8,2,    73.00,2,    33.92,2,     0.00,2,     2.33,2,    0.028,2,    0.024,2,   -999.0,9,  -999.00,9,   -999.0,9,   -999.0,9,   -999.0,9,     7.59,2, -999.00,  -999.0, -999.00,  -999.0
    31DSCG96_2,  P15S,    98,  1,    114,   1017,2,19960214,2202,-38.6302,-171.8105, 4901,   -999,   1690.5,   2.8205,  34.5716,2,  34.5712,2,    157.9,2,  2.6988,    157.5,2,    90.89,2,    34.80,2,     0.00,2,     2.40,2,    0.009,2,    0.010,2,   -999.0,9,  -999.00,9,   -999.0,9,   -999.0,9,   -999.0,9,     7.58,2, -999.00,  -999.0, -999.00,  -999.0
    31DSCG96_2,  P15S,    98,  1,    113,   1302,2,19960214,2202,-38.6302,-171.8105, 4901,   -999,   1938.7,   2.5201,  34.6057,2,  34.6046,2,    152.8,2,  2.3812,    151.8,6,   103.28,2,    35.38,2,     0.00,2,     2.45,2,    0.008,2,    0.010,4,   -999.0,9,  -999.00,9,   -999.0,9,   -999.0,9,   -999.0,9,     7.58,2, -999.00,  -999.0, -999.00,  -999.0
    31DSCG96_2,  P15S,    98,  1,    112,   1217,2,19960214,2202,-38.6302,-171.8105, 4901,   -999,   2191.9,   2.3343,  34.6271,2,  34.6269,2,    151.1,2,  2.1760,    150.6,2,   111.29,2,    35.61,2,     0.00,2,     2.46,2,    0.002,2,    0.008,2,   -999.0,9,  -999.00,9,   -999.0,9,   -999.0,9,   -999.0,9,     7.58,2, -999.00,  -999.0, -999.00,  -999.0
    31DSCG96_2,  P15S,    98,  1,    111,   1114,2,19960214,2202,-38.6302,-171.8105, 4901,   -999,   2436.2,   2.1990,  34.6417,2,  34.6411,2,    151.1,2,  2.0209,    150.1,2,   115.87,2,    35.63,2,     0.00,2,     2.47,2,    0.001,2,    0.002,2,   -999.0,9,  -999.00,9,   -999.0,9,   -999.0,9,   -999.0,9,     7.57,2, -999.00,  -999.0, -999.00,  -999.0
    31DSCG96_2,  P15S,    98,  1,    110,   1301,2,19960214,2202,-38.6302,-171.8105, 4901,   -999,   2689.4,   2.0387,  34.6613,2,  34.6604,2,    154.1,2,  1.8401,    153.5,2,   118.17,2,    35.34,2,     0.00,2,     2.44,2, -999.000,5, -999.000,5,   -999.0,9,  -999.00,9,   -999.0,9,   -999.0,9,   -999.0,9,     7.58,3, -999.00,  -999.0, -999.00,  -999.0
    31DSCG96_2,  P15S,    98,  1,    109,   1242,2,19960214,2202,-38.6302,-171.8105, 4901,   -999,   2941.9,   1.9283,  34.6988,2,  34.6979,2,    172.2,2,  1.7076,    172.3,2,   106.56,2,    33.41,2,     0.00,2,     2.30,2,    0.011,2,    0.009,2,   -999.0,9,  -999.00,9,   -999.0,9,   -999.0,9,   -999.0,9,     7.59,2, -999.00,  -999.0, -999.00,  -999.0
    31DSCG96_2,  P15S,    98,  1,    108,   1263,2,19960214,2202,-38.6302,-171.8105, 4901,   -999,   3188.9,   1.7600,  34.7192,2,  34.7187,2,    185.3,2,  1.5187,    185.2,2,   103.79,2,    32.35,2,     0.00,2,     2.21,2,    0.010,2,    0.009,2,   -999.0,9,  -999.00,9,   -999.0,9,   -999.0,9,   -999.0,9,     7.60,2, -999.00,  -999.0, -999.00,  -999.0
    31DSCG96_2,  P15S,    98,  1,    107,   1227,2,19960214,2202,-38.6302,-171.8105, 4901,   -999,   3437.8,   1.5725,  34.7277,2,  34.7268,2,    194.5,2,  1.3106,    194.2,6,   104.60,2,    31.88,2,     0.00,2,     2.17,2,    0.010,2,    0.010,2,   -999.0,9,  -999.00,9,   -999.0,9,   -999.0,9,   -999.0,9,     7.61,2, -999.00,  -999.0, -999.00,  -999.0
    31DSCG96_2,  P15S,    98,  1,    106,   1262,2,19960214,2202,-38.6302,-171.8105, 4901,   -999,   3688.3,   1.3739,  34.7256,2,  34.7242,2,    199.7,2,  1.0913,    199.3,2,   108.90,2,    31.79,2,     0.00,2,     2.17,2,    0.013,2,    0.013,2,   -999.0,9,  -999.00,9,   -999.0,9,   -999.0,9,   -999.0,9,     7.61,2, -999.00,  -999.0, -999.00,  -999.0
    31DSCG96_2,  P15S,    98,  1,    105,   1264,2,19960214,2202,-38.6302,-171.8105, 4901,   -999,   3940.3,   1.1965,  34.7191,2,  34.7185,2,    202.9,2,  0.8922,    202.8,2,   113.93,2,    32.02,2,     0.00,2,     2.17,2,    0.021,2,    0.016,2,   -999.0,9,  -999.00,9,   -999.0,9,   -999.0,9,   -999.0,9,     7.61,2, -999.00,  -999.0, -999.00,  -999.0
    31DSCG96_2,  P15S,    98,  1,    104,   1003,2,19960214,2202,-38.6302,-171.8105, 4901,   -999,   4193.8,   1.0509,  34.7128,2,  34.7132,2,    205.6,2,  0.7236,    205.3,2,   118.40,2,    32.21,2,     0.00,2,     2.19,2,    0.032,2,    0.022,2,   -999.0,9,  -999.00,9,   -999.0,9,   -999.0,9,   -999.0,9,     7.61,2, -999.00,  -999.0, -999.00,  -999.0
    31DSCG96_2,  P15S,    98,  1,    103,    999,2,19960214,2202,-38.6302,-171.8105, 4901,   -999,   4441.0,   0.9836,  34.7089,2,  34.7092,2,    207.3,2,  0.6311,    206.0,2,  -999.00,9,  -999.00,9,  -999.00,9,  -999.00,9,    0.033,2,    0.021,2,   -999.0,9,  -999.00,9,   -999.0,9,   -999.0,9,   -999.0,9,     7.61,2, -999.00,  -999.0, -999.00,  -999.0
    31DSCG96_2,  P15S,    98,  1,    102,   1030,2,19960214,2202,-38.6302,-171.8105, 4901,   -999,   4685.8,   0.9631,  34.7073,2,  34.7074,2,    207.5,2,  0.5835,    207.3,2,   122.31,2,    32.35,2,     0.00,2,     2.20,2,    0.046,6,    0.030,6,   -999.0,9,  -999.00,9,   -999.0,9,   -999.0,9,   -999.0,9,     7.61,2, -999.00,  -999.0, -999.00,  -999.0
    31DSCG96_2,  P15S,    98,  1,    101,   1022,2,19960214,2202,-38.6302,-171.8105, 4901,   -999,   5000.5,   0.9611,  34.7052,2,  34.7049,2,    208.0,2,  0.5449,    208.0,2,   123.41,6,    32.38,6,     0.00,6,     2.21,2,    0.067,2,    0.040,2,   -999.0,9,  -999.00,9,   -999.0,9,   -999.0,9,   -999.0,9,     7.61,2, -999.00,  -999.0, -999.00,  -999.0