BOTTLE,20220811CCHSIOAMB
EXPOCODE,SECT_ID,STNNBR,CASTNO,SAMPNO,BTLNBR,BTLNBR_FLAG_W,DATE,TIME,LATITUDE,LONGITUDE,DEPTH,CTDRAW,CTDPRS,CTDTMP,CTDSAL,CTDSAL_FLAG_W,SALNTY,SALNTY_FLAG_W,CTDOXY,CTDOXY_FLAG_W,THETA,OXYGEN,OXYGEN_FLAG_W,SILCAT,SILCAT_FLAG_W,NITRAT,NITRAT_FLAG_W,NITRIT,NITRIT_FLAG_W,PHSPHT,PHSPHT_FLAG_W,CFC-11,CFC-11_FLAG_W,CFC-12,CFC-12_FLAG_W,DELC14,DELC14_FLAG_W,DELC13,DELC13_FLAG_W,TCARBN,TCARBN_FLAG_W,PCO2,PCO2_FLAG_W,ALKALI,ALKALI_FLAG_W,PH,PH_FLAG_W,PCO2TMP,C14ERR,PH_TMP,C13ERR
,,,,,,,,,,,,DBAR,DBAR,ITS-90,PSS-78,,PSS-78,,UMOL/KG,,DEG C,UMOL/KG,,UMOL/KG,,UMOL/KG,,UMOL/KG,,UMOL/KG,,PMOL/KG,,PMOL/KG,,/MILLE,,/MILLE,,UMOL/KG,,UATM,,UMOL/KG,,,,DEG C,/MILLE,DEG C,/MILLE
    31DSCG96_2,  P15S,   149,  1,    136,   1245,2,19960228,1225,-14.2822,-169.9965, 3540,   -999,      4.3,  29.3446,  34.6495,2,  34.6484,2,    188.8,2, 29.3435,    194.0,2,     1.41,2,     0.00,2,     0.00,2,     0.13,2, -999.000,9, -999.000,9,     91.0,2,  -999.00,9,   1912.4,2,    248.4,3,   2278.2,2,     8.15,2, -999.00,     3.9, -999.00,  -999.0
    31DSCG96_2,  P15S,   149,  1,    135,   1113,2,19960228,1225,-14.2822,-169.9965, 3540,   -999,     14.6,  29.3436,  34.6507,2,  34.6625,2,    188.0,2, 29.3400,    194.0,2,     1.49,2,     0.00,2,     0.00,2,     0.13,2, -999.000,9, -999.000,9,   -999.0,9,  -999.00,9,   1913.2,2,    235.5,2,   2280.1,2,     8.15,2, -999.00,  -999.0, -999.00,  -999.0
    31DSCG96_2,  P15S,   149,  1,    134,   1267,2,19960228,1225,-14.2822,-169.9965, 3540,   -999,     29.3,  29.3130,  34.7188,2,  34.7294,2,    186.5,2, 29.3059,    194.7,2,     1.49,2,     0.00,2,     0.00,2,     0.13,2, -999.000,9, -999.000,9,   -999.0,9,  -999.00,9,   1915.7,2,    228.0,2,   2281.3,2,     8.15,2, -999.00,  -999.0, -999.00,  -999.0
    31DSCG96_2,  P15S,   149,  1,    133,   1221,2,19960228,1225,-14.2822,-169.9965, 3540,   -999,     54.6,  29.5243,  35.3588,2,  35.4022,3,    199.1,2, 29.5110,    200.0,2,     1.37,2,     0.00,2,     0.00,2,     0.16,2, -999.000,9, -999.000,9,   -999.0,9,  -999.00,9,   1956.3,2,    237.6,2,   2331.0,2,     8.15,2, -999.00,  -999.0, -999.00,  -999.0
    31DSCG96_2,  P15S,   149,  1,    132,   1039,2,19960228,1225,-14.2822,-169.9965, 3540,   -999,     79.5,  28.2137,  35.5217,2,  35.5797,3,    194.6,2, 28.1949,    201.2,2,     1.37,2,     0.00,2,     0.00,2,     0.15,2, -999.000,9, -999.000,9,   -999.0,9,  -999.00,9,   -999.0,9,   -999.0,9,   -999.0,9,     8.14,2, -999.00,  -999.0, -999.00,  -999.0
    31DSCG96_2,  P15S,   149,  1,    131,   1014,2,19960228,1225,-14.2822,-169.9965, 3540,   -999,    104.6,  27.5001,  36.0514,2,  36.0970,3,    193.7,2, 27.4757,    188.5,2,     1.38,2,     0.00,2,     0.00,2,     0.22,2, -999.000,9, -999.000,9,   -999.0,9,  -999.00,9,   2020.5,2,    271.4,2,   2376.1,2,     8.10,2, -999.00,  -999.0, -999.00,  -999.0
    31DSCG96_2,  P15S,   149,  1,    130,   1257,2,19960228,1225,-14.2822,-169.9965, 3540,   -999,    129.9,  25.9140,  36.2824,2,  36.2896,2,    174.2,2, 25.8849,    169.7,2,     1.40,2,     0.95,2,     0.38,2,     0.35,2, -999.000,9, -999.000,9,   -999.0,9,  -999.00,9,   -999.0,9,   -999.0,9,   -999.0,9,     8.06,2, -999.00,  -999.0, -999.00,  -999.0
    31DSCG96_2,  P15S,   149,  1,    129,   1256,2,19960228,1225,-14.2822,-169.9965, 3540,   -999,    154.9,  24.7423,  36.3092,2,  36.3107,2,    161.3,2, 24.7087,    161.2,2,     1.49,2,     2.97,2,     0.42,2,     0.46,2, -999.000,9, -999.000,9,   -999.0,9,  -999.00,9,   2078.8,2,    345.1,2,   2389.5,2,     8.03,2, -999.00,  -999.0, -999.00,  -999.0
    31DSCG96_2,  P15S,   149,  1,    128,   1007,2,19960228,1225,-14.2822,-169.9965, 3540,   -999,    178.4,  23.6836,  36.2570,2,  36.2574,2,    159.2,2, 23.6462,    158.9,2,     1.44,2,     4.09,2,     0.08,2,     0.51,2, -999.000,9, -999.000,9,   -999.0,9,  -999.00,9,   -999.0,9,   -999.0,9,   -999.0,9,     8.01,2, -999.00,  -999.0, -999.00,  -999.0
    31DSCG96_2,  P15S,   149,  1,    127,   1232,2,19960228,1225,-14.2822,-169.9965, 3540,   -999,    204.6,  22.9461,  36.1894,2,  36.1928,2,    157.8,2, 22.9041,    158.4,2,     1.50,2,     4.48,2,     0.03,2,     0.54,2, -999.000,9, -999.000,9,   -999.0,9,  -999.00,9,   2094.8,2,    377.4,2,   2382.5,2,     7.99,2, -999.00,  -999.0, -999.00,  -999.0
    31DSCG96_2,  P15S,   149,  1,    126,   1025,2,19960228,1225,-14.2822,-169.9965, 3540,   -999,    230.0,  20.9825,  35.9392,2,  35.9491,2,    152.7,2, 20.9383,    154.4,2,     1.95,2,     6.26,2,     0.01,2,     0.66,2, -999.000,9, -999.000,9,   -999.0,9,  -999.00,9,   -999.0,9,   -999.0,9,   -999.0,9,     7.95,2, -999.00,  -999.0, -999.00,  -999.0
    31DSCG96_2,  P15S,   149,  1,    125,   1119,2,19960228,1225,-14.2822,-169.9965, 3540,   -999,    263.7,  19.4449,  35.7149,2,  35.7210,2,    150.8,2, 19.3968,    150.7,2,     2.77,2,     7.68,2,     0.01,2,     0.77,2, -999.000,9, -999.000,9,   -999.0,9,  -999.00,9,   2113.5,3,    485.9,2,   2355.4,2,     7.91,2, -999.00,  -999.0, -999.00,  -999.0
    31DSCG96_2,  P15S,   149,  1,    124,   1244,2,19960228,1225,-14.2822,-169.9965, 3540,   -999,    314.7,  16.5856,  35.3254,2,  35.3228,2,    143.5,2, 16.5342,    141.6,2,     5.07,2,    11.13,2,     0.00,2,     0.99,2, -999.000,9, -999.000,9,   -999.0,9,  -999.00,9,   2124.7,2,   -999.0,9,   2326.8,2,     7.85,2, -999.00,  -999.0, -999.00,  -999.0
    31DSCG96_2,  P15S,   149,  1,    123,   1250,2,19960228,1225,-14.2822,-169.9965, 3540,   -999,    364.4,  12.9680,  34.9138,2,  34.9056,2,    128.8,2, 12.9177,    121.0,2,    10.82,2,    18.54,2,     0.00,2,     1.49,2, -999.000,9, -999.000,9,   -999.0,9,  -999.00,9,   -999.0,9,   -999.0,9,   -999.0,9,     7.73,2, -999.00,  -999.0, -999.00,  -999.0
    31DSCG96_2,  P15S,   149,  1,    122,   1265,2,19960228,1225,-14.2822,-169.9965, 3540,   -999,    413.3,  10.0969,  34.6685,2,  34.6630,2,    120.3,2, 10.0483,    130.5,2,    15.93,2,    23.77,2,     0.00,2,     1.77,2, -999.000,9, -999.000,9,   -999.0,9,  -999.00,9,   2173.2,2,    886.0,2,   2300.0,2,     7.67,2, -999.00,  -999.0, -999.00,  -999.0
    31DSCG96_2,  P15S,   149,  1,    121,   1246,2,19960228,1225,-14.2822,-169.9965, 3540,   -999,    463.6,   8.4845,  34.5663,2,  34.5675,2,    140.8,2,  8.4354,    142.8,2,    20.17,2,    26.33,2,     0.00,2,     1.89,2, -999.000,9, -999.000,9,   -999.0,9,  -999.00,9,   -999.0,9,   -999.0,9,   -999.0,9,     7.65,2, -999.00,  -999.0, -999.00,  -999.0
    31DSCG96_2,  P15S,   149,  1,    120,   1015,2,19960228,1225,-14.2822,-169.9965, 3540,   -999,    514.1,   7.4994,  34.5147,2,  34.5124,2,    149.2,2,  7.4486,    147.5,2,    24.61,2,    28.34,2,     0.00,2,     2.00,2, -999.000,9, -999.000,9,   -999.0,9,  -999.00,9,   2189.7,2,    986.4,2,   2300.7,2,     7.63,2, -999.00,  -999.0, -999.00,  -999.0
    31DSCG96_2,  P15S,   149,  1,    119,   1247,2,19960228,1225,-14.2822,-169.9965, 3540,   -999,    563.9,   6.7989,  34.4849,2,  34.4902,3,    153.3,2,  6.7460,    151.8,2,    28.67,2,    29.57,2,     0.00,2,     2.07,2, -999.000,9, -999.000,9,   -999.0,9,  -999.00,9,   -999.0,9,   -999.0,9,   -999.0,9,     7.62,2, -999.00,  -999.0, -999.00,  -999.0
    31DSCG96_2,  P15S,   149,  1,    118,   1299,2,19960228,1225,-14.2822,-169.9965, 3540,   -999,    624.3,   6.2183,  34.4716,2,  34.4727,2,    154.3,2,  6.1622,    151.6,2,    34.37,2,    30.93,2,     0.00,2,     2.15,2, -999.000,9, -999.000,9,   -999.0,9,  -999.00,9,   2204.8,2,   1036.8,2,   2309.3,2,     7.61,2, -999.00,  -999.0, -999.00,  -999.0
    31DSCG96_2,  P15S,   149,  1,    117,   1242,2,19960228,1225,-14.2822,-169.9965, 3540,   -999,    724.4,   5.4734,  34.4737,2,  34.4731,2,    146.2,2,  5.4119,    143.8,2,    44.67,2,    33.06,2,     0.00,2,     2.30,2, -999.000,9, -999.000,9,   -999.0,9,  -999.00,9,   -999.0,9,   -999.0,9,   -999.0,9,     7.58,2, -999.00,  -999.0, -999.00,  -999.0
    31DSCG96_2,  P15S,   149,  1,    116,   1259,2,19960228,1225,-14.2822,-169.9965, 3540,   -999,    824.2,   4.9289,  34.4854,2,  34.4851,2,    140.9,2,  4.8618,    139.0,2,    54.70,2,    34.37,2,     0.00,2,     2.40,2, -999.000,9, -999.000,9,   -999.0,9,  -999.00,9,   2237.6,2,   1152.5,2,   2328.7,2,     7.57,2, -999.00,  -999.0, -999.00,  -999.0
    31DSCG96_2,  P15S,   149,  1,    115,   1041,2,19960228,1225,-14.2822,-169.9965, 3540,   -999,    924.1,   4.5577,  34.4910,2,  34.4912,2,    141.8,2,  4.4843,    140.3,2,    60.68,2,    34.71,2,     0.00,2,     2.42,2,    0.013,2,    0.006,2,   -999.0,9,  -999.00,9,   -999.0,9,   -999.0,9,   -999.0,9,     7.57,2, -999.00,  -999.0, -999.00,  -999.0
    31DSCG96_2,  P15S,   149,  1,    114,   1017,2,19960228,1225,-14.2822,-169.9965, 3540,   -999,   1024.6,   4.2865,  34.5078,2,  34.5074,2,    135.9,2,  4.2065,    135.3,2,    67.72,2,    35.43,2,     0.00,2,     2.48,2, -999.000,9, -999.000,9,   -999.0,9,  -999.00,9,   2254.1,2,   1190.4,2,   2343.7,2,     7.56,2, -999.00,  -999.0, -999.00,  -999.0
    31DSCG96_2,  P15S,   149,  1,    113,   1302,2,19960228,1225,-14.2822,-169.9965, 3540,   -999,   1123.6,   3.7915,  34.5310,2,  34.5308,2,    134.7,2,  3.7072,    133.3,2,    78.85,2,    36.05,2,     0.00,2,     2.53,2, -999.000,9, -999.000,9,   -999.0,9,  -999.00,9,   -999.0,9,   -999.0,9,   -999.0,9,     7.55,2, -999.00,  -999.0, -999.00,  -999.0
    31DSCG96_2,  P15S,   149,  1,    112,   1217,2,19960228,1225,-14.2822,-169.9965, 3540,   -999,   1224.0,   3.5232,  34.5464,2,  34.5463,2,    132.8,2,  3.4330,    132.4,2,    85.28,2,    36.33,2,     0.00,2,     2.55,2, -999.000,9, -999.000,9,   -999.0,9,  -999.00,9,   -999.0,9,   -999.0,9,   -999.0,9,     7.55,2, -999.00,  -999.0, -999.00,  -999.0
    31DSCG96_2,  P15S,   149,  1,    111,   1226,2,19960228,1225,-14.2822,-169.9965, 3540,   -999,   1350.2,   3.2300,  34.5637,2,  34.5639,2,    132.9,2,  3.1321,    132.8,2,    92.44,2,    36.51,2,     0.00,2,     2.56,2,    0.000,2,    0.000,2,   -999.0,9,  -999.00,9,   -999.0,9,   -999.0,9,   -999.0,9,     7.55,2, -999.00,  -999.0, -999.00,  -999.0
    31DSCG96_2,  P15S,   149,  1,    110,   1301,2,19960228,1225,-14.2822,-169.9965, 3540,   -999,   1565.8,   2.7259,  34.5941,2,  34.5946,2,    137.1,2,  2.6158,    137.6,2,   103.99,2,    36.38,2,     0.00,2,     2.55,2, -999.000,9, -999.000,9,   -999.0,9,  -999.00,9,   2293.1,2,   1271.7,2,   2380.4,2,     7.55,2, -999.00,  -999.0, -999.00,  -999.0
    31DSCG96_2,  P15S,   149,  1,    109,   1031,2,19960228,1225,-14.2822,-169.9965, 3540,   -999,   1813.6,   2.3597,  34.6184,2,  34.6180,2,    143.0,2,  2.2337,    144.5,2,   111.80,2,    35.99,2,     0.00,2,     2.51,2, -999.000,9, -999.000,9,   -999.0,9,  -999.00,9,   -999.0,9,   -999.0,9,   -999.0,9,     7.56,2, -999.00,  -999.0, -999.00,  -999.0
    31DSCG96_2,  P15S,   149,  1,    108,   1227,2,19960228,1225,-14.2822,-169.9965, 3540,   -999,   2064.7,   2.1186,  34.6386,2,  34.6388,2,    145.0,2,  1.9748,    146.1,2,   118.90,2,    35.94,2,     0.00,2,     2.51,2, -999.000,9, -999.000,9,   -999.0,9,  -999.00,9,   2304.9,2,   1213.7,2,   2398.4,2,     7.57,2, -999.00,  -999.0, -999.00,  -999.0
    31DSCG96_2,  P15S,   149,  1,    107,   1263,2,19960228,1225,-14.2822,-169.9965, 3540,   -999,   2314.2,   1.9856,  34.6512,2,  34.6519,2,    146.5,2,  1.8222,    147.6,2,   123.26,2,    35.85,2,     0.00,2,     2.50,2,    0.000,2,    0.000,2,   -999.0,9,  -999.00,9,   -999.0,9,   -999.0,9,   -999.0,9,     7.57,2, -999.00,  -999.0, -999.00,  -999.0
    31DSCG96_2,  P15S,   149,  1,    106,   1262,2,19960228,1225,-14.2822,-169.9965, 3540,   -999,   2564.5,   1.8593,  34.6615,2,  34.6622,2,    148.9,2,  1.6758,    149.3,2,   127.74,2,    35.80,2,     0.00,2,     2.50,2, -999.000,9, -999.000,9,   -999.0,9,  -999.00,9,   2311.9,2,   1196.0,2,   2407.3,2,     7.58,2, -999.00,  -999.0, -999.00,  -999.0
    31DSCG96_2,  P15S,   149,  1,    105,   1264,2,19960228,1225,-14.2822,-169.9965, 3540,   -999,   2812.4,   1.7815,  34.6680,2,  34.6669,2,    150.8,2,  1.5764,    151.0,2,   130.03,2,    35.66,2,     0.00,2,     2.48,2, -999.000,9, -999.000,9,   -999.0,9,  -999.00,9,   -999.0,9,   -999.0,9,   -999.0,9,     7.58,2, -999.00,  -999.0, -999.00,  -999.0
    31DSCG96_2,  P15S,   149,  1,    104,   1003,2,19960228,1225,-14.2822,-169.9965, 3540,   -999,   3063.8,   1.6645,  34.6763,2,  34.6767,2,    154.4,2,  1.4378,    154.7,2,   132.10,2,    35.46,2,     0.00,2,     2.47,2, -999.000,9, -999.000,9,   -999.0,9,  -999.00,9,   2311.4,2,   1169.7,2,   2410.5,2,     7.58,2, -999.00,  -999.0, -999.00,  -999.0
    31DSCG96_2,  P15S,   149,  1,    103,   1035,2,19960228,1225,-14.2822,-169.9965, 3540,   -999,   3313.6,   1.6218,  34.6801,2,  34.6802,2,    157.7,2,  1.3715,    158.1,2,   132.15,2,    35.23,2,     0.00,2,     2.45,2,    0.012,2,    0.000,2,   -999.0,9,  -999.00,9,   -999.0,9,   -999.0,9,   -999.0,9,     7.58,3, -999.00,  -999.0, -999.00,  -999.0
    31DSCG96_2,  P15S,   149,  1,    101,   1022,2,19960228,1225,-14.2822,-169.9965, 3540,   -999,   3576.1,   1.6118,  34.6822,2,  34.6819,2,    159.8,2,  1.3349,    160.1,2,   131.57,6,    35.09,6,     0.00,6,     2.44,6,    0.014,2,    0.001,2,   -999.0,9,  -999.00,9,   2306.3,2,   1156.5,2,   2406.5,2,     7.59,2, -999.00,  -999.0, -999.00,  -999.0
    31DSCG96_2,  P15S,   149,  1,    102,   1030,2,19960228,1225,-14.2822,-169.9965, 3540,   -999,   3576.6,   1.6118,  34.6823,2,  34.6831,2,    159.9,2,  1.3349,    160.4,2,   131.71,2,    35.06,2,     0.00,2,     2.43,2, -999.000,9, -999.000,9,   -999.0,9,  -999.00,9,   2305.7,2,   1158.8,2,   2406.3,2,     7.59,2, -999.00,  -999.0, -999.00,  -999.0