BOTTLE,20220811CCHSIOAMB
EXPOCODE,SECT_ID,STNNBR,CASTNO,SAMPNO,BTLNBR,BTLNBR_FLAG_W,DATE,TIME,LATITUDE,LONGITUDE,DEPTH,CTDRAW,CTDPRS,CTDTMP,CTDSAL,CTDSAL_FLAG_W,SALNTY,SALNTY_FLAG_W,CTDOXY,CTDOXY_FLAG_W,THETA,OXYGEN,OXYGEN_FLAG_W,SILCAT,SILCAT_FLAG_W,NITRAT,NITRAT_FLAG_W,NITRIT,NITRIT_FLAG_W,PHSPHT,PHSPHT_FLAG_W,CFC-11,CFC-11_FLAG_W,CFC-12,CFC-12_FLAG_W,DELC14,DELC14_FLAG_W,DELC13,DELC13_FLAG_W,TCARBN,TCARBN_FLAG_W,PCO2,PCO2_FLAG_W,ALKALI,ALKALI_FLAG_W,PH,PH_FLAG_W,PCO2TMP,C14ERR,PH_TMP,C13ERR
,,,,,,,,,,,,DBAR,DBAR,ITS-90,PSS-78,,PSS-78,,UMOL/KG,,DEG C,UMOL/KG,,UMOL/KG,,UMOL/KG,,UMOL/KG,,UMOL/KG,,PMOL/KG,,PMOL/KG,,/MILLE,,/MILLE,,UMOL/KG,,UATM,,UMOL/KG,,,,DEG C,/MILLE,DEG C,/MILLE
    31DSCG96_1,  P14S,    16,  1,    134,   1224,2,19960112,0001,-58.0033, 173.9913, 5205,   -999,     10.3,   5.3682,  34.0116,2,  34.0106,2,    311.4,2,  5.3674,    311.4,2,     4.06,2,    21.38,2,     0.19,2,     1.46,2, -999.000,9, -999.000,9,   -999.0,9,  -999.00,9,   2109.8,2,    653.4,2,   2280.6,2,     7.79,2, -999.00,  -999.0, -999.00,  -999.0
    31DSCG96_1,  P14S,    16,  1,    133,   1221,2,19960112,0001,-58.0033, 173.9913, 5205,   -999,     20.9,   5.3672,  34.0117,2,  34.0134,2,    311.4,2,  5.3656,    311.5,2,     4.20,2,    21.38,2,     0.19,2,     1.46,2, -999.000,9, -999.000,9,   -999.0,9,  -999.00,9,   2110.1,2,    658.1,2,   2282.9,2,     7.79,2, -999.00,  -999.0, -999.00,  -999.0
    31DSCG96_1,  P14S,    16,  1,    132,   1039,2,19960112,0001,-58.0033, 173.9913, 5205,   -999,     45.4,   5.3156,  34.0170,2,  34.0165,2,    311.5,2,  5.3121,    311.3,2,     4.16,2,    21.37,2,     0.18,2,     1.46,2, -999.000,9, -999.000,9,   -999.0,9,  -999.00,9,   2109.1,2,    656.4,2,   2282.3,2,     7.79,2, -999.00,  -999.0, -999.00,  -999.0
    31DSCG96_1,  P14S,    16,  1,    131,   1042,2,19960112,0001,-58.0033, 173.9913, 5205,   -999,     69.3,   5.2892,  34.0243,2,  34.0265,2,    310.5,2,  5.2838,    310.5,2,     4.24,2,    21.37,2,     0.18,2,     1.47,2, -999.000,9, -999.000,9,   -999.0,9,  -999.00,9,   2111.8,2,    655.6,2,   2284.2,2,     7.79,2, -999.00,  -999.0, -999.00,  -999.0
    31DSCG96_1,  P14S,    16,  1,    130,   1257,2,19960112,0001,-58.0033, 173.9913, 5205,   -999,     93.6,   5.1603,  34.0152,2,  34.0162,2,    309.8,2,  5.1530,    310.2,2,     4.28,2,    21.51,2,     0.19,2,     1.49,2, -999.000,9, -999.000,9,   -999.0,9,  -999.00,9,   2122.0,3,    664.2,2,   2281.1,2,     7.79,2, -999.00,  -999.0, -999.00,  -999.0
    31DSCG96_1,  P14S,    16,  1,    129,   1256,2,19960112,0001,-58.0033, 173.9913, 5205,   -999,    141.0,   4.3536,  34.0231,2,  34.0162,2,    310.2,2,  4.3436,    308.0,2,     7.25,2,    22.71,2,     0.22,2,     1.58,2, -999.000,9, -999.000,9,   -999.0,9,  -999.00,9,   2118.4,2,    706.0,2,   2284.4,2,     7.77,2, -999.00,  -999.0, -999.00,  -999.0
    31DSCG96_1,  P14S,    16,  1,    128,   1007,2,19960112,0001,-58.0033, 173.9913, 5205,   -999,    191.6,   3.9587,  34.0233,2,  34.0247,2,    304.5,2,  3.9456,    304.7,2,     9.03,2,    23.88,2,     0.28,2,     1.63,2, -999.000,9, -999.000,9,   -999.0,9,  -999.00,9,   2124.1,2,    734.6,2,   2283.3,2,     7.75,2, -999.00,  -999.0, -999.00,  -999.0
    31DSCG96_1,  P14S,    16,  1,    127,   1234,2,19960112,0001,-58.0033, 173.9913, 5205,   -999,    242.8,   4.0821,  34.0746,2,  34.0748,2,    290.3,2,  4.0651,    291.2,2,    11.31,2,    25.04,2,     0.01,2,     1.68,2, -999.000,9, -999.000,9,   -999.0,9,  -999.00,9,   2132.3,2,    778.2,2,   2285.7,2,     7.74,2, -999.00,  -999.0, -999.00,  -999.0
    31DSCG96_1,  P14S,    16,  1,    126,   1025,2,19960112,0001,-58.0033, 173.9913, 5205,   -999,    292.4,   4.2275,  34.1313,2,  34.1327,2,    276.3,2,  4.2066,    275.9,2,    14.44,6,    26.09,2,     0.00,6,     1.75,6, -999.000,9, -999.000,9,   -999.0,9,  -999.00,9,   2146.4,2,    804.5,2,   2286.7,2,     7.72,2, -999.00,  -999.0, -999.00,  -999.0
    31DSCG96_1,  P14S,    16,  1,    125,   1233,2,19960112,0001,-58.0033, 173.9913, 5205,   -999,    375.9,   4.1899,  34.1959,2,  34.1978,2,    253.6,2,  4.1629,    250.0,2,    20.34,2,    28.12,2,     0.00,2,     1.88,2, -999.000,9, -999.000,9,   -999.0,9,  -999.00,9,   2163.2,2,    827.6,3,   2293.6,2,     7.67,2, -999.00,  -999.0, -999.00,  -999.0
    31DSCG96_1,  P14S,    16,  1,    124,   1218,2,19960112,0001,-58.0033, 173.9913, 5205,   -999,    476.8,   3.8743,  34.2274,2,  34.2288,2,    234.4,2,  3.8408,    237.0,2,    26.27,2,    29.76,2,     0.00,2,     2.00,2, -999.000,9, -999.000,9,   -999.0,9,  -999.00,9,   2176.1,2,    942.7,2,   2296.0,2,     7.65,2, -999.00,  -999.0, -999.00,  -999.0
    31DSCG96_1,  P14S,    16,  1,    123,   1250,2,19960112,0001,-58.0033, 173.9913, 5205,   -999,    576.9,   3.5936,  34.2680,2,  34.2656,2,    222.2,2,  3.5539,    224.6,2,    32.96,2,    31.14,2,     0.00,2,     2.11,2, -999.000,9, -999.000,9,   -999.0,9,  -999.00,9,   2190.0,2,   1005.0,2,   2301.0,2,     7.63,2, -999.00,  -999.0, -999.00,  -999.0
    31DSCG96_1,  P14S,    16,  1,    122,   1109,2,19960112,0001,-58.0033, 173.9913, 5205,   -999,    675.2,   3.2131,  34.2982,2,  34.2982,2,    215.9,2,  3.1680,    215.3,2,    40.29,2,    32.36,2,     0.00,2,     2.20,2, -999.000,9, -999.000,9,   -999.0,9,  -999.00,9,   2204.6,2,   1065.5,2,   2306.6,2,     7.61,2, -999.00,  -999.0, -999.00,  -999.0
    31DSCG96_1,  P14S,    16,  1,    121,   1246,2,19960112,0001,-58.0033, 173.9913, 5205,   -999,    765.5,   2.9088,  34.3271,2,  34.3259,2,    208.6,2,  2.8590,    207.8,2,    46.60,2,    33.22,2,     0.00,2,     2.25,2, -999.000,9, -999.000,9,   -999.0,9,  -999.00,9,   2213.4,2,   1106.9,2,   2312.1,2,     7.60,2, -999.00,  -999.0, -999.00,  -999.0
    31DSCG96_1,  P14S,    16,  1,    120,   1209,2,19960112,0001,-58.0033, 173.9913, 5205,   -999,    866.5,   2.6770,  34.3769,2,  34.3759,2,    197.6,2,  2.6215,    197.3,2,    54.26,2,    34.09,2,     0.00,2,     2.31,2, -999.000,9, -999.000,9,   -999.0,9,  -999.00,9,   2225.7,2,   1161.3,2,   2318.5,2,     7.58,3, -999.00,  -999.0, -999.00,  -999.0
    31DSCG96_1,  P14S,    16,  1,    119,   1247,2,19960112,0001,-58.0033, 173.9913, 5205,   -999,    969.5,   2.5928,  34.4415,2,  34.4382,3,    187.2,2,  2.5304,    187.2,2,    61.07,2,    34.41,2,     0.00,2,     2.34,2, -999.000,9, -999.000,9,   -999.0,9,  -999.00,9,   2233.7,2,   1203.2,2,   2326.0,2,     7.57,2, -999.00,  -999.0, -999.00,  -999.0
    31DSCG96_1,  P14S,    16,  1,    118,   1222,2,19960112,0001,-58.0033, 173.9913, 5205,   -999,   1080.9,   2.5299,  34.5012,2,  34.5009,2,    179.6,2,  2.4598,    178.5,2,    66.85,2,    34.46,2,     0.00,2,     2.35,2, -999.000,9, -999.000,9,   -999.0,9,  -999.00,9,   2242.5,2,   1200.6,2,   2332.2,2,     7.56,2, -999.00,  -999.0, -999.00,  -999.0
    31DSCG96_1,  P14S,    16,  1,    117,   1104,2,19960112,0001,-58.0033, 173.9913, 5205,   -999,   1224.3,   2.4462,  34.5690,2,  34.5675,2,    175.6,2,  2.3660,    176.6,2,    72.36,2,    34.15,2,     0.00,2,     2.32,2, -999.000,9, -999.000,9,   -999.0,9,  -999.00,9,   -999.0,9,   -999.0,9,   -999.0,9,  -999.00,9, -999.00,  -999.0, -999.00,  -999.0
    31DSCG96_1,  P14S,    16,  1,    116,   1211,2,19960112,0001,-58.0033, 173.9913, 5205,   -999,   1441.4,   2.3530,  34.6447,2,  34.6454,2,    176.6,2,  2.2571,    176.7,2,    77.71,2,    33.13,2,     0.00,2,     2.25,2,    0.199,3,    0.088,3,   -999.0,9,  -999.00,9,   2251.0,2,   1165.7,2,   2348.3,2,     7.58,2, -999.00,  -999.0, -999.00,  -999.0
    31DSCG96_1,  P14S,    16,  1,    115,   1041,2,19960112,0001,-58.0033, 173.9913, 5205,   -999,   1692.9,   2.2190,  34.6952,2,  34.6951,2,    181.3,2,  2.1045,    181.5,2,    81.58,2,    32.20,2,     0.00,2,     2.17,2, -999.000,9, -999.000,9,   -999.0,9,  -999.00,9,   2252.0,2,   1121.9,2,   2349.9,2,     7.59,2, -999.00,  -999.0, -999.00,  -999.0
    31DSCG96_1,  P14S,    16,  1,    114,   1017,2,19960112,0001,-58.0033, 173.9913, 5205,   -999,   1932.6,   2.0711,  34.7240,2,  34.7237,2,    186.1,2,  1.9389,    187.2,2,    85.56,2,    31.52,2,     0.00,2,     2.13,2,    0.081,2,    0.038,2,   -999.0,9,  -999.00,9,   2248.7,2,   1099.2,2,   2356.2,2,     7.60,3, -999.00,  -999.0, -999.00,  -999.0
    31DSCG96_1,  P14S,    16,  1,    113,   1008,2,19960112,0001,-58.0033, 173.9913, 5205,   -999,   2185.5,   1.8890,  34.7373,2,  34.7381,2,    190.4,2,  1.7382,    192.0,2,    90.65,2,    31.24,2,     0.00,2,     2.12,2, -999.000,9, -999.000,9,   -999.0,9,  -999.00,9,   2249.8,2,   1074.7,2,   2357.2,2,     7.61,2, -999.00,  -999.0, -999.00,  -999.0
    31DSCG96_1,  P14S,    16,  1,    112,   1217,2,19960112,0001,-58.0033, 173.9913, 5205,   -999,   2432.7,   1.7142,  34.7391,2,  34.7385,2,    194.8,2,  1.5449,    194.9,2,    95.81,2,    31.23,2,     0.00,2,     2.11,2,    0.054,2,    0.022,2,   -999.0,9,  -999.00,9,   2251.3,2,   1073.1,2,   2363.1,2,     7.61,2, -999.00,  -999.0, -999.00,  -999.0
    31DSCG96_1,  P14S,    16,  1,    111,   1114,2,19960112,0001,-58.0033, 173.9913, 5205,   -999,   2685.5,   1.5276,  34.7356,2,  34.7373,2,    197.3,2,  1.3391,    197.9,2,   101.53,6,    31.46,2,     0.00,6,     2.12,6, -999.000,9, -999.000,9,   -999.0,9,  -999.00,9,   2254.2,2,   1080.5,2,   2364.3,2,     7.62,2, -999.00,  -999.0, -999.00,  -999.0
    31DSCG96_1,  P14S,    16,  1,    110,   1036,2,19960112,0001,-58.0033, 173.9913, 5205,   -999,   2937.0,   1.3629,  34.7300,2,  34.7285,2,    200.0,2,  1.1547,    200.3,2,   106.87,6,    31.66,2,     0.00,6,     2.13,6,    0.047,6,    0.021,6,   -999.0,9,  -999.00,9,   2257.5,2,   1078.9,2,   2365.3,2,     7.62,2, -999.00,  -999.0, -999.00,  -999.0
    31DSCG96_1,  P14S,    16,  1,    109,   1216,2,19960112,0001,-58.0033, 173.9913, 5205,   -999,   3188.9,   1.2421,  34.7250,2,  34.7239,2,    202.0,2,  1.0128,    202.4,2,   110.60,6,    31.80,2,     0.00,6,     2.14,6, -999.000,9, -999.000,9,   -999.0,9,  -999.00,9,   2259.0,2,   1070.9,2,   2366.8,2,     7.61,2, -999.00,  -999.0, -999.00,  -999.0
    31DSCG96_1,  P14S,    16,  1,    108,   1263,2,19960112,0001,-58.0033, 173.9913, 5205,   -999,   3440.2,   1.1301,  34.7197,2,  34.7192,2,    203.8,2,  0.8789,    203.6,6,   114.14,6,    32.00,2,     0.00,6,     2.16,6,    0.059,2,    0.028,2,   -999.0,9,  -999.00,9,   2259.1,2,   1064.6,2,   2369.8,2,     7.61,2, -999.00,  -999.0, -999.00,  -999.0
    31DSCG96_1,  P14S,    16,  1,    107,   1245,2,19960112,0001,-58.0033, 173.9913, 5205,   -999,   3690.0,   1.0386,  34.7152,2,  34.7146,2,    205.6,2,  0.7648,    205.9,2,  -999.00,9,  -999.00,9,  -999.00,9,  -999.00,9, -999.000,9, -999.000,9,   -999.0,9,  -999.00,9,   2259.5,2,   1075.5,2,   2367.0,3,     7.60,2, -999.00,  -999.0, -999.00,  -999.0
    31DSCG96_1,  P14S,    16,  1,    106,   1262,2,19960112,0001,-58.0033, 173.9913, 5205,   -999,   3943.0,   0.9600,  34.7111,2,  34.7102,2,    206.8,2,  0.6621,    208.4,2,   119.57,6,    32.22,2,     0.00,6,     2.17,6,    0.075,2,    0.037,2,   -999.0,9,  -999.00,9,   2259.4,2,   1082.3,2,   2369.0,2,     7.61,2, -999.00,  -999.0, -999.00,  -999.0
    31DSCG96_1,  P14S,    16,  1,    105,   1113,2,19960112,0001,-58.0033, 173.9913, 5205,   -999,   4199.4,   0.9099,  34.7078,2,  34.7067,2,    208.4,2,  0.5862,    208.9,2,   121.70,6,    32.30,2,     0.00,6,     2.18,6, -999.000,9, -999.000,9,   -999.0,9,  -999.00,9,   2259.6,2,   1081.3,2,   2365.5,2,     7.61,3, -999.00,  -999.0, -999.00,  -999.0
    31DSCG96_1,  P14S,    16,  1,    104,   1003,2,19960112,0001,-58.0033, 173.9913, 5205,   -999,   4438.6,   0.8776,  34.7057,2,  34.7048,2,    209.3,2,  0.5287,    210.5,6,   123.04,6,    32.32,2,     0.00,6,     2.18,6,    0.113,2,    0.056,2,   -999.0,9,  -999.00,9,   2259.4,2,   1090.0,2,   2365.8,2,     7.61,2, -999.00,  -999.0, -999.00,  -999.0
    31DSCG96_1,  P14S,    16,  1,    103,   9999,2,19960112,0001,-58.0033, 173.9913, 5205,   -999,   4864.9,   0.8641,  34.7030,2,  34.7018,2,    210.4,2,  0.4671,    210.9,2,  -999.00,9,  -999.00,9,  -999.00,9,  -999.00,9,    0.143,2,    0.067,2,   -999.0,9,  -999.00,9,   2259.1,2,   1084.3,2,   2367.4,2,     7.61,3, -999.00,  -999.0, -999.00,  -999.0
    31DSCG96_1,  P14S,    16,  1,    102,   1027,2,19960112,0001,-58.0033, 173.9913, 5205,   -999,   4866.9,   0.8642,  34.7030,2,  34.7018,2,    210.2,2,  0.4670,    211.2,2,   124.76,6,    32.43,2,     0.00,6,     2.19,2,    0.135,2,    0.069,2,   -999.0,9,  -999.00,9,   -999.0,9,   1088.5,2,   -999.0,9,     7.61,2, -999.00,  -999.0, -999.00,  -999.0
    31DSCG96_1,  P14S,    16,  1,    101,   1022,2,19960112,0001,-58.0033, 173.9913, 5205,   -999,   5304.7,   0.8943,  34.7017,2,  34.7018,2,    210.5,2,  0.4438,    211.3,2,   125.79,6,    32.45,6,     0.00,6,     2.18,6,    0.149,6,    0.070,6,   -999.0,9,  -999.00,9,   2260.5,2,   1102.2,2,   2366.3,2,     7.61,2, -999.00,  -999.0, -999.00,  -999.0