BOTTLE,20220811CCHSIOAMB
EXPOCODE,SECT_ID,STNNBR,CASTNO,SAMPNO,BTLNBR,BTLNBR_FLAG_W,DATE,TIME,LATITUDE,LONGITUDE,DEPTH,CTDRAW,CTDPRS,CTDTMP,CTDSAL,CTDSAL_FLAG_W,SALNTY,SALNTY_FLAG_W,CTDOXY,CTDOXY_FLAG_W,THETA,OXYGEN,OXYGEN_FLAG_W,SILCAT,SILCAT_FLAG_W,NITRAT,NITRAT_FLAG_W,NITRIT,NITRIT_FLAG_W,PHSPHT,PHSPHT_FLAG_W,CFC-11,CFC-11_FLAG_W,CFC-12,CFC-12_FLAG_W,DELC14,DELC14_FLAG_W,DELC13,DELC13_FLAG_W,TCARBN,TCARBN_FLAG_W,PCO2,PCO2_FLAG_W,ALKALI,ALKALI_FLAG_W,PH,PH_FLAG_W,PCO2TMP,C14ERR,PH_TMP,C13ERR
,,,,,,,,,,,,DBAR,DBAR,ITS-90,PSS-78,,PSS-78,,UMOL/KG,,DEG C,UMOL/KG,,UMOL/KG,,UMOL/KG,,UMOL/KG,,UMOL/KG,,PMOL/KG,,PMOL/KG,,/MILLE,,/MILLE,,UMOL/KG,,UATM,,UMOL/KG,,,,DEG C,/MILLE,DEG C,/MILLE
    31DSCG96_1,  P15S,    36,  1,    124,    429,2,19960119,0815,-64.9940,-170.0148, 2880,   -999,     10.9,   0.2910,  33.8791,2,  33.8835,2,    356.8,2,  0.2906,    355.1,2,    28.50,2,    23.89,2,     0.23,2,     1.41,2, -999.000,9, -999.000,9,   -999.0,9,  -999.00,9,   2140.7,2,    714.0,2,   2296.6,2,     7.75,2, -999.00,  -999.0, -999.00,  -999.0
    31DSCG96_1,  P15S,    36,  1,    123,    428,2,19960119,0815,-64.9940,-170.0148, 2880,   -999,     19.6,   0.2923,  33.8690,2,  33.8852,2,    358.4,2,  0.2916,    354.9,2,    28.61,2,    23.86,2,     0.23,2,     1.43,2, -999.000,9, -999.000,9,   -999.0,9,  -999.00,9,   2140.4,2,    719.2,2,   -999.0,9,  -999.00,9, -999.00,  -999.0, -999.00,  -999.0
    31DSCG96_1,  P15S,    36,  1,    122,    407,2,19960119,0815,-64.9940,-170.0148, 2880,   -999,     43.2,   0.1594,  33.8376,2,-999.0000,9,    358.1,2,  0.1579,    354.5,2,    31.61,2,    24.11,2,     0.23,2,     1.50,2, -999.000,9, -999.000,9,   -999.0,9,  -999.00,9,   2143.5,2,    724.2,2,   2295.2,2,     7.75,2, -999.00,  -999.0, -999.00,  -999.0
    31DSCG96_1,  P15S,    36,  1,    121,    417,2,19960119,0815,-64.9940,-170.0148, 2880,   -999,     68.6,  -0.4175,  34.3133,2,  34.1928,4,    324.2,2, -0.4196,    288.1,2,    62.66,6,    31.45,6,     0.15,6,     2.21,6, -999.000,9, -999.000,9,   -999.0,9,  -999.00,9,   2204.7,2,   1026.9,2,   2311.4,2,     7.62,2, -999.00,  -999.0, -999.00,  -999.0
    31DSCG96_1,  P15S,    36,  1,    120,    405,2,19960119,0815,-64.9940,-170.0148, 2880,   -999,     93.6,   0.8031,  34.4106,2,  34.3727,3,    219.1,2,  0.7992,    229.7,2,    68.05,2,    33.66,2,     0.13,2,     2.33,2, -999.000,9, -999.000,9,   -999.0,9,  -999.00,9,   2229.1,2,   1178.4,2,   2319.3,2,     7.57,2, -999.00,  -999.0, -999.00,  -999.0
    31DSCG96_1,  P15S,    36,  1,    119,    416,2,19960119,0815,-64.9940,-170.0148, 2880,   -999,    130.9,   1.8676,  34.5464,2,  34.5346,2,    178.5,2,  1.8608,    182.2,2,    73.97,2,    34.67,2,     0.02,2,     2.38,2, -999.000,9, -999.000,9,   -999.0,9,  -999.00,9,   2245.2,2,   1257.9,2,   2331.9,2,     7.55,3, -999.00,  -999.0, -999.00,  -999.0
    31DSCG96_1,  P15S,    36,  1,    118,    420,2,19960119,0815,-64.9940,-170.0148, 2880,   -999,    188.8,   2.1146,  34.6149,2,  34.6139,2,    173.1,2,  2.1043,    173.0,2,    77.61,2,    34.11,2,     0.01,2,     2.34,2, -999.000,9, -999.000,9,   -999.0,9,  -999.00,9,   2251.4,2,   1243.8,2,   2339.0,2,     7.56,2, -999.00,  -999.0, -999.00,  -999.0
    31DSCG96_1,  P15S,    36,  1,    117,    424,2,19960119,0815,-64.9940,-170.0148, 2880,   -999,    236.5,   2.0682,  34.6488,2,  34.6472,2,    175.1,2,  2.0553,    174.2,2,    79.90,2,    33.65,2,     0.01,2,     2.29,2, -999.000,9, -999.000,9,   -999.0,9,  -999.00,9,   2251.3,2,   1230.9,2,   2341.4,2,     7.56,2, -999.00,  -999.0, -999.00,  -999.0
    31DSCG96_1,  P15S,    36,  1,    116,    409,2,19960119,0815,-64.9940,-170.0148, 2880,   -999,    290.1,   2.0522,  34.6741,2,  34.6801,2,    177.2,2,  2.0363,    177.3,2,    81.66,2,    32.87,2,     0.01,2,     2.23,2, -999.000,9, -999.000,9,   -999.0,9,  -999.00,9,   2249.9,2,   1188.6,2,   2345.3,2,     7.57,2, -999.00,  -999.0, -999.00,  -999.0
    31DSCG96_1,  P15S,    36,  1,    115,    413,2,19960119,0815,-64.9940,-170.0148, 2880,   -999,    374.4,   2.0244,  34.6998,2,  34.7043,2,    182.1,2,  2.0036,    181.0,2,    83.21,2,    32.28,2,     0.01,2,     2.18,2, -999.000,9, -999.000,9,   -999.0,9,  -999.00,9,   2251.1,2,   1151.9,2,   2346.7,2,     7.59,2, -999.00,  -999.0, -999.00,  -999.0
    31DSCG96_1,  P15S,    36,  1,    114,    419,2,19960119,0815,-64.9940,-170.0148, 2880,   -999,    475.3,   1.9372,  34.7101,2,-999.0000,9,    184.8,2,  1.9108,    184.6,2,    85.35,6,    31.79,6,     0.01,6,     2.16,6, -999.000,9, -999.000,9,   -999.0,9,  -999.00,9,   2251.1,2,   1129.9,2,   2349.0,2,     7.59,2, -999.00,  -999.0, -999.00,  -999.0
    31DSCG96_1,  P15S,    36,  1,    113,    434,2,19960119,0815,-64.9940,-170.0148, 2880,   -999,    577.9,   1.8050,  34.7214,2,-999.0000,9,    187.5,2,  1.7730,    186.4,2,    87.58,6,    31.78,6,     0.01,6,     2.16,6, -999.000,9, -999.000,9,   -999.0,9,  -999.00,9,   2252.1,2,   1126.1,2,   2349.9,2,     7.59,2, -999.00,  -999.0, -999.00,  -999.0
    31DSCG96_1,  P15S,    36,  1,    112,    404,2,19960119,0815,-64.9940,-170.0148, 2880,   -999,    675.6,   1.7572,  34.7250,2,  34.7351,4,    190.8,2,  1.7195,    190.1,2,    89.66,2,    31.41,2,     0.01,2,     2.13,2, -999.000,9, -999.000,9,   -999.0,9,  -999.00,9,   2251.0,2,   1108.0,2,   2351.5,2,     7.60,2, -999.00,  -999.0, -999.00,  -999.0
    31DSCG96_1,  P15S,    36,  1,    111,    427,2,19960119,0815,-64.9940,-170.0148, 2880,   -999,    777.1,   1.6391,  34.7352,2,  34.7366,2,    193.6,2,  1.5958,    193.1,2,    92.30,2,    31.30,2,     0.00,2,     2.12,2, -999.000,9, -999.000,9,   -999.0,9,  -999.00,9,   2255.4,3,   1095.5,2,   2354.4,2,     7.61,2, -999.00,  -999.0, -999.00,  -999.0
    31DSCG96_1,  P15S,    36,  1,    110,    401,2,19960119,0815,-64.9940,-170.0148, 2880,   -999,    875.8,   1.5719,  34.7351,2,  34.7407,3,    195.3,2,  1.5229,    195.0,2,    95.18,2,    31.24,2,     0.00,2,     2.11,2, -999.000,9, -999.000,9,   -999.0,9,  -999.00,9,   2251.6,2,   1088.2,2,   2355.2,2,     7.61,2, -999.00,  -999.0, -999.00,  -999.0
    31DSCG96_1,  P15S,    36,  1,    109,    435,2,19960119,0815,-64.9940,-170.0148, 2880,   -999,    976.5,   1.4884,  34.7302,2,  34.7385,3,    196.0,2,  1.4336,    196.5,2,    97.45,2,    31.17,2,     0.00,2,     2.12,2, -999.000,9, -999.000,9,   -999.0,9,  -999.00,9,   2252.1,2,   1090.8,2,   2357.2,2,     7.61,2, -999.00,  -999.0, -999.00,  -999.0
    31DSCG96_1,  P15S,    36,  1,    108,    440,2,19960119,0815,-64.9940,-170.0148, 2880,   -999,   1068.4,   1.3984,  34.7289,2,  34.7358,3,    197.8,2,  1.3384,    197.6,2,    99.37,2,    31.33,2,     0.00,2,     2.13,2, -999.000,9, -999.000,9,   -999.0,9,  -999.00,9,   2252.5,2,   1109.9,2,   2357.4,2,     7.61,2, -999.00,  -999.0, -999.00,  -999.0
    31DSCG96_1,  P15S,    36,  1,    107,    436,2,19960119,0815,-64.9940,-170.0148, 2880,   -999,   1174.2,   1.3154,  34.7274,2,  34.7341,3,    198.8,2,  1.2492,    199.1,2,   102.54,6,    31.43,6,     0.00,6,     2.14,6, -999.000,9, -999.000,9,   -999.0,9,  -999.00,9,   2254.1,2,   1082.1,2,   2360.6,2,     7.61,2, -999.00,  -999.0, -999.00,  -999.0
    31DSCG96_1,  P15S,    36,  1,    106,    441,2,19960119,0815,-64.9940,-170.0148, 2880,   -999,   1350.5,   1.1722,  34.7232,2,  34.7273,3,    201.0,2,  1.0956,    200.7,2,   106.37,6,    31.58,6,     0.00,6,     2.16,3, -999.000,9, -999.000,9,   -999.0,9,  -999.00,9,   2256.3,2,   1085.0,2,   2360.9,2,     7.61,2, -999.00,  -999.0, -999.00,  -999.0
    31DSCG96_1,  P15S,    36,  1,    105,    423,2,19960119,0815,-64.9940,-170.0148, 2880,   -999,   1699.2,   0.9326,  34.7111,2,  34.7184,3,    204.0,2,  0.8346,    204.4,2,   113.43,2,    31.95,6,     0.00,6,     2.17,2, -999.000,9, -999.000,9,   -999.0,9,  -999.00,9,   2256.1,2,   1098.2,2,   2362.2,2,     7.61,2, -999.00,  -999.0, -999.00,  -999.0
    31DSCG96_1,  P15S,    36,  1,    104,    433,2,19960119,0815,-64.9940,-170.0148, 2880,   -999,   2100.8,   0.6835,  34.7056,2,  34.7060,2,    207.6,2,  0.5594,    207.5,2,   121.09,6,    32.32,6,     0.00,6,     2.20,2, -999.000,9, -999.000,9,   -999.0,9,  -999.00,9,   2258.9,2,   1105.6,2,   2364.0,2,     7.60,2, -999.00,  -999.0, -999.00,  -999.0
    31DSCG96_1,  P15S,    36,  1,    103,    439,2,19960119,0815,-64.9940,-170.0148, 2880,   -999,   2500.2,   0.5396,  34.7002,2,  34.7007,2,    209.9,2,  0.3865,    210.7,2,   123.74,6,    32.45,2,     0.00,6,     2.21,2, -999.000,9, -999.000,9,   -999.0,9,  -999.00,9,   2258.8,2,   1113.9,2,   2364.5,2,     7.60,2, -999.00,  -999.0, -999.00,  -999.0
    31DSCG96_1,  P15S,    36,  1,    102,    414,3,19960119,0815,-64.9940,-170.0148, 2880,   -999,   2752.2,   0.4659,  34.6991,2,-999.0000,9,    212.0,2,  0.2933,    212.1,2,   124.23,6,    32.51,2,     0.00,6,  -999.00,5, -999.000,9, -999.000,9,   -999.0,9,  -999.00,9,   2260.3,2,   1117.3,2,   2362.3,2,     7.60,2, -999.00,  -999.0, -999.00,  -999.0
    31DSCG96_1,  P15S,    36,  1,    101,    406,3,19960119,0815,-64.9940,-170.0148, 2880,   -999,   2901.0,   0.3685,  34.6982,2,-999.0000,9,    214.1,2,  0.1853,    217.5,3,   124.83,6,    32.55,6,     0.00,6,     2.21,6, -999.000,9, -999.000,9,   -999.0,9,  -999.00,9,   2258.7,2,   1130.4,2,   2360.9,2,     7.60,2, -999.00,  -999.0, -999.00,  -999.0
    31DSCG96_1,  P15S,    37,  1,    140,   -999,2,19960119,1333,-64.5010,-169.9980, 2370,   -999,      0.0,-999.0000,-999.0000,9,-999.0000,5,   -999.0,9,-999.0000,   -999.0,9,  -999.00,9,  -999.00,9,  -999.00,9,  -999.00,9, -999.000,9, -999.000,9,   -999.0,9,  -999.00,9,   2214.3,2,   -999.0,9,   -999.0,9,  -999.00,9, -999.00,  -999.0, -999.00,  -999.0
    31DSCG96_1,  P15S,    37,  1,    124,    429,2,19960119,1333,-64.5010,-169.9980, 2370,   -999,      9.2,   0.2318,  33.8796,2,  33.8818,2,    353.6,2,  0.2315,    354.1,2,    30.57,2,    24.28,2,     0.23,2,     1.47,2,    6.627,2,    3.256,2,   -999.0,9,  -999.00,9,   -999.0,9,   -999.0,9,   -999.0,9,     7.75,2, -999.00,  -999.0, -999.00,  -999.0
    31DSCG96_1,  P15S,    37,  1,    123,    428,2,19960119,1333,-64.5010,-169.9980, 2370,   -999,     31.3,   0.1802,  33.8812,2,  33.8836,2,    353.5,2,  0.1791,    353.1,2,    31.12,2,    24.31,2,     0.23,2,     1.48,2,    6.553,2,    3.139,2,   -999.0,9,  -999.00,9,   -999.0,9,   -999.0,9,   -999.0,9,     7.75,2, -999.00,  -999.0, -999.00,  -999.0
    31DSCG96_1,  P15S,    37,  1,    122,    407,2,19960119,1333,-64.5010,-169.9980, 2370,   -999,     51.3,   0.1604,  33.8796,2,  33.8854,2,    353.8,2,  0.1586,    352.9,2,    31.43,6,    24.40,6,     0.23,6,     1.52,6,    6.495,2,    3.160,2,   -999.0,9,  -999.00,9,   -999.0,9,   -999.0,9,   -999.0,9,     7.75,2, -999.00,  -999.0, -999.00,  -999.0
    31DSCG96_1,  P15S,    37,  1,    121,    417,2,19960119,1333,-64.5010,-169.9980, 2370,   -999,     74.7,  -1.0364,  33.9677,2,  33.9749,2,    337.7,2, -1.0383,    335.7,2,    55.38,2,    27.60,2,     0.17,2,     1.96,2,    6.071,2,    2.935,2,   -999.0,9,  -999.00,9,   -999.0,9,   -999.0,9,   -999.0,9,     7.68,2, -999.00,  -999.0, -999.00,  -999.0
    31DSCG96_1,  P15S,    37,  1,    120,    405,2,19960119,1333,-64.5010,-169.9980, 2370,   -999,    102.0,  -1.0631,  34.1682,2,  34.1601,2,    303.6,2, -1.0658,    303.4,2,    65.93,2,    30.43,2,     0.14,2,     2.15,2,    4.950,2,    2.432,2,   -999.0,9,  -999.00,9,   -999.0,9,   -999.0,9,   -999.0,9,     7.63,2, -999.00,  -999.0, -999.00,  -999.0
    31DSCG96_1,  P15S,    37,  1,    119,    416,2,19960119,1333,-64.5010,-169.9980, 2370,   -999,    128.4,  -0.5230,  34.2712,2,  34.2738,2,    267.1,2, -0.5270,    274.1,2,    69.32,2,    31.97,2,     0.20,2,     2.21,2,    4.037,2,    1.966,2,   -999.0,9,  -999.00,9,   -999.0,9,   -999.0,9,   -999.0,9,     7.61,2, -999.00,  -999.0, -999.00,  -999.0
    31DSCG96_1,  P15S,    37,  1,    118,    420,2,19960119,1333,-64.5010,-169.9980, 2370,   -999,    163.4,   0.9436,  34.4802,2,  34.4707,2,    183.4,2,  0.9364,    213.7,2,    74.85,2,    33.79,2,     0.06,2,     2.31,2,    2.013,2,    0.971,2,   -999.0,9,  -999.00,9,   -999.0,9,   -999.0,9,   -999.0,9,     7.57,2, -999.00,  -999.0, -999.00,  -999.0
    31DSCG96_1,  P15S,    37,  1,    117,    424,2,19960119,1333,-64.5010,-169.9980, 2370,   -999,    208.8,   1.9139,  34.6220,2,-999.0000,9,    173.5,2,  1.9029,    176.3,2,    79.81,2,    34.12,2,     0.02,2,     2.33,2,    0.559,2,    0.283,2,   -999.0,9,  -999.00,9,   -999.0,9,   -999.0,9,   -999.0,9,     7.56,2, -999.00,  -999.0, -999.00,  -999.0
    31DSCG96_1,  P15S,    37,  1,    116,    409,2,19960119,1333,-64.5010,-169.9980, 2370,   -999,    264.0,   2.0242,  34.6600,2,-999.0000,9,    173.4,2,  2.0098,    174.3,2,    81.46,2,    33.65,2,     0.01,2,     2.29,2,    0.346,2,    0.215,2,   -999.0,9,  -999.00,9,   -999.0,9,   -999.0,9,   -999.0,9,     7.56,2, -999.00,  -999.0, -999.00,  -999.0
    31DSCG96_1,  P15S,    37,  1,    115,    413,2,19960119,1333,-64.5010,-169.9980, 2370,   -999,    317.7,   2.0100,  34.6762,2,  34.6753,2,    175.1,2,  1.9926,    176.3,2,    82.39,2,    33.36,2,     0.01,2,     2.27,2,    0.281,2,    0.145,2,   -999.0,9,  -999.00,9,   -999.0,9,   -999.0,9,   -999.0,9,     7.57,2, -999.00,  -999.0, -999.00,  -999.0
    31DSCG96_1,  P15S,    37,  1,    114,    419,2,19960119,1333,-64.5010,-169.9980, 2370,   -999,    362.0,   2.0049,  34.6895,2,  34.6905,2,    177.5,2,  1.9849,    180.2,2,    83.03,2,    32.94,2,     0.01,2,     2.24,2, -999.000,5, -999.000,5,   -999.0,9,  -999.00,9,   -999.0,9,   -999.0,9,   -999.0,9,  -999.00,9, -999.00,  -999.0, -999.00,  -999.0
    31DSCG96_1,  P15S,    37,  1,    113,    434,2,19960119,1333,-64.5010,-169.9980, 2370,   -999,    425.6,   1.9794,  34.7019,2,  34.7011,2,    180.9,2,  1.9558,    180.6,2,    83.93,2,    32.59,2,     0.01,2,     2.21,2,    0.210,2,    0.112,2,   -999.0,9,  -999.00,9,   -999.0,9,   -999.0,9,   -999.0,9,  -999.00,9, -999.00,  -999.0, -999.00,  -999.0
    31DSCG96_1,  P15S,    37,  1,    112,    404,2,19960119,1333,-64.5010,-169.9980, 2370,   -999,    523.9,   1.8990,  34.7181,2,-999.0000,9,    182.8,2,  1.8698,    190.8,3,    84.50,2,    31.80,2,     0.00,2,     2.16,2,    0.180,2,    0.121,4,   -999.0,9,  -999.00,9,   -999.0,9,   -999.0,9,   -999.0,9,  -999.00,9, -999.00,  -999.0, -999.00,  -999.0
    31DSCG96_1,  P15S,    37,  1,    111,    427,2,19960119,1333,-64.5010,-169.9980, 2370,   -999,    624.0,   1.8231,  34.7249,2,-999.0000,5,    186.3,2,  1.7883,    187.3,2,    84.97,2,    31.45,2,     0.00,2,     2.13,2,    0.171,2,    0.085,2,   -999.0,9,  -999.00,9,   -999.0,9,   -999.0,9,   -999.0,9,     7.60,2, -999.00,  -999.0, -999.00,  -999.0
    31DSCG96_1,  P15S,    37,  1,    110,    401,2,19960119,1333,-64.5010,-169.9980, 2370,   -999,    723.1,   1.7786,  34.7322,2,  34.7324,2,    188.7,2,  1.7379,    191.4,2,    89.36,2,    31.57,2,     0.00,2,     2.14,2,    0.137,2,    0.072,2,   -999.0,9,  -999.00,9,   -999.0,9,   -999.0,9,   -999.0,9,     7.60,2, -999.00,  -999.0, -999.00,  -999.0
    31DSCG96_1,  P15S,    37,  1,    109,    435,3,19960119,1333,-64.5010,-169.9980, 2370,   -999,    820.0,   1.7121,  34.7370,2,  34.7303,3,    192.4,2,  1.6656,    192.8,2,    91.10,2,    31.38,2,     0.00,2,     2.12,2, -999.000,5, -999.000,5,   -999.0,9,  -999.00,9,   -999.0,9,   -999.0,9,   -999.0,9,     7.61,2, -999.00,  -999.0, -999.00,  -999.0
    31DSCG96_1,  P15S,    37,  1,    108,    440,2,19960119,1333,-64.5010,-169.9980, 2370,   -999,    921.0,   1.6229,  34.7367,2,  34.7378,2,    193.8,2,  1.5706,    194.5,2,    93.80,6,    31.39,6,     0.00,2,     2.13,6,    0.116,2,    0.057,2,   -999.0,9,  -999.00,9,   -999.0,9,   -999.0,9,   -999.0,9,     7.61,2, -999.00,  -999.0, -999.00,  -999.0
    31DSCG96_1,  P15S,    37,  1,    107,    436,2,19960119,1333,-64.5010,-169.9980, 2370,   -999,   1030.9,   1.5308,  34.7369,2,  34.7367,2,    196.0,2,  1.4721,    195.8,2,    96.32,6,    31.42,6,     0.00,2,     2.13,6,    0.106,2,    0.056,2,   -999.0,9,  -999.00,9,   -999.0,9,   -999.0,9,   -999.0,9,     7.61,2, -999.00,  -999.0, -999.00,  -999.0
    31DSCG96_1,  P15S,    37,  1,    106,    441,2,19960119,1333,-64.5010,-169.9980, 2370,   -999,   1120.3,   1.4460,  34.7345,2,  34.7365,2,    197.4,2,  1.3821,    196.8,2,    98.61,6,    31.46,6,     0.00,2,     2.13,6,    0.114,2,    0.054,2,   -999.0,9,  -999.00,9,   -999.0,9,   -999.0,9,   -999.0,9,     7.61,2, -999.00,  -999.0, -999.00,  -999.0
    31DSCG96_1,  P15S,    37,  1,    105,    423,2,19960119,1333,-64.5010,-169.9980, 2370,   -999,   1247.5,   1.3307,  34.7314,2,  34.7332,2,    198.9,2,  1.2594,    199.0,2,   102.03,6,    31.52,6,     0.00,2,     2.14,6,    0.101,2,    0.053,2,   -999.0,9,  -999.00,9,   -999.0,9,   -999.0,9,   -999.0,9,     7.61,2, -999.00,  -999.0, -999.00,  -999.0
    31DSCG96_1,  P15S,    37,  1,    104,    433,2,19960119,1333,-64.5010,-169.9980, 2370,   -999,   1502.1,   1.1184,  34.7235,2,  34.7248,2,    201.7,2,  1.0319,    201.3,2,   108.76,6,    31.86,6,     0.00,2,     2.16,2,    0.080,2,    0.041,2,   -999.0,9,  -999.00,9,   -999.0,9,   -999.0,9,   -999.0,9,     7.61,2, -999.00,  -999.0, -999.00,  -999.0
    31DSCG96_1,  P15S,    37,  1,    103,    439,2,19960119,1333,-64.5010,-169.9980, 2370,   -999,   1900.4,   0.8149,  34.7112,2,  34.7122,2,    205.7,2,  0.7038,    206.2,2,   118.41,6,    32.19,6,     0.00,2,     2.19,2,    0.094,2,    0.052,2,   -999.0,9,  -999.00,9,   -999.0,9,   -999.0,9,   -999.0,9,     7.61,2, -999.00,  -999.0, -999.00,  -999.0
    31DSCG96_1,  P15S,    37,  1,    102,    414,2,19960119,1333,-64.5010,-169.9980, 2370,   -999,   2298.2,   0.7009,  34.7056,2,-999.0000,9,    206.3,2,  0.5611,    208.3,2,   127.05,6,    32.59,6,     0.00,2,     2.21,6,    0.149,2,    0.074,2,   -999.0,9,  -999.00,9,   -999.0,9,   -999.0,9,   -999.0,9,     7.61,2, -999.00,  -999.0, -999.00,  -999.0
    31DSCG96_1,  P15S,    37,  1,    101,    406,2,19960119,1333,-64.5010,-169.9980, 2370,   -999,   2352.3,   0.7064,  34.7050,2,  34.7068,2,    206.4,2,  0.5622,    207.8,2,   127.14,6,    32.57,6,     0.00,6,     2.21,6,    0.126,2,    0.081,2,   -999.0,9,  -999.00,9,   -999.0,9,   -999.0,9,   -999.0,9,     7.60,2, -999.00,  -999.0, -999.00,  -999.0