BOTTLE,20220811CCHSIOAMB
EXPOCODE,SECT_ID,STNNBR,CASTNO,SAMPNO,BTLNBR,BTLNBR_FLAG_W,DATE,TIME,LATITUDE,LONGITUDE,DEPTH,CTDRAW,CTDPRS,CTDTMP,CTDSAL,CTDSAL_FLAG_W,SALNTY,SALNTY_FLAG_W,CTDOXY,CTDOXY_FLAG_W,THETA,OXYGEN,OXYGEN_FLAG_W,SILCAT,SILCAT_FLAG_W,NITRAT,NITRAT_FLAG_W,NITRIT,NITRIT_FLAG_W,PHSPHT,PHSPHT_FLAG_W,CFC-11,CFC-11_FLAG_W,CFC-12,CFC-12_FLAG_W,DELC14,DELC14_FLAG_W,DELC13,DELC13_FLAG_W,TCARBN,TCARBN_FLAG_W,PCO2,PCO2_FLAG_W,ALKALI,ALKALI_FLAG_W,PH,PH_FLAG_W,PCO2TMP,C14ERR,PH_TMP,C13ERR
,,,,,,,,,,,,DBAR,DBAR,ITS-90,PSS-78,,PSS-78,,UMOL/KG,,DEG C,UMOL/KG,,UMOL/KG,,UMOL/KG,,UMOL/KG,,UMOL/KG,,PMOL/KG,,PMOL/KG,,/MILLE,,/MILLE,,UMOL/KG,,UATM,,UMOL/KG,,,,DEG C,/MILLE,DEG C,/MILLE
    31DSCG96_2,  P15S,   116,  2,    236,   1245,2,19960219,1640,-30.5047,-169.9972, 5505,   -999,      4.0,  23.5176,  35.8167,2,  35.8274,3,    223.5,2, 23.5167,    212.2,2,     1.15,2,     0.05,2,     0.00,2,     0.03,3,    1.962,2,    1.083,2,    105.1,2,  -999.00,9,   2011.5,2,    295.8,4,   -999.0,9,     8.08,2, -999.00,     3.3, -999.00,  -999.0
    31DSCG96_2,  P15S,   116,  2,    235,   1113,2,19960219,1640,-30.5047,-169.9972, 5505,   -999,     19.4,  23.5276,  35.8183,2,  35.8183,2,    213.9,2, 23.5236,    222.6,3,     1.16,2,     0.06,2,     0.00,2,     0.03,3,    1.964,2,    1.101,2,   -999.0,9,  -999.00,9,   -999.0,9,   -999.0,9,   -999.0,9,     8.08,2, -999.00,  -999.0, -999.00,  -999.0
    31DSCG96_2,  P15S,   116,  2,    234,   1216,2,19960219,1640,-30.5047,-169.9972, 5505,   -999,     45.1,  23.5071,  35.8149,2,  35.8174,2,    213.1,2, 23.4978,    212.7,2,     1.17,2,     0.06,2,     0.00,2,     0.04,3,    1.962,6,    1.100,6,   -999.0,9,  -999.00,9,   -999.0,9,   -999.0,9,   -999.0,9,     8.08,2, -999.00,  -999.0, -999.00,  -999.0
    31DSCG96_2,  P15S,   116,  2,    233,   1221,2,19960219,1640,-30.5047,-169.9972, 5505,   -999,     69.1,  19.0345,  35.7062,2,  35.7105,2,    240.4,2, 19.0221,    243.0,2,     1.28,2,     0.06,2,     0.00,2,     0.08,2,    2.405,2,    1.305,2,   -999.0,9,  -999.00,9,   -999.0,9,   -999.0,9,   -999.0,9,     8.04,2, -999.00,  -999.0, -999.00,  -999.0
    31DSCG96_2,  P15S,   116,  2,    232,   1039,2,19960219,1640,-30.5047,-169.9972, 5505,   -999,     94.7,  17.8627,  35.6707,2,  35.6747,2,    233.8,2, 17.8465,    230.1,2,     1.32,2,     0.04,2,     0.00,2,     0.13,2,    2.444,2,    1.318,2,   -999.0,9,  -999.00,9,   -999.0,9,   -999.0,9,   -999.0,9,     8.02,2, -999.00,  -999.0, -999.00,  -999.0
    31DSCG96_2,  P15S,   116,  2,    231,   1014,2,19960219,1640,-30.5047,-169.9972, 5505,   -999,    141.4,  16.7219,  35.5881,2,  35.5895,2,    207.8,2, 16.6988,    208.9,2,     1.84,2,     3.63,2,     0.02,2,     0.34,2,    2.440,2,    1.298,2,   -999.0,9,  -999.00,9,   -999.0,9,   -999.0,9,   -999.0,9,     7.96,2, -999.00,  -999.0, -999.00,  -999.0
    31DSCG96_2,  P15S,   116,  2,    230,   1257,2,19960219,1640,-30.5047,-169.9972, 5505,   -999,    190.4,  15.8871,  35.4906,2,  35.4887,2,    205.0,2, 15.8570,    206.7,2,     2.24,2,     4.96,2,     0.01,2,     0.43,2,    2.444,2,    1.291,2,   -999.0,9,  -999.00,9,   -999.0,9,   -999.0,9,   -999.0,9,     7.94,2, -999.00,  -999.0, -999.00,  -999.0
    31DSCG96_2,  P15S,   116,  2,    229,   1256,2,19960219,1640,-30.5047,-169.9972, 5505,   -999,    240.2,  14.9291,  35.3626,2,  35.3625,2,    202.6,2, 14.8927,    201.5,6,     2.71,2,     7.10,2,     0.01,2,     0.57,2,    2.338,2,    1.217,2,   -999.0,9,  -999.00,9,   -999.0,9,   -999.0,9,   -999.0,9,     7.91,2, -999.00,  -999.0, -999.00,  -999.0
    31DSCG96_2,  P15S,   116,  2,    228,   1007,2,19960219,1640,-30.5047,-169.9972, 5505,   -999,    290.8,  13.8671,  35.2229,2,  35.2131,2,    200.3,2, 13.8251,    198.2,2,     3.41,2,     9.32,2,     0.00,2,     0.70,2,    2.264,2,    1.187,2,   -999.0,9,  -999.00,9,   -999.0,9,   -999.0,9,   -999.0,9,     7.88,2, -999.00,  -999.0, -999.00,  -999.0
    31DSCG96_2,  P15S,   116,  2,    227,   1232,2,19960219,1640,-30.5047,-169.9972, 5505,   -999,    373.5,  11.6135,  34.9258,2,  34.9250,2,    195.1,2, 11.5655,    195.0,2,     4.76,2,    13.93,2,     0.00,2,     0.99,2,    1.963,2,    0.984,2,   -999.0,9,  -999.00,9,   -999.0,9,   -999.0,9,   -999.0,9,     7.81,2, -999.00,  -999.0, -999.00,  -999.0
    31DSCG96_2,  P15S,   116,  2,    226,   1025,2,19960219,1640,-30.5047,-169.9972, 5505,   -999,    476.6,   9.1094,  34.6196,2,  34.6188,2,    206.2,2,  9.0566,    206.1,2,     6.16,2,    18.74,2,     0.00,2,     1.29,2,    1.582,2,    0.783,2,   -999.0,9,  -999.00,9,   -999.0,9,   -999.0,9,   -999.0,9,     7.76,2, -999.00,  -999.0, -999.00,  -999.0
    31DSCG96_2,  P15S,   116,  2,    225,   1233,2,19960219,1640,-30.5047,-169.9972, 5505,   -999,    574.8,   7.9161,  34.4991,2,  34.5014,2,    219.9,2,  7.8573,    217.7,2,     7.21,2,    20.97,2,     0.00,2,     1.43,2,    1.380,2,    0.677,2,   -999.0,9,  -999.00,9,   -999.0,9,   -999.0,9,   -999.0,9,     7.74,2, -999.00,  -999.0, -999.00,  -999.0
    31DSCG96_2,  P15S,   116,  2,    224,   1013,2,19960219,1640,-30.5047,-169.9972, 5505,   -999,    675.2,   7.0551,  34.4163,2,  34.4164,2,    227.1,2,  6.9900,    226.6,2,     8.82,2,    22.83,2,     0.00,2,     1.55,2,    0.974,2,    0.480,2,   -999.0,9,  -999.00,9,   -999.0,9,   -999.0,9,   -999.0,9,     7.73,2, -999.00,  -999.0, -999.00,  -999.0
    31DSCG96_2,  P15S,   116,  2,    223,   1250,2,19960219,1640,-30.5047,-169.9972, 5505,   -999,    772.6,   6.4102,  34.3681,2,  34.3678,2,    225.1,2,  6.3390,    224.7,2,    11.65,2,    24.66,2,     0.00,2,     1.67,2,    0.602,6,    0.308,6,   -999.0,9,  -999.00,9,   -999.0,9,   -999.0,9,   -999.0,9,     7.71,2, -999.00,  -999.0, -999.00,  -999.0
    31DSCG96_2,  P15S,   116,  2,    222,   1265,2,19960219,1640,-30.5047,-169.9972, 5505,   -999,    872.1,   5.7972,  34.3409,2,  34.3407,2,    216.5,2,  5.7202,    216.8,2,    16.60,2,    26.94,2,     0.00,2,     1.82,2,    0.324,2,    0.171,2,   -999.0,9,  -999.00,9,   -999.0,9,   -999.0,9,   -999.0,9,     7.69,2, -999.00,  -999.0, -999.00,  -999.0
    31DSCG96_2,  P15S,   116,  2,    221,   1246,2,19960219,1640,-30.5047,-169.9972, 5505,   -999,    975.5,   5.1650,  34.3374,2,  34.3371,2,    204.6,2,  5.0829,    204.3,6,    24.32,2,    29.33,2,     0.00,2,     1.99,2,    0.143,2,    0.084,2,   -999.0,9,  -999.00,9,   -999.0,9,   -999.0,9,   -999.0,9,     7.66,2, -999.00,  -999.0, -999.00,  -999.0
    31DSCG96_2,  P15S,   116,  2,    220,   1015,2,19960219,1640,-30.5047,-169.9972, 5505,   -999,   1072.8,   4.6356,  34.3523,2,  34.3519,2,    192.6,2,  4.5489,    192.6,2,    32.98,2,    31.22,2,     0.00,2,     2.12,2,    0.063,2,    0.038,2,   -999.0,9,  -999.00,9,   -999.0,9,   -999.0,9,   -999.0,9,     7.63,2, -999.00,  -999.0, -999.00,  -999.0
    31DSCG96_2,  P15S,   116,  2,    219,   1247,2,19960219,1640,-30.5047,-169.9972, 5505,   -999,   1216.7,   3.8876,  34.3939,2,  34.3935,2,    180.6,2,  3.7948,    182.0,2,    46.87,2,    33.07,2,     0.00,2,     2.25,2,    0.020,2,    0.018,2,   -999.0,9,  -999.00,9,   -999.0,9,   -999.0,9,   -999.0,9,     7.61,2, -999.00,  -999.0, -999.00,  -999.0
    31DSCG96_2,  P15S,   116,  2,    218,   1222,2,19960219,1640,-30.5047,-169.9972, 5505,   -999,   1443.8,   3.0576,  34.4926,2,  34.4923,2,    166.1,2,  2.9540,    166.8,2,    70.73,2,    34.64,2,     0.00,2,     2.37,2,   -0.003,2,   -0.001,2,   -999.0,9,  -999.00,9,   -999.0,9,   -999.0,9,   -999.0,9,     7.58,2, -999.00,  -999.0, -999.00,  -999.0
    31DSCG96_2,  P15S,   116,  2,    217,   1267,2,19960219,1640,-30.5047,-169.9972, 5505,   -999,   1690.5,   2.5953,  34.5792,2,  34.5807,2,    155.5,2,  2.4765,    155.4,2,    94.50,2,    35.40,2,     0.00,2,     2.44,2,   -0.002,2,    0.002,2,   -999.0,9,  -999.00,9,   -999.0,9,   -999.0,9,   -999.0,9,     7.57,2, -999.00,  -999.0, -999.00,  -999.0
    31DSCG96_2,  P15S,   116,  2,    216,   1211,2,19960219,1640,-30.5047,-169.9972, 5505,   -999,   1942.8,   2.3412,  34.6146,2,  34.6168,2,    149.5,2,  2.2045,    148.3,2,   109.21,2,    35.91,2,     0.00,2,     2.48,2,    0.000,2,    0.003,2,   -999.0,9,  -999.00,9,   -999.0,9,   -999.0,9,   -999.0,9,     7.57,2, -999.00,  -999.0, -999.00,  -999.0
    31DSCG96_2,  P15S,   116,  2,    215,   1041,2,19960219,1640,-30.5047,-169.9972, 5505,   -999,   2189.2,   2.1769,  34.6255,3,  34.6341,2,    147.0,2,  2.0215,    146.0,2,   117.20,2,    36.20,2,     0.00,2,     2.50,2,   -0.002,2,    0.002,2,   -999.0,9,  -999.00,9,   -999.0,9,   -999.0,9,   -999.0,9,     7.57,2, -999.00,  -999.0, -999.00,  -999.0
    31DSCG96_2,  P15S,   116,  2,    214,   1017,2,19960219,1640,-30.5047,-169.9972, 5505,   -999,   2435.4,   2.0653,  34.6396,2,  34.6451,3,    146.5,2,  1.8897,    145.7,2,   122.71,2,    36.29,2,     0.00,2,     2.51,2,   -0.003,2,    0.000,2,   -999.0,9,  -999.00,9,   -999.0,9,   -999.0,9,   -999.0,9,     7.57,2, -999.00,  -999.0, -999.00,  -999.0
    31DSCG96_2,  P15S,   116,  2,    213,   1302,2,19960219,1640,-30.5047,-169.9972, 5505,   -999,   2674.8,   1.9599,  34.6561,2,  34.6553,2,    147.2,2,  1.7642,    146.4,6,   126.47,2,    36.24,2,     0.00,2,     2.50,2,   -0.001,2,    0.001,2,   -999.0,9,  -999.00,9,   -999.0,9,   -999.0,9,   -999.0,9,     7.57,2, -999.00,  -999.0, -999.00,  -999.0
    31DSCG96_2,  P15S,   116,  2,    212,   1217,2,19960219,1640,-30.5047,-169.9972, 5505,   -999,   2940.8,   1.8308,  34.6692,2,  34.6686,2,    150.5,2,  1.6125,    150.8,2,   128.54,2,    35.94,2,     0.00,2,     2.48,2,    0.001,2,    0.004,2,   -999.0,9,  -999.00,9,   -999.0,9,   -999.0,9,   -999.0,9,     7.57,2, -999.00,  -999.0, -999.00,  -999.0
    31DSCG96_2,  P15S,   116,  2,    211,   1114,2,19960219,1640,-30.5047,-169.9972, 5505,   -999,   3190.0,   1.7331,  34.6837,2,  34.6842,2,    158.9,2,  1.4924,    160.2,2,   125.21,2,    35.14,2,     0.00,2,     2.41,2,   -0.001,2,    0.003,2,   -999.0,9,  -999.00,9,   -999.0,9,   -999.0,9,   -999.0,9,     7.58,2, -999.00,  -999.0, -999.00,  -999.0
    31DSCG96_2,  P15S,   116,  2,    210,   1301,3,19960219,1640,-30.5047,-169.9972, 5505,   -999,   3440.6,   1.6287,  34.7042,2,  34.6753,4,    175.7,2,  1.3652,    157.9,3,   123.48,3,    35.26,3,     0.00,3,     2.43,3,   -0.001,2,    0.003,2,   -999.0,9,  -999.00,9,   -999.0,9,   -999.0,9,   -999.0,9,     7.58,3, -999.00,  -999.0, -999.00,  -999.0
    31DSCG96_2,  P15S,   116,  2,    209,   1119,2,19960219,1640,-30.5047,-169.9972, 5505,   -999,   3688.6,   1.4787,  34.7177,2,  34.7169,2,    190.7,2,  1.1933,    191.5,2,   110.47,2,    32.43,2,     0.00,2,     2.21,2,    0.000,2,    0.003,2,   -999.0,9,  -999.00,9,   -999.0,9,   -999.0,9,   -999.0,9,     7.61,2, -999.00,  -999.0, -999.00,  -999.0
    31DSCG96_2,  P15S,   116,  2,    208,   1227,2,19960219,1640,-30.5047,-169.9972, 5505,   -999,   3939.3,   1.2868,  34.7190,2,  34.7185,2,    199.4,2,  0.9801,    199.6,2,   112.14,2,    32.11,2,     0.00,2,     2.19,2,    0.005,2,    0.004,2,   -999.0,9,  -999.00,9,   -999.0,9,   -999.0,9,   -999.0,9,     7.61,2, -999.00,  -999.0, -999.00,  -999.0
    31DSCG96_2,  P15S,   116,  2,    207,   1263,2,19960219,1640,-30.5047,-169.9972, 5505,   -999,   4189.0,   1.1512,  34.7154,2,  34.7160,2,    203.5,2,  0.8215,    203.2,2,   115.57,2,    32.16,2,     0.00,2,     2.19,2,    0.006,2,    0.007,2,   -999.0,9,  -999.00,9,   -999.0,9,   -999.0,9,   -999.0,9,     7.61,2, -999.00,  -999.0, -999.00,  -999.0
    31DSCG96_2,  P15S,   116,  2,    206,   1262,2,19960219,1640,-30.5047,-169.9972, 5505,   -999,   4438.9,   1.0714,  34.7120,2,  34.7127,2,    205.0,2,  0.7164,    205.1,2,   118.24,2,    32.25,2,     0.00,2,     2.20,2,    0.007,2,    0.005,2,   -999.0,9,  -999.00,9,   -999.0,9,   -999.0,9,   -999.0,9,     7.61,2, -999.00,  -999.0, -999.00,  -999.0
    31DSCG96_2,  P15S,   116,  2,    205,   1264,2,19960219,1640,-30.5047,-169.9972, 5505,   -999,   4689.9,   1.0275,  34.7095,2,  34.7106,2,    206.5,2,  0.6454,    206.3,6,   119.95,2,    32.30,2,     0.00,2,     2.20,2,    0.011,2,    0.007,2,   -999.0,9,  -999.00,9,   -999.0,9,   -999.0,9,   -999.0,9,     7.61,2, -999.00,  -999.0, -999.00,  -999.0
    31DSCG96_2,  P15S,   116,  2,    204,   1003,2,19960219,1640,-30.5047,-169.9972, 5505,   -999,   4939.3,   1.0226,  34.7082,2,  34.7077,2,    206.7,2,  0.6115,    206.0,2,   121.01,2,    32.32,2,     0.00,2,     2.20,2,    0.013,6,    0.009,6,   -999.0,9,  -999.00,9,   -999.0,9,   -999.0,9,   -999.0,9,     7.61,2, -999.00,  -999.0, -999.00,  -999.0
    31DSCG96_2,  P15S,   116,  2,    203,    999,2,19960219,1640,-30.5047,-169.9972, 5505,   -999,   5187.9,   1.0418,  34.7076,2,  34.7082,2,    207.0,2,  0.6003,    205.4,2,   121.29,2,    32.29,2,     0.00,2,     2.21,2,    0.011,2,    0.008,2,   -999.0,9,  -999.00,9,   -999.0,9,   -999.0,9,   -999.0,9,     7.61,2, -999.00,  -999.0, -999.00,  -999.0
    31DSCG96_2,  P15S,   116,  2,    202,   1030,2,19960219,1640,-30.5047,-169.9972, 5505,   -999,   5475.4,   1.0744,  34.7071,2,  34.7079,2,    206.9,2,  0.5962,    206.3,2,   121.58,2,    32.27,2,     0.00,2,     2.21,2,    0.010,2,    0.009,2,   -999.0,9,  -999.00,9,   -999.0,9,   -999.0,9,   -999.0,9,     7.61,2, -999.00,  -999.0, -999.00,  -999.0
    31DSCG96_2,  P15S,   116,  2,    201,   1022,2,19960219,1640,-30.5047,-169.9972, 5505,   -999,   5638.3,   1.0961,  34.7070,2,  34.7082,2,    206.8,2,  0.5966,    208.6,2,   121.45,6,    32.25,6,     0.00,6,     2.21,6,    0.013,6,    0.010,6,   -999.0,9,  -999.00,9,   -999.0,9,   -999.0,9,   -999.0,9,     7.61,2, -999.00,  -999.0, -999.00,  -999.0