BOTTLE,20220811CCHSIOAMB
EXPOCODE,SECT_ID,STNNBR,CASTNO,SAMPNO,BTLNBR,BTLNBR_FLAG_W,DATE,TIME,LATITUDE,LONGITUDE,DEPTH,CTDRAW,CTDPRS,CTDTMP,CTDSAL,CTDSAL_FLAG_W,SALNTY,SALNTY_FLAG_W,CTDOXY,CTDOXY_FLAG_W,THETA,OXYGEN,OXYGEN_FLAG_W,SILCAT,SILCAT_FLAG_W,NITRAT,NITRAT_FLAG_W,NITRIT,NITRIT_FLAG_W,PHSPHT,PHSPHT_FLAG_W,CFC-11,CFC-11_FLAG_W,CFC-12,CFC-12_FLAG_W,DELC14,DELC14_FLAG_W,DELC13,DELC13_FLAG_W,TCARBN,TCARBN_FLAG_W,PCO2,PCO2_FLAG_W,ALKALI,ALKALI_FLAG_W,PH,PH_FLAG_W,PCO2TMP,C14ERR,PH_TMP,C13ERR
,,,,,,,,,,,,DBAR,DBAR,ITS-90,PSS-78,,PSS-78,,UMOL/KG,,DEG C,UMOL/KG,,UMOL/KG,,UMOL/KG,,UMOL/KG,,UMOL/KG,,PMOL/KG,,PMOL/KG,,/MILLE,,/MILLE,,UMOL/KG,,UATM,,UMOL/KG,,,,DEG C,/MILLE,DEG C,/MILLE
    31DSCG96_2,  P15S,   160,  1,    136,   1245,2,19960302,0429, -9.5015,-168.9982, 5310,   -999,      5.1,  28.8768,  34.6352,2,  34.6335,2,    195.0,2, 28.8756,   -999.0,9,     1.44,2,     0.08,2,     0.00,2,     0.17,2, -999.000,9, -999.000,9,   -999.0,9,  -999.00,9,   -999.0,9,   -999.0,9,   -999.0,9,  -999.00,9, -999.00,  -999.0, -999.00,  -999.0
    31DSCG96_2,  P15S,   160,  1,    135,   1113,2,19960302,0429, -9.5015,-168.9982, 5310,   -999,     19.5,  28.8844,  34.6350,2,  34.6369,2,    194.2,2, 28.8797,    194.8,2,     1.45,2,     0.07,2,     0.00,2,     0.19,2, -999.000,9, -999.000,9,   -999.0,9,  -999.00,9,   1915.2,2,    240.5,2,   2278.4,2,     8.15,2, -999.00,  -999.0, -999.00,  -999.0
    31DSCG96_2,  P15S,   160,  1,    134,   1267,2,19960302,0429, -9.5015,-168.9982, 5310,   -999,     42.4,  29.2312,  35.0410,2,  35.0616,2,    194.1,2, 29.2209,    195.7,2,     1.46,2,     0.07,2,     0.00,2,     0.22,2, -999.000,9, -999.000,9,   -999.0,9,  -999.00,9,   1940.2,2,    250.0,2,   2306.9,2,     8.14,2, -999.00,  -999.0, -999.00,  -999.0
    31DSCG96_2,  P15S,   160,  1,    133,   1021,2,19960302,0429, -9.5015,-168.9982, 5310,   -999,     71.4,  28.7405,  35.5609,2,  35.5599,2,    180.3,2, 28.7233,    182.6,2,     1.89,2,     1.07,2,     0.17,2,     0.34,2, -999.000,9, -999.000,9,   -999.0,9,  -999.00,9,   -999.0,9,   -999.0,9,   -999.0,9,     8.09,2, -999.00,  -999.0, -999.00,  -999.0
    31DSCG96_2,  P15S,   160,  1,    132,   1039,2,19960302,0429, -9.5015,-168.9982, 5310,   -999,     97.4,  27.7464,  35.8796,2,  35.8778,2,    164.8,2, 27.7235,    166.4,2,     1.94,2,     1.95,2,     0.59,2,     0.42,2, -999.000,9, -999.000,9,   -999.0,9,  -999.00,9,   -999.0,9,   -999.0,9,   -999.0,9,     8.06,2, -999.00,  -999.0, -999.00,  -999.0
    31DSCG96_2,  P15S,   160,  1,    131,   1014,2,19960302,0429, -9.5015,-168.9982, 5310,   -999,    139.8,  25.3129,  36.2506,2,  36.2499,2,    150.3,2, 25.2822,    151.5,2,     1.77,2,     4.30,2,     0.47,2,     0.55,2, -999.000,9, -999.000,9,   -999.0,9,  -999.00,9,   -999.0,9,   -999.0,9,   -999.0,9,     8.02,2, -999.00,  -999.0, -999.00,  -999.0
    31DSCG96_2,  P15S,   160,  1,    130,   1257,2,19960302,0429, -9.5015,-168.9982, 5310,   -999,    186.1,  22.0318,  36.0371,2,  36.0375,2,    151.1,2, 21.9947,    149.9,2,     2.20,2,     6.73,2,     0.01,2,     0.69,2, -999.000,9, -999.000,9,   -999.0,9,  -999.00,9,   -999.0,9,   -999.0,9,   -999.0,9,     7.96,2, -999.00,  -999.0, -999.00,  -999.0
    31DSCG96_2,  P15S,   160,  1,    129,   1256,2,19960302,0429, -9.5015,-168.9982, 5310,   -999,    239.4,  18.8495,  35.6381,2,  35.6414,2,    136.2,2, 18.8068,    136.7,2,     4.04,2,    10.06,2,     0.01,2,     0.93,2, -999.000,9, -999.000,9,   -999.0,9,  -999.00,9,   -999.0,9,   -999.0,9,   -999.0,9,     7.88,2, -999.00,  -999.0, -999.00,  -999.0
    31DSCG96_2,  P15S,   160,  1,    128,   1007,4,19960302,0429, -9.5015,-168.9982, 5310,   -999,    290.7,  15.2788,  35.2088,2,  35.2159,2,    110.5,2, 15.2340,   -999.0,9,     9.19,2,    16.88,2,     0.01,2,     1.39,2, -999.000,9, -999.000,9,   -999.0,9,  -999.00,9,   -999.0,9,   -999.0,9,   -999.0,9,  -999.00,9, -999.00,  -999.0, -999.00,  -999.0
    31DSCG96_2,  P15S,   160,  1,    127,   1232,2,19960302,0429, -9.5015,-168.9982, 5310,   -999,    371.2,  11.2695,  34.8317,2,  34.8427,2,     93.4,2, 11.2228,     91.2,2,    17.86,2,    25.32,2,     0.00,2,     1.88,2, -999.000,9, -999.000,9,   -999.0,9,  -999.00,9,   -999.0,9,   -999.0,9,   -999.0,9,     7.64,2, -999.00,  -999.0, -999.00,  -999.0
    31DSCG96_2,  P15S,   160,  1,    126,   1025,2,19960302,0429, -9.5015,-168.9982, 5310,   -999,    464.4,   8.7319,  34.6499,2,  34.6506,2,    106.7,2,  8.6818,    104.3,2,    26.71,2,    30.26,2,     0.00,2,     2.12,2, -999.000,9, -999.000,9,   -999.0,9,  -999.00,9,   -999.0,9,   -999.0,9,   -999.0,9,     7.59,2, -999.00,  -999.0, -999.00,  -999.0
    31DSCG96_2,  P15S,   160,  1,    125,   1119,2,19960302,0429, -9.5015,-168.9982, 5310,   -999,    619.4,   6.6738,  34.5375,2,  34.5360,2,    118.8,2,  6.6159,    115.7,2,    38.77,2,    33.69,2,     0.00,2,     2.34,2, -999.000,9, -999.000,9,   -999.0,9,  -999.00,9,   -999.0,9,   -999.0,9,   -999.0,9,     7.56,3, -999.00,  -999.0, -999.00,  -999.0
    31DSCG96_2,  P15S,   160,  1,    124,   1244,2,19960302,0429, -9.5015,-168.9982, 5310,   -999,    776.5,   5.6814,  34.5192,2,  34.5184,2,    116.4,2,  5.6139,    113.2,6,    50.59,2,    35.75,2,     0.00,2,     2.49,2, -999.000,9, -999.000,9,   -999.0,9,  -999.00,9,   -999.0,9,   -999.0,9,   -999.0,9,     7.54,2, -999.00,  -999.0, -999.00,  -999.0
    31DSCG96_2,  P15S,   160,  1,    123,   1250,2,19960302,0429, -9.5015,-168.9982, 5310,   -999,    925.8,   4.8159,  34.5251,2,  34.5238,2,    110.0,2,  4.7405,    108.7,2,    66.23,2,    37.43,2,     0.00,2,     2.63,2, -999.000,9, -999.000,9,   -999.0,9,  -999.00,9,   -999.0,9,   -999.0,9,   -999.0,9,     7.52,2, -999.00,  -999.0, -999.00,  -999.0
    31DSCG96_2,  P15S,   160,  1,    122,   1265,2,19960302,0429, -9.5015,-168.9982, 5310,   -999,   1077.0,   4.1631,  34.5389,2,  34.5382,2,    115.4,2,  4.0796,    114.4,2,    78.37,2,    37.46,2,     0.00,2,     2.63,2, -999.000,9, -999.000,9,   -999.0,9,  -999.00,9,   -999.0,9,   -999.0,9,   -999.0,9,     7.53,2, -999.00,  -999.0, -999.00,  -999.0
    31DSCG96_2,  P15S,   160,  1,    121,   1246,2,19960302,0429, -9.5015,-168.9982, 5310,   -999,   1292.9,   3.5007,  34.5666,2,  34.5649,2,    118.0,2,  3.4049,    117.0,2,    94.24,2,    37.65,2,     0.00,2,     2.65,2, -999.000,9, -999.000,9,   -999.0,9,  -999.00,9,   -999.0,9,   -999.0,9,   -999.0,9,     7.53,2, -999.00,  -999.0, -999.00,  -999.0
    31DSCG96_2,  P15S,   160,  1,    120,   1015,2,19960302,0429, -9.5015,-168.9982, 5310,   -999,   1440.2,   3.1091,  34.5853,2,  34.5843,2,    120.0,2,  3.0050,    119.7,2,   103.79,2,    37.75,2,     0.00,2,     2.65,2, -999.000,9, -999.000,9,   -999.0,9,  -999.00,9,   -999.0,9,   -999.0,9,   -999.0,9,     7.53,2, -999.00,  -999.0, -999.00,  -999.0
    31DSCG96_2,  P15S,   160,  1,    119,   1247,2,19960302,0429, -9.5015,-168.9982, 5310,   -999,   1680.8,   2.6312,  34.6097,2,  34.6102,2,    126.4,2,  2.5127,    127.3,2,   113.99,2,    37.30,2,     0.00,2,     2.61,2, -999.000,9, -999.000,9,   -999.0,9,  -999.00,9,   -999.0,9,   -999.0,9,   -999.0,9,     7.54,2, -999.00,  -999.0, -999.00,  -999.0
    31DSCG96_2,  P15S,   160,  1,    118,   1299,2,19960302,0429, -9.5015,-168.9982, 5310,   -999,   1939.8,   2.3531,  34.6287,2,  34.6295,2,    128.0,2,  2.2165,    128.2,2,   122.18,2,    37.29,2,     0.00,2,     2.61,2, -999.000,9, -999.000,9,   -999.0,9,  -999.00,9,   -999.0,9,   -999.0,9,   -999.0,9,     7.55,2, -999.00,  -999.0, -999.00,  -999.0
    31DSCG96_2,  P15S,   160,  1,    117,   1242,2,19960302,0429, -9.5015,-168.9982, 5310,   -999,   2188.3,   2.1257,  34.6441,2,  34.6435,2,    132.0,2,  1.9711,    132.8,2,   128.22,2,    37.13,2,     0.00,2,     2.59,2, -999.000,9, -999.000,9,   -999.0,9,  -999.00,9,   -999.0,9,   -999.0,9,   -999.0,9,     7.55,2, -999.00,  -999.0, -999.00,  -999.0
    31DSCG96_2,  P15S,   160,  1,    116,   1259,2,19960302,0429, -9.5015,-168.9982, 5310,   -999,   2439.9,   1.9205,  34.6588,2,  34.6573,2,    137.5,2,  1.7470,    137.9,2,   132.83,2,    36.86,2,     0.00,2,     2.56,2, -999.000,9, -999.000,9,   -999.0,9,  -999.00,9,   -999.0,9,   -999.0,9,   -999.0,9,     7.56,2, -999.00,  -999.0, -999.00,  -999.0
    31DSCG96_2,  P15S,   160,  1,    115,   1041,2,19960302,0429, -9.5015,-168.9982, 5310,   -999,   2681.7,   1.8005,  34.6677,2,  34.6666,2,    144.7,2,  1.6073,    143.9,2,   134.21,2,    36.50,2,     0.00,2,     2.53,2, -999.000,9, -999.000,9,   -999.0,9,  -999.00,9,   -999.0,9,   -999.0,9,   -999.0,9,     7.57,2, -999.00,  -999.0, -999.00,  -999.0
    31DSCG96_2,  P15S,   160,  1,    114,   1017,2,19960302,0429, -9.5015,-168.9982, 5310,   -999,   2939.6,   1.7172,  34.6739,2,  34.6733,2,    149.3,2,  1.5014,    148.6,2,   134.65,2,    36.16,2,     0.00,2,     2.50,2, -999.000,9, -999.000,9,   -999.0,9,  -999.00,9,   -999.0,9,   -999.0,9,   -999.0,9,     7.58,2, -999.00,  -999.0, -999.00,  -999.0
    31DSCG96_2,  P15S,   160,  1,    113,   1302,2,19960302,0429, -9.5015,-168.9982, 5310,   -999,   3182.8,   1.6394,  34.6792,2,  34.6777,2,    154.2,2,  1.4017,    152.9,2,   135.03,2,    35.79,2,     0.00,2,     2.47,2, -999.000,9, -999.000,9,   -999.0,9,  -999.00,9,   -999.0,9,   -999.0,9,   -999.0,9,     7.58,2, -999.00,  -999.0, -999.00,  -999.0
    31DSCG96_2,  P15S,   160,  1,    112,   1217,2,19960302,0429, -9.5015,-168.9982, 5310,   -999,   3437.0,   1.5553,  34.6843,2,  34.6832,2,    158.6,2,  1.2941,    159.3,6,   134.82,2,    35.45,2,     0.00,2,     2.44,2,    0.000,2,    0.000,2,   -999.0,9,  -999.00,9,   -999.0,9,   -999.0,9,   -999.0,9,     7.59,2, -999.00,  -999.0, -999.00,  -999.0
    31DSCG96_2,  P15S,   160,  1,    111,   1226,2,19960302,0429, -9.5015,-168.9982, 5310,   -999,   3688.6,   1.4810,  34.6888,2,  34.6881,2,    163.9,2,  1.1958,    163.5,2,   134.56,2,    35.11,2,     0.00,2,     2.41,2, -999.000,9, -999.000,9,   -999.0,9,  -999.00,9,   -999.0,9,   -999.0,9,   -999.0,9,     7.59,2, -999.00,  -999.0, -999.00,  -999.0
    31DSCG96_2,  P15S,   160,  1,    110,   1301,2,19960302,0429, -9.5015,-168.9982, 5310,   -999,   3944.6,   1.4308,  34.6920,2,  34.6914,2,    167.6,2,  1.1197,    167.4,2,   134.90,2,    34.96,2,     0.00,2,     2.40,2,   -0.002,2,    0.000,2,   -999.0,9,  -999.00,9,   -999.0,9,   -999.0,9,   -999.0,9,     7.60,2, -999.00,  -999.0, -999.00,  -999.0
    31DSCG96_2,  P15S,   160,  1,    109,   1031,2,19960302,0429, -9.5015,-168.9982, 5310,   -999,   4190.5,   1.3231,  34.7002,2,  34.7012,2,    179.5,2,  0.9883,    181.8,2,   127.59,2,    33.80,2,     0.00,2,     2.32,2, -999.000,9, -999.000,9,   -999.0,9,  -999.00,9,   -999.0,9,   -999.0,9,   -999.0,9,     7.60,2, -999.00,  -999.0, -999.00,  -999.0
    31DSCG96_2,  P15S,   160,  1,    108,   1227,2,19960302,0429, -9.5015,-168.9982, 5310,   -999,   4446.9,   1.1316,  34.7087,2,  34.7087,2,    199.9,2,  0.7739,    199.3,2,   120.45,2,    32.54,2,     0.00,2,     2.23,2,    0.000,2,    0.001,2,   -999.0,9,  -999.00,9,   -999.0,9,   -999.0,9,   -999.0,9,     7.61,2, -999.00,  -999.0, -999.00,  -999.0
    31DSCG96_2,  P15S,   160,  1,    107,   1263,2,19960302,0429, -9.5015,-168.9982, 5310,   -999,   4594.3,   1.0742,  34.7102,2,  34.7124,2,    204.3,2,  0.7015,    204.4,2,   119.28,2,    32.22,2,     0.00,2,     2.20,2,    0.005,2,    0.002,2,   -999.0,9,  -999.00,9,   -999.0,9,   -999.0,9,   -999.0,9,     7.61,2, -999.00,  -999.0, -999.00,  -999.0
    31DSCG96_2,  P15S,   160,  1,    106,   1262,2,19960302,0429, -9.5015,-168.9982, 5310,   -999,   4738.1,   1.0624,  34.7099,2,  34.7107,2,    205.4,2,  0.6736,    205.5,2,   119.69,2,    32.20,2,     0.00,2,     2.20,2, -999.000,9, -999.000,9,   -999.0,9,  -999.00,9,   -999.0,9,   -999.0,9,   -999.0,9,  -999.00,9, -999.00,  -999.0, -999.00,  -999.0
    31DSCG96_2,  P15S,   160,  1,    105,   1264,2,19960302,0429, -9.5015,-168.9982, 5310,   -999,   4866.2,   1.0640,  34.7095,2,  34.7104,2,    205.8,2,  0.6601,    205.7,2,   119.96,2,    32.22,2,     0.00,2,     2.20,2, -999.000,9, -999.000,9,   -999.0,9,  -999.00,9,   -999.0,9,   -999.0,9,   -999.0,9,  -999.00,9, -999.00,  -999.0, -999.00,  -999.0
    31DSCG96_2,  P15S,   160,  1,    104,   1003,2,19960302,0429, -9.5015,-168.9982, 5310,   -999,   4994.3,   1.0772,  34.7097,2,  34.7110,2,    206.1,2,  0.6578,    205.5,2,   119.95,2,    32.17,2,     0.00,2,     2.20,2,    0.008,2,    0.002,2,   -999.0,9,  -999.00,9,   -999.0,9,   -999.0,9,   -999.0,9,     7.61,2, -999.00,  -999.0, -999.00,  -999.0
    31DSCG96_2,  P15S,   160,  1,    103,   1035,2,19960302,0429, -9.5015,-168.9982, 5310,   -999,   5118.9,   1.0900,  34.7093,2,  34.7118,2,    206.2,2,  0.6551,    205.5,2,   120.02,2,    32.14,2,     0.00,2,     2.20,2,    0.005,6,    0.002,6,   -999.0,9,  -999.00,9,   -999.0,9,   -999.0,9,   -999.0,9,     7.61,2, -999.00,  -999.0, -999.00,  -999.0
    31DSCG96_2,  P15S,   160,  1,    102,   1030,2,19960302,0429, -9.5015,-168.9982, 5310,   -999,   5247.9,   1.1019,  34.7090,2,  34.7095,2,    206.8,2,  0.6509,   -999.0,9,   120.18,2,    32.17,2,     0.00,2,     2.20,2, -999.000,5, -999.000,5,   -999.0,9,  -999.00,9,   -999.0,9,   -999.0,9,   -999.0,9,  -999.00,9, -999.00,  -999.0, -999.00,  -999.0
    31DSCG96_2,  P15S,   160,  1,    101,   1022,2,19960302,0429, -9.5015,-168.9982, 5310,   -999,   5430.2,   1.1255,  34.7089,2,  34.7089,2,    206.8,2,  0.6511,    205.6,6,   120.28,6,    32.19,6,     0.00,6,     2.20,6,    0.018,2,    0.013,2,   -999.0,9,  -999.00,9,   -999.0,9,   -999.0,9,   -999.0,9,     7.61,2, -999.00,  -999.0, -999.00,  -999.0