BOTTLE,20220811CCHSIOAMB
EXPOCODE,SECT_ID,STNNBR,CASTNO,SAMPNO,BTLNBR,BTLNBR_FLAG_W,DATE,TIME,LATITUDE,LONGITUDE,DEPTH,CTDRAW,CTDPRS,CTDTMP,CTDSAL,CTDSAL_FLAG_W,SALNTY,SALNTY_FLAG_W,CTDOXY,CTDOXY_FLAG_W,THETA,OXYGEN,OXYGEN_FLAG_W,SILCAT,SILCAT_FLAG_W,NITRAT,NITRAT_FLAG_W,NITRIT,NITRIT_FLAG_W,PHSPHT,PHSPHT_FLAG_W,CFC-11,CFC-11_FLAG_W,CFC-12,CFC-12_FLAG_W,DELC14,DELC14_FLAG_W,DELC13,DELC13_FLAG_W,TCARBN,TCARBN_FLAG_W,PCO2,PCO2_FLAG_W,ALKALI,ALKALI_FLAG_W,PH,PH_FLAG_W,PCO2TMP,C14ERR,PH_TMP,C13ERR
,,,,,,,,,,,,DBAR,DBAR,ITS-90,PSS-78,,PSS-78,,UMOL/KG,,DEG C,UMOL/KG,,UMOL/KG,,UMOL/KG,,UMOL/KG,,UMOL/KG,,PMOL/KG,,PMOL/KG,,/MILLE,,/MILLE,,UMOL/KG,,UATM,,UMOL/KG,,,,DEG C,/MILLE,DEG C,/MILLE
    31DSCG96_2,  P15S,    94,  1,    136,   1245,2,19960213,2049,-40.3908,-173.0288, 4568,   -999,      6.4,  17.9993,  35.2772,2,-999.0000,9,    236.8,2, 17.9983,    239.1,2,  -999.00,9,  -999.00,9,  -999.00,9,  -999.00,9,    2.628,2,    1.423,2,     92.9,2,  -999.00,9,   2034.6,2,    337.8,6,   2322.9,2,     8.01,2, -999.00,     2.9, -999.00,  -999.0
    31DSCG96_2,  P15S,    94,  1,    135,   1113,2,19960213,2049,-40.3908,-173.0288, 4568,   -999,     20.5,  17.6535,  35.2603,2,  35.2610,2,    239.4,2, 17.6501,    240.6,2,     1.19,2,     0.03,2,     0.00,2,     0.12,2, -999.000,9, -999.000,9,   -999.0,9,  -999.00,9,   2034.7,2,    338.7,2,   2323.1,2,     8.01,2, -999.00,  -999.0, -999.00,  -999.0
    31DSCG96_2,  P15S,    94,  1,    134,   1119,2,19960213,2049,-40.3908,-173.0288, 4568,   -999,     44.2,  17.1088,  35.2270,2,  35.2400,2,    239.0,2, 17.1014,    237.6,2,     1.19,2,     0.10,2,     0.03,2,     0.14,2,    2.661,2,    1.458,2,   -999.0,9,  -999.00,9,   2040.9,2,    350.5,2,   2320.1,2,     8.00,2, -999.00,  -999.0, -999.00,  -999.0
    31DSCG96_2,  P15S,    94,  1,    133,   1221,2,19960213,2049,-40.3908,-173.0288, 4568,   -999,     70.3,  14.4277,  35.3334,2,  35.3220,2,    219.7,2, 14.4173,    224.2,2,     2.71,2,     5.35,2,     0.03,2,     0.47,2, -999.000,9, -999.000,9,   -999.0,9,  -999.00,9,   2078.9,2,    436.3,2,   2322.0,2,     7.92,2, -999.00,  -999.0, -999.00,  -999.0
    31DSCG96_2,  P15S,    94,  1,    132,   1039,2,19960213,2049,-40.3908,-173.0288, 4568,   -999,     93.3,  13.6748,  35.2450,2,  35.2385,2,    220.8,2, 13.6615,    221.3,2,     3.53,2,     7.41,2,     0.02,2,     0.58,2,    2.834,2,    1.490,2,   -999.0,9,  -999.00,9,   2086.6,2,    475.0,2,   2314.4,2,     7.90,2, -999.00,  -999.0, -999.00,  -999.0
    31DSCG96_2,  P15S,    94,  1,    131,   1014,2,19960213,2049,-40.3908,-173.0288, 4568,   -999,    119.3,  13.0374,  35.1702,2,  35.1692,2,    222.6,2, 13.0210,    223.0,2,     3.67,2,     8.34,2,     0.01,2,     0.63,2, -999.000,9, -999.000,9,   -999.0,9,  -999.00,9,   2092.3,2,    498.1,2,   2316.1,2,     7.89,2, -999.00,  -999.0, -999.00,  -999.0
    31DSCG96_2,  P15S,    94,  1,    130,   1257,2,19960213,2049,-40.3908,-173.0288, 4568,   -999,    145.7,  12.8386,  35.1628,2,  35.1614,2,    226.3,2, 12.8188,    227.2,2,     3.67,2,     8.16,2,     0.01,2,     0.62,2,    2.935,6,    1.543,6,   -999.0,9,  -999.00,9,   2092.4,2,    501.3,2,   2309.3,2,     7.89,2, -999.00,  -999.0, -999.00,  -999.0
    31DSCG96_2,  P15S,    94,  1,    129,   1256,2,19960213,2049,-40.3908,-173.0288, 4568,   -999,    172.0,  12.6422,  35.1462,2,  35.1447,2,    229.4,2, 12.6189,    229.8,2,     3.67,2,     8.46,2,     0.01,2,     0.64,2,    2.943,2,    1.567,2,   -999.0,9,  -999.00,9,   2094.2,2,    498.0,2,   2311.1,2,     7.88,2, -999.00,  -999.0, -999.00,  -999.0
    31DSCG96_2,  P15S,    94,  1,    128,   1007,2,19960213,2049,-40.3908,-173.0288, 4568,   -999,    194.5,  12.5463,  35.1446,2,  35.1437,2,    231.1,2, 12.5201,    231.2,2,     3.82,2,     8.73,2,     0.01,2,     0.66,2,    2.943,2,    1.553,2,   -999.0,9,  -999.00,9,   2093.9,2,    501.0,6,   2311.1,2,     7.88,2, -999.00,  -999.0, -999.00,  -999.0
    31DSCG96_2,  P15S,    94,  1,    127,   1232,2,19960213,2049,-40.3908,-173.0288, 4568,   -999,    240.9,  12.0923,  35.0628,2,  35.0629,2,    229.4,2, 12.0606,    226.0,2,     4.18,2,    10.10,2,     0.01,2,     0.74,2,    2.920,2,    1.532,2,   -999.0,9,  -999.00,9,   2100.7,2,   -999.0,9,   2308.6,2,     7.86,2, -999.00,  -999.0, -999.00,  -999.0
    31DSCG96_2,  P15S,    94,  1,    126,   1025,2,19960213,2049,-40.3908,-173.0288, 4568,   -999,    289.0,  11.3900,  34.9447,2,  34.9474,2,    221.5,2, 11.3534,    223.8,2,     4.49,2,    11.88,2,     0.01,2,     0.85,2,    2.940,2,    1.532,2,   -999.0,9,  -999.00,9,   2107.9,2,    558.2,2,   2304.1,2,     7.84,2, -999.00,  -999.0, -999.00,  -999.0
    31DSCG96_2,  P15S,    94,  1,    125,   1233,2,19960213,2049,-40.3908,-173.0288, 4568,   -999,    340.3,  10.7416,  34.8478,2,  34.8475,2,    214.2,2, 10.7001,    216.9,2,     5.48,2,    14.28,2,     0.01,2,     1.00,2,    2.788,2,    1.434,2,   -999.0,9,  -999.00,9,   2115.2,2,   -999.0,9,   2302.4,2,     7.81,2, -999.00,  -999.0, -999.00,  -999.0
    31DSCG96_2,  P15S,    94,  1,    124,   1218,2,19960213,2049,-40.3908,-173.0288, 4568,   -999,    392.1,  10.1841,  34.7797,2,  34.7824,2,    205.7,2, 10.1378,    205.2,2,     6.57,2,    16.76,2,     0.01,2,     1.15,2,    2.521,2,    1.280,2,   -999.0,9,  -999.00,9,   2126.9,2,    665.6,2,   2293.3,2,     7.78,2, -999.00,  -999.0, -999.00,  -999.0
    31DSCG96_2,  P15S,    94,  1,    123,   1250,2,19960213,2049,-40.3908,-173.0288, 4568,   -999,    474.8,   9.1793,  34.6618,2,  34.6621,2,    204.0,2,  9.1265,    204.6,6,     7.93,2,    19.38,2,     0.00,2,     1.33,2,    2.267,2,    1.130,2,   -999.0,9,  -999.00,9,   2136.6,2,   -999.0,9,   2286.2,3,     7.75,2, -999.00,  -999.0, -999.00,  -999.0
    31DSCG96_2,  P15S,    94,  1,    122,   1109,2,19960213,2049,-40.3908,-173.0288, 4568,   -999,    573.4,   8.5133,  34.6003,2,  34.5979,2,    206.9,2,  8.4520,    204.7,2,     9.96,2,    21.18,2,     0.00,2,     1.45,2,    1.789,2,    0.915,2,   -999.0,9,  -999.00,9,   -999.0,9,    766.5,2,   2295.2,2,     7.74,2, -999.00,  -999.0, -999.00,  -999.0
    31DSCG96_2,  P15S,    94,  1,    121,   1246,2,19960213,2049,-40.3908,-173.0288, 4568,   -999,    676.8,   7.7489,  34.5288,2,  34.5279,2,    208.0,2,  7.6800,    207.5,2,    11.93,2,    22.86,2,     0.00,2,     1.55,2,    1.322,2,    0.660,2,   -999.0,9,  -999.00,9,   2148.0,2,    782.1,2,   2293.5,2,     7.72,2, -999.00,  -999.0, -999.00,  -999.0
    31DSCG96_2,  P15S,    94,  1,    120,   1015,2,19960213,2049,-40.3908,-173.0288, 4568,   -999,    774.8,   7.0386,  34.4720,2,  34.4714,2,    206.3,2,  6.9634,    206.0,2,    15.12,2,    24.70,2,     0.00,2,     1.65,2,    0.811,2,    0.430,2,   -999.0,9,  -999.00,9,   2155.1,2,    823.8,6,   2292.1,2,     7.71,2, -999.00,  -999.0, -999.00,  -999.0
    31DSCG96_2,  P15S,    94,  1,    119,   1247,4,19960213,2049,-40.3908,-173.0288, 4568,   -999,    874.6,   6.5191,  34.4490,2,  34.6365,4,    201.0,2,  6.4370,    153.0,4,   111.11,4,    35.24,4,     0.00,4,     2.45,4,    0.004,4,    0.009,4,   -999.0,9,  -999.00,9,   2295.1,3,   -999.0,9,   -999.0,9,  -999.00,9, -999.00,  -999.0, -999.00,  -999.0
    31DSCG96_2,  P15S,    94,  1,    118,   1222,2,19960213,2049,-40.3908,-173.0288, 4568,   -999,    975.1,   5.8980,  34.4311,2,  34.4296,2,    194.8,2,  5.8104,    194.7,2,    26.36,2,    28.10,2,     0.00,2,     1.91,2,    0.351,2,    0.199,2,   -999.0,9,  -999.00,9,   2176.4,2,    902.2,6,   2303.5,2,     7.67,2, -999.00,  -999.0, -999.00,  -999.0
    31DSCG96_2,  P15S,    94,  1,    117,   1267,2,19960213,2049,-40.3908,-173.0288, 4568,   -999,   1075.0,   5.3892,  34.4312,2,  34.4315,2,    188.6,2,  5.2960,    189.0,6,    33.51,2,    29.49,2,     0.00,2,     2.01,2,    0.226,2,    0.133,2,   -999.0,9,  -999.00,9,   2188.4,2,   -999.0,9,   2307.9,2,     7.65,2, -999.00,  -999.0, -999.00,  -999.0
    31DSCG96_2,  P15S,    94,  1,    116,   1211,2,19960213,2049,-40.3908,-173.0288, 4568,   -999,   1175.9,   4.7981,  34.4431,2,  34.4429,2,    182.3,2,  4.7005,    181.7,2,    43.21,2,    30.87,2,     0.00,2,     2.11,2,    0.143,2,    0.097,2,   -999.0,9,  -999.00,9,   2204.0,2,   1003.4,2,   2328.8,3,     7.63,2, -999.00,  -999.0, -999.00,  -999.0
    31DSCG96_2,  P15S,    94,  1,    115,   1041,2,19960213,2049,-40.3908,-173.0288, 4568,   -999,   1277.0,   4.2921,  34.4581,2,  34.4572,2,    177.5,2,  4.1901,    176.9,2,    52.24,2,    32.03,2,     0.00,2,     2.19,2,    0.092,2,    0.059,2,   -999.0,9,  -999.00,9,   2219.0,2,   1030.9,2,   -999.0,9,     7.62,2, -999.00,  -999.0, -999.00,  -999.0
    31DSCG96_2,  P15S,    94,  1,    114,   1017,2,19960213,2049,-40.3908,-173.0288, 4568,   -999,   1451.7,   3.5728,  34.5114,2,  34.5112,2,    168.1,2,  3.4628,    166.8,2,    70.16,2,    33.44,2,     0.00,2,     2.30,2,    0.041,2,    0.034,2,   -999.0,9,  -999.00,9,   2244.6,2,   1102.6,2,   2345.8,2,     7.60,2, -999.00,  -999.0, -999.00,  -999.0
    31DSCG96_2,  P15S,    94,  1,    113,   1302,2,19960213,2049,-40.3908,-173.0288, 4568,   -999,   1692.3,   2.9022,  34.5680,2,  34.5680,2,    159.7,2,  2.7793,    158.2,2,    89.02,2,    34.55,2,     0.00,2,     2.39,2,    0.019,2,    0.013,2,   -999.0,9,  -999.00,9,   2269.4,2,   1160.7,2,   2367.0,2,     7.58,2, -999.00,  -999.0, -999.00,  -999.0
    31DSCG96_2,  P15S,    94,  1,    112,   1217,2,19960213,2049,-40.3908,-173.0288, 4568,   -999,   1940.2,   2.5367,  34.6134,2,  34.6131,2,    154.6,2,  2.3974,    153.8,2,   103.90,2,    34.93,2,     0.00,2,     2.42,2,    0.009,6,    0.019,4,   -999.0,9,  -999.00,9,   2285.3,2,   1171.0,2,   2384.2,2,     7.58,2, -999.00,  -999.0, -999.00,  -999.0
    31DSCG96_2,  P15S,    94,  1,    111,   1114,2,19960213,2049,-40.3908,-173.0288, 4568,   -999,   2190.8,   2.2900,  34.6368,2,  34.6367,2,    152.5,2,  2.1325,    152.9,6,   111.05,2,    35.18,2,     0.00,2,     2.44,2,    0.004,2,    0.007,2,   -999.0,9,  -999.00,9,   2293.6,2,   1199.6,2,   2393.9,2,     7.58,2, -999.00,  -999.0, -999.00,  -999.0
    31DSCG96_2,  P15S,    94,  1,    110,   1301,2,19960213,2049,-40.3908,-173.0288, 4568,   -999,   2440.0,   2.0820,  34.6623,2,  34.6625,2,    158.3,2,  1.9056,    157.2,2,   112.65,2,    34.82,2,     0.00,2,     2.41,2,    0.006,2,    0.005,2,   -999.0,9,  -999.00,9,   2291.5,2,   1206.8,2,   2390.2,2,     7.58,2, -999.00,  -999.0, -999.00,  -999.0
    31DSCG96_2,  P15S,    94,  1,    109,   1242,2,19960213,2049,-40.3908,-173.0288, 4568,   -999,   2687.9,   1.9380,  34.6953,2,  34.6951,2,    171.3,2,  1.7414,    170.6,2,   106.50,2,    33.45,2,     0.00,2,     2.31,2,    0.011,2,    0.011,2,   -999.0,9,  -999.00,9,   2278.1,2,   1119.2,2,   2384.6,3,     7.59,2, -999.00,  -999.0, -999.00,  -999.0
    31DSCG96_2,  P15S,    94,  1,    108,   1263,2,19960213,2049,-40.3908,-173.0288, 4568,   -999,   2941.1,   1.8029,  34.7194,2,  34.7201,2,    184.8,2,  1.5849,    183.6,2,   101.67,2,    32.17,2,     0.00,2,     2.21,2,    0.013,2,    0.011,2,   -999.0,9,  -999.00,9,   2264.1,2,   1654.5,4,   2369.6,2,     7.60,2, -999.00,  -999.0, -999.00,  -999.0
    31DSCG96_2,  P15S,    94,  1,    107,   1227,2,19960213,2049,-40.3908,-173.0288, 4568,   -999,   3192.8,   1.6239,  34.7287,2,  34.7285,2,    193.7,2,  1.3853,    192.9,2,   102.39,2,    31.66,2,     0.00,2,     2.17,2,    0.018,2,    0.012,2,   -999.0,9,  -999.00,9,   2258.3,2,   1077.0,2,   2372.0,3,     7.61,2, -999.00,  -999.0, -999.00,  -999.0
    31DSCG96_2,  P15S,    94,  1,    106,   1262,2,19960213,2049,-40.3908,-173.0288, 4568,   -999,   3440.2,   1.4199,  34.7272,2,  34.7269,2,    198.3,2,  1.1616,    198.4,2,   107.08,2,    31.64,2,     0.00,2,     2.16,2,    0.016,2,    0.015,2,   -999.0,9,  -999.00,9,   2257.6,2,   1073.6,2,   2365.8,2,     7.61,2, -999.00,  -999.0, -999.00,  -999.0
    31DSCG96_2,  P15S,    94,  1,    105,   1264,2,19960213,2049,-40.3908,-173.0288, 4568,   -999,   3689.7,   1.2142,  34.7205,2,  34.7208,2,    202.0,2,  0.9357,    202.4,6,   112.64,2,    31.80,2,     0.00,2,     2.18,2,    0.021,2,    0.013,2,   -999.0,9,  -999.00,9,   2258.3,2,   1081.9,2,   2369.8,2,     7.61,2, -999.00,  -999.0, -999.00,  -999.0
    31DSCG96_2,  P15S,    94,  1,    104,   1003,2,19960213,2049,-40.3908,-173.0288, 4568,   -999,   3941.3,   1.0567,  34.7132,2,  34.7128,2,    204.8,2,  0.7563,    204.4,2,   117.67,2,    32.12,2,     0.00,2,     2.19,2,    0.020,2,    0.017,2,   -999.0,9,  -999.00,9,   2261.1,2,   1079.3,2,   2368.8,2,     7.61,2, -999.00,  -999.0, -999.00,  -999.0
    31DSCG96_2,  P15S,    94,  1,    103,    999,2,19960213,2049,-40.3908,-173.0288, 4568,   -999,   4187.9,   0.9631,  34.7091,2,  34.7089,2,    207.0,2,  0.6391,    202.5,3,   120.78,2,    32.20,2,     0.00,2,     2.20,2,    0.033,2,    0.024,2,   -999.0,9,  -999.00,9,   2259.9,2,   1073.1,2,   2377.3,3,     7.61,2, -999.00,  -999.0, -999.00,  -999.0
    31DSCG96_2,  P15S,    94,  1,    102,   1030,2,19960213,2049,-40.3908,-173.0288, 4568,   -999,   4442.1,   0.9165,  34.7062,2,  34.7050,2,    208.0,2,  0.5660,    207.6,2,   122.70,2,    32.31,2,     0.00,2,     2.21,2,    0.056,6,    0.032,6,   -999.0,9,  -999.00,9,   2259.9,2,   1101.2,6,   2369.8,2,     7.61,2, -999.00,  -999.0, -999.00,  -999.0
    31DSCG96_2,  P15S,    94,  1,    101,   1022,2,19960213,2049,-40.3908,-173.0288, 4568,   -999,   4655.3,   0.9144,  34.7049,2,  34.7056,2,    208.4,2,  0.5399,    208.0,2,   123.58,6,    32.34,6,     0.00,6,     2.21,2, -999.000,9, -999.000,9,   -999.0,9,  -999.00,9,   -999.0,9,   -999.0,9,   -999.0,9,  -999.00,9, -999.00,  -999.0, -999.00,  -999.0