BOTTLE,20220811CCHSIOAMB
EXPOCODE,SECT_ID,STNNBR,CASTNO,SAMPNO,BTLNBR,BTLNBR_FLAG_W,DATE,TIME,LATITUDE,LONGITUDE,DEPTH,CTDRAW,CTDPRS,CTDTMP,CTDSAL,CTDSAL_FLAG_W,SALNTY,SALNTY_FLAG_W,CTDOXY,CTDOXY_FLAG_W,THETA,OXYGEN,OXYGEN_FLAG_W,SILCAT,SILCAT_FLAG_W,NITRAT,NITRAT_FLAG_W,NITRIT,NITRIT_FLAG_W,PHSPHT,PHSPHT_FLAG_W,CFC-11,CFC-11_FLAG_W,CFC-12,CFC-12_FLAG_W,DELC14,DELC14_FLAG_W,DELC13,DELC13_FLAG_W,TCARBN,TCARBN_FLAG_W,PCO2,PCO2_FLAG_W,ALKALI,ALKALI_FLAG_W,PH,PH_FLAG_W,PCO2TMP,C14ERR,PH_TMP,C13ERR
,,,,,,,,,,,,DBAR,DBAR,ITS-90,PSS-78,,PSS-78,,UMOL/KG,,DEG C,UMOL/KG,,UMOL/KG,,UMOL/KG,,UMOL/KG,,UMOL/KG,,PMOL/KG,,PMOL/KG,,/MILLE,,/MILLE,,UMOL/KG,,UATM,,UMOL/KG,,,,DEG C,/MILLE,DEG C,/MILLE
    31DSCG96_2,  P15S,    95,  1,    140,   -999,2,19960214,0326,-39.9617,-172.7032, 4728,   -999,      0.0,-999.0000,-999.0000,9,-999.0000,5,   -999.0,9,-999.0000,   -999.0,9,  -999.00,9,  -999.00,9,  -999.00,9,  -999.00,9, -999.000,9, -999.000,9,   -999.0,9,  -999.00,9,   2105.7,3,   -999.0,9,   -999.0,9,     8.01,3, -999.00,  -999.0, -999.00,  -999.0
    31DSCG96_2,  P15S,    95,  1,    136,   1245,3,19960214,0326,-39.9617,-172.7032, 4728,   -999,      2.4,  18.8716,  35.3612,2,  35.3593,2,    234.1,2, 18.8712,   -999.0,9,  -999.00,9,  -999.00,9,  -999.00,9,  -999.00,9, -999.000,9, -999.000,9,   -999.0,9,  -999.00,9,   -999.0,9,   -999.0,9,   -999.0,9,  -999.00,9, -999.00,  -999.0, -999.00,  -999.0
    31DSCG96_2,  P15S,    95,  1,    135,   1113,2,19960214,0326,-39.9617,-172.7032, 4728,   -999,     30.9,  18.7031,  35.3589,2,  35.3559,2,    235.1,2, 18.6976,    233.6,2,     1.44,2,     0.00,2,     0.00,2,     0.12,2, -999.000,9, -999.000,9,   -999.0,9,  -999.00,9,   -999.0,9,   -999.0,9,   -999.0,9,     8.01,2, -999.00,  -999.0, -999.00,  -999.0
    31DSCG96_2,  P15S,    95,  1,    134,   1119,2,19960214,0326,-39.9617,-172.7032, 4728,   -999,     55.0,  18.4615,  35.3515,2,  35.3510,2,    235.7,2, 18.4519,    234.6,2,     1.39,2,     0.00,2,     0.00,2,     0.12,2, -999.000,9, -999.000,9,   -999.0,9,  -999.00,9,   -999.0,9,   -999.0,9,   -999.0,9,     8.01,2, -999.00,  -999.0, -999.00,  -999.0
    31DSCG96_2,  P15S,    95,  1,    133,   1221,2,19960214,0326,-39.9617,-172.7032, 4728,   -999,     82.0,  15.0058,  35.3267,2,  35.3258,2,    240.5,2, 14.9934,    234.3,2,     1.59,2,     0.98,2,     0.11,2,     0.28,2, -999.000,9, -999.000,9,   -999.0,9,  -999.00,9,   -999.0,9,   -999.0,9,   -999.0,9,     7.95,2, -999.00,  -999.0, -999.00,  -999.0
    31DSCG96_2,  P15S,    95,  1,    132,   1039,2,19960214,0326,-39.9617,-172.7032, 4728,   -999,    103.2,  13.7337,  35.2390,2,  35.2391,2,    224.5,2, 13.7190,    226.1,2,     2.75,2,     5.40,2,     0.03,2,     0.49,2, -999.000,9, -999.000,9,   -999.0,9,  -999.00,9,   -999.0,9,   -999.0,9,   -999.0,9,     7.91,2, -999.00,  -999.0, -999.00,  -999.0
    31DSCG96_2,  P15S,    95,  1,    131,   1014,2,19960214,0326,-39.9617,-172.7032, 4728,   -999,    127.6,  12.9564,  35.1666,2,  35.1661,2,    227.2,2, 12.9389,    230.2,2,     3.17,2,     7.13,2,     0.01,2,     0.57,2, -999.000,9, -999.000,9,   -999.0,9,  -999.00,9,   -999.0,9,   -999.0,9,   -999.0,9,     7.89,2, -999.00,  -999.0, -999.00,  -999.0
    31DSCG96_2,  P15S,    95,  1,    130,   1257,2,19960214,0326,-39.9617,-172.7032, 4728,   -999,    154.7,  12.6874,  35.1393,2,  35.1389,2,    229.2,2, 12.6664,    230.3,2,     3.41,2,     7.80,2,     0.01,2,     0.61,2, -999.000,9, -999.000,9,   -999.0,9,  -999.00,9,   -999.0,9,   -999.0,9,   -999.0,9,     7.89,2, -999.00,  -999.0, -999.00,  -999.0
    31DSCG96_2,  P15S,    95,  1,    129,   1256,2,19960214,0326,-39.9617,-172.7032, 4728,   -999,    182.7,  12.4422,  35.1063,2,  35.1069,2,    227.9,2, 12.4178,    230.9,2,     3.44,2,     8.24,2,     0.01,2,     0.63,2, -999.000,9, -999.000,9,   -999.0,9,  -999.00,9,   -999.0,9,   -999.0,9,   -999.0,9,     7.88,2, -999.00,  -999.0, -999.00,  -999.0
    31DSCG96_2,  P15S,    95,  1,    128,   1007,2,19960214,0326,-39.9617,-172.7032, 4728,   -999,    214.2,  12.1696,  35.0716,2,  35.0708,2,    227.0,2, 12.1413,    220.0,2,     4.29,2,    10.31,2,     0.01,2,     0.75,2, -999.000,9, -999.000,9,   -999.0,9,  -999.00,9,   -999.0,9,   -999.0,9,   -999.0,9,     7.86,2, -999.00,  -999.0, -999.00,  -999.0
    31DSCG96_2,  P15S,    95,  1,    127,   1232,2,19960214,0326,-39.9617,-172.7032, 4728,   -999,    263.5,  11.4997,  34.9673,2,  34.9674,2,    216.7,2, 11.4662,    213.5,2,     4.82,2,    12.37,2,     0.00,2,     0.88,2, -999.000,9, -999.000,9,   -999.0,9,  -999.00,9,   -999.0,9,   -999.0,9,   -999.0,9,     7.83,2, -999.00,  -999.0, -999.00,  -999.0
    31DSCG96_2,  P15S,    95,  1,    126,   1025,2,19960214,0326,-39.9617,-172.7032, 4728,   -999,    319.6,  10.8564,  34.8779,2,  34.8799,2,    206.7,2, 10.8171,    204.5,2,     5.96,2,    15.03,2,     0.00,2,     1.04,2, -999.000,9, -999.000,9,   -999.0,9,  -999.00,9,   -999.0,9,   -999.0,9,   -999.0,9,     7.80,2, -999.00,  -999.0, -999.00,  -999.0
    31DSCG96_2,  P15S,    95,  1,    125,   1233,2,19960214,0326,-39.9617,-172.7032, 4728,   -999,    365.4,  10.3002,  34.8042,2,  34.8042,2,    199.9,2, 10.2567,    199.2,2,     6.90,2,    16.92,2,     0.00,2,     1.16,2, -999.000,9, -999.000,9,   -999.0,9,  -999.00,9,   -999.0,9,   -999.0,9,   -999.0,9,     7.78,2, -999.00,  -999.0, -999.00,  -999.0
    31DSCG96_2,  P15S,    95,  1,    124,   1013,2,19960214,0326,-39.9617,-172.7032, 4728,   -999,    424.8,   9.4394,  34.6942,2,  34.6936,2,    198.9,2,  9.3914,    200.9,6,     7.75,2,    18.93,2,     0.01,2,     1.33,3, -999.000,9, -999.000,9,   -999.0,9,  -999.00,9,   -999.0,9,   -999.0,9,   -999.0,9,     7.76,2, -999.00,  -999.0, -999.00,  -999.0
    31DSCG96_2,  P15S,    95,  1,    123,   1250,2,19960214,0326,-39.9617,-172.7032, 4728,   -999,    532.9,   8.4483,  34.5843,2,  34.5832,2,    209.1,2,  8.3918,    207.2,2,     9.13,2,    20.92,2,     0.00,2,     1.43,2, -999.000,9, -999.000,9,   -999.0,9,  -999.00,9,   -999.0,9,   -999.0,9,   -999.0,9,     7.74,2, -999.00,  -999.0, -999.00,  -999.0
    31DSCG96_2,  P15S,    95,  1,    122,   1265,2,19960214,0326,-39.9617,-172.7032, 4728,   -999,    628.3,   7.7564,  34.5139,2,  34.5115,2,    209.8,2,  7.6927,    211.8,2,    10.55,2,    22.48,2,     0.01,2,     1.55,2, -999.000,9, -999.000,9,   -999.0,9,  -999.00,9,   -999.0,9,   -999.0,9,   -999.0,9,     7.73,2, -999.00,  -999.0, -999.00,  -999.0
    31DSCG96_2,  P15S,    95,  1,    121,   1246,2,19960214,0326,-39.9617,-172.7032, 4728,   -999,    726.6,   7.2283,  34.4727,2,  34.4724,2,    208.9,2,  7.1570,    210.4,2,    12.87,2,    23.75,2,     0.00,2,     1.62,2, -999.000,9, -999.000,9,   -999.0,9,  -999.00,9,   -999.0,9,   -999.0,9,   -999.0,9,     7.72,2, -999.00,  -999.0, -999.00,  -999.0
    31DSCG96_2,  P15S,    95,  1,    120,   1015,2,19960214,0326,-39.9617,-172.7032, 4728,   -999,    822.5,   6.7714,  34.4568,2,  34.4563,2,    205.3,2,  6.6930,    117.9,4,    17.39,2,    25.49,2,     0.00,2,     1.73,2, -999.000,9, -999.000,9,   -999.0,9,  -999.00,9,   -999.0,9,   -999.0,9,   -999.0,9,     7.70,2, -999.00,  -999.0, -999.00,  -999.0
    31DSCG96_2,  P15S,    95,  1,    119,   1247,2,19960214,0326,-39.9617,-172.7032, 4728,   -999,    922.8,   6.2270,  34.4375,2,  34.4372,2,    198.7,2,  6.1422,    198.0,2,    22.50,2,    27.03,2,     0.00,2,     1.84,2, -999.000,9, -999.000,9,   -999.0,9,  -999.00,9,   -999.0,9,   -999.0,9,   -999.0,9,     7.68,2, -999.00,  -999.0, -999.00,  -999.0
    31DSCG96_2,  P15S,    95,  1,    118,   1222,2,19960214,0326,-39.9617,-172.7032, 4728,   -999,   1023.1,   5.6746,  34.4287,2,  34.4286,2,    190.3,2,  5.5841,    190.6,2,    29.11,2,    28.62,2,     0.00,2,     1.96,2, -999.000,9, -999.000,9,   -999.0,9,  -999.00,9,   -999.0,9,   -999.0,9,   -999.0,9,     7.66,2, -999.00,  -999.0, -999.00,  -999.0
    31DSCG96_2,  P15S,    95,  1,    117,   1267,2,19960214,0326,-39.9617,-172.7032, 4728,   -999,   1126.9,   5.1408,  34.4335,2,  34.4299,3,    184.8,2,  5.0448,    185.4,2,    37.05,2,    30.07,2,     0.00,2,     2.06,2, -999.000,9, -999.000,9,   -999.0,9,  -999.00,9,   -999.0,9,   -999.0,9,   -999.0,9,     7.64,2, -999.00,  -999.0, -999.00,  -999.0
    31DSCG96_2,  P15S,    95,  1,    116,   1211,2,19960214,0326,-39.9617,-172.7032, 4728,   -999,   1214.8,   4.7236,  34.4471,2,  34.4468,2,    178.6,2,  4.6231,    179.8,2,    45.13,2,    31.10,2,     0.00,2,     2.13,2, -999.000,9, -999.000,9,   -999.0,9,  -999.00,9,   -999.0,9,   -999.0,9,   -999.0,9,     7.63,2, -999.00,  -999.0, -999.00,  -999.0
    31DSCG96_2,  P15S,    95,  1,    115,   1041,2,19960214,0326,-39.9617,-172.7032, 4728,   -999,   1351.1,   4.0698,  34.4785,2,  34.4770,2,    173.3,2,  3.9634,    171.7,2,    58.60,2,    32.52,2,     0.00,2,     2.24,2, -999.000,9, -999.000,9,   -999.0,9,  -999.00,9,   -999.0,9,   -999.0,9,   -999.0,9,     7.61,2, -999.00,  -999.0, -999.00,  -999.0
    31DSCG96_2,  P15S,    95,  1,    114,   1017,2,19960214,0326,-39.9617,-172.7032, 4728,   -999,   1561.3,   3.3628,  34.5333,2,  34.5322,2,    164.3,2,  3.2456,    163.5,2,    77.06,2,    33.81,2,     0.00,2,     2.34,2, -999.000,9, -999.000,9,   -999.0,9,  -999.00,9,   -999.0,9,   -999.0,9,   -999.0,9,     7.59,2, -999.00,  -999.0, -999.00,  -999.0
    31DSCG96_2,  P15S,    95,  1,    113,   1302,2,19960214,0326,-39.9617,-172.7032, 4728,   -999,   1813.9,   2.7530,  34.5852,2,  34.5841,2,    157.7,2,  2.6216,    155.9,2,    94.22,2,    34.81,2,     0.00,2,     2.41,2, -999.000,9, -999.000,9,   -999.0,9,  -999.00,9,   -999.0,9,   -999.0,9,   -999.0,9,     7.58,2, -999.00,  -999.0, -999.00,  -999.0
    31DSCG96_2,  P15S,    95,  1,    112,   1217,2,19960214,0326,-39.9617,-172.7032, 4728,   -999,   2065.3,   2.4403,  34.6209,2,  34.6166,3,    153.5,2,  2.2915,    152.5,6,   106.93,2,    35.23,2,     0.00,2,     2.44,2, -999.000,9, -999.000,9,   -999.0,9,  -999.00,9,   -999.0,9,   -999.0,9,   -999.0,9,     7.58,2, -999.00,  -999.0, -999.00,  -999.0
    31DSCG96_2,  P15S,    95,  1,    111,   1114,2,19960214,0326,-39.9617,-172.7032, 4728,   -999,   2315.9,   2.2159,  34.6445,2,  34.6439,2,    153.5,2,  2.0484,    152.5,2,   112.17,2,    35.18,2,     0.00,2,     2.45,2, -999.000,9, -999.000,9,   -999.0,9,  -999.00,9,   -999.0,9,   -999.0,9,   -999.0,9,     7.58,2, -999.00,  -999.0, -999.00,  -999.0
    31DSCG96_2,  P15S,    95,  1,    110,   1301,2,19960214,0326,-39.9617,-172.7032, 4728,   -999,   2566.3,   2.0339,  34.6713,2,  34.6710,2,    157.7,2,  1.8468,    159.2,2,   111.95,2,    34.57,2,     0.00,2,     2.40,2, -999.000,9, -999.000,9,   -999.0,9,  -999.00,9,   -999.0,9,   -999.0,9,   -999.0,9,     7.58,2, -999.00,  -999.0, -999.00,  -999.0
    31DSCG96_2,  P15S,    95,  1,    109,   1242,2,19960214,0326,-39.9617,-172.7032, 4728,   -999,   2817.2,   1.8823,  34.7004,2,  34.6995,2,    170.2,2,  1.6746,    172.6,2,   106.95,2,    33.33,2,     0.00,2,     2.30,2, -999.000,9, -999.000,9,   -999.0,9,  -999.00,9,   -999.0,9,   -999.0,9,   -999.0,9,     7.59,2, -999.00,  -999.0, -999.00,  -999.0
    31DSCG96_2,  P15S,    95,  1,    108,   1263,2,19960214,0326,-39.9617,-172.7032, 4728,   -999,   3065.4,   1.7263,  34.7202,2,  34.7196,2,    183.2,2,  1.4979,    185.5,2,   103.57,2,    32.19,2,     0.00,2,     2.21,2, -999.000,9, -999.000,9,   -999.0,9,  -999.00,9,   -999.0,9,   -999.0,9,   -999.0,9,     7.60,2, -999.00,  -999.0, -999.00,  -999.0
    31DSCG96_2,  P15S,    95,  1,    107,   1227,2,19960214,0326,-39.9617,-172.7032, 4728,   -999,   3317.2,   1.5422,  34.7259,2,  34.7254,2,    192.9,2,  1.2932,    192.9,2,   105.33,2,    31.81,2,     0.00,2,     2.19,2,    0.014,2,    0.007,2,   -999.0,9,  -999.00,9,   -999.0,9,   -999.0,9,   -999.0,9,     7.61,2, -999.00,  -999.0, -999.00,  -999.0
    31DSCG96_2,  P15S,    95,  1,    106,   1262,2,19960214,0326,-39.9617,-172.7032, 4728,   -999,   3563.4,   1.3662,  34.7254,2,  34.7245,2,    198.6,2,  1.0967,    198.1,2,   108.78,2,    31.72,2,     0.00,2,     2.18,2, -999.000,9, -999.000,9,   -999.0,9,  -999.00,9,   -999.0,9,   -999.0,9,   -999.0,9,     7.61,2, -999.00,  -999.0, -999.00,  -999.0
    31DSCG96_2,  P15S,    95,  1,    105,   1264,2,19960214,0326,-39.9617,-172.7032, 4728,   -999,   3724.5,   1.2260,  34.7204,2,  34.7197,2,    201.0,2,  0.9436,    200.9,2,   112.58,2,    31.86,2,     0.00,2,     2.19,2,    0.019,2,    0.012,2,   -999.0,9,  -999.00,9,   -999.0,9,   -999.0,9,   -999.0,9,     7.61,2, -999.00,  -999.0, -999.00,  -999.0
    31DSCG96_2,  P15S,    95,  1,    104,   1003,2,19960214,0326,-39.9617,-172.7032, 4728,   -999,   4059.5,   1.0394,  34.7126,2,  34.7121,2,    204.6,2,  0.7269,    204.1,2,   118.30,2,    32.10,2,     0.00,2,     2.20,2, -999.000,9, -999.000,9,   -999.0,9,  -999.00,9,   -999.0,9,   -999.0,9,   -999.0,9,     7.61,2, -999.00,  -999.0, -999.00,  -999.0
    31DSCG96_2,  P15S,    95,  1,    103,    999,2,19960214,0326,-39.9617,-172.7032, 4728,   -999,   4314.2,   0.9632,  34.7084,2,  34.7084,2,    205.6,2,  0.6254,    204.9,2,   121.22,2,    32.19,2,     0.00,2,     2.21,2,    0.035,2,    0.015,2,   -999.0,9,  -999.00,9,   -999.0,9,   -999.0,9,   -999.0,9,     7.61,2, -999.00,  -999.0, -999.00,  -999.0
    31DSCG96_2,  P15S,    95,  1,    102,   1030,2,19960214,0326,-39.9617,-172.7032, 4728,   -999,   4567.9,   0.9356,  34.7062,2,  34.7054,2,    206.8,2,  0.5704,    206.7,2,   122.49,2,    32.25,2,     0.00,2,     2.21,2,    0.057,2,    0.027,2,   -999.0,9,  -999.00,9,   -999.0,9,   -999.0,9,   -999.0,9,     7.61,2, -999.00,  -999.0, -999.00,  -999.0
    31DSCG96_2,  P15S,    95,  1,    101,   1022,2,19960214,0326,-39.9617,-172.7032, 4728,   -999,   4820.6,   0.9381,  34.7050,2,  34.7046,2,    206.7,2,  0.5438,    206.6,6,   123.41,6,    32.33,6,     0.00,6,     2.22,2,    0.065,6,    0.034,6,   -999.0,9,  -999.00,9,   -999.0,9,   -999.0,9,   -999.0,9,     7.61,2, -999.00,  -999.0, -999.00,  -999.0