BOTTLE,20220811CCHSIOAMB
EXPOCODE,SECT_ID,STNNBR,CASTNO,SAMPNO,BTLNBR,BTLNBR_FLAG_W,DATE,TIME,LATITUDE,LONGITUDE,DEPTH,CTDRAW,CTDPRS,CTDTMP,CTDSAL,CTDSAL_FLAG_W,SALNTY,SALNTY_FLAG_W,CTDOXY,CTDOXY_FLAG_W,THETA,OXYGEN,OXYGEN_FLAG_W,SILCAT,SILCAT_FLAG_W,NITRAT,NITRAT_FLAG_W,NITRIT,NITRIT_FLAG_W,PHSPHT,PHSPHT_FLAG_W,CFC-11,CFC-11_FLAG_W,CFC-12,CFC-12_FLAG_W,DELC14,DELC14_FLAG_W,DELC13,DELC13_FLAG_W,TCARBN,TCARBN_FLAG_W,PCO2,PCO2_FLAG_W,ALKALI,ALKALI_FLAG_W,PH,PH_FLAG_W,PCO2TMP,C14ERR,PH_TMP,C13ERR
,,,,,,,,,,,,DBAR,DBAR,ITS-90,PSS-78,,PSS-78,,UMOL/KG,,DEG C,UMOL/KG,,UMOL/KG,,UMOL/KG,,UMOL/KG,,UMOL/KG,,PMOL/KG,,PMOL/KG,,/MILLE,,/MILLE,,UMOL/KG,,UATM,,UMOL/KG,,,,DEG C,/MILLE,DEG C,/MILLE
    31DSCG96_1,  P15S,    82,  1,    129,   1256,2,19960201,0106,-44.1567,-173.9377, 1908,   -999,      9.9,  16.8360,  35.0013,2,  35.0027,2,    237.1,2, 16.8343,    248.9,2,     0.77,2,     0.00,2,     0.00,2,     0.05,2, -999.000,9, -999.000,9,     56.4,2,  -999.00,9,   -999.0,9,   -999.0,9,   -999.0,9,  -999.00,9, -999.00,     3.2, -999.00,  -999.0
    31DSCG96_1,  P15S,    82,  1,    128,   1007,2,19960201,0106,-44.1567,-173.9377, 1908,   -999,     10.4,  16.8437,  35.0024,2,  35.0014,2,    237.1,2, 16.8420,    249.3,2,     0.83,2,     0.00,2,     0.00,2,     0.08,2, -999.000,9, -999.000,9,   -999.0,9,  -999.00,9,   2026.8,2,    361.1,2,   -999.0,9,     8.01,2, -999.00,  -999.0, -999.00,  -999.0
    31DSCG96_1,  P15S,    82,  1,    127,   1232,2,19960201,0106,-44.1567,-173.9377, 1908,   -999,     19.8,  16.2054,  34.9953,2,  34.9959,2,    255.0,2, 16.2023,    255.3,2,     0.92,2,     0.00,2,     0.00,2,     0.12,2, -999.000,9, -999.000,9,   -999.0,9,  -999.00,9,   -999.0,9,   -999.0,9,   -999.0,9,     8.01,2, -999.00,  -999.0, -999.00,  -999.0
    31DSCG96_1,  P15S,    82,  1,    126,   1025,2,19960201,0106,-44.1567,-173.9377, 1908,   -999,     44.7,  13.5356,  34.9335,2,  34.9333,2,    253.9,2, 13.5293,    253.4,2,     1.37,2,     1.69,2,     0.24,2,     0.33,2, -999.000,9, -999.000,9,   -999.0,9,  -999.00,9,   -999.0,9,   -999.0,9,   -999.0,9,     7.94,2, -999.00,  -999.0, -999.00,  -999.0
    31DSCG96_1,  P15S,    82,  1,    125,   1233,2,19960201,0106,-44.1567,-173.9377, 1908,   -999,     69.4,  12.1130,  34.9390,2,  34.9313,2,    245.4,2, 12.1039,    246.5,2,     2.68,2,     6.98,2,     0.02,2,     0.56,2, -999.000,9, -999.000,9,   -999.0,9,  -999.00,9,   -999.0,9,   -999.0,9,   -999.0,9,     7.89,2, -999.00,  -999.0, -999.00,  -999.0
    31DSCG96_1,  P15S,    82,  1,    124,   1218,2,19960201,0106,-44.1567,-173.9377, 1908,   -999,     94.1,  12.0825,  35.0496,2,  35.0481,2,    240.1,2, 12.0702,    239.4,2,     3.40,2,     8.56,2,     0.01,2,     0.64,2, -999.000,9, -999.000,9,   -999.0,9,  -999.00,9,   -999.0,9,   -999.0,9,   -999.0,9,     7.87,3, -999.00,  -999.0, -999.00,  -999.0
    31DSCG96_1,  P15S,    82,  1,    123,   1250,2,19960201,0106,-44.1567,-173.9377, 1908,   -999,    119.1,  11.7468,  34.9949,2,  34.9939,2,    241.4,2, 11.7315,    241.2,2,     3.54,2,     9.14,2,     0.01,2,     0.68,2, -999.000,9, -999.000,9,   -999.0,9,  -999.00,9,   -999.0,9,   -999.0,9,   -999.0,9,     7.87,2, -999.00,  -999.0, -999.00,  -999.0
    31DSCG96_1,  P15S,    82,  1,    122,   1109,2,19960201,0106,-44.1567,-173.9377, 1908,   -999,    143.9,  11.5533,  34.9592,2,  34.9611,2,    241.4,2, 11.5350,    241.7,2,     3.57,2,     9.39,2,     0.01,2,     0.70,2, -999.000,9, -999.000,9,   -999.0,9,  -999.00,9,   -999.0,9,   -999.0,9,   -999.0,9,     7.86,2, -999.00,  -999.0, -999.00,  -999.0
    31DSCG96_1,  P15S,    82,  1,    121,   1246,2,19960201,0106,-44.1567,-173.9377, 1908,   -999,    170.5,  11.2145,  34.9003,2,  34.8998,2,    240.7,2, 11.1932,    241.0,2,     3.75,2,    10.06,2,     0.01,2,     0.75,2, -999.000,9, -999.000,9,   -999.0,9,  -999.00,9,   -999.0,9,   -999.0,9,   -999.0,9,     7.86,2, -999.00,  -999.0, -999.00,  -999.0
    31DSCG96_1,  P15S,    82,  1,    120,   1015,2,19960201,0106,-44.1567,-173.9377, 1908,   -999,    194.1,  10.8790,  34.8479,2,  34.8466,2,    234.5,2, 10.8553,    238.3,2,     4.05,2,    11.07,2,     0.01,2,     0.81,2, -999.000,9, -999.000,9,   -999.0,9,  -999.00,9,   -999.0,9,   -999.0,9,   -999.0,9,     7.84,2, -999.00,  -999.0, -999.00,  -999.0
    31DSCG96_1,  P15S,    82,  1,    119,   1247,2,19960201,0106,-44.1567,-173.9377, 1908,   -999,    220.8,  10.4904,  34.7916,2,  34.7940,2,    234.8,2, 10.4641,    230.6,2,     4.71,2,    12.70,2,     0.01,2,     0.92,2, -999.000,9, -999.000,9,   -999.0,9,  -999.00,9,   -999.0,9,   -999.0,9,   -999.0,9,     7.82,2, -999.00,  -999.0, -999.00,  -999.0
    31DSCG96_1,  P15S,    82,  1,    118,   1222,2,19960201,0106,-44.1567,-173.9377, 1908,   -999,    244.5,   9.9811,  34.7181,2,  34.7169,2,    249.2,2,  9.9528,    234.0,2,     4.71,2,    13.25,2,     0.01,2,     0.96,2, -999.000,9, -999.000,9,   -999.0,9,  -999.00,9,   -999.0,9,   -999.0,9,   -999.0,9,     7.82,2, -999.00,  -999.0, -999.00,  -999.0
    31DSCG96_1,  P15S,    82,  1,    117,   1267,2,19960201,0106,-44.1567,-173.9377, 1908,   -999,    291.6,   9.5942,  34.6728,2,  34.6699,2,    234.1,2,  9.5612,    241.4,2,     4.80,2,    13.93,2,     0.01,2,     1.01,2, -999.000,9, -999.000,9,   -999.0,9,  -999.00,9,   -999.0,9,   -999.0,9,   -999.0,9,     7.81,2, -999.00,  -999.0, -999.00,  -999.0
    31DSCG96_1,  P15S,    82,  1,    116,   1211,2,19960201,0106,-44.1567,-173.9377, 1908,   -999,    340.8,   9.3036,  34.6615,2,  34.6572,2,    235.6,2,  9.2656,    219.2,2,     6.83,2,    17.40,2,     0.00,2,     1.21,2, -999.000,9, -999.000,9,   -999.0,9,  -999.00,9,   -999.0,9,   -999.0,9,   -999.0,9,  -999.00,9, -999.00,  -999.0, -999.00,  -999.0
    31DSCG96_1,  P15S,    82,  1,    115,   1041,2,19960201,0106,-44.1567,-173.9377, 1908,   -999,    389.0,   8.7119,  34.5841,2,  34.5814,2,    231.9,2,  8.6702,    232.1,2,     6.23,2,    17.58,2,     0.00,2,     1.22,2, -999.000,9, -999.000,9,   -999.0,9,  -999.00,9,   -999.0,9,   -999.0,9,   -999.0,9,     7.77,2, -999.00,  -999.0, -999.00,  -999.0
    31DSCG96_1,  P15S,    82,  1,    114,   1017,2,19960201,0106,-44.1567,-173.9377, 1908,   -999,    439.1,   8.3283,  34.5389,2,  34.5376,2,    232.0,2,  8.2824,    232.3,2,     6.77,2,    18.88,2,     0.00,2,     1.30,2, -999.000,9, -999.000,9,   -999.0,9,  -999.00,9,   -999.0,9,   -999.0,9,   -999.0,9,  -999.00,9, -999.00,  -999.0, -999.00,  -999.0
    31DSCG96_1,  P15S,    82,  1,    113,   1302,2,19960201,0106,-44.1567,-173.9377, 1908,   -999,    490.4,   7.8444,  34.4795,2,  34.4793,2,    237.7,2,  7.7948,    238.8,2,     7.03,2,    19.79,2,     0.00,2,     1.36,2, -999.000,9, -999.000,9,   -999.0,9,  -999.00,9,   -999.0,9,   -999.0,9,   -999.0,9,     7.76,2, -999.00,  -999.0, -999.00,  -999.0
    31DSCG96_1,  P15S,    82,  1,    112,   1217,2,19960201,0106,-44.1567,-173.9377, 1908,   -999,    490.8,   7.8444,  34.4793,2,  34.4761,2,    237.7,2,  7.7947,    238.8,2,     7.03,2,    19.86,2,     0.00,2,     1.37,2, -999.000,9, -999.000,9,   -999.0,9,  -999.00,9,   -999.0,9,   -999.0,9,   -999.0,9,  -999.00,9, -999.00,  -999.0, -999.00,  -999.0
    31DSCG96_1,  P15S,    82,  1,    111,   1114,2,19960201,0106,-44.1567,-173.9377, 1908,   -999,    538.7,   7.6676,  34.4652,2,  34.4648,2,    235.2,2,  7.6137,    237.3,2,     7.51,2,    20.46,2,     0.00,2,     1.41,2, -999.000,9, -999.000,9,   -999.0,9,  -999.00,9,   -999.0,9,   -999.0,9,   -999.0,9,     7.75,2, -999.00,  -999.0, -999.00,  -999.0
    31DSCG96_1,  P15S,    82,  1,    110,   1301,2,19960201,0106,-44.1567,-173.9377, 1908,   -999,    591.9,   7.4619,  34.4431,2,  34.4416,2,    238.2,2,  7.4033,    239.4,6,     7.92,2,    20.91,2,     0.00,2,     1.44,2, -999.000,9, -999.000,9,   -999.0,9,  -999.00,9,   -999.0,9,   -999.0,9,   -999.0,9,  -999.00,9, -999.00,  -999.0, -999.00,  -999.0
    31DSCG96_1,  P15S,    82,  1,    109,   1242,2,19960201,0106,-44.1567,-173.9377, 1908,   -999,    674.9,   7.1028,  34.4139,2,  34.4129,2,    236.4,2,  7.0375,    239.1,2,     9.33,2,    21.89,2,     0.00,2,     1.51,2, -999.000,9, -999.000,9,   -999.0,9,  -999.00,9,   -999.0,9,   -999.0,9,   -999.0,9,     7.74,2, -999.00,  -999.0, -999.00,  -999.0
    31DSCG96_1,  P15S,    82,  1,    108,   1263,2,19960201,0106,-44.1567,-173.9377, 1908,   -999,    775.7,   6.8183,  34.4104,2,  34.4100,2,    223.1,2,  6.7443,    225.7,2,    12.28,2,    23.73,2,     0.00,2,     1.63,2, -999.000,9, -999.000,9,   -999.0,9,  -999.00,9,   -999.0,9,   -999.0,9,   -999.0,9,  -999.00,9, -999.00,  -999.0, -999.00,  -999.0
    31DSCG96_1,  P15S,    82,  1,    107,   1245,2,19960201,0106,-44.1567,-173.9377, 1908,   -999,    875.3,   6.4339,  34.4018,2,  34.4011,2,    211.9,2,  6.3524,    214.6,6,    16.36,2,    25.54,2,     0.00,2,     1.75,2,    1.274,2,    0.703,2,   -999.0,9,  -999.00,9,   -999.0,9,   -999.0,9,   -999.0,9,     7.70,2, -999.00,  -999.0, -999.00,  -999.0
    31DSCG96_1,  P15S,    82,  1,    106,   1262,2,19960201,0106,-44.1567,-173.9377, 1908,   -999,    974.7,   5.8970,  34.3794,2,  34.3802,2,    206.5,2,  5.8096,    209.6,2,    20.90,2,    27.14,2,     0.00,2,     1.85,2,    1.095,2,    0.601,2,   -999.0,9,  -999.00,9,   -999.0,9,   -999.0,9,   -999.0,9,  -999.00,9, -999.00,  -999.0, -999.00,  -999.0
    31DSCG96_1,  P15S,    82,  1,    105,   1113,2,19960201,0106,-44.1567,-173.9377, 1908,   -999,   1076.3,   5.2419,  34.3838,2,  34.3819,2,    197.5,2,  5.1499,    200.3,2,    29.33,2,    29.17,2,     0.00,2,     1.99,2,    0.749,2,    0.433,2,   -999.0,9,  -999.00,9,   -999.0,9,   -999.0,9,   -999.0,9,     7.65,2, -999.00,  -999.0, -999.00,  -999.0
    31DSCG96_1,  P15S,    82,  1,    104,   1003,2,19960201,0106,-44.1567,-173.9377, 1908,   -999,   1214.8,   4.5831,  34.4343,2,  34.4350,2,    182.1,2,  4.4839,    183.9,6,    44.93,2,    31.16,2,     0.00,2,     2.14,2,    0.241,2,    0.181,2,   -999.0,9,  -999.00,9,   -999.0,9,   -999.0,9,   -999.0,9,  -999.00,9, -999.00,  -999.0, -999.00,  -999.0
    31DSCG96_1,  P15S,    82,  1,    103,   1216,2,19960201,0106,-44.1567,-173.9377, 1908,   -999,   1441.7,   3.7687,  34.5034,2,  34.5027,2,    169.3,2,  3.6574,    169.3,2,    66.73,2,    33.00,2,     0.00,2,     2.28,2,    0.065,2,    0.096,4,   -999.0,9,  -999.00,9,   -999.0,9,   -999.0,9,   -999.0,9,     7.60,2, -999.00,  -999.0, -999.00,  -999.0
    31DSCG96_1,  P15S,    82,  1,    102,   1030,2,19960201,0106,-44.1567,-173.9377, 1908,   -999,   1690.3,   2.9024,  34.5815,2,  34.5825,2,    159.1,2,  2.7797,    158.5,2,    92.66,2,    34.40,2,     0.00,2,     2.37,2,    0.019,2,    0.098,4,   -999.0,9,  -999.00,9,   -999.0,9,   -999.0,9,   -999.0,9,  -999.00,9, -999.00,  -999.0, -999.00,  -999.0
    31DSCG96_1,  P15S,    82,  1,    101,   1022,2,19960201,0106,-44.1567,-173.9377, 1908,   -999,   1910.7,   2.3120,  34.6414,2,  34.6409,2,    159.1,2,  2.1784,    158.7,2,   103.91,6,    34.45,6,     0.00,6,     2.38,6,    0.021,2,    0.056,4,   -999.0,9,  -999.00,9,   -999.0,9,   -999.0,9,   -999.0,9,     7.58,2, -999.00,  -999.0, -999.00,  -999.0
    31DSCG96_1,  P15S,    83,  1,    122,   1109,2,19960201,0434,-43.8482,-174.2948,  950,   -999,      9.6,  17.5236,  35.0780,2,  35.0766,2,    241.2,2, 17.5220,    244.1,2,     0.93,2,     0.00,2,     0.00,2,     0.03,3,    2.732,2,    1.539,2,     67.0,2,  -999.00,9,   2029.1,2,    357.5,2,   2317.7,2,     8.01,2, -999.00,     3.4, -999.00,  -999.0
    31DSCG96_1,  P15S,    83,  1,    121,   1246,2,19960201,0434,-43.8482,-174.2948,  950,   -999,     13.2,  17.4234,  35.0963,2,  35.0952,2,    242.7,2, 17.4212,    244.0,2,     0.92,2,     0.00,2,     0.00,2,     0.05,2, -999.000,9, -999.000,9,   -999.0,9,  -999.00,9,   -999.0,9,   -999.0,9,   -999.0,9,     8.00,2, -999.00,  -999.0, -999.00,  -999.0
    31DSCG96_1,  P15S,    83,  1,    120,   1015,2,19960201,0434,-43.8482,-174.2948,  950,   -999,     29.8,  17.0912,  35.1463,2,  35.1521,2,    245.6,2, 17.0863,    246.2,2,     1.07,2,     0.00,2,     0.00,2,     0.08,2, -999.000,9, -999.000,9,   -999.0,9,  -999.00,9,   -999.0,9,   -999.0,9,   -999.0,9,     8.00,3, -999.00,  -999.0, -999.00,  -999.0
    31DSCG96_1,  P15S,    83,  1,    119,   1247,2,19960201,0434,-43.8482,-174.2948,  950,   -999,     54.9,  13.7783,  35.0916,2,  35.0937,2,    248.7,2, 13.7705,    254.2,2,     1.79,2,     1.49,2,     0.23,2,     0.26,2,    3.119,2,    1.683,2,   -999.0,9,  -999.00,9,   2057.6,2,    414.3,2,   2316.2,2,     7.95,2, -999.00,  -999.0, -999.00,  -999.0
    31DSCG96_1,  P15S,    83,  1,    118,   1222,2,19960201,0434,-43.8482,-174.2948,  950,   -999,     80.3,  12.9831,  35.1223,2,  35.1206,2,    233.4,2, 12.9721,    234.0,2,     2.83,2,     6.61,2,     0.03,2,     0.51,2, -999.000,9, -999.000,9,   -999.0,9,  -999.00,9,   -999.0,9,   -999.0,9,   -999.0,9,     7.90,2, -999.00,  -999.0, -999.00,  -999.0
    31DSCG96_1,  P15S,    83,  1,    117,   1267,2,19960201,0434,-43.8482,-174.2948,  950,   -999,    105.8,  12.6821,  35.1199,2,  35.1198,2,    231.6,2, 12.6679,    233.7,2,     3.12,2,     7.66,2,     0.02,2,     0.56,2,    3.076,2,    1.671,2,   -999.0,9,  -999.00,9,   2084.1,2,    496.5,2,   2312.5,2,     7.89,2, -999.00,  -999.0, -999.00,  -999.0
    31DSCG96_1,  P15S,    83,  1,    116,   1211,2,19960201,0434,-43.8482,-174.2948,  950,   -999,    130.9,  12.2891,  35.0871,2,  35.0887,2,    232.4,2, 12.2718,    232.9,2,     3.69,2,     8.81,2,     0.01,2,     0.63,2, -999.000,9, -999.000,9,   -999.0,9,  -999.00,9,   -999.0,9,   -999.0,9,   -999.0,9,     7.88,2, -999.00,  -999.0, -999.00,  -999.0
    31DSCG96_1,  P15S,    83,  1,    115,   1041,2,19960201,0434,-43.8482,-174.2948,  950,   -999,    155.9,  11.8850,  35.0224,2,  35.0219,2,    232.3,2, 11.8648,    231.8,2,     4.08,2,     9.97,2,     0.01,2,     0.71,2, -999.000,9, -999.000,9,   -999.0,9,  -999.00,9,   2096.3,2,    534.3,2,   2308.1,2,     7.86,2, -999.00,  -999.0, -999.00,  -999.0
    31DSCG96_1,  P15S,    83,  1,    114,   1017,2,19960201,0434,-43.8482,-174.2948,  950,   -999,    179.8,  11.5339,  34.9607,2,  34.9597,2,    239.2,2, 11.5111,    238.1,2,     3.99,2,     9.95,2,     0.00,2,     0.71,2,    3.132,2,    1.669,2,   -999.0,9,  -999.00,9,   -999.0,9,   -999.0,9,   -999.0,9,  -999.00,9, -999.00,  -999.0, -999.00,  -999.0
    31DSCG96_1,  P15S,    83,  1,    113,   1302,2,19960201,0434,-43.8482,-174.2948,  950,   -999,    203.5,  11.3081,  34.9210,2,  34.9199,2,    238.9,2, 11.2826,    236.1,2,     4.14,2,    10.68,2,     0.01,2,     0.76,2, -999.000,9, -999.000,9,   -999.0,9,  -999.00,9,   2098.0,2,    550.0,2,   2303.3,2,     7.85,2, -999.00,  -999.0, -999.00,  -999.0
    31DSCG96_1,  P15S,    83,  1,    112,   1217,2,19960201,0434,-43.8482,-174.2948,  950,   -999,    230.5,  10.9625,  34.8610,2,  34.8632,2,    237.8,2, 10.9342,    238.1,2,     4.29,2,    11.23,2,     0.01,2,     0.81,2, -999.000,9, -999.000,9,   -999.0,9,  -999.00,9,   -999.0,9,   -999.0,9,   -999.0,9,  -999.00,9, -999.00,  -999.0, -999.00,  -999.0
    31DSCG96_1,  P15S,    83,  1,    111,   1114,2,19960201,0434,-43.8482,-174.2948,  950,   -999,    264.8,  10.6899,  34.8323,2,  34.8314,2,    225.8,2, 10.6578,    222.9,2,     5.45,2,    13.58,2,     0.00,2,     0.95,2,    2.881,2,    1.525,2,   -999.0,9,  -999.00,9,   2112.3,2,    589.9,2,   2300.6,2,     7.82,2, -999.00,  -999.0, -999.00,  -999.0
    31DSCG96_1,  P15S,    83,  1,    110,   1301,2,19960201,0434,-43.8482,-174.2948,  950,   -999,    315.0,  10.3161,  34.7876,2,  34.7865,2,    218.8,2, 10.2787,    215.1,2,     6.44,2,    15.43,2,     0.00,2,     1.07,2, -999.000,9, -999.000,9,   -999.0,9,  -999.00,9,   -999.0,9,   -999.0,9,   -999.0,9,  -999.00,9, -999.00,  -999.0, -999.00,  -999.0
    31DSCG96_1,  P15S,    83,  1,    109,   1242,2,19960201,0434,-43.8482,-174.2948,  950,   -999,    363.5,   9.8784,  34.7399,2,  34.7388,2,    208.8,2,  9.8364,    208.8,2,     7.48,2,    17.23,2,     0.00,2,     1.18,2,    2.487,2,    1.291,2,   -999.0,9,  -999.00,9,   2126.8,2,    673.9,2,   2297.1,2,     7.78,2, -999.00,  -999.0, -999.00,  -999.0
    31DSCG96_1,  P15S,    83,  1,    108,   1263,2,19960201,0434,-43.8482,-174.2948,  950,   -999,    414.5,   9.3453,  34.6711,2,  34.6712,2,    210.5,2,  9.2988,    210.0,2,     8.01,2,    18.49,2,     0.00,2,     1.27,2, -999.000,9, -999.000,9,   -999.0,9,  -999.00,9,   -999.0,9,   -999.0,9,   -999.0,9,  -999.00,9, -999.00,  -999.0, -999.00,  -999.0
    31DSCG96_1,  P15S,    83,  1,    107,   1245,2,19960201,0434,-43.8482,-174.2948,  950,   -999,    465.8,   9.0155,  34.6466,2,  34.6418,2,    207.8,2,  8.9643,    207.3,2,     9.00,2,    19.90,2,     0.01,2,     1.35,2,    2.278,2,    1.206,2,   -999.0,9,  -999.00,9,   2134.0,2,    716.9,6,   2293.4,2,     7.75,2, -999.00,  -999.0, -999.00,  -999.0
    31DSCG96_1,  P15S,    83,  1,    106,   1262,2,19960201,0434,-43.8482,-174.2948,  950,   -999,    515.7,   8.7569,  34.6285,2,  34.6262,2,    205.9,2,  8.7010,    204.7,2,    10.25,2,    20.84,2,     0.00,2,     1.40,2, -999.000,9, -999.000,9,   -999.0,9,  -999.00,9,   -999.0,9,   -999.0,9,   -999.0,9,  -999.00,9, -999.00,  -999.0, -999.00,  -999.0
    31DSCG96_1,  P15S,    83,  1,    105,   1113,2,19960201,0434,-43.8482,-174.2948,  950,   -999,    564.4,   8.2737,  34.5702,2,  34.5693,2,    209.1,2,  8.2144,    210.1,2,    10.73,2,    21.55,2,     0.00,2,     1.45,2,    2.003,6,    1.020,6,   -999.0,9,  -999.00,9,   2139.4,2,    756.6,2,   2293.8,2,     7.74,2, -999.00,  -999.0, -999.00,  -999.0
    31DSCG96_1,  P15S,    83,  1,    104,   1003,2,19960201,0434,-43.8482,-174.2948,  950,   -999,    624.9,   7.9089,  34.5419,2,  34.5413,2,    208.4,2,  7.8448,    208.0,2,    12.27,2,    22.53,2,     0.00,2,     1.52,2, -999.000,9, -999.000,9,   -999.0,9,  -999.00,9,   -999.0,9,   -999.0,9,   -999.0,9,  -999.00,9, -999.00,  -999.0, -999.00,  -999.0
    31DSCG96_1,  P15S,    83,  1,    103,   1216,2,19960201,0434,-43.8482,-174.2948,  950,   -999,    725.5,   7.3641,  34.5094,2,  34.5093,2,    203.6,2,  7.2922,    203.8,2,    15.67,2,    24.15,2,     0.00,2,     1.62,2, -999.000,9, -999.000,9,   -999.0,9,  -999.00,9,   2152.0,2,    808.0,2,   2295.4,2,     7.71,2, -999.00,  -999.0, -999.00,  -999.0
    31DSCG96_1,  P15S,    83,  1,    102,   1030,2,19960201,0434,-43.8482,-174.2948,  950,   -999,    823.7,   6.7464,  34.4765,2,  34.4766,2,    199.7,2,  6.6679,    199.9,2,    20.16,2,    25.87,2,     0.00,2,     1.73,2,    0.682,2,    0.412,2,   -999.0,9,  -999.00,9,   -999.0,9,   -999.0,9,   -999.0,9,  -999.00,9, -999.00,  -999.0, -999.00,  -999.0
    31DSCG96_1,  P15S,    83,  1,    101,   1022,2,19960201,0434,-43.8482,-174.2948,  950,   -999,    956.7,   6.0907,  34.4621,2,  34.4619,2,    192.0,2,  6.0034,    193.6,2,    27.91,6,    27.69,6,     0.00,6,     1.86,6,    0.376,6,    0.236,6,   -999.0,9,  -999.00,9,   2176.0,2,    906.4,2,   2303.9,2,     7.67,2, -999.00,  -999.0, -999.00,  -999.0