BOTTLE,20220811CCHSIOAMB
EXPOCODE,SECT_ID,STNNBR,CASTNO,SAMPNO,BTLNBR,BTLNBR_FLAG_W,DATE,TIME,LATITUDE,LONGITUDE,DEPTH,CTDRAW,CTDPRS,CTDTMP,CTDSAL,CTDSAL_FLAG_W,SALNTY,SALNTY_FLAG_W,CTDOXY,CTDOXY_FLAG_W,THETA,OXYGEN,OXYGEN_FLAG_W,SILCAT,SILCAT_FLAG_W,NITRAT,NITRAT_FLAG_W,NITRIT,NITRIT_FLAG_W,PHSPHT,PHSPHT_FLAG_W,CFC-11,CFC-11_FLAG_W,CFC-12,CFC-12_FLAG_W,DELC14,DELC14_FLAG_W,DELC13,DELC13_FLAG_W,TCARBN,TCARBN_FLAG_W,PCO2,PCO2_FLAG_W,ALKALI,ALKALI_FLAG_W,PH,PH_FLAG_W,PCO2TMP,C14ERR,PH_TMP,C13ERR
,,,,,,,,,,,,DBAR,DBAR,ITS-90,PSS-78,,PSS-78,,UMOL/KG,,DEG C,UMOL/KG,,UMOL/KG,,UMOL/KG,,UMOL/KG,,UMOL/KG,,PMOL/KG,,PMOL/KG,,/MILLE,,/MILLE,,UMOL/KG,,UATM,,UMOL/KG,,,,DEG C,/MILLE,DEG C,/MILLE
    31DSCG96_2,  P15S,   162,  2,    236,   1245,2,19960302,1726, -8.4982,-168.7488, 5129,   -999,      8.0,  29.1156,  35.1247,2,  35.1272,2,    199.7,2, 29.1136,    194.9,2,     1.42,2,     0.00,2,     0.01,2,     0.17,2, -999.000,9, -999.000,9,   -999.0,5,  -999.00,9,   1944.4,2,    256.8,2,   2307.7,2,     8.14,2, -999.00,  -999.0, -999.00,  -999.0
    31DSCG96_2,  P15S,   162,  2,    235,   1113,2,19960302,1726, -8.4982,-168.7488, 5129,   -999,     21.4,  29.1407,  35.1329,2,  35.1276,2,    193.8,2, 29.1356,    194.6,2,     1.44,2,     0.00,2,     0.01,2,     0.18,2, -999.000,9, -999.000,9,   -999.0,9,  -999.00,9,   1946.9,2,   -999.0,9,   2309.8,2,     8.14,4, -999.00,  -999.0, -999.00,  -999.0
    31DSCG96_2,  P15S,   162,  2,    234,   1267,2,19960302,1726, -8.4982,-168.7488, 5129,   -999,     46.2,  29.3482,  35.2578,2,  35.2592,2,    193.8,2, 29.3369,    195.0,2,     1.51,2,     0.05,2,     0.02,2,     0.20,2, -999.000,9, -999.000,9,   -999.0,9,  -999.00,9,   -999.0,9,   -999.0,9,   -999.0,9,     8.13,2, -999.00,  -999.0, -999.00,  -999.0
    31DSCG96_2,  P15S,   162,  2,    233,   1021,2,19960302,1726, -8.4982,-168.7488, 5129,   -999,     71.8,  29.1197,  35.4465,2,  35.4372,2,    191.1,2, 29.1023,    191.1,2,     1.69,2,     0.43,2,     0.10,2,     0.25,2, -999.000,9, -999.000,9,   -999.0,9,  -999.00,9,   1977.3,2,    259.9,2,   2329.3,2,     8.12,4, -999.00,  -999.0, -999.00,  -999.0
    31DSCG96_2,  P15S,   162,  2,    232,   1039,2,19960302,1726, -8.4982,-168.7488, 5129,   -999,     94.6,  28.9896,  35.5727,2,  35.5743,2,    191.6,2, 28.9666,    194.5,2,     1.60,2,     0.33,2,     0.03,2,     0.25,2, -999.000,9, -999.000,9,   -999.0,9,  -999.00,9,   -999.0,9,   -999.0,9,   -999.0,9,     8.12,2, -999.00,  -999.0, -999.00,  -999.0
    31DSCG96_2,  P15S,   162,  2,    231,   1014,2,19960302,1726, -8.4982,-168.7488, 5129,   -999,    143.1,  27.0779,  35.8990,2,  35.8811,2,    146.5,2, 27.0449,    150.1,2,     2.13,2,     3.75,2,     1.45,2,     0.57,2, -999.000,9, -999.000,9,   -999.0,9,  -999.00,9,   2051.7,2,    339.5,2,   2357.8,2,     8.03,2, -999.00,  -999.0, -999.00,  -999.0
    31DSCG96_2,  P15S,   162,  2,    230,   1257,2,19960302,1726, -8.4982,-168.7488, 5129,   -999,    194.3,  23.9717,  36.2159,2,  36.2288,2,    145.4,2, 23.9306,    146.6,2,     1.83,2,     5.88,2,     0.03,2,     0.62,2, -999.000,9, -999.000,9,   -999.0,9,  -999.00,9,   -999.0,9,   -999.0,9,   -999.0,9,     7.98,4, -999.00,  -999.0, -999.00,  -999.0
    31DSCG96_2,  P15S,   162,  2,    229,   1256,2,19960302,1726, -8.4982,-168.7488, 5129,   -999,    244.1,  18.3713,  35.5759,2,  35.5856,2,    143.6,2, 18.3285,    135.4,2,     4.34,2,    10.46,2,     0.01,2,     0.96,2, -999.000,9, -999.000,9,   -999.0,9,  -999.00,9,   2128.3,2,    517.3,2,   2348.3,2,     7.87,2, -999.00,  -999.0, -999.00,  -999.0
    31DSCG96_2,  P15S,   162,  2,    228,   1007,2,19960302,1726, -8.4982,-168.7488, 5129,   -999,    291.6,  14.9561,  35.1687,2,  35.1732,2,    111.5,2, 14.9118,    104.8,2,     9.79,2,    17.44,2,     0.01,2,     1.42,2, -999.000,9, -999.000,9,   -999.0,9,  -999.00,9,   -999.0,9,   -999.0,9,   -999.0,9,     7.75,4, -999.00,  -999.0, -999.00,  -999.0
    31DSCG96_2,  P15S,   162,  2,    227,   1232,2,19960302,1726, -8.4982,-168.7488, 5129,   -999,    377.5,  10.3256,  34.7640,2,  34.7673,2,     93.1,2, 10.2806,     89.9,2,    21.37,2,    27.69,2,     0.01,2,     2.01,2, -999.000,9, -999.000,9,   -999.0,9,  -999.00,9,   2202.8,2,   1039.0,2,   2300.7,2,     7.61,2, -999.00,  -999.0, -999.00,  -999.0
    31DSCG96_2,  P15S,   162,  2,    226,   1025,2,19960302,1726, -8.4982,-168.7488, 5129,   -999,    459.5,   8.2242,  34.6226,2,  34.6219,2,    110.7,2,  8.1764,    105.9,2,    29.17,2,    31.11,2,     0.01,2,     2.16,2, -999.000,9, -999.000,9,   -999.0,9,  -999.00,9,   -999.0,9,   -999.0,9,   -999.0,9,     7.58,2, -999.00,  -999.0, -999.00,  -999.0
    31DSCG96_2,  P15S,   162,  2,    225,   1119,2,19960302,1726, -8.4982,-168.7488, 5129,   -999,    573.7,   7.1246,  34.5633,2,  34.5617,2,    117.7,2,  7.0692,    112.2,6,    35.89,2,    33.09,2,     0.00,2,     2.28,2, -999.000,9, -999.000,9,   -999.0,9,  -999.00,9,   2222.1,2,   1174.1,3,   2310.7,2,     7.57,4, -999.00,  -999.0, -999.00,  -999.0
    31DSCG96_2,  P15S,   162,  2,    224,   1244,2,19960302,1726, -8.4982,-168.7488, 5129,   -999,    682.2,   6.3761,  34.5352,2,  34.5355,2,    117.8,2,  6.3137,    111.0,2,    42.37,2,    34.68,2,     0.00,2,     2.39,2, -999.000,9, -999.000,9,   -999.0,9,  -999.00,9,   -999.0,9,   -999.0,9,   -999.0,9,     7.55,2, -999.00,  -999.0, -999.00,  -999.0
    31DSCG96_2,  P15S,   162,  2,    223,   1250,2,19960302,1726, -8.4982,-168.7488, 5129,   -999,    789.4,   5.6392,  34.5289,2,  34.5296,2,    108.7,2,  5.5707,     93.2,2,    54.90,2,    37.99,2,     0.00,2,     2.65,2, -999.000,9, -999.000,9,   -999.0,9,  -999.00,9,   2258.0,2,   1317.8,3,   2321.7,2,     7.50,4, -999.00,  -999.0, -999.00,  -999.0
    31DSCG96_2,  P15S,   162,  2,    222,   1265,2,19960302,1726, -8.4982,-168.7488, 5129,   -999,    924.4,   4.8234,  34.5268,2,  34.5265,2,    106.2,2,  4.7481,    105.5,2,    66.73,2,    37.85,2,     0.00,2,     2.64,2, -999.000,9, -999.000,9,   -999.0,9,  -999.00,9,   -999.0,9,   -999.0,9,   -999.0,9,     7.52,2, -999.00,  -999.0, -999.00,  -999.0
    31DSCG96_2,  P15S,   162,  2,    221,   1246,2,19960302,1726, -8.4982,-168.7488, 5129,   -999,   1061.6,   4.1769,  34.5371,2,  34.5363,2,    117.3,2,  4.0946,    115.9,2,    77.88,2,    37.42,2,     0.00,2,     2.62,2, -999.000,9, -999.000,9,   -999.0,9,  -999.00,9,   2273.2,2,   1311.2,2,   2352.0,2,     7.53,2, -999.00,  -999.0, -999.00,  -999.0
    31DSCG96_2,  P15S,   162,  2,    220,   1015,2,19960302,1726, -8.4982,-168.7488, 5129,   -999,   1264.0,   3.5161,  34.5639,2,  34.5634,2,    120.5,2,  3.4226,    119.8,2,    93.11,2,    37.47,2,     0.00,2,     2.63,2, -999.000,9, -999.000,9,   -999.0,9,  -999.00,9,   -999.0,9,   -999.0,9,   -999.0,9,     7.54,4, -999.00,  -999.0, -999.00,  -999.0
    31DSCG96_2,  P15S,   162,  2,    219,   1247,2,19960302,1726, -8.4982,-168.7488, 5129,   -999,   1490.0,   2.9211,  34.5935,2,  34.5940,2,    123.5,2,  2.8150,    124.3,2,   106.80,2,    37.48,2,     0.00,2,     2.62,2, -999.000,9, -999.000,9,   -999.0,9,  -999.00,9,   2301.4,2,   1329.0,2,   2383.3,2,     7.54,2, -999.00,  -999.0, -999.00,  -999.0
    31DSCG96_2,  P15S,   162,  2,    218,   1299,2,19960302,1726, -8.4982,-168.7488, 5129,   -999,   1739.8,   2.5065,  34.6186,2,  34.6185,2,    126.3,2,  2.3847,    126.9,2,   118.05,2,    37.46,2,     0.00,2,     2.61,2, -999.000,9, -999.000,9,   -999.0,9,  -999.00,9,   -999.0,9,   -999.0,9,   -999.0,9,     7.54,4, -999.00,  -999.0, -999.00,  -999.0
    31DSCG96_2,  P15S,   162,  2,    217,   1242,2,19960302,1726, -8.4982,-168.7488, 5129,   -999,   1989.9,   2.2631,  34.6339,2,  34.6338,2,    130.6,2,  2.1235,    131.8,2,   123.66,2,    37.14,2,     0.00,2,     2.59,2, -999.000,9, -999.000,9,   -999.0,9,  -999.00,9,   2314.9,2,   1272.0,2,   2400.2,2,     7.55,2, -999.00,  -999.0, -999.00,  -999.0
    31DSCG96_2,  P15S,   162,  2,    216,   1259,2,19960302,1726, -8.4982,-168.7488, 5129,   -999,   2243.4,   2.0282,  34.6506,2,  34.6505,2,    134.4,2,  1.8704,    135.6,2,   129.99,2,    36.98,2,     0.00,2,     2.57,2, -999.000,9, -999.000,9,   -999.0,9,  -999.00,9,   -999.0,9,   -999.0,9,   -999.0,9,     7.55,4, -999.00,  -999.0, -999.00,  -999.0
    31DSCG96_2,  P15S,   162,  2,    215,   1041,2,19960302,1726, -8.4982,-168.7488, 5129,   -999,   2492.8,   1.8367,  34.6643,2,  34.6643,2,    140.7,2,  1.6600,    142.0,2,   133.13,2,    36.55,2,     0.00,2,     2.53,2, -999.000,9, -999.000,9,   -999.0,9,  -999.00,9,   2319.5,2,   1216.9,2,   2412.6,2,     7.57,2, -999.00,  -999.0, -999.00,  -999.0
    31DSCG96_2,  P15S,   162,  2,    214,   1017,2,19960302,1726, -8.4982,-168.7488, 5129,   -999,   2740.2,   1.7529,  34.6709,2,  34.6701,2,    144.8,2,  1.5552,    144.4,2,   135.39,2,    36.43,2,     0.00,2,     2.52,2, -999.000,9, -999.000,9,   -999.0,9,  -999.00,9,   -999.0,9,   -999.0,9,   -999.0,9,     7.57,2, -999.00,  -999.0, -999.00,  -999.0
    31DSCG96_2,  P15S,   162,  2,    213,   1302,2,19960302,1726, -8.4982,-168.7488, 5129,   -999,   2988.4,   1.6641,  34.6771,2,  34.6768,2,    150.6,2,  1.4447,    149.2,2,   135.60,2,    36.03,2,     0.00,2,     2.49,2, -999.000,9, -999.000,9,   -999.0,9,  -999.00,9,   2316.7,2,   1187.3,2,   2416.9,2,     7.58,4, -999.00,  -999.0, -999.00,  -999.0
    31DSCG96_2,  P15S,   162,  2,    212,   1217,2,19960302,1726, -8.4982,-168.7488, 5129,   -999,   3236.9,   1.5826,  34.6821,2,  34.6784,3,    155.7,2,  1.3409,    152.4,2,   135.77,2,    35.91,2,     0.00,2,     2.48,2, -999.000,9, -999.000,9,   -999.0,9,  -999.00,9,   -999.0,9,   -999.0,9,   -999.0,9,     7.58,2, -999.00,  -999.0, -999.00,  -999.0
    31DSCG96_2,  P15S,   162,  2,    211,   1226,2,19960302,1726, -8.4982,-168.7488, 5129,   -999,   3488.9,   1.5326,  34.6855,2,  34.6855,2,    159.1,2,  1.2667,    160.3,2,   135.56,2,    35.49,2,     0.00,2,     2.44,2, -999.000,9, -999.000,9,   -999.0,9,  -999.00,9,   2310.8,2,   1155.9,2,   2411.8,2,     7.59,4, -999.00,  -999.0, -999.00,  -999.0
    31DSCG96_2,  P15S,   162,  2,    210,   1301,2,19960302,1726, -8.4982,-168.7488, 5129,   -999,   3739.9,   1.4738,  34.6894,2,  34.6890,2,    164.8,2,  1.1834,    165.7,2,   134.23,2,    35.04,2,     0.00,2,     2.41,2, -999.000,9, -999.000,9,   -999.0,9,  -999.00,9,   -999.0,9,   -999.0,9,   -999.0,9,     7.59,2, -999.00,  -999.0, -999.00,  -999.0
    31DSCG96_2,  P15S,   162,  2,    209,   1031,2,19960302,1726, -8.4982,-168.7488, 5129,   -999,   3990.7,   1.4258,  34.6927,2,  34.6932,2,    168.3,2,  1.1098,    168.6,2,   134.63,2,    34.74,2,     0.00,2,     2.39,2, -999.000,9, -999.000,9,   -999.0,9,  -999.00,9,   2303.3,2,   1130.6,2,   2412.5,2,     7.60,4, -999.00,  -999.0, -999.00,  -999.0
    31DSCG96_2,  P15S,   162,  2,    208,   1227,2,19960302,1726, -8.4982,-168.7488, 5129,   -999,   4251.9,   1.3556,  34.6972,2,  34.6972,2,    174.8,2,  1.0130,    175.6,6,   132.90,2,    34.36,2,     0.00,2,     2.36,2, -999.000,9, -999.000,9,   -999.0,9,  -999.00,9,   -999.0,9,   -999.0,9,   -999.0,9,     7.60,2, -999.00,  -999.0, -999.00,  -999.0
    31DSCG96_2,  P15S,   162,  2,    207,   1263,2,19960302,1726, -8.4982,-168.7488, 5129,   -999,   4490.2,   1.1241,  34.7077,2,  34.7097,2,    199.3,2,  0.7617,    199.4,2,   121.01,2,    32.49,2,     0.00,2,     2.22,2,    0.005,2,    0.003,2,   -999.0,9,  -999.00,9,   2266.0,2,   1069.0,2,   2374.9,2,     7.61,4, -999.00,  -999.0, -999.00,  -999.0
    31DSCG96_2,  P15S,   162,  2,    206,   1262,2,19960302,1726, -8.4982,-168.7488, 5129,   -999,   4690.5,   1.0545,  34.7095,2,  34.7100,2,    205.0,2,  0.6715,    204.9,2,   120.22,2,    32.20,2,     0.00,2,     2.20,2, -999.000,9, -999.000,9,   -999.0,9,  -999.00,9,   -999.0,9,   -999.0,9,   -999.0,9,     7.61,2, -999.00,  -999.0, -999.00,  -999.0
    31DSCG96_2,  P15S,   162,  2,    205,   1264,2,19960302,1726, -8.4982,-168.7488, 5129,   -999,   4811.5,   1.0662,  34.7094,2,  34.7106,2,    205.2,2,  0.6687,    205.1,2,   120.24,2,    32.21,2,     0.00,2,     2.20,2,    0.006,2,    0.002,2,   -999.0,9,  -999.00,9,   2261.1,2,   1073.4,2,   2372.5,2,     7.61,4, -999.00,  -999.0, -999.00,  -999.0
    31DSCG96_2,  P15S,   162,  2,    204,   1003,2,19960302,1726, -8.4982,-168.7488, 5129,   -999,   4937.7,   1.0809,  34.7095,2,  34.7087,2,    205.4,2,  0.6680,    204.9,6,   120.51,2,    32.19,2,     0.00,2,     2.20,2, -999.000,5, -999.000,5,   -999.0,9,  -999.00,9,   -999.0,9,   -999.0,9,   -999.0,9,     7.61,4, -999.00,  -999.0, -999.00,  -999.0
    31DSCG96_2,  P15S,   162,  2,    203,   1035,2,19960302,1726, -8.4982,-168.7488, 5129,   -999,   5049.6,   1.0939,  34.7091,2,  34.7103,2,    205.6,2,  0.6673,    205.3,2,   120.50,2,    32.19,2,     0.00,2,     2.20,2,    0.003,2,    0.002,2,   -999.0,9,  -999.00,9,   2262.7,2,   1068.2,2,   2380.9,3,     7.61,2, -999.00,  -999.0, -999.00,  -999.0
    31DSCG96_2,  P15S,   162,  2,    202,   1030,2,19960302,1726, -8.4982,-168.7488, 5129,   -999,   5149.0,   1.1058,  34.7092,2,  34.7105,2,    205.9,2,  0.6667,    204.9,2,   120.40,2,    32.15,2,     0.00,2,     2.20,2,    0.006,2,    0.002,2,   -999.0,9,  -999.00,9,   -999.0,9,   -999.0,9,   -999.0,9,     7.61,2, -999.00,  -999.0, -999.00,  -999.0
    31DSCG96_2,  P15S,   162,  2,    201,   1022,2,19960302,1726, -8.4982,-168.7488, 5129,   -999,   5240.8,   1.1139,  34.7093,2,  34.7100,2,    206.0,2,  0.6633,    205.4,2,   120.29,6,    32.19,6,     0.00,6,     2.20,6,    0.005,6,    0.003,6,   -999.0,9,  -999.00,9,   2261.1,2,   1100.8,3,   2377.3,2,     7.62,4, -999.00,  -999.0, -999.00,  -999.0