BOTTLE,20220811CCHSIOAMB
EXPOCODE,SECT_ID,STNNBR,CASTNO,SAMPNO,BTLNBR,BTLNBR_FLAG_W,DATE,TIME,LATITUDE,LONGITUDE,DEPTH,CTDRAW,CTDPRS,CTDTMP,CTDSAL,CTDSAL_FLAG_W,SALNTY,SALNTY_FLAG_W,CTDOXY,CTDOXY_FLAG_W,THETA,OXYGEN,OXYGEN_FLAG_W,SILCAT,SILCAT_FLAG_W,NITRAT,NITRAT_FLAG_W,NITRIT,NITRIT_FLAG_W,PHSPHT,PHSPHT_FLAG_W,CFC-11,CFC-11_FLAG_W,CFC-12,CFC-12_FLAG_W,DELC14,DELC14_FLAG_W,DELC13,DELC13_FLAG_W,TCARBN,TCARBN_FLAG_W,PCO2,PCO2_FLAG_W,ALKALI,ALKALI_FLAG_W,PH,PH_FLAG_W,PCO2TMP,C14ERR,PH_TMP,C13ERR
,,,,,,,,,,,,DBAR,DBAR,ITS-90,PSS-78,,PSS-78,,UMOL/KG,,DEG C,UMOL/KG,,UMOL/KG,,UMOL/KG,,UMOL/KG,,UMOL/KG,,PMOL/KG,,PMOL/KG,,/MILLE,,/MILLE,,UMOL/KG,,UATM,,UMOL/KG,,,,DEG C,/MILLE,DEG C,/MILLE
    31DSCG96_1,  P15S,    57,  1,    134,   1119,2,19960125,0900,-54.4905,-170.0017, 4819,   -999,      9.9,   6.7259,  34.0871,2,  34.0880,2,    307.6,2,  6.7250,    305.7,2,     4.20,2,    20.06,2,     0.17,2,     1.40,2, -999.000,9, -999.000,9,      3.5,2,  -999.00,9,   2102.0,2,    621.2,2,   2281.6,2,     7.81,2, -999.00,     3.3, -999.00,  -999.0
    31DSCG96_1,  P15S,    57,  1,    133,   1221,4,19960125,0900,-54.4905,-170.0017, 4819,   -999,     28.4,   6.6602,  34.0852,2,-999.0000,9,    305.2,2,  6.6577,   -999.0,9,  -999.00,9,  -999.00,9,  -999.00,9,  -999.00,9, -999.000,9, -999.000,9,   -999.0,9,  -999.00,9,   -999.0,9,   -999.0,9,   -999.0,9,  -999.00,9, -999.00,  -999.0, -999.00,  -999.0
    31DSCG96_1,  P15S,    57,  1,    132,   1039,2,19960125,0900,-54.4905,-170.0017, 4819,   -999,     55.5,   6.4635,  34.0901,2,  34.0903,2,    305.1,2,  6.4587,    305.3,2,     3.47,2,    19.95,2,     0.16,2,     1.39,2, -999.000,9, -999.000,9,   -999.0,9,  -999.00,9,   2104.5,2,    620.3,2,   2279.7,2,     7.81,2, -999.00,  -999.0, -999.00,  -999.0
    31DSCG96_1,  P15S,    57,  1,    131,   1014,2,19960125,0900,-54.4905,-170.0017, 4819,   -999,     78.9,   5.9881,  34.1023,2,  34.1031,2,    304.4,2,  5.9815,    303.1,2,     5.52,2,    20.86,2,     0.17,2,     1.47,2, -999.000,9, -999.000,9,   -999.0,9,  -999.00,9,   -999.0,9,   -999.0,9,   -999.0,9,     7.79,2, -999.00,  -999.0, -999.00,  -999.0
    31DSCG96_1,  P15S,    57,  1,    130,   1257,2,19960125,0900,-54.4905,-170.0017, 4819,   -999,    115.1,   4.9651,  34.1433,2,  34.1450,2,    295.4,2,  4.9563,    302.4,2,     8.64,2,    21.93,2,     0.23,2,     1.55,2, -999.000,5, -999.000,5,   -999.0,9,  -999.00,9,   2121.6,2,    692.3,2,   2278.9,2,     7.77,2, -999.00,  -999.0, -999.00,  -999.0
    31DSCG96_1,  P15S,    57,  1,    129,   1256,2,19960125,0900,-54.4905,-170.0017, 4819,   -999,    164.6,   4.6065,  34.1452,2,  34.1458,2,    292.7,2,  4.5944,    298.8,2,     9.56,2,    23.38,2,     0.20,2,     1.58,2, -999.000,9, -999.000,9,   -999.0,9,  -999.00,9,   -999.0,9,   -999.0,9,   -999.0,9,     7.75,3, -999.00,  -999.0, -999.00,  -999.0
    31DSCG96_1,  P15S,    57,  1,    128,   1007,2,19960125,0900,-54.4905,-170.0017, 4819,   -999,    214.2,   4.1322,  34.1041,2,  34.1058,2,    298.5,2,  4.1172,    300.3,2,    10.03,2,    24.34,2,     0.03,2,     1.64,2, -999.000,9, -999.000,9,   -999.0,9,  -999.00,9,   -999.0,9,   -999.0,9,   -999.0,9,     7.74,2, -999.00,  -999.0, -999.00,  -999.0
    31DSCG96_1,  P15S,    57,  1,    127,   1234,2,19960125,0900,-54.4905,-170.0017, 4819,   -999,    263.0,   4.0426,  34.1119,2,  34.1127,2,    297.7,2,  4.0243,    300.1,2,    10.72,2,    24.33,2,     0.01,2,     1.65,2, -999.000,5, -999.000,5,   -999.0,9,  -999.00,9,   2133.2,2,    742.4,2,   2282.4,2,     7.74,2, -999.00,  -999.0, -999.00,  -999.0
    31DSCG96_1,  P15S,    57,  1,    126,   1025,2,19960125,0900,-54.4905,-170.0017, 4819,   -999,    326.5,   3.9328,  34.1218,2,  34.1231,2,    290.4,2,  3.9102,    287.8,2,    13.18,2,    25.50,2,     0.00,2,     1.74,2, -999.000,9, -999.000,9,   -999.0,9,  -999.00,9,   2141.8,2,    774.8,2,   2282.8,2,     7.72,2, -999.00,  -999.0, -999.00,  -999.0
    31DSCG96_1,  P15S,    57,  1,    125,   1233,2,19960125,0900,-54.4905,-170.0017, 4819,   -999,    424.5,   3.5439,  34.1120,2,  34.1133,2,    260.0,2,  3.5155,    282.1,6,    15.86,2,    26.73,2,     0.00,2,     1.82,2, -999.000,9, -999.000,9,   -999.0,9,  -999.00,9,   -999.0,9,   -999.0,9,   -999.0,9,     7.71,2, -999.00,  -999.0, -999.00,  -999.0
    31DSCG96_1,  P15S,    57,  1,    124,   1218,2,19960125,0900,-54.4905,-170.0017, 4819,   -999,    522.7,   3.7418,  34.2314,2,  34.2305,2,    230.0,2,  3.7055,    234.4,2,    27.30,2,    30.06,2,     0.00,2,     2.04,2, -999.000,5, -999.000,5,   -999.0,9,  -999.00,9,   2179.2,2,    956.5,2,   2295.7,2,     7.65,2, -999.00,  -999.0, -999.00,  -999.0
    31DSCG96_1,  P15S,    57,  1,    123,   1250,2,19960125,0900,-54.4905,-170.0017, 4819,   -999,    624.0,   3.3509,  34.2807,2,  34.2813,2,    216.6,2,  3.3089,    218.2,2,    36.85,2,    31.93,2,     0.00,2,     2.17,2, -999.000,9, -999.000,9,   -999.0,9,  -999.00,9,   -999.0,9,   -999.0,9,   -999.0,9,     7.62,2, -999.00,  -999.0, -999.00,  -999.0
    31DSCG96_1,  P15S,    57,  1,    122,   1109,2,19960125,0900,-54.4905,-170.0017, 4819,   -999,    723.0,   3.0802,  34.3284,2,  34.3288,2,    206.6,2,  3.0325,    206.0,2,    44.90,2,    33.04,2,     0.00,2,     2.24,2, -999.000,9, -999.000,9,   -999.0,9,  -999.00,9,   2211.2,2,   1101.0,2,   2308.5,2,     7.60,2, -999.00,  -999.0, -999.00,  -999.0
    31DSCG96_1,  P15S,    57,  1,    121,   1246,2,19960125,0900,-54.4905,-170.0017, 4819,   -999,    820.7,   2.8460,  34.3881,2,  34.3886,2,    195.1,2,  2.7925,    193.9,2,    53.66,2,    35.47,3,     0.00,2,     2.29,2, -999.000,9, -999.000,9,   -999.0,9,  -999.00,9,   -999.0,9,   -999.0,9,   -999.0,9,     7.58,2, -999.00,  -999.0, -999.00,  -999.0
    31DSCG96_1,  P15S,    57,  1,    120,   1015,2,19960125,0900,-54.4905,-170.0017, 4819,   -999,    925.7,   2.7205,  34.4437,2,  34.4435,2,    187.3,2,  2.6603,    185.0,2,    60.26,2,    35.60,3,     0.00,2,     2.34,2, -999.000,5, -999.000,5,   -999.0,9,  -999.00,9,   2234.9,2,   1174.6,2,   2325.3,2,     7.57,2, -999.00,  -999.0, -999.00,  -999.0
    31DSCG96_1,  P15S,    57,  1,    119,   1247,2,19960125,0900,-54.4905,-170.0017, 4819,   -999,   1029.4,   2.5536,  34.4935,2,  34.4926,2,    180.5,2,  2.4871,    179.3,6,    65.86,2,    35.67,3,     0.00,2,     2.35,2, -999.000,9, -999.000,9,   -999.0,9,  -999.00,9,   -999.0,9,   -999.0,9,   -999.0,9,     7.57,2, -999.00,  -999.0, -999.00,  -999.0
    31DSCG96_1,  P15S,    57,  1,    118,   1222,2,19960125,0900,-54.4905,-170.0017, 4819,   -999,   1134.2,   2.4850,  34.5394,2,  34.5403,2,    176.7,2,  2.4112,    175.2,2,    70.04,2,    35.41,3,     0.00,2,     2.34,2, -999.000,9, -999.000,9,   -999.0,9,  -999.00,9,   2246.0,2,   1209.8,2,   2330.4,2,     7.56,2, -999.00,  -999.0, -999.00,  -999.0
    31DSCG96_1,  P15S,    57,  1,    117,   1267,2,19960125,0900,-54.4905,-170.0017, 4819,   -999,   1316.5,   2.3832,  34.6197,2,  34.6203,2,    174.2,2,  2.2966,    174.2,2,    75.78,2,    34.31,3,     0.00,2,     2.28,2, -999.000,9, -999.000,9,   -999.0,9,  -999.00,9,   -999.0,9,   -999.0,9,   -999.0,9,     7.57,2, -999.00,  -999.0, -999.00,  -999.0
    31DSCG96_1,  P15S,    57,  1,    116,   1211,3,19960125,0900,-54.4905,-170.0017, 4819,   -999,   1562.5,   2.2605,  34.6783,2,  34.6798,2,    178.3,2,  2.1560,    178.3,2,    79.99,2,    33.37,3,     0.00,2,     2.21,2, -999.000,5, -999.000,5,   -999.0,9,  -999.00,9,   2249.0,2,   1153.0,2,   2348.5,2,  -999.00,9, -999.00,  -999.0, -999.00,  -999.0
    31DSCG96_1,  P15S,    57,  1,    115,   1041,2,19960125,0900,-54.4905,-170.0017, 4819,   -999,   1812.0,   2.1128,  34.7161,2,  34.7164,2,    184.7,2,  1.9900,    184.5,2,    84.06,2,    32.41,3,     0.00,2,     2.16,2, -999.000,9, -999.000,9,   -999.0,9,  -999.00,9,   -999.0,9,   -999.0,9,   -999.0,9,     7.60,2, -999.00,  -999.0, -999.00,  -999.0
    31DSCG96_1,  P15S,    57,  1,    114,   1017,2,19960125,0900,-54.4905,-170.0017, 4819,   -999,   2067.7,   1.9457,  34.7336,2,  34.7358,2,    189.7,2,  1.8040,    189.5,2,    88.63,2,    31.84,3,     0.00,2,     2.12,2, -999.000,9, -999.000,9,   -999.0,9,  -999.00,9,   2251.0,2,   -999.0,9,   2356.8,2,     7.61,2, -999.00,  -999.0, -999.00,  -999.0
    31DSCG96_1,  P15S,    57,  1,    113,   1302,2,19960125,0900,-54.4905,-170.0017, 4819,   -999,   2313.7,   1.7634,  34.7382,2,  34.7381,2,    193.8,2,  1.6036,    193.3,6,    93.83,2,    31.59,3,     0.00,2,     2.12,2, -999.000,9, -999.000,9,   -999.0,9,  -999.00,9,   -999.0,9,   -999.0,9,   -999.0,9,     7.61,2, -999.00,  -999.0, -999.00,  -999.0
    31DSCG96_1,  P15S,    57,  1,    112,   1217,2,19960125,0900,-54.4905,-170.0017, 4819,   -999,   2563.6,   1.5650,  34.7361,2,  34.7371,2,    196.8,2,  1.3868,    196.5,2,    99.86,2,    31.69,3,     0.00,2,     2.13,2,    0.035,2,    0.020,2,   -999.0,9,  -999.00,9,   2253.4,2,   1063.9,2,   2363.0,2,     7.61,2, -999.00,  -999.0, -999.00,  -999.0
    31DSCG96_1,  P15S,    57,  1,    111,   1114,2,19960125,0900,-54.4905,-170.0017, 4819,   -999,   2813.9,   1.3981,  34.7311,2,  34.7330,2,    199.3,2,  1.2006,    198.9,2,   104.89,2,    31.75,3,     0.00,2,     2.14,2, -999.000,9, -999.000,9,   -999.0,9,  -999.00,9,   -999.0,9,   -999.0,9,   -999.0,9,     7.61,2, -999.00,  -999.0, -999.00,  -999.0
    31DSCG96_1,  P15S,    57,  1,    110,   1301,2,19960125,0900,-54.4905,-170.0017, 4819,   -999,   3064.0,   1.2200,  34.7240,2,  34.7239,2,    201.5,2,  1.0031,    201.6,2,   110.19,2,    31.88,3,     0.00,2,     2.16,2, -999.000,9, -999.000,9,   -999.0,9,  -999.00,9,   2257.2,2,   -999.0,9,   2367.2,2,     7.61,2, -999.00,  -999.0, -999.00,  -999.0
    31DSCG96_1,  P15S,    57,  1,    109,   1242,2,19960125,0900,-54.4905,-170.0017, 4819,   -999,   3314.2,   1.1009,  34.7185,2,  34.7179,2,    204.4,2,  0.8628,    203.8,2,   113.80,2,    32.03,3,     0.00,2,     2.17,2, -999.000,9, -999.000,9,   -999.0,9,  -999.00,9,   -999.0,9,   -999.0,9,   -999.0,9,     7.61,2, -999.00,  -999.0, -999.00,  -999.0
    31DSCG96_1,  P15S,    57,  1,    108,   1263,2,19960125,0900,-54.4905,-170.0017, 4819,   -999,   3562.3,   1.0026,  34.7137,2,  34.7152,2,    206.2,2,  0.7426,    205.6,2,   116.93,2,    32.09,2,     0.00,2,     2.18,2,    0.050,2,    0.018,2,   -999.0,9,  -999.00,9,   2258.5,2,   1076.6,2,   2367.2,2,     7.61,2, -999.00,  -999.0, -999.00,  -999.0
    31DSCG96_1,  P15S,    57,  1,    107,   1245,2,19960125,0900,-54.4905,-170.0017, 4819,   -999,   3814.9,   0.9197,  34.7094,2,  34.7094,2,    207.6,2,  0.6362,    207.5,6,   119.75,2,    32.22,2,     0.00,2,     2.18,2, -999.000,9, -999.000,9,   -999.0,9,  -999.00,9,   -999.0,9,   -999.0,9,   -999.0,9,     7.61,2, -999.00,  -999.0, -999.00,  -999.0
    31DSCG96_1,  P15S,    57,  1,    106,   1262,2,19960125,0900,-54.4905,-170.0017, 4819,   -999,   4061.9,   0.8728,  34.7067,2,  34.7072,2,    208.7,2,  0.5649,    208.6,2,   121.89,2,    32.30,2,     0.00,2,     2.19,2, -999.000,9, -999.000,9,   -999.0,9,  -999.00,9,   2259.5,2,   -999.0,9,   2367.7,2,     7.61,2, -999.00,  -999.0, -999.00,  -999.0
    31DSCG96_1,  P15S,    57,  1,    105,   1113,2,19960125,0900,-54.4905,-170.0017, 4819,   -999,   4313.5,   0.8595,  34.7051,2,  34.7053,2,    209.4,2,  0.5250,    209.1,2,   123.37,2,    32.31,2,     0.00,2,     2.19,2, -999.000,9, -999.000,9,   -999.0,9,  -999.00,9,   -999.0,9,   -999.0,9,   -999.0,9,     7.61,2, -999.00,  -999.0, -999.00,  -999.0
    31DSCG96_1,  P15S,    57,  1,    104,   1003,3,19960125,0900,-54.4905,-170.0017, 4819,   -999,   4565.9,   0.8772,  34.7044,2,  34.7055,2,    209.3,2,  0.5140,    208.9,2,   123.92,2,    32.32,2,     0.00,2,     2.20,2, -999.000,9, -999.000,9,   -999.0,9,  -999.00,9,   -999.0,9,   -999.0,9,   -999.0,9,  -999.00,9, -999.00,  -999.0, -999.00,  -999.0
    31DSCG96_1,  P15S,    57,  1,    103,   9999,2,19960125,0900,-54.4905,-170.0017, 4819,   -999,   4566.0,   0.8770,  34.7043,2,  34.7048,2,    209.3,2,  0.5138,    209.0,2,   124.07,6,    32.31,6,     0.00,6,     2.19,2,    0.073,6,    0.032,6,   -999.0,9,  -999.00,9,   2260.5,2,   1094.6,2,   2369.2,2,     7.61,2, -999.00,  -999.0, -999.00,  -999.0
    31DSCG96_1,  P15S,    57,  1,    102,   1030,2,19960125,0900,-54.4905,-170.0017, 4819,   -999,   4814.0,   0.9015,  34.7044,2,  34.7043,2,    209.3,2,  0.5092,    209.0,2,   124.19,2,    32.35,2,     0.00,2,     2.19,2, -999.000,9, -999.000,9,   -999.0,9,  -999.00,9,   -999.0,9,   -999.0,9,   -999.0,9,     7.61,2, -999.00,  -999.0, -999.00,  -999.0
    31DSCG96_1,  P15S,    57,  1,    101,   1022,2,19960125,0900,-54.4905,-170.0017, 4819,   -999,   4925.5,   0.9095,  34.7037,2,  34.7058,2,    209.7,2,  0.5039,    209.4,2,   124.39,6,    32.29,6,     0.00,6,     2.20,6,    0.082,2,    0.038,2,   -999.0,9,  -999.00,9,   2259.9,2,   1095.9,2,   2368.7,2,     7.61,2, -999.00,  -999.0, -999.00,  -999.0