BOTTLE,20220811CCHSIOAMB
EXPOCODE,SECT_ID,STNNBR,CASTNO,SAMPNO,BTLNBR,BTLNBR_FLAG_W,DATE,TIME,LATITUDE,LONGITUDE,DEPTH,CTDRAW,CTDPRS,CTDTMP,CTDSAL,CTDSAL_FLAG_W,SALNTY,SALNTY_FLAG_W,CTDOXY,CTDOXY_FLAG_W,THETA,OXYGEN,OXYGEN_FLAG_W,SILCAT,SILCAT_FLAG_W,NITRAT,NITRAT_FLAG_W,NITRIT,NITRIT_FLAG_W,PHSPHT,PHSPHT_FLAG_W,CFC-11,CFC-11_FLAG_W,CFC-12,CFC-12_FLAG_W,DELC14,DELC14_FLAG_W,DELC13,DELC13_FLAG_W,TCARBN,TCARBN_FLAG_W,PCO2,PCO2_FLAG_W,ALKALI,ALKALI_FLAG_W,PH,PH_FLAG_W,PCO2TMP,C14ERR,PH_TMP,C13ERR
,,,,,,,,,,,,DBAR,DBAR,ITS-90,PSS-78,,PSS-78,,UMOL/KG,,DEG C,UMOL/KG,,UMOL/KG,,UMOL/KG,,UMOL/KG,,UMOL/KG,,PMOL/KG,,PMOL/KG,,/MILLE,,/MILLE,,UMOL/KG,,UATM,,UMOL/KG,,,,DEG C,/MILLE,DEG C,/MILLE
    31DSCG96_2,  P15S,   125,  3,    336,   1245,2,19960222,0321,-26.0055,-169.9942, 5563,   -999,      4.4,  25.2102,  35.7428,2,  35.7427,2,    206.6,2, 25.2092,    207.4,2,     1.26,2,     0.02,2,     0.00,2,     0.04,2,    1.857,2,    1.033,2,    113.2,2,  -999.00,9,   1997.4,2,    255.3,6,   -999.0,9,  -999.00,9, -999.00,     3.7, -999.00,  -999.0
    31DSCG96_2,  P15S,   125,  3,    335,   1113,2,19960222,0321,-26.0055,-169.9942, 5563,   -999,     29.0,  25.2085,  35.7409,2,  35.7400,2,    206.5,2, 25.2022,    207.7,2,     1.30,2,     0.00,2,     0.00,2,     0.04,2, -999.000,9, -999.000,9,   -999.0,9,  -999.00,9,   -999.0,9,   -999.0,9,   -999.0,9,  -999.00,9, -999.00,  -999.0, -999.00,  -999.0
    31DSCG96_2,  P15S,   125,  3,    334,   1216,2,19960222,0321,-26.0055,-169.9942, 5563,   -999,     58.4,  24.0829,  35.7812,2,  35.7876,2,    217.3,2, 24.0705,    214.7,2,     1.25,2,     0.04,2,     0.00,2,     0.05,2,    1.975,6,    1.086,6,   -999.0,9,  -999.00,9,   -999.0,9,   -999.0,9,   -999.0,9,  -999.00,9, -999.00,  -999.0, -999.00,  -999.0
    31DSCG96_2,  P15S,   125,  3,    333,   1221,2,19960222,0321,-26.0055,-169.9942, 5563,   -999,     79.3,  22.3621,  35.7265,2,  35.7265,2,    223.3,2, 22.3462,    226.7,2,     1.23,2,     0.06,2,     0.00,2,     0.06,2, -999.000,9, -999.000,9,   -999.0,9,  -999.00,9,   -999.0,9,   -999.0,9,   -999.0,9,  -999.00,9, -999.00,  -999.0, -999.00,  -999.0
    31DSCG96_2,  P15S,   125,  3,    332,   1039,2,19960222,0321,-26.0055,-169.9942, 5563,   -999,    112.5,  21.1289,  35.7287,2,  35.7292,2,    222.1,2, 21.1072,    222.3,2,     1.21,2,     0.04,2,     0.00,2,     0.08,2,    2.195,2,    1.194,2,   -999.0,9,  -999.00,9,   -999.0,9,   -999.0,9,   -999.0,9,  -999.00,9, -999.00,  -999.0, -999.00,  -999.0
    31DSCG96_2,  P15S,   125,  3,    331,   1014,2,19960222,0321,-26.0055,-169.9942, 5563,   -999,    164.6,  19.5832,  35.7137,2,  35.7153,2,    211.6,2, 19.5531,    207.4,2,     1.34,2,     0.44,2,     0.13,2,     0.16,2, -999.000,9, -999.000,9,   -999.0,9,  -999.00,9,   -999.0,9,   -999.0,9,   -999.0,9,  -999.00,9, -999.00,  -999.0, -999.00,  -999.0
    31DSCG96_2,  P15S,   125,  3,    330,   1257,2,19960222,0321,-26.0055,-169.9942, 5563,   -999,    212.2,  18.3009,  35.6492,2,  35.6493,2,    200.6,2, 18.2638,    201.9,2,     1.50,2,     2.46,2,     0.01,2,     0.27,2,    2.303,2,    1.215,2,   -999.0,9,  -999.00,9,   -999.0,9,   -999.0,9,   -999.0,9,  -999.00,9, -999.00,  -999.0, -999.00,  -999.0
    31DSCG96_2,  P15S,   125,  3,    329,   1256,2,19960222,0321,-26.0055,-169.9942, 5563,   -999,    263.1,  17.2940,  35.6003,2,  35.6003,2,    203.3,2, 17.2498,    205.8,2,     1.66,2,     3.11,2,     0.01,2,     0.31,2, -999.000,9, -999.000,9,   -999.0,9,  -999.00,9,   -999.0,9,   -999.0,9,   -999.0,9,  -999.00,9, -999.00,  -999.0, -999.00,  -999.0
    31DSCG96_2,  P15S,   125,  3,    328,   1007,2,19960222,0321,-26.0055,-169.9942, 5563,   -999,    326.1,  15.9649,  35.4463,2,  35.4511,2,    204.8,2, 15.9130,    201.3,2,     2.18,2,     5.25,2,     0.00,2,     0.46,2,    2.323,2,    1.207,2,   -999.0,9,  -999.00,9,   -999.0,9,   -999.0,9,   -999.0,9,  -999.00,9, -999.00,  -999.0, -999.00,  -999.0
    31DSCG96_2,  P15S,   125,  3,    327,   1232,2,19960222,0321,-26.0055,-169.9942, 5563,   -999,    432.3,  12.7406,  35.0159,2,  35.0261,2,    195.2,2, 12.6814,    192.1,2,     3.82,2,    11.50,2,     0.00,2,     0.86,2,    1.852,2,    0.932,2,   -999.0,9,  -999.00,9,   -999.0,9,   -999.0,9,   -999.0,9,  -999.00,9, -999.00,  -999.0, -999.00,  -999.0
    31DSCG96_2,  P15S,   125,  3,    326,   1025,2,19960222,0321,-26.0055,-169.9942, 5563,   -999,    526.6,  10.0816,  34.7124,2,  34.7114,2,    202.2,2, 10.0194,    199.9,2,     5.57,2,    16.85,2,     0.00,2,     1.19,2,    1.585,2,    0.772,2,   -999.0,9,  -999.00,9,   -999.0,9,   -999.0,9,   -999.0,9,  -999.00,9, -999.00,  -999.0, -999.00,  -999.0
    31DSCG96_2,  P15S,   125,  3,    325,   1119,2,19960222,0321,-26.0055,-169.9942, 5563,   -999,    619.6,   8.1076,  34.5055,2,  34.5051,2,    220.6,2,  8.0431,    218.5,6,     6.74,2,    20.30,2,     0.00,2,     1.39,2,    1.492,2,    0.724,2,   -999.0,9,  -999.00,9,   -999.0,9,   -999.0,9,   -999.0,9,  -999.00,9, -999.00,  -999.0, -999.00,  -999.0
    31DSCG96_2,  P15S,   125,  3,    324,   1013,2,19960222,0321,-26.0055,-169.9942, 5563,   -999,    720.1,   6.9901,  34.4017,2,  34.4056,2,    230.4,2,  6.9208,    228.1,2,     8.70,2,    22.71,2,     0.00,2,     1.55,2, -999.000,9, -999.000,9,   -999.0,9,  -999.00,9,   -999.0,9,   -999.0,9,   -999.0,9,  -999.00,9, -999.00,  -999.0, -999.00,  -999.0
    31DSCG96_2,  P15S,   125,  3,    323,   1250,2,19960222,0321,-26.0055,-169.9942, 5563,   -999,    828.5,   6.0433,  34.3399,2,  34.3394,2,    224.2,2,  5.9690,    225.4,2,    13.25,2,    25.63,2,     0.00,2,     1.75,2, -999.000,9, -999.000,9,   -999.0,9,  -999.00,9,   -999.0,9,   -999.0,9,   -999.0,9,  -999.00,9, -999.00,  -999.0, -999.00,  -999.0
    31DSCG96_2,  P15S,   125,  3,    322,   1265,2,19960222,0321,-26.0055,-169.9942, 5563,   -999,    925.0,   5.3932,  34.3249,2,  34.3238,2,    207.7,2,  5.3142,    211.1,2,    20.24,2,    28.31,2,     0.00,2,     1.93,2,    0.221,2,    0.130,2,   -999.0,9,  -999.00,9,   -999.0,9,   -999.0,9,   -999.0,9,  -999.00,9, -999.00,  -999.0, -999.00,  -999.0
    31DSCG96_2,  P15S,   125,  3,    321,   1246,2,19960222,0321,-26.0055,-169.9942, 5563,   -999,   1025.1,   4.8206,  34.3432,2,  34.3422,2,    192.4,2,  4.7366,    191.9,2,    30.59,2,    31.02,2,     0.00,2,     2.11,2, -999.000,9, -999.000,9,   -999.0,9,  -999.00,9,   -999.0,9,   -999.0,9,   -999.0,9,  -999.00,9, -999.00,  -999.0, -999.00,  -999.0
    31DSCG96_2,  P15S,   125,  3,    320,   1015,2,19960222,0321,-26.0055,-169.9942, 5563,   -999,   1137.1,   4.1484,  34.3930,2,  34.3921,2,    177.2,2,  4.0601,    175.2,2,    45.98,2,    33.24,2,     0.00,2,     2.28,2,    0.020,2,    0.011,2,   -999.0,9,  -999.00,9,   -999.0,9,   -999.0,9,   -999.0,9,  -999.00,9, -999.00,  -999.0, -999.00,  -999.0
    31DSCG96_2,  P15S,   125,  3,    319,   1247,2,19960222,0321,-26.0055,-169.9942, 5563,   -999,   1315.0,   3.2953,  34.4651,2,  34.4655,2,    167.5,2,  3.1999,    167.4,2,    65.68,2,    34.50,2,     0.00,2,     2.37,2, -999.000,9, -999.000,9,   -999.0,9,  -999.00,9,   -999.0,9,   -999.0,9,   -999.0,9,  -999.00,9, -999.00,  -999.0, -999.00,  -999.0
    31DSCG96_2,  P15S,   125,  3,    318,   1299,2,19960222,0321,-26.0055,-169.9942, 5563,   -999,   1564.1,   2.7021,  34.5524,2,  34.5541,2,    158.2,2,  2.5925,    157.2,2,    88.74,2,    35.17,2,     0.00,2,     2.44,2,    0.018,4,    0.001,2,   -999.0,9,  -999.00,9,   -999.0,9,   -999.0,9,   -999.0,9,  -999.00,9, -999.00,  -999.0, -999.00,  -999.0
    31DSCG96_2,  P15S,   125,  3,    317,   1267,2,19960222,0321,-26.0055,-169.9942, 5563,   -999,   1817.3,   2.3888,  34.5980,2,  34.6079,3,    149.0,2,  2.2621,    149.1,2,   107.45,2,    35.76,2,     0.00,2,     2.49,2, -999.000,9, -999.000,9,   -999.0,9,  -999.00,9,   -999.0,9,   -999.0,9,   -999.0,9,  -999.00,9, -999.00,  -999.0, -999.00,  -999.0
    31DSCG96_2,  P15S,   125,  3,    316,   1259,2,19960222,0321,-26.0055,-169.9942, 5563,   -999,   2065.6,   2.1999,  34.6292,2,  34.6309,2,    145.5,2,  2.0548,    146.0,2,   117.27,2,    36.11,2,     0.00,2,     2.51,2, -999.000,9, -999.000,9,   -999.0,9,  -999.00,9,   -999.0,9,   -999.0,9,   -999.0,9,  -999.00,9, -999.00,  -999.0, -999.00,  -999.0
    31DSCG96_2,  P15S,   125,  3,    315,   1041,2,19960222,0321,-26.0055,-169.9942, 5563,   -999,   2317.3,   2.0562,  34.6447,2,  34.6444,2,    145.5,2,  1.8914,    145.1,2,   123.33,2,    36.29,2,     0.00,2,     2.52,2,   -0.002,2,    0.000,2,   -999.0,9,  -999.00,9,   -999.0,9,   -999.0,9,   -999.0,9,  -999.00,9, -999.00,  -999.0, -999.00,  -999.0
    31DSCG96_2,  P15S,   125,  3,    314,   1017,2,19960222,0321,-26.0055,-169.9942, 5563,   -999,   2566.4,   1.9503,  34.6548,2,  34.6540,2,    145.5,2,  1.7648,    145.3,2,   127.77,2,    36.29,2,     0.00,2,     2.52,2, -999.000,9, -999.000,9,   -999.0,9,  -999.00,9,   -999.0,9,   -999.0,9,   -999.0,9,  -999.00,9, -999.00,  -999.0, -999.00,  -999.0
    31DSCG96_2,  P15S,   125,  3,    313,   1302,2,19960222,0321,-26.0055,-169.9942, 5563,   -999,   2814.7,   1.8474,  34.6642,2,  34.6626,2,    146.3,2,  1.6407,    147.1,2,   131.02,2,    36.27,2,     0.00,2,     2.51,2, -999.000,9, -999.000,9,   -999.0,9,  -999.00,9,   -999.0,9,   -999.0,9,   -999.0,9,  -999.00,9, -999.00,  -999.0, -999.00,  -999.0
    31DSCG96_2,  P15S,   125,  3,    312,   1217,2,19960222,0321,-26.0055,-169.9942, 5563,   -999,   3067.0,   1.7271,  34.6741,2,  34.6745,2,    148.9,2,  1.4988,    151.0,6,   132.87,2,    35.94,2,     0.00,2,     2.49,2,    0.000,2,    0.001,2,   -999.0,9,  -999.00,9,   -999.0,9,   -999.0,9,   -999.0,9,  -999.00,9, -999.00,  -999.0, -999.00,  -999.0
    31DSCG96_2,  P15S,   125,  3,    311,   1114,2,19960222,0321,-26.0055,-169.9942, 5563,   -999,   3314.2,   1.6267,  34.6897,2,  34.6895,2,    164.2,2,  1.3761,    163.6,2,   126.53,2,    34.82,2,     0.00,2,     2.40,2, -999.000,9, -999.000,9,   -999.0,9,  -999.00,9,   -999.0,9,   -999.0,9,   -999.0,9,  -999.00,9, -999.00,  -999.0, -999.00,  -999.0
    31DSCG96_2,  P15S,   125,  3,    310,   1301,2,19960222,0321,-26.0055,-169.9942, 5563,   -999,   3565.1,   1.5058,  34.7119,2,  34.7105,2,    184.0,2,  1.2326,    185.7,2,   114.44,2,    32.94,2,     0.00,2,     2.26,2, -999.000,9, -999.000,9,   -999.0,9,  -999.00,9,   -999.0,9,   -999.0,9,   -999.0,9,  -999.00,9, -999.00,  -999.0, -999.00,  -999.0
    31DSCG96_2,  P15S,   125,  3,    309,   1233,2,19960222,0321,-26.0055,-169.9942, 5563,   -999,   3815.2,   1.3895,  34.7186,2,  34.7169,2,    195.0,2,  1.0932,    195.8,2,   111.90,2,    32.26,2,     0.00,2,     2.21,2,    0.004,2,    0.003,2,   -999.0,9,  -999.00,9,   -999.0,9,   -999.0,9,   -999.0,9,  -999.00,9, -999.00,  -999.0, -999.00,  -999.0
    31DSCG96_2,  P15S,   125,  3,    308,   1227,2,19960222,0321,-26.0055,-169.9942, 5563,   -999,   4065.2,   1.2376,  34.7179,2,  34.7178,2,    201.3,2,  0.9188,    201.1,2,   113.84,2,    32.04,2,     0.00,2,     2.19,2, -999.000,9, -999.000,9,   -999.0,9,  -999.00,9,   -999.0,9,   -999.0,9,   -999.0,9,  -999.00,9, -999.00,  -999.0, -999.00,  -999.0
    31DSCG96_2,  P15S,   125,  3,    307,   1263,2,19960222,0321,-26.0055,-169.9942, 5563,   -999,   4314.4,   1.1329,  34.7146,2,  34.7137,2,    203.9,2,  0.7899,    204.3,2,   116.73,2,    32.10,2,     0.00,2,     2.20,2,    0.007,2,    0.003,2,   -999.0,9,  -999.00,9,   -999.0,9,   -999.0,9,   -999.0,9,  -999.00,9, -999.00,  -999.0, -999.00,  -999.0
    31DSCG96_2,  P15S,   125,  3,    306,   1262,2,19960222,0321,-26.0055,-169.9942, 5563,   -999,   4567.9,   1.0705,  34.7114,2,  34.7116,2,    205.4,2,  0.7010,    205.2,2,   119.04,2,    32.21,2,     0.00,2,     2.20,2, -999.000,9, -999.000,9,   -999.0,9,  -999.00,9,   -999.0,9,   -999.0,9,   -999.0,9,  -999.00,9, -999.00,  -999.0, -999.00,  -999.0
    31DSCG96_2,  P15S,   125,  3,    305,   1264,2,19960222,0321,-26.0055,-169.9942, 5563,   -999,   4816.2,   1.0407,  34.7093,2,  34.7094,2,    205.8,2,  0.6435,    206.4,2,   120.52,2,    32.25,2,     0.00,2,     2.21,2,    0.007,2,    0.004,2,   -999.0,9,  -999.00,9,   -999.0,9,   -999.0,9,   -999.0,9,  -999.00,9, -999.00,  -999.0, -999.00,  -999.0
    31DSCG96_2,  P15S,   125,  3,    304,   1003,2,19960222,0321,-26.0055,-169.9942, 5563,   -999,   5065.6,   1.0476,  34.7084,2,  34.7077,2,    206.3,2,  0.6206,    206.4,2,   121.28,2,    32.30,2,     0.00,2,     2.21,2, -999.000,9, -999.000,9,   -999.0,9,  -999.00,9,   -999.0,9,   -999.0,9,   -999.0,9,  -999.00,9, -999.00,  -999.0, -999.00,  -999.0
    31DSCG96_2,  P15S,   125,  3,    303,   1035,2,19960222,0321,-26.0055,-169.9942, 5563,   -999,   5309.8,   1.0695,  34.7081,2,  34.7093,2,    206.0,2,  0.6121,    206.4,2,   121.57,2,    32.35,2,     0.00,2,     2.22,2,    0.009,6,    0.004,6,   -999.0,9,  -999.00,9,   -999.0,9,   -999.0,9,   -999.0,9,  -999.00,9, -999.00,  -999.0, -999.00,  -999.0
    31DSCG96_2,  P15S,   125,  3,    302,   1030,2,19960222,0321,-26.0055,-169.9942, 5563,   -999,   5597.3,   1.1023,  34.7075,2,  34.7079,2,    206.9,2,  0.6078,    206.8,2,   121.73,2,    32.32,2,     0.00,2,     2.21,2, -999.000,9, -999.000,9,   -999.0,9,  -999.00,9,   -999.0,9,   -999.0,9,   -999.0,9,  -999.00,9, -999.00,  -999.0, -999.00,  -999.0
    31DSCG96_2,  P15S,   125,  3,    301,   1022,2,19960222,0321,-26.0055,-169.9942, 5563,   -999,   5689.5,   1.1140,  34.7076,2,  34.7077,2,    206.4,2,  0.6073,    206.9,6,   121.72,6,    32.26,6,     0.00,6,     2.22,6,    0.008,2,    0.004,2,   -999.0,9,  -999.00,9,   -999.0,9,   -999.0,9,   -999.0,9,  -999.00,9, -999.00,  -999.0, -999.00,  -999.0