BOTTLE,20220811CCHSIOAMB
EXPOCODE,SECT_ID,STNNBR,CASTNO,SAMPNO,BTLNBR,BTLNBR_FLAG_W,DATE,TIME,LATITUDE,LONGITUDE,DEPTH,CTDRAW,CTDPRS,CTDTMP,CTDSAL,CTDSAL_FLAG_W,SALNTY,SALNTY_FLAG_W,CTDOXY,CTDOXY_FLAG_W,THETA,OXYGEN,OXYGEN_FLAG_W,SILCAT,SILCAT_FLAG_W,NITRAT,NITRAT_FLAG_W,NITRIT,NITRIT_FLAG_W,PHSPHT,PHSPHT_FLAG_W,CFC-11,CFC-11_FLAG_W,CFC-12,CFC-12_FLAG_W,DELC14,DELC14_FLAG_W,DELC13,DELC13_FLAG_W,TCARBN,TCARBN_FLAG_W,PCO2,PCO2_FLAG_W,ALKALI,ALKALI_FLAG_W,PH,PH_FLAG_W,PCO2TMP,C14ERR,PH_TMP,C13ERR
,,,,,,,,,,,,DBAR,DBAR,ITS-90,PSS-78,,PSS-78,,UMOL/KG,,DEG C,UMOL/KG,,UMOL/KG,,UMOL/KG,,UMOL/KG,,UMOL/KG,,PMOL/KG,,PMOL/KG,,/MILLE,,/MILLE,,UMOL/KG,,UATM,,UMOL/KG,,,,DEG C,/MILLE,DEG C,/MILLE
    31DSCG96_1,  P15S,    45,  1,    140,   -999,2,19960122,0410,-60.4952,-169.9928, 3960,   -999,      0.0,-999.0000,-999.0000,9,  33.8819,4,   -999.0,9,-999.0000,   -999.0,9,  -999.00,9,  -999.00,9,  -999.00,9,  -999.00,9, -999.000,9, -999.000,9,   -999.0,9,  -999.00,9,   2180.7,2,   -999.0,9,   -999.0,9,  -999.00,9, -999.00,  -999.0, -999.00,  -999.0
    31DSCG96_1,  P15S,    45,  1,    124,    429,2,19960122,0410,-60.4952,-169.9928, 3960,   -999,      9.5,   3.2153,  33.8694,2,  33.8693,2,    325.2,2,  3.2147,    331.7,2,     0.86,2,    22.84,2,     0.21,2,     1.49,2,    5.824,2,    2.839,2,   -999.0,9,  -999.00,9,   -999.0,9,   -999.0,9,   -999.0,9,     7.78,2, -999.00,  -999.0, -999.00,  -999.0
    31DSCG96_1,  P15S,    45,  1,    123,    428,2,19960122,0410,-60.4952,-169.9928, 3960,   -999,     27.0,   3.2143,  33.8690,2,  33.8698,2,    332.6,2,  3.2127,    331.9,2,     0.86,2,    22.88,2,     0.21,2,     1.46,2,    5.839,6,    2.852,6,   -999.0,9,  -999.00,9,   -999.0,9,   -999.0,9,   -999.0,9,     7.78,2, -999.00,  -999.0, -999.00,  -999.0
    31DSCG96_1,  P15S,    45,  1,    122,    407,2,19960122,0410,-60.4952,-169.9928, 3960,   -999,     62.7,   3.1759,  33.8684,2,  33.8705,2,    331.5,2,  3.1721,    331.8,2,     0.90,2,    22.92,2,     0.21,2,     1.49,2,    5.853,2,    2.894,2,   -999.0,9,  -999.00,9,   -999.0,9,   -999.0,9,   -999.0,9,     7.79,2, -999.00,  -999.0, -999.00,  -999.0
    31DSCG96_1,  P15S,    45,  1,    121,    417,2,19960122,0410,-60.4952,-169.9928, 3960,   -999,    115.4,   1.7789,  33.9497,2,  33.9501,2,    325.1,2,  1.7732,    322.7,2,    15.19,2,    26.01,2,     0.29,2,     1.84,2,    5.866,2,    2.869,2,   -999.0,9,  -999.00,9,   -999.0,9,   -999.0,9,   -999.0,9,     7.72,2, -999.00,  -999.0, -999.00,  -999.0
    31DSCG96_1,  P15S,    45,  1,    120,    405,3,19960122,0410,-60.4952,-169.9928, 3960,   -999,    166.3,   1.6453,  33.9598,2,  33.9611,2,    325.8,2,  1.6371,   -999.0,9,    16.61,2,    26.75,2,     0.32,2,     1.88,2, -999.000,9, -999.000,9,   -999.0,9,  -999.00,9,   -999.0,9,   -999.0,9,   -999.0,9,  -999.00,9, -999.00,  -999.0, -999.00,  -999.0
    31DSCG96_1,  P15S,    45,  1,    119,    416,2,19960122,0410,-60.4952,-169.9928, 3960,   -999,    217.7,   1.5632,  33.9879,2,  33.9772,2,    311.8,2,  1.5526,    313.0,2,    19.69,2,    27.76,2,     0.19,2,     1.93,2,    5.528,2,    2.671,2,   -999.0,9,  -999.00,9,   -999.0,9,   -999.0,9,   -999.0,9,     7.70,2, -999.00,  -999.0, -999.00,  -999.0
    31DSCG96_1,  P15S,    45,  1,    118,    420,2,19960122,0410,-60.4952,-169.9928, 3960,   -999,    263.1,   2.6235,  34.1947,2,  34.1945,2,    267.5,2,  2.6081,    243.6,2,    34.66,2,    31.71,2,     0.00,2,     2.19,2,    3.069,2,    1.458,2,   -999.0,9,  -999.00,9,   -999.0,9,   -999.0,9,   -999.0,9,     7.62,2, -999.00,  -999.0, -999.00,  -999.0
    31DSCG96_1,  P15S,    45,  1,    117,    424,2,19960122,0410,-60.4952,-169.9928, 3960,   -999,    327.2,   2.5757,  34.2533,2,  34.2534,2,    227.2,2,  2.5565,    225.3,2,    41.45,2,    32.70,2,     0.00,2,     2.25,2,    2.445,2,    1.149,2,   -999.0,9,  -999.00,9,   -999.0,9,   -999.0,9,   -999.0,9,     7.61,2, -999.00,  -999.0, -999.00,  -999.0
    31DSCG96_1,  P15S,    45,  1,    116,    409,2,19960122,0410,-60.4952,-169.9928, 3960,   -999,    423.7,   2.5308,  34.3441,2,  34.3446,2,    202.1,2,  2.5057,    203.4,2,    52.00,2,    33.97,2,     0.00,2,     2.34,2,    1.587,2,    0.766,2,   -999.0,9,  -999.00,9,   -999.0,9,   -999.0,9,   -999.0,9,     7.58,2, -999.00,  -999.0, -999.00,  -999.0
    31DSCG96_1,  P15S,    45,  1,    115,    413,2,19960122,0410,-60.4952,-169.9928, 3960,   -999,    526.5,   2.5190,  34.4294,2,  34.4272,2,    187.0,2,  2.4873,    188.3,2,    60.32,2,    34.46,2,     0.00,2,     2.38,2,    1.017,6,    0.475,6,   -999.0,9,  -999.00,9,   -999.0,9,   -999.0,9,   -999.0,9,     7.57,2, -999.00,  -999.0, -999.00,  -999.0
    31DSCG96_1,  P15S,    45,  1,    114,    419,2,19960122,0410,-60.4952,-169.9928, 3960,   -999,    625.6,   2.4292,  34.4929,2,  34.4923,2,    178.8,2,  2.3914,    179.3,2,    66.90,2,    34.70,2,     0.00,2,     2.39,2,    0.704,2,    0.329,2,   -999.0,9,  -999.00,9,   -999.0,9,   -999.0,9,   -999.0,9,     7.56,2, -999.00,  -999.0, -999.00,  -999.0
    31DSCG96_1,  P15S,    45,  1,    113,    434,2,19960122,0410,-60.4952,-169.9928, 3960,   -999,    723.0,   2.3794,  34.5492,2,  34.5487,2,    174.7,2,  2.3354,    174.6,2,    71.58,2,    34.50,2,     0.00,2,     2.38,2,    0.479,2,    0.226,2,   -999.0,9,  -999.00,9,   -999.0,9,   -999.0,9,   -999.0,9,     7.56,2, -999.00,  -999.0, -999.00,  -999.0
    31DSCG96_1,  P15S,    45,  1,    112,    404,2,19960122,0410,-60.4952,-169.9928, 3960,   -999,    826.0,   2.3498,  34.5959,2,  34.5957,2,    174.2,2,  2.2989,    175.2,2,    74.68,2,    33.98,2,     0.00,2,     2.34,2,    0.326,2,    0.158,2,   -999.0,9,  -999.00,9,   -999.0,9,   -999.0,9,   -999.0,9,     7.56,2, -999.00,  -999.0, -999.00,  -999.0
    31DSCG96_1,  P15S,    45,  1,    111,    427,2,19960122,0410,-60.4952,-169.9928, 3960,   -999,    924.0,   2.3124,  34.6289,2,  34.6287,2,    173.9,2,  2.2551,    174.7,2,    76.73,2,    33.48,2,     0.00,2,     2.31,2,    0.248,2,    0.115,2,   -999.0,9,  -999.00,9,   -999.0,9,   -999.0,9,   -999.0,9,     7.57,2, -999.00,  -999.0, -999.00,  -999.0
    31DSCG96_1,  P15S,    45,  1,    110,    401,2,19960122,0410,-60.4952,-169.9928, 3960,   -999,   1053.4,   2.2482,  34.6656,2,  34.6649,2,    177.4,2,  2.1822,    177.6,2,    79.17,2,    32.89,2,     0.00,2,     2.26,2,    0.185,6,    0.088,6,   -999.0,9,  -999.00,9,   -999.0,9,   -999.0,9,   -999.0,9,     7.58,2, -999.00,  -999.0, -999.00,  -999.0
    31DSCG96_1,  P15S,    45,  1,    109,    435,2,19960122,0410,-60.4952,-169.9928, 3960,   -999,   1248.5,   2.1346,  34.7040,2,  34.7043,2,    182.4,2,  2.0554,    182.1,2,    82.38,2,    32.14,2,     0.00,2,     2.20,2,    0.132,2,    0.062,2,   -999.0,9,  -999.00,9,   -999.0,9,   -999.0,9,   -999.0,9,     7.59,2, -999.00,  -999.0, -999.00,  -999.0
    31DSCG96_1,  P15S,    45,  1,    108,    440,2,19960122,0410,-60.4952,-169.9928, 3960,   -999,   1502.3,   1.9898,  34.7290,2,  34.7301,2,    188.5,2,  1.8930,    188.2,2,    86.44,2,    31.32,2,     0.00,2,     2.16,2,    0.077,2,    0.038,2,   -999.0,9,  -999.00,9,   -999.0,9,   -999.0,9,   -999.0,9,     7.60,2, -999.00,  -999.0, -999.00,  -999.0
    31DSCG96_1,  P15S,    45,  1,    107,    436,2,19960122,0410,-60.4952,-169.9928, 3960,   -999,   1897.2,   1.7051,  34.7401,2,  34.7395,2,    194.1,2,  1.5811,    195.0,2,    94.56,2,    31.16,2,     0.00,2,     2.15,2,    0.059,2,    0.030,2,   -999.0,9,  -999.00,9,   -999.0,9,   -999.0,9,   -999.0,9,     7.61,2, -999.00,  -999.0, -999.00,  -999.0
    31DSCG96_1,  P15S,    45,  1,    106,    441,2,19960122,0410,-60.4952,-169.9928, 3960,   -999,   2297.6,   1.4063,  34.7339,2,  34.7337,2,    198.8,2,  1.2541,    198.7,2,   103.62,2,    31.43,2,     0.00,2,     2.16,2,    0.050,2,    0.021,2,   -999.0,9,  -999.00,9,   -999.0,9,   -999.0,9,   -999.0,9,     7.61,3, -999.00,  -999.0, -999.00,  -999.0
    31DSCG96_1,  P15S,    45,  1,    105,    423,2,19960122,0410,-60.4952,-169.9928, 3960,   -999,   2697.5,   1.1645,  34.7237,2,  34.7233,2,    202.0,2,  0.9823,    203.5,2,   111.21,6,    31.80,6,     0.00,6,     2.18,6,    0.038,2,    0.022,2,   -999.0,9,  -999.00,9,   -999.0,9,   -999.0,9,   -999.0,9,     7.61,3, -999.00,  -999.0, -999.00,  -999.0
    31DSCG96_1,  P15S,    45,  1,    104,    433,2,19960122,0410,-60.4952,-169.9928, 3960,   -999,   3095.4,   0.9904,  34.7158,2,  34.7158,2,    206.0,2,  0.7758,    205.8,2,   116.66,6,    32.02,6,     0.00,6,     2.20,6,    0.038,2,    0.025,2,   -999.0,9,  -999.00,9,   -999.0,9,   -999.0,9,   -999.0,9,     7.61,2, -999.00,  -999.0, -999.00,  -999.0
    31DSCG96_1,  P15S,    45,  1,    103,    439,2,19960122,0410,-60.4952,-169.9928, 3960,   -999,   3501.2,   0.8563,  34.7086,2,  34.7082,2,    206.8,2,  0.6061,    208.1,2,   123.68,6,    32.27,6,     0.00,6,     2.21,6,    0.060,2,    0.025,2,   -999.0,9,  -999.00,9,   -999.0,9,   -999.0,9,   -999.0,9,     7.61,2, -999.00,  -999.0, -999.00,  -999.0
    31DSCG96_1,  P15S,    45,  1,    102,    414,2,19960122,0410,-60.4952,-169.9928, 3960,   -999,   3900.2,   0.8493,  34.7065,2,  34.7060,2,    208.8,2,  0.5591,    209.0,2,   127.75,6,    32.38,6,     0.00,6,     2.22,6,    0.067,2,    0.036,2,   -999.0,9,  -999.00,9,   -999.0,9,   -999.0,9,   -999.0,9,     7.61,2, -999.00,  -999.0, -999.00,  -999.0
    31DSCG96_1,  P15S,    45,  1,    101,    406,2,19960122,0410,-60.4952,-169.9928, 3960,   -999,   4008.6,   0.8495,  34.7067,2,  34.7065,2,    209.0,2,  0.5479,    208.7,2,   128.55,6,    32.41,6,     0.00,6,     2.23,6,    0.066,2,    0.034,6,   -999.0,9,  -999.00,9,   -999.0,9,   -999.0,9,   -999.0,9,     7.61,2, -999.00,  -999.0, -999.00,  -999.0