BOTTLE,20220811CCHSIOAMB
EXPOCODE,SECT_ID,STNNBR,CASTNO,SAMPNO,BTLNBR,BTLNBR_FLAG_W,DATE,TIME,LATITUDE,LONGITUDE,DEPTH,CTDRAW,CTDPRS,CTDTMP,CTDSAL,CTDSAL_FLAG_W,SALNTY,SALNTY_FLAG_W,CTDOXY,CTDOXY_FLAG_W,THETA,OXYGEN,OXYGEN_FLAG_W,SILCAT,SILCAT_FLAG_W,NITRAT,NITRAT_FLAG_W,NITRIT,NITRIT_FLAG_W,PHSPHT,PHSPHT_FLAG_W,CFC-11,CFC-11_FLAG_W,CFC-12,CFC-12_FLAG_W,DELC14,DELC14_FLAG_W,DELC13,DELC13_FLAG_W,TCARBN,TCARBN_FLAG_W,PCO2,PCO2_FLAG_W,ALKALI,ALKALI_FLAG_W,PH,PH_FLAG_W,PCO2TMP,C14ERR,PH_TMP,C13ERR
,,,,,,,,,,,,DBAR,DBAR,ITS-90,PSS-78,,PSS-78,,UMOL/KG,,DEG C,UMOL/KG,,UMOL/KG,,UMOL/KG,,UMOL/KG,,UMOL/KG,,PMOL/KG,,PMOL/KG,,/MILLE,,/MILLE,,UMOL/KG,,UATM,,UMOL/KG,,,,DEG C,/MILLE,DEG C,/MILLE
    31DSCG96_1,  P15S,    60,  1,    134,   1119,2,19960126,0320,-53.3315,-169.9927, 5276,   -999,      8.4,   9.8971,  34.4016,2,  34.4014,2,    286.3,2,  9.8962,    286.4,2,     1.02,2,    11.31,2,     0.15,2,     0.84,2,    3.889,2,    2.082,2,   -999.0,9,  -999.00,9,   2074.5,2,    508.9,2,   2289.9,2,     7.88,2, -999.00,  -999.0, -999.00,  -999.0
    31DSCG96_1,  P15S,    60,  1,    133,   1221,4,19960126,0320,-53.3315,-169.9927, 5276,   -999,     19.1,   9.8992,  34.4019,2,-999.0000,9,    285.4,2,  9.8970,   -999.0,9,  -999.00,9,  -999.00,9,  -999.00,9,  -999.00,9, -999.000,9, -999.000,9,   -999.0,9,  -999.00,9,   -999.0,9,   -999.0,9,   -999.0,9,  -999.00,9, -999.00,  -999.0, -999.00,  -999.0
    31DSCG96_1,  P15S,    60,  1,    132,   1039,2,19960126,0320,-53.3315,-169.9927, 5276,   -999,     45.2,   9.8889,  34.4324,2,  34.4325,2,    283.9,2,  9.8838,    286.5,2,     1.01,2,    10.60,2,     0.15,2,     0.82,2,   -0.016,4,    2.030,2,   -999.0,9,  -999.00,9,   2075.9,2,    503.2,2,   2290.6,2,     7.88,2, -999.00,  -999.0, -999.00,  -999.0
    31DSCG96_1,  P15S,    60,  1,    131,   1014,2,19960126,0320,-53.3315,-169.9927, 5276,   -999,     67.0,   9.4788,  34.3921,2,  34.3922,2,    283.6,2,  9.4714,    283.1,2,     1.04,2,    11.48,2,     0.17,2,     0.88,2,    3.917,2,    2.077,2,   -999.0,9,  -999.00,9,   2080.0,2,    523.1,2,   2289.9,2,     7.87,2, -999.00,  -999.0, -999.00,  -999.0
    31DSCG96_1,  P15S,    60,  1,    130,   1257,2,19960126,0320,-53.3315,-169.9927, 5276,   -999,     95.6,   8.5079,  34.4800,2,  34.4732,2,    272.6,2,  8.4980,    271.1,2,     2.90,2,    13.87,2,     0.46,2,     1.10,2,    3.941,2,    2.034,2,   -999.0,9,  -999.00,9,   2104.7,2,    598.0,2,   2291.3,2,     7.82,2, -999.00,  -999.0, -999.00,  -999.0
    31DSCG96_1,  P15S,    60,  1,    129,   1256,2,19960126,0320,-53.3315,-169.9927, 5276,   -999,    142.1,   8.1274,  34.4995,2,  34.4956,2,    264.7,2,  8.1130,    268.5,2,     4.44,2,    16.12,2,     0.02,2,     1.16,2,    3.859,2,    1.997,2,   -999.0,9,  -999.00,9,   2110.4,2,    632.6,6,   2289.9,2,     7.80,2, -999.00,  -999.0, -999.00,  -999.0
    31DSCG96_1,  P15S,    60,  1,    128,   1007,3,19960126,0320,-53.3315,-169.9927, 5276,   -999,    189.2,   7.6647,  34.4447,2,  34.4444,2,    265.7,2,  7.6462,   -999.0,9,     5.23,2,    17.36,2,     0.04,2,     1.24,2, -999.000,9, -999.000,9,   -999.0,9,  -999.00,9,   -999.0,9,   -999.0,9,   -999.0,9,  -999.00,9, -999.00,  -999.0, -999.00,  -999.0
    31DSCG96_1,  P15S,    60,  1,    127,   1234,2,19960126,0320,-53.3315,-169.9927, 5276,   -999,    239.1,   7.3418,  34.4082,2,  34.4083,2,    262.9,2,  7.3189,    268.8,2,     5.98,2,    18.59,2,     0.00,2,     1.32,2,    3.863,2,    1.969,2,   -999.0,9,  -999.00,9,   2117.1,2,    660.6,2,   2287.1,2,     7.78,2, -999.00,  -999.0, -999.00,  -999.0
    31DSCG96_1,  P15S,    60,  1,    126,   1025,2,19960126,0320,-53.3315,-169.9927, 5276,   -999,    294.4,   7.1476,  34.3957,2,  34.3942,2,    263.8,2,  7.1198,    266.3,2,     6.68,2,    19.47,2,     0.01,2,     1.37,2,    3.761,2,    1.909,2,   -999.0,9,  -999.00,9,   2121.3,2,    676.2,2,   2288.2,2,     7.78,2, -999.00,  -999.0, -999.00,  -999.0
    31DSCG96_1,  P15S,    60,  1,    125,   1233,2,19960126,0320,-53.3315,-169.9927, 5276,   -999,    373.7,   6.8157,  34.3603,2,  34.3601,2,    280.7,2,  6.7812,    271.2,2,     7.03,2,    20.01,2,     0.01,2,     1.41,2,    3.858,2,    1.954,2,   -999.0,9,  -999.00,9,   2120.6,2,    683.8,2,   2288.3,2,     7.77,2, -999.00,  -999.0, -999.00,  -999.0
    31DSCG96_1,  P15S,    60,  1,    124,   1218,2,19960126,0320,-53.3315,-169.9927, 5276,   -999,    475.4,   6.6096,  34.3532,2,  34.3531,2,    276.4,2,  6.5660,    270.8,2,     7.79,2,    20.53,2,     0.00,2,     1.45,2, -999.000,9, -999.000,9,   -999.0,9,  -999.00,9,   -999.0,9,   -999.0,9,   -999.0,9,  -999.00,9, -999.00,  -999.0, -999.00,  -999.0
    31DSCG96_1,  P15S,    60,  1,    123,   1250,2,19960126,0320,-53.3315,-169.9927, 5276,   -999,    574.1,   5.9442,  34.2848,2,  34.2872,2,    268.6,2,  5.8942,    261.8,2,    10.37,2,    22.88,2,     0.00,2,     1.59,2,    3.492,2,    1.749,2,   -999.0,9,  -999.00,9,   2133.7,2,    742.2,2,   2287.9,2,     7.74,2, -999.00,  -999.0, -999.00,  -999.0
    31DSCG96_1,  P15S,    60,  1,    122,   1109,2,19960126,0320,-53.3315,-169.9927, 5276,   -999,    674.0,   5.5260,  34.2816,2,  34.2811,2,    252.1,2,  5.4689,    245.7,2,    14.96,2,    25.25,2,     0.00,2,     1.75,2, -999.000,9, -999.000,9,   -999.0,9,  -999.00,9,   -999.0,9,   -999.0,9,   -999.0,9,  -999.00,9, -999.00,  -999.0, -999.00,  -999.0
    31DSCG96_1,  P15S,    60,  1,    121,   1246,2,19960126,0320,-53.3315,-169.9927, 5276,   -999,    779.9,   5.1589,  34.3059,2,  34.3059,2,    234.5,2,  5.0945,    225.5,2,    21.37,2,    27.62,2,     0.00,2,     1.90,2,    2.206,2,    1.063,2,   -999.0,9,  -999.00,9,   2164.6,2,    885.6,2,   2296.4,2,  -999.00,9, -999.00,  -999.0, -999.00,  -999.0
    31DSCG96_1,  P15S,    60,  1,    120,   1015,2,19960126,0320,-53.3315,-169.9927, 5276,   -999,    882.3,   4.5789,  34.3045,2,  34.3048,2,    216.9,2,  4.5093,    220.9,2,    26.92,2,    29.26,2,     0.00,2,     2.02,2, -999.000,9, -999.000,9,   -999.0,9,  -999.00,9,   -999.0,9,   -999.0,9,   -999.0,9,  -999.00,9, -999.00,  -999.0, -999.00,  -999.0
    31DSCG96_1,  P15S,    60,  1,    119,   1247,2,19960126,0320,-53.3315,-169.9927, 5276,   -999,    975.4,   4.0331,  34.3143,2,  34.3148,2,    210.9,2,  3.9596,    213.0,2,    33.96,2,    30.89,2,     0.00,2,     2.12,2,    1.654,2,    0.792,2,   -999.0,9,  -999.00,9,   2191.8,2,   1007.5,2,   2304.9,2,     7.63,2, -999.00,  -999.0, -999.00,  -999.0
    31DSCG96_1,  P15S,    60,  1,    118,   1222,2,19960126,0320,-53.3315,-169.9927, 5276,   -999,   1074.3,   3.6391,  34.3420,2,  34.3463,3,    203.9,2,  3.5605,    205.1,2,    41.34,2,    32.00,2,     0.00,2,     2.21,2, -999.000,9, -999.000,9,   -999.0,9,  -999.00,9,   -999.0,9,   -999.0,9,   -999.0,9,  -999.00,9, -999.00,  -999.0, -999.00,  -999.0
    31DSCG96_1,  P15S,    60,  1,    117,   1267,2,19960126,0320,-53.3315,-169.9927, 5276,   -999,   1220.3,   3.1418,  34.3985,2,  34.3994,2,    193.7,2,  3.0557,    192.6,2,    53.00,6,    33.39,6,     0.00,6,     2.33,6, -999.000,9, -999.000,9,   -999.0,9,  -999.00,9,   -999.0,9,   -999.0,9,   -999.0,9,  -999.00,9, -999.00,  -999.0, -999.00,  -999.0
    31DSCG96_1,  P15S,    60,  1,    116,   1211,2,19960126,0320,-53.3315,-169.9927, 5276,   -999,   1437.0,   2.7305,  34.4973,2,  34.4975,2,    179.3,2,  2.6311,    178.8,2,    66.77,2,    34.12,2,     0.00,2,     2.36,2, -999.000,9, -999.000,9,   -999.0,9,  -999.00,9,   -999.0,9,   -999.0,9,   -999.0,9,     7.57,2, -999.00,  -999.0, -999.00,  -999.0
    31DSCG96_1,  P15S,    60,  1,    115,   1041,2,19960126,0320,-53.3315,-169.9927, 5276,   -999,   1688.1,   2.4895,  34.5842,2,  34.5835,2,    174.1,2,  2.3723,    173.9,2,    73.75,2,    33.85,2,     0.00,2,     2.33,2, -999.000,9, -999.000,9,   -999.0,9,  -999.00,9,   -999.0,9,   -999.0,9,   -999.0,9,  -999.00,9, -999.00,  -999.0, -999.00,  -999.0
    31DSCG96_1,  P15S,    60,  1,    114,   1017,2,19960126,0320,-53.3315,-169.9927, 5276,   -999,   1940.4,   2.3631,  34.6518,2,  34.6521,2,    175.3,2,  2.2261,    176.1,2,    79.65,2,    32.98,2,     0.00,2,     2.27,2, -999.000,9, -999.000,9,   -999.0,9,  -999.00,9,   -999.0,9,   -999.0,9,   -999.0,9,  -999.00,9, -999.00,  -999.0, -999.00,  -999.0
    31DSCG96_1,  P15S,    60,  1,    113,   1302,2,19960126,0320,-53.3315,-169.9927, 5276,   -999,   2187.8,   2.2260,  34.6991,2,  34.6992,2,    181.3,2,  2.0696,    182.2,2,    82.59,2,    32.01,2,     0.00,2,     2.20,2, -999.000,9, -999.000,9,   -999.0,9,  -999.00,9,   -999.0,9,   -999.0,9,   -999.0,9,     7.59,2, -999.00,  -999.0, -999.00,  -999.0
    31DSCG96_1,  P15S,    60,  1,    112,   1217,2,19960126,0320,-53.3315,-169.9927, 5276,   -999,   2442.7,   2.0469,  34.7271,2,  34.7265,2,    187.5,2,  1.8706,    188.5,2,    87.15,2,    31.39,2,     0.00,2,     2.15,2, -999.000,9, -999.000,9,   -999.0,9,  -999.00,9,   -999.0,9,   -999.0,9,   -999.0,9,  -999.00,9, -999.00,  -999.0, -999.00,  -999.0
    31DSCG96_1,  P15S,    60,  1,    111,   1114,2,19960126,0320,-53.3315,-169.9927, 5276,   -999,   2692.1,   1.8716,  34.7369,2,  34.7361,2,    191.9,2,  1.6756,    192.6,2,    92.00,2,    31.20,2,     0.00,2,     2.13,2, -999.000,9, -999.000,9,   -999.0,9,  -999.00,9,   -999.0,9,   -999.0,9,   -999.0,9,  -999.00,9, -999.00,  -999.0, -999.00,  -999.0
    31DSCG96_1,  P15S,    60,  1,    110,   1301,2,19960126,0320,-53.3315,-169.9927, 5276,   -999,   2938.1,   1.6902,  34.7371,2,  34.7369,2,    194.9,2,  1.4748,    195.9,2,    97.39,2,    31.23,2,     0.00,2,     2.14,2, -999.000,9, -999.000,9,   -999.0,9,  -999.00,9,   -999.0,9,   -999.0,9,   -999.0,9,     7.61,2, -999.00,  -999.0, -999.00,  -999.0
    31DSCG96_1,  P15S,    60,  1,    109,   1242,2,19960126,0320,-53.3315,-169.9927, 5276,   -999,   3186.6,   1.5242,  34.7338,2,  34.7336,2,    197.5,2,  1.2885,    198.7,6,   102.59,2,    31.47,2,     0.00,2,     2.15,2, -999.000,9, -999.000,9,   -999.0,9,  -999.00,9,   -999.0,9,   -999.0,9,   -999.0,9,  -999.00,9, -999.00,  -999.0, -999.00,  -999.0
    31DSCG96_1,  P15S,    60,  1,    108,   1263,2,19960126,0320,-53.3315,-169.9927, 5276,   -999,   3439.8,   1.3642,  34.7280,2,  34.7278,2,    200.4,2,  1.1072,    201.0,2,   107.42,2,    31.62,2,     0.00,2,     2.16,2, -999.000,9, -999.000,9,   -999.0,9,  -999.00,9,   -999.0,9,   -999.0,9,   -999.0,9,  -999.00,9, -999.00,  -999.0, -999.00,  -999.0
    31DSCG96_1,  P15S,    60,  1,    107,   1245,2,19960126,0320,-53.3315,-169.9927, 5276,   -999,   3687.9,   1.2203,  34.7220,2,  34.7216,2,    202.7,2,  0.9418,    202.9,2,   111.75,2,    31.83,2,     0.00,2,     2.18,2, -999.000,9, -999.000,9,   -999.0,9,  -999.00,9,   -999.0,9,   -999.0,9,   -999.0,9,     7.61,2, -999.00,  -999.0, -999.00,  -999.0
    31DSCG96_1,  P15S,    60,  1,    106,   1262,2,19960126,0320,-53.3315,-169.9927, 5276,   -999,   3942.2,   1.0862,  34.7157,2,  34.7149,2,    204.9,2,  0.7848,    206.4,6,   115.82,2,    32.00,2,     0.00,2,     2.20,2, -999.000,9, -999.000,9,   -999.0,9,  -999.00,9,   -999.0,9,   -999.0,9,   -999.0,9,  -999.00,9, -999.00,  -999.0, -999.00,  -999.0
    31DSCG96_1,  P15S,    60,  1,    105,   1113,2,19960126,0320,-53.3315,-169.9927, 5276,   -999,   4187.3,   0.9966,  34.7112,2,  34.7108,2,    206.8,2,  0.6717,    207.8,2,   118.82,2,    32.15,2,     0.00,2,     2.20,2, -999.000,9, -999.000,9,   -999.0,9,  -999.00,9,   -999.0,9,   -999.0,9,   -999.0,9,  -999.00,9, -999.00,  -999.0, -999.00,  -999.0
    31DSCG96_1,  P15S,    60,  1,    104,   1003,2,19960126,0320,-53.3315,-169.9927, 5276,   -999,   4438.0,   0.9480,  34.7081,2,  34.7084,2,    208.0,2,  0.5969,    208.7,6,   120.91,2,    32.24,2,     0.00,2,     2.20,2, -999.000,9, -999.000,9,   -999.0,9,  -999.00,9,   -999.0,9,   -999.0,9,   -999.0,9,     7.61,2, -999.00,  -999.0, -999.00,  -999.0
    31DSCG96_1,  P15S,    60,  1,    103,   9999,2,19960126,0320,-53.3315,-169.9927, 5276,   -999,   4692.3,   0.9317,  34.7060,2,  34.7066,2,    208.8,2,  0.5524,    208.6,2,   122.22,2,    32.29,2,     0.00,2,     2.21,2, -999.000,9, -999.000,9,   -999.0,9,  -999.00,9,   -999.0,9,   -999.0,9,   -999.0,9,  -999.00,9, -999.00,  -999.0, -999.00,  -999.0
    31DSCG96_1,  P15S,    60,  1,    102,   1030,2,19960126,0320,-53.3315,-169.9927, 5276,   -999,   4939.5,   0.9418,  34.7052,2,  34.7061,2,    209.0,2,  0.5335,    209.5,2,   122.83,2,    32.30,2,     0.00,2,     2.21,2, -999.000,9, -999.000,9,   -999.0,9,  -999.00,9,   -999.0,9,   -999.0,9,   -999.0,9,  -999.00,9, -999.00,  -999.0, -999.00,  -999.0
    31DSCG96_1,  P15S,    60,  1,    101,   1022,2,19960126,0320,-53.3315,-169.9927, 5276,   -999,   5456.0,   0.9717,  34.7039,2,  34.7037,2,    209.9,2,  0.4997,    210.1,2,   123.94,6,    32.36,6,     0.00,6,     2.22,6, -999.000,9, -999.000,9,   -999.0,9,  -999.00,9,   -999.0,9,   -999.0,9,   -999.0,9,     7.61,2, -999.00,  -999.0, -999.00,  -999.0