BOTTLE,20220811CCHSIOAMB
EXPOCODE,SECT_ID,STNNBR,CASTNO,SAMPNO,BTLNBR,BTLNBR_FLAG_W,DATE,TIME,LATITUDE,LONGITUDE,DEPTH,CTDRAW,CTDPRS,CTDTMP,CTDSAL,CTDSAL_FLAG_W,SALNTY,SALNTY_FLAG_W,CTDOXY,CTDOXY_FLAG_W,THETA,OXYGEN,OXYGEN_FLAG_W,SILCAT,SILCAT_FLAG_W,NITRAT,NITRAT_FLAG_W,NITRIT,NITRIT_FLAG_W,PHSPHT,PHSPHT_FLAG_W,CFC-11,CFC-11_FLAG_W,CFC-12,CFC-12_FLAG_W,DELC14,DELC14_FLAG_W,DELC13,DELC13_FLAG_W,TCARBN,TCARBN_FLAG_W,PCO2,PCO2_FLAG_W,ALKALI,ALKALI_FLAG_W,PH,PH_FLAG_W,PCO2TMP,C14ERR,PH_TMP,C13ERR
,,,,,,,,,,,,DBAR,DBAR,ITS-90,PSS-78,,PSS-78,,UMOL/KG,,DEG C,UMOL/KG,,UMOL/KG,,UMOL/KG,,UMOL/KG,,UMOL/KG,,PMOL/KG,,PMOL/KG,,/MILLE,,/MILLE,,UMOL/KG,,UATM,,UMOL/KG,,,,DEG C,/MILLE,DEG C,/MILLE
    31DSCG96_2,  P15S,   156,  1,    136,   1245,2,19960301,0217,-11.5002,-169.9992, 5035,   -999,      5.0,  29.1933,  34.2200,2,  34.2256,2,    198.2,2, 29.1921,    194.4,2,     1.49,2,     0.01,2,     0.00,2,     0.14,2, -999.000,9, -999.000,9,   -999.0,9,  -999.00,9,   1889.8,2,    225.4,2,   2251.0,2,     8.15,2, -999.00,  -999.0, -999.00,  -999.0
    31DSCG96_2,  P15S,   156,  1,    135,   1113,2,19960301,0217,-11.5002,-169.9992, 5035,   -999,     19.4,  29.3775,  34.4828,2,  34.4248,3,    194.6,2, 29.3728,    194.2,2,     1.54,2,     0.00,2,     0.00,2,     0.15,2, -999.000,9, -999.000,9,   -999.0,9,  -999.00,9,   1901.4,2,    226.8,2,   2265.1,2,     8.15,2, -999.00,  -999.0, -999.00,  -999.0
    31DSCG96_2,  P15S,   156,  1,    134,   1267,2,19960301,0217,-11.5002,-169.9992, 5035,   -999,     44.7,  29.3807,  34.5098,2,  34.5107,2,    194.4,2, 29.3698,    194.1,2,     1.52,2,     0.01,2,     0.00,2,     0.15,2, -999.000,9, -999.000,9,   -999.0,9,  -999.00,9,   1905.9,2,    231.1,2,   2269.7,2,     8.15,2, -999.00,  -999.0, -999.00,  -999.0
    31DSCG96_2,  P15S,   156,  1,    133,   1021,2,19960301,0217,-11.5002,-169.9992, 5035,   -999,     68.6,  29.5540,  34.8165,2,  34.8245,2,    195.1,2, 29.5372,    195.8,2,     1.57,2,     0.00,2,     0.01,2,     0.17,2, -999.000,9, -999.000,9,   -999.0,9,  -999.00,9,   1923.6,2,    234.2,2,   2291.2,2,     8.15,2, -999.00,  -999.0, -999.00,  -999.0
    31DSCG96_2,  P15S,   156,  1,    132,   1039,2,19960301,0217,-11.5002,-169.9992, 5035,   -999,     94.7,  28.9960,  35.5786,2,  35.5827,2,    197.2,2, 28.9730,    197.8,2,     1.61,2,     0.00,2,     0.00,2,     0.19,2, -999.000,9, -999.000,9,   -999.0,9,  -999.00,9,   1967.9,2,    241.3,2,   2340.1,2,     8.14,2, -999.00,  -999.0, -999.00,  -999.0
    31DSCG96_2,  P15S,   156,  1,    131,   1014,2,19960301,0217,-11.5002,-169.9992, 5035,   -999,    121.7,  26.8913,  35.9198,2,  35.9182,2,    145.2,2, 26.8633,    147.4,2,     2.31,2,     4.13,2,     0.99,2,     0.58,2, -999.000,9, -999.000,9,   -999.0,9,  -999.00,9,   2056.2,3,    340.5,2,   2361.6,2,     8.02,2, -999.00,  -999.0, -999.00,  -999.0
    31DSCG96_2,  P15S,   156,  1,    130,   1257,2,19960301,0217,-11.5002,-169.9992, 5035,   -999,    145.5,  25.3988,  36.2033,2,  36.2108,2,    141.3,2, 25.3667,    147.4,2,     1.95,2,     4.67,2,     0.50,2,     0.58,2, -999.000,9, -999.000,9,   -999.0,9,  -999.00,9,   2078.4,2,    356.2,2,   2380.4,2,     8.01,2, -999.00,  -999.0, -999.00,  -999.0
    31DSCG96_2,  P15S,   156,  1,    129,   1256,2,19960301,0217,-11.5002,-169.9992, 5035,   -999,    191.5,  22.1885,  36.1017,2,  36.0989,2,    156.5,2, 22.1501,    158.4,6,     1.77,2,     5.00,2,     0.02,2,     0.58,2, -999.000,9, -999.000,9,   -999.0,9,  -999.00,9,   2097.7,2,    399.4,2,   2377.5,2,     7.98,2, -999.00,  -999.0, -999.00,  -999.0
    31DSCG96_2,  P15S,   156,  1,    128,   1007,2,19960301,0217,-11.5002,-169.9992, 5035,   -999,    242.5,  19.2064,  35.6888,2,  35.7030,2,    147.4,2, 19.1626,    151.8,2,     2.89,2,     7.62,2,     0.01,2,     0.75,2, -999.000,9, -999.000,9,   -999.0,9,  -999.00,9,   2111.0,2,    477.9,2,   2351.3,2,     7.92,2, -999.00,  -999.0, -999.00,  -999.0
    31DSCG96_2,  P15S,   156,  1,    127,   1232,2,19960301,0217,-11.5002,-169.9992, 5035,   -999,    291.8,  15.7033,  35.2333,2,  35.2374,2,    137.4,2, 15.6575,    123.4,2,     7.23,2,    14.06,2,     0.00,2,     1.21,2, -999.000,9, -999.000,9,   -999.0,9,  -999.00,9,   2142.0,2,    628.9,2,   2323.8,2,     7.80,2, -999.00,  -999.0, -999.00,  -999.0
    31DSCG96_2,  P15S,   156,  1,    126,   1025,2,19960301,0217,-11.5002,-169.9992, 5035,   -999,    374.7,  11.1917,  34.7832,2,  34.7834,2,     96.4,2, 11.1448,     94.4,2,    17.29,2,    24.68,2,     0.00,2,     1.89,2, -999.000,9, -999.000,9,   -999.0,9,  -999.00,9,   2189.9,2,    964.4,2,   2303.8,2,     7.64,2, -999.00,  -999.0, -999.00,  -999.0
    31DSCG96_2,  P15S,   156,  1,    125,   1119,2,19960301,0217,-11.5002,-169.9992, 5035,   -999,    476.4,   8.3568,  34.6055,2,  34.6044,2,    103.8,2,  8.3067,    100.7,2,    27.79,2,    31.16,2,     0.00,2,     2.28,2, -999.000,9, -999.000,9,   -999.0,9,  -999.00,9,   2214.2,2,   1157.5,2,   2305.7,2,     7.57,2, -999.00,  -999.0, -999.00,  -999.0
    31DSCG96_2,  P15S,   156,  1,    124,   1244,2,19960301,0217,-11.5002,-169.9992, 5035,   -999,    578.5,   7.0826,  34.5572,2,  34.5556,2,    107.1,2,  7.0269,    102.5,2,    36.48,2,    34.04,2,     0.00,2,     2.37,2, -999.000,9, -999.000,9,   -999.0,9,  -999.00,9,   2227.8,2,   1238.0,2,   2309.0,2,     7.55,2, -999.00,  -999.0, -999.00,  -999.0
    31DSCG96_2,  P15S,   156,  1,    123,   1250,2,19960301,0217,-11.5002,-169.9992, 5035,   -999,    677.4,   6.3661,  34.5333,2,  34.5319,2,    107.0,2,  6.3042,    103.4,6,    43.22,2,    35.55,2,     0.00,2,     2.47,2, -999.000,9, -999.000,9,   -999.0,9,  -999.00,9,   2238.3,2,   1302.9,2,   2316.7,2,     7.53,2, -999.00,  -999.0, -999.00,  -999.0
    31DSCG96_2,  P15S,   156,  1,    122,   1265,2,19960301,0217,-11.5002,-169.9992, 5035,   -999,    776.0,   5.7653,  34.5217,2,  34.5198,2,    107.1,2,  5.6974,    103.0,2,    50.51,2,    36.74,2,     0.00,2,     2.56,2, -999.000,9, -999.000,9,   -999.0,9,  -999.00,9,   2249.2,2,   1323.6,2,   2322.2,2,     7.52,2, -999.00,  -999.0, -999.00,  -999.0
    31DSCG96_2,  P15S,   156,  1,    121,   1246,2,19960301,0217,-11.5002,-169.9992, 5035,   -999,    874.9,   5.1685,  34.5157,2,  34.5147,2,    110.4,2,  5.0953,    108.0,2,    58.68,2,    37.23,2,     0.00,2,     2.60,2, -999.000,9, -999.000,9,   -999.0,9,  -999.00,9,   2256.8,2,   1325.8,2,   2332.0,2,     7.52,2, -999.00,  -999.0, -999.00,  -999.0
    31DSCG96_2,  P15S,   156,  1,    120,   1015,2,19960301,0217,-11.5002,-169.9992, 5035,   -999,    974.5,   4.7707,  34.5199,2,  34.5196,2,    113.0,2,  4.6914,    111.1,2,    65.45,2,    37.44,2,     0.00,2,     2.62,2, -999.000,9, -999.000,9,   -999.0,9,  -999.00,9,   2264.3,2,   1337.8,2,   2337.9,2,     7.52,2, -999.00,  -999.0, -999.00,  -999.0
    31DSCG96_2,  P15S,   156,  1,    119,   1247,2,19960301,0217,-11.5002,-169.9992, 5035,   -999,   1074.7,   4.3823,  34.5292,2,  34.5306,2,    116.3,2,  4.2972,    114.3,2,    72.99,2,    37.45,2,     0.00,2,     2.63,2, -999.000,9, -999.000,9,   -999.0,9,  -999.00,9,   2271.2,2,   1355.3,2,   2347.0,2,     7.53,2, -999.00,  -999.0, -999.00,  -999.0
    31DSCG96_2,  P15S,   156,  1,    118,   1299,2,19960301,0217,-11.5002,-169.9992, 5035,   -999,   1175.8,   3.9940,  34.5396,2,  34.5409,2,    120.0,2,  3.9035,    118.3,2,    80.48,2,    37.30,2,     0.00,2,     2.62,2, -999.000,9, -999.000,9,   -999.0,9,  -999.00,9,   2276.3,2,   1308.8,2,   2353.6,2,     7.53,2, -999.00,  -999.0, -999.00,  -999.0
    31DSCG96_2,  P15S,   156,  1,    117,   1242,2,19960301,0217,-11.5002,-169.9992, 5035,   -999,   1275.2,   3.6697,  34.5509,2,  34.5511,2,    124.6,2,  3.5737,    122.3,2,    86.81,2,    37.18,2,     0.00,2,     2.62,2, -999.000,9, -999.000,9,   -999.0,9,  -999.00,9,   2281.0,2,   1295.6,2,   2359.7,2,     7.54,2, -999.00,  -999.0, -999.00,  -999.0
    31DSCG96_2,  P15S,   156,  1,    116,   1259,2,19960301,0217,-11.5002,-169.9992, 5035,   -999,   1450.2,   3.0167,  34.5793,2,  34.5792,2,    130.6,2,  2.9128,    131.4,2,    99.28,2,    36.95,2,     0.00,2,     2.58,2, -999.000,9, -999.000,9,   -999.0,9,  -999.00,9,   2290.3,2,   1271.5,2,   2370.6,2,     7.55,2, -999.00,  -999.0, -999.00,  -999.0
    31DSCG96_2,  P15S,   156,  1,    115,   1041,2,19960301,0217,-11.5002,-169.9992, 5035,   -999,   1689.8,   2.5464,  34.6074,2,  34.6082,2,    137.3,2,  2.4282,    138.6,2,   109.32,2,    36.57,2,     0.00,2,     2.56,2, -999.000,9, -999.000,9,   -999.0,9,  -999.00,9,   2297.5,2,   1251.7,2,   2385.8,2,     7.56,2, -999.00,  -999.0, -999.00,  -999.0
    31DSCG96_2,  P15S,   156,  1,    114,   1017,2,19960301,0217,-11.5002,-169.9992, 5035,   -999,   1942.4,   2.2179,  34.6325,2,  34.6334,2,    140.6,2,  2.0831,    141.3,2,   118.70,2,    36.47,2,     0.00,2,     2.54,2, -999.000,9, -999.000,9,   -999.0,9,  -999.00,9,   2309.4,3,    969.8,3,   2394.7,2,     7.56,2, -999.00,  -999.0, -999.00,  -999.0
    31DSCG96_2,  P15S,   156,  1,    113,   1302,2,19960301,0217,-11.5002,-169.9992, 5035,   -999,   2188.3,   2.0039,  34.6499,2,  34.6509,2,    142.9,2,  1.8513,    143.6,2,   125.18,2,    36.45,2,     0.00,2,     2.53,2, -999.000,9, -999.000,9,   -999.0,9,  -999.00,9,   2313.6,3,   1217.5,2,   2404.3,2,     7.57,2, -999.00,  -999.0, -999.00,  -999.0
    31DSCG96_2,  P15S,   156,  1,    112,   1217,2,19960301,0217,-11.5002,-169.9992, 5035,   -999,   2438.8,   1.8776,  34.6611,2,  34.6630,2,    144.1,2,  1.7050,    145.0,2,   129.81,2,    36.40,2,     0.00,2,     2.52,2, -999.000,9, -999.000,9,   -999.0,9,  -999.00,9,   2315.9,3,   1217.0,2,   2409.4,2,     7.57,2, -999.00,  -999.0, -999.00,  -999.0
    31DSCG96_2,  P15S,   156,  1,    111,   1226,2,19960301,0217,-11.5002,-169.9992, 5035,   -999,   2690.8,   1.7702,  34.6694,2,  34.6692,2,    146.8,2,  1.5768,    147.2,2,   133.42,2,    36.40,2,     0.00,2,     2.52,2, -999.000,9, -999.000,9,   -999.0,9,  -999.00,9,   2317.0,3,   1211.4,2,   2414.7,2,     7.57,2, -999.00,  -999.0, -999.00,  -999.0
    31DSCG96_2,  P15S,   156,  1,    110,   1301,2,19960301,0217,-11.5002,-169.9992, 5035,   -999,   2941.3,   1.6861,  34.6754,2,  34.6766,2,    151.3,2,  1.4708,    151.3,2,   134.04,2,    36.15,2,     0.00,2,     2.49,2, -999.000,9, -999.000,9,   -999.0,9,  -999.00,9,   2314.3,3,   1213.8,2,   2411.6,2,     7.58,2, -999.00,  -999.0, -999.00,  -999.0
    31DSCG96_2,  P15S,   156,  1,    109,   1031,2,19960301,0217,-11.5002,-169.9992, 5035,   -999,   3192.1,   1.6145,  34.6800,2,  34.6808,2,    155.3,2,  1.3765,    155.0,6,   134.83,2,    35.96,2,     0.00,2,     2.47,2, -999.000,9, -999.000,9,   -999.0,9,  -999.00,9,   2312.3,2,   1175.7,2,   2412.8,2,     7.58,2, -999.00,  -999.0, -999.00,  -999.0
    31DSCG96_2,  P15S,   156,  1,    108,   1227,2,19960301,0217,-11.5002,-169.9992, 5035,   -999,   3442.4,   1.5464,  34.6845,2,  34.6851,2,    159.2,2,  1.2849,    159.6,2,   134.85,2,    35.71,2,     0.00,2,     2.45,2, -999.000,9, -999.000,9,   -999.0,9,  -999.00,9,   2309.9,2,   1160.5,2,   2410.6,2,     7.59,2, -999.00,  -999.0, -999.00,  -999.0
    31DSCG96_2,  P15S,   156,  1,    107,   1263,2,19960301,0217,-11.5002,-169.9992, 5035,   -999,   3688.7,   1.5041,  34.6882,2,  34.6887,2,    162.9,2,  1.2183,    164.0,2,   133.76,2,    35.39,2,     0.00,2,     2.42,2,    0.002,2,    0.001,2,   -999.0,9,  -999.00,9,   2305.2,2,   1148.4,2,   2408.7,2,     7.59,2, -999.00,  -999.0, -999.00,  -999.0
    31DSCG96_2,  P15S,   156,  1,    106,   1262,2,19960301,0217,-11.5002,-169.9992, 5035,   -999,   3941.5,   1.4228,  34.6939,2,  34.6951,2,    172.1,2,  1.1122,    172.2,2,   130.79,2,    34.83,2,     0.00,2,     2.38,2, -999.000,9, -999.000,9,   -999.0,9,  -999.00,9,   2296.3,2,   1122.4,2,   2401.2,2,     7.60,2, -999.00,  -999.0, -999.00,  -999.0
    31DSCG96_2,  P15S,   156,  1,    105,   1264,2,19960301,0217,-11.5002,-169.9992, 5035,   -999,   4188.0,   1.2932,  34.7052,2,  34.7041,2,    188.8,2,  0.9595,    189.5,2,   122.46,2,    33.56,2,     0.00,2,     2.28,2,    0.001,2,    0.001,2,   -999.0,9,  -999.00,9,   2275.1,2,   1096.4,2,   2384.0,2,     7.61,2, -999.00,  -999.0, -999.00,  -999.0
    31DSCG96_2,  P15S,   156,  1,    104,   1003,2,19960301,0217,-11.5002,-169.9992, 5035,   -999,   4438.1,   1.1409,  34.7127,2,  34.7134,2,    202.1,2,  0.7838,    202.6,2,   117.93,2,    32.60,2,     0.00,2,     2.21,2,    0.005,2,    0.002,2,   -999.0,9,  -999.00,9,   2259.6,2,   1073.8,2,   2373.8,3,     7.61,2, -999.00,  -999.0, -999.00,  -999.0
    31DSCG96_2,  P15S,   156,  1,    103,   1035,2,19960301,0217,-11.5002,-169.9992, 5035,   -999,   4688.8,   1.0630,  34.7101,2,  34.7096,2,    204.8,2,  0.6799,    204.8,6,   120.13,2,    32.63,2,     0.00,2,     2.22,2,    0.004,2,    0.001,2,   -999.0,9,  -999.00,9,   2259.9,2,   1058.2,2,   2370.8,2,     7.61,2, -999.00,  -999.0, -999.00,  -999.0
    31DSCG96_2,  P15S,   156,  1,    102,   1030,2,19960301,0217,-11.5002,-169.9992, 5035,   -999,   4939.4,   1.0724,  34.7094,2,  34.7104,2,    205.7,2,  0.6596,    206.2,2,   120.19,6,    32.64,2,     0.00,6,     2.21,2,    0.008,6,    0.002,6,   -999.0,9,  -999.00,9,   2258.8,2,   1070.0,2,   2367.3,2,     7.61,2, -999.00,  -999.0, -999.00,  -999.0
    31DSCG96_2,  P15S,   156,  1,    101,   1022,2,19960301,0217,-11.5002,-169.9992, 5035,   -999,   5137.2,   1.0896,  34.7091,2,  34.7108,2,    206.2,2,  0.6525,    205.9,2,  -999.00,9,  -999.00,9,  -999.00,9,  -999.00,9,    0.006,2,    0.003,2,   -999.0,9,  -999.00,9,   2258.7,2,   1096.2,3,   2370.9,3,     7.61,2, -999.00,  -999.0, -999.00,  -999.0