BOTTLE,20220811CCHSIOAMB
EXPOCODE,SECT_ID,STNNBR,CASTNO,SAMPNO,BTLNBR,BTLNBR_FLAG_W,DATE,TIME,LATITUDE,LONGITUDE,DEPTH,CTDRAW,CTDPRS,CTDTMP,CTDSAL,CTDSAL_FLAG_W,SALNTY,SALNTY_FLAG_W,CTDOXY,CTDOXY_FLAG_W,THETA,OXYGEN,OXYGEN_FLAG_W,SILCAT,SILCAT_FLAG_W,NITRAT,NITRAT_FLAG_W,NITRIT,NITRIT_FLAG_W,PHSPHT,PHSPHT_FLAG_W,CFC-11,CFC-11_FLAG_W,CFC-12,CFC-12_FLAG_W,DELC14,DELC14_FLAG_W,DELC13,DELC13_FLAG_W,TCARBN,TCARBN_FLAG_W,PCO2,PCO2_FLAG_W,ALKALI,ALKALI_FLAG_W,PH,PH_FLAG_W,PCO2TMP,C14ERR,PH_TMP,C13ERR
,,,,,,,,,,,,DBAR,DBAR,ITS-90,PSS-78,,PSS-78,,UMOL/KG,,DEG C,UMOL/KG,,UMOL/KG,,UMOL/KG,,UMOL/KG,,UMOL/KG,,PMOL/KG,,PMOL/KG,,/MILLE,,/MILLE,,UMOL/KG,,UATM,,UMOL/KG,,,,DEG C,/MILLE,DEG C,/MILLE
    31DSCG96_1,  P15S,    66,  1,    134,   1119,2,19960127,1937,-50.4982,-169.9940, 5041,   -999,      8.0,  10.4711,  34.3141,2,-999.0000,9,    281.6,2, 10.4701,    283.2,2,     1.03,2,    12.18,2,     0.15,2,     0.89,2,    3.878,2,    2.058,2,   -999.0,9,  -999.00,9,   2070.8,2,    505.5,6,   2286.9,2,     7.88,2, -999.00,  -999.0, -999.00,  -999.0
    31DSCG96_1,  P15S,    66,  1,    133,   1221,2,19960127,1937,-50.4982,-169.9940, 5041,   -999,     19.3,  10.4845,  34.3134,2,  34.3147,2,    282.7,2, 10.4822,    282.9,2,     1.17,2,    12.11,2,     0.15,2,     0.89,2,    3.867,6,    2.061,6,   -999.0,9,  -999.00,9,   2071.1,2,   -999.0,9,   2291.6,2,     7.88,2, -999.00,  -999.0, -999.00,  -999.0
    31DSCG96_1,  P15S,    66,  1,    132,   1039,2,19960127,1937,-50.4982,-169.9940, 5041,   -999,     45.4,   9.6437,  34.3232,2,  34.3243,2,    286.3,2,  9.6386,    288.8,2,     1.04,2,    12.14,2,     0.13,2,     0.91,2, -999.000,9, -999.000,9,   -999.0,9,  -999.00,9,   -999.0,9,   -999.0,9,   -999.0,9,     7.87,2, -999.00,  -999.0, -999.00,  -999.0
    31DSCG96_1,  P15S,    66,  1,    131,   1014,2,19960127,1937,-50.4982,-169.9940, 5041,   -999,     69.2,   8.5598,  34.3470,2,  34.3496,2,    288.3,2,  8.5527,    284.4,2,     2.12,2,    13.79,2,     0.24,2,     1.08,2,    4.142,2,    2.161,2,   -999.0,9,  -999.00,9,   2090.2,2,    556.4,2,   2288.3,2,     7.85,2, -999.00,  -999.0, -999.00,  -999.0
    31DSCG96_1,  P15S,    66,  1,    130,   1257,2,19960127,1937,-50.4982,-169.9940, 5041,   -999,     94.6,   7.3648,  34.3579,2,  34.3588,2,    278.9,2,  7.3558,    279.8,2,     5.01,2,    17.01,2,     0.58,2,     1.28,2, -999.000,9, -999.000,9,   -999.0,9,  -999.00,9,   -999.0,9,   -999.0,9,   -999.0,9,     7.80,2, -999.00,  -999.0, -999.00,  -999.0
    31DSCG96_1,  P15S,    66,  1,    129,   1256,2,19960127,1937,-50.4982,-169.9940, 5041,   -999,    140.4,   6.9463,  34.3468,2,  34.3477,2,    281.3,2,  6.9334,    277.5,2,     6.27,2,    19.06,2,     0.14,2,     1.34,2,    4.216,2,    2.158,2,   -999.0,9,  -999.00,9,   2115.8,2,    655.3,2,   2286.9,2,     7.78,2, -999.00,  -999.0, -999.00,  -999.0
    31DSCG96_1,  P15S,    66,  1,    128,   1007,2,19960127,1937,-50.4982,-169.9940, 5041,   -999,    191.5,   6.6803,  34.3349,2,  34.3331,2,    280.4,2,  6.6631,    280.1,6,     6.65,2,    19.52,2,     0.04,2,     1.36,2, -999.000,9, -999.000,9,   -999.0,9,  -999.00,9,   -999.0,9,   -999.0,9,   -999.0,9,     7.78,2, -999.00,  -999.0, -999.00,  -999.0
    31DSCG96_1,  P15S,    66,  1,    127,   1234,2,19960127,1937,-50.4982,-169.9940, 5041,   -999,    237.4,   6.5312,  34.3235,2,  34.3241,2,    278.8,2,  6.5100,    279.9,2,     6.93,2,    19.86,2,     0.03,2,     1.39,2,    4.158,2,    2.146,2,   -999.0,9,  -999.00,9,   2117.5,2,    666.6,2,   2284.0,2,     7.78,2, -999.00,  -999.0, -999.00,  -999.0
    31DSCG96_1,  P15S,    66,  1,    126,   1025,3,19960127,1937,-50.4982,-169.9940, 5041,   -999,    291.2,   6.3473,  34.3043,2,  34.3061,2,    277.1,2,  6.3216,    278.1,2,     7.44,2,    20.45,2,     0.01,2,     1.43,2, -999.000,9, -999.000,9,   -999.0,9,  -999.00,9,   -999.0,9,   -999.0,9,   -999.0,9,  -999.00,9, -999.00,  -999.0, -999.00,  -999.0
    31DSCG96_1,  P15S,    66,  1,    125,   1233,2,19960127,1937,-50.4982,-169.9940, 5041,   -999,    373.2,   5.8510,  34.2543,2,  34.2586,2,    275.0,2,  5.8193,    277.1,2,     8.81,2,    21.87,2,     0.01,2,     1.52,2,    4.070,2,    2.092,2,   -999.0,9,  -999.00,9,   2124.0,2,    700.3,2,   2283.9,2,  -999.00,9, -999.00,  -999.0, -999.00,  -999.0
    31DSCG96_1,  P15S,    66,  1,    124,   1218,2,19960127,1937,-50.4982,-169.9940, 5041,   -999,    469.9,   5.7404,  34.2862,2,  34.2849,2,    267.2,2,  5.7005,    253.6,2,    13.20,2,    24.21,2,     0.00,2,     1.67,2, -999.000,9, -999.000,9,   -999.0,9,  -999.00,9,   -999.0,9,   -999.0,9,   -999.0,9,     7.73,2, -999.00,  -999.0, -999.00,  -999.0
    31DSCG96_1,  P15S,    66,  1,    123,   1250,2,19960127,1937,-50.4982,-169.9940, 5041,   -999,    576.5,   5.1649,  34.2612,2,  34.2598,2,    248.6,2,  5.1181,    247.7,2,    16.66,2,    26.01,2,     0.00,2,     1.78,2,    3.145,2,    1.582,2,   -999.0,9,  -999.00,9,   2152.8,2,    813.8,2,   2289.4,2,     7.70,2, -999.00,  -999.0, -999.00,  -999.0
    31DSCG96_1,  P15S,    66,  1,    122,   1109,2,19960127,1937,-50.4982,-169.9940, 5041,   -999,    674.4,   4.9918,  34.3124,2,  34.3125,2,    220.8,2,  4.9375,    221.7,6,    24.06,2,    28.35,2,     0.00,2,     1.95,2, -999.000,9, -999.000,9,   -999.0,9,  -999.00,9,   -999.0,9,   -999.0,9,   -999.0,9,     7.67,2, -999.00,  -999.0, -999.00,  -999.0
    31DSCG96_1,  P15S,    66,  1,    121,   1246,2,19960127,1937,-50.4982,-169.9940, 5041,   -999,    779.0,   4.3598,  34.3023,2,  34.3021,2,    217.7,2,  4.3003,    219.9,2,    29.20,2,    29.82,2,     0.00,2,     2.08,2,    2.065,2,    1.016,2,   -999.0,9,  -999.00,9,   2181.3,2,    960.9,2,   2297.6,2,     7.64,2, -999.00,  -999.0, -999.00,  -999.0
    31DSCG96_1,  P15S,    66,  1,    120,   1015,2,19960127,1937,-50.4982,-169.9940, 5041,   -999,    874.9,   3.8276,  34.3114,2,  34.3120,2,    212.1,2,  3.7637,    212.6,2,    36.08,2,    31.35,2,     0.00,2,     2.14,2, -999.000,9, -999.000,9,   -999.0,9,  -999.00,9,   -999.0,9,   -999.0,9,   -999.0,9,     7.62,2, -999.00,  -999.0, -999.00,  -999.0
    31DSCG96_1,  P15S,    66,  1,    119,   1247,2,19960127,1937,-50.4982,-169.9940, 5041,   -999,    975.9,   3.4986,  34.3548,2,  34.3554,2,    201.8,2,  3.4289,    202.0,2,    44.51,2,    32.34,2,     0.00,2,     2.23,2,    1.240,2,    0.606,2,   -999.0,9,  -999.00,9,   2207.9,2,   1066.9,2,   2312.0,2,     7.61,3, -999.00,  -999.0, -999.00,  -999.0
    31DSCG96_1,  P15S,    66,  1,    118,   1222,2,19960127,1937,-50.4982,-169.9940, 5041,   -999,   1071.0,   3.1575,  34.3830,2,  34.3834,2,    196.2,2,  3.0831,    195.2,2,  -999.00,9,  -999.00,9,  -999.00,9,  -999.00,9, -999.000,9, -999.000,9,   -999.0,9,  -999.00,9,   -999.0,9,   -999.0,9,   -999.0,9,     7.59,2, -999.00,  -999.0, -999.00,  -999.0
    31DSCG96_1,  P15S,    66,  1,    117,   1267,2,19960127,1937,-50.4982,-169.9940, 5041,   -999,   1214.9,   2.8762,  34.4385,2,  34.4402,2,    187.3,2,  2.7929,    186.8,6,    59.84,2,    33.89,2,     0.00,2,     2.33,2,    0.733,2,    0.358,2,   -999.0,9,  -999.00,9,   2232.0,2,   1142.2,3,   2323.8,2,     7.58,2, -999.00,  -999.0, -999.00,  -999.0
    31DSCG96_1,  P15S,    66,  1,    116,   1211,3,19960127,1937,-50.4982,-169.9940, 5041,   -999,   1436.3,   2.6178,  34.5384,2,  34.5383,2,    175.6,2,  2.5195,    174.5,2,    72.16,2,    35.82,3,     0.00,2,     2.35,2, -999.000,9, -999.000,9,   -999.0,9,  -999.00,9,   -999.0,9,   -999.0,9,   -999.0,9,  -999.00,9, -999.00,  -999.0, -999.00,  -999.0
    31DSCG96_1,  P15S,    66,  1,    115,   1041,2,19960127,1937,-50.4982,-169.9940, 5041,   -999,   1692.4,   2.4363,  34.6157,2,  34.6155,2,    172.4,2,  2.3193,    173.0,2,    79.40,2,    35.00,3,     0.00,2,     2.31,2,    0.181,2,    0.089,2,   -999.0,9,  -999.00,9,   2253.6,2,   1172.9,2,   2347.6,2,     7.57,2, -999.00,  -999.0, -999.00,  -999.0
    31DSCG96_1,  P15S,    66,  1,    114,   1017,2,19960127,1937,-50.4982,-169.9940, 5041,   -999,   1941.0,   2.3004,  34.6692,2,  34.6681,2,    177.0,2,  2.1643,    177.2,2,    82.43,2,    33.85,3,     0.00,2,     2.26,2, -999.000,9, -999.000,9,   -999.0,9,  -999.00,9,   -999.0,9,   -999.0,9,   -999.0,9,     7.58,2, -999.00,  -999.0, -999.00,  -999.0
    31DSCG96_1,  P15S,    66,  1,    113,   1302,2,19960127,1937,-50.4982,-169.9940, 5041,   -999,   2189.1,   2.1367,  34.7105,2,  34.7109,2,    183.6,2,  1.9815,    183.9,2,    85.73,2,    32.74,3,     0.00,2,     2.18,2,    0.069,2,    0.038,2,   -999.0,9,  -999.00,9,   2252.2,2,   1119.8,2,   2351.2,2,     7.60,2, -999.00,  -999.0, -999.00,  -999.0
    31DSCG96_1,  P15S,    66,  1,    112,   1217,2,19960127,1937,-50.4982,-169.9940, 5041,   -999,   2435.7,   1.9974,  34.7284,2,  34.7298,2,    189.0,2,  1.8227,    188.7,2,    89.17,2,    32.15,3,     0.00,2,     2.15,2, -999.000,9, -999.000,9,   -999.0,9,  -999.00,9,   -999.0,9,   -999.0,9,   -999.0,9,     7.61,2, -999.00,  -999.0, -999.00,  -999.0
    31DSCG96_1,  P15S,    66,  1,    111,   1114,2,19960127,1937,-50.4982,-169.9940, 5041,   -999,   2691.9,   1.8196,  34.7362,2,  34.7372,2,    193.6,2,  1.6247,    193.2,2,    94.03,2,    31.79,3,     0.00,2,     2.14,2,    0.033,2,    0.027,2,   -999.0,9,  -999.00,9,   2250.9,2,   1078.0,2,   2359.0,2,     7.61,2, -999.00,  -999.0, -999.00,  -999.0
    31DSCG96_1,  P15S,    66,  1,    110,   1301,2,19960127,1937,-50.4982,-169.9940, 5041,   -999,   2942.3,   1.6253,  34.7355,2,  34.7349,2,    197.3,2,  1.4109,    196.7,6,    99.82,2,    31.70,3,     0.00,2,     2.14,2, -999.000,9, -999.000,9,   -999.0,9,  -999.00,9,   -999.0,9,   -999.0,9,   -999.0,9,     7.61,2, -999.00,  -999.0, -999.00,  -999.0
    31DSCG96_1,  P15S,    66,  1,    109,   1242,2,19960127,1937,-50.4982,-169.9940, 5041,   -999,   3191.3,   1.4241,  34.7302,2,  34.7313,2,    199.7,2,  1.1903,    199.7,2,   105.73,2,    31.72,2,     0.00,2,     2.16,2,    0.024,2,    0.019,2,   -999.0,9,  -999.00,9,   2256.9,2,   1069.5,2,   2360.7,2,     7.61,2, -999.00,  -999.0, -999.00,  -999.0
    31DSCG96_1,  P15S,    66,  1,    108,   1263,2,19960127,1937,-50.4982,-169.9940, 5041,   -999,   3451.1,   1.2852,  34.7249,2,  34.7254,2,    202.6,2,  1.0291,    202.2,2,   109.93,2,    31.80,2,     0.00,2,     2.17,2, -999.000,9, -999.000,9,   -999.0,9,  -999.00,9,   -999.0,9,   -999.0,9,   -999.0,9,  -999.00,9, -999.00,  -999.0, -999.00,  -999.0
    31DSCG96_1,  P15S,    66,  1,    107,   1245,2,19960127,1937,-50.4982,-169.9940, 5041,   -999,   3688.7,   1.1419,  34.7189,2,  34.7194,2,    205.6,2,  0.8654,    205.0,2,   114.29,2,    31.90,2,     0.00,2,     2.18,2,    0.029,2,    0.021,2,   -999.0,9,  -999.00,9,   2260.1,2,   1067.4,2,   2365.5,2,     7.61,2, -999.00,  -999.0, -999.00,  -999.0
    31DSCG96_1,  P15S,    66,  1,    106,   1262,2,19960127,1937,-50.4982,-169.9940, 5041,   -999,   3937.6,   0.9955,  34.7122,2,  34.7117,2,    206.8,2,  0.6972,    207.2,2,   118.72,2,    32.11,2,     0.00,2,     2.19,2, -999.000,9, -999.000,9,   -999.0,9,  -999.00,9,   -999.0,9,   -999.0,9,   -999.0,9,     7.61,2, -999.00,  -999.0, -999.00,  -999.0
    31DSCG96_1,  P15S,    66,  1,    105,   1113,2,19960127,1937,-50.4982,-169.9940, 5041,   -999,   4189.0,   0.9140,  34.7077,2,  34.7085,2,    209.2,2,  0.5913,    209.0,2,   121.75,2,    32.25,2,     0.00,2,     2.20,2,    0.050,2,    0.031,2,   -999.0,9,  -999.00,9,   2262.2,2,   1085.2,2,   2366.9,2,     7.61,2, -999.00,  -999.0, -999.00,  -999.0
    31DSCG96_1,  P15S,    66,  1,    104,   1003,2,19960127,1937,-50.4982,-169.9940, 5041,   -999,   4447.6,   0.9337,  34.7074,2,  34.7065,2,    209.4,2,  0.5820,    208.4,2,   122.18,2,    32.29,2,     0.00,2,     2.20,2, -999.000,9, -999.000,9,   -999.0,9,  -999.00,9,   -999.0,9,   -999.0,9,   -999.0,9,     7.61,2, -999.00,  -999.0, -999.00,  -999.0
    31DSCG96_1,  P15S,    66,  1,    103,   9999,2,19960127,1937,-50.4982,-169.9940, 5041,   -999,   4694.0,   0.9201,  34.7055,2,  34.7056,2,    209.7,2,  0.5410,    208.7,2,   123.30,2,    32.35,2,     0.00,2,     2.20,2,    0.062,2,    0.030,2,   -999.0,9,  -999.00,9,   2259.3,2,   1076.9,2,   2366.6,2,     7.61,2, -999.00,  -999.0, -999.00,  -999.0
    31DSCG96_1,  P15S,    66,  1,    102,   1030,2,19960127,1937,-50.4982,-169.9940, 5041,   -999,   4930.4,   0.9223,  34.7044,2,  34.7049,2,    209.9,2,  0.5156,    209.9,2,   124.01,2,    32.35,2,     0.00,2,     2.20,2, -999.000,9, -999.000,9,   -999.0,9,  -999.00,9,   -999.0,9,   -999.0,9,   -999.0,9,     7.61,2, -999.00,  -999.0, -999.00,  -999.0
    31DSCG96_1,  P15S,    66,  1,    101,   1022,2,19960127,1937,-50.4982,-169.9940, 5041,   -999,   5125.9,   0.9420,  34.7044,2,  34.7039,2,    209.9,2,  0.5115,    209.5,2,   124.08,6,    32.33,6,     0.00,6,     2.21,6,    0.082,6,    0.046,6,   -999.0,9,  -999.00,9,   2258.2,2,   1093.8,2,   2368.2,2,     7.61,2, -999.00,  -999.0, -999.00,  -999.0