BOTTLE,20220811CCHSIOAMB
EXPOCODE,SECT_ID,STNNBR,CASTNO,SAMPNO,BTLNBR,BTLNBR_FLAG_W,DATE,TIME,LATITUDE,LONGITUDE,DEPTH,CTDRAW,CTDPRS,CTDTMP,CTDSAL,CTDSAL_FLAG_W,SALNTY,SALNTY_FLAG_W,CTDOXY,CTDOXY_FLAG_W,THETA,OXYGEN,OXYGEN_FLAG_W,SILCAT,SILCAT_FLAG_W,NITRAT,NITRAT_FLAG_W,NITRIT,NITRIT_FLAG_W,PHSPHT,PHSPHT_FLAG_W,CFC-11,CFC-11_FLAG_W,CFC-12,CFC-12_FLAG_W,DELC14,DELC14_FLAG_W,DELC13,DELC13_FLAG_W,TCARBN,TCARBN_FLAG_W,PCO2,PCO2_FLAG_W,ALKALI,ALKALI_FLAG_W,PH,PH_FLAG_W,PCO2TMP,C14ERR,PH_TMP,C13ERR
,,,,,,,,,,,,DBAR,DBAR,ITS-90,PSS-78,,PSS-78,,UMOL/KG,,DEG C,UMOL/KG,,UMOL/KG,,UMOL/KG,,UMOL/KG,,UMOL/KG,,PMOL/KG,,PMOL/KG,,/MILLE,,/MILLE,,UMOL/KG,,UATM,,UMOL/KG,,,,DEG C,/MILLE,DEG C,/MILLE
    31DSCG96_1,  P14S,    14,  1,    134,   1224,2,19960111,0908,-56.9957, 173.9772, 5430,   -999,      9.2,   6.7270,  34.0882,2,  34.0882,2,    303.0,2,  6.7262,    303.2,2,     2.37,2,    19.12,2,     0.20,2,     1.29,2,    4.580,6,    2.329,6,   -999.0,9,  -999.00,9,   2098.9,2,    599.0,2,   2282.3,2,     7.82,2, -999.00,  -999.0, -999.00,  -999.0
    31DSCG96_1,  P14S,    14,  1,    133,   1221,2,19960111,0908,-56.9957, 173.9772, 5430,   -999,     19.2,   6.7255,  34.0879,2,-999.0000,5,    303.2,2,  6.7238,   -999.0,9,  -999.00,9,  -999.00,9,  -999.00,9,  -999.00,9, -999.000,9, -999.000,9,   -999.0,9,  -999.00,9,   -999.0,9,   -999.0,9,   -999.0,9,  -999.00,9, -999.00,  -999.0, -999.00,  -999.0
    31DSCG96_1,  P14S,    14,  1,    132,   1039,2,19960111,0908,-56.9957, 173.9772, 5430,   -999,     42.8,   6.7099,  34.0861,2,  34.0867,2,    303.2,2,  6.7061,    302.9,2,     2.49,2,    19.16,2,     0.21,2,     1.30,2, -999.000,9, -999.000,9,   -999.0,9,  -999.00,9,   2099.1,2,    608.0,2,   2281.2,2,     7.82,2, -999.00,  -999.0, -999.00,  -999.0
    31DSCG96_1,  P14S,    14,  1,    131,   1042,2,19960111,0908,-56.9957, 173.9772, 5430,   -999,     70.5,   5.7521,  34.0305,2,  34.0264,2,    305.6,2,  5.7464,    307.2,2,     3.27,2,    20.73,2,     0.22,2,     1.43,2,    4.815,2,    2.472,2,   -999.0,9,  -999.00,9,   2106.8,2,    638.8,2,   2279.3,2,     7.80,2, -999.00,  -999.0, -999.00,  -999.0
    31DSCG96_1,  P14S,    14,  1,    130,   1257,2,19960111,0908,-56.9957, 173.9772, 5430,   -999,     95.7,   5.2152,  34.0774,2,  34.0801,2,    305.8,2,  5.2078,    304.1,2,     5.58,2,    21.27,2,     0.23,2,     1.49,2, -999.000,9, -999.000,9,   -999.0,9,  -999.00,9,   2114.0,2,    662.9,2,   2281.7,2,     7.78,2, -999.00,  -999.0, -999.00,  -999.0
    31DSCG96_1,  P14S,    14,  1,    129,   1256,2,19960111,0908,-56.9957, 173.9772, 5430,   -999,    142.3,   4.8794,  34.0896,2,  34.0889,2,    301.1,2,  4.8687,    302.6,2,     7.22,2,    21.87,2,     0.23,2,     1.53,2, -999.000,9, -999.000,9,   -999.0,9,  -999.00,9,   2120.0,2,    682.5,2,   2280.3,2,     7.77,2, -999.00,  -999.0, -999.00,  -999.0
    31DSCG96_1,  P14S,    14,  1,    128,   1007,2,19960111,0908,-56.9957, 173.9772, 5430,   -999,    189.7,   4.6198,  34.0782,2,  34.0716,2,    288.9,2,  4.6058,    296.2,6,     8.93,2,    23.42,2,     0.20,2,     1.59,2,    4.720,2,    2.369,2,   -999.0,9,  -999.00,9,   2126.4,2,    719.3,2,   2282.5,2,     7.75,2, -999.00,  -999.0, -999.00,  -999.0
    31DSCG96_1,  P14S,    14,  1,    127,   1234,2,19960111,0908,-56.9957, 173.9772, 5430,   -999,    243.1,   4.7035,  34.1372,2,  34.1408,2,    294.3,2,  4.6853,    289.6,2,     9.97,2,    23.51,2,     0.03,2,     1.59,2, -999.000,9, -999.000,9,   -999.0,9,  -999.00,9,   2131.7,2,    729.2,2,   2282.7,2,     7.75,2, -999.00,  -999.0, -999.00,  -999.0
    31DSCG96_1,  P14S,    14,  1,    126,   1025,2,19960111,0908,-56.9957, 173.9772, 5430,   -999,    291.2,   4.5756,  34.1527,2,  34.1528,2,    289.3,2,  4.5540,    291.2,2,    10.52,2,    23.69,2,     0.01,2,     1.60,2, -999.000,9, -999.000,9,   -999.0,9,  -999.00,9,   2133.3,2,    730.4,2,   2284.6,2,     7.75,2, -999.00,  -999.0, -999.00,  -999.0
    31DSCG96_1,  P14S,    14,  1,    125,   1233,2,19960111,0908,-56.9957, 173.9772, 5430,   -999,    375.8,   4.3544,  34.1882,2,  34.1875,2,    257.9,2,  4.3269,    257.1,2,    17.96,2,    27.12,2,     0.01,2,     1.83,2,    3.593,2,    1.742,2,   -999.0,9,  -999.00,9,   2157.9,2,    829.4,3,   2288.1,2,     7.69,2, -999.00,  -999.0, -999.00,  -999.0
    31DSCG96_1,  P14S,    14,  1,    124,   1218,2,19960111,0908,-56.9957, 173.9772, 5430,   -999,    473.7,   3.8978,  34.2239,2,  34.2244,2,    240.7,2,  3.8644,    239.1,2,    25.84,2,    29.53,2,     0.01,2,     1.99,2, -999.000,9, -999.000,9,   -999.0,9,  -999.00,9,   2175.2,2,    911.7,2,   2295.6,2,     7.66,2, -999.00,  -999.0, -999.00,  -999.0
    31DSCG96_1,  P14S,    14,  1,    123,   1250,2,19960111,0908,-56.9957, 173.9772, 5430,   -999,    577.1,   3.7213,  34.2751,2,  34.2737,2,    220.4,2,  3.6809,    223.4,2,    32.69,2,    30.94,2,     0.01,2,     2.12,2,    2.202,2,    1.042,2,   -999.0,9,  -999.00,9,   2189.6,2,    973.1,2,   2298.9,2,     7.63,2, -999.00,  -999.0, -999.00,  -999.0
    31DSCG96_1,  P14S,    14,  1,    122,   1109,2,19960111,0908,-56.9957, 173.9772, 5430,   -999,    671.9,   3.3156,  34.3219,2,  34.3209,2,    210.3,2,  3.2703,    210.7,2,    41.80,2,    32.32,2,     0.00,2,     2.19,2, -999.000,9, -999.000,9,   -999.0,9,  -999.00,9,   2204.7,2,   1030.7,2,   2309.6,2,     7.61,2, -999.00,  -999.0, -999.00,  -999.0
    31DSCG96_1,  P14S,    14,  1,    121,   1246,2,19960111,0908,-56.9957, 173.9772, 5430,   -999,    775.1,   3.1075,  34.3747,2,  34.3738,2,    202.0,2,  3.0557,    198.0,2,    49.74,2,    33.19,2,     0.00,2,     2.25,2,    1.143,2,    0.541,2,   -999.0,9,  -999.00,9,   2217.2,2,   1059.9,3,   2315.2,2,     7.59,2, -999.00,  -999.0, -999.00,  -999.0
    31DSCG96_1,  P14S,    14,  1,    120,   1209,2,19960111,0908,-56.9957, 173.9772, 5430,   -999,    874.4,   2.7917,  34.4213,2,  34.4215,2,    192.8,2,  2.7347,    189.7,6,    57.63,2,    33.99,2,     0.00,2,     2.30,2,    0.894,2,    0.424,2,   -999.0,9,  -999.00,9,   2234.8,3,   1131.5,2,   2323.9,2,     7.58,2, -999.00,  -999.0, -999.00,  -999.0
    31DSCG96_1,  P14S,    14,  1,    119,   1247,2,19960111,0908,-56.9957, 173.9772, 5430,   -999,    976.4,   2.6669,  34.4726,2,  34.4726,2,    183.2,2,  2.6034,    182.2,2,    63.53,2,    34.16,2,     0.00,2,     2.32,2,    0.656,2,    0.315,2,   -999.0,9,  -999.00,9,   2238.6,2,   1167.9,2,   2327.9,2,     7.57,2, -999.00,  -999.0, -999.00,  -999.0
    31DSCG96_1,  P14S,    14,  1,    118,   1222,2,19960111,0908,-56.9957, 173.9772, 5430,   -999,   1075.3,   2.6016,  34.5214,2,  34.5214,2,    178.8,2,  2.5312,    177.8,2,    67.99,2,    34.12,2,     0.00,2,     2.31,2, -999.000,9, -999.000,9,   -999.0,9,  -999.00,9,   2243.5,2,   1179.0,2,   2333.5,2,     7.57,2, -999.00,  -999.0, -999.00,  -999.0
    31DSCG96_1,  P14S,    14,  1,    117,   1104,3,19960111,0908,-56.9957, 173.9772, 5430,   -999,   1214.0,   2.4670,  34.5815,2,-999.0000,5,    177.3,2,  2.3874,    179.2,3,  -999.00,9,  -999.00,9,  -999.00,9,  -999.00,9, -999.000,5, -999.000,5,   -999.0,9,  -999.00,9,   -999.0,9,   -999.0,9,   -999.0,9,  -999.00,9, -999.00,  -999.0, -999.00,  -999.0
    31DSCG96_1,  P14S,    14,  1,    116,   1211,2,19960111,0908,-56.9957, 173.9772, 5430,   -999,   1439.8,   2.3775,  34.6407,2,  34.6405,2,    178.0,2,  2.2814,    176.9,2,    77.58,2,    33.02,2,     0.00,2,     2.23,2,    0.473,3,    0.215,3,   -999.0,9,  -999.00,9,   2253.3,3,   1145.9,2,   2346.0,2,     7.58,2, -999.00,  -999.0, -999.00,  -999.0
    31DSCG96_1,  P14S,    14,  1,    115,   1041,2,19960111,0908,-56.9957, 173.9772, 5430,   -999,   1691.9,   2.3026,  34.6697,2,  34.6702,2,    179.6,2,  2.1872,    178.9,2,    80.38,2,    32.55,2,     0.00,2,     2.20,2,    0.125,2,    0.059,2,   -999.0,9,  -999.00,9,   2250.1,2,   1130.9,2,   2352.5,2,     7.59,2, -999.00,  -999.0, -999.00,  -999.0
    31DSCG96_1,  P14S,    14,  1,    114,   1017,2,19960111,0908,-56.9957, 173.9772, 5430,   -999,   1939.0,   2.2276,  34.6936,2,  34.6927,2,    181.8,2,  2.0927,    181.8,2,    82.62,2,    32.13,2,     0.00,2,     2.16,2,    0.102,2,    0.051,2,   -999.0,9,  -999.00,9,   2250.6,2,   1111.8,2,   2350.9,2,     7.59,2, -999.00,  -999.0, -999.00,  -999.0
    31DSCG96_1,  P14S,    14,  1,    113,   1008,2,19960111,0908,-56.9957, 173.9772, 5430,   -999,   2188.4,   2.1017,  34.7225,2,  34.7225,2,    185.3,2,  1.9472,    187.0,2,    85.56,2,    31.51,2,     0.00,2,     2.12,2,    0.084,2,    0.041,2,   -999.0,9,  -999.00,9,   2249.6,2,   1086.8,2,   2355.6,2,     7.60,2, -999.00,  -999.0, -999.00,  -999.0
    31DSCG96_1,  P14S,    14,  1,    112,   1217,2,19960111,0908,-56.9957, 173.9772, 5430,   -999,   2440.6,   1.8884,  34.7380,2,  34.7373,2,    191.5,2,  1.7151,    192.2,6,    91.52,2,    31.15,2,     0.00,2,     2.10,2, -999.000,9, -999.000,9,   -999.0,9,  -999.00,9,   2249.7,2,   1068.2,2,   2357.3,2,     7.61,2, -999.00,  -999.0, -999.00,  -999.0
    31DSCG96_1,  P14S,    14,  1,    111,   1114,2,19960111,0908,-56.9957, 173.9772, 5430,   -999,   2691.5,   1.6869,  34.7387,2,  34.7387,2,    195.2,2,  1.4947,    195.6,2,    97.45,2,    31.20,2,     0.00,2,     2.10,2,    0.052,2,    0.022,2,   -999.0,9,  -999.00,9,   2251.7,2,   1057.8,2,   2364.5,2,     7.61,2, -999.00,  -999.0, -999.00,  -999.0
    31DSCG96_1,  P14S,    14,  1,    110,   1036,2,19960111,0908,-56.9957, 173.9772, 5430,   -999,   2937.6,   1.4936,  34.7341,2,  34.7333,2,    198.3,2,  1.2825,    198.6,2,   103.44,2,    31.37,2,     0.00,2,     2.12,2, -999.000,9, -999.000,9,   -999.0,9,  -999.00,9,   2254.6,2,   1063.1,2,   2363.9,2,     7.62,2, -999.00,  -999.0, -999.00,  -999.0
    31DSCG96_1,  P14S,    14,  1,    109,   1216,2,19960111,0908,-56.9957, 173.9772, 5430,   -999,   3189.5,   1.3495,  34.7287,2,  34.7282,2,    200.1,2,  1.1176,    200.9,2,   107.78,2,    31.55,2,     0.00,2,     2.13,2,    0.049,2,    0.020,2,   -999.0,9,  -999.00,9,   2256.0,2,   1073.1,2,   2369.0,3,     7.61,2, -999.00,  -999.0, -999.00,  -999.0
    31DSCG96_1,  P14S,    14,  1,    108,   1018,2,19960111,0908,-56.9957, 173.9772, 5430,   -999,   3437.9,   1.2131,  34.7230,2,  34.7223,2,    203.0,2,  0.9602,    202.6,2,   112.13,2,    31.79,2,     0.00,2,     2.14,2, -999.000,9, -999.000,9,   -999.0,9,  -999.00,9,   2259.3,3,   1097.0,2,   2367.2,2,     7.61,2, -999.00,  -999.0, -999.00,  -999.0
    31DSCG96_1,  P14S,    14,  1,    107,   1245,2,19960111,0908,-56.9957, 173.9772, 5430,   -999,   3690.3,   1.0987,  34.7176,2,  34.7174,2,    204.8,2,  0.8232,    205.2,2,   115.69,2,    31.96,2,     0.00,2,     2.15,2,    0.062,2,    0.037,2,   -999.0,9,  -999.00,9,   2258.1,2,   1090.7,2,   2369.8,3,     7.61,2, -999.00,  -999.0, -999.00,  -999.0
    31DSCG96_1,  P14S,    14,  1,    106,   1262,2,19960111,0908,-56.9957, 173.9772, 5430,   -999,   3938.6,   1.0279,  34.7138,2,  34.7134,2,    206.6,2,  0.7286,    206.4,2,   118.11,2,    32.06,2,     0.00,2,     2.16,2, -999.000,9, -999.000,9,   -999.0,9,  -999.00,9,   2258.3,2,   1095.3,2,   2367.0,2,     7.61,3, -999.00,  -999.0, -999.00,  -999.0
    31DSCG96_1,  P14S,    14,  1,    105,   1113,2,19960111,0908,-56.9957, 173.9772, 5430,   -999,   4377.2,   0.9329,  34.7080,2,  34.7081,2,    209.0,2,  0.5891,    209.1,2,   121.54,2,    32.18,2,     0.00,2,     2.17,2,    0.097,2,    0.048,2,   -999.0,9,  -999.00,9,   2258.1,2,   1099.0,2,   2369.5,2,     7.61,2, -999.00,  -999.0, -999.00,  -999.0
    31DSCG96_1,  P14S,    14,  1,    104,   1003,2,19960111,0908,-56.9957, 173.9772, 5430,   -999,   4874.8,   0.8961,  34.7040,2,  34.7036,2,    210.0,2,  0.4969,    209.9,2,   124.00,2,    32.28,2,     0.00,2,     2.19,2,    0.117,2,    0.059,2,   -999.0,9,  -999.00,9,   2258.2,2,   1105.6,2,   2366.8,2,     7.61,2, -999.00,  -999.0, -999.00,  -999.0
    31DSCG96_1,  P14S,    14,  1,    103,   9999,2,19960111,0908,-56.9957, 173.9772, 5430,   -999,   5368.7,   0.9031,  34.7018,2,  34.7017,2,    211.1,2,  0.4444,    210.3,2,   125.78,2,    32.40,2,     0.00,2,     2.19,2,    0.156,2,    0.073,2,   -999.0,9,  -999.00,9,   2258.4,2,   1097.2,6,   2371.0,2,     7.61,2, -999.00,  -999.0, -999.00,  -999.0
    31DSCG96_1,  P14S,    14,  1,    102,   1027,2,19960111,0908,-56.9957, 173.9772, 5430,   -999,   5371.5,   0.9036,  34.7017,2,  34.7014,2,    211.2,2,  0.4445,    210.7,2,   125.77,2,    32.37,2,     0.00,2,     2.18,2,    0.146,2,    0.076,2,   -999.0,9,  -999.00,9,   -999.0,9,   -999.0,9,   -999.0,9,     7.61,2, -999.00,  -999.0, -999.00,  -999.0
    31DSCG96_1,  P14S,    14,  1,    101,   1022,2,19960111,0908,-56.9957, 173.9772, 5430,   -999,   5535.4,   0.9223,  34.7016,2,  34.7026,2,    211.0,2,  0.4423,    211.9,2,   125.76,6,    32.35,6,     0.00,6,     2.18,6,    0.144,6,    0.071,6,   -999.0,9,  -999.00,9,   2259.4,2,   1121.8,2,   2368.6,2,     7.61,2, -999.00,  -999.0, -999.00,  -999.0