BOTTLE,20220811CCHSIOAMB
EXPOCODE,SECT_ID,STNNBR,CASTNO,SAMPNO,BTLNBR,BTLNBR_FLAG_W,DATE,TIME,LATITUDE,LONGITUDE,DEPTH,CTDRAW,CTDPRS,CTDTMP,CTDSAL,CTDSAL_FLAG_W,SALNTY,SALNTY_FLAG_W,CTDOXY,CTDOXY_FLAG_W,THETA,OXYGEN,OXYGEN_FLAG_W,SILCAT,SILCAT_FLAG_W,NITRAT,NITRAT_FLAG_W,NITRIT,NITRIT_FLAG_W,PHSPHT,PHSPHT_FLAG_W,CFC-11,CFC-11_FLAG_W,CFC-12,CFC-12_FLAG_W,DELC14,DELC14_FLAG_W,DELC13,DELC13_FLAG_W,TCARBN,TCARBN_FLAG_W,PCO2,PCO2_FLAG_W,ALKALI,ALKALI_FLAG_W,PH,PH_FLAG_W,PCO2TMP,C14ERR,PH_TMP,C13ERR
,,,,,,,,,,,,DBAR,DBAR,ITS-90,PSS-78,,PSS-78,,UMOL/KG,,DEG C,UMOL/KG,,UMOL/KG,,UMOL/KG,,UMOL/KG,,UMOL/KG,,PMOL/KG,,PMOL/KG,,/MILLE,,/MILLE,,UMOL/KG,,UATM,,UMOL/KG,,,,DEG C,/MILLE,DEG C,/MILLE
    31DSCG96_1,  P15S,    58,  2,    234,   1119,2,19960125,1545,-54.0012,-169.9892, 5013,   -999,     11.3,   7.2776,  34.1329,2,  34.1341,2,    302.3,2,  7.2766,    301.4,2,     3.32,2,    19.10,2,     0.19,2,     1.34,2,    4.584,2,    2.327,2,   -999.0,9,  -999.00,9,   2099.5,2,    609.8,2,   2283.3,2,     7.81,2, -999.00,  -999.0, -999.00,  -999.0
    31DSCG96_1,  P15S,    58,  2,    233,   1221,2,19960125,1545,-54.0012,-169.9892, 5013,   -999,     19.6,   7.2771,  34.1331,2,-999.0000,5,    301.9,2,  7.2753,    301.2,2,     3.41,2,    19.09,2,     0.19,2,     1.34,2, -999.000,9, -999.000,9,   -999.0,9,  -999.00,9,   2098.7,2,    607.1,2,   2280.2,2,     7.81,2, -999.00,  -999.0, -999.00,  -999.0
    31DSCG96_1,  P15S,    58,  2,    232,   1039,2,19960125,1545,-54.0012,-169.9892, 5013,   -999,     43.7,   7.1735,  34.1343,2,  34.1352,2,    301.8,2,  7.1694,    301.4,2,     3.60,2,    19.13,2,     0.18,2,     1.36,2,    4.545,6,    2.336,6,   -999.0,9,  -999.00,9,   2099.6,2,    612.9,2,   2286.7,3,     7.81,2, -999.00,  -999.0, -999.00,  -999.0
    31DSCG96_1,  P15S,    58,  2,    231,   1014,2,19960125,1545,-54.0012,-169.9892, 5013,   -999,     70.2,   6.7140,  34.1416,2,  34.1432,2,    302.1,2,  6.7077,    302.2,6,     3.92,2,    19.32,2,     0.17,2,     1.38,2,    4.668,2,    2.408,2,   -999.0,9,  -999.00,9,   2102.1,2,    614.7,2,   2283.8,2,     7.81,2, -999.00,  -999.0, -999.00,  -999.0
    31DSCG96_1,  P15S,    58,  2,    230,   1257,2,19960125,1545,-54.0012,-169.9892, 5013,   -999,     93.8,   6.2549,  34.1683,2,  34.1684,2,    300.4,2,  6.2468,    299.6,2,     4.86,2,    19.49,2,     0.21,2,     1.42,2,    4.637,2,    2.383,2,   -999.0,9,  -999.00,9,   2108.0,2,    641.4,2,   2283.5,2,     7.79,2, -999.00,  -999.0, -999.00,  -999.0
    31DSCG96_1,  P15S,    58,  2,    229,   1256,2,19960125,1545,-54.0012,-169.9892, 5013,   -999,    142.2,   5.4191,  34.1949,2,  34.1951,2,    292.2,2,  5.4078,    296.0,2,     7.47,2,    21.36,2,     0.19,2,     1.49,2,    4.627,2,    2.364,2,   -999.0,9,  -999.00,9,   2118.4,2,    689.1,2,   2282.2,2,     7.77,2, -999.00,  -999.0, -999.00,  -999.0
    31DSCG96_1,  P15S,    58,  2,    228,   1007,2,19960125,1545,-54.0012,-169.9892, 5013,   -999,    193.0,   5.1020,  34.1750,2,  34.1754,2,    294.5,2,  5.0870,    295.4,2,     8.19,2,    22.21,2,     0.06,2,     1.53,2,    4.571,2,    2.342,2,   -999.0,9,  -999.00,9,   2119.6,2,    700.2,2,   2280.9,2,     7.76,2, -999.00,  -999.0, -999.00,  -999.0
    31DSCG96_1,  P15S,    58,  2,    227,   1234,2,19960125,1545,-54.0012,-169.9892, 5013,   -999,    243.8,   4.9124,  34.1671,2,  34.1702,2,    295.0,2,  4.8938,    293.2,6,     9.07,2,    22.90,2,     0.01,2,     1.58,2,    4.516,2,    2.303,2,   -999.0,9,  -999.00,9,   2124.2,2,    723.6,2,   2283.8,2,     7.76,2, -999.00,  -999.0, -999.00,  -999.0
    31DSCG96_1,  P15S,    58,  2,    226,   1025,2,19960125,1545,-54.0012,-169.9892, 5013,   -999,    291.5,   4.7974,  34.1686,2,  34.1687,2,    290.5,2,  4.7752,    289.2,2,    10.09,2,    23.49,2,     0.01,2,     1.62,2,    4.408,2,    2.242,2,   -999.0,9,  -999.00,9,   2127.5,2,    730.5,2,   2281.1,2,     7.75,2, -999.00,  -999.0, -999.00,  -999.0
    31DSCG96_1,  P15S,    58,  2,    225,   1233,2,19960125,1545,-54.0012,-169.9892, 5013,   -999,    375.2,   4.4450,  34.1605,2,  34.1615,2,    282.2,2,  4.4173,    278.2,2,    12.95,2,    25.18,2,     0.00,2,     1.73,2,    4.121,2,    2.058,2,   -999.0,9,  -999.00,9,   2138.2,2,    778.5,2,   2285.1,2,     7.72,2, -999.00,  -999.0, -999.00,  -999.0
    31DSCG96_1,  P15S,    58,  2,    224,   1218,2,19960125,1545,-54.0012,-169.9892, 5013,   -999,    474.6,   3.9689,  34.1539,2,  34.1557,2,    273.5,2,  3.9353,    270.6,2,    16.81,2,    26.83,2,     0.00,2,     1.84,2,    3.894,2,    1.943,2,   -999.0,9,  -999.00,9,   2148.7,2,    828.1,2,   2284.5,2,     7.70,2, -999.00,  -999.0, -999.00,  -999.0
    31DSCG96_1,  P15S,    58,  2,    223,   1250,2,19960125,1545,-54.0012,-169.9892, 5013,   -999,    576.5,   4.0886,  34.2480,2,  34.2477,2,    233.1,2,  4.0467,    231.3,2,    26.10,2,    29.54,2,     0.00,2,     2.02,2,    2.591,2,    1.255,2,   -999.0,9,  -999.00,9,   2173.1,2,    941.7,2,   2294.1,2,     7.65,2, -999.00,  -999.0, -999.00,  -999.0
    31DSCG96_1,  P15S,    58,  2,    222,   1109,2,19960125,1545,-54.0012,-169.9892, 5013,   -999,    675.2,   3.6460,  34.2637,2,  34.2642,2,    220.9,2,  3.5987,    224.3,2,    32.27,2,    31.00,2,     0.00,2,     2.12,2,    2.278,2,    1.073,2,   -999.0,9,  -999.00,9,   2185.9,2,   1000.5,2,   2296.1,2,     7.63,2, -999.00,  -999.0, -999.00,  -999.0
    31DSCG96_1,  P15S,    58,  2,    221,   1246,2,19960125,1545,-54.0012,-169.9892, 5013,   -999,    773.9,   3.4151,  34.3160,2,  34.3164,2,    209.6,2,  3.3617,    210.3,2,    40.39,2,    32.18,2,     0.01,2,     2.21,2,    1.622,2,    0.769,2,   -999.0,9,  -999.00,9,   2201.9,2,   1045.8,2,   2305.6,2,     7.61,2, -999.00,  -999.0, -999.00,  -999.0
    31DSCG96_1,  P15S,    58,  2,    220,   1015,2,19960125,1545,-54.0012,-169.9892, 5013,   -999,    873.5,   3.1142,  34.3538,2,  34.3544,2,    202.2,2,  3.0552,    201.0,2,    47.70,2,    33.06,2,     0.00,2,     2.27,2,    1.286,2,    0.615,2,   -999.0,9,  -999.00,9,   2218.4,2,   1106.6,2,   2310.9,2,     7.60,2, -999.00,  -999.0, -999.00,  -999.0
    31DSCG96_1,  P15S,    58,  2,    219,   1247,2,19960125,1545,-54.0012,-169.9892, 5013,   -999,    960.6,   2.9041,  34.3960,2,  34.3991,3,    193.9,2,  2.8401,    192.7,2,    54.25,2,    33.67,2,     0.00,2,     2.32,2, -999.000,9, -999.000,9,   -999.0,9,  -999.00,9,   2225.5,2,   1155.5,2,   2319.0,2,     7.58,2, -999.00,  -999.0, -999.00,  -999.0
    31DSCG96_1,  P15S,    58,  2,    218,   1222,2,19960125,1545,-54.0012,-169.9892, 5013,   -999,   1075.2,   2.7370,  34.4548,2,  34.4554,2,    184.9,2,  2.6657,    183.3,2,    61.75,2,    34.12,2,     0.00,2,     2.35,2,    0.693,2,    0.336,2,   -999.0,9,  -999.00,9,   2235.4,2,   1178.9,2,   2323.8,2,     7.57,2, -999.00,  -999.0, -999.00,  -999.0
    31DSCG96_1,  P15S,    58,  2,    217,   1267,2,19960125,1545,-54.0012,-169.9892, 5013,   -999,   1214.4,   2.5875,  34.5184,2,  34.5195,2,    178.0,2,  2.5069,    176.9,2,    68.39,2,    34.16,2,     0.00,2,     2.35,2, -999.000,9, -999.000,9,   -999.0,9,  -999.00,9,   2244.3,2,   1194.9,2,   2333.7,2,     7.57,2, -999.00,  -999.0, -999.00,  -999.0
    31DSCG96_1,  P15S,    58,  2,    216,   1211,2,19960125,1545,-54.0012,-169.9892, 5013,   -999,   1438.5,   2.4164,  34.6072,2,  34.6086,2,    174.4,2,  2.3200,    174.1,2,    75.25,2,    33.58,2,     0.00,2,     2.31,2,    0.257,2,    0.124,2,   -999.0,9,  -999.00,9,   2250.7,2,   1189.5,2,   2338.2,2,     7.57,2, -999.00,  -999.0, -999.00,  -999.0
    31DSCG96_1,  P15S,    58,  2,    215,   1041,2,19960125,1545,-54.0012,-169.9892, 5013,   -999,   1689.4,   2.2971,  34.6696,2,  34.6713,2,    177.4,2,  2.1820,    177.3,2,    79.66,2,    32.66,2,     0.00,2,     2.24,2, -999.000,9, -999.000,9,   -999.0,9,  -999.00,9,   2249.5,2,   1159.7,2,   2345.7,2,     7.58,2, -999.00,  -999.0, -999.00,  -999.0
    31DSCG96_1,  P15S,    58,  2,    214,   1017,2,19960125,1545,-54.0012,-169.9892, 5013,   -999,   1939.3,   2.1556,  34.7100,2,  34.7105,2,    183.1,2,  2.0217,    183.3,2,    83.66,2,    31.78,2,     0.00,2,     2.18,2,    0.085,2,    0.043,2,   -999.0,9,  -999.00,9,   2249.3,2,   1123.6,2,   2349.1,2,     7.59,2, -999.00,  -999.0, -999.00,  -999.0
    31DSCG96_1,  P15S,    58,  2,    213,   1302,2,19960125,1545,-54.0012,-169.9892, 5013,   -999,   2190.3,   1.9551,  34.7322,2,  34.7337,2,    188.5,2,  1.8028,    189.3,6,    89.16,2,    31.18,2,     0.00,2,     2.14,2, -999.000,9, -999.000,9,   -155.5,2,     0.48,2,   2251.1,2,   1086.7,2,   2355.0,2,     7.61,2, -999.00,     2.5, -999.00,  -999.0
    31DSCG96_1,  P15S,    58,  2,    212,   1217,2,19960125,1545,-54.0012,-169.9892, 5013,   -999,   2438.5,   1.7893,  34.7367,2,  34.7376,2,    193.2,2,  1.6180,    192.9,2,    93.92,2,    31.20,2,     0.00,2,     2.14,2,    0.042,2,    0.025,2,   -156.1,2,     0.44,2,   2250.2,2,   1081.8,2,   2355.2,2,     7.61,2, -999.00,     2.4, -999.00,  -999.0
    31DSCG96_1,  P15S,    58,  2,    211,   1114,2,19960125,1545,-54.0012,-169.9892, 5013,   -999,   2690.5,   1.6021,  34.7357,2,  34.7372,2,    195.6,2,  1.4117,    196.2,2,    99.39,2,    31.31,2,     0.00,2,     2.15,2,    0.035,6,    0.019,6,   -158.0,2,     0.47,2,   2252.8,2,   1083.1,2,   2360.8,2,     7.61,2, -999.00,     2.3, -999.00,  -999.0
    31DSCG96_1,  P15S,    58,  2,    210,   1301,2,19960125,1545,-54.0012,-169.9892, 5013,   -999,   2939.8,   1.4398,  34.7315,2,  34.7319,2,    198.3,2,  1.2297,    198.6,2,   104.46,2,    31.37,3,     0.00,2,     2.16,2,    0.024,2,    0.016,2,   -160.9,2,     0.46,2,   2256.9,2,   1092.5,2,   2362.2,2,     7.61,2, -999.00,     3.7, -999.00,  -999.0
    31DSCG96_1,  P15S,    58,  2,    209,   1242,2,19960125,1545,-54.0012,-169.9892, 5013,   -999,   3191.7,   1.2685,  34.7252,2,  34.7256,2,    201.0,2,  1.0383,    201.6,2,   109.66,2,    31.57,3,     0.00,2,     2.17,2,    0.029,2,    0.021,2,   -174.4,2,     0.46,2,   2256.8,2,   1079.2,2,   2364.5,2,     7.61,2, -999.00,     2.9, -999.00,  -999.0
    31DSCG96_1,  P15S,    58,  2,    208,   1263,2,19960125,1545,-54.0012,-169.9892, 5013,   -999,   3440.9,   1.1485,  34.7200,2,  34.7200,2,    203.3,2,  0.8969,    203.2,2,   113.32,2,    31.98,2,     0.00,2,     2.18,2,    0.035,2,    0.020,2,   -171.3,2,     0.45,2,   2257.3,2,   1081.9,2,   2361.3,2,     7.61,2, -999.00,     3.4, -999.00,  -999.0
    31DSCG96_1,  P15S,    58,  2,    207,   1245,2,19960125,1545,-54.0012,-169.9892, 5013,   -999,   3691.5,   1.0326,  34.7148,2,  34.7155,2,    205.4,2,  0.7587,    205.5,2,   116.77,2,    32.11,2,     0.00,2,     2.19,2,    0.050,2,    0.023,2,   -172.7,2,     0.45,2,   2256.7,2,   1083.4,2,   2365.3,2,     7.61,2, -999.00,     3.0, -999.00,  -999.0
    31DSCG96_1,  P15S,    58,  2,    206,   1262,2,19960125,1545,-54.0012,-169.9892, 5013,   -999,   3940.5,   0.9373,  34.7098,2,  34.7103,2,    207.2,2,  0.6404,    207.6,2,   120.21,2,    32.26,2,     0.00,2,     2.20,2,    0.045,2,    0.031,2,   -197.9,3,     0.45,2,   2258.4,2,   1086.5,2,   2362.8,2,     7.61,2, -999.00,    18.1, -999.00,  -999.0
    31DSCG96_1,  P15S,    58,  2,    205,   1113,2,19960125,1545,-54.0012,-169.9892, 5013,   -999,   4188.1,   0.9064,  34.7074,2,  34.7070,2,    208.0,2,  0.5840,    208.6,2,   121.70,2,    32.32,2,     0.00,2,     2.21,2,    0.061,2,    0.031,2,   -174.3,2,     0.47,2,   2259.7,2,   1091.2,2,   2366.5,2,     7.61,2, -999.00,     3.0, -999.00,  -999.0
    31DSCG96_1,  P15S,    58,  2,    204,   1003,2,19960125,1545,-54.0012,-169.9892, 5013,   -999,   4440.9,   0.8946,  34.7057,2,  34.7063,2,    208.5,2,  0.5449,    208.5,2,   123.20,2,    32.38,2,     0.00,2,     2.21,2,    0.062,2,    0.032,2,   -999.0,5,     0.39,3,   2259.6,2,   1090.5,2,   2363.3,2,     7.61,2, -999.00,  -999.0, -999.00,  -999.0
    31DSCG96_1,  P15S,    58,  2,    202,   1030,2,19960125,1545,-54.0012,-169.9892, 5013,   -999,   4874.7,   0.9157,  34.7045,2,  34.7050,2,    209.2,2,  0.5158,    209.1,2,   124.07,6,    32.42,6,     0.00,6,     2.21,6,    0.072,2,    0.044,2,   -171.7,2,     0.44,2,   2259.9,2,   1094.3,2,   2368.7,2,     7.61,2, -999.00,     3.1, -999.00,  -999.0
    31DSCG96_1,  P15S,    58,  2,    203,   9999,2,19960125,1545,-54.0012,-169.9892, 5013,   -999,   4875.7,   0.9157,  34.7047,2,  34.7049,2,    209.2,2,  0.5157,    209.1,2,   124.19,2,    32.41,2,     0.00,2,     2.21,2,    0.075,2,    0.036,2,   -175.7,2,     0.44,2,   2260.0,2,   1092.9,2,   2367.6,2,     7.61,2, -999.00,     2.7, -999.00,  -999.0
    31DSCG96_1,  P15S,    58,  2,    201,   1022,2,19960125,1545,-54.0012,-169.9892, 5013,   -999,   5137.5,   0.9395,  34.7040,2,  34.7057,2,    209.4,2,  0.5076,    209.6,2,   124.50,6,    32.40,2,     0.00,6,     2.22,6,    0.088,2,    0.045,2,   -174.0,2,     0.45,2,   2259.1,2,   1106.2,3,   2372.2,3,     7.61,2, -999.00,     3.0, -999.00,  -999.0