BOTTLE,20220811CCHSIOAMB
EXPOCODE,SECT_ID,STNNBR,CASTNO,SAMPNO,BTLNBR,BTLNBR_FLAG_W,DATE,TIME,LATITUDE,LONGITUDE,DEPTH,CTDRAW,CTDPRS,CTDTMP,CTDSAL,CTDSAL_FLAG_W,SALNTY,SALNTY_FLAG_W,CTDOXY,CTDOXY_FLAG_W,THETA,OXYGEN,OXYGEN_FLAG_W,SILCAT,SILCAT_FLAG_W,NITRAT,NITRAT_FLAG_W,NITRIT,NITRIT_FLAG_W,PHSPHT,PHSPHT_FLAG_W,CFC-11,CFC-11_FLAG_W,CFC-12,CFC-12_FLAG_W,DELC14,DELC14_FLAG_W,DELC13,DELC13_FLAG_W,TCARBN,TCARBN_FLAG_W,PCO2,PCO2_FLAG_W,ALKALI,ALKALI_FLAG_W,PH,PH_FLAG_W,PCO2TMP,C14ERR,PH_TMP,C13ERR
,,,,,,,,,,,,DBAR,DBAR,ITS-90,PSS-78,,PSS-78,,UMOL/KG,,DEG C,UMOL/KG,,UMOL/KG,,UMOL/KG,,UMOL/KG,,UMOL/KG,,PMOL/KG,,PMOL/KG,,/MILLE,,/MILLE,,UMOL/KG,,UATM,,UMOL/KG,,,,DEG C,/MILLE,DEG C,/MILLE
    31DSCG96_2,  P15S,   129,  1,    136,   1245,2,19960223,0720,-23.9962,-170.0017, 5637,   -999,      5.4,  26.5264,  35.4179,2,  35.4177,2,    206.5,2, 26.5252,    203.4,2,     1.03,2,     0.02,2,     0.00,2,     0.00,3,    1.737,2,    0.994,2,     85.7,2,  -999.00,9,   1958.1,2,    277.4,3,   2324.7,2,     8.13,2, -999.00,     3.7, -999.00,  -999.0
    31DSCG96_2,  P15S,   129,  1,    135,   1113,2,19960223,0720,-23.9962,-170.0017, 5637,   -999,     30.4,  26.5312,  35.4160,2,  35.4214,2,    204.5,2, 26.5243,    203.2,2,     1.16,2,     0.02,2,     0.00,2,     0.01,3,    1.770,6,    1.002,6,   -999.0,9,  -999.00,9,   -999.0,9,   -999.0,9,   -999.0,9,     8.13,2, -999.00,  -999.0, -999.00,  -999.0
    31DSCG96_2,  P15S,   129,  1,    134,   1216,2,19960223,0720,-23.9962,-170.0017, 5637,   -999,     53.7,  22.7582,  35.7241,2,  35.7262,2,    221.5,2, 22.7473,    224.9,2,     1.20,2,     0.02,2,     0.00,2,     0.06,2,    2.122,2,    1.166,2,   -999.0,9,  -999.00,9,   2000.6,2,    281.3,2,   2343.2,2,     8.09,2, -999.00,  -999.0, -999.00,  -999.0
    31DSCG96_2,  P15S,   129,  1,    133,   1221,2,19960223,0720,-23.9962,-170.0017, 5637,   -999,     79.6,  21.1984,  35.7426,2,  35.7441,2,    218.2,2, 21.1830,    220.3,2,     1.21,2,     0.02,2,     0.00,2,     0.08,2,    2.172,2,    1.213,2,   -999.0,9,  -999.00,9,   -999.0,9,   -999.0,9,   -999.0,9,     8.07,2, -999.00,  -999.0, -999.00,  -999.0
    31DSCG96_2,  P15S,   129,  1,    132,   1039,2,19960223,0720,-23.9962,-170.0017, 5637,   -999,    114.1,  20.0821,  35.7526,2,  35.7539,2,    205.9,2, 20.0608,    213.2,2,     1.28,2,     0.07,2,     0.02,2,     0.12,2,    2.224,2,    1.207,2,   -999.0,9,  -999.00,9,   2031.7,2,    325.4,2,   2345.6,2,     8.05,2, -999.00,  -999.0, -999.00,  -999.0
    31DSCG96_2,  P15S,   129,  1,    131,   1014,2,19960223,0720,-23.9962,-170.0017, 5637,   -999,    163.1,  18.9050,  35.6869,2,  35.6884,2,    195.6,2, 18.8759,    195.2,6,     1.50,2,     2.64,2,     0.02,2,     0.29,2,    2.207,2,    1.180,2,   -999.0,9,  -999.00,9,   2052.7,2,    362.3,2,   2338.2,2,     8.00,2, -999.00,  -999.0, -999.00,  -999.0
    31DSCG96_2,  P15S,   129,  1,    130,   1257,2,19960223,0720,-23.9962,-170.0017, 5637,   -999,    219.9,  17.5897,  35.5764,2,  35.5821,2,    200.1,2, 17.5524,    194.8,2,     1.72,2,     3.89,2,     0.01,2,     0.37,2,    2.203,2,    1.165,2,   -999.0,9,  -999.00,9,   2065.4,2,    390.3,2,   2333.6,2,     7.97,2, -999.00,  -999.0, -999.00,  -999.0
    31DSCG96_2,  P15S,   129,  1,    129,   1256,2,19960223,0720,-23.9962,-170.0017, 5637,   -999,    266.2,  16.7481,  35.5412,2,  35.5429,2,    204.1,2, 16.7044,    202.9,2,     1.81,2,     3.99,2,     0.01,2,     0.38,2,    2.346,2,    1.230,2,   -999.0,9,  -999.00,9,   2067.4,2,    406.6,2,   2328.8,2,     7.96,2, -999.00,  -999.0, -999.00,  -999.0
    31DSCG96_2,  P15S,   129,  1,    128,   1007,2,19960223,0720,-23.9962,-170.0017, 5637,   -999,    323.2,  15.1156,  35.3422,2,  35.3409,2,    202.3,2, 15.0661,    198.4,2,     2.53,2,     6.71,2,     0.01,2,     0.56,2,    2.256,2,    1.169,2,   -999.0,9,  -999.00,9,   2082.7,2,    482.0,3,   2320.3,2,     7.91,2, -999.00,  -999.0, -999.00,  -999.0
    31DSCG96_2,  P15S,   129,  1,    127,   1232,2,19960223,0720,-23.9962,-170.0017, 5637,   -999,    421.5,  12.2245,  34.9720,2,  34.9658,2,    193.6,2, 12.1683,    191.7,2,     4.34,2,    13.05,2,     0.00,2,     0.95,2,    1.831,2,    0.918,2,   -999.0,9,  -999.00,9,   -999.0,9,   -999.0,9,   -999.0,9,     7.82,3, -999.00,  -999.0, -999.00,  -999.0
    31DSCG96_2,  P15S,   129,  1,    126,   1025,2,19960223,0720,-23.9962,-170.0017, 5637,   -999,    534.8,   8.4465,  34.5302,2,  34.5383,3,    207.8,2,  8.3898,    207.4,2,     6.90,2,    20.05,2,     0.00,2,     1.40,2,    1.253,2,    0.622,2,   -999.0,9,  -999.00,9,   2131.5,2,    710.5,2,   2286.4,2,     7.75,2, -999.00,  -999.0, -999.00,  -999.0
    31DSCG96_2,  P15S,   129,  1,    125,   1119,2,19960223,0720,-23.9962,-170.0017, 5637,   -999,    623.1,   7.0851,  34.4118,2,  34.4110,2,    222.7,2,  7.0251,    224.2,2,     8.69,2,    22.80,2,     0.00,2,     1.57,2,    1.008,2,    0.498,2,   -999.0,9,  -999.00,9,   -999.0,9,   -999.0,9,   -999.0,9,     7.73,2, -999.00,  -999.0, -999.00,  -999.0
    31DSCG96_2,  P15S,   129,  1,    124,   1013,2,19960223,0720,-23.9962,-170.0017, 5637,   -999,    720.1,   6.3159,  34.3548,2,  34.3549,2,    223.6,2,  6.2503,    222.7,2,    11.89,2,    25.05,2,     0.00,2,     1.71,2,    0.581,2,    0.299,2,   -999.0,9,  -999.00,9,   -999.0,9,   -999.0,9,   -999.0,9,  -999.00,9, -999.00,  -999.0, -999.00,  -999.0
    31DSCG96_2,  P15S,   129,  1,    123,   1250,2,19960223,0720,-23.9962,-170.0017, 5637,   -999,    819.3,   5.6033,  34.3277,2,  34.3275,2,    214.4,2,  5.5326,    212.2,2,    17.99,2,    27.75,2,     0.00,2,     1.90,2,    0.272,2,    0.146,2,   -999.0,9,  -999.00,9,   2160.1,2,    852.3,2,   2289.5,2,  -999.00,9, -999.00,  -999.0, -999.00,  -999.0
    31DSCG96_2,  P15S,   129,  1,    122,   1265,2,19960223,0720,-23.9962,-170.0017, 5637,   -999,    925.9,   4.9708,  34.3463,2,  34.3455,2,    191.4,2,  4.8945,    190.2,6,    29.34,2,    30.89,2,     0.00,2,     2.14,2,    0.094,2,    0.053,2,   -999.0,9,  -999.00,9,   -999.0,9,   -999.0,9,   -999.0,9,     7.63,2, -999.00,  -999.0, -999.00,  -999.0
    31DSCG96_2,  P15S,   129,  1,    121,   1246,2,19960223,0720,-23.9962,-170.0017, 5637,   -999,   1024.5,   4.4038,  34.3873,2,  34.3869,2,    176.1,2,  4.3231,    172.9,2,    42.87,2,    33.15,2,     0.00,2,     2.28,2,    0.024,2,    0.013,2,   -999.0,9,  -999.00,9,   2212.2,2,   1053.9,3,   2311.0,2,     7.60,2, -999.00,  -999.0, -999.00,  -999.0
    31DSCG96_2,  P15S,   129,  1,    120,   1015,2,19960223,0720,-23.9962,-170.0017, 5637,   -999,   1136.9,   3.9501,  34.4228,2,  34.4243,2,    164.5,2,  3.8635,    165.3,2,    53.80,2,    34.19,2,     0.00,2,     2.35,2,    0.007,2,    0.004,2,   -999.0,9,  -999.00,9,   -999.0,9,   -999.0,9,   -999.0,9,     7.59,2, -999.00,  -999.0, -999.00,  -999.0
    31DSCG96_2,  P15S,   129,  1,    119,   1247,2,19960223,0720,-23.9962,-170.0017, 5637,   -999,   1318.2,   3.0957,  34.4917,2,  34.4922,2,    162.5,2,  3.0020,    164.1,2,    72.23,2,    34.89,2,     0.00,2,     2.40,2,   -0.001,2,    0.001,2,   -999.0,9,  -999.00,9,   -999.0,9,   -999.0,9,   -999.0,9,     7.58,2, -999.00,  -999.0, -999.00,  -999.0
    31DSCG96_2,  P15S,   129,  1,    118,   1299,2,19960223,0720,-23.9962,-170.0017, 5637,   -999,   1562.0,   2.5613,  34.5829,2,  34.5832,2,    152.8,2,  2.4535,    151.7,2,    98.52,2,    35.66,2,     0.00,2,     2.47,2,    0.023,4,    0.001,2,   -999.0,9,  -999.00,9,   2279.9,2,   1176.7,2,   2373.7,2,     7.57,2, -999.00,  -999.0, -999.00,  -999.0
    31DSCG96_2,  P15S,   129,  1,    117,   1267,2,19960223,0720,-23.9962,-170.0017, 5637,   -999,   1814.4,   2.3327,  34.6184,2,  34.6177,2,    145.8,2,  2.2070,    146.2,2,   111.74,2,    36.16,2,     0.00,2,     2.51,2,    0.002,2,    0.001,2,   -999.0,9,  -999.00,9,   -999.0,9,   -999.0,9,   -999.0,9,     7.57,2, -999.00,  -999.0, -999.00,  -999.0
    31DSCG96_2,  P15S,   129,  1,    116,   1259,2,19960223,0720,-23.9962,-170.0017, 5637,   -999,   2059.5,   2.1652,  34.6349,2,  34.6345,2,    144.9,2,  2.0211,    144.8,2,   118.64,2,    36.37,2,     0.00,2,     2.52,2,   -0.002,2,    0.002,2,   -999.0,9,  -999.00,9,   2306.0,2,   1197.2,2,   2396.7,2,     7.57,2, -999.00,  -999.0, -999.00,  -999.0
    31DSCG96_2,  P15S,   129,  1,    115,   1041,2,19960223,0720,-23.9962,-170.0017, 5637,   -999,   2330.5,   2.0134,  34.6484,2,  34.6498,2,    145.1,2,  1.8481,    144.8,6,   124.75,2,    36.41,2,     0.00,2,     2.52,2, -999.000,9, -999.000,9,   -999.0,9,  -999.00,9,   -999.0,9,   -999.0,9,   -999.0,9,     7.57,2, -999.00,  -999.0, -999.00,  -999.0
    31DSCG96_2,  P15S,   129,  1,    114,   1017,2,19960223,0720,-23.9962,-170.0017, 5637,   -999,   2563.6,   1.9111,  34.6573,2,  34.6557,2,    145.0,2,  1.7266,    144.9,2,   129.02,2,    36.48,2,     0.00,2,     2.52,2,   -0.001,2,    0.001,2,   -999.0,9,  -999.00,9,   2311.5,2,   1231.9,2,   2409.3,2,     7.57,2, -999.00,  -999.0, -999.00,  -999.0
    31DSCG96_2,  P15S,   129,  1,    113,   1302,2,19960223,0720,-23.9962,-170.0017, 5637,   -999,   2814.3,   1.8065,  34.6658,2,  34.6654,2,    146.2,2,  1.6007,    146.2,2,   132.55,2,    36.36,2,     0.00,2,     2.52,2,   -0.001,2,    0.000,2,   -999.0,9,  -999.00,9,   -999.0,9,   -999.0,9,   -999.0,9,     7.57,2, -999.00,  -999.0, -999.00,  -999.0
    31DSCG96_2,  P15S,   129,  1,    112,   1217,2,19960223,0720,-23.9962,-170.0017, 5637,   -999,   3063.4,   1.7079,  34.6744,2,  34.6731,2,    149.6,2,  1.4804,    150.5,2,   133.46,2,    36.05,2,     0.00,2,     2.49,2,   -0.001,2,    0.001,2,   -999.0,9,  -999.00,9,   2314.5,2,   1185.4,2,   2409.1,2,     7.58,2, -999.00,  -999.0, -999.00,  -999.0
    31DSCG96_2,  P15S,   129,  1,    111,   1114,2,19960223,0720,-23.9962,-170.0017, 5637,   -999,   3314.1,   1.6012,  34.6882,2,  34.6883,2,    161.2,2,  1.3513,    163.2,2,   128.11,2,    35.00,2,     0.00,2,     2.41,2, -999.000,9, -999.000,9,   -999.0,9,  -999.00,9,   -999.0,9,   -999.0,9,   -999.0,9,  -999.00,9, -999.00,  -999.0, -999.00,  -999.0
    31DSCG96_2,  P15S,   129,  1,    110,   1301,2,19960223,0720,-23.9962,-170.0017, 5637,   -999,   3564.4,   1.4911,  34.7129,2,  34.7133,2,    185.3,2,  1.2184,    186.6,2,   113.69,2,    32.85,2,     0.00,2,     2.25,2, -999.000,9, -999.000,9,   -999.0,9,  -999.00,9,   2267.9,2,   1080.8,2,   2376.6,2,     7.60,2, -999.00,  -999.0, -999.00,  -999.0
    31DSCG96_2,  P15S,   129,  1,    109,   1233,2,19960223,0720,-23.9962,-170.0017, 5637,   -999,   3815.5,   1.3486,  34.7195,2,  34.7197,2,    196.7,2,  1.0534,    197.2,2,   111.53,2,    32.14,2,     0.00,2,     2.20,2,    0.007,2,    0.002,2,   -999.0,9,  -999.00,9,   -999.0,9,   -999.0,9,   -999.0,9,     7.61,2, -999.00,  -999.0, -999.00,  -999.0
    31DSCG96_2,  P15S,   129,  1,    108,   1227,2,19960223,0720,-23.9962,-170.0017, 5637,   -999,   4063.0,   1.2162,  34.7176,2,  34.7172,2,    200.6,2,  0.8983,    201.5,2,   114.05,2,    32.05,2,     0.00,2,     2.20,2,    0.006,2,    0.004,2,   -999.0,9,  -999.00,9,   2257.1,2,   -999.0,9,   2365.8,2,     7.61,2, -999.00,  -999.0, -999.00,  -999.0
    31DSCG96_2,  P15S,   129,  1,    107,   1263,2,19960223,0720,-23.9962,-170.0017, 5637,   -999,   4313.1,   1.1051,  34.7138,2,  34.7154,2,    203.3,2,  0.7631,    204.3,2,   117.05,2,    32.05,2,     0.00,2,     2.20,2,    0.008,2,    0.004,2,   -999.0,9,  -999.00,9,   -999.0,9,   -999.0,9,   -999.0,9,     7.61,2, -999.00,  -999.0, -999.00,  -999.0
    31DSCG96_2,  P15S,   129,  1,    106,   1262,2,19960223,0720,-23.9962,-170.0017, 5637,   -999,   4545.4,   1.0671,  34.7112,2,  34.7107,2,    204.3,2,  0.7003,    205.4,2,   118.76,2,    32.08,2,     0.00,2,     2.20,2,    0.007,2,    0.004,2,   -999.0,9,  -999.00,9,   2257.3,2,   1042.7,2,   2368.0,2,     7.61,2, -999.00,  -999.0, -999.00,  -999.0
    31DSCG96_2,  P15S,   129,  1,    105,   1264,2,19960223,0720,-23.9962,-170.0017, 5637,   -999,   4815.4,   1.0401,  34.7093,2,  34.7087,2,    205.7,2,  0.6430,    206.2,2,   120.31,2,    32.11,2,     0.00,2,     2.21,2,    0.007,2,    0.004,2,   -999.0,9,  -999.00,9,   -999.0,9,   -999.0,9,   -999.0,9,     7.61,2, -999.00,  -999.0, -999.00,  -999.0
    31DSCG96_2,  P15S,   129,  1,    104,   1003,2,19960223,0720,-23.9962,-170.0017, 5637,   -999,   5063.1,   1.0471,  34.7081,2,  34.7080,2,    204.9,2,  0.6204,    206.1,2,   121.02,2,    32.16,2,     0.00,2,     2.21,2,    0.008,2,    0.005,2,   -999.0,9,  -999.00,9,   2259.0,2,   1045.0,3,   2368.0,2,     7.61,3, -999.00,  -999.0, -999.00,  -999.0
    31DSCG96_2,  P15S,   129,  1,    103,   1035,2,19960223,0720,-23.9962,-170.0017, 5637,   -999,   5323.8,   1.0692,  34.7078,2,  34.7074,2,    195.9,4,  0.6101,    206.8,2,   121.31,2,    32.17,2,     0.00,2,     2.22,2,    0.008,2,    0.006,2,   -999.0,9,  -999.00,9,   -999.0,9,   -999.0,9,   -999.0,9,     7.61,3, -999.00,  -999.0, -999.00,  -999.0
    31DSCG96_2,  P15S,   129,  1,    102,   1030,2,19960223,0720,-23.9962,-170.0017, 5637,   -999,   5601.9,   1.0987,  34.7074,2,  34.7073,2,    184.4,4,  0.6037,    206.7,6,   121.49,2,    32.16,2,     0.00,2,     2.22,2,    0.009,6,    0.005,6,   -999.0,9,  -999.00,9,   -999.0,9,   -999.0,9,   -999.0,9,     7.61,2, -999.00,  -999.0, -999.00,  -999.0
    31DSCG96_2,  P15S,   129,  1,    101,   1022,2,19960223,0720,-23.9962,-170.0017, 5637,   -999,   5779.7,   1.1194,  34.7064,2,  34.7070,2,    173.8,4,  0.6009,    206.4,3,   121.56,6,    32.18,6,     0.00,6,     2.22,2,    0.014,2,    0.007,2,   -999.0,9,  -999.00,9,   2258.6,2,   1044.8,2,   2370.9,2,     7.61,2, -999.00,  -999.0, -999.00,  -999.0