BOTTLE,20220811CCHSIOAMB
EXPOCODE,SECT_ID,STNNBR,CASTNO,SAMPNO,BTLNBR,BTLNBR_FLAG_W,DATE,TIME,LATITUDE,LONGITUDE,DEPTH,CTDRAW,CTDPRS,CTDTMP,CTDSAL,CTDSAL_FLAG_W,SALNTY,SALNTY_FLAG_W,CTDOXY,CTDOXY_FLAG_W,THETA,OXYGEN,OXYGEN_FLAG_W,SILCAT,SILCAT_FLAG_W,NITRAT,NITRAT_FLAG_W,NITRIT,NITRIT_FLAG_W,PHSPHT,PHSPHT_FLAG_W,CFC-11,CFC-11_FLAG_W,CFC-12,CFC-12_FLAG_W,DELC14,DELC14_FLAG_W,DELC13,DELC13_FLAG_W,TCARBN,TCARBN_FLAG_W,PCO2,PCO2_FLAG_W,ALKALI,ALKALI_FLAG_W,PH,PH_FLAG_W,PCO2TMP,C14ERR,PH_TMP,C13ERR
,,,,,,,,,,,,DBAR,DBAR,ITS-90,PSS-78,,PSS-78,,UMOL/KG,,DEG C,UMOL/KG,,UMOL/KG,,UMOL/KG,,UMOL/KG,,UMOL/KG,,PMOL/KG,,PMOL/KG,,/MILLE,,/MILLE,,UMOL/KG,,UATM,,UMOL/KG,,,,DEG C,/MILLE,DEG C,/MILLE
    31DSCG96_1,  P14S,     8,  1,    132,   1039,3,19960109,1338,-54.3293, 171.3368, 2615,   -999,     11.1,   6.7215,  34.0858,2,  34.0857,2,    300.7,2,  6.7205,    303.8,3,     3.26,2,    19.74,2,     0.26,2,     1.35,2, -999.000,9, -999.000,9,   -999.0,9,  -999.00,9,   2103.0,2,   -999.0,9,   -999.0,9,  -999.00,9, -999.00,  -999.0, -999.00,  -999.0
    31DSCG96_1,  P14S,     8,  1,    131,   1042,2,19960109,1338,-54.3293, 171.3368, 2615,   -999,     11.7,   6.7248,  34.0864,2,  34.0885,2,    300.6,2,  6.7238,    302.8,2,     3.25,2,    19.80,2,     0.25,2,     1.36,2,    4.654,2,    2.385,2,   -999.0,9,  -999.00,9,   2104.7,2,    609.4,6,   -999.0,9,     7.81,2, -999.00,  -999.0, -999.00,  -999.0
    31DSCG96_1,  P14S,     8,  1,    130,   1257,2,19960109,1338,-54.3293, 171.3368, 2615,   -999,     20.8,   6.6237,  34.0900,2,  34.0891,2,    300.3,2,  6.6219,    302.5,2,     3.24,2,    19.74,2,     0.25,2,     1.35,2, -999.000,9, -999.000,9,   -999.0,9,  -999.00,9,   2105.0,2,    613.4,2,   -999.0,9,     7.80,2, -999.00,  -999.0, -999.00,  -999.0
    31DSCG96_1,  P14S,     8,  1,    129,   1256,2,19960109,1338,-54.3293, 171.3368, 2615,   -999,     44.0,   6.5940,  34.0952,2,  34.0940,2,    300.0,2,  6.5901,    302.6,2,     3.23,2,    19.66,2,     0.24,2,     1.35,2, -999.000,9, -999.000,9,   -999.0,9,  -999.00,9,   2105.1,2,    620.8,2,   -999.0,9,     7.81,2, -999.00,  -999.0, -999.00,  -999.0
    31DSCG96_1,  P14S,     8,  1,    128,   1007,2,19960109,1338,-54.3293, 171.3368, 2615,   -999,     68.3,   6.7104,  34.1329,2,  34.1311,2,    300.9,2,  6.7043,    300.8,2,     3.46,2,    19.31,2,     0.22,2,     1.32,2,    4.576,2,    2.319,2,   -999.0,9,  -999.00,9,   2107.6,2,    622.6,2,   -999.0,9,     7.81,3, -999.00,  -999.0, -999.00,  -999.0
    31DSCG96_1,  P14S,     8,  1,    127,   1234,2,19960109,1338,-54.3293, 171.3368, 2615,   -999,     93.4,   6.4418,  34.1185,2,  34.1176,2,    301.4,2,  6.4337,    301.0,2,     3.67,2,    19.63,2,     0.23,2,     1.36,2, -999.000,9, -999.000,9,   -999.0,9,  -999.00,9,   2108.2,2,   -999.0,9,   -999.0,9,     7.81,2, -999.00,  -999.0, -999.00,  -999.0
    31DSCG96_1,  P14S,     8,  1,    126,   1025,2,19960109,1338,-54.3293, 171.3368, 2615,   -999,    118.7,   6.8557,  34.2715,2,  34.2708,2,    285.1,2,  6.8449,    288.9,2,     5.15,2,    18.86,2,     0.35,2,     1.30,2,    4.289,2,    2.234,2,   -999.0,9,  -999.00,9,   2113.3,2,    640.5,2,   -999.0,9,     7.80,2, -999.00,  -999.0, -999.00,  -999.0
    31DSCG96_1,  P14S,     8,  1,    125,   1233,2,19960109,1338,-54.3293, 171.3368, 2615,   -999,    144.5,   6.9644,  34.3050,2,  34.3059,2,    282.6,2,  6.9511,    284.9,2,     5.26,2,    19.06,2,     0.14,2,     1.30,2, -999.000,9, -999.000,9,   -999.0,9,  -999.00,9,   2112.1,2,   -999.0,9,   -999.0,9,     7.79,2, -999.00,  -999.0, -999.00,  -999.0
    31DSCG96_1,  P14S,     8,  1,    124,   1218,2,19960109,1338,-54.3293, 171.3368, 2615,   -999,    170.5,   7.0662,  34.3417,2,  34.3362,2,    279.9,2,  7.0503,    280.1,2,     5.78,2,    19.23,2,     0.05,2,     1.31,2, -999.000,9, -999.000,9,   -999.0,9,  -999.00,9,   2114.9,2,    650.7,2,   -999.0,9,     7.79,2, -999.00,  -999.0, -999.00,  -999.0
    31DSCG96_1,  P14S,     8,  1,    123,   1250,2,19960109,1338,-54.3293, 171.3368, 2615,   -999,    196.0,   6.5686,  34.2702,2,  34.2795,2,    273.9,2,  6.5511,    280.3,2,     6.43,2,    20.36,2,     0.08,2,     1.38,2,    4.229,2,    2.142,2,   -999.0,9,  -999.00,9,   2120.4,2,   -999.0,9,   -999.0,9,     7.78,2, -999.00,  -999.0, -999.00,  -999.0
    31DSCG96_1,  P14S,     8,  1,    122,   1109,2,19960109,1338,-54.3293, 171.3368, 2615,   -999,    220.8,   6.3829,  34.2611,2,  34.2621,2,    272.8,2,  6.3635,    278.8,2,     7.01,2,    20.86,2,     0.10,2,     1.41,2, -999.000,9, -999.000,9,   -999.0,9,  -999.00,9,   2121.5,2,    680.8,2,   -999.0,9,     7.78,2, -999.00,  -999.0, -999.00,  -999.0
    31DSCG96_1,  P14S,     8,  1,    121,   1246,2,19960109,1338,-54.3293, 171.3368, 2615,   -999,    244.6,   6.6186,  34.3131,2,  34.3142,2,    281.9,2,  6.5965,    270.5,2,     7.87,2,    20.91,2,     0.03,2,     1.41,2, -999.000,9, -999.000,9,   -999.0,9,  -999.00,9,   2124.0,2,   -999.0,9,   -999.0,9,     7.77,2, -999.00,  -999.0, -999.00,  -999.0
    31DSCG96_1,  P14S,     8,  1,    120,   1209,2,19960109,1338,-54.3293, 171.3368, 2615,   -999,    290.9,   5.2691,  34.1237,2,  34.1245,2,    275.8,2,  5.2459,    286.5,2,     8.05,2,    22.99,2,     0.06,2,     1.54,2,    4.418,2,    2.250,2,   -999.0,9,  -999.00,9,   2127.0,2,   -999.0,9,   -999.0,9,     7.76,2, -999.00,  -999.0, -999.00,  -999.0
    31DSCG96_1,  P14S,     8,  1,    119,   1247,2,19960109,1338,-54.3293, 171.3368, 2615,   -999,    340.4,   5.3680,  34.1706,2,  34.1686,2,    246.8,2,  5.3405,    275.2,2,     9.92,2,    23.60,2,     0.05,2,     1.59,2, -999.000,9, -999.000,9,   -999.0,9,  -999.00,9,   2131.7,2,    738.3,2,   -999.0,9,     7.75,2, -999.00,  -999.0, -999.00,  -999.0
    31DSCG96_1,  P14S,     8,  1,    118,   1222,2,19960109,1338,-54.3293, 171.3368, 2615,   -999,    388.6,   6.0024,  34.3204,2,  34.3187,2,    265.7,2,  5.9688,    240.6,2,    14.58,2,    24.79,2,     0.03,2,     1.67,2,    2.900,4,    1.469,4,   -999.0,9,  -999.00,9,   2147.5,2,   -999.0,9,   -999.0,9,     7.72,2, -999.00,  -999.0, -999.00,  -999.0
    31DSCG96_1,  P14S,     8,  1,    117,   1104,2,19960109,1338,-54.3293, 171.3368, 2615,   -999,    439.4,   5.2265,  34.2538,2,  34.2548,2,    273.4,2,  5.1911,    244.7,2,    16.39,2,    26.23,2,     0.01,2,     1.75,2,    3.180,2,    1.561,2,   -999.0,9,  -999.00,9,   2153.5,2,    833.3,2,   -999.0,9,     7.70,2, -999.00,  -999.0, -999.00,  -999.0
    31DSCG96_1,  P14S,     8,  1,    116,   1211,2,19960109,1338,-54.3293, 171.3368, 2615,   -999,    488.5,   4.9420,  34.2572,2,  34.2572,2,    256.6,2,  4.9035,    239.1,2,    19.07,2,    27.29,2,     0.01,2,     1.82,2, -999.000,9, -999.000,9,   -999.0,9,  -999.00,9,   2160.5,2,   -999.0,9,   -999.0,9,     7.68,2, -999.00,  -999.0, -999.00,  -999.0
    31DSCG96_1,  P14S,     8,  1,    115,   1041,2,19960109,1338,-54.3293, 171.3368, 2615,   -999,    538.5,   4.0657,  34.1809,2,  34.1826,2,    258.5,2,  4.0268,    253.1,2,    20.71,2,    28.10,2,     0.05,2,     1.88,2,    3.442,4,    1.680,4,   -999.0,9,  -999.00,9,   2161.9,2,    879.6,2,   -999.0,9,     7.68,2, -999.00,  -999.0, -999.00,  -999.0
    31DSCG96_1,  P14S,     8,  1,    114,   1017,2,19960109,1338,-54.3293, 171.3368, 2615,   -999,    590.8,   4.0341,  34.2177,2,  34.2194,2,    235.2,2,  3.9913,    241.6,2,    23.76,2,    28.91,2,     0.03,2,     1.94,2, -999.000,9, -999.000,9,   -999.0,9,  -999.00,9,   2170.1,2,   -999.0,9,   -999.0,9,     7.67,2, -999.00,  -999.0, -999.00,  -999.0
    31DSCG96_1,  P14S,     8,  1,    113,   1008,2,19960109,1338,-54.3293, 171.3368, 2615,   -999,    675.2,   4.0927,  34.3284,2,  34.3264,2,    216.5,2,  4.0430,    211.6,2,    34.08,2,    30.77,2,     0.01,2,     2.07,2,    1.563,2,    0.767,2,   -999.0,9,  -999.00,9,   2190.5,2,   -999.0,9,   -999.0,9,     7.63,2, -999.00,  -999.0, -999.00,  -999.0
    31DSCG96_1,  P14S,     8,  1,    112,   1217,2,19960109,1338,-54.3293, 171.3368, 2615,   -999,    775.2,   3.5716,  34.3304,2,  34.3302,2,    209.2,2,  3.5171,    208.2,2,    40.16,2,    31.97,2,     0.00,2,     2.16,2,    1.467,2,    0.703,2,   -999.0,9,  -999.00,9,   2201.2,2,   1045.3,2,   -999.0,9,     7.62,2, -999.00,  -999.0, -999.00,  -999.0
    31DSCG96_1,  P14S,     8,  1,    111,   1114,2,19960109,1338,-54.3293, 171.3368, 2615,   -999,    875.8,   3.2800,  34.3721,2,  34.3717,2,    201.7,2,  3.2196,    198.7,2,    47.70,2,    32.81,2,     0.00,2,     2.22,2,    1.115,2,    0.542,2,   -999.0,9,  -999.00,9,   2213.1,2,   -999.0,9,   -999.0,9,     7.60,3, -999.00,  -999.0, -999.00,  -999.0
    31DSCG96_1,  P14S,     8,  1,    110,   1036,2,19960109,1338,-54.3293, 171.3368, 2615,   -999,    975.1,   2.8558,  34.4009,2,  34.4012,2,    194.0,2,  2.7911,    192.1,2,    54.94,2,    33.83,2,     0.00,2,     2.29,2,    0.975,2,    0.482,2,   -999.0,9,  -999.00,9,   2229.9,2,   -999.0,9,   -999.0,9,     7.58,2, -999.00,  -999.0, -999.00,  -999.0
    31DSCG96_1,  P14S,     8,  1,    109,   1216,2,19960109,1338,-54.3293, 171.3368, 2615,   -999,   1074.1,   2.7680,  34.4457,2,  34.4459,2,    186.8,2,  2.6965,    185.0,2,    59.97,2,    34.11,2,     0.00,2,     2.30,2,    0.723,2,    0.357,2,   -999.0,9,  -999.00,9,   2237.1,2,   1171.1,2,   -999.0,9,     7.57,2, -999.00,  -999.0, -999.00,  -999.0
    31DSCG96_1,  P14S,     8,  1,    108,   1018,3,19960109,1338,-54.3293, 171.3368, 2615,   -999,   1213.6,   2.6640,  34.5128,2,  34.5121,2,    178.4,2,  2.5827,   -999.0,9,  -999.00,9,  -999.00,9,  -999.00,9,  -999.00,9, -999.000,5, -999.000,5,   -999.0,9,  -999.00,9,   -999.0,9,   -999.0,9,   -999.0,9,  -999.00,9, -999.00,  -999.0, -999.00,  -999.0
    31DSCG96_1,  P14S,     8,  1,    107,   1245,2,19960109,1338,-54.3293, 171.3368, 2615,   -999,   1439.6,   2.5234,  34.5774,2,  34.5777,2,    176.0,2,  2.4258,    175.9,2,    72.05,2,    33.70,2,     0.00,2,     2.27,2,    0.320,2,    0.161,2,   -999.0,9,  -999.00,9,   2250.1,2,   -999.0,9,   -999.0,9,     7.57,2, -999.00,  -999.0, -999.00,  -999.0
    31DSCG96_1,  P14S,     8,  1,    106,   1262,2,19960109,1338,-54.3293, 171.3368, 2615,   -999,   1688.8,   2.4752,  34.6134,2,  34.6123,2,    177.4,2,  2.3580,    176.3,2,    75.33,2,    33.30,2,     0.00,2,     2.24,2,    0.229,2,    0.108,2,   -999.0,9,  -999.00,9,   2249.7,2,   1169.3,2,   -999.0,9,     7.58,2, -999.00,  -999.0, -999.00,  -999.0
    31DSCG96_1,  P14S,     8,  1,    105,   1113,2,19960109,1338,-54.3293, 171.3368, 2615,   -999,   1938.3,   2.4532,  34.6301,2,  34.6295,2,    178.5,2,  2.3152,    176.8,2,    76.60,2,    33.09,2,     0.00,2,     2.23,2,    0.195,2,    0.095,2,   -999.0,9,  -999.00,9,   2250.9,2,   1166.0,2,   -999.0,9,     7.58,2, -999.00,  -999.0, -999.00,  -999.0
    31DSCG96_1,  P14S,     8,  1,    104,   1003,2,19960109,1338,-54.3293, 171.3368, 2615,   -999,   2188.9,   2.3460,  34.6741,2,  34.6733,2,    180.2,2,  2.1876,    178.2,2,    79.22,2,    32.56,2,     0.00,2,     2.19,2,    0.164,2,    0.081,2,   -999.0,9,  -999.00,9,   2250.9,2,   1155.6,2,   -999.0,9,     7.58,2, -999.00,  -999.0, -999.00,  -999.0
    31DSCG96_1,  P14S,     8,  1,    103,   9999,2,19960109,1338,-54.3293, 171.3368, 2615,   -999,   2435.6,   2.0335,  34.7246,2,  34.7238,2,    190.6,2,  1.8582,    189.1,2,    87.80,2,    31.43,2,     0.00,2,     2.10,3,    0.079,2,    0.041,2,   -999.0,9,  -999.00,9,   2250.9,2,   -999.0,9,   -999.0,9,     7.61,2, -999.00,  -999.0, -999.00,  -999.0
    31DSCG96_1,  P14S,     8,  1,    102,   1027,2,19960109,1338,-54.3293, 171.3368, 2615,   -999,   2436.9,   2.0331,  34.7243,2,  34.7241,2,    190.7,2,  1.8576,    188.3,2,    87.74,2,    31.44,2,     0.00,2,     2.09,3,    0.080,2,    0.050,2,   -999.0,9,  -999.00,9,   2250.3,2,   1096.7,2,   -999.0,9,     7.61,2, -999.00,  -999.0, -999.00,  -999.0
    31DSCG96_1,  P14S,     8,  1,    101,   1022,2,19960109,1338,-54.3293, 171.3368, 2615,   -999,   2579.8,   1.8251,  34.7370,2,  34.7364,2,    195.4,2,  1.6405,    193.6,2,    93.26,6,    31.15,6,     0.00,6,     2.10,6,    0.065,2,    0.035,2,   -999.0,9,  -999.00,9,   2252.4,2,   1084.4,2,   -999.0,9,     7.61,2, -999.00,  -999.0, -999.00,  -999.0