BOTTLE,20220811CCHSIOAMB
EXPOCODE,SECT_ID,STNNBR,CASTNO,SAMPNO,BTLNBR,BTLNBR_FLAG_W,DATE,TIME,LATITUDE,LONGITUDE,DEPTH,CTDRAW,CTDPRS,CTDTMP,CTDSAL,CTDSAL_FLAG_W,SALNTY,SALNTY_FLAG_W,CTDOXY,CTDOXY_FLAG_W,THETA,OXYGEN,OXYGEN_FLAG_W,SILCAT,SILCAT_FLAG_W,NITRAT,NITRAT_FLAG_W,NITRIT,NITRIT_FLAG_W,PHSPHT,PHSPHT_FLAG_W,CFC-11,CFC-11_FLAG_W,CFC-12,CFC-12_FLAG_W,DELC14,DELC14_FLAG_W,DELC13,DELC13_FLAG_W,TCARBN,TCARBN_FLAG_W,PCO2,PCO2_FLAG_W,ALKALI,ALKALI_FLAG_W,PH,PH_FLAG_W,PCO2TMP,C14ERR,PH_TMP,C13ERR
,,,,,,,,,,,,DBAR,DBAR,ITS-90,PSS-78,,PSS-78,,UMOL/KG,,DEG C,UMOL/KG,,UMOL/KG,,UMOL/KG,,UMOL/KG,,UMOL/KG,,PMOL/KG,,PMOL/KG,,/MILLE,,/MILLE,,UMOL/KG,,UATM,,UMOL/KG,,,,DEG C,/MILLE,DEG C,/MILLE
    31DSCG96_1,  P15S,    80,  2,    230,   1257,4,19960131,1707,-44.5303,-173.4895, 3408,   -999,     69.1,  12.2003,  34.9187,2,-999.0000,9,    249.8,2, 12.1912,   -999.0,9,  -999.00,9,  -999.00,9,  -999.00,9,  -999.00,9, -999.000,9, -999.000,9,   -999.0,9,  -999.00,9,   -999.0,9,   -999.0,9,   -999.0,9,  -999.00,9, -999.00,  -999.0, -999.00,  -999.0
    31DSCG96_1,  P15S,    80,  2,    229,   1256,4,19960131,1707,-44.5303,-173.4895, 3408,   -999,     93.6,  11.6758,  34.9060,2,-999.0000,9,    243.3,2, 11.6639,   -999.0,9,  -999.00,9,  -999.00,9,  -999.00,9,  -999.00,9, -999.000,9, -999.000,9,   -999.0,9,  -999.00,9,   -999.0,9,   -999.0,9,   -999.0,9,  -999.00,9, -999.00,  -999.0, -999.00,  -999.0
    31DSCG96_1,  P15S,    80,  2,    228,   1007,4,19960131,1707,-44.5303,-173.4895, 3408,   -999,    119.4,  11.3036,  34.9072,2,  34.7316,4,    241.0,2, 11.2887,    230.8,3,    11.31,3,    15.39,3,     0.01,3,     1.07,3, -999.000,9, -999.000,9,   -999.0,9,  -999.00,9,   -999.0,9,   -999.0,9,   -999.0,9,  -999.00,9, -999.00,  -999.0, -999.00,  -999.0
    31DSCG96_1,  P15S,    80,  2,    227,   1232,2,19960131,1707,-44.5303,-173.4895, 3408,   -999,    146.2,  11.1391,  34.8872,2,-999.0000,5,    240.8,2, 11.1210,    242.1,6,     3.84,2,    10.25,2,     0.02,2,     0.76,2, -999.000,9, -999.000,9,   -999.0,9,  -999.00,9,   2097.1,2,    540.5,2,   2302.1,2,     7.85,2, -999.00,  -999.0, -999.00,  -999.0
    31DSCG96_1,  P15S,    80,  2,    226,   1025,2,19960131,1707,-44.5303,-173.4895, 3408,   -999,    170.3,  10.6561,  34.8089,2,  34.8059,2,    239.1,2, 10.6356,    240.3,2,     3.98,2,    11.24,2,     0.01,2,     0.82,2, -999.000,9, -999.000,9,   -999.0,9,  -999.00,9,   -999.0,9,   -999.0,9,   -999.0,9,     7.84,2, -999.00,  -999.0, -999.00,  -999.0
    31DSCG96_1,  P15S,    80,  2,    225,   1233,2,19960131,1707,-44.5303,-173.4895, 3408,   -999,    195.1,  10.3168,  34.7582,2,  34.7585,2,    238.0,2, 10.2938,    241.4,2,     4.14,2,    11.95,2,     0.01,2,     0.88,2, -999.000,9, -999.000,9,   -999.0,9,  -999.00,9,   2102.5,2,    571.2,2,   2291.1,2,     7.83,2, -999.00,  -999.0, -999.00,  -999.0
    31DSCG96_1,  P15S,    80,  2,    224,   1218,2,19960131,1707,-44.5303,-173.4895, 3408,   -999,    219.7,  10.1078,  34.7329,2,  34.7329,2,    238.7,2, 10.0822,    240.4,2,     4.29,2,    12.53,2,     0.01,2,     0.92,2, -999.000,9, -999.000,9,   -999.0,9,  -999.00,9,   -999.0,9,   -999.0,9,   -999.0,9,     7.83,2, -999.00,  -999.0, -999.00,  -999.0
    31DSCG96_1,  P15S,    80,  2,    223,   1250,2,19960131,1707,-44.5303,-173.4895, 3408,   -999,    244.9,   9.7375,  34.6884,2,  34.6877,2,    239.3,2,  9.7096,    238.9,2,     4.74,2,    13.74,2,     0.01,2,     1.00,2, -999.000,9, -999.000,9,   -999.0,9,  -999.00,9,   2110.0,2,    608.0,2,   2294.2,2,     7.82,2, -999.00,  -999.0, -999.00,  -999.0
    31DSCG96_1,  P15S,    80,  2,    222,   1109,2,19960131,1707,-44.5303,-173.4895, 3408,   -999,    290.9,   9.4396,  34.6720,2,  34.6687,2,    232.4,2,  9.4070,    227.0,2,     6.04,2,    16.05,2,     0.01,2,     1.14,2, -999.000,9, -999.000,9,   -999.0,9,  -999.00,9,   -999.0,9,   -999.0,9,   -999.0,9,     7.78,2, -999.00,  -999.0, -999.00,  -999.0
    31DSCG96_1,  P15S,    80,  2,    221,   1246,2,19960131,1707,-44.5303,-173.4895, 3408,   -999,    340.2,   8.9933,  34.6223,2,  34.6215,2,    228.9,2,  8.9562,    223.1,6,     6.91,2,    17.87,2,     0.00,2,     1.25,2, -999.000,9, -999.000,9,   -999.0,9,  -999.00,9,   2127.6,2,    690.8,2,   2287.1,2,     7.77,2, -999.00,  -999.0, -999.00,  -999.0
    31DSCG96_1,  P15S,    80,  2,    220,   1015,2,19960131,1707,-44.5303,-173.4895, 3408,   -999,    391.2,   8.5754,  34.5740,2,  34.5722,2,    230.5,2,  8.5339,    226.2,2,     7.37,2,    18.83,2,     0.00,2,     1.32,2, -999.000,9, -999.000,9,   -999.0,9,  -999.00,9,   -999.0,9,   -999.0,9,   -999.0,9,  -999.00,9, -999.00,  -999.0, -999.00,  -999.0
    31DSCG96_1,  P15S,    80,  2,    219,   1247,2,19960131,1707,-44.5303,-173.4895, 3408,   -999,    433.2,   8.2142,  34.5242,2,  34.5229,2,    216.3,2,  8.1693,    234.0,2,     7.34,2,    19.28,2,     0.01,2,     1.35,2, -999.000,9, -999.000,9,   -999.0,9,  -999.00,9,   2128.8,2,    699.0,2,   2289.1,2,     7.76,2, -999.00,  -999.0, -999.00,  -999.0
    31DSCG96_1,  P15S,    80,  2,    218,   1222,2,19960131,1707,-44.5303,-173.4895, 3408,   -999,    489.6,   7.9291,  34.4952,2,  34.4950,2,    226.1,2,  7.8792,    237.9,2,     7.82,2,    19.73,2,     0.01,2,     1.38,2, -999.000,9, -999.000,9,   -999.0,9,  -999.00,9,   -999.0,9,   -999.0,9,   -999.0,9,  -999.00,9, -999.00,  -999.0, -999.00,  -999.0
    31DSCG96_1,  P15S,    80,  2,    217,   1267,2,19960131,1707,-44.5303,-173.4895, 3408,   -999,    576.4,   7.5154,  34.4485,2,  34.4475,2,    233.6,2,  7.4582,    248.1,2,     7.87,2,    20.02,2,     0.00,2,     1.41,2, -999.000,9, -999.000,9,   -999.0,9,  -999.00,9,   2126.7,2,    692.8,2,   2295.3,3,     7.76,2, -999.00,  -999.0, -999.00,  -999.0
    31DSCG96_1,  P15S,    80,  2,    216,   1211,2,19960131,1707,-44.5303,-173.4895, 3408,   -999,    674.6,   7.2699,  34.4404,2,  34.4390,2,    231.1,2,  7.2037,    234.6,2,    10.01,2,    21.89,2,     0.00,2,     1.53,2, -999.000,9, -999.000,9,   -999.0,9,  -999.00,9,   -999.0,9,   -999.0,9,   -999.0,9,  -999.00,9, -999.00,  -999.0, -999.00,  -999.0
    31DSCG96_1,  P15S,    80,  2,    215,   1041,2,19960131,1707,-44.5303,-173.4895, 3408,   -999,    777.9,   6.8594,  34.4180,2,  34.4175,2,    219.8,2,  6.7850,    223.2,6,    12.66,2,    23.85,2,     0.00,2,     1.65,2, -999.000,9, -999.000,9,   -999.0,9,  -999.00,9,   2145.6,2,    782.5,2,   2289.8,2,     7.72,2, -999.00,  -999.0, -999.00,  -999.0
    31DSCG96_1,  P15S,    80,  2,    214,   1017,2,19960131,1707,-44.5303,-173.4895, 3408,   -999,    877.0,   6.1741,  34.3648,2,  34.3659,2,    221.8,2,  6.0942,    226.1,2,    16.47,2,    25.29,2,     0.00,2,     1.75,2, -999.000,9, -999.000,9,   -999.0,9,  -999.00,9,   -999.0,9,   -999.0,9,   -999.0,9,  -999.00,9, -999.00,  -999.0, -999.00,  -999.0
    31DSCG96_1,  P15S,    80,  2,    213,   1302,2,19960131,1707,-44.5303,-173.4895, 3408,   -999,    976.4,   5.6160,  34.3600,2,  34.3605,2,    213.9,2,  5.5305,    212.8,2,    22.64,2,    27.58,2,     0.00,2,     1.90,2,    1.480,2,    0.740,2,   -999.0,9,  -999.00,9,   2168.7,2,    885.8,2,   2294.6,2,     7.68,2, -999.00,  -999.0, -999.00,  -999.0
    31DSCG96_1,  P15S,    80,  2,    212,   1217,2,19960131,1707,-44.5303,-173.4895, 3408,   -999,   1075.3,   5.4920,  34.4505,2,  34.4500,2,    188.2,2,  5.3979,    187.2,2,    35.00,2,    29.39,2,     0.00,2,     2.02,2,    0.260,2,    0.193,2,   -999.0,9,  -999.00,9,   -999.0,9,   -999.0,9,   -999.0,9,  -999.00,9, -999.00,  -999.0, -999.00,  -999.0
    31DSCG96_1,  P15S,    80,  2,    211,   1114,2,19960131,1707,-44.5303,-173.4895, 3408,   -999,   1212.4,   4.7468,  34.4658,2,  34.4652,2,    181.2,2,  4.6464,    178.6,2,    47.76,2,    31.25,2,     0.00,2,     2.15,2, -999.000,9, -999.000,9,   -999.0,9,  -999.00,9,   2211.9,2,   1009.7,2,   2321.8,2,     7.63,2, -999.00,  -999.0, -999.00,  -999.0
    31DSCG96_1,  P15S,    80,  2,    210,   1301,2,19960131,1707,-44.5303,-173.4895, 3408,   -999,   1433.4,   3.5623,  34.4669,2,  34.4660,2,    180.6,2,  3.4541,    176.1,2,    61.69,2,    33.40,2,     0.00,2,     2.30,2, -999.000,9, -999.000,9,   -999.0,9,  -999.00,9,   -999.0,9,   -999.0,9,   -999.0,9,  -999.00,9, -999.00,  -999.0, -999.00,  -999.0
    31DSCG96_1,  P15S,    80,  2,    209,   1242,2,19960131,1707,-44.5303,-173.4895, 3408,   -999,   1686.8,   2.9100,  34.5296,2,  34.5293,2,    162.1,2,  2.7876,    168.0,2,    76.56,2,    34.48,2,     0.00,2,     2.37,2, -999.000,9, -999.000,9,   -999.0,9,  -999.00,9,   2254.0,2,   1173.0,2,   2341.9,2,     7.58,2, -999.00,  -999.0, -999.00,  -999.0
    31DSCG96_1,  P15S,    80,  2,    208,   1263,2,19960131,1707,-44.5303,-173.4895, 3408,   -999,   1937.2,   2.6111,  34.5927,2,  34.5926,2,    162.9,2,  2.4710,    162.0,2,    89.76,2,    34.66,2,     0.00,2,     2.39,2, -999.000,9, -999.000,9,   -999.0,9,  -999.00,9,   -999.0,9,   -999.0,9,   -999.0,9,  -999.00,9, -999.00,  -999.0, -999.00,  -999.0
    31DSCG96_1,  P15S,    80,  2,    207,   1245,2,19960131,1707,-44.5303,-173.4895, 3408,   -999,   2190.8,   2.3534,  34.6343,2,  34.6344,2,    164.7,2,  2.1948,    157.2,2,   103.61,6,    34.98,2,     0.00,6,     2.42,2, -999.000,9, -999.000,9,   -999.0,9,  -999.00,9,   2284.2,3,   1186.6,2,   -999.0,5,     7.58,2, -999.00,  -999.0, -999.00,  -999.0
    31DSCG96_1,  P15S,    80,  2,    206,   1262,2,19960131,1707,-44.5303,-173.4895, 3408,   -999,   2439.6,   2.1458,  34.6678,2,  34.6668,2,    163.2,2,  1.9682,    163.1,2,   105.09,6,    34.40,2,     0.00,6,     2.37,2, -999.000,9, -999.000,9,   -999.0,9,  -999.00,9,   -999.0,9,   -999.0,9,   -999.0,9,  -999.00,9, -999.00,  -999.0, -999.00,  -999.0
    31DSCG96_1,  P15S,    80,  2,    205,   1113,2,19960131,1707,-44.5303,-173.4895, 3408,   -999,   2699.9,   2.0183,  34.7165,2,  34.7149,2,    181.8,2,  1.8189,    183.3,2,    93.23,6,    32.28,2,     0.00,6,     2.20,2,    0.042,2,    0.050,4,   -999.0,9,  -999.00,9,   2257.7,2,   1114.1,2,   2362.8,2,     7.60,2, -999.00,  -999.0, -999.00,  -999.0
    31DSCG96_1,  P15S,    80,  2,    204,   1003,2,19960131,1707,-44.5303,-173.4895, 3408,   -999,   2940.5,   1.8177,  34.7306,2,  34.7295,2,    191.1,2,  1.5994,    190.9,2,    96.11,6,    31.75,2,     0.00,6,     2.16,2,    0.035,2,    0.030,2,   -999.0,9,  -999.00,9,   -999.0,9,   -999.0,9,   -999.0,9,  -999.00,9, -999.00,  -999.0, -999.00,  -999.0
    31DSCG96_1,  P15S,    80,  2,    203,   1216,2,19960131,1707,-44.5303,-173.4895, 3408,   -999,   3188.9,   1.5274,  34.7308,2,  34.7301,2,    197.9,2,  1.2914,    198.6,2,   103.33,6,    31.68,6,     0.00,6,     2.16,2,    0.031,6,    0.028,2,   -999.0,9,  -999.00,9,   2254.9,2,   1084.5,2,   2362.4,2,     7.61,2, -999.00,  -999.0, -999.00,  -999.0
    31DSCG96_1,  P15S,    80,  2,    202,   1030,2,19960131,1707,-44.5303,-173.4895, 3408,   -999,   3311.0,   1.3554,  34.7260,2,  34.7250,2,    201.4,2,  1.1115,    202.8,2,   108.20,6,    31.85,6,     0.00,6,     2.17,2,    0.035,2,    0.049,4,   -999.0,9,  -999.00,9,   -999.0,9,   -999.0,9,   -999.0,9,  -999.00,9, -999.00,  -999.0, -999.00,  -999.0
    31DSCG96_1,  P15S,    80,  2,    201,   1022,2,19960131,1707,-44.5303,-173.4895, 3408,   -999,   3448.0,   1.2375,  34.7220,2,  34.7214,2,    203.1,2,  0.9829,    210.7,3,   111.48,6,    31.99,6,     0.00,6,     2.18,6,    0.042,2,    0.151,4,   -999.0,9,  -999.00,9,   2256.1,2,   1092.2,2,   2362.4,2,     7.61,2, -999.00,  -999.0, -999.00,  -999.0