BOTTLE,20220811CCHSIOAMB
EXPOCODE,SECT_ID,STNNBR,CASTNO,SAMPNO,BTLNBR,BTLNBR_FLAG_W,DATE,TIME,LATITUDE,LONGITUDE,DEPTH,CTDRAW,CTDPRS,CTDTMP,CTDSAL,CTDSAL_FLAG_W,SALNTY,SALNTY_FLAG_W,CTDOXY,CTDOXY_FLAG_W,THETA,OXYGEN,OXYGEN_FLAG_W,SILCAT,SILCAT_FLAG_W,NITRAT,NITRAT_FLAG_W,NITRIT,NITRIT_FLAG_W,PHSPHT,PHSPHT_FLAG_W,CFC-11,CFC-11_FLAG_W,CFC-12,CFC-12_FLAG_W,DELC14,DELC14_FLAG_W,DELC13,DELC13_FLAG_W,TCARBN,TCARBN_FLAG_W,PCO2,PCO2_FLAG_W,ALKALI,ALKALI_FLAG_W,PH,PH_FLAG_W,PCO2TMP,C14ERR,PH_TMP,C13ERR
,,,,,,,,,,,,DBAR,DBAR,ITS-90,PSS-78,,PSS-78,,UMOL/KG,,DEG C,UMOL/KG,,UMOL/KG,,UMOL/KG,,UMOL/KG,,UMOL/KG,,PMOL/KG,,PMOL/KG,,/MILLE,,/MILLE,,UMOL/KG,,UATM,,UMOL/KG,,,,DEG C,/MILLE,DEG C,/MILLE
    31DSCG96_1,  P15S,    61,  1,    134,   1119,2,19960126,0925,-52.9993,-170.0085, 5185,   -999,     10.3,   9.8729,  34.3924,2,  34.3934,2,    284.6,2,  9.8718,    286.1,2,     1.03,2,    11.61,2,     0.15,2,     0.85,2,    3.944,2,    2.076,2,     40.2,2,  -999.00,9,   2075.9,2,    513.3,2,   2295.5,3,     7.88,2, -999.00,     3.4, -999.00,  -999.0
    31DSCG96_1,  P15S,    61,  1,    133,   1221,2,19960126,0925,-52.9993,-170.0085, 5185,   -999,     29.6,   9.8862,  34.3958,2,  34.3970,2,    284.7,2,  9.8829,    285.9,2,     1.00,2,    11.53,2,     0.16,2,     0.85,2,    3.899,2,    2.040,2,   -999.0,9,  -999.00,9,   -999.0,9,   -999.0,9,   -999.0,9,     7.88,2, -999.00,  -999.0, -999.00,  -999.0
    31DSCG96_1,  P15S,    61,  1,    132,   1039,2,19960126,0925,-52.9993,-170.0085, 5185,   -999,     56.4,   9.4502,  34.3647,2,  34.3680,2,    283.2,2,  9.4440,    286.7,2,     1.14,2,    12.22,2,     0.15,2,     0.90,2,    4.011,2,    2.093,2,   -999.0,9,  -999.00,9,   2076.8,2,    520.2,2,   2292.5,3,     7.87,2, -999.00,  -999.0, -999.00,  -999.0
    31DSCG96_1,  P15S,    61,  1,    131,   1014,2,19960126,0925,-52.9993,-170.0085, 5185,   -999,     79.1,   8.9274,  34.3754,2,  34.3715,2,    275.4,2,  8.9190,    284.7,2,     1.28,2,    13.16,2,     0.21,2,     0.99,2,    4.049,6,    2.140,6,   -999.0,9,  -999.00,9,   -999.0,9,   -999.0,9,   -999.0,9,     7.86,2, -999.00,  -999.0, -999.00,  -999.0
    31DSCG96_1,  P15S,    61,  1,    130,   1257,2,19960126,0925,-52.9993,-170.0085, 5185,   -999,    117.0,   8.1995,  34.4780,2,  34.4781,2,    261.0,2,  8.1876,    267.4,2,     3.83,2,    15.71,2,     0.46,2,     1.16,2,    3.932,2,    2.025,2,   -999.0,9,  -999.00,9,   2110.5,2,    617.7,2,   2288.5,2,     7.80,2, -999.00,  -999.0, -999.00,  -999.0
    31DSCG96_1,  P15S,    61,  1,    129,   1256,2,19960126,0925,-52.9993,-170.0085, 5185,   -999,    167.7,   8.0193,  34.4876,2,  34.4881,2,    267.2,2,  8.0025,    269.5,2,     4.82,2,    16.59,2,     0.02,2,     1.17,2,    3.900,2,    2.023,2,   -999.0,9,  -999.00,9,   -999.0,9,   -999.0,9,   -999.0,9,     7.80,2, -999.00,  -999.0, -999.00,  -999.0
    31DSCG96_1,  P15S,    61,  1,    128,   1007,2,19960126,0925,-52.9993,-170.0085, 5185,   -999,    214.4,   7.4961,  34.4206,2,  34.4203,2,    268.1,2,  7.4754,    267.3,2,     5.69,2,    18.44,2,     0.01,2,     1.28,2,    3.882,2,    1.985,2,   -999.0,9,  -999.00,9,   2118.2,2,    651.8,2,   2285.1,2,     7.78,2, -999.00,  -999.0, -999.00,  -999.0
    31DSCG96_1,  P15S,    61,  1,    127,   1234,2,19960126,0925,-52.9993,-170.0085, 5185,   -999,    261.3,   7.3832,  34.4178,2,  34.4170,2,    280.6,2,  7.3581,    276.3,2,     5.55,2,    18.00,2,     0.00,2,     1.26,2, -999.000,5, -999.000,5,   -999.0,9,  -999.00,9,   -999.0,9,   -999.0,9,   -999.0,9,  -999.00,9, -999.00,  -999.0, -999.00,  -999.0
    31DSCG96_1,  P15S,    61,  1,    126,   1025,2,19960126,0925,-52.9993,-170.0085, 5185,   -999,    332.0,   7.2466,  34.4177,2,  34.4178,2,    270.9,2,  7.2148,    280.2,2,     5.26,2,    17.84,2,     0.02,2,     1.26,2,    4.067,2,    2.096,2,   -999.0,9,  -999.00,9,   2114.2,2,    640.6,2,   2288.3,2,     7.79,2, -999.00,  -999.0, -999.00,  -999.0
    31DSCG96_1,  P15S,    61,  1,    125,   1233,2,19960126,0925,-52.9993,-170.0085, 5185,   -999,    422.1,   6.8079,  34.3593,2,  34.3592,2,    271.6,2,  6.7688,    273.6,2,     6.88,2,    19.93,2,     0.01,2,     1.39,2,    3.900,2,    2.004,2,   -999.0,9,  -999.00,9,   -999.0,9,   -999.0,9,   -999.0,9,     7.77,2, -999.00,  -999.0, -999.00,  -999.0
    31DSCG96_1,  P15S,    61,  1,    124,   1218,2,19960126,0925,-52.9993,-170.0085, 5185,   -999,    528.7,   6.5684,  34.3455,2,  34.3477,2,    270.9,2,  6.5199,    273.2,2,     7.63,2,    20.47,2,     0.00,2,     1.43,2,    3.891,2,    1.988,2,   -999.0,9,  -999.00,9,   2124.3,2,    682.4,2,   2289.1,2,     7.77,2, -999.00,  -999.0, -999.00,  -999.0
    31DSCG96_1,  P15S,    61,  1,    123,   1250,2,19960126,0925,-52.9993,-170.0085, 5185,   -999,    626.4,   6.0881,  34.3039,2,  34.3036,2,    266.1,2,  6.0326,    253.5,2,    10.82,2,    23.03,2,     0.00,2,     1.60,2,    3.400,6,    1.689,6,   -999.0,9,  -999.00,9,   -999.0,9,   -999.0,9,   -999.0,9,     7.74,2, -999.00,  -999.0, -999.00,  -999.0
    31DSCG96_1,  P15S,    61,  1,    122,   1109,2,19960126,0925,-52.9993,-170.0085, 5185,   -999,    725.7,   5.6836,  34.3077,2,  34.3102,2,    254.4,2,  5.6210,    235.1,2,    16.15,2,    25.78,2,     0.00,2,     1.77,2,    2.579,2,    1.245,2,   -999.0,9,  -999.00,9,   2155.8,2,    828.1,2,   2290.2,2,     7.70,2, -999.00,  -999.0, -999.00,  -999.0
    31DSCG96_1,  P15S,    61,  1,    121,   1246,2,19960126,0925,-52.9993,-170.0085, 5185,   -999,    818.8,   5.2051,  34.3159,2,  34.3151,2,    226.4,2,  5.1369,    222.4,2,    21.81,2,    27.93,2,     0.00,2,     1.91,2,    2.045,2,    0.978,2,   -999.0,9,  -999.00,9,   -999.0,9,   -999.0,9,   -999.0,9,     7.67,2, -999.00,  -999.0, -999.00,  -999.0
    31DSCG96_1,  P15S,    61,  1,    120,   1015,2,19960126,0925,-52.9993,-170.0085, 5185,   -999,    922.6,   4.5410,  34.3008,2,  34.3006,2,    217.6,2,  4.4682,    218.9,2,    27.45,2,    29.68,2,     0.00,2,     2.03,2,    1.983,2,    0.950,2,   -999.0,9,  -999.00,9,   2182.2,2,    944.3,2,   2298.8,2,     7.65,2, -999.00,  -999.0, -999.00,  -999.0
    31DSCG96_1,  P15S,    61,  1,    119,   1247,2,19960126,0925,-52.9993,-170.0085, 5185,   -999,   1026.0,   4.0686,  34.3169,2,  34.3168,2,    212.4,2,  3.9906,    211.9,6,    34.10,2,    31.03,2,     0.00,2,     2.12,2,    1.610,2,    0.767,2,   -999.0,9,  -999.00,9,   -999.0,9,   -999.0,9,   -999.0,9,     7.63,2, -999.00,  -999.0, -999.00,  -999.0
    31DSCG96_1,  P15S,    61,  1,    118,   1222,2,19960126,0925,-52.9993,-170.0085, 5185,   -999,   1144.8,   3.5191,  34.3467,2,  34.3461,2,    204.1,2,  3.4358,    203.3,2,    43.07,2,    32.47,2,     0.00,2,     2.22,2,    1.302,2,    0.616,2,   -999.0,9,  -999.00,9,   2209.1,2,   1073.6,2,   2309.1,2,     7.61,2, -999.00,  -999.0, -999.00,  -999.0
    31DSCG96_1,  P15S,    61,  1,    117,   1267,2,19960126,0925,-52.9993,-170.0085, 5185,   -999,   1315.1,   3.0408,  34.4176,2,  34.4192,2,    191.2,2,  2.9480,    189.0,2,    56.30,2,    33.82,2,     0.00,2,     2.32,2,    0.796,2,    0.378,2,   -999.0,9,  -999.00,9,   -999.0,9,   -999.0,9,   -999.0,9,     7.58,2, -999.00,  -999.0, -999.00,  -999.0
    31DSCG96_1,  P15S,    61,  1,    116,   1211,2,19960126,0925,-52.9993,-170.0085, 5185,   -999,   1555.9,   2.6808,  34.5173,2,  34.5174,2,    177.7,2,  2.5722,    176.1,2,    69.36,2,    34.42,2,     0.00,2,     2.36,2,    0.420,2,    0.213,2,   -999.0,9,  -999.00,9,   2247.3,2,   1188.4,2,   2337.6,2,     7.57,2, -999.00,  -999.0, -999.00,  -999.0
    31DSCG96_1,  P15S,    61,  1,    115,   1041,2,19960126,0925,-52.9993,-170.0085, 5185,   -999,   1815.9,   2.4503,  34.6138,2,  34.6132,2,    173.1,2,  2.3228,    173.4,6,    77.46,2,    33.76,2,     0.00,2,     2.31,2,    0.204,2,    0.107,2,   -999.0,9,  -999.00,9,   -999.0,9,   -999.0,9,   -999.0,9,     7.57,2, -999.00,  -999.0, -999.00,  -999.0
    31DSCG96_1,  P15S,    61,  1,    114,   1017,2,19960126,0925,-52.9993,-170.0085, 5185,   -999,   2065.0,   2.3074,  34.6749,2,  34.6755,2,    177.2,2,  2.1605,    178.1,2,    80.79,2,    32.78,2,     0.00,2,     2.24,2,    0.118,2,    0.063,2,   -999.0,9,  -999.00,9,   2253.1,2,   1144.6,2,   2344.9,2,     7.58,2, -999.00,  -999.0, -999.00,  -999.0
    31DSCG96_1,  P15S,    61,  1,    113,   1302,2,19960126,0925,-52.9993,-170.0085, 5185,   -999,   2315.5,   2.1832,  34.7101,2,  34.7096,2,    183.0,2,  2.0161,    183.5,2,    83.87,2,    32.03,2,     0.00,2,     2.19,2,    0.084,6,    0.042,6,   -999.0,9,  -999.00,9,   -999.0,9,   -999.0,9,   -999.0,9,     7.59,2, -999.00,  -999.0, -999.00,  -999.0
    31DSCG96_1,  P15S,    61,  1,    112,   1217,2,19960126,0925,-52.9993,-170.0085, 5185,   -999,   2569.0,   2.0047,  34.7315,2,  34.7315,2,    189.3,2,  1.8176,    189.2,2,    88.60,2,    31.47,2,     0.00,2,     2.15,2,    0.059,2,    0.030,2,   -999.0,9,  -999.00,9,   2251.5,2,   1093.8,2,   2356.3,2,     7.60,2, -999.00,  -999.0, -999.00,  -999.0
    31DSCG96_1,  P15S,    61,  1,    111,   1114,2,19960126,0925,-52.9993,-170.0085, 5185,   -999,   2811.2,   1.8115,  34.7382,2,  34.7372,2,    193.2,2,  1.6057,    193.7,2,    94.03,2,    31.32,2,     0.00,2,     2.14,2,    0.042,2,    0.022,2,   -999.0,9,  -999.00,9,   -999.0,9,   -999.0,9,   -999.0,9,     7.61,2, -999.00,  -999.0, -999.00,  -999.0
    31DSCG96_1,  P15S,    61,  1,    110,   1301,2,19960126,0925,-52.9993,-170.0085, 5185,   -999,   3062.9,   1.6258,  34.7359,2,  34.7359,2,    196.8,2,  1.3998,    196.9,2,    99.69,2,    31.40,2,     0.00,2,     2.15,2,    0.038,2,    0.023,2,   -999.0,9,  -999.00,9,   2254.6,2,   1081.5,2,   2366.1,2,     7.61,2, -999.00,  -999.0, -999.00,  -999.0
    31DSCG96_1,  P15S,    61,  1,    109,   1242,2,19960126,0925,-52.9993,-170.0085, 5185,   -999,   3313.4,   1.4472,  34.7311,2,  34.7302,2,    199.1,2,  1.2008,    199.3,6,   105.23,2,    31.59,2,     0.00,2,     2.16,2,    0.032,2,    0.018,2,   -999.0,9,  -999.00,9,   -999.0,9,   -999.0,9,   -999.0,9,     7.61,2, -999.00,  -999.0, -999.00,  -999.0
    31DSCG96_1,  P15S,    61,  1,    108,   1263,2,19960126,0925,-52.9993,-170.0085, 5185,   -999,   3569.5,   1.2881,  34.7249,2,  34.7245,2,    201.5,2,  1.0200,    202.6,2,   110.09,2,    31.84,2,     0.00,2,     2.18,2,    0.033,2,    0.016,2,   -999.0,9,  -999.00,9,   2258.8,2,   1083.5,2,   2368.4,2,     7.61,2, -999.00,  -999.0, -999.00,  -999.0
    31DSCG96_1,  P15S,    61,  1,    107,   1245,2,19960126,0925,-52.9993,-170.0085, 5185,   -999,   3806.9,   1.1427,  34.7186,2,  34.7180,2,    203.3,2,  0.8540,    204.2,2,   114.37,2,    32.02,2,     0.00,2,     2.18,2,    0.039,2,    0.022,2,   -999.0,9,  -999.00,9,   -999.0,9,   -999.0,9,   -999.0,9,     7.61,2, -999.00,  -999.0, -999.00,  -999.0
    31DSCG96_1,  P15S,    61,  1,    106,   1262,2,19960126,0925,-52.9993,-170.0085, 5185,   -999,   4066.4,   1.0287,  34.7132,2,  34.7135,2,    205.7,2,  0.7158,    206.8,2,   117.97,2,    32.13,2,     0.00,2,     2.19,2,    0.052,2,    0.025,2,   -999.0,9,  -999.00,9,   2259.9,2,   1084.1,2,   2369.1,2,     7.61,2, -999.00,  -999.0, -999.00,  -999.0
    31DSCG96_1,  P15S,    61,  1,    105,   1113,2,19960126,0925,-52.9993,-170.0085, 5185,   -999,   4317.7,   0.9594,  34.7090,2,  34.7096,2,    207.8,2,  0.6213,    208.1,6,   120.47,2,    32.20,2,     0.00,2,     2.20,2,    0.057,2,    0.031,2,   -999.0,9,  -999.00,9,   -999.0,9,   -999.0,9,   -999.0,9,     7.61,2, -999.00,  -999.0, -999.00,  -999.0
    31DSCG96_1,  P15S,    61,  1,    104,   1003,2,19960126,0925,-52.9993,-170.0085, 5185,   -999,   4619.2,   0.9264,  34.7063,2,  34.7061,2,    208.7,2,  0.5557,    208.7,2,   122.40,2,    32.31,2,     0.00,2,     2.21,2,    0.065,2,    0.033,2,   -999.0,9,  -999.00,9,   2259.9,2,   1089.5,2,   2365.7,2,     7.61,2, -999.00,  -999.0, -999.00,  -999.0
    31DSCG96_1,  P15S,    61,  1,    103,   9999,2,19960126,0925,-52.9993,-170.0085, 5185,   -999,   5122.6,   0.9363,  34.7042,2,  34.7041,2,    209.4,2,  0.5063,    209.5,2,   124.07,2,    32.38,2,     0.00,2,     2.21,2,    0.087,6,    0.038,6,   -999.0,9,  -999.00,9,   -999.0,9,   -999.0,9,   -999.0,9,     7.61,2, -999.00,  -999.0, -999.00,  -999.0
    31DSCG96_1,  P15S,    61,  1,    102,   1030,2,19960126,0925,-52.9993,-170.0085, 5185,   -999,   5123.4,   0.9362,  34.7042,2,  34.7048,2,    209.4,2,  0.5062,    209.8,2,   123.95,2,    32.39,2,     0.00,2,     2.21,2,    0.083,2,    0.045,2,   -999.0,9,  -999.00,9,   2260.8,2,   1094.9,2,   2366.5,2,     7.61,2, -999.00,  -999.0, -999.00,  -999.0
    31DSCG96_1,  P15S,    61,  1,    101,   1022,2,19960126,0925,-52.9993,-170.0085, 5185,   -999,   5296.7,   0.9488,  34.7035,2,  34.7036,2,    209.6,2,  0.4973,    209.8,2,   124.35,6,    32.36,6,     0.00,6,     2.21,6,    0.094,2,    0.053,2,   -999.0,9,  -999.00,9,   2261.8,2,   1104.3,2,   2366.6,2,     7.61,2, -999.00,  -999.0, -999.00,  -999.0