BOTTLE,20220811CCHSIOAMB
EXPOCODE,SECT_ID,STNNBR,CASTNO,SAMPNO,BTLNBR,BTLNBR_FLAG_W,DATE,TIME,LATITUDE,LONGITUDE,DEPTH,CTDRAW,CTDPRS,CTDTMP,CTDSAL,CTDSAL_FLAG_W,SALNTY,SALNTY_FLAG_W,CTDOXY,CTDOXY_FLAG_W,THETA,OXYGEN,OXYGEN_FLAG_W,SILCAT,SILCAT_FLAG_W,NITRAT,NITRAT_FLAG_W,NITRIT,NITRIT_FLAG_W,PHSPHT,PHSPHT_FLAG_W,CFC-11,CFC-11_FLAG_W,CFC-12,CFC-12_FLAG_W,DELC14,DELC14_FLAG_W,DELC13,DELC13_FLAG_W,TCARBN,TCARBN_FLAG_W,PCO2,PCO2_FLAG_W,ALKALI,ALKALI_FLAG_W,PH,PH_FLAG_W,PCO2TMP,C14ERR,PH_TMP,C13ERR
,,,,,,,,,,,,DBAR,DBAR,ITS-90,PSS-78,,PSS-78,,UMOL/KG,,DEG C,UMOL/KG,,UMOL/KG,,UMOL/KG,,UMOL/KG,,UMOL/KG,,PMOL/KG,,PMOL/KG,,/MILLE,,/MILLE,,UMOL/KG,,UATM,,UMOL/KG,,,,DEG C,/MILLE,DEG C,/MILLE
    31DSCG96_2,  P15S,   114,  1,    136,   1245,2,19960219,0330,-31.5000,-169.9877, 5496,   -999,      5.3,  23.1240,  35.8204,2,  35.8206,2,    222.3,2, 23.1229,   -999.0,9,     1.26,2,     0.02,2,     0.00,2,     0.04,3, -999.000,9, -999.000,9,   -999.0,9,  -999.00,9,   -999.0,9,   -999.0,9,   -999.0,9,  -999.00,9, -999.00,  -999.0, -999.00,  -999.0
    31DSCG96_2,  P15S,   114,  1,    135,   1113,2,19960219,0330,-31.5000,-169.9877, 5496,   -999,     18.5,  22.8995,  35.8190,2,  35.8191,2,    216.4,2, 22.8957,    215.2,2,     1.26,2,     0.00,2,     0.00,2,     0.05,2,    2.051,6,    1.141,6,   -999.0,9,  -999.00,9,   2029.6,2,    309.8,2,   2347.8,3,     8.06,2, -999.00,  -999.0, -999.00,  -999.0
    31DSCG96_2,  P15S,   114,  1,    134,   1216,2,19960219,0330,-31.5000,-169.9877, 5496,   -999,     43.8,  21.7256,  35.7660,2,  35.7672,2,    222.0,2, 21.7170,    223.1,6,     1.28,2,     0.01,2,     0.00,2,     0.07,2,    2.190,2,    1.209,2,   -999.0,9,  -999.00,9,   2030.6,2,    325.4,2,   2344.6,2,     8.04,2, -999.00,  -999.0, -999.00,  -999.0
    31DSCG96_2,  P15S,   114,  1,    133,   1221,2,19960219,0330,-31.5000,-169.9877, 5496,   -999,     70.2,  18.7614,  35.6320,2,  35.6442,2,    240.1,2, 18.7489,    248.0,2,     1.47,2,     0.02,2,     0.00,2,     0.10,2,    2.473,2,    1.333,2,   -999.0,9,  -999.00,9,   -999.0,9,   -999.0,9,   -999.0,9,     8.03,2, -999.00,  -999.0, -999.00,  -999.0
    31DSCG96_2,  P15S,   114,  1,    132,   1039,2,19960219,0330,-31.5000,-169.9877, 5496,   -999,     97.2,  16.7751,  35.5780,2,  35.5784,2,    238.3,2, 16.7592,    243.5,2,     1.70,2,     0.05,2,     0.00,2,     0.16,2,    2.579,2,    1.368,2,   -999.0,9,  -999.00,9,   2045.3,2,    367.9,2,   2334.4,2,     8.01,2, -999.00,  -999.0, -999.00,  -999.0
    31DSCG96_2,  P15S,   114,  1,    131,   1014,2,19960219,0330,-31.5000,-169.9877, 5496,   -999,    141.4,  15.7712,  35.5082,2,  35.5094,2,    211.9,2, 15.7490,    217.3,2,     2.06,2,     3.93,2,     0.04,2,     0.37,2,    2.588,2,    1.364,2,   -999.0,9,  -999.00,9,   2070.3,2,    424.8,2,   2327.6,2,     7.95,2, -999.00,  -999.0, -999.00,  -999.0
    31DSCG96_2,  P15S,   114,  1,    130,   1257,2,19960219,0330,-31.5000,-169.9877, 5496,   -999,    188.5,  14.7375,  35.3705,2,  35.3718,2,    213.8,2, 14.7092,    212.6,2,     2.73,2,     6.23,2,     0.01,2,     0.52,2,    2.559,2,    1.339,2,   -999.0,9,  -999.00,9,   2081.2,2,    459.9,2,   2324.7,2,     7.92,2, -999.00,  -999.0, -999.00,  -999.0
    31DSCG96_2,  P15S,   114,  1,    129,   1256,2,19960219,0330,-31.5000,-169.9877, 5496,   -999,    241.7,  13.8743,  35.2511,2,  35.2524,2,    209.1,2, 13.8394,    208.1,2,     3.21,2,     7.96,2,     0.01,2,     0.63,2,    2.509,2,    1.304,2,   -999.0,9,  -999.00,9,   2091.9,2,    500.4,2,   2315.7,2,     7.89,2, -999.00,  -999.0, -999.00,  -999.0
    31DSCG96_2,  P15S,   114,  1,    128,   1007,2,19960219,0330,-31.5000,-169.9877, 5496,   -999,    291.2,  12.8199,  35.1148,2,  35.1154,2,    200.4,2, 12.7801,    200.3,2,     4.09,2,    10.97,2,     0.00,2,     0.80,2,    2.385,2,    1.235,2,   -999.0,9,  -999.00,9,   2105.8,2,    553.2,2,   2310.1,2,     7.85,2, -999.00,  -999.0, -999.00,  -999.0
    31DSCG96_2,  P15S,   114,  1,    127,   1232,2,19960219,0330,-31.5000,-169.9877, 5496,   -999,    378.1,  10.4867,  34.7946,2,  34.8006,2,    196.9,2, 10.4412,    196.9,2,     5.62,2,    16.23,2,     0.00,2,     1.13,2,    1.787,2,    0.886,2,   -999.0,9,  -999.00,9,   -999.0,9,   -999.0,9,   -999.0,9,     7.79,2, -999.00,  -999.0, -999.00,  -999.0
    31DSCG96_2,  P15S,   114,  1,    126,   1025,2,19960219,0330,-31.5000,-169.9877, 5496,   -999,    476.3,   8.7503,  34.5920,2,  34.5917,2,    207.1,2,  8.6988,    208.0,2,     6.84,2,    19.66,2,     0.00,2,     1.35,2,    1.545,2,    0.759,2,   -999.0,9,  -999.00,9,   2132.3,2,    711.8,2,   2286.9,2,     7.75,2, -999.00,  -999.0, -999.00,  -999.0
    31DSCG96_2,  P15S,   114,  1,    125,   1233,2,19960219,0330,-31.5000,-169.9877, 5496,   -999,    571.1,   7.6878,  34.4791,2,  34.4787,2,    220.0,2,  7.6304,    220.5,2,     7.74,2,    21.48,2,     0.00,2,     1.46,2,    1.310,2,    0.643,2,   -999.0,9,  -999.00,9,   -999.0,9,   -999.0,9,   -999.0,9,     7.74,2, -999.00,  -999.0, -999.00,  -999.0
    31DSCG96_2,  P15S,   114,  1,    124,   1013,2,19960219,0330,-31.5000,-169.9877, 5496,   -999,    669.0,   7.0113,  34.4152,2,  34.4146,2,    225.8,2,  6.9471,    227.9,2,     8.99,2,    22.81,2,     0.00,2,     1.55,2,    1.014,2,    0.506,2,   -999.0,9,  -999.00,9,   -999.0,9,   -999.0,9,   -999.0,9,     7.73,2, -999.00,  -999.0, -999.00,  -999.0
    31DSCG96_2,  P15S,   114,  1,    123,   1250,2,19960219,0330,-31.5000,-169.9877, 5496,   -999,    773.6,   6.3778,  34.3671,2,  34.3669,2,    225.8,2,  6.3067,    226.4,6,    11.84,2,    24.73,2,     0.00,2,     1.68,2,    0.611,2,    0.318,2,   -999.0,9,  -999.00,9,   2143.2,2,    787.1,2,   2284.8,2,     7.72,2, -999.00,  -999.0, -999.00,  -999.0
    31DSCG96_2,  P15S,   114,  1,    122,   1265,2,19960219,0330,-31.5000,-169.9877, 5496,   -999,    875.9,   5.8114,  34.3409,2,  34.3398,2,    216.8,2,  5.7341,    218.9,2,    16.24,2,    26.74,2,     0.00,2,     1.82,2,    0.333,2,    0.185,2,   -999.0,9,  -999.00,9,   -999.0,9,   -999.0,9,   -999.0,9,     7.69,2, -999.00,  -999.0, -999.00,  -999.0
    31DSCG96_2,  P15S,   114,  1,    121,   1246,2,19960219,0330,-31.5000,-169.9877, 5496,   -999,    977.3,   5.2224,  34.3446,2,  34.3447,2,    204.4,2,  5.1397,    204.0,2,    24.33,2,    29.11,2,     0.00,2,     1.98,2,    0.155,2,    0.088,2,   -999.0,9,  -999.00,9,   2173.1,2,    912.1,2,   2294.6,2,     7.66,2, -999.00,  -999.0, -999.00,  -999.0
    31DSCG96_2,  P15S,   114,  1,    120,   1015,2,19960219,0330,-31.5000,-169.9877, 5496,   -999,   1076.6,   4.6255,  34.3548,2,  34.3535,2,    193.3,2,  4.5385,    194.4,2,    33.09,2,    31.09,2,     0.00,2,     2.11,2,    0.075,2,    0.046,2,   -999.0,9,  -999.00,9,   -999.0,9,   -999.0,9,   -999.0,9,     7.64,2, -999.00,  -999.0, -999.00,  -999.0
    31DSCG96_2,  P15S,   114,  1,    119,   1247,2,19960219,0330,-31.5000,-169.9877, 5496,   -999,   1214.6,   3.8711,  34.3935,2,  34.3932,2,    183.1,2,  3.7787,    182.7,2,    47.09,2,    32.99,2,     0.00,2,     2.26,2,    0.023,2,    0.017,2,   -999.0,9,  -999.00,9,   -999.0,9,   -999.0,9,   -999.0,9,     7.61,2, -999.00,  -999.0, -999.00,  -999.0
    31DSCG96_2,  P15S,   114,  1,    118,   1222,2,19960219,0330,-31.5000,-169.9877, 5496,   -999,   1442.0,   3.0433,  34.4942,2,  34.4960,2,    167.9,2,  2.9400,    166.1,2,    71.02,2,    34.57,2,     0.00,2,     2.38,2,    0.004,2,    0.012,2,   -999.0,9,  -999.00,9,   2245.7,2,   1166.1,3,   2347.6,3,     7.58,2, -999.00,  -999.0, -999.00,  -999.0
    31DSCG96_2,  P15S,   114,  1,    117,   1267,2,19960219,0330,-31.5000,-169.9877, 5496,   -999,   1693.9,   2.5797,  34.5808,2,  34.5811,2,    156.1,2,  2.4608,    156.4,2,    94.34,2,    35.26,2,     0.00,2,     2.44,2,    0.000,2,    0.003,2,   -999.0,9,  -999.00,9,   -999.0,9,   -999.0,9,   -999.0,9,     7.57,2, -999.00,  -999.0, -999.00,  -999.0
    31DSCG96_2,  P15S,   114,  1,    116,   1211,2,19960219,0330,-31.5000,-169.9877, 5496,   -999,   1937.2,   2.3209,  34.6173,2,  34.6205,3,    150.2,2,  2.1850,    149.9,2,   108.97,2,    35.83,2,     0.00,2,     2.47,2,   -0.001,2,    0.001,2,   -999.0,9,  -999.00,9,   2293.4,2,   1233.0,2,   2385.4,2,     7.57,2, -999.00,  -999.0, -999.00,  -999.0
    31DSCG96_2,  P15S,   114,  1,    115,   1041,2,19960219,0330,-31.5000,-169.9877, 5496,   -999,   2188.8,   2.1645,  34.6349,2,  34.6364,2,    147.0,2,  2.0093,    146.8,2,   117.84,2,    36.12,2,     0.00,2,     2.50,2,   -0.002,2,    0.002,2,   -999.0,9,  -999.00,9,   -999.0,9,   -999.0,9,   -999.0,9,     7.57,2, -999.00,  -999.0, -999.00,  -999.0
    31DSCG96_2,  P15S,   114,  1,    114,   1017,2,19960219,0330,-31.5000,-169.9877, 5496,   -999,   2440.1,   2.0471,  34.6475,2,  34.6467,2,    146.6,2,  1.8714,    146.2,2,   123.29,2,    36.14,2,     0.00,2,     2.51,2, -999.000,9, -999.000,9,   -999.0,9,  -999.00,9,   2307.9,2,   1229.9,2,   2403.9,2,     7.57,2, -999.00,  -999.0, -999.00,  -999.0
    31DSCG96_2,  P15S,   114,  1,    113,   1302,2,19960219,0330,-31.5000,-169.9877, 5496,   -999,   2686.4,   1.9492,  34.6569,2,  34.6561,2,    147.2,2,  1.7526,    147.6,2,   126.77,2,    36.13,2,     0.00,2,     2.51,2,   -0.001,2,    0.001,2,   -999.0,9,  -999.00,9,   -999.0,9,   -999.0,9,   -999.0,9,     7.57,2, -999.00,  -999.0, -999.00,  -999.0
    31DSCG96_2,  P15S,   114,  1,    112,   1217,2,19960219,0330,-31.5000,-169.9877, 5496,   -999,   2940.8,   1.8398,  34.6674,2,  34.6693,2,    149.7,2,  1.6213,    149.9,6,   129.02,2,    35.92,2,     0.00,2,     2.49,2, -999.000,9, -999.000,9,   -999.0,9,  -999.00,9,   2309.8,2,   1206.0,2,   2406.0,2,     7.57,2, -999.00,  -999.0, -999.00,  -999.0
    31DSCG96_2,  P15S,   114,  1,    111,   1114,2,19960219,0330,-31.5000,-169.9877, 5496,   -999,   3191.0,   1.7354,  34.6822,2,  34.6826,2,    158.5,2,  1.4946,    159.5,2,   126.08,2,    35.13,2,     0.00,2,     2.43,2,    0.001,2,    0.004,2,   -999.0,9,  -999.00,9,   -999.0,9,   -999.0,9,   -999.0,9,     7.58,2, -999.00,  -999.0, -999.00,  -999.0
    31DSCG96_2,  P15S,   114,  1,    110,   1301,2,19960219,0330,-31.5000,-169.9877, 5496,   -999,   3436.9,   1.6151,  34.7059,2,  34.7057,2,    177.1,2,  1.3524,    178.7,2,   115.47,2,    33.34,2,     0.00,2,     2.29,2, -999.000,9, -999.000,9,   -999.0,9,  -999.00,9,   2277.2,2,   1118.7,2,   2385.1,2,     7.60,2, -999.00,  -999.0, -999.00,  -999.0
    31DSCG96_2,  P15S,   114,  1,    109,   1119,2,19960219,0330,-31.5000,-169.9877, 5496,   -999,   3687.7,   1.4772,  34.7180,2,  34.7176,2,    190.7,2,  1.1920,    192.2,2,   110.79,2,    32.35,2,     0.00,2,     2.22,2,    0.000,2,    0.003,2,   -999.0,9,  -999.00,9,   -999.0,9,   -999.0,9,   -999.0,9,     7.60,2, -999.00,  -999.0, -999.00,  -999.0
    31DSCG96_2,  P15S,   114,  1,    108,   1227,2,19960219,0330,-31.5000,-169.9877, 5496,   -999,   3938.0,   1.3129,  34.7188,2,  34.7190,2,    199.4,2,  1.0057,    198.9,2,   112.28,2,    32.06,2,     0.00,2,     2.20,2, -999.000,9, -999.000,9,   -999.0,9,  -999.00,9,   2258.6,2,   1073.3,2,   2367.2,2,     7.61,2, -999.00,  -999.0, -999.00,  -999.0
    31DSCG96_2,  P15S,   114,  1,    107,   1263,2,19960219,0330,-31.5000,-169.9877, 5496,   -999,   4187.7,   1.1559,  34.7155,2,  34.7155,2,    203.5,2,  0.8262,    203.5,2,   115.92,2,    32.05,2,     0.00,2,     2.19,2,    0.006,2,    0.005,2,   -999.0,9,  -999.00,9,   -999.0,9,   -999.0,9,   -999.0,9,     7.61,2, -999.00,  -999.0, -999.00,  -999.0
    31DSCG96_2,  P15S,   114,  1,    106,   1262,2,19960219,0330,-31.5000,-169.9877, 5496,   -999,   4437.8,   1.0698,  34.7121,2,  34.7120,2,    205.5,2,  0.7149,    205.1,2,   118.70,2,    32.18,2,     0.00,2,     2.20,2, -999.000,9, -999.000,9,   -999.0,9,  -999.00,9,   2258.4,2,   1073.5,2,   2372.2,3,     7.61,2, -999.00,  -999.0, -999.00,  -999.0
    31DSCG96_2,  P15S,   114,  1,    105,   1264,2,19960219,0330,-31.5000,-169.9877, 5496,   -999,   4691.6,   1.0307,  34.7094,2,  34.7099,2,    206.6,2,  0.6483,    206.8,2,   120.40,2,    32.30,2,     0.00,2,     2.20,2,    0.009,2,    0.007,2,   -999.0,9,  -999.00,9,   -999.0,9,   -999.0,9,   -999.0,9,     7.61,2, -999.00,  -999.0, -999.00,  -999.0
    31DSCG96_2,  P15S,   114,  1,    104,   1003,2,19960219,0330,-31.5000,-169.9877, 5496,   -999,   4940.7,   1.0292,  34.7082,2,  34.7072,2,    206.6,2,  0.6178,    207.7,2,   121.33,2,    32.27,2,     0.00,2,     2.21,2,    0.012,6,    0.009,6,   -999.0,9,  -999.00,9,   2259.9,2,   1069.3,2,   2369.1,2,     7.61,2, -999.00,  -999.0, -999.00,  -999.0
    31DSCG96_2,  P15S,   114,  1,    103,    999,2,19960219,0330,-31.5000,-169.9877, 5496,   -999,   5192.3,   1.0436,  34.7073,2,  34.7081,2,    207.1,2,  0.6015,    206.0,2,   121.90,2,    32.35,2,     0.00,2,     2.21,2,    0.013,2,    0.009,2,   -999.0,9,  -999.00,9,   -999.0,9,   -999.0,9,   -999.0,9,     7.61,2, -999.00,  -999.0, -999.00,  -999.0
    31DSCG96_2,  P15S,   114,  1,    102,   1030,2,19960219,0330,-31.5000,-169.9877, 5496,   -999,   5476.9,   1.0743,  34.7070,2,  34.7076,2,    206.9,2,  0.5959,    206.9,2,   122.03,2,    32.37,2,     0.00,2,     2.21,2,    0.013,2,    0.008,2,   -999.0,9,  -999.00,9,   -999.0,9,   -999.0,9,   -999.0,9,     7.61,2, -999.00,  -999.0, -999.00,  -999.0
    31DSCG96_2,  P15S,   114,  1,    101,   1022,2,19960219,0330,-31.5000,-169.9877, 5496,   -999,   5643.5,   1.0963,  34.7067,2,  34.7086,2,    207.0,2,  0.5961,    206.8,2,   121.90,6,    32.30,6,     0.00,6,     2.22,6,    0.015,2,    0.010,2,   -999.0,9,  -999.00,9,   2261.0,2,   1082.3,2,   2370.8,2,     7.61,2, -999.00,  -999.0, -999.00,  -999.0