BOTTLE,20220811CCHSIOAMB
EXPOCODE,SECT_ID,STNNBR,CASTNO,SAMPNO,BTLNBR,BTLNBR_FLAG_W,DATE,TIME,LATITUDE,LONGITUDE,DEPTH,CTDRAW,CTDPRS,CTDTMP,CTDSAL,CTDSAL_FLAG_W,SALNTY,SALNTY_FLAG_W,CTDOXY,CTDOXY_FLAG_W,THETA,OXYGEN,OXYGEN_FLAG_W,SILCAT,SILCAT_FLAG_W,NITRAT,NITRAT_FLAG_W,NITRIT,NITRIT_FLAG_W,PHSPHT,PHSPHT_FLAG_W,CFC-11,CFC-11_FLAG_W,CFC-12,CFC-12_FLAG_W,DELC14,DELC14_FLAG_W,DELC13,DELC13_FLAG_W,TCARBN,TCARBN_FLAG_W,PCO2,PCO2_FLAG_W,ALKALI,ALKALI_FLAG_W,PH,PH_FLAG_W,PCO2TMP,C14ERR,PH_TMP,C13ERR
,,,,,,,,,,,,DBAR,DBAR,ITS-90,PSS-78,,PSS-78,,UMOL/KG,,DEG C,UMOL/KG,,UMOL/KG,,UMOL/KG,,UMOL/KG,,UMOL/KG,,PMOL/KG,,PMOL/KG,,/MILLE,,/MILLE,,UMOL/KG,,UATM,,UMOL/KG,,,,DEG C,/MILLE,DEG C,/MILLE
    31DSCG96_2,  P15S,   157,  1,    136,   1245,2,19960301,0807,-11.0013,-169.9992, 5100,   -999,      5.7,  29.0988,  33.9983,2,  33.9690,3,    191.7,2, 29.0974,    194.5,2,     1.39,2,     0.02,2,     0.00,2,     0.15,2,    1.543,2,    0.869,2,     78.9,2,  -999.00,9,   1875.2,2,    227.1,3,   2234.8,2,     8.15,2, -999.00,     3.4, -999.00,  -999.0
    31DSCG96_2,  P15S,   157,  1,    135,   1113,2,19960301,0807,-11.0013,-169.9992, 5100,   -999,     30.0,  29.5486,  34.5325,2,  34.5337,2,    194.4,2, 29.5413,    193.7,2,     1.56,2,     0.02,2,     0.00,2,     0.17,2,    1.573,2,    0.878,2,   -999.0,9,  -999.00,9,   -999.0,9,   -999.0,9,   -999.0,9,     8.15,2, -999.00,  -999.0, -999.00,  -999.0
    31DSCG96_2,  P15S,   157,  1,    134,   1267,2,19960301,0807,-11.0013,-169.9992, 5100,   -999,     55.1,  29.5853,  34.6118,2,  34.6144,2,    194.0,2, 29.5718,    193.7,2,     1.41,2,     0.02,2,     0.00,2,     0.18,2,    1.563,2,    0.885,2,   -999.0,9,  -999.00,9,   1901.6,2,    234.6,3,   2276.8,2,     8.15,2, -999.00,  -999.0, -999.00,  -999.0
    31DSCG96_2,  P15S,   157,  1,    133,   1021,2,19960301,0807,-11.0013,-169.9992, 5100,   -999,     80.4,  29.6272,  35.2467,2,  35.2493,2,    196.9,2, 29.6074,    198.0,2,     1.55,2,     0.04,2,     0.00,2,     0.21,2,    1.615,2,    0.879,2,   -999.0,9,  -999.00,9,   -999.0,9,   -999.0,9,   -999.0,9,     8.13,2, -999.00,  -999.0, -999.00,  -999.0
    31DSCG96_2,  P15S,   157,  1,    132,   1039,2,19960301,0807,-11.0013,-169.9992, 5100,   -999,    104.6,  28.0711,  35.6798,2,  35.6956,2,    169.6,2, 28.0463,    167.3,2,     1.99,2,     1.71,2,     0.34,2,     0.42,2,    1.656,2,    0.914,2,   -999.0,9,  -999.00,9,   2026.1,3,    306.8,3,   2347.8,2,     8.06,2, -999.00,  -999.0, -999.00,  -999.0
    31DSCG96_2,  P15S,   157,  1,    131,   1014,2,19960301,0807,-11.0013,-169.9992, 5100,   -999,    129.4,  26.4908,  35.9648,2,  36.0280,3,    138.1,2, 26.4615,    142.6,2,     2.11,2,     4.93,2,     1.00,2,     0.63,2,    1.738,2,    0.938,2,   -999.0,9,  -999.00,9,   -999.0,9,   -999.0,9,   -999.0,9,     8.02,2, -999.00,  -999.0, -999.00,  -999.0
    31DSCG96_2,  P15S,   157,  1,    130,   1257,2,19960301,0807,-11.0013,-169.9992, 5100,   -999,    165.6,  24.8898,  36.2094,2,  36.2122,2,    141.5,2, 24.8538,    143.2,2,     1.86,2,     5.89,2,     0.04,2,     0.63,2,    1.809,2,    0.985,2,   -999.0,9,  -999.00,9,   2087.5,3,    374.9,3,   2380.3,2,     8.00,2, -999.00,  -999.0, -999.00,  -999.0
    31DSCG96_2,  P15S,   157,  1,    129,   1256,2,19960301,0807,-11.0013,-169.9992, 5100,   -999,    216.3,  21.7293,  36.0340,2,  36.0490,2,    148.0,2, 21.6866,    152.3,2,     1.95,2,     6.21,2,     0.01,2,     0.67,2,    1.915,2,    1.010,2,   -999.0,9,  -999.00,9,   -999.0,9,   -999.0,9,   -999.0,9,     7.96,2, -999.00,  -999.0, -999.00,  -999.0
    31DSCG96_2,  P15S,   157,  1,    128,   1007,2,19960301,0807,-11.0013,-169.9992, 5100,   -999,    265.6,  18.7675,  35.6228,2,  35.6157,2,    138.9,2, 18.7202,    143.3,2,     3.58,2,     9.20,2,     0.01,2,     0.88,2,    1.778,2,    0.943,2,   -999.0,9,  -999.00,9,   2121.1,3,    498.7,2,   2346.6,2,     7.89,2, -999.00,  -999.0, -999.00,  -999.0
    31DSCG96_2,  P15S,   157,  1,    127,   1232,2,19960301,0807,-11.0013,-169.9992, 5100,   -999,    324.5,  14.1691,  35.0380,2,  35.0188,2,    112.6,2, 14.1217,   -999.0,9,    10.06,2,    17.58,2,     0.00,2,     1.47,2,    1.099,2,    0.572,2,   -999.0,9,  -999.00,9,   -999.0,9,   -999.0,9,   -999.0,9,     7.74,2, -999.00,  -999.0, -999.00,  -999.0
    31DSCG96_2,  P15S,   157,  1,    126,   1025,2,19960301,0807,-11.0013,-169.9992, 5100,   -999,    425.5,   9.3250,  34.6463,2,  34.6424,2,     98.5,2,  9.2773,     97.0,2,    23.18,2,    28.97,2,     0.00,2,     2.12,2,    0.196,2,    0.089,2,   -999.0,9,  -999.00,9,   2208.4,3,   1121.5,2,   2300.8,2,     7.59,2, -999.00,  -999.0, -999.00,  -999.0
    31DSCG96_2,  P15S,   157,  1,    125,   1119,2,19960301,0807,-11.0013,-169.9992, 5100,   -999,    524.6,   7.5990,  34.5765,2,  34.5749,2,    106.4,2,  7.5466,    102.7,2,    32.36,2,    32.89,2,     0.00,2,     2.31,2,    0.050,2,    0.028,2,   -999.0,9,  -999.00,9,   -999.0,9,   -999.0,9,   -999.0,9,     7.56,2, -999.00,  -999.0, -999.00,  -999.0
    31DSCG96_2,  P15S,   157,  1,    124,   1244,2,19960301,0807,-11.0013,-169.9992, 5100,   -999,    625.8,   6.6600,  34.5436,2,  34.5418,2,    104.5,2,  6.6016,    100.8,2,    40.24,2,    35.21,2,     0.00,2,     2.46,2,    0.019,2,    0.007,2,   -999.0,9,  -999.00,9,   2237.2,3,   1245.7,2,   2313.9,2,     7.54,2, -999.00,  -999.0, -999.00,  -999.0
    31DSCG96_2,  P15S,   157,  1,    123,   1250,2,19960301,0807,-11.0013,-169.9992, 5100,   -999,    725.5,   5.8725,  34.5218,2,  34.5214,2,    107.2,2,  5.8087,    104.3,2,    48.53,2,    36.38,2,     0.00,2,     2.55,2,    0.009,2,    0.005,2,   -999.0,9,  -999.00,9,   -999.0,9,   -999.0,9,   -999.0,9,     7.53,2, -999.00,  -999.0, -999.00,  -999.0
    31DSCG96_2,  P15S,   157,  1,    122,   1265,2,19960301,0807,-11.0013,-169.9992, 5100,   -999,    825.3,   5.2531,  34.5161,2,  34.5151,2,    109.2,2,  5.1838,    107.9,2,    57.02,2,    37.09,2,     0.00,2,     2.61,2,    0.004,2,    0.002,2,   -999.0,9,  -999.00,9,   2256.3,3,   1301.6,2,   2324.6,2,     7.52,2, -999.00,  -999.0, -999.00,  -999.0
    31DSCG96_2,  P15S,   157,  1,    121,   1246,2,19960301,0807,-11.0013,-169.9992, 5100,   -999,    924.3,   4.7407,  34.5186,2,  34.5178,2,    112.6,2,  4.6660,    111.8,2,    65.15,2,    37.30,2,     0.00,2,     2.63,2,    0.002,2,    0.001,2,   -999.0,9,  -999.00,9,   -999.0,9,   -999.0,9,   -999.0,9,     7.52,2, -999.00,  -999.0, -999.00,  -999.0
    31DSCG96_2,  P15S,   157,  1,    120,   1015,2,19960301,0807,-11.0013,-169.9992, 5100,   -999,   1025.0,   4.3279,  34.5293,2,  34.5293,2,    115.5,2,  4.2475,    115.5,2,    73.53,2,    37.28,2,     0.00,2,     2.63,2,   -0.001,2,    0.001,2,   -999.0,9,  -999.00,9,   2270.8,3,   1309.5,2,   2346.6,2,     7.53,2, -999.00,  -999.0, -999.00,  -999.0
    31DSCG96_2,  P15S,   157,  1,    119,   1247,2,19960301,0807,-11.0013,-169.9992, 5100,   -999,   1126.8,   3.9633,  34.5405,2,  34.5411,2,    120.8,2,  3.8772,    120.1,6,    80.59,2,    37.12,2,     0.00,2,     2.62,2,    0.002,2,    0.001,2,   -999.0,9,  -999.00,9,   -999.0,9,   -999.0,9,   -999.0,9,     7.53,3, -999.00,  -999.0, -999.00,  -999.0
    31DSCG96_2,  P15S,   157,  1,    118,   1299,2,19960301,0807,-11.0013,-169.9992, 5100,   -999,   1224.0,   3.7168,  34.5516,2,  34.5519,2,    121.4,2,  3.6247,    120.8,6,    86.42,2,    37.19,2,     0.00,2,     2.62,2, -999.000,9, -999.000,9,   -999.0,9,  -999.00,9,   2283.3,3,   1308.0,2,   2362.0,2,     7.53,2, -999.00,  -999.0, -999.00,  -999.0
    31DSCG96_2,  P15S,   157,  1,    117,   1242,2,19960301,0807,-11.0013,-169.9992, 5100,   -999,   1349.2,   3.3139,  34.5669,2,  34.5667,2,    126.9,2,  3.2152,    126.9,2,    94.19,2,    36.99,2,     0.00,2,     2.60,2,   -0.001,2,    0.000,2,   -999.0,9,  -999.00,9,   -999.0,9,   -999.0,9,   -999.0,9,     7.54,2, -999.00,  -999.0, -999.00,  -999.0
    31DSCG96_2,  P15S,   157,  1,    116,   1259,2,19960301,0807,-11.0013,-169.9992, 5100,   -999,   1567.2,   2.7869,  34.5934,2,  34.5940,2,    134.2,2,  2.6759,    134.6,2,   104.65,2,    36.67,2,     0.00,2,     2.56,2, -999.000,9, -999.000,9,   -999.0,9,  -999.00,9,   2296.0,3,   1259.9,2,   2379.6,2,     7.55,2, -999.00,  -999.0, -999.00,  -999.0
    31DSCG96_2,  P15S,   157,  1,    115,   1041,2,19960301,0807,-11.0013,-169.9992, 5100,   -999,   1811.1,   2.4055,  34.6192,2,  34.6185,2,    136.9,2,  2.2791,    137.6,6,   114.75,2,    36.63,2,     0.00,2,     2.55,2,    0.001,2,    0.000,2,   -999.0,9,  -999.00,9,   -999.0,9,   -999.0,9,   -999.0,9,     7.56,2, -999.00,  -999.0, -999.00,  -999.0
    31DSCG96_2,  P15S,   157,  1,    114,   1017,2,19960301,0807,-11.0013,-169.9992, 5100,   -999,   2066.2,   2.1347,  34.6392,2,  34.6384,2,    139.3,2,  1.9906,    140.7,2,   122.33,2,    36.53,2,     0.00,2,     2.54,2, -999.000,9, -999.000,9,   -999.0,9,  -999.00,9,   2312.9,3,   1265.6,2,   2401.5,2,     7.56,2, -999.00,  -999.0, -999.00,  -999.0
    31DSCG96_2,  P15S,   157,  1,    113,   1302,2,19960301,0807,-11.0013,-169.9992, 5100,   -999,   2311.8,   1.9626,  34.6540,2,  34.6547,2,    142.5,2,  1.7998,    143.4,2,   126.91,2,    36.43,2,     0.00,2,     2.53,2,    0.000,2,    0.000,2,   -999.0,9,  -999.00,9,   -999.0,9,   -999.0,9,   -999.0,9,     7.57,2, -999.00,  -999.0, -999.00,  -999.0
    31DSCG96_2,  P15S,   157,  1,    112,   1217,2,19960301,0807,-11.0013,-169.9992, 5100,   -999,   2564.6,   1.8289,  34.6652,2,  34.6651,2,    144.8,2,  1.6458,    145.0,2,   131.94,2,    36.40,2,     0.00,2,     2.52,2, -999.000,9, -999.000,9,   -999.0,9,  -999.00,9,   2318.1,3,   1204.9,2,   2412.9,2,     7.57,2, -999.00,  -999.0, -999.00,  -999.0
    31DSCG96_2,  P15S,   157,  1,    111,   1226,2,19960301,0807,-11.0013,-169.9992, 5100,   -999,   2814.2,   1.7289,  34.6721,2,  34.6717,2,    149.0,2,  1.5248,    148.7,2,   133.76,2,    36.16,2,     0.00,2,     2.51,2,   -0.001,2,    0.001,2,   -999.0,9,  -999.00,9,   -999.0,9,   -999.0,9,   -999.0,9,     7.58,2, -999.00,  -999.0, -999.00,  -999.0
    31DSCG96_2,  P15S,   157,  1,    110,   1301,2,19960301,0807,-11.0013,-169.9992, 5100,   -999,   3064.0,   1.6444,  34.6782,2,  34.6786,2,    152.9,2,  1.4182,    152.9,2,   134.88,2,    35.85,2,     0.00,2,     2.48,2, -999.000,9, -999.000,9,   -999.0,9,  -999.00,9,   2316.7,3,   1178.6,2,   2413.0,2,     7.58,2, -999.00,  -999.0, -999.00,  -999.0
    31DSCG96_2,  P15S,   157,  1,    109,   1031,2,19960301,0807,-11.0013,-169.9992, 5100,   -999,   3313.6,   1.5922,  34.6818,2,  34.6812,2,    156.3,2,  1.3426,    156.2,6,   135.10,2,    35.65,2,     0.00,2,     2.46,2,    0.000,2,    0.000,2,   -999.0,9,  -999.00,9,   -999.0,9,   -999.0,9,   -999.0,9,     7.59,2, -999.00,  -999.0, -999.00,  -999.0
    31DSCG96_2,  P15S,   157,  1,    108,   1227,2,19960301,0807,-11.0013,-169.9992, 5100,   -999,   3564.2,   1.5301,  34.6859,2,  34.6855,2,    160.8,2,  1.2566,    160.8,2,   134.90,2,    35.35,2,     0.00,2,     2.44,2, -999.000,9, -999.000,9,   -999.0,9,  -999.00,9,   2309.6,2,   1155.3,2,   2412.4,2,     7.59,2, -999.00,  -999.0, -999.00,  -999.0
    31DSCG96_2,  P15S,   157,  1,    107,   1263,2,19960301,0807,-11.0013,-169.9992, 5100,   -999,   3813.9,   1.4711,  34.6898,2,  34.6914,2,    164.5,2,  1.1729,    165.0,2,   134.83,2,    35.01,2,     0.00,2,     2.42,2,    0.000,2,    0.001,2,   -999.0,9,  -999.00,9,   -999.0,9,   -999.0,9,   -999.0,9,     7.59,2, -999.00,  -999.0, -999.00,  -999.0
    31DSCG96_2,  P15S,   157,  1,    106,   1262,2,19960301,0807,-11.0013,-169.9992, 5100,   -999,   4062.0,   1.4056,  34.6948,2,  34.6960,2,    172.0,2,  1.0825,    172.3,2,   132.06,2,    34.48,2,     0.00,2,     2.38,2,    0.003,2,    0.000,2,   -999.0,9,  -999.00,9,   2298.8,2,   1119.8,2,   2403.0,2,     7.60,2, -999.00,  -999.0, -999.00,  -999.0
    31DSCG96_2,  P15S,   157,  1,    105,   1264,2,19960301,0807,-11.0013,-169.9992, 5100,   -999,   4313.8,   1.2168,  34.7092,2,  34.7079,2,    196.4,2,  0.8714,    195.4,2,   120.43,2,    32.73,2,     0.00,2,     2.24,2,    0.001,2,    0.000,2,   -999.0,9,  -999.00,9,   -999.0,9,   -999.0,9,   -999.0,9,     7.61,2, -999.00,  -999.0, -999.00,  -999.0
    31DSCG96_2,  P15S,   157,  1,    104,   1003,2,19960301,0807,-11.0013,-169.9992, 5100,   -999,   4563.6,   1.0824,  34.7109,2,  34.7123,2,    204.7,2,  0.7129,    204.1,2,   119.12,2,    32.22,2,     0.00,2,     2.21,2,    0.004,6,    0.001,6,   -999.0,9,  -999.00,9,   2260.6,2,   1061.1,2,   2369.1,2,     7.61,2, -999.00,  -999.0, -999.00,  -999.0
    31DSCG96_2,  P15S,   157,  1,    103,   1035,2,19960301,0807,-11.0013,-169.9992, 5100,   -999,   4813.9,   1.0581,  34.7099,2,  34.7100,2,    205.8,2,  0.6606,    205.6,2,   120.04,2,    32.23,2,     0.00,2,     2.21,2,    0.005,2,    0.001,2,   -999.0,9,  -999.00,9,   -999.0,9,   -999.0,9,   -999.0,9,     7.61,2, -999.00,  -999.0, -999.00,  -999.0
    31DSCG96_2,  P15S,   157,  1,    102,   1030,2,19960301,0807,-11.0013,-169.9992, 5100,   -999,   5064.1,   1.0775,  34.7093,2,  34.7108,2,    206.1,2,  0.6497,    206.0,2,   120.17,2,    32.21,2,     0.00,2,     2.20,2,    0.007,2,    0.004,2,   -999.0,9,  -999.00,9,   2257.6,2,   1065.8,2,   2372.0,3,     7.61,2, -999.00,  -999.0, -999.00,  -999.0
    31DSCG96_2,  P15S,   157,  1,    101,   1022,2,19960301,0807,-11.0013,-169.9992, 5100,   -999,   5204.2,   1.0944,  34.7090,2,  34.7108,2,    206.6,2,  0.6490,    206.2,2,   120.29,6,    32.24,6,     0.00,6,     2.21,6,    0.008,2,    0.002,2,   -999.0,9,  -999.00,9,   2261.0,2,   1083.3,2,   2369.5,2,     7.61,2, -999.00,  -999.0, -999.00,  -999.0