BOTTLE,20220811CCHSIOAMB
EXPOCODE,SECT_ID,STNNBR,CASTNO,SAMPNO,BTLNBR,BTLNBR_FLAG_W,DATE,TIME,LATITUDE,LONGITUDE,DEPTH,CTDRAW,CTDPRS,CTDTMP,CTDSAL,CTDSAL_FLAG_W,SALNTY,SALNTY_FLAG_W,CTDOXY,CTDOXY_FLAG_W,THETA,OXYGEN,OXYGEN_FLAG_W,SILCAT,SILCAT_FLAG_W,NITRAT,NITRAT_FLAG_W,NITRIT,NITRIT_FLAG_W,PHSPHT,PHSPHT_FLAG_W,CFC-11,CFC-11_FLAG_W,CFC-12,CFC-12_FLAG_W,DELC14,DELC14_FLAG_W,DELC13,DELC13_FLAG_W,TCARBN,TCARBN_FLAG_W,PCO2,PCO2_FLAG_W,ALKALI,ALKALI_FLAG_W,PH,PH_FLAG_W,PCO2TMP,C14ERR,PH_TMP,C13ERR
,,,,,,,,,,,,DBAR,DBAR,ITS-90,PSS-78,,PSS-78,,UMOL/KG,,DEG C,UMOL/KG,,UMOL/KG,,UMOL/KG,,UMOL/KG,,UMOL/KG,,PMOL/KG,,PMOL/KG,,/MILLE,,/MILLE,,UMOL/KG,,UATM,,UMOL/KG,,,,DEG C,/MILLE,DEG C,/MILLE
    31DSCG96_1,  P15S,    78,  1,    134,   1119,2,19960131,0443,-45.1760,-172.7363, 4652,   -999,      7.4,  15.7278,  34.7158,2,  34.7158,2,    261.2,2, 15.7267,    262.9,2,     0.57,2,     1.05,2,     0.04,2,     0.17,2, -999.000,9, -999.000,9,     53.9,2,  -999.00,9,   2026.6,2,    365.8,2,   2303.8,2,     7.99,2, -999.00,     3.0, -999.00,  -999.0
    31DSCG96_1,  P15S,    78,  1,    133,   1221,2,19960131,0443,-45.1760,-172.7363, 4652,   -999,     19.3,  15.2800,  34.7335,2,  34.7334,2,    266.8,2, 15.2771,    268.8,2,     0.64,2,     0.92,2,     0.04,2,     0.19,2, -999.000,9, -999.000,9,   -999.0,9,  -999.00,9,   2024.9,2,    364.0,2,   2304.8,2,     8.00,2, -999.00,  -999.0, -999.00,  -999.0
    31DSCG96_1,  P15S,    78,  1,    132,   1039,2,19960131,0443,-45.1760,-172.7363, 4652,   -999,     45.2,  14.3046,  34.8467,2,  34.8516,2,    264.3,2, 14.2980,    267.1,2,     0.71,2,     0.52,2,     0.03,2,     0.22,2, -999.000,9, -999.000,9,   -999.0,9,  -999.00,9,   2039.1,2,    386.3,2,   2306.2,2,     7.98,2, -999.00,  -999.0, -999.00,  -999.0
    31DSCG96_1,  P15S,    78,  1,    131,   1014,2,19960131,0443,-45.1760,-172.7363, 4652,   -999,     70.1,  11.4395,  34.7691,2,  34.7659,2,    254.3,2, 11.4307,    258.8,2,     2.20,2,     6.55,2,     0.59,2,     0.60,2, -999.000,9, -999.000,9,   -999.0,9,  -999.00,9,   2075.5,2,    495.9,2,   2292.4,2,     7.89,2, -999.00,  -999.0, -999.00,  -999.0
    31DSCG96_1,  P15S,    78,  1,    130,   1257,2,19960131,0443,-45.1760,-172.7363, 4652,   -999,     95.5,  10.9640,  34.7641,2,  34.7738,2,    253.4,2, 10.9523,    254.8,2,     2.64,2,     8.65,2,     0.04,2,     0.68,2, -999.000,9, -999.000,9,   -999.0,9,  -999.00,9,   2084.7,2,    518.2,2,   2297.2,2,     7.88,2, -999.00,  -999.0, -999.00,  -999.0
    31DSCG96_1,  P15S,    78,  1,    129,   1256,2,19960131,0443,-45.1760,-172.7363, 4652,   -999,    120.8,  10.7883,  34.8012,2,  34.8000,2,    250.1,2, 10.7737,    249.3,2,     3.23,2,    10.02,2,     0.02,2,     0.76,2, -999.000,9, -999.000,9,   -999.0,9,  -999.00,9,   2086.9,2,    546.9,2,   2295.9,2,     7.86,2, -999.00,  -999.0, -999.00,  -999.0
    31DSCG96_1,  P15S,    78,  1,    128,   1007,2,19960131,0443,-45.1760,-172.7363, 4652,   -999,    145.6,  10.3076,  34.7440,2,  34.7554,2,    246.5,2, 10.2905,    246.4,2,     3.66,2,    11.18,2,     0.02,2,     0.83,2, -999.000,9, -999.000,9,   -999.0,9,  -999.00,9,   2102.1,2,    566.1,2,   2294.8,2,     7.84,2, -999.00,  -999.0, -999.00,  -999.0
    31DSCG96_1,  P15S,    78,  1,    127,   1232,2,19960131,0443,-45.1760,-172.7363, 4652,   -999,    190.7,   9.8514,  34.6921,2,  34.6915,2,    245.7,2,  9.8296,    246.9,2,     3.91,2,    12.27,2,     0.02,2,     0.91,2, -999.000,9, -999.000,9,   -999.0,9,  -999.00,9,   2104.0,2,    593.0,2,   2293.6,2,     7.83,2, -999.00,  -999.0, -999.00,  -999.0
    31DSCG96_1,  P15S,    78,  1,    126,   1025,2,19960131,0443,-45.1760,-172.7363, 4652,   -999,    239.8,   9.5427,  34.6669,2,  34.6649,2,    233.1,2,  9.5157,    244.1,2,     4.47,2,    13.68,2,     0.01,2,     1.00,2, -999.000,9, -999.000,9,   -999.0,9,  -999.00,9,   2109.3,2,    608.4,2,   2292.9,2,     7.82,2, -999.00,  -999.0, -999.00,  -999.0
    31DSCG96_1,  P15S,    78,  1,    125,   1233,2,19960131,0443,-45.1760,-172.7363, 4652,   -999,    289.8,   9.0531,  34.6157,2,  34.6161,2,    235.5,2,  9.0214,    240.1,2,     5.32,2,    15.80,2,     0.01,2,     1.13,2, -999.000,9, -999.000,9,   -999.0,9,  -999.00,9,   2115.5,2,    638.2,2,   2288.6,2,     7.79,2, -999.00,  -999.0, -999.00,  -999.0
    31DSCG96_1,  P15S,    78,  1,    124,   1218,2,19960131,0443,-45.1760,-172.7363, 4652,   -999,    342.1,   8.7904,  34.6002,2,  34.5990,2,    228.4,2,  8.7536,    224.4,2,     7.02,2,    18.36,2,     0.01,2,     1.29,2, -999.000,9, -999.000,9,   -999.0,9,  -999.00,9,   2127.5,2,    698.2,2,   2288.4,2,     7.76,2, -999.00,  -999.0, -999.00,  -999.0
    31DSCG96_1,  P15S,    78,  1,    123,   1250,2,19960131,0443,-45.1760,-172.7363, 4652,   -999,    389.2,   8.3317,  34.5390,2,  34.5412,2,    228.5,2,  8.2911,    231.3,2,     7.02,2,    19.00,2,     0.01,2,     1.33,2, -999.000,9, -999.000,9,   -999.0,9,  -999.00,9,   2130.6,2,    704.0,2,   2287.2,2,     7.76,2, -999.00,  -999.0, -999.00,  -999.0
    31DSCG96_1,  P15S,    78,  1,    122,   1109,2,19960131,0443,-45.1760,-172.7363, 4652,   -999,    474.5,   7.6154,  34.4517,2,  34.4512,2,    243.5,2,  7.5683,    247.2,2,     7.25,2,    19.88,2,     0.01,2,     1.39,2, -999.000,9, -999.000,9,   -999.0,9,  -999.00,9,   2127.3,2,    701.3,2,   2286.2,2,     7.76,2, -999.00,  -999.0, -999.00,  -999.0
    31DSCG96_1,  P15S,    78,  1,    121,   1246,2,19960131,0443,-45.1760,-172.7363, 4652,   -999,    575.4,   7.3179,  34.4309,2,  34.4304,2,    244.9,2,  7.2616,    241.6,2,     8.90,2,    21.24,2,     0.01,2,     1.49,2, -999.000,9, -999.000,9,   -999.0,9,  -999.00,9,   2132.8,2,    730.3,2,   2285.1,2,     7.75,2, -999.00,  -999.0, -999.00,  -999.0
    31DSCG96_1,  P15S,    78,  1,    120,   1015,2,19960131,0443,-45.1760,-172.7363, 4652,   -999,    678.2,   6.8857,  34.3950,2,  34.3942,2,    233.3,2,  6.8211,    247.6,2,     9.91,2,    21.84,2,     0.00,2,     1.53,2, -999.000,9, -999.000,9,   -999.0,9,  -999.00,9,   2132.4,2,    737.3,2,   2287.5,2,     7.75,2, -999.00,  -999.0, -999.00,  -999.0
    31DSCG96_1,  P15S,    78,  1,    119,   1247,2,19960131,0443,-45.1760,-172.7363, 4652,   -999,    773.9,   6.5921,-999.0000,5,  34.3855,2,    226.9,2,  6.5197,    231.2,2,    13.25,2,    23.92,2,     0.00,2,     1.66,2, -999.000,9, -999.000,9,   -999.0,9,  -999.00,9,   2146.8,2,    795.3,2,   2287.5,2,     7.72,2, -999.00,  -999.0, -999.00,  -999.0
    31DSCG96_1,  P15S,    78,  1,    118,   1222,2,19960131,0443,-45.1760,-172.7363, 4652,   -999,    875.3,   6.2215,-999.0000,5,  34.3855,2,    216.3,2,  6.1414,    218.8,2,    17.65,2,    25.67,2,     0.00,2,     1.79,2, -999.000,9, -999.000,9,   -999.0,9,  -999.00,9,   2158.1,2,    829.4,2,   2292.6,2,     7.70,2, -999.00,  -999.0, -999.00,  -999.0
    31DSCG96_1,  P15S,    78,  1,    117,   1267,2,19960131,0443,-45.1760,-172.7363, 4652,   -999,    978.2,   5.5820,-999.0000,5,  34.3574,2,    208.5,2,  5.4966,    214.0,2,    22.64,2,    27.64,2,     0.00,2,     1.90,2, -999.000,9, -999.000,9,   -999.0,9,  -999.00,9,   2166.8,2,    886.8,2,   2296.0,2,     7.67,2, -999.00,  -999.0, -999.00,  -999.0
    31DSCG96_1,  P15S,    78,  1,    116,   1211,2,19960131,0443,-45.1760,-172.7363, 4652,   -999,   1075.6,   4.9564,-999.0000,5,  34.3609,2,    201.5,2,  4.8668,    205.5,2,    30.26,2,    29.37,2,     0.00,2,     2.04,2, -999.000,9, -999.000,9,   -999.0,9,  -999.00,9,   2183.3,2,    943.6,2,   2302.0,2,     7.65,2, -999.00,  -999.0, -999.00,  -999.0
    31DSCG96_1,  P15S,    78,  1,    115,   1041,2,19960131,0443,-45.1760,-172.7363, 4652,   -999,   1214.4,   4.0555,-999.0000,5,  34.3726,2,    194.1,2,  3.9614,    197.3,6,    41.77,2,    31.60,2,     0.00,2,     2.18,2, -999.000,9, -999.000,9,   -999.0,9,  -999.00,9,   2202.6,2,   1026.4,2,   2311.1,2,     7.62,2, -999.00,  -999.0, -999.00,  -999.0
    31DSCG96_1,  P15S,    78,  1,    114,   1017,2,19960131,0443,-45.1760,-172.7363, 4652,   -999,   1437.4,   3.6210,-999.0000,5,  34.5068,2,    176.2,2,  3.5117,    168.8,2,    68.65,2,    33.32,2,     0.00,2,     2.32,2, -999.000,9, -999.000,9,   -999.0,9,  -999.00,9,   2241.2,2,   1098.3,2,   2343.3,2,     7.60,2, -999.00,  -999.0, -999.00,  -999.0
    31DSCG96_1,  P15S,    78,  1,    113,   1302,2,19960131,0443,-45.1760,-172.7363, 4652,   -999,   1689.0,   2.8300,-999.0000,5,  34.5547,2,    164.4,2,  2.7084,    165.3,2,    81.93,2,    34.39,2,     0.00,2,     2.38,2, -999.000,9, -999.000,9,   -999.0,9,  -999.00,9,   2258.8,2,   1172.9,2,   2354.5,2,     7.58,2, -999.00,  -999.0, -999.00,  -999.0
    31DSCG96_1,  P15S,    78,  1,    112,   1217,2,19960131,0443,-45.1760,-172.7363, 4652,   -999,   1938.0,   2.5052,-999.0000,5,  34.6162,2,    161.7,2,  2.3665,    156.1,2,   101.57,2,    34.89,2,     0.00,2,     2.42,2, -999.000,9, -999.000,9,   -999.0,9,  -999.00,9,   2282.8,3,   1175.8,2,   -999.0,5,     7.58,2, -999.00,  -999.0, -999.00,  -999.0
    31DSCG96_1,  P15S,    78,  1,    111,   1114,2,19960131,0443,-45.1760,-172.7363, 4652,   -999,   2193.9,   2.2932,-999.0000,5,  34.6571,2,    168.9,2,  2.1353,    168.3,6,    92.72,2,    33.76,2,     0.00,2,     2.33,2, -999.000,9, -999.000,9,   -999.0,9,  -999.00,9,   2267.5,2,   1181.9,2,   2364.3,2,     7.58,2, -999.00,  -999.0, -999.00,  -999.0
    31DSCG96_1,  P15S,    78,  1,    110,   1301,2,19960131,0443,-45.1760,-172.7363, 4652,   -999,   2439.1,   2.1066,-999.0000,5,  34.6987,2,    173.4,2,  1.9297,    176.4,2,    93.96,2,    32.77,2,     0.00,2,     2.25,2, -999.000,9, -999.000,9,   -999.0,9,  -999.00,9,   2263.3,2,   1147.8,2,   2363.2,2,     7.59,2, -999.00,  -999.0, -999.00,  -999.0
    31DSCG96_1,  P15S,    78,  1,    109,   1242,2,19960131,0443,-45.1760,-172.7363, 4652,   -999,   2688.3,   1.9839,-999.0000,5,  34.7255,2,    186.8,2,  1.7862,    187.4,2,    91.34,2,    31.68,2,     0.00,2,     2.17,2,    0.042,2,    0.036,2,   -999.0,9,  -999.00,9,   2252.4,2,   1095.9,2,   2356.9,2,     7.60,2, -999.00,  -999.0, -999.00,  -999.0
    31DSCG96_1,  P15S,    78,  1,    108,   1263,2,19960131,0443,-45.1760,-172.7363, 4652,   -999,   2940.0,   1.7687,-999.0000,5,  34.7344,2,    194.0,2,  1.5516,    193.5,2,    96.28,2,    31.39,2,     0.00,2,     2.15,2, -999.000,9, -999.000,9,   -999.0,9,  -999.00,9,   2251.2,2,   1074.8,2,   2360.6,2,     7.61,2, -999.00,  -999.0, -999.00,  -999.0
    31DSCG96_1,  P15S,    78,  1,    107,   1245,2,19960131,0443,-45.1760,-172.7363, 4652,   -999,   3188.9,   1.5698,-999.0000,5,  34.7323,2,    198.4,2,  1.3329,    197.2,6,   101.92,2,    31.49,2,     0.00,2,     2.16,2,    0.030,2,    0.047,4,   -999.0,9,  -999.00,9,   2251.5,2,   1073.3,2,   2362.3,2,     7.61,2, -999.00,  -999.0, -999.00,  -999.0
    31DSCG96_1,  P15S,    78,  1,    106,   1262,2,19960131,0443,-45.1760,-172.7363, 4652,   -999,   3441.1,   1.3978,-999.0000,5,  34.7281,2,    201.4,2,  1.1399,    199.7,2,   106.60,2,    31.68,2,     0.00,2,     2.16,2, -999.000,9, -999.000,9,   -999.0,9,  -999.00,9,   2256.0,2,   1070.2,2,   2364.2,2,     7.61,2, -999.00,  -999.0, -999.00,  -999.0
    31DSCG96_1,  P15S,    78,  1,    105,   1113,2,19960131,0443,-45.1760,-172.7363, 4652,   -999,   3688.9,   1.1720,-999.0000,5,  34.7192,2,    205.2,2,  0.8948,    203.6,2,   113.54,2,    31.92,2,     0.00,2,     2.18,2,    0.059,2,    0.048,2,   -999.0,9,  -999.00,9,   2256.1,2,   1076.7,2,   2365.2,2,     7.61,2, -999.00,  -999.0, -999.00,  -999.0
    31DSCG96_1,  P15S,    78,  1,    104,   1003,2,19960131,0443,-45.1760,-172.7363, 4652,   -999,   3940.7,   1.0006,-999.0000,5,  34.7115,2,    208.4,2,  0.7020,    206.3,6,   118.68,2,    32.11,2,     0.00,2,     2.19,2,    0.058,2,    0.048,2,   -999.0,9,  -999.00,9,   2255.6,2,   1084.0,2,   2367.2,2,     7.61,2, -999.00,  -999.0, -999.00,  -999.0
    31DSCG96_1,  P15S,    78,  1,    103,   1216,2,19960131,0443,-45.1760,-172.7363, 4652,   -999,   4190.6,   0.9157,-999.0000,5,  34.7068,2,    210.2,2,  0.5929,    208.5,2,   121.62,2,    32.23,2,     0.00,2,     2.20,2,    0.074,2,    0.089,4,   -999.0,9,  -999.00,9,   2257.7,2,   1083.6,2,   2366.8,2,     7.61,2, -999.00,  -999.0, -999.00,  -999.0
    31DSCG96_1,  P15S,    78,  1,    102,   1030,2,19960131,0443,-45.1760,-172.7363, 4652,   -999,   4437.6,   0.8936,-999.0000,5,  34.7061,2,    211.4,2,  0.5444,    209.0,2,   122.98,2,    32.30,2,     0.00,2,     2.20,2,    0.083,2,    0.063,2,   -999.0,9,  -999.00,9,   2259.4,2,   1094.7,2,   2366.4,2,     7.61,2, -999.00,  -999.0, -999.00,  -999.0
    31DSCG96_1,  P15S,    78,  1,    101,   1022,2,19960131,0443,-45.1760,-172.7363, 4652,   -999,   4735.9,   0.9042,  34.7051,2,  34.7048,2,    211.6,2,  0.5208,    210.9,2,   123.78,6,    32.30,6,     0.00,6,     2.20,6,    0.094,6,    0.076,6,   -999.0,9,  -999.00,9,   2258.1,2,   1103.0,2,   2365.8,2,     7.61,2, -999.00,  -999.0, -999.00,  -999.0