BOTTLE,20220811CCHSIOAMB
EXPOCODE,SECT_ID,STNNBR,CASTNO,SAMPNO,BTLNBR,BTLNBR_FLAG_W,DATE,TIME,LATITUDE,LONGITUDE,DEPTH,CTDRAW,CTDPRS,CTDTMP,CTDSAL,CTDSAL_FLAG_W,SALNTY,SALNTY_FLAG_W,CTDOXY,CTDOXY_FLAG_W,THETA,OXYGEN,OXYGEN_FLAG_W,SILCAT,SILCAT_FLAG_W,NITRAT,NITRAT_FLAG_W,NITRIT,NITRIT_FLAG_W,PHSPHT,PHSPHT_FLAG_W,CFC-11,CFC-11_FLAG_W,CFC-12,CFC-12_FLAG_W,DELC14,DELC14_FLAG_W,DELC13,DELC13_FLAG_W,TCARBN,TCARBN_FLAG_W,PCO2,PCO2_FLAG_W,ALKALI,ALKALI_FLAG_W,PH,PH_FLAG_W,PCO2TMP,C14ERR,PH_TMP,C13ERR
,,,,,,,,,,,,DBAR,DBAR,ITS-90,PSS-78,,PSS-78,,UMOL/KG,,DEG C,UMOL/KG,,UMOL/KG,,UMOL/KG,,UMOL/KG,,UMOL/KG,,PMOL/KG,,PMOL/KG,,/MILLE,,/MILLE,,UMOL/KG,,UATM,,UMOL/KG,,,,DEG C,/MILLE,DEG C,/MILLE
    31DSCG96_2,  P15S,   136,  1,    136,   1245,2,19960225,0739,-20.4987,-170.0022, 5560,   -999,      5.4,  28.5020,  34.6730,2,  34.6711,2,    190.6,2, 28.5007,    203.0,2,     1.10,2,     0.07,2,     0.00,2,     0.01,3, -999.000,9, -999.000,9,     93.5,2,  -999.00,9,   1899.7,2,    222.8,2,   -999.0,9,     8.16,2, -999.00,     5.2, -999.00,  -999.0
    31DSCG96_2,  P15S,   136,  1,    135,   1113,2,19960225,0739,-20.4987,-170.0022, 5560,   -999,     19.2,  28.3282,  34.6665,2,  34.6843,2,    202.2,2, 28.3237,    203.7,2,     1.17,2,     0.10,2,     0.00,2,     0.01,3, -999.000,9, -999.000,9,   -999.0,9,  -999.00,9,   1901.6,2,    233.1,2,   -999.0,9,     8.16,2, -999.00,  -999.0, -999.00,  -999.0
    31DSCG96_2,  P15S,   136,  1,    134,   1216,2,19960225,0739,-20.4987,-170.0022, 5560,   -999,     43.9,  25.1580,  35.5082,2,  35.5067,2,    213.4,2, 25.1484,    215.9,2,     1.18,2,     0.09,2,     0.00,2,     0.06,2, -999.000,9, -999.000,9,   -999.0,9,  -999.00,9,   1969.0,2,    274.7,2,   -999.0,9,     8.12,2, -999.00,  -999.0, -999.00,  -999.0
    31DSCG96_2,  P15S,   136,  1,    133,   1221,2,19960225,0739,-20.4987,-170.0022, 5560,   -999,     70.1,  24.1445,  35.5825,2,  35.5780,2,    208.8,2, 24.1297,    211.5,2,     1.19,2,     0.09,2,     0.00,2,     0.08,2, -999.000,9, -999.000,9,   -999.0,9,  -999.00,9,   -999.0,9,   -999.0,9,   -999.0,9,     8.11,2, -999.00,  -999.0, -999.00,  -999.0
    31DSCG96_2,  P15S,   136,  1,    132,   1039,2,19960225,0739,-20.4987,-170.0022, 5560,   -999,     94.9,  23.0381,  35.6204,2,  35.6234,2,    205.8,2, 23.0186,    213.6,2,     1.14,2,     0.08,2,     0.00,2,     0.08,2, -999.000,9, -999.000,9,   -999.0,9,  -999.00,9,   -999.0,9,   -999.0,9,   -999.0,9,     8.10,2, -999.00,  -999.0, -999.00,  -999.0
    31DSCG96_2,  P15S,   136,  1,    131,   1014,2,19960225,0739,-20.4987,-170.0022, 5560,   -999,    140.6,  21.9040,  35.7624,2,  35.7584,2,    185.9,2, 21.8762,    189.1,2,     1.21,2,     1.38,2,     0.08,2,     0.21,2, -999.000,9, -999.000,9,   -999.0,9,  -999.00,9,   -999.0,9,   -999.0,9,   -999.0,9,     8.05,2, -999.00,  -999.0, -999.00,  -999.0
    31DSCG96_2,  P15S,   136,  1,    130,   1257,2,19960225,0739,-20.4987,-170.0022, 5560,   -999,    190.4,  20.4793,  35.7551,2,  35.7541,2,    191.9,2, 20.4433,    184.2,2,     1.40,2,     2.87,2,     0.02,2,     0.30,2, -999.000,9, -999.000,9,   -999.0,9,  -999.00,9,   -999.0,9,   -999.0,9,   -999.0,9,  -999.00,9, -999.00,  -999.0, -999.00,  -999.0
    31DSCG96_2,  P15S,   136,  1,    129,   1256,2,19960225,0739,-20.4987,-170.0022, 5560,   -999,    241.1,  18.9091,  35.6329,2,  35.6305,2,    183.0,2, 18.8660,    182.1,2,     1.71,2,     4.20,2,     0.01,2,     0.41,2, -999.000,9, -999.000,9,   -999.0,9,  -999.00,9,   -999.0,9,   -999.0,9,   -999.0,9,     7.97,2, -999.00,  -999.0, -999.00,  -999.0
    31DSCG96_2,  P15S,   136,  1,    128,   1007,2,19960225,0739,-20.4987,-170.0022, 5560,   -999,    288.4,  17.3175,  35.4639,2,  35.4649,2,    182.1,2, 17.2690,    181.9,2,     2.29,2,     5.76,2,     0.01,2,     0.52,2, -999.000,9, -999.000,9,   -999.0,9,  -999.00,9,   -999.0,9,   -999.0,9,   -999.0,9,     7.94,2, -999.00,  -999.0, -999.00,  -999.0
    31DSCG96_2,  P15S,   136,  1,    127,   1232,2,19960225,0739,-20.4987,-170.0022, 5560,   -999,    377.3,  14.4004,  35.1603,2,  35.1683,2,    187.8,2, 14.3444,    185.3,2,     3.47,2,     9.29,2,     0.01,2,     0.75,2, -999.000,9, -999.000,9,   -999.0,9,  -999.00,9,   -999.0,9,   -999.0,9,   -999.0,9,     7.88,2, -999.00,  -999.0, -999.00,  -999.0
    31DSCG96_2,  P15S,   136,  1,    126,   1025,2,19960225,0739,-20.4987,-170.0022, 5560,   -999,    476.7,  10.4823,  34.7059,2,  34.7145,2,    182.8,2, 10.4247,    176.7,2,     7.74,2,    18.13,2,     0.00,2,     1.33,2, -999.000,9, -999.000,9,   -999.0,9,  -999.00,9,   -999.0,9,   -999.0,9,   -999.0,9,     7.76,2, -999.00,  -999.0, -999.00,  -999.0
    31DSCG96_2,  P15S,   136,  1,    125,   1119,2,19960225,0739,-20.4987,-170.0022, 5560,   -999,    575.6,   7.8872,  34.4683,2,  34.4666,2,    181.5,2,  7.8284,    183.4,2,    12.35,2,    24.24,2,     0.00,2,     1.71,2, -999.000,9, -999.000,9,   -999.0,9,  -999.00,9,   -999.0,9,   -999.0,9,   -999.0,9,     7.69,2, -999.00,  -999.0, -999.00,  -999.0
    31DSCG96_2,  P15S,   136,  1,    124,   1013,2,19960225,0739,-20.4987,-170.0022, 5560,   -999,    678.2,   6.4543,  34.3865,2,  34.3858,2,    192.2,2,  6.3920,    189.9,2,    17.83,2,    27.45,2,     0.00,2,     1.90,2, -999.000,9, -999.000,9,   -999.0,9,  -999.00,9,   -999.0,9,   -999.0,9,   -999.0,9,     7.66,2, -999.00,  -999.0, -999.00,  -999.0
    31DSCG96_2,  P15S,   136,  1,    123,   1250,2,19960225,0739,-20.4987,-170.0022, 5560,   -999,    775.9,   5.5131,  34.3618,2,  34.3597,2,    185.3,2,  5.4468,    184.8,2,    25.71,2,    30.16,2,     0.00,2,     2.08,2, -999.000,9, -999.000,9,   -999.0,9,  -999.00,9,   -999.0,9,   -999.0,9,   -999.0,9,     7.64,2, -999.00,  -999.0, -999.00,  -999.0
    31DSCG96_2,  P15S,   136,  1,    122,   1265,2,19960225,0739,-20.4987,-170.0022, 5560,   -999,    872.0,   4.9324,  34.3829,2,  34.3822,2,    172.4,2,  4.8612,    170.8,2,    36.45,2,    32.41,2,     0.00,2,     2.23,2, -999.000,9, -999.000,9,   -999.0,9,  -999.00,9,   -999.0,9,   -999.0,9,   -999.0,9,     7.61,2, -999.00,  -999.0, -999.00,  -999.0
    31DSCG96_2,  P15S,   136,  1,    121,   1246,2,19960225,0739,-20.4987,-170.0022, 5560,   -999,    972.8,   4.2641,  34.4054,2,  34.4043,2,    169.5,2,  4.1889,    167.8,2,    47.16,2,    33.57,2,     0.00,2,     2.32,2, -999.000,9, -999.000,9,   -999.0,9,  -999.00,9,   -999.0,9,   -999.0,9,   -999.0,9,     7.59,2, -999.00,  -999.0, -999.00,  -999.0
    31DSCG96_2,  P15S,   136,  1,    120,   1015,2,19960225,0739,-20.4987,-170.0022, 5560,   -999,   1075.1,   3.7300,  34.4724,2,  34.4701,2,    155.4,2,  3.6503,    154.1,2,    64.94,2,    35.05,2,     0.00,2,     2.42,2, -999.000,9, -999.000,9,   -999.0,9,  -999.00,9,   -999.0,9,   -999.0,9,   -999.0,9,     7.57,2, -999.00,  -999.0, -999.00,  -999.0
    31DSCG96_2,  P15S,   136,  1,    119,   1247,2,19960225,0739,-20.4987,-170.0022, 5560,   -999,   1209.9,   3.2046,  34.5060,2,  34.5072,2,    154.2,2,  3.1185,    155.3,6,    76.32,2,    35.28,2,     0.00,2,     2.44,2, -999.000,9, -999.000,9,   -999.0,9,  -999.00,9,   -999.0,9,   -999.0,9,   -999.0,9,     7.57,2, -999.00,  -999.0, -999.00,  -999.0
    31DSCG96_2,  P15S,   136,  1,    118,   1299,2,19960225,0739,-20.4987,-170.0022, 5560,   -999,   1440.0,   2.6825,  34.5779,2,  34.5782,2,    149.4,2,  2.5831,    148.4,2,    97.16,2,    35.83,2,     0.00,2,     2.49,2, -999.000,9, -999.000,9,   -999.0,9,  -999.00,9,   -999.0,9,   -999.0,9,   -999.0,9,     7.57,2, -999.00,  -999.0, -999.00,  -999.0
    31DSCG96_2,  P15S,   136,  1,    117,   1267,2,19960225,0739,-20.4987,-170.0022, 5560,   -999,   1687.6,   2.4453,  34.6080,2,  34.6076,2,    144.7,2,  2.3286,    145.6,2,   108.18,2,    36.11,2,     0.00,2,     2.51,2, -999.000,9, -999.000,9,   -999.0,9,  -999.00,9,   -999.0,9,   -999.0,9,   -999.0,9,     7.57,2, -999.00,  -999.0, -999.00,  -999.0
    31DSCG96_2,  P15S,   136,  1,    116,   1259,2,19960225,0739,-20.4987,-170.0022, 5560,   -999,   1940.4,   2.2620,  34.6265,2,  34.6254,2,    144.3,2,  2.1267,    144.6,2,   115.19,2,    36.20,2,     0.00,2,     2.52,2, -999.000,9, -999.000,9,   -999.0,9,  -999.00,9,   -999.0,9,   -999.0,9,   -999.0,9,     7.57,2, -999.00,  -999.0, -999.00,  -999.0
    31DSCG96_2,  P15S,   136,  1,    115,   1041,2,19960225,0739,-20.4987,-170.0022, 5560,   -999,   2190.5,   2.1030,  34.6409,2,  34.6402,2,    144.4,2,  1.9485,    144.2,2,   121.20,2,    36.32,2,     0.00,2,     2.53,2, -999.000,9, -999.000,9,   -999.0,9,  -999.00,9,   -999.0,9,   -999.0,9,   -999.0,9,     7.57,2, -999.00,  -999.0, -999.00,  -999.0
    31DSCG96_2,  P15S,   136,  1,    114,   1017,2,19960225,0739,-20.4987,-170.0022, 5560,   -999,   2442.0,   1.9696,  34.6525,2,  34.6531,2,    145.3,2,  1.7951,    144.4,2,   126.39,2,    36.29,2,     0.00,2,     2.53,2, -999.000,9, -999.000,9,   -999.0,9,  -999.00,9,   -999.0,9,   -999.0,9,   -999.0,9,     7.57,2, -999.00,  -999.0, -999.00,  -999.0
    31DSCG96_2,  P15S,   136,  1,    113,   1302,2,19960225,0739,-20.4987,-170.0022, 5560,   -999,   2689.8,   1.8649,  34.6611,2,  34.6600,2,    145.8,2,  1.6697,    144.8,6,   130.74,2,    36.30,2,     0.00,2,     2.53,2, -999.000,9, -999.000,9,   -999.0,9,  -999.00,9,   -999.0,9,   -999.0,9,   -999.0,9,     7.57,2, -999.00,  -999.0, -999.00,  -999.0
    31DSCG96_2,  P15S,   136,  1,    112,   1217,2,19960225,0739,-20.4987,-170.0022, 5560,   -999,   2940.7,   1.7480,  34.6698,2,  34.6686,2,    148.2,2,  1.5314,    147.5,2,   133.78,2,    36.13,2,     0.00,2,     2.51,2, -999.000,9, -999.000,9,   -999.0,9,  -999.00,9,   -999.0,9,   -999.0,9,   -999.0,9,     7.57,2, -999.00,  -999.0, -999.00,  -999.0
    31DSCG96_2,  P15S,   136,  1,    111,   1226,2,19960225,0739,-20.4987,-170.0022, 5560,   -999,   3187.6,   1.6505,  34.6845,2,  34.6845,2,    161.1,2,  1.4120,    159.1,2,   128.79,2,    35.25,2,     0.00,2,     2.44,2,    0.001,2,    0.001,2,   -999.0,9,  -999.00,9,   -999.0,9,   -999.0,9,   -999.0,9,     7.58,2, -999.00,  -999.0, -999.00,  -999.0
    31DSCG96_2,  P15S,   136,  1,    110,   1301,2,19960225,0739,-20.4987,-170.0022, 5560,   -999,   3439.7,   1.5217,  34.6958,2,  34.6952,2,    172.3,2,  1.2610,    170.9,2,   124.80,2,    34.36,2,     0.00,2,     2.37,2, -999.000,9, -999.000,9,   -999.0,9,  -999.00,9,   -999.0,9,   -999.0,9,   -999.0,9,     7.59,2, -999.00,  -999.0, -999.00,  -999.0
    31DSCG96_2,  P15S,   136,  1,    109,   1233,2,19960225,0739,-20.4987,-170.0022, 5560,   -999,   3671.3,   1.3988,  34.7160,2,  34.7163,2,    193.6,2,  1.1174,    192.2,2,   112.78,2,    32.49,2,     0.00,2,     2.23,2, -999.000,9, -999.000,9,   -999.0,9,  -999.00,9,   -999.0,9,   -999.0,9,   -999.0,9,  -999.00,9, -999.00,  -999.0, -999.00,  -999.0
    31DSCG96_2,  P15S,   136,  1,    108,   1227,2,19960225,0739,-20.4987,-170.0022, 5560,   -999,   3939.9,   1.2530,  34.7189,2,  34.7205,2,    201.1,2,  0.9472,    200.2,2,   112.87,2,    32.16,2,     0.00,2,     2.20,2,    0.006,2,    0.003,2,   -999.0,9,  -999.00,9,   -999.0,9,   -999.0,9,   -999.0,9,     7.61,3, -999.00,  -999.0, -999.00,  -999.0
    31DSCG96_2,  P15S,   136,  1,    107,   1263,2,19960225,0739,-20.4987,-170.0022, 5560,   -999,   4189.0,   1.1230,  34.7148,2,  34.7164,2,    204.2,2,  0.7941,    203.9,6,   116.08,2,    32.16,2,     0.00,2,     2.20,2, -999.000,9, -999.000,9,   -999.0,9,  -999.00,9,   -999.0,9,   -999.0,9,   -999.0,9,     7.61,2, -999.00,  -999.0, -999.00,  -999.0
    31DSCG96_2,  P15S,   136,  1,    106,   1262,2,19960225,0739,-20.4987,-170.0022, 5560,   -999,   4440.7,   1.0513,  34.7115,2,  34.7125,2,    205.8,2,  0.6967,    205.6,2,   118.62,2,    32.23,2,     0.00,2,     2.21,2, -999.000,9, -999.000,9,   -999.0,9,  -999.00,9,   -999.0,9,   -999.0,9,   -999.0,9,     7.61,2, -999.00,  -999.0, -999.00,  -999.0
    31DSCG96_2,  P15S,   136,  1,    105,   1264,2,19960225,0739,-20.4987,-170.0022, 5560,   -999,   4689.3,   1.0290,  34.7098,2,  34.7088,2,    206.6,2,  0.6469,    206.4,2,   119.94,2,    32.32,2,     0.00,2,     2.21,2,    0.006,2,    0.004,2,   -999.0,9,  -999.00,9,   -999.0,9,   -999.0,9,   -999.0,9,     7.61,2, -999.00,  -999.0, -999.00,  -999.0
    31DSCG96_2,  P15S,   136,  1,    104,   1003,2,19960225,0739,-20.4987,-170.0022, 5560,   -999,   4939.4,   1.0293,  34.7084,2,  34.7083,2,    207.3,2,  0.6180,    206.2,2,   120.80,2,    32.36,2,     0.00,2,     2.21,2, -999.000,9, -999.000,9,   -999.0,9,  -999.00,9,   -999.0,9,   -999.0,9,   -999.0,9,     7.61,2, -999.00,  -999.0, -999.00,  -999.0
    31DSCG96_2,  P15S,   136,  1,    103,   1035,2,19960225,0739,-20.4987,-170.0022, 5560,   -999,   5189.4,   1.0520,  34.7081,2,  34.7087,2,    207.5,2,  0.6099,    206.7,2,   121.10,2,    32.43,2,     0.00,2,     2.21,2,    0.010,6,    0.005,6,   -999.0,9,  -999.00,9,   -999.0,9,   -999.0,9,   -999.0,9,     7.61,2, -999.00,  -999.0, -999.00,  -999.0
    31DSCG96_2,  P15S,   136,  1,    102,   1030,2,19960225,0739,-20.4987,-170.0022, 5560,   -999,   5474.1,   1.0829,  34.7074,2,  34.7074,2,    207.8,2,  0.6046,    206.4,2,   121.20,2,    32.45,2,     0.00,2,     2.21,2, -999.000,9, -999.000,9,   -999.0,9,  -999.00,9,   -999.0,9,   -999.0,9,   -999.0,9,     7.61,2, -999.00,  -999.0, -999.00,  -999.0
    31DSCG96_2,  P15S,   136,  1,    101,   1022,2,19960225,0739,-20.4987,-170.0022, 5560,   -999,   5719.8,   1.1106,  34.7071,2,  34.7077,2,    208.0,2,  0.6001,    206.8,6,   121.48,6,    32.44,6,     0.00,6,     2.22,2,    0.013,2,    0.007,2,   -999.0,9,  -999.00,9,   -999.0,9,   -999.0,9,   -999.0,9,     7.61,2, -999.00,  -999.0, -999.00,  -999.0