BOTTLE,20220811CCHSIOAMB
EXPOCODE,SECT_ID,STNNBR,CASTNO,SAMPNO,BTLNBR,BTLNBR_FLAG_W,DATE,TIME,LATITUDE,LONGITUDE,DEPTH,CTDRAW,CTDPRS,CTDTMP,CTDSAL,CTDSAL_FLAG_W,SALNTY,SALNTY_FLAG_W,CTDOXY,CTDOXY_FLAG_W,THETA,OXYGEN,OXYGEN_FLAG_W,SILCAT,SILCAT_FLAG_W,NITRAT,NITRAT_FLAG_W,NITRIT,NITRIT_FLAG_W,PHSPHT,PHSPHT_FLAG_W,CFC-11,CFC-11_FLAG_W,CFC-12,CFC-12_FLAG_W,DELC14,DELC14_FLAG_W,DELC13,DELC13_FLAG_W,TCARBN,TCARBN_FLAG_W,PCO2,PCO2_FLAG_W,ALKALI,ALKALI_FLAG_W,PH,PH_FLAG_W,PCO2TMP,C14ERR,PH_TMP,C13ERR
,,,,,,,,,,,,DBAR,DBAR,ITS-90,PSS-78,,PSS-78,,UMOL/KG,,DEG C,UMOL/KG,,UMOL/KG,,UMOL/KG,,UMOL/KG,,UMOL/KG,,PMOL/KG,,PMOL/KG,,/MILLE,,/MILLE,,UMOL/KG,,UATM,,UMOL/KG,,,,DEG C,/MILLE,DEG C,/MILLE
    31DSCG96_1,  P15S,    81,  1,    134,   1119,2,19960131,2119,-44.3207,-173.7457, 3090,   -999,      8.8,  16.8559,  34.9997,2,  34.9991,2,    244.5,2, 16.8544,    248.1,2,     0.77,2,     0.02,2,     0.00,2,     0.09,2,    2.811,2,    1.749,4,   -999.0,9,  -999.00,9,   2027.3,2,    352.2,2,   2315.0,2,     8.01,2, -999.00,  -999.0, -999.00,  -999.0
    31DSCG96_1,  P15S,    81,  1,    133,   1221,3,19960131,2119,-44.3207,-173.7457, 3090,   -999,      9.6,  16.8585,  34.9994,2,-999.0000,9,    245.8,2, 16.8569,   -999.0,9,  -999.00,9,  -999.00,9,  -999.00,9,  -999.00,9, -999.000,9, -999.000,9,   -999.0,9,  -999.00,9,   -999.0,9,   -999.0,9,   -999.0,9,  -999.00,9, -999.00,  -999.0, -999.00,  -999.0
    31DSCG96_1,  P15S,    81,  1,    132,   1039,2,19960131,2119,-44.3207,-173.7457, 3090,   -999,     15.5,  16.7647,  35.0005,2,  35.0006,2,    248.7,2, 16.7622,    248.8,2,  -999.00,9,  -999.00,9,  -999.00,9,  -999.00,9, -999.000,9, -999.000,9,   -999.0,9,  -999.00,9,   2029.9,2,    352.8,2,   2315.4,2,     8.01,2, -999.00,  -999.0, -999.00,  -999.0
    31DSCG96_1,  P15S,    81,  1,    131,   1014,2,19960131,2119,-44.3207,-173.7457, 3090,   -999,     29.4,  16.2059,  35.0165,2,  35.0170,2,    252.1,2, 16.2012,    253.4,2,     0.77,2,     0.04,2,     0.00,2,     0.12,2, -999.000,5, -999.000,5,   -999.0,9,  -999.00,9,   2030.3,2,    353.5,2,   2315.0,2,     8.01,2, -999.00,  -999.0, -999.00,  -999.0
    31DSCG96_1,  P15S,    81,  1,    130,   1257,2,19960131,2119,-44.3207,-173.7457, 3090,   -999,     54.9,  13.7630,  34.9700,2,  34.9771,2,    244.5,2, 13.7552,    247.3,2,     1.67,2,     1.88,2,     0.48,2,     0.35,2, -999.000,9, -999.000,9,   -999.0,9,  -999.00,9,   2065.4,2,    435.6,2,   2311.0,2,     7.94,2, -999.00,  -999.0, -999.00,  -999.0
    31DSCG96_1,  P15S,    81,  1,    129,   1256,2,19960131,2119,-44.3207,-173.7457, 3090,   -999,     81.2,  12.4416,  34.9886,2,  34.9917,2,    241.5,2, 12.4308,    243.8,2,     2.69,2,     6.35,2,     0.02,2,     0.53,2,    3.323,2,    2.430,4,   -999.0,9,  -999.00,9,   2081.2,2,    483.1,6,   2308.4,2,     7.90,2, -999.00,  -999.0, -999.00,  -999.0
    31DSCG96_1,  P15S,    81,  1,    128,   1007,2,19960131,2119,-44.3207,-173.7457, 3090,   -999,    104.7,  12.3612,  35.0727,2,  35.0730,2,    238.1,2, 12.3473,    238.8,2,     3.29,2,     7.97,2,     0.02,2,     0.61,2, -999.000,9, -999.000,9,   -999.0,9,  -999.00,9,   2089.9,2,    503.1,2,   2309.6,2,     7.88,2, -999.00,  -999.0, -999.00,  -999.0
    31DSCG96_1,  P15S,    81,  1,    127,   1232,2,19960131,2119,-44.3207,-173.7457, 3090,   -999,    129.3,  12.2273,  35.0802,2,  35.0778,2,    240.5,2, 12.2103,    238.4,2,     3.55,2,     8.61,2,     0.02,2,     0.65,2, -999.000,5, -999.000,5,   -999.0,9,  -999.00,9,   2094.0,2,    518.7,2,   2312.5,2,     7.88,2, -999.00,  -999.0, -999.00,  -999.0
    31DSCG96_1,  P15S,    81,  1,    126,   1025,2,19960131,2119,-44.3207,-173.7457, 3090,   -999,    156.0,  11.8901,  35.0225,2,  35.0226,2,    243.2,2, 11.8699,    241.4,2,     3.68,2,     8.98,2,     0.01,2,     0.69,2, -999.000,9, -999.000,9,   -999.0,9,  -999.00,9,   2094.1,2,    522.7,2,   2308.9,2,     7.87,2, -999.00,  -999.0, -999.00,  -999.0
    31DSCG96_1,  P15S,    81,  1,    125,   1233,2,19960131,2119,-44.3207,-173.7457, 3090,   -999,    181.0,  11.4952,  34.9512,2,  34.9575,2,    241.7,2, 11.4723,    241.2,2,     3.77,2,     9.61,2,     0.01,2,     0.73,2,    3.199,2,    1.754,2,   -999.0,9,  -999.00,9,   2096.4,2,    533.2,2,   2304.8,2,     7.86,2, -999.00,  -999.0, -999.00,  -999.0
    31DSCG96_1,  P15S,    81,  1,    124,   1218,2,19960131,2119,-44.3207,-173.7457, 3090,   -999,    203.3,  11.2541,  34.9102,2,  34.9084,2,    238.7,2, 11.2286,    240.1,2,     3.97,2,    10.23,2,     0.01,2,     0.78,2, -999.000,9, -999.000,9,   -999.0,9,  -999.00,9,   2098.3,2,    550.4,2,   2304.0,2,     7.85,2, -999.00,  -999.0, -999.00,  -999.0
    31DSCG96_1,  P15S,    81,  1,    123,   1250,2,19960131,2119,-44.3207,-173.7457, 3090,   -999,    220.7,  11.1135,  34.8871,2,  34.8857,2,    237.3,2, 11.0861,    238.1,2,     4.15,2,    10.82,2,     0.01,2,     0.82,2,    3.196,2,    1.755,2,   -999.0,9,  -999.00,9,   2101.4,2,    554.3,2,   2301.8,2,     7.85,2, -999.00,  -999.0, -999.00,  -999.0
    31DSCG96_1,  P15S,    81,  1,    122,   1109,2,19960131,2119,-44.3207,-173.7457, 3090,   -999,    263.3,  10.4123,  34.7840,2,  34.7820,2,    229.1,2, 10.3810,    228.3,2,     4.96,2,    13.28,2,     0.01,2,     0.97,2, -999.000,9, -999.000,9,   -999.0,9,  -999.00,9,   2111.3,2,    601.6,2,   2298.7,2,     7.82,2, -999.00,  -999.0, -999.00,  -999.0
    31DSCG96_1,  P15S,    81,  1,    121,   1246,2,19960131,2119,-44.3207,-173.7457, 3090,   -999,    315.1,   9.7240,  34.7009,2,  34.7008,2,    213.8,2,  9.6880,    225.2,2,     5.77,2,    15.22,2,     0.01,2,     1.10,2,   -0.005,4,    1.583,2,   -999.0,9,  -999.00,9,   2118.8,2,    646.2,2,   2293.8,2,     7.80,2, -999.00,  -999.0, -999.00,  -999.0
    31DSCG96_1,  P15S,    81,  1,    120,   1015,2,19960131,2119,-44.3207,-173.7457, 3090,   -999,    363.9,   9.2524,  34.6495,2,  34.6485,2,    226.5,2,  9.2120,    230.7,2,     5.89,2,    16.12,2,     0.01,2,     1.16,2, -999.000,9, -999.000,9,   -999.0,9,  -999.00,9,   2120.7,2,    652.1,2,   2292.3,2,     7.79,2, -999.00,  -999.0, -999.00,  -999.0
    31DSCG96_1,  P15S,    81,  1,    119,   1247,2,19960131,2119,-44.3207,-173.7457, 3090,   -999,    413.8,   8.6962,  34.5822,2,  34.5805,2,    229.5,2,  8.6519,    233.4,2,     6.22,2,    17.48,2,     0.01,2,     1.25,2,    3.166,2,    1.752,2,   -999.0,9,  -999.00,9,   2124.0,2,    689.1,2,   2288.7,2,     7.78,2, -999.00,  -999.0, -999.00,  -999.0
    31DSCG96_1,  P15S,    81,  1,    118,   1222,2,19960131,2119,-44.3207,-173.7457, 3090,   -999,    464.4,   8.4102,  34.5524,2,  34.5528,2,    231.8,2,  8.3612,    227.9,2,     7.30,2,    19.07,2,     0.01,2,     1.35,2, -999.000,9, -999.000,9,   -999.0,9,  -999.00,9,   2130.9,2,    722.4,2,   2288.8,2,     7.76,2, -999.00,  -999.0, -999.00,  -999.0
    31DSCG96_1,  P15S,    81,  1,    117,   1267,2,19960131,2119,-44.3207,-173.7457, 3090,   -999,    514.3,   8.0620,  34.5122,2,  34.5123,2,    231.3,2,  8.0091,    230.6,2,     7.66,2,    19.96,2,     0.00,2,     1.41,2,    2.895,2,    2.072,4,   -999.0,9,  -999.00,9,   2133.2,2,    740.1,2,   2285.8,2,     7.75,2, -999.00,  -999.0, -999.00,  -999.0
    31DSCG96_1,  P15S,    81,  1,    116,   1211,2,19960131,2119,-44.3207,-173.7457, 3090,   -999,    564.0,   7.8179,  34.4918,2,  34.5526,4,    235.9,2,  7.7606,    229.5,3,  -999.00,9,  -999.00,9,  -999.00,9,  -999.00,9, -999.000,9, -999.000,9,   -999.0,9,  -999.00,9,   2135.1,2,    746.5,2,   2288.0,2,     7.74,2, -999.00,  -999.0, -999.00,  -999.0
    31DSCG96_1,  P15S,    81,  1,    115,   1041,2,19960131,2119,-44.3207,-173.7457, 3090,   -999,    625.2,   7.6426,  34.4887,2,  34.4894,2,    220.1,2,  7.5797,    223.4,2,    10.11,2,    21.73,2,     0.00,2,     1.54,2, -999.000,9, -999.000,9,   -999.0,9,  -999.00,9,   2140.0,2,    765.2,2,   2286.2,2,     7.74,2, -999.00,  -999.0, -999.00,  -999.0
    31DSCG96_1,  P15S,    81,  1,    114,   1017,2,19960131,2119,-44.3207,-173.7457, 3090,   -999,    724.3,   7.2903,  34.4851,2,  34.4861,2,    214.1,2,  7.2188,    211.0,2,    13.76,2,    23.62,2,     0.00,2,     1.64,2,    1.304,2,    0.800,2,   -999.0,9,  -999.00,9,   2148.2,2,    807.9,2,   2290.8,2,     7.72,2, -999.00,  -999.0, -999.00,  -999.0
    31DSCG96_1,  P15S,    81,  1,    113,   1302,2,19960131,2119,-44.3207,-173.7457, 3090,   -999,    827.6,   6.8632,  34.4754,2,  34.4751,2,    201.1,2,  6.7837,    201.9,6,    18.46,2,    25.33,2,     0.00,2,     1.76,2, -999.000,9, -999.000,9,   -999.0,9,  -999.00,9,   2158.5,2,    862.7,2,   2295.3,2,     7.70,2, -999.00,  -999.0, -999.00,  -999.0
    31DSCG96_1,  P15S,    81,  1,    112,   1217,2,19960131,2119,-44.3207,-173.7457, 3090,   -999,    928.2,   6.2687,  34.4576,2,  34.4567,2,    195.8,2,  6.1831,    195.9,2,    24.73,2,    27.02,2,     0.00,2,     1.88,2, -999.000,9, -999.000,9,   -999.0,9,  -999.00,9,   2170.6,2,    906.2,2,   2299.6,2,     7.68,2, -999.00,  -999.0, -999.00,  -999.0
    31DSCG96_1,  P15S,    81,  1,    111,   1114,2,19960131,2119,-44.3207,-173.7457, 3090,   -999,   1025.7,   5.4330,  34.3967,2,  34.4025,3,    199.0,2,  5.3442,    198.3,2,    29.00,2,    28.74,2,     0.00,2,     1.99,2,    0.692,2,    0.491,2,   -999.0,9,  -999.00,9,   2179.9,2,    961.7,2,   2299.3,2,     7.66,2, -999.00,  -999.0, -999.00,  -999.0
    31DSCG96_1,  P15S,    81,  1,    110,   1301,2,19960131,2119,-44.3207,-173.7457, 3090,   -999,   1140.1,   4.7085,  34.4050,2,  34.4049,2,    189.2,2,  4.6150,    191.6,2,    38.95,2,    30.62,2,     0.00,2,     2.12,2, -999.000,9, -999.000,9,   -999.0,9,  -999.00,9,   2198.1,2,   1031.2,3,   2311.3,2,     7.63,2, -999.00,  -999.0, -999.00,  -999.0
    31DSCG96_1,  P15S,    81,  1,    109,   1242,2,19960131,2119,-44.3207,-173.7457, 3090,   -999,   1316.4,   3.7221,  34.3922,2,  34.3834,3,    188.7,2,  3.6225,    194.1,2,    47.54,2,    32.47,2,     0.00,2,     2.25,2,    0.803,6,    0.476,6,   -999.0,9,  -999.00,9,   2212.6,2,   1082.3,2,   2314.0,2,     7.61,2, -999.00,  -999.0, -999.00,  -999.0
    31DSCG96_1,  P15S,    81,  1,    108,   1263,2,19960131,2119,-44.3207,-173.7457, 3090,   -999,   1564.7,   3.1955,  34.5232,2,  34.5222,2,    167.4,2,  3.0800,    167.3,6,    75.45,2,    33.93,2,     0.00,2,     2.36,2, -999.000,9, -999.000,9,   -999.0,9,  -999.00,9,   2251.5,2,   1133.6,2,   2348.0,2,     7.59,2, -999.00,  -999.0, -999.00,  -999.0
    31DSCG96_1,  P15S,    81,  1,    107,   1245,2,19960131,2119,-44.3207,-173.7457, 3090,   -999,   1813.8,   2.7149,  34.5916,2,  34.5908,2,    158.3,2,  2.5841,    158.0,2,    94.59,2,    34.63,2,     0.00,2,     2.41,2,    0.035,2,    0.144,4,   -999.0,9,  -999.00,9,   2274.9,2,   1156.3,2,   -999.0,5,     7.58,2, -999.00,  -999.0, -999.00,  -999.0
    31DSCG96_1,  P15S,    81,  1,    106,   1262,2,19960131,2119,-44.3207,-173.7457, 3090,   -999,   2068.6,   2.3561,  34.6382,2,  34.6376,2,    157.8,2,  2.2082,    163.1,2,    96.05,2,    34.22,2,     0.00,2,     2.37,2, -999.000,9, -999.000,9,   -999.0,9,  -999.00,9,   2275.2,2,   1172.6,2,   -999.0,5,     7.58,2, -999.00,  -999.0, -999.00,  -999.0
    31DSCG96_1,  P15S,    81,  1,    105,   1113,2,19960131,2119,-44.3207,-173.7457, 3090,   -999,   2310.8,   2.1562,  34.6810,2,  34.6803,2,    170.1,2,  1.9901,    171.1,6,    96.74,2,    33.30,2,     0.00,2,     2.30,2,    0.046,2,    0.169,4,   -999.0,9,  -999.00,9,   2270.8,2,   1138.6,2,   2366.2,2,     7.59,2, -999.00,  -999.0, -999.00,  -999.0
    31DSCG96_1,  P15S,    81,  1,    104,   1003,2,19960131,2119,-44.3207,-173.7457, 3090,   -999,   2555.9,   1.9578,  34.7143,2,  34.7139,2,    180.9,2,  1.7729,    181.8,2,    96.39,2,    32.20,2,     0.00,2,     2.21,2, -999.000,9, -999.000,9,   -999.0,9,  -999.00,9,   2262.6,2,   1149.2,3,   2363.4,2,     7.60,2, -999.00,  -999.0, -999.00,  -999.0
    31DSCG96_1,  P15S,    81,  1,    103,   1216,2,19960131,2119,-44.3207,-173.7457, 3090,   -999,   2813.3,   1.7929,  34.7331,2,  34.7329,2,    192.5,2,  1.5872,    192.1,2,    96.00,2,    31.35,2,     0.00,2,     2.15,2, -999.000,5, -999.000,5,   -999.0,9,  -999.00,9,   2252.9,2,   1117.0,3,   2354.7,2,     7.61,2, -999.00,  -999.0, -999.00,  -999.0
    31DSCG96_1,  P15S,    81,  1,    102,   1030,2,19960131,2119,-44.3207,-173.7457, 3090,   -999,   3063.6,   1.4681,  34.7291,2,  34.7288,2,    198.8,2,  1.2456,    197.9,2,   104.74,2,    32.16,3,     0.00,2,     2.16,2, -999.000,9, -999.000,9,   -999.0,9,  -999.00,9,   2255.5,2,   1113.0,3,   2363.4,2,     7.61,2, -999.00,  -999.0, -999.00,  -999.0
    31DSCG96_1,  P15S,    81,  1,    101,   1022,2,19960131,2119,-44.3207,-173.7457, 3090,   -999,   3110.5,   1.3955,  34.7281,2,  34.7293,2,    200.6,2,  1.1702,    199.1,2,   106.59,6,    32.11,3,     0.00,6,     2.16,6,    0.031,2,    0.242,4,   -999.0,9,  -999.00,9,   2254.1,2,   1109.5,3,   2360.2,2,     7.61,2, -999.00,  -999.0, -999.00,  -999.0