BOTTLE,20220811CCHSIOAMB
EXPOCODE,SECT_ID,STNNBR,CASTNO,SAMPNO,BTLNBR,BTLNBR_FLAG_W,DATE,TIME,LATITUDE,LONGITUDE,DEPTH,CTDRAW,CTDPRS,CTDTMP,CTDSAL,CTDSAL_FLAG_W,SALNTY,SALNTY_FLAG_W,CTDOXY,CTDOXY_FLAG_W,THETA,OXYGEN,OXYGEN_FLAG_W,SILCAT,SILCAT_FLAG_W,NITRAT,NITRAT_FLAG_W,NITRIT,NITRIT_FLAG_W,PHSPHT,PHSPHT_FLAG_W,CFC-11,CFC-11_FLAG_W,CFC-12,CFC-12_FLAG_W,DELC14,DELC14_FLAG_W,DELC13,DELC13_FLAG_W,TCARBN,TCARBN_FLAG_W,PCO2,PCO2_FLAG_W,ALKALI,ALKALI_FLAG_W,PH,PH_FLAG_W,PCO2TMP,C14ERR,PH_TMP,C13ERR
,,,,,,,,,,,,DBAR,DBAR,ITS-90,PSS-78,,PSS-78,,UMOL/KG,,DEG C,UMOL/KG,,UMOL/KG,,UMOL/KG,,UMOL/KG,,UMOL/KG,,PMOL/KG,,PMOL/KG,,/MILLE,,/MILLE,,UMOL/KG,,UATM,,UMOL/KG,,,,DEG C,/MILLE,DEG C,/MILLE
    31DSCG96_2,  P15S,   103,  1,    136,   1245,2,19960216,0513,-36.4508,-170.2868, 5102,   -999,      3.2,  20.5028,  35.1222,2,  35.1210,2,    225.3,2, 20.5022,    226.0,6,     1.34,2,     0.00,2,     0.00,2,     0.13,2, -999.000,9, -999.000,9,     77.6,2,  -999.00,9,   2038.0,2,    370.9,2,   2315.0,2,     7.99,2, -999.00,     5.1, -999.00,  -999.0
    31DSCG96_2,  P15S,   103,  1,    135,   1113,2,19960216,0513,-36.4508,-170.2868, 5102,   -999,     30.1,  19.9321,  35.2512,2,  35.2017,3,    226.6,2, 19.9266,    230.9,2,     1.45,2,     0.00,2,     0.00,2,     0.13,2, -999.000,9, -999.000,9,   -999.0,9,  -999.00,9,   -999.0,9,   -999.0,9,   -999.0,9,     8.00,2, -999.00,  -999.0, -999.00,  -999.0
    31DSCG96_2,  P15S,   103,  1,    134,   1119,2,19960216,0513,-36.4508,-170.2868, 5102,   -999,     54.5,  16.0865,  35.1851,2,  35.1925,2,    242.9,2, 16.0779,    263.4,2,     1.59,2,     0.00,2,     0.00,2,     0.13,2, -999.000,9, -999.000,9,   -999.0,9,  -999.00,9,   2036.7,2,    367.0,2,   2315.4,2,     7.99,2, -999.00,  -999.0, -999.00,  -999.0
    31DSCG96_2,  P15S,   103,  1,    133,   1221,2,19960216,0513,-36.4508,-170.2868, 5102,   -999,     83.4,  13.6398,  35.1225,2,  35.1275,2,    259.2,2, 13.6280,    250.2,2,     1.85,2,     0.85,2,     0.11,2,     0.28,2, -999.000,9, -999.000,9,   -999.0,9,  -999.00,9,   -999.0,9,   -999.0,9,   -999.0,9,     7.94,2, -999.00,  -999.0, -999.00,  -999.0
    31DSCG96_2,  P15S,   103,  1,    132,   1039,2,19960216,0513,-36.4508,-170.2868, 5102,   -999,    105.1,  13.3617,  35.1479,2,  35.1377,2,    240.0,2, 13.3471,    238.3,2,     2.18,2,     3.63,2,     0.16,2,     0.41,2, -999.000,9, -999.000,9,   -999.0,9,  -999.00,9,   2075.7,2,    458.0,2,   2312.0,2,     7.92,2, -999.00,  -999.0, -999.00,  -999.0
    31DSCG96_2,  P15S,   103,  1,    131,   1014,2,19960216,0513,-36.4508,-170.2868, 5102,   -999,    128.0,  12.7768,  35.0920,2,  35.0927,2,    230.6,2, 12.7594,    228.1,2,     2.74,2,     6.62,2,     0.01,2,     0.56,2, -999.000,9, -999.000,9,   -999.0,9,  -999.00,9,   -999.0,9,   -999.0,9,   -999.0,9,     7.89,2, -999.00,  -999.0, -999.00,  -999.0
    31DSCG96_2,  P15S,   103,  1,    130,   1257,2,19960216,0513,-36.4508,-170.2868, 5102,   -999,    163.9,  12.0847,  35.0191,2,  35.0188,2,    223.2,2, 12.0633,    220.6,2,     3.51,2,     9.39,2,     0.01,2,     0.72,2, -999.000,9, -999.000,9,   -999.0,9,  -999.00,9,   2107.1,2,    542.9,2,   2307.0,2,     7.85,2, -999.00,  -999.0, -999.00,  -999.0
    31DSCG96_2,  P15S,   103,  1,    129,   1256,2,19960216,0513,-36.4508,-170.2868, 5102,   -999,    214.6,  11.2490,  34.9193,2,  34.9214,2,    221.1,2, 11.2222,    219.5,2,     4.22,2,    11.82,2,     0.01,2,     0.86,2, -999.000,9, -999.000,9,   -999.0,9,  -999.00,9,   2110.9,2,    579.1,2,   2299.7,2,     7.83,2, -999.00,  -999.0, -999.00,  -999.0
    31DSCG96_2,  P15S,   103,  1,    128,   1007,2,19960216,0513,-36.4508,-170.2868, 5102,   -999,    264.3,  10.4639,  34.8099,2,  34.8117,2,    216.5,2, 10.4323,    211.2,2,     5.29,2,    14.68,2,     0.01,2,     1.03,2, -999.000,9, -999.000,9,   -999.0,9,  -999.00,9,   2122.6,2,    637.7,2,   2297.5,2,     7.79,2, -999.00,  -999.0, -999.00,  -999.0
    31DSCG96_2,  P15S,   103,  1,    127,   1232,2,19960216,0513,-36.4508,-170.2868, 5102,   -999,    310.4,   9.5627,  34.6941,2,  34.6921,2,    208.5,2,  9.5276,    207.4,2,     6.14,2,    17.39,2,     0.01,2,     1.21,2, -999.000,9, -999.000,9,   -999.0,9,  -999.00,9,   2130.7,2,    701.1,2,   2291.6,2,     7.77,2, -999.00,  -999.0, -999.00,  -999.0
    31DSCG96_2,  P15S,   103,  1,    126,   1025,2,19960216,0513,-36.4508,-170.2868, 5102,   -999,    361.5,   8.8585,  34.6067,2,  34.6029,2,    209.4,2,  8.8194,    214.0,2,     6.54,2,    18.72,2,     0.00,2,     1.29,2, -999.000,9, -999.000,9,   -999.0,9,  -999.00,9,   -999.0,9,   -999.0,9,   -999.0,9,     7.75,2, -999.00,  -999.0, -999.00,  -999.0
    31DSCG96_2,  P15S,   103,  1,    125,   1233,2,19960216,0513,-36.4508,-170.2868, 5102,   -999,    422.5,   8.2831,  34.5426,2,  34.5378,2,    216.4,2,  8.2391,    218.9,2,     7.13,2,    20.06,2,     0.00,2,     1.38,2, -999.000,9, -999.000,9,   -999.0,9,  -999.00,9,   2135.5,2,    742.0,2,   2289.5,2,     7.74,2, -999.00,  -999.0, -999.00,  -999.0
    31DSCG96_2,  P15S,   103,  1,    124,   1013,2,19960216,0513,-36.4508,-170.2868, 5102,   -999,    525.5,   7.7068,  34.4892,2,  34.4904,2,    222.5,2,  7.6540,    221.2,2,     8.49,2,    21.41,2,     0.00,2,     1.47,2, -999.000,9, -999.000,9,   -999.0,9,  -999.00,9,   2138.6,2,    762.5,2,   2286.0,2,     7.73,2, -999.00,  -999.0, -999.00,  -999.0
    31DSCG96_2,  P15S,   103,  1,    123,   1250,2,19960216,0513,-36.4508,-170.2868, 5102,   -999,    628.7,   7.1995,  34.4493,2,  34.4489,2,    220.8,2,  7.1383,    220.4,2,    10.30,2,    22.78,2,     0.00,2,     1.57,2, -999.000,9, -999.000,9,   -999.0,9,  -999.00,9,   -999.0,9,   -999.0,9,   -999.0,9,     7.73,2, -999.00,  -999.0, -999.00,  -999.0
    31DSCG96_2,  P15S,   103,  1,    122,   1265,2,19960216,0513,-36.4508,-170.2868, 5102,   -999,    725.1,   6.6256,  34.4101,2,  34.4087,2,    216.5,2,  6.5578,    216.6,2,    13.41,2,    24.58,2,     0.00,2,     1.68,2, -999.000,9, -999.000,9,   -999.0,9,  -999.00,9,   -999.0,9,   -999.0,9,   -999.0,9,     7.71,2, -999.00,  -999.0, -999.00,  -999.0
    31DSCG96_2,  P15S,   103,  1,    121,   1246,2,19960216,0513,-36.4508,-170.2868, 5102,   -999,    822.5,   6.0999,  34.3930,2,  34.3922,2,    210.3,2,  6.0257,    208.8,2,    18.65,2,    26.47,2,     0.00,2,     1.81,2, -999.000,9, -999.000,9,   -999.0,9,  -999.00,9,   -999.0,9,   -999.0,9,   -999.0,9,     7.69,2, -999.00,  -999.0, -999.00,  -999.0
    31DSCG96_2,  P15S,   103,  1,    120,   1015,2,19960216,0513,-36.4508,-170.2868, 5102,   -999,    924.8,   5.5732,  34.3831,2,  34.3825,2,    201.5,2,  5.4928,    201.3,2,    24.49,2,    28.15,2,     0.00,2,     1.93,2, -999.000,9, -999.000,9,   -999.0,9,  -999.00,9,   -999.0,9,   -999.0,9,   -999.0,9,     7.67,2, -999.00,  -999.0, -999.00,  -999.0
    31DSCG96_2,  P15S,   103,  1,    119,   1247,2,19960216,0513,-36.4508,-170.2868, 5102,   -999,   1025.1,   4.9545,  34.3734,2,  34.3738,2,    193.8,2,  4.8695,    195.8,6,    31.18,2,    29.87,2,     0.00,2,     2.04,2, -999.000,9, -999.000,9,   -999.0,9,  -999.00,9,   2186.8,2,    950.8,2,   2303.4,2,     7.65,2, -999.00,  -999.0, -999.00,  -999.0
    31DSCG96_2,  P15S,   103,  1,    118,   1222,2,19960216,0513,-36.4508,-170.2868, 5102,   -999,   1126.4,   4.4775,  34.4045,2,  34.4015,3,    185.6,2,  4.3873,    186.3,2,    41.15,2,    31.16,2,     0.00,2,     2.15,2, -999.000,9, -999.000,9,   -999.0,9,  -999.00,9,   -999.0,9,   -999.0,9,   -999.0,9,     7.63,2, -999.00,  -999.0, -999.00,  -999.0
    31DSCG96_2,  P15S,   103,  1,    117,   1267,2,19960216,0513,-36.4508,-170.2868, 5102,   -999,   1227.3,   3.8908,  34.4298,2,  34.4285,2,    180.6,2,  3.7970,    180.2,2,    51.95,2,    32.54,2,     0.00,2,     2.24,2, -999.000,9, -999.000,9,   -999.0,9,  -999.00,9,   -999.0,9,   -999.0,9,   -999.0,9,     7.61,2, -999.00,  -999.0, -999.00,  -999.0
    31DSCG96_2,  P15S,   103,  1,    116,   1211,2,19960216,0513,-36.4508,-170.2868, 5102,   -999,   1352.7,   3.4412,  34.4792,2,  34.4776,2,    172.3,2,  3.3411,    171.2,2,    64.95,2,    33.51,2,     0.00,2,     2.31,2, -999.000,9, -999.000,9,   -999.0,9,  -999.00,9,   -999.0,9,   -999.0,9,   -999.0,9,     7.59,2, -999.00,  -999.0, -999.00,  -999.0
    31DSCG96_2,  P15S,   103,  1,    115,   1041,2,19960216,0513,-36.4508,-170.2868, 5102,   -999,   1563.8,   2.9271,  34.5449,2,  34.5454,2,    163.1,2,  2.8149,    161.3,2,    83.12,2,    34.39,2,     0.00,2,     2.39,2, -999.000,9, -999.000,9,   -999.0,9,  -999.00,9,   2262.4,2,   1156.3,2,   2355.8,2,     7.58,3, -999.00,  -999.0, -999.00,  -999.0
    31DSCG96_2,  P15S,   103,  1,    114,   1017,2,19960216,0513,-36.4508,-170.2868, 5102,   -999,   1813.5,   2.5618,  34.5944,2,  34.5940,2,    154.5,2,  2.4331,    154.5,2,    98.76,2,    35.01,2,     0.00,2,     2.43,2, -999.000,9, -999.000,9,   -999.0,9,  -999.00,9,   -999.0,9,   -999.0,9,   -999.0,9,     7.58,2, -999.00,  -999.0, -999.00,  -999.0
    31DSCG96_2,  P15S,   103,  1,    113,   1302,2,19960216,0513,-36.4508,-170.2868, 5102,   -999,   2065.9,   2.3683,  34.6200,2,  34.6202,2,    150.7,2,  2.2206,    150.9,2,   108.40,2,    35.37,2,     0.00,2,     2.46,2, -999.000,9, -999.000,9,   -999.0,9,  -999.00,9,   2292.5,2,   1203.1,2,   2387.5,2,     7.57,2, -999.00,  -999.0, -999.00,  -999.0
    31DSCG96_2,  P15S,   103,  1,    112,   1217,2,19960216,0513,-36.4508,-170.2868, 5102,   -999,   2316.0,   2.2374,  34.6349,2,  34.6333,2,    149.6,2,  2.0696,    149.6,2,   114.27,2,    35.43,2,     0.00,2,     2.47,2, -999.000,9, -999.000,9,   -999.0,9,  -999.00,9,   -999.0,9,   -999.0,9,   -999.0,9,     7.57,2, -999.00,  -999.0, -999.00,  -999.0
    31DSCG96_2,  P15S,   103,  1,    111,   1114,2,19960216,0513,-36.4508,-170.2868, 5102,   -999,   2564.2,   2.0823,  34.6489,2,  34.6495,2,    149.4,2,  1.8946,    148.5,2,   120.57,2,    35.70,2,     0.00,2,     2.49,2, -999.000,9, -999.000,9,   -999.0,9,  -999.00,9,   2304.0,2,   1214.1,2,   2397.8,2,     7.57,2, -999.00,  -999.0, -999.00,  -999.0
    31DSCG96_2,  P15S,   103,  1,    110,   1301,2,19960216,0513,-36.4508,-170.2868, 5102,   -999,   2814.1,   1.9569,  34.6644,2,  34.6629,2,    152.4,2,  1.7481,    153.2,2,   121.91,2,    35.32,2,     0.00,2,     2.46,2, -999.000,9, -999.000,9,   -999.0,9,  -999.00,9,   -999.0,9,   -999.0,9,   -999.0,9,     7.58,2, -999.00,  -999.0, -999.00,  -999.0
    31DSCG96_2,  P15S,   103,  1,    109,   1242,2,19960216,0513,-36.4508,-170.2868, 5102,   -999,   3065.0,   1.8361,  34.6880,2,  34.6875,2,    164.9,2,  1.6054,    166.3,2,   116.33,2,    34.12,2,     0.00,2,     2.37,2, -999.000,9, -999.000,9,   -999.0,9,  -999.00,9,   2290.4,2,   1158.1,6,   2388.5,2,     7.59,2, -999.00,  -999.0, -999.00,  -999.0
    31DSCG96_2,  P15S,   103,  1,    108,   1227,2,19960216,0513,-36.4508,-170.2868, 5102,   -999,   3313.7,   1.7069,  34.7080,2,  34.7069,2,    180.1,2,  1.4544,    179.8,2,   110.40,2,    32.91,2,     0.00,2,     2.27,2, -999.000,9, -999.000,9,   -999.0,9,  -999.00,9,   2274.0,2,   -999.0,9,   2378.1,2,     7.60,2, -999.00,  -999.0, -999.00,  -999.0
    31DSCG96_2,  P15S,   103,  1,    107,   1208,4,19960216,0513,-36.4508,-170.2868, 5102,   -999,   3564.9,   1.5479,  34.7198,2,  34.7190,2,    191.7,2,  1.2736,   -999.0,9,   107.53,2,    31.99,2,     0.00,2,     2.21,2, -999.000,9, -999.000,9,   -999.0,9,  -999.00,9,   -999.0,9,   -999.0,9,   -999.0,9,  -999.00,9, -999.00,  -999.0, -999.00,  -999.0
    31DSCG96_2,  P15S,   103,  1,    106,   1262,2,19960216,0513,-36.4508,-170.2868, 5102,   -999,   3814.4,   1.3578,  34.7218,2,  34.7204,2,    198.8,2,  1.0624,    199.1,2,   110.08,2,    31.80,2,     0.00,2,     2.18,2, -999.000,9, -999.000,9,   -999.0,9,  -999.00,9,   -999.0,9,   -999.0,9,   -999.0,9,     7.61,2, -999.00,  -999.0, -999.00,  -999.0
    31DSCG96_2,  P15S,   103,  1,    105,   1264,2,19960216,0513,-36.4508,-170.2868, 5102,   -999,   4064.4,   1.1923,  34.7176,2,  34.7174,2,    202.2,2,  0.8749,    202.7,2,   114.39,2,    31.94,2,     0.00,2,     2.18,2, -999.000,9, -999.000,9,   -999.0,9,  -999.00,9,   2259.0,2,   1067.0,2,   2364.5,2,     7.61,2, -999.00,  -999.0, -999.00,  -999.0
    31DSCG96_2,  P15S,   103,  1,    104,   1003,2,19960216,0513,-36.4508,-170.2868, 5102,   -999,   4314.5,   1.0691,  34.7125,2,  34.7116,2,    204.8,2,  0.7280,    205.1,2,   118.05,2,    31.99,2,     0.00,2,     2.19,2, -999.000,9, -999.000,9,   -999.0,9,  -999.00,9,   -999.0,9,   -999.0,9,   -999.0,9,     7.61,2, -999.00,  -999.0, -999.00,  -999.0
    31DSCG96_2,  P15S,   103,  1,    103,    999,2,19960216,0513,-36.4508,-170.2868, 5102,   -999,   4563.2,   1.0187,  34.7097,2,  34.7092,2,    206.2,2,  0.6514,    205.8,2,   120.30,2,    32.14,2,     0.00,2,     2.20,2, -999.000,9, -999.000,9,   -999.0,9,  -999.00,9,   2259.4,2,   1071.0,2,   2367.5,2,     7.61,2, -999.00,  -999.0, -999.00,  -999.0
    31DSCG96_2,  P15S,   103,  1,    102,   1030,2,19960216,0513,-36.4508,-170.2868, 5102,   -999,   4814.5,   1.0040,  34.7079,2,  34.7070,2,    207.1,2,  0.6083,    207.0,2,   121.40,2,    32.16,2,     0.00,2,     2.20,2, -999.000,9, -999.000,9,   -999.0,9,  -999.00,9,   -999.0,9,   -999.0,9,   -999.0,9,     7.61,2, -999.00,  -999.0, -999.00,  -999.0
    31DSCG96_2,  P15S,   103,  1,    101,   1022,2,19960216,0513,-36.4508,-170.2868, 5102,   -999,   5217.5,   1.0378,  34.7073,2,  34.7063,2,    207.5,2,  0.5928,    207.3,6,   121.79,6,    32.26,6,     0.00,6,     2.20,6, -999.000,9, -999.000,9,   -999.0,9,  -999.00,9,   2259.6,2,   1088.7,2,   2368.9,2,     7.61,2, -999.00,  -999.0, -999.00,  -999.0