BOTTLE,20220811CCHSIOAMB
EXPOCODE,SECT_ID,STNNBR,CASTNO,SAMPNO,BTLNBR,BTLNBR_FLAG_W,DATE,TIME,LATITUDE,LONGITUDE,DEPTH,CTDRAW,CTDPRS,CTDTMP,CTDSAL,CTDSAL_FLAG_W,SALNTY,SALNTY_FLAG_W,CTDOXY,CTDOXY_FLAG_W,THETA,OXYGEN,OXYGEN_FLAG_W,SILCAT,SILCAT_FLAG_W,NITRAT,NITRAT_FLAG_W,NITRIT,NITRIT_FLAG_W,PHSPHT,PHSPHT_FLAG_W,CFC-11,CFC-11_FLAG_W,CFC-12,CFC-12_FLAG_W,DELC14,DELC14_FLAG_W,DELC13,DELC13_FLAG_W,TCARBN,TCARBN_FLAG_W,PCO2,PCO2_FLAG_W,ALKALI,ALKALI_FLAG_W,PH,PH_FLAG_W,PCO2TMP,C14ERR,PH_TMP,C13ERR
,,,,,,,,,,,,DBAR,DBAR,ITS-90,PSS-78,,PSS-78,,UMOL/KG,,DEG C,UMOL/KG,,UMOL/KG,,UMOL/KG,,UMOL/KG,,UMOL/KG,,PMOL/KG,,PMOL/KG,,/MILLE,,/MILLE,,UMOL/KG,,UATM,,UMOL/KG,,,,DEG C,/MILLE,DEG C,/MILLE
    31DSCG96_2,  P15S,   171,  1,    136,   1245,2,19960305,0712, -3.0000,-168.7507, 5347,   -999,      5.4,  27.2887,  35.5737,2,  35.5727,2,    203.8,2, 27.2875,    201.4,2,     2.19,2,     3.73,2,     0.19,2,     0.44,2,    1.709,2,    0.980,2,     82.5,2,  -999.00,9,   2019.3,2,    310.2,2,   2343.0,2,     8.06,2, -999.00,     3.4, -999.00,  -999.0
    31DSCG96_2,  P15S,   171,  1,    135,   1113,2,19960305,0712, -3.0000,-168.7507, 5347,   -999,     28.7,  27.2935,  35.5775,2,  35.5828,2,    201.8,2, 27.2869,    201.1,2,     2.22,2,     3.71,2,     0.20,2,     0.44,2,    1.703,2,    0.967,2,   -999.0,9,  -999.00,9,   2019.5,2,    310.7,2,   2343.1,2,     8.06,2, -999.00,  -999.0, -999.00,  -999.0
    31DSCG96_2,  P15S,   171,  1,    134,   1267,2,19960305,0712, -3.0000,-168.7507, 5347,   -999,     56.0,  27.2750,  35.5942,2,  35.5941,2,    198.8,2, 27.2620,    200.6,2,     2.09,2,     3.65,2,     0.20,2,     0.45,2,    1.710,2,    0.988,2,   -999.0,9,  -999.00,9,   2019.8,2,    305.5,2,   2344.0,2,     8.06,2, -999.00,  -999.0, -999.00,  -999.0
    31DSCG96_2,  P15S,   171,  1,    133,   1021,2,19960305,0712, -3.0000,-168.7507, 5347,   -999,     90.2,  27.3336,  35.6471,2,  35.6469,2,    197.2,2, 27.3127,    197.5,2,     2.09,2,     3.49,2,     0.19,2,     0.47,2,    1.697,2,    0.986,2,   -999.0,9,  -999.00,9,   2020.1,2,    310.9,2,   2346.3,2,     8.06,2, -999.00,  -999.0, -999.00,  -999.0
    31DSCG96_2,  P15S,   171,  1,    132,   1039,2,19960305,0712, -3.0000,-168.7507, 5347,   -999,    114.2,  27.2222,  35.6112,2,  35.6160,2,    195.8,2, 27.1958,    196.4,2,     2.18,2,     3.65,2,     0.22,2,     0.47,2,    1.700,2,    0.960,2,   -999.0,9,  -999.00,9,   2023.3,2,    309.1,2,   2344.2,2,     8.06,2, -999.00,  -999.0, -999.00,  -999.0
    31DSCG96_2,  P15S,   171,  1,    131,   1014,2,19960305,0712, -3.0000,-168.7507, 5347,   -999,    173.4,  23.4134,  35.9696,2,  36.0262,3,    143.5,2, 23.3774,    152.4,2,     2.36,2,     6.68,2,     0.11,2,     0.67,2,    1.884,2,    1.030,2,   -999.0,9,  -999.00,9,   2089.4,2,    391.5,2,   2371.6,2,     7.98,2, -999.00,  -999.0, -999.00,  -999.0
    31DSCG96_2,  P15S,   171,  1,    130,   1257,2,19960305,0712, -3.0000,-168.7507, 5347,   -999,    214.3,  15.9357,  35.2892,2,  35.2951,2,     93.8,2, 15.9018,     95.0,2,    10.53,2,    18.73,2,     0.01,2,     1.47,2,    1.262,2,    0.669,2,   -999.0,9,  -999.00,9,   2166.6,2,    724.5,2,   2328.3,2,     7.75,2, -999.00,  -999.0, -999.00,  -999.0
    31DSCG96_2,  P15S,   171,  1,    129,   1256,2,19960305,0712, -3.0000,-168.7507, 5347,   -999,    262.3,  11.6964,  34.8874,2,  34.8806,2,     87.9,2, 11.6627,     89.9,2,    19.08,2,    25.84,2,     0.01,2,     1.86,2,    0.517,2,    0.285,2,   -999.0,9,  -999.00,9,   2192.4,2,    973.3,2,   2310.6,2,     7.64,2, -999.00,  -999.0, -999.00,  -999.0
    31DSCG96_2,  P15S,   171,  1,    128,   1230,2,19960305,0712, -3.0000,-168.7507, 5347,   -999,    325.3,   9.9363,  34.7367,2,  34.7352,2,    100.7,2,  9.8986,    102.2,2,    23.46,2,    27.93,2,     0.00,2,     1.95,2,    0.345,6,    0.181,6,   -999.0,9,  -999.00,9,   2197.0,2,   1018.5,2,   2305.9,2,     7.62,2, -999.00,  -999.0, -999.00,  -999.0
    31DSCG96_2,  P15S,   171,  1,    127,   1232,3,19960305,0712, -3.0000,-168.7507, 5347,   -999,    421.6,   9.1427,  34.6791,2,  34.6799,2,     93.8,2,  9.0961,   -999.0,9,    28.30,2,    30.82,2,     0.00,2,     2.13,2, -999.000,5, -999.000,5,   -999.0,9,  -999.00,9,   -999.0,9,   -999.0,9,   -999.0,9,  -999.00,9, -999.00,  -999.0, -999.00,  -999.0
    31DSCG96_2,  P15S,   171,  1,    126,   1025,2,19960305,0712, -3.0000,-168.7507, 5347,   -999,    526.5,   8.0384,  34.6278,2,  34.6271,2,     58.3,2,  7.9841,     58.2,2,    37.98,2,    36.61,2,     0.00,2,     2.53,2,    0.053,2,    0.029,2,   -999.0,9,  -999.00,9,   2249.3,2,   1458.4,2,   2311.6,2,     7.48,2, -999.00,  -999.0, -999.00,  -999.0
    31DSCG96_2,  P15S,   171,  1,    125,   1119,2,19960305,0712, -3.0000,-168.7507, 5347,   -999,    623.7,   6.9775,  34.5843,2,  34.5821,2,     50.7,2,  6.9178,     49.1,6,    48.66,2,    39.95,2,     0.00,2,     2.79,2,    0.007,2,    0.003,2,   -999.0,9,  -999.00,9,   2270.1,2,   1624.1,2,   2317.3,2,     7.44,2, -999.00,  -999.0, -999.00,  -999.0
    31DSCG96_2,  P15S,   171,  1,    124,   1244,2,19960305,0712, -3.0000,-168.7507, 5347,   -999,    729.1,   6.0269,  34.5569,2,  34.5557,2,     68.0,2,  5.9618,     63.4,2,    58.15,2,    40.01,2,     0.00,2,     2.81,2,    0.004,2,    0.001,2,   -999.0,9,  -999.00,9,   2276.4,2,   1577.2,2,   2328.8,2,     7.45,2, -999.00,  -999.0, -999.00,  -999.0
    31DSCG96_2,  P15S,   171,  1,    123,   1250,2,19960305,0712, -3.0000,-168.7507, 5347,   -999,    818.9,   5.3996,  34.5464,2,  34.5453,2,     77.1,2,  5.3299,     75.3,2,    66.65,2,    39.67,2,     0.00,2,     2.80,2,   -0.001,2,    0.000,2,   -999.0,9,  -999.00,9,   2280.3,2,   1526.8,2,   2336.9,2,     7.47,2, -999.00,  -999.0, -999.00,  -999.0
    31DSCG96_2,  P15S,   171,  1,    122,   1265,2,19960305,0712, -3.0000,-168.7507, 5347,   -999,    924.9,   4.8510,  34.5445,2,  34.5442,2,     86.9,2,  4.7755,     86.6,2,    74.94,2,    39.08,2,     0.00,2,     2.77,2,    0.000,2,    0.000,2,   -999.0,9,  -999.00,9,   2282.1,2,   1477.1,2,   2348.5,2,     7.49,2, -999.00,  -999.0, -999.00,  -999.0
    31DSCG96_2,  P15S,   171,  1,    121,   1246,2,19960305,0712, -3.0000,-168.7507, 5347,   -999,   1027.4,   4.4664,  34.5500,2,  34.5493,2,     93.5,2,  4.3847,     91.1,6,    81.87,2,    38.96,2,     0.00,2,     2.77,2, -999.000,9, -999.000,9,   -999.0,9,  -999.00,9,   2290.2,2,   1457.0,2,   2354.7,2,     7.49,2, -999.00,  -999.0, -999.00,  -999.0
    31DSCG96_2,  P15S,   171,  1,    120,   1015,2,19960305,0712, -3.0000,-168.7507, 5347,   -999,   1120.2,   4.1782,  34.5576,2,  34.5560,2,     94.5,2,  4.0908,     93.6,2,    88.21,2,    38.98,2,     0.00,2,     2.78,2,    0.000,2,    0.000,2,   -999.0,9,  -999.00,9,   2295.9,2,   1452.5,2,   2363.6,2,     7.49,2, -999.00,  -999.0, -999.00,  -999.0
    31DSCG96_2,  P15S,   171,  1,    119,   1247,2,19960305,0712, -3.0000,-168.7507, 5347,   -999,   1224.7,   3.8302,  34.5692,2,  34.5695,2,     94.2,2,  3.7369,     93.7,2,    96.91,2,    39.19,2,     0.00,2,     2.80,2, -999.000,9, -999.000,9,   -999.0,9,  -999.00,9,   2307.0,2,   1482.9,2,   2372.0,2,     7.49,2, -999.00,  -999.0, -999.00,  -999.0
    31DSCG96_2,  P15S,   171,  1,    118,   1299,2,19960305,0712, -3.0000,-168.7507, 5347,   -999,   1351.9,   3.5578,  34.5792,2,  34.5802,2,     95.8,2,  3.4564,     94.7,2,   103.86,2,    39.27,2,     0.00,2,     2.80,2, -999.000,9, -999.000,9,   -999.0,9,  -999.00,9,   2314.4,2,   1451.4,2,   2380.3,2,     7.49,2, -999.00,  -999.0, -999.00,  -999.0
    31DSCG96_2,  P15S,   171,  1,    117,   1263,2,19960305,0712, -3.0000,-168.7507, 5347,   -999,   1564.0,   3.0451,  34.5993,2,  34.6007,2,    100.9,2,  2.9313,    102.3,2,   115.62,2,    38.92,2,     0.00,2,     2.77,2, -999.000,9, -999.000,9,   -999.0,9,  -999.00,9,   2320.5,2,   1424.4,2,   2391.8,2,     7.50,2, -999.00,  -999.0, -999.00,  -999.0
    31DSCG96_2,  P15S,   171,  1,    116,   1259,2,19960305,0712, -3.0000,-168.7507, 5347,   -999,   1815.4,   2.5284,  34.6230,2,  34.6223,2,    111.9,2,  2.3999,    112.3,2,   126.56,2,    38.36,2,     0.00,2,     2.71,2,   -0.001,2,    0.000,2,   -999.0,9,  -999.00,9,   2327.0,2,   1372.4,2,   2406.4,2,     7.52,2, -999.00,  -999.0, -999.00,  -999.0
    31DSCG96_2,  P15S,   171,  1,    115,   1264,2,19960305,0712, -3.0000,-168.7507, 5347,   -999,   2043.7,   2.1466,  34.6448,2,  34.6450,2,    117.8,2,  2.0041,    118.3,6,   136.09,2,    38.10,2,     0.00,2,     2.68,2, -999.000,9, -999.000,9,   -999.0,9,  -999.00,9,   2335.6,2,   1341.9,2,   2415.6,2,     7.53,2, -999.00,  -999.0, -999.00,  -999.0
    31DSCG96_2,  P15S,   171,  1,    114,   1017,2,19960305,0712, -3.0000,-168.7507, 5347,   -999,   2314.4,   1.8997,  34.6586,2,  34.6582,2,    124.6,2,  1.7378,    127.7,2,   139.68,2,    37.50,2,     0.00,2,     2.62,2, -999.000,9, -999.000,9,   -999.0,9,  -999.00,9,   2334.7,2,   1290.1,6,   2420.6,2,     7.55,2, -999.00,  -999.0, -999.00,  -999.0
    31DSCG96_2,  P15S,   171,  1,    113,   1035,2,19960305,0712, -3.0000,-168.7507, 5347,   -999,   2562.7,   1.8332,  34.6620,2,  34.6623,2,    128.1,2,  1.6503,    128.8,2,   142.28,2,    37.43,2,     0.00,2,     2.61,2, -999.000,9, -999.000,9,   -999.0,9,  -999.00,9,   -999.0,9,   -999.0,9,   -999.0,9,  -999.00,9, -999.00,  -999.0, -999.00,  -999.0
    31DSCG96_2,  P15S,   171,  1,    112,   1217,2,19960305,0712, -3.0000,-168.7507, 5347,   -999,   2812.9,   1.7330,  34.6695,2,  34.6689,2,    135.9,2,  1.5289,    135.9,2,   142.17,2,    37.00,2,     0.00,2,     2.57,2, -999.000,5, -999.000,5,   -999.0,9,  -999.00,9,   -999.0,9,   -999.0,9,   -999.0,9,  -999.00,9, -999.00,  -999.0, -999.00,  -999.0
    31DSCG96_2,  P15S,   171,  1,    111,   1226,2,19960305,0712, -3.0000,-168.7507, 5347,   -999,   3064.7,   1.6520,  34.6749,2,  34.6744,2,    141.1,2,  1.4256,    141.7,2,   142.53,2,    36.63,2,     0.00,2,     2.55,2,    0.000,2,    0.000,2,   -999.0,9,  -999.00,9,   2329.9,2,   1228.3,6,   2422.4,2,     7.57,3, -999.00,  -999.0, -999.00,  -999.0
    31DSCG96_2,  P15S,   171,  1,    110,   1301,2,19960305,0712, -3.0000,-168.7507, 5347,   -999,   3314.3,   1.5556,  34.6817,2,  34.6842,2,    148.4,2,  1.3068,    153.4,2,   140.83,3,    35.86,3,     0.00,3,     2.47,3, -999.000,5, -999.000,5,   -999.0,9,  -999.00,9,   2322.4,2,   1192.2,2,   2421.5,2,     7.58,3, -999.00,  -999.0, -999.00,  -999.0
    31DSCG96_2,  P15S,   171,  1,    109,   1027,2,19960305,0712, -3.0000,-168.7507, 5347,   -999,   3563.5,   1.5130,  34.6854,2,  34.6846,2,    153.4,2,  1.2399,    154.3,2,   140.96,2,    35.79,2,     0.00,2,     2.47,2, -999.000,9, -999.000,9,   -999.0,9,  -999.00,9,   2319.5,2,   1168.4,2,   2421.9,2,     7.59,2, -999.00,  -999.0, -999.00,  -999.0
    31DSCG96_2,  P15S,   171,  1,    108,   1227,2,19960305,0712, -3.0000,-168.7507, 5347,   -999,   3811.0,   1.4418,  34.6907,2,  34.6897,2,    161.1,2,  1.1447,    161.4,2,   139.60,2,    35.34,2,     0.00,2,     2.43,2,    0.000,2,    0.000,2,   -999.0,9,  -999.00,9,   2314.4,2,   1134.9,2,   2419.3,2,     7.60,2, -999.00,  -999.0, -999.00,  -999.0
    31DSCG96_2,  P15S,   171,  1,    107,   1242,2,19960305,0712, -3.0000,-168.7507, 5347,   -999,   4065.4,   1.3778,  34.6950,2,  34.6953,2,    168.7,2,  1.0551,    169.6,6,   137.57,2,    34.74,2,     0.00,2,     2.39,2, -999.000,9, -999.000,9,   -999.0,9,  -999.00,9,   2307.1,2,   1111.0,2,   2413.6,2,     7.60,2, -999.00,  -999.0, -999.00,  -999.0
    31DSCG96_2,  P15S,   171,  1,    106,   1262,2,19960305,0712, -3.0000,-168.7507, 5347,   -999,   4314.9,   1.3159,  34.6992,2,  34.6984,2,    177.5,2,  0.9674,    178.8,2,   132.78,2,    34.06,2,     0.00,2,     2.34,2, -999.000,9, -999.000,9,   -999.0,9,  -999.00,9,   2295.2,2,   1092.3,2,   2403.2,2,     7.61,2, -999.00,  -999.0, -999.00,  -999.0
    31DSCG96_2,  P15S,   171,  1,    105,   1041,2,19960305,0712, -3.0000,-168.7507, 5347,   -999,   4566.6,   1.2747,  34.7022,2,  34.7016,2,    185.8,2,  0.8990,    186.1,2,   128.70,2,    33.50,2,     0.00,2,     2.30,2,   -0.002,2,    0.000,2,   -999.0,9,  -999.00,9,   2286.2,2,   1087.5,2,   2392.6,2,     7.61,2, -999.00,  -999.0, -999.00,  -999.0
    31DSCG96_2,  P15S,   171,  1,    104,   1003,2,19960305,0712, -3.0000,-168.7507, 5347,   -999,   4813.9,   1.2426,  34.7042,2,  34.7039,2,    190.9,2,  0.8390,    191.1,2,   126.30,2,    33.11,2,     0.00,2,     2.28,2,    0.001,2,    0.000,2,   -999.0,9,  -999.00,9,   2278.5,2,   1078.4,2,   2385.9,2,     7.61,2, -999.00,  -999.0, -999.00,  -999.0
    31DSCG96_2,  P15S,   171,  1,    103,   1302,2,19960305,0712, -3.0000,-168.7507, 5347,   -999,   5065.4,   1.1877,  34.7067,2,  34.7064,2,    198.4,2,  0.7560,    198.5,2,   123.26,2,    32.57,2,     0.00,2,     2.24,2,    0.003,2,    0.000,2,   -999.0,9,  -999.00,9,   2269.6,2,   1066.2,2,   2376.6,2,     7.61,2, -999.00,  -999.0, -999.00,  -999.0
    31DSCG96_2,  P15S,   171,  1,    102,   1030,2,19960305,0712, -3.0000,-168.7507, 5347,   -999,   5315.8,   1.2106,  34.7068,2,  34.7076,2,    199.3,2,  0.7474,    199.1,2,   122.04,2,    32.52,2,     0.00,2,     2.23,2,    0.003,2,    0.001,2,   -999.0,9,  -999.00,9,   2267.6,2,   1073.4,2,   2369.7,2,     7.61,2, -999.00,  -999.0, -999.00,  -999.0
    31DSCG96_2,  P15S,   171,  1,    101,   1022,2,19960305,0712, -3.0000,-168.7507, 5347,   -999,   5466.4,   1.2305,  34.7067,2,  34.7076,2,    199.4,2,  0.7478,    198.7,2,   122.08,6,    32.55,6,     0.00,6,     2.23,6,    0.005,6,    0.001,6,   -999.0,9,  -999.00,9,   2267.9,2,   1097.4,2,   2380.4,2,     7.61,2, -999.00,  -999.0, -999.00,  -999.0