BOTTLE,20220811CCHSIOAMB
EXPOCODE,SECT_ID,STNNBR,CASTNO,SAMPNO,BTLNBR,BTLNBR_FLAG_W,DATE,TIME,LATITUDE,LONGITUDE,DEPTH,CTDRAW,CTDPRS,CTDTMP,CTDSAL,CTDSAL_FLAG_W,SALNTY,SALNTY_FLAG_W,CTDOXY,CTDOXY_FLAG_W,THETA,OXYGEN,OXYGEN_FLAG_W,SILCAT,SILCAT_FLAG_W,NITRAT,NITRAT_FLAG_W,NITRIT,NITRIT_FLAG_W,PHSPHT,PHSPHT_FLAG_W,CFC-11,CFC-11_FLAG_W,CFC-12,CFC-12_FLAG_W,DELC14,DELC14_FLAG_W,DELC13,DELC13_FLAG_W,TCARBN,TCARBN_FLAG_W,PCO2,PCO2_FLAG_W,ALKALI,ALKALI_FLAG_W,PH,PH_FLAG_W,PCO2TMP,C14ERR,PH_TMP,C13ERR
,,,,,,,,,,,,DBAR,DBAR,ITS-90,PSS-78,,PSS-78,,UMOL/KG,,DEG C,UMOL/KG,,UMOL/KG,,UMOL/KG,,UMOL/KG,,UMOL/KG,,PMOL/KG,,PMOL/KG,,/MILLE,,/MILLE,,UMOL/KG,,UATM,,UMOL/KG,,,,DEG C,/MILLE,DEG C,/MILLE
    31DSCG96_2,  P15S,   126,  1,    136,   1245,2,19960222,1005,-25.5002,-169.9998, 5787,   -999,      4.9,  25.3270,  35.7189,2,  35.7214,2,    211.4,2, 25.3259,    206.3,2,     1.10,2,     0.00,2,     0.00,2,     0.03,3,    1.837,2,    1.036,2,     92.2,2,  -999.00,9,   1998.0,2,    293.7,3,   2344.8,2,     8.10,2, -999.00,     2.9, -999.00,  -999.0
    31DSCG96_2,  P15S,   126,  1,    135,   1113,2,19960222,1005,-25.5002,-169.9998, 5787,   -999,     19.4,  25.3268,  35.7179,2,  35.7160,2,    208.8,2, 25.3226,    206.2,2,     1.14,2,     0.00,2,     0.00,2,     0.04,3, -999.000,9, -999.000,9,   -999.0,9,  -999.00,9,   -999.0,9,   -999.0,9,   -999.0,9,     8.10,2, -999.00,  -999.0, -999.00,  -999.0
    31DSCG96_2,  P15S,   126,  1,    134,   1216,2,19960222,1005,-25.5002,-169.9998, 5787,   -999,     43.5,  25.0023,  35.7365,2,  35.7322,2,    214.3,2, 24.9929,    208.7,2,     1.11,2,     0.00,2,     0.00,2,     0.04,3,    1.858,2,    1.042,2,   -999.0,9,  -999.00,9,   2000.7,2,    276.1,2,   2346.3,2,     8.10,2, -999.00,  -999.0, -999.00,  -999.0
    31DSCG96_2,  P15S,   126,  1,    133,   1221,2,19960222,1005,-25.5002,-169.9998, 5787,   -999,     69.5,  23.4872,  35.7548,2,  35.7563,2,    222.3,2, 23.4727,    219.2,2,     1.12,2,     0.00,2,     0.00,2,     0.05,2, -999.000,9, -999.000,9,   -999.0,9,  -999.00,9,   -999.0,9,   -999.0,9,   -999.0,9,     8.09,2, -999.00,  -999.0, -999.00,  -999.0
    31DSCG96_2,  P15S,   126,  1,    132,   1039,2,19960222,1005,-25.5002,-169.9998, 5787,   -999,     94.0,  21.6634,  35.7173,2,  35.7165,2,    225.7,2, 21.6449,    227.5,2,     1.12,2,     0.00,2,     0.00,2,     0.07,2,    2.160,6,    1.181,6,   -999.0,9,  -999.00,9,   2003.0,2,   -999.0,9,   2345.0,2,     8.09,2, -999.00,  -999.0, -999.00,  -999.0
    31DSCG96_2,  P15S,   126,  1,    131,   1014,2,19960222,1005,-25.5002,-169.9998, 5787,   -999,    140.5,  20.5330,  35.7246,2,  35.7216,2,    214.2,2, 20.5065,    215.9,6,     1.13,2,     0.00,2,     0.00,2,     0.09,2,    2.213,2,    1.198,2,   -999.0,9,  -999.00,9,   -999.0,9,    300.9,3,   -999.0,9,     8.06,2, -999.00,  -999.0, -999.00,  -999.0
    31DSCG96_2,  P15S,   126,  1,    130,   1257,2,19960222,1005,-25.5002,-169.9998, 5787,   -999,    187.5,  19.3418,  35.7196,2,  35.7192,2,    212.4,2, 19.3078,    211.2,2,     1.13,2,     0.64,2,     0.11,2,     0.16,2,    2.300,2,    1.249,2,   -999.0,9,  -999.00,9,   2039.2,2,    328.5,2,   2343.3,2,     8.03,2, -999.00,  -999.0, -999.00,  -999.0
    31DSCG96_2,  P15S,   126,  1,    129,   1256,2,19960222,1005,-25.5002,-169.9998, 5787,   -999,    239.0,  18.3604,  35.6646,2,  35.6637,2,    204.8,2, 18.3186,    203.4,2,     1.38,2,     2.26,2,     0.01,2,     0.25,2, -999.000,9, -999.000,9,   -999.0,9,  -999.00,9,   -999.0,9,   -999.0,9,   -999.0,9,     8.00,2, -999.00,  -999.0, -999.00,  -999.0
    31DSCG96_2,  P15S,   126,  1,    128,   1007,2,19960222,1005,-25.5002,-169.9998, 5787,   -999,    288.8,  17.2952,  35.5958,2,  35.5949,2,    203.9,2, 17.2466,    204.0,2,     1.56,2,     3.32,2,     0.01,2,     0.33,2,    2.332,2,    1.234,2,   -999.0,9,  -999.00,9,   2064.8,2,    379.4,2,   2331.2,2,     7.97,2, -999.00,  -999.0, -999.00,  -999.0
    31DSCG96_2,  P15S,   126,  1,    127,   1232,2,19960222,1005,-25.5002,-169.9998, 5787,   -999,    374.7,  14.9649,  35.3097,2,  35.3095,2,    199.6,2, 14.9078,    197.0,2,     2.58,2,     7.13,2,     0.00,2,     0.58,2,    2.171,2,    1.119,2,   -999.0,9,  -999.00,9,   -999.0,9,   -999.0,9,   -999.0,9,     7.91,2, -999.00,  -999.0, -999.00,  -999.0
    31DSCG96_2,  P15S,   126,  1,    126,   1025,2,19960222,1005,-25.5002,-169.9998, 5787,   -999,    481.0,  12.1672,  34.9947,2,  34.9847,2,    197.1,2, 12.1032,    194.2,2,     4.19,2,    12.67,2,     0.00,2,     0.92,2,    1.959,2,    0.984,2,   -999.0,9,  -999.00,9,   2113.6,2,    571.1,2,   2301.6,2,     7.83,2, -999.00,  -999.0, -999.00,  -999.0
    31DSCG96_2,  P15S,   126,  1,    125,   1119,2,19960222,1005,-25.5002,-169.9998, 5787,   -999,    576.5,   9.1195,  34.6021,2,  34.6034,2,    209.8,2,  9.0553,    205.7,2,     6.00,2,    18.62,2,     0.00,2,     1.30,2,    1.443,2,    0.716,2,   -999.0,9,  -999.00,9,   -999.0,9,   -999.0,9,   -999.0,9,     7.76,2, -999.00,  -999.0, -999.00,  -999.0
    31DSCG96_2,  P15S,   126,  1,    124,   1013,2,19960222,1005,-25.5002,-169.9998, 5787,   -999,    670.5,   7.3310,  34.4308,2,  34.4311,2,    226.2,2,  7.2649,    222.0,2,     8.14,2,    22.22,2,     0.00,2,     1.52,2,    1.078,2,    0.533,2,   -999.0,9,  -999.00,9,   2137.8,2,    759.9,2,   2281.9,2,  -999.00,9, -999.00,  -999.0, -999.00,  -999.0
    31DSCG96_2,  P15S,   126,  1,    123,   1250,2,19960222,1005,-25.5002,-169.9998, 5787,   -999,    768.9,   6.3572,  34.3553,2,  34.3555,2,    225.7,2,  6.2866,    224.9,2,    11.44,2,    24.71,2,     0.00,2,     1.69,2,    0.614,2,    0.320,2,   -999.0,9,  -999.00,9,   -999.0,9,   -999.0,9,   -999.0,9,     7.71,2, -999.00,  -999.0, -999.00,  -999.0
    31DSCG96_2,  P15S,   126,  1,    122,   1265,2,19960222,1005,-25.5002,-169.9998, 5787,   -999,    872.0,   5.6482,  34.3290,2,  34.3282,2,    212.9,2,  5.5723,    213.6,2,    17.45,2,    27.46,2,     0.00,2,     1.88,2, -999.000,9, -999.000,9,   -999.0,9,  -999.00,9,   2160.9,2,    846.6,2,   2285.8,2,     7.68,2, -999.00,  -999.0, -999.00,  -999.0
    31DSCG96_2,  P15S,   126,  1,    121,   1246,2,19960222,1005,-25.5002,-169.9998, 5787,   -999,    974.8,   4.9852,  34.3372,2,  34.3366,2,    194.3,2,  4.9046,    196.8,6,    27.27,2,    30.29,2,     0.00,2,     2.07,2,    0.108,2,    0.063,2,   -999.0,9,  -999.00,9,   -999.0,9,   -999.0,9,   -999.0,9,     7.64,2, -999.00,  -999.0, -999.00,  -999.0
    31DSCG96_2,  P15S,   126,  1,    120,   1015,2,19960222,1005,-25.5002,-169.9998, 5787,   -999,   1076.5,   4.4795,  34.3650,2,  34.3632,2,    183.3,2,  4.3937,    183.9,2,    37.44,2,    32.11,2,     0.00,2,     2.20,2, -999.000,9, -999.000,9,   -999.0,9,  -999.00,9,   2201.3,2,   1007.3,2,   2306.8,2,     7.62,2, -999.00,  -999.0, -999.00,  -999.0
    31DSCG96_2,  P15S,   126,  1,    119,   1247,2,19960222,1005,-25.5002,-169.9998, 5787,   -999,   1211.1,   3.8731,  34.4144,2,  34.4138,2,    168.3,2,  3.7809,    170.6,2,    52.39,2,    33.78,2,     0.00,2,     2.33,2,    0.009,2,    0.007,2,   -999.0,9,  -999.00,9,   -999.0,9,   -999.0,9,   -999.0,9,     7.59,2, -999.00,  -999.0, -999.00,  -999.0
    31DSCG96_2,  P15S,   126,  1,    118,   1299,2,19960222,1005,-25.5002,-169.9998, 5787,   -999,   1439.1,   3.0176,  34.5042,2,  34.5055,2,    162.3,2,  2.9147,    162.9,2,    75.30,2,    34.79,2,     0.00,2,     2.41,2, -999.000,9, -999.000,9,   -999.0,9,  -999.00,9,   2253.0,2,   1132.3,2,   2343.2,2,     7.58,2, -999.00,  -999.0, -999.00,  -999.0
    31DSCG96_2,  P15S,   126,  1,    117,   1267,2,19960222,1005,-25.5002,-169.9998, 5787,   -999,   1697.7,   2.5243,  34.5910,2,  34.5885,2,    150.5,2,  2.4058,    152.1,2,    99.77,2,    35.53,2,     0.00,2,     2.47,2,   -0.002,2,    0.000,2,   -999.0,9,  -999.00,9,   -999.0,9,   -999.0,9,   -999.0,9,     7.57,2, -999.00,  -999.0, -999.00,  -999.0
    31DSCG96_2,  P15S,   126,  1,    116,   1259,2,19960222,1005,-25.5002,-169.9998, 5787,   -999,   1933.0,   2.3293,  34.6142,2,  34.6196,3,    146.7,2,  2.1936,    146.7,2,   111.48,2,    35.93,2,     0.00,2,     2.50,2, -999.000,9, -999.000,9,   -999.0,9,  -999.00,9,   2295.3,2,   1182.7,2,   2391.7,2,     7.57,2, -999.00,  -999.0, -999.00,  -999.0
    31DSCG96_2,  P15S,   126,  1,    115,   1041,2,19960222,1005,-25.5002,-169.9998, 5787,   -999,   2185.7,   2.1711,  34.6353,2,  34.6350,2,    145.2,2,  2.0159,    145.1,2,   118.88,2,    36.15,2,     0.00,2,     2.52,2,   -0.002,2,    0.000,2,   -999.0,9,  -999.00,9,   -999.0,9,   -999.0,9,   -999.0,9,     7.57,2, -999.00,  -999.0, -999.00,  -999.0
    31DSCG96_2,  P15S,   126,  1,    114,   1017,2,19960222,1005,-25.5002,-169.9998, 5787,   -999,   2439.2,   2.0243,  34.6459,2,  34.6483,2,    145.1,2,  1.8491,    144.9,2,   124.70,2,    36.26,2,     0.00,2,     2.52,2, -999.000,9, -999.000,9,   -999.0,9,  -999.00,9,   2310.4,2,   1187.1,2,   2403.5,2,     7.57,2, -999.00,  -999.0, -999.00,  -999.0
    31DSCG96_2,  P15S,   126,  1,    113,   1302,2,19960222,1005,-25.5002,-169.9998, 5787,   -999,   2687.2,   1.9230,  34.6573,2,  34.6559,2,    145.4,2,  1.7268,    144.8,2,   129.06,2,    36.32,2,     0.00,2,     2.53,2, -999.000,9, -999.000,9,   -999.0,9,  -999.00,9,   -999.0,9,   -999.0,9,   -999.0,9,     7.57,2, -999.00,  -999.0, -999.00,  -999.0
    31DSCG96_2,  P15S,   126,  1,    112,   1217,2,19960222,1005,-25.5002,-169.9998, 5787,   -999,   2938.5,   1.8128,  34.6663,2,  34.6654,2,    146.9,2,  1.5951,    146.6,2,   132.42,2,    36.24,2,     0.00,2,     2.52,2,   -0.002,2,    0.000,2,   -999.0,9,  -999.00,9,   2315.8,2,   1196.6,2,   2412.2,2,     7.57,2, -999.00,  -999.0, -999.00,  -999.0
    31DSCG96_2,  P15S,   126,  1,    111,   1114,2,19960222,1005,-25.5002,-169.9998, 5787,   -999,   3189.1,   1.7013,  34.6764,2,  34.6757,2,    152.9,2,  1.4615,    152.6,6,   132.70,2,    35.76,2,     0.00,2,     2.48,2, -999.000,9, -999.000,9,   -999.0,9,  -999.00,9,   -999.0,9,   -999.0,9,   -999.0,9,     7.58,2, -999.00,  -999.0, -999.00,  -999.0
    31DSCG96_2,  P15S,   126,  1,    110,   1301,2,19960222,1005,-25.5002,-169.9998, 5787,   -999,   3437.3,   1.5877,  34.6948,2,  34.6937,2,    170.9,2,  1.3257,    169.3,2,   124.21,2,    34.32,2,     0.00,2,     2.37,2, -999.000,9, -999.000,9,   -999.0,9,  -999.00,9,   2292.8,2,   1098.8,3,   2393.8,2,     7.59,2, -999.00,  -999.0, -999.00,  -999.0
    31DSCG96_2,  P15S,   126,  1,    109,   1233,2,19960222,1005,-25.5002,-169.9998, 5787,   -999,   3689.7,   1.4967,  34.7125,2,  34.7111,2,    188.3,2,  1.2108,    186.7,2,   114.20,2,    32.77,2,     0.00,2,     2.25,2,    0.001,2,    0.001,2,   -999.0,9,  -999.00,9,   -999.0,9,   -999.0,9,   -999.0,9,     7.60,2, -999.00,  -999.0, -999.00,  -999.0
    31DSCG96_2,  P15S,   126,  1,    108,   1227,2,19960222,1005,-25.5002,-169.9998, 5787,   -999,   3938.1,   1.3320,  34.7196,2,  34.7186,2,    198.5,2,  1.0242,    198.1,2,   112.03,2,    32.06,2,     0.00,2,     2.20,2, -999.000,9, -999.000,9,   -999.0,9,  -999.00,9,   2260.5,2,   1047.1,2,   2369.5,2,     7.61,2, -999.00,  -999.0, -999.00,  -999.0
    31DSCG96_2,  P15S,   126,  1,    107,   1263,2,19960222,1005,-25.5002,-169.9998, 5787,   -999,   4188.3,   1.1930,  34.7168,2,  34.7158,2,    202.2,2,  0.8621,    202.8,2,   114.78,2,    32.01,2,     0.00,2,     2.19,2,    0.006,2,    0.003,2,   -999.0,9,  -999.00,9,   -999.0,9,   -999.0,9,   -999.0,9,     7.61,2, -999.00,  -999.0, -999.00,  -999.0
    31DSCG96_2,  P15S,   126,  1,    106,   1262,2,19960222,1005,-25.5002,-169.9998, 5787,   -999,   4439.1,   1.1035,  34.7129,2,  34.7129,2,    204.6,2,  0.7475,    204.8,2,   117.57,2,    32.11,2,     0.00,2,     2.20,2, -999.000,9, -999.000,9,   -999.0,9,  -999.00,9,   2256.3,2,   -999.0,9,   2367.4,2,     7.61,2, -999.00,  -999.0, -999.00,  -999.0
    31DSCG96_2,  P15S,   126,  1,    105,   1264,2,19960222,1005,-25.5002,-169.9998, 5787,   -999,   4720.9,   1.0566,  34.7106,2,  34.7095,2,    205.2,2,  0.6699,    206.0,2,   119.62,2,    32.14,2,     0.00,2,     2.20,2,    0.006,2,    0.003,2,   -999.0,9,  -999.00,9,   -999.0,9,   -999.0,9,   -999.0,9,     7.61,2, -999.00,  -999.0, -999.00,  -999.0
    31DSCG96_2,  P15S,   126,  1,    104,   1003,2,19960222,1005,-25.5002,-169.9998, 5787,   -999,   5021.5,   1.0486,  34.7086,2,  34.7075,2,    206.2,2,  0.6269,    206.2,2,   120.82,2,    32.27,2,     0.00,2,     2.21,2, -999.000,9, -999.000,9,   -999.0,9,  -999.00,9,   2260.4,2,   1042.3,2,   2369.1,2,     7.61,2, -999.00,  -999.0, -999.00,  -999.0
    31DSCG96_2,  P15S,   126,  1,    103,   1035,2,19960222,1005,-25.5002,-169.9998, 5787,   -999,   5318.9,   1.0737,  34.7082,2,  34.7079,2,    206.0,2,  0.6150,    206.7,2,   121.17,2,    32.22,2,     0.00,2,     2.21,2,    0.006,2,    0.003,2,   -999.0,9,  -999.00,9,   -999.0,9,   -999.0,9,   -999.0,9,     7.61,2, -999.00,  -999.0, -999.00,  -999.0
    31DSCG96_2,  P15S,   126,  1,    102,   1030,2,19960222,1005,-25.5002,-169.9998, 5787,   -999,   5624.4,   1.1067,  34.7073,2,  34.7072,2,    206.9,2,  0.6086,    206.7,2,   121.36,2,    32.26,2,     0.00,2,     2.21,2,    0.005,2,    0.003,2,   -999.0,9,  -999.00,9,   2260.5,2,   1045.4,2,   2370.8,2,     7.61,2, -999.00,  -999.0, -999.00,  -999.0
    31DSCG96_2,  P15S,   126,  1,    101,   1022,2,19960222,1005,-25.5002,-169.9998, 5787,   -999,   5941.9,   1.1488,  34.7073,2,  34.7068,2,    207.5,2,  0.6081,    206.7,6,   121.31,6,    32.23,6,     0.00,6,     2.21,6,    0.008,6,    0.004,6,   -999.0,9,  -999.00,9,   2260.8,2,   1044.0,2,   2368.2,2,     7.61,2, -999.00,  -999.0, -999.00,  -999.0