BOTTLE,20220811CCHSIOAMB
EXPOCODE,SECT_ID,STNNBR,CASTNO,SAMPNO,BTLNBR,BTLNBR_FLAG_W,DATE,TIME,LATITUDE,LONGITUDE,DEPTH,CTDRAW,CTDPRS,CTDTMP,CTDSAL,CTDSAL_FLAG_W,SALNTY,SALNTY_FLAG_W,CTDOXY,CTDOXY_FLAG_W,THETA,OXYGEN,OXYGEN_FLAG_W,SILCAT,SILCAT_FLAG_W,NITRAT,NITRAT_FLAG_W,NITRIT,NITRIT_FLAG_W,PHSPHT,PHSPHT_FLAG_W,CFC-11,CFC-11_FLAG_W,CFC-12,CFC-12_FLAG_W,DELC14,DELC14_FLAG_W,DELC13,DELC13_FLAG_W,TCARBN,TCARBN_FLAG_W,PCO2,PCO2_FLAG_W,ALKALI,ALKALI_FLAG_W,PH,PH_FLAG_W,PCO2TMP,C14ERR,PH_TMP,C13ERR
,,,,,,,,,,,,DBAR,DBAR,ITS-90,PSS-78,,PSS-78,,UMOL/KG,,DEG C,UMOL/KG,,UMOL/KG,,UMOL/KG,,UMOL/KG,,UMOL/KG,,PMOL/KG,,PMOL/KG,,/MILLE,,/MILLE,,UMOL/KG,,UATM,,UMOL/KG,,,,DEG C,/MILLE,DEG C,/MILLE
    31DSCG96_2,  P15S,   142,  1,    136,   1245,2,19960226,1948,-17.5020,-169.9995, 5002,   -999,      3.8,  29.1924,  34.3086,2,  34.3127,2,    203.3,2, 29.1915,    197.8,2,     1.29,2,     0.11,2,     0.00,2,     0.03,3, -999.000,5, -999.000,5,     81.7,2,     1.61,2,   1889.0,2,    215.3,2,   2254.9,2,     8.16,2, -999.00,     5.1, -999.00,  -999.0
    31DSCG96_2,  P15S,   142,  1,    135,   1113,2,19960226,1948,-17.5020,-169.9995, 5002,   -999,     20.6,  28.7770,  34.8394,2,  34.8310,2,    204.7,2, 28.7721,    201.2,2,     1.46,2,     0.10,2,     0.00,2,     0.04,2,    1.654,6,    0.951,6,     91.0,2,     1.64,2,   1917.9,2,    222.4,2,   2284.5,2,     8.15,2, -999.00,     3.8, -999.00,  -999.0
    31DSCG96_2,  P15S,   142,  1,    134,   1267,2,19960226,1948,-17.5020,-169.9995, 5002,   -999,     44.6,  26.8576,  35.3331,2,  35.3350,2,    216.6,2, 26.8474,    213.0,2,     1.33,2,     0.11,2,     0.00,2,     0.08,2,    1.787,2,    1.015,2,     78.5,2,     1.64,2,   -999.0,9,   -999.0,9,   2324.1,2,     8.13,2, -999.00,     5.1, -999.00,  -999.0
    31DSCG96_2,  P15S,   142,  1,    133,   1221,2,19960226,1948,-17.5020,-169.9995, 5002,   -999,     69.8,  25.1047,  35.6618,2,-999.0000,5,    207.6,2, 25.0895,    203.4,2,  -999.00,9,  -999.00,9,  -999.00,9,  -999.00,9,    1.870,2,    1.059,2,    110.2,2,     1.48,2,   1990.7,2,    267.5,2,   2344.5,2,     8.11,2, -999.00,     4.9, -999.00,  -999.0
    31DSCG96_2,  P15S,   142,  1,    132,   1039,2,19960226,1948,-17.5020,-169.9995, 5002,   -999,     95.2,  24.2183,  35.7844,2,  35.7871,2,    199.0,2, 24.1980,    195.9,2,     1.41,2,     0.14,2,     0.00,2,     0.15,2,    1.881,2,    1.054,2,     96.3,2,     1.38,2,   -999.0,9,   -999.0,9,   -999.0,9,     8.09,2, -999.00,     4.0, -999.00,  -999.0
    31DSCG96_2,  P15S,   142,  1,    131,   1014,2,19960226,1948,-17.5020,-169.9995, 5002,   -999,    121.7,  22.7623,  35.7347,2,  35.7448,2,    193.3,2, 22.7376,    190.2,2,     1.36,2,     0.83,2,     0.05,2,     0.19,2,    1.973,2,    1.100,2,    100.6,2,     1.27,2,   2021.3,2,    301.5,2,   2345.3,2,     8.06,2, -999.00,     4.2, -999.00,  -999.0
    31DSCG96_2,  P15S,   142,  1,    130,   1257,2,19960226,1948,-17.5020,-169.9995, 5002,   -999,    144.7,  21.9674,  35.8041,2,  35.8044,2,    185.3,2, 21.9387,    183.3,2,     1.38,2,     1.76,2,     0.02,2,     0.25,2,    1.986,2,    1.082,2,     96.6,2,     1.21,2,   -999.0,9,   -999.0,9,   -999.0,9,     8.04,2, -999.00,     4.1, -999.00,  -999.0
    31DSCG96_2,  P15S,   142,  1,    129,   1256,2,19960226,1948,-17.5020,-169.9995, 5002,   -999,    189.6,  20.5201,  35.7618,2,  35.7615,2,    180.0,2, 20.4843,    180.7,6,     1.53,2,     3.00,2,     0.01,2,     0.34,2,    2.034,2,    1.102,2,    111.4,2,     1.16,2,   2057.2,2,    361.0,2,   2346.0,2,     8.00,2, -999.00,     3.8, -999.00,  -999.0
    31DSCG96_2,  P15S,   142,  1,    128,   1007,2,19960226,1948,-17.5020,-169.9995, 5002,   -999,    241.0,  18.6668,  35.5821,2,  35.5695,2,    172.8,2, 18.6241,    172.2,2,     2.24,2,     5.56,2,     0.00,2,     0.53,2,    1.878,2,    0.993,2,    111.2,2,     1.15,2,   -999.0,9,   -999.0,9,   -999.0,9,     7.95,2, -999.00,     4.6, -999.00,  -999.0
    31DSCG96_2,  P15S,   142,  1,    127,   1232,2,19960226,1948,-17.5020,-169.9995, 5002,   -999,    292.3,  16.8021,  35.3641,2,  35.3654,2,    171.3,2, 16.7540,    170.4,2,     3.21,2,     7.82,2,     0.00,2,     0.69,2,    1.711,2,    0.895,2,     98.1,2,     1.13,6,   2091.9,2,    469.5,2,   2324.8,2,     7.91,2, -999.00,     3.3, -999.00,  -999.0
    31DSCG96_2,  P15S,   142,  1,    126,   1025,2,19960226,1948,-17.5020,-169.9995, 5002,   -999,    375.6,  12.9408,  34.9329,2,  34.9141,2,    163.3,2, 12.8890,    162.7,2,     6.97,2,    15.00,2,     0.00,2,     1.16,2,    1.156,2,    0.600,2,     54.0,2,     1.09,2,   -999.0,9,   -999.0,9,   -999.0,9,     7.80,2, -999.00,     3.8, -999.00,  -999.0
    31DSCG96_2,  P15S,   142,  1,    125,   1119,2,19960226,1948,-17.5020,-169.9995, 5002,   -999,    475.7,   8.3883,  34.5119,2,  34.5033,2,    172.8,2,  8.3382,    177.4,2,    12.57,2,    23.68,2,     0.00,2,     1.69,2,    0.608,2,    0.317,2,     -2.3,2,     1.07,2,   2155.1,2,    831.8,2,   2291.0,2,     7.69,2, -999.00,     4.5, -999.00,  -999.0
    31DSCG96_2,  P15S,   142,  1,    124,   1244,2,19960226,1948,-17.5020,-169.9995, 5002,   -999,    576.6,   6.5480,  34.4059,2,  34.4049,2,    187.1,2,  6.4950,    179.6,2,    20.30,2,    28.06,2,     0.00,2,     1.96,2,    0.229,2,    0.124,2,    -59.7,2,     1.05,2,   -999.0,9,   -999.0,9,   -999.0,9,     7.65,2, -999.00,     3.7, -999.00,  -999.0
    31DSCG96_2,  P15S,   142,  1,    123,   1250,2,19960226,1948,-17.5020,-169.9995, 5002,   -999,    675.0,   5.5304,  34.3921,2,  34.3912,2,    175.9,2,  5.4731,    172.2,2,    30.60,2,    30.92,2,     0.00,2,     2.14,2,    0.072,6,    0.045,6,   -108.8,2,     0.93,2,   2193.8,2,   1008.6,2,   2301.8,2,     7.62,2, -999.00,     2.7, -999.00,  -999.0
    31DSCG96_2,  P15S,   142,  1,    122,   1265,2,19960226,1948,-17.5020,-169.9995, 5002,   -999,    775.2,   4.8032,  34.4203,2,  34.4200,2,    164.2,2,  4.7411,    160.4,2,    44.26,2,    33.15,2,     0.00,2,     2.30,2,    0.017,2,    0.015,2,   -137.9,2,     0.79,2,   -999.0,9,   -999.0,9,   -999.0,9,     7.59,2, -999.00,     2.6, -999.00,  -999.0
    31DSCG96_2,  P15S,   142,  1,    121,   1246,2,19960226,1948,-17.5020,-169.9995, 5002,   -999,    869.5,   4.1776,  34.4468,2,  34.4474,2,    158.7,2,  4.1115,    157.3,2,    56.18,2,    34.24,2,     0.00,2,     2.37,2,    0.008,2,    0.003,2,   -164.6,2,     0.47,2,   2232.5,2,   1140.4,2,   2330.7,2,     7.58,2, -999.00,     3.2, -999.00,  -999.0
    31DSCG96_2,  P15S,   142,  1,    120,   1015,2,19960226,1948,-17.5020,-169.9995, 5002,   -999,    972.1,   3.6730,  34.4902,2,  34.4899,2,    152.3,2,  3.6021,    150.5,2,    69.76,2,    35.03,2,     0.00,2,     2.44,2,    0.002,2,    0.002,2,   -172.2,2,     0.56,2,   -999.0,9,   -999.0,9,   -999.0,9,     7.57,2, -999.00,     2.3, -999.00,  -999.0
    31DSCG96_2,  P15S,   142,  1,    119,   1247,2,19960226,1948,-17.5020,-169.9995, 5002,   -999,   1068.2,   3.4302,  34.5237,2,  34.5233,2,    146.1,2,  3.3535,    145.8,6,    79.50,2,    35.55,2,     0.00,2,     2.48,2,    0.001,2,    0.002,2,   -999.0,5,     0.49,2,   2263.8,2,   1230.5,2,   2351.7,2,     7.57,2, -999.00,  -999.0, -999.00,  -999.0
    31DSCG96_2,  P15S,   142,  1,    118,   1299,2,19960226,1948,-17.5020,-169.9995, 5002,   -999,   1173.7,   3.2222,  34.5437,2,  34.5448,2,    142.7,2,  3.1388,    143.3,2,    86.31,2,    35.80,2,     0.00,2,     2.50,2, -999.000,9, -999.000,9,   -999.0,9,  -999.00,9,   -999.0,9,   -999.0,9,   -999.0,9,     7.56,2, -999.00,  -999.0, -999.00,  -999.0
    31DSCG96_2,  P15S,   142,  1,    117,   1242,2,19960226,1948,-17.5020,-169.9995, 5002,   -999,   1274.2,   2.9990,  34.5636,2,  34.5644,2,    141.6,2,  2.9097,    142.2,2,    92.97,2,    36.02,2,     0.00,2,     2.52,2, -999.000,9, -999.000,9,   -999.0,9,  -999.00,9,   2280.2,2,   1219.5,2,   2367.0,2,     7.56,2, -999.00,  -999.0, -999.00,  -999.0
    31DSCG96_2,  P15S,   142,  1,    116,   1259,2,19960226,1948,-17.5020,-169.9995, 5002,   -999,   1439.6,   2.7641,  34.5833,2,  34.5821,2,    141.4,2,  2.6639,    142.5,2,    99.63,2,    36.10,2,     0.00,2,     2.52,2,    0.003,2,    0.002,2,   -999.0,9,  -999.00,9,   -999.0,9,   -999.0,9,   -999.0,9,     7.56,2, -999.00,  -999.0, -999.00,  -999.0
    31DSCG96_2,  P15S,   142,  1,    115,   1041,2,19960226,1948,-17.5020,-169.9995, 5002,   -999,   1690.5,   2.4901,  34.6062,2,  34.6060,2,    143.0,2,  2.3726,    144.6,2,   107.85,2,    36.15,2,     0.00,2,     2.52,2, -999.000,9, -999.000,9,   -999.0,9,  -999.00,9,   2294.6,2,   1214.1,2,   2384.7,2,     7.56,2, -999.00,  -999.0, -999.00,  -999.0
    31DSCG96_2,  P15S,   142,  1,    114,   1017,2,19960226,1948,-17.5020,-169.9995, 5002,   -999,   1933.6,   2.2344,  34.6280,2,  34.6287,2,    144.6,2,  2.1001,    146.2,2,   115.31,2,    36.06,2,     0.00,2,     2.52,2, -999.000,9, -999.000,9,   -999.0,9,  -999.00,9,   -999.0,9,   -999.0,9,   -999.0,9,     7.57,2, -999.00,  -999.0, -999.00,  -999.0
    31DSCG96_2,  P15S,   142,  1,    113,   1302,2,19960226,1948,-17.5020,-169.9995, 5002,   -999,   2189.7,   2.0597,  34.6435,2,  34.6418,2,    145.6,2,  1.9060,    146.2,2,   121.49,2,    36.14,2,     0.00,2,     2.52,2,   -0.001,2,    0.000,2,   -999.0,9,  -999.00,9,   2306.9,2,   1205.5,2,   2399.3,2,     7.57,2, -999.00,  -999.0, -999.00,  -999.0
    31DSCG96_2,  P15S,   142,  1,    112,   1217,2,19960226,1948,-17.5020,-169.9995, 5002,   -999,   2441.6,   1.9209,  34.6556,2,  34.6539,2,    146.2,2,  1.7473,    146.2,2,   126.93,2,    36.16,2,     0.00,2,     2.52,2, -999.000,9, -999.000,9,   -999.0,9,  -999.00,9,   -999.0,9,   -999.0,9,   -999.0,9,     7.57,2, -999.00,  -999.0, -999.00,  -999.0
    31DSCG96_2,  P15S,   142,  1,    111,   1226,2,19960226,1948,-17.5020,-169.9995, 5002,   -999,   2689.7,   1.8289,  34.6638,2,  34.6639,2,    147.6,2,  1.6344,    147.1,6,   130.40,2,    36.22,2,     0.00,2,     2.52,2, -999.000,9, -999.000,9,   -999.0,9,  -999.00,9,   2314.6,2,   1199.9,2,   2407.0,2,     7.57,2, -999.00,  -999.0, -999.00,  -999.0
    31DSCG96_2,  P15S,   142,  1,    110,   1301,2,19960226,1948,-17.5020,-169.9995, 5002,   -999,   2940.5,   1.7401,  34.6703,2,  34.6706,2,    148.4,2,  1.5237,    148.7,2,   133.46,2,    36.10,2,     0.00,2,     2.51,2,    0.003,2,    0.003,2,   -999.0,9,  -999.00,9,   -999.0,9,   -999.0,9,   -999.0,9,     7.57,2, -999.00,  -999.0, -999.00,  -999.0
    31DSCG96_2,  P15S,   142,  1,    109,   1031,2,19960226,1948,-17.5020,-169.9995, 5002,   -999,   3190.4,   1.6716,  34.6757,2,  34.6750,2,    151.1,2,  1.4324,    151.4,2,   134.70,2,    35.97,2,     0.00,2,     2.50,2,    0.004,2,    0.003,2,   -999.0,9,  -999.00,9,   2314.9,2,   1187.4,2,   2410.3,2,     7.58,2, -999.00,  -999.0, -999.00,  -999.0
    31DSCG96_2,  P15S,   142,  1,    108,   1227,2,19960226,1948,-17.5020,-169.9995, 5002,   -999,   3432.8,   1.5761,  34.6835,2,  34.6838,2,    156.2,2,  1.3148,    158.4,2,   133.05,2,    35.38,2,     0.00,2,     2.46,2,    0.003,2,    0.001,2,   -999.0,9,  -999.00,9,   -999.0,9,   -999.0,9,   -999.0,9,     7.58,2, -999.00,  -999.0, -999.00,  -999.0
    31DSCG96_2,  P15S,   142,  1,    107,   1263,2,19960226,1948,-17.5020,-169.9995, 5002,   -999,   3689.1,   1.4435,  34.7035,2,  34.7031,2,    175.8,2,  1.1591,    180.7,2,   120.69,2,    33.45,2,     0.00,2,     2.32,2,    0.004,2,    0.002,2,   -999.0,9,  -999.00,9,   2281.7,2,   1102.3,2,   2381.5,2,     7.60,2, -999.00,  -999.0, -999.00,  -999.0
    31DSCG96_2,  P15S,   142,  1,    106,   1262,2,19960226,1948,-17.5020,-169.9995, 5002,   -999,   3940.5,   1.2540,  34.7126,2,  34.7133,2,    192.9,2,  0.9482,    195.8,2,   116.55,2,    32.49,2,     0.00,2,     2.24,2,    0.002,2,    0.002,2,   -999.0,9,  -999.00,9,   -999.0,9,   -999.0,9,   -999.0,9,     7.61,2, -999.00,  -999.0, -999.00,  -999.0
    31DSCG96_2,  P15S,   142,  1,    105,   1264,2,19960226,1948,-17.5020,-169.9995, 5002,   -999,   4191.1,   1.1343,  34.7147,2,  34.7127,2,    202.7,2,  0.8049,    203.3,6,   116.35,2,    32.13,2,     0.00,2,     2.22,2,    0.006,2,    0.003,2,   -999.0,9,  -999.00,9,   2258.9,2,   1056.7,2,   2371.0,2,     7.61,2, -999.00,  -999.0, -999.00,  -999.0
    31DSCG96_2,  P15S,   142,  1,    104,   1003,2,19960226,1948,-17.5020,-169.9995, 5002,   -999,   4423.8,   1.0191,  34.7102,2,  34.7105,2,    205.4,2,  0.6674,    205.5,2,   119.64,2,    32.23,2,     0.00,2,     2.21,2,    0.010,2,    0.003,2,   -999.0,9,  -999.00,9,   -999.0,9,   -999.0,9,   -999.0,9,     7.61,2, -999.00,  -999.0, -999.00,  -999.0
    31DSCG96_2,  P15S,   142,  1,    103,   1035,2,19960226,1948,-17.5020,-169.9995, 5002,   -999,   4691.1,   1.0144,  34.7089,2,  34.7080,2,    205.9,2,  0.6326,    206.6,2,   120.56,2,    32.25,2,     0.00,2,     2.21,2,    0.012,2,    0.006,2,   -999.0,9,  -999.00,9,   2259.1,2,   1068.7,2,   2366.9,2,     7.61,2, -999.00,  -999.0, -999.00,  -999.0
    31DSCG96_2,  P15S,   142,  1,    102,   1030,2,19960226,1948,-17.5020,-169.9995, 5002,   -999,   4938.6,   1.0320,  34.7085,2,  34.7068,2,    206.2,2,  0.6207,    208.1,2,   120.85,2,    32.28,2,     0.00,2,     2.21,2,    0.015,6,    0.006,6,   -999.0,9,  -999.00,9,   -999.0,9,   -999.0,9,   -999.0,9,     7.61,2, -999.00,  -999.0, -999.00,  -999.0
    31DSCG96_2,  P15S,   142,  1,    101,   1022,2,19960226,1948,-17.5020,-169.9995, 5002,   -999,   5095.1,   1.0496,  34.7083,2,  34.7096,2,    206.8,2,  0.6190,    206.0,2,   120.95,6,    32.24,6,     0.00,6,     2.22,2,    0.014,2,    0.008,2,   -999.0,9,  -999.00,9,   2259.3,2,   1098.0,2,   2369.5,2,     7.61,2, -999.00,  -999.0, -999.00,  -999.0