BOTTLE,20220811CCHSIOAMB
EXPOCODE,SECT_ID,STNNBR,CASTNO,SAMPNO,BTLNBR,BTLNBR_FLAG_W,DATE,TIME,LATITUDE,LONGITUDE,DEPTH,CTDRAW,CTDPRS,CTDTMP,CTDSAL,CTDSAL_FLAG_W,SALNTY,SALNTY_FLAG_W,CTDOXY,CTDOXY_FLAG_W,THETA,OXYGEN,OXYGEN_FLAG_W,SILCAT,SILCAT_FLAG_W,NITRAT,NITRAT_FLAG_W,NITRIT,NITRIT_FLAG_W,PHSPHT,PHSPHT_FLAG_W,CFC-11,CFC-11_FLAG_W,CFC-12,CFC-12_FLAG_W,DELC14,DELC14_FLAG_W,DELC13,DELC13_FLAG_W,TCARBN,TCARBN_FLAG_W,PCO2,PCO2_FLAG_W,ALKALI,ALKALI_FLAG_W,PH,PH_FLAG_W,PCO2TMP,C14ERR,PH_TMP,C13ERR
,,,,,,,,,,,,DBAR,DBAR,ITS-90,PSS-78,,PSS-78,,UMOL/KG,,DEG C,UMOL/KG,,UMOL/KG,,UMOL/KG,,UMOL/KG,,UMOL/KG,,PMOL/KG,,PMOL/KG,,/MILLE,,/MILLE,,UMOL/KG,,UATM,,UMOL/KG,,,,DEG C,/MILLE,DEG C,/MILLE
    31DSCG96_1,  P15S,    67,  2,    234,   1119,2,19960128,0225,-50.0062,-169.9987, 5340,   -999,     10.0,  12.9225,  34.4286,2,  34.4290,2,    276.1,2, 12.9211,    275.0,2,     0.95,2,     7.11,2,     0.11,2,     0.55,2,    3.387,2,    1.848,2,     26.6,2,  -999.00,9,   2049.0,2,    426.9,2,   2296.9,2,     7.94,2, -999.00,     3.6, -999.00,  -999.0
    31DSCG96_1,  P15S,    67,  2,    233,   1221,2,19960128,0225,-50.0062,-169.9987, 5340,   -999,     28.3,  12.2917,  34.4214,2,-999.0000,5,    274.9,2, 12.2880,    279.1,2,     1.15,2,     7.48,2,     0.10,2,     0.60,2,    3.485,6,    1.873,6,     16.9,2,     2.11,2,   2050.8,2,    433.3,2,   2296.0,2,     7.94,2, -999.00,     2.7, -999.00,  -999.0
    31DSCG96_1,  P15S,    67,  2,    232,   1039,2,19960128,0225,-50.0062,-169.9987, 5340,   -999,     53.5,  10.2640,  34.4283,2,  34.4322,2,    278.0,2, 10.2578,    280.5,2,     1.85,2,    10.91,2,     0.28,2,     0.84,2,    3.836,2,    2.005,2,     30.1,2,     1.77,2,   2078.5,2,    516.2,2,   2291.8,2,     7.88,2, -999.00,     2.7, -999.00,  -999.0
    31DSCG96_1,  P15S,    67,  2,    231,   1014,2,19960128,0225,-50.0062,-169.9987, 5340,   -999,     79.0,   9.1128,  34.4530,2,  34.4638,2,    266.3,2,  9.1043,    274.7,2,     2.77,2,    12.38,2,     0.70,2,     0.98,2,    3.926,2,    2.049,2,      9.2,2,     1.63,2,   2091.1,2,    559.5,2,   2290.6,2,     7.85,2, -999.00,     3.1, -999.00,  -999.0
    31DSCG96_1,  P15S,    67,  2,    230,   1257,2,19960128,0225,-50.0062,-169.9987, 5340,   -999,    114.4,   8.0389,  34.4189,2,  34.4253,2,    268.0,2,  8.0275,    268.4,2,     4.16,2,    16.88,2,     0.02,2,     1.19,2,    3.936,2,    2.039,2,      1.7,2,     1.50,2,   2105.8,2,    621.5,2,   2288.3,2,     7.80,2, -999.00,     3.4, -999.00,  -999.0
    31DSCG96_1,  P15S,    67,  2,    229,   1256,2,19960128,0225,-50.0062,-169.9987, 5340,   -999,    167.5,   7.6613,  34.4208,2,  34.4218,2,    269.7,2,  7.6450,    263.3,2,     5.51,2,    18.38,2,     0.02,2,     1.29,2,    3.865,2,    1.983,2,     -0.1,2,     1.46,2,   2114.9,2,    658.1,2,   2287.5,2,     7.78,2, -999.00,     3.3, -999.00,  -999.0
    31DSCG96_1,  P15S,    67,  2,    228,   1007,2,19960128,0225,-50.0062,-169.9987, 5340,   -999,    213.2,   7.4074,  34.4018,2,  34.4019,2,    265.4,2,  7.3869,    266.1,2,     5.78,2,    18.99,2,     0.01,2,     1.32,2,    3.858,2,    1.972,2,     11.0,2,     1.32,6,   2116.4,2,    662.8,2,   2287.8,2,     7.78,2, -999.00,     2.5, -999.00,  -999.0
    31DSCG96_1,  P15S,    67,  2,    227,   1234,2,19960128,0225,-50.0062,-169.9987, 5340,   -999,    265.2,   7.3326,  34.4148,2,  34.4163,2,    264.2,2,  7.3072,    262.9,2,     6.74,2,    19.34,2,     0.02,2,     1.36,2,    3.682,2,    1.881,2,     -2.8,2,     1.39,2,   2122.2,2,    673.1,2,   2288.5,2,     7.77,2, -999.00,     3.0, -999.00,  -999.0
    31DSCG96_1,  P15S,    67,  2,    226,   1025,2,19960128,0225,-50.0062,-169.9987, 5340,   -999,    319.9,   7.0555,  34.3847,2,  34.3850,2,    270.1,2,  7.0254,    265.7,2,     7.16,2,    19.98,2,     0.02,2,     1.39,2, -999.000,5, -999.000,5,      3.1,2,     1.42,2,   2123.5,2,    678.0,2,   2288.7,2,     7.77,2, -999.00,     2.9, -999.00,  -999.0
    31DSCG96_1,  P15S,    67,  2,    225,   1233,2,19960128,0225,-50.0062,-169.9987, 5340,   -999,    422.7,   6.7819,  34.3692,2,  34.3693,2,    259.1,2,  6.7428,    264.4,2,     8.33,2,    20.81,2,     0.02,2,     1.46,2,    3.674,2,    1.870,2,    -11.4,2,     1.37,2,   2127.6,2,    689.5,2,   2288.6,2,     7.76,2, -999.00,     4.3, -999.00,  -999.0
    31DSCG96_1,  P15S,    67,  2,    224,   1218,2,19960128,0225,-50.0062,-169.9987, 5340,   -999,    524.2,   6.2131,  34.3129,2,  34.3133,2,    255.5,2,  6.1665,    255.3,2,    11.23,2,    22.98,2,     0.01,2,     1.60,2,    3.485,2,    1.779,2,   -168.4,4,    -3.43,4,   2138.7,2,    746.1,2,   2288.8,2,     7.74,2, -999.00,     3.5, -999.00,  -999.0
    31DSCG96_1,  P15S,    67,  2,    223,   1250,2,19960128,0225,-50.0062,-169.9987, 5340,   -999,    625.5,   5.6523,  34.2818,2,  34.2807,2,    245.9,2,  5.5989,    249.8,2,    13.96,2,    24.72,2,     0.00,2,     1.71,2,    3.172,2,    1.586,2,   -999.0,9,  -999.00,9,   2147.3,2,    777.6,2,   2290.2,2,     7.72,2, -999.00,  -999.0, -999.00,  -999.0
    31DSCG96_1,  P15S,    67,  2,    222,   1109,2,19960128,0225,-50.0062,-169.9987, 5340,   -999,    721.9,   5.5261,  34.3374,2,  34.3377,2,    226.2,2,  5.4647,    222.0,2,    20.76,2,    27.13,2,     0.00,2,     1.87,2,    1.927,2,    0.949,2,    -55.3,2,     1.10,2,   2166.1,2,    851.9,2,   2295.7,2,     7.68,2, -999.00,     2.8, -999.00,  -999.0
    31DSCG96_1,  P15S,    67,  2,    221,   1246,2,19960128,0225,-50.0062,-169.9987, 5340,   -999,    822.4,   5.1382,  34.3792,2,  34.3796,2,    207.4,2,  5.0701,    201.9,2,    29.64,2,    29.23,2,     0.00,2,     2.00,2,    0.886,3,    0.457,3,   -999.0,9,  -999.00,9,   2183.7,2,    941.4,2,   2303.8,2,     7.65,2, -999.00,  -999.0, -999.00,  -999.0
    31DSCG96_1,  P15S,    67,  2,    220,   1015,2,19960128,0225,-50.0062,-169.9987, 5340,   -999,    924.0,   4.4506,  34.3515,2,  34.3522,2,    205.3,2,  4.3782,    204.8,2,    34.44,2,    30.48,2,     0.00,2,     2.10,2,    1.215,2,    0.595,2,    -97.4,2,     0.93,2,   2192.6,2,    998.1,2,   2306.0,2,     7.63,2, -999.00,     2.6, -999.00,  -999.0
    31DSCG96_1,  P15S,    67,  2,    219,   1247,3,19960128,0225,-50.0062,-169.9987, 5340,   -999,   1027.4,   3.9860,  34.3738,2,  34.3682,3,    200.6,2,  3.9084,    201.1,2,    41.66,2,    31.66,2,     0.00,2,     2.18,2,    1.013,2,    0.506,2,   -999.0,9,  -999.00,9,   2204.2,2,   1039.9,2,   2312.5,2,     7.62,2, -999.00,  -999.0, -999.00,  -999.0
    31DSCG96_1,  P15S,    67,  2,    218,   1222,2,19960128,0225,-50.0062,-169.9987, 5340,   -999,   1142.9,   3.4782,  34.3848,2,  34.3854,2,    196.2,2,  3.3953,    195.1,2,    48.79,2,    32.72,2,     0.00,2,     2.26,2,    0.934,2,    0.447,2,   -124.4,2,     0.78,2,   2214.6,2,   1071.9,2,   2317.9,2,     7.60,2, -999.00,     2.3, -999.00,  -999.0
    31DSCG96_1,  P15S,    67,  2,    217,   1267,2,19960128,0225,-50.0062,-169.9987, 5340,   -999,   1312.4,   3.1030,  34.4536,2,  34.4543,2,    183.4,2,  3.0097,    182.1,2,    61.60,2,    33.73,2,     0.00,2,     2.33,2,    0.520,2,    0.250,2,   -999.0,9,  -999.00,9,   2233.5,2,   1137.5,2,   2331.2,2,     7.58,2, -999.00,  -999.0, -999.00,  -999.0
    31DSCG96_1,  P15S,    67,  2,    216,   1211,2,19960128,0225,-50.0062,-169.9987, 5340,   -999,   1567.1,   2.6405,  34.5347,2,  34.5350,2,    175.4,2,  2.5315,    174.9,2,    71.64,2,    34.22,2,     0.00,2,     2.35,2,    0.353,2,    0.172,2,   -158.8,2,     0.52,2,   2246.6,2,   1192.8,2,   2339.6,2,     7.57,2, -999.00,     2.3, -999.00,  -999.0
    31DSCG96_1,  P15S,    67,  2,    215,   1041,2,19960128,0225,-50.0062,-169.9987, 5340,   -999,   1813.9,   2.4624,  34.6111,2,  34.6117,2,    172.5,2,  2.3349,    171.9,2,    80.18,2,    33.80,2,     0.00,2,     2.32,2,    0.173,2,    0.093,2,   -999.0,9,  -999.00,9,   2256.1,2,   1187.6,2,   2349.5,2,     7.57,2, -999.00,  -999.0, -999.00,  -999.0
    31DSCG96_1,  P15S,    67,  2,    214,   1017,2,19960128,0225,-50.0062,-169.9987, 5340,   -999,   2067.9,   2.2924,  34.6732,2,  34.6735,2,    177.0,2,  2.1454,    177.2,2,    83.03,2,    32.79,2,     0.00,2,     2.26,2,    0.103,2,    0.058,2,   -174.5,2,     0.45,2,   2254.2,2,   1142.7,2,   2352.7,2,     7.58,2, -999.00,     2.2, -999.00,  -999.0
    31DSCG96_1,  P15S,    67,  2,    213,   1302,2,19960128,0225,-50.0062,-169.9987, 5340,   -999,   2314.6,   2.1573,  34.7107,2,  34.7113,2,    183.2,2,  1.9907,    184.1,6,    85.09,2,    31.79,2,     0.00,2,     2.18,2,    0.071,2,    0.043,2,   -999.0,9,  -999.00,9,   2250.7,2,   1117.0,2,   2354.4,2,     7.60,3, -999.00,  -999.0, -999.00,  -999.0
    31DSCG96_1,  P15S,    67,  2,    212,   1217,2,19960128,0225,-50.0062,-169.9987, 5340,   -999,   2567.3,   2.0036,  34.7308,2,  34.7312,2,    189.5,2,  1.8167,    189.5,2,    88.91,2,    31.36,2,     0.00,2,     2.14,2,    0.054,2,    0.027,2,   -999.0,9,  -999.00,9,   2250.1,2,   1092.6,2,   2356.3,2,     7.61,2, -999.00,  -999.0, -999.00,  -999.0
    31DSCG96_1,  P15S,    67,  2,    211,   1114,2,19960128,0225,-50.0062,-169.9987, 5340,   -999,   2815.9,   1.8316,  34.7365,2,  34.7368,2,    193.3,2,  1.6249,    193.2,2,    93.96,2,    31.33,2,     0.00,2,     2.14,2,    0.037,2,    0.026,2,   -999.0,9,  -999.00,9,   2251.5,2,   1085.5,2,   2360.2,2,     7.61,2, -999.00,  -999.0, -999.00,  -999.0
    31DSCG96_1,  P15S,    67,  2,    210,   1301,2,19960128,0225,-50.0062,-169.9987, 5340,   -999,   3065.5,   1.6504,  34.7357,2,  34.7360,2,    196.8,2,  1.4236,    196.7,2,    99.29,2,    31.37,2,     0.00,2,     2.14,2,    0.033,2,    0.019,2,   -999.0,9,  -999.00,9,   2251.4,2,   1088.7,2,   2362.6,2,     7.61,2, -999.00,  -999.0, -999.00,  -999.0
    31DSCG96_1,  P15S,    67,  2,    209,   1242,2,19960128,0225,-50.0062,-169.9987, 5340,   -999,   3315.1,   1.4685,  34.7315,2,  34.7314,2,    199.3,2,  1.2214,    199.4,6,   104.76,2,    31.41,2,     0.00,2,     2.16,2,    0.031,2,    0.024,2,   -999.0,9,  -999.00,9,   2253.8,2,   1071.5,2,   2365.0,2,     7.61,2, -999.00,  -999.0, -999.00,  -999.0
    31DSCG96_1,  P15S,    67,  2,    208,   1263,2,19960128,0225,-50.0062,-169.9987, 5340,   -999,   3566.5,   1.3093,  34.7253,2,  34.7251,2,    201.7,2,  1.0409,    202.3,2,   109.54,2,    31.75,2,     0.00,2,     2.17,2,    0.028,2,    0.023,2,   -999.0,9,  -999.00,9,   2255.1,2,   1069.3,2,   2366.3,2,     7.61,2, -999.00,  -999.0, -999.00,  -999.0
    31DSCG96_1,  P15S,    67,  2,    207,   1245,2,19960128,0225,-50.0062,-169.9987, 5340,   -999,   3814.8,   1.1503,  34.7190,2,  34.7189,2,    204.4,2,  0.8606,    204.9,6,   114.34,2,    31.88,2,     0.00,2,     2.18,2,    0.031,2,    0.021,2,   -999.0,9,  -999.00,9,   2256.0,2,   1070.3,2,   2367.2,2,     7.61,2, -999.00,  -999.0, -999.00,  -999.0
    31DSCG96_1,  P15S,    67,  2,    206,   1262,2,19960128,0225,-50.0062,-169.9987, 5340,   -999,   4065.0,   1.0427,  34.7136,2,  34.7137,2,    206.3,2,  0.7295,    206.7,2,   117.83,2,    32.10,2,     0.00,2,     2.19,2,    0.038,2,    0.024,2,   -999.0,9,  -999.00,9,   2256.8,2,   1074.2,2,   2367.2,2,     7.61,3, -999.00,  -999.0, -999.00,  -999.0
    31DSCG96_1,  P15S,    67,  2,    205,   1113,2,19960128,0225,-50.0062,-169.9987, 5340,   -999,   4315.2,   0.9753,  34.7099,2,  34.7105,2,    208.5,2,  0.6370,    207.9,2,   120.32,2,    32.19,2,     0.00,2,     2.20,2,    0.044,2,    0.031,2,   -999.0,9,  -999.00,9,   2257.8,2,   1074.7,2,   2368.2,2,     7.61,2, -999.00,  -999.0, -999.00,  -999.0
    31DSCG96_1,  P15S,    67,  2,    204,   1003,2,19960128,0225,-50.0062,-169.9987, 5340,   -999,   4563.3,   0.9516,  34.7079,2,  34.7075,2,    209.5,2,  0.5863,    208.7,2,   121.66,2,    32.25,2,     0.00,2,     2.20,2,    0.054,2,    0.034,2,   -999.0,9,  -999.00,9,   2256.3,2,   1083.1,2,   2367.6,2,     7.61,2, -999.00,  -999.0, -999.00,  -999.0
    31DSCG96_1,  P15S,    67,  2,    203,   9999,2,19960128,0225,-50.0062,-169.9987, 5340,   -999,   4811.0,   0.9447,  34.7065,2,  34.7058,2,    209.8,2,  0.5513,    208.3,2,   122.70,2,    32.27,2,     0.00,2,     2.20,2,    0.060,2,    0.045,2,   -999.0,9,  -999.00,9,   2256.8,2,   1073.3,2,   2370.4,2,     7.61,2, -999.00,  -999.0, -999.00,  -999.0
    31DSCG96_1,  P15S,    67,  2,    202,   1030,2,19960128,0225,-50.0062,-169.9987, 5340,   -999,   5164.3,   0.9614,  34.7052,2,-999.0000,9,    210.2,2,  0.5255,    209.6,2,   123.57,2,    32.35,2,     0.00,2,     2.21,2,    0.072,6,    0.040,6,   -999.0,9,  -999.00,9,   2256.9,2,   1096.9,2,   2370.3,2,     7.61,2, -999.00,  -999.0, -999.00,  -999.0
    31DSCG96_1,  P15S,    67,  2,    201,   1022,2,19960128,0225,-50.0062,-169.9987, 5340,   -999,   5478.9,   0.9897,  34.7042,2,  34.7054,2,    210.4,2,  0.5142,    209.9,2,   124.02,6,    32.34,6,     0.00,6,     2.21,6,    0.082,2,    0.046,2,   -999.0,9,  -999.00,9,   2258.8,2,   1093.7,2,   2365.5,2,     7.61,2, -999.00,  -999.0, -999.00,  -999.0