BOTTLE,20220811CCHSIOAMB
EXPOCODE,SECT_ID,STNNBR,CASTNO,SAMPNO,BTLNBR,BTLNBR_FLAG_W,DATE,TIME,LATITUDE,LONGITUDE,DEPTH,CTDRAW,CTDPRS,CTDTMP,CTDSAL,CTDSAL_FLAG_W,SALNTY,SALNTY_FLAG_W,CTDOXY,CTDOXY_FLAG_W,THETA,OXYGEN,OXYGEN_FLAG_W,SILCAT,SILCAT_FLAG_W,NITRAT,NITRAT_FLAG_W,NITRIT,NITRIT_FLAG_W,PHSPHT,PHSPHT_FLAG_W,CFC-11,CFC-11_FLAG_W,CFC-12,CFC-12_FLAG_W,DELC14,DELC14_FLAG_W,DELC13,DELC13_FLAG_W,TCARBN,TCARBN_FLAG_W,PCO2,PCO2_FLAG_W,ALKALI,ALKALI_FLAG_W,PH,PH_FLAG_W,PCO2TMP,C14ERR,PH_TMP,C13ERR
,,,,,,,,,,,,DBAR,DBAR,ITS-90,PSS-78,,PSS-78,,UMOL/KG,,DEG C,UMOL/KG,,UMOL/KG,,UMOL/KG,,UMOL/KG,,UMOL/KG,,PMOL/KG,,PMOL/KG,,/MILLE,,/MILLE,,UMOL/KG,,UATM,,UMOL/KG,,,,DEG C,/MILLE,DEG C,/MILLE
    31DSCG96_1,  P15S,    74,  2,    234,   1119,2,19960130,0124,-46.7228,-170.9118, 5268,   -999,      9.4,  14.7244,  34.7000,2,  34.6979,2,    275.6,2, 14.7230,    284.2,2,     0.45,2,     1.54,2,     0.06,2,     0.25,2, -999.000,9, -999.000,9,     36.9,2,     2.26,2,   2027.4,2,    362.7,2,   2305.4,2,     8.00,2, -999.00,     3.7, -999.00,  -999.0
    31DSCG96_1,  P15S,    74,  2,    233,   1221,2,19960130,0124,-46.7228,-170.9118, 5268,   -999,     18.9,  13.5091,  34.7166,2,  34.7161,2,    288.1,2, 13.5064,    292.9,2,     0.54,2,     1.48,2,     0.06,2,     0.25,2, -999.000,9, -999.000,9,     41.7,2,     2.22,2,   -999.0,9,   -999.0,9,   -999.0,9,     7.99,2, -999.00,     7.3, -999.00,  -999.0
    31DSCG96_1,  P15S,    74,  2,    232,   1039,2,19960130,0124,-46.7228,-170.9118, 5268,   -999,     44.3,  12.9636,  34.7077,2,  34.7080,2,    272.6,2, 12.9575,    272.6,2,     0.67,2,     2.90,2,     0.06,2,     0.35,2, -999.000,9, -999.000,9,     42.8,2,     1.98,2,   2046.9,2,    408.0,2,   2303.5,2,     7.96,2, -999.00,     3.9, -999.00,  -999.0
    31DSCG96_1,  P15S,    74,  2,    231,   1014,2,19960130,0124,-46.7228,-170.9118, 5268,   -999,     72.6,  11.3511,  34.6661,2,  34.6673,2,    266.8,2, 11.3420,    266.9,2,     1.74,2,     6.09,2,     0.22,2,     0.60,2, -999.000,9, -999.000,9,     27.4,2,     1.70,2,   -999.0,9,   -999.0,9,   -999.0,9,     7.90,2, -999.00,     3.6, -999.00,  -999.0
    31DSCG96_1,  P15S,    74,  2,    230,   1257,2,19960130,0124,-46.7228,-170.9118, 5268,   -999,     95.7,  10.7605,  34.7204,2,  34.7201,2,    263.5,2, 10.7490,    259.5,2,     2.39,2,     8.89,2,     0.10,2,     0.70,2, -999.000,9, -999.000,9,     38.0,2,     1.56,2,   2083.9,2,    517.4,2,   2296.8,2,     7.87,2, -999.00,     3.3, -999.00,  -999.0
    31DSCG96_1,  P15S,    74,  2,    229,   1256,2,19960130,0124,-46.7228,-170.9118, 5268,   -999,    139.3,  10.1709,  34.7055,2,  34.7050,2,    261.7,2, 10.1547,    256.6,2,     3.08,2,    10.92,2,     0.02,2,     0.82,2, -999.000,9, -999.000,9,     30.3,2,     1.48,2,   -999.0,9,   -999.0,9,   -999.0,9,     7.85,2, -999.00,     3.3, -999.00,  -999.0
    31DSCG96_1,  P15S,    74,  2,    228,   1007,2,19960130,0124,-46.7228,-170.9118, 5268,   -999,    189.7,   9.7001,  34.6712,2,  34.6699,2,    258.1,2,  9.6786,    248.3,2,     4.01,2,    13.12,2,     0.02,2,     0.96,2, -999.000,9, -999.000,9,     36.0,2,     1.39,2,   2105.4,2,    593.0,2,   2292.8,2,     7.82,2, -999.00,     4.2, -999.00,  -999.0
    31DSCG96_1,  P15S,    74,  2,    227,   1232,2,19960130,0124,-46.7228,-170.9118, 5268,   -999,    241.0,   9.3699,  34.6489,2,  34.6491,2,    258.6,2,  9.3431,    260.8,2,     3.76,2,    12.75,2,     0.02,2,     0.95,2, -999.000,9, -999.000,9,     27.6,2,     1.42,2,   -999.0,9,   -999.0,9,   -999.0,9,     7.83,2, -999.00,     3.7, -999.00,  -999.0
    31DSCG96_1,  P15S,    74,  2,    226,   1025,2,19960130,0124,-46.7228,-170.9118, 5268,   -999,    289.5,   8.9288,  34.5895,2,  34.5896,2,    250.8,2,  8.8975,    250.8,2,     4.69,2,    15.23,2,     0.02,2,     1.11,2, -999.000,9, -999.000,9,     21.7,2,     1.37,2,   2111.8,2,    627.6,2,   2291.8,2,     7.81,2, -999.00,     3.3, -999.00,  -999.0
    31DSCG96_1,  P15S,    74,  2,    225,   1233,2,19960130,0124,-46.7228,-170.9118, 5268,   -999,    375.3,   8.3546,  34.5332,2,  34.5331,2,    242.9,2,  8.3154,    237.9,2,     6.27,2,    18.34,2,     0.01,2,     1.30,2, -999.000,9, -999.000,9,     15.7,2,     1.31,2,   -999.0,9,   -999.0,9,   -999.0,9,     7.77,2, -999.00,     3.3, -999.00,  -999.0
    31DSCG96_1,  P15S,    74,  2,    224,   1218,2,19960130,0124,-46.7228,-170.9118, 5268,   -999,    476.0,   7.7444,  34.4653,2,  34.4640,2,    242.4,2,  7.6967,    246.3,2,     6.96,2,    19.65,2,     0.01,2,     1.38,2, -999.000,9, -999.000,9,      0.2,6,     1.31,6,   2127.1,2,    699.2,2,   2287.5,2,     7.76,2, -999.00,     2.3, -999.00,  -999.0
    31DSCG96_1,  P15S,    74,  2,    223,   1250,2,19960130,0124,-46.7228,-170.9118, 5268,   -999,    575.5,   7.3108,  34.4198,2,  34.4190,2,    248.4,2,  7.2546,    251.1,2,     7.89,2,    20.47,2,     0.00,2,     1.44,2, -999.000,9, -999.000,9,      6.3,2,     1.31,2,   -999.0,9,   -999.0,9,   -999.0,9,     7.76,2, -999.00,     3.2, -999.00,  -999.0
    31DSCG96_1,  P15S,    74,  2,    222,   1109,2,19960130,0124,-46.7228,-170.9118, 5268,   -999,    655.1,   7.0539,  34.4052,2,  34.4031,2,    257.2,2,  6.9909,    248.7,2,     8.95,2,    21.34,2,     0.00,2,     1.50,2, -999.000,9, -999.000,9,     -7.5,2,     1.35,2,   2132.8,3,    725.2,2,   2287.8,2,     7.75,2, -999.00,     3.8, -999.00,  -999.0
    31DSCG96_1,  P15S,    74,  2,    221,   1246,2,19960130,0124,-46.7228,-170.9118, 5268,   -999,    772.7,   6.5236,  34.3589,2,  34.3577,2,    247.6,2,  6.4518,    244.0,2,    11.48,2,    23.05,2,     0.00,2,     1.61,2, -999.000,9, -999.000,9,    -15.8,2,     1.29,2,   -999.0,9,   -999.0,9,   -999.0,9,     7.73,2, -999.00,     3.2, -999.00,  -999.0
    31DSCG96_1,  P15S,    74,  2,    220,   1015,2,19960130,0124,-46.7228,-170.9118, 5268,   -999,    874.3,   6.1089,  34.3494,2,  34.3488,2,    231.8,2,  6.0297,    230.3,6,    15.58,2,    25.14,2,     0.01,2,     1.75,2, -999.000,9, -999.000,9,    -39.9,2,     1.22,2,   2152.4,2,    822.1,2,   2291.2,2,     7.71,2, -999.00,     3.0, -999.00,  -999.0
    31DSCG96_1,  P15S,    74,  2,    219,   1247,2,19960130,0124,-46.7228,-170.9118, 5268,   -999,    975.2,   5.7083,  34.3639,2,  34.3627,2,    216.2,2,  5.6222,    215.1,2,    21.61,2,    27.25,2,     0.00,2,     1.88,2, -999.000,9, -999.000,9,    -56.3,2,     1.11,2,   -999.0,9,   -999.0,9,   -999.0,9,     7.68,2, -999.00,     4.2, -999.00,  -999.0
    31DSCG96_1,  P15S,    74,  2,    218,   1222,2,19960130,0124,-46.7228,-170.9118, 5268,   -999,   1074.2,   5.0930,  34.3550,2,  34.3537,2,    208.7,2,  5.0024,    208.5,2,    27.81,2,    29.01,2,     0.01,2,     2.01,2, -999.000,9, -999.000,9,    -79.1,2,     1.04,2,   2179.2,2,    944.8,2,   2299.9,2,     7.66,2, -999.00,     3.4, -999.00,  -999.0
    31DSCG96_1,  P15S,    74,  2,    217,   1267,2,19960130,0124,-46.7228,-170.9118, 5268,   -999,   1216.4,   4.2009,  34.3439,2,  34.3445,2,    207.2,2,  4.1054,    205.4,2,    36.64,2,    31.03,2,     0.00,2,     2.14,2, -999.000,9, -999.000,9,   -108.5,2,     0.91,2,   -999.0,9,   -999.0,9,   -999.0,9,     7.63,2, -999.00,     2.9, -999.00,  -999.0
    31DSCG96_1,  P15S,    74,  2,    216,   1211,2,19960130,0124,-46.7228,-170.9118, 5268,   -999,   1437.0,   3.3659,  34.4158,2,  34.4149,2,    189.6,2,  3.2596,    188.3,6,    54.56,2,    33.15,2,     0.00,2,     2.29,2, -999.000,9, -999.000,9,   -133.0,2,     0.70,2,   2223.1,2,   1110.4,2,   2323.6,2,     7.59,2, -999.00,     2.8, -999.00,  -999.0
    31DSCG96_1,  P15S,    74,  2,    215,   1041,2,19960130,0124,-46.7228,-170.9118, 5268,   -999,   1689.3,   2.8269,  34.5057,2,  34.5064,2,    176.3,2,  2.7055,    175.6,2,    69.84,2,    34.14,2,     0.00,2,     2.36,2, -999.000,9, -999.000,9,   -163.7,2,     0.52,2,   -999.0,9,   -999.0,9,   -999.0,9,     7.58,2, -999.00,     3.1, -999.00,  -999.0
    31DSCG96_1,  P15S,    74,  2,    214,   1017,2,19960130,0124,-46.7228,-170.9118, 5268,   -999,   1940.2,   2.5522,  34.5915,2,  34.5920,2,    169.5,2,  2.4128,    169.6,2,    81.37,2,    34.05,2,     0.00,2,     2.35,2, -999.000,9, -999.000,9,   -176.5,2,     0.35,2,   2257.5,2,   1189.9,2,   2351.1,2,     7.57,3, -999.00,     2.8, -999.00,  -999.0
    31DSCG96_1,  P15S,    74,  2,    213,   1302,2,19960130,0124,-46.7228,-170.9118, 5268,   -999,   2191.6,   2.3606,  34.6526,2,  34.6525,2,    173.1,2,  2.2018,    173.6,2,    84.53,2,    33.22,2,     0.00,2,     2.29,2, -999.000,9, -999.000,9,   -170.6,2,     0.44,2,   -999.0,9,   -999.0,9,   -999.0,9,     7.58,2, -999.00,     2.7, -999.00,  -999.0
    31DSCG96_1,  P15S,    74,  2,    212,   1217,2,19960130,0124,-46.7228,-170.9118, 5268,   -999,   2437.0,   2.2049,  34.6934,2,  34.6937,2,    179.2,2,  2.0264,    178.4,2,    88.36,2,    32.49,2,     0.00,2,     2.24,2, -999.000,9, -999.000,9,   -180.9,2,     0.44,2,   2257.3,2,   1133.6,2,   2357.2,2,     7.59,3, -999.00,     3.0, -999.00,  -999.0
    31DSCG96_1,  P15S,    74,  2,    211,   1114,2,19960130,0124,-46.7228,-170.9118, 5268,   -999,   2691.5,   2.0816,  34.7250,2,  34.7242,2,    186.6,2,  1.8816,    187.6,6,    87.64,2,    31.45,2,     0.00,2,     2.16,2, -999.000,9, -999.000,9,   -169.1,2,     0.48,2,   -999.0,9,   -999.0,9,   -999.0,9,     7.60,2, -999.00,     3.1, -999.00,  -999.0
    31DSCG96_1,  P15S,    74,  2,    210,   1301,2,19960130,0124,-46.7228,-170.9118, 5268,   -999,   2941.8,   1.9033,  34.7362,2,  34.7361,2,    191.5,2,  1.6830,    192.4,2,    92.52,2,    31.19,2,     0.00,2,     2.14,2, -999.000,9, -999.000,9,   -169.9,2,     0.47,2,   2250.0,2,   1086.7,2,   2357.9,2,     7.61,2, -999.00,     2.9, -999.00,  -999.0
    31DSCG96_1,  P15S,    74,  2,    209,   1242,2,19960130,0124,-46.7228,-170.9118, 5268,   -999,   3186.5,   1.6928,  34.7368,2,  34.7363,2,    195.8,2,  1.4532,    196.2,2,    98.55,2,    31.21,2,     0.00,2,     2.14,2, -999.000,9, -999.000,9,   -170.1,2,     0.51,2,   -999.0,9,   -999.0,9,   -999.0,9,     7.61,2, -999.00,     2.9, -999.00,  -999.0
    31DSCG96_1,  P15S,    74,  2,    208,   1263,2,19960130,0124,-46.7228,-170.9118, 5268,   -999,   3439.8,   1.4918,  34.7318,2,  34.7312,2,    198.8,2,  1.2316,    200.1,2,   104.77,2,    31.40,2,     0.00,2,     2.16,2, -999.000,9, -999.000,9,   -182.2,2,     0.45,2,   2254.5,2,   1084.4,2,   2363.2,2,     7.61,2, -999.00,     3.0, -999.00,  -999.0
    31DSCG96_1,  P15S,    74,  2,    207,   1245,2,19960130,0124,-46.7228,-170.9118, 5268,   -999,   3687.7,   1.3222,  34.7255,2,  34.7269,2,    201.4,2,  1.0410,    201.9,2,   109.55,2,    31.53,2,     0.00,2,     2.17,2,    0.032,2,    0.018,2,   -186.2,2,     0.48,2,   -999.0,9,   -999.0,9,   -999.0,9,     7.61,2, -999.00,     3.4, -999.00,  -999.0
    31DSCG96_1,  P15S,    74,  2,    206,   1262,2,19960130,0124,-46.7228,-170.9118, 5268,   -999,   3940.5,   1.1614,  34.7185,2,  34.7178,2,    204.2,2,  0.8581,    204.9,2,   114.22,2,    31.73,2,     0.00,2,     2.18,2, -999.000,9, -999.000,9,   -171.0,2,     0.49,2,   2256.2,2,   1088.9,2,   2364.9,2,     7.61,2, -999.00,     3.0, -999.00,  -999.0
    31DSCG96_1,  P15S,    74,  2,    205,   1113,2,19960130,0124,-46.7228,-170.9118, 5268,   -999,   4223.7,   1.0351,  34.7127,2,  34.7116,2,    206.9,2,  0.7051,    207.5,6,   118.64,2,    31.96,2,     0.00,2,     2.20,2,    0.058,2,    0.030,2,   -170.5,2,     0.46,2,   -999.0,9,   -999.0,9,   -999.0,9,     7.61,2, -999.00,     2.5, -999.00,  -999.0
    31DSCG96_1,  P15S,    74,  2,    204,   1003,2,19960130,0124,-46.7228,-170.9118, 5268,   -999,   4523.1,   0.9487,  34.7077,2,  34.7070,2,    208.7,2,  0.5881,    209.3,2,   121.78,2,    32.07,2,     0.00,2,     2.20,2, -999.000,9, -999.000,9,   -164.3,2,     0.47,2,   2257.7,2,   1102.7,2,   2364.4,2,     7.61,2, -999.00,     3.0, -999.00,  -999.0
    31DSCG96_1,  P15S,    74,  2,    203,   1216,2,19960130,0124,-46.7228,-170.9118, 5268,   -999,   4825.2,   0.9306,  34.7055,2,  34.7054,2,    209.4,2,  0.5360,    209.8,2,   123.30,2,    32.10,2,     0.00,2,     2.21,2,    0.081,2,    0.046,2,   -184.2,2,     0.48,2,   -999.0,9,   -999.0,9,   -999.0,9,     7.61,2, -999.00,     2.8, -999.00,  -999.0
    31DSCG96_1,  P15S,    74,  2,    202,   1030,2,19960130,0124,-46.7228,-170.9118, 5268,   -999,   5127.9,   0.9417,  34.7047,2,  34.7036,2,    210.2,2,  0.5109,    210.1,2,   124.10,2,    32.12,2,     0.00,2,     2.20,2,    0.089,6,    0.056,6,   -180.4,2,     0.48,2,   -999.0,9,   -999.0,9,   -999.0,9,     7.61,2, -999.00,     2.4, -999.00,  -999.0
    31DSCG96_1,  P15S,    74,  2,    201,   1022,4,19960130,0124,-46.7228,-170.9118, 5268,   -999,   5385.3,   0.9691,  34.7041,2,  34.6873,4,    209.8,2,  0.5060,    209.3,3,   119.27,3,    31.77,3,     0.00,6,  -999.00,5, -999.000,9, -999.000,9,   -167.2,2,     0.45,2,   2258.2,3,   1102.7,2,   2366.6,2,     7.61,2, -999.00,     3.6, -999.00,  -999.0