BOTTLE,20220811CCHSIOAMB
EXPOCODE,SECT_ID,STNNBR,CASTNO,SAMPNO,BTLNBR,BTLNBR_FLAG_W,DATE,TIME,LATITUDE,LONGITUDE,DEPTH,CTDRAW,CTDPRS,CTDTMP,CTDSAL,CTDSAL_FLAG_W,SALNTY,SALNTY_FLAG_W,CTDOXY,CTDOXY_FLAG_W,THETA,OXYGEN,OXYGEN_FLAG_W,SILCAT,SILCAT_FLAG_W,NITRAT,NITRAT_FLAG_W,NITRIT,NITRIT_FLAG_W,PHSPHT,PHSPHT_FLAG_W,CFC-11,CFC-11_FLAG_W,CFC-12,CFC-12_FLAG_W,DELC14,DELC14_FLAG_W,DELC13,DELC13_FLAG_W,TCARBN,TCARBN_FLAG_W,PCO2,PCO2_FLAG_W,ALKALI,ALKALI_FLAG_W,PH,PH_FLAG_W,PCO2TMP,C14ERR,PH_TMP,C13ERR
,,,,,,,,,,,,DBAR,DBAR,ITS-90,PSS-78,,PSS-78,,UMOL/KG,,DEG C,UMOL/KG,,UMOL/KG,,UMOL/KG,,UMOL/KG,,UMOL/KG,,PMOL/KG,,PMOL/KG,,/MILLE,,/MILLE,,UMOL/KG,,UATM,,UMOL/KG,,,,DEG C,/MILLE,DEG C,/MILLE
    31DSCG96_2,  P15S,   148,  1,    136,   1245,2,19960228,0800,-14.6665,-169.9990, 3322,   -999,      4.2,  29.4398,  34.8791,2,  34.8782,2,    203.9,2, 29.4387,    194.3,2,     1.51,2,     0.10,2,     0.00,2,     0.13,2, -999.000,9, -999.000,9,     96.2,2,  -999.00,9,   1922.4,2,    232.2,6,   2294.5,2,     8.15,2, -999.00,     3.0, -999.00,  -999.0
    31DSCG96_2,  P15S,   148,  1,    134,   1267,2,19960228,0800,-14.6665,-169.9990, 3322,   -999,      5.0,  29.4353,  34.8796,2,  34.8776,2,    198.9,2, 29.4341,    194.4,2,     1.49,2,     0.01,2,     0.00,2,     0.12,2, -999.000,9, -999.000,9,   -999.0,9,  -999.00,9,   1922.7,2,    239.8,3,   2295.1,2,     8.15,2, -999.00,  -999.0, -999.00,  -999.0
    31DSCG96_2,  P15S,   148,  1,    135,   1113,2,19960228,0800,-14.6665,-169.9990, 3322,   -999,      5.6,  29.4413,  34.8792,2,  34.8757,2,    194.1,2, 29.4399,    194.1,2,     1.51,2,     0.01,2,     0.00,2,     0.12,2,    1.560,2,    0.918,2,   -999.0,9,  -999.00,9,   1923.7,2,    227.1,2,   2294.0,2,  -999.00,9, -999.00,  -999.0, -999.00,  -999.0
    31DSCG96_2,  P15S,   148,  1,    133,   1221,2,19960228,0800,-14.6665,-169.9990, 3322,   -999,     19.6,  29.4240,  34.8810,2,  34.8823,2,    194.2,2, 29.4192,    194.4,2,     1.53,2,     0.01,2,     0.00,2,     0.13,2,    1.563,2,    0.891,2,   -999.0,9,  -999.00,9,   1923.9,2,   -999.0,9,   2293.8,2,     8.15,2, -999.00,  -999.0, -999.00,  -999.0
    31DSCG96_2,  P15S,   148,  1,    132,   1039,2,19960228,0800,-14.6665,-169.9990, 3322,   -999,     42.6,  29.0799,  35.4509,2,  35.4579,2,    201.5,2, 29.0696,    201.3,2,     1.40,2,     0.01,2,     0.00,2,     0.15,2, -999.000,9, -999.000,9,   -999.0,9,  -999.00,9,   -999.0,9,   -999.0,9,   -999.0,9,     8.15,2, -999.00,  -999.0, -999.00,  -999.0
    31DSCG96_2,  P15S,   148,  1,    131,   1014,2,19960228,0800,-14.6665,-169.9990, 3322,   -999,     69.3,  28.2291,  35.4927,2,  35.4972,2,    202.6,2, 28.2127,    203.4,6,     1.30,2,     0.01,2,     0.00,2,     0.14,2,    1.665,2,    0.932,2,   -999.0,9,  -999.00,9,   -999.0,9,   -999.0,9,   -999.0,9,     8.15,2, -999.00,  -999.0, -999.00,  -999.0
    31DSCG96_2,  P15S,   148,  1,    130,   1257,2,19960228,0800,-14.6665,-169.9990, 3322,   -999,     95.2,  27.4780,  35.7934,2,  35.7867,2,    192.7,2, 27.4558,    196.7,2,     1.30,2,     0.01,2,     0.00,2,     0.18,2, -999.000,9, -999.000,9,   -999.0,9,  -999.00,9,   -999.0,9,   -999.0,9,   -999.0,9,     8.12,2, -999.00,  -999.0, -999.00,  -999.0
    31DSCG96_2,  P15S,   148,  1,    129,   1256,2,19960228,0800,-14.6665,-169.9990, 3322,   -999,    118.6,  26.4501,  36.1673,2,  36.1683,2,    182.4,2, 26.4231,    182.9,2,     1.34,2,     0.14,2,     0.05,2,     0.26,2,    1.778,2,    0.972,2,   -999.0,9,  -999.00,9,   -999.0,9,   -999.0,9,   -999.0,9,     8.09,2, -999.00,  -999.0, -999.00,  -999.0
    31DSCG96_2,  P15S,   148,  1,    128,   1007,2,19960228,0800,-14.6665,-169.9990, 3322,   -999,    145.5,  25.0261,  36.2688,2,  36.2684,2,    169.4,2, 24.9943,    166.8,2,     1.42,2,     1.58,2,     0.32,2,     0.39,2, -999.000,9, -999.000,9,   -999.0,9,  -999.00,9,   -999.0,9,   -999.0,9,   -999.0,9,     8.04,2, -999.00,  -999.0, -999.00,  -999.0
    31DSCG96_2,  P15S,   148,  1,    127,   1232,2,19960228,0800,-14.6665,-169.9990, 3322,   -999,    168.3,  23.5507,  36.2276,2,  36.2315,2,    160.5,2, 23.5156,    159.3,2,     1.42,2,     4.08,2,     0.09,2,     0.51,2,    1.884,2,    1.019,2,   -999.0,9,  -999.00,9,   -999.0,9,   -999.0,9,   -999.0,9,     8.00,2, -999.00,  -999.0, -999.00,  -999.0
    31DSCG96_2,  P15S,   148,  1,    126,   1025,2,19960228,0800,-14.6665,-169.9990, 3322,   -999,    194.9,  22.1407,  36.0849,2,  36.0897,2,    157.2,2, 22.1017,    157.7,2,     1.68,2,     5.20,2,     0.02,2,     0.59,2, -999.000,9, -999.000,9,   -999.0,9,  -999.00,9,   -999.0,9,   -999.0,9,   -999.0,9,     7.98,2, -999.00,  -999.0, -999.00,  -999.0
    31DSCG96_2,  P15S,   148,  1,    125,   1119,2,19960228,0800,-14.6665,-169.9990, 3322,   -999,    220.0,  20.6267,  35.8851,2,  35.8942,2,    158.3,2, 20.5849,    156.8,2,     1.99,2,     6.16,2,     0.01,2,     0.65,2,    1.905,2,    1.018,2,   -999.0,9,  -999.00,9,   -999.0,9,   -999.0,9,   -999.0,9,     7.95,2, -999.00,  -999.0, -999.00,  -999.0
    31DSCG96_2,  P15S,   148,  1,    124,   1244,2,19960228,0800,-14.6665,-169.9990, 3322,   -999,    243.4,  19.3441,  35.7011,2,  35.7115,2,    156.6,2, 19.2999,    154.6,2,     2.62,2,     7.29,2,     0.00,2,     0.73,2, -999.000,9, -999.000,9,   -999.0,9,  -999.00,9,   -999.0,9,   -999.0,9,   -999.0,9,     7.92,2, -999.00,  -999.0, -999.00,  -999.0
    31DSCG96_2,  P15S,   148,  1,    123,   1250,2,19960228,0800,-14.6665,-169.9990, 3322,   -999,    291.7,  16.8402,  35.3627,2,  35.3643,2,    150.4,2, 16.7921,    143.6,2,     4.67,2,    10.63,2,     0.00,2,     0.96,2,    1.558,2,    0.806,2,   -999.0,9,  -999.00,9,   -999.0,9,   -999.0,9,   -999.0,9,     7.86,2, -999.00,  -999.0, -999.00,  -999.0
    31DSCG96_2,  P15S,   148,  1,    122,   1265,2,19960228,0800,-14.6665,-169.9990, 3322,   -999,    342.4,  12.9694,  34.9256,2,  34.9428,2,    134.7,2, 12.9222,    125.5,2,     9.93,2,    17.55,2,     0.00,2,     1.42,2, -999.000,9, -999.000,9,   -999.0,9,  -999.00,9,   -999.0,9,   -999.0,9,   -999.0,9,     7.75,2, -999.00,  -999.0, -999.00,  -999.0
    31DSCG96_2,  P15S,   148,  1,    121,   1246,2,19960228,0800,-14.6665,-169.9990, 3322,   -999,    386.6,  11.6941,  34.8018,2,  34.8010,2,    128.2,2, 11.6442,    126.3,2,    12.47,2,    20.48,2,     0.00,2,     1.59,2,    0.725,6,    0.371,6,   -999.0,9,  -999.00,9,   -999.0,9,   -999.0,9,   -999.0,9,     7.71,2, -999.00,  -999.0, -999.00,  -999.0
    31DSCG96_2,  P15S,   148,  1,    120,   1015,2,19960228,0800,-14.6665,-169.9990, 3322,   -999,    439.1,   9.7058,  34.6423,2,  34.6423,2,    141.6,2,  9.6554,    139.1,2,    16.11,2,    23.87,2,     0.00,2,     1.76,2, -999.000,9, -999.000,9,   -999.0,9,  -999.00,9,   -999.0,9,   -999.0,9,   -999.0,9,     7.68,2, -999.00,  -999.0, -999.00,  -999.0
    31DSCG96_2,  P15S,   148,  1,    119,   1247,2,19960228,0800,-14.6665,-169.9990, 3322,   -999,    486.7,   8.0637,  34.5147,2,  34.5176,2,    161.5,2,  8.0136,    160.2,6,    17.66,2,    25.81,2,     0.00,2,     1.83,2,    0.364,2,    0.191,2,   -999.0,9,  -999.00,9,   -999.0,9,   -999.0,9,   -999.0,9,     7.66,2, -999.00,  -999.0, -999.00,  -999.0
    31DSCG96_2,  P15S,   148,  1,    118,   1299,2,19960228,0800,-14.6665,-169.9990, 3322,   -999,    537.9,   7.1746,  34.4822,2,  34.4820,2,    161.8,2,  7.1226,    159.7,2,    23.54,2,    28.22,2,     0.00,2,     1.98,2, -999.000,9, -999.000,9,   -999.0,9,  -999.00,9,   -999.0,9,   -999.0,9,   -999.0,9,     7.64,2, -999.00,  -999.0, -999.00,  -999.0
    31DSCG96_2,  P15S,   148,  1,    117,   1242,2,19960228,0800,-14.6665,-169.9990, 3322,   -999,    594.3,   6.3604,  34.4333,2,  34.4279,3,    172.9,2,  6.3066,    173.1,2,    25.26,2,    28.96,2,     0.00,2,     2.01,2,    0.190,2,    0.097,2,   -999.0,9,  -999.00,9,   -999.0,9,   -999.0,9,   -999.0,9,     7.64,2, -999.00,  -999.0, -999.00,  -999.0
    31DSCG96_2,  P15S,   148,  1,    116,   1259,2,19960228,0800,-14.6665,-169.9990, 3322,   -999,    672.2,   5.7792,  34.4620,2,  34.4579,3,    154.7,2,  5.7208,    152.4,2,    38.27,2,    31.81,2,     0.00,2,     2.21,2,    0.076,2,    0.035,2,   -999.0,9,  -999.00,9,   -999.0,9,   -999.0,9,   -999.0,9,     7.60,2, -999.00,  -999.0, -999.00,  -999.0
    31DSCG96_2,  P15S,   148,  1,    115,   1041,2,19960228,0800,-14.6665,-169.9990, 3322,   -999,    774.4,   5.1141,  34.4766,2,  34.4749,2,    150.2,2,  5.0502,    144.3,2,    50.09,2,    33.66,2,     0.00,2,     2.34,2,    0.034,2,    0.016,2,   -999.0,9,  -999.00,9,   -999.0,9,   -999.0,9,   -999.0,9,     7.58,2, -999.00,  -999.0, -999.00,  -999.0
    31DSCG96_2,  P15S,   148,  1,    114,   1017,2,19960228,0800,-14.6665,-169.9990, 3322,   -999,    877.6,   4.5734,  34.4838,2,  34.4821,2,    142.2,2,  4.5039,    143.8,2,    58.70,2,    34.45,2,     0.00,2,     2.40,2,    0.014,2,    0.008,2,   -999.0,9,  -999.00,9,   -999.0,9,   -999.0,9,   -999.0,9,     7.57,2, -999.00,  -999.0, -999.00,  -999.0
    31DSCG96_2,  P15S,   148,  1,    113,   1302,2,19960228,0800,-14.6665,-169.9990, 3322,   -999,    974.1,   4.1503,  34.5002,2,  34.4982,2,    140.7,2,  4.0756,    142.2,2,    67.14,2,    35.03,2,     0.00,2,     2.44,2, -999.000,9, -999.000,9,   -999.0,9,  -999.00,9,   -999.0,9,   -999.0,9,   -999.0,9,     7.57,3, -999.00,  -999.0, -999.00,  -999.0
    31DSCG96_2,  P15S,   148,  1,    112,   1217,2,19960228,0800,-14.6665,-169.9990, 3322,   -999,   1073.5,   3.7971,  34.5221,2,  34.5211,2,    139.6,2,  3.7169,    139.3,2,    76.13,2,    35.61,2,     0.00,2,     2.49,2, -999.000,9, -999.000,9,   -999.0,9,  -999.00,9,   -999.0,9,   -999.0,9,   -999.0,9,     7.56,2, -999.00,  -999.0, -999.00,  -999.0
    31DSCG96_2,  P15S,   148,  1,    111,   1226,2,19960228,0800,-14.6665,-169.9990, 3322,   -999,   1173.4,   3.5114,  34.5385,2,  34.5379,2,    138.3,2,  3.4254,    138.2,6,    82.92,2,    35.93,2,     0.00,2,     2.52,2, -999.000,9, -999.000,9,   -999.0,9,  -999.00,9,   -999.0,9,   -999.0,9,   -999.0,9,     7.56,2, -999.00,  -999.0, -999.00,  -999.0
    31DSCG96_2,  P15S,   148,  1,    110,   1301,2,19960228,0800,-14.6665,-169.9990, 3322,   -999,   1274.2,   3.2278,  34.5542,2,  34.5525,2,    138.9,2,  3.1362,    139.4,2,    88.87,2,    36.07,2,     0.00,2,     2.52,2, -999.000,9, -999.000,9,   -999.0,9,  -999.00,9,   -999.0,9,   -999.0,9,   -999.0,9,     7.56,2, -999.00,  -999.0, -999.00,  -999.0
    31DSCG96_2,  P15S,   148,  1,    109,   1031,2,19960228,0800,-14.6665,-169.9990, 3322,   -999,   1452.7,   2.8754,  34.5773,2,  34.5762,2,    140.5,2,  2.7729,    141.4,2,    97.30,2,    36.13,2,     0.00,2,     2.51,2, -999.000,9, -999.000,9,   -999.0,9,  -999.00,9,   -999.0,9,   -999.0,9,   -999.0,9,     7.56,2, -999.00,  -999.0, -999.00,  -999.0
    31DSCG96_2,  P15S,   148,  1,    108,   1227,2,19960228,0800,-14.6665,-169.9990, 3322,   -999,   1686.5,   2.5085,  34.6054,2,  34.6042,2,    142.5,2,  2.3911,    143.2,2,   107.24,2,    36.10,2,     0.00,2,     2.51,2, -999.000,9, -999.000,9,   -999.0,9,  -999.00,9,   -999.0,9,   -999.0,9,   -999.0,9,     7.56,2, -999.00,  -999.0, -999.00,  -999.0
    31DSCG96_2,  P15S,   148,  1,    107,   1263,2,19960228,0800,-14.6665,-169.9990, 3322,   -999,   1935.5,   2.2574,  34.6266,2,  34.6259,2,    143.9,2,  2.1226,    145.8,2,   114.39,2,    36.05,2,     0.00,2,     2.51,2, -999.000,9, -999.000,9,   -999.0,9,  -999.00,9,   -999.0,9,   -999.0,9,   -999.0,9,     7.57,2, -999.00,  -999.0, -999.00,  -999.0
    31DSCG96_2,  P15S,   148,  1,    106,   1262,2,19960228,0800,-14.6665,-169.9990, 3322,   -999,   2180.6,   2.0762,  34.6425,2,  34.6417,2,    146.2,2,  1.9231,    147.2,2,   120.25,2,    36.00,2,     0.00,2,     2.51,2, -999.000,9, -999.000,9,   -999.0,9,  -999.00,9,   -999.0,9,   -999.0,9,   -999.0,9,     7.57,2, -999.00,  -999.0, -999.00,  -999.0
    31DSCG96_2,  P15S,   148,  1,    105,   1264,2,19960228,0800,-14.6665,-169.9990, 3322,   -999,   2440.2,   1.9199,  34.6561,2,  34.6543,2,    147.4,2,  1.7464,    148.1,2,   125.91,2,    36.00,2,     0.00,2,     2.50,2, -999.000,9, -999.000,9,   -999.0,9,  -999.00,9,   -999.0,9,   -999.0,9,   -999.0,9,     7.57,2, -999.00,  -999.0, -999.00,  -999.0
    31DSCG96_2,  P15S,   148,  1,    104,   1003,2,19960228,0800,-14.6665,-169.9990, 3322,   -999,   2691.2,   1.8518,  34.6633,2,  34.6627,2,    148.9,2,  1.6567,    148.7,2,   128.67,2,    35.96,2,     0.00,2,     2.49,2, -999.000,9, -999.000,9,   -999.0,9,  -999.00,9,   -999.0,9,   -999.0,9,   -999.0,9,     7.58,2, -999.00,  -999.0, -999.00,  -999.0
    31DSCG96_2,  P15S,   148,  1,    103,   1035,2,19960228,0800,-14.6665,-169.9990, 3322,   -999,   2938.6,   1.7363,  34.6716,2,  34.6699,2,    151.0,2,  1.5202,    151.6,2,   131.83,2,    35.85,2,     0.00,2,     2.49,2, -999.000,9, -999.000,9,   -999.0,9,  -999.00,9,   -999.0,9,   -999.0,9,   -999.0,9,     7.58,2, -999.00,  -999.0, -999.00,  -999.0
    31DSCG96_2,  P15S,   148,  1,    102,   1030,2,19960228,0800,-14.6665,-169.9990, 3322,   -999,   3189.5,   1.6300,  34.6787,2,  34.6784,2,    155.7,2,  1.3919,    156.3,2,   132.73,2,    35.52,2,     0.00,2,     2.46,2, -999.000,9, -999.000,9,   -999.0,9,  -999.00,9,   -999.0,9,   -999.0,9,   -999.0,9,     7.58,2, -999.00,  -999.0, -999.00,  -999.0
    31DSCG96_2,  P15S,   148,  1,    101,   1022,2,19960228,0800,-14.6665,-169.9990, 3322,   -999,   3363.0,   1.5600,  34.6837,2,  34.6838,2,    160.8,2,  1.3062,    161.5,6,   131.62,6,    35.14,6,     0.00,6,     2.43,6, -999.000,9, -999.000,9,   -999.0,9,  -999.00,9,   -999.0,9,   -999.0,9,   -999.0,9,     7.59,2, -999.00,  -999.0, -999.00,  -999.0