BOTTLE,20220811CCHSIOAMB
EXPOCODE,SECT_ID,STNNBR,CASTNO,SAMPNO,BTLNBR,BTLNBR_FLAG_W,DATE,TIME,LATITUDE,LONGITUDE,DEPTH,CTDRAW,CTDPRS,CTDTMP,CTDSAL,CTDSAL_FLAG_W,SALNTY,SALNTY_FLAG_W,CTDOXY,CTDOXY_FLAG_W,THETA,OXYGEN,OXYGEN_FLAG_W,SILCAT,SILCAT_FLAG_W,NITRAT,NITRAT_FLAG_W,NITRIT,NITRIT_FLAG_W,PHSPHT,PHSPHT_FLAG_W,CFC-11,CFC-11_FLAG_W,CFC-12,CFC-12_FLAG_W,DELC14,DELC14_FLAG_W,DELC13,DELC13_FLAG_W,TCARBN,TCARBN_FLAG_W,PCO2,PCO2_FLAG_W,ALKALI,ALKALI_FLAG_W,PH,PH_FLAG_W,PCO2TMP,C14ERR,PH_TMP,C13ERR
,,,,,,,,,,,,DBAR,DBAR,ITS-90,PSS-78,,PSS-78,,UMOL/KG,,DEG C,UMOL/KG,,UMOL/KG,,UMOL/KG,,UMOL/KG,,UMOL/KG,,PMOL/KG,,PMOL/KG,,/MILLE,,/MILLE,,UMOL/KG,,UATM,,UMOL/KG,,,,DEG C,/MILLE,DEG C,/MILLE
    31DSCG96_1,  P15S,    93,  1,    134,   1119,2,19960202,2056,-40.3930,-173.0332, 4568,   -999,     10.1,  19.6982,  35.3332,2,  35.3340,2,    232.7,2, 19.6964,    232.7,2,     1.32,2,     0.00,2,     0.00,2,     0.05,2,    2.477,2,    1.377,2,   -999.0,9,  -999.00,9,   2033.0,2,    350.3,2,   2327.5,2,     8.01,2, -999.00,  -999.0, -999.00,  -999.0
    31DSCG96_1,  P15S,    93,  1,    133,   1221,2,19960202,2056,-40.3930,-173.0332, 4568,   -999,     30.1,  18.8233,  35.3284,2,  35.3297,2,    234.6,2, 18.8180,    235.6,2,     1.45,2,     0.00,2,     0.00,2,     0.07,2,    2.517,2,    1.421,2,   -999.0,9,  -999.00,9,   -999.0,9,   -999.0,9,   -999.0,9,  -999.00,9, -999.00,  -999.0, -999.00,  -999.0
    31DSCG96_1,  P15S,    93,  1,    132,   1039,2,19960202,2056,-40.3930,-173.0332, 4568,   -999,     55.0,  15.0542,  35.1571,2,  35.1629,2,    260.5,2, 15.0459,    260.2,2,     1.83,2,     0.05,2,     0.00,2,     0.16,2, -999.000,9, -999.000,9,   -999.0,9,  -999.00,9,   2041.8,2,    378.1,2,   2319.6,2,     7.98,2, -999.00,  -999.0, -999.00,  -999.0
    31DSCG96_1,  P15S,    93,  1,    131,   1014,2,19960202,2056,-40.3930,-173.0332, 4568,   -999,     79.4,  14.2499,  35.2796,2,  35.2809,2,    228.6,2, 14.2383,    231.0,2,     2.33,2,     3.65,2,     0.09,2,     0.41,2,    2.973,2,    1.606,2,   -999.0,9,  -999.00,9,   2072.9,2,    438.9,2,   2321.2,2,     7.93,2, -999.00,  -999.0, -999.00,  -999.0
    31DSCG96_1,  P15S,    93,  1,    130,   1257,2,19960202,2056,-40.3930,-173.0332, 4568,   -999,    106.1,  13.3898,  35.2420,2,  35.2406,2,    228.9,2, 13.3749,    228.9,2,     3.38,2,     6.96,2,     0.01,2,     0.57,2, -999.000,9, -999.000,9,   -999.0,9,  -999.00,9,   2087.2,2,    480.7,2,   2319.0,2,  -999.00,9, -999.00,  -999.0, -999.00,  -999.0
    31DSCG96_1,  P15S,    93,  1,    129,   1256,2,19960202,2056,-40.3930,-173.0332, 4568,   -999,    130.9,  13.0148,  35.2098,2,  35.2120,2,    233.6,2, 12.9968,    233.5,2,     3.44,2,     7.21,2,     0.01,2,     0.59,2,    3.006,2,    1.616,2,   -999.0,9,  -999.00,9,   2087.2,2,    488.3,6,   2317.9,2,     7.90,2, -999.00,  -999.0, -999.00,  -999.0
    31DSCG96_1,  P15S,    93,  1,    128,   1007,2,19960202,2056,-40.3930,-173.0332, 4568,   -999,    164.9,  12.7517,  35.1862,2,  35.1859,2,    238.6,2, 12.7293,    240.6,2,     3.48,2,     7.61,2,     0.01,2,     0.62,2, -999.000,9, -999.000,9,   -999.0,9,  -999.00,9,   2088.8,2,    495.7,2,   2316.4,2,     7.89,2, -999.00,  -999.0, -999.00,  -999.0
    31DSCG96_1,  P15S,    93,  1,    127,   1232,2,19960202,2056,-40.3930,-173.0332, 4568,   -999,    216.2,  12.4856,  35.1367,2,  35.1390,2,    238.5,2, 12.4566,    236.8,2,     3.62,2,     8.17,2,     0.01,2,     0.67,2,    3.025,2,    1.611,2,   -999.0,9,  -999.00,9,   2090.3,2,    493.8,2,   2314.0,2,     7.88,2, -999.00,  -999.0, -999.00,  -999.0
    31DSCG96_1,  P15S,    93,  1,    126,   1025,2,19960202,2056,-40.3930,-173.0332, 4568,   -999,    266.2,  11.8731,  35.0186,2,  35.0282,2,    232.8,2, 11.8385,    232.3,2,     3.74,2,     9.35,2,     0.01,2,     0.76,2, -999.000,9, -999.000,9,   -999.0,9,  -999.00,9,   2096.4,2,    541.5,2,   2308.9,2,     7.86,2, -999.00,  -999.0, -999.00,  -999.0
    31DSCG96_1,  P15S,    93,  1,    125,   1233,2,19960202,2056,-40.3930,-173.0332, 4568,   -999,    325.8,  11.1413,  34.9031,2,  34.9043,2,    225.1,2, 11.1006,    224.7,2,     4.62,2,    12.06,2,     0.00,2,     0.93,2,    2.995,2,    1.568,2,   -999.0,9,  -999.00,9,   2107.5,2,    579.9,2,   2303.0,2,     7.83,2, -999.00,  -999.0, -999.00,  -999.0
    31DSCG96_1,  P15S,    93,  1,    124,   1218,2,19960202,2056,-40.3930,-173.0332, 4568,   -999,    426.4,   9.9042,  34.7517,2,  34.7531,2,    201.6,2,  9.8546,    199.8,2,     7.36,2,    17.80,2,     0.00,2,     1.28,2, -999.000,9, -999.000,9,   -999.0,9,  -999.00,9,   2131.8,2,    691.5,2,   2297.8,2,     7.76,2, -999.00,  -999.0, -999.00,  -999.0
    31DSCG96_1,  P15S,    93,  1,    123,   1250,2,19960202,2056,-40.3930,-173.0332, 4568,   -999,    524.9,   8.8358,  34.6317,2,  34.6324,2,    203.6,2,  8.7786,    203.3,2,     9.35,2,    20.32,2,     0.00,2,     1.45,2,    1.953,2,    0.994,2,   -999.0,9,  -999.00,9,   2139.2,2,    746.2,2,   2295.9,2,  -999.00,9, -999.00,  -999.0, -999.00,  -999.0
    31DSCG96_1,  P15S,    93,  1,    122,   1109,2,19960202,2056,-40.3930,-173.0332, 4568,   -999,    624.0,   8.0667,  34.5538,2,  34.5532,2,    207.2,2,  8.0019,    207.2,2,    10.64,2,    21.91,2,     0.00,2,     1.55,2, -999.000,9, -999.000,9,   -999.0,9,  -999.00,9,   2145.4,3,    760.7,2,   2293.2,2,     7.73,2, -999.00,  -999.0, -999.00,  -999.0
    31DSCG96_1,  P15S,    93,  1,    121,   1246,2,19960202,2056,-40.3930,-173.0332, 4568,   -999,    724.6,   7.3387,  34.4912,2,  34.4917,2,    208.4,2,  7.2669,    208.2,2,    13.38,2,    23.61,2,     0.00,2,     1.66,2,    1.053,2,    0.537,2,   -999.0,9,  -999.00,9,   2149.1,2,    793.3,2,   2293.7,2,     7.71,2, -999.00,  -999.0, -999.00,  -999.0
    31DSCG96_1,  P15S,    93,  1,    120,   1015,2,19960202,2056,-40.3930,-173.0332, 4568,   -999,    822.8,   6.8355,  34.4633,2,  34.4648,2,    204.2,2,  6.7567,    203.9,2,    17.12,2,    25.12,2,     0.00,2,     1.76,2, -999.000,9, -999.000,9,   -999.0,9,  -999.00,9,   2159.2,2,    831.9,2,   2293.2,2,     7.70,2, -999.00,  -999.0, -999.00,  -999.0
    31DSCG96_1,  P15S,    93,  1,    119,   1247,2,19960202,2056,-40.3930,-173.0332, 4568,   -999,    923.6,   6.1760,  34.4401,2,  34.4393,2,    198.7,2,  6.0914,    197.8,2,    23.37,2,    27.10,2,     0.00,2,     1.90,2,    0.429,2,    0.234,2,   -999.0,9,  -999.00,9,   2171.3,2,    884.2,2,   2299.2,2,     7.68,2, -999.00,  -999.0, -999.00,  -999.0
    31DSCG96_1,  P15S,    93,  1,    118,   1222,2,19960202,2056,-40.3930,-173.0332, 4568,   -999,   1024.9,   5.5925,  34.4297,2,  34.4301,2,    191.8,2,  5.5024,    191.5,2,    30.45,2,    28.72,2,     0.00,2,     2.01,2, -999.000,9, -999.000,9,   -999.0,9,  -999.00,9,   2184.8,2,    932.1,2,   2304.1,2,     7.66,2, -999.00,  -999.0, -999.00,  -999.0
    31DSCG96_1,  P15S,    93,  1,    117,   1267,2,19960202,2056,-40.3930,-173.0332, 4568,   -999,   1139.9,   4.9688,  34.4404,2,  34.4417,2,    184.5,2,  4.8731,    184.0,2,    40.76,2,    30.38,2,     0.00,2,     2.12,2,    0.153,2,    0.090,2,   -999.0,9,  -999.00,9,   2201.5,2,   1003.8,2,   2313.0,2,     7.64,2, -999.00,  -999.0, -999.00,  -999.0
    31DSCG96_1,  P15S,    93,  1,    116,   1211,2,19960202,2056,-40.3930,-173.0332, 4568,   -999,   1314.1,   4.0488,  34.4703,2,  34.4701,2,    174.5,2,  3.9458,    174.0,2,    57.16,2,    32.39,2,     0.00,2,     2.27,2, -999.000,9, -999.000,9,   -999.0,9,  -999.00,9,   2227.0,2,   1075.5,2,   2330.5,2,     7.61,2, -999.00,  -999.0, -999.00,  -999.0
    31DSCG96_1,  P15S,    93,  1,    115,   1041,2,19960202,2056,-40.3930,-173.0332, 4568,   -999,   1565.2,   3.2134,  34.5404,2,  34.5395,2,    163.1,2,  3.0976,    162.5,2,    79.81,2,    34.02,2,     0.00,2,     2.38,2,    0.026,2,    0.019,2,   -999.0,9,  -999.00,9,   2257.2,2,   1128.6,2,   2354.4,2,     7.59,2, -999.00,  -999.0, -999.00,  -999.0
    31DSCG96_1,  P15S,    93,  1,    114,   1017,2,19960202,2056,-40.3930,-173.0332, 4568,   -999,   1818.2,   2.6905,  34.5911,2,  34.5916,2,    156.3,2,  2.5595,    155.8,2,    96.61,2,    34.88,2,     0.00,2,     2.44,2, -999.000,9, -999.000,9,   -999.0,9,  -999.00,9,   2278.4,2,   1175.7,2,   -999.0,5,  -999.00,9, -999.00,  -999.0, -999.00,  -999.0
    31DSCG96_1,  P15S,    93,  1,    113,   1302,2,19960202,2056,-40.3930,-173.0332, 4568,   -999,   2070.3,   2.3877,  34.6261,2,  34.6256,2,    154.5,2,  2.2392,    153.8,6,   106.26,2,    35.04,2,     0.00,2,     2.45,2,    0.015,2,    0.022,4,   -999.0,9,  -999.00,9,   2289.4,2,   1178.6,2,   -999.0,5,     7.58,2, -999.00,  -999.0, -999.00,  -999.0
    31DSCG96_1,  P15S,    93,  1,    112,   1217,2,19960202,2056,-40.3930,-173.0332, 4568,   -999,   2321.6,   2.1582,  34.6479,2,  34.6489,2,    152.6,2,  1.9912,    152.6,2,   114.36,2,    35.32,2,     0.00,2,     2.46,2, -999.000,9, -999.000,9,   -999.0,9,  -999.00,9,   2298.1,2,   1200.3,2,   -999.0,5,     7.58,2, -999.00,  -999.0, -999.00,  -999.0
    31DSCG96_1,  P15S,    93,  1,    111,   1114,2,19960202,2056,-40.3930,-173.0332, 4568,   -999,   2558.8,   1.9747,  34.6686,2,  34.6689,2,    157.7,2,  1.7894,    156.7,2,   117.24,2,    34.97,2,     0.00,2,     2.43,2,    0.005,2,    0.013,4,   -999.0,9,  -999.00,9,   2297.2,2,   1193.5,2,   -999.0,5,     7.58,2, -999.00,  -999.0, -999.00,  -999.0
    31DSCG96_1,  P15S,    93,  1,    110,   1301,2,19960202,2056,-40.3930,-173.0332, 4568,   -999,   2804.5,   1.9008,  34.7055,2,  34.7055,2,    174.7,2,  1.6938,    175.9,2,   104.10,2,    32.95,2,     0.00,2,     2.28,2,    0.013,2,    0.015,4,   -999.0,9,  -999.00,9,   2272.0,2,   1139.2,2,   -999.0,5,     7.59,2, -999.00,  -999.0, -999.00,  -999.0
    31DSCG96_1,  P15S,    93,  1,    109,   1242,2,19960202,2056,-40.3930,-173.0332, 4568,   -999,   3060.7,   1.7063,  34.7234,2,  34.7243,2,    186.9,2,  1.4788,    188.0,2,   102.98,2,    32.00,2,     0.00,2,     2.21,2,    0.009,2,    0.007,2,   -999.0,9,  -999.00,9,   2271.0,3,   1107.9,2,   2367.7,2,     7.60,2, -999.00,  -999.0, -999.00,  -999.0
    31DSCG96_1,  P15S,    93,  1,    108,   1263,2,19960202,2056,-40.3930,-173.0332, 4568,   -999,   3310.8,   1.5147,  34.7289,2,  34.7296,2,    195.8,2,  1.2670,    196.3,6,   104.74,2,    31.59,2,     0.00,2,     2.17,2,    0.017,2,    0.010,2,   -999.0,9,  -999.00,9,   2256.0,2,   1084.3,2,   2364.0,2,     7.61,2, -999.00,  -999.0, -999.00,  -999.0
    31DSCG96_1,  P15S,    93,  1,    107,   1227,2,19960202,2056,-40.3930,-173.0332, 4568,   -999,   3558.3,   1.3032,  34.7238,2,  34.7246,2,    200.4,2,  1.0358,    200.6,2,   110.31,2,    31.74,2,     0.00,2,     2.19,2,    0.028,2,    0.012,2,   -999.0,9,  -999.00,9,   2256.0,2,   1072.0,2,   2364.6,2,     7.61,2, -999.00,  -999.0, -999.00,  -999.0
    31DSCG96_1,  P15S,    93,  1,    106,   1262,2,19960202,2056,-40.3930,-173.0332, 4568,   -999,   3812.8,   1.1063,  34.7165,2,  34.7163,2,    203.7,2,  0.8179,    204.1,2,   115.79,6,    31.85,2,     0.00,6,     2.19,2,    0.027,2,    0.016,2,   -999.0,9,  -999.00,9,   2256.7,2,   1076.8,2,   2365.8,2,     7.61,2, -999.00,  -999.0, -999.00,  -999.0
    31DSCG96_1,  P15S,    93,  1,    105,   1264,2,19960202,2056,-40.3930,-173.0332, 4568,   -999,   4064.5,   1.0063,  34.7119,2,  34.7115,2,    205.3,2,  0.6943,    206.4,6,   119.22,2,    32.17,2,     0.00,2,     2.20,2,    0.039,2,    0.017,2,   -999.0,9,  -999.00,9,   2257.7,2,   1083.7,2,   2367.3,2,     7.61,2, -999.00,  -999.0, -999.00,  -999.0
    31DSCG96_1,  P15S,    93,  1,    104,   1003,2,19960202,2056,-40.3930,-173.0332, 4568,   -999,   4316.6,   0.9509,  34.7085,2,  34.7086,2,    206.9,2,  0.6132,    206.8,2,   121.38,2,    32.23,2,     0.00,2,     2.21,2,    0.046,2,    0.029,2,   -999.0,9,  -999.00,9,   2258.2,2,   1084.5,2,   2367.8,2,     7.61,2, -999.00,  -999.0, -999.00,  -999.0
    31DSCG96_1,  P15S,    93,  1,    103,    999,2,19960202,2056,-40.3930,-173.0332, 4568,   -999,   4563.6,   0.9220,  34.7062,2,  34.7062,2,    207.4,2,  0.5577,    207.0,2,   123.16,2,    32.33,2,     0.00,2,     2.21,2,    0.056,2,    0.031,2,   -999.0,9,  -999.00,9,   2260.8,2,   1078.6,2,   2368.8,2,     7.61,2, -999.00,  -999.0, -999.00,  -999.0
    31DSCG96_1,  P15S,    93,  1,    102,   1030,2,19960202,2056,-40.3930,-173.0332, 4568,   -999,   4564.6,   0.9219,  34.7061,2,  34.7055,2,    207.4,2,  0.5575,    208.2,2,   123.15,6,    32.36,6,     0.00,6,     2.21,6,    0.058,6,    0.035,6,   -999.0,9,  -999.00,9,   2258.7,2,   1094.1,2,   2368.4,2,     7.61,2, -999.00,  -999.0, -999.00,  -999.0
    31DSCG96_1,  P15S,    93,  1,    101,   1022,2,19960202,2056,-40.3930,-173.0332, 4568,   -999,   4651.4,   0.9212,  34.7055,2,-999.0000,9,    206.8,2,  0.5469,    207.7,6,   123.67,2,    32.43,2,     0.00,2,     2.21,2,    0.068,2,    0.034,2,   -999.0,9,  -999.00,9,   2261.0,2,   1091.6,2,   2369.8,2,     7.61,2, -999.00,  -999.0, -999.00,  -999.0