BOTTLE,20220811CCHSIOAMB
EXPOCODE,SECT_ID,STNNBR,CASTNO,SAMPNO,BTLNBR,BTLNBR_FLAG_W,DATE,TIME,LATITUDE,LONGITUDE,DEPTH,CTDRAW,CTDPRS,CTDTMP,CTDSAL,CTDSAL_FLAG_W,SALNTY,SALNTY_FLAG_W,CTDOXY,CTDOXY_FLAG_W,THETA,OXYGEN,OXYGEN_FLAG_W,SILCAT,SILCAT_FLAG_W,NITRAT,NITRAT_FLAG_W,NITRIT,NITRIT_FLAG_W,PHSPHT,PHSPHT_FLAG_W,CFC-11,CFC-11_FLAG_W,CFC-12,CFC-12_FLAG_W,DELC14,DELC14_FLAG_W,DELC13,DELC13_FLAG_W,TCARBN,TCARBN_FLAG_W,PCO2,PCO2_FLAG_W,ALKALI,ALKALI_FLAG_W,PH,PH_FLAG_W,PCO2TMP,C14ERR,PH_TMP,C13ERR
,,,,,,,,,,,,DBAR,DBAR,ITS-90,PSS-78,,PSS-78,,UMOL/KG,,DEG C,UMOL/KG,,UMOL/KG,,UMOL/KG,,UMOL/KG,,UMOL/KG,,PMOL/KG,,PMOL/KG,,/MILLE,,/MILLE,,UMOL/KG,,UATM,,UMOL/KG,,,,DEG C,/MILLE,DEG C,/MILLE
    31DSCG96_1,  P15S,    71,  1,    140,   -999,2,19960129,0531,-47.9967,-170.0048, 5270,   -999,      0.0,-999.0000,-999.0000,9,-999.0000,5,   -999.0,9,-999.0000,   -999.0,9,  -999.00,9,  -999.00,9,  -999.00,9,  -999.00,9, -999.000,9, -999.000,9,   -999.0,9,  -999.00,9,   -999.0,9,   -999.0,9,   2293.8,2,     7.92,2, -999.00,  -999.0, -999.00,  -999.0
    31DSCG96_1,  P15S,    71,  1,    134,   1119,4,19960129,0531,-47.9967,-170.0048, 5270,   -999,      9.7,  13.7125,  34.4657,2,-999.0000,9,    267.0,2, 13.7111,   -999.0,9,  -999.00,9,  -999.00,9,  -999.00,9,  -999.00,9, -999.000,9, -999.000,9,     35.0,2,  -999.00,9,   -999.0,9,   -999.0,9,   -999.0,9,  -999.00,9, -999.00,     2.8, -999.00,  -999.0
    31DSCG96_1,  P15S,    71,  1,    133,   1221,2,19960129,0531,-47.9967,-170.0048, 5270,   -999,     28.7,  12.4348,  34.4266,2,  34.4275,2,    282.1,2, 12.4310,    281.7,2,     1.42,2,     8.36,3,     0.08,2,     0.69,2,    3.495,2,    1.820,2,   -999.0,9,  -999.00,9,   2054.2,2,    441.7,2,   2286.7,2,     7.93,2, -999.00,  -999.0, -999.00,  -999.0
    31DSCG96_1,  P15S,    71,  1,    132,   1039,2,19960129,0531,-47.9967,-170.0048, 5270,   -999,     53.0,  10.4191,  34.4049,2,  34.4116,2,    283.9,2, 10.4129,    289.4,2,     1.37,2,     9.81,3,     0.10,2,     0.82,2,    3.930,2,    2.011,2,   -999.0,9,  -999.00,9,   2067.2,2,    486.0,2,   2289.9,2,     7.90,2, -999.00,  -999.0, -999.00,  -999.0
    31DSCG96_1,  P15S,    71,  1,    131,   1014,2,19960129,0531,-47.9967,-170.0048, 5270,   -999,     79.2,   8.7801,  34.4031,2,  34.4012,2,    280.4,2,  8.7717,    281.0,2,     1.72,2,    11.81,3,     0.17,2,     1.04,2, -999.000,9, -999.000,9,   -999.0,9,  -999.00,9,   2090.4,2,    550.3,2,   2285.8,2,     7.85,2, -999.00,  -999.0, -999.00,  -999.0
    31DSCG96_1,  P15S,    71,  1,    130,   1257,2,19960129,0531,-47.9967,-170.0048, 5270,   -999,    114.9,   7.8561,  34.3923,2,  34.3914,2,    273.1,2,  7.8447,    272.9,2,     4.16,2,    16.78,3,     0.42,2,     1.23,2,    4.177,2,    2.116,2,   -999.0,9,  -999.00,9,   2106.5,2,    630.3,2,   2285.9,2,     7.80,2, -999.00,  -999.0, -999.00,  -999.0
    31DSCG96_1,  P15S,    71,  1,    129,   1256,2,19960129,0531,-47.9967,-170.0048, 5270,   -999,    164.2,   7.2160,  34.3776,2,  34.3769,2,    268.4,2,  7.2006,    267.8,2,     6.74,2,    19.56,3,     0.01,2,     1.37,2,    3.998,2,    2.006,2,   -999.0,9,  -999.00,9,   2116.6,2,    677.1,2,   2280.7,2,     7.78,2, -999.00,  -999.0, -999.00,  -999.0
    31DSCG96_1,  P15S,    71,  1,    128,   1007,2,19960129,0531,-47.9967,-170.0048, 5270,   -999,    214.3,   7.0078,  34.3616,2,  34.3620,2,    268.7,2,  6.9879,    270.9,2,     7.06,2,    19.82,3,     0.00,2,     1.39,2,    4.033,6,    2.029,6,   -999.0,9,  -999.00,9,   2117.5,2,    674.4,2,   2284.8,2,     7.77,2, -999.00,  -999.0, -999.00,  -999.0
    31DSCG96_1,  P15S,    71,  1,    127,   1232,2,19960129,0531,-47.9967,-170.0048, 5270,   -999,    264.0,   6.9300,  34.3661,2,  34.3655,2,    270.3,2,  6.9055,    270.5,2,     7.31,2,    20.01,3,     0.01,2,     1.40,2,    3.906,2,    1.955,2,   -999.0,9,  -999.00,9,   2118.2,2,    680.5,2,   2284.3,2,     7.77,2, -999.00,  -999.0, -999.00,  -999.0
    31DSCG96_1,  P15S,    71,  1,    126,   1025,2,19960129,0531,-47.9967,-170.0048, 5270,   -999,    324.6,   6.7910,  34.3600,2,  34.3601,2,    273.0,2,  6.7611,    270.6,2,     7.51,2,    20.21,3,     0.01,2,     1.42,2,    3.878,2,    1.952,2,   -999.0,9,  -999.00,9,   2119.3,2,    685.9,2,   2285.9,2,     7.77,2, -999.00,  -999.0, -999.00,  -999.0
    31DSCG96_1,  P15S,    71,  1,    125,   1233,2,19960129,0531,-47.9967,-170.0048, 5270,   -999,    424.6,   6.4937,  34.3328,2,  34.3340,2,    270.3,2,  6.4554,    267.5,2,     8.54,2,    21.22,3,     0.00,2,     1.49,2,    3.726,2,    1.861,2,   -999.0,9,  -999.00,9,   2125.2,2,    696.3,2,   2284.7,2,     7.76,2, -999.00,  -999.0, -999.00,  -999.0
    31DSCG96_1,  P15S,    71,  1,    124,   1218,2,19960129,0531,-47.9967,-170.0048, 5270,   -999,    524.9,   6.0398,  34.2946,2,  34.2946,2,    258.3,2,  5.9939,    261.1,2,    10.55,2,    22.83,3,     0.00,2,     1.60,2,    3.493,2,    1.738,2,   -999.0,9,  -999.00,9,   2133.8,2,    731.6,2,   2285.7,2,     7.74,2, -999.00,  -999.0, -999.00,  -999.0
    31DSCG96_1,  P15S,    71,  1,    123,   1250,2,19960129,0531,-47.9967,-170.0048, 5270,   -999,    626.6,   5.6067,  34.2781,2,  34.2782,2,    256.5,2,  5.5535,    248.0,6,    14.42,2,    25.10,3,     0.00,2,     1.74,2,    3.077,2,    1.515,2,   -999.0,9,  -999.00,9,   2146.6,2,    796.6,2,   2287.1,2,     7.72,2, -999.00,  -999.0, -999.00,  -999.0
    31DSCG96_1,  P15S,    71,  1,    122,   1109,2,19960129,0531,-47.9967,-170.0048, 5270,   -999,    722.6,   5.2917,  34.3022,2,  34.3020,2,    236.0,2,  5.2316,    228.4,2,    20.21,2,    27.35,3,     0.01,2,     1.89,2,    2.344,2,    1.148,2,   -999.0,9,  -999.00,9,   2163.7,2,    869.6,2,   2293.6,2,     7.68,2, -999.00,  -999.0, -999.00,  -999.0
    31DSCG96_1,  P15S,    71,  1,    121,   1246,2,19960129,0531,-47.9967,-170.0048, 5270,   -999,    826.1,   4.8038,  34.3091,2,  34.3087,2,    221.5,2,  4.7375,    218.9,2,    25.89,2,    29.13,3,     0.00,2,     2.01,2,    1.947,2,    0.943,2,   -999.0,9,  -999.00,9,   2176.1,2,    925.8,2,   2290.8,2,     7.66,2, -999.00,  -999.0, -999.00,  -999.0
    31DSCG96_1,  P15S,    71,  1,    120,   1015,2,19960129,0531,-47.9967,-170.0048, 5270,   -999,    923.1,   4.4840,  34.3317,2,  34.3325,2,    212.1,2,  4.4115,    209.9,2,    31.92,2,    30.35,3,     0.00,2,     2.09,2,    1.511,2,    0.729,2,   -999.0,9,  -999.00,9,   2186.1,2,    976.5,2,   2301.5,2,     7.64,2, -999.00,  -999.0, -999.00,  -999.0
    31DSCG96_1,  P15S,    71,  1,    119,   1247,2,19960129,0531,-47.9967,-170.0048, 5270,   -999,   1025.3,   3.8570,  34.3292,2,  34.3291,2,    209.2,2,  3.7806,    208.2,6,    37.99,2,    31.65,3,     0.00,2,     2.18,2,    1.464,2,    0.702,2,   -999.0,9,  -999.00,9,   2198.1,2,   1020.5,2,   2305.9,2,     7.62,2, -999.00,  -999.0, -999.00,  -999.0
    31DSCG96_1,  P15S,    71,  1,    118,   1222,2,19960129,0531,-47.9967,-170.0048, 5270,   -999,   1140.8,   3.5344,  34.3689,2,  34.3722,3,    199.1,2,  3.4512,    197.6,2,    46.48,2,    32.22,3,     0.00,2,     2.26,2,    1.061,2,    0.516,2,   -999.0,9,  -999.00,9,   2210.6,2,   1082.3,2,   2313.8,2,     7.61,2, -999.00,  -999.0, -999.00,  -999.0
    31DSCG96_1,  P15S,    71,  1,    117,   1267,2,19960129,0531,-47.9967,-170.0048, 5270,   -999,   1315.5,   3.0919,  34.4348,2,  34.4349,2,    187.1,2,  2.9985,    185.2,2,    58.81,2,    33.37,3,     0.00,2,     2.34,2,    0.671,2,    0.309,2,   -999.0,9,  -999.00,9,   2229.3,2,   1130.2,2,   2327.5,2,     7.59,2, -999.00,  -999.0, -999.00,  -999.0
    31DSCG96_1,  P15S,    71,  1,    116,   1211,2,19960129,0531,-47.9967,-170.0048, 5270,   -999,   1566.0,   2.7363,  34.5193,2,  34.5201,2,    175.7,2,  2.6262,    174.5,2,    71.20,2,    33.96,3,     0.00,2,     2.37,2,    0.384,2,    0.185,2,   -999.0,9,  -999.00,9,   2244.8,2,   1173.3,2,   2339.2,2,     7.57,3, -999.00,  -999.0, -999.00,  -999.0
    31DSCG96_1,  P15S,    71,  1,    115,   1041,2,19960129,0531,-47.9967,-170.0048, 5270,   -999,   1814.8,   2.5023,  34.6000,2,  34.5995,2,    171.4,2,  2.3742,    169.7,2,    81.19,2,    33.75,3,     0.00,2,     2.36,2,    0.181,2,    0.091,2,   -999.0,9,  -999.00,9,   2255.0,2,   1180.1,2,   2351.0,2,     7.57,2, -999.00,  -999.0, -999.00,  -999.0
    31DSCG96_1,  P15S,    71,  1,    114,   1017,2,19960129,0531,-47.9967,-170.0048, 5270,   -999,   2064.4,   2.3371,  34.6571,2,  34.6568,2,    174.6,2,  2.1899,    175.0,2,    83.83,2,    32.86,3,     0.00,2,     2.29,2,    0.117,2,    0.057,2,   -999.0,9,  -999.00,9,   2253.4,2,   1152.0,2,   2353.0,2,     7.58,2, -999.00,  -999.0, -999.00,  -999.0
    31DSCG96_1,  P15S,    71,  1,    113,   1302,2,19960129,0531,-47.9967,-170.0048, 5270,   -999,   2315.6,   2.1920,  34.7052,2,  34.7036,2,    182.2,2,  2.0247,    182.1,6,    84.80,2,    31.79,3,     0.00,2,     2.22,2,    0.083,2,    0.043,2,   -999.0,9,  -999.00,9,   2249.2,2,   1119.2,2,   2352.7,2,     7.59,2, -999.00,  -999.0, -999.00,  -999.0
    31DSCG96_1,  P15S,    71,  1,    112,   1217,2,19960129,0531,-47.9967,-170.0048, 5270,   -999,   2568.1,   2.0529,  34.7266,2,  34.7270,2,    188.4,2,  1.8650,    187.6,2,    87.93,2,    31.23,3,     0.00,2,     2.18,2,    0.058,2,    0.028,2,   -999.0,9,  -999.00,9,   2248.4,2,   1094.6,2,   2354.8,2,     7.61,2, -999.00,  -999.0, -999.00,  -999.0
    31DSCG96_1,  P15S,    71,  1,    111,   1114,2,19960129,0531,-47.9967,-170.0048, 5270,   -999,   2814.6,   1.8923,  34.7350,2,  34.7345,2,    192.6,2,  1.6845,    191.6,2,    92.46,2,    31.02,3,     0.00,2,     2.16,2,    0.043,2,    0.022,2,   -999.0,9,  -999.00,9,   2250.2,2,   1084.3,2,   2357.6,2,     7.61,2, -999.00,  -999.0, -999.00,  -999.0
    31DSCG96_1,  P15S,    71,  1,    110,   1301,2,19960129,0531,-47.9967,-170.0048, 5270,   -999,   3066.2,   1.6948,  34.7356,2,  34.7352,2,    195.4,2,  1.4670,    195.1,2,    98.41,2,    31.09,3,     0.00,2,     2.16,2,    0.025,2,    0.020,2,   -999.0,9,  -999.00,9,   2252.7,2,   1087.3,2,   2361.3,2,     7.61,2, -999.00,  -999.0, -999.00,  -999.0
    31DSCG96_1,  P15S,    71,  1,    109,   1242,2,19960129,0531,-47.9967,-170.0048, 5270,   -999,   3314.4,   1.5242,  34.7325,2,  34.7317,2,    198.7,2,  1.2758,    198.0,2,   103.48,2,    31.30,3,     0.00,2,     2.18,2,    0.023,2,    0.015,2,   -999.0,9,  -999.00,9,   2254.1,2,   1066.9,2,   2363.6,2,     7.61,3, -999.00,  -999.0, -999.00,  -999.0
    31DSCG96_1,  P15S,    71,  1,    108,   1263,2,19960129,0531,-47.9967,-170.0048, 5270,   -999,   3567.0,   1.3514,  34.7269,2,  34.7263,2,    201.0,2,  1.0819,    200.8,2,   108.60,2,    31.45,3,     0.00,2,     2.19,2,    0.029,2,    0.018,2,   -999.0,9,  -999.00,9,   2256.0,2,   1077.0,2,   2364.7,2,     7.61,2, -999.00,  -999.0, -999.00,  -999.0
    31DSCG96_1,  P15S,    71,  1,    107,   1245,2,19960129,0531,-47.9967,-170.0048, 5270,   -999,   3814.1,   1.1904,  34.7204,2,  34.7194,2,    203.7,2,  0.8996,    203.5,2,   113.39,2,    31.64,3,     0.00,2,     2.20,2,    0.029,2,    0.018,2,   -999.0,9,  -999.00,9,   2257.5,2,   1075.2,2,   2366.1,2,     7.61,3, -999.00,  -999.0, -999.00,  -999.0
    31DSCG96_1,  P15S,    71,  1,    106,   1262,2,19960129,0531,-47.9967,-170.0048, 5270,   -999,   4062.3,   1.0782,  34.7151,2,  34.7144,2,    206.1,2,  0.7643,    205.8,2,   116.97,2,    31.84,3,     0.00,2,     2.21,2,    0.038,2,    0.020,2,   -999.0,9,  -999.00,9,   2257.2,2,   1076.3,2,   2366.2,2,     7.61,2, -999.00,  -999.0, -999.00,  -999.0
    31DSCG96_1,  P15S,    71,  1,    105,   1113,2,19960129,0531,-47.9967,-170.0048, 5270,   -999,   4315.5,   0.9870,  34.7104,2,  34.7100,2,    207.9,2,  0.6483,    207.6,6,   120.11,2,    31.97,3,     0.00,2,     2.22,2,    0.046,2,    0.026,2,   -999.0,9,  -999.00,9,   2257.9,2,   1080.9,2,   2367.9,2,     7.61,2, -999.00,  -999.0, -999.00,  -999.0
    31DSCG96_1,  P15S,    71,  1,    104,   1003,2,19960129,0531,-47.9967,-170.0048, 5270,   -999,   4564.9,   0.9562,  34.7079,2,  34.7075,2,    208.4,2,  0.5906,    208.0,2,   121.72,2,    32.05,3,     0.00,2,     2.22,2,    0.052,6,    0.032,6,   -999.0,9,  -999.00,9,   2259.0,2,   1084.0,2,   2367.5,2,     7.61,2, -999.00,  -999.0, -999.00,  -999.0
    31DSCG96_1,  P15S,    71,  1,    103,   1216,2,19960129,0531,-47.9967,-170.0048, 5270,   -999,   4814.2,   0.9473,  34.7062,2,  34.7052,2,    209.4,2,  0.5534,    208.8,2,   122.86,2,    32.18,3,     0.00,2,     2.22,2,    0.063,2,    0.035,2,   -999.0,9,  -999.00,9,   2259.4,2,   1086.9,2,   2367.2,2,     7.61,2, -999.00,  -999.0, -999.00,  -999.0
    31DSCG96_1,  P15S,    71,  1,    102,   1030,2,19960129,0531,-47.9967,-170.0048, 5270,   -999,   5113.1,   0.9604,  34.7054,2,  34.7070,2,    209.6,2,  0.5307,    209.0,2,   123.60,2,    32.18,3,     0.00,2,     2.22,2,    0.071,2,    0.041,2,   -999.0,9,  -999.00,9,   2257.8,2,   1094.2,2,   2368.2,2,     7.61,2, -999.00,  -999.0, -999.00,  -999.0
    31DSCG96_1,  P15S,    71,  1,    101,   1022,2,19960129,0531,-47.9967,-170.0048, 5270,   -999,   5397.6,   0.9850,  34.7050,2,  34.7047,2,    209.4,2,  0.5198,    209.4,2,   123.98,6,    32.21,3,     0.00,6,     2.22,6,    0.080,2,    0.046,2,   -999.0,9,  -999.00,9,   2258.0,2,   1095.6,2,   2367.8,2,     7.61,2, -999.00,  -999.0, -999.00,  -999.0