BOTTLE,20220811CCHSIOAMB
EXPOCODE,SECT_ID,STNNBR,CASTNO,SAMPNO,BTLNBR,BTLNBR_FLAG_W,DATE,TIME,LATITUDE,LONGITUDE,DEPTH,CTDRAW,CTDPRS,CTDTMP,CTDSAL,CTDSAL_FLAG_W,SALNTY,SALNTY_FLAG_W,CTDOXY,CTDOXY_FLAG_W,THETA,OXYGEN,OXYGEN_FLAG_W,SILCAT,SILCAT_FLAG_W,NITRAT,NITRAT_FLAG_W,NITRIT,NITRIT_FLAG_W,PHSPHT,PHSPHT_FLAG_W,CFC-11,CFC-11_FLAG_W,CFC-12,CFC-12_FLAG_W,DELC14,DELC14_FLAG_W,DELC13,DELC13_FLAG_W,TCARBN,TCARBN_FLAG_W,PCO2,PCO2_FLAG_W,ALKALI,ALKALI_FLAG_W,PH,PH_FLAG_W,PCO2TMP,C14ERR,PH_TMP,C13ERR
,,,,,,,,,,,,DBAR,DBAR,ITS-90,PSS-78,,PSS-78,,UMOL/KG,,DEG C,UMOL/KG,,UMOL/KG,,UMOL/KG,,UMOL/KG,,UMOL/KG,,PMOL/KG,,PMOL/KG,,/MILLE,,/MILLE,,UMOL/KG,,UATM,,UMOL/KG,,,,DEG C,/MILLE,DEG C,/MILLE
    31DSCG96_1,  P14S,    21,  1,    124,    429,2,19960113,1958,-60.5057, 173.9628, 5028,   -999,      9.4,   3.5406,  33.8971,2,  33.8984,2,    325.3,2,  3.5400,    326.3,2,     1.12,2,    22.80,2,     0.25,2,     1.58,3, -999.000,5, -999.000,5,   -999.0,9,  -999.00,9,   -999.0,9,   -999.0,9,   -999.0,9,     7.79,2, -999.00,  -999.0, -999.00,  -999.0
    31DSCG96_1,  P14S,    21,  1,    123,    428,2,19960113,1958,-60.5057, 173.9628, 5028,   -999,     32.1,   3.5386,  33.8972,2,  33.8979,2,    325.3,2,  3.5365,    326.1,2,     1.08,2,    22.80,2,     0.26,2,     1.55,3,    5.509,6,    2.786,6,   -999.0,9,  -999.00,9,   -999.0,9,   -999.0,9,   -999.0,9,     7.79,2, -999.00,  -999.0, -999.00,  -999.0
    31DSCG96_1,  P14S,    21,  1,    122,    407,4,19960113,1958,-60.5057, 173.9628, 5028,   -999,     67.2,   3.5166,  33.8961,2,-999.0000,9,    325.4,2,  3.5123,   -999.0,9,  -999.00,9,  -999.00,9,  -999.00,9,  -999.00,9, -999.000,9, -999.000,9,   -999.0,9,  -999.00,9,   -999.0,9,   -999.0,9,   -999.0,9,  -999.00,9, -999.00,  -999.0, -999.00,  -999.0
    31DSCG96_1,  P14S,    21,  1,    121,    417,2,19960113,1958,-60.5057, 173.9628, 5028,   -999,    110.8,   2.3086,  33.9264,2,  33.9295,2,    317.3,2,  2.3027,    320.5,2,    11.30,2,    25.27,2,     0.22,2,     1.76,2, -999.000,5, -999.000,5,   -999.0,9,  -999.00,9,   -999.0,9,   -999.0,9,   -999.0,9,     7.73,2, -999.00,  -999.0, -999.00,  -999.0
    31DSCG96_1,  P14S,    21,  1,    120,    405,2,19960113,1958,-60.5057, 173.9628, 5028,   -999,    167.2,   2.0428,  33.9571,2,  33.9560,2,    319.6,2,  2.0340,    314.9,2,    16.57,2,    26.82,2,     0.24,2,     1.83,2,    5.385,2,    2.728,2,   -999.0,9,  -999.00,9,   -999.0,9,   -999.0,9,   -999.0,9,     7.71,2, -999.00,  -999.0, -999.00,  -999.0
    31DSCG96_1,  P14S,    21,  1,    119,    416,2,19960113,1958,-60.5057, 173.9628, 5028,   -999,    221.5,   2.2121,  34.0289,2,  34.0294,2,    300.4,2,  2.2001,    292.2,2,    22.93,2,    28.91,2,     0.02,2,     1.91,2,    4.846,2,    2.373,2,   -999.0,9,  -999.00,9,   -999.0,9,   -999.0,9,   -999.0,9,     7.68,2, -999.00,  -999.0, -999.00,  -999.0
    31DSCG96_1,  P14S,    21,  1,    118,    420,2,19960113,1958,-60.5057, 173.9628, 5028,   -999,    323.5,   2.5833,  34.1764,2,  34.1758,2,    248.9,2,  2.5644,    249.8,2,    34.02,2,    31.31,2,     0.01,2,     2.07,2,    3.371,2,    1.604,2,   -999.0,9,  -999.00,9,   -999.0,9,   -999.0,9,   -999.0,9,     7.64,2, -999.00,  -999.0, -999.00,  -999.0
    31DSCG96_1,  P14S,    21,  1,    117,    424,2,19960113,1958,-60.5057, 173.9628, 5028,   -999,    424.9,   2.5569,  34.2874,2,  34.2802,2,    217.2,2,  2.5317,    220.6,2,    45.55,2,    33.14,2,     0.00,2,     2.20,2,    2.258,2,    1.068,2,   -999.0,9,  -999.00,9,   -999.0,9,   -999.0,9,   -999.0,9,     7.60,2, -999.00,  -999.0, -999.00,  -999.0
    31DSCG96_1,  P14S,    21,  1,    116,    409,2,19960113,1958,-60.5057, 173.9628, 5028,   -999,    523.6,   2.6809,  34.3885,2,  34.3889,2,    194.4,2,  2.6488,    196.5,2,    55.67,2,    33.96,2,     0.00,2,     2.27,2,    1.198,2,    0.597,2,   -999.0,9,  -999.00,9,   -999.0,9,   -999.0,9,   -999.0,9,     7.58,2, -999.00,  -999.0, -999.00,  -999.0
    31DSCG96_1,  P14S,    21,  1,    115,    413,2,19960113,1958,-60.5057, 173.9628, 5028,   -999,    623.3,   2.4827,  34.4411,2,  34.4407,2,    186.5,2,  2.4448,    187.6,2,    62.66,2,    34.54,2,     0.00,2,     2.31,2,    0.968,2,    0.470,2,   -999.0,9,  -999.00,9,   -999.0,9,   -999.0,9,   -999.0,9,     7.57,2, -999.00,  -999.0, -999.00,  -999.0
    31DSCG96_1,  P14S,    21,  1,    114,    419,2,19960113,1958,-60.5057, 173.9628, 5028,   -999,    722.7,   2.4419,  34.5066,2,  34.5084,2,    178.8,2,  2.3976,    179.3,2,    68.60,2,    34.56,2,     0.00,2,     2.31,2,    0.624,2,    0.296,2,   -999.0,9,  -999.00,9,   -999.0,9,   -999.0,9,   -999.0,9,     7.56,2, -999.00,  -999.0, -999.00,  -999.0
    31DSCG96_1,  P14S,    21,  1,    113,    434,2,19960113,1958,-60.5057, 173.9628, 5028,   -999,    847.9,   2.3868,  34.5737,2,-999.0000,9,    175.0,2,  2.3343,    174.8,2,  -999.00,9,  -999.00,9,  -999.00,9,  -999.00,9,    0.396,2,    0.192,2,   -999.0,9,  -999.00,9,   -999.0,9,   -999.0,9,   -999.0,9,     7.56,2, -999.00,  -999.0, -999.00,  -999.0
    31DSCG96_1,  P14S,    21,  1,    112,    404,2,19960113,1958,-60.5057, 173.9628, 5028,   -999,   1101.0,   2.2888,  34.6581,2,  34.6586,2,    177.2,2,  2.2190,    178.0,2,    79.15,2,    32.97,2,     0.00,2,     2.20,2,    0.184,2,    0.094,2,   -999.0,9,  -999.00,9,   -999.0,9,   -999.0,9,   -999.0,9,     7.58,2, -999.00,  -999.0, -999.00,  -999.0
    31DSCG96_1,  P14S,    21,  1,    111,    427,2,19960113,1958,-60.5057, 173.9628, 5028,   -999,   1496.5,   2.0567,  34.7235,2,  34.7243,2,    186.2,2,  1.9597,    187.4,2,    85.65,2,    31.54,2,     0.00,2,     2.10,2,    0.101,2,    0.052,2,   -999.0,9,  -999.00,9,   -999.0,9,   -999.0,9,   -999.0,9,     7.60,2, -999.00,  -999.0, -999.00,  -999.0
    31DSCG96_1,  P14S,    21,  1,    110,    401,2,19960113,1958,-60.5057, 173.9628, 5028,   -999,   1901.8,   1.7823,  34.7400,2,  34.7414,2,    194.0,2,  1.6568,    194.5,2,    93.18,2,    31.16,2,     0.00,2,     2.07,2,    0.074,2,    0.034,2,   -999.0,9,  -999.00,9,   -999.0,9,   -999.0,9,   -999.0,9,     7.61,2, -999.00,  -999.0, -999.00,  -999.0
    31DSCG96_1,  P14S,    21,  1,    109,    435,2,19960113,1958,-60.5057, 173.9628, 5028,   -999,   2295.7,   1.4988,  34.7366,2,  34.7370,2,    198.8,2,  1.3452,    198.9,2,   101.50,2,    31.28,2,     0.00,2,     2.08,2,    0.090,4,    0.050,4,   -999.0,9,  -999.00,9,   -999.0,9,   -999.0,9,   -999.0,9,     7.61,2, -999.00,  -999.0, -999.00,  -999.0
    31DSCG96_1,  P14S,    21,  1,    108,    440,2,19960113,1958,-60.5057, 173.9628, 5028,   -999,   2695.2,   1.2164,  34.7258,2,  34.7263,2,    202.4,2,  1.0333,    202.6,2,   110.01,2,    31.68,2,     0.00,2,     2.11,2,    0.059,2,    0.021,2,   -999.0,9,  -999.00,9,   -999.0,9,   -999.0,9,   -999.0,9,     7.61,2, -999.00,  -999.0, -999.00,  -999.0
    31DSCG96_1,  P14S,    21,  1,    107,    436,2,19960113,1958,-60.5057, 173.9628, 5028,   -999,   3098.6,   1.0187,  34.7164,2,  34.7174,2,    205.8,2,  0.8031,    206.1,2,   116.21,2,    31.97,2,     0.00,2,     2.14,2,    0.081,2,    0.039,2,   -999.0,9,  -999.00,9,   -999.0,9,   -999.0,9,   -999.0,9,     7.60,2, -999.00,  -999.0, -999.00,  -999.0
    31DSCG96_1,  P14S,    21,  1,    106,    441,3,19960113,1958,-60.5057, 173.9628, 5028,   -999,   3502.0,   0.8673,  34.7094,2,  34.7085,2,    208.6,2,  0.6168,   -999.0,9,   121.20,2,    32.21,2,     0.00,2,     2.19,3,    0.088,2,    0.046,2,   -999.0,9,  -999.00,9,   -999.0,9,   -999.0,9,   -999.0,9,  -999.00,9, -999.00,  -999.0, -999.00,  -999.0
    31DSCG96_1,  P14S,    21,  1,    105,    423,2,19960113,1958,-60.5057, 173.9628, 5028,   -999,   3893.3,   0.8048,  34.7053,2,  34.7051,2,    210.3,2,  0.5165,    210.1,2,   124.31,2,    32.36,2,     0.00,2,     2.16,2,    0.111,2,    0.061,2,   -999.0,9,  -999.00,9,   -999.0,9,   -999.0,9,   -999.0,9,     7.61,2, -999.00,  -999.0, -999.00,  -999.0
    31DSCG96_1,  P14S,    21,  1,    104,    433,2,19960113,1958,-60.5057, 173.9628, 5028,   -999,   4301.1,   0.8014,  34.7039,2,  34.7034,2,    211.2,2,  0.4699,    210.3,2,   125.95,2,    32.42,2,     0.00,2,     2.17,2,    0.139,2,    0.061,3,   -999.0,9,  -999.00,9,   -999.0,9,   -999.0,9,   -999.0,9,     7.61,2, -999.00,  -999.0, -999.00,  -999.0
    31DSCG96_1,  P14S,    21,  1,    103,    439,4,19960113,1958,-60.5057, 173.9628, 5028,   -999,   4702.5,   0.8274,  34.7028,2,-999.0000,9,    212.5,2,  0.4503,   -999.0,9,  -999.00,9,  -999.00,9,  -999.00,9,  -999.00,9, -999.000,9, -999.000,9,   -999.0,9,  -999.00,9,   -999.0,9,   -999.0,9,   -999.0,9,  -999.00,9, -999.00,  -999.0, -999.00,  -999.0
    31DSCG96_1,  P14S,    21,  1,    102,    414,2,19960113,1958,-60.5057, 173.9628, 5028,   -999,   5002.0,   0.8548,  34.7029,2,  34.7026,2,    212.6,2,  0.4420,    210.1,2,   126.94,2,    32.43,2,     0.00,2,     2.17,2, -999.000,5, -999.000,5,   -999.0,9,  -999.00,9,   -999.0,9,   -999.0,9,   -999.0,9,     7.61,2, -999.00,  -999.0, -999.00,  -999.0
    31DSCG96_1,  P14S,    21,  1,    101,    406,2,19960113,1958,-60.5057, 173.9628, 5028,   -999,   5099.0,   0.8657,  34.7025,2,  34.7022,2,    213.1,2,  0.4410,    209.2,2,   127.02,6,    32.41,6,     0.00,6,     2.18,6,    0.159,2,    0.076,2,   -999.0,9,  -999.00,9,   -999.0,9,   -999.0,9,   -999.0,9,     7.61,2, -999.00,  -999.0, -999.00,  -999.0
    31DSCG96_1,  P14S,    22,  2,    224,    429,2,19960114,0257,-60.9855, 173.9808, 4712,   -999,      8.3,   3.6780,  33.9177,2,  33.9179,2,    316.8,2,  3.6774,    324.2,2,     1.15,2,    22.76,2,     0.24,2,     1.46,2, -999.000,9, -999.000,9,   -999.0,9,  -999.00,9,   2112.7,2,    660.0,6,   2283.5,2,     7.79,2, -999.00,  -999.0, -999.00,  -999.0
    31DSCG96_1,  P14S,    22,  2,    223,    428,2,19960114,0257,-60.9855, 173.9808, 4712,   -999,     19.8,   3.6679,  33.9176,2,  33.9175,2,    326.1,2,  3.6666,    325.0,2,     1.25,2,    22.74,2,     0.24,2,     1.45,2, -999.000,9, -999.000,9,   -999.0,9,  -999.00,9,   2111.8,2,    663.9,2,   2283.0,2,     7.79,2, -999.00,  -999.0, -999.00,  -999.0
    31DSCG96_1,  P14S,    22,  2,    222,    407,2,19960114,0257,-60.9855, 173.9808, 4712,   -999,     42.5,   3.6165,  33.9163,2,  33.9171,2,    325.4,2,  3.6137,    324.8,2,     1.23,2,    22.82,2,     0.24,2,  -999.00,5, -999.000,9, -999.000,9,   -999.0,9,  -999.00,9,   2110.8,2,    657.3,2,   2282.8,2,     7.79,2, -999.00,  -999.0, -999.00,  -999.0
    31DSCG96_1,  P14S,    22,  2,    221,    417,2,19960114,0257,-60.9855, 173.9808, 4712,   -999,     88.6,   3.4997,  33.9114,2,  33.9143,2,    324.2,2,  3.4940,    323.3,2,     1.57,2,    22.99,2,     0.24,2,     1.51,2, -999.000,9, -999.000,9,   -999.0,9,  -999.00,9,   2114.3,2,    662.1,2,   2279.9,2,     7.78,2, -999.00,  -999.0, -999.00,  -999.0
    31DSCG96_1,  P14S,    22,  2,    220,    405,2,19960114,0257,-60.9855, 173.9808, 4712,   -999,    137.7,   2.6971,  33.9707,2,  33.9712,2,    304.8,2,  2.6892,    309.6,2,    12.83,2,    26.01,2,     0.20,2,     1.80,2, -999.000,9, -999.000,9,   -999.0,9,  -999.00,9,   2140.1,2,    774.9,2,   2284.7,2,     7.72,2, -999.00,  -999.0, -999.00,  -999.0
    31DSCG96_1,  P14S,    22,  2,    219,    416,2,19960114,0257,-60.9855, 173.9808, 4712,   -999,    190.6,   2.5615,  34.0075,2,  34.0059,2,    304.0,2,  2.5506,    301.8,2,    17.36,2,    27.36,2,     0.20,2,     1.86,2, -999.000,9, -999.000,9,   -999.0,9,  -999.00,9,   2149.8,2,    828.6,2,   2284.6,2,     7.71,2, -999.00,  -999.0, -999.00,  -999.0
    31DSCG96_1,  P14S,    22,  2,    218,    420,2,19960114,0257,-60.9855, 173.9808, 4712,   -999,    276.7,   2.5420,  34.0686,2,  34.0681,2,    271.9,2,  2.5261,    284.5,2,    22.61,2,    28.78,2,     0.02,2,     1.93,2, -999.000,9, -999.000,9,   -999.0,9,  -999.00,9,   2159.2,2,    872.5,2,   2299.5,3,     7.68,2, -999.00,  -999.0, -999.00,  -999.0
    31DSCG96_1,  P14S,    22,  2,    217,    424,2,19960114,0257,-60.9855, 173.9808, 4712,   -999,    377.2,   2.7024,  34.2045,2,  34.2066,2,    240.3,2,  2.6797,    239.8,2,    36.08,2,    31.74,2,     0.00,2,     2.14,2, -999.000,9, -999.000,9,   -999.0,9,  -999.00,9,   2191.5,2,   1019.5,2,   2311.2,3,     7.63,2, -999.00,  -999.0, -999.00,  -999.0
    31DSCG96_1,  P14S,    22,  2,    216,    409,2,19960114,0257,-60.9855, 173.9808, 4712,   -999,    477.9,   2.6048,  34.3073,2,  34.3082,2,    214.4,2,  2.5760,    213.2,2,    48.06,2,    33.48,2,     0.01,2,     2.28,2, -999.000,9, -999.000,9,   -999.0,9,  -999.00,9,   2212.7,2,   1107.8,2,   2310.4,2,     7.59,2, -999.00,  -999.0, -999.00,  -999.0
    31DSCG96_1,  P14S,    22,  2,    215,    413,2,19960114,0257,-60.9855, 173.9808, 4712,   -999,    577.0,   2.5948,  34.3867,2,  34.3863,2,    197.8,2,  2.5596,    196.2,2,    56.47,2,    34.20,2,     0.00,2,     2.32,2, -999.000,9, -999.000,9,   -999.0,9,  -999.00,9,   2226.3,2,   1156.3,2,   2321.3,2,     7.58,2, -999.00,  -999.0, -999.00,  -999.0
    31DSCG96_1,  P14S,    22,  2,    214,    419,2,19960114,0257,-60.9855, 173.9808, 4712,   -999,    676.6,   2.5382,  34.4596,2,  34.4608,2,    186.2,2,  2.4966,    184.3,2,    63.98,2,    34.53,2,     0.01,2,     2.48,3, -999.000,9, -999.000,9,   -999.0,9,  -999.00,9,   2238.1,2,   1194.3,2,   2326.7,2,     7.57,2, -999.00,  -999.0, -999.00,  -999.0
    31DSCG96_1,  P14S,    22,  2,    213,    434,2,19960114,0257,-60.9855, 173.9808, 4712,   -999,    778.7,   2.4520,  34.5097,2,  34.5073,2,    179.0,2,  2.4039,    178.8,2,    68.68,2,    34.59,2,     0.00,2,     2.34,2, -999.000,9, -999.000,9,   -999.0,9,  -999.00,9,   2243.6,2,   1204.8,2,   2332.8,2,     7.56,2, -999.00,  -999.0, -999.00,  -999.0
    31DSCG96_1,  P14S,    22,  2,    212,    404,2,19960114,0257,-60.9855, 173.9808, 4712,   -999,    951.0,   2.3828,  34.5906,2,  34.5911,2,    175.2,2,  2.3230,    175.3,2,    74.75,2,    33.94,2,     0.01,2,     2.32,2, -999.000,9, -999.000,9,   -999.0,9,  -999.00,9,   2249.8,2,   1203.7,2,   2338.7,2,     7.57,2, -999.00,  -999.0, -999.00,  -999.0
    31DSCG96_1,  P14S,    22,  2,    211,    427,2,19960114,0257,-60.9855, 173.9808, 4712,   -999,   1152.5,   2.3004,  34.6549,2,  34.6560,2,    177.1,2,  2.2267,    177.7,2,    78.94,2,    33.00,2,     0.00,2,     2.23,2, -999.000,9, -999.000,9,   -999.0,9,  -999.00,9,   2249.0,2,   1173.1,2,   2345.9,2,     7.58,2, -999.00,  -999.0, -999.00,  -999.0
    31DSCG96_1,  P14S,    22,  2,    210,    401,2,19960114,0257,-60.9855, 173.9808, 4712,   -999,   1350.7,   2.1968,  34.6948,2,  34.6945,2,    181.2,2,  2.1094,    182.2,2,    82.02,2,    32.25,2,     0.00,2,     2.18,2, -999.000,9, -999.000,9,   -999.0,9,  -999.00,9,   2248.3,2,   1142.5,2,   2347.9,2,     7.59,2, -999.00,  -999.0, -999.00,  -999.0
    31DSCG96_1,  P14S,    22,  2,    209,    435,2,19960114,0257,-60.9855, 173.9808, 4712,   -999,   1697.3,   1.9923,  34.7310,2,  34.7321,2,    189.2,2,  1.8803,    188.8,2,    87.46,2,    31.39,2,     0.00,2,     2.11,2, -999.000,9, -999.000,9,   -999.0,9,  -999.00,9,   2247.4,2,   1118.2,2,   2353.9,2,     7.60,2, -999.00,  -999.0, -999.00,  -999.0
    31DSCG96_1,  P14S,    22,  2,    208,    440,2,19960114,0257,-60.9855, 173.9808, 4712,   -999,   2102.1,   1.6804,  34.7401,2,-999.0000,9,    195.5,2,  1.5400,    195.8,2,  -999.00,9,  -999.00,9,  -999.00,9,  -999.00,9, -999.000,9, -999.000,9,   -999.0,9,  -999.00,9,   2249.1,2,   1080.3,2,   2358.0,2,     7.61,2, -999.00,  -999.0, -999.00,  -999.0
    31DSCG96_1,  P14S,    22,  2,    207,    436,2,19960114,0257,-60.9855, 173.9808, 4712,   -999,   2499.3,   1.3762,  34.7323,2,  34.7326,2,    200.0,2,  1.2073,    200.6,2,   105.50,6,    31.56,6,     0.00,6,     2.13,2, -999.000,9, -999.000,9,   -999.0,9,  -999.00,9,   2252.4,2,   1076.3,2,   2363.9,2,     7.61,2, -999.00,  -999.0, -999.00,  -999.0
    31DSCG96_1,  P14S,    22,  2,    206,    441,3,19960114,0257,-60.9855, 173.9808, 4712,   -999,   2899.0,   1.1234,  34.7217,2,  34.7266,3,    203.4,2,  0.9240,    202.2,3,   110.16,6,    31.78,6,     0.00,6,     2.16,2, -999.000,9, -999.000,9,   -999.0,9,  -999.00,9,   2255.5,2,   1075.4,2,   2363.4,2,     7.61,2, -999.00,  -999.0, -999.00,  -999.0
    31DSCG96_1,  P14S,    22,  2,    205,    423,4,19960114,0257,-60.9855, 173.9808, 4712,   -999,   3300.8,   0.9497,  34.7132,2,-999.0000,9,    206.2,2,  0.7166,   -999.0,9,  -999.00,9,  -999.00,9,  -999.00,9,  -999.00,9, -999.000,9, -999.000,9,   -999.0,9,  -999.00,9,   -999.0,9,   -999.0,9,   -999.0,9,  -999.00,9, -999.00,  -999.0, -999.00,  -999.0
    31DSCG96_1,  P14S,    22,  2,    204,    433,2,19960114,0257,-60.9855, 173.9808, 4712,   -999,   3699.5,   0.8297,  34.7069,2,  34.7071,2,    209.7,2,  0.5605,    210.4,2,   123.06,6,    32.38,6,     0.00,6,     2.19,2, -999.000,9, -999.000,9,   -999.0,9,  -999.00,9,   2256.4,2,   1091.3,2,   2366.6,2,     7.61,2, -999.00,  -999.0, -999.00,  -999.0
    31DSCG96_1,  P14S,    22,  2,    203,    439,2,19960114,0257,-60.9855, 173.9808, 4712,   -999,   4105.0,   0.7936,  34.7043,2,  34.7046,2,    211.0,2,  0.4834,    210.5,2,   125.81,6,    32.48,6,     0.00,6,     2.19,2, -999.000,9, -999.000,9,   -999.0,9,  -999.00,9,   2256.9,2,   1093.7,2,   2364.6,2,     7.61,2, -999.00,  -999.0, -999.00,  -999.0
    31DSCG96_1,  P14S,    22,  2,    202,    414,2,19960114,0257,-60.9855, 173.9808, 4712,   -999,   4501.1,   0.8098,  34.7033,2,  34.7024,2,    211.8,2,  0.4561,    211.3,2,   126.52,6,    32.48,6,     0.00,6,  -999.00,5, -999.000,9, -999.000,9,   -999.0,9,  -999.00,9,   2257.4,2,   1093.1,2,   2366.5,2,     7.61,2, -999.00,  -999.0, -999.00,  -999.0
    31DSCG96_1,  P14S,    22,  2,    201,    406,2,19960114,0257,-60.9855, 173.9808, 4712,   -999,   4772.5,   0.8337,  34.7025,2,  34.7033,2,    211.5,2,  0.4484,    211.3,2,   127.16,6,    32.48,6,     0.00,6,     2.19,6, -999.000,9, -999.000,9,   -999.0,9,  -999.00,9,   2258.2,2,   1112.5,2,   2366.9,2,     7.61,2, -999.00,  -999.0, -999.00,  -999.0