BOTTLE,20220811CCHSIOAMB
EXPOCODE,SECT_ID,STNNBR,CASTNO,SAMPNO,BTLNBR,BTLNBR_FLAG_W,DATE,TIME,LATITUDE,LONGITUDE,DEPTH,CTDRAW,CTDPRS,CTDTMP,CTDSAL,CTDSAL_FLAG_W,SALNTY,SALNTY_FLAG_W,CTDOXY,CTDOXY_FLAG_W,THETA,OXYGEN,OXYGEN_FLAG_W,SILCAT,SILCAT_FLAG_W,NITRAT,NITRAT_FLAG_W,NITRIT,NITRIT_FLAG_W,PHSPHT,PHSPHT_FLAG_W,CFC-11,CFC-11_FLAG_W,CFC-12,CFC-12_FLAG_W,DELC14,DELC14_FLAG_W,DELC13,DELC13_FLAG_W,TCARBN,TCARBN_FLAG_W,PCO2,PCO2_FLAG_W,ALKALI,ALKALI_FLAG_W,PH,PH_FLAG_W,PCO2TMP,C14ERR,PH_TMP,C13ERR
,,,,,,,,,,,,DBAR,DBAR,ITS-90,PSS-78,,PSS-78,,UMOL/KG,,DEG C,UMOL/KG,,UMOL/KG,,UMOL/KG,,UMOL/KG,,UMOL/KG,,PMOL/KG,,PMOL/KG,,/MILLE,,/MILLE,,UMOL/KG,,UATM,,UMOL/KG,,,,DEG C,/MILLE,DEG C,/MILLE
    31DSCG96_1,  P14S,    29,  2,    231,   1042,2,19960116,0029,-63.9968, 171.1098, 2600,   -999,      9.4,   0.0620,  33.7388,2,  33.7408,2,    353.6,2,  0.0617,   -999.0,9,    56.28,2,    20.97,2,     0.15,2,     1.22,2, -999.000,9, -999.000,9,   -999.0,9,  -999.00,9,   -999.0,9,   -999.0,9,   -999.0,9,  -999.00,9, -999.00,  -999.0, -999.00,  -999.0
    31DSCG96_1,  P14S,    29,  2,    230,   1257,2,19960116,0029,-63.9968, 171.1098, 2600,   -999,      9.6,   0.0582,  33.7394,2,  33.7420,2,    356.1,2,  0.0579,    355.5,2,    56.17,2,    20.94,2,     0.15,2,     1.23,2,    6.445,6,    3.089,6,   -999.0,9,  -999.00,9,   2126.7,2,    667.0,2,   2293.8,2,     7.78,2, -999.00,  -999.0, -999.00,  -999.0
    31DSCG96_1,  P14S,    29,  2,    232,   1039,2,19960116,0029,-63.9968, 171.1098, 2600,   -999,      9.8,   0.0589,  33.7392,2,  33.7412,2,    356.1,2,  0.0586,   -999.0,9,    56.25,2,    20.93,2,     0.15,2,     1.21,2, -999.000,9, -999.000,9,   -999.0,9,  -999.00,9,   -999.0,9,   -999.0,9,   -999.0,9,  -999.00,9, -999.00,  -999.0, -999.00,  -999.0
    31DSCG96_1,  P14S,    29,  2,    233,   1221,2,19960116,0029,-63.9968, 171.1098, 2600,   -999,     10.5,   0.0586,  33.7387,2,  33.7416,2,    356.5,2,  0.0583,   -999.0,9,    56.22,2,    20.90,2,     0.15,2,     1.22,2, -999.000,9, -999.000,9,   -999.0,9,  -999.00,9,   -999.0,9,   -999.0,9,   -999.0,9,  -999.00,9, -999.00,  -999.0, -999.00,  -999.0
    31DSCG96_1,  P14S,    29,  2,    234,   1224,2,19960116,0029,-63.9968, 171.1098, 2600,   -999,     11.5,   0.0619,  33.7385,2,  33.7407,2,    356.5,2,  0.0615,   -999.0,9,    56.19,2,    20.92,2,     0.15,2,     1.21,2, -999.000,9, -999.000,9,   -999.0,9,  -999.00,9,   -999.0,9,   -999.0,9,   -999.0,9,  -999.00,9, -999.00,  -999.0, -999.00,  -999.0
    31DSCG96_1,  P14S,    29,  2,    229,   1256,2,19960116,0029,-63.9968, 171.1098, 2600,   -999,     30.0,   0.0584,  33.7399,2,  33.7420,2,    356.6,2,  0.0574,    355.5,2,    56.15,2,    20.94,2,     0.15,2,     1.23,2, -999.000,9, -999.000,9,   -999.0,9,  -999.00,9,   2124.8,2,    666.1,6,   2294.7,2,     7.78,3, -999.00,  -999.0, -999.00,  -999.0
    31DSCG96_1,  P14S,    29,  2,    228,   1007,2,19960116,0029,-63.9968, 171.1098, 2600,   -999,     55.1,  -0.9208,  33.9958,2,  33.9814,2,    343.8,2, -0.9222,    321.6,2,    64.39,2,    26.91,2,     0.12,2,     1.85,2,    5.201,2,    2.524,2,   -999.0,9,  -999.00,9,   2173.8,2,    872.9,3,   2305.0,2,     7.68,2, -999.00,  -999.0, -999.00,  -999.0
    31DSCG96_1,  P14S,    29,  2,    227,   1234,2,19960116,0029,-63.9968, 171.1098, 2600,   -999,     82.1,  -0.6461,  34.2945,2,  34.2920,2,    273.6,2, -0.6486,    268.7,2,    73.33,2,    31.51,2,     0.15,2,     2.19,2, -999.000,9, -999.000,9,   -999.0,9,  -999.00,9,   -999.0,9,   1078.0,2,   2318.9,2,     7.60,2, -999.00,  -999.0, -999.00,  -999.0
    31DSCG96_1,  P14S,    29,  2,    226,   1025,2,19960116,0029,-63.9968, 171.1098, 2600,   -999,    106.1,   0.1763,  34.4779,2,  34.4721,2,    245.4,2,  0.1723,    228.8,2,    79.42,2,    32.41,2,     0.17,2,     2.24,2,    2.385,2,    1.104,2,   -999.0,9,  -999.00,9,   -999.0,9,   -999.0,9,   -999.0,9,  -999.00,9, -999.00,  -999.0, -999.00,  -999.0
    31DSCG96_1,  P14S,    29,  2,    225,   1233,2,19960116,0029,-63.9968, 171.1098, 2600,   -999,    127.7,   0.6460,  34.5782,2,  34.5736,2,    217.0,2,  0.6406,    212.6,2,    83.04,2,    32.45,2,     0.06,2,     2.24,2, -999.000,9, -999.000,9,   -999.0,9,  -999.00,9,   2244.2,2,   1130.7,6,   2338.6,2,     7.57,2, -999.00,  -999.0, -999.00,  -999.0
    31DSCG96_1,  P14S,    29,  2,    224,   1218,2,19960116,0029,-63.9968, 171.1098, 2600,   -999,    157.9,   0.9939,  34.6190,2,  34.6213,2,    206.5,2,  0.9868,    201.8,2,    84.75,2,    32.58,2,     0.05,2,     2.26,2,    1.234,2,    0.569,2,   -999.0,9,  -999.00,9,   2247.5,2,   1170.7,2,   2341.8,2,     7.58,2, -999.00,  -999.0, -999.00,  -999.0
    31DSCG96_1,  P14S,    29,  2,    223,   1250,2,19960116,0029,-63.9968, 171.1098, 2600,   -999,    179.6,   1.1779,  34.6462,2,  34.6454,2,    201.5,2,  1.1695,    196.4,2,    85.63,2,    32.54,2,     0.04,2,     2.23,2, -999.000,9, -999.000,9,   -999.0,9,  -999.00,9,   2250.2,2,   1173.5,2,   2345.5,2,     7.58,2, -999.00,  -999.0, -999.00,  -999.0
    31DSCG96_1,  P14S,    29,  2,    222,   1109,2,19960116,0029,-63.9968, 171.1098, 2600,   -999,    202.9,   1.2229,  34.6603,2,  34.6597,2,    199.3,2,  1.2133,    198.2,2,    86.63,2,    32.28,2,     0.03,2,     2.21,2,    0.886,2,    0.413,2,   -999.0,9,  -999.00,9,   2248.6,2,   1145.6,2,   2346.3,2,     7.58,2, -999.00,  -999.0, -999.00,  -999.0
    31DSCG96_1,  P14S,    29,  2,    221,   1246,2,19960116,0029,-63.9968, 171.1098, 2600,   -999,    230.4,   1.2888,  34.6746,2,  34.6748,2,    198.0,2,  1.2777,    196.4,2,    87.61,2,    32.17,2,     0.02,2,     2.20,2, -999.000,9, -999.000,9,   -999.0,9,  -999.00,9,   2248.9,2,   1132.4,2,   2343.9,2,     7.58,2, -999.00,  -999.0, -999.00,  -999.0
    31DSCG96_1,  P14S,    29,  2,    220,   1209,2,19960116,0029,-63.9968, 171.1098, 2600,   -999,    269.6,   1.3297,  34.6838,2,  34.6840,2,    197.3,2,  1.3166,    196.1,2,    88.37,2,    32.03,2,     0.01,2,     2.20,2, -999.000,9, -999.000,9,   -999.0,9,  -999.00,9,   -999.0,9,   1116.8,2,   -999.0,9,     7.59,2, -999.00,  -999.0, -999.00,  -999.0
    31DSCG96_1,  P14S,    29,  2,    219,   1247,2,19960116,0029,-63.9968, 171.1098, 2600,   -999,    321.4,   1.3127,  34.6935,2,  34.6942,2,    196.4,2,  1.2970,    197.4,2,    89.87,2,    31.86,2,     0.01,2,     2.17,2,    0.613,2,    0.280,2,   -999.0,9,  -999.00,9,   2247.7,2,   1121.3,2,   2352.5,2,     7.59,2, -999.00,  -999.0, -999.00,  -999.0
    31DSCG96_1,  P14S,    29,  2,    218,   1222,2,19960116,0029,-63.9968, 171.1098, 2600,   -999,    358.3,   1.3329,  34.7036,2,  34.7030,2,    196.6,2,  1.3151,    197.4,2,    91.15,2,    31.71,2,     0.01,2,     2.16,2, -999.000,9, -999.000,9,   -999.0,9,  -999.00,9,   2248.4,2,   1109.7,2,   2350.2,2,     7.59,2, -999.00,  -999.0, -999.00,  -999.0
    31DSCG96_1,  P14S,    29,  2,    217,   1267,2,19960116,0029,-63.9968, 171.1098, 2600,   -999,    405.9,   1.3255,  34.7088,2,  34.7091,2,    197.8,2,  1.3052,    198.8,2,    92.44,2,    31.62,2,     0.01,2,     2.14,2,    0.474,2,    0.215,2,   -999.0,9,  -999.00,9,   2248.1,2,   1088.8,2,   2351.6,2,     7.60,2, -999.00,  -999.0, -999.00,  -999.0
    31DSCG96_1,  P14S,    29,  2,    216,   1211,2,19960116,0029,-63.9968, 171.1098, 2600,   -999,    466.2,   1.3193,  34.7148,2,  34.7145,2,    198.6,2,  1.2958,    198.6,2,    94.04,2,    31.57,2,     0.00,2,     2.14,2, -999.000,9, -999.000,9,   -999.0,9,  -999.00,9,   2249.5,2,   -999.0,9,   2352.9,2,     7.60,2, -999.00,  -999.0, -999.00,  -999.0
    31DSCG96_1,  P14S,    29,  2,    215,   1041,2,19960116,0029,-63.9968, 171.1098, 2600,   -999,    521.4,   1.2891,  34.7180,2,  34.7183,2,    199.2,2,  1.2627,    199.2,2,    95.76,2,    31.53,2,     0.00,2,     2.13,2,    0.362,2,    0.168,2,   -999.0,9,  -999.00,9,   2250.7,2,   1090.3,2,   2355.2,2,     7.60,2, -999.00,  -999.0, -999.00,  -999.0
    31DSCG96_1,  P14S,    29,  2,    214,   1017,2,19960116,0029,-63.9968, 171.1098, 2600,   -999,    565.0,   1.2698,  34.7208,2,  34.7211,2,    199.6,2,  1.2410,    200.0,6,    97.22,2,    31.48,2,     0.00,2,     2.12,2, -999.000,9, -999.000,9,   -999.0,9,  -999.00,9,   2250.0,2,   -999.0,9,   2355.8,2,     7.60,2, -999.00,  -999.0, -999.00,  -999.0
    31DSCG96_1,  P14S,    29,  2,    213,   1008,2,19960116,0029,-63.9968, 171.1098, 2600,   -999,    625.2,   1.2368,  34.7213,2,  34.7227,2,    199.9,2,  1.2048,    200.0,2,    98.68,2,    31.49,2,     0.00,2,     2.12,2,    0.299,2,    0.139,2,   -999.0,9,  -999.00,9,   2251.5,2,   1097.9,2,   2356.5,2,     7.60,2, -999.00,  -999.0, -999.00,  -999.0
    31DSCG96_1,  P14S,    29,  2,    212,   1217,2,19960116,0029,-63.9968, 171.1098, 2600,   -999,    729.0,   1.1775,  34.7225,2,  34.7224,2,    201.1,2,  1.1399,    201.6,2,   101.40,2,    31.54,2,     0.00,2,     2.15,4,    0.252,6,    0.116,6,   -999.0,9,  -999.00,9,   2250.9,2,   1109.4,2,   2358.3,2,     7.60,2, -999.00,  -999.0, -999.00,  -999.0
    31DSCG96_1,  P14S,    29,  2,    211,   1114,2,19960116,0029,-63.9968, 171.1098, 2600,   -999,    828.7,   1.1285,  34.7232,2,  34.7225,2,    201.9,2,  1.0854,   -999.0,9,   103.94,2,    31.62,2,     0.00,2,     2.18,4,    0.193,2,    0.087,2,   -999.0,9,  -999.00,9,   2252.0,2,   1081.4,2,   2359.7,2,     7.61,2, -999.00,  -999.0, -999.00,  -999.0
    31DSCG96_1,  P14S,    29,  2,    210,   1036,2,19960116,0029,-63.9968, 171.1098, 2600,   -999,    927.7,   1.0382,  34.7194,2,  34.7189,2,    202.5,2,  0.9899,    202.9,6,   106.80,2,    31.83,2,     0.00,2,     2.23,4,    0.183,2,    0.085,2,   -999.0,9,  -999.00,9,   2253.3,2,   1089.1,2,   2356.7,2,     7.60,2, -999.00,  -999.0, -999.00,  -999.0
    31DSCG96_1,  P14S,    29,  2,    209,   1216,2,19960116,0029,-63.9968, 171.1098, 2600,   -999,   1029.4,   0.9622,  34.7174,2,  34.7163,2,    203.6,2,  0.9083,   -999.0,9,   109.24,2,    31.80,2,     0.00,2,     2.17,2, -999.000,5, -999.000,5,   -999.0,9,  -999.00,9,   -999.0,9,   -999.0,9,   -999.0,9,  -999.00,9, -999.00,  -999.0, -999.00,  -999.0
    31DSCG96_1,  P14S,    29,  2,    208,   1263,2,19960116,0029,-63.9968, 171.1098, 2600,   -999,   1136.0,   0.8887,  34.7142,2,  34.7126,2,    204.7,2,  0.8289,    204.6,2,   111.87,2,    32.02,2,     0.00,2,     2.19,2,    0.151,2,    0.069,2,   -999.0,9,  -999.00,9,   2254.6,2,   1098.4,2,   2362.2,2,     7.61,2, -999.00,  -999.0, -999.00,  -999.0
    31DSCG96_1,  P14S,    29,  2,    207,   1245,2,19960116,0029,-63.9968, 171.1098, 2600,   -999,   1312.1,   0.7513,  34.7081,2,  34.7079,2,    206.4,2,  0.6817,    206.3,2,   116.33,2,    32.29,2,     0.00,2,     2.21,2,    0.135,2,    0.060,2,   -999.0,9,  -999.00,9,   2256.4,2,   1101.4,2,   -999.0,5,     7.60,2, -999.00,  -999.0, -999.00,  -999.0
    31DSCG96_1,  P14S,    29,  2,    206,   1262,2,19960116,0029,-63.9968, 171.1098, 2600,   -999,   1562.3,   0.6253,  34.7031,2,  34.7033,2,    208.8,2,  0.5407,    208.9,6,   120.45,2,    32.45,2,     0.00,2,     2.22,2,    0.150,2,    0.066,2,   -999.0,9,  -999.00,9,   2257.1,2,   1098.6,2,   2362.2,2,     7.60,2, -999.00,  -999.0, -999.00,  -999.0
    31DSCG96_1,  P14S,    29,  2,    205,   1113,2,19960116,0029,-63.9968, 171.1098, 2600,   -999,   1811.4,   0.5042,  34.6980,2,  34.6976,2,    211.1,2,  0.4041,    211.4,2,   122.85,2,    32.55,2,     0.00,2,     2.24,2,    0.212,2,    0.101,2,   -999.0,9,  -999.00,9,   2257.9,2,   1105.3,2,   2362.1,2,     7.60,2, -999.00,  -999.0, -999.00,  -999.0
    31DSCG96_1,  P14S,    29,  2,    204,   1003,2,19960116,0029,-63.9968, 171.1098, 2600,   -999,   2061.1,   0.3871,  34.6941,2,  34.6929,2,    213.5,2,  0.2707,    213.5,2,   123.53,2,    32.64,2,     0.00,2,     2.29,4,    0.284,2,    0.135,2,   -999.0,9,  -999.00,9,   2256.0,2,   1114.9,2,   2361.9,2,     7.60,2, -999.00,  -999.0, -999.00,  -999.0
    31DSCG96_1,  P14S,    29,  2,    202,   1027,2,19960116,0029,-63.9968, 171.1098, 2600,   -999,   2312.0,   0.2958,  34.6925,2,  34.6921,2,    216.5,2,  0.1622,    216.6,2,   123.86,2,    32.59,2,     0.00,2,     2.29,4,    0.407,2,    0.187,2,   -999.0,9,  -999.00,9,   -999.0,9,   -999.0,9,   -999.0,9,     7.60,2, -999.00,  -999.0, -999.00,  -999.0
    31DSCG96_1,  P14S,    29,  2,    203,   9999,2,19960116,0029,-63.9968, 171.1098, 2600,   -999,   2313.1,   0.2952,  34.6929,2,  34.6917,2,    216.4,2,  0.1615,    217.0,6,   123.76,2,    32.61,2,     0.00,2,     2.49,4,    0.404,2,    0.189,2,   -999.0,9,  -999.00,9,   2256.6,2,   1114.0,2,   2362.7,2,     7.60,2, -999.00,  -999.0, -999.00,  -999.0
    31DSCG96_1,  P14S,    29,  2,    201,   1022,2,19960116,0029,-63.9968, 171.1098, 2600,   -999,   2532.0,   0.2447,  34.6918,2,  34.6908,2,    217.9,2,  0.0947,    219.3,2,   123.22,6,    32.55,6,     0.00,6,     2.29,4,    0.500,6,    0.229,6,   -999.0,9,  -999.00,9,   2256.5,2,   1121.3,2,   2361.3,2,     7.60,2, -999.00,  -999.0, -999.00,  -999.0