BOTTLE,20220811CCHSIOAMB
EXPOCODE,SECT_ID,STNNBR,CASTNO,SAMPNO,BTLNBR,BTLNBR_FLAG_W,DATE,TIME,LATITUDE,LONGITUDE,DEPTH,CTDRAW,CTDPRS,CTDTMP,CTDSAL,CTDSAL_FLAG_W,SALNTY,SALNTY_FLAG_W,CTDOXY,CTDOXY_FLAG_W,THETA,OXYGEN,OXYGEN_FLAG_W,SILCAT,SILCAT_FLAG_W,NITRAT,NITRAT_FLAG_W,NITRIT,NITRIT_FLAG_W,PHSPHT,PHSPHT_FLAG_W,CFC-11,CFC-11_FLAG_W,CFC-12,CFC-12_FLAG_W,DELC14,DELC14_FLAG_W,DELC13,DELC13_FLAG_W,TCARBN,TCARBN_FLAG_W,PCO2,PCO2_FLAG_W,ALKALI,ALKALI_FLAG_W,PH,PH_FLAG_W,PCO2TMP,C14ERR,PH_TMP,C13ERR
,,,,,,,,,,,,DBAR,DBAR,ITS-90,PSS-78,,PSS-78,,UMOL/KG,,DEG C,UMOL/KG,,UMOL/KG,,UMOL/KG,,UMOL/KG,,UMOL/KG,,PMOL/KG,,PMOL/KG,,/MILLE,,/MILLE,,UMOL/KG,,UATM,,UMOL/KG,,,,DEG C,/MILLE,DEG C,/MILLE
    31DSCG96_2,  P15S,   110,  2,    236,   1245,2,19960218,0119,-33.4990,-170.0008, 5387,   -999,      2.9,  21.5909,  35.5552,2,  35.5570,2,    223.9,2, 21.5903,    221.4,2,     1.18,2,     0.01,2,     0.00,2,     0.09,2,    2.182,2,    1.209,2,     81.1,2,  -999.00,9,   2034.7,2,    348.0,2,   2334.8,2,     8.02,2, -999.00,     2.8, -999.00,  -999.0
    31DSCG96_2,  P15S,   110,  2,    235,   1113,2,19960218,0119,-33.4990,-170.0008, 5387,   -999,     19.5,  21.3927,  35.5494,2,  35.5490,2,    219.0,2, 21.3890,    221.6,2,     1.20,2,     0.01,2,     0.00,2,     0.10,2, -999.000,9, -999.000,9,   -999.0,9,  -999.00,9,   2035.4,2,    348.8,2,   2333.1,2,     8.02,2, -999.00,  -999.0, -999.00,  -999.0
    31DSCG96_2,  P15S,   110,  2,    234,   1216,2,19960218,0119,-33.4990,-170.0008, 5387,   -999,     44.6,  20.1116,  35.6224,2,  35.6264,2,    228.8,2, 20.1034,    233.3,2,     1.22,2,     0.01,2,     0.00,2,     0.10,2,    2.355,6,    1.274,6,   -999.0,9,  -999.00,9,   2036.4,2,    343.8,2,   2338.8,2,     8.02,2, -999.00,  -999.0, -999.00,  -999.0
    31DSCG96_2,  P15S,   110,  2,    233,   1221,2,19960218,0119,-33.4990,-170.0008, 5387,   -999,     69.3,  17.6485,  35.4967,2,  35.5029,2,    255.0,2, 17.6368,    255.0,2,     1.39,2,     0.01,2,     0.00,2,     0.12,2,    2.645,2,    1.415,2,   -999.0,9,  -999.00,9,   2035.8,2,    354.0,2,   2330.7,2,     8.02,2, -999.00,  -999.0, -999.00,  -999.0
    31DSCG96_2,  P15S,   110,  2,    232,   1039,2,19960218,0119,-33.4990,-170.0008, 5387,   -999,     95.7,  15.2980,  35.4279,2,  35.4331,2,    240.3,2, 15.2833,    243.7,2,     1.48,2,     0.28,2,     0.03,2,     0.21,2,    2.771,2,    1.463,2,   -999.0,9,  -999.00,9,   2058.6,2,    399.8,2,   2330.1,2,     7.97,2, -999.00,  -999.0, -999.00,  -999.0
    31DSCG96_2,  P15S,   110,  2,    231,   1014,2,19960218,0119,-33.4990,-170.0008, 5387,   -999,    140.4,  14.6227,  35.3528,2,  35.3526,2,    225.3,2, 14.6018,    224.7,2,     2.01,2,     4.26,2,     0.03,2,     0.40,2,    2.771,2,    1.449,2,   -999.0,9,  -999.00,9,   2073.7,2,    447.4,2,   2321.2,2,     7.93,2, -999.00,  -999.0, -999.00,  -999.0
    31DSCG96_2,  P15S,   110,  2,    230,   1257,2,19960218,0119,-33.4990,-170.0008, 5387,   -999,    190.3,  13.5354,  35.2046,2,  35.2033,2,    211.7,2, 13.5085,    210.6,2,     2.97,2,     7.96,2,     0.01,2,     0.62,2,    2.653,2,    1.376,2,   -999.0,9,  -999.00,9,   2091.9,2,    506.4,2,   2315.7,2,     7.88,2, -999.00,  -999.0, -999.00,  -999.0
    31DSCG96_2,  P15S,   110,  2,    229,   1256,2,19960218,0119,-33.4990,-170.0008, 5387,   -999,    241.1,  12.2695,  35.0435,2,  35.0447,2,    203.0,2, 12.2375,    217.1,4,     3.84,2,    11.19,2,     0.01,2,     0.81,2,    2.571,2,    1.311,2,   -999.0,9,  -999.00,9,   2106.7,2,    576.5,2,   2306.7,2,     7.84,2, -999.00,  -999.0, -999.00,  -999.0
    31DSCG96_2,  P15S,   110,  2,    228,   1007,2,19960218,0119,-33.4990,-170.0008, 5387,   -999,    293.1,  11.2234,  34.9030,2,  34.9064,2,    202.6,2, 11.1867,    200.7,2,     4.73,2,    14.08,2,     0.00,2,     1.00,2,    2.276,2,    1.160,2,   -999.0,9,  -999.00,9,   2117.3,2,    624.5,2,   2302.2,2,     7.81,2, -999.00,  -999.0, -999.00,  -999.0
    31DSCG96_2,  P15S,   110,  2,    227,   1232,2,19960218,0119,-33.4990,-170.0008, 5387,   -999,    374.7,   9.6592,  34.7018,2,  34.7026,2,    201.4,2,  9.6164,    202.1,6,     5.82,2,    17.65,2,     0.00,2,     1.22,2,    1.930,2,    0.949,2,   -999.0,9,  -999.00,9,   2127.6,2,    696.2,2,   2292.5,2,     7.77,2, -999.00,  -999.0, -999.00,  -999.0
    31DSCG96_2,  P15S,   110,  2,    226,   1025,2,19960218,0119,-33.4990,-170.0008, 5387,   -999,    475.9,   8.3437,  34.5496,2,  34.5489,2,    215.9,2,  8.2938,    214.4,2,     6.72,2,    20.13,2,     0.00,2,     1.38,2,    1.755,2,    0.857,2,   -999.0,9,  -999.00,9,   2132.0,2,    738.3,2,   2289.4,2,     7.74,2, -999.00,  -999.0, -999.00,  -999.0
    31DSCG96_2,  P15S,   110,  2,    225,   1233,2,19960218,0119,-33.4990,-170.0008, 5387,   -999,    574.9,   7.5601,  34.4693,2,  34.4689,2,    224.2,2,  7.5028,    224.6,2,     7.65,2,    21.60,2,     0.00,2,     1.47,2, -999.000,5, -999.000,5,   -999.0,9,  -999.00,9,   2133.2,2,    742.6,2,   2284.6,2,     7.74,2, -999.00,  -999.0, -999.00,  -999.0
    31DSCG96_2,  P15S,   110,  2,    224,   1013,2,19960218,0119,-33.4990,-170.0008, 5387,   -999,    676.5,   6.9815,  34.4176,2,  34.4180,2,    225.7,2,  6.9167,    231.2,2,     9.31,2,    22.99,2,     0.00,2,     1.56,2,    1.046,2,    0.544,2,   -999.0,9,  -999.00,9,   2136.5,2,    764.5,2,   2288.1,2,     7.73,2, -999.00,  -999.0, -999.00,  -999.0
    31DSCG96_2,  P15S,   110,  2,    223,   1250,2,19960218,0119,-33.4990,-170.0008, 5387,   -999,    773.3,   6.4541,  34.3781,2,  34.3777,2,    223.3,2,  6.3826,    225.1,2,    11.73,2,    24.54,2,     0.00,2,     1.66,2,    0.671,2,    0.351,2,   -999.0,9,  -999.00,9,   2142.7,2,    792.9,2,   2284.7,2,     7.72,2, -999.00,  -999.0, -999.00,  -999.0
    31DSCG96_2,  P15S,   110,  2,    222,   1265,2,19960218,0119,-33.4990,-170.0008, 5387,   -999,    873.9,   5.8991,  34.3478,2,  34.3483,2,    215.9,2,  5.8214,    219.5,2,    15.82,2,    26.40,2,     0.00,2,     1.80,2,    0.407,2,    0.225,2,   -999.0,9,  -999.00,9,   2151.6,2,    834.1,2,   2289.5,2,     7.70,2, -999.00,  -999.0, -999.00,  -999.0
    31DSCG96_2,  P15S,   110,  2,    221,   1246,2,19960218,0119,-33.4990,-170.0008, 5387,   -999,    974.3,   5.3544,  34.3481,2,  34.3486,2,    205.1,2,  5.2710,    205.9,2,    23.15,2,    28.61,2,     0.00,2,     1.94,2,    0.243,2,    0.134,2,   -999.0,9,  -999.00,9,   2170.8,2,    915.0,2,   2294.8,2,     7.67,2, -999.00,  -999.0, -999.00,  -999.0
    31DSCG96_2,  P15S,   110,  2,    220,   1015,2,19960218,0119,-33.4990,-170.0008, 5387,   -999,   1076.5,   4.6918,  34.3582,2,  34.3580,2,    195.3,2,  4.6042,    196.6,2,    32.24,2,    30.63,2,     0.00,2,     2.08,2,    0.134,2,    0.075,2,   -999.0,9,  -999.00,9,   2187.5,2,    994.9,2,   2301.3,2,     7.64,2, -999.00,  -999.0, -999.00,  -999.0
    31DSCG96_2,  P15S,   110,  2,    219,   1247,2,19960218,0119,-33.4990,-170.0008, 5387,   -999,   1217.1,   3.9194,  34.3781,2,  34.3794,2,    185.0,2,  3.8263,    187.1,6,    43.94,2,    32.56,2,     0.00,2,     2.22,2,    0.047,2,    0.030,2,   -999.0,9,  -999.00,9,   2209.1,2,   1052.9,2,   2308.6,2,     7.61,2, -999.00,  -999.0, -999.00,  -999.0
    31DSCG96_2,  P15S,   110,  2,    218,   1222,2,19960218,0119,-33.4990,-170.0008, 5387,   -999,   1440.5,   3.1598,  34.4917,2,  34.4929,2,    166.6,2,  3.0553,    167.4,2,    69.55,2,    34.18,2,     0.00,2,     2.35,2,    0.011,2,    0.009,2,   -999.0,9,  -999.00,9,   2245.1,2,   1141.9,2,   2334.4,2,     7.58,2, -999.00,  -999.0, -999.00,  -999.0
    31DSCG96_2,  P15S,   110,  2,    217,   1267,2,19960218,0119,-33.4990,-170.0008, 5387,   -999,   1688.2,   2.6609,  34.5760,2,  34.5769,2,    155.9,2,  2.5414,    157.4,2,    92.22,2,    35.01,2,     0.00,2,     2.42,2,    0.001,2,    0.003,2,   -999.0,9,  -999.00,9,   2273.0,2,   1185.0,2,   2362.3,2,     7.57,2, -999.00,  -999.0, -999.00,  -999.0
    31DSCG96_2,  P15S,   110,  2,    216,   1211,3,19960218,0119,-33.4990,-170.0008, 5387,   -999,   1939.3,   2.3868,  34.6151,2,-999.0000,9,    150.3,2,  2.2497,   -999.0,9,  -999.00,9,  -999.00,9,  -999.00,9,  -999.00,9,    0.004,2,    0.006,2,   -999.0,9,  -999.00,9,   -999.0,9,   -999.0,9,   -999.0,9,  -999.00,9, -999.00,  -999.0, -999.00,  -999.0
    31DSCG96_2,  P15S,   110,  2,    215,   1041,2,19960218,0119,-33.4990,-170.0008, 5387,   -999,   2191.1,   2.2183,  34.6328,2,  34.6330,2,    147.7,2,  2.0620,    148.2,6,   115.14,2,    35.84,2,     0.00,2,     2.48,2,   -0.001,2,    0.003,2,   -999.0,9,  -999.00,9,   2300.3,2,   1213.4,2,   -999.0,9,     7.57,2, -999.00,  -999.0, -999.00,  -999.0
    31DSCG96_2,  P15S,   110,  2,    214,   1017,2,19960218,0119,-33.4990,-170.0008, 5387,   -999,   2438.2,   2.0768,  34.6465,2,  34.6460,2,    147.3,2,  1.9007,    148.2,2,   121.21,2,    35.99,2,     0.00,2,     2.50,2,    0.000,2,    0.002,2,   -999.0,9,  -999.00,9,   2307.3,2,   1222.9,2,   2402.0,2,     7.57,2, -999.00,  -999.0, -999.00,  -999.0
    31DSCG96_2,  P15S,   110,  2,    213,   1302,2,19960218,0119,-33.4990,-170.0008, 5387,   -999,   2690.1,   1.9565,  34.6579,2,  34.6580,2,    148.1,2,  1.7595,    147.9,2,   125.14,2,    35.97,2,     0.00,2,     2.49,2,   -0.001,2,    0.003,2,   -999.0,9,  -999.00,9,   2310.4,2,   1216.2,2,   2404.4,2,     7.57,2, -999.00,  -999.0, -999.00,  -999.0
    31DSCG96_2,  P15S,   110,  2,    212,   1217,2,19960218,0119,-33.4990,-170.0008, 5387,   -999,   2940.5,   1.8419,  34.6701,2,  34.6712,2,    151.7,2,  1.6233,    153.5,6,   126.78,2,    35.63,2,     0.00,2,     2.46,2,    0.001,2,    0.009,3,   -999.0,9,  -999.00,9,   2306.0,2,   1204.0,2,   2405.2,2,     7.58,2, -999.00,  -999.0, -999.00,  -999.0
    31DSCG96_2,  P15S,   110,  2,    211,   1114,2,19960218,0119,-33.4990,-170.0008, 5387,   -999,   3190.9,   1.7314,  34.6869,2,  34.6869,2,    163.1,2,  1.4907,    165.2,2,   122.78,2,    34.70,2,     0.00,2,     2.39,2,    0.000,2,    0.004,2,   -999.0,9,  -999.00,9,   2294.9,2,   1185.5,2,   2393.8,2,     7.58,2, -999.00,  -999.0, -999.00,  -999.0
    31DSCG96_2,  P15S,   110,  2,    210,   1301,2,19960218,0119,-33.4990,-170.0008, 5387,   -999,   3442.3,   1.6372,  34.7097,2,  34.7091,2,    180.2,2,  1.3733,    182.0,2,   112.07,2,    32.96,2,     0.00,2,     2.26,2,    0.004,2,    0.002,2,   -999.0,9,  -999.00,9,   2270.2,2,   1134.6,2,   2377.2,2,     7.60,2, -999.00,  -999.0, -999.00,  -999.0
    31DSCG96_2,  P15S,   110,  2,    209,   1119,2,19960218,0119,-33.4990,-170.0008, 5387,   -999,   3686.8,   1.4736,  34.7195,2,  34.7198,2,    192.5,2,  1.1885,    193.7,2,   109.74,2,    32.19,2,     0.00,2,     2.20,2,    0.004,2,    0.004,2,   -999.0,9,  -999.00,9,   2260.3,2,   1084.2,2,   2364.9,2,     7.61,2, -999.00,  -999.0, -999.00,  -999.0
    31DSCG96_2,  P15S,   110,  2,    208,   1227,2,19960218,0119,-33.4990,-170.0008, 5387,   -999,   3737.4,   1.4402,  34.7201,2,  34.7203,2,    194.2,2,  1.1507,    195.4,2,   109.85,2,    32.11,2,     0.00,2,     2.19,2,    0.005,2,    0.004,2,   -999.0,9,  -999.00,9,   2259.9,2,   1083.6,2,   2371.5,2,     7.61,2, -999.00,  -999.0, -999.00,  -999.0
    31DSCG96_2,  P15S,   110,  2,    207,   1263,2,19960218,0119,-33.4990,-170.0008, 5387,   -999,   4190.0,   1.1257,  34.7148,2,  34.7158,2,    203.3,2,  0.7966,    204.8,2,   116.44,2,    32.07,2,     0.00,2,     2.19,2,    0.007,2,    0.004,2,   -999.0,9,  -999.00,9,   2258.1,2,   1080.9,2,   2366.8,2,     7.61,2, -999.00,  -999.0, -999.00,  -999.0
    31DSCG96_2,  P15S,   110,  2,    206,   1262,2,19960218,0119,-33.4990,-170.0008, 5387,   -999,   4440.1,   1.0394,  34.7110,2,  34.7108,2,    205.1,2,  0.6852,    205.9,2,   119.37,2,    32.20,2,     0.00,2,     2.19,2,    0.011,2,    0.007,2,   -999.0,9,  -999.00,9,   2258.9,2,   1079.6,2,   2369.3,2,     7.61,2, -999.00,  -999.0, -999.00,  -999.0
    31DSCG96_2,  P15S,   110,  2,    205,   1264,2,19960218,0119,-33.4990,-170.0008, 5387,   -999,   4691.7,   1.0100,  34.7086,2,  34.7097,2,    206.1,2,  0.6282,    207.1,2,   120.94,2,    32.25,2,     0.00,2,     2.20,2,    0.017,2,    0.010,2,   -999.0,9,  -999.00,9,   2258.8,2,   1080.9,2,   2365.8,2,     7.61,2, -999.00,  -999.0, -999.00,  -999.0
    31DSCG96_2,  P15S,   110,  2,    204,   1003,2,19960218,0119,-33.4990,-170.0008, 5387,   -999,   4938.8,   1.0181,  34.7080,2,  34.7080,2,    206.2,2,  0.6073,    207.4,2,   121.61,2,    32.24,2,     0.00,2,     2.20,2,    0.020,2,    0.012,2,   -999.0,9,  -999.00,9,   2259.3,2,   1085.8,2,   2370.0,2,     7.61,2, -999.00,  -999.0, -999.00,  -999.0
    31DSCG96_2,  P15S,   110,  2,    203,    999,2,19960218,0119,-33.4990,-170.0008, 5387,   -999,   5191.2,   1.0389,  34.7072,2,  34.7079,2,    206.7,2,  0.5971,    206.1,2,   121.76,2,    32.28,2,     0.00,2,     2.20,2,    0.014,2,    0.004,2,   -999.0,9,  -999.00,9,   2258.7,2,   1076.1,2,   2368.3,2,     7.61,2, -999.00,  -999.0, -999.00,  -999.0
    31DSCG96_2,  P15S,   110,  2,    202,   1030,2,19960218,0119,-33.4990,-170.0008, 5387,   -999,   5472.7,   1.0702,  34.7069,2,  34.7082,2,    207.0,2,  0.5925,    207.0,2,   121.92,2,    32.28,2,     0.00,2,     2.21,2,    0.016,6,    0.012,6,   -999.0,9,  -999.00,9,   2259.3,2,   1078.6,2,   2371.3,2,     7.61,2, -999.00,  -999.0, -999.00,  -999.0
    31DSCG96_2,  P15S,   110,  2,    201,   1022,2,19960218,0119,-33.4990,-170.0008, 5387,   -999,   5507.3,   1.0747,  34.7068,2,  34.7085,2,    206.8,2,  0.5926,    207.3,2,   122.00,2,    32.28,6,     0.00,6,     2.21,2,    0.018,2,    0.014,2,   -999.0,9,  -999.00,9,   2260.1,2,   1090.7,2,   2370.8,2,     7.61,2, -999.00,  -999.0, -999.00,  -999.0