BOTTLE,20220811CCHSIOAMB
EXPOCODE,SECT_ID,STNNBR,CASTNO,SAMPNO,BTLNBR,BTLNBR_FLAG_W,DATE,TIME,LATITUDE,LONGITUDE,DEPTH,CTDRAW,CTDPRS,CTDTMP,CTDSAL,CTDSAL_FLAG_W,SALNTY,SALNTY_FLAG_W,CTDOXY,CTDOXY_FLAG_W,THETA,OXYGEN,OXYGEN_FLAG_W,SILCAT,SILCAT_FLAG_W,NITRAT,NITRAT_FLAG_W,NITRIT,NITRIT_FLAG_W,PHSPHT,PHSPHT_FLAG_W,CFC-11,CFC-11_FLAG_W,CFC-12,CFC-12_FLAG_W,DELC14,DELC14_FLAG_W,DELC13,DELC13_FLAG_W,TCARBN,TCARBN_FLAG_W,PCO2,PCO2_FLAG_W,ALKALI,ALKALI_FLAG_W,PH,PH_FLAG_W,PCO2TMP,C14ERR,PH_TMP,C13ERR
,,,,,,,,,,,,DBAR,DBAR,ITS-90,PSS-78,,PSS-78,,UMOL/KG,,DEG C,UMOL/KG,,UMOL/KG,,UMOL/KG,,UMOL/KG,,UMOL/KG,,PMOL/KG,,PMOL/KG,,/MILLE,,/MILLE,,UMOL/KG,,UATM,,UMOL/KG,,,,DEG C,/MILLE,DEG C,/MILLE
    31DSCG96_2,  P15S,   122,  1,    136,   1245,2,19960221,0600,-27.5023,-170.0015, 5318,   -999,      4.1,  24.0430,  35.7851,2,  35.7835,2,    209.8,2, 24.0422,    212.2,6,     1.12,2,     0.07,2,     0.00,2,     0.02,3,    1.941,2,    1.093,2,   -999.0,5,     1.39,2,   2005.0,2,    285.6,2,   2346.1,2,     8.08,2, -999.00,  -999.0, -999.00,  -999.0
    31DSCG96_2,  P15S,   122,  1,    135,   1113,2,19960221,0600,-27.5023,-170.0015, 5318,   -999,     19.8,  24.0115,  35.7800,2,  35.7800,2,    211.2,2, 24.0074,    212.2,2,     1.13,2,     0.05,2,     0.00,2,     0.03,3,    1.952,2,    1.098,2,     97.6,2,     1.37,2,   2005.4,2,    285.2,2,   2346.1,2,     8.09,2, -999.00,     3.9, -999.00,  -999.0
    31DSCG96_2,  P15S,   122,  1,    134,   1216,2,19960221,0600,-27.5023,-170.0015, 5318,   -999,     46.6,  22.0109,  35.8159,2,  35.8159,2,    222.9,2, 22.0017,    225.9,2,     1.13,2,     0.06,2,     0.00,2,     0.06,2,    2.175,2,    1.196,2,     88.1,2,     1.39,2,   2023.3,2,    312.8,2,   2348.6,2,     8.06,2, -999.00,     4.1, -999.00,  -999.0
    31DSCG96_2,  P15S,   122,  1,    133,   1221,2,19960221,0600,-27.5023,-170.0015, 5318,   -999,     75.9,  18.4828,  35.7062,2,  35.7080,2,    233.9,2, 18.4695,    240.3,2,     1.32,2,     0.06,2,     0.01,2,     0.11,2,    2.425,2,    1.307,2,     96.5,2,     1.39,2,   2030.1,2,    328.6,2,   2340.1,2,     8.04,2, -999.00,     4.2, -999.00,  -999.0
    31DSCG96_2,  P15S,   122,  1,    132,   1039,2,19960221,0600,-27.5023,-170.0015, 5318,   -999,     96.3,  17.8017,  35.6773,2,  35.6800,2,    215.7,2, 17.7853,    230.1,2,     1.30,2,     0.04,2,     0.01,2,     0.14,2,    2.424,6,    1.302,6,     81.9,2,     1.30,2,   2043.2,2,    355.6,2,   2340.0,2,     8.01,2, -999.00,     4.5, -999.00,  -999.0
    31DSCG96_2,  P15S,   122,  1,    131,   1014,2,19960221,0600,-27.5023,-170.0015, 5318,   -999,    139.7,  16.9207,  35.6246,2,  35.6273,2,    209.1,2, 16.8976,    212.2,2,     1.83,2,     3.19,2,     0.03,2,     0.32,2,    2.459,2,    1.312,2,     88.1,2,     1.14,2,   2062.4,2,    401.4,2,   2334.6,2,     7.98,2, -999.00,     4.6, -999.00,  -999.0
    31DSCG96_2,  P15S,   122,  1,    130,   1257,2,19960221,0600,-27.5023,-170.0015, 5318,   -999,    188.7,  16.0143,  35.5214,2,  35.5283,2,    208.3,2, 15.9843,    210.2,2,     2.17,2,     4.88,2,     0.01,2,     0.42,2,    2.472,2,    1.300,2,     76.7,2,     1.13,2,   2073.6,2,    427.9,2,   2330.0,2,     7.95,2, -999.00,     3.8, -999.00,  -999.0
    31DSCG96_2,  P15S,   122,  1,    129,   1256,2,19960221,0600,-27.5023,-170.0015, 5318,   -999,    242.2,  14.9417,  35.3769,2,  35.3804,2,    201.8,2, 14.9050,    203.9,2,     2.86,2,     7.15,2,     0.01,2,     0.57,2,    2.390,2,    1.243,2,     76.3,2,     1.13,2,   2084.1,2,    467.7,2,   2321.7,2,     7.91,2, -999.00,     3.8, -999.00,  -999.0
    31DSCG96_2,  P15S,   122,  1,    128,   1007,2,19960221,0600,-27.5023,-170.0015, 5318,   -999,    291.4,  13.3772,  35.1478,2,  35.1579,2,    196.6,2, 13.3362,    196.0,2,     3.54,2,    10.08,2,     0.01,2,     0.76,2,    2.173,2,    1.112,2,     56.5,2,     1.10,2,   2100.2,2,    543.2,2,   2312.8,2,     7.86,2, -999.00,     3.7, -999.00,  -999.0
    31DSCG96_2,  P15S,   122,  1,    127,   1232,2,19960221,0600,-27.5023,-170.0015, 5318,   -999,    373.9,  11.3775,  34.9082,2,  34.9050,2,    199.5,2, 11.3300,    196.9,2,     4.80,2,    14.29,2,     0.01,2,     1.02,2,    2.039,2,    1.017,2,     54.7,2,     1.13,2,   2118.4,2,    618.6,2,   2299.9,2,     7.81,2, -999.00,     3.7, -999.00,  -999.0
    31DSCG96_2,  P15S,   122,  1,    126,   1025,2,19960221,0600,-27.5023,-170.0015, 5318,   -999,    475.1,   9.0952,  34.6267,2,  34.6272,2,    207.8,2,  9.0427,    206.5,2,     6.09,2,    18.66,2,     0.00,2,     1.30,2,    1.712,2,    0.838,2,     15.7,2,     1.39,2,   2128.9,2,    703.1,2,   2290.5,2,     7.76,2, -999.00,     3.7, -999.00,  -999.0
    31DSCG96_2,  P15S,   122,  1,    125,   1119,2,19960221,0600,-27.5023,-170.0015, 5318,   -999,    572.7,   7.8177,  34.4898,2,  34.4888,2,    221.9,2,  7.7595,    221.2,2,     7.11,2,    20.98,2,     0.00,2,     1.45,2,    1.567,2,    0.758,2,     13.7,2,     1.26,2,   2132.7,2,    731.6,2,   2285.7,2,     7.74,2, -999.00,     3.9, -999.00,  -999.0
    31DSCG96_2,  P15S,   122,  1,    124,   1013,2,19960221,0600,-27.5023,-170.0015, 5318,   -999,    679.1,   7.1053,  34.4241,2,  34.4232,2,    230.0,2,  7.0395,    227.9,6,     8.45,2,    22.50,2,     0.00,2,     1.54,2,    1.138,2,    0.561,2,     -2.2,2,     1.32,2,   2136.4,2,    757.6,2,   2286.0,2,     7.74,2, -999.00,     4.7, -999.00,  -999.0
    31DSCG96_2,  P15S,   122,  1,    123,   1250,2,19960221,0600,-27.5023,-170.0015, 5318,   -999,    775.5,   6.3269,  34.3600,2,  34.3591,2,    227.1,2,  6.2559,    227.4,2,    11.46,2,    24.63,2,     0.00,2,     1.68,2,    0.606,2,    0.317,2,    -41.7,2,     1.26,2,   2142.3,2,    787.7,2,   2284.8,2,     7.72,2, -999.00,     3.4, -999.00,  -999.0
    31DSCG96_2,  P15S,   122,  1,    122,   1265,2,19960221,0600,-27.5023,-170.0015, 5318,   -999,    871.8,   5.6490,  34.3322,2,  34.3319,2,    217.1,2,  5.5731,    217.1,2,    17.20,2,    27.16,2,     0.00,2,     1.86,2,    0.297,2,    0.161,2,    -79.1,2,     1.20,2,   2157.9,3,    857.2,2,   2289.8,2,     7.69,2, -999.00,     3.3, -999.00,  -999.0
    31DSCG96_2,  P15S,   122,  1,    121,   1246,2,19960221,0600,-27.5023,-170.0015, 5318,   -999,    971.9,   4.9352,  34.3365,2,  34.3355,2,    201.6,2,  4.8552,    202.4,2,    26.74,2,    29.86,2,     0.00,2,     2.03,2,    0.127,2,    0.072,2,    -93.9,2,     1.05,2,   2177.4,2,    944.0,2,   2296.4,2,     7.65,2, -999.00,     3.2, -999.00,  -999.0
    31DSCG96_2,  P15S,   122,  1,    120,   1015,2,19960221,0600,-27.5023,-170.0015, 5318,   -999,   1074.5,   4.4026,  34.3552,2,  34.3549,2,    190.0,2,  4.3177,    191.9,2,    35.68,2,    31.52,2,     0.00,2,     2.15,2,    0.059,2,    0.035,2,   -118.5,2,     0.88,2,   2196.4,2,   1013.5,2,   2305.8,2,     7.63,2, -999.00,     3.0, -999.00,  -999.0
    31DSCG96_2,  P15S,   122,  1,    119,   1247,2,19960221,0600,-27.5023,-170.0015, 5318,   -999,   1174.1,   3.7814,  34.3964,2,  34.3957,2,    180.2,2,  3.6932,    181.4,2,    48.40,2,    33.09,2,     0.00,2,     2.27,2,    0.016,2,    0.013,2,   -124.3,6,     0.64,6,   2216.8,2,   1093.9,2,   2317.0,2,     7.60,2, -999.00,     4.4, -999.00,  -999.0
    31DSCG96_2,  P15S,   122,  1,    118,   1299,2,19960221,0600,-27.5023,-170.0015, 5318,   -999,   1274.5,   3.3340,  34.4518,2,  34.4529,2,    172.2,2,  3.2416,    173.1,2,    61.93,2,    34.08,2,     0.00,2,     2.38,3,    0.912,4,    0.032,4,   -147.4,2,     0.63,2,   2234.1,2,   1124.0,2,   2332.2,2,     7.59,2, -999.00,     3.0, -999.00,  -999.0
    31DSCG96_2,  P15S,   122,  1,    117,   1267,2,19960221,0600,-27.5023,-170.0015, 5318,   -999,   1453.0,   2.8971,  34.5201,2,  34.5222,2,    161.9,2,  2.7944,    163.2,2,    78.36,2,    34.80,2,     0.00,2,     2.40,2,    0.000,2,    0.001,2,   -180.3,2,     0.51,2,   2257.7,2,   1170.6,2,   2350.0,2,     7.58,2, -999.00,     2.6, -999.00,  -999.0
    31DSCG96_2,  P15S,   122,  1,    116,   1259,2,19960221,0600,-27.5023,-170.0015, 5318,   -999,   1688.5,   2.4311,  34.6010,2,  34.6004,2,    152.1,2,  2.3146,    151.0,2,   103.13,2,    35.55,2,     0.00,2,     2.47,2,    0.000,2,    0.002,2,   -206.1,2,     0.34,2,   2288.2,2,   1194.5,2,   2381.4,2,     7.57,2, -999.00,     2.6, -999.00,  -999.0
    31DSCG96_2,  P15S,   122,  1,    115,   1041,2,19960221,0600,-27.5023,-170.0015, 5318,   -999,   1944.3,   2.2479,  34.6259,2,  34.6243,2,    147.2,2,  2.1124,    146.7,2,   113.96,2,    36.00,2,     0.00,2,     2.50,2,   -0.001,2,    0.002,2,   -999.0,5,     0.25,2,   2299.6,2,   1218.0,2,   2391.2,2,     7.57,2, -999.00,  -999.0, -999.00,  -999.0
    31DSCG96_2,  P15S,   122,  1,    114,   1017,2,19960221,0600,-27.5023,-170.0015, 5318,   -999,   2188.5,   2.1023,  34.6357,2,  34.6405,3,    145.7,2,  1.9480,    145.6,2,   120.76,2,    36.20,2,     0.00,2,     2.52,2,    0.001,2,    0.003,2,   -236.1,2,     0.08,2,   2308.0,2,   1220.0,2,   2400.1,2,     7.57,2, -999.00,     2.6, -999.00,  -999.0
    31DSCG96_2,  P15S,   122,  1,    113,   1302,2,19960221,0600,-27.5023,-170.0015, 5318,   -999,   2438.7,   1.9765,  34.6510,2,  34.6507,2,    145.9,2,  1.8022,    145.4,2,   125.60,2,    36.14,2,     0.00,2,     2.53,2,    0.000,2,    0.001,2,   -237.8,2,     0.16,2,   2310.1,2,   1226.2,2,   2404.3,2,     7.57,2, -999.00,     3.0, -999.00,  -999.0
    31DSCG96_2,  P15S,   122,  1,    112,   1217,2,19960221,0600,-27.5023,-170.0015, 5318,   -999,   2689.6,   1.8854,  34.6604,2,  34.6596,2,    146.2,2,  1.6898,    146.3,6,   129.06,2,    36.15,2,     0.00,2,     2.51,2,    0.006,4,    0.006,4,   -238.2,2,     0.09,2,   2313.2,2,   1219.4,2,   2409.4,2,     7.57,2, -999.00,     3.1, -999.00,  -999.0
    31DSCG96_2,  P15S,   122,  1,    111,   1114,2,19960221,0600,-27.5023,-170.0015, 5318,   -999,   2941.0,   1.7694,  34.6698,2,  34.6684,2,    147.7,2,  1.5524,    148.8,2,   132.27,2,    36.01,2,     0.00,2,     2.50,2,   -0.001,2,    0.001,2,   -242.0,2,     0.11,2,   2317.7,2,   1213.6,2,   2409.8,2,     7.57,2, -999.00,     2.8, -999.00,  -999.0
    31DSCG96_2,  P15S,   122,  1,    110,   1301,2,19960221,0600,-27.5023,-170.0015, 5318,   -999,   3189.0,   1.6707,  34.6838,2,  34.6824,2,    155.5,2,  1.4316,    159.6,2,   127.98,2,    35.07,2,     0.00,2,     2.43,2,   -0.001,2,    0.001,2,   -220.4,2,     0.17,2,   2305.4,2,   1196.8,2,   2402.9,2,     7.58,2, -999.00,     2.3, -999.00,  -999.0
    31DSCG96_2,  P15S,   122,  1,    109,   1233,2,19960221,0600,-27.5023,-170.0015, 5318,   -999,   3439.0,   1.6159,  34.6986,2,  34.6972,2,    171.5,2,  1.3530,    173.2,2,   119.96,2,    33.91,2,     0.00,2,     2.34,2,    0.000,2,    0.001,2,   -203.2,2,     0.22,2,   2288.9,2,   1140.0,2,   2387.5,2,     7.59,2, -999.00,     2.8, -999.00,  -999.0
    31DSCG96_2,  P15S,   122,  1,    108,   1227,2,19960221,0600,-27.5023,-170.0015, 5318,   -999,   3684.3,   1.4853,  34.7147,2,  34.7137,2,    187.4,2,  1.2002,    189.0,2,   112.53,2,    32.57,2,     0.00,2,     2.24,2,    0.002,2,    0.002,2,   -173.1,2,     0.40,2,   2269.1,2,   1099.8,2,   2374.8,2,     7.61,2, -999.00,     2.8, -999.00,  -999.0
    31DSCG96_2,  P15S,   122,  1,    107,   1263,2,19960221,0600,-27.5023,-170.0015, 5318,   -999,   3941.9,   1.3238,  34.7188,2,  34.7192,2,    197.9,2,  1.0159,    198.7,2,   112.00,2,    32.02,2,     0.00,2,     2.20,2,    0.002,2,    0.003,2,   -184.8,2,     0.40,2,   2261.4,2,   1077.4,2,   2370.1,2,     7.61,2, -999.00,     3.0, -999.00,  -999.0
    31DSCG96_2,  P15S,   122,  1,    106,   1262,2,19960221,0600,-27.5023,-170.0015, 5318,   -999,   4188.7,   1.1819,  34.7157,2,  34.7151,2,    202.1,2,  0.8513,    202.7,2,   115.17,2,    32.01,2,     0.00,2,     2.20,2,    0.003,2,    0.003,2,   -178.8,2,     0.42,2,   2260.7,2,   1071.7,2,   2364.9,2,     7.61,2, -999.00,     2.5, -999.00,  -999.0
    31DSCG96_2,  P15S,   122,  1,    105,   1264,2,19960221,0600,-27.5023,-170.0015, 5318,   -999,   4439.0,   1.0671,  34.7118,2,  34.7136,2,    205.0,2,  0.7122,    205.6,2,   118.22,2,    32.11,2,     0.00,2,     2.20,2,    0.004,6,    0.004,6,   -173.1,2,     0.41,2,   2259.2,2,   1075.9,2,   2368.3,2,     7.61,2, -999.00,     3.0, -999.00,  -999.0
    31DSCG96_2,  P15S,   122,  1,    104,   1003,2,19960221,0600,-27.5023,-170.0015, 5318,   -999,   4689.9,   1.0276,  34.7096,2,  34.7086,2,    206.0,2,  0.6455,    206.1,2,   120.17,2,    32.17,2,     0.00,2,     2.21,2,    0.007,2,    0.006,2,   -174.8,2,     0.43,2,   2257.4,2,   1080.3,2,   2365.4,2,     7.61,2, -999.00,     2.9, -999.00,  -999.0
    31DSCG96_2,  P15S,   122,  1,    103,   1035,2,19960221,0600,-27.5023,-170.0015, 5318,   -999,   4936.6,   1.0232,  34.7080,2,  34.7078,2,    205.6,2,  0.6125,    206.8,2,   121.08,2,    32.23,2,     0.00,2,     2.21,2,    0.012,2,    0.006,2,   -169.3,2,     0.39,2,   2261.7,2,   1077.6,2,   2367.0,2,     7.61,2, -999.00,     2.5, -999.00,  -999.0
    31DSCG96_2,  P15S,   122,  1,    102,   1030,2,19960221,0600,-27.5023,-170.0015, 5318,   -999,   5190.1,   1.0466,  34.7074,2,  34.7076,2,    206.4,2,  0.6046,    206.8,2,   121.41,2,    32.27,2,     0.00,2,     2.21,2,    0.012,6,    0.007,6,   -163.7,2,     0.40,2,   2259.8,2,   1087.8,2,   2372.8,2,     7.61,2, -999.00,     3.1, -999.00,  -999.0
    31DSCG96_2,  P15S,   122,  1,    101,   1022,2,19960221,0600,-27.5023,-170.0015, 5318,   -999,   5484.1,   1.0816,  34.7070,2,  34.7079,2,    206.2,2,  0.6020,    206.8,6,   121.46,6,    32.24,6,     0.00,6,     2.22,6,    0.011,2,    0.008,2,   -168.0,2,     0.41,2,   2259.5,2,   1090.0,2,   2371.8,2,     7.61,2, -999.00,     2.5, -999.00,  -999.0