BOTTLE,20220811CCHSIOAMB
EXPOCODE,SECT_ID,STNNBR,CASTNO,SAMPNO,BTLNBR,BTLNBR_FLAG_W,DATE,TIME,LATITUDE,LONGITUDE,DEPTH,CTDRAW,CTDPRS,CTDTMP,CTDSAL,CTDSAL_FLAG_W,SALNTY,SALNTY_FLAG_W,CTDOXY,CTDOXY_FLAG_W,THETA,OXYGEN,OXYGEN_FLAG_W,SILCAT,SILCAT_FLAG_W,NITRAT,NITRAT_FLAG_W,NITRIT,NITRIT_FLAG_W,PHSPHT,PHSPHT_FLAG_W,CFC-11,CFC-11_FLAG_W,CFC-12,CFC-12_FLAG_W,DELC14,DELC14_FLAG_W,DELC13,DELC13_FLAG_W,TCARBN,TCARBN_FLAG_W,PCO2,PCO2_FLAG_W,ALKALI,ALKALI_FLAG_W,PH,PH_FLAG_W,PCO2TMP,C14ERR,PH_TMP,C13ERR
,,,,,,,,,,,,DBAR,DBAR,ITS-90,PSS-78,,PSS-78,,UMOL/KG,,DEG C,UMOL/KG,,UMOL/KG,,UMOL/KG,,UMOL/KG,,UMOL/KG,,PMOL/KG,,PMOL/KG,,/MILLE,,/MILLE,,UMOL/KG,,UATM,,UMOL/KG,,,,DEG C,/MILLE,DEG C,/MILLE
    31DSCG96_2,  P15S,   115,  1,    136,   1245,2,19960219,0951,-31.0070,-169.9957, 5572,   -999,      5.1,  23.5886,  35.8290,2,  35.8293,2,    219.2,2, 23.5876,    212.0,2,     1.00,2,     0.11,2,     0.00,2,     0.02,3,    1.945,2,    1.099,2,     96.1,2,  -999.00,9,   2012.3,2,    296.3,2,   2347.5,2,     8.08,2, -999.00,     3.6, -999.00,  -999.0
    31DSCG96_2,  P15S,   115,  1,    135,   1113,2,19960219,0951,-31.0070,-169.9957, 5572,   -999,     29.4,  23.5788,  35.8259,2,  35.8270,2,    212.2,2, 23.5727,    212.1,2,     1.03,2,     0.11,2,     0.00,2,     0.03,3, -999.000,9, -999.000,9,   -999.0,9,  -999.00,9,   2010.5,2,    295.4,2,   2351.2,2,     8.08,2, -999.00,  -999.0, -999.00,  -999.0
    31DSCG96_2,  P15S,   115,  1,    134,   1216,2,19960219,0951,-31.0070,-169.9957, 5572,   -999,     54.4,  21.4213,  35.7505,2,  35.7515,2,    222.2,2, 21.4108,    225.4,2,     1.17,2,     0.11,2,     0.00,2,     0.07,2,    2.219,2,    1.219,2,   -999.0,9,  -999.00,9,   2033.1,2,    333.0,2,   2344.9,2,     8.04,2, -999.00,  -999.0, -999.00,  -999.0
    31DSCG96_2,  P15S,   115,  1,    133,   1221,2,19960219,0951,-31.0070,-169.9957, 5572,   -999,     77.4,  18.6943,  35.6359,2,  35.6417,2,    245.4,2, 18.6806,    248.4,2,     1.33,2,     0.08,2,     0.00,2,     0.10,2, -999.000,9, -999.000,9,   -999.0,9,  -999.00,9,   2031.3,2,    335.6,2,   2337.7,2,     8.03,2, -999.00,  -999.0, -999.00,  -999.0
    31DSCG96_2,  P15S,   115,  1,    132,   1039,2,19960219,0951,-31.0070,-169.9957, 5572,   -999,    113.5,  16.2967,  35.5503,2,  35.5536,2,    215.2,2, 16.2784,    227.5,2,     1.63,2,     1.03,2,     0.10,2,     0.24,2,    2.570,2,    1.362,2,   -999.0,9,  -999.00,9,   2060.6,2,    390.6,2,   2331.7,2,     7.97,2, -999.00,  -999.0, -999.00,  -999.0
    31DSCG96_2,  P15S,   115,  1,    131,   1014,2,19960219,0951,-31.0070,-169.9957, 5572,   -999,    164.8,  15.5686,  35.4846,2,  35.4850,2,    212.9,2, 15.5429,    217.0,6,     2.06,2,     4.23,2,     0.03,2,     0.40,2,    2.571,2,    1.366,2,   -999.0,9,  -999.00,9,   2073.1,2,    431.2,2,   -999.0,9,     7.94,2, -999.00,  -999.0, -999.00,  -999.0
    31DSCG96_2,  P15S,   115,  1,    130,   1257,2,19960219,0951,-31.0070,-169.9957, 5572,   -999,    213.3,  14.6206,  35.3521,2,  35.3478,2,    211.5,2, 14.5888,    211.7,2,     2.52,2,     6.27,2,     0.01,2,     0.52,2,    2.562,2,    1.343,2,   -999.0,9,  -999.00,9,   2083.9,2,    471.4,2,   2320.7,2,     7.91,2, -999.00,  -999.0, -999.00,  -999.0
    31DSCG96_2,  P15S,   115,  1,    129,   1256,2,19960219,0951,-31.0070,-169.9957, 5572,   -999,    262.7,  13.6854,  35.2301,2,  35.2261,2,    203.8,2, 13.6479,    203.4,2,     3.39,2,     9.02,2,     0.01,2,     0.69,2, -999.000,9, -999.000,9,   -999.0,9,  -999.00,9,   2096.3,2,    519.1,2,   2316.7,2,     7.88,2, -999.00,  -999.0, -999.00,  -999.0
    31DSCG96_2,  P15S,   115,  1,    128,   1007,2,19960219,0951,-31.0070,-169.9957, 5572,   -999,    324.3,  12.3280,  35.0289,2,  35.0317,2,    196.8,2, 12.2847,    194.7,2,     4.26,2,    12.40,2,     0.00,2,     0.89,2,    2.051,2,    1.047,2,   -999.0,9,  -999.00,9,   2111.0,2,    579.2,2,   2308.3,2,     7.83,2, -999.00,  -999.0, -999.00,  -999.0
    31DSCG96_2,  P15S,   115,  1,    127,   1232,2,19960219,0951,-31.0070,-169.9957, 5572,   -999,    425.5,  10.2784,  34.7846,2,  34.7915,2,    199.4,2, 10.2277,    198.6,2,     5.81,2,    16.56,2,     0.00,2,     1.15,2, -999.000,9, -999.000,9,   -999.0,9,  -999.00,9,   2126.0,2,    664.2,2,   2298.4,2,     7.78,2, -999.00,  -999.0, -999.00,  -999.0
    31DSCG96_2,  P15S,   115,  1,    126,   1025,2,19960219,0951,-31.0070,-169.9957, 5572,   -999,    524.1,   8.6264,  34.5883,2,  34.5836,2,    207.2,2,  8.5701,    207.4,2,     7.19,2,    20.17,2,     0.00,2,     1.38,2, -999.000,9, -999.000,9,   -999.0,9,  -999.00,9,   -999.0,9,   -999.0,9,   2288.8,2,  -999.00,9, -999.00,  -999.0, -999.00,  -999.0
    31DSCG96_2,  P15S,   115,  1,    125,   1233,2,19960219,0951,-31.0070,-169.9957, 5572,   -999,    624.3,   7.5745,  34.4738,2,  34.4734,2,    219.6,2,  7.5120,    220.2,2,     7.94,2,    21.79,2,     0.00,2,     1.48,2, -999.000,9, -999.000,9,   -999.0,9,  -999.00,9,   2136.3,2,    746.4,2,   2287.4,2,     7.73,2, -999.00,  -999.0, -999.00,  -999.0
    31DSCG96_2,  P15S,   115,  1,    124,   1013,2,19960219,0951,-31.0070,-169.9957, 5572,   -999,    725.8,   6.8911,  34.4150,2,  34.4123,2,    223.3,2,  6.8218,    223.3,2,    10.12,2,    23.50,2,     0.00,2,     1.60,2, -999.000,9, -999.000,9,   -999.0,9,  -999.00,9,   2143.1,2,    766.4,2,   2285.0,2,     7.72,2, -999.00,  -999.0, -999.00,  -999.0
    31DSCG96_2,  P15S,   115,  1,    123,   1250,2,19960219,0951,-31.0070,-169.9957, 5572,   -999,    826.1,   6.2179,  34.3674,2,  34.3685,2,    219.0,2,  6.1426,    220.2,6,    13.74,2,    25.46,2,     0.00,2,     1.74,2, -999.000,9, -999.000,9,   -999.0,9,  -999.00,9,   2150.5,2,    815.1,2,   2289.3,2,     7.71,2, -999.00,  -999.0, -999.00,  -999.0
    31DSCG96_2,  P15S,   115,  1,    122,   1265,2,19960219,0951,-31.0070,-169.9957, 5572,   -999,    924.2,   5.5412,  34.3418,2,  34.3414,2,    210.4,2,  5.4611,    211.4,2,    19.66,2,    27.75,2,     0.00,2,     1.89,2, -999.000,9, -999.000,9,   -999.0,9,  -999.00,9,   2164.3,2,    877.9,2,   2290.9,2,     7.68,2, -999.00,  -999.0, -999.00,  -999.0
    31DSCG96_2,  P15S,   115,  1,    121,   1246,2,19960219,0951,-31.0070,-169.9957, 5572,   -999,   1024.4,   5.0178,  34.3401,2,  34.3406,2,    199.7,2,  4.9324,    201.7,2,    26.73,2,    29.69,2,     0.00,2,     2.02,2, -999.000,9, -999.000,9,   -999.0,9,  -999.00,9,   2178.6,2,    937.0,2,   2298.3,2,     7.65,2, -999.00,  -999.0, -999.00,  -999.0
    31DSCG96_2,  P15S,   115,  1,    120,   1015,2,19960219,0951,-31.0070,-169.9957, 5572,   -999,   1128.0,   4.3456,  34.3565,2,  34.3581,2,    188.9,2,  4.2565,    191.8,2,    36.18,2,    31.56,2,     0.00,2,     2.15,2, -999.000,9, -999.000,9,   -999.0,9,  -999.00,9,   2195.7,2,   1007.2,2,   2305.3,2,     7.63,2, -999.00,  -999.0, -999.00,  -999.0
    31DSCG96_2,  P15S,   115,  1,    119,   1247,2,19960219,0951,-31.0070,-169.9957, 5572,   -999,   1225.8,   3.8181,  34.3972,2,  34.3973,2,    180.5,2,  3.7252,    181.7,2,    47.97,2,    33.05,2,     0.00,2,     2.26,2, -999.000,9, -999.000,9,   -999.0,9,  -999.00,9,   2213.3,2,   1089.3,2,   2319.1,2,     7.60,2, -999.00,  -999.0, -999.00,  -999.0
    31DSCG96_2,  P15S,   115,  1,    118,   1222,2,19960219,0951,-31.0070,-169.9957, 5572,   -999,   1349.0,   3.3188,  34.4506,2,  34.4529,2,    172.6,2,  3.2204,    172.8,2,    60.96,2,    34.07,2,     0.00,2,     2.34,2, -999.000,9, -999.000,9,   -999.0,9,  -999.00,9,   2231.6,2,   1115.7,2,   2330.2,2,     7.59,2, -999.00,  -999.0, -999.00,  -999.0
    31DSCG96_2,  P15S,   115,  1,    117,   1267,2,19960219,0951,-31.0070,-169.9957, 5572,   -999,   1567.1,   2.7594,  34.5459,2,  34.5463,2,    160.0,2,  2.6489,    160.3,2,    84.36,2,    34.98,2,     0.00,2,     2.41,2, -999.000,9, -999.000,9,   -999.0,9,  -999.00,9,   2263.8,2,   1180.0,2,   2358.6,2,     7.58,2, -999.00,  -999.0, -999.00,  -999.0
    31DSCG96_2,  P15S,   115,  1,    116,   1211,2,19960219,0951,-31.0070,-169.9957, 5572,   -999,   1816.0,   2.4696,  34.5998,2,  34.6008,2,    151.3,2,  2.3419,    152.3,2,   101.99,2,    35.52,2,     0.00,2,     2.46,2, -999.000,9, -999.000,9,   -999.0,9,  -999.00,9,   2285.0,2,   1203.8,2,   2378.1,2,     7.57,2, -999.00,  -999.0, -999.00,  -999.0
    31DSCG96_2,  P15S,   115,  1,    115,   1041,2,19960219,0951,-31.0070,-169.9957, 5572,   -999,   2064.0,   2.2722,  34.6183,2,  34.6256,3,    147.7,2,  2.1261,    147.7,6,   112.76,2,    35.92,2,     0.00,2,     2.49,2, -999.000,9, -999.000,9,   -999.0,9,  -999.00,9,   2296.3,2,   1212.9,2,   2391.8,2,     7.57,2, -999.00,  -999.0, -999.00,  -999.0
    31DSCG96_2,  P15S,   115,  1,    114,   1017,2,19960219,0951,-31.0070,-169.9957, 5572,   -999,   2314.5,   2.1305,  34.6354,2,  34.6409,3,    145.9,2,  1.9647,    145.9,2,   119.65,2,    36.13,2,     0.00,2,     2.50,2, -999.000,9, -999.000,9,   -999.0,9,  -999.00,9,   2306.0,2,   1225.3,2,   2397.8,2,     7.57,2, -999.00,  -999.0, -999.00,  -999.0
    31DSCG96_2,  P15S,   115,  1,    113,   1302,2,19960219,0951,-31.0070,-169.9957, 5572,   -999,   2565.5,   2.0078,  34.6511,2,  34.6525,2,    146.5,2,  1.8213,    145.7,2,   124.72,2,    36.15,2,     0.00,2,     2.51,2, -999.000,9, -999.000,9,   -999.0,9,  -999.00,9,   2310.6,2,   1219.9,2,   2405.5,2,     7.57,2, -999.00,  -999.0, -999.00,  -999.0
    31DSCG96_2,  P15S,   115,  1,    112,   1217,2,19960219,0951,-31.0070,-169.9957, 5572,   -999,   2814.8,   1.8956,  34.6625,2,  34.6639,2,    148.4,2,  1.6880,    148.3,2,   127.49,2,    36.04,2,     0.00,2,     2.49,2, -999.000,9, -999.000,9,   -999.0,9,  -999.00,9,   2308.2,2,   1221.8,2,   2405.2,2,     7.57,2, -999.00,  -999.0, -999.00,  -999.0
    31DSCG96_2,  P15S,   115,  1,    111,   1114,2,19960219,0951,-31.0070,-169.9957, 5572,   -999,   3063.0,   1.7776,  34.6755,2,  34.6762,2,    154.0,2,  1.5485,    154.3,2,   127.70,2,    35.51,2,     0.00,2,     2.46,2, -999.000,9, -999.000,9,   -999.0,9,  -999.00,9,   2304.1,2,   1209.6,2,   2405.5,2,     7.58,2, -999.00,  -999.0, -999.00,  -999.0
    31DSCG96_2,  P15S,   115,  1,    110,   1301,2,19960219,0951,-31.0070,-169.9957, 5572,   -999,   3314.7,   1.6828,  34.6928,2,  34.6935,2,    166.5,2,  1.4309,    167.4,2,   121.27,2,    34.25,2,     0.00,2,     2.36,2, -999.000,9, -999.000,9,   -999.0,9,  -999.00,9,   2288.7,2,   1167.8,2,   2392.1,2,     7.59,2, -999.00,  -999.0, -999.00,  -999.0
    31DSCG96_2,  P15S,   115,  1,    109,   1119,2,19960219,0951,-31.0070,-169.9957, 5572,   -999,   3563.3,   1.5609,  34.7122,2,  34.7135,2,    184.4,2,  1.2865,    185.1,2,   112.45,2,    32.78,2,     0.00,2,     2.25,2,    0.000,2,    0.008,2,   -999.0,9,  -999.00,9,   2269.7,2,   1105.5,2,   2377.5,2,     7.60,2, -999.00,  -999.0, -999.00,  -999.0
    31DSCG96_2,  P15S,   115,  1,    108,   1227,2,19960219,0951,-31.0070,-169.9957, 5572,   -999,   3814.7,   1.3941,  34.7197,2,  34.7213,2,    196.6,2,  1.0977,    196.1,2,   110.74,2,    32.07,2,     0.00,2,     2.20,2, -999.000,9, -999.000,9,   -999.0,9,  -999.00,9,   2260.3,2,   1082.4,2,   2367.5,2,     7.61,2, -999.00,  -999.0, -999.00,  -999.0
    31DSCG96_2,  P15S,   115,  1,    107,   1263,2,19960219,0951,-31.0070,-169.9957, 5572,   -999,   4014.9,   1.2661,  34.7184,2,  34.7216,3,    200.8,2,  0.9519,    200.8,6,   112.76,2,    31.95,2,     0.00,2,     2.18,2,    0.002,2,    0.003,2,   -999.0,9,  -999.00,9,   2257.0,2,   1084.3,2,   2368.5,2,     7.61,2, -999.00,  -999.0, -999.00,  -999.0
    31DSCG96_2,  P15S,   115,  1,    106,   1262,2,19960219,0951,-31.0070,-169.9957, 5572,   -999,   4313.5,   1.1152,  34.7137,2,  34.7143,2,    204.6,2,  0.7728,    204.4,2,   116.90,2,    32.00,2,     0.00,2,     2.19,2, -999.000,9, -999.000,9,   -999.0,9,  -999.00,9,   2258.0,2,   1084.7,2,   2366.7,2,     7.61,2, -999.00,  -999.0, -999.00,  -999.0
    31DSCG96_2,  P15S,   115,  1,    105,   1264,2,19960219,0951,-31.0070,-169.9957, 5572,   -999,   4566.9,   1.0475,  34.7105,2,  34.7120,2,    206.0,2,  0.6788,    206.4,2,   119.29,2,    32.88,3,     0.00,2,     2.20,2,    0.008,2,    0.005,2,   -999.0,9,  -999.00,9,   2258.9,2,   1082.1,2,   2369.6,2,     7.61,2, -999.00,  -999.0, -999.00,  -999.0
    31DSCG96_2,  P15S,   115,  1,    104,   1003,2,19960219,0951,-31.0070,-169.9957, 5572,   -999,   4802.2,   1.0272,  34.7089,2,  34.7105,2,    206.6,2,  0.6320,    206.3,2,   120.49,2,    32.22,2,     0.00,2,     2.20,2, -999.000,9, -999.000,9,   -999.0,9,  -999.00,9,   2258.2,2,   1087.3,2,   2368.0,2,     7.61,2, -999.00,  -999.0, -999.00,  -999.0
    31DSCG96_2,  P15S,   115,  1,    103,    999,2,19960219,0951,-31.0070,-169.9957, 5572,   -999,   5063.8,   1.0336,  34.7077,2,  34.7098,2,    206.6,2,  0.6073,    206.4,2,   121.40,2,    32.31,2,     0.00,2,     2.21,2,    0.010,2,    0.005,2,   -999.0,9,  -999.00,9,   2255.0,3,   1082.0,2,   2371.7,2,     7.61,2, -999.00,  -999.0, -999.00,  -999.0
    31DSCG96_2,  P15S,   115,  1,    102,   1030,2,19960219,0951,-31.0070,-169.9957, 5572,   -999,   5393.6,   1.0636,  34.7070,2,  34.7083,2,    207.3,2,  0.5960,    206.6,2,   121.80,2,    32.34,2,     0.00,2,     2.21,2, -999.000,9, -999.000,9,   -999.0,9,  -999.00,9,   2259.8,2,   1087.1,2,   2369.8,2,     7.61,2, -999.00,  -999.0, -999.00,  -999.0
    31DSCG96_2,  P15S,   115,  1,    101,   1022,2,19960219,0951,-31.0070,-169.9957, 5572,   -999,   5722.5,   1.1061,  34.7069,2,  34.7067,2,    207.4,2,  0.5954,    206.8,2,   121.70,6,    32.27,6,     0.00,6,     2.22,3,    0.014,6,    0.009,6,   -999.0,9,  -999.00,9,   2260.8,2,   1087.4,2,   2370.9,2,     7.61,2, -999.00,  -999.0, -999.00,  -999.0