BOTTLE,20220811CCHSIOAMB
EXPOCODE,SECT_ID,STNNBR,CASTNO,SAMPNO,BTLNBR,BTLNBR_FLAG_W,DATE,TIME,LATITUDE,LONGITUDE,DEPTH,CTDRAW,CTDPRS,CTDTMP,CTDSAL,CTDSAL_FLAG_W,SALNTY,SALNTY_FLAG_W,CTDOXY,CTDOXY_FLAG_W,THETA,OXYGEN,OXYGEN_FLAG_W,SILCAT,SILCAT_FLAG_W,NITRAT,NITRAT_FLAG_W,NITRIT,NITRIT_FLAG_W,PHSPHT,PHSPHT_FLAG_W,CFC-11,CFC-11_FLAG_W,CFC-12,CFC-12_FLAG_W,DELC14,DELC14_FLAG_W,DELC13,DELC13_FLAG_W,TCARBN,TCARBN_FLAG_W,PCO2,PCO2_FLAG_W,ALKALI,ALKALI_FLAG_W,PH,PH_FLAG_W,PCO2TMP,C14ERR,PH_TMP,C13ERR
,,,,,,,,,,,,DBAR,DBAR,ITS-90,PSS-78,,PSS-78,,UMOL/KG,,DEG C,UMOL/KG,,UMOL/KG,,UMOL/KG,,UMOL/KG,,UMOL/KG,,PMOL/KG,,PMOL/KG,,/MILLE,,/MILLE,,UMOL/KG,,UATM,,UMOL/KG,,,,DEG C,/MILLE,DEG C,/MILLE
    31DSCG96_2,  P15S,    97,  2,    236,   1245,2,19960214,1612,-39.0710,-172.1285, 4836,   -999,      4.9,  19.0382,  35.1652,2,  35.1639,2,    236.6,2, 19.0373,    233.2,2,     1.25,2,     0.14,2,     0.00,2,     0.10,2, -999.000,9, -999.000,9,     72.2,2,     1.93,2,   2028.0,2,    351.7,2,   2321.3,3,     8.01,2, -999.00,     2.4, -999.00,  -999.0
    31DSCG96_2,  P15S,    97,  2,    235,   1113,2,19960214,1612,-39.0710,-172.1285, 4836,   -999,     27.7,  18.5953,  35.1170,2,  35.1209,2,    233.5,2, 18.5905,    238.7,2,     1.24,2,     0.12,2,     0.00,2,     0.12,2, -999.000,9, -999.000,9,     82.0,2,     1.95,2,   2031.7,2,    357.0,2,   2321.4,2,     8.01,2, -999.00,     3.5, -999.00,  -999.0
    31DSCG96_2,  P15S,    97,  2,    234,   1119,2,19960214,1612,-39.0710,-172.1285, 4836,   -999,     54.7,  13.8883,  34.9917,2,  34.9905,2,    260.6,2, 13.8805,    263.3,2,     1.54,2,     0.11,2,     0.01,2,     0.20,2, -999.000,9, -999.000,9,     67.3,2,     1.72,2,   2052.5,2,    415.1,3,   2311.6,2,     7.96,2, -999.00,     5.1, -999.00,  -999.0
    31DSCG96_2,  P15S,    97,  2,    233,   1221,2,19960214,1612,-39.0710,-172.1285, 4836,   -999,     79.3,  12.4504,  34.9227,2,  34.9153,2,    241.5,2, 12.4398,    246.1,2,     1.98,2,     4.54,2,     0.11,2,     0.44,2, -999.000,9, -999.000,9,     70.5,2,     1.49,2,   -999.0,9,    475.6,2,   -999.0,9,     7.90,2, -999.00,     5.2, -999.00,  -999.0
    31DSCG96_2,  P15S,    97,  2,    232,   1039,2,19960214,1612,-39.0710,-172.1285, 4836,   -999,    104.8,  12.0826,  34.9362,2,  34.9276,2,    240.8,2, 12.0690,    243.9,2,     2.31,2,     6.30,2,     0.02,2,     0.52,2, -999.000,9, -999.000,9,     68.3,2,     1.41,2,   2082.3,2,    499.6,2,   2307.5,2,     7.89,2, -999.00,     5.3, -999.00,  -999.0
    31DSCG96_2,  P15S,    97,  2,    231,   1014,2,19960214,1612,-39.0710,-172.1285, 4836,   -999,    130.3,  12.5932,  35.1364,2,  35.1342,2,    239.8,2, 12.5757,    236.1,2,     3.18,2,     7.74,2,     0.02,2,     0.59,2, -999.000,9, -999.000,9,     43.4,2,     1.22,2,   2089.9,2,    498.3,2,   2313.2,2,     7.89,2, -999.00,     7.8, -999.00,  -999.0
    31DSCG96_2,  P15S,    97,  2,    230,   1257,2,19960214,1612,-39.0710,-172.1285, 4836,   -999,    165.2,  12.3086,  35.0949,2,  35.0948,2,    238.0,2, 12.2867,    237.6,2,     3.40,2,     8.43,2,     0.02,2,     0.63,2, -999.000,9, -999.000,9,     61.9,2,     1.17,3,   2092.4,2,    508.6,2,   2312.6,2,     7.88,2, -999.00,     5.4, -999.00,  -999.0
    31DSCG96_2,  P15S,    97,  2,    229,   1256,2,19960214,1612,-39.0710,-172.1285, 4836,   -999,    219.2,  11.5037,  34.9534,2,  34.9569,2,    232.8,2, 11.4758,    231.1,2,     3.67,2,    10.26,2,     0.01,2,     0.75,2, -999.000,9, -999.000,9,     64.0,2,     1.25,2,   2101.6,2,    563.1,2,   2306.6,2,     7.85,2, -999.00,     5.4, -999.00,  -999.0
    31DSCG96_2,  P15S,    97,  2,    228,   1007,2,19960214,1612,-39.0710,-172.1285, 4836,   -999,    264.0,  10.8539,  34.8510,2,  34.8520,2,    232.2,2, 10.8216,    227.1,2,     4.51,2,    12.43,2,     0.01,2,     0.88,2, -999.000,9, -999.000,9,   -999.0,5,     1.22,2,   2108.0,2,    577.3,2,   2292.8,2,     7.83,2, -999.00,  -999.0, -999.00,  -999.0
    31DSCG96_2,  P15S,    97,  2,    227,   1232,2,19960214,1612,-39.0710,-172.1285, 4836,   -999,    314.1,  10.1593,  34.7635,2,  34.7634,2,    218.3,2, 10.1224,    212.9,6,     6.00,2,    15.80,2,     0.01,2,     1.09,2, -999.000,9, -999.000,9,     43.4,2,     1.16,6,   2122.0,2,    647.6,2,   2297.5,2,     7.79,2, -999.00,     5.1, -999.00,  -999.0
    31DSCG96_2,  P15S,    97,  2,    226,   1025,2,19960214,1612,-39.0710,-172.1285, 4836,   -999,    364.8,   9.7481,  34.7233,2,  34.7202,2,    215.8,2,  9.7062,    204.8,2,     7.21,2,    17.94,2,     0.01,2,     1.23,2, -999.000,9, -999.000,9,     34.3,2,     1.12,2,   2130.3,2,    686.3,2,   -999.0,9,     7.77,2, -999.00,     5.9, -999.00,  -999.0
    31DSCG96_2,  P15S,    97,  2,    225,   1233,2,19960214,1612,-39.0710,-172.1285, 4836,   -999,    425.3,   9.0398,  34.6374,2,  34.6376,2,    209.2,2,  8.9931,    210.6,2,     7.50,2,    19.06,2,     0.01,2,     1.30,2, -999.000,9, -999.000,9,     21.6,2,     1.11,2,   2133.3,2,    709.9,2,   2294.3,2,     7.75,2, -999.00,     7.0, -999.00,  -999.0
    31DSCG96_2,  P15S,    97,  2,    224,   1013,2,19960214,1612,-39.0710,-172.1285, 4836,   -999,    525.8,   8.1183,  34.5363,2,  34.5366,2,    219.4,2,  8.0638,    216.7,2,     8.88,2,    21.10,2,     0.00,2,     1.43,2, -999.000,9, -999.000,9,     17.5,2,     1.18,2,   2137.9,2,    739.0,2,   2287.9,2,     7.74,2, -999.00,     4.7, -999.00,  -999.0
    31DSCG96_2,  P15S,    97,  2,    223,   1250,2,19960214,1612,-39.0710,-172.1285, 4836,   -999,    624.3,   7.6262,  34.4952,2,  34.4926,2,    217.0,2,  7.5634,    217.8,2,    10.39,2,    22.33,2,     0.00,2,     1.51,2, -999.000,9, -999.000,9,      9.2,2,     1.18,2,   2141.2,2,   -999.0,9,   2291.9,2,     7.73,2, -999.00,     6.7, -999.00,  -999.0
    31DSCG96_2,  P15S,    97,  2,    222,   1265,2,19960214,1612,-39.0710,-172.1285, 4836,   -999,    725.9,   7.1111,  34.4674,2,  34.4663,2,    214.0,2,  7.0405,    210.4,2,    13.83,2,    24.14,2,     0.00,2,     1.63,2, -999.000,9, -999.000,9,    -24.0,2,     1.10,2,   2149.6,2,    796.6,2,   2291.6,2,     7.71,2, -999.00,     4.9, -999.00,  -999.0
    31DSCG96_2,  P15S,    97,  2,    221,   1246,2,19960214,1612,-39.0710,-172.1285, 4836,   -999,    823.2,   6.5757,  34.4468,2,  34.4457,2,    207.5,2,  6.4984,    202.8,6,    18.77,2,    25.98,2,     0.00,2,     1.75,2, -999.000,9, -999.000,9,    -57.4,2,     0.95,2,   2160.5,2,    843.0,2,   2294.3,2,     7.69,2, -999.00,     4.3, -999.00,  -999.0
    31DSCG96_2,  P15S,    97,  2,    220,   1015,2,19960214,1612,-39.0710,-172.1285, 4836,   -999,    922.4,   6.0086,  34.4198,2,  34.4188,2,    199.3,2,  5.9253,    199.3,2,    23.30,2,    27.54,2,     0.00,2,     1.86,2, -999.000,9, -999.000,9,    -86.2,2,     0.87,2,   2171.1,2,    879.3,2,   2299.2,2,     7.67,2, -999.00,     4.3, -999.00,  -999.0
    31DSCG96_2,  P15S,    97,  2,    219,   1247,2,19960214,1612,-39.0710,-172.1285, 4836,   -999,   1026.6,   5.4298,  34.4130,2,  34.4148,2,    193.5,2,  5.3409,    193.0,2,    30.36,2,    29.10,2,     0.00,2,     1.97,2, -999.000,9, -999.000,9,    -93.8,2,     0.96,2,   2184.9,2,    948.3,2,   2303.2,2,     7.66,2, -999.00,     4.2, -999.00,  -999.0
    31DSCG96_2,  P15S,    97,  2,    218,   1222,2,19960214,1612,-39.0710,-172.1285, 4836,   -999,   1125.3,   4.8327,  34.4143,2,  34.4151,2,    187.4,2,  4.7395,    185.7,2,    38.60,2,    30.68,2,     0.00,2,     2.09,2, -999.000,9, -999.000,9,   -999.0,9,  -999.00,9,   2199.1,2,    994.3,2,   2311.1,2,     7.63,2, -999.00,  -999.0, -999.00,  -999.0
    31DSCG96_2,  P15S,    97,  2,    217,   1267,2,19960214,1612,-39.0710,-172.1285, 4836,   -999,   1223.6,   4.2785,  34.4372,2,  34.4358,2,    179.2,2,  4.1814,    180.5,2,    48.56,2,    31.92,2,     0.00,2,     2.18,2, -999.000,9, -999.000,9,   -999.0,9,  -999.00,9,   2213.9,2,   1056.4,2,   2323.3,2,     7.62,2, -999.00,  -999.0, -999.00,  -999.0
    31DSCG96_2,  P15S,    97,  2,    216,   1211,2,19960214,1612,-39.0710,-172.1285, 4836,   -999,   1350.9,   3.8515,  34.4866,2,  34.4870,2,    171.5,2,  3.7473,    171.6,2,    62.25,2,    32.84,2,     0.00,2,     2.25,2, -999.000,9, -999.000,9,   -999.0,9,  -999.00,9,   2233.7,2,   1086.6,2,   2335.6,2,     7.60,2, -999.00,  -999.0, -999.00,  -999.0
    31DSCG96_2,  P15S,    97,  2,    215,   1041,2,19960214,1612,-39.0710,-172.1285, 4836,   -999,   1565.6,   3.1532,  34.5418,2,  34.5422,2,    163.0,2,  3.0381,    161.9,6,    80.62,2,    34.18,2,     0.00,2,     2.35,2, -999.000,9, -999.000,9,   -999.0,9,  -999.00,9,   2258.6,2,   1134.7,2,   2358.5,2,     7.59,2, -999.00,  -999.0, -999.00,  -999.0
    31DSCG96_2,  P15S,    97,  2,    214,   1017,2,19960214,1612,-39.0710,-172.1285, 4836,   -999,   1813.7,   2.6785,  34.5934,2,  34.5940,2,    156.3,2,  2.5481,    155.4,2,    96.80,2,    34.87,2,     0.00,2,     2.41,2, -999.000,9, -999.000,9,   -999.0,9,  -999.00,9,   2278.9,2,   1174.3,2,   2373.9,2,     7.58,2, -999.00,  -999.0, -999.00,  -999.0
    31DSCG96_2,  P15S,    97,  2,    213,   1302,2,19960214,1612,-39.0710,-172.1285, 4836,   -999,   2067.0,   2.4263,  34.6197,2,  34.6202,2,    152.9,2,  2.2776,    152.2,2,   105.97,2,    35.21,2,     0.00,2,     2.43,2, -999.000,9, -999.000,9,   -999.0,9,  -999.00,9,   2289.3,2,   1195.3,2,   2388.0,2,     7.58,2, -999.00,  -999.0, -999.00,  -999.0
    31DSCG96_2,  P15S,    97,  2,    212,   1217,2,19960214,1612,-39.0710,-172.1285, 4836,   -999,   2314.5,   2.2517,  34.6383,2,  34.6370,2,    151.9,2,  2.0837,    151.4,2,   112.68,2,    35.39,2,     0.00,2,     2.45,2, -999.000,9, -999.000,9,   -999.0,9,  -999.00,9,   2297.1,2,   1206.0,2,   2391.6,2,     7.58,2, -999.00,  -999.0, -999.00,  -999.0
    31DSCG96_2,  P15S,    97,  2,    211,   1114,2,19960214,1612,-39.0710,-172.1285, 4836,   -999,   2566.8,   2.0996,  34.6527,2,  34.6506,2,    152.2,2,  1.9113,    151.2,2,   117.96,2,    35.55,2,     0.00,2,     2.45,2, -999.000,9, -999.000,9,   -999.0,9,  -999.00,9,   2301.9,2,   1211.7,2,   2399.3,2,     7.58,2, -999.00,  -999.0, -999.00,  -999.0
    31DSCG96_2,  P15S,    97,  2,    210,   1301,2,19960214,1612,-39.0710,-172.1285, 4836,   -999,   2815.7,   1.9550,  34.6774,2,  34.6769,2,    160.2,2,  1.7460,    160.8,2,   115.03,2,    34.63,2,     0.00,2,     2.39,2, -999.000,9, -999.000,9,   -999.0,9,  -999.00,9,   2290.7,2,   1193.3,2,   2388.4,2,     7.58,2, -999.00,  -999.0, -999.00,  -999.0
    31DSCG96_2,  P15S,    97,  2,    209,   1242,2,19960214,1612,-39.0710,-172.1285, 4836,   -999,   3066.2,   1.8486,  34.7062,2,  34.7059,2,    174.9,2,  1.6175,    176.3,6,   106.50,2,    33.06,2,     0.00,2,     2.27,2, -999.000,9, -999.000,9,   -999.0,9,  -999.00,9,   2273.3,2,   1083.0,3,   2379.0,2,     7.60,2, -999.00,  -999.0, -999.00,  -999.0
    31DSCG96_2,  P15S,    97,  2,    208,   1263,2,19960214,1612,-39.0710,-172.1285, 4836,   -999,   3316.7,   1.6964,  34.7292,2,  34.7265,2,    191.0,2,  1.4437,    191.5,2,   101.15,2,    31.73,2,     0.00,2,     2.16,2, -999.000,9, -999.000,9,   -999.0,9,  -999.00,9,   2257.7,2,    966.5,3,   2363.7,2,     7.61,2, -999.00,  -999.0, -999.00,  -999.0
    31DSCG96_2,  P15S,    97,  2,    207,   1227,2,19960214,1612,-39.0710,-172.1285, 4836,   -999,   3563.8,   1.4963,  34.7281,2,  34.7282,2,    197.1,2,  1.2234,    196.8,2,  -999.00,9,  -999.00,9,  -999.00,9,  -999.00,9, -999.000,9, -999.000,9,   -999.0,9,  -999.00,9,   2257.1,2,    855.4,4,   2367.1,3,     7.61,2, -999.00,  -999.0, -999.00,  -999.0
    31DSCG96_2,  P15S,    97,  2,    206,   1262,2,19960214,1612,-39.0710,-172.1285, 4836,   -999,   3814.4,   1.2945,  34.7231,2,  34.7228,2,    200.0,2,  1.0008,    200.8,2,   111.03,2,    31.82,2,     0.00,2,     2.17,2, -999.000,9, -999.000,9,   -999.0,9,  -999.00,9,   2257.9,2,   1077.7,2,   2365.2,2,     7.61,4, -999.00,  -999.0, -999.00,  -999.0
    31DSCG96_2,  P15S,    97,  2,    205,   1264,2,19960214,1612,-39.0710,-172.1285, 4836,   -999,   4064.9,   1.1280,  34.7160,2,  34.7147,2,    204.7,2,  0.8124,    204.3,2,   115.43,2,    31.99,2,     0.00,2,     2.18,2,    0.027,2,    0.020,2,   -999.0,9,  -999.00,9,   2258.5,2,   1080.2,2,   2368.7,2,     7.61,2, -999.00,  -999.0, -999.00,  -999.0
    31DSCG96_2,  P15S,    97,  2,    204,   1003,2,19960214,1612,-39.0710,-172.1285, 4836,   -999,   4312.1,   1.0115,  34.7109,2,  34.7099,2,    206.6,2,  0.6724,    206.3,2,   119.24,2,    32.14,2,     0.00,2,     2.19,2,    0.039,2,    0.026,2,   -999.0,9,  -999.00,9,   2259.7,2,   1087.9,2,   2366.4,2,     7.61,2, -999.00,  -999.0, -999.00,  -999.0
    31DSCG96_2,  P15S,    97,  2,    203,    999,2,19960214,1612,-39.0710,-172.1285, 4836,   -999,   4562.6,   0.9572,  34.7076,2,  34.7055,2,    208.2,2,  0.5919,    207.3,2,   121.56,2,    32.21,2,     0.00,2,     2.20,2,    0.050,2,    0.033,2,   -999.0,9,  -999.00,9,   2260.6,2,   1088.6,2,   2368.2,2,     7.61,2, -999.00,  -999.0, -999.00,  -999.0
    31DSCG96_2,  P15S,    97,  2,    202,   1030,2,19960214,1612,-39.0710,-172.1285, 4836,   -999,   4816.8,   0.9386,  34.7051,2,  34.7041,2,    208.8,2,  0.5447,    208.1,2,   123.14,2,    32.32,2,     0.00,2,     2.21,2,    0.066,2,    0.039,2,   -999.0,9,  -999.00,9,   2261.4,2,   1094.3,2,   2372.1,2,     7.61,2, -999.00,  -999.0, -999.00,  -999.0
    31DSCG96_2,  P15S,    97,  2,    201,   1022,2,19960214,1612,-39.0710,-172.1285, 4836,   -999,   4927.5,   0.9511,  34.7051,2,  34.7002,3,    208.4,2,  0.5439,    209.0,2,   123.21,6,    32.30,6,     0.00,6,     2.24,3,    0.069,6,    0.037,6,   -999.0,9,  -999.00,9,   2261.0,2,   1096.6,2,   2369.0,2,     7.61,2, -999.00,  -999.0, -999.00,  -999.0