BOTTLE,20220811CCHSIOAMB
EXPOCODE,SECT_ID,STNNBR,CASTNO,SAMPNO,BTLNBR,BTLNBR_FLAG_W,DATE,TIME,LATITUDE,LONGITUDE,DEPTH,CTDRAW,CTDPRS,CTDTMP,CTDSAL,CTDSAL_FLAG_W,SALNTY,SALNTY_FLAG_W,CTDOXY,CTDOXY_FLAG_W,THETA,OXYGEN,OXYGEN_FLAG_W,SILCAT,SILCAT_FLAG_W,NITRAT,NITRAT_FLAG_W,NITRIT,NITRIT_FLAG_W,PHSPHT,PHSPHT_FLAG_W,CFC-11,CFC-11_FLAG_W,CFC-12,CFC-12_FLAG_W,DELC14,DELC14_FLAG_W,DELC13,DELC13_FLAG_W,TCARBN,TCARBN_FLAG_W,PCO2,PCO2_FLAG_W,ALKALI,ALKALI_FLAG_W,PH,PH_FLAG_W,PCO2TMP,C14ERR,PH_TMP,C13ERR
,,,,,,,,,,,,DBAR,DBAR,ITS-90,PSS-78,,PSS-78,,UMOL/KG,,DEG C,UMOL/KG,,UMOL/KG,,UMOL/KG,,UMOL/KG,,UMOL/KG,,PMOL/KG,,PMOL/KG,,/MILLE,,/MILLE,,UMOL/KG,,UATM,,UMOL/KG,,,,DEG C,/MILLE,DEG C,/MILLE
    31DSCG96_2,  P15S,   132,  1,    136,   1245,2,19960224,0448,-22.5000,-169.9983, 5609,   -999,      5.1,  27.8460,  34.7999,2,  34.8053,3,   -999.0,9, 27.8448,    199.2,6,     1.02,2,     0.02,2,     0.00,2,     0.00,3,    1.651,2,    0.964,2,   -999.0,9,  -999.00,9,   1913.9,2,    232.3,2,   2283.1,2,     8.15,2, -999.00,  -999.0, -999.00,  -999.0
    31DSCG96_2,  P15S,   132,  1,    135,   1113,2,19960224,0448,-22.5000,-169.9983, 5609,   -999,     19.2,  27.8427,  34.7973,2,  34.7976,2,   -999.0,9, 27.8382,    199.1,2,     1.14,2,     0.02,2,     0.00,2,     0.01,3,    1.678,2,    0.956,2,   -999.0,9,  -999.00,9,   1914.3,2,    227.8,2,   2286.3,2,     8.16,2, -999.00,  -999.0, -999.00,  -999.0
    31DSCG96_2,  P15S,   132,  1,    134,   1216,2,19960224,0448,-22.5000,-169.9983, 5609,   -999,     45.5,  25.9207,  35.3520,2,  35.3545,2,   -999.0,9, 25.9105,    213.0,2,     1.15,2,     0.02,2,     0.00,2,     0.06,2,    1.851,2,    1.042,2,   -999.0,9,  -999.00,9,   1958.0,2,    243.3,2,   2321.1,2,     8.13,2, -999.00,  -999.0, -999.00,  -999.0
    31DSCG96_2,  P15S,   132,  1,    133,   1221,2,19960224,0448,-22.5000,-169.9983, 5609,   -999,     70.0,  24.0829,  35.6221,2,  35.6156,2,   -999.0,9, 24.0681,    210.4,2,     1.16,2,     0.02,2,     0.00,2,     0.09,2,    1.947,6,    1.079,6,   -999.0,9,  -999.00,9,   1989.0,2,    262.1,2,   2340.0,2,     8.11,2, -999.00,  -999.0, -999.00,  -999.0
    31DSCG96_2,  P15S,   132,  1,    132,   1039,2,19960224,0448,-22.5000,-169.9983, 5609,   -999,     95.6,  23.0837,  35.7718,2,  35.7695,2,   -999.0,9, 23.0641,    203.3,2,     1.16,2,     0.02,2,     0.00,2,     0.14,2,    1.992,2,    1.096,2,   -999.0,9,  -999.00,9,   2012.7,2,    285.4,2,   2349.6,2,     8.08,2, -999.00,  -999.0, -999.00,  -999.0
    31DSCG96_2,  P15S,   132,  1,    131,   1014,2,19960224,0448,-22.5000,-169.9983, 5609,   -999,    140.7,  21.5291,  35.7701,2,  35.7742,2,   -999.0,9, 21.5016,    194.3,2,     1.17,2,     0.37,2,     0.17,2,     0.19,2,    2.060,2,    1.123,2,   -999.0,9,  -999.00,9,   -999.0,9,   -999.0,9,   -999.0,9,  -999.00,9, -999.00,  -999.0, -999.00,  -999.0
    31DSCG96_2,  P15S,   132,  1,    130,   1257,2,19960224,0448,-22.5000,-169.9983, 5609,   -999,    190.5,  20.0933,  35.7251,2,  35.7265,2,   -999.0,9, 20.0578,    185.8,2,     1.36,2,     2.54,2,     0.01,2,     0.31,2,    2.085,2,    1.097,2,   -999.0,9,  -999.00,9,   2057.1,2,    354.1,2,   2346.5,2,     8.00,2, -999.00,  -999.0, -999.00,  -999.0
    31DSCG96_2,  P15S,   132,  1,    129,   1256,2,19960224,0448,-22.5000,-169.9983, 5609,   -999,    242.7,  18.6286,  35.6191,2,  35.6177,2,   -999.0,9, 18.5857,    186.0,2,     1.64,2,     3.85,2,     0.01,2,     0.38,2,    2.073,2,    1.100,2,   -999.0,9,  -999.00,9,   2064.6,2,    380.1,2,   2336.7,2,     7.98,2, -999.00,  -999.0, -999.00,  -999.0
    31DSCG96_2,  P15S,   132,  1,    128,   1007,2,19960224,0448,-22.5000,-169.9983, 5609,   -999,    285.0,  17.5160,  35.5250,2,  35.5256,2,   -999.0,9, 17.4677,    189.9,2,     1.82,2,     4.54,2,     0.01,2,     0.43,2,    2.098,2,    1.098,2,   -999.0,9,  -999.00,9,   2069.5,2,    425.3,2,   2332.9,2,     7.96,2, -999.00,  -999.0, -999.00,  -999.0
    31DSCG96_2,  P15S,   132,  1,    127,   1232,2,19960224,0448,-22.5000,-169.9983, 5609,   -999,    373.6,  14.8820,  35.2203,2,  35.2087,2,   -999.0,9, 14.8254,    187.3,2,     3.00,2,     8.33,2,     0.00,2,     0.70,2,    1.870,2,    0.965,2,   -999.0,9,  -999.00,9,   2091.8,2,    484.4,2,   2313.7,2,     7.89,2, -999.00,  -999.0, -999.00,  -999.0
    31DSCG96_2,  P15S,   132,  1,    126,   1025,2,19960224,0448,-22.5000,-169.9983, 5609,   -999,    475.8,  11.2319,  34.7862,2,  34.7930,2,   -999.0,9, 11.1718,    184.5,2,     5.76,2,    15.55,2,     0.00,2,     1.16,2, -999.000,5, -999.000,5,   -999.0,9,  -999.00,9,   2121.4,2,    628.9,2,   2297.7,2,     7.79,2, -999.00,  -999.0, -999.00,  -999.0
    31DSCG96_2,  P15S,   132,  1,    125,   1119,2,19960224,0448,-22.5000,-169.9983, 5609,   -999,    573.6,   8.4299,  34.5058,2,  34.5054,2,   -999.0,9,  8.3691,    189.0,2,     9.86,2,    22.18,2,     0.00,2,     1.58,2,    0.845,2,    0.421,2,   -999.0,9,  -999.00,9,   2145.9,2,    774.9,2,   2287.2,2,     7.72,2, -999.00,  -999.0, -999.00,  -999.0
    31DSCG96_2,  P15S,   132,  1,    124,   1013,2,19960224,0448,-22.5000,-169.9983, 5609,   -999,    678.8,   6.6302,  34.3783,2,  34.3775,2,   -999.0,9,  6.5670,    199.9,6,    14.22,2,    26.18,2,     0.00,2,     1.82,2,    0.498,2,    0.255,2,   -999.0,9,  -999.00,9,   2158.8,2,    847.4,2,   2287.6,2,     7.68,2, -999.00,  -999.0, -999.00,  -999.0
    31DSCG96_2,  P15S,   132,  1,    123,   1250,2,19960224,0448,-22.5000,-169.9983, 5609,   -999,    779.1,   5.7585,  34.3600,2,  34.3587,2,   -999.0,9,  5.6905,    187.7,2,    22.55,2,    29.36,2,     0.00,2,     2.03,2,    0.200,2,    0.107,2,   -999.0,9,  -999.00,9,   2179.1,2,    941.1,2,   2292.6,2,     7.65,2, -999.00,  -999.0, -999.00,  -999.0
    31DSCG96_2,  P15S,   132,  1,    122,   1265,2,19960224,0448,-22.5000,-169.9983, 5609,   -999,    870.3,   5.0987,  34.3608,2,  34.3595,2,   -999.0,9,  5.0266,    181.6,2,    30.45,2,    31.19,2,     0.00,2,     2.15,2,    0.090,2,    0.049,2,   -999.0,9,  -999.00,9,   2193.3,2,    991.6,2,   2301.6,2,     7.62,2, -999.00,  -999.0, -999.00,  -999.0
    31DSCG96_2,  P15S,   132,  1,    121,   1246,2,19960224,0448,-22.5000,-169.9983, 5609,   -999,    979.0,   4.4754,  34.3953,2,  34.3929,2,   -999.0,9,  4.3980,    169.4,2,    42.87,2,    33.09,2,     0.00,2,     2.29,2,    0.033,2,    0.016,2,   -999.0,9,  -999.00,9,   2213.9,2,   1068.3,2,   2312.2,2,     7.60,2, -999.00,  -999.0, -999.00,  -999.0
    31DSCG96_2,  P15S,   132,  1,    120,   1015,2,19960224,0448,-22.5000,-169.9983, 5609,   -999,   1072.1,   4.0642,  34.4353,2,  34.4355,2,   -999.0,9,  3.9821,    159.9,2,    54.81,2,    34.27,2,     0.00,2,     2.38,2,    0.007,2,    0.004,2,   -999.0,9,  -999.00,9,   2232.9,2,   1125.8,2,   2326.9,2,     7.58,2, -999.00,  -999.0, -999.00,  -999.0
    31DSCG96_2,  P15S,   132,  1,    119,   1247,2,19960224,0448,-22.5000,-169.9983, 5609,   -999,   1213.0,   3.3821,  34.4689,2,  34.4680,2,   -999.0,9,  3.2942,    163.0,2,    66.38,2,    34.60,2,     0.00,2,     2.39,2,    0.003,6,    0.004,6,   -999.0,9,  -999.00,9,   2243.8,2,   1162.3,2,   2337.4,2,     7.58,2, -999.00,  -999.0, -999.00,  -999.0
    31DSCG96_2,  P15S,   132,  1,    118,   1299,2,19960224,0448,-22.5000,-169.9983, 5609,   -999,   1436.5,   2.7562,  34.5492,2,  34.5500,2,   -999.0,9,  2.6564,    155.7,2,    87.53,2,    35.19,2,     0.00,2,     2.44,2,    0.016,4,    0.002,2,   -999.0,9,  -999.00,9,   2267.8,2,   1170.8,2,   2362.8,2,     7.57,2, -999.00,  -999.0, -999.00,  -999.0
    31DSCG96_2,  P15S,   132,  1,    117,   1267,2,19960224,0448,-22.5000,-169.9983, 5609,   -999,   1689.5,   2.4638,  34.6017,2,  34.6023,2,   -999.0,9,  2.3467,    148.4,2,   104.77,2,    35.81,2,     0.00,2,     2.50,2,    0.000,2,    0.001,2,   -999.0,9,  -999.00,9,   2289.1,2,   1192.6,2,   2381.8,2,     7.57,2, -999.00,  -999.0, -999.00,  -999.0
    31DSCG96_2,  P15S,   132,  1,    116,   1259,2,19960224,0448,-22.5000,-169.9983, 5609,   -999,   1938.7,   2.2654,  34.6261,2,  34.6245,2,   -999.0,9,  2.1302,    144.9,2,   114.77,2,    36.13,2,     0.00,2,     2.52,2,    0.000,2,    0.002,2,   -999.0,9,  -999.00,9,   2302.0,2,   1200.3,2,   2393.9,2,     7.57,2, -999.00,  -999.0, -999.00,  -999.0
    31DSCG96_2,  P15S,   132,  1,    115,   1041,2,19960224,0448,-22.5000,-169.9983, 5609,   -999,   2202.4,   2.1020,  34.6408,2,  34.6401,2,   -999.0,9,  1.9465,    144.8,2,   121.04,2,    36.25,2,     0.00,2,     2.53,3,    0.000,2,    0.002,2,   -999.0,9,  -999.00,9,   2308.0,2,   1206.5,2,   2401.2,2,     7.57,2, -999.00,  -999.0, -999.00,  -999.0
    31DSCG96_2,  P15S,   132,  1,    114,   1017,2,19960224,0448,-22.5000,-169.9983, 5609,   -999,   2437.9,   1.9625,  34.6532,2,  34.6516,2,   -999.0,9,  1.7885,    145.1,2,   126.58,2,    36.33,2,     0.00,2,     2.53,2,    0.000,2,    0.001,2,   -999.0,9,  -999.00,9,   2312.2,2,   1203.7,2,   2402.5,2,     7.57,2, -999.00,  -999.0, -999.00,  -999.0
    31DSCG96_2,  P15S,   132,  1,    113,   1302,2,19960224,0448,-22.5000,-169.9983, 5609,   -999,   2689.7,   1.8533,  34.6619,2,  34.6611,2,   -999.0,9,  1.6583,    145.3,6,   130.83,2,    36.31,2,     0.00,2,     2.53,2,    0.001,2,    0.001,2,   -999.0,9,  -999.00,9,   2316.4,2,   1199.5,2,   2409.3,2,     7.57,2, -999.00,  -999.0, -999.00,  -999.0
    31DSCG96_2,  P15S,   132,  1,    112,   1217,2,19960224,0448,-22.5000,-169.9983, 5609,   -999,   2939.4,   1.7525,  34.6703,2,  34.6696,2,   -999.0,9,  1.5360,   -999.0,9,   133.29,2,    36.14,2,     0.00,2,     2.51,2, -999.000,5, -999.000,5,   -999.0,9,  -999.00,9,   -999.0,9,   -999.0,9,   2412.5,2,  -999.00,9, -999.00,  -999.0, -999.00,  -999.0
    31DSCG96_2,  P15S,   132,  1,    111,   1226,2,19960224,0448,-22.5000,-169.9983, 5609,   -999,   3186.3,   1.6474,  34.6796,2,  34.6782,2,   -999.0,9,  1.4092,    155.8,2,   132.48,2,    35.57,2,     0.00,2,     2.50,3,    0.001,2,    0.001,2,   -999.0,9,  -999.00,9,   2311.0,2,   1167.4,2,   2407.2,2,     7.58,2, -999.00,  -999.0, -999.00,  -999.0
    31DSCG96_2,  P15S,   132,  1,    110,   1301,2,19960224,0448,-22.5000,-169.9983, 5609,   -999,   3437.4,   1.5439,  34.6972,2,  34.6964,2,   -999.0,9,  1.2829,    172.0,2,   123.14,2,    34.12,2,     0.00,2,     2.36,2, -999.000,5, -999.000,5,   -999.0,9,  -999.00,9,   -999.0,9,   -999.0,9,   -999.0,9,  -999.00,9, -999.00,  -999.0, -999.00,  -999.0
    31DSCG96_2,  P15S,   132,  1,    109,   1233,2,19960224,0448,-22.5000,-169.9983, 5609,   -999,   3655.4,   1.4372,  34.7132,2,  34.7118,2,   -999.0,9,  1.1564,    188.5,2,   114.30,2,    32.71,2,     0.00,2,     2.25,2,    0.003,2,    0.002,2,   -999.0,9,  -999.00,9,   2270.4,2,   1073.9,2,   2375.2,2,     7.60,2, -999.00,  -999.0, -999.00,  -999.0
    31DSCG96_2,  P15S,   132,  1,    108,   1227,2,19960224,0448,-22.5000,-169.9983, 5609,   -999,   3934.9,   1.2681,  34.7189,2,  34.7178,2,   -999.0,9,  0.9624,    199.6,2,   112.62,2,    32.05,2,     0.00,2,     2.20,2,    0.006,2,    0.003,2,   -999.0,9,  -999.00,9,   2259.9,2,   1086.2,2,   2375.2,3,     7.61,2, -999.00,  -999.0, -999.00,  -999.0
    31DSCG96_2,  P15S,   132,  1,    107,   1263,2,19960224,0448,-22.5000,-169.9983, 5609,   -999,   4189.3,   1.1405,  34.7151,2,  34.7155,2,   -999.0,9,  0.8111,    203.2,2,   115.55,2,    32.02,2,     0.00,2,     2.20,2,    0.006,2,    0.005,2,   -999.0,9,  -999.00,9,   2258.2,2,   1055.9,2,   -999.0,9,     7.61,2, -999.00,  -999.0, -999.00,  -999.0
    31DSCG96_2,  P15S,   132,  1,    106,   1262,2,19960224,0448,-22.5000,-169.9983, 5609,   -999,   4439.8,   1.0616,  34.7122,2,  34.7107,2,   -999.0,9,  0.7068,    205.2,2,   118.24,2,    32.19,2,     0.00,2,     2.21,2,    0.008,2,    0.004,2,   -999.0,9,  -999.00,9,   2259.8,2,   1055.0,2,   2365.6,2,     7.61,2, -999.00,  -999.0, -999.00,  -999.0
    31DSCG96_2,  P15S,   132,  1,    105,   1264,2,19960224,0448,-22.5000,-169.9983, 5609,   -999,   4724.1,   1.0280,  34.7095,2,  34.7084,2,   -999.0,9,  0.6419,    206.4,2,   120.00,2,    32.23,2,     0.00,2,     2.21,2,    0.008,2,    0.004,2,   -999.0,9,  -999.00,9,   2260.8,2,   1057.3,2,   2368.4,2,     7.61,2, -999.00,  -999.0, -999.00,  -999.0
    31DSCG96_2,  P15S,   132,  1,    104,   1003,2,19960224,0448,-22.5000,-169.9983, 5609,   -999,   5024.2,   1.0390,  34.7083,2,  34.7079,2,   -999.0,9,  0.6173,    206.2,2,   120.71,2,    32.22,2,     0.00,2,     2.22,2,    0.007,2,    0.005,2,   -999.0,9,  -999.00,9,   2260.1,2,   1059.5,2,   2370.2,2,     7.61,2, -999.00,  -999.0, -999.00,  -999.0
    31DSCG96_2,  P15S,   132,  1,    103,   1035,2,19960224,0448,-22.5000,-169.9983, 5609,   -999,   5323.7,   1.0675,  34.7078,2,  34.7072,2,   -999.0,9,  0.6085,    206.2,2,   120.90,2,    32.29,2,     0.00,2,     2.23,3,    0.007,2,    0.005,2,   -999.0,9,  -999.00,9,   2261.2,2,   1056.7,2,   2371.6,2,     7.61,2, -999.00,  -999.0, -999.00,  -999.0
    31DSCG96_2,  P15S,   132,  1,    102,   1030,2,19960224,0448,-22.5000,-169.9983, 5609,   -999,   5622.0,   1.0995,  34.7074,2,  34.7075,2,   -999.0,9,  0.6019,    206.7,2,   121.49,2,    32.26,2,     0.00,2,     2.27,3,    0.013,6,    0.007,6,   -999.0,9,  -999.00,9,   2261.0,2,   1050.3,2,   2367.7,2,     7.61,2, -999.00,  -999.0, -999.00,  -999.0
    31DSCG96_2,  P15S,   132,  1,    101,   1022,2,19960224,0448,-22.5000,-169.9983, 5609,   -999,   5750.2,   1.1152,  34.7072,2,  34.7081,2,   -999.0,9,  0.6006,    206.7,6,   121.41,6,    32.29,6,     0.00,6,     2.23,6,    0.010,2,    0.007,2,   -999.0,9,  -999.00,9,   2259.7,2,   1051.5,2,   2367.7,2,     7.61,2, -999.00,  -999.0, -999.00,  -999.0