BOTTLE,20220810CCHSIOAMB
EXPOCODE,SECT_ID,LINE,STNNBR,CASTNO,SAMPNO,BTLNBR,BTLNBR_FLAG_W,DATE,TIME,LATITUDE,LONGITUDE,DEPTH,CTDPRS,CTDTMP,CTDSAL,CTDSAL_FLAG_W,SALNTY,SALNTY_FLAG_W,CTDOXY,CTDOXY_FLAG_W,OXYGEN,OXYGEN_FLAG_W,SILCAT,SILCAT_FLAG_W,NITRAT,NITRAT_FLAG_W,NITRIT,NITRIT_FLAG_W,PHSPHT,PHSPHT_FLAG_W,TCARBN,TCARBN_FLAG_W,ALKALI,ALKALI_FLAG_W,THETA,BTL_DATE,BTL_TIME
,,,,,,,,,,,,METERS,DBAR,ITS-90,PSS-78,,PSS-78,,UMOL/KG,,UMOL/KG,,UMOL/KG,,UMOL/KG,,UMOL/KG,,UMOL/KG,,UMOL/KG,,UMOL/KG,,DEG C,,
  32WC20070511,NACPWC,        3,    20,  1, 200101,      1,2,20070519,0433, 46.8700,-125.7300, 1905,   1886.6,   2.0000,   34.5900,2,  34.5900,2,     53.7,2,     53.5,2,   180.35,6,  -999.00,9,     0.00,6,     2.86,6,   2393.8,6,   2413.0,6,   1.8731,20070519,0433
  32WC20070511,NACPWC,        3,    20,  1, 200102,      2,2,20070519,0433, 46.8700,-125.7300, 1905,   1500.1,   2.5000,   34.5300,2,-999.0000,9,     34.5,2,     34.7,2,   167.29,6,  -999.00,5,     0.00,6,     2.92,6,   2395.2,2,   2403.0,2,   2.3980,20070519,0446
  32WC20070511,NACPWC,        3,    20,  1, 200103,      3,2,20070519,0433, 46.8700,-125.7300, 1905,   1200.1,   3.0000,   34.4700,2,-999.0000,9,     17.4,2,     17.5,2,   150.94,6,  -999.00,5,     0.00,6,     3.02,6,   2388.7,2,   2383.1,2,   2.9167,20070519,0455
  32WC20070511,NACPWC,        3,    20,  1, 200104,      4,2,20070519,0433, 46.8700,-125.7300, 1905,    801.2,   4.0000,   34.3100,2,-999.0000,9,      8.9,2,      9.8,2,   121.95,2,  -999.00,5,     0.00,2,     3.04,2,   2362.1,2,   2347.1,2,   3.9408,20070519,0506
  32WC20070511,NACPWC,        3,    20,  1, 200105,      5,2,20070519,0433, 46.8700,-125.7300, 1905,    500.6,   4.9000,   34.1400,2,-999.0000,9,     22.9,2,     23.8,2,    93.21,2,  -999.00,5,     0.00,2,     2.85,2,   2323.2,2,   2313.4,2,   4.8608,20070519,0514
  32WC20070511,NACPWC,        3,    20,  1, 200106,      6,2,20070519,0433, 46.8700,-125.7300, 1905,    350.2,   5.8000,   34.0400,2,-999.0000,9,     48.2,2,     47.7,2,    72.51,6,  -999.00,5,     0.01,6,     2.65,6,   2285.0,2,   2287.2,2,   5.7706,20070519,0518
  32WC20070511,NACPWC,        3,    20,  1, 200107,      7,2,20070519,0433, 46.8700,-125.7300, 1905,    299.7,   6.1000,   34.0100,2,-999.0000,9,     55.5,2,     60.6,2,    65.76,6,  -999.00,5,     0.01,6,     2.48,6,   2270.2,2,   2280.5,2,   6.0742,20070519,0521
  32WC20070511,NACPWC,        3,    20,  1, 200108,      8,2,20070519,0433, 46.8700,-125.7300, 1905,    250.1,   6.6000,   33.9900,2,-999.0000,9,     72.9,2,     71.5,2,    58.82,2,  -999.00,5,     0.01,2,     2.36,2,   2253.7,2,   2271.4,2,   6.5776,20070519,0523
  32WC20070511,NACPWC,        3,    20,  1, 200109,      9,2,20070519,0433, 46.8700,-125.7300, 1905,    199.9,   7.0000,   33.9500,2,-999.0000,9,     87.6,2,     89.6,2,    51.09,2,  -999.00,5,     0.01,2,     2.19,2,   2231.4,2,   2264.4,2,   6.9816,20070519,0525
  32WC20070511,NACPWC,        3,    20,  1, 200110,     10,2,20070519,0433, 46.8700,-125.7300, 1905,    175.2,   7.3000,   33.9200,2,-999.0000,9,    103.7,2,    103.0,2,    46.39,6,  -999.00,5,     0.02,6,     2.10,6,   2218.2,2,   2256.6,2,   7.2835,20070519,0527
  32WC20070511,NACPWC,        3,    20,  1, 200111,     11,2,20070519,0433, 46.8700,-125.7300, 1905,    150.3,   7.6000,   33.8600,2,-999.0000,9,    108.8,2,    110.0,2,    42.37,6,  -999.00,5,     0.02,6,     2.05,6,   2209.1,2,   2251.5,2,   7.5855,20070519,0528
  32WC20070511,NACPWC,        3,    20,  1, 200112,     12,2,20070519,0433, 46.8700,-125.7300, 1905,    131.0,   7.8000,   33.7700,2,-999.0000,9,    121.5,2,    120.4,2,    38.75,2,  -999.00,5,     0.02,2,     1.97,2,   2197.4,2,   2246.0,2,   7.7872,20070519,0530
  32WC20070511,NACPWC,        3,    20,  1, 200113,     13,2,20070519,0433, 46.8700,-125.7300, 1905,    110.6,   8.1000,   33.5100,2,-999.0000,9,    154.8,2,    152.2,2,    31.80,2,  -999.00,5,     0.02,2,     1.77,2,   2163.2,2,   2228.7,2,   8.0890,20070519,0532
  32WC20070511,NACPWC,        3,    20,  1, 200114,     14,2,20070519,0433, 46.8700,-125.7300, 1905,     89.9,   8.5000,   32.9700,2,-999.0000,9,    210.3,2,    205.0,2,    22.47,2,  -999.00,5,     0.03,2,     1.40,2,   2109.0,2,   2204.9,2,   8.4909,20070519,0533
  32WC20070511,NACPWC,        3,    20,  1, 200115,     15,2,20070519,0433, 46.8700,-125.7300, 1905,     69.8,   8.6000,   32.4900,2,-999.0000,9,    276.0,2,    279.2,2,    12.13,2,  -999.00,5,     0.20,2,     0.87,2,   2030.5,2,   2174.5,2,   8.5929,20070519,0535
  32WC20070511,NACPWC,        3,    20,  1, 200116,     16,2,20070519,0433, 46.8700,-125.7300, 1905,     59.8,   8.7000,   32.4400,2,-999.0000,9,    284.9,2,    287.0,2,    11.22,2,  -999.00,5,     0.58,2,     0.81,2,   2022.2,2,   2174.6,2,   8.6939,20070519,0536
  32WC20070511,NACPWC,        3,    20,  1, 200117,     17,2,20070519,0433, 46.8700,-125.7300, 1905,     50.6,   9.0000,   32.4200,2,-999.0000,9,    290.4,2,    292.8,2,    10.40,2,  -999.00,5,     0.22,2,     0.76,2,   2014.3,2,   2171.8,2,   8.9947,20070519,0538
  32WC20070511,NACPWC,        3,    20,  1, 200118,     18,2,20070519,0433, 46.8700,-125.7300, 1905,     40.5,   9.1000,   32.4000,2,-999.0000,9,    292.4,2,    295.5,6,    10.07,2,  -999.00,5,     0.15,2,     0.71,2,   2009.5,2,   2172.1,2,   9.0958,20070519,0539
  32WC20070511,NACPWC,        3,    20,  1, 200119,     19,2,20070519,0433, 46.8700,-125.7300, 1905,     30.2,  10.2000,   32.3400,2,-999.0000,9,    291.9,2,    293.7,2,     9.87,2,  -999.00,5,     0.07,2,     0.55,2,   1993.3,2,   2165.8,2,  10.1966,20070519,0540
  32WC20070511,NACPWC,        3,    20,  1, 200120,     20,2,20070519,0433, 46.8700,-125.7300, 1905,     24.6,  10.4000,   32.3300,2,-999.0000,9,    296.4,2,    296.9,2,    10.15,2,  -999.00,5,     0.07,2,     0.56,2,   1988.3,2,   2169.2,2,  10.3972,20070519,0541
  32WC20070511,NACPWC,        3,    20,  1, 200121,     21,2,20070519,0433, 46.8700,-125.7300, 1905,     19.9,  10.6000,   32.2900,2,-999.0000,9,    299.1,2,    300.1,2,     9.35,2,  -999.00,5,     0.05,2,     0.48,2,   1978.7,2,   2166.3,2,  10.5977,20070519,0542
  32WC20070511,NACPWC,        3,    20,  1, 200122,     22,2,20070519,0433, 46.8700,-125.7300, 1905,     15.4,  11.0000,   32.0200,2,-999.0000,9,    301.4,2,    302.8,2,     9.28,2,  -999.00,5,     0.02,2,     0.37,2,   1964.0,2,   2161.1,2,  10.9982,20070519,0542
  32WC20070511,NACPWC,        3,    20,  1, 200123,     23,2,20070519,0433, 46.8700,-125.7300, 1905,     10.0,  12.0000,   31.0700,2,  31.0800,2,    286.0,2,    289.0,2,     5.26,2,  -999.00,5,     0.01,2,     0.18,2,   1917.6,2,   2126.9,2,  11.9988,20070519,0543
  32WC20070511,NACPWC,        3,    20,  1, 200124,     24,2,20070519,0433, 46.8700,-125.7300, 1905,      5.3,  12.1000,   30.8200,2,-999.0000,9,    285.7,2,    284.9,2,     4.64,2,  -999.00,5,     0.01,2,     0.16,2,   1911.7,2,   2121.8,2,  12.0993,20070519,0544
  32WC20070511,NACPWC,        3,    21,  1, 210101,      1,2,20070518,2331, 47.1600,-125.1300, 1141,   1139.8,   3.2000,   34.4400,2,  34.4400,2,     15.5,2,     15.9,2,   145.28,2,  -999.00,5,     0.01,2,     3.00,2,   2379.4,6,   2376.0,2,   3.1197,20070518,2331
  32WC20070511,NACPWC,        3,    21,  1, 210102,      2,2,20070518,2331, 47.1600,-125.1300, 1141,   1099.7,   3.3000,   34.4300,2,-999.0000,9,     14.4,2,     14.5,2,   143.75,6,  -999.00,5,     0.01,6,     3.06,6,   2380.5,2,   2370.8,2,   3.2220,20070518,2334
  32WC20070511,NACPWC,        3,    21,  1, 210103,      3,2,20070518,2331, 47.1600,-125.1300, 1141,   1001.2,   3.5000,   34.4000,2,-999.0000,9,     11.5,2,     11.4,2,   137.38,2,  -999.00,5,     0.01,2,     3.02,2,   2374.7,2,   2364.2,2,   3.4283,20070518,2337
  32WC20070511,NACPWC,        3,    21,  1, 210104,      4,2,20070518,2331, 47.1600,-125.1300, 1141,    800.2,   4.0000,   34.3200,2,-999.0000,9,      9.1,2,      9.8,2,   123.28,2,  -999.00,5,     0.00,2,     3.01,2,   2360.0,2,   2344.3,2,   3.9409,20070518,2342
  32WC20070511,NACPWC,        3,    21,  1, 210105,      5,2,20070518,2331, 47.1600,-125.1300, 1141,    500.2,   4.9000,   34.1500,2,-999.0000,9,     22.3,2,     22.8,2,    94.47,2,  -999.00,5,     0.00,2,     2.86,2,   2323.3,2,   2227.0,4,   4.8608,20070518,2350
  32WC20070511,NACPWC,        3,    21,  1, 210106,      6,2,20070518,2331, 47.1600,-125.1300, 1141,    349.3,   5.8000,   34.0700,2,-999.0000,9,     41.1,2,     40.7,2,    76.09,6,  -999.00,5,     0.01,6,     2.70,6,   2288.9,2,   2288.0,2,   5.7706,20070518,2354
  32WC20070511,NACPWC,        3,    21,  1, 210107,      7,2,20070518,2331, 47.1600,-125.1300, 1141,    302.1,   6.1000,   34.0500,2,-999.0000,9,     49.9,2,     50.0,2,    69.61,6,  -999.00,5,     0.01,6,     2.58,6,   2278.9,2,   2282.9,2,   6.0740,20070518,2356
  32WC20070511,NACPWC,        3,    21,  1, 210108,      8,2,20070518,2331, 47.1600,-125.1300, 1141,    249.6,   6.6000,   34.0200,2,-999.0000,9,     62.4,2,     62.0,2,    61.06,2,  -999.00,5,     0.01,2,     2.44,2,   2262.3,2,   2272.0,2,   6.5777,20070518,2359
  32WC20070511,NACPWC,        3,    21,  1, 210109,      9,2,20070518,2331, 47.1600,-125.1300, 1141,    199.6,   7.0000,   33.9800,2,-999.0000,9,     73.1,2,     72.8,2,    54.30,2,  -999.00,5,     0.02,2,     2.33,2,   2248.7,2,   2264.1,2,   6.9816,20070518,0001
  32WC20070511,NACPWC,        3,    21,  1, 210110,     10,2,20070518,2331, 47.1600,-125.1300, 1141,    175.3,   7.3000,   33.9400,2,-999.0000,9,     85.8,2,     85.4,2,    49.57,6,  -999.00,5,     0.03,6,     2.23,6,   2235.3,2,   2257.9,2,   7.2835,20070518,0003
  32WC20070511,NACPWC,        3,    21,  1, 210111,     11,2,20070518,2331, 47.1600,-125.1300, 1141,    150.5,   7.7000,   33.8900,2,-999.0000,9,     96.1,2,     94.9,2,    44.96,6,  -999.00,5,     0.02,6,     2.17,6,   2220.7,2,   2249.8,2,   7.6854,20070518,0005
  32WC20070511,NACPWC,        3,    21,  1, 210112,     12,2,20070518,2331, 47.1600,-125.1300, 1141,    129.6,   7.9000,   33.8100,2,-999.0000,9,    110.2,2,    108.4,2,    41.10,2,  -999.00,5,     0.03,2,     2.07,2,   2208.5,2,   2243.8,2,   7.8873,20070518,0006
  32WC20070511,NACPWC,        3,    21,  1, 210113,     13,2,20070518,2331, 47.1600,-125.1300, 1141,    109.4,   8.1000,   33.6000,2,-999.0000,9,    135.4,2,    135.9,6,    36.15,2,  -999.00,5,     0.03,2,     1.90,2,   2183.4,2,   2233.8,2,   8.0891,20070518,0008
  32WC20070511,NACPWC,        3,    21,  1, 210114,     14,2,20070518,2331, 47.1600,-125.1300, 1141,     89.9,   7.9000,   33.1900,2,-999.0000,9,    188.1,2,    183.6,2,    29.45,4,  -999.00,5,     0.02,2,     1.62,2,   2133.4,2,   2211.9,2,   7.8913,20070518,0009
  32WC20070511,NACPWC,        3,    21,  1, 210115,     15,2,20070518,2331, 47.1600,-125.1300, 1141,     69.7,   8.0000,   32.5500,2,-999.0000,9,    271.1,2,    263.7,2,    15.35,2,  -999.00,5,     0.03,2,     1.04,2,   2047.8,2,   2205.4,6,   7.9933,20070518,0011
  32WC20070511,NACPWC,        3,    21,  1, 210116,     16,2,20070518,2331, 47.1600,-125.1300, 1141,     59.8,   8.0000,   32.4400,2,-999.0000,9,    275.2,2,    276.0,2,    13.29,2,  -999.00,5,     0.05,2,     0.95,2,   2031.9,2,   2175.2,2,   7.9942,20070518,0012
  32WC20070511,NACPWC,        3,    21,  1, 210117,     17,2,20070518,2331, 47.1600,-125.1300, 1141,     49.6,   8.2000,   32.4300,2,-999.0000,9,    277.4,2,    277.6,2,    12.68,2,  -999.00,5,     0.07,2,     0.91,2,   2027.7,2,   2169.4,2,   8.1951,20070518,0013
  32WC20070511,NACPWC,        3,    21,  1, 210118,     18,2,20070518,2331, 47.1600,-125.1300, 1141,     39.4,   8.5000,   32.3600,2,-999.0000,9,    285.6,2,    286.8,2,    11.28,2,  -999.00,5,     0.37,2,     0.82,2,   2015.5,2,   2168.8,2,   8.4961,20070518,0015
  32WC20070511,NACPWC,        3,    21,  1, 210119,     19,2,20070518,2331, 47.1600,-125.1300, 1141,     30.0,   8.8000,   32.2700,2,-999.0000,9,    293.1,2,    289.8,2,    11.66,6,  -999.00,5,     0.31,6,     0.79,6,   2004.5,2,   2154.6,2,   8.7969,20070518,0016
  32WC20070511,NACPWC,        3,    21,  1, 210120,     20,2,20070518,2331, 47.1600,-125.1300, 1141,     25.3,   9.6000,   32.0300,2,-999.0000,9,    301.1,2,    297.0,2,    11.71,2,  -999.00,5,     0.16,2,     0.64,2,   1981.9,2,   2158.4,2,   9.5973,20070518,0017
  32WC20070511,NACPWC,        3,    21,  1, 210121,     21,2,20070518,2331, 47.1600,-125.1300, 1141,     19.9,  10.5000,   31.5200,2,-999.0000,9,    326.6,2,    322.5,2,    10.24,2,  -999.00,5,     0.03,2,     0.34,2,   1927.4,2,   2149.0,2,  10.4977,20070518,0018
  32WC20070511,NACPWC,        3,    21,  1, 210122,     22,2,20070518,2331, 47.1600,-125.1300, 1141,     15.1,  11.2000,   31.3800,2,-999.0000,9,    325.9,2,    325.4,2,     8.59,2,  -999.00,5,     0.02,2,     0.21,2,   1905.2,2,   2141.0,2,  11.1982,20070518,0019
  32WC20070511,NACPWC,        3,    21,  1, 210123,     23,3,20070518,2331, 47.1600,-125.1300, 1141,      9.5,  11.5000,   31.3600,2,  31.3600,2,    322.1,2,    321.1,2,     8.38,2,  -999.00,5,     0.02,2,     0.19,2,   1898.3,2,   2142.8,2,  11.4989,20070518,0020
  32WC20070511,NACPWC,        3,    21,  1, 210124,     24,2,20070518,2331, 47.1600,-125.1300, 1141,      4.9,  11.6000,   31.3600,2,-999.0000,9,    321.5,2,    319.6,2,     8.56,2,  -999.00,5,     0.02,2,     0.19,2,   1898.6,2,   2143.3,2,  11.5994,20070518,0020
  32WC20070511,NACPWC,        3,    22,  1, 220101,      1,2,20070518,2103, 47.2500,-124.9200,  582,    550.0,   4.8000,   34.1900,2,  34.1900,2,     19.4,2,     20.1,2,    99.24,6,    45.13,6,     0.03,6,     2.95,6,   2335.2,6,   2317.7,6,   4.7571,20070518,2103
  32WC20070511,NACPWC,        3,    22,  1, 220102,      2,2,20070518,2103, 47.2500,-124.9200,  582,    499.7,   4.9000,   34.1700,2,-999.0000,9,     22.3,2,     21.8,2,    94.81,2,    44.75,2,     0.02,2,     2.93,2,   2331.3,2,   2314.1,2,   4.8608,20070518,2106
  32WC20070511,NACPWC,        3,    22,  1, 220103,      3,2,20070518,2103, 47.2500,-124.9200,  582,    400.0,   5.3000,   34.1300,2,-999.0000,9,     30.3,2,     28.7,2,    86.46,2,    43.29,2,     0.03,2,     2.85,2,   2311.8,3,   2303.9,2,   5.2677,20070518,2109
  32WC20070511,NACPWC,        3,    22,  1, 220104,      4,2,20070518,2103, 47.2500,-124.9200,  582,    350.4,   5.9000,   34.0700,2,-999.0000,9,     44.0,2,     44.8,2,    72.54,2,    41.45,2,     0.02,2,     2.70,2,   2292.6,3,   2287.8,2,   5.8703,20070518,2111
  32WC20070511,NACPWC,        3,    22,  1, 220105,      5,2,20070518,2103, 47.2500,-124.9200,  582,    300.0,   6.0000,   34.0500,2,-999.0000,9,     47.4,2,     48.9,2,    69.76,6,    39.16,2,     0.01,6,     2.63,6,   2285.8,3,   2289.2,2,   5.9744,20070518,2114
  32WC20070511,NACPWC,        3,    22,  1, 220106,      6,2,20070518,2103, 47.2500,-124.9200,  582,    274.9,   6.2000,   34.0200,2,-999.0000,9,     58.1,2,     58.0,2,    65.26,2,    39.54,2,     0.01,2,     2.58,2,   2275.0,3,   2277.9,2,   6.1762,20070518,2115
  32WC20070511,NACPWC,        3,    22,  1, 220107,      7,2,20070518,2103, 47.2500,-124.9200,  582,    250.0,   6.5000,   34.0200,2,-999.0000,9,     61.1,2,     60.8,2,    62.04,2,    37.74,2,     0.01,2,     2.53,2,   -999.0,5,   2275.5,2,   6.4778,20070518,2117
  32WC20070511,NACPWC,        3,    22,  1, 220108,      8,2,20070518,2103, 47.2500,-124.9200,  582,    224.2,   6.7000,   34.0100,2,-999.0000,9,     64.8,2,     64.0,2,    58.74,2,    36.84,2,     0.05,2,     2.48,2,   -999.0,5,   2270.4,2,   6.6798,20070518,2118
  32WC20070511,NACPWC,        3,    22,  1, 220109,      9,2,20070518,2103, 47.2500,-124.9200,  582,    200.0,   6.8000,   33.9700,2,-999.0000,9,     83.1,2,     81.7,2,    54.28,2,    34.83,2,     0.04,2,     2.35,2,   2242.6,3,   2264.6,2,   6.7819,20070518,2120
  32WC20070511,NACPWC,        3,    22,  1, 220110,     10,2,20070518,2103, 47.2500,-124.9200,  582,    174.6,   6.9000,   33.9100,2,-999.0000,9,    108.7,2,    106.0,2,    48.67,2,    32.75,2,     0.03,2,     2.18,2,   2221.5,2,   2257.9,2,   6.8841,20070518,2121
  32WC20070511,NACPWC,        3,    22,  1, 220111,     11,2,20070518,2103, 47.2500,-124.9200,  582,    150.0,   7.2000,   33.8700,2,-999.0000,9,    115.6,2,    116.5,2,    43.60,2,    30.78,2,     0.04,2,     2.08,2,   2209.0,2,   2252.6,2,   7.1860,20070518,2123
  32WC20070511,NACPWC,        3,    22,  1, 220112,     12,2,20070518,2103, 47.2500,-124.9200,  582,    130.7,   7.5000,   33.7900,2,-999.0000,9,    124.1,2,    123.9,2,    39.67,2,    29.71,2,     0.05,2,     2.02,2,   2198.5,2,   2245.0,2,   7.4876,20070518,2124
  32WC20070511,NACPWC,        3,    22,  1, 220113,     13,2,20070518,2103, 47.2500,-124.9200,  582,    110.8,   7.6000,   33.6500,2,-999.0000,9,    138.3,2,    136.9,2,    36.18,2,    28.23,2,     0.05,2,     1.95,2,   2183.5,2,   2235.2,2,   7.5894,20070518,2125
  32WC20070511,NACPWC,        3,    22,  1, 220114,     14,2,20070518,2103, 47.2500,-124.9200,  582,     89.8,   7.7000,   33.4500,2,-999.0000,9,    159.0,2,    151.0,2,    34.10,2,    26.62,2,     0.04,2,     1.87,2,   2169.0,2,   2229.6,2,   7.6914,20070518,2127
  32WC20070511,NACPWC,        3,    22,  1, 220115,     15,2,20070518,2103, 47.2500,-124.9200,  582,     70.2,   7.7000,   33.0100,2,-999.0000,9,    196.8,2,    188.4,2,    29.39,2,    21.97,2,     0.02,2,     1.65,2,   2125.9,2,   2205.4,2,   7.6933,20070518,2128
  32WC20070511,NACPWC,        3,    22,  1, 220116,     16,2,20070518,2103, 47.2500,-124.9200,  582,     60.1,   8.0000,   32.7300,2,-999.0000,9,    231.8,2,    208.3,2,    26.41,6,    18.86,2,     0.03,6,     1.48,6,   2101.3,2,   2190.1,2,   7.9942,20070518,2130
  32WC20070511,NACPWC,        3,    22,  1, 220117,     17,2,20070518,2103, 47.2500,-124.9200,  582,     50.0,   7.8000,   32.4600,2,-999.0000,9,    271.0,2,    258.1,2,    16.77,2,    12.27,2,     0.12,2,     1.17,2,   2054.4,2,   2166.3,4,   7.7953,20070518,2131
  32WC20070511,NACPWC,        3,    22,  1, 220118,     18,2,20070518,2103, 47.2500,-124.9200,  582,     39.6,   8.0000,   32.3500,2,-999.0000,9,    285.3,2,    284.9,2,    11.76,2,     8.51,2,     0.26,2,     0.96,2,   2025.5,2,   2170.1,2,   7.9962,20070518,2132
  32WC20070511,NACPWC,        3,    22,  1, 220119,     19,2,20070518,2103, 47.2500,-124.9200,  582,     30.2,   8.7000,   32.2200,2,-999.0000,9,    291.0,2,    295.4,2,    10.17,2,     5.82,2,     0.16,2,     0.80,2,   2003.6,2,   2163.0,2,   8.6969,20070518,2133
  32WC20070511,NACPWC,        3,    22,  1, 220120,     20,2,20070518,2103, 47.2500,-124.9200,  582,     24.7,   9.5000,   31.7500,2,-999.0000,9,    297.7,2,    295.5,2,    11.49,2,     4.79,2,     0.14,2,     0.70,2,   1989.3,2,   2156.0,2,   9.4974,20070518,2134
  32WC20070511,NACPWC,        3,    22,  1, 220121,     21,2,20070518,2103, 47.2500,-124.9200,  582,     19.8,  10.0000,   31.5500,2,-999.0000,9,    318.2,2,    318.9,2,     8.70,2,     0.43,2,     0.04,2,     0.38,2,   1936.8,2,   2144.0,6,   9.9978,20070518,2135
  32WC20070511,NACPWC,        3,    22,  1, 220122,     22,2,20070518,2103, 47.2500,-124.9200,  582,     15.2,  10.6000,   31.3900,2,-999.0000,9,    326.6,2,    325.3,2,     8.16,2,     0.22,2,     0.01,2,     0.26,2,   1924.3,2,   2142.3,2,  10.5983,20070518,2136
  32WC20070511,NACPWC,        3,    22,  1, 220123,     23,2,20070518,2103, 47.2500,-124.9200,  582,      9.8,  11.4000,   31.2900,2,  31.2900,2,    316.8,2,    316.4,2,     8.55,2,     0.03,2,     0.02,2,     0.24,2,   1909.4,2,   2139.2,2,  11.3988,20070518,2137
  32WC20070511,NACPWC,        3,    22,  1, 220124,     24,2,20070518,2103, 47.2500,-124.9200,  582,      4.8,  11.5000,   31.2900,2,-999.0000,9,    316.1,2,    314.1,2,     8.48,2,     0.00,2,     0.02,2,     0.22,2,   1913.7,2,   2142.5,2,  11.4994,20070518,2137