BOTTLE,20220810CCHSIOAMB
EXPOCODE,SECT_ID,LINE,STNNBR,CASTNO,SAMPNO,BTLNBR,BTLNBR_FLAG_W,DATE,TIME,LATITUDE,LONGITUDE,DEPTH,CTDPRS,CTDTMP,CTDSAL,CTDSAL_FLAG_W,SALNTY,SALNTY_FLAG_W,CTDOXY,CTDOXY_FLAG_W,OXYGEN,OXYGEN_FLAG_W,SILCAT,SILCAT_FLAG_W,NITRAT,NITRAT_FLAG_W,NITRIT,NITRIT_FLAG_W,PHSPHT,PHSPHT_FLAG_W,TCARBN,TCARBN_FLAG_W,ALKALI,ALKALI_FLAG_W,THETA,BTL_DATE,BTL_TIME
,,,,,,,,,,,,METERS,DBAR,ITS-90,PSS-78,,PSS-78,,UMOL/KG,,UMOL/KG,,UMOL/KG,,UMOL/KG,,UMOL/KG,,UMOL/KG,,UMOL/KG,,UMOL/KG,,DEG C,,
  32WC20070511,NACPWC,        9,    72,  1, 720101,      1,2,20070602,0320, 35.0000,-120.8100,  106,     95.6,   9.7000,   34.0100,2,  34.0100,2,    108.0,2,    110.6,2,    34.06,6,    24.77,6,     0.40,6,     2.03,6,   2210.7,6,   2259.7,6,   9.6893,20070602,0320
  32WC20070511,NACPWC,        9,    72,  1, 720102,      2,2,20070602,0320, 35.0000,-120.8100,  106,     91.0,   9.7000,   34.0100,2,-999.0000,9,    108.3,2,    109.3,2,    33.93,2,    24.85,2,     0.40,2,     2.02,2,   2208.3,2,   2249.9,4,   9.6898,20070602,0321
  32WC20070511,NACPWC,        9,    72,  1, 720103,      3,2,20070602,0320, 35.0000,-120.8100,  106,     69.7,   9.7000,   34.0000,2,-999.0000,9,    105.2,2,    107.1,2,    32.66,2,    24.97,2,     0.45,2,     2.01,2,   2210.9,2,   2256.0,2,   9.6922,20070602,0322
  32WC20070511,NACPWC,        9,    72,  1, 720104,      4,2,20070602,0320, 35.0000,-120.8100,  106,     60.6,   9.8000,   33.9900,2,-999.0000,9,    119.5,2,    117.8,2,    31.51,2,    24.08,2,     0.43,2,     1.96,2,   2203.8,2,   2261.3,2,   9.7932,20070602,0323
  32WC20070511,NACPWC,        9,    72,  1, 720105,      5,2,20070602,0320, 35.0000,-120.8100,  106,     50.0,  10.0000,   33.9800,2,-999.0000,9,    134.8,2,    136.6,2,    29.79,2,    22.44,2,     0.40,2,     1.87,2,   2194.0,2,   2268.2,2,   9.9943,20070602,0324
  32WC20070511,NACPWC,        9,    72,  1, 720106,      6,2,20070602,0320, 35.0000,-120.8100,  106,     40.1,  10.1000,   33.9700,2,-999.0000,9,    148.7,2,    152.9,2,    27.33,2,    20.82,2,     0.37,2,     1.73,2,   2179.4,2,   2260.3,2,  10.0954,20070602,0325
  32WC20070511,NACPWC,        9,    72,  1, 720107,      7,2,20070602,0320, 35.0000,-120.8100,  106,     30.2,  10.4000,   33.9500,2,-999.0000,9,    170.2,2,    185.2,2,    22.65,2,    18.12,2,     0.33,2,     1.51,2,   2160.3,2,   2262.9,2,  10.3965,20070602,0326
  32WC20070511,NACPWC,        9,    72,  1, 720108,      8,2,20070602,0320, 35.0000,-120.8100,  106,     24.4,  10.5000,   33.9400,2,-999.0000,9,    234.2,2,    191.9,2,    21.41,2,    17.64,2,     0.32,2,     1.41,2,   2156.4,2,   2264.0,2,  10.4971,20070602,0326
  32WC20070511,NACPWC,        9,    72,  1, 720109,      9,2,20070602,0320, 35.0000,-120.8100,  106,     20.8,  10.6000,   33.9400,2,-999.0000,9,    234.1,2,    203.0,2,    19.72,2,    17.12,2,     0.31,2,     1.32,2,   2146.6,2,   2264.4,2,  10.5975,20070602,0327
  32WC20070511,NACPWC,        9,    72,  1, 720110,     10,2,20070602,0320, 35.0000,-120.8100,  106,     14.9,  11.0000,   33.9000,2,-999.0000,9,    234.2,2,    226.6,2,    15.96,2,    15.24,2,     0.29,2,     1.13,2,   2131.2,2,   2263.5,2,  10.9982,20070602,0328
  32WC20070511,NACPWC,        9,    72,  1, 720111,     11,2,20070602,0320, 35.0000,-120.8100,  106,      9.7,  11.3000,   33.8800,2,  33.8900,2,    258.2,2,    270.6,2,    10.24,2,    12.44,2,     0.27,2,     0.81,2,   2099.9,2,   2262.0,2,  11.2988,20070602,0329
  32WC20070511,NACPWC,        9,    72,  1, 720112,     12,2,20070602,0320, 35.0000,-120.8100,  106,      5.2,  11.4000,   33.8700,2,-999.0000,9,    271.6,2,    280.3,2,     9.06,2,    12.07,2,     0.26,2,     0.71,2,   2092.3,2,   2260.3,2,  11.3994,20070602,0329
  32WC20070511,NACPWC,        9,    73,  1, 730101,      1,2,20070602,0600, 35.0400,-120.7400,   58,     48.1,  10.4000,   33.9600,2,  33.9600,2,    186.8,2,    190.2,2,    23.21,6,    17.58,6,     0.31,6,     1.52,6,   2162.8,2,   2264.5,2,  10.3944,20070602,0600
  32WC20070511,NACPWC,        9,    73,  1, 730102,      2,2,20070602,0600, 35.0400,-120.7400,   58,     40.2,  10.8000,   33.9400,2,-999.0000,9,    225.5,2,    219.4,2,    18.44,2,    14.86,2,     0.28,2,     1.15,2,   2137.3,2,   2263.1,2,  10.7952,20070602,0601
  32WC20070511,NACPWC,        9,    73,  1, 730103,      3,2,20070602,0600, 35.0400,-120.7400,   58,     30.0,  11.0000,   33.9400,2,-999.0000,9,    245.5,2,    252.8,2,    14.50,2,    12.60,2,     0.24,2,     0.87,2,   2111.7,2,   2265.3,2,  10.9964,20070602,0602
  32WC20070511,NACPWC,        9,    73,  1, 730104,      4,2,20070602,0600, 35.0400,-120.7400,   58,     25.1,  11.0000,   33.9400,2,-999.0000,9,    249.8,2,    254.6,2,    14.37,2,    12.26,2,     0.23,2,     0.85,2,   2109.0,2,   2270.7,2,  10.9970,20070602,0604
  32WC20070511,NACPWC,        9,    73,  1, 730105,      5,2,20070602,0600, 35.0400,-120.7400,   58,     25.1,  11.0000,   33.9400,2,-999.0000,9,    248.9,2,    254.0,2,    14.23,2,    12.22,2,     0.23,2,     0.96,2,   -999.0,9,   -999.0,9,  10.9970,20070602,0604
  32WC20070511,NACPWC,        9,    73,  1, 730106,      6,2,20070602,0600, 35.0400,-120.7400,   58,     20.0,  11.0000,   33.9300,2,-999.0000,9,    252.9,2,    255.6,2,    13.37,2,    11.76,2,     0.22,2,     0.82,2,   2105.9,2,   2268.1,2,  10.9976,20070602,0605
  32WC20070511,NACPWC,        9,    73,  1, 730107,      7,2,20070602,0600, 35.0400,-120.7400,   58,     14.8,  11.1000,   33.9300,2,-999.0000,9,    263.1,2,    256.8,2,    13.21,2,    11.66,2,     0.22,2,     0.80,2,   2104.7,2,   2267.7,2,  11.0982,20070602,0606
  32WC20070511,NACPWC,        9,    73,  1, 730108,      8,2,20070602,0600, 35.0400,-120.7400,   58,     10.2,  11.4000,   33.9400,2,-999.0000,9,    274.7,2,    266.9,2,    12.22,2,    10.62,2,     0.20,2,     0.70,2,   2093.6,2,   2268.6,2,  11.3987,20070602,0606
  32WC20070511,NACPWC,        9,    73,  1, 730109,      9,2,20070602,0600, 35.0400,-120.7400,   58,     10.3,  11.3000,   33.9400,2,-999.0000,9,    274.4,2,   -999.0,9,    11.80,2,     9.94,2,     0.19,2,     0.66,2,   -999.0,9,   -999.0,9,  11.2987,20070602,0607
  32WC20070511,NACPWC,        9,    73,  1, 730110,     10,2,20070602,0600, 35.0400,-120.7400,   58,      4.9,  11.4000,   33.9400,2,-999.0000,9,    280.0,2,    278.2,2,    11.50,2,     9.42,2,     0.19,2,     0.66,2,   2081.4,2,   2270.5,2,  11.3994,20070602,0607
  32WC20070511,NACPWC,        9,    73,  1, 730111,     11,2,20070602,0600, 35.0400,-120.7400,   58,      4.9,  11.4000,   33.9400,2,-999.0000,9,    279.4,2,   -999.0,9,    11.22,2,     9.07,2,     0.19,2,     0.63,2,   -999.0,9,   -999.0,9,  11.3994,20070602,0607
  32WC20070511,NACPWC,        9,    74,  1, 740101,      1,2,20070602,0731, 35.0600,-120.6900,   36,     24.3,  10.3000,   33.9700,2,  33.9600,2,    186.6,2,    193.3,2,    23.56,6,    17.40,6,     0.29,6,     1.67,6,   2165.3,6,   2267.4,6,  10.2972,20070602,0731
  32WC20070511,NACPWC,        9,    74,  1, 740102,      2,2,20070602,0731, 35.0600,-120.6900,   36,     19.6,  11.0000,   33.9400,2,-999.0000,9,    245.9,2,    234.4,2,    15.45,2,    13.57,2,     0.26,2,     1.14,2,   2126.3,2,   2269.5,2,  10.9976,20070602,0732
  32WC20070511,NACPWC,        9,    74,  1, 740103,      3,2,20070602,0731, 35.0600,-120.6900,   36,     15.4,  11.6000,   33.9100,2,-999.0000,9,    291.6,2,    295.9,2,     5.72,2,     7.62,2,     0.23,2,     0.49,2,   2073.6,2,   2278.7,2,  11.5981,20070602,0734
  32WC20070511,NACPWC,        9,    74,  1, 740104,      4,2,20070602,0731, 35.0600,-120.6900,   36,     10.6,  11.8000,   33.9100,2,-999.0000,9,    301.3,2,    303.8,2,     4.48,2,     6.63,2,     0.22,2,     0.40,2,   2060.1,2,   2269.1,2,  11.7987,20070602,0735
  32WC20070511,NACPWC,        9,    74,  1, 740105,      5,2,20070602,0731, 35.0600,-120.6900,   36,      5.2,  11.9000,   33.9100,2,-999.0000,9,    301.0,2,    304.9,2,     4.36,2,     6.52,2,     0.22,2,     0.39,2,   2057.7,2,   2276.1,2,  11.8993,20070602,0736
  32WC20070511,NACPWC,       10,    75,  1, 750101,      1,2,20070603,0017, 32.6000,-120.9900, 3801,   3828.0,   1.6000,   34.6800,2,  34.6800,2,    129.2,2,    128.7,2,   172.55,2,    36.69,2,     0.00,2,     2.59,2,   2353.9,6,   2432.7,6,   1.2969,20070603,0017
  32WC20070511,NACPWC,       10,    75,  1, 750102,      2,2,20070603,0017, 32.6000,-120.9900, 3801,   2500.3,   1.8000,   34.6600,2,-999.0000,9,    101.7,2,    102.1,2,   166.67,2,    38.44,2,     0.00,2,     2.73,2,   2366.1,6,   2423.9,2,   1.6234,20070603,0045
  32WC20070511,NACPWC,       10,    75,  1, 750103,      3,2,20070603,0017, 32.6000,-120.9900, 3801,   1500.2,   2.9000,   34.5600,2,-999.0000,9,     45.6,2,     46.6,2,   146.98,2,    41.36,2,     0.00,2,     3.03,2,   2372.6,2,   2398.9,2,   2.7933,20070603,0105
  32WC20070511,NACPWC,       10,    75,  1, 750104,      4,2,20070603,0017, 32.6000,-120.9900, 3801,    800.5,   4.6000,   34.4200,2,-999.0000,9,     13.6,2,     15.2,2,   106.32,6,    41.90,6,     0.00,6,     3.12,6,   2350.3,2,   2349.3,2,   4.5370,20070603,0119
  32WC20070511,NACPWC,       10,    75,  1, 750105,      5,2,20070603,0017, 32.6000,-120.9900, 3801,    500.4,   5.9000,   34.2400,2,-999.0000,9,     20.6,2,     21.7,2,    79.00,2,    38.59,2,     0.00,2,     2.92,2,   2311.7,2,   2309.4,2,   5.8569,20070603,0126
  32WC20070511,NACPWC,       10,    75,  1, 750106,      6,2,20070603,0017, 32.6000,-120.9900, 3801,    350.8,   7.2000,   34.1600,2,-999.0000,9,     54.3,2,     50.6,2,    56.30,2,    33.75,2,     0.01,2,     2.54,2,   2267.6,2,   2283.0,2,   7.1667,20070603,0130
  32WC20070511,NACPWC,       10,    75,  1, 750107,      7,2,20070603,0017, 32.6000,-120.9900, 3801,    300.2,   7.7000,   34.1200,2,-999.0000,9,     71.4,2,     71.1,2,    48.22,2,    31.46,2,     0.01,2,     2.36,2,   2243.6,2,   2273.7,2,   7.6705,20070603,0133
  32WC20070511,NACPWC,       10,    75,  1, 750108,      8,2,20070603,0017, 32.6000,-120.9900, 3801,    248.8,   8.3000,   34.0800,2,-999.0000,9,     91.9,2,     95.0,2,    39.89,2,    28.92,2,     0.01,2,     2.14,2,   2220.4,2,   2264.0,2,   8.2745,20070603,0135
  32WC20070511,NACPWC,       10,    75,  1, 750109,      9,2,20070603,0017, 32.6000,-120.9900, 3801,    200.1,   8.9000,   33.9500,2,-999.0000,9,    127.8,2,    127.3,2,    30.11,2,    24.71,2,     0.01,2,     1.83,2,   2183.2,2,   2255.4,2,   8.8787,20070603,0136
  32WC20070511,NACPWC,       10,    75,  1, 750110,     10,2,20070603,0017, 32.6000,-120.9900, 3801,    174.8,   9.2000,   33.8800,2,-999.0000,9,    137.1,2,    135.8,6,    26.62,2,    23.27,2,     0.01,2,     1.74,2,   2169.6,2,   2245.9,2,   9.1811,20070603,0138
  32WC20070511,NACPWC,       10,    75,  1, 750111,     11,2,20070603,0017, 32.6000,-120.9900, 3801,    150.8,   9.6000,   33.7900,2,-999.0000,9,    142.0,2,    141.4,2,    23.31,2,    21.81,2,     0.01,2,     1.66,2,   2157.0,2,   2236.3,2,   9.5833,20070603,0139
  32WC20070511,NACPWC,       10,    75,  1, 750112,     12,2,20070603,0017, 32.6000,-120.9900, 3801,    129.6,  10.2000,   33.6500,2,-999.0000,9,    155.0,2,    152.1,2,    19.68,2,    19.85,2,     0.02,2,     1.53,2,   2140.4,2,   2230.0,2,  10.1851,20070603,0141
  32WC20070511,NACPWC,       10,    75,  1, 750113,     13,2,20070603,0017, 32.6000,-120.9900, 3801,    111.1,  11.0000,   33.5600,2,-999.0000,9,    179.0,2,    178.8,2,    14.18,2,    15.13,2,     0.04,2,     1.24,2,   2116.0,2,   2225.7,2,  10.9866,20070603,0142
  32WC20070511,NACPWC,       10,    75,  1, 750114,     14,2,20070603,0017, 32.6000,-120.9900, 3801,     90.4,  12.4000,   33.4900,2,-999.0000,9,    221.3,2,    221.5,2,     7.69,2,     8.33,2,     0.16,2,     0.82,2,   2073.2,2,   2225.0,2,  12.3882,20070603,0143
  32WC20070511,NACPWC,       10,    75,  1, 750115,     15,2,20070603,0017, 32.6000,-120.9900, 3801,     69.9,  13.9000,   33.4900,2,-999.0000,9,    249.5,2,    249.5,2,     3.49,2,     2.34,2,     0.22,2,     0.47,2,   2038.8,2,   2226.4,2,  13.8901,20070603,0145
  32WC20070511,NACPWC,       10,    75,  1, 750116,     16,2,20070603,0017, 32.6000,-120.9900, 3801,     60.6,  14.5000,   33.5000,2,-999.0000,9,    255.0,2,    256.0,2,     2.87,2,     0.93,2,     0.08,2,     0.36,2,   2025.6,2,   2227.0,2,  14.4912,20070603,0146
  32WC20070511,NACPWC,       10,    75,  1, 750117,     17,2,20070603,0017, 32.6000,-120.9900, 3801,     49.9,  15.2000,   33.5100,2,-999.0000,9,    258.2,2,    256.3,2,     2.35,2,     0.04,2,     0.01,2,     0.28,2,   2018.1,2,   2231.2,2,  15.1925,20070603,0147
  32WC20070511,NACPWC,       10,    75,  1, 750118,     18,2,20070603,0017, 32.6000,-120.9900, 3801,     40.5,  15.2000,   33.5200,2,-999.0000,9,    257.6,2,    255.9,2,     2.13,2,     0.01,2,     0.01,2,     0.27,2,   2018.0,2,   2222.4,2,  15.1939,20070603,0148
  32WC20070511,NACPWC,       10,    75,  1, 750119,     19,2,20070603,0017, 32.6000,-120.9900, 3801,     30.1,  15.2000,   33.5100,2,-999.0000,9,    257.1,2,    256.1,2,     2.06,2,     0.01,2,     0.01,2,     0.26,2,   2016.5,2,   2232.1,2,  15.1955,20070603,0149
  32WC20070511,NACPWC,       10,    75,  1, 750120,     20,2,20070603,0017, 32.6000,-120.9900, 3801,     24.6,  15.2000,   33.5100,2,-999.0000,9,    257.7,2,    256.2,6,     2.03,2,     0.00,2,     0.01,2,     0.26,2,   2017.5,2,   2227.9,2,  15.1963,20070603,0149
  32WC20070511,NACPWC,       10,    75,  1, 750121,     21,2,20070603,0017, 32.6000,-120.9900, 3801,     18.9,  15.3000,   33.5100,2,-999.0000,9,    257.9,2,    255.9,2,     2.09,2,     0.01,2,     0.01,2,     0.26,2,   2018.0,2,   2232.0,2,  15.2971,20070603,0150
  32WC20070511,NACPWC,       10,    75,  1, 750122,     22,2,20070603,0017, 32.6000,-120.9900, 3801,     14.4,  15.3000,   33.5200,2,-999.0000,9,    257.7,2,    255.9,2,     2.10,2,     0.00,2,     0.01,2,     0.25,2,   2015.2,2,   2232.4,2,  15.2978,20070603,0151
  32WC20070511,NACPWC,       10,    75,  1, 750123,     23,2,20070603,0017, 32.6000,-120.9900, 3801,      9.6,  15.3000,   33.5200,2,  33.5200,2,    257.6,2,    256.1,2,     2.15,2,     0.01,2,     0.01,2,     0.25,2,   2018.6,2,   2210.8,2,  15.2986,20070603,0152
  32WC20070511,NACPWC,       10,    75,  1, 750124,     24,2,20070603,0017, 32.6000,-120.9900, 3801,      5.0,  15.3000,   33.5200,2,-999.0000,9,    257.4,2,    255.8,2,     2.40,2,     0.01,2,     0.01,2,     0.25,2,   2018.3,2,   2217.1,2,  15.2992,20070603,0153