BOTTLE,20220810CCHSIOAMB
EXPOCODE,SECT_ID,LINE,STNNBR,CASTNO,SAMPNO,BTLNBR,BTLNBR_FLAG_W,DATE,TIME,LATITUDE,LONGITUDE,DEPTH,CTDPRS,CTDTMP,CTDSAL,CTDSAL_FLAG_W,SALNTY,SALNTY_FLAG_W,CTDOXY,CTDOXY_FLAG_W,OXYGEN,OXYGEN_FLAG_W,SILCAT,SILCAT_FLAG_W,NITRAT,NITRAT_FLAG_W,NITRIT,NITRIT_FLAG_W,PHSPHT,PHSPHT_FLAG_W,TCARBN,TCARBN_FLAG_W,ALKALI,ALKALI_FLAG_W,THETA,BTL_DATE,BTL_TIME
,,,,,,,,,,,,METERS,DBAR,ITS-90,PSS-78,,PSS-78,,UMOL/KG,,UMOL/KG,,UMOL/KG,,UMOL/KG,,UMOL/KG,,UMOL/KG,,UMOL/KG,,UMOL/KG,,DEG C,,
  32WC20070511,NACPWC,       11,    88,  1, 880101,      1,2,20070606,1113, 30.8500,-118.4500, 2372,   2358.7,   2.0000,   34.6500,2,  34.6500,6,     93.1,2,     94.3,2,   164.14,2,    39.41,2,     0.03,2,     2.80,2,   2365.7,6,   2420.3,6,   1.8324,20070606,1113
  32WC20070511,NACPWC,       11,    88,  1, 880102,      2,2,20070606,1113, 30.8500,-118.4500, 2372,   1500.6,   2.8000,   34.5800,2,-999.0000,9,     49.9,2,     51.8,2,   147.13,2,    41.86,2,     0.03,2,     3.04,2,   2370.9,6,   2381.5,2,   2.6944,20070606,1133
  32WC20070511,NACPWC,       11,    88,  1, 880103,      3,2,20070606,1113, 30.8500,-118.4500, 2372,    999.5,   4.0000,   34.4900,2,-999.0000,9,     22.9,2,     24.0,2,   120.92,2,    42.47,2,     0.03,2,     3.13,2,   2362.4,2,   2362.8,2,   3.9244,20070606,1145
  32WC20070511,NACPWC,       11,    88,  1, 880104,      4,2,20070606,1113, 30.8500,-118.4500, 2372,    799.6,   4.8000,   34.4300,2,-999.0000,9,     12.6,2,     13.0,2,   103.76,6,    42.00,6,     0.03,6,     3.15,6,   2347.0,2,   2350.5,2,   4.7359,20070606,1151
  32WC20070511,NACPWC,       11,    88,  1, 880105,      5,2,20070606,1113, 30.8500,-118.4500, 2372,    501.8,   6.4000,   34.3200,2,-999.0000,9,     15.0,2,     15.4,2,    74.20,6,    37.59,6,     0.03,6,     2.97,6,   2307.6,2,   2318.8,2,   6.3548,20070606,1159
  32WC20070511,NACPWC,       11,    88,  1, 880106,      6,2,20070606,1113, 30.8500,-118.4500, 2372,    350.7,   7.8000,   34.2800,2,-999.0000,9,     34.1,2,     34.3,2,    54.99,2,    33.06,2,     0.04,2,     2.65,2,   2271.9,2,   2290.5,2,   7.7651,20070606,1204
  32WC20070511,NACPWC,       11,    88,  1, 880107,      7,2,20070606,1113, 30.8500,-118.4500, 2372,    299.5,   8.3000,   34.2700,2,-999.0000,9,     45.5,2,     43.9,2,    49.23,2,    31.51,2,     0.04,2,     2.54,2,   2259.8,2,   2285.0,2,   8.2691,20070606,1206
  32WC20070511,NACPWC,       11,    88,  1, 880108,      8,2,20070606,1113, 30.8500,-118.4500, 2372,    250.3,   8.4000,   34.1800,2,-999.0000,9,     78.9,2,     71.3,2,    43.27,2,    29.66,2,     0.04,2,     2.29,2,   2233.7,2,   2269.2,2,   8.3741,20070606,1208
  32WC20070511,NACPWC,       11,    88,  1, 880109,      9,2,20070606,1113, 30.8500,-118.4500, 2372,    201.2,   9.0000,   34.0800,2,-999.0000,9,    103.1,2,     71.7,2,    43.26,2,    29.77,2,     0.04,2,     2.31,2,   2231.1,2,   2270.0,2,   8.9784,20070606,1210
  32WC20070511,NACPWC,       11,    88,  1, 880110,     10,2,20070606,1113, 30.8500,-118.4500, 2372,    173.5,   9.3000,   33.9800,2,-999.0000,9,    119.0,2,    102.2,2,    34.58,2,    26.74,2,     0.04,2,     2.00,2,   2201.3,2,   2252.6,2,   9.2810,20070606,1212
  32WC20070511,NACPWC,       11,    88,  1, 880111,     11,2,20070606,1113, 30.8500,-118.4500, 2372,    151.7,   9.5000,   33.8700,2,-999.0000,9,    136.5,2,    117.9,2,    29.93,2,    24.94,2,     0.04,2,     1.87,2,   2183.9,2,   2246.1,2,   9.4832,20070606,1213
  32WC20070511,NACPWC,       11,    88,  1, 880112,     12,2,20070606,1113, 30.8500,-118.4500, 2372,    129.1,   9.8000,   33.7800,2,-999.0000,9,    153.5,2,    146.7,2,    22.62,2,    21.16,2,     0.04,2,     1.58,2,   2144.9,2,   2233.9,2,   9.7855,20070606,1214
  32WC20070511,NACPWC,       11,    88,  1, 880113,     13,2,20070606,1113, 30.8500,-118.4500, 2372,    108.7,  10.6000,   33.6300,2,-999.0000,9,    172.8,2,    172.2,2,    16.34,2,    16.75,2,     0.05,2,     1.29,2,   2114.4,2,   2223.9,2,  10.5872,20070606,1216
  32WC20070511,NACPWC,       11,    88,  1, 880114,     14,2,20070606,1113, 30.8500,-118.4500, 2372,     90.1,  11.7000,   33.5800,2,-999.0000,9,    191.8,2,    189.3,2,    11.87,2,    12.38,2,     0.08,2,     1.05,2,   2091.1,2,   2223.5,2,  11.6887,20070606,1217
  32WC20070511,NACPWC,       11,    88,  1, 880115,     15,2,20070606,1113, 30.8500,-118.4500, 2372,     70.8,  12.9000,   33.5300,2,-999.0000,9,    228.6,2,    229.4,2,     6.39,2,     5.97,2,     0.29,2,     0.67,2,   2053.1,2,   2224.8,2,  12.8905,20070606,1219
  32WC20070511,NACPWC,       11,    88,  1, 880116,     16,2,20070606,1113, 30.8500,-118.4500, 2372,     60.6,  13.6000,   33.5100,2,-999.0000,9,    246.3,2,    244.4,2,     4.75,6,     2.99,6,     0.32,6,     0.50,6,   2035.1,2,   2224.3,2,  13.5916,20070606,1221
  32WC20070511,NACPWC,       11,    88,  1, 880117,     17,2,20070606,1113, 30.8500,-118.4500, 2372,     49.6,  13.8000,   33.5000,2,-999.0000,9,    254.0,2,    251.5,2,     3.79,2,     1.87,2,     0.17,2,     0.41,2,   2027.4,2,   2219.8,2,  13.7930,20070606,1222
  32WC20070511,NACPWC,       11,    88,  1, 880118,     18,2,20070606,1113, 30.8500,-118.4500, 2372,     39.8,  14.8000,   33.5200,2,-999.0000,9,    260.7,2,    260.2,2,     2.75,2,     0.30,2,     0.04,2,     0.28,2,   2011.7,2,   2227.7,2,  14.7941,20070606,1223
  32WC20070511,NACPWC,       11,    88,  1, 880119,     19,2,20070606,1113, 30.8500,-118.4500, 2372,     28.9,  16.0000,   33.6000,2,-999.0000,9,    251.0,2,    249.7,6,     2.25,2,     0.26,2,     0.03,2,     0.23,2,   2014.3,2,   2240.3,2,  15.9955,20070606,1225
  32WC20070511,NACPWC,       11,    88,  1, 880120,     20,2,20070606,1113, 30.8500,-118.4500, 2372,     25.7,  16.0000,   33.6000,2,-999.0000,9,    250.7,2,    249.3,2,     2.21,2,     0.26,2,     0.03,2,     0.19,2,   2014.8,2,   2237.2,2,  15.9960,20070606,1226
  32WC20070511,NACPWC,       11,    88,  1, 880121,     21,2,20070606,1113, 30.8500,-118.4500, 2372,     18.9,  16.0000,   33.6000,2,-999.0000,9,    250.4,2,    249.5,2,     2.04,2,     0.27,2,     0.03,2,     0.19,2,   2016.8,2,   2234.9,2,  15.9971,20070606,1227
  32WC20070511,NACPWC,       11,    88,  1, 880122,     22,2,20070606,1113, 30.8500,-118.4500, 2372,     14.5,  16.0000,   33.6000,2,-999.0000,9,    250.2,2,    248.9,2,     3.08,2,     0.00,4,     0.00,4,     0.18,2,   2015.7,2,   2233.3,2,  15.9977,20070606,1228
  32WC20070511,NACPWC,       11,    88,  1, 880123,     23,2,20070606,1113, 30.8500,-118.4500, 2372,      8.9,  16.0000,   33.6000,2,  33.6000,2,    250.1,2,    249.4,2,     5.31,2,  -999.00,5,     0.00,4,  -999.00,5,   2015.0,2,   2232.2,2,  15.9986,20070606,1229
  32WC20070511,NACPWC,       11,    88,  1, 880124,     24,2,20070606,1113, 30.8500,-118.4500, 2372,      3.6,  16.0000,   33.6000,2,-999.0000,9,    249.8,2,    249.2,2,     2.47,6,     0.00,4,     0.27,2,     0.23,2,   2014.6,2,   2234.1,2,  15.9994,20070606,1230
  32WC20070511,NACPWC,       11,    89,  1, 890101,      1,2,20070606,1732, 31.0200,-118.1200, 1751,   1734.0,   2.5000,   34.6000,2,  34.6000,2,     61.8,2,     62.9,2,   153.89,6,    41.27,6,     0.03,6,     2.89,6,   2375.9,6,   2410.1,2,   2.3788,20070606,1732
  32WC20070511,NACPWC,       11,    89,  1, 890102,      2,2,20070606,1732, 31.0200,-118.1200, 1751,   1500.8,   2.8000,   34.5800,2,-999.0000,9,     49.7,2,     51.6,2,   147.17,2,    41.97,2,     0.03,2,     2.96,2,   2375.0,6,   2403.3,2,   2.6944,20070606,1741
  32WC20070511,NACPWC,       11,    89,  1, 890103,      3,2,20070606,1732, 31.0200,-118.1200, 1751,    999.3,   4.1000,   34.4800,2,-999.0000,9,     20.8,2,     21.6,2,   117.82,6,    42.55,6,     0.03,6,     3.07,6,   2362.5,2,   2367.4,2,   4.0237,20070606,1756
  32WC20070511,NACPWC,       11,    89,  1, 890104,      4,2,20070606,1732, 31.0200,-118.1200, 1751,    801.5,   4.9000,   34.4200,2,-999.0000,9,     11.8,2,     12.5,2,   101.75,2,    42.27,2,     0.03,2,     3.08,2,   2349.2,2,   2345.7,2,   4.8351,20070606,1803
  32WC20070511,NACPWC,       11,    89,  1, 890105,      5,2,20070606,1732, 31.0200,-118.1200, 1751,    500.3,   6.6000,   34.3500,2,-999.0000,9,     12.8,2,     14.2,2,    72.17,2,    37.44,2,     0.03,2,     2.89,2,   2311.6,2,   2311.9,2,   6.5541,20070606,1814
  32WC20070511,NACPWC,       11,    89,  1, 890106,      6,2,20070606,1732, 31.0200,-118.1200, 1751,    351.5,   7.4000,   34.3100,2,-999.0000,9,     24.4,2,     24.3,2,    60.43,2,    34.85,2,     0.04,2,     2.71,2,   2293.8,2,   2299.6,2,   7.3660,20070606,1819
  32WC20070511,NACPWC,       11,    89,  1, 890107,      7,2,20070606,1732, 31.0200,-118.1200, 1751,    300.3,   8.0000,   34.2800,2,-999.0000,9,     38.4,2,     38.9,2,    52.32,2,    32.63,2,     0.04,2,     2.54,2,   2273.3,2,   2288.6,2,   7.9697,20070606,1822
  32WC20070511,NACPWC,       11,    89,  1, 890108,      8,2,20070606,1732, 31.0200,-118.1200, 1751,    252.1,   8.4000,   34.2100,2,-999.0000,9,     64.4,2,     66.4,2,    44.43,2,    30.42,2,     0.04,2,     2.27,2,   2243.9,2,   2277.3,2,   8.3739,20070606,1825
  32WC20070511,NACPWC,       11,    89,  1, 890109,      9,2,20070606,1732, 31.0200,-118.1200, 1751,    198.7,   8.8000,   34.0600,2,-999.0000,9,    109.5,2,    108.2,2,    34.09,2,    26.79,2,     0.04,2,     1.90,2,   2199.7,2,   2259.4,2,   8.7790,20070606,1827
  32WC20070511,NACPWC,       11,    89,  1, 890110,     10,2,20070606,1732, 31.0200,-118.1200, 1751,    176.6,   9.1000,   34.0000,2,-999.0000,9,    117.0,2,    118.1,2,    30.76,2,    25.46,2,     0.04,2,     1.82,2,   2187.8,2,   2254.8,2,   9.0810,20070606,1829
  32WC20070511,NACPWC,       11,    89,  1, 890111,     11,2,20070606,1732, 31.0200,-118.1200, 1751,    150.8,   9.5000,   33.8900,2,-999.0000,9,    136.8,2,    133.5,2,    25.95,2,    23.30,2,     0.04,2,     1.64,2,   2168.0,2,   2246.4,2,   9.4833,20070606,1831
  32WC20070511,NACPWC,       11,    89,  1, 890112,     12,2,20070606,1732, 31.0200,-118.1200, 1751,    129.7,  10.3000,   33.7400,2,-999.0000,9,    151.6,2,    149.2,2,    20.01,2,    19.77,2,     0.04,2,     1.43,2,   2142.6,2,   2235.7,2,  10.2850,20070606,1833
  32WC20070511,NACPWC,       11,    89,  1, 890113,     13,2,20070606,1732, 31.0200,-118.1200, 1751,    111.3,  11.1000,   33.6500,2,-999.0000,9,    168.7,2,    169.2,2,    15.38,2,    16.08,2,     0.05,2,     1.19,2,   2119.0,2,   2238.2,2,  11.0865,20070606,1835
  32WC20070511,NACPWC,       11,    89,  1, 890114,     14,2,20070606,1732, 31.0200,-118.1200, 1751,     89.9,  11.7000,   33.5900,2,-999.0000,9,    191.3,2,    189.5,2,    11.87,2,    12.71,2,     0.07,2,     0.96,2,   2094.7,2,   2232.1,2,  11.6887,20070606,1836
  32WC20070511,NACPWC,       11,    89,  1, 890115,     15,2,20070606,1732, 31.0200,-118.1200, 1751,     70.4,  13.1000,   33.5200,2,-999.0000,9,    222.8,2,    229.8,2,     6.13,6,     5.82,6,     0.20,6,     0.59,6,   2056.0,2,   2227.3,2,  13.0905,20070606,1838
  32WC20070511,NACPWC,       11,    89,  1, 890116,     16,2,20070606,1732, 31.0200,-118.1200, 1751,     59.3,  14.1000,   33.5200,2,-999.0000,9,    249.1,2,    253.0,2,     3.56,2,     1.52,2,     0.12,2,     0.30,2,   2029.9,2,   2230.4,2,  14.0915,20070606,1839
  32WC20070511,NACPWC,       11,    89,  1, 890117,     17,2,20070606,1732, 31.0200,-118.1200, 1751,     50.4,  14.7000,   33.5300,2,-999.0000,9,    261.9,2,    263.0,2,     2.87,2,     0.27,2,     0.03,2,     0.21,2,   2018.1,2,   2234.3,2,  14.6926,20070606,1841
  32WC20070511,NACPWC,       11,    89,  1, 890118,     18,2,20070606,1732, 31.0200,-118.1200, 1751,     40.4,  15.9000,   33.5900,2,-999.0000,9,    251.7,2,    252.1,2,     2.22,2,     0.27,2,     0.03,2,     0.17,2,   2018.0,2,   2240.5,2,  15.8937,20070606,1842
  32WC20070511,NACPWC,       11,    89,  1, 890119,     19,2,20070606,1732, 31.0200,-118.1200, 1751,     31.0,  16.0000,   33.6000,2,-999.0000,9,    251.6,2,    250.9,2,     2.12,2,     0.26,2,     0.03,2,     0.17,2,   2017.0,2,   2234.1,2,  15.9952,20070606,1844
  32WC20070511,NACPWC,       11,    89,  1, 890120,     20,2,20070606,1732, 31.0200,-118.1200, 1751,     25.1,  16.0000,   33.6000,2,-999.0000,9,    251.5,2,    250.3,6,     2.10,2,     0.28,2,     0.03,2,     0.18,2,   2017.6,2,   2239.5,2,  15.9961,20070606,1845
  32WC20070511,NACPWC,       11,    89,  1, 890121,     21,2,20070606,1732, 31.0200,-118.1200, 1751,     18.7,  16.0000,   33.6000,2,-999.0000,9,    251.2,2,    250.4,2,     2.09,2,     0.27,2,     0.03,2,     0.18,2,   2018.3,2,   2238.5,2,  15.9971,20070606,1847
  32WC20070511,NACPWC,       11,    89,  1, 890122,     22,2,20070606,1732, 31.0200,-118.1200, 1751,     15.3,  16.0000,   33.6000,2,-999.0000,9,    251.1,2,    250.1,2,     2.07,2,     0.27,2,     0.03,2,     0.18,2,   2016.9,2,   2242.0,2,  15.9976,20070606,1848
  32WC20070511,NACPWC,       11,    89,  1, 890123,     23,2,20070606,1732, 31.0200,-118.1200, 1751,     10.1,  16.0000,   33.6000,2,  33.6000,2,    250.9,2,    250.0,2,     2.07,2,     0.27,2,     0.03,2,     0.18,2,   2019.2,2,   2239.2,2,  15.9984,20070606,1849
  32WC20070511,NACPWC,       11,    89,  1, 890124,     24,2,20070606,1732, 31.0200,-118.1200, 1751,      6.1,  16.0000,   33.6000,2,-999.0000,9,    250.8,2,    250.0,2,     2.08,2,     0.30,2,     0.00,2,     0.18,2,   2018.4,2,   2237.8,2,  15.9990,20070606,1850
  32WC20070511,NACPWC,       11,    90,  1, 900101,      1,2,20070606,2325, 31.1900,-117.7900, 1733,   1744.0,   2.6000,   34.5900,2,  34.5900,2,     57.2,2,     57.6,2,   153.30,6,    41.26,6,     0.02,6,     2.90,6,   2377.9,6,   2406.2,6,   2.4766,20070606,2325
  32WC20070511,NACPWC,       11,    90,  1, 900102,      2,2,20070606,2325, 31.1900,-117.7900, 1733,   1500.7,   2.8000,   34.5800,2,-999.0000,9,     51.2,2,     51.7,2,   148.82,2,    41.91,2,     0.03,2,     2.95,2,   2375.4,6,   2403.5,2,   2.6944,20070606,2333
  32WC20070511,NACPWC,       11,    90,  1, 900103,      3,2,20070606,2325, 31.1900,-117.7900, 1733,   1000.5,   4.0000,   34.4900,2,-999.0000,9,     21.8,2,     22.7,2,   119.34,6,    42.66,6,     0.03,6,     3.04,6,   2361.6,2,   2370.7,2,   3.9243,20070606,2346
  32WC20070511,NACPWC,       11,    90,  1, 900104,      4,2,20070606,2325, 31.1900,-117.7900, 1733,    800.2,   4.6000,   34.4400,2,-999.0000,9,     13.8,2,     15.3,2,   106.59,2,    42.30,2,     0.03,2,     3.06,2,   2348.7,2,   2352.7,2,   4.5370,20070606,2352
  32WC20070511,NACPWC,       11,    90,  1, 900105,      5,2,20070606,2325, 31.1900,-117.7900, 1733,    501.1,   6.3000,   34.3400,2,-999.0000,9,     12.8,2,     12.7,2,    76.35,2,    38.14,2,     0.03,2,     2.89,2,   2316.6,2,   2314.0,2,   6.2552,20070606,0001
  32WC20070511,NACPWC,       11,    90,  1, 900106,      6,2,20070606,2325, 31.1900,-117.7900, 1733,    349.5,   7.4000,   34.2900,2,-999.0000,9,     30.0,2,     28.6,2,    59.51,2,    34.21,2,     0.03,2,     2.65,2,   2285.2,2,   2299.5,2,   7.3662,20070606,0006
  32WC20070511,NACPWC,       11,    90,  1, 900107,      7,2,20070606,2325, 31.1900,-117.7900, 1733,    299.9,   7.8000,   34.2400,2,-999.0000,9,     48.8,2,     48.7,2,    52.15,2,    32.25,2,     0.03,2,     2.45,2,   2263.2,2,   2285.6,2,   7.7702,20070606,0008
  32WC20070511,NACPWC,       11,    90,  1, 900108,      8,2,20070606,2325, 31.1900,-117.7900, 1733,    250.0,   8.0000,   34.1500,2,-999.0000,9,     74.8,2,     76.4,6,    46.08,2,    30.87,2,     0.04,2,     2.21,2,   2236.3,2,   2274.0,2,   7.9749,20070606,0010
  32WC20070511,NACPWC,       11,    90,  1, 900109,      9,2,20070606,2325, 31.1900,-117.7900, 1733,    199.2,   9.2000,   34.1900,2,-999.0000,9,     74.3,2,     73.7,2,    38.10,2,    28.02,2,     0.03,2,     2.20,2,   2227.1,2,   2266.6,2,   9.1783,20070606,0012
  32WC20070511,NACPWC,       11,    90,  1, 900110,     10,2,20070606,2325, 31.1900,-117.7900, 1733,    174.8,   9.0000,   34.1000,2,-999.0000,9,     96.4,2,     95.9,2,    35.37,2,    27.34,2,     0.04,2,     2.04,2,   2204.6,2,   2263.3,2,   8.9813,20070606,0014
  32WC20070511,NACPWC,       11,    90,  1, 900111,     11,2,20070606,2325, 31.1900,-117.7900, 1733,    149.1,   9.2000,   33.9700,2,-999.0000,9,    120.6,2,    121.8,2,    29.63,2,    24.76,2,     0.04,2,     1.81,2,   2180.7,2,   2253.1,2,   9.1838,20070606,0015
  32WC20070511,NACPWC,       11,    90,  1, 900112,     12,2,20070606,2325, 31.1900,-117.7900, 1733,    130.4,   9.5000,   33.8700,2,-999.0000,9,    132.1,2,    134.9,2,    25.60,2,    22.71,2,     0.04,2,     1.67,2,   2164.8,2,   2247.4,2,   9.4856,20070606,0017
  32WC20070511,NACPWC,       11,    90,  1, 900113,     13,2,20070606,2325, 31.1900,-117.7900, 1733,    111.8,  10.2000,   33.8400,2,-999.0000,9,    118.2,2,    121.6,2,    24.05,2,    22.38,2,     0.04,2,     1.72,2,   2169.6,2,   2243.1,2,  10.1871,20070606,0018
  32WC20070511,NACPWC,       11,    90,  1, 900114,     14,2,20070606,2325, 31.1900,-117.7900, 1733,     89.6,  11.3000,   33.6300,2,-999.0000,9,    185.7,2,    180.8,2,    14.31,2,    15.58,2,     0.04,2,     1.19,2,   2112.3,2,   2234.5,2,  11.2890,20070606,0020
  32WC20070511,NACPWC,       11,    90,  1, 900115,     15,2,20070606,2325, 31.1900,-117.7900, 1733,     69.9,  12.3000,   33.5800,2,-999.0000,9,    225.1,2,    223.9,2,     8.43,2,    10.39,2,     0.23,2,     0.87,2,   2082.3,2,   2233.5,2,  12.2909,20070606,0021
  32WC20070511,NACPWC,       11,    90,  1, 900116,     16,2,20070606,2325, 31.1900,-117.7900, 1733,     58.4,  12.6000,   33.5200,2,-999.0000,9,    231.3,2,    219.6,2,     7.42,2,     7.93,2,     0.17,2,     0.73,2,   2062.8,2,   2227.7,2,  12.5923,20070606,0022
  32WC20070511,NACPWC,       11,    90,  1, 900117,     17,2,20070606,2325, 31.1900,-117.7900, 1733,     51.3,  13.3000,   33.5200,2,-999.0000,9,    242.6,2,    243.3,2,     5.14,6,     4.09,6,     0.39,6,     0.52,6,   2043.3,2,   2233.9,2,  13.2930,20070606,0023
  32WC20070511,NACPWC,       11,    90,  1, 900118,     18,2,20070606,2325, 31.1900,-117.7900, 1733,     40.6,  14.0000,   33.5100,2,-999.0000,9,    258.5,2,    257.9,6,     3.79,2,     1.55,2,     0.14,2,     0.34,2,   2029.6,2,   2228.2,2,  13.9942,20070606,0024
  32WC20070511,NACPWC,       11,    90,  1, 900119,     19,2,20070606,2325, 31.1900,-117.7900, 1733,     29.5,  15.5000,   33.6000,2,-999.0000,9,    259.2,2,    258.2,2,     2.77,2,     0.00,2,     0.03,2,     0.20,2,   2017.7,2,   2238.6,2,  15.4955,20070606,0025
  32WC20070511,NACPWC,       11,    90,  1, 900120,     20,2,20070606,2325, 31.1900,-117.7900, 1733,     25.3,  15.7000,   33.6100,2,-999.0000,9,    258.5,2,    258.3,2,     2.74,2,     0.00,2,     0.03,2,     0.19,2,   2015.8,2,   2238.6,2,  15.6961,20070606,0026
  32WC20070511,NACPWC,       11,    90,  1, 900121,     21,2,20070606,2325, 31.1900,-117.7900, 1733,     19.4,  15.7000,   33.6200,2,-999.0000,9,    258.3,2,    258.2,2,     2.76,2,     0.00,2,     0.04,2,     0.18,2,   2014.9,2,   2239.8,2,  15.6970,20070606,0027
  32WC20070511,NACPWC,       11,    90,  1, 900122,     22,2,20070606,2325, 31.1900,-117.7900, 1733,     15.0,  15.8000,   33.6200,2,-999.0000,9,    258.0,2,    258.9,2,     2.79,2,     0.00,2,     0.03,2,     0.17,2,   2016.9,2,   2236.0,2,  15.7977,20070606,0028
  32WC20070511,NACPWC,       11,    90,  1, 900123,     23,2,20070606,2325, 31.1900,-117.7900, 1733,     10.4,  15.8000,   33.6200,2,  33.6200,2,    257.8,2,    258.2,2,     2.69,2,     0.00,2,     0.04,2,     0.17,2,   2019.0,2,   2239.5,2,  15.7984,20070606,0028
  32WC20070511,NACPWC,       11,    90,  1, 900124,     24,2,20070606,2325, 31.1900,-117.7900, 1733,      4.9,  15.8000,   33.6200,2,-999.0000,9,    257.6,2,    258.0,2,     2.72,2,     0.00,2,     0.04,2,     0.16,2,   2016.8,2,   2237.4,2,  15.7992,20070606,0029