BOTTLE,20220810CCHSIOAMB
EXPOCODE,SECT_ID,LINE,STNNBR,CASTNO,SAMPNO,BTLNBR,BTLNBR_FLAG_W,DATE,TIME,LATITUDE,LONGITUDE,DEPTH,CTDPRS,CTDTMP,CTDSAL,CTDSAL_FLAG_W,SALNTY,SALNTY_FLAG_W,CTDOXY,CTDOXY_FLAG_W,OXYGEN,OXYGEN_FLAG_W,SILCAT,SILCAT_FLAG_W,NITRAT,NITRAT_FLAG_W,NITRIT,NITRIT_FLAG_W,PHSPHT,PHSPHT_FLAG_W,TCARBN,TCARBN_FLAG_W,ALKALI,ALKALI_FLAG_W,THETA,BTL_DATE,BTL_TIME
,,,,,,,,,,,,METERS,DBAR,ITS-90,PSS-78,,PSS-78,,UMOL/KG,,UMOL/KG,,UMOL/KG,,UMOL/KG,,UMOL/KG,,UMOL/KG,,UMOL/KG,,UMOL/KG,,DEG C,,
  32WC20070511,NACPWC,        5,    34,  1, 340101,      1,4,20070522,2139, 41.3900,-127.1600, 2530,   2523.4,   1.9000,   34.6000,4,-999.0000,9,     77.5,4,   -999.0,9,  -999.00,9,  -999.00,9,  -999.00,9,  -999.00,9,   -999.0,9,   -999.0,9,-999.0000,20070522,2139
  32WC20070511,NACPWC,        5,    34,  1, 340102,      2,2,20070522,2139, 41.3900,-127.1600, 2530,   1999.3,   2.0000,   34.5900,4,  34.6000,2,     60.8,4,     61.8,2,   176.51,2,    41.30,2,     0.03,2,     2.91,2,   2380.5,6,   2415.2,6,   1.8637,20070522,2159
  32WC20070511,NACPWC,        5,    34,  1, 340103,      3,2,20070522,2139, 41.3900,-127.1600, 2530,   1501.2,   2.7000,   34.5400,4,-999.0000,9,     36.0,4,     35.5,2,   158.33,2,    42.82,2,     0.03,2,     3.05,2,   2384.4,6,   2394.9,2,-999.0000,20070522,2216
  32WC20070511,NACPWC,        5,    34,  1, 340104,      4,2,20070522,2139, 41.3900,-127.1600, 2530,    800.3,   4.3000,   34.4800,4,-999.0000,9,      9.9,4,      9.8,2,   113.23,6,    42.84,6,     0.01,6,     3.15,6,   2350.6,2,   2341.1,2,-999.0000,20070522,2239
  32WC20070511,NACPWC,        5,    34,  1, 340105,      5,2,20070522,2139, 41.3900,-127.1600, 2530,    499.5,   5.8000,   34.3200,4,-999.0000,9,     35.2,4,     35.8,2,    76.91,2,    38.82,2,     0.03,2,     2.83,2,   2296.4,2,   2296.9,2,-999.0000,20070522,2250
  32WC20070511,NACPWC,        5,    34,  1, 340106,      6,2,20070522,2139, 41.3900,-127.1600, 2530,    352.6,   6.7000,   34.3400,4,-999.0000,9,     66.9,4,     60.8,2,    60.04,2,    35.58,2,     0.03,2,     2.55,2,   2260.8,2,   2276.9,2,-999.0000,20070522,2256
  32WC20070511,NACPWC,        5,    34,  1, 340107,      7,2,20070522,2139, 41.3900,-127.1600, 2530,    301.3,   7.5000,   34.1800,4,-999.0000,9,     79.0,4,     76.3,2,    48.89,2,    32.45,2,     0.03,2,     2.36,2,   2238.8,2,   2264.7,2,-999.0000,20070522,2258
  32WC20070511,NACPWC,        5,    34,  1, 340108,      8,2,20070522,2139, 41.3900,-127.1600, 2530,    249.6,   8.0000,   34.2900,4,-999.0000,9,     86.2,4,     85.7,2,    42.91,2,    30.63,2,     0.03,2,     2.25,2,   2224.3,2,   2259.1,2,-999.0000,20070522,2301
  32WC20070511,NACPWC,        5,    34,  1, 340109,      9,2,20070522,2139, 41.3900,-127.1600, 2530,    200.6,   8.6000,   34.2200,4,-999.0000,9,     95.6,4,     98.0,2,    37.99,2,    28.67,2,     0.03,2,     2.14,2,   2208.2,2,   2247.8,2,-999.0000,20070522,2304
  32WC20070511,NACPWC,        5,    34,  1, 340110,     10,2,20070522,2139, 41.3900,-127.1600, 2530,    174.4,   8.9000,   34.3200,4,-999.0000,9,    104.4,4,    110.4,2,    35.54,2,    27.30,2,     0.03,2,     2.06,2,   2195.4,2,   2246.2,2,-999.0000,20070522,2306
  32WC20070511,NACPWC,        5,    34,  1, 340111,     11,2,20070522,2139, 41.3900,-127.1600, 2530,    150.4,   9.1000,   34.3300,4,-999.0000,9,    112.7,4,    132.2,2,    31.43,2,    25.19,2,     0.03,2,     1.92,2,   2175.9,2,   2236.6,2,-999.0000,20070522,2307
  32WC20070511,NACPWC,        5,    34,  1, 340112,     12,2,20070522,2139, 41.3900,-127.1600, 2530,    128.9,   9.4000,   34.3400,4,-999.0000,9,    122.9,4,    169.6,2,    26.26,2,    21.96,2,     0.04,2,     1.71,2,   2146.8,2,   2226.6,2,-999.0000,20070522,2309
  32WC20070511,NACPWC,        5,    34,  1, 340113,     13,2,20070522,2139, 41.3900,-127.1600, 2530,    110.4,  10.0000,   34.1800,4,-999.0000,9,    155.1,4,    218.6,2,    16.22,2,    13.84,2,     0.06,2,     1.21,2,   2080.7,2,   2202.0,2,-999.0000,20070522,2311
  32WC20070511,NACPWC,        5,    34,  1, 340114,     14,2,20070522,2139, 41.3900,-127.1600, 2530,     90.8,  10.4000,   34.1800,4,-999.0000,9,    213.8,4,    243.8,2,    11.33,2,     9.38,2,     0.15,2,     0.94,2,   2048.1,2,   2194.7,2,-999.0000,20070522,2313
  32WC20070511,NACPWC,        5,    34,  1, 340115,     15,2,20070522,2139, 41.3900,-127.1600, 2530,     70.8,  11.3000,   34.1200,4,-999.0000,9,    135.8,4,    263.4,2,     6.23,2,     3.82,2,     0.24,2,     0.63,2,   2015.3,2,   2189.3,2,-999.0000,20070522,2315
  32WC20070511,NACPWC,        5,    34,  1, 340116,     16,2,20070522,2139, 41.3900,-127.1600, 2530,     59.8,  11.9000,   33.9900,4,-999.0000,9,    162.4,4,    270.3,2,     4.19,2,     1.67,2,     0.14,2,     0.49,2,   2000.2,2,   2192.0,2,-999.0000,20070522,2316
  32WC20070511,NACPWC,        5,    34,  1, 340117,     17,2,20070522,2139, 41.3900,-127.1600, 2530,     48.9,  12.4000,   33.9400,4,-999.0000,9,    189.4,4,    274.6,2,     2.73,2,     0.30,2,     0.04,2,     0.38,2,   1988.7,2,   2192.4,2,-999.0000,20070522,2317
  32WC20070511,NACPWC,        5,    34,  1, 340118,     18,2,20070522,2139, 41.3900,-127.1600, 2530,     40.0,  12.6000,   34.1600,4,-999.0000,9,    273.3,4,    275.3,6,     2.45,2,     0.11,2,     0.03,2,     0.37,2,   1988.5,2,   2192.0,2,-999.0000,20070522,2318
  32WC20070511,NACPWC,        5,    34,  1, 340119,     19,2,20070522,2139, 41.3900,-127.1600, 2530,     30.7,  12.6000,   34.3600,4,-999.0000,9,    275.1,4,    275.7,2,     2.35,2,     0.06,2,     0.03,2,     0.33,2,   1987.3,2,   2193.5,2,-999.0000,20070522,2320
  32WC20070511,NACPWC,        5,    34,  1, 340120,     20,2,20070522,2139, 41.3900,-127.1600, 2530,     24.0,  12.7000,   34.4300,4,-999.0000,9,    275.0,4,    275.3,2,     2.34,2,     0.06,2,     0.02,2,     0.33,2,   1988.3,2,   2194.4,2,-999.0000,20070522,2321
  32WC20070511,NACPWC,        5,    34,  1, 340121,     21,2,20070522,2139, 41.3900,-127.1600, 2530,     19.8,  12.7000,   34.4800,4,-999.0000,9,    274.9,4,    275.1,2,     2.23,2,     0.06,2,     0.02,2,     0.34,2,   1988.5,2,   2193.0,2,-999.0000,20070522,2322
  32WC20070511,NACPWC,        5,    34,  1, 340122,     22,2,20070522,2139, 41.3900,-127.1600, 2530,     15.0,  12.7000,   34.5000,4,-999.0000,9,    274.7,4,    274.5,2,     2.23,2,     0.05,2,     0.02,2,     0.33,2,   1989.4,2,   2192.2,2,-999.0000,20070522,2323
  32WC20070511,NACPWC,        5,    34,  1, 340123,     23,2,20070522,2139, 41.3900,-127.1600, 2530,      9.3,  12.8000,   34.5200,4,  32.7000,2,    274.9,4,    274.3,2,     2.15,2,     0.05,2,     0.02,2,     0.33,2,   1989.6,2,   2195.3,2,  12.7988,20070522,2324
  32WC20070511,NACPWC,        5,    34,  1, 340124,     24,2,20070522,2139, 41.3900,-127.1600, 2530,      4.5,  12.8000,   34.5400,4,-999.0000,9,    275.0,4,    281.6,2,     2.41,2,     0.05,2,     0.02,2,     0.33,2,   1989.8,2,   2194.3,2,-999.0000,20070522,2325
  32WC20070511,NACPWC,        5,    35,  1, 350101,      1,2,20070523,0814, 41.6600,-125.9400, 2981,   2949.8,   1.7000,   34.6500,2,  34.6500,6,     93.2,2,     92.7,2,   188.41,6,    38.82,6,     0.00,6,     2.82,6,   2378.3,6,   2428.9,6,   1.4837,20070523,0814
  32WC20070511,NACPWC,        5,    35,  1, 350102,      2,2,20070523,0814, 41.6600,-125.9400, 2981,   2499.8,   1.7000,   34.6400,2,-999.0000,9,     84.1,2,     83.6,2,   185.63,2,    39.48,2,     0.00,2,     2.85,2,   2379.6,2,   2423.8,2,   1.5254,20070523,0828
  32WC20070511,NACPWC,        5,    35,  1, 350103,      3,2,20070523,0814, 41.6600,-125.9400, 2981,   2002.2,   1.9000,   34.6100,2,-999.0000,9,     66.4,2,     66.0,2,   180.54,2,    40.82,2,     0.00,2,     2.92,2,   2385.9,6,   2407.5,2,   1.7649,20070523,0842
  32WC20070511,NACPWC,        5,    35,  1, 350104,      4,2,20070523,0814, 41.6600,-125.9400, 2981,   1500.5,   2.6000,   34.5300,2,-999.0000,9,     33.3,2,     33.6,2,   159.77,2,    42.77,2,     0.00,2,     3.08,2,   2392.8,2,   2391.8,2,   2.4968,20070523,0858
  32WC20070511,NACPWC,        5,    35,  1, 350105,      5,2,20070523,0814, 41.6600,-125.9400, 2981,    799.8,   4.1000,   34.3100,2,-999.0000,9,      9.0,2,      9.1,2,   116.40,6,    43.10,6,     0.00,6,     3.16,6,   2361.8,2,   2341.3,2,   4.0403,20070523,0918
  32WC20070511,NACPWC,        5,    35,  1, 350106,      6,2,20070523,0814, 41.6600,-125.9400, 2981,    500.3,   5.4000,   34.1600,2,-999.0000,9,     28.2,2,     27.8,2,    83.08,2,    39.61,2,     0.00,2,     2.94,2,   2312.5,2,   2303.7,2,   5.3589,20070523,0928
  32WC20070511,NACPWC,        5,    35,  1, 350107,      7,2,20070523,0814, 41.6600,-125.9400, 2981,    353.0,   6.3000,   34.0700,2,-999.0000,9,     53.5,2,     52.9,2,    65.06,2,    36.55,2,     0.01,2,     2.66,2,   2278.9,2,   2284.8,2,   6.2690,20070523,0935
  32WC20070511,NACPWC,        5,    35,  1, 350108,      8,2,20070523,0814, 41.6600,-125.9400, 2981,    250.4,   7.1000,   34.0200,2,-999.0000,9,     77.3,2,     75.6,2,    51.50,2,    33.22,2,     0.01,2,     2.41,2,   2245.8,2,   2266.2,2,   7.0766,20070523,0939
  32WC20070511,NACPWC,        5,    35,  1, 350109,      9,2,20070523,0814, 41.6600,-125.9400, 2981,    200.2,   7.5000,   33.9700,2,-999.0000,9,     95.5,2,     96.6,2,    44.16,2,    30.73,2,     0.01,2,     2.21,2,   2222.1,2,   2260.6,2,   7.4808,20070523,0941
  32WC20070511,NACPWC,        5,    35,  1, 350110,     10,2,20070523,0814, 41.6600,-125.9400, 2981,    174.9,   8.2000,   33.8800,2,-999.0000,9,    122.1,2,    116.4,2,    35.85,2,    27.73,2,     0.02,2,     2.03,2,   2198.1,2,   2245.4,2,   8.1824,20070523,0943
  32WC20070511,NACPWC,        5,    35,  1, 350111,     11,2,20070523,0814, 41.6600,-125.9400, 2981,    151.3,   8.4000,   33.8000,2,-999.0000,9,    132.8,2,    129.8,2,    32.67,2,    26.27,2,     0.02,2,     1.93,2,   2185.7,2,   2240.8,2,   8.3845,20070523,0945
  32WC20070511,NACPWC,        5,    35,  1, 350112,     12,2,20070523,0814, 41.6600,-125.9400, 2981,    129.9,   8.7000,   33.6000,2,-999.0000,9,    155.5,2,    157.3,2,    26.86,2,    23.05,2,     0.02,2,     1.72,2,   2155.1,2,   2230.4,2,   8.6865,20070523,0946
  32WC20070511,NACPWC,        5,    35,  1, 350113,     13,2,20070523,0814, 41.6600,-125.9400, 2981,    110.2,   9.0000,   33.4400,2,-999.0000,9,    185.9,2,    177.1,2,    22.68,2,    20.30,2,     0.03,2,     1.56,2,   2132.6,2,   2222.2,2,   8.9883,20070523,0948
  32WC20070511,NACPWC,        5,    35,  1, 350114,     14,2,20070523,0814, 41.6600,-125.9400, 2981,     91.7,   9.3000,   33.1300,2,-999.0000,9,    217.2,2,    211.5,2,    17.32,2,    16.04,2,     0.05,2,     1.32,2,   2096.3,2,   2204.1,2,   9.2901,20070523,0950
  32WC20070511,NACPWC,        5,    35,  1, 350115,     15,2,20070523,0814, 41.6600,-125.9400, 2981,     70.6,  10.4000,   32.8000,2,-999.0000,9,    257.3,2,    252.4,2,     8.99,2,     8.10,2,     0.15,2,     0.84,2,   2043.4,2,   2189.0,2,  10.3919,20070523,0952
  32WC20070511,NACPWC,        5,    35,  1, 350116,     16,2,20070523,0814, 41.6600,-125.9400, 2981,     59.6,  11.1000,   32.7400,2,-999.0000,9,    279.0,2,    262.2,2,     6.11,2,     4.68,2,     0.28,2,     0.67,2,   2027.2,2,   2188.8,2,  11.0928,20070523,0953
  32WC20070511,NACPWC,        5,    35,  1, 350117,     17,2,20070523,0814, 41.6600,-125.9400, 2981,     50.7,  11.4000,   32.6800,2,-999.0000,9,    278.8,2,    271.2,2,     4.85,2,     2.86,2,     0.19,2,     0.57,2,   2012.9,2,   2185.2,2,  11.3938,20070523,0955
  32WC20070511,NACPWC,        5,    35,  1, 350118,     18,2,20070523,0814, 41.6600,-125.9400, 2981,     41.5,  11.5000,   32.5800,2,-999.0000,9,    280.7,2,    278.6,2,     4.27,2,     1.95,2,     0.08,2,     0.51,2,   2000.8,2,   2183.3,2,  11.4949,20070523,0956
  32WC20070511,NACPWC,        5,    35,  1, 350119,     19,2,20070523,0814, 41.6600,-125.9400, 2981,     29.9,  12.1000,   32.4800,2,-999.0000,9,    284.7,2,    282.9,6,     1.97,2,     0.39,2,     0.03,2,     0.37,2,   1978.8,2,   2180.9,2,  12.0962,20070523,0958
  32WC20070511,NACPWC,        5,    35,  1, 350120,     20,2,20070523,0814, 41.6600,-125.9400, 2981,     24.6,  12.3000,   32.4200,2,-999.0000,9,    286.8,2,    284.1,2,     1.12,2,     0.01,2,     0.02,2,     0.32,2,   1968.7,2,   2180.7,2,  12.2968,20070523,0959
  32WC20070511,NACPWC,        5,    35,  1, 350121,     21,2,20070523,0814, 41.6600,-125.9400, 2981,     20.9,  12.3000,   32.4200,2,-999.0000,9,    286.7,2,    284.1,2,     1.11,2,     0.01,2,     0.02,2,     0.32,2,   1970.3,2,   2182.2,2,  12.2973,20070523,1000
  32WC20070511,NACPWC,        5,    35,  1, 350122,     22,2,20070523,0814, 41.6600,-125.9400, 2981,     15.4,  12.3000,   32.4200,2,-999.0000,9,    286.5,2,    284.2,2,     1.08,2,     0.01,2,     0.02,2,     0.31,2,   1970.5,2,   2178.9,2,  12.2980,20070523,1001
  32WC20070511,NACPWC,        5,    35,  1, 350123,     23,2,20070523,0814, 41.6600,-125.9400, 2981,     10.3,  12.3000,   32.4200,2,-999.0000,9,    286.3,2,    284.4,2,     1.14,2,     0.01,2,     0.02,2,     0.32,2,   1973.6,2,   2179.5,2,  12.2987,20070523,1002
  32WC20070511,NACPWC,        5,    35,  1, 350124,     24,2,20070523,0814, 41.6600,-125.9400, 2981,      5.8,  12.3000,   32.4200,2,  32.4200,2,    286.1,2,    316.7,2,     1.12,2,     0.00,2,     0.02,2,     0.32,2,   1973.1,2,   2180.8,2,  12.2993,20070523,1004
  32WC20070511,NACPWC,        5,    36,  1, 360101,      1,2,20070523,1606, 41.7900,-125.2900, 3117,   3099.3,   1.7000,   34.6500,2,  34.6500,6,     96.7,2,     96.7,2,   187.12,2,    38.09,2,     0.04,2,     2.74,2,   2375.3,6,   2429.9,6,   1.4692,20070523,1606
  32WC20070511,NACPWC,        5,    36,  1, 360102,      2,2,20070523,1606, 41.7900,-125.2900, 3117,   2500.7,   1.7000,   34.6400,2,-999.0000,9,     85.1,2,     86.5,2,   185.82,2,    39.04,2,     0.02,2,     2.78,2,   2374.8,2,   2424.8,2,   1.5253,20070523,1627
  32WC20070511,NACPWC,        5,    36,  1, 360103,      3,2,20070523,1606, 41.7900,-125.2900, 3117,   2000.6,   1.9000,   34.6100,2,-999.0000,9,     66.4,2,     67.9,2,   180.40,2,    40.13,2,     0.02,2,     2.86,2,   2378.3,6,   2415.2,2,   1.7651,20070523,1643
  32WC20070511,NACPWC,        5,    36,  1, 360104,      4,2,20070523,1606, 41.7900,-125.2900, 3117,   1499.8,   2.6000,   34.5400,2,-999.0000,9,     36.8,2,     39.3,2,   160.83,2,    41.59,2,     0.02,2,     3.01,2,   2386.4,2,   2395.5,2,   2.4969,20070523,1659
  32WC20070511,NACPWC,        5,    36,  1, 360105,      5,2,20070523,1606, 41.7900,-125.2900, 3117,    800.2,   4.1000,   34.3400,2,-999.0000,9,      9.3,2,     11.0,2,   118.03,6,    42.66,6,     0.01,6,     3.13,6,   2357.3,2,   2349.0,2,   4.0403,20070523,1721
  32WC20070511,NACPWC,        5,    36,  1, 360106,      6,2,20070523,1606, 41.7900,-125.2900, 3117,    500.5,   5.3000,   34.1400,2,-999.0000,9,     30.0,2,     30.7,2,    84.94,2,    39.14,2,     0.01,2,     2.88,2,   2312.4,2,   2300.5,2,   5.2593,20070523,1731
  32WC20070511,NACPWC,        5,    36,  1, 360107,      7,2,20070523,1606, 41.7900,-125.2900, 3117,    350.9,   6.3000,   34.0600,2,-999.0000,9,     58.5,2,     59.4,2,    64.96,2,    35.67,2,     0.02,2,     2.60,2,   2267.3,2,   2282.8,2,   6.2691,20070523,1736
  32WC20070511,NACPWC,        5,    36,  1, 360108,      8,2,20070523,1606, 41.7900,-125.2900, 3117,    245.6,   7.2000,   34.0200,2,-999.0000,9,     76.4,2,     77.9,2,    51.60,2,    32.15,2,     0.03,2,     2.35,2,   2241.3,2,   2265.1,2,   7.1769,20070523,1741
  32WC20070511,NACPWC,        5,    36,  1, 360109,      9,2,20070523,1606, 41.7900,-125.2900, 3117,    199.5,   7.6000,   33.9900,2,-999.0000,9,     85.5,2,     83.5,2,    46.34,2,    31.04,2,     0.03,2,     2.24,2,   2235.6,2,   2260.6,2,   7.5807,20070523,1744
  32WC20070511,NACPWC,        5,    36,  1, 360110,     10,2,20070523,1606, 41.7900,-125.2900, 3117,    175.4,   8.0000,   33.9500,2,-999.0000,9,     96.5,2,     95.0,6,    41.40,6,    29.56,6,     0.03,6,     2.16,6,   2219.4,2,   2251.7,2,   7.9825,20070523,1746
  32WC20070511,NACPWC,        5,    36,  1, 360111,     11,2,20070523,1606, 41.7900,-125.2900, 3117,    150.9,   8.4000,   33.8200,2,-999.0000,9,    114.1,2,    115.6,2,    35.74,6,    27.40,6,     0.03,6,     2.04,6,   2197.3,2,   2245.7,2,   8.3846,20070523,1748
  32WC20070511,NACPWC,        5,    36,  1, 360112,     12,2,20070523,1606, 41.7900,-125.2900, 3117,    129.7,   8.8000,   33.6500,2,-999.0000,9,    143.2,2,    138.7,2,    31.05,6,    25.09,2,     0.03,2,     1.88,6,   2173.8,2,   2234.4,2,   8.7864,20070523,1751
  32WC20070511,NACPWC,        5,    36,  1, 360113,     13,2,20070523,1606, 41.7900,-125.2900, 3117,    109.9,   9.0000,   33.4700,2,-999.0000,9,    170.3,2,    164.7,2,    26.23,6,    22.24,2,     0.03,2,     1.69,6,   2144.3,2,   2220.4,2,   8.9884,20070523,1753
  32WC20070511,NACPWC,        5,    36,  1, 360114,     14,2,20070523,1606, 41.7900,-125.2900, 3117,     91.5,   9.4000,   33.2200,2,-999.0000,9,    197.2,2,    200.4,2,    19.49,6,    17.09,2,     0.03,2,     1.39,6,   2103.0,2,   2209.0,2,   9.3901,20070523,1755
  32WC20070511,NACPWC,        5,    36,  1, 360115,     15,2,20070523,1606, 41.7900,-125.2900, 3117,     70.6,  10.3000,   32.7800,2,-999.0000,9,    252.4,2,    261.6,2,    10.28,6,     8.10,2,     0.27,2,     0.88,6,   2039.8,2,   2190.2,2,  10.2919,20070523,1757
  32WC20070511,NACPWC,        5,    36,  1, 360116,     16,2,20070523,1606, 41.7900,-125.2900, 3117,     60.5,  11.4000,   32.5900,2,-999.0000,9,    278.7,2,    275.5,2,     5.48,6,     2.13,2,     0.11,2,     0.55,6,   2000.8,2,   2182.9,2,  11.3926,20070523,1759
  32WC20070511,NACPWC,        5,    36,  1, 360117,     17,2,20070523,1606, 41.7900,-125.2900, 3117,     49.8,  11.1000,   32.4300,2,-999.0000,9,    285.1,2,    285.2,2,     5.73,6,     2.17,2,     0.09,2,     0.49,6,   1991.5,2,   2179.8,2,  11.0940,20070523,1800
  32WC20070511,NACPWC,        5,    36,  1, 360118,     18,2,20070523,1606, 41.7900,-125.2900, 3117,     40.6,  11.3000,   32.4200,2,-999.0000,9,    284.5,2,    285.1,6,     4.89,6,     1.59,6,     0.07,6,     0.43,6,   1988.7,2,   2178.6,2,  11.2951,20070523,1802
  32WC20070511,NACPWC,        5,    36,  1, 360119,     19,2,20070523,1606, 41.7900,-125.2900, 3117,     31.9,  11.5000,   32.4200,2,-999.0000,9,    283.7,2,    285.6,2,     4.17,2,     1.18,2,     0.05,2,     0.43,2,   1984.2,2,   2180.1,2,  11.4961,20070523,1803
  32WC20070511,NACPWC,        5,    36,  1, 360120,     20,2,20070523,1606, 41.7900,-125.2900, 3117,     24.9,  11.5000,   32.4200,2,-999.0000,9,    283.6,2,    285.7,2,     4.06,2,     1.08,2,     0.05,2,     0.41,2,   1979.3,2,   2178.7,2,  11.4970,20070523,1805
  32WC20070511,NACPWC,        5,    36,  1, 360121,     21,2,20070523,1606, 41.7900,-125.2900, 3117,     20.1,  11.5000,   32.4200,2,-999.0000,9,    283.4,2,    285.5,2,     3.98,2,     1.05,2,     0.04,2,     0.40,2,   1979.9,2,   2180.9,2,  11.4975,20070523,1806
  32WC20070511,NACPWC,        5,    36,  1, 360122,     22,2,20070523,1606, 41.7900,-125.2900, 3117,     15.7,  11.5000,   32.4200,2,-999.0000,9,    283.3,2,    285.3,2,     3.99,2,     1.02,2,     0.04,2,     0.39,2,   1982.1,2,   2179.7,2,  11.4981,20070523,1807
  32WC20070511,NACPWC,        5,    36,  1, 360123,     23,2,20070523,1606, 41.7900,-125.2900, 3117,     10.6,  11.6000,   32.4200,2,  32.4200,2,    283.2,2,    285.1,2,     3.94,2,     1.01,2,     0.04,2,     0.39,2,   1982.6,2,   2182.4,2,  11.5987,20070523,1808
  32WC20070511,NACPWC,        5,    36,  1, 360124,     24,2,20070523,1606, 41.7900,-125.2900, 3117,      4.5,  11.6000,   32.4200,2,-999.0000,9,    283.2,2,   -999.0,9,     3.98,2,     1.02,2,     0.04,2,     0.39,2,   2002.5,2,   2183.4,2,  11.5994,20070523,1810