BOTTLE,20220810CCHSIOAMB
EXPOCODE,SECT_ID,LINE,STNNBR,CASTNO,SAMPNO,BTLNBR,BTLNBR_FLAG_W,DATE,TIME,LATITUDE,LONGITUDE,DEPTH,CTDPRS,CTDTMP,CTDSAL,CTDSAL_FLAG_W,SALNTY,SALNTY_FLAG_W,CTDOXY,CTDOXY_FLAG_W,OXYGEN,OXYGEN_FLAG_W,SILCAT,SILCAT_FLAG_W,NITRAT,NITRAT_FLAG_W,NITRIT,NITRIT_FLAG_W,PHSPHT,PHSPHT_FLAG_W,TCARBN,TCARBN_FLAG_W,ALKALI,ALKALI_FLAG_W,THETA,BTL_DATE,BTL_TIME
,,,,,,,,,,,,METERS,DBAR,ITS-90,PSS-78,,PSS-78,,UMOL/KG,,UMOL/KG,,UMOL/KG,,UMOL/KG,,UMOL/KG,,UMOL/KG,,UMOL/KG,,UMOL/KG,,DEG C,,
  32WC20070511,NACPWC,        4,    31,  1, 310101,      1,2,20070520,2304, 44.6500,-125.5000, 2880,   2881.2,   1.7000,   34.6500,2,  34.6500,6,     83.4,2,     82.2,2,   196.38,6,    37.77,6,     0.00,6,     2.80,6,   2386.6,6,   2433.1,2,   1.4902,20070520,2304
  32WC20070511,NACPWC,        4,    31,  1, 310102,      2,2,20070520,2304, 44.6500,-125.5000, 2880,   2501.8,   1.7000,   34.6400,2,-999.0000,9,     81.8,2,     81.9,2,   187.27,2,    38.70,2,     0.00,2,     2.66,2,   -999.0,9,   -999.0,9,   1.5252,20070520,2314
  32WC20070511,NACPWC,        4,    31,  1, 310103,      3,2,20070520,2304, 44.6500,-125.5000, 2880,   1999.4,   1.9000,   34.6000,2,-999.0000,9,     59.7,2,     60.0,2,   180.51,2,    40.08,2,     0.00,2,     2.84,2,   2383.9,2,   2413.9,2,   1.7652,20070520,2326
  32WC20070511,NACPWC,        4,    31,  1, 310104,      4,2,20070520,2304, 44.6500,-125.5000, 2880,   1499.5,   2.6000,   34.5300,2,-999.0000,9,     33.2,2,     33.5,2,   162.59,6,    41.68,2,     0.00,6,     2.98,6,   -999.0,9,   -999.0,9,   2.4969,20070520,2338
  32WC20070511,NACPWC,        4,    31,  1, 310105,      5,2,20070520,2304, 44.6500,-125.5000, 2880,    800.2,   4.1000,   34.3300,2,-999.0000,9,      8.8,2,     10.3,2,   117.18,2,    41.69,2,     0.00,2,     3.09,2,   2357.5,2,   2343.8,2,   4.0403,20070520,2354
  32WC20070511,NACPWC,        4,    31,  1, 310106,      6,2,20070520,2304, 44.6500,-125.5000, 2880,    500.5,   5.2000,   34.1500,2,-999.0000,9,     25.4,2,     25.0,2,    87.61,2,    39.29,2,     0.00,2,     2.88,2,   -999.0,9,   -999.0,9,   5.1596,20070520,0001
  32WC20070511,NACPWC,        4,    31,  1, 310107,      7,2,20070520,2304, 44.6500,-125.5000, 2880,    350.9,   6.2000,   34.0500,2,-999.0000,9,     52.0,2,     54.4,2,    66.41,2,    35.84,2,     0.00,2,     2.56,2,   2275.8,2,   2278.5,2,   6.1694,20070520,0005
  32WC20070511,NACPWC,        4,    31,  1, 310108,      8,2,20070520,2304, 44.6500,-125.5000, 2880,    247.6,   7.0000,   34.0100,2,-999.0000,9,     75.4,2,     69.6,2,    54.59,2,    32.99,2,     0.01,2,     2.36,2,   2248.5,2,   2268.0,2,   6.9771,20070520,0009
  32WC20070511,NACPWC,        4,    31,  1, 310109,      9,2,20070520,2304, 44.6500,-125.5000, 2880,    200.5,   7.5000,   33.9700,2,-999.0000,9,     84.3,2,     87.4,2,    46.63,2,    30.97,2,     0.01,2,     2.20,2,   2228.5,2,   2247.2,2,   7.4808,20070520,0011
  32WC20070511,NACPWC,        4,    31,  1, 310110,     10,2,20070520,2304, 44.6500,-125.5000, 2880,    175.6,   7.7000,   33.9500,2,-999.0000,9,     90.7,2,     91.1,6,    43.86,2,    30.37,2,     0.01,2,     2.17,2,   2226.0,2,   2244.1,2,   7.6829,20070520,0014
  32WC20070511,NACPWC,        4,    31,  1, 310111,     11,2,20070520,2304, 44.6500,-125.5000, 2880,    148.8,   8.1000,   33.8800,2,-999.0000,9,    100.2,2,     99.0,2,    39.82,2,    28.94,2,     0.01,2,     2.11,2,   2212.8,2,   2243.5,2,   8.0851,20070520,0016
  32WC20070511,NACPWC,        4,    31,  1, 310112,     12,2,20070520,2304, 44.6500,-125.5000, 2880,    129.4,   8.4000,   33.7800,2,-999.0000,9,    112.6,2,    112.1,2,    36.60,2,    27.46,2,     0.01,2,     2.03,2,   2197.3,2,   2239.3,2,   8.3868,20070520,0017
  32WC20070511,NACPWC,        4,    31,  1, 310113,     13,2,20070520,2304, 44.6500,-125.5000, 2880,    110.3,   8.7000,   33.5900,2,-999.0000,9,    136.0,2,    136.3,2,    31.90,2,    25.03,2,     0.02,2,     1.87,2,   2172.4,2,   2203.3,2,   8.6886,20070520,0019
  32WC20070511,NACPWC,        4,    31,  1, 310114,     14,2,20070520,2304, 44.6500,-125.5000, 2880,     91.1,   9.0000,   33.3100,2,-999.0000,9,    179.0,2,    174.9,2,    25.13,2,    20.57,2,     0.02,2,     1.60,2,   2133.5,2,   2214.6,2,   8.9904,20070520,0021
  32WC20070511,NACPWC,        4,    31,  1, 310115,     15,2,20070520,2304, 44.6500,-125.5000, 2880,     70.0,   9.1000,   32.6900,2,-999.0000,9,    251.7,2,    252.2,2,    13.87,2,    11.75,2,     0.03,2,     1.05,2,   2052.5,2,   2179.9,2,   9.0926,20070520,0023
  32WC20070511,NACPWC,        4,    31,  1, 310116,     16,2,20070520,2304, 44.6500,-125.5000, 2880,     59.7,   9.0000,   32.5100,2,-999.0000,9,    269.0,2,    273.3,2,    10.71,2,     8.94,2,     0.04,2,     0.88,2,   2027.6,2,   2170.5,2,   8.9938,20070520,0024
  32WC20070511,NACPWC,        4,    31,  1, 310117,     17,2,20070520,2304, 44.6500,-125.5000, 2880,     49.8,   9.2000,   32.4600,2,-999.0000,9,    276.0,2,    280.4,2,     9.49,2,     7.12,2,     0.39,2,     0.79,2,   2020.7,2,   2161.6,2,   9.1947,20070520,0026
  32WC20070511,NACPWC,        4,    31,  1, 310118,     18,2,20070520,2304, 44.6500,-125.5000, 2880,     40.4,   9.5000,   32.4200,2,-999.0000,9,    282.9,2,    283.0,2,     9.19,2,     6.02,2,     0.49,2,     0.73,2,   2015.9,2,   2168.0,2,   9.4957,20070520,0027
  32WC20070511,NACPWC,        4,    31,  1, 310119,     19,2,20070520,2304, 44.6500,-125.5000, 2880,     29.8,   9.9000,   32.3500,2,-999.0000,9,    295.9,2,    319.3,2,     8.39,2,     3.59,2,     0.10,2,     0.57,2,   1994.3,2,   2169.3,2,   9.8967,20070520,0028
  32WC20070511,NACPWC,        4,    31,  1, 310120,     20,2,20070520,2304, 44.6500,-125.5000, 2880,     23.7,  10.3000,   32.3000,2,-999.0000,9,    300.7,2,    311.1,6,     7.68,2,     1.59,2,     0.02,2,     0.41,2,   1980.8,2,   2166.8,2,  10.2973,20070520,0029
  32WC20070511,NACPWC,        4,    31,  1, 310121,     21,2,20070520,2304, 44.6500,-125.5000, 2880,     19.1,  10.9000,   31.8800,2,-999.0000,9,    303.9,2,    311.2,2,     6.87,2,     0.11,2,     0.01,2,     0.28,2,   1952.6,2,   2136.4,2,  10.8978,20070520,0030
  32WC20070511,NACPWC,        4,    31,  1, 310122,     22,2,20070520,2304, 44.6500,-125.5000, 2880,     13.8,  12.0000,   31.0500,2,-999.0000,9,    286.0,2,    289.3,2,     5.82,2,     0.04,2,     0.00,2,     0.21,2,   1926.5,2,   2125.9,2,  11.9983,20070520,0030
  32WC20070511,NACPWC,        4,    31,  1, 310123,     23,2,20070520,2304, 44.6500,-125.5000, 2880,      8.7,  12.1000,   30.9600,2,  30.9600,2,    281.7,2,    284.6,2,     5.64,2,     0.04,2,     0.00,2,     0.20,2,   1923.9,2,   2122.8,2,  12.0989,20070520,0031
  32WC20070511,NACPWC,        4,    31,  1, 310124,     24,2,20070520,2304, 44.6500,-125.5000, 2880,      4.5,  12.2000,   30.9400,2,-999.0000,9,    281.3,2,    283.6,2,     5.95,2,     0.04,2,     0.00,2,     0.21,2,   1925.4,6,   2107.1,2,  12.1994,20070520,0032
  32WC20070511,NACPWC,        4,    32,  1, 320101,      1,2,20070520,1657, 44.6500,-126.2100, 2884,   2885.5,   1.7000,   34.6500,2,  34.6500,6,     85.0,2,     84.6,2,   195.29,2,    39.89,2,     0.00,2,     2.72,2,   2386.3,6,   2434.0,6,   1.4898,20070520,1657
  32WC20070511,NACPWC,        4,    32,  1, 320102,      2,2,20070520,1657, 44.6500,-126.2100, 2884,   2501.2,   1.7000,   34.6400,2,-999.0000,9,     81.1,2,     81.1,2,   188.33,2,    41.29,2,     0.00,2,     2.70,2,   -999.0,9,   -999.0,9,   1.5252,20070520,1709
  32WC20070511,NACPWC,        4,    32,  1, 320103,      3,2,20070520,1657, 44.6500,-126.2100, 2884,   2002.2,   1.9000,   34.6000,2,-999.0000,9,     59.1,2,     59.5,2,   180.72,2,    42.13,2,     0.00,2,     2.80,2,   2385.8,2,   2410.7,2,   1.7650,20070520,1723
  32WC20070511,NACPWC,        4,    32,  1, 320104,      4,2,20070520,1657, 44.6500,-126.2100, 2884,   1500.3,   2.6000,   34.5200,2,-999.0000,9,     29.8,2,     30.2,2,   162.84,6,    41.52,6,     0.00,6,     2.97,6,   -999.0,9,   -999.0,9,   2.4969,20070520,1737
  32WC20070511,NACPWC,        4,    32,  1, 320105,      5,2,20070520,1657, 44.6500,-126.2100, 2884,    800.6,   4.1000,   34.3300,2,-999.0000,9,      9.2,2,      9.7,2,   118.41,6,    41.91,6,     0.00,6,     3.02,6,   2352.1,2,   2346.5,2,   4.0402,20070520,1754
  32WC20070511,NACPWC,        4,    32,  1, 320106,      6,2,20070520,1657, 44.6500,-126.2100, 2884,    501.3,   5.1000,   34.1300,2,-999.0000,9,     28.3,2,     27.5,2,    87.43,6,    40.76,2,     0.01,6,     2.84,6,   -999.0,9,   -999.0,9,   5.0600,20070520,1803
  32WC20070511,NACPWC,        4,    32,  1, 320107,      7,2,20070520,1657, 44.6500,-126.2100, 2884,    350.1,   6.3000,   34.0500,2,-999.0000,9,     54.2,2,     53.9,2,    65.33,2,    36.84,2,     0.01,2,     2.57,2,   2270.6,2,   2279.1,2,   6.2692,20070520,1808
  32WC20070511,NACPWC,        4,    32,  1, 320108,      8,2,20070520,1657, 44.6500,-126.2100, 2884,    250.0,   7.1000,   34.0100,2,-999.0000,9,     77.7,2,     77.1,2,    51.31,2,    31.73,2,     0.01,2,     2.31,2,   2239.3,2,   2263.3,2,   7.0767,20070520,1811
  32WC20070511,NACPWC,        4,    32,  1, 320109,      9,2,20070520,1657, 44.6500,-126.2100, 2884,    200.4,   7.7000,   33.9800,2,-999.0000,9,     87.2,2,     85.8,2,    44.65,2,    29.81,2,     0.01,2,     2.21,2,   2225.1,2,   2258.5,2,   7.6805,20070520,1814
  32WC20070511,NACPWC,        4,    32,  1, 320110,     10,2,20070520,1657, 44.6500,-126.2100, 2884,    175.0,   8.1000,   33.9300,2,-999.0000,9,     94.1,2,     94.0,6,    40.81,2,    28.95,2,     0.01,2,     2.14,2,   2216.7,2,   2248.2,2,   8.0825,20070520,1816
  32WC20070511,NACPWC,        4,    32,  1, 320111,     11,2,20070520,1657, 44.6500,-126.2100, 2884,    149.5,   8.4000,   33.8700,2,-999.0000,9,    103.7,2,    103.2,2,    37.59,2,    28.12,2,     0.01,2,     2.07,2,   2206.1,2,   2246.0,2,   8.3847,20070520,1818
  32WC20070511,NACPWC,        4,    32,  1, 320112,     12,2,20070520,1657, 44.6500,-126.2100, 2884,    130.3,   8.7000,   33.7900,2,-999.0000,9,    111.5,2,    112.4,2,    35.03,2,    26.76,2,     0.01,2,     2.00,2,   2197.5,2,   2240.1,2,   8.6864,20070520,1820
  32WC20070511,NACPWC,        4,    32,  1, 320113,     13,2,20070520,1657, 44.6500,-126.2100, 2884,    109.1,   8.9000,   33.6100,2,-999.0000,9,    136.6,2,    133.1,2,    32.00,2,    25.42,2,     0.01,2,     1.87,2,   2177.2,2,   2237.8,2,   8.8885,20070520,1822
  32WC20070511,NACPWC,        4,    32,  1, 320114,     14,2,20070520,1657, 44.6500,-126.2100, 2884,     88.8,   9.4000,   33.2500,2,-999.0000,9,    181.8,2,    182.2,2,    22.88,2,    19.62,2,     0.03,2,     1.50,2,   2127.0,2,   2210.4,2,   9.3904,20070520,1823
  32WC20070511,NACPWC,        4,    32,  1, 320115,     15,2,20070520,1657, 44.6500,-126.2100, 2884,     70.3,   9.8000,   32.7300,2,-999.0000,9,    256.4,2,    254.9,2,    11.76,2,    10.15,2,     0.23,2,     0.93,2,   2045.9,2,   -999.0,9,   9.7922,20070520,1825
  32WC20070511,NACPWC,        4,    32,  1, 320116,     16,2,20070520,1657, 44.6500,-126.2100, 2884,     59.9,  10.0000,   32.6200,2,-999.0000,9,    272.6,2,    273.1,2,     9.29,2,     6.49,2,     0.30,2,     0.78,2,   2026.5,2,   2180.9,2,   9.9933,20070520,1827
  32WC20070511,NACPWC,        4,    32,  1, 320117,     17,2,20070520,1657, 44.6500,-126.2100, 2884,     49.5,  10.2000,   32.6100,2,-999.0000,9,    277.4,2,    277.9,2,     8.54,2,     5.66,2,     0.16,2,     0.73,2,   2019.7,2,   2184.9,6,  10.1944,20070520,1828
  32WC20070511,NACPWC,        4,    32,  1, 320118,     18,2,20070520,1657, 44.6500,-126.2100, 2884,     39.1,  10.7000,   32.6000,2,-999.0000,9,    280.8,2,    280.8,2,     7.48,2,     4.81,2,     0.12,2,     0.66,2,   2017.3,2,   2180.0,2,  10.6954,20070520,1829
  32WC20070511,NACPWC,        4,    32,  1, 320119,     19,2,20070520,1657, 44.6500,-126.2100, 2884,     30.2,  11.1000,   32.5400,2,-999.0000,9,    283.7,2,    284.7,2,     6.86,2,     3.34,2,     0.07,2,     0.55,2,   2000.2,2,   2180.4,2,  11.0964,20070520,1831
  32WC20070511,NACPWC,        4,    32,  1, 320120,     20,2,20070520,1657, 44.6500,-126.2100, 2884,     25.5,  11.3000,   32.4500,2,-999.0000,9,    290.4,2,    289.6,6,     6.72,2,     2.17,2,     0.05,2,     0.49,2,   1988.8,2,   2177.4,2,  11.2969,20070520,1832
  32WC20070511,NACPWC,        4,    32,  1, 320121,     21,2,20070520,1657, 44.6500,-126.2100, 2884,     19.8,  11.5000,   31.9900,2,-999.0000,9,    291.6,2,    293.5,2,     5.71,2,     0.11,2,     0.01,2,     0.30,2,   1961.2,2,   2160.2,2,  11.4976,20070520,1833
  32WC20070511,NACPWC,        4,    32,  1, 320122,     22,2,20070520,1657, 44.6500,-126.2100, 2884,     14.8,  12.0000,   30.5700,2,-999.0000,9,    280.7,2,    280.0,2,     5.72,2,     0.04,2,     0.01,2,     0.19,2,   1917.7,2,   2087.3,2,  11.9982,20070520,1834
  32WC20070511,NACPWC,        4,    32,  1, 320123,     23,2,20070520,1657, 44.6500,-126.2100, 2884,      9.7,  12.1000,   30.4900,2,  30.4900,2,    280.2,2,    279.1,2,     5.78,2,     0.05,2,     0.01,2,     0.19,2,   1915.8,2,   2108.2,2,  12.0988,20070520,1835
  32WC20070511,NACPWC,        4,    32,  1, 320124,     24,2,20070520,1657, 44.6500,-126.2100, 2884,      5.2,  12.1000,   30.4800,2,-999.0000,9,    280.0,2,    278.9,2,     5.81,2,     0.04,2,     0.00,2,     0.20,2,   1916.3,6,   2110.1,2,  12.0994,20070520,1837
  32WC20070511,NACPWC,        4,    33,  1, 330101,      1,2,20070520,1103, 44.6500,-126.9100, 2906,   2907.9,   1.7000,   34.6500,2,  34.6500,6,     89.0,2,     89.7,2,   192.10,6,    39.46,6,     0.00,6,     2.70,6,   2379.8,6,   2431.5,6,   1.4877,20070520,1103
  32WC20070511,NACPWC,        4,    33,  1, 330102,      2,2,20070520,1103, 44.6500,-126.9100, 2906,   2500.6,   1.8000,   34.6400,2,-999.0000,9,     81.6,2,     81.9,2,   186.99,2,    40.21,2,     0.00,2,     2.72,2,   -999.0,9,   -999.0,9,   1.6234,20070520,1112
  32WC20070511,NACPWC,        4,    33,  1, 330103,      3,2,20070520,1103, 44.6500,-126.9100, 2906,   2001.6,   1.9000,   34.6000,2,-999.0000,9,     62.3,2,     62.5,2,   181.30,2,    41.40,2,     0.00,2,     2.81,2,   2386.3,2,   2416.3,2,   1.7650,20070520,1124
  32WC20070511,NACPWC,        4,    33,  1, 330104,      4,2,20070520,1103, 44.6500,-126.9100, 2906,   1502.1,   2.5000,   34.5200,2,-999.0000,9,     29.7,2,     31.2,2,   164.13,6,    43.31,6,     0.00,6,     2.97,6,   -999.0,9,   -999.0,9,   2.3979,20070520,1136
  32WC20070511,NACPWC,        4,    33,  1, 330105,      5,2,20070520,1103, 44.6500,-126.9100, 2906,    800.2,   4.1000,   34.3000,2,-999.0000,9,      8.9,2,      9.9,2,   117.17,2,    43.15,2,     0.00,2,     3.07,2,   2353.8,2,   2343.5,2,   4.0403,20070520,1152
  32WC20070511,NACPWC,        4,    33,  1, 330106,      6,2,20070520,1103, 44.6500,-126.9100, 2906,    500.5,   5.2000,   34.1000,2,-999.0000,9,     30.5,2,     33.4,2,    84.62,2,    40.03,2,     0.01,2,     2.83,2,   2304.4,2,   2302.3,2,   5.1597,20070520,1159
  32WC20070511,NACPWC,        4,    33,  1, 330107,      7,2,20070520,1103, 44.6500,-126.9100, 2906,    350.9,   6.2000,   34.0400,2,-999.0000,9,     55.6,2,     55.8,2,    65.90,2,    36.70,2,     0.01,2,     2.58,2,   2269.3,2,   2282.8,2,   6.1694,20070520,1204
  32WC20070511,NACPWC,        4,    33,  1, 330108,      8,2,20070520,1103, 44.6500,-126.9100, 2906,    249.3,   7.2000,   33.9900,2,-999.0000,9,     80.4,2,     81.0,2,    50.67,2,    32.99,2,     0.01,2,     2.30,2,   2236.9,2,   2262.6,2,   7.1766,20070520,1207
  32WC20070511,NACPWC,        4,    33,  1, 330109,      9,2,20070520,1103, 44.6500,-126.9100, 2906,    200.8,   7.6000,   33.9500,2,-999.0000,9,     94.5,2,     92.2,2,    45.14,2,    31.45,2,     0.01,2,     2.20,2,   2223.5,2,   2258.4,2,   7.5806,20070520,1209
  32WC20070511,NACPWC,        4,    33,  1, 330110,     10,2,20070520,1103, 44.6500,-126.9100, 2906,    176.6,   7.9000,   33.9200,2,-999.0000,9,     95.4,2,     93.2,2,    42.94,2,    30.97,2,     0.02,2,     2.19,2,   2220.4,2,   -999.0,5,   7.8826,20070520,1210
  32WC20070511,NACPWC,        4,    33,  1, 330111,     11,2,20070520,1103, 44.6500,-126.9100, 2906,    149.8,   8.2000,   33.8800,2,-999.0000,9,    100.7,2,    103.4,2,    39.38,2,    29.69,2,     0.02,2,     2.11,2,   2210.6,2,   2250.4,2,   8.1849,20070520,1212
  32WC20070511,NACPWC,        4,    33,  1, 330112,     12,2,20070520,1103, 44.6500,-126.9100, 2906,    131.0,   8.4000,   33.8100,2,-999.0000,9,    109.1,2,    110.1,2,    37.82,2,    28.73,2,     0.02,2,     2.07,2,   2204.1,2,   2246.0,2,   8.3866,20070520,1213
  32WC20070511,NACPWC,        4,    33,  1, 330113,     13,2,20070520,1103, 44.6500,-126.9100, 2906,    109.5,   8.9000,   33.6200,2,-999.0000,9,    132.6,2,    135.0,2,    32.52,2,    25.73,2,     0.03,2,     1.88,2,   2172.3,2,   2232.1,2,   8.8885,20070520,1215
  32WC20070511,NACPWC,        4,    33,  1, 330114,     14,2,20070520,1103, 44.6500,-126.9100, 2906,     91.1,   9.2000,   33.3100,2,-999.0000,9,    184.7,2,    176.4,2,    25.42,2,    21.13,2,     0.06,2,     1.59,2,   2125.6,2,   2215.8,2,   9.1903,20070520,1216
  32WC20070511,NACPWC,        4,    33,  1, 330115,     15,2,20070520,1103, 44.6500,-126.9100, 2906,     69.8,   9.7000,   32.6700,2,-999.0000,9,    263.8,2,    263.8,2,    11.21,2,     8.74,2,     0.36,2,     0.87,2,   2033.2,2,   2185.3,3,   9.6923,20070520,1218
  32WC20070511,NACPWC,        4,    33,  1, 330116,     16,2,20070520,1103, 44.6500,-126.9100, 2906,     59.7,   9.8000,   32.5800,2,-999.0000,9,    273.7,2,    274.4,2,    10.19,2,     6.55,2,     0.26,2,     0.79,2,   2022.0,2,   2183.8,2,   9.7934,20070520,1219
  32WC20070511,NACPWC,        4,    33,  1, 330117,     17,2,20070520,1103, 44.6500,-126.9100, 2906,     49.7,  10.3000,   32.5400,2,-999.0000,9,    281.6,2,    282.9,2,     8.31,2,     4.54,2,     0.13,2,     0.65,2,   2007.0,2,   2180.7,6,  10.2943,20070520,1220
  32WC20070511,NACPWC,        4,    33,  1, 330118,     18,2,20070520,1103, 44.6500,-126.9100, 2906,     38.8,  11.0000,   32.4700,2,-999.0000,9,    285.8,2,    286.6,2,     7.24,2,     2.39,2,     0.07,2,     0.46,2,   1990.1,2,   2185.2,2,  10.9954,20070520,1221
  32WC20070511,NACPWC,        4,    33,  1, 330119,     19,2,20070520,1103, 44.6500,-126.9100, 2906,     30.4,  11.5000,   32.4800,2,-999.0000,9,    289.8,2,    290.0,2,     6.40,2,     1.34,2,     0.06,2,     0.39,2,   1981.0,2,   -999.0,9,  11.4963,20070520,1223
  32WC20070511,NACPWC,        4,    33,  1, 330120,     20,2,20070520,1103, 44.6500,-126.9100, 2906,     24.1,  11.6000,   32.4800,2,-999.0000,9,    289.5,2,    289.8,2,     6.31,2,     1.27,2,     0.06,2,     0.39,2,   1981.1,2,   2178.6,2,  11.5970,20070520,1224
  32WC20070511,NACPWC,        4,    33,  1, 330121,     21,2,20070520,1103, 44.6500,-126.9100, 2906,     19.2,  11.6000,   32.4800,2,-999.0000,9,    289.3,2,    289.1,2,     6.20,2,     1.19,2,     0.06,2,     0.38,2,   1980.2,2,   2177.6,2,  11.5976,20070520,1225
  32WC20070511,NACPWC,        4,    33,  1, 330122,     22,2,20070520,1103, 44.6500,-126.9100, 2906,     13.9,  11.6000,   32.4700,2,-999.0000,9,    289.1,2,    289.7,2,     6.20,2,     1.19,2,     0.06,2,     0.30,2,   1978.1,2,   2179.4,2,  11.5983,20070520,1226
  32WC20070511,NACPWC,        4,    33,  1, 330123,     23,2,20070520,1103, 44.6500,-126.9100, 2906,      8.6,  11.6000,   32.4700,2,  32.4700,2,    288.9,2,    289.5,6,     6.09,2,     1.19,2,     0.06,2,     0.29,2,   1979.0,2,   2178.5,2,  11.5989,20070520,1227
  32WC20070511,NACPWC,        4,    33,  1, 330124,     24,2,20070520,1103, 44.6500,-126.9100, 2906,      3.8,  11.6000,   32.4800,2,-999.0000,9,    288.6,2,    289.0,2,     6.08,2,     1.19,2,     0.06,2,     0.31,2,   1980.4,6,   2179.8,2,  11.5995,20070520,1228