BOTTLE,20220810CCHSIOAMB
EXPOCODE,SECT_ID,LINE,STNNBR,CASTNO,SAMPNO,BTLNBR,BTLNBR_FLAG_W,DATE,TIME,LATITUDE,LONGITUDE,DEPTH,CTDPRS,CTDTMP,CTDSAL,CTDSAL_FLAG_W,SALNTY,SALNTY_FLAG_W,CTDOXY,CTDOXY_FLAG_W,OXYGEN,OXYGEN_FLAG_W,SILCAT,SILCAT_FLAG_W,NITRAT,NITRAT_FLAG_W,NITRIT,NITRIT_FLAG_W,PHSPHT,PHSPHT_FLAG_W,TCARBN,TCARBN_FLAG_W,ALKALI,ALKALI_FLAG_W,THETA,BTL_DATE,BTL_TIME
,,,,,,,,,,,,METERS,DBAR,ITS-90,PSS-78,,PSS-78,,UMOL/KG,,UMOL/KG,,UMOL/KG,,UMOL/KG,,UMOL/KG,,UMOL/KG,,UMOL/KG,,UMOL/KG,,DEG C,,
  32WC20070511,NACPWC,        8,    63,  1, 630101,      1,2,20070531,0425, 36.6700,-122.1600, 1145,   1136.5,   3.5000,   34.4900,2,  34.4900,2,     26.1,2,     26.8,2,   134.34,6,    41.92,6,     0.01,6,     3.15,6,   2371.9,6,   2379.2,2,   3.4172,20070531,0425
  32WC20070511,NACPWC,        8,    63,  1, 630102,      2,2,20070531,0425, 36.6700,-122.1600, 1145,    800.3,   4.7000,   34.3700,2,-999.0000,9,     13.1,2,     13.0,2,   107.27,6,    41.57,6,     0.00,6,     3.15,6,   2344.9,6,   2327.6,2,   4.6365,20070531,0434
  32WC20070511,NACPWC,        8,    63,  1, 630103,      3,2,20070531,0425, 36.6700,-122.1600, 1145,    599.7,   5.4000,   34.2800,2,-999.0000,9,     15.1,2,     14.6,2,    90.45,2,    40.16,2,     0.00,2,     3.07,2,   2330.7,2,   2311.7,6,   5.3501,20070531,0439
  32WC20070511,NACPWC,        8,    63,  1, 630104,      4,2,20070531,0425, 36.6700,-122.1600, 1145,    499.8,   6.0000,   34.2400,2,-999.0000,9,     22.2,2,     22.4,2,    79.93,2,    38.20,2,     0.01,2,     2.95,2,   2312.9,2,   2308.8,3,   5.9565,20070531,0443
  32WC20070511,NACPWC,        8,    63,  1, 630105,      5,2,20070531,0425, 36.6700,-122.1600, 1145,    400.1,   6.9000,   34.1900,2,-999.0000,9,     38.3,2,     38.6,2,    64.28,2,    35.17,2,     0.02,2,     2.73,2,   2285.0,2,   2291.7,2,   6.8628,20070531,0446
  32WC20070511,NACPWC,        8,    63,  1, 630106,      6,2,20070531,0425, 36.6700,-122.1600, 1145,    349.7,   7.2000,   34.1600,2,-999.0000,9,     48.4,2,     48.6,2,    58.67,2,    33.95,2,     0.02,2,     2.62,2,   2270.7,2,   2278.3,2,   7.1668,20070531,0449
  32WC20070511,NACPWC,        8,    63,  1, 630107,      7,2,20070531,0425, 36.6700,-122.1600, 1145,    300.3,   7.5000,   34.1600,2,-999.0000,9,     53.2,2,     53.0,2,    54.51,2,    33.05,2,     0.03,2,     2.56,2,   2264.3,2,   2276.0,2,   7.4709,20070531,0451
  32WC20070511,NACPWC,        8,    63,  1, 630108,      8,2,20070531,0425, 36.6700,-122.1600, 1145,    249.8,   7.9000,   34.1400,2,-999.0000,9,     59.5,2,     59.1,2,    50.50,2,    32.03,2,     0.03,2,     2.47,2,   2255.3,2,   2272.3,2,   7.8751,20070531,0453
  32WC20070511,NACPWC,        8,    63,  1, 630109,      9,2,20070531,0425, 36.6700,-122.1600, 1145,    199.8,   8.2000,   34.1200,2,-999.0000,9,     67.9,2,     66.2,2,    46.43,2,    30.75,2,     0.10,2,     2.39,2,   2247.8,2,   2266.4,2,   8.1797,20070531,0455
  32WC20070511,NACPWC,        8,    63,  1, 630110,     10,2,20070531,0425, 36.6700,-122.1600, 1145,    174.0,   8.2000,   34.1000,2,-999.0000,9,     74.1,2,     74.7,6,    45.26,6,    31.07,6,     0.07,6,     2.33,6,   2234.9,2,   2263.6,2,   8.1824,20070531,0457
  32WC20070511,NACPWC,        8,    63,  1, 630111,     11,2,20070531,0425, 36.6700,-122.1600, 1145,    150.2,   8.3000,   34.0600,2,-999.0000,9,     89.1,2,     89.6,2,    41.41,2,    30.08,2,     0.09,2,     2.23,2,   2221.9,2,   2256.6,2,   8.2847,20070531,0458
  32WC20070511,NACPWC,        8,    63,  1, 630112,     12,2,20070531,0425, 36.6700,-122.1600, 1145,    129.4,   8.5000,   34.0600,2,-999.0000,9,     89.6,2,     88.7,2,    41.75,2,    29.65,2,     0.19,2,     2.27,2,   2224.4,2,   2257.3,2,   8.4867,20070531,0459
  32WC20070511,NACPWC,        8,    63,  1, 630113,     13,2,20070531,0425, 36.6700,-122.1600, 1145,    109.7,   8.6000,   34.0400,2,-999.0000,9,    112.6,2,    104.4,2,    40.13,2,    28.60,2,     0.17,2,     2.22,2,   2219.0,2,   2255.6,2,   8.5886,20070531,0501
  32WC20070511,NACPWC,        8,    63,  1, 630114,     14,2,20070531,0425, 36.6700,-122.1600, 1145,     89.5,   8.8000,   34.0100,2,-999.0000,9,    123.3,2,    123.9,2,    38.02,2,    27.91,2,     0.16,2,     2.13,2,   2206.5,2,   2254.1,2,   8.7906,20070531,0502
  32WC20070511,NACPWC,        8,    63,  1, 630115,     15,2,20070531,0425, 36.6700,-122.1600, 1145,     69.6,   9.0000,   33.9800,2,-999.0000,9,    137.6,2,    137.9,2,    35.97,2,    26.67,2,     0.17,2,     2.06,2,   2199.1,2,   2269.9,2,   8.9926,20070531,0504
  32WC20070511,NACPWC,        8,    63,  1, 630116,     16,2,20070531,0425, 36.6700,-122.1600, 1145,     60.1,   9.2000,   33.9800,2,-999.0000,9,    144.3,2,    142.8,2,    35.49,2,    26.44,2,     0.19,2,     2.03,2,   2197.0,2,   2253.1,2,   9.1935,20070531,0505
  32WC20070511,NACPWC,        8,    63,  1, 630117,     17,2,20070531,0425, 36.6700,-122.1600, 1145,     49.5,   9.3000,   33.9700,2,-999.0000,9,    151.4,2,    151.0,2,    34.92,2,    26.27,2,     0.20,2,     2.01,2,   2193.6,2,   2252.6,2,   9.2946,20070531,0505
  32WC20070511,NACPWC,        8,    63,  1, 630118,     18,2,20070531,0425, 36.6700,-122.1600, 1145,     40.0,   9.5000,   33.9600,2,-999.0000,9,    162.2,2,    199.5,2,    33.81,2,    24.99,2,     0.20,2,     1.97,2,   2189.1,2,   2254.7,2,   9.4956,20070531,0506
  32WC20070511,NACPWC,        8,    63,  1, 630119,     19,2,20070531,0425, 36.6700,-122.1600, 1145,     29.7,   9.9000,   33.9200,2,-999.0000,9,    202.4,2,    160.2,2,    28.89,2,    21.09,2,     0.22,2,     1.74,2,   2164.5,2,   2251.9,2,   9.8967,20070531,0507
  32WC20070511,NACPWC,        8,    63,  1, 630120,     20,2,20070531,0425, 36.6700,-122.1600, 1145,     24.5,  10.4000,   33.8300,2,-999.0000,9,    202.4,2,    205.6,6,    26.31,2,    19.54,2,     0.24,2,     1.62,2,   2153.1,2,   2253.6,6,  10.3972,20070531,0508
  32WC20070511,NACPWC,        8,    63,  1, 630121,     21,2,20070531,0425, 36.6700,-122.1600, 1145,     20.1,  10.8000,   33.8000,2,-999.0000,9,    223.7,2,    221.4,2,    24.04,6,    18.20,6,     0.24,6,     1.46,6,   2136.5,2,   2251.6,2,  10.7976,20070531,0508
  32WC20070511,NACPWC,        8,    63,  1, 630122,     22,2,20070531,0425, 36.6700,-122.1600, 1145,     15.3,  11.3000,   33.7400,2,-999.0000,9,    235.1,2,    239.4,2,    22.83,2,    16.40,2,     0.23,2,     1.36,2,   2124.5,2,   2247.7,2,  11.2981,20070531,0509
  32WC20070511,NACPWC,        8,    63,  1, 630123,     23,2,20070531,0425, 36.6700,-122.1600, 1145,      9.8,  11.6000,   33.6600,2,  33.6700,2,    265.7,2,    262.0,2,    18.69,2,    13.08,2,     0.22,2,     1.13,2,   2097.2,2,   2243.2,2,  11.5988,20070531,0510
  32WC20070511,NACPWC,        8,    63,  1, 630124,     24,2,20070531,0425, 36.6700,-122.1600, 1145,      5.0,  13.0000,   33.3900,2,-999.0000,9,    276.6,2,    266.8,2,    15.24,2,    10.27,2,     0.18,2,     0.95,2,   2072.9,2,   2234.8,2,  12.9993,20070531,0510
  32WC20070511,NACPWC,        8,    64,  1, 640101,      1,2,20070531,0033, 36.7300,-122.0200, 1314,   1299.7,   3.3000,   34.5100,2,  34.5100,2,     33.5,2,     33.5,2,   139.59,6,    41.65,6,     0.04,6,     3.14,6,   2368.3,6,   2402.0,6,   3.2057,20070531,0033
  32WC20070511,NACPWC,        8,    64,  1, 640102,      2,2,20070531,0033, 36.7300,-122.0200, 1314,    799.9,   4.7000,   34.3700,2,-999.0000,9,     13.9,2,     13.7,2,   107.22,6,    41.07,6,     0.01,6,     3.14,6,   2344.8,6,   2341.5,2,   4.6365,20070531,0044
  32WC20070511,NACPWC,        8,    64,  1, 640103,      3,2,20070531,0033, 36.7300,-122.0200, 1314,    600.9,   5.6000,   34.2800,2,-999.0000,9,     19.7,2,     20.1,2,    88.36,2,    38.82,2,     0.06,2,     3.02,2,   2321.7,2,   2319.2,2,   5.5491,20070531,0048
  32WC20070511,NACPWC,        8,    64,  1, 640104,      4,2,20070531,0033, 36.7300,-122.0200, 1314,    500.1,   6.2000,   34.2300,2,-999.0000,9,     25.1,2,     24.9,2,    76.35,2,    37.28,2,     0.01,2,     2.91,2,   2303.1,2,   2303.7,2,   6.1558,20070531,0051
  32WC20070511,NACPWC,        8,    64,  1, 640105,      5,2,20070531,0033, 36.7300,-122.0200, 1314,    400.5,   6.8000,   34.1800,2,-999.0000,9,     39.0,2,     39.1,2,    64.37,2,    35.58,2,     0.01,2,     2.73,2,   2277.7,2,   2288.3,2,   6.7630,20070531,0054
  32WC20070511,NACPWC,        8,    64,  1, 640106,      6,2,20070531,0033, 36.7300,-122.0200, 1314,    350.2,   7.1000,   34.1500,2,-999.0000,9,     49.6,2,     49.1,2,    58.88,2,    34.53,2,     0.03,2,     2.63,2,   2269.7,2,   2280.6,2,   7.0670,20070531,0055
  32WC20070511,NACPWC,        8,    64,  1, 640107,      7,2,20070531,0033, 36.7300,-122.0200, 1314,    300.1,   7.7000,   34.1300,2,-999.0000,9,     60.1,2,     60.5,2,    50.41,2,    32.93,2,     0.05,2,     2.47,2,   2247.3,2,   2272.8,2,   7.6705,20070531,0056
  32WC20070511,NACPWC,        8,    64,  1, 640108,      8,2,20070531,0033, 36.7300,-122.0200, 1314,    250.4,   8.1000,   34.1000,2,-999.0000,9,     74.4,2,     74.6,2,    45.55,6,    31.14,6,     0.04,6,     2.33,6,   2231.2,2,   2266.9,2,   8.0747,20070531,0058
  32WC20070511,NACPWC,        8,    64,  1, 640109,      9,2,20070531,0033, 36.7300,-122.0200, 1314,    200.1,   8.5000,   34.0700,2,-999.0000,9,     94.2,2,     93.1,2,    41.84,2,    29.34,2,     0.17,2,     2.26,2,   2224.4,2,   2262.3,2,   8.4793,20070531,0059
  32WC20070511,NACPWC,        8,    64,  1, 640110,     10,2,20070531,0033, 36.7300,-122.0200, 1314,    174.9,   8.5000,   34.0700,2,-999.0000,9,     99.0,2,     98.9,2,    41.53,2,    29.10,2,     0.17,2,     2.26,2,   2219.0,2,   2262.8,2,   8.4819,20070531,0101
  32WC20070511,NACPWC,        8,    64,  1, 640111,     11,2,20070531,0033, 36.7300,-122.0200, 1314,    150.4,   8.6000,   34.0400,2,-999.0000,9,     95.3,2,     94.4,2,    40.33,2,    28.42,2,     0.19,2,     2.23,2,   2217.5,2,   2259.3,2,   8.5844,20070531,0102
  32WC20070511,NACPWC,        8,    64,  1, 640112,     12,2,20070531,0033, 36.7300,-122.0200, 1314,    129.9,   8.8000,   34.0400,2,-999.0000,9,    119.6,2,    117.8,2,    38.86,2,    27.87,2,     0.16,2,     2.17,2,   2211.5,2,   2252.6,2,   8.7863,20070531,0103
  32WC20070511,NACPWC,        8,    64,  1, 640113,     13,2,20070531,0033, 36.7300,-122.0200, 1314,    110.2,   9.0000,   34.0000,2,-999.0000,9,    135.3,2,    131.7,2,    36.82,2,    26.67,2,     0.17,2,     2.11,2,   2203.4,2,   2192.9,4,   8.9882,20070531,0103
  32WC20070511,NACPWC,        8,    64,  1, 640114,     14,2,20070531,0033, 36.7300,-122.0200, 1314,     90.1,   9.2000,   33.9900,2,-999.0000,9,    146.7,2,    144.9,2,    35.77,2,    25.98,2,     0.20,2,     2.06,2,   2200.5,2,   2257.4,2,   9.1903,20070531,0104
  32WC20070511,NACPWC,        8,    64,  1, 640115,     15,2,20070531,0033, 36.7300,-122.0200, 1314,     70.8,   9.3000,   33.9800,2,-999.0000,9,    151.3,2,    151.4,2,    35.01,2,    25.48,2,     0.19,2,     2.03,2,   2197.2,2,   2257.4,2,   9.2923,20070531,0105
  32WC20070511,NACPWC,        8,    64,  1, 640116,     16,2,20070531,0033, 36.7300,-122.0200, 1314,     60.5,   9.4000,   33.9700,2,-999.0000,9,    159.7,2,    162.0,2,    34.42,2,    25.08,2,     0.20,2,     2.01,2,   2193.3,2,   2257.2,2,   9.3934,20070531,0106
  32WC20070511,NACPWC,        8,    64,  1, 640117,     17,2,20070531,0033, 36.7300,-122.0200, 1314,     50.4,   9.5000,   33.9700,2,-999.0000,9,    161.8,2,    163.0,2,    34.16,2,    24.87,2,     0.19,2,     2.00,2,   2192.5,2,   2257.9,2,   9.4945,20070531,0107
  32WC20070511,NACPWC,        8,    64,  1, 640118,     18,2,20070531,0033, 36.7300,-122.0200, 1314,     40.6,   9.6000,   33.9300,2,-999.0000,9,    168.5,2,    168.9,2,    33.08,6,    24.66,6,     0.21,6,     1.95,6,   2185.6,2,   2257.5,2,   9.5955,20070531,0108
  32WC20070511,NACPWC,        8,    64,  1, 640119,     19,2,20070531,0033, 36.7300,-122.0200, 1314,     29.6,  10.0000,   33.9000,2,-999.0000,9,    197.1,2,    188.2,2,    30.50,6,    22.93,6,     0.26,6,     1.87,6,   2174.4,2,   2255.8,2,   9.9966,20070531,0108
  32WC20070511,NACPWC,        8,    64,  1, 640120,     20,2,20070531,0033, 36.7300,-122.0200, 1314,     24.6,  10.0000,   33.8900,2,-999.0000,9,    197.9,2,    194.6,2,    29.48,2,    22.25,2,     0.27,2,     1.82,2,   2171.6,2,   2250.6,2,   9.9972,20070531,0109
  32WC20070511,NACPWC,        8,    64,  1, 640121,     21,2,20070531,0033, 36.7300,-122.0200, 1314,     19.7,   9.9000,   33.8800,2,-999.0000,9,    197.4,2,    185.0,2,    28.92,2,    22.41,2,     0.26,2,     1.82,2,   2171.8,2,   2251.0,2,   9.8978,20070531,0110
  32WC20070511,NACPWC,        8,    64,  1, 640122,     22,2,20070531,0033, 36.7300,-122.0200, 1314,     14.6,   9.9000,   33.8300,2,-999.0000,9,    166.6,2,    177.2,2,    28.18,2,    22.40,2,     0.26,2,     1.79,2,   2169.7,2,   2248.5,2,   9.8984,20070531,0110
  32WC20070511,NACPWC,        8,    64,  1, 640123,     23,2,20070531,0033, 36.7300,-122.0200, 1314,      9.9,  10.7000,   33.7800,2,  33.7700,2,    232.7,2,    211.4,2,    24.28,2,    19.17,2,     0.22,2,     1.55,2,   2142.3,2,   2245.0,2,  10.6988,20070531,0111
  32WC20070511,NACPWC,        8,    64,  1, 640124,     24,2,20070531,0033, 36.7300,-122.0200, 1314,      4.6,  11.9000,   33.7100,2,-999.0000,9,    286.3,2,    290.1,2,    17.58,2,    11.29,2,     0.21,2,     1.01,2,   2083.7,2,   2250.3,2,  11.8994,20070531,0111
  32WC20070511,NACPWC,        8,    65,  1, 650101,      1,2,20070530,2134, 36.8000,-121.8700,  262,    262.0,   7.1000,   34.2000,2,  34.2000,2,     39.1,2,     38.7,2,    65.53,2,    34.44,2,     0.23,2,     2.77,2,   2285.3,6,   2287.6,2,   7.0755,20070530,2134
  32WC20070511,NACPWC,        8,    65,  1, 650102,      2,2,20070530,2134, 36.8000,-121.8700,  262,    249.8,   7.3000,   34.1900,2,-999.0000,9,     41.7,2,     39.8,2,    64.25,2,    34.16,2,     0.24,2,     2.75,2,   2283.6,2,   2289.0,2,   7.2763,20070530,2135
  32WC20070511,NACPWC,        8,    65,  1, 650103,      3,2,20070530,2134, 36.8000,-121.8700,  262,    224.8,   7.5000,   34.1700,2,-999.0000,9,     45.2,2,     44.4,2,    59.76,2,    33.30,2,     0.26,2,     2.67,2,   2274.6,2,   2284.6,2,   7.4783,20070530,2137
  32WC20070511,NACPWC,        8,    65,  1, 650104,      4,2,20070530,2134, 36.8000,-121.8700,  262,    199.9,   7.8000,   34.1500,2,-999.0000,9,     50.7,2,     50.4,2,    55.83,2,    32.17,2,     0.28,2,     2.63,2,   2266.1,2,   2277.9,2,   7.7803,20070530,2138
  32WC20070511,NACPWC,        8,    65,  1, 650105,      5,2,20070530,2134, 36.8000,-121.8700,  262,    174.8,   8.2000,   34.1100,2,-999.0000,9,     63.8,2,     62.1,2,    49.64,2,    30.53,2,     0.30,2,     2.53,2,   2252.7,2,   2268.6,2,   8.1823,20070530,2140
  32WC20070511,NACPWC,        8,    65,  1, 650106,      6,2,20070530,2134, 36.8000,-121.8700,  262,    149.8,   8.7000,   34.0500,2,-999.0000,9,     79.2,2,     79.2,2,    43.33,2,    28.56,2,     0.31,2,     2.42,2,   2235.1,2,   2258.9,2,   8.6843,20070530,2141
  32WC20070511,NACPWC,        8,    65,  1, 650107,      7,2,20070530,2134, 36.8000,-121.8700,  262,    129.9,   8.8000,   34.0200,2,-999.0000,9,    104.3,2,    105.7,2,    39.20,2,    27.61,2,     0.21,2,     2.23,2,   2219.8,2,   2255.4,2,   8.7863,20070530,2142
  32WC20070511,NACPWC,        8,    65,  1, 650108,      8,2,20070530,2134, 36.8000,-121.8700,  262,    110.1,   8.9000,   34.0100,2,-999.0000,9,    119.1,2,    116.4,2,    38.13,2,    27.23,2,     0.20,2,     2.19,2,   2213.6,2,   2255.3,2,   8.8883,20070530,2143
  32WC20070511,NACPWC,        8,    65,  1, 650109,      9,2,20070530,2134, 36.8000,-121.8700,  262,    100.3,   8.9000,   34.0100,2,-999.0000,9,    123.0,2,    134.2,2,    37.62,2,    27.06,2,     0.19,2,     2.17,2,   2213.1,2,   -999.0,9,   8.8894,20070530,2144
  32WC20070511,NACPWC,        8,    65,  1, 650110,     10,2,20070530,2134, 36.8000,-121.8700,  262,     89.7,   9.0000,   34.0000,2,-999.0000,9,    127.6,2,    126.3,6,    36.79,2,    26.88,2,     0.18,2,     2.14,2,   2209.6,2,   2254.7,2,   8.9904,20070530,2145
  32WC20070511,NACPWC,        8,    65,  1, 650111,     11,2,20070530,2134, 36.8000,-121.8700,  262,     80.4,   9.0000,   33.9800,2,-999.0000,9,    124.7,2,    124.1,2,    35.88,2,    26.39,2,     0.19,2,     2.12,2,   2207.3,2,   -999.0,9,   8.9914,20070530,2146
  32WC20070511,NACPWC,        8,    65,  1, 650112,     12,2,20070530,2134, 36.8000,-121.8700,  262,     70.5,   9.0000,   33.9700,2,-999.0000,9,    128.7,2,    128.0,2,    34.92,2,    25.99,2,     0.19,2,     2.09,2,   2205.0,2,   2253.5,2,   8.9925,20070530,2147
  32WC20070511,NACPWC,        8,    65,  1, 650113,     13,2,20070530,2134, 36.8000,-121.8700,  262,     60.0,   9.1000,   33.9600,2,-999.0000,9,    134.9,2,    133.8,2,    33.83,2,    25.77,2,     0.17,2,     2.05,2,   2198.8,2,   2250.0,2,   9.0936,20070530,2148
  32WC20070511,NACPWC,        8,    65,  1, 650114,     14,2,20070530,2134, 36.8000,-121.8700,  262,     49.6,   9.2000,   33.9500,2,-999.0000,9,    142.1,2,    141.5,2,    32.93,2,    25.19,2,     0.19,2,     2.03,2,   2198.0,2,   2250.9,2,   9.1947,20070530,2149
  32WC20070511,NACPWC,        8,    65,  1, 650115,     15,2,20070530,2134, 36.8000,-121.8700,  262,     39.5,   9.3000,   33.9400,2,-999.0000,9,    151.5,2,    146.6,2,    31.49,2,    24.03,2,     0.21,2,     2.01,2,   2192.1,2,   2253.2,2,   9.2957,20070530,2150
  32WC20070511,NACPWC,        8,    65,  1, 650116,     16,2,20070530,2134, 36.8000,-121.8700,  262,     29.6,   9.5000,   33.9400,2,-999.0000,9,    160.2,2,    156.9,2,    29.74,2,    22.74,2,     0.25,2,     1.97,2,   2187.8,2,   2255.6,2,   9.4967,20070530,2151
  32WC20070511,NACPWC,        8,    65,  1, 650117,     17,2,20070530,2134, 36.8000,-121.8700,  262,     24.4,  10.0000,   33.9300,2,-999.0000,9,    196.4,2,    171.3,2,    28.20,2,    21.03,2,     0.27,2,     1.88,2,   2178.9,2,   2257.5,2,   9.9972,20070530,2151
  32WC20070511,NACPWC,        8,    65,  1, 650118,     18,2,20070530,2134, 36.8000,-121.8700,  262,     19.7,  10.1000,   33.9100,2,-999.0000,9,    211.0,2,   -999.0,9,    24.90,2,    18.61,2,     0.26,2,     1.70,2,   -999.0,9,   -999.0,9,  10.0978,20070530,2152
  32WC20070511,NACPWC,        8,    65,  1, 650119,     19,2,20070530,2134, 36.8000,-121.8700,  262,     19.7,  10.1000,   33.9100,2,-999.0000,9,    211.6,2,    200.6,2,    24.23,2,    18.11,2,     0.26,2,     1.68,2,   2159.0,2,   2259.3,2,  10.0978,20070530,2152
  32WC20070511,NACPWC,        8,    65,  1, 650120,     20,2,20070530,2134, 36.8000,-121.8700,  262,     14.9,  10.8000,   33.9200,2,-999.0000,9,    258.7,2,   -999.0,9,    20.05,2,    14.33,2,     0.22,2,     1.36,2,   -999.0,9,   -999.0,9,  10.7982,20070530,2153
  32WC20070511,NACPWC,        8,    65,  1, 650121,     21,2,20070530,2134, 36.8000,-121.8700,  262,     14.9,  10.7000,   33.9200,2,-999.0000,9,    257.9,2,    233.4,2,    19.37,2,    13.76,2,     0.21,2,     1.28,2,   2129.7,2,   2264.3,2,  10.6982,20070530,2153
  32WC20070511,NACPWC,        8,    65,  1, 650122,     22,2,20070530,2134, 36.8000,-121.8700,  262,      9.9,  11.3000,   33.9200,2,-999.0000,9,    323.4,2,   -999.0,9,    14.79,2,     9.45,2,     0.17,2,     1.00,2,   -999.0,9,   -999.0,9,  11.2988,20070530,2153
  32WC20070511,NACPWC,        8,    65,  1, 650123,     23,2,20070530,2134, 36.8000,-121.8700,  262,     10.0,  11.4000,   33.9300,2,  33.9200,2,    323.5,2,    295.2,2,    12.94,2,     7.64,2,     0.14,2,     0.83,2,   2083.0,2,   2272.9,2,  11.3988,20070530,2154
  32WC20070511,NACPWC,        8,    65,  1, 650124,     24,2,20070530,2134, 36.8000,-121.8700,  262,      4.7,  11.8000,   33.9300,2,-999.0000,9,    340.8,2,    346.4,2,     6.87,2,     2.20,2,     0.05,2,     0.29,2,   2018.7,2,   2280.4,2,  11.7994,20070530,2154