BOTTLE,20220810CCHSIOAMB
EXPOCODE,SECT_ID,LINE,STNNBR,CASTNO,SAMPNO,BTLNBR,BTLNBR_FLAG_W,DATE,TIME,LATITUDE,LONGITUDE,DEPTH,CTDPRS,CTDTMP,CTDSAL,CTDSAL_FLAG_W,SALNTY,SALNTY_FLAG_W,CTDOXY,CTDOXY_FLAG_W,OXYGEN,OXYGEN_FLAG_W,SILCAT,SILCAT_FLAG_W,NITRAT,NITRAT_FLAG_W,NITRIT,NITRIT_FLAG_W,PHSPHT,PHSPHT_FLAG_W,TCARBN,TCARBN_FLAG_W,ALKALI,ALKALI_FLAG_W,THETA,BTL_DATE,BTL_TIME
,,,,,,,,,,,,METERS,DBAR,ITS-90,PSS-78,,PSS-78,,UMOL/KG,,UMOL/KG,,UMOL/KG,,UMOL/KG,,UMOL/KG,,UMOL/KG,,UMOL/KG,,UMOL/KG,,DEG C,,
  32WC20070511,NACPWC,        4,    28,  1, 280101,      1,2,20070521,1044, 44.6500,-124.8000,  391,    377.7,   5.9000,   34.0900,2,  34.0900,2,     40.2,2,     40.0,2,    77.16,6,    38.30,6,     0.08,6,     2.83,6,   2291.0,2,   2292.5,2,   5.8679,20070521,1044
  32WC20070511,NACPWC,        4,    28,  1, 280102,      2,2,20070521,1044, 44.6500,-124.8000,  391,    352.2,   5.9000,   34.0900,2,-999.0000,9,     39.9,2,     40.1,2,    76.93,6,    38.33,6,     0.09,6,     2.81,6,   2290.8,2,   2294.9,2,   5.8701,20070521,1046
  32WC20070511,NACPWC,        4,    28,  1, 280103,      3,2,20070521,1044, 44.6500,-124.8000,  391,    299.5,   6.0000,   34.0800,2,-999.0000,9,     43.4,2,     42.7,2,    74.28,2,    37.99,2,     0.08,2,     2.81,2,   2286.2,2,   2291.0,2,   5.9745,20070521,1049
  32WC20070511,NACPWC,        4,    28,  1, 280104,      4,2,20070521,1044, 44.6500,-124.8000,  391,    274.3,   6.0000,   34.0700,2,-999.0000,9,     45.5,2,     45.8,2,    71.87,2,    37.83,2,     0.06,2,     2.76,2,   2281.3,2,   2288.3,2,   5.9767,20070521,1052
  32WC20070511,NACPWC,        4,    28,  1, 280105,      5,2,20070521,1044, 44.6500,-124.8000,  391,    250.1,   6.1000,   34.0700,2,-999.0000,9,     46.3,2,     46.2,2,    71.13,2,    37.65,2,     0.07,2,     2.74,2,   2282.2,2,   2286.0,2,   6.0786,20070521,1054
  32WC20070511,NACPWC,        4,    28,  1, 280106,      6,2,20070521,1044, 44.6500,-124.8000,  391,    224.9,   6.2000,   34.0600,2,-999.0000,9,     50.5,2,     49.6,2,    68.43,2,    37.35,2,     0.02,2,     2.69,2,   2277.7,2,   2281.5,2,   6.1806,20070521,1056
  32WC20070511,NACPWC,        4,    28,  1, 280107,      7,2,20070521,1044, 44.6500,-124.8000,  391,    199.8,   7.1000,   33.9900,2,-999.0000,9,     73.4,2,     76.1,2,    53.41,2,    34.10,2,     0.03,2,     2.43,2,   2246.1,2,   2259.6,2,   7.0814,20070521,1057
  32WC20070511,NACPWC,        4,    28,  1, 280108,      8,2,20070521,1044, 44.6500,-124.8000,  391,    174.3,   7.5000,   33.9400,2,-999.0000,9,     86.6,2,     85.1,2,    47.23,2,    32.55,2,     0.05,2,     2.31,2,   2233.2,2,   2254.5,2,   7.4833,20070521,1059
  32WC20070511,NACPWC,        4,    28,  1, 280109,      9,2,20070521,1044, 44.6500,-124.8000,  391,    150.2,   7.8000,   33.8400,2,-999.0000,9,    104.7,2,    103.1,2,    41.12,2,    30.34,2,     0.05,2,     2.17,2,   2212.6,2,   2246.3,2,   7.7853,20070521,1101
  32WC20070511,NACPWC,        4,    28,  1, 280110,     10,2,20070521,1044, 44.6500,-124.8000,  391,    130.1,   7.9000,   33.7700,2,-999.0000,9,    117.6,2,    118.1,2,    37.49,2,    29.10,2,     0.05,2,     2.07,2,   2197.1,2,   2240.4,2,   7.8872,20070521,1102
  32WC20070511,NACPWC,        4,    28,  1, 280111,     11,2,20070521,1044, 44.6500,-124.8000,  391,    111.8,   8.2000,   33.6300,2,-999.0000,9,    136.9,2,    136.2,2,    33.10,2,    27.00,2,     0.05,2,     1.95,2,   2174.1,2,   2230.6,2,   8.1888,20070521,1104
  32WC20070511,NACPWC,        4,    28,  1, 280112,     12,2,20070521,1044, 44.6500,-124.8000,  391,     90.1,   8.5000,   33.0100,2,-999.0000,9,    208.5,2,    198.3,2,    23.44,2,    19.34,2,     0.04,2,     1.53,2,   2110.1,2,   2201.3,2,   8.4909,20070521,1106
  32WC20070511,NACPWC,        4,    28,  1, 280113,     13,2,20070521,1044, 44.6500,-124.8000,  391,     69.7,   8.7000,   32.4800,2,-999.0000,9,    269.3,2,    271.3,2,    11.35,2,     9.41,2,     0.17,2,     0.97,2,   2029.0,2,   2173.5,2,   8.6929,20070521,1107
  32WC20070511,NACPWC,        4,    28,  1, 280114,     14,2,20070521,1044, 44.6500,-124.8000,  391,     60.9,   8.9000,   32.4400,2,-999.0000,9,    283.1,2,    281.5,2,     9.86,2,     7.24,2,     0.28,2,     0.88,2,   2016.3,2,   2171.1,2,   8.8937,20070521,1109
  32WC20070511,NACPWC,        4,    28,  1, 280115,     15,2,20070521,1044, 44.6500,-124.8000,  391,     50.2,   9.2000,   32.4000,2,-999.0000,9,    283.3,2,    283.4,2,    10.21,2,     6.42,2,     0.17,2,     0.83,2,   2007.6,2,   2166.4,2,   9.1947,20070521,1110
  32WC20070511,NACPWC,        4,    28,  1, 280116,     16,2,20070521,1044, 44.6500,-124.8000,  391,     39.6,   9.9000,   32.3900,2,-999.0000,9,    284.0,2,    284.4,2,     9.25,2,     4.94,2,     0.12,2,     0.75,2,   2003.2,2,   2171.5,2,   9.8956,20070521,1111
  32WC20070511,NACPWC,        4,    28,  1, 280117,     17,2,20070521,1044, 44.6500,-124.8000,  391,     29.1,  10.5000,   32.2900,2,-999.0000,9,    287.2,2,    287.9,2,     7.43,2,     3.34,2,     0.08,2,     0.62,2,   1990.9,2,   2171.9,2,  10.4967,20070521,1112
  32WC20070511,NACPWC,        4,    28,  1, 280118,     18,2,20070521,1044, 44.6500,-124.8000,  391,     24.1,  10.7000,   32.2600,2,-999.0000,9,    292.2,2,    290.5,2,     6.74,2,     2.63,2,     0.06,2,     0.56,2,   1985.7,2,   2169.4,2,  10.6972,20070521,1113
  32WC20070511,NACPWC,        4,    28,  1, 280119,     19,2,20070521,1044, 44.6500,-124.8000,  391,     19.0,  11.1000,   31.2600,2,-999.0000,9,    293.0,2,    293.6,2,     5.16,2,     1.09,2,     0.04,2,     0.33,2,   1921.7,2,   2123.4,2,  11.0978,20070521,1115
  32WC20070511,NACPWC,        4,    28,  1, 280120,     20,2,20070521,1044, 44.6500,-124.8000,  391,     14.3,  11.4000,   30.3900,2,-999.0000,9,    292.5,2,    292.6,2,     4.29,2,     0.70,2,     0.02,2,     0.23,2,   1894.1,2,   2103.3,2,  11.3983,20070521,1116
  32WC20070511,NACPWC,        4,    28,  1, 280121,     21,2,20070521,1044, 44.6500,-124.8000,  391,     10.9,  11.7000,   30.0700,2,-999.0000,9,    291.7,2,    291.0,2,     3.09,2,     0.49,2,     0.01,2,     0.15,2,   1878.4,2,   2093.9,2,  11.6987,20070521,1117
  32WC20070511,NACPWC,        4,    28,  1, 280122,     22,2,20070521,1044, 44.6500,-124.8000,  391,      5.3,  11.8000,   29.9200,2,  29.9200,2,    290.8,2,    290.5,2,     2.58,2,     0.47,2,     0.01,2,     0.13,2,   1874.0,2,   2089.1,2,  11.7994,20070521,1118
  32WC20070511,NACPWC,        4,    29,  1, 290101,      1,2,20070521,0738, 44.6500,-125.0400, 1151,   1135.2,   3.3000,   34.4600,2,  34.4600,2,     17.8,2,     18.3,2,   143.94,2,    43.84,2,     0.03,2,     3.16,2,   2381.4,6,   2375.6,4,   3.2192,20070521,0738
  32WC20070511,NACPWC,        4,    29,  1, 290102,      2,2,20070521,0738, 44.6500,-125.0400, 1151,    800.8,   4.1000,   34.3400,2,-999.0000,9,      9.3,2,   -999.0,9,   120.50,6,    43.47,6,     0.01,6,     3.16,6,   2362.0,2,   2346.4,4,   4.0402,20070521,0751
  32WC20070511,NACPWC,        4,    29,  1, 290103,      3,2,20070521,0738, 44.6500,-125.0400, 1151,    599.6,   4.5000,   34.2400,2,-999.0000,9,     12.1,2,     12.1,2,   106.98,2,    42.83,2,     0.01,2,     3.11,2,   2346.3,2,   2326.0,4,   4.4544,20070521,0759
  32WC20070511,NACPWC,        4,    29,  1, 290104,      4,2,20070521,0738, 44.6500,-125.0400, 1151,    500.9,   5.0000,   34.1600,2,-999.0000,9,     22.2,2,   -999.0,9,    93.14,2,    41.66,2,     0.01,2,     3.01,2,   2324.9,2,   2319.0,2,   4.9604,20070521,0803
  32WC20070511,NACPWC,        4,    29,  1, 290105,      5,2,20070521,0738, 44.6500,-125.0400, 1151,    399.7,   5.8000,   34.0800,2,-999.0000,9,     42.0,2,     41.7,2,    75.86,2,    39.01,2,     0.02,2,     2.80,2,   2292.5,2,   2288.1,2,   5.7662,20070521,0808
  32WC20070511,NACPWC,        4,    29,  1, 290106,      6,2,20070521,0738, 44.6500,-125.0400, 1151,    350.2,   6.3000,   34.0500,2,-999.0000,9,     53.3,2,   -999.0,9,    66.76,2,    37.21,2,     0.02,2,     2.67,2,   2269.4,2,   2278.3,2,   6.2692,20070521,0811
  32WC20070511,NACPWC,        4,    29,  1, 290107,      7,2,20070521,0738, 44.6500,-125.0400, 1151,    299.6,   6.7000,   34.0300,2,-999.0000,9,     63.1,2,     62.5,2,    60.38,2,    35.95,2,     0.02,2,     2.57,2,   2257.2,2,   2267.4,2,   6.6729,20070521,0814
  32WC20070511,NACPWC,        4,    29,  1, 290108,      8,2,20070521,0738, 44.6500,-125.0400, 1151,    249.9,   7.0000,   34.0000,2,-999.0000,9,     72.7,2,   -999.0,9,    53.70,2,    34.58,2,     0.02,2,     2.46,2,   2250.6,2,   2263.0,2,   6.9769,20070521,0816
  32WC20070511,NACPWC,        4,    29,  1, 290109,      9,2,20070521,0738, 44.6500,-125.0400, 1151,    199.6,   7.5000,   33.9600,2,-999.0000,9,     84.1,2,     83.1,2,    47.49,2,    32.79,2,     0.03,2,     2.35,2,   2238.1,6,   2258.3,2,   7.4809,20070521,0819
  32WC20070511,NACPWC,        4,    29,  1, 290110,     10,2,20070521,0738, 44.6500,-125.0400, 1151,    174.2,   7.7000,   33.9400,2,-999.0000,9,     88.7,2,   -999.0,9,    44.72,2,    32.06,2,     0.06,2,     2.31,2,   2228.9,2,   2095.1,4,   7.6831,20070521,0821
  32WC20070511,NACPWC,        4,    29,  1, 290111,     11,2,20070521,0738, 44.6500,-125.0400, 1151,    150.6,   8.0000,   33.8500,2,-999.0000,9,    100.5,2,     99.0,2,    41.05,2,    30.58,2,     0.04,2,     2.23,2,   2216.7,2,   2247.7,2,   7.9851,20070521,0823
  32WC20070511,NACPWC,        4,    29,  1, 290112,     12,2,20070521,0738, 44.6500,-125.0400, 1151,    128.3,   8.3000,   33.7800,2,-999.0000,9,    108.4,2,   -999.0,9,    38.37,2,    29.45,2,     0.03,2,     2.18,2,   2205.7,2,   2239.8,2,   8.2870,20070521,0825
  32WC20070511,NACPWC,        4,    29,  1, 290113,     13,2,20070521,0738, 44.6500,-125.0400, 1151,    110.9,   8.8000,   33.6400,2,-999.0000,9,    131.6,2,    131.6,2,    33.03,2,    26.57,2,     0.02,2,     1.98,2,   2182.2,2,   2228.2,2,   8.7884,20070521,0826
  32WC20070511,NACPWC,        4,    29,  1, 290114,     14,2,20070521,0738, 44.6500,-125.0400, 1151,     89.8,   9.2000,   33.2900,2,-999.0000,9,    176.2,2,   -999.0,9,    25.77,2,    21.30,2,     0.03,2,     1.68,2,   2134.7,2,   2210.9,2,   9.1904,20070521,0828
  32WC20070511,NACPWC,        4,    29,  1, 290115,     15,2,20070521,0738, 44.6500,-125.0400, 1151,     69.5,   8.9000,   32.6300,2,-999.0000,9,    254.3,2,    252.0,2,    14.24,2,    12.13,2,     0.04,2,     1.13,2,   2049.0,2,   2175.5,2,   8.8928,20070521,0830
  32WC20070511,NACPWC,        4,    29,  1, 290116,     16,2,20070521,0738, 44.6500,-125.0400, 1151,     60.5,   9.0000,   32.4600,2,-999.0000,9,    278.9,2,   -999.0,9,    10.41,2,     8.15,2,     0.30,2,     0.94,2,   2028.5,2,   2168.4,2,   8.9937,20070521,0831
  32WC20070511,NACPWC,        4,    29,  1, 290117,     17,2,20070521,0738, 44.6500,-125.0400, 1151,     50.0,   9.3000,   32.4300,2,-999.0000,9,    282.6,2,    282.2,2,     9.62,2,     6.09,2,     0.28,2,     0.84,2,   2017.7,2,   2168.4,2,   9.2947,20070521,0832
  32WC20070511,NACPWC,        4,    29,  1, 290118,     18,2,20070521,0738, 44.6500,-125.0400, 1151,     39.4,   9.8000,   32.4000,2,-999.0000,9,    287.6,2,   -999.0,9,     9.37,2,     4.79,2,     0.15,2,     0.75,2,   2007.4,2,   2170.0,2,   9.7957,20070521,0834
  32WC20070511,NACPWC,        4,    29,  1, 290119,     19,2,20070521,0738, 44.6500,-125.0400, 1151,     29.7,  10.2000,   32.3400,2,-999.0000,9,    291.6,2,    290.5,2,     8.38,2,     3.60,2,     0.08,2,     0.65,2,   2002.1,2,   2169.8,2,  10.1967,20070521,0835
  32WC20070511,NACPWC,        4,    29,  1, 290120,     20,2,20070521,0738, 44.6500,-125.0400, 1151,     25.4,  10.6000,   32.2000,2,-999.0000,9,    297.3,2,   -999.0,9,     7.58,2,     1.83,2,     0.04,2,     0.52,2,   1977.5,2,   2164.7,2,  10.5971,20070521,0836
  32WC20070511,NACPWC,        4,    29,  1, 290121,     21,2,20070521,0738, 44.6500,-125.0400, 1151,     20.1,  10.9000,   31.5900,2,-999.0000,9,    297.1,2,    297.3,2,     6.19,2,     0.90,2,     0.02,2,     0.38,2,   1946.5,2,   2142.0,2,  10.8977,20070521,0838
  32WC20070511,NACPWC,        4,    29,  1, 290122,     22,2,20070521,0738, 44.6500,-125.0400, 1151,     15.0,  11.8000,   30.3500,2,-999.0000,9,    296.1,2,   -999.0,9,     2.39,2,     0.45,2,     0.02,2,     0.19,2,   1890.9,2,   2255.7,4,  11.7982,20070521,0839
  32WC20070511,NACPWC,        4,    29,  1, 290123,     23,2,20070521,0738, 44.6500,-125.0400, 1151,     10.8,  11.8000,   30.2900,2,-999.0000,9,    295.9,2,    291.6,2,     2.21,2,     0.46,2,     0.01,2,     0.20,2,   1888.1,2,   2101.6,2,  11.7987,20070521,0840
  32WC20070511,NACPWC,        4,    29,  1, 290124,     24,2,20070521,0738, 44.6500,-125.0400, 1151,      4.8,  11.8000,   30.2900,2,  30.2900,2,    295.7,2,    291.9,2,     2.15,2,     0.46,2,     0.01,2,     0.18,2,   1890.1,2,   2100.8,2,  11.7994,20070521,0841
  32WC20070511,NACPWC,        4,    30,  1, 300101,      1,2,20070521,0341, 44.6500,-125.2700, 2233,   2222.8,   1.9000,   34.6200,2,  34.6200,2,     70.5,2,     70.6,2,   183.63,6,    38.79,6,     0.00,6,     2.79,6,   2390.7,2,   2416.2,2,   1.7462,20070521,0341
  32WC20070511,NACPWC,        4,    30,  1, 300102,      2,2,20070521,0341, 44.6500,-125.2700, 2233,   1751.4,   2.3000,   34.5600,2,-999.0000,9,     42.4,2,     43.3,2,   169.88,2,    41.14,2,     0.00,2,     2.94,2,   -999.0,9,   -999.0,9,   2.1801,20070521,0358
  32WC20070511,NACPWC,        4,    30,  1, 300103,      3,2,20070521,0341, 44.6500,-125.2700, 2233,   1502.5,   2.6000,   34.5300,2,-999.0000,9,     33.8,2,     33.9,2,   162.49,6,    43.18,6,     0.00,6,     2.99,6,   2388.1,2,   2388.0,2,   2.4967,20070521,0407
  32WC20070511,NACPWC,        4,    30,  1, 300104,      4,2,20070521,0341, 44.6500,-125.2700, 2233,    800.9,   4.0000,   34.3400,2,-999.0000,9,      8.6,2,      9.6,2,   121.43,6,    42.64,6,     0.00,6,     3.05,6,   -999.0,9,   -999.0,9,   3.9408,20070521,0427
  32WC20070511,NACPWC,        4,    30,  1, 300105,      5,2,20070521,0341, 44.6500,-125.2700, 2233,    500.7,   5.1000,   34.1600,2,-999.0000,9,     24.2,2,     25.0,2,    91.31,2,    38.80,2,     0.00,2,     2.92,2,   -999.0,9,   2294.7,2,   5.0600,20070521,0436
  32WC20070511,NACPWC,        4,    30,  1, 300106,      6,2,20070521,0341, 44.6500,-125.2700, 2233,    350.4,   6.3000,   34.0500,2,-999.0000,9,     54.1,2,     53.6,2,    66.11,2,    34.56,2,     0.01,2,     2.59,2,   -999.0,9,   -999.0,9,   6.2692,20070521,0442
  32WC20070511,NACPWC,        4,    30,  1, 300107,      7,2,20070521,0341, 44.6500,-125.2700, 2233,    300.9,   6.8000,   34.0100,2,-999.0000,9,     69.4,2,     68.4,2,    56.56,2,    33.20,2,     0.01,2,     2.43,2,   2257.4,3,   2262.8,2,   6.7725,20070521,0444
  32WC20070511,NACPWC,        4,    30,  1, 300108,      8,2,20070521,0341, 44.6500,-125.2700, 2233,    249.5,   7.2000,   33.9900,2,-999.0000,9,     77.2,2,     76.5,2,    51.58,2,    32.49,2,     0.01,2,     2.34,2,   2246.0,2,   2261.6,2,   7.1766,20070521,0447
  32WC20070511,NACPWC,        4,    30,  1, 300109,      9,2,20070521,0341, 44.6500,-125.2700, 2233,    201.2,   7.6000,   33.9400,2,-999.0000,9,     90.0,2,     89.6,2,    45.47,2,    30.42,2,     0.02,2,     2.23,2,   2229.6,2,   2240.7,2,   7.5806,20070521,0450
  32WC20070511,NACPWC,        4,    30,  1, 300110,     10,2,20070521,0341, 44.6500,-125.2700, 2233,    176.2,   7.8000,   33.9200,2,-999.0000,9,     94.5,2,     93.6,2,    43.32,2,    29.61,2,     0.01,2,     2.20,2,   2224.8,2,   2243.8,2,   7.7827,20070521,0452
  32WC20070511,NACPWC,        4,    30,  1, 300111,     11,2,20070521,0341, 44.6500,-125.2700, 2233,    149.3,   8.2000,   33.8300,2,-999.0000,9,    104.6,2,    102.9,2,    39.61,2,    28.17,2,     0.01,2,     2.13,2,   2213.6,2,   2241.9,2,   8.1850,20070521,0454
  32WC20070511,NACPWC,        4,    30,  1, 300112,     12,2,20070521,0341, 44.6500,-125.2700, 2233,    130.0,   8.4000,   33.7300,2,-999.0000,9,    121.0,2,    117.6,2,    36.33,2,    26.67,2,     0.01,2,     2.03,2,   -999.0,9,   2237.8,2,   8.3868,20070521,0456
  32WC20070511,NACPWC,        4,    30,  1, 300113,     13,2,20070521,0341, 44.6500,-125.2700, 2233,    110.3,   8.7000,   33.5600,2,-999.0000,9,    140.1,2,    140.3,2,    31.73,2,    24.16,2,     0.01,2,     1.87,2,   2172.3,2,   2227.9,2,   8.6886,20070521,0458
  32WC20070511,NACPWC,        4,    30,  1, 300114,     14,2,20070521,0341, 44.6500,-125.2700, 2233,     90.8,   9.1000,   33.2900,2,-999.0000,9,    185.2,2,    171.0,2,    26.38,2,    20.77,2,     0.02,2,     1.65,2,   2140.0,2,   2213.5,2,   9.0904,20070521,0459
  32WC20070511,NACPWC,        4,    30,  1, 300115,     15,2,20070521,0341, 44.6500,-125.2700, 2233,     70.3,   9.0000,   32.8700,2,-999.0000,9,    225.7,2,    222.3,2,    18.58,2,    14.77,2,     0.03,2,     1.27,2,   2085.5,2,   2190.6,2,   8.9926,20070521,0501
  32WC20070511,NACPWC,        4,    30,  1, 300116,     16,2,20070521,0341, 44.6500,-125.2700, 2233,     59.3,   8.8000,   32.5400,2,-999.0000,9,    267.0,2,    265.3,2,    12.51,2,     9.81,2,     0.04,2,     0.96,2,   2039.9,2,   2172.9,2,   8.7939,20070521,0502
  32WC20070511,NACPWC,        4,    30,  1, 300117,     17,2,20070521,0341, 44.6500,-125.2700, 2233,     50.4,   8.9000,   32.4300,2,-999.0000,9,    279.4,2,    277.7,2,    10.57,2,     7.82,2,     0.17,2,     0.85,2,   2025.1,2,   2167.9,2,   8.8948,20070521,0503
  32WC20070511,NACPWC,        4,    30,  1, 300118,     18,2,20070521,0341, 44.6500,-125.2700, 2233,     40.8,   9.1000,   32.4100,2,-999.0000,9,    284.8,2,    282.2,2,     9.78,2,     5.94,2,     0.41,2,     0.79,2,   2019.6,2,   2162.6,2,   9.0957,20070521,0504
  32WC20070511,NACPWC,        4,    30,  1, 300119,     19,2,20070521,0341, 44.6500,-125.2700, 2233,     30.1,   9.4000,   32.3800,2,-999.0000,9,    285.6,2,    285.2,2,     9.35,2,     4.99,2,     0.24,2,     0.73,2,   2012.8,2,   2166.2,2,   9.3968,20070521,0505
  32WC20070511,NACPWC,        4,    30,  1, 300120,     20,2,20070521,0341, 44.6500,-125.2700, 2233,     24.6,   9.9000,   32.3700,2,-999.0000,9,    290.9,2,    289.5,2,     9.01,2,     4.19,2,     0.13,2,     0.65,2,   2005.0,2,   2169.1,2,   9.8973,20070521,0506
  32WC20070511,NACPWC,        4,    30,  1, 300121,     21,2,20070521,0341, 44.6500,-125.2700, 2233,     20.6,  10.7000,   31.9000,2,-999.0000,9,    303.8,2,    294.9,2,     7.20,2,     0.79,2,     0.02,2,     0.33,2,   1958.9,2,   2151.0,2,  10.6976,20070521,0507
  32WC20070511,NACPWC,        4,    30,  1, 300122,     22,2,20070521,0341, 44.6500,-125.2700, 2233,     15.2,  11.8000,   31.1300,2,-999.0000,9,    286.2,2,    286.0,2,     6.47,2,     0.05,2,     0.00,2,     0.23,2,   1930.5,2,   2128.1,2,  11.7981,20070521,0508
  32WC20070511,NACPWC,        4,    30,  1, 300123,     23,2,20070521,0341, 44.6500,-125.2700, 2233,     10.3,  12.1000,   30.7100,2,  30.6900,2,    285.5,2,    280.2,2,     6.21,2,     0.05,2,     0.00,2,     0.00,2,   1917.5,2,   2113.4,2,  12.0987,20070521,0509
  32WC20070511,NACPWC,        4,    30,  1, 300124,     24,2,20070521,0341, 44.6500,-125.2700, 2233,      5.0,  12.1000,   30.6000,2,-999.0000,9,    285.3,2,    279.2,2,     6.19,2,     0.04,2,     0.00,2,     0.09,2,   1914.1,6,   2111.4,2,  12.0994,20070521,0510