BOTTLE,20220810CCHSIOAMB
EXPOCODE,SECT_ID,LINE,STNNBR,CASTNO,SAMPNO,BTLNBR,BTLNBR_FLAG_W,DATE,TIME,LATITUDE,LONGITUDE,DEPTH,CTDPRS,CTDTMP,CTDSAL,CTDSAL_FLAG_W,SALNTY,SALNTY_FLAG_W,CTDOXY,CTDOXY_FLAG_W,OXYGEN,OXYGEN_FLAG_W,SILCAT,SILCAT_FLAG_W,NITRAT,NITRAT_FLAG_W,NITRIT,NITRIT_FLAG_W,PHSPHT,PHSPHT_FLAG_W,TCARBN,TCARBN_FLAG_W,ALKALI,ALKALI_FLAG_W,THETA,BTL_DATE,BTL_TIME
,,,,,,,,,,,,METERS,DBAR,ITS-90,PSS-78,,PSS-78,,UMOL/KG,,UMOL/KG,,UMOL/KG,,UMOL/KG,,UMOL/KG,,UMOL/KG,,UMOL/KG,,UMOL/KG,,DEG C,,
  32WC20070511,NACPWC,        5,    40,  1, 400101,      1,2,20070524,0638, 41.9600,-124.4800,  110,     97.0,   7.2000,   34.0100,2,  34.0100,2,     68.4,2,     68.2,2,    53.60,6,    32.59,6,     0.21,6,     2.45,6,   2251.4,6,   2269.1,2,   7.1910,20070524,0638
  32WC20070511,NACPWC,        5,    40,  1, 400102,      2,2,20070524,0638, 41.9600,-124.4800,  110,     80.3,   7.4000,   33.9900,2,-999.0000,9,     78.5,2,     77.4,2,    50.62,2,    32.30,2,     0.16,2,     2.38,2,   2244.2,2,   2265.5,2,   7.3924,20070524,0640
  32WC20070511,NACPWC,        5,    40,  1, 400103,      3,2,20070524,0638, 41.9600,-124.4800,  110,     69.8,   7.4000,   33.9700,2,-999.0000,9,     86.4,2,     86.4,2,    49.22,2,    31.94,2,     0.14,2,     2.34,2,   2237.3,2,   2262.3,2,   7.3934,20070524,0642
  32WC20070511,NACPWC,        5,    40,  1, 400104,      4,2,20070524,0638, 41.9600,-124.4800,  110,     59.9,   7.6000,   33.9400,2,-999.0000,9,    107.1,2,    102.4,2,    46.58,2,    30.87,2,     0.11,2,     2.24,2,   2225.4,2,   2256.7,2,   7.5943,20070524,0643
  32WC20070511,NACPWC,        5,    40,  1, 400105,      5,2,20070524,0638, 41.9600,-124.4800,  110,     50.3,   7.8000,   33.9100,2,-999.0000,9,    125.0,2,    121.0,2,    44.90,2,    29.57,2,     0.12,2,     2.18,2,   2217.2,2,   2256.2,2,   7.7951,20070524,0644
  32WC20070511,NACPWC,        5,    40,  1, 400106,      6,2,20070524,0638, 41.9600,-124.4800,  110,     40.2,   7.9000,   33.8900,2,-999.0000,9,    131.2,2,    132.3,2,    44.60,2,    29.13,2,     0.13,2,     2.15,2,   2213.8,2,   2255.9,2,   7.8961,20070524,0645
  32WC20070511,NACPWC,        5,    40,  1, 400107,      7,2,20070524,0638, 41.9600,-124.4800,  110,     30.7,   7.9000,   33.8800,2,-999.0000,9,    144.8,2,    138.9,2,    44.41,2,    28.67,2,     0.13,2,     2.13,2,   2210.6,2,   2255.4,2,   7.8970,20070524,0646
  32WC20070511,NACPWC,        5,    40,  1, 400108,      8,2,20070524,0638, 41.9600,-124.4800,  110,     25.1,   8.0000,   33.8600,2,-999.0000,9,    148.9,2,    148.0,2,    43.83,2,    27.92,2,     0.13,2,     2.09,2,   2206.1,2,   2255.4,2,   7.9975,20070524,0647
  32WC20070511,NACPWC,        5,    40,  1, 400109,      9,2,20070524,0638, 41.9600,-124.4800,  110,     20.4,   8.1000,   33.8400,2,-999.0000,9,    161.0,2,    165.8,2,    42.97,2,    26.50,2,     0.15,2,     2.00,2,   2194.6,2,   2256.0,2,   8.0980,20070524,0647
  32WC20070511,NACPWC,        5,    40,  1, 400110,     10,2,20070524,0638, 41.9600,-124.4800,  110,     15.0,   8.3000,   33.8100,2,-999.0000,9,    184.7,2,    180.1,6,    42.34,2,    25.47,2,     0.16,2,     1.95,2,   2186.8,2,   2255.0,2,   8.2985,20070524,0648
  32WC20070511,NACPWC,        5,    40,  1, 400111,     11,2,20070524,0638, 41.9600,-124.4800,  110,     15.0,   8.1000,   33.8300,2,-999.0000,9,    162.1,2,   -999.0,9,  -999.00,9,  -999.00,9,  -999.00,9,  -999.00,9,   -999.0,9,   -999.0,9,   8.0985,20070524,0648
  32WC20070511,NACPWC,        5,    40,  1, 400112,     12,2,20070524,0638, 41.9600,-124.4800,  110,      9.9,   8.5000,   33.7700,2,-999.0000,9,    198.6,2,   -999.0,9,  -999.00,9,  -999.00,9,  -999.00,9,  -999.00,9,   2178.3,2,   -999.0,9,   8.4990,20070524,0649
  32WC20070511,NACPWC,        5,    40,  1, 400113,     13,2,20070524,0638, 41.9600,-124.4800,  110,     10.0,   8.5000,   33.7700,2,-999.0000,9,    202.9,2,    197.5,2,    41.60,2,    23.94,2,     0.18,2,     1.85,2,   2174.1,2,   2259.2,2,   8.4990,20070524,0650
  32WC20070511,NACPWC,        5,    40,  1, 400114,     14,2,20070524,0638, 41.9600,-124.4800,  110,      5.2,   8.6000,   33.7700,2,-999.0000,9,    203.5,2,   -999.0,9,  -999.00,9,  -999.00,9,  -999.00,9,  -999.00,9,   -999.0,9,   -999.0,9,   8.5995,20070524,0650
  32WC20070511,NACPWC,        5,    40,  1, 400115,     15,2,20070524,0638, 41.9600,-124.4800,  110,      5.1,   8.6000,   33.7700,2,  33.7700,2,    204.8,2,    206.6,2,    41.33,2,    23.62,2,     0.18,2,     1.85,2,   -999.0,9,   2258.1,2,   8.5995,20070524,0650
  32WC20070511,NACPWC,        5,    41,  1, 410101,      1,2,20070524,0836, 41.9900,-124.3500,   52,     40.4,   6.9000,   34.0400,2,  34.0400,2,     59.4,2,     59.1,2,    57.62,2,    33.98,2,     0.22,2,     2.55,2,   2263.4,6,   2278.3,2,   6.8964,20070524,0836
  32WC20070511,NACPWC,        5,    41,  1, 410102,      2,2,20070524,0836, 41.9900,-124.3500,   52,     30.2,   7.0000,   34.0300,2,-999.0000,9,     68.3,2,     66.9,2,    55.77,2,    32.90,2,     0.20,2,     2.50,2,   2259.2,2,   2272.5,2,   6.9973,20070524,0837
  32WC20070511,NACPWC,        5,    41,  1, 410103,      3,2,20070524,0836, 41.9900,-124.3500,   52,     24.7,   7.2000,   34.0200,2,-999.0000,9,     79.6,2,     81.6,2,    54.08,2,    32.14,2,     0.21,2,     2.42,2,   2249.3,2,   2273.3,2,   7.1977,20070524,0838
  32WC20070511,NACPWC,        5,    41,  1, 410104,      4,2,20070524,0836, 41.9900,-124.3500,   52,     19.8,   7.3000,   34.0100,2,-999.0000,9,     88.8,2,     89.0,6,    54.00,2,    31.62,2,     0.21,2,     2.38,2,   2247.5,6,   2273.9,2,   7.2982,20070524,0840
  32WC20070511,NACPWC,        5,    41,  1, 410105,      5,2,20070524,0836, 41.9900,-124.3500,   52,     15.2,   7.6000,   34.0000,2,-999.0000,9,    104.8,2,    106.4,2,    53.41,2,    30.85,2,     0.23,2,     2.33,2,   2237.5,2,   2270.7,2,   7.5985,20070524,0841
  32WC20070511,NACPWC,        5,    41,  1, 410106,      6,2,20070524,0836, 41.9900,-124.3500,   52,      9.8,   7.7000,   33.9100,2,-999.0000,9,    120.2,2,    116.0,2,    52.98,2,    30.63,2,     0.24,2,     2.31,2,   2235.6,2,   2267.4,2,   7.6991,20070524,0842
  32WC20070511,NACPWC,        5,    41,  1, 410107,      7,2,20070524,0836, 41.9900,-124.3500,   52,      5.1,   7.9000,   33.8600,2,  33.8600,2,    126.3,2,    138.5,2,    51.78,6,    29.78,6,     0.27,6,     2.26,6,   2225.6,6,   2263.2,2,   7.8995,20070524,0843
  32WC20070511,NACPWC,        6,    42,  1, 420101,      1,2,20070526,1411, 40.2600,-124.3900,   57,     45.0,   7.4000,   34.0400,2,  34.0300,2,    106.4,2,    107.0,2,    48.13,6,    30.68,6,     0.22,6,     2.35,6,   2229.6,6,   2273.0,6,   7.3958,20070526,1411
  32WC20070511,NACPWC,        6,    42,  1, 420102,      2,2,20070526,1411, 40.2600,-124.3900,   57,     44.8,   7.4000,   34.0300,2,-999.0000,9,    113.5,2,   -999.0,9,  -999.00,9,  -999.00,9,  -999.00,9,  -999.00,9,   -999.0,9,   -999.0,9,   7.3958,20070526,1412
  32WC20070511,NACPWC,        6,    42,  1, 420103,      3,2,20070526,1411, 40.2600,-124.3900,   57,     30.2,   7.7000,   34.0200,2,-999.0000,9,    155.8,2,    152.7,2,    44.49,2,    27.99,2,     0.21,2,     2.09,2,   2207.0,2,   2271.8,2,   7.6971,20070526,1413
  32WC20070511,NACPWC,        6,    42,  1, 420104,      4,2,20070526,1411, 40.2600,-124.3900,   57,     30.1,   7.7000,   34.0200,2,-999.0000,9,    167.7,2,   -999.0,9,  -999.00,9,  -999.00,9,  -999.00,9,  -999.00,9,   -999.0,9,   -999.0,9,   7.6971,20070526,1413
  32WC20070511,NACPWC,        6,    42,  1, 420105,      5,2,20070526,1411, 40.2600,-124.3900,   57,     24.8,   7.8000,   34.0000,2,-999.0000,9,    211.1,2,    173.5,2,    42.96,2,    26.85,2,     0.21,2,     1.99,2,   2201.2,2,   2275.0,2,   7.7976,20070526,1414
  32WC20070511,NACPWC,        6,    42,  1, 420106,      6,2,20070526,1411, 40.2600,-124.3900,   57,     19.2,   7.8000,   34.0000,2,-999.0000,9,    210.9,2,   -999.0,9,  -999.00,9,  -999.00,9,  -999.00,9,  -999.00,9,   -999.0,9,   -999.0,9,   7.7981,20070526,1416
  32WC20070511,NACPWC,        6,    42,  1, 420107,      7,2,20070526,1411, 40.2600,-124.3900,   57,     19.3,   7.8000,   34.0000,2,-999.0000,9,    210.9,2,    169.6,2,    43.24,2,    27.05,2,     0.21,2,     2.00,2,   2201.9,2,   2274.4,2,   7.7981,20070526,1416
  32WC20070511,NACPWC,        6,    42,  1, 420108,      8,2,20070526,1411, 40.2600,-124.3900,   57,     14.9,   7.8000,   34.0000,2,-999.0000,9,    210.8,2,    177.0,6,    43.11,2,    26.54,2,     0.22,2,     1.99,2,   2201.4,2,   2278.7,2,   7.7986,20070526,1417
  32WC20070511,NACPWC,        6,    42,  1, 420109,      9,2,20070526,1411, 40.2600,-124.3900,   57,      9.3,   7.8000,   34.0000,2,-999.0000,9,    210.6,2,    173.9,2,    43.27,2,    26.67,2,     0.22,2,     2.00,2,   2202.2,2,   2276.2,2,   7.7991,20070526,1418
  32WC20070511,NACPWC,        6,    42,  1, 420110,     10,2,20070526,1411, 40.2600,-124.3900,   57,      3.3,   7.8000,   34.0000,2,-999.0000,9,    210.4,2,   -999.0,9,  -999.00,9,  -999.00,9,  -999.00,9,  -999.00,9,   -999.0,9,   -999.0,9,   7.7997,20070526,1419
  32WC20070511,NACPWC,        6,    42,  1, 420111,     11,2,20070526,1411, 40.2600,-124.3900,   57,      3.2,   7.8000,   34.0000,2,  34.0000,2,    210.4,2,    178.5,2,    43.46,2,    26.63,2,     0.22,2,     2.00,2,   2200.2,2,   2276.5,2,   7.7997,20070526,1419
  32WC20070511,NACPWC,        6,    43,  1, 425101,      1,2,20070526,1236, 40.2300,-124.4500,  123,    109.5,   7.0000,   34.0700,2,  34.0700,2,     85.7,2,     86.9,2,    56.33,6,    33.72,6,     0.16,6,     2.50,6,   2255.1,6,   2279.8,6,   6.9900,20070526,1236
  32WC20070511,NACPWC,        6,    43,  1, 425102,      2,2,20070526,1236, 40.2300,-124.4500,  123,     90.2,   7.2000,   34.0600,2,-999.0000,9,    111.1,2,    113.0,2,    52.63,2,    31.81,2,     0.18,2,     2.39,2,   2238.2,2,   2274.9,2,   7.1916,20070526,1237
  32WC20070511,NACPWC,        6,    43,  1, 425103,      3,2,20070526,1236, 40.2300,-124.4500,  123,     72.5,   7.2000,   34.0500,2,-999.0000,9,    110.9,2,    103.4,2,    52.14,2,    32.10,2,     0.20,2,     2.39,2,   2241.9,2,   2273.3,2,   7.1933,20070526,1239
  32WC20070511,NACPWC,        6,    43,  1, 425104,      4,2,20070526,1236, 40.2300,-124.4500,  123,     60.0,   7.3000,   34.0400,2,-999.0000,9,    119.4,2,    109.7,2,    50.09,2,    32.36,6,     0.19,6,     2.34,2,   2235.9,2,   2269.9,2,   7.2944,20070526,1240
  32WC20070511,NACPWC,        6,    43,  1, 425105,      5,2,20070526,1236, 40.2300,-124.4500,  123,     50.4,   7.8000,   34.0100,2,-999.0000,9,    158.7,2,    162.3,2,    40.46,2,    25.89,2,     0.22,2,     1.92,2,   2199.3,2,   2273.8,2,   7.7951,20070526,1241
  32WC20070511,NACPWC,        6,    43,  1, 425106,      6,2,20070526,1236, 40.2300,-124.4500,  123,     39.3,   7.8000,   34.0100,2,-999.0000,9,    160.0,2,    160.9,2,    40.80,2,    25.81,2,     0.22,2,     2.04,2,   2199.3,2,   -999.0,9,   7.7962,20070526,1242
  32WC20070511,NACPWC,        6,    43,  1, 425107,      7,2,20070526,1236, 40.2300,-124.4500,  123,     30.8,   7.9000,   34.0000,2,-999.0000,9,    171.8,2,    173.0,2,    39.63,2,    24.86,2,     0.23,2,     1.89,2,   2195.4,2,   2272.3,6,   7.8970,20070526,1243
  32WC20070511,NACPWC,        6,    43,  1, 425108,      8,2,20070526,1236, 40.2300,-124.4500,  123,     25.0,   7.9000,   34.0000,2,-999.0000,9,    171.8,2,    173.3,6,    40.11,2,    24.97,2,     0.22,2,     1.87,2,   2195.5,2,   2272.7,2,   7.8976,20070526,1244
  32WC20070511,NACPWC,        6,    43,  1, 425109,      9,2,20070526,1236, 40.2300,-124.4500,  123,     19.1,   7.9000,   34.0000,2,-999.0000,9,    171.7,2,    174.2,2,    40.31,2,    25.06,2,     0.22,2,     1.88,2,   2196.6,2,   2272.3,2,   7.8981,20070526,1245
  32WC20070511,NACPWC,        6,    43,  1, 425110,     10,2,20070526,1236, 40.2300,-124.4500,  123,     14.5,   7.9000,   34.0000,2,-999.0000,9,    171.5,2,    173.7,2,    40.12,2,    25.01,2,     0.22,2,     1.88,2,   2194.0,2,   2275.9,2,   7.8986,20070526,1247
  32WC20070511,NACPWC,        6,    43,  1, 425111,     11,2,20070526,1236, 40.2300,-124.4500,  123,      9.9,   7.9000,   34.0000,2,-999.0000,9,    180.0,2,    177.4,2,    40.07,2,    24.90,2,     0.22,2,     1.86,2,   2191.4,2,   2275.2,2,   7.8990,20070526,1247
  32WC20070511,NACPWC,        6,    43,  1, 425112,     12,2,20070526,1236, 40.2300,-124.4500,  123,      4.6,   7.9000,   34.0000,2,  34.0000,2,    171.3,2,    173.5,2,    40.20,2,    25.06,2,     0.22,2,     1.87,2,   2194.1,6,   2270.8,2,   7.8996,20070526,1249
  32WC20070511,NACPWC,        6,    43,  1, 430101,      1,2,20070526,1236, 40.2300,-124.4500,  123,    656.1,   5.2000,   34.2400,2,  34.2300,2,     18.6,2,     19.8,2,    92.03,6,    41.00,6,     0.16,6,     3.07,6,   2327.0,6,   2319.9,6,   5.1463,20070526,0932
  32WC20070511,NACPWC,        6,    43,  1, 430102,      2,2,20070526,1236, 40.2300,-124.4500,  123,    501.2,   5.9000,   34.1700,2,-999.0000,9,     30.4,2,     30.1,2,    76.45,2,    38.88,2,     0.16,2,     2.91,2,   2303.8,2,   2301.4,2,   5.8569,20070526,0937
  32WC20070511,NACPWC,        6,    43,  1, 430103,      3,2,20070526,1236, 40.2300,-124.4500,  123,    403.6,   6.3000,   34.1300,2,-999.0000,9,     42.2,2,   -999.0,9,    68.14,2,    37.36,2,     0.17,2,     2.78,2,   2288.7,2,   2290.8,2,   6.2643,20070526,0940
  32WC20070511,NACPWC,        6,    43,  1, 430104,      4,2,20070526,1236, 40.2300,-124.4500,  123,    348.9,   6.6000,   34.0900,2,-999.0000,9,     55.6,2,     56.4,2,    62.05,6,    35.84,2,     0.04,2,     2.63,6,   2270.3,2,   2282.0,2,   6.5685,20070526,0943
  32WC20070511,NACPWC,        6,    43,  1, 430105,      5,2,20070526,1236, 40.2300,-124.4500,  123,    301.7,   6.8000,   34.0500,2,-999.0000,9,     67.6,2,     81.3,2,    55.72,6,    34.04,2,     0.11,2,     2.48,6,   2255.4,6,   2276.2,2,   6.7724,20070526,0945
  32WC20070511,NACPWC,        6,    43,  1, 430106,      6,2,20070526,1236, 40.2300,-124.4500,  123,    275.7,   7.1000,   34.0500,2,-999.0000,9,    100.7,2,     98.5,2,    55.04,6,    33.45,2,     0.15,2,     2.44,6,   2250.2,2,   2276.8,2,   7.0742,20070526,0947
  32WC20070511,NACPWC,        6,    43,  1, 430107,      7,2,20070526,1236, 40.2300,-124.4500,  123,    250.4,   7.2000,   34.0400,2,-999.0000,9,    112.3,2,    112.2,6,    53.71,6,    32.99,2,     0.15,2,     2.40,6,   2243.4,2,   2278.4,2,   7.1764,20070526,0948
  32WC20070511,NACPWC,        6,    43,  1, 430108,      8,2,20070526,1236, 40.2300,-124.4500,  123,    224.8,   7.3000,   34.0400,2,-999.0000,9,    115.0,2,    114.8,2,    52.62,6,    32.81,6,     0.15,6,     2.37,6,   2240.5,2,   2272.7,2,   7.2787,20070526,0950
  32WC20070511,NACPWC,        6,    43,  1, 430109,      9,2,20070526,1236, 40.2300,-124.4500,  123,    198.9,   7.3000,   34.0400,2,-999.0000,9,    115.7,2,    115.7,2,    52.34,2,    32.63,2,     0.15,2,     2.38,2,   2237.8,2,   2271.2,2,   7.2812,20070526,0952
  32WC20070511,NACPWC,        6,    43,  1, 430110,     10,2,20070526,1236, 40.2300,-124.4500,  123,    174.4,   7.3000,   34.0400,2,-999.0000,9,    115.2,2,    115.7,2,    52.38,2,    32.69,2,     0.15,2,     2.39,2,   2240.5,2,   2273.6,2,   7.2836,20070526,0954
  32WC20070511,NACPWC,        6,    43,  1, 430111,     11,2,20070526,1236, 40.2300,-124.4500,  123,    148.9,   7.3000,   34.0300,2,-999.0000,9,    116.9,2,    122.9,2,    52.26,6,    32.06,6,     0.15,6,     2.38,6,   2239.5,2,   2274.5,2,   7.2860,20070526,0955
  32WC20070511,NACPWC,        6,    43,  1, 430112,     12,2,20070526,1236, 40.2300,-124.4500,  123,    129.6,   7.3000,   34.0300,2,-999.0000,9,    117.8,2,    118.8,2,    52.06,2,    32.10,2,     0.15,2,     2.38,2,   2239.9,2,   2274.1,2,   7.2878,20070526,0957
  32WC20070511,NACPWC,        6,    43,  1, 430113,     13,2,20070526,1236, 40.2300,-124.4500,  123,    111.0,   7.4000,   34.0300,2,-999.0000,9,    120.4,2,    119.8,2,    51.58,2,    32.01,2,     0.15,2,     2.37,2,   2239.0,2,   2272.4,2,   7.3895,20070526,0959
  32WC20070511,NACPWC,        6,    43,  1, 430114,     14,2,20070526,1236, 40.2300,-124.4500,  123,     89.9,   7.4000,   34.0300,2,-999.0000,9,    120.3,2,   -999.0,9,    51.37,2,    31.97,2,     0.15,2,     2.37,2,   2237.0,2,   2274.0,2,   7.3915,20070526,1001
  32WC20070511,NACPWC,        6,    43,  1, 430115,     15,2,20070526,1236, 40.2300,-124.4500,  123,     69.9,   7.5000,   34.0300,2,-999.0000,9,    140.1,2,    145.1,2,    49.21,2,    30.63,2,     0.16,2,     2.27,2,   2227.4,2,   2276.0,2,   7.4934,20070526,1002
  32WC20070511,NACPWC,        6,    43,  1, 430116,     16,2,20070526,1236, 40.2300,-124.4500,  123,     59.5,   7.5000,   34.0300,2,-999.0000,9,    136.8,2,    147.5,2,    49.11,6,    30.13,6,     0.16,6,     2.27,6,   2225.8,2,   2275.4,2,   7.4943,20070526,1003
  32WC20070511,NACPWC,        6,    43,  1, 430117,     17,2,20070526,1236, 40.2300,-124.4500,  123,     50.2,   7.5000,   34.0300,2,-999.0000,9,    140.3,2,    148.2,2,    48.91,2,    30.32,2,     0.16,2,     2.24,2,   2226.1,2,   2273.8,2,   7.4952,20070526,1004
  32WC20070511,NACPWC,        6,    43,  1, 430118,     18,2,20070526,1236, 40.2300,-124.4500,  123,     39.5,   7.5000,   34.0300,2,-999.0000,9,    141.2,2,    150.9,2,    48.82,2,    30.14,2,     0.16,2,     2.26,2,   2224.1,2,   2272.8,2,   7.4963,20070526,1006
  32WC20070511,NACPWC,        6,    43,  1, 430119,     19,2,20070526,1236, 40.2300,-124.4500,  123,     30.4,   7.5000,   34.0300,2,-999.0000,9,    155.5,2,    155.4,2,    48.66,2,    30.02,2,     0.17,2,     2.22,2,   2222.7,2,   2271.3,2,   7.4971,20070526,1007
  32WC20070511,NACPWC,        6,    43,  1, 430120,     20,2,20070526,1236, 40.2300,-124.4500,  123,     25.5,   7.5000,   34.0300,2,-999.0000,9,    155.6,2,    155.4,2,    48.82,2,    29.96,2,     0.16,2,     2.20,2,   2223.0,2,   2272.9,2,   7.4976,20070526,1008
  32WC20070511,NACPWC,        6,    43,  1, 430121,     21,2,20070526,1236, 40.2300,-124.4500,  123,     20.5,   7.6000,   34.0300,2,-999.0000,9,    143.3,2,    158.1,2,    48.82,6,    29.54,6,     0.17,6,     2.20,6,   2223.2,2,   2275.2,2,   7.5980,20070526,1009
  32WC20070511,NACPWC,        6,    43,  1, 430122,     22,2,20070526,1236, 40.2300,-124.4500,  123,     14.3,   7.6000,   34.0300,2,-999.0000,9,    156.7,2,    159.6,2,    48.73,2,    29.69,2,     0.17,2,     2.19,2,   2222.4,2,   2276.5,2,   7.5986,20070526,1010
  32WC20070511,NACPWC,        6,    43,  1, 430123,     23,2,20070526,1236, 40.2300,-124.4500,  123,      9.3,   7.6000,   34.0300,2,  34.0300,2,    157.5,2,    159.7,2,    48.68,2,    29.82,2,     0.17,2,     2.18,2,   2222.6,2,   2274.7,2,   7.5991,20070526,1011
  32WC20070511,NACPWC,        6,    43,  1, 430124,     24,2,20070526,1236, 40.2300,-124.4500,  123,      5.6,   7.6000,   34.0300,2,-999.0000,9,    157.0,2,    159.9,2,    48.83,2,    29.75,2,     0.17,2,     2.22,2,   2221.3,2,   2275.2,2,   7.5995,20070526,1013