BOTTLE,20220810CCHSIOAMB
EXPOCODE,SECT_ID,LINE,STNNBR,CASTNO,SAMPNO,BTLNBR,BTLNBR_FLAG_W,DATE,TIME,LATITUDE,LONGITUDE,DEPTH,CTDPRS,CTDTMP,CTDSAL,CTDSAL_FLAG_W,SALNTY,SALNTY_FLAG_W,CTDOXY,CTDOXY_FLAG_W,OXYGEN,OXYGEN_FLAG_W,SILCAT,SILCAT_FLAG_W,NITRAT,NITRAT_FLAG_W,NITRIT,NITRIT_FLAG_W,PHSPHT,PHSPHT_FLAG_W,TCARBN,TCARBN_FLAG_W,ALKALI,ALKALI_FLAG_W,THETA,BTL_DATE,BTL_TIME
,,,,,,,,,,,,METERS,DBAR,ITS-90,PSS-78,,PSS-78,,UMOL/KG,,UMOL/KG,,UMOL/KG,,UMOL/KG,,UMOL/KG,,UMOL/KG,,UMOL/KG,,UMOL/KG,,DEG C,,
  32WC20070511,NACPWC,        7,    56,  1, 560101,      1,2,20070528,1936, 38.4000,-123.4000,  129,    118.6,   7.5000,   34.0800,2,  34.0700,2,     72.8,2,     68.7,2,    53.15,6,    31.52,6,     0.13,6,     2.47,2,   2250.6,6,   2271.5,6,   7.4887,20070528,1936
  32WC20070511,NACPWC,        7,    56,  1, 560102,      2,2,20070528,1936, 38.4000,-123.4000,  129,     90.7,   8.3000,   33.9300,2,-999.0000,9,    175.4,2,    169.8,2,    36.10,2,    25.24,2,     0.15,2,  -999.00,5,   2186.7,2,   2261.2,2,   8.2908,20070528,1938
  32WC20070511,NACPWC,        7,    56,  1, 560103,      3,2,20070528,1936, 38.4000,-123.4000,  129,     69.5,   8.5000,   33.9200,2,-999.0000,9,    186.8,2,    194.7,2,    33.01,2,    23.26,2,     0.16,2,  -999.00,5,   2173.1,2,   2262.2,2,   8.4929,20070528,1939
  32WC20070511,NACPWC,        7,    56,  1, 560104,      4,2,20070528,1936, 38.4000,-123.4000,  129,     60.1,   8.6000,   33.9300,2,-999.0000,9,    219.9,2,    210.4,2,    31.39,2,    21.92,2,     0.18,2,  -999.00,5,   2164.6,2,   2265.2,2,   8.5938,20070528,1940
  32WC20070511,NACPWC,        7,    56,  1, 560105,      5,2,20070528,1936, 38.4000,-123.4000,  129,     50.3,   8.7000,   33.9400,2,-999.0000,9,    237.4,2,    242.5,2,    26.69,2,    18.60,2,     0.20,2,  -999.00,5,   -999.0,9,   2267.7,2,   8.6948,20070528,1941
  32WC20070511,NACPWC,        7,    56,  1, 560106,      6,2,20070528,1936, 38.4000,-123.4000,  129,     40.5,   8.7000,   33.9500,2,-999.0000,9,    246.5,2,    250.0,2,    24.45,2,    17.71,2,     0.20,2,  -999.00,5,   2145.3,6,   2277.8,2,   8.6958,20070528,1941
  32WC20070511,NACPWC,        7,    56,  1, 560107,      7,2,20070528,1936, 38.4000,-123.4000,  129,     30.8,   8.8000,   33.9600,2,-999.0000,9,    269.1,2,    270.4,2,    20.70,2,    15.22,2,     0.20,2,     1.09,2,   2127.5,2,   2275.0,2,   8.7968,20070528,1942
  32WC20070511,NACPWC,        7,    56,  1, 560108,      8,2,20070528,1936, 38.4000,-123.4000,  129,     25.1,   8.8000,   33.9600,2,-999.0000,9,    272.6,2,    272.2,2,    20.50,2,    14.77,2,     0.20,2,     1.06,2,   2125.6,2,   2277.5,2,   8.7974,20070528,1943
  32WC20070511,NACPWC,        7,    56,  1, 560109,      9,2,20070528,1936, 38.4000,-123.4000,  129,     19.9,   8.8000,   33.9600,2,-999.0000,9,    273.8,2,    278.6,6,    19.45,2,    13.85,2,     0.20,2,     1.01,2,   2122.0,2,   2275.1,2,   8.7979,20070528,1944
  32WC20070511,NACPWC,        7,    56,  1, 560110,     10,2,20070528,1936, 38.4000,-123.4000,  129,     14.5,   8.8000,   33.9600,2,-999.0000,9,    276.6,2,    284.9,2,    17.80,6,    13.25,6,     0.21,6,  -999.00,5,   2117.1,2,   2283.3,2,   8.7985,20070528,1945
  32WC20070511,NACPWC,        7,    56,  1, 560111,     11,2,20070528,1936, 38.4000,-123.4000,  129,     10.4,   8.8000,   33.9600,2,  33.9600,2,    286.5,2,    293.7,2,    18.37,2,    12.14,2,     0.20,2,     0.90,2,   2112.9,2,   2279.0,2,   8.7989,20070528,1945
  32WC20070511,NACPWC,        7,    56,  1, 560112,     12,2,20070528,1936, 38.4000,-123.4000,  129,      4.4,   8.9000,   33.9600,2,-999.0000,9,    301.9,2,    313.7,2,    17.74,2,    10.51,2,     0.20,2,     0.84,2,   2096.2,2,   2280.0,2,   8.8995,20070528,1946
  32WC20070511,NACPWC,        7,    57,  1, 570101,      1,2,20070528,1806, 38.4700,-123.2500,   70,     59.3,   8.1000,   33.9800,2,  33.9800,2,    134.3,2,    135.1,2,    42.49,6,    27.65,6,     0.25,6,     2.20,6,   2211.0,6,   2263.5,6,   8.0941,20070528,1806
  32WC20070511,NACPWC,        7,    57,  1, 570102,      2,2,20070528,1806, 38.4700,-123.2500,   70,     50.5,   8.1000,   33.9700,2,-999.0000,9,    141.6,2,    140.2,2,    42.37,6,    26.84,6,     0.26,6,     2.22,6,   2210.1,2,   2260.0,2,   8.0950,20070528,1807
  32WC20070511,NACPWC,        7,    57,  1, 570103,      3,2,20070528,1806, 38.4700,-123.2500,   70,     40.5,   8.2000,   33.9700,2,-999.0000,9,    145.5,2,    150.4,2,    41.51,2,    26.43,2,     0.26,2,     2.15,2,   2207.3,2,   2259.4,2,   8.1959,20070528,1809
  32WC20070511,NACPWC,        7,    57,  1, 570104,      4,2,20070528,1806, 38.4700,-123.2500,   70,     30.2,   8.6000,   33.9700,2,-999.0000,9,    223.3,2,    214.6,2,    28.48,2,    19.53,2,     0.21,2,     2.00,2,   2159.4,2,   2265.3,2,   8.5969,20070528,1810
  32WC20070511,NACPWC,        7,    57,  1, 570105,      5,2,20070528,1806, 38.4700,-123.2500,   70,     24.2,   8.7000,   33.9700,2,-999.0000,9,    248.6,2,    233.4,2,    24.37,2,    17.06,2,     0.20,2,     1.70,2,   2145.2,2,   2267.6,2,   8.6975,20070528,1811
  32WC20070511,NACPWC,        7,    57,  1, 570106,      6,2,20070528,1806, 38.4700,-123.2500,   70,     20.5,   8.7000,   33.9700,2,-999.0000,9,    246.5,2,    238.9,2,    23.45,2,    16.76,2,     0.19,2,     1.33,2,   2141.0,2,   2267.7,2,   8.6979,20070528,1812
  32WC20070511,NACPWC,        7,    57,  1, 570107,      7,2,20070528,1806, 38.4700,-123.2500,   70,     15.9,   8.8000,   33.9600,2,-999.0000,9,    254.1,2,    254.3,6,    20.53,6,    14.56,6,     0.18,6,     1.19,6,   2131.7,2,   2271.1,2,   8.7983,20070528,1813
  32WC20070511,NACPWC,        7,    57,  1, 570108,      8,2,20070528,1806, 38.4700,-123.2500,   70,     15.8,   8.8000,   33.9600,2,-999.0000,9,    254.2,2,   -999.0,9,  -999.00,9,  -999.00,9,  -999.00,9,  -999.00,9,   -999.0,9,   -999.0,9,   8.7983,20070528,1813
  32WC20070511,NACPWC,        7,    57,  1, 570109,      9,2,20070528,1806, 38.4700,-123.2500,   70,      9.3,   8.9000,   33.9600,2,  33.9700,2,    258.3,2,    274.0,2,    18.99,2,    12.65,2,     0.19,2,     1.02,2,   2112.5,2,   2270.3,2,   8.8990,20070528,1815
  32WC20070511,NACPWC,        7,    57,  1, 570110,     10,2,20070528,1806, 38.4700,-123.2500,   70,      9.1,   8.9000,   33.9600,2,-999.0000,9,    258.4,2,   -999.0,9,  -999.00,9,  -999.00,9,  -999.00,9,  -999.00,9,   -999.0,9,   -999.0,9,   8.8990,20070528,1815
  32WC20070511,NACPWC,        7,    57,  1, 570111,     11,2,20070528,1806, 38.4700,-123.2500,   70,      4.6,   9.1000,   33.9600,2,-999.0000,9,    258.2,2,    291.4,2,    17.58,2,    11.57,2,     0.19,2,     1.06,2,   2096.7,2,   2274.4,2,   9.0995,20070528,1816
  32WC20070511,NACPWC,        7,    57,  1, 570112,     12,2,20070528,1806, 38.4700,-123.2500,   70,      4.6,   9.1000,   33.9600,2,-999.0000,9,    258.2,2,   -999.0,9,  -999.00,9,  -999.00,9,  -999.00,9,  -999.00,9,   -999.0,9,   -999.0,9,   9.0995,20070528,1816
  32WC20070511,NACPWC,        8,    58,  1, 580101,      1,2,20070529,2042, 35.9000,-123.8000, 3853,   3883.5,   1.5000,   34.6800,2,  34.6900,2,    130.7,2,    129.9,2,   175.75,6,    36.83,6,     0.01,6,     2.61,6,   2354.7,6,   2434.8,6,   1.1936,20070529,2042
  32WC20070511,NACPWC,        8,    58,  1, 580102,      2,2,20070529,2042, 35.9000,-123.8000, 3853,   3500.1,   1.6000,   34.6800,2,-999.0000,9,    123.3,2,    122.7,2,   173.13,2,    37.72,2,     0.00,2,     2.61,2,   2357.7,6,   2425.5,2,   1.3313,20070529,2053
  32WC20070511,NACPWC,        8,    58,  1, 580103,      3,2,20070529,2042, 35.9000,-123.8000, 3853,   2498.9,   1.8000,   34.6500,2,-999.0000,9,     97.7,2,     98.3,2,   170.17,2,    39.44,2,     0.00,2,     2.76,2,   2362.4,2,   2420.2,2,   1.6235,20070529,2117
  32WC20070511,NACPWC,        8,    58,  1, 580104,      4,2,20070529,2042, 35.9000,-123.8000, 3853,   1500.2,   2.7000,   34.5600,2,-999.0000,9,     43.5,2,     44.8,2,   152.76,2,    42.59,2,     0.00,2,     3.03,2,   2374.6,2,   2395.4,2,   2.5956,20070529,2142
  32WC20070511,NACPWC,        8,    58,  1, 580105,      5,4,20070529,2042, 35.9000,-123.8000, 3853,    799.8,   4.5000,   34.3800,2,-999.0000,9,     10.8,2,     12.0,2,   109.63,2,    42.63,2,     0.00,2,     3.13,2,   2345.9,2,   2345.5,2,   4.4378,20070529,2200
  32WC20070511,NACPWC,        8,    58,  1, 580106,      6,2,20070529,2042, 35.9000,-123.8000, 3853,    499.9,   5.8000,   34.2100,2,-999.0000,9,     23.9,2,     23.3,2,    80.18,2,    39.44,2,     0.00,2,     2.93,2,   2303.0,2,   2303.0,2,   5.7573,20070529,2209
  32WC20070511,NACPWC,        8,    58,  1, 580107,      7,2,20070529,2042, 35.9000,-123.8000, 3853,    349.5,   6.8000,   34.1100,2,-999.0000,9,     55.0,2,     53.8,2,    60.54,2,    35.47,2,     0.01,2,     2.59,2,   2264.6,2,   2279.0,2,   6.7679,20070529,2213
  32WC20070511,NACPWC,        8,    58,  1, 580108,      8,2,20070529,2042, 35.9000,-123.8000, 3853,    251.5,   8.3000,   34.1400,2,-999.0000,9,     60.9,2,     62.8,2,    46.91,2,    31.58,2,     0.03,2,     2.40,2,   2241.3,2,   2269.7,2,   8.2742,20070529,2217
  32WC20070511,NACPWC,        8,    58,  1, 580109,      9,2,20070529,2042, 35.9000,-123.8000, 3853,    199.3,   8.7000,   34.0900,2,-999.0000,9,     72.9,2,     70.9,2,    41.10,2,    30.05,2,     0.01,2,     2.26,2,   2227.8,2,   2261.3,2,   8.6790,20070529,2219
  32WC20070511,NACPWC,        8,    58,  1, 580110,     10,2,20070529,2042, 35.9000,-123.8000, 3853,    175.5,   8.8000,   34.0500,2,-999.0000,9,     81.8,2,     79.0,2,    38.55,2,    29.17,2,     0.02,2,     2.19,2,   2219.9,2,   2256.2,2,   8.7815,20070529,2221
  32WC20070511,NACPWC,        8,    58,  1, 580111,     11,2,20070529,2042, 35.9000,-123.8000, 3853,    149.7,   9.0000,   33.9700,2,-999.0000,9,     96.1,2,     97.9,6,    34.30,2,    27.63,2,     0.01,2,     2.06,2,   2206.1,2,   2246.8,2,   8.9840,20070529,2222
  32WC20070511,NACPWC,        8,    58,  1, 580112,     12,2,20070529,2042, 35.9000,-123.8000, 3853,    130.2,   9.0000,   33.8300,2,-999.0000,9,    138.7,2,    130.1,2,    31.35,2,    25.97,2,     0.02,2,     1.92,2,   2186.6,2,   2241.9,2,   8.9861,20070529,2224
  32WC20070511,NACPWC,        8,    58,  1, 580113,     13,2,20070529,2042, 35.9000,-123.8000, 3853,    110.3,   9.2000,   33.6200,2,-999.0000,9,    171.2,2,    175.2,2,    25.92,2,    22.60,2,     0.15,2,     1.69,2,   2152.2,2,   2230.5,2,   9.1881,20070529,2225
  32WC20070511,NACPWC,        8,    58,  1, 580114,     14,2,20070529,2042, 35.9000,-123.8000, 3853,     89.2,   9.8000,   33.3300,2,-999.0000,9,    193.5,2,    193.8,2,    19.09,2,    17.94,2,     0.02,2,     1.42,2,   2115.3,2,   2212.7,2,   9.7901,20070529,2226
  32WC20070511,NACPWC,        8,    58,  1, 580115,     15,2,20070529,2042, 35.9000,-123.8000, 3853,     69.5,  10.6000,   33.0700,2,-999.0000,9,    238.1,2,    238.6,2,    13.59,2,    11.56,2,     0.26,2,     1.06,2,   2071.5,2,   2201.2,2,  10.5919,20070529,2227
  32WC20070511,NACPWC,        8,    58,  1, 580116,     16,2,20070529,2042, 35.9000,-123.8000, 3853,     60.0,  10.3000,   32.8600,2,-999.0000,9,    250.9,2,    248.0,2,    10.94,2,     9.65,2,     0.15,2,     0.95,2,   2053.2,2,   2202.9,2,  10.2931,20070529,2228
  32WC20070511,NACPWC,        8,    58,  1, 580117,     17,2,20070529,2042, 35.9000,-123.8000, 3853,     49.3,  11.3000,   32.7700,2,-999.0000,9,    265.1,2,    266.3,2,     8.26,2,     5.05,2,     0.22,2,     0.70,2,   2028.2,2,   2191.5,2,  11.2940,20070529,2229
  32WC20070511,NACPWC,        8,    58,  1, 580118,     18,2,20070529,2042, 35.9000,-123.8000, 3853,     40.4,  12.1000,   32.8300,2,-999.0000,9,    270.3,2,    271.8,2,     7.95,2,     3.34,2,     0.15,2,     0.58,2,   2019.7,2,   2195.7,2,  12.0949,20070529,2230
  32WC20070511,NACPWC,        8,    58,  1, 580119,     19,2,20070529,2042, 35.9000,-123.8000, 3853,     30.3,  12.5000,   32.8000,2,-999.0000,9,    277.0,2,    275.1,2,     6.80,2,     2.09,2,     0.14,2,     0.47,2,   2007.2,2,   2197.3,2,  12.4961,20070529,2231
  32WC20070511,NACPWC,        8,    58,  1, 580120,     20,2,20070529,2042, 35.9000,-123.8000, 3853,     24.6,  12.5000,   32.8100,2,-999.0000,9,    276.9,2,    276.2,2,     6.81,2,     2.09,2,     0.13,2,     0.46,2,   2007.0,2,   2196.7,2,  12.4968,20070529,2232
  32WC20070511,NACPWC,        8,    58,  1, 580121,     21,4,20070529,2042, 35.9000,-123.8000, 3853,     20.3,  12.6000,   32.8100,2,-999.0000,9,    276.4,2,   -999.0,9,  -999.00,9,  -999.00,9,  -999.00,9,  -999.00,9,   -999.0,9,   -999.0,9,  12.5973,20070529,2233
  32WC20070511,NACPWC,        8,    58,  1, 580122,     22,2,20070529,2042, 35.9000,-123.8000, 3853,     15.0,  12.7000,   32.8000,2,-999.0000,9,    276.4,2,    277.0,2,     6.01,2,     1.55,2,     0.13,2,     0.42,2,   2002.9,2,   2200.3,2,  12.6980,20070529,2233
  32WC20070511,NACPWC,        8,    58,  1, 580123,     23,2,20070529,2042, 35.9000,-123.8000, 3853,     10.2,  12.8000,   32.7900,2,  32.7900,2,    276.2,2,    278.0,2,     4.92,2,     0.78,2,     0.11,2,     0.37,2,   1997.8,2,   2195.3,2,  12.7987,20070529,2234
  32WC20070511,NACPWC,        8,    58,  1, 580124,     24,2,20070529,2042, 35.9000,-123.8000, 3853,      4.8,  13.0000,   32.7800,2,-999.0000,9,    276.1,2,    277.2,2,     4.77,2,     0.64,2,     0.10,2,     0.35,2,   1995.2,2,   2196.3,2,  12.9994,20070529,2235
  32WC20070511,NACPWC,        8,    59,  1, 590101,      1,2,20070530,0402, 36.2300,-123.0900, 3465,   3487.9,   1.6000,   34.6800,2,  34.6800,2,    122.5,2,    121.9,2,   175.80,6,    37.06,6,     0.00,6,     2.63,6,   2355.9,6,   2430.6,6,   1.3325,20070530,0402
  32WC20070511,NACPWC,        8,    59,  1, 590102,      2,2,20070530,0402, 36.2300,-123.0900, 3465,   2500.2,   1.8000,   34.6500,2,-999.0000,9,     97.7,2,     97.9,2,   171.18,2,    38.73,2,     0.00,2,     2.74,2,   2367.2,6,   2484.1,4,   1.6234,20070530,0430
  32WC20070511,NACPWC,        8,    59,  1, 590103,      3,2,20070530,0402, 36.2300,-123.0900, 3465,   1500.1,   2.7000,   34.5600,2,-999.0000,9,     44.5,2,     44.3,2,   152.04,2,    41.73,2,     0.00,2,     3.01,2,   2380.1,2,   2395.4,2,   2.5956,20070530,0456
  32WC20070511,NACPWC,        8,    59,  1, 590104,      4,2,20070530,0402, 36.2300,-123.0900, 3465,    799.6,   4.4000,   34.4000,2,-999.0000,9,     12.0,2,     11.9,2,   112.13,6,    42.28,6,     0.00,6,     3.13,6,   2355.8,2,   2348.9,2,   4.3384,20070530,0514
  32WC20070511,NACPWC,        8,    59,  1, 590105,      5,2,20070530,0402, 36.2300,-123.0900, 3465,    499.8,   5.6000,   34.2400,2,-999.0000,9,     18.0,2,     18.0,2,    85.08,2,    39.34,2,     0.00,2,     2.97,2,   2316.3,2,   2311.1,2,   5.5581,20070530,0523
  32WC20070511,NACPWC,        8,    59,  1, 590106,      6,2,20070530,0402, 36.2300,-123.0900, 3465,    349.8,   6.5000,   34.1600,2,-999.0000,9,     38.5,2,     38.3,2,    66.94,2,    36.08,2,     0.01,2,     2.72,2,   2286.3,2,   2290.8,2,   6.4687,20070530,0528
  32WC20070511,NACPWC,        8,    59,  1, 590107,      7,2,20070530,0402, 36.2300,-123.0900, 3465,    300.1,   7.0000,   34.1400,2,-999.0000,9,     51.7,2,     51.7,2,    59.50,2,    34.41,2,     0.01,2,     2.57,2,   2267.3,2,   2281.2,2,   6.9721,20070530,0530
  32WC20070511,NACPWC,        8,    59,  1, 590108,      8,2,20070530,0402, 36.2300,-123.0900, 3465,    249.5,   7.2000,   34.0700,2,-999.0000,9,     70.2,2,     71.5,2,    52.81,2,    33.04,2,     0.02,2,     2.39,2,   2250.0,2,   2271.5,2,   7.1765,20070530,0532
  32WC20070511,NACPWC,        8,    59,  1, 590109,      9,2,20070530,0402, 36.2300,-123.0900, 3465,    198.9,   7.9000,   34.0500,2,-999.0000,9,     83.2,2,     81.9,2,    45.08,2,    30.91,2,     0.02,2,     2.23,2,   2233.2,2,   2263.2,2,   7.8803,20070530,0535
  32WC20070511,NACPWC,        8,    59,  1, 590110,     10,2,20070530,0402, 36.2300,-123.0900, 3465,    175.3,   8.1000,   34.0300,2,-999.0000,9,     94.5,2,     93.6,6,    40.95,2,    29.52,2,     0.03,2,     2.12,2,   2217.2,2,   2257.4,2,   8.0824,20070530,0536
  32WC20070511,NACPWC,        8,    59,  1, 590111,     11,2,20070530,0402, 36.2300,-123.0900, 3465,    150.7,   8.6000,   34.0100,2,-999.0000,9,     94.5,2,     94.2,2,    36.93,2,    28.31,2,     0.03,2,     2.07,2,   2210.7,2,   2252.7,2,   8.5843,20070530,0538
  32WC20070511,NACPWC,        8,    59,  1, 590112,     12,2,20070530,0402, 36.2300,-123.0900, 3465,    130.0,   8.8000,   33.9600,2,-999.0000,9,    103.0,2,    101.0,2,    34.46,2,    27.35,2,     0.03,2,     2.01,2,   2202.8,2,   2249.2,2,   8.7863,20070530,0539
  32WC20070511,NACPWC,        8,    59,  1, 590113,     13,2,20070530,0402, 36.2300,-123.0900, 3465,    109.8,   8.9000,   33.8700,2,-999.0000,9,    120.3,2,    120.7,2,    34.42,2,    27.43,2,     0.03,2,     2.01,2,   2185.6,2,   2244.5,2,   8.8884,20070530,0540
  32WC20070511,NACPWC,        8,    59,  1, 590114,     14,2,20070530,0402, 36.2300,-123.0900, 3465,     90.2,   9.1000,   33.7500,2,-999.0000,9,    140.1,2,    140.9,2,    28.82,2,    24.38,2,     0.02,2,     1.81,2,   2171.0,2,   2251.7,2,   9.0904,20070530,0542
  32WC20070511,NACPWC,        8,    59,  1, 590115,     15,2,20070530,0402, 36.2300,-123.0900, 3465,     69.3,   9.7000,   33.6600,2,-999.0000,9,    150.6,2,    167.9,2,    25.44,2,    22.81,2,     0.02,2,     1.70,2,   2158.8,2,   2232.4,2,   9.6923,20070530,0543
  32WC20070511,NACPWC,        8,    59,  1, 590116,     16,2,20070530,0402, 36.2300,-123.0900, 3465,     60.1,   9.9000,   33.6000,2,-999.0000,9,    159.5,2,    169.3,2,    23.57,2,    21.86,2,     0.03,2,     1.64,2,   2150.9,2,   2231.6,2,   9.8932,20070530,0544
  32WC20070511,NACPWC,        8,    59,  1, 590117,     17,2,20070530,0402, 36.2300,-123.0900, 3465,     49.9,  10.2000,   33.5200,2,-999.0000,9,    203.6,2,    196.4,2,    20.69,2,    19.15,2,     0.25,2,     1.48,2,   2129.0,2,   2227.1,2,  10.1943,20070530,0545
  32WC20070511,NACPWC,        8,    59,  1, 590118,     18,2,20070530,0402, 36.2300,-123.0900, 3465,     39.9,  10.7000,   33.4800,2,-999.0000,9,    225.4,2,    217.0,2,    18.73,2,    16.64,2,     0.67,2,     1.35,2,   2118.7,2,   2227.4,2,  10.6953,20070530,0546
  32WC20070511,NACPWC,        8,    59,  1, 590119,     19,2,20070530,0402, 36.2300,-123.0900, 3465,     29.3,  12.0000,   33.4500,2,-999.0000,9,    257.8,2,    255.3,2,    14.45,2,    10.52,2,     0.41,2,     1.01,2,   2083.3,2,   2233.4,2,  11.9963,20070530,0547
  32WC20070511,NACPWC,        8,    59,  1, 590120,     20,2,20070530,0402, 36.2300,-123.0900, 3465,     24.5,  12.1000,   33.4300,2,-999.0000,9,    268.8,2,    261.6,6,    13.40,2,     9.66,2,     0.32,2,     0.93,2,   2073.5,2,   2234.6,2,  12.0969,20070530,0547
  32WC20070511,NACPWC,        8,    59,  1, 590121,     21,2,20070530,0402, 36.2300,-123.0900, 3465,     19.9,  12.3000,   33.4100,2,-999.0000,9,    273.1,2,    266.4,2,    12.52,2,     8.99,2,     0.28,2,     0.88,2,   2065.8,2,   2231.6,2,  12.2974,20070530,0548
  32WC20070511,NACPWC,        8,    59,  1, 590122,     22,2,20070530,0402, 36.2300,-123.0900, 3465,     15.1,  12.3000,   33.4000,2,-999.0000,9,    276.1,2,    270.6,2,    11.90,2,     8.64,2,     0.26,2,     0.83,2,   2063.2,2,   2229.6,2,  12.2980,20070530,0549
  32WC20070511,NACPWC,        8,    59,  1, 590123,     23,2,20070530,0402, 36.2300,-123.0900, 3465,      9.4,  12.4000,   33.3800,2,  33.3800,2,    276.1,2,    271.1,2,    10.93,2,     7.89,2,     0.22,2,     0.76,2,   2051.6,2,   2228.5,2,  12.3988,20070530,0550
  32WC20070511,NACPWC,        8,    59,  1, 590124,     24,2,20070530,0402, 36.2300,-123.0900, 3465,      4.7,  12.6000,   33.3700,2,-999.0000,9,    276.8,2,    278.3,2,    10.43,2,     7.31,2,     0.20,2,     0.70,2,   2048.6,2,   2228.5,2,  12.5994,20070530,0550