BOTTLE,20220810CCHSIOAMB
EXPOCODE,SECT_ID,LINE,STNNBR,CASTNO,SAMPNO,BTLNBR,BTLNBR_FLAG_W,DATE,TIME,LATITUDE,LONGITUDE,DEPTH,CTDPRS,CTDTMP,CTDSAL,CTDSAL_FLAG_W,SALNTY,SALNTY_FLAG_W,CTDOXY,CTDOXY_FLAG_W,OXYGEN,OXYGEN_FLAG_W,SILCAT,SILCAT_FLAG_W,NITRAT,NITRAT_FLAG_W,NITRIT,NITRIT_FLAG_W,PHSPHT,PHSPHT_FLAG_W,TCARBN,TCARBN_FLAG_W,ALKALI,ALKALI_FLAG_W,THETA,BTL_DATE,BTL_TIME
,,,,,,,,,,,,METERS,DBAR,ITS-90,PSS-78,,PSS-78,,UMOL/KG,,UMOL/KG,,UMOL/KG,,UMOL/KG,,UMOL/KG,,UMOL/KG,,UMOL/KG,,UMOL/KG,,DEG C,,
  32WC20070511,NACPWC,       10,    82,  1, 820101,      1,2,20070604,1554, 33.7800,-118.5800,  769,    750.0,   5.2000,   34.4000,2,  34.4000,2,      4.2,2,      4.6,2,   108.42,6,    33.96,6,     0.07,6,     3.25,6,   2359.0,6,   2354.5,6,   5.1378,20070604,1554
  32WC20070511,NACPWC,       10,    82,  1, 820102,      2,2,20070604,1554, 33.7800,-118.5800,  769,    599.3,   5.7000,   34.3600,2,-999.0000,9,      7.3,2,      7.8,2,    92.07,2,    37.45,2,     0.00,2,     3.13,2,   2336.2,2,   2334.8,2,   5.6487,20070604,1600
  32WC20070511,NACPWC,       10,    82,  1, 820103,      3,2,20070604,1554, 33.7800,-118.5800,  769,    500.0,   6.4000,   34.3100,2,-999.0000,9,     15.5,2,     16.0,2,    74.25,2,    37.53,2,     0.00,2,     2.94,2,   2311.3,2,   2312.0,2,   6.3549,20070604,1604
  32WC20070511,NACPWC,       10,    82,  1, 820104,      4,2,20070604,1554, 33.7800,-118.5800,  769,    400.1,   7.3000,   34.2800,2,-999.0000,9,     27.1,2,     27.4,2,    61.45,2,    34.67,2,     0.01,2,     2.76,2,   2289.7,2,   2296.1,2,   7.2615,20070604,1607
  32WC20070511,NACPWC,       10,    82,  1, 820105,      5,2,20070604,1554, 33.7800,-118.5800,  769,    350.2,   7.6000,   34.2800,2,-999.0000,9,     33.1,2,     33.1,2,    56.67,6,    33.58,6,     0.01,6,     2.68,6,   2279.6,2,   2294.1,2,   7.5656,20070604,1610
  32WC20070511,NACPWC,       10,    82,  1, 820106,      6,2,20070604,1554, 33.7800,-118.5800,  769,    299.5,   8.2000,   34.2800,2,-999.0000,9,     40.3,2,     39.8,2,    50.46,2,    31.66,2,     0.00,2,     2.57,2,   2266.7,2,   2290.6,2,   8.1694,20070604,1613
  32WC20070511,NACPWC,       10,    82,  1, 820107,      7,2,20070604,1554, 33.7800,-118.5800,  769,    249.6,   8.6000,   34.2800,2,-999.0000,9,     47.9,2,     44.9,2,    46.38,2,    30.58,2,     0.01,2,     2.48,2,   2258.7,2,   2286.3,2,   8.5738,20070604,1616
  32WC20070511,NACPWC,       10,    82,  1, 820108,      8,2,20070604,1554, 33.7800,-118.5800,  769,    224.2,   8.7000,   34.2500,2,-999.0000,9,     56.6,2,     55.5,2,    43.96,2,    29.96,2,     0.02,2,     2.39,2,   2248.3,2,   2280.7,2,   8.6763,20070604,1617
  32WC20070511,NACPWC,       10,    82,  1, 820109,      9,2,20070604,1554, 33.7800,-118.5800,  769,    200.6,   8.7000,   34.2000,2,-999.0000,9,     70.6,2,     67.0,2,    41.72,2,    29.24,2,     0.01,2,     2.28,2,   2235.2,2,   2275.9,2,   8.6789,20070604,1619
  32WC20070511,NACPWC,       10,    82,  1, 820110,     10,2,20070604,1554, 33.7800,-118.5800,  769,    174.7,   9.2000,   34.2400,2,-999.0000,9,     64.5,2,     57.6,2,    39.80,2,    29.02,2,     0.01,2,     2.31,2,   2241.3,2,   2282.4,2,   9.1810,20070604,1622
  32WC20070511,NACPWC,       10,    82,  1, 820111,     11,2,20070604,1554, 33.7800,-118.5800,  769,    136.5,   8.9000,   34.0600,2,-999.0000,9,    104.1,2,    103.2,2,    34.52,2,    26.65,2,     0.03,2,     1.99,2,   2205.4,2,   2260.9,2,   8.8855,20070604,1624
  32WC20070511,NACPWC,       10,    82,  1, 820112,     12,2,20070604,1554, 33.7800,-118.5800,  769,    120.1,   9.4000,   34.0100,2,-999.0000,9,    112.5,2,    105.0,2,    31.24,2,    25.65,2,     0.04,2,     1.93,2,   2197.6,2,   2256.7,2,   9.3868,20070604,1626
  32WC20070511,NACPWC,       10,    82,  1, 820113,     13,2,20070604,1554, 33.7800,-118.5800,  769,    109.9,   9.7000,   34.0300,2,-999.0000,9,     85.8,2,     85.1,2,    31.77,2,    26.22,2,     0.04,2,     2.04,2,   2209.5,2,   2257.0,2,   9.6877,20070604,1627
  32WC20070511,NACPWC,       10,    82,  1, 820114,     14,2,20070604,1554, 33.7800,-118.5800,  769,     90.1,   9.9000,   33.9800,2,-999.0000,9,    107.6,2,     87.2,2,    30.45,2,    25.75,2,     0.03,2,     2.01,2,   2204.0,2,   2253.8,2,   9.8898,20070604,1629
  32WC20070511,NACPWC,       10,    82,  1, 820115,     15,2,20070604,1554, 33.7800,-118.5800,  769,     69.7,  10.1000,   33.9200,2,-999.0000,9,     96.5,2,     93.3,6,    28.10,2,    24.92,2,     0.02,2,     1.94,2,   2194.8,2,   2246.9,2,  10.0920,20070604,1630
  32WC20070511,NACPWC,       10,    82,  1, 820116,     16,2,20070604,1554, 33.7800,-118.5800,  769,     60.1,  10.3000,   33.8700,2,-999.0000,9,     97.7,2,     96.6,2,    26.56,2,    24.16,2,     0.02,2,     1.88,2,   2188.9,2,   2246.8,2,  10.2930,20070604,1632
  32WC20070511,NACPWC,       10,    82,  1, 820117,     17,2,20070604,1554, 33.7800,-118.5800,  769,     49.9,  10.6000,   33.8000,2,-999.0000,9,    108.2,2,    104.8,2,    24.07,2,    22.62,2,     0.25,2,     1.83,2,   2181.4,2,   2245.6,2,  10.5941,20070604,1633
  32WC20070511,NACPWC,       10,    82,  1, 820118,     18,2,20070604,1554, 33.7800,-118.5800,  769,     39.8,  10.9000,   33.7500,2,-999.0000,9,    112.7,2,    109.9,2,    21.84,2,    20.94,2,     0.51,2,     1.76,2,   2181.5,2,   2250.3,2,  10.8952,20070604,1634
  32WC20070511,NACPWC,       10,    82,  1, 820119,     19,2,20070604,1554, 33.7800,-118.5800,  769,     29.7,  11.2000,   33.7200,2,-999.0000,9,    123.4,2,    125.7,2,    19.00,6,    17.89,6,     0.60,6,     1.59,6,   2172.6,2,   2252.3,2,  11.1964,20070604,1636
  32WC20070511,NACPWC,       10,    82,  1, 820120,     20,2,20070604,1554, 33.7800,-118.5800,  769,     24.7,  11.7000,   33.6800,2,-999.0000,9,    147.6,2,    145.4,2,    17.42,2,    13.93,2,     0.48,2,     1.41,2,   2162.4,2,   2256.3,2,  11.6969,20070604,1637
  32WC20070511,NACPWC,       10,    82,  1, 820121,     21,2,20070604,1554, 33.7800,-118.5800,  769,     19.7,  12.7000,   33.7200,2,-999.0000,9,    169.2,2,    185.8,2,    12.33,2,     5.60,2,     0.26,2,     0.67,2,   2116.5,2,   2260.0,2,  12.6974,20070604,1638
  32WC20070511,NACPWC,       10,    82,  1, 820122,     22,2,20070604,1554, 33.7800,-118.5800,  769,     14.3,  15.4000,   33.7500,2,-999.0000,9,    289.4,2,    271.8,2,     7.46,2,     0.74,2,     0.05,2,     0.14,2,   2007.2,2,   2264.7,2,  15.3978,20070604,1639
  32WC20070511,NACPWC,       10,    82,  1, 820123,     23,4,20070604,1554, 33.7800,-118.5800,  769,      9.6,  16.1000,   33.7800,2,-999.0000,9,    305.2,2,    314.9,2,     4.91,2,     0.02,2,     0.00,2,     0.05,2,   1943.9,2,   2260.6,2,  16.0985,20070604,1640
  32WC20070511,NACPWC,       10,    82,  1, 820124,     24,2,20070604,1554, 33.7800,-118.5800,  769,      5.0,  16.5000,   33.7800,2,  33.7900,2,    318.7,2,    322.3,2,     3.86,2,     0.05,2,     0.01,2,     0.07,2,   1917.1,2,   2266.3,2,  16.4992,20070604,1641
  32WC20070511,NACPWC,       10,    83,  1, 830101,      1,2,20070604,1905, 33.8400,-118.4600,   81,     71.4,   9.7000,   34.0100,2,  34.0000,2,     81.0,2,     80.9,2,    32.33,6,    25.79,6,     0.15,6,     2.12,6,   2209.3,6,   2255.4,6,   9.6920,20070604,1905
  32WC20070511,NACPWC,       10,    83,  1, 830102,      2,2,20070604,1905, 33.8400,-118.4600,   81,     61.4,   9.9000,   33.9600,2,-999.0000,9,     85.8,2,     85.5,2,    30.01,2,    25.48,2,     0.17,2,     2.06,2,   2200.7,2,   2250.9,2,   9.8931,20070604,1907
  32WC20070511,NACPWC,       10,    83,  1, 830103,      3,2,20070604,1905, 33.8400,-118.4600,   81,     49.7,  10.3000,   33.8500,2,-999.0000,9,     92.7,2,     93.2,2,    27.16,2,    23.43,2,     0.43,2,     2.00,2,   2197.7,2,   2249.4,2,  10.2942,20070604,1908
  32WC20070511,NACPWC,       10,    83,  1, 830104,      4,2,20070604,1905, 33.8400,-118.4600,   81,     40.8,  10.6000,   33.7800,2,-999.0000,9,    107.1,2,    106.4,2,    23.76,2,    21.54,2,     0.50,2,     1.88,2,   2189.0,2,   2249.8,2,  10.5952,20070604,1909
  32WC20070511,NACPWC,       10,    83,  1, 830105,      5,2,20070604,1905, 33.8400,-118.4600,   81,     30.2,  11.2000,   33.7300,2,-999.0000,9,    120.9,2,    121.5,2,    20.33,6,    18.24,6,     0.58,6,     1.68,6,   2177.6,2,   2253.0,2,  11.1963,20070604,1911
  32WC20070511,NACPWC,       10,    83,  1, 830106,      6,2,20070604,1905, 33.8400,-118.4600,   81,     25.0,  11.9000,   33.7200,2,-999.0000,9,    157.7,2,    146.0,2,    16.41,2,    12.95,2,     0.49,2,     1.29,2,   2154.6,2,   2240.9,2,  11.8968,20070604,1912
  32WC20070511,NACPWC,       10,    83,  1, 830107,      7,2,20070604,1905, 33.8400,-118.4600,   81,     19.8,  12.8000,   33.7200,2,-999.0000,9,    201.1,2,    210.5,2,    11.66,2,     4.59,2,     0.23,2,     0.67,2,   2092.0,2,   2257.6,2,  12.7974,20070604,1913
  32WC20070511,NACPWC,       10,    83,  1, 830108,      8,2,20070604,1905, 33.8400,-118.4600,   81,     15.0,  14.3000,   33.7500,2,-999.0000,9,    225.1,2,    225.5,2,     9.30,2,     2.83,2,     0.14,2,     0.40,2,   2063.1,2,   2258.6,2,  14.2978,20070604,1914
  32WC20070511,NACPWC,       10,    83,  1, 830109,      9,2,20070604,1905, 33.8400,-118.4600,   81,     14.9,  14.3000,   33.7500,2,-999.0000,9,    225.0,2,   -999.0,9,  -999.00,9,  -999.00,9,  -999.00,9,  -999.00,9,   -999.0,9,   -999.0,9,  14.2979,20070604,1914
  32WC20070511,NACPWC,       10,    83,  1, 830110,     10,2,20070604,1905, 33.8400,-118.4600,   81,      9.9,  15.6000,   33.7800,2,-999.0000,9,    310.1,2,    269.2,2,     6.73,2,     0.91,2,     0.06,2,     0.18,2,   2003.2,2,   2262.1,2,  15.5985,20070604,1915
  32WC20070511,NACPWC,       10,    83,  1, 830111,     11,2,20070604,1905, 33.8400,-118.4600,   81,      9.9,  15.6000,   33.7800,2,-999.0000,9,    310.1,2,   -999.0,9,  -999.00,9,  -999.00,9,  -999.00,9,  -999.00,9,   -999.0,9,   -999.0,9,  15.5985,20070604,1915
  32WC20070511,NACPWC,       10,    83,  1, 830112,     12,2,20070604,1905, 33.8400,-118.4600,   81,      4.9,  16.3000,   33.7900,2,  33.7900,2,    311.6,2,    309.0,2,     4.32,2,     0.17,2,     0.01,2,     0.07,2,   1942.4,2,   2261.7,2,  16.2992,20070604,1916
  32WC20070511,NACPWC,       10,    83,  1, 830113,     13,2,20070604,1905, 33.8400,-118.4600,   81,      4.9,  16.4000,   33.7900,2,-999.0000,9,    313.7,2,   -999.0,9,  -999.00,9,  -999.00,9,  -999.00,9,  -999.00,9,   -999.0,9,   -999.0,9,  16.3992,20070604,1916
  32WC20070511,NACPWC,       10,    84,  1, 840101,      1,2,20070604,2247, 33.9300,-118.7200,  492,    482.3,   7.0000,   34.3000,2,  34.2900,2,     19.8,2,     20.4,2,    67.42,6,    35.76,6,     0.03,6,     2.88,6,   2298.3,6,   2309.5,2,   6.9544,20070604,2247
  32WC20070511,NACPWC,       10,    84,  1, 840102,      2,4,20070604,2247, 33.9300,-118.7200,  492,    450.1,   7.0000,   34.3000,2,-999.0000,9,     20.5,2,   -999.0,9,  -999.00,9,  -999.00,9,  -999.00,9,  -999.00,9,   -999.0,9,   -999.0,9,   6.9575,20070604,2248
  32WC20070511,NACPWC,       10,    84,  1, 840103,      3,4,20070604,2247, 33.9300,-118.7200,  492,    425.2,   7.2000,   34.2900,2,-999.0000,9,     22.8,2,     22.6,2,    64.35,2,    35.36,2,     0.03,2,     2.84,2,   2291.2,2,   2299.8,2,   7.1593,20070604,2249
  32WC20070511,NACPWC,       10,    84,  1, 840104,      4,2,20070604,2247, 33.9300,-118.7200,  492,    399.7,   7.3000,   34.2900,2,-999.0000,9,     24.9,2,     25.5,2,    62.21,2,    34.73,2,     0.03,2,     2.80,2,   2289.0,6,   2299.8,2,   7.2615,20070604,2251
  32WC20070511,NACPWC,       10,    84,  1, 840105,      5,2,20070604,2247, 33.9300,-118.7200,  492,    350.0,   7.6000,   34.2700,2,-999.0000,9,     32.3,2,     31.9,2,    57.14,2,    33.60,2,     0.02,2,     2.68,2,   2273.7,2,   2294.6,2,   7.5657,20070604,2253
  32WC20070511,NACPWC,       10,    84,  1, 840106,      6,2,20070604,2247, 33.9300,-118.7200,  492,    300.6,   8.2000,   34.2600,2,-999.0000,9,     42.8,2,     42.4,2,    50.19,6,    31.98,6,     0.02,6,     2.56,6,   2256.5,2,   2285.9,2,   8.1693,20070604,2254
  32WC20070511,NACPWC,       10,    84,  1, 840107,      7,2,20070604,2247, 33.9300,-118.7200,  492,    249.8,   8.5000,   34.2500,2,-999.0000,9,     47.4,2,     49.2,2,    46.79,2,    30.82,2,     0.01,2,     2.48,2,   2250.6,2,   2283.2,2,   8.4740,20070604,2256
  32WC20070511,NACPWC,       10,    84,  1, 840108,      8,2,20070604,2247, 33.9300,-118.7200,  492,    225.2,   8.7000,   34.2600,2,-999.0000,9,     49.7,2,     49.0,2,    45.19,2,    30.34,2,     0.01,2,     2.46,2,   2251.3,2,   2280.0,2,   8.6762,20070604,2258
  32WC20070511,NACPWC,       10,    84,  1, 840109,      9,2,20070604,2247, 33.9300,-118.7200,  492,    200.2,   8.9000,   34.2400,2,-999.0000,9,     54.4,2,     53.9,2,    42.69,2,    29.86,2,     0.02,2,     2.39,2,   2244.1,2,   2277.1,2,   8.8786,20070604,2259
  32WC20070511,NACPWC,       10,    84,  1, 840110,     10,2,20070604,2247, 33.9300,-118.7200,  492,    175.2,   9.1000,   34.2300,2,-999.0000,9,     56.8,2,     57.9,2,    41.25,2,    29.35,2,     0.01,2,     2.36,2,   2240.3,2,   2277.2,2,   9.0811,20070604,2300
  32WC20070511,NACPWC,       10,    84,  1, 840111,     11,2,20070604,2247, 33.9300,-118.7200,  492,    150.1,   9.3000,   34.1800,2,-999.0000,9,     64.0,2,     64.2,6,    37.87,2,    28.46,2,     0.01,2,     2.27,2,   2228.8,2,   2267.1,2,   9.2836,20070604,2301
  32WC20070511,NACPWC,       10,    84,  1, 840112,     12,2,20070604,2247, 33.9300,-118.7200,  492,    129.6,   9.4000,   34.1500,2,-999.0000,9,     71.7,2,     75.0,2,    35.97,2,    27.59,2,     0.01,2,     2.20,2,   2224.4,2,   2276.4,2,   9.3857,20070604,2302
  32WC20070511,NACPWC,       10,    84,  1, 840113,     13,2,20070604,2247, 33.9300,-118.7200,  492,    109.6,   9.6000,   34.0800,2,-999.0000,9,     81.1,2,     81.0,2,    33.15,2,    26.68,2,     0.01,2,     2.11,2,   2215.6,2,   2255.9,2,   9.5878,20070604,2303
  32WC20070511,NACPWC,       10,    84,  1, 840114,     14,2,20070604,2247, 33.9300,-118.7200,  492,     90.7,   9.6000,   34.0400,2,-999.0000,9,     87.6,2,     85.9,2,    32.07,2,    26.37,2,     0.02,2,     2.07,2,   2207.3,2,   2257.2,2,   9.5899,20070604,2304
  32WC20070511,NACPWC,       10,    84,  1, 840115,     15,2,20070604,2247, 33.9300,-118.7200,  492,     70.2,   9.9000,   33.9700,2,-999.0000,9,     87.0,2,     87.0,2,    29.98,2,    25.42,2,     0.01,2,     2.03,2,   2200.9,2,   2250.3,2,   9.8921,20070604,2305
  32WC20070511,NACPWC,       10,    84,  1, 840116,     16,2,20070604,2247, 33.9300,-118.7200,  492,     59.8,  10.1000,   33.9100,2,-999.0000,9,     88.5,2,     88.2,2,    28.48,2,    25.18,2,     0.02,2,     1.99,2,   2200.9,2,   2249.1,2,  10.0932,20070604,2307
  32WC20070511,NACPWC,       10,    84,  1, 840117,     17,2,20070604,2247, 33.9300,-118.7200,  492,     49.8,  10.2000,   33.9000,2,-999.0000,9,     86.7,2,     88.9,2,    27.95,2,    25.07,2,     0.02,2,     1.98,2,   2199.1,2,   2245.3,2,  10.1943,20070604,2308
  32WC20070511,NACPWC,       10,    84,  1, 840118,     18,2,20070604,2247, 33.9300,-118.7200,  492,     39.2,  10.3000,   33.8700,2,-999.0000,9,     89.8,2,     87.7,2,    27.01,2,    24.77,2,     0.05,2,     1.96,2,   2197.4,2,   2249.8,2,  10.2955,20070604,2309
  32WC20070511,NACPWC,       10,    84,  1, 840119,     19,2,20070604,2247, 33.9300,-118.7200,  492,     29.4,  10.5000,   33.8100,2,-999.0000,9,    101.2,2,    100.0,2,    24.50,2,    22.92,2,     0.40,2,     1.87,2,   2194.6,2,   2244.5,2,  10.4966,20070604,2309
  32WC20070511,NACPWC,       10,    84,  1, 840120,     20,2,20070604,2247, 33.9300,-118.7200,  492,     24.8,  10.6000,   33.7900,2,-999.0000,9,     98.2,2,    107.1,2,    23.33,2,    21.68,2,     0.47,2,     1.82,2,   2190.9,2,   2247.4,2,  10.5971,20070604,2310
  32WC20070511,NACPWC,       10,    84,  1, 840121,     21,2,20070604,2247, 33.9300,-118.7200,  492,     20.0,  11.8000,   33.7000,2,-999.0000,9,    157.8,2,    156.5,6,    14.64,2,    12.29,2,     0.47,2,     1.10,2,   2101.5,3,   2242.8,2,  11.7975,20070604,2311
  32WC20070511,NACPWC,       10,    84,  1, 840122,     22,2,20070604,2247, 33.9300,-118.7200,  492,     14.7,  14.5000,   33.7500,2,-999.0000,9,    279.9,2,    225.0,2,     8.13,2,     4.48,2,     0.21,2,     0.52,2,   2071.6,2,   2248.3,2,  14.4979,20070604,2311
  32WC20070511,NACPWC,       10,    84,  1, 840123,     23,2,20070604,2247, 33.9300,-118.7200,  492,     10.1,  15.4000,   33.7700,2,-999.0000,9,    284.4,2,    292.7,2,     3.78,2,     0.19,2,     0.02,2,     0.15,2,   1987.3,3,   2255.2,2,  15.3985,20070604,2312
  32WC20070511,NACPWC,       10,    84,  1, 840124,     24,2,20070604,2247, 33.9300,-118.7200,  492,      5.1,  16.2000,   33.8000,2,  33.7900,2,    281.0,2,    284.6,2,     3.68,2,     0.05,2,     0.01,2,     0.11,2,   1994.9,2,   2255.9,2,  16.1992,20070604,2313