BOTTLE,20220810CCHSIOAMB
EXPOCODE,SECT_ID,LINE,STNNBR,CASTNO,SAMPNO,BTLNBR,BTLNBR_FLAG_W,DATE,TIME,LATITUDE,LONGITUDE,DEPTH,CTDPRS,CTDTMP,CTDSAL,CTDSAL_FLAG_W,SALNTY,SALNTY_FLAG_W,CTDOXY,CTDOXY_FLAG_W,OXYGEN,OXYGEN_FLAG_W,SILCAT,SILCAT_FLAG_W,NITRAT,NITRAT_FLAG_W,NITRIT,NITRIT_FLAG_W,PHSPHT,PHSPHT_FLAG_W,TCARBN,TCARBN_FLAG_W,ALKALI,ALKALI_FLAG_W,THETA,BTL_DATE,BTL_TIME
,,,,,,,,,,,,METERS,DBAR,ITS-90,PSS-78,,PSS-78,,UMOL/KG,,UMOL/KG,,UMOL/KG,,UMOL/KG,,UMOL/KG,,UMOL/KG,,UMOL/KG,,UMOL/KG,,DEG C,,
  32WC20070511,NACPWC,       10,    76,  1, 760101,      1,2,20070603,0625, 32.7700,-120.6500, 3809,   3842.9,   1.6000,   34.6800,2,  34.6800,6,    129.1,2,    128.1,2,   173.11,6,    36.11,6,     0.00,6,     2.59,6,   2350.7,6,   2428.5,6,   1.2953,20070603,0625
  32WC20070511,NACPWC,       10,    76,  1, 760102,      2,2,20070603,0625, 32.7700,-120.6500, 3809,   2500.2,   1.9000,   34.6500,2,-999.0000,9,     98.9,2,     98.7,2,   167.10,2,    37.95,2,     0.00,2,     2.75,2,   2364.2,6,   -999.0,9,   1.7215,20070603,0659
  32WC20070511,NACPWC,       10,    76,  1, 760103,      3,2,20070603,0625, 32.7700,-120.6500, 3809,   1499.7,   2.9000,   34.5600,2,-999.0000,9,     45.6,2,     46.3,2,   146.94,2,    40.83,2,     0.00,2,     3.02,2,   2374.8,2,   2393.9,2,   2.7934,20070603,0721
  32WC20070511,NACPWC,       10,    76,  1, 760104,      4,2,20070603,0625, 32.7700,-120.6500, 3809,    799.5,   4.6000,   34.4300,2,-999.0000,9,     13.7,2,     14.7,2,   107.00,6,    41.47,6,     0.00,6,     3.10,6,   2351.4,2,   -999.0,9,   4.5371,20070603,0736
  32WC20070511,NACPWC,       10,    76,  1, 760105,      5,2,20070603,0625, 32.7700,-120.6500, 3809,    499.5,   5.9000,   34.2900,2,-999.0000,9,     16.1,2,     16.0,2,    80.76,2,    37.98,2,     0.00,2,     2.97,2,   2318.2,2,   2310.8,2,   5.8569,20070603,0743
  32WC20070511,NACPWC,       10,    76,  1, 760106,      6,2,20070603,0625, 32.7700,-120.6500, 3809,    350.0,   6.9000,   34.1900,2,-999.0000,9,     42.0,2,     40.8,2,    62.59,2,    34.59,2,     0.00,2,     2.65,2,   2279.9,2,   2288.9,2,   6.8676,20070603,0748
  32WC20070511,NACPWC,       10,    76,  1, 760107,      7,2,20070603,0625, 32.7700,-120.6500, 3809,    300.0,   7.2000,   34.1500,2,-999.0000,9,     55.9,2,     55.3,2,    56.13,2,    33.05,2,     0.01,2,     2.51,2,   2263.9,2,   2279.6,2,   7.1716,20070603,0750
  32WC20070511,NACPWC,       10,    76,  1, 760108,      8,2,20070603,0625, 32.7700,-120.6500, 3809,    250.4,   7.7000,   34.1200,2,-999.0000,9,     70.0,2,     70.3,2,    48.60,2,    31.06,2,     0.01,2,     2.35,2,   2245.4,2,   2269.9,2,   7.6755,20070603,0752
  32WC20070511,NACPWC,       10,    76,  1, 760109,      9,2,20070603,0625, 32.7700,-120.6500, 3809,    199.7,   8.5000,   34.0500,2,-999.0000,9,    101.6,2,    100.3,2,    38.29,2,    27.62,2,     0.01,2,     2.03,2,   2209.7,2,   2258.6,2,   8.4793,20070603,0755
  32WC20070511,NACPWC,       10,    76,  1, 760110,     10,2,20070603,0625, 32.7700,-120.6500, 3809,    175.0,   8.7000,   34.0100,2,-999.0000,9,    110.0,2,    108.8,2,    34.39,2,    26.42,2,     0.01,2,     1.93,2,   2198.5,2,   2257.4,2,   8.6817,20070603,0757
  32WC20070511,NACPWC,       10,    76,  1, 760111,     11,2,20070603,0625, 32.7700,-120.6500, 3809,    149.5,   9.1000,   33.9200,2,-999.0000,9,    122.5,2,    123.7,2,    29.50,2,    24.27,2,     0.01,2,     1.80,2,   2179.2,2,   2215.1,2,   9.0839,20070603,0758
  32WC20070511,NACPWC,       10,    76,  1, 760112,     12,2,20070603,0625, 32.7700,-120.6500, 3809,    129.7,   9.4000,   33.8200,2,-999.0000,9,    147.7,2,    142.7,2,    25.00,2,    22.08,2,     0.02,2,     1.63,2,   2157.1,2,   2236.7,2,   9.3858,20070603,0800
  32WC20070511,NACPWC,       10,    76,  1, 760113,     13,2,20070603,0625, 32.7700,-120.6500, 3809,    109.3,  10.3000,   33.6900,2,-999.0000,9,    158.6,2,    165.1,2,    19.38,2,    18.71,2,     0.02,2,     1.44,2,   2135.3,2,   2227.7,2,  10.2873,20070603,0802
  32WC20070511,NACPWC,       10,    76,  1, 760114,     14,2,20070603,0625, 32.7700,-120.6500, 3809,     90.2,  11.3000,   33.6000,2,-999.0000,9,    196.5,2,    199.2,2,    14.09,2,    14.51,2,     0.10,2,     1.17,2,   2100.5,2,   2226.2,2,  11.2889,20070603,0803
  32WC20070511,NACPWC,       10,    76,  1, 760115,     15,2,20070603,0625, 32.7700,-120.6500, 3809,     70.1,  11.7000,   33.5700,2,-999.0000,9,    217.7,2,    214.2,2,    12.09,2,    12.70,2,     0.16,2,     1.06,2,   2092.0,2,   2224.4,2,  11.6912,20070603,0805
  32WC20070511,NACPWC,       10,    76,  1, 760116,     16,2,20070603,0625, 32.7700,-120.6500, 3809,     59.7,  12.1000,   33.5300,2,-999.0000,9,    222.2,2,    225.1,2,     9.90,2,    10.25,2,     0.15,2,     0.90,2,   2076.2,2,   2224.6,2,  12.0923,20070603,0806
  32WC20070511,NACPWC,       10,    76,  1, 760117,     17,2,20070603,0625, 32.7700,-120.6500, 3809,     50.4,  12.5000,   33.4800,2,-999.0000,9,    226.0,2,    237.8,2,     7.65,2,     7.43,2,     0.36,2,     0.74,2,   2062.1,2,   2221.5,2,  12.4934,20070603,0807
  32WC20070511,NACPWC,       10,    76,  1, 760118,     18,2,20070603,0625, 32.7700,-120.6500, 3809,     40.0,  13.3000,   33.4800,2,-999.0000,9,    253.3,2,    248.6,2,     5.86,2,     5.08,2,     0.31,2,     0.60,2,   2047.4,2,   2225.8,2,  13.2945,20070603,0809
  32WC20070511,NACPWC,       10,    76,  1, 760119,     19,2,20070603,0625, 32.7700,-120.6500, 3809,     29.7,  13.2000,   33.2800,2,-999.0000,9,    253.9,2,    270.1,2,     4.73,2,     3.43,2,     0.21,2,     0.48,2,   2027.8,2,   2214.9,2,  13.1960,20070603,0810
  32WC20070511,NACPWC,       10,    76,  1, 760120,     20,2,20070603,0625, 32.7700,-120.6500, 3809,     25.3,  13.4000,   33.2500,2,-999.0000,9,    268.3,2,    276.1,2,     4.15,2,     3.19,2,     0.16,2,     0.45,2,   2021.6,2,   2217.4,2,  13.3965,20070603,0811
  32WC20070511,NACPWC,       10,    76,  1, 760121,     21,2,20070603,0625, 32.7700,-120.6500, 3809,     19.9,  13.5000,   33.2400,2,-999.0000,9,    268.9,2,    277.2,2,     3.80,2,     2.99,2,     0.14,2,     0.44,2,   2019.1,2,   2213.6,2,  13.4973,20070603,0812
  32WC20070511,NACPWC,       10,    76,  1, 760122,     22,2,20070603,0625, 32.7700,-120.6500, 3809,     14.8,  13.6000,   33.2400,2,-999.0000,9,    271.1,2,    276.3,2,     3.56,2,     2.40,2,     0.12,2,     0.40,2,   2014.8,2,   2233.6,2,  13.5979,20070603,0813
  32WC20070511,NACPWC,       10,    76,  1, 760123,     23,2,20070603,0625, 32.7700,-120.6500, 3809,      9.6,  13.9000,   33.2300,2,  33.2300,2,    271.8,2,    274.3,2,     3.16,2,     1.24,2,     0.07,2,     0.34,2,   2009.0,2,   2217.8,2,  13.8987,20070603,0814
  32WC20070511,NACPWC,       10,    76,  1, 760124,     24,2,20070603,0625, 32.7700,-120.6500, 3809,      4.8,  13.9000,   33.2300,2,-999.0000,9,    271.6,2,    274.8,2,     3.09,2,     1.22,2,     0.07,2,     0.34,2,   2011.2,2,   2216.6,2,  13.8993,20070603,0816
  32WC20070511,NACPWC,       10,    77,  1, 770101,      1,2,20070603,1256, 32.9400,-120.3100,  795,    779.8,   4.5000,   34.4300,2,  34.4300,6,     14.9,2,     15.3,2,   111.76,6,    40.77,6,     0.00,6,     3.11,6,   2352.4,6,   2347.3,6,   4.4394,20070603,1256
  32WC20070511,NACPWC,       10,    77,  1, 770102,      2,2,20070603,1256, 32.9400,-120.3100,  795,    699.8,   4.8000,   34.4000,2,-999.0000,9,     12.4,2,     12.6,2,   104.31,6,    40.88,6,     0.01,6,     3.10,6,   2347.8,6,   2341.4,2,   4.7444,20070603,1259
  32WC20070511,NACPWC,       10,    77,  1, 770103,      3,2,20070603,1256, 32.9400,-120.3100,  795,    601.1,   5.2000,   34.3600,2,-999.0000,9,     11.6,2,     12.1,2,    96.20,2,    39.80,2,     0.00,2,     3.08,2,   2338.8,2,   2325.4,2,   5.1509,20070603,1302
  32WC20070511,NACPWC,       10,    77,  1, 770104,      4,2,20070603,1256, 32.9400,-120.3100,  795,    499.9,   5.8000,   34.3100,2,-999.0000,9,     14.0,2,     14.5,2,    83.28,2,    38.20,2,     0.00,2,     3.00,2,   2319.8,2,   2312.6,2,   5.7572,20070603,1305
  32WC20070511,NACPWC,       10,    77,  1, 770105,      5,2,20070603,1256, 32.9400,-120.3100,  795,    400.1,   6.5000,   34.2500,2,-999.0000,9,     24.3,2,     24.7,2,    71.12,2,    36.10,2,     0.00,2,     2.84,2,   2300.6,2,   2302.1,2,   6.4640,20070603,1308
  32WC20070511,NACPWC,       10,    77,  1, 770106,      6,2,20070603,1256, 32.9400,-120.3100,  795,    350.0,   6.8000,   34.2300,2,-999.0000,9,     31.4,2,     31.3,2,    66.12,2,    35.23,2,     0.01,2,     2.76,2,   2290.2,2,   2293.1,2,   6.7678,20070603,1310
  32WC20070511,NACPWC,       10,    77,  1, 770107,      7,2,20070603,1256, 32.9400,-120.3100,  795,    299.9,   6.9000,   34.1300,2,-999.0000,9,     54.7,2,     53.0,2,    59.63,2,    34.08,2,     0.01,2,     2.58,2,   2267.4,2,   2282.2,2,   6.8723,20070603,1312
  32WC20070511,NACPWC,       10,    77,  1, 770108,      8,2,20070603,1256, 32.9400,-120.3100,  795,    249.9,   7.6000,   34.1500,2,-999.0000,9,     61.1,2,     58.4,2,    52.52,2,    32.31,2,     0.01,2,     2.47,2,   2257.4,2,   2278.1,2,   7.5757,20070603,1314
  32WC20070511,NACPWC,       10,    77,  1, 770109,      9,2,20070603,1256, 32.9400,-120.3100,  795,    200.8,   8.2000,   34.1500,2,-999.0000,9,     71.2,2,     68.8,2,    45.51,2,    30.20,2,     0.02,2,     2.32,2,   2240.5,2,   2261.6,2,   8.1796,20070603,1316
  32WC20070511,NACPWC,       10,    77,  1, 770110,     10,2,20070603,1256, 32.9400,-120.3100,  795,    174.1,   8.7000,   34.1300,2,-999.0000,9,     81.2,2,     77.5,2,    40.38,2,    28.46,2,     0.02,2,     2.21,2,   2229.4,2,   2264.9,2,   8.6817,20070603,1318
  32WC20070511,NACPWC,       10,    77,  1, 770111,     11,2,20070603,1256, 32.9400,-120.3100,  795,    150.2,   8.6000,   34.0300,2,-999.0000,9,    111.7,2,    111.8,2,    35.25,2,    26.32,2,     0.02,2,     1.94,2,   2201.2,2,   2226.4,4,   8.5844,20070603,1319
  32WC20070511,NACPWC,       10,    77,  1, 770112,     12,2,20070603,1256, 32.9400,-120.3100,  795,    130.4,   8.9000,   33.9800,2,-999.0000,9,    122.7,2,    122.0,2,    31.91,2,    24.97,2,     0.01,2,     1.86,2,   2185.6,2,   2251.6,2,   8.8862,20070603,1321
  32WC20070511,NACPWC,       10,    77,  1, 770113,     13,2,20070603,1256, 32.9400,-120.3100,  795,    110.4,   9.1000,   33.9400,2,-999.0000,9,    117.7,2,    116.3,2,    30.59,2,    24.94,2,     0.01,2,     1.88,2,   2188.9,2,   2246.1,2,   9.0882,20070603,1322
  32WC20070511,NACPWC,       10,    77,  1, 770114,     14,2,20070603,1256, 32.9400,-120.3100,  795,     90.1,  10.1000,   33.8600,2,-999.0000,9,    123.2,2,    125.4,2,    25.23,2,    22.48,2,     0.06,2,     1.76,2,   2173.3,2,   2237.7,2,  10.0897,20070603,1324
  32WC20070511,NACPWC,       10,    77,  1, 770115,     15,2,20070603,1256, 32.9400,-120.3100,  795,     70.0,  10.4000,   33.6200,2,-999.0000,9,    170.2,2,    173.9,2,    19.41,2,    18.55,2,     0.19,2,     1.47,2,   2136.9,2,   2231.8,2,  10.3919,20070603,1325
  32WC20070511,NACPWC,       10,    77,  1, 770116,     16,2,20070603,1256, 32.9400,-120.3100,  795,     60.1,  11.4000,   33.5800,2,-999.0000,9,    215.8,2,    225.5,2,    12.61,2,    13.82,2,     0.29,2,     1.21,2,   2104.7,2,   2228.8,2,  11.3926,20070603,1327
  32WC20070511,NACPWC,       10,    77,  1, 770117,     17,2,20070603,1256, 32.9400,-120.3100,  795,     50.0,  11.7000,   33.5000,2,-999.0000,9,    230.3,2,    233.2,2,    10.30,2,    11.68,2,     0.28,2,     1.04,2,   2087.2,2,   2229.6,2,  11.6937,20070603,1328
  32WC20070511,NACPWC,       10,    77,  1, 770118,     18,2,20070603,1256, 32.9400,-120.3100,  795,     39.7,  11.8000,   33.3600,2,-999.0000,9,    239.1,2,    235.4,6,     9.14,2,     9.56,2,     0.12,2,     0.89,2,   2070.9,2,   2221.7,2,  11.7950,20070603,1329
  32WC20070511,NACPWC,       10,    77,  1, 770119,     19,2,20070603,1256, 32.9400,-120.3100,  795,     29.1,  11.9000,   33.3500,2,-999.0000,9,    243.7,2,    244.3,2,     7.98,2,     8.30,2,     0.26,2,     0.81,2,   2063.1,2,   2217.3,2,  11.8963,20070603,1330
  32WC20070511,NACPWC,       10,    77,  1, 770120,     20,2,20070603,1256, 32.9400,-120.3100,  795,     24.4,  12.1000,   33.3000,2,-999.0000,9,    245.3,2,    246.2,2,     7.14,2,     7.18,2,     0.22,2,     0.74,2,   2056.3,2,   2216.0,2,  12.0969,20070603,1331
  32WC20070511,NACPWC,       10,    77,  1, 770121,     21,2,20070603,1256, 32.9400,-120.3100,  795,     19.7,  12.1000,   33.2800,2,-999.0000,9,    245.0,2,    248.1,2,     6.80,2,     6.70,2,     0.19,2,     0.71,2,   2051.9,2,   2219.4,2,  12.0975,20070603,1332
  32WC20070511,NACPWC,       10,    77,  1, 770122,     22,2,20070603,1256, 32.9400,-120.3100,  795,     15.3,  12.6000,   33.3100,2,-999.0000,9,    256.5,2,    260.6,2,     5.74,2,     5.77,2,     0.17,2,     0.64,2,   2043.1,2,   2221.1,2,  12.5980,20070603,1333
  32WC20070511,NACPWC,       10,    77,  1, 770123,     23,2,20070603,1256, 32.9400,-120.3100,  795,     10.0,  13.1000,   33.3700,2,  33.3200,2,    260.2,2,    272.7,2,     4.58,2,     4.79,2,     0.16,2,     0.54,2,   2032.8,2,   2222.2,2,  13.0986,20070603,1334
  32WC20070511,NACPWC,       10,    77,  1, 770124,     24,2,20070603,1256, 32.9400,-120.3100,  795,      4.6,  13.0000,   33.3200,2,-999.0000,9,    267.6,2,    270.9,2,     4.76,2,     4.50,2,     0.15,2,     0.55,2,   2032.8,2,   2220.4,2,  12.9994,20070603,1335
  32WC20070511,NACPWC,       10,    78,  1, 780101,      1,2,20070603,1804, 33.1000,-119.9700, 1098,   1088.1,   3.9000,   34.4900,2,  34.4800,2,     21.7,2,     22.2,2,   127.72,2,    41.28,2,     0.02,2,     3.15,2,   2366.8,6,   2372.1,6,   3.8178,20070603,1804
  32WC20070511,NACPWC,       10,    78,  1, 780102,      2,2,20070603,1804, 33.1000,-119.9700, 1098,    799.6,   4.6000,   34.4300,2,-999.0000,9,     13.9,2,     14.1,2,   107.64,2,    41.25,6,     0.00,6,     3.09,6,   2350.0,6,   2348.6,2,   4.5371,20070603,1814
  32WC20070511,NACPWC,       10,    78,  1, 780103,      3,2,20070603,1804, 33.1000,-119.9700, 1098,    600.0,   5.5000,   34.3500,2,-999.0000,9,     11.5,2,     11.5,2,    90.53,2,    39.67,2,     0.00,2,     3.08,2,   2332.8,2,   2324.9,2,   5.4496,20070603,1820
  32WC20070511,NACPWC,       10,    78,  1, 780104,      4,2,20070603,1804, 33.1000,-119.9700, 1098,    500.3,   5.9000,   34.3100,2,-999.0000,9,     14.7,2,     15.6,2,    82.63,2,    38.44,2,     0.00,2,     3.00,2,   2320.3,2,   2318.9,2,   5.8568,20070603,1824
  32WC20070511,NACPWC,       10,    78,  1, 780105,      5,2,20070603,1804, 33.1000,-119.9700, 1098,    399.7,   6.7000,   34.2500,2,-999.0000,9,     27.4,2,     27.7,2,    68.35,2,    35.95,2,     0.00,2,     2.81,2,   2297.5,2,   2300.4,2,   6.6634,20070603,1828
  32WC20070511,NACPWC,       10,    78,  1, 780106,      6,2,20070603,1804, 33.1000,-119.9700, 1098,    350.1,   7.1000,   34.2400,2,-999.0000,9,     36.0,2,     32.3,2,    62.62,2,    34.52,2,     0.00,2,     2.73,2,   2287.2,2,   2295.0,2,   7.0670,20070603,1831
  32WC20070511,NACPWC,       10,    78,  1, 780107,      7,2,20070603,1804, 33.1000,-119.9700, 1098,    300.0,   7.3000,   34.2100,2,-999.0000,9,     43.0,2,     43.1,2,    57.76,2,    33.40,2,     0.01,2,     2.64,2,   2276.0,2,   2286.0,2,   7.2714,20070603,1834
  32WC20070511,NACPWC,       10,    78,  1, 780108,      8,2,20070603,1804, 33.1000,-119.9700, 1098,    249.7,   7.9000,   34.2200,2,-999.0000,9,     46.9,2,     46.7,2,    51.82,2,    31.89,2,     0.01,2,     2.52,2,   2263.9,2,   2282.9,2,   7.8751,20070603,1837
  32WC20070511,NACPWC,       10,    78,  1, 780109,      9,2,20070603,1804, 33.1000,-119.9700, 1098,    199.9,   8.3000,   34.1900,2,-999.0000,9,     55.5,2,     56.5,2,    46.69,2,    30.50,2,     0.01,2,     2.43,2,   2249.7,2,   2285.2,2,   8.2796,20070603,1839
  32WC20070511,NACPWC,       10,    78,  1, 780110,     10,2,20070603,1804, 33.1000,-119.9700, 1098,    175.0,   8.6000,   34.1500,2,-999.0000,9,     69.5,2,     68.9,2,    42.28,2,    29.52,2,     0.01,2,     2.31,2,   2234.7,2,   2271.7,2,   8.5817,20070603,1841
  32WC20070511,NACPWC,       10,    78,  1, 780111,     11,2,20070603,1804, 33.1000,-119.9700, 1098,    149.5,   8.6000,   34.1200,2,-999.0000,9,     81.0,2,     80.8,2,    40.03,2,    28.60,2,     0.01,2,     2.20,2,   2225.8,2,   2266.6,2,   8.5844,20070603,1843
  32WC20070511,NACPWC,       10,    78,  1, 780112,     12,2,20070603,1804, 33.1000,-119.9700, 1098,    130.4,   8.7000,   34.0700,2,-999.0000,9,     94.4,2,     98.6,2,    37.37,2,    27.52,2,     0.01,2,     2.10,2,   2211.7,2,   2261.2,2,   8.6864,20070603,1845
  32WC20070511,NACPWC,       10,    78,  1, 780113,     13,2,20070603,1804, 33.1000,-119.9700, 1098,    110.7,   9.0000,   34.0000,2,-999.0000,9,    111.5,2,    109.9,2,    32.75,2,    25.85,2,     0.01,2,     1.95,2,   2193.0,2,   2255.0,2,   8.9882,20070603,1846
  32WC20070511,NACPWC,       10,    78,  1, 780114,     14,2,20070603,1804, 33.1000,-119.9700, 1098,     90.6,   9.3000,   33.9600,2,-999.0000,9,    113.2,2,    113.4,2,    30.55,2,    25.17,2,     0.01,2,     1.92,2,   2187.6,2,   2253.0,2,   9.2902,20070603,1848
  32WC20070511,NACPWC,       10,    78,  1, 780115,     15,2,20070603,1804, 33.1000,-119.9700, 1098,     70.4,   9.8000,   33.8600,2,-999.0000,9,    132.0,2,    130.5,2,    26.03,2,    22.78,2,     0.09,2,     1.77,2,   2169.9,2,   2243.9,2,   9.7921,20070603,1850
  32WC20070511,NACPWC,       10,    78,  1, 780116,     16,2,20070603,1804, 33.1000,-119.9700, 1098,     59.8,  10.6000,   33.8200,2,-999.0000,9,    172.2,2,    158.9,2,    22.14,2,    19.77,2,     0.38,2,     1.61,2,   2152.8,2,   2244.1,2,  10.5929,20070603,1851
  32WC20070511,NACPWC,       10,    78,  1, 780117,     17,2,20070603,1804, 33.1000,-119.9700, 1098,     50.4,  11.2000,   33.8000,2,-999.0000,9,    190.3,2,    190.9,2,    17.86,2,    16.24,2,     0.32,2,     1.39,2,   2132.9,2,   2245.9,2,  11.1938,20070603,1852
  32WC20070511,NACPWC,       10,    78,  1, 780118,     18,2,20070603,1804, 33.1000,-119.9700, 1098,     40.0,  11.8000,   33.7300,2,-999.0000,9,    229.6,2,    225.3,2,    12.25,2,    12.94,2,     0.24,2,     1.16,2,   2105.2,2,   2243.5,2,  11.7949,20070603,1853
  32WC20070511,NACPWC,       10,    78,  1, 780119,     19,2,20070603,1804, 33.1000,-119.9700, 1098,     29.8,  12.6000,   33.6800,2,-999.0000,9,    256.4,2,    256.6,2,     7.47,2,     9.26,2,     0.21,2,     0.89,2,   2075.5,2,   2240.9,2,  12.5961,20070603,1855
  32WC20070511,NACPWC,       10,    78,  1, 780120,     20,2,20070603,1804, 33.1000,-119.9700, 1098,     24.7,  13.1000,   33.7200,2,-999.0000,9,    260.8,2,    260.6,2,     8.21,2,     8.85,2,     0.20,2,     0.85,2,   2071.4,2,   2244.1,2,  13.0966,20070603,1856
  32WC20070511,NACPWC,       10,    78,  1, 780121,     21,2,20070603,1804, 33.1000,-119.9700, 1098,     20.0,  13.3000,   33.7300,2,-999.0000,9,    262.2,2,    262.1,2,     8.75,2,     8.54,2,     0.20,2,     0.81,2,   2070.5,2,   2242.7,2,  13.2973,20070603,1857
  32WC20070511,NACPWC,       10,    78,  1, 780122,     22,2,20070603,1804, 33.1000,-119.9700, 1098,     14.9,  13.3000,   33.7300,2,-999.0000,9,    262.1,2,    262.6,2,     8.73,6,     8.52,6,     0.20,6,     0.77,6,   2068.7,2,   2244.3,2,  13.2980,20070603,1858
  32WC20070511,NACPWC,       10,    78,  1, 780123,     23,2,20070603,1804, 33.1000,-119.9700, 1098,      9.5,  13.3000,   33.7300,2,  33.7300,2,    262.2,2,    262.3,2,     8.75,6,     8.47,2,     0.20,2,     0.76,6,   2068.9,2,   2242.2,2,  13.2987,20070603,1859
  32WC20070511,NACPWC,       10,    78,  1, 780124,     24,2,20070603,1804, 33.1000,-119.9700, 1098,      5.5,  13.3000,   33.7300,2,-999.0000,9,    262.2,2,    262.3,2,     8.77,6,     8.48,2,     0.20,2,     0.76,6,   2071.2,2,   2245.0,2,  13.2992,20070603,1900