BOTTLE,20220810CCHSIOAMB
EXPOCODE,SECT_ID,LINE,STNNBR,CASTNO,SAMPNO,BTLNBR,BTLNBR_FLAG_W,DATE,TIME,LATITUDE,LONGITUDE,DEPTH,CTDPRS,CTDTMP,CTDSAL,CTDSAL_FLAG_W,SALNTY,SALNTY_FLAG_W,CTDOXY,CTDOXY_FLAG_W,OXYGEN,OXYGEN_FLAG_W,SILCAT,SILCAT_FLAG_W,NITRAT,NITRAT_FLAG_W,NITRIT,NITRIT_FLAG_W,PHSPHT,PHSPHT_FLAG_W,TCARBN,TCARBN_FLAG_W,ALKALI,ALKALI_FLAG_W,THETA,BTL_DATE,BTL_TIME
,,,,,,,,,,,,METERS,DBAR,ITS-90,PSS-78,,PSS-78,,UMOL/KG,,UMOL/KG,,UMOL/KG,,UMOL/KG,,UMOL/KG,,UMOL/KG,,UMOL/KG,,UMOL/KG,,DEG C,,
  32WC20070511,NACPWC,        7,    53,  1, 530101,      1,2,20070529,0539, 38.2000,-123.8400, 3197,   3211.1,   1.6000,   34.6700,2,  34.6700,2,    113.9,2,    114.0,2,   174.53,6,    37.62,6,     0.00,6,     2.71,6,   2358.8,6,   2428.1,6,   1.3605,20070529,0539
  32WC20070511,NACPWC,        7,    53,  1, 530102,      2,2,20070529,0539, 38.2000,-123.8400, 3197,   2501.4,   1.8000,   34.6400,2,-999.0000,9,     92.0,2,     93.1,2,   172.46,2,    39.58,2,     0.00,2,     2.80,2,   2366.0,6,   2419.5,2,   1.6233,20070529,0603
  32WC20070511,NACPWC,        7,    53,  1, 530103,      3,2,20070529,0539, 38.2000,-123.8400, 3197,   1500.2,   2.8000,   34.5500,2,-999.0000,9,     40.2,2,     40.9,2,   151.05,2,    42.62,2,     0.00,2,     3.07,2,   2377.5,2,   2395.6,2,   2.6945,20070529,0629
  32WC20070511,NACPWC,        7,    53,  1, 530104,      4,2,20070529,0539, 38.2000,-123.8400, 3197,    800.4,   4.5000,   34.3900,2,-999.0000,9,     11.4,2,     11.2,2,   110.57,2,    42.91,2,     0.00,2,     3.17,2,   2348.0,2,   2346.8,2,   4.4377,20070529,0647
  32WC20070511,NACPWC,        7,    53,  1, 530105,      5,2,20070529,0539, 38.2000,-123.8400, 3197,    500.1,   5.8000,   34.2200,2,-999.0000,9,     22.0,2,     21.9,2,    80.18,2,    39.77,2,     0.01,2,     2.95,2,   2307.3,2,   2304.8,2,   5.7573,20070529,0656
  32WC20070511,NACPWC,        7,    53,  1, 530106,      6,2,20070529,0539, 38.2000,-123.8400, 3197,    401.2,   6.6000,   34.1800,2,-999.0000,9,     35.9,2,     35.5,6,    68.14,6,    36.69,6,     0.02,6,     2.80,6,   2281.1,2,   2296.4,2,   6.5636,20070529,0659
  32WC20070511,NACPWC,        7,    53,  1, 530107,      7,2,20070529,0539, 38.2000,-123.8400, 3197,    299.3,   7.3000,   34.0900,2,-999.0000,9,     65.1,2,     65.6,2,    53.48,2,    33.35,2,     0.14,2,     2.48,2,   2247.1,2,   2297.6,2,   7.2715,20070529,0703
  32WC20070511,NACPWC,        7,    53,  1, 530108,      8,2,20070529,0539, 38.2000,-123.8400, 3197,    248.8,   7.8000,   34.0200,2,-999.0000,9,     92.9,2,     92.7,2,    44.12,2,    30.63,2,     0.12,2,     2.23,2,   2218.8,2,   2263.1,2,   7.7755,20070529,0705
  32WC20070511,NACPWC,        7,    53,  1, 530109,      9,2,20070529,0539, 38.2000,-123.8400, 3197,    200.9,   8.6000,   33.8900,2,-999.0000,9,    177.8,2,    174.7,2,    33.93,2,    24.82,2,     0.19,2,     1.91,2,   2179.2,2,   2252.7,2,   8.5791,20070529,0708
  32WC20070511,NACPWC,        7,    53,  1, 530110,     10,2,20070529,0539, 38.2000,-123.8400, 3197,    174.9,   8.8000,   33.8500,2,-999.0000,9,    192.3,2,    197.9,2,    31.67,2,    23.43,2,     0.20,2,     1.82,2,   2168.6,2,   2256.7,2,   8.7816,20070529,0709
  32WC20070511,NACPWC,        7,    53,  1, 530111,     11,2,20070529,0539, 38.2000,-123.8400, 3197,    150.3,   8.9000,   33.7900,2,-999.0000,9,    198.0,2,    193.0,2,    30.40,6,    22.92,6,     0.21,6,     1.78,6,   2164.2,2,   2249.5,2,   8.8841,20070529,0711
  32WC20070511,NACPWC,        7,    53,  1, 530112,     12,2,20070529,0539, 38.2000,-123.8400, 3197,    129.3,   9.1000,   33.7600,2,-999.0000,9,    207.3,2,    202.1,2,    29.42,2,    22.32,2,     0.22,2,     1.75,2,   2159.3,2,   2250.8,2,   9.0861,20070529,0713
  32WC20070511,NACPWC,        7,    53,  1, 530113,     13,2,20070529,0539, 38.2000,-123.8400, 3197,    109.0,   9.2000,   33.7400,2,-999.0000,9,    214.3,2,    214.4,2,    28.46,2,    21.70,2,     0.24,2,     1.69,2,   2152.3,2,   2249.0,2,   9.1883,20070529,0715
  32WC20070511,NACPWC,        7,    53,  1, 530114,     14,2,20070529,0539, 38.2000,-123.8400, 3197,     91.4,   9.3000,   33.6900,2,-999.0000,9,    208.4,2,    210.1,2,    27.91,2,    21.65,2,     0.26,2,     1.68,2,   2147.4,2,   2243.1,2,   9.2901,20070529,0716
  32WC20070511,NACPWC,        7,    53,  1, 530115,     15,2,20070529,0539, 38.2000,-123.8400, 3197,     69.9,   9.6000,   33.5700,2,-999.0000,9,    216.3,2,    217.4,2,    26.13,2,    20.38,2,     0.27,2,     1.60,2,   2133.9,2,   2235.6,2,   9.5923,20070529,0718
  32WC20070511,NACPWC,        7,    53,  1, 530116,     16,2,20070529,0539, 38.2000,-123.8400, 3197,     60.4,   9.7000,   33.5000,2,-999.0000,9,    220.0,2,    239.6,2,    24.24,2,    19.85,2,     0.29,2,     1.56,2,   2127.4,2,   2240.9,2,   9.6933,20070529,0720
  32WC20070511,NACPWC,        7,    53,  1, 530117,     17,2,20070529,0539, 38.2000,-123.8400, 3197,     49.5,  10.2000,   33.3800,2,-999.0000,9,    236.1,2,    243.9,2,    22.86,2,    17.16,2,     0.26,2,     1.40,2,   2106.0,2,   2226.8,2,  10.1943,20070529,0721
  32WC20070511,NACPWC,        7,    53,  1, 530118,     18,2,20070529,0539, 38.2000,-123.8400, 3197,     39.8,  10.3000,   33.2500,2,-999.0000,9,    250.3,2,    250.0,2,    20.83,2,    15.96,2,     0.26,2,     1.31,2,   2093.8,2,   2222.1,2,  10.2954,20070529,0722
  32WC20070511,NACPWC,        7,    53,  1, 530119,     19,2,20070529,0539, 38.2000,-123.8400, 3197,     30.4,  10.4000,   33.2200,2,-999.0000,9,    253.0,2,    254.1,2,    20.32,6,    15.08,6,     0.27,6,     1.26,6,   2088.8,2,   2218.4,2,  10.3965,20070529,0724
  32WC20070511,NACPWC,        7,    53,  1, 530120,     20,2,20070529,0539, 38.2000,-123.8400, 3197,     24.4,  10.4000,   33.2200,2,-999.0000,9,    254.4,2,    256.0,2,    19.96,2,    14.70,2,     0.26,2,     1.25,2,   2088.1,2,   2218.0,2,  10.3972,20070529,0725
  32WC20070511,NACPWC,        7,    53,  1, 530121,     21,2,20070529,0539, 38.2000,-123.8400, 3197,     20.3,  10.5000,   33.2300,2,-999.0000,9,    256.0,2,    255.9,2,    19.88,2,    14.59,2,     0.24,2,     1.24,2,   2089.8,2,   2216.4,2,  10.4976,20070529,0726
  32WC20070511,NACPWC,        7,    53,  1, 530122,     22,2,20070529,0539, 38.2000,-123.8400, 3197,     14.8,  10.5000,   33.2200,2,-999.0000,9,    256.0,2,    255.8,2,    19.64,2,    14.54,2,     0.23,2,     1.23,2,   2087.5,2,   2217.9,2,  10.4983,20070529,0727
  32WC20070511,NACPWC,        7,    53,  1, 530123,     23,2,20070529,0539, 38.2000,-123.8400, 3197,      9.5,  10.5000,   33.2200,2,  33.2200,2,    256.0,2,    255.5,2,    19.53,2,    14.68,2,     0.23,2,     1.22,2,   2088.9,2,   2220.9,2,  10.4989,20070529,0728
  32WC20070511,NACPWC,        7,    53,  1, 530124,     24,2,20070529,0539, 38.2000,-123.8400, 3197,      5.3,  10.5000,   33.2200,2,-999.0000,9,    256.0,2,    255.9,2,    19.56,2,    15.18,2,     0.22,2,     1.23,2,   2087.5,2,   2214.4,2,  10.4994,20070529,0730
  32WC20070511,NACPWC,        7,    54,  1, 540101,      1,2,20070529,0130, 38.2700,-123.6900, 1549,   1544.7,   2.7000,   34.5500,2,  34.5500,2,     43.2,2,     43.9,2,   154.19,6,    42.51,6,     0.00,6,     3.05,6,   2379.1,6,   2397.1,6,   2.5920,20070529,0130
  32WC20070511,NACPWC,        7,    54,  1, 540102,      2,2,20070529,0130, 38.2700,-123.6900, 1549,    800.4,   4.5000,   34.3900,2,-999.0000,9,     11.5,2,     11.4,2,   110.67,2,    43.68,2,     0.00,2,     3.16,2,   2350.9,6,   2347.4,2,   4.4377,20070529,0146
  32WC20070511,NACPWC,        7,    54,  1, 540103,      3,2,20070529,0130, 38.2700,-123.6900, 1549,    600.2,   5.3000,   34.2800,2,-999.0000,9,     15.5,2,     14.9,2,    92.86,2,    41.21,2,     0.01,2,     3.08,2,   2326.4,2,   2319.4,2,   5.2506,20070529,0151
  32WC20070511,NACPWC,        7,    54,  1, 540104,      4,2,20070529,0130, 38.2700,-123.6900, 1549,    500.6,   5.8000,   34.2300,2,-999.0000,9,     22.1,2,     22.8,2,    82.03,6,    39.43,6,     0.01,6,     2.96,6,   2311.4,2,   2306.9,2,   5.7572,20070529,0154
  32WC20070511,NACPWC,        7,    54,  1, 540105,      5,2,20070529,0130, 38.2700,-123.6900, 1549,    399.4,   6.5000,   34.1700,2,-999.0000,9,     36.5,2,     35.8,2,    69.32,2,    37.51,2,     0.03,2,     2.80,2,   2287.3,2,   2290.9,2,   6.4641,20070529,0157
  32WC20070511,NACPWC,        7,    54,  1, 540106,      6,2,20070529,0130, 38.2700,-123.6900, 1549,    350.8,   6.7000,   34.1400,2,-999.0000,9,     45.1,2,     44.7,2,    65.25,2,    36.31,2,     0.03,2,     2.72,2,   2277.7,2,   2285.8,2,   6.6680,20070529,0159
  32WC20070511,NACPWC,        7,    54,  1, 540107,      7,2,20070529,0130, 38.2700,-123.6900, 1549,    300.7,   7.1000,   34.1200,2,-999.0000,9,     54.7,2,     54.4,2,    59.31,2,    34.81,2,     0.02,2,     2.61,2,   2265.1,2,   2281.4,2,   7.0718,20070529,0200
  32WC20070511,NACPWC,        7,    54,  1, 540108,      8,2,20070529,0130, 38.2700,-123.6900, 1549,    249.4,   7.6000,   34.0900,2,-999.0000,9,     70.0,2,     69.1,2,    50.46,2,    32.35,2,     0.05,2,     2.42,2,   2246.9,2,   2269.6,2,   7.5758,20070529,0202
  32WC20070511,NACPWC,        7,    54,  1, 540109,      9,2,20070529,0130, 38.2700,-123.6900, 1549,    200.9,   7.9000,   34.0000,2,-999.0000,9,    106.2,2,    101.5,2,    42.36,2,    29.67,2,     0.03,2,     2.17,2,   2215.3,2,   2259.9,2,   7.8801,20070529,0204
  32WC20070511,NACPWC,        7,    54,  1, 540110,     10,2,20070529,0130, 38.2700,-123.6900, 1549,    175.0,   8.3000,   33.9100,2,-999.0000,9,    119.1,2,    119.7,6,    37.62,2,    28.62,2,     0.07,2,     2.06,2,   2198.9,2,   2253.7,2,   8.2822,20070529,0205
  32WC20070511,NACPWC,        7,    54,  1, 540111,     11,2,20070529,0130, 38.2700,-123.6900, 1549,    150.1,   8.6000,   33.8300,2,-999.0000,9,    146.5,2,    151.3,2,    33.88,2,    26.76,2,     0.17,2,     1.95,2,   2181.8,2,   2247.2,2,   8.5844,20070529,0206
  32WC20070511,NACPWC,        7,    54,  1, 540112,     12,2,20070529,0130, 38.2700,-123.6900, 1549,    130.0,   8.9000,   33.7600,2,-999.0000,9,    172.1,2,    177.8,2,    31.38,2,    24.67,2,     0.26,2,     1.85,2,   2168.6,2,   2243.0,2,   8.8863,20070529,0208
  32WC20070511,NACPWC,        7,    54,  1, 540113,     13,2,20070529,0130, 38.2700,-123.6900, 1549,    111.1,   9.2000,   33.7000,2,-999.0000,9,    204.7,2,    211.6,2,    28.91,2,    22.20,2,     0.26,2,     1.72,2,   2155.4,2,   2241.3,2,   9.1880,20070529,0209
  32WC20070511,NACPWC,        7,    54,  1, 540114,     14,2,20070529,0130, 38.2700,-123.6900, 1549,     89.6,   9.5000,   33.6100,2,-999.0000,9,    210.6,2,    222.0,2,    27.44,2,    21.34,2,     0.28,2,     1.67,2,   2144.7,2,   2236.6,2,   9.4902,20070529,0210
  32WC20070511,NACPWC,        7,    54,  1, 540115,     15,2,20070529,0130, 38.2700,-123.6900, 1549,     70.5,   9.6000,   33.5600,2,-999.0000,9,    218.3,2,    228.4,2,    25.94,6,    20.48,6,     0.43,6,     1.63,6,   2139.5,2,   2234.0,2,   9.5922,20070529,0211
  32WC20070511,NACPWC,        7,    54,  1, 540116,     16,2,20070529,0130, 38.2700,-123.6900, 1549,     59.5,   9.6000,   33.5500,2,-999.0000,9,    219.6,2,    227.7,2,    25.72,2,    20.59,2,     0.44,2,     1.63,2,   2139.0,2,   2231.4,2,   9.5934,20070529,0212
  32WC20070511,NACPWC,        7,    54,  1, 540117,     17,2,20070529,0130, 38.2700,-123.6900, 1549,     50.2,   9.8000,   33.4600,2,-999.0000,9,    228.9,2,    234.7,2,    24.40,2,    19.04,2,     0.42,2,     1.55,2,   2126.2,2,   2227.8,2,   9.7944,20070529,0212
  32WC20070511,NACPWC,        7,    54,  1, 540118,     18,2,20070529,0130, 38.2700,-123.6900, 1549,     39.5,  10.1000,   33.3800,2,-999.0000,9,    237.0,2,    245.0,2,    22.82,2,    17.24,2,     0.34,2,     1.44,2,   2114.1,2,   2225.0,2,  10.0955,20070529,0213
  32WC20070511,NACPWC,        7,    54,  1, 540119,     19,2,20070529,0130, 38.2700,-123.6900, 1549,     28.9,  10.2000,   33.3100,2,-999.0000,9,    242.8,2,    248.6,2,    21.50,2,    16.23,2,     0.31,2,     1.37,2,   2101.9,2,   2220.3,2,  10.1967,20070529,0214
  32WC20070511,NACPWC,        7,    54,  1, 540120,     20,2,20070529,0130, 38.2700,-123.6900, 1549,     24.9,  10.2000,   33.2900,2,-999.0000,9,    245.0,2,    250.3,6,    20.96,2,    15.73,2,     0.31,2,     1.34,2,   2099.3,2,   2225.4,2,  10.1972,20070529,0215
  32WC20070511,NACPWC,        7,    54,  1, 540121,     21,2,20070529,0130, 38.2700,-123.6900, 1549,     20.6,  10.3000,   33.2500,2,-999.0000,9,    249.6,2,    254.2,2,    20.00,6,    14.37,6,     0.28,6,     1.27,6,   2093.6,2,   2217.6,2,  10.2976,20070529,0215
  32WC20070511,NACPWC,        7,    54,  1, 540122,     22,2,20070529,0130, 38.2700,-123.6900, 1549,     14.0,  10.4000,   33.2200,2,-999.0000,9,    249.9,2,    257.2,2,    19.44,2,    14.64,2,     0.25,2,     1.24,2,   2088.3,2,   2215.7,2,  10.3984,20070529,0216
  32WC20070511,NACPWC,        7,    54,  1, 540123,     23,2,20070529,0130, 38.2700,-123.6900, 1549,      9.9,  10.4000,   33.2100,2,  33.2100,2,    250.1,2,    258.1,2,    19.15,2,    14.25,2,     0.24,2,     1.22,2,   2085.0,2,   2215.1,2,  10.3989,20070529,0217
  32WC20070511,NACPWC,        7,    54,  1, 540124,     24,2,20070529,0130, 38.2700,-123.6900, 1549,      5.2,  10.6000,   33.1700,2,-999.0000,9,    250.3,2,    262.3,2,    18.34,2,    13.47,2,     0.21,2,     1.17,2,   2079.9,2,   2214.5,2,  10.5994,20070529,0217
  32WC20070511,NACPWC,        7,    55,  1, 550101,      1,2,20070528,2147, 38.3300,-123.5400,  271,    260.4,   7.0000,   34.1400,2,  34.1400,2,     47.5,2,     47.0,2,    60.90,6,    35.63,6,     0.14,6,     2.66,6,   2275.3,6,   2282.5,6,   6.9758,20070528,2147
  32WC20070511,NACPWC,        7,    55,  1, 550102,      2,2,20070528,2147, 38.3300,-123.5400,  271,    250.8,   7.1000,   34.1400,2,-999.0000,9,     48.7,2,     48.9,2,    59.90,2,    35.51,2,     0.11,2,     2.64,2,   2272.3,6,   2283.0,2,   7.0766,20070528,2148
  32WC20070511,NACPWC,        7,    55,  1, 550103,      3,4,20070528,2147, 38.3300,-123.5400,  271,    225.3,   7.3000,   34.1100,2,-999.0000,9,     59.0,2,     60.1,2,    55.38,2,    33.57,2,     0.17,2,     2.54,2,   2258.3,2,   2277.2,2,   7.2786,20070528,2150
  32WC20070511,NACPWC,        7,    55,  1, 550104,      4,2,20070528,2147, 38.3300,-123.5400,  271,    201.0,   7.4000,   34.1000,2,-999.0000,9,     64.1,2,     64.7,2,    53.03,2,    33.10,2,     0.16,2,     2.49,2,   2254.4,2,   2275.8,2,   7.3808,20070528,2152
  32WC20070511,NACPWC,        7,    55,  1, 550105,      5,2,20070528,2147, 38.3300,-123.5400,  271,    174.3,   7.7000,   34.0700,2,-999.0000,9,     79.1,2,     77.5,2,    47.36,2,    31.58,2,     0.09,2,     2.35,2,   2239.3,2,   2268.4,2,   7.6830,20070528,2154
  32WC20070511,NACPWC,        7,    55,  1, 550106,      6,2,20070528,2147, 38.3300,-123.5400,  271,    150.3,   7.8000,   34.0400,2,-999.0000,9,     86.1,2,     87.5,2,    44.89,2,    31.16,2,     0.07,2,     2.27,2,   2231.0,2,   2262.1,2,   7.7853,20070528,2155
  32WC20070511,NACPWC,        7,    55,  1, 550107,      7,2,20070528,2147, 38.3300,-123.5400,  271,    131.3,   8.0000,   33.9600,2,-999.0000,9,    112.1,2,    112.4,2,    38.76,6,    28.24,6,     0.02,6,     2.07,6,   2209.1,2,   2253.1,2,   7.9870,20070528,2156
  32WC20070511,NACPWC,        7,    55,  1, 550108,      8,2,20070528,2147, 38.3300,-123.5400,  271,    109.5,   8.2000,   33.8800,2,-999.0000,9,    125.5,2,    125.2,2,    35.77,2,    27.35,2,     0.01,2,     1.99,2,   2195.8,2,   2245.8,2,   8.1890,20070528,2158
  32WC20070511,NACPWC,        7,    55,  1, 550109,      9,2,20070528,2147, 38.3300,-123.5400,  271,     98.8,   8.2000,   33.8700,2,-999.0000,9,    125.7,2,    125.5,2,    35.71,2,    27.47,2,     0.01,2,     2.00,2,   2195.8,2,   2254.0,4,   8.1901,20070528,2159
  32WC20070511,NACPWC,        7,    55,  1, 550110,     10,2,20070528,2147, 38.3300,-123.5400,  271,     90.3,   8.3000,   33.8400,2,-999.0000,9,    131.7,2,    130.3,6,    35.06,2,    27.24,2,     0.01,2,     1.98,2,   2192.0,2,   2243.7,2,   8.2909,20070528,2200
  32WC20070511,NACPWC,        7,    55,  1, 550111,     11,2,20070528,2147, 38.3300,-123.5400,  271,     80.5,   8.4000,   33.7900,2,-999.0000,9,    137.2,2,    136.4,2,    33.74,2,    26.94,2,     0.02,2,     1.94,2,   2186.3,2,   2243.4,2,   8.3918,20070528,2201
  32WC20070511,NACPWC,        7,    55,  1, 550112,     12,2,20070528,2147, 38.3300,-123.5400,  271,     69.6,   8.6000,   33.7400,2,-999.0000,9,    146.1,2,    145.0,2,    32.69,2,    26.35,2,     0.01,2,     1.91,2,   2179.9,2,   2235.3,3,   8.5928,20070528,2201
  32WC20070511,NACPWC,        7,    55,  1, 550113,     13,2,20070528,2147, 38.3300,-123.5400,  271,     59.6,   8.7000,   33.7100,2,-999.0000,9,    149.6,2,    149.9,2,    31.71,2,    25.26,2,     0.03,2,     1.88,2,   2175.7,2,   2245.1,2,   8.6938,20070528,2202
  32WC20070511,NACPWC,        7,    55,  1, 550114,     14,2,20070528,2147, 38.3300,-123.5400,  271,     49.8,   9.0000,   33.7100,2,-999.0000,9,    175.9,2,    168.7,2,    30.33,2,    24.09,2,     0.11,2,     1.83,2,   2168.9,2,   2240.3,2,   8.9947,20070528,2204
  32WC20070511,NACPWC,        7,    55,  1, 550115,     15,2,20070528,2147, 38.3300,-123.5400,  271,     39.8,   9.2000,   33.7300,2,-999.0000,9,    205.5,2,    205.1,2,    29.51,2,    22.44,2,     0.25,2,     1.74,2,   2159.9,2,   2243.2,2,   9.1957,20070528,2205
  32WC20070511,NACPWC,        7,    55,  1, 550116,     16,2,20070528,2147, 38.3300,-123.5400,  271,     30.3,   9.2000,   33.7100,2,-999.0000,9,    206.6,2,    206.6,2,    29.07,2,    22.55,2,     0.25,2,     1.72,2,   2157.4,2,   2237.4,2,   9.1968,20070528,2205
  32WC20070511,NACPWC,        7,    55,  1, 550117,     17,2,20070528,2147, 38.3300,-123.5400,  271,     24.6,   9.3000,   33.6400,2,-999.0000,9,    213.2,2,    211.0,2,    28.20,6,    21.29,6,     0.15,6,     1.68,2,   2146.7,2,   2238.6,2,   9.2973,20070528,2206
  32WC20070511,NACPWC,        7,    55,  1, 550118,     18,2,20070528,2147, 38.3300,-123.5400,  271,     19.7,   9.4000,   33.6200,2,-999.0000,9,    214.8,2,    213.7,2,    28.02,2,    21.56,2,     0.15,2,     1.65,2,   2145.2,2,   2238.5,2,   9.3979,20070528,2207
  32WC20070511,NACPWC,        7,    55,  1, 550119,     19,2,20070528,2147, 38.3300,-123.5400,  271,     19.7,   9.4000,   33.6200,2,-999.0000,9,    215.4,2,    214.9,2,    27.99,2,    21.53,2,     0.15,2,     1.66,2,   -999.0,9,   -999.0,9,   9.3979,20070528,2207
  32WC20070511,NACPWC,        7,    55,  1, 550120,     20,2,20070528,2147, 38.3300,-123.5400,  271,     14.5,   9.5000,   33.5900,2,-999.0000,9,    217.4,2,    218.4,6,    27.64,2,    21.45,2,     0.15,2,     1.63,2,   2142.4,2,   2235.6,2,   9.4984,20070528,2208
  32WC20070511,NACPWC,        7,    55,  1, 550121,     21,2,20070528,2147, 38.3300,-123.5400,  271,     14.6,   9.5000,   33.5900,2,-999.0000,9,    217.6,2,    218.8,2,    27.39,2,    21.58,2,     0.15,2,     1.64,2,   -999.0,9,   -999.0,9,   9.4984,20070528,2208
  32WC20070511,NACPWC,        7,    55,  1, 550122,     22,2,20070528,2147, 38.3300,-123.5400,  271,      9.8,   9.7000,   33.5300,2,-999.0000,9,    222.6,2,    221.6,2,    26.48,6,    21.02,6,     0.16,6,     1.60,6,   2137.4,2,   2229.3,2,   9.6989,20070528,2209
  32WC20070511,NACPWC,        7,    55,  1, 550123,     23,2,20070528,2147, 38.3300,-123.5400,  271,      9.8,   9.7000,   33.5500,2,  33.5300,2,    221.7,2,    220.8,2,    26.31,2,    20.59,2,     0.16,2,     1.61,2,   -999.0,9,   -999.0,9,   9.6989,20070528,2209
  32WC20070511,NACPWC,        7,    55,  1, 550124,     24,2,20070528,2147, 38.3300,-123.5400,  271,      4.8,  10.0000,   33.4800,2,-999.0000,9,    222.8,2,    221.7,2,    25.98,6,    20.46,6,     0.15,6,     1.58,6,   2136.1,2,   2226.7,2,   9.9995,20070528,2210