BOTTLE,20220810CCHSIOAMB
EXPOCODE,SECT_ID,LINE,STNNBR,CASTNO,SAMPNO,BTLNBR,BTLNBR_FLAG_W,DATE,TIME,LATITUDE,LONGITUDE,DEPTH,CTDPRS,CTDTMP,CTDSAL,CTDSAL_FLAG_W,SALNTY,SALNTY_FLAG_W,CTDOXY,CTDOXY_FLAG_W,OXYGEN,OXYGEN_FLAG_W,SILCAT,SILCAT_FLAG_W,NITRAT,NITRAT_FLAG_W,NITRIT,NITRIT_FLAG_W,PHSPHT,PHSPHT_FLAG_W,TCARBN,TCARBN_FLAG_W,ALKALI,ALKALI_FLAG_W,THETA,BTL_DATE,BTL_TIME
,,,,,,,,,,,,METERS,DBAR,ITS-90,PSS-78,,PSS-78,,UMOL/KG,,UMOL/KG,,UMOL/KG,,UMOL/KG,,UMOL/KG,,UMOL/KG,,UMOL/KG,,UMOL/KG,,DEG C,,
  32WC20070511,NACPWC,        8,    60,  1, 600101,      1,2,20070530,0919, 36.4000,-122.7400, 3063,   3059.2,   1.7000,   34.6700,2,  34.6700,6,    113.4,2,    112.9,2,   172.27,6,    37.91,6,     0.00,6,     2.67,6,   2363.9,6,   2425.8,6,   1.4731,20070530,0919
  32WC20070511,NACPWC,        8,    60,  1, 600102,      2,2,20070530,0919, 36.4000,-122.7400, 3063,   2500.0,   1.8000,   34.6500,2,-999.0000,9,     97.1,2,     97.4,2,   169.84,2,    38.87,2,     0.00,2,     2.75,2,   2372.0,6,   2423.3,2,   1.6234,20070530,0934
  32WC20070511,NACPWC,        8,    60,  1, 600103,      3,2,20070530,0919, 36.4000,-122.7400, 3063,   2000.1,   2.1000,   34.6200,2,-999.0000,9,     72.2,2,     72.4,2,   168.85,2,    40.30,2,     0.00,2,     2.88,2,   2381.1,2,   2412.4,2,   1.9620,20070530,0947
  32WC20070511,NACPWC,        8,    60,  1, 600104,      4,2,20070530,0919, 36.4000,-122.7400, 3063,   1499.6,   2.8000,   34.5600,2,-999.0000,9,     45.2,2,     46.0,2,   151.68,2,    41.98,2,     0.00,2,     3.00,2,   2373.3,2,   2410.6,2,   2.6945,20070530,1001
  32WC20070511,NACPWC,        8,    60,  1, 600105,      5,2,20070530,0919, 36.4000,-122.7400, 3063,    801.1,   4.3000,   34.4000,2,-999.0000,9,     11.8,2,     11.6,2,   115.64,6,    42.66,6,     0.00,6,     3.14,6,   2355.3,2,   2351.5,2,   4.2389,20070530,1020
  32WC20070511,NACPWC,        8,    60,  1, 600106,      6,2,20070530,0919, 36.4000,-122.7400, 3063,    500.3,   5.3000,   34.2300,2,-999.0000,9,     17.7,2,     16.9,2,    89.81,2,    40.07,2,     0.00,2,     2.99,2,   2318.6,2,   2315.1,2,   5.2592,20070530,1028
  32WC20070511,NACPWC,        8,    60,  1, 600107,      7,2,20070530,0919, 36.4000,-122.7400, 3063,    350.6,   6.2000,   34.1500,2,-999.0000,9,     36.9,2,     36.1,2,    72.23,2,    37.57,2,     0.01,2,     2.78,2,   2295.6,2,   2292.2,2,   6.1694,20070530,1033
  32WC20070511,NACPWC,        8,    60,  1, 600108,      8,2,20070530,0919, 36.4000,-122.7400, 3063,    249.7,   7.0000,   34.1200,2,-999.0000,9,     53.7,2,     53.9,6,    59.06,2,    34.42,2,     0.02,2,     2.56,2,   2269.4,2,   2279.2,2,   6.9769,20070530,1037
  32WC20070511,NACPWC,        8,    60,  1, 600109,      9,2,20070530,0919, 36.4000,-122.7400, 3063,    200.8,   7.4000,   34.0900,2,-999.0000,9,     63.8,2,     62.5,2,    52.81,2,    33.30,2,     0.07,2,     2.44,2,   2257.1,2,   2271.1,2,   7.3809,20070530,1040
  32WC20070511,NACPWC,        8,    60,  1, 600110,     10,2,20070530,0919, 36.4000,-122.7400, 3063,    174.6,   7.6000,   34.0900,2,-999.0000,9,     78.3,2,     65.5,2,    50.18,2,    32.63,2,     0.08,2,     2.40,2,   2251.7,2,   2271.3,2,   7.5831,20070530,1041
  32WC20070511,NACPWC,        8,    60,  1, 600111,     11,2,20070530,0919, 36.4000,-122.7400, 3063,    149.7,   7.9000,   34.0800,2,-999.0000,9,     73.0,2,     73.0,2,    46.30,2,    31.54,2,     0.07,2,     2.31,2,   2242.6,2,   2266.1,2,   7.8852,20070530,1043
  32WC20070511,NACPWC,        8,    60,  1, 600112,     12,2,20070530,0919, 36.4000,-122.7400, 3063,    130.0,   8.0000,   34.0700,2,-999.0000,9,     76.1,2,     75.3,2,    44.69,2,    31.11,2,     0.08,2,     2.28,2,   2236.9,2,   2264.6,2,   7.9871,20070530,1045
  32WC20070511,NACPWC,        8,    60,  1, 600113,     13,2,20070530,0919, 36.4000,-122.7400, 3063,    109.7,   8.7000,   34.0000,2,-999.0000,9,     92.1,2,     94.4,2,    37.04,2,    28.33,2,     0.01,2,     2.08,2,   2214.3,2,   2251.5,2,   8.6885,20070530,1046
  32WC20070511,NACPWC,        8,    60,  1, 600114,     14,2,20070530,0919, 36.4000,-122.7400, 3063,     89.3,   9.0000,   33.9400,2,-999.0000,9,    100.7,2,    100.7,2,    34.30,2,    27.16,2,     0.01,2,     2.01,2,   2203.6,2,   2246.5,2,   8.9905,20070530,1048
  32WC20070511,NACPWC,        8,    60,  1, 600115,     15,2,20070530,0919, 36.4000,-122.7400, 3063,     70.3,   9.5000,   33.8900,2,-999.0000,9,    132.0,2,    137.1,2,    30.99,2,    25.06,2,     0.29,2,     1.89,2,   2187.0,2,   2245.0,2,   9.4923,20070530,1050
  32WC20070511,NACPWC,        8,    60,  1, 600116,     16,2,20070530,0919, 36.4000,-122.7400, 3063,     59.1,   9.6000,   33.8300,2,-999.0000,9,    137.1,2,    138.6,2,    29.44,2,    24.43,2,     0.19,2,     1.85,2,   2180.0,2,   2241.8,2,   9.5935,20070530,1051
  32WC20070511,NACPWC,        8,    60,  1, 600117,     17,2,20070530,0919, 36.4000,-122.7400, 3063,     49.7,   9.9000,   33.8600,2,-999.0000,9,    156.2,2,    178.9,2,    28.46,2,    22.64,2,     0.35,2,     1.76,2,   2170.5,2,   2249.0,2,   9.8944,20070530,1052
  32WC20070511,NACPWC,        8,    60,  1, 600118,     18,2,20070530,0919, 36.4000,-122.7400, 3063,     39.3,  10.3000,   33.8200,2,-999.0000,9,    200.0,2,    198.9,2,    26.42,2,    20.99,2,     0.44,2,     1.66,2,   2155.5,2,   2249.9,2,  10.2955,20070530,1053
  32WC20070511,NACPWC,        8,    60,  1, 600119,     19,2,20070530,0919, 36.4000,-122.7400, 3063,     30.4,  10.3000,   33.7800,2,-999.0000,9,    209.9,2,    201.8,2,    25.59,2,    20.48,2,     0.35,2,     1.61,2,   2152.1,2,   2243.8,2,  10.2965,20070530,1055
  32WC20070511,NACPWC,        8,    60,  1, 600120,     20,2,20070530,0919, 36.4000,-122.7400, 3063,     24.8,  10.8000,   33.7300,2,-999.0000,9,    243.8,2,    219.8,6,    22.94,2,    18.01,2,     0.32,2,     1.47,2,   2135.4,2,   2243.1,2,  10.7970,20070530,1056
  32WC20070511,NACPWC,        8,    60,  1, 600121,     21,2,20070530,0919, 36.4000,-122.7400, 3063,     20.3,  12.0000,   33.6200,2,-999.0000,9,    272.1,2,    265.3,2,    17.82,2,    12.35,2,     0.24,2,     1.09,2,   2091.9,2,   2242.0,2,  11.9974,20070530,1057
  32WC20070511,NACPWC,        8,    60,  1, 600122,     22,2,20070530,0919, 36.4000,-122.7400, 3063,     15.6,  12.2000,   33.6100,2,-999.0000,9,    276.6,2,    279.6,2,    16.11,2,    10.40,2,     0.21,2,     0.96,2,   2074.9,2,   2243.3,2,  12.1980,20070530,1059
  32WC20070511,NACPWC,        8,    60,  1, 600123,     23,2,20070530,0919, 36.4000,-122.7400, 3063,      9.6,  12.5000,   33.5800,2,  33.5800,2,    285.2,2,    287.2,2,    15.01,2,     8.99,2,     0.18,2,     0.86,2,   2062.5,2,   2239.4,2,  12.4987,20070530,1100
  32WC20070511,NACPWC,        8,    60,  1, 600124,     24,2,20070530,0919, 36.4000,-122.7400, 3063,      4.6,  12.8000,   33.5900,2,-999.0000,9,    284.9,2,    285.3,2,    15.05,2,     9.01,2,     0.19,2,     0.85,2,   2063.2,2,   2243.2,2,  12.7994,20070530,1101
  32WC20070511,NACPWC,        8,    61,  1, 610101,      1,2,20070530,1413, 36.5300,-122.4400, 2355,   2355.8,   2.0000,   34.6300,2,  34.6300,2,     82.9,2,     83.2,2,   168.37,6,    40.06,6,     0.01,6,     2.84,6,   2372.0,6,   2414.9,6,   1.8328,20070530,1413
  32WC20070511,NACPWC,        8,    61,  1, 610102,      2,2,20070530,1413, 36.5300,-122.4400, 2355,   1999.9,   2.2000,   34.6000,2,-999.0000,9,     66.1,2,     66.9,2,   164.56,2,    41.16,2,     0.00,2,     2.93,2,   2375.4,6,   2411.8,2,   2.0606,20070530,1421
  32WC20070511,NACPWC,        8,    61,  1, 610103,      3,2,20070530,1413, 36.5300,-122.4400, 2355,   1501.1,   2.8000,   34.5500,2,-999.0000,9,     42.3,2,     42.7,2,   148.89,6,    42.49,6,     0.01,6,     3.04,6,   2376.2,2,   2395.3,2,   2.6944,20070530,1432
  32WC20070511,NACPWC,        8,    61,  1, 610104,      4,2,20070530,1413, 36.5300,-122.4400, 2355,    799.4,   4.4000,   34.4100,2,-999.0000,9,     13.2,2,     13.5,2,   112.36,2,    42.78,2,     0.01,2,     3.14,2,   2352.1,2,   2353.1,2,   4.3384,20070530,1448
  32WC20070511,NACPWC,        8,    61,  1, 610105,      5,2,20070530,1413, 36.5300,-122.4400, 2355,    499.2,   5.7000,   34.2300,2,-999.0000,9,     20.1,2,     20.1,2,    82.36,2,    39.85,2,     0.01,2,     2.96,2,   2316.4,2,   2310.1,2,   5.6578,20070530,1456
  32WC20070511,NACPWC,        8,    61,  1, 610106,      6,2,20070530,1413, 36.5300,-122.4400, 2355,    350.3,   6.6000,   34.1600,2,-999.0000,9,     42.8,2,     39.9,2,    64.84,2,    36.42,2,     0.01,2,     2.71,2,   2280.4,2,   2287.8,2,   6.5683,20070530,1501
  32WC20070511,NACPWC,        8,    61,  1, 610107,      7,2,20070530,1413, 36.5300,-122.4400, 2355,    299.9,   6.8000,   34.1100,2,-999.0000,9,     54.1,2,     52.7,2,    60.31,2,    35.68,2,     0.01,2,     2.60,2,   2268.7,2,   2282.0,2,   6.7726,20070530,1503
  32WC20070511,NACPWC,        8,    61,  1, 610108,      8,2,20070530,1413, 36.5300,-122.4400, 2355,    249.8,   7.3000,   34.0800,2,-999.0000,9,     77.1,2,     71.9,2,    52.02,2,    33.24,2,     0.03,2,     2.39,2,   2246.5,2,   2275.4,2,   7.2763,20070530,1506
  32WC20070511,NACPWC,        8,    61,  1, 610109,      9,2,20070530,1413, 36.5300,-122.4400, 2355,    200.7,   7.8000,   34.0500,2,-999.0000,9,     89.8,2,     82.5,2,    45.14,2,    31.38,2,     0.06,2,     2.25,2,   2230.8,2,   2263.5,2,   7.7803,20070530,1508
  32WC20070511,NACPWC,        8,    61,  1, 610110,     10,2,20070530,1413, 36.5300,-122.4400, 2355,    175.7,   8.0000,   34.0400,2,-999.0000,9,     93.6,2,     90.8,2,    41.41,2,    30.34,2,     0.06,2,     2.16,2,   2217.9,2,   2264.4,2,   7.9825,20070530,1510
  32WC20070511,NACPWC,        8,    61,  1, 610111,     11,2,20070530,1413, 36.5300,-122.4400, 2355,    149.7,   8.2000,   33.9700,2,-999.0000,9,    111.7,2,    110.8,2,    36.65,2,    28.25,2,     0.03,2,     1.99,2,   2197.5,2,   2251.8,2,   8.1849,20070530,1512
  32WC20070511,NACPWC,        8,    61,  1, 610112,     12,2,20070530,1413, 36.5300,-122.4400, 2355,    130.0,   8.5000,   33.9300,2,-999.0000,9,    116.7,2,    118.3,2,    33.71,2,    27.09,2,     0.01,2,     1.94,2,   2190.0,2,   2246.2,2,   8.4866,20070530,1514
  32WC20070511,NACPWC,        8,    61,  1, 610113,     13,2,20070530,1413, 36.5300,-122.4400, 2355,    110.0,   8.8000,   33.8600,2,-999.0000,9,    124.6,2,    122.9,2,    30.87,2,    25.97,2,     0.01,2,     1.89,2,   2181.3,2,   2240.9,2,   8.7885,20070530,1516
  32WC20070511,NACPWC,        8,    61,  1, 610114,     14,2,20070530,1413, 36.5300,-122.4400, 2355,     90.2,   9.2000,   33.7600,2,-999.0000,9,    133.7,2,    133.1,2,    28.29,2,    24.82,2,     0.01,2,     1.83,2,   2171.2,2,   2235.6,2,   9.1903,20070530,1517
  32WC20070511,NACPWC,        8,    61,  1, 610115,     15,2,20070530,1413, 36.5300,-122.4400, 2355,     70.5,   9.6000,   33.6300,2,-999.0000,9,    166.8,2,    164.2,2,    23.72,2,    22.26,2,     0.02,2,     1.67,2,   2150.3,2,   2230.0,2,   9.5922,20070530,1519
  32WC20070511,NACPWC,        8,    61,  1, 610116,     16,2,20070530,1413, 36.5300,-122.4400, 2355,     60.5,  10.0000,   33.5000,2,-999.0000,9,    194.3,2,    191.1,2,    20.49,2,    19.65,2,     0.03,2,     1.50,2,   2130.1,2,   2221.9,2,   9.9932,20070530,1520
  32WC20070511,NACPWC,        8,    61,  1, 610117,     17,2,20070530,1413, 36.5300,-122.4400, 2355,     50.0,  10.2000,   33.4100,2,-999.0000,9,    220.2,2,    209.6,2,    18.28,2,    17.47,2,     0.06,2,     1.36,2,   2113.8,2,   2218.6,2,  10.1943,20070530,1521
  32WC20070511,NACPWC,        8,    61,  1, 610118,     18,2,20070530,1413, 36.5300,-122.4400, 2355,     40.5,  11.5000,   33.4300,2,-999.0000,9,    263.6,2,    246.5,2,    15.01,2,    12.67,2,     0.27,2,     1.08,2,   2085.1,2,   2223.9,2,  11.4950,20070530,1523
  32WC20070511,NACPWC,        8,    61,  1, 610119,     19,2,20070530,1413, 36.5300,-122.4400, 2355,     29.9,  12.1000,   33.5000,2,-999.0000,9,    266.7,2,    267.5,2,    14.16,2,    10.73,2,     0.29,2,     0.96,2,   2072.1,2,   2230.0,2,  12.0962,20070530,1524
  32WC20070511,NACPWC,        8,    61,  1, 610120,     20,2,20070530,1413, 36.5300,-122.4400, 2355,     25.3,  12.1000,   33.4900,2,-999.0000,9,    267.2,2,    267.2,2,    14.21,2,    10.67,2,     0.29,2,     0.95,2,   2071.9,2,   2217.2,2,  12.0968,20070530,1525
  32WC20070511,NACPWC,        8,    61,  1, 610121,     21,2,20070530,1413, 36.5300,-122.4400, 2355,     20.3,  12.1000,   33.4900,2,-999.0000,9,    267.8,2,    267.8,6,    14.09,2,    10.53,2,     0.29,2,     0.95,2,   2068.7,2,   2229.1,2,  12.0974,20070530,1526
  32WC20070511,NACPWC,        8,    61,  1, 610122,     22,2,20070530,1413, 36.5300,-122.4400, 2355,     15.4,  12.2000,   33.4800,2,-999.0000,9,    268.9,2,    270.4,2,    13.57,2,     9.95,2,     0.28,2,     0.90,2,   2062.1,2,   2228.7,2,  12.1980,20070530,1528
  32WC20070511,NACPWC,        8,    61,  1, 610123,     23,2,20070530,1413, 36.5300,-122.4400, 2355,      9.7,  12.6000,   33.4200,2,  33.4200,2,    273.0,2,    273.9,2,    11.94,2,     8.19,2,     0.22,2,     0.79,2,   2052.2,2,   2226.0,2,  12.5987,20070530,1529
  32WC20070511,NACPWC,        8,    61,  1, 610124,     24,2,20070530,1413, 36.5300,-122.4400, 2355,      4.7,  12.7000,   33.3900,2,-999.0000,9,    273.6,2,    273.8,2,    11.39,2,     7.69,2,     0.22,2,     0.75,2,   2044.9,2,   2226.7,2,  12.6994,20070530,1530
  32WC20070511,NACPWC,        8,    62,  1, 620101,      1,2,20070531,0842, 36.6000,-122.3100, 2723,   2723.4,   1.8000,   34.6500,2,  34.6500,2,    101.1,2,    101.2,2,   171.14,2,    38.57,2,     0.01,2,     2.77,2,   2364.1,6,   2424.0,2,   1.6030,20070531,0842
  32WC20070511,NACPWC,        8,    62,  1, 620102,      2,2,20070531,0842, 36.6000,-122.3100, 2723,   2000.8,   2.3000,   34.6000,2,-999.0000,9,     65.0,2,     66.5,2,   164.18,2,    40.36,2,     0.00,2,     2.95,2,   2373.6,6,   2411.4,2,   2.1590,20070531,0901
  32WC20070511,NACPWC,        8,    62,  1, 620103,      3,2,20070531,0842, 36.6000,-122.3100, 2723,   1499.5,   2.9000,   34.5400,2,-999.0000,9,     40.2,2,     40.3,2,   148.34,2,    41.95,2,     0.00,2,     3.08,2,   2374.1,2,   2391.1,2,   2.7934,20070531,0914
  32WC20070511,NACPWC,        8,    62,  1, 620104,      4,2,20070531,0842, 36.6000,-122.3100, 2723,    800.5,   4.6000,   34.3900,2,-999.0000,9,     12.2,2,     12.3,2,   108.22,2,    41.39,2,     0.00,2,     3.14,2,   2350.2,2,   2346.0,2,   4.5371,20070531,0932
  32WC20070511,NACPWC,        8,    62,  1, 620105,      5,2,20070531,0842, 36.6000,-122.3100, 2723,    500.4,   5.8000,   34.2500,2,-999.0000,9,     19.0,2,     18.3,2,    83.48,2,    38.85,2,     0.00,2,     2.99,2,   2315.5,2,   2312.0,2,   5.7572,20070531,0940
  32WC20070511,NACPWC,        8,    62,  1, 620106,      6,2,20070531,0842, 36.6000,-122.3100, 2723,    348.9,   6.6000,   34.1300,2,-999.0000,9,     46.9,2,     46.8,2,    63.89,2,    35.72,2,     0.02,2,     2.67,2,   2274.7,2,   2286.4,2,   6.5685,20070531,0945
  32WC20070511,NACPWC,        8,    62,  1, 620107,      7,2,20070531,0842, 36.6000,-122.3100, 2723,    299.7,   7.5000,   34.2000,2,-999.0000,9,     48.4,2,     41.1,2,    57.99,2,    33.56,2,     0.01,2,     2.63,2,   2269.0,2,   2287.3,2,   7.4710,20070531,0948
  32WC20070511,NACPWC,        8,    62,  1, 620108,      8,2,20070531,0842, 36.6000,-122.3100, 2723,    250.0,   7.9000,   34.1700,2,-999.0000,9,     64.7,2,     52.0,2,    51.06,2,    32.22,2,     0.03,2,     2.51,2,   2255.5,2,   2279.7,2,   7.8751,20070531,0950
  32WC20070511,NACPWC,        8,    62,  1, 620109,      9,2,20070531,0842, 36.6000,-122.3100, 2723,    201.2,   8.2000,   34.1200,2,-999.0000,9,     66.1,2,     67.9,2,    45.74,6,    30.66,6,     0.08,6,     2.35,6,   2238.7,2,   2266.3,2,   8.1796,20070531,0953
  32WC20070511,NACPWC,        8,    62,  1, 620110,     10,2,20070531,0842, 36.6000,-122.3100, 2723,    174.6,   8.3000,   34.0900,2,-999.0000,9,     79.6,2,     76.4,2,    43.44,2,    29.85,2,     0.11,2,     2.29,2,   2230.3,2,   2267.1,2,   8.2822,20070531,0955
  32WC20070511,NACPWC,        8,    62,  1, 620111,     11,2,20070531,0842, 36.6000,-122.3100, 2723,    150.3,   8.5000,   34.0700,2,-999.0000,9,     86.7,2,     86.2,2,    40.42,2,    29.26,2,     0.10,2,     2.20,2,   2221.7,2,   2260.4,2,   8.4845,20070531,0957
  32WC20070511,NACPWC,        8,    62,  1, 620112,     12,2,20070531,0842, 36.6000,-122.3100, 2723,    129.0,   8.6000,   34.0400,2,-999.0000,9,     93.0,2,     93.7,2,    39.00,2,    28.55,2,     0.12,2,     2.15,2,   2217.7,2,   2258.8,2,   8.5866,20070531,0958
  32WC20070511,NACPWC,        8,    62,  1, 620113,     13,2,20070531,0842, 36.6000,-122.3100, 2723,    110.6,   8.8000,   34.0300,2,-999.0000,9,     99.5,2,    108.3,2,    38.09,2,    27.99,2,     0.16,2,     2.13,2,   2208.3,2,   2257.6,2,   8.7884,20070531,1000
  32WC20070511,NACPWC,        8,    62,  1, 620114,     14,2,20070531,0842, 36.6000,-122.3100, 2723,     90.4,   8.9000,   34.0100,2,-999.0000,9,    109.2,2,    113.3,2,    36.56,2,    27.83,2,     0.17,2,     2.08,2,   2206.7,2,   2261.1,2,   8.8904,20070531,1002
  32WC20070511,NACPWC,        8,    62,  1, 620115,     15,2,20070531,0842, 36.6000,-122.3100, 2723,     69.2,   9.0000,   33.9700,2,-999.0000,9,    120.8,2,    120.4,2,    34.96,6,    25.81,6,     0.16,6,     2.03,6,   2198.9,2,   2248.1,2,   8.9926,20070531,1003
  32WC20070511,NACPWC,        8,    62,  1, 620116,     16,2,20070531,0842, 36.6000,-122.3100, 2723,     59.4,   9.2000,   33.9700,2,-999.0000,9,    136.1,2,    138.6,2,    33.94,2,    25.96,2,     0.19,2,     1.99,2,   2195.1,2,   2251.3,2,   9.1936,20070531,1005
  32WC20070511,NACPWC,        8,    62,  1, 620117,     17,2,20070531,0842, 36.6000,-122.3100, 2723,     49.0,   9.4000,   33.9200,2,-999.0000,9,    161.1,2,    156.8,2,    31.89,2,    24.62,2,     0.18,2,     1.91,2,   2181.8,2,   2247.1,2,   9.3947,20070531,1006
  32WC20070511,NACPWC,        8,    62,  1, 620118,     18,2,20070531,0842, 36.6000,-122.3100, 2723,     40.4,   9.8000,   33.9300,2,-999.0000,9,    173.5,2,    182.9,2,    30.95,2,    23.06,2,     0.22,2,     1.83,2,   2174.6,2,   2250.5,2,   9.7955,20070531,1007
  32WC20070511,NACPWC,        8,    62,  1, 620119,     19,2,20070531,0842, 36.6000,-122.3100, 2723,     29.1,  10.3000,   33.9000,2,-999.0000,9,    218.7,2,    221.3,2,    26.05,2,    18.27,2,     0.22,2,     1.56,2,   2142.4,2,   2256.1,2,  10.2966,20070531,1009
  32WC20070511,NACPWC,        8,    62,  1, 620120,     20,2,20070531,0842, 36.6000,-122.3100, 2723,     25.5,  10.5000,   33.8700,2,-999.0000,9,    225.1,2,    228.1,2,    24.42,2,    17.14,2,     0.23,2,     1.47,2,   2132.9,2,   2256.7,2,  10.4970,20070531,1010
  32WC20070511,NACPWC,        8,    62,  1, 620121,     21,2,20070531,0842, 36.6000,-122.3100, 2723,     19.6,  11.0000,   33.7600,2,-999.0000,9,    246.0,2,    239.0,2,    22.24,6,    15.69,6,     0.25,6,     1.33,6,   2116.4,2,   2247.6,2,  10.9976,20070531,1011
  32WC20070511,NACPWC,        8,    62,  1, 620122,     22,2,20070531,0842, 36.6000,-122.3100, 2723,     14.6,  10.8000,   33.5900,2,-999.0000,9,    251.6,2,    240.2,2,    19.21,2,    15.27,2,     0.27,2,     1.27,2,   2104.4,2,   2238.6,2,  10.7983,20070531,1013
  32WC20070511,NACPWC,        8,    62,  1, 620123,     23,2,20070531,0842, 36.6000,-122.3100, 2723,     10.0,  12.0000,   33.6100,2,  33.6000,2,    260.1,2,    265.9,2,    16.91,2,    11.58,2,     0.20,2,     1.03,2,   2079.5,2,   2242.2,2,  11.9987,20070531,1014
  32WC20070511,NACPWC,        8,    62,  1, 620124,     24,2,20070531,0842, 36.6000,-122.3100, 2723,      5.0,  13.0000,   33.3800,2,-999.0000,9,    275.6,2,    272.9,2,    11.83,2,     7.54,2,     0.15,2,     0.77,2,   2052.3,2,   2232.6,2,  12.9993,20070531,1015