BOTTLE,20220810CCHSIOAMB
EXPOCODE,SECT_ID,LINE,STNNBR,CASTNO,SAMPNO,BTLNBR,BTLNBR_FLAG_W,DATE,TIME,LATITUDE,LONGITUDE,DEPTH,CTDPRS,CTDTMP,CTDSAL,CTDSAL_FLAG_W,SALNTY,SALNTY_FLAG_W,CTDOXY,CTDOXY_FLAG_W,OXYGEN,OXYGEN_FLAG_W,SILCAT,SILCAT_FLAG_W,NITRAT,NITRAT_FLAG_W,NITRIT,NITRIT_FLAG_W,PHSPHT,PHSPHT_FLAG_W,TCARBN,TCARBN_FLAG_W,ALKALI,ALKALI_FLAG_W,THETA,BTL_DATE,BTL_TIME
,,,,,,,,,,,,METERS,DBAR,ITS-90,PSS-78,,PSS-78,,UMOL/KG,,UMOL/KG,,UMOL/KG,,UMOL/KG,,UMOL/KG,,UMOL/KG,,UMOL/KG,,UMOL/KG,,DEG C,,
  32WC20070511,NACPWC,       11,    94,  1, 940101,      1,2,20070607,1951, 31.6900,-116.7700,  406,    395.8,   7.7000,   34.3100,2,  34.3000,2,     25.1,2,     25.1,2,    59.40,6,    32.80,6,     0.15,6,     2.74,6,   2287.1,6,   2299.4,2,   7.6607,20070607,1951
  32WC20070511,NACPWC,       11,    94,  1, 940102,      2,2,20070607,1951, 31.6900,-116.7700,  406,    349.2,   8.0000,   34.3000,2,-999.0000,9,     29.1,2,     34.6,2,    51.89,2,    30.99,2,     0.14,2,     2.58,2,   2270.1,6,   2287.1,2,   7.9647,20070607,1954
  32WC20070511,NACPWC,       11,    94,  1, 940103,      3,2,20070607,1951, 31.6900,-116.7700,  406,    300.7,   8.5000,   34.3000,2,-999.0000,9,     36.1,2,     35.8,2,    50.38,2,    30.44,2,     0.13,2,     2.58,2,   2273.8,2,   2287.0,2,   8.4685,20070607,1956
  32WC20070511,NACPWC,       11,    94,  1, 940104,      4,2,20070607,1951, 31.6900,-116.7700,  406,    250.0,   8.9000,   34.2900,2,-999.0000,9,     45.5,2,     41.7,6,    46.37,2,    29.55,2,     0.12,2,     2.48,2,   2260.0,2,   2281.2,2,   8.8732,20070607,1958
  32WC20070511,NACPWC,       11,    94,  1, 940105,      5,2,20070607,1951, 31.6900,-116.7700,  406,    225.0,   9.0000,   34.2800,2,-999.0000,9,     50.2,2,     48.9,2,    43.84,2,    29.00,2,     0.07,2,     2.42,2,   2250.8,2,   2278.3,2,   8.9757,20070607,2000
  32WC20070511,NACPWC,       11,    94,  1, 940106,      6,2,20070607,1951, 31.6900,-116.7700,  406,    200.4,   9.2000,   34.2600,2,-999.0000,9,     49.3,2,     49.3,2,    42.17,2,    28.52,2,     0.03,2,     2.38,2,   2248.3,2,   2275.5,2,   9.1781,20070607,2001
  32WC20070511,NACPWC,       11,    94,  1, 940107,      7,2,20070607,1951, 31.6900,-116.7700,  406,    174.6,   9.3000,   34.2400,2,-999.0000,9,     54.0,2,     53.9,2,    40.55,2,    28.24,2,     0.07,2,     2.33,2,   2243.3,2,   2272.4,2,   9.2809,20070607,2003
  32WC20070511,NACPWC,       11,    94,  1, 940108,      8,2,20070607,1951, 31.6900,-116.7700,  406,    150.0,   9.4000,   34.2100,2,-999.0000,9,     55.5,2,     55.4,2,    38.43,2,    27.86,2,     0.05,2,     2.28,2,   2238.8,2,   2266.9,2,   9.3835,20070607,2005
  32WC20070511,NACPWC,       11,    94,  1, 940109,      9,2,20070607,1951, 31.6900,-116.7700,  406,    130.7,   9.5000,   34.1500,2,-999.0000,9,     70.0,2,     70.0,2,    35.96,2,    26.87,2,     0.02,2,     2.18,2,   2222.7,2,   2262.8,2,   9.4855,20070607,2007
  32WC20070511,NACPWC,       11,    94,  1, 940110,     10,2,20070607,1951, 31.6900,-116.7700,  406,    109.2,   9.5000,   34.0800,2,-999.0000,9,     81.6,2,     80.8,2,    34.35,2,    26.29,2,     0.03,2,     2.10,2,   2211.7,2,   2256.8,2,   9.4879,20070607,2008
  32WC20070511,NACPWC,       11,    94,  1, 940111,     11,2,20070607,1951, 31.6900,-116.7700,  406,     90.9,   9.7000,   34.0000,2,-999.0000,9,     84.8,2,     87.2,2,    31.99,2,    25.65,2,     0.02,2,     2.02,2,   2203.6,2,   2251.3,2,   9.6898,20070607,2009
  32WC20070511,NACPWC,       11,    94,  1, 940112,     12,2,20070607,1951, 31.6900,-116.7700,  406,     70.4,  10.0000,   33.9300,2,-999.0000,9,    102.5,2,    101.6,2,    29.50,2,    24.10,2,     0.09,2,     1.93,2,   2189.9,2,   2247.6,2,   9.9920,20070607,2011
  32WC20070511,NACPWC,       11,    94,  1, 940113,     13,2,20070607,1951, 31.6900,-116.7700,  406,     60.1,  10.1000,   33.9200,2,-999.0000,9,    106.4,2,     98.3,2,    29.00,2,    24.53,2,     0.09,2,     1.94,2,   2195.0,2,   2242.5,2,  10.0931,20070607,2012
  32WC20070511,NACPWC,       11,    94,  1, 940114,     14,2,20070607,1951, 31.6900,-116.7700,  406,     49.7,  10.1000,   33.8500,2,-999.0000,9,    123.2,2,    120.8,2,    25.82,2,    22.53,2,     0.09,2,     1.77,2,   2174.2,2,   2239.9,2,  10.0943,20070607,2013
  32WC20070511,NACPWC,       11,    94,  1, 940115,     15,2,20070607,1951, 31.6900,-116.7700,  406,     40.0,  10.5000,   33.8200,2,-999.0000,9,    126.7,2,    125.0,2,    24.45,2,    20.88,2,     0.34,2,     1.69,2,   2170.4,2,   2240.5,2,  10.4953,20070607,2013
  32WC20070511,NACPWC,       11,    94,  1, 940116,     16,2,20070607,1951, 31.6900,-116.7700,  406,     29.6,  11.3000,   33.7700,2,-999.0000,9,    137.8,2,    142.8,2,    21.52,2,    12.94,2,     0.33,2,     1.22,2,   2155.8,2,   2242.8,2,  11.2964,20070607,2014
  32WC20070511,NACPWC,       11,    94,  1, 940117,     17,2,20070607,1951, 31.6900,-116.7700,  406,     25.1,  11.7000,   33.6900,2,-999.0000,9,    173.3,2,    171.4,6,    16.46,6,    10.09,6,     0.47,6,     0.99,6,   2132.8,2,   2238.9,2,  11.6968,20070607,2015
  32WC20070511,NACPWC,       11,    94,  1, 940118,     18,2,20070607,1951, 31.6900,-116.7700,  406,     20.0,  12.1000,   33.6500,2,-999.0000,9,    181.6,2,    177.1,2,    13.34,2,     1.29,2,     0.10,2,     0.43,2,   2141.4,2,   2242.6,2,  12.0974,20070607,2016
  32WC20070511,NACPWC,       11,    94,  1, 940119,     19,2,20070607,1951, 31.6900,-116.7700,  406,     14.9,  13.2000,   33.6900,2,-999.0000,9,    273.4,2,   -999.0,9,    12.13,2,     0.16,2,     0.05,2,     0.23,2,   2093.7,6,   -999.0,9,  13.1980,20070607,2017
  32WC20070511,NACPWC,       11,    94,  1, 940120,     20,2,20070607,1951, 31.6900,-116.7700,  406,     14.9,  13.2000,   33.6900,2,-999.0000,9,    257.7,2,    212.6,2,    12.26,2,     0.16,2,     0.05,2,     0.24,2,   -999.0,9,   2246.0,2,  13.1980,20070607,2017
  32WC20070511,NACPWC,       11,    94,  1, 940121,     21,2,20070607,1951, 31.6900,-116.7700,  406,      9.9,  14.6000,   33.7200,2,-999.0000,9,    317.4,2,   -999.0,9,  -999.00,9,  -999.00,9,  -999.00,9,  -999.00,9,   -999.0,9,   -999.0,9,  14.5986,20070607,2018
  32WC20070511,NACPWC,       11,    94,  1, 940122,     22,2,20070607,1951, 31.6900,-116.7700,  406,      9.9,  14.5000,   33.7200,2,-999.0000,9,    313.8,2,    315.3,2,    12.80,2,     0.03,2,     0.02,2,     0.19,2,   1961.7,6,   2252.2,2,  14.4986,20070607,2019
  32WC20070511,NACPWC,       11,    94,  1, 940123,     23,2,20070607,1951, 31.6900,-116.7700,  406,      4.6,  14.9000,   33.7200,2,  33.7200,2,    322.0,2,   -999.0,9,  -999.00,9,  -999.00,9,  -999.00,9,  -999.00,9,   -999.0,9,   -999.0,9,  14.8993,20070607,2019
  32WC20070511,NACPWC,       11,    94,  1, 940124,     24,2,20070607,1951, 31.6900,-116.7700,  406,      4.6,  14.9000,   33.7200,2,-999.0000,9,    322.3,2,    325.3,2,    12.81,2,     0.00,2,     0.02,2,     0.18,2,   1949.4,6,   2253.3,2,  14.8993,20070607,2019
  32WC20070511,NACPWC,       12,    95,  1, 950101,      1,2,20070608,1644, 28.3900,-114.2300,   54,     44.4,  10.6000,   33.8100,2,-999.0000,9,     96.3,2,    101.3,2,    23.83,6,    23.67,6,     0.07,6,     1.91,6,   2184.2,6,   2233.0,6,  10.5948,20070608,1644
  32WC20070511,NACPWC,       12,    95,  1, 950102,      2,2,20070608,1644, 28.3900,-114.2300,   54,     39.5,  11.2000,   33.8100,2,-999.0000,9,    103.6,2,    104.4,2,    22.46,2,    22.52,2,     0.09,2,     1.88,2,   2180.4,2,   2236.5,2,  11.1952,20070608,1646
  32WC20070511,NACPWC,       12,    95,  1, 950103,      3,2,20070608,1644, 28.3900,-114.2300,   54,     29.8,  11.8000,   33.7400,2,-999.0000,9,    149.4,2,    149.9,2,    16.91,2,    17.69,2,     0.67,2,     1.62,2,   2153.3,2,   2234.8,2,  11.7962,20070608,1647
  32WC20070511,NACPWC,       12,    95,  1, 950104,      4,2,20070608,1644, 28.3900,-114.2300,   54,     24.6,  12.1000,   33.7300,2,-999.0000,9,    161.5,2,    167.2,2,    15.12,6,    14.81,6,     0.77,6,     1.49,6,   2139.1,2,   2236.4,2,  12.0968,20070608,1648
  32WC20070511,NACPWC,       12,    95,  1, 950105,      5,2,20070608,1644, 28.3900,-114.2300,   54,     19.9,  13.4000,   33.6900,2,-999.0000,9,    224.0,2,    227.2,6,     3.44,2,     7.50,2,     0.37,2,     0.72,2,   2080.4,2,   2242.4,2,  13.3973,20070608,1649
  32WC20070511,NACPWC,       12,    95,  1, 950106,      6,2,20070608,1644, 28.3900,-114.2300,   54,     14.6,  14.2000,   33.7200,2,-999.0000,9,    240.7,2,    244.6,2,     2.13,2,     5.64,2,     0.32,2,     0.61,2,   2065.2,2,   2244.7,2,  14.1979,20070608,1650
  32WC20070511,NACPWC,       12,    95,  1, 950107,      7,2,20070608,1644, 28.3900,-114.2300,   54,     10.0,  15.0000,   33.7300,2,-999.0000,9,    254.1,2,    255.6,2,     1.57,2,     3.61,2,     0.23,2,     0.48,2,   2049.3,2,   2246.5,2,  14.9985,20070608,1651
  32WC20070511,NACPWC,       12,    95,  1, 950108,      8,2,20070608,1644, 28.3900,-114.2300,   54,      5.1,  15.8000,   33.7500,2,  33.7500,2,    258.4,2,    259.8,2,     1.81,2,     2.71,2,     0.20,2,     0.45,2,   2044.1,6,   2247.4,2,  15.7992,20070608,1653
  32WC20070511,NACPWC,       12,    96,  1, 960101,      1,2,20070608,1904, 28.2200,-114.5700,   97,     87.5,  10.5000,   34.0000,2,  34.0000,2,     62.4,2,     59.6,2,    34.90,6,    24.91,6,     0.08,6,     2.21,6,   2223.2,6,   2252.6,6,  10.4897,20070608,1904
  32WC20070511,NACPWC,       12,    96,  1, 960102,      2,2,20070608,1904, 28.2200,-114.5700,   97,     70.0,  10.9000,   33.9000,2,-999.0000,9,     85.1,2,     83.4,2,    28.14,6,    23.69,6,     0.05,6,     2.01,6,   2201.5,2,   2243.4,2,  10.8916,20070608,1905
  32WC20070511,NACPWC,       12,    96,  1, 960103,      3,2,20070608,1904, 28.2200,-114.5700,   97,     60.0,  11.4000,   33.8300,2,-999.0000,9,    115.9,2,    120.3,2,    21.78,2,    21.23,2,     0.05,2,     1.80,2,   2174.5,2,   2236.7,2,  11.3926,20070608,1906
  32WC20070511,NACPWC,       12,    96,  1, 960104,      4,2,20070608,1904, 28.2200,-114.5700,   97,     50.4,  12.1000,   33.7300,2,-999.0000,9,    158.0,2,    170.7,2,    15.54,6,    16.97,6,     0.90,6,     1.49,6,   2144.5,2,   2234.0,2,  12.0935,20070608,1907
  32WC20070511,NACPWC,       12,    96,  1, 960105,      5,2,20070608,1904, 28.2200,-114.5700,   97,     40.1,  13.1000,   33.6500,2,-999.0000,9,    203.4,2,    199.9,2,     8.55,2,     8.35,2,     0.68,2,     0.97,2,   2089.1,2,   2233.9,2,  13.0946,20070608,1909
  32WC20070511,NACPWC,       12,    96,  1, 960106,      6,2,20070608,1904, 28.2200,-114.5700,   97,     29.7,  14.9000,   33.6900,2,-999.0000,9,    238.0,2,    238.2,6,     4.64,2,     2.34,2,     0.20,2,     0.53,2,   2045.5,2,   2243.9,2,  14.8956,20070608,1910
  32WC20070511,NACPWC,       12,    96,  1, 960107,      7,2,20070608,1904, 28.2200,-114.5700,   97,     25.5,  15.9000,   33.7200,2,-999.0000,9,    254.6,2,    258.5,2,     0.57,2,     0.21,2,     0.02,2,     0.25,2,   2019.2,2,   2247.8,2,  15.8960,20070608,1910
  32WC20070511,NACPWC,       12,    96,  1, 960108,      8,2,20070608,1904, 28.2200,-114.5700,   97,     20.1,  16.1000,   33.7300,2,-999.0000,9,    260.4,2,    260.1,2,     0.43,2,     0.11,2,     0.01,2,     0.25,2,   2018.1,2,   2248.5,2,  16.0969,20070608,1911
  32WC20070511,NACPWC,       12,    96,  1, 960109,      9,2,20070608,1904, 28.2200,-114.5700,   97,     14.6,  16.1000,   33.7300,2,-999.0000,9,    260.2,2,    260.5,2,     0.44,2,     0.08,2,     0.01,2,     0.25,2,   2015.9,2,   2247.4,2,  16.0977,20070608,1912
  32WC20070511,NACPWC,       12,    96,  1, 960110,     10,2,20070608,1904, 28.2200,-114.5700,   97,      9.8,  16.2000,   33.7400,2,  33.7400,2,    260.1,2,    259.7,2,     0.45,2,     0.09,2,     0.01,2,     0.25,2,   2016.9,2,   2246.7,2,  16.1985,20070608,1913
  32WC20070511,NACPWC,       12,    96,  1, 960111,     11,2,20070608,1904, 28.2200,-114.5700,   97,      5.0,  16.2000,   33.7400,2,-999.0000,9,    259.9,2,    259.6,2,     0.51,2,     0.09,2,     0.01,2,     0.25,2,   2016.9,6,   2249.9,2,  16.1992,20070608,1913
  32WC20070511,NACPWC,       12,    97,  1, 970101,      1,2,20070608,2231, 28.0500,-114.8900,   82,     75.8,  10.7000,   33.8900,2,  33.8800,2,     80.5,2,     81.6,2,    28.14,6,    24.18,6,     0.07,6,     2.05,6,   2202.0,6,   2237.4,6,  10.6910,20070608,2231
  32WC20070511,NACPWC,       12,    97,  1, 970102,      2,2,20070608,2231, 28.0500,-114.8900,   82,     70.6,  11.2000,   33.8200,2,-999.0000,9,    105.0,2,    106.3,2,    23.04,6,    22.11,6,     0.04,6,     1.87,6,   2180.7,2,   2233.0,2,  11.1914,20070608,2232
  32WC20070511,NACPWC,       12,    97,  1, 970103,      3,2,20070608,2231, 28.0500,-114.8900,   82,     59.8,  11.7000,   33.7600,2,-999.0000,9,    131.5,2,    131.7,2,    18.21,2,    19.73,2,     0.10,2,     1.69,2,   2161.0,2,   2230.5,2,  11.6925,20070608,2233
  32WC20070511,NACPWC,       12,    97,  1, 970104,      4,2,20070608,2231, 28.0500,-114.8900,   82,     49.9,  12.3000,   33.7500,2,-999.0000,9,    150.9,2,    150.1,2,    17.60,6,    17.13,6,     0.56,6,     1.63,6,   2153.5,2,   2236.5,2,  12.2935,20070608,2235
  32WC20070511,NACPWC,       12,    97,  1, 970105,      5,2,20070608,2231, 28.0500,-114.8900,   82,     40.3,  13.8000,   33.6500,2,-999.0000,9,    218.7,2,    222.9,2,     6.34,2,     5.46,2,     0.43,2,     0.79,2,   2070.2,2,   2237.5,2,  13.7943,20070608,2236
  32WC20070511,NACPWC,       12,    97,  1, 970106,      6,2,20070608,2231, 28.0500,-114.8900,   82,     30.5,  14.9000,   33.7000,2,-999.0000,9,    247.3,2,    248.5,2,     3.08,2,     1.87,2,     0.15,2,     0.47,2,   2038.1,2,   2244.2,2,  14.8955,20070608,2237
  32WC20070511,NACPWC,       12,    97,  1, 970107,      7,2,20070608,2231, 28.0500,-114.8900,   82,     24.7,  15.6000,   33.7300,2,-999.0000,9,    256.6,2,    256.8,2,     1.38,2,     0.38,2,     0.03,2,     0.30,2,   2021.5,2,   2249.4,2,  15.5962,20070608,2238
  32WC20070511,NACPWC,       12,    97,  1, 970108,      8,2,20070608,2231, 28.0500,-114.8900,   82,     20.0,  15.8000,   33.7300,2,-999.0000,9,    263.2,2,    261.2,6,     1.18,2,     0.11,2,     0.01,2,     0.25,2,   2017.3,2,   2248.7,2,  15.7969,20070608,2239
  32WC20070511,NACPWC,       12,    97,  1, 970109,      9,2,20070608,2231, 28.0500,-114.8900,   82,     14.2,  15.9000,   33.7300,2,-999.0000,9,    265.4,2,    263.4,2,     1.34,2,     0.08,2,     0.01,2,     0.26,2,   2015.3,2,   2249.1,2,  15.8978,20070608,2239
  32WC20070511,NACPWC,       12,    97,  1, 970110,     10,2,20070608,2231, 28.0500,-114.8900,   82,     10.2,  16.1000,   33.7300,2,  33.7300,2,    263.8,2,    262.5,2,     1.22,2,     0.08,2,     0.01,2,     0.25,2,   2014.9,2,   2243.8,2,  16.0984,20070608,2240
  32WC20070511,NACPWC,       12,    97,  1, 970111,     11,4,20070608,2231, 28.0500,-114.8900,   82,      5.0,  16.2000,   33.7300,2,-999.0000,9,    262.3,2,    260.5,2,     1.08,2,     0.07,2,     0.00,2,     0.24,2,   2015.8,2,   2249.0,2,  16.1992,20070608,2241
  32WC20070511,NACPWC,       12,    98,  1, 980101,      1,2,20070609,0346, 27.8500,-115.2900,  101,     92.0,  10.7000,   34.2700,2,  34.2600,2,     58.9,2,     58.5,2,    32.70,6,    25.01,6,     0.10,6,     2.24,6,   2228.5,6,   2269.2,6,  10.6890,20070609,0346
  32WC20070511,NACPWC,       12,    98,  1, 980102,      2,2,20070609,0346, 27.8500,-115.2900,  101,     71.5,  10.6000,   34.1600,2,-999.0000,9,     79.5,2,     79.0,2,    30.12,6,    24.18,6,     0.03,6,     2.09,6,   2210.2,2,   2260.2,2,  10.5915,20070609,0348
  32WC20070511,NACPWC,       12,    98,  1, 980103,      3,2,20070609,0346, 27.8500,-115.2900,  101,     60.2,  10.6000,   34.1300,2,-999.0000,9,     84.3,2,     84.8,2,    28.93,2,    23.69,2,     0.04,2,     2.05,2,   2205.3,2,   2260.4,2,  10.5929,20070609,0349
  32WC20070511,NACPWC,       12,    98,  1, 980104,      4,2,20070609,0346, 27.8500,-115.2900,  101,     50.5,  10.7000,   34.0800,2,-999.0000,9,     90.3,2,     91.1,2,    27.86,2,    23.09,2,     0.03,2,     1.99,2,   2199.5,2,   2255.0,2,  10.6940,20070609,0351
  32WC20070511,NACPWC,       12,    98,  1, 980105,      5,2,20070609,0346, 27.8500,-115.2900,  101,     40.2,  11.1000,   34.0400,2,-999.0000,9,     89.7,2,     93.0,2,    26.47,2,    22.34,2,     0.04,2,     1.96,2,   2196.3,2,   2249.2,2,  11.0951,20070609,0352
  32WC20070511,NACPWC,       12,    98,  1, 980106,      6,2,20070609,0346, 27.8500,-115.2900,  101,     30.0,  11.8000,   33.9800,2,-999.0000,9,    112.6,2,    114.0,2,    23.47,2,    19.50,2,     0.17,2,     1.77,2,   2173.3,2,   2252.4,2,  11.7962,20070609,0353
  32WC20070511,NACPWC,       12,    98,  1, 980107,      7,2,20070609,0346, 27.8500,-115.2900,  101,     25.4,  12.1000,   33.9600,2,-999.0000,9,    132.7,2,    124.6,2,    22.20,2,    18.11,2,     0.22,2,     1.68,2,   2165.0,2,   2251.1,2,  12.0967,20070609,0354
  32WC20070511,NACPWC,       12,    98,  1, 980108,      8,2,20070609,0346, 27.8500,-115.2900,  101,     19.9,  13.0000,   33.8900,2,-999.0000,9,    150.3,2,    146.9,6,    18.97,2,    14.76,2,     0.30,2,     1.48,2,   2142.3,2,   2251.3,2,  12.9973,20070609,0355
  32WC20070511,NACPWC,       12,    98,  1, 980109,      9,2,20070609,0346, 27.8500,-115.2900,  101,     14.7,  14.9000,   33.8600,2,-999.0000,9,    200.3,2,   -999.0,9,    12.53,2,     7.82,2,     0.19,2,     0.97,2,   -999.0,9,   -999.0,9,  14.8978,20070609,0356
  32WC20070511,NACPWC,       12,    98,  1, 980110,     10,2,20070609,0346, 27.8500,-115.2900,  101,     14.8,  14.6000,   33.8700,2,-999.0000,9,    184.3,2,    197.9,2,    13.09,2,     8.33,2,     0.20,2,     1.01,2,   2091.0,2,   2252.1,2,  14.5978,20070609,0356
  32WC20070511,NACPWC,       12,    98,  1, 980111,     11,2,20070609,0346, 27.8500,-115.2900,  101,     10.4,  15.4000,   33.8700,2,-999.0000,9,    212.7,2,   -999.0,9,    10.74,2,     6.27,2,     0.16,2,     0.86,2,   -999.0,9,   -999.0,9,  15.3984,20070609,0357
  32WC20070511,NACPWC,       12,    98,  1, 980112,     12,2,20070609,0346, 27.8500,-115.2900,  101,     10.5,  15.6000,   33.8700,2,-999.0000,9,    214.8,2,    218.3,2,    10.24,2,     5.83,2,     0.15,2,     0.82,2,   2071.0,2,   2255.9,2,  15.5984,20070609,0357
  32WC20070511,NACPWC,       12,    98,  1, 980113,     13,2,20070609,0346, 27.8500,-115.2900,  101,      4.7,  15.9000,   33.8600,2,-999.0000,9,    224.7,2,   -999.0,9,     9.13,2,     4.91,2,     0.13,2,     0.75,2,   -999.0,9,   -999.0,9,  15.8993,20070609,0358
  32WC20070511,NACPWC,       12,    98,  1, 980114,     14,2,20070609,0346, 27.8500,-115.2900,  101,      5.0,  15.8000,   33.8700,2,  33.8600,2,    222.9,2,    225.1,2,     9.05,2,     5.02,2,     0.14,2,     0.74,2,   2062.9,6,   2254.4,2,  15.7992,20070609,0358