BOTTLE,20220810CCHSIOAMB
EXPOCODE,SECT_ID,LINE,STNNBR,CASTNO,SAMPNO,BTLNBR,BTLNBR_FLAG_W,DATE,TIME,LATITUDE,LONGITUDE,DEPTH,CTDPRS,CTDTMP,CTDSAL,CTDSAL_FLAG_W,SALNTY,SALNTY_FLAG_W,CTDOXY,CTDOXY_FLAG_W,OXYGEN,OXYGEN_FLAG_W,SILCAT,SILCAT_FLAG_W,NITRAT,NITRAT_FLAG_W,NITRIT,NITRIT_FLAG_W,PHSPHT,PHSPHT_FLAG_W,TCARBN,TCARBN_FLAG_W,ALKALI,ALKALI_FLAG_W,THETA,BTL_DATE,BTL_TIME
,,,,,,,,,,,,METERS,DBAR,ITS-90,PSS-78,,PSS-78,,UMOL/KG,,UMOL/KG,,UMOL/KG,,UMOL/KG,,UMOL/KG,,UMOL/KG,,UMOL/KG,,UMOL/KG,,DEG C,,
  32WC20070511,NACPWC,       13,   109,  1,1090101,      1,2,20070612,0334, 25.2500,-114.4100, 3521,    109.6,  13.6000,   34.0100,2,-999.0000,9,     99.3,2,    105.6,6,    18.63,6,    17.60,6,     0.03,6,     1.67,6,   2167.7,6,   2252.6,2,  13.5847,20070612,0334
  32WC20070511,NACPWC,       13,   109,  1,1090102,      2,2,20070612,0334, 25.2500,-114.4100, 3521,     89.8,  15.2000,   33.9000,2,-999.0000,9,    171.2,2,    173.2,2,     9.93,2,     8.21,2,     0.05,2,     0.98,2,   2100.6,2,   2245.8,2,  15.1864,20070612,0337
  32WC20070511,NACPWC,       13,   109,  1,1090103,      3,2,20070612,0334, 25.2500,-114.4100, 3521,     69.7,  17.2000,   34.0200,2,-999.0000,9,    228.2,2,    223.2,2,     4.83,2,     0.87,2,     0.12,2,     0.44,2,   2048.2,2,   2261.2,2,  17.1885,20070612,0338
  32WC20070511,NACPWC,       13,   109,  1,1090104,      4,2,20070612,0334, 25.2500,-114.4100, 3521,     59.7,  17.0000,   33.8200,2,-999.0000,9,    244.0,2,    242.4,2,     3.74,2,     0.14,2,     0.01,2,     0.27,2,   2027.5,2,   2248.3,2,  16.9903,20070612,0339
  32WC20070511,NACPWC,       13,   109,  1,1090105,      5,2,20070612,0334, 25.2500,-114.4100, 3521,     50.1,  17.4000,   33.8400,2,-999.0000,9,    246.4,2,    245.6,2,     3.49,2,     0.12,2,     0.00,2,     0.24,2,   2022.2,2,   2251.5,2,  17.3917,20070612,0340
  32WC20070511,NACPWC,       13,   109,  1,1090106,      6,2,20070612,0334, 25.2500,-114.4100, 3521,     39.5,  17.8000,   33.7400,2,-999.0000,9,    243.4,2,    242.4,2,     3.46,2,     0.12,2,     0.00,2,     0.20,2,   2020.7,2,   2243.8,2,  17.7933,20070612,0342
  32WC20070511,NACPWC,       13,   109,  1,1090107,      7,2,20070612,0334, 25.2500,-114.4100, 3521,     29.6,  17.9000,   33.7500,2,-999.0000,9,    242.1,2,    241.8,2,     3.46,2,     0.12,2,     0.00,2,     0.20,2,   2018.3,2,   2248.5,2,  17.8950,20070612,0343
  32WC20070511,NACPWC,       13,   109,  1,1090108,      8,2,20070612,0334, 25.2500,-114.4100, 3521,     25.0,  18.0000,   33.7600,2,-999.0000,9,    241.0,2,    241.4,2,     3.42,2,     0.12,2,     0.00,2,     0.20,2,   2017.6,2,   2244.3,2,  17.9958,20070612,0344
  32WC20070511,NACPWC,       13,   109,  1,1090109,      9,2,20070612,0334, 25.2500,-114.4100, 3521,     20.1,  18.0000,   33.7600,2,-999.0000,9,    240.6,2,    240.2,2,     3.43,2,     0.12,2,     0.00,2,     0.21,2,   2018.8,2,   2244.6,2,  17.9966,20070612,0345
  32WC20070511,NACPWC,       13,   109,  1,1090110,     10,2,20070612,0334, 25.2500,-114.4100, 3521,     15.1,  18.0000,   33.7600,2,  33.7600,2,    240.6,2,    240.5,2,     3.45,2,     0.11,2,     0.00,2,     0.20,2,   2018.0,2,   2243.8,2,  17.9974,20070612,0346
  32WC20070511,NACPWC,       13,   109,  1,1090111,     11,2,20070612,0334, 25.2500,-114.4100, 3521,     10.1,  18.3000,   33.7700,2,-999.0000,9,    239.6,2,    240.4,2,     3.39,2,     0.11,2,     0.00,2,     0.21,2,   2017.3,2,   2247.2,2,  18.2983,20070612,0347
  32WC20070511,NACPWC,       13,   109,  1,1090112,     12,2,20070612,0334, 25.2500,-114.4100, 3521,      4.8,  18.6000,   33.7900,2,-999.0000,9,    238.4,2,    239.3,2,     3.39,2,     0.09,2,     0.00,2,     0.21,2,   2018.6,2,   2245.2,2,  18.5992,20070612,0348
  32WC20070511,NACPWC,       13,   109,  2,1090201,      1,2,20070612,0543, 25.2500,-114.4100, 3521,   2999.9,   1.7000,   34.6700,2,  34.6700,2,    115.0,2,    114.9,2,   170.86,6,    38.28,6,     0.00,6,     2.74,6,   2363.2,6,   2434.4,6,   1.4788,20070612,0543
  32WC20070511,NACPWC,       13,   109,  2,1090202,      2,4,20070612,0543, 25.2500,-114.4100, 3521,   2500.5,   1.9000,   34.6600,2,-999.0000,9,    101.3,2,   -999.0,9,  -999.00,9,  -999.00,9,  -999.00,9,  -999.00,9,   -999.0,9,   -999.0,9,   1.7215,20070612,0558
  32WC20070511,NACPWC,       13,   109,  2,1090203,      3,2,20070612,0543, 25.2500,-114.4100, 3521,   1500.0,   3.1000,   34.5900,2,-999.0000,9,     42.3,2,     42.2,2,   142.31,2,    42.93,2,     0.00,2,     3.19,2,   2379.5,2,   2398.4,2,   2.9910,20070612,0623
  32WC20070511,NACPWC,       13,   109,  2,1090204,      4,2,20070612,0543, 25.2500,-114.4100, 3521,    799.4,   5.4000,   34.4800,2,-999.0000,9,      6.6,2,      7.8,2,    94.04,6,    42.73,6,     0.00,6,     3.21,6,   2346.8,2,   2345.6,2,   5.3321,20070612,0636
  32WC20070511,NACPWC,       13,   109,  2,1090205,      5,2,20070612,0543, 25.2500,-114.4100, 3521,    499.7,   7.5000,   34.4500,2,-999.0000,9,      6.5,2,      7.2,2,    67.23,2,    35.02,2,     0.00,2,     3.05,2,   2311.5,2,   2313.1,2,   7.4507,20070612,0642
  32WC20070511,NACPWC,       13,   109,  2,1090206,      6,2,20070612,0543, 25.2500,-114.4100, 3521,    349.6,   9.6000,   34.5500,2,-999.0000,9,      5.3,2,      6.7,2,    48.69,2,    28.63,2,     0.00,2,     2.80,2,   2290.5,2,   2304.4,2,   9.5604,20070612,0646
  32WC20070511,NACPWC,       13,   109,  2,1090207,      7,2,20070612,0543, 25.2500,-114.4100, 3521,    300.2,  10.3000,   34.5900,2,-999.0000,9,     11.8,2,      6.6,6,    44.28,2,    26.94,2,     0.01,2,     2.76,2,   2279.9,2,   2301.8,2,  10.2645,20070612,0648
  32WC20070511,NACPWC,       13,   109,  2,1090208,      8,4,20070612,0543, 25.2500,-114.4100, 3521,    249.8,  10.8000,   34.5500,2,-999.0000,9,     17.9,2,   -999.0,9,  -999.00,9,  -999.00,9,  -999.00,9,  -999.00,9,   -999.0,9,   -999.0,9,  10.7696,20070612,0650
  32WC20070511,NACPWC,       13,   109,  2,1090209,      9,2,20070612,0543, 25.2500,-114.4100, 3521,    199.6,  11.3000,   34.4400,2,-999.0000,9,     37.1,2,     39.3,2,    34.75,2,    25.75,2,     0.01,2,     2.41,2,   2241.4,2,   2281.3,2,  11.2751,20070612,0652
  32WC20070511,NACPWC,       13,   109,  2,1090210,     10,2,20070612,0543, 25.2500,-114.4100, 3521,    174.7,  11.4000,   34.3300,2,-999.0000,9,     41.8,2,     54.7,2,    31.74,2,    24.77,2,     0.01,2,     2.27,2,   2226.2,2,   2274.4,2,  11.3781,20070612,0654
  32WC20070511,NACPWC,       13,   109,  2,1090211,     11,2,20070612,0543, 25.2500,-114.4100, 3521,    150.3,  12.3000,   34.3300,2,-999.0000,9,     49.7,2,     58.6,2,    28.75,2,    23.93,2,     0.01,2,     2.20,2,   2221.7,2,   2266.9,2,  12.2802,20070612,0655
  32WC20070511,NACPWC,       13,   109,  2,1090212,     12,2,20070612,0543, 25.2500,-114.4100, 3521,    130.0,  12.9000,   34.1800,2,-999.0000,9,     82.4,2,     72.2,2,    24.00,2,    21.68,2,     0.02,2,     2.02,2,   2197.7,2,   2263.0,2,  12.8824,20070612,0657
  32WC20070511,NACPWC,       13,   110,  1,1100101,      1,2,20070612,0925, 25.0900,-114.7300, 3735,    109.5,  12.8000,   33.6300,2,-999.0000,9,    178.8,2,    181.6,2,    11.71,6,    10.61,6,     0.05,6,     1.08,6,   2096.7,2,   2230.9,6,  12.7853,20070612,0925
  32WC20070511,NACPWC,       13,   110,  1,1100102,      2,2,20070612,0925, 25.0900,-114.7300, 3735,     90.4,  14.4000,   33.6000,2,-999.0000,9,    220.4,2,    221.2,6,     5.96,2,     3.54,2,     0.13,2,     0.60,2,   2054.0,2,   2229.4,2,  14.3869,20070612,0927
  32WC20070511,NACPWC,       13,   110,  1,1100103,      3,2,20070612,0925, 25.0900,-114.7300, 3735,     69.9,  16.1000,   33.6800,2,-999.0000,9,    245.7,2,    245.4,2,     3.31,2,     0.40,2,     0.03,2,     0.34,2,   2029.9,2,   2241.1,2,  16.0890,20070612,0929
  32WC20070511,NACPWC,       13,   110,  1,1100104,      4,2,20070612,0925, 25.0900,-114.7300, 3735,     60.2,  16.5000,   33.6900,2,-999.0000,9,    248.8,2,    248.0,2,     2.99,2,     0.62,2,     0.00,2,     0.28,2,   2024.1,2,   2240.1,2,  16.4904,20070612,0930
  32WC20070511,NACPWC,       13,   110,  1,1100105,      5,2,20070612,0925, 25.0900,-114.7300, 3735,     49.8,  16.7000,   33.6800,2,-999.0000,9,    250.7,2,    250.3,2,     2.86,2,     0.67,2,     0.00,2,     0.25,2,   2019.2,2,   2239.5,2,  16.6920,20070612,0931
  32WC20070511,NACPWC,       13,   110,  1,1100106,      6,2,20070612,0925, 25.0900,-114.7300, 3735,     39.8,  17.7000,   33.7200,2,-999.0000,9,    243.0,2,    243.4,2,     2.91,2,     0.73,2,     0.00,2,     0.23,2,   2016.5,2,   2241.9,2,  17.6933,20070612,0932
  32WC20070511,NACPWC,       13,   110,  1,1100107,      7,2,20070612,0925, 25.0900,-114.7300, 3735,     30.4,  17.8000,   33.7300,2,-999.0000,9,    241.2,2,    241.7,2,     2.74,2,     0.76,2,     0.00,2,     0.22,2,   2016.5,2,   2242.6,2,  17.7949,20070612,0933
  32WC20070511,NACPWC,       13,   110,  1,1100108,      8,2,20070612,0925, 25.0900,-114.7300, 3735,     24.8,  17.8000,   33.7300,2,-999.0000,9,    240.8,2,    241.4,2,     2.80,2,     0.79,2,     0.00,2,     0.22,2,   2016.9,2,   2243.7,2,  17.7958,20070612,0934
  32WC20070511,NACPWC,       13,   110,  1,1100109,      9,2,20070612,0925, 25.0900,-114.7300, 3735,     20.0,  17.9000,   33.7300,2,-999.0000,9,    240.6,2,    241.0,2,     2.78,2,     0.83,2,     0.00,2,     0.21,2,   2015.3,2,   2228.7,2,  17.8966,20070612,0936
  32WC20070511,NACPWC,       13,   110,  1,1100110,     10,2,20070612,0925, 25.0900,-114.7300, 3735,     14.8,  18.1000,   33.7400,2,-999.0000,9,    240.1,2,    240.4,2,     2.80,2,     0.86,2,     0.00,2,     0.20,2,   2017.7,2,   2243.1,2,  18.0975,20070612,0937
  32WC20070511,NACPWC,       13,   110,  1,1100111,     11,2,20070612,0925, 25.0900,-114.7300, 3735,      9.7,  18.1000,   33.7400,2,  33.7400,2,    240.2,2,    240.1,2,     2.82,2,     0.87,2,     0.00,2,     0.20,2,   2019.0,2,   2245.9,2,  18.0983,20070612,0938
  32WC20070511,NACPWC,       13,   110,  1,1100112,     12,2,20070612,0925, 25.0900,-114.7300, 3735,      4.9,  18.1000,   33.7500,2,-999.0000,9,    239.8,2,    239.7,2,     2.89,2,     0.89,2,     0.00,2,     0.21,2,   2020.3,6,   2245.2,2,  18.0992,20070612,0939
  32WC20070511,NACPWC,       13,   110,  2,1100201,      1,2,20070612,1122, 25.0900,-114.7300, 3735,   3000.3,   1.7000,   34.6700,2,  34.6700,2,     99.4,2,    115.3,2,   170.80,6,    38.23,6,     0.00,6,     2.72,6,   2360.2,6,   2429.2,6,   1.4788,20070612,1122
  32WC20070511,NACPWC,       13,   110,  2,1100202,      2,2,20070612,1122, 25.0900,-114.7300, 3735,   2500.3,   1.9000,   34.6600,2,-999.0000,9,     92.9,2,    101.5,2,   165.72,2,    39.31,2,     0.00,2,     2.83,2,   2366.0,2,   2413.5,2,   1.7215,20070612,1132
  32WC20070511,NACPWC,       13,   110,  2,1100203,      3,2,20070612,1122, 25.0900,-114.7300, 3735,   2000.2,   2.3000,   34.6300,2,-999.0000,9,     78.2,2,     78.0,2,   158.89,2,    40.73,2,     0.00,2,     2.98,2,   2372.0,2,   2415.4,2,   2.1590,20070612,1141
  32WC20070511,NACPWC,       13,   110,  2,1100204,      4,2,20070612,1122, 25.0900,-114.7300, 3735,   1499.7,   3.1000,   34.5900,2,-999.0000,9,     43.2,2,     43.6,2,   142.96,2,    43.03,2,     0.00,2,     3.20,2,   2377.2,2,   2396.5,2,   2.9910,20070612,1151
  32WC20070511,NACPWC,       13,   110,  2,1100205,      5,2,20070612,1122, 25.0900,-114.7300, 3735,    799.7,   5.3000,   34.4800,2,-999.0000,9,      7.2,2,      7.5,2,    95.18,6,    42.91,6,     0.01,6,     3.21,6,   2342.8,2,   2343.2,2,   5.2327,20070612,1203
  32WC20070511,NACPWC,       13,   110,  2,1100206,      6,2,20070612,1122, 25.0900,-114.7300, 3735,    499.6,   7.7000,   34.5000,2,-999.0000,9,      3.6,2,      3.4,2,    66.44,2,    34.03,2,     0.00,2,     3.05,2,   2312.6,2,   2317.0,2,   7.6499,20070612,1209
  32WC20070511,NACPWC,       13,   110,  2,1100207,      7,2,20070612,1122, 25.0900,-114.7300, 3735,    350.7,   9.5000,   34.5300,2,-999.0000,9,      8.4,2,      8.7,2,    47.81,2,    28.90,2,     0.00,2,     2.78,2,   2286.6,2,   2310.1,2,   9.4605,20070612,1213
  32WC20070511,NACPWC,       13,   110,  2,1100208,      8,2,20070612,1122, 25.0900,-114.7300, 3735,    249.0,  11.2000,   34.6300,2,-999.0000,9,     10.1,2,      9.6,2,    39.68,2,    26.04,2,     0.01,2,     2.68,2,   2274.5,2,   2298.9,2,  11.1690,20070612,1216
  32WC20070511,NACPWC,       13,   110,  2,1100209,      9,2,20070612,1122, 25.0900,-114.7300, 3735,    199.8,  11.7000,   34.6300,2,-999.0000,9,     12.5,2,     10.9,2,    37.67,2,    25.86,2,     0.01,2,     2.63,2,   2268.3,2,   2294.7,2,  11.6745,20070612,1218
  32WC20070511,NACPWC,       13,   110,  2,1100210,     10,2,20070612,1122, 25.0900,-114.7300, 3735,    175.0,  12.1000,   34.6000,2,-999.0000,9,     21.5,2,     17.3,6,    35.17,2,    25.68,2,     0.01,2,     2.56,2,   2258.1,2,   2292.0,2,  12.0772,20070612,1220
  32WC20070511,NACPWC,       13,   110,  2,1100211,     11,2,20070612,1122, 25.0900,-114.7300, 3735,    150.1,  12.0000,   34.3800,2,-999.0000,9,     44.9,2,     43.2,2,    30.99,2,    24.70,2,     0.01,2,     2.33,2,   2233.4,2,   2276.3,2,  11.9806,20070612,1221
  32WC20070511,NACPWC,       13,   110,  2,1100212,     12,2,20070612,1122, 25.0900,-114.7300, 3735,    128.8,  12.2000,   34.0600,2,-999.0000,9,     88.9,2,     86.5,2,    24.17,2,    21.61,2,     0.02,2,     1.95,2,   2188.5,2,   2253.4,2,  12.1832,20070612,1223
  32WC20070511,NACPWC,       13,   111,  1,1110101,      1,2,20070612,1423, 24.9200,-115.0500, 3927,    110.4,  12.6000,   33.8900,2,-999.0000,9,    118.4,2,    119.2,2,    17.76,6,    18.05,6,     0.03,6,     1.56,6,   2154.2,2,   2244.3,6,  12.5853,20070612,1423
  32WC20070511,NACPWC,       13,   111,  1,1110102,      2,2,20070612,1423, 24.9200,-115.0500, 3927,     90.4,  13.9000,   33.8700,2,-999.0000,9,    134.4,2,    141.7,2,    12.37,2,    13.64,2,     0.12,2,     1.25,2,   2127.1,2,   -999.0,9,  13.8872,20070612,1425
  32WC20070511,NACPWC,       13,   111,  1,1110103,      3,2,20070612,1423, 24.9200,-115.0500, 3927,     70.5,  14.6000,   33.6200,2,-999.0000,9,    218.9,2,    221.9,2,     5.72,6,     3.75,2,     0.54,6,     0.51,6,   2051.7,2,   2233.6,2,  14.5897,20070612,1426
  32WC20070511,NACPWC,       13,   111,  1,1110104,      4,2,20070612,1423, 24.9200,-115.0500, 3927,     60.3,  16.4000,   33.8500,2,-999.0000,9,    234.9,2,    236.8,2,     3.19,2,     1.08,2,     0.08,2,     0.34,2,   2037.6,2,   2253.0,2,  16.3904,20070612,1428
  32WC20070511,NACPWC,       13,   111,  1,1110105,      5,2,20070612,1423, 24.9200,-115.0500, 3927,     49.9,  17.4000,   33.9400,2,-999.0000,9,    241.8,2,    241.2,2,     2.61,2,     0.79,2,     0.01,2,     0.30,2,   2029.2,2,   -999.0,9,  17.3917,20070612,1429
  32WC20070511,NACPWC,       13,   111,  1,1110106,      6,2,20070612,1423, 24.9200,-115.0500, 3927,     41.0,  17.4000,   33.7500,2,-999.0000,9,    245.3,2,    244.8,2,     2.76,2,     0.75,2,     0.00,2,     0.23,2,   2017.8,2,   2251.8,6,  17.3932,20070612,1430
  32WC20070511,NACPWC,       13,   111,  1,1110107,      7,2,20070612,1423, 24.9200,-115.0500, 3927,     30.4,  17.5000,   33.7400,2,-999.0000,9,    243.7,2,    243.6,2,     2.96,2,     0.78,2,     0.00,2,     0.22,2,   2017.1,2,   2245.0,2,  17.4949,20070612,1431
  32WC20070511,NACPWC,       13,   111,  1,1110108,      8,2,20070612,1423, 24.9200,-115.0500, 3927,     24.7,  17.6000,   33.7400,2,-999.0000,9,    243.1,2,    242.0,2,     2.97,2,     0.87,2,     0.00,2,     0.21,2,   2018.5,2,   2243.2,2,  17.5959,20070612,1432
  32WC20070511,NACPWC,       13,   111,  1,1110109,      9,2,20070612,1423, 24.9200,-115.0500, 3927,     19.6,  17.8000,   33.7400,2,-999.0000,9,    241.9,2,    241.3,6,     3.00,2,     0.87,2,     0.00,2,     0.21,2,   2018.7,2,   2244.0,2,  17.7967,20070612,1433
  32WC20070511,NACPWC,       13,   111,  1,1110110,     10,2,20070612,1423, 24.9200,-115.0500, 3927,     13.9,  17.8000,   33.7400,2,-999.0000,9,    241.7,2,    240.8,2,     2.97,2,     0.89,2,     0.00,2,     0.21,2,   2019.9,2,   2246.5,2,  17.7977,20070612,1434
  32WC20070511,NACPWC,       13,   111,  1,1110111,     11,2,20070612,1423, 24.9200,-115.0500, 3927,     10.0,  17.8000,   33.7400,2,  33.7500,2,    241.6,2,    240.7,2,     2.90,2,     0.88,2,     0.00,2,     0.21,2,   2017.9,2,   2245.1,2,  17.7983,20070612,1435
  32WC20070511,NACPWC,       13,   111,  1,1110112,     12,2,20070612,1423, 24.9200,-115.0500, 3927,      4.4,  17.8000,   33.7400,2,-999.0000,9,    241.4,2,    240.8,2,     2.85,2,     0.92,2,     0.00,2,     0.21,2,   2019.2,2,   2245.8,2,  17.7993,20070612,1436
  32WC20070511,NACPWC,       13,   111,  2,1110201,      1,2,20070612,1626, 24.9200,-115.0500, 3927,   2999.8,   1.7000,   34.6700,2,  34.6700,2,    116.0,2,    115.9,2,   167.91,6,    39.73,6,     0.00,6,     2.67,6,   2361.3,2,   2405.2,6,   1.4788,20070612,1626
  32WC20070511,NACPWC,       13,   111,  2,1110202,      2,2,20070612,1626, 24.9200,-115.0500, 3927,   2499.9,   1.8000,   34.6600,2,-999.0000,9,    102.3,2,    102.3,2,   163.51,2,    40.92,2,     0.00,2,     2.75,2,   2366.3,2,   2426.0,2,   1.6234,20070612,1639
  32WC20070511,NACPWC,       13,   111,  2,1110203,      3,2,20070612,1626, 24.9200,-115.0500, 3927,   2001.0,   2.2000,   34.6400,2,-999.0000,9,     79.7,2,     79.7,2,   157.86,2,    42.41,2,     0.00,2,     2.90,2,   2372.3,2,   2415.6,2,   2.0604,20070612,1649
  32WC20070511,NACPWC,       13,   111,  2,1110204,      4,2,20070612,1626, 24.9200,-115.0500, 3927,   1499.5,   3.1000,   34.5900,2,-999.0000,9,     43.4,2,     43.3,2,   141.61,2,    44.73,2,     0.00,2,     3.09,2,   2373.1,2,   2396.2,2,   2.9910,20070612,1700
  32WC20070511,NACPWC,       13,   111,  2,1110205,      5,2,20070612,1626, 24.9200,-115.0500, 3927,    799.4,   5.3000,   34.4800,2,-999.0000,9,      7.8,2,      7.5,2,    95.13,6,    43.94,6,     0.01,6,     3.18,6,   2343.7,2,   2343.8,2,   5.2328,20070612,1715
  32WC20070511,NACPWC,       13,   111,  2,1110206,      6,2,20070612,1626, 24.9200,-115.0500, 3927,    500.7,   7.5000,   34.5000,2,-999.0000,9,      3.1,2,      2.7,2,    67.42,2,    36.53,2,     0.00,2,     3.02,2,   2313.7,2,   2288.8,2,   7.4506,20070612,1721
  32WC20070511,NACPWC,       13,   111,  2,1110207,      7,2,20070612,1626, 24.9200,-115.0500, 3927,    349.9,   9.5000,   34.5700,2,-999.0000,9,      4.6,2,      3.7,2,    48.34,2,    29.97,2,     0.01,2,     2.80,2,   2289.2,2,   2304.7,2,   9.4606,20070612,1726
  32WC20070511,NACPWC,       13,   111,  2,1110208,      8,2,20070612,1626, 24.9200,-115.0500, 3927,    251.4,  10.9000,   34.5900,2,-999.0000,9,     11.7,2,     11.4,2,    38.84,2,    27.66,2,     0.01,2,     2.61,2,   2269.8,2,   2297.0,2,  10.8692,20070612,1730
  32WC20070511,NACPWC,       13,   111,  2,1110209,      9,2,20070612,1626, 24.9200,-115.0500, 3927,    201.2,  11.2000,   34.4900,2,-999.0000,9,     31.2,2,     31.6,2,    34.26,2,    27.34,2,     0.01,2,     2.40,2,   2246.9,2,   2283.1,2,  11.1750,20070612,1732
  32WC20070511,NACPWC,       13,   111,  2,1110210,     10,2,20070612,1626, 24.9200,-115.0500, 3927,    175.6,  11.5000,   34.4600,2,-999.0000,9,     36.9,2,     35.1,2,    32.31,2,    26.46,2,     0.01,2,     2.35,2,   2241.9,2,   2281.8,2,  11.4779,20070612,1734
  32WC20070511,NACPWC,       13,   111,  2,1110211,     11,2,20070612,1626, 24.9200,-115.0500, 3927,    150.6,  12.3000,   34.3900,2,-999.0000,9,     48.6,2,     42.7,2,    29.08,2,    25.29,2,     0.01,2,     2.26,2,   2229.2,2,   2276.4,2,  12.2802,20070612,1736
  32WC20070511,NACPWC,       13,   111,  2,1110212,     12,2,20070612,1626, 24.9200,-115.0500, 3927,    130.4,  12.3000,   34.2400,2,-999.0000,9,     77.4,2,     63.5,2,    25.76,2,    23.98,2,     0.02,2,     2.10,2,   2208.0,2,   2265.5,2,  12.2829,20070612,1737