BOTTLE,20220810CCHSIOAMB
EXPOCODE,SECT_ID,LINE,STNNBR,CASTNO,SAMPNO,BTLNBR,BTLNBR_FLAG_W,DATE,TIME,LATITUDE,LONGITUDE,DEPTH,CTDPRS,CTDTMP,CTDSAL,CTDSAL_FLAG_W,SALNTY,SALNTY_FLAG_W,CTDOXY,CTDOXY_FLAG_W,OXYGEN,OXYGEN_FLAG_W,SILCAT,SILCAT_FLAG_W,NITRAT,NITRAT_FLAG_W,NITRIT,NITRIT_FLAG_W,PHSPHT,PHSPHT_FLAG_W,TCARBN,TCARBN_FLAG_W,ALKALI,ALKALI_FLAG_W,THETA,BTL_DATE,BTL_TIME
,,,,,,,,,,,,METERS,DBAR,ITS-90,PSS-78,,PSS-78,,UMOL/KG,,UMOL/KG,,UMOL/KG,,UMOL/KG,,UMOL/KG,,UMOL/KG,,UMOL/KG,,UMOL/KG,,DEG C,,
  32WC20070511,NACPWC,        3,    17,  1, 170101,      1,2,20070518,2353, 46.0000,-127.5000, 2811,   2810.0,   1.7000,   34.6500,2,  34.6500,2,     86.5,2,   -999.0,9,   192.92,6,    39.47,6,     0.00,6,     2.72,6,   2382.8,6,   2411.4,2,   1.4969,20070518,2353
  32WC20070511,NACPWC,        3,    17,  1, 170102,      2,2,20070518,2353, 46.0000,-127.5000, 2811,   2501.0,   1.8000,   34.6300,2,-999.0000,9,     79.2,2,     78.4,2,   188.15,2,    40.27,2,     0.00,2,     2.70,2,   2383.4,2,   2423.6,6,   1.6234,20070518,0003
  32WC20070511,NACPWC,        3,    17,  1, 170103,      3,2,20070518,2353, 46.0000,-127.5000, 2811,   2002.2,   1.9000,   34.6000,2,-999.0000,9,     59.8,2,     60.2,2,   180.77,2,    41.66,2,     0.00,2,     2.81,2,   2388.0,2,   2411.6,6,   1.7650,20070518,0020
  32WC20070511,NACPWC,        3,    17,  1, 170104,      4,2,20070518,2353, 46.0000,-127.5000, 2811,   1501.5,   2.5000,   34.5300,2,-999.0000,9,     29.8,2,     30.5,2,   163.95,2,    43.42,2,     0.00,2,     2.95,2,   2390.6,2,   2394.5,2,   2.3979,20070518,0035
  32WC20070511,NACPWC,        3,    17,  1, 170105,      5,2,20070518,2353, 46.0000,-127.5000, 2811,    800.5,   4.1000,   34.3300,2,-999.0000,9,      8.6,2,      8.8,2,   117.45,6,    43.48,6,     0.01,6,     3.04,6,   2358.9,2,   2343.7,2,   4.0402,20070518,0052
  32WC20070511,NACPWC,        3,    17,  1, 170106,      6,2,20070518,2353, 46.0000,-127.5000, 2811,    499.3,   5.1000,   34.1300,2,-999.0000,9,     26.2,2,     26.6,2,    87.55,2,    41.18,2,     0.00,2,     2.83,2,   2315.0,2,   2304.4,2,   5.0601,20070518,0059
  32WC20070511,NACPWC,        3,    17,  1, 170107,      7,2,20070518,2353, 46.0000,-127.5000, 2811,    351.2,   5.9000,   34.0300,2,-999.0000,9,     56.5,2,     55.5,6,    67.64,2,    37.73,2,     0.00,2,     2.54,2,   2276.7,2,   2282.0,2,   5.8702,20070518,0103
  32WC20070511,NACPWC,        3,    17,  1, 170108,      8,2,20070518,2353, 46.0000,-127.5000, 2811,    250.0,   6.4000,   33.9100,2,-999.0000,9,    114.9,2,    115.7,2,    51.54,2,    31.63,2,     0.01,2,     2.07,2,   2223.1,2,   2263.6,2,   6.3781,20070518,0106
  32WC20070511,NACPWC,        3,    17,  1, 170109,      9,2,20070518,2353, 46.0000,-127.5000, 2811,    200.3,   6.9000,   33.8600,2,-999.0000,9,    139.0,2,    135.8,2,    42.55,2,    28.86,2,     0.01,2,     1.89,2,   2197.1,3,   2257.9,2,   6.8817,20070518,0108
  32WC20070511,NACPWC,        3,    17,  1, 170110,     10,2,20070518,2353, 46.0000,-127.5000, 2811,    175.2,   7.2000,   33.8000,2,-999.0000,9,    145.2,2,    144.4,2,    38.14,2,    27.63,2,     0.01,2,     1.83,2,   2184.6,2,   2241.9,2,   7.1837,20070518,0109
  32WC20070511,NACPWC,        3,    17,  1, 170111,     11,2,20070518,2353, 46.0000,-127.5000, 2811,    152.2,   7.1000,   33.6500,2,-999.0000,9,    182.3,2,    174.7,2,    32.63,2,    24.67,2,     0.01,2,     1.67,2,   2159.9,2,   2237.7,2,   7.0860,20070518,0111
  32WC20070511,NACPWC,        3,    17,  1, 170112,     12,2,20070518,2353, 46.0000,-127.5000, 2811,    131.2,   7.7000,   33.3800,2,-999.0000,9,    186.5,2,    179.2,2,    27.21,2,    23.01,2,     0.01,2,     1.62,2,   2140.2,2,   2217.3,2,   7.6874,20070518,0112
  32WC20070511,NACPWC,        3,    17,  1, 170113,     13,2,20070518,2353, 46.0000,-127.5000, 2811,    109.3,   8.2000,   32.7000,2,-999.0000,9,    259.9,2,    258.0,2,    12.46,2,    11.88,2,     0.03,2,     1.03,2,   2051.3,2,   2175.8,2,   8.1892,20070518,0113
  32WC20070511,NACPWC,        3,    17,  1, 170114,     14,2,20070518,2353, 46.0000,-127.5000, 2811,     89.5,   8.3000,   32.4700,2,-999.0000,9,    286.7,2,    287.3,2,     7.64,2,     7.10,2,     0.35,2,     0.82,2,   2019.3,2,   2174.2,2,   8.2911,20070518,0115
  32WC20070511,NACPWC,        3,    17,  1, 170115,     15,2,20070518,2353, 46.0000,-127.5000, 2811,     70.5,   8.6000,   32.4200,2,-999.0000,9,    294.7,2,    293.6,2,     6.97,2,     5.90,2,     0.18,2,     0.75,2,   2010.2,2,   2172.8,2,   8.5929,20070518,0116
  32WC20070511,NACPWC,        3,    17,  1, 170116,     16,2,20070518,2353, 46.0000,-127.5000, 2811,     60.6,   8.8000,   32.3900,2,-999.0000,9,    297.5,2,    311.7,2,     6.90,2,     5.61,2,     0.13,2,     0.73,2,   2001.6,2,   2165.8,2,   8.7938,20070518,0117
  32WC20070511,NACPWC,        3,    17,  1, 170117,     17,2,20070518,2353, 46.0000,-127.5000, 2811,     49.1,   9.7000,   32.3900,2,-999.0000,9,    300.7,2,    301.5,6,     6.52,2,     4.56,2,     0.09,2,     0.65,2,   1991.0,2,   2173.0,2,   9.6946,20070518,0118
  32WC20070511,NACPWC,        3,    17,  1, 170118,     18,2,20070518,2353, 46.0000,-127.5000, 2811,     38.7,  10.2000,   32.3900,2,-999.0000,9,    298.4,2,    299.0,2,     6.47,2,     4.10,2,     0.09,2,     0.62,2,   1988.2,2,   2177.8,2,  10.1956,20070518,0119
  32WC20070511,NACPWC,        3,    17,  1, 170119,     19,2,20070518,2353, 46.0000,-127.5000, 2811,     30.4,  10.7000,   32.3900,2,-999.0000,9,    295.1,2,    295.7,2,     6.37,2,     3.95,2,     0.09,2,     0.61,2,   1984.5,2,   2174.0,2,  10.6965,20070518,0120
  32WC20070511,NACPWC,        3,    17,  1, 170120,     20,2,20070518,2353, 46.0000,-127.5000, 2811,     25.1,  10.9000,   32.3900,2,-999.0000,9,    294.1,2,    293.4,2,     6.35,2,     3.91,2,     0.08,2,     0.61,2,   1986.0,2,   2175.7,2,  10.8970,20070518,0121
  32WC20070511,NACPWC,        3,    17,  1, 170121,     21,2,20070518,2353, 46.0000,-127.5000, 2811,     20.0,  10.9000,   32.4000,2,-999.0000,9,    293.9,2,    293.0,2,     6.23,2,     3.88,2,     0.08,2,     0.61,2,   1988.6,2,   2173.1,2,  10.8976,20070518,0122
  32WC20070511,NACPWC,        3,    17,  1, 170122,     22,2,20070518,2353, 46.0000,-127.5000, 2811,     14.2,  10.9000,   32.4000,2,-999.0000,9,    293.7,2,    293.4,2,     6.29,2,     3.87,2,     0.08,2,     0.61,2,   1986.9,2,   2174.5,2,  10.8983,20070518,0123
  32WC20070511,NACPWC,        3,    17,  1, 170123,     23,2,20070518,2353, 46.0000,-127.5000, 2811,      9.9,  10.9000,   32.4000,2,  32.4000,2,    293.5,2,    293.5,2,     6.21,2,     3.92,2,     0.08,2,     0.61,2,   1984.8,2,   2174.4,2,  10.8988,20070518,0123
  32WC20070511,NACPWC,        3,    17,  1, 170124,     24,2,20070518,2353, 46.0000,-127.5000, 2811,      4.3,  10.9000,   32.4000,2,-999.0000,9,    293.3,2,    293.7,2,     6.24,2,     3.85,2,     0.08,2,     0.61,2,   1987.0,2,   2173.6,2,  10.8995,20070518,0124
  32WC20070511,NACPWC,        3,    18,  1, 180101,      1,2,20070519,1655, 46.2900,-126.9200, 2745,   2739.5,   1.7000,   34.6500,2,  34.6500,6,     78.9,2,     91.9,2,   198.01,2,    38.91,2,     0.01,2,     2.72,2,   2392.9,6,   2439.1,6,   1.5035,20070519,1655
  32WC20070511,NACPWC,        3,    18,  1, 180102,      2,2,20070519,1655, 46.2900,-126.9200, 2745,   2502.3,   1.8000,   34.6400,2,-999.0000,9,     77.2,2,     76.9,2,   190.31,2,    40.06,2,     0.00,2,     2.71,2,   2391.3,2,   2405.2,2,   1.6233,20070519,1703
  32WC20070511,NACPWC,        3,    18,  1, 180103,      3,2,20070519,1655, 46.2900,-126.9200, 2745,   2001.4,   1.9000,   34.6000,2,-999.0000,9,     59.7,2,     60.7,2,   180.22,2,    41.30,2,     0.00,2,     2.78,2,   2390.3,2,   2414.8,3,   1.7650,20070519,1716
  32WC20070511,NACPWC,        3,    18,  1, 180104,      4,2,20070519,1655, 46.2900,-126.9200, 2745,   1498.0,   2.5000,   34.5200,2,-999.0000,9,     28.0,2,     28.9,2,   164.43,6,    43.28,6,     0.01,6,     2.96,6,   2394.8,2,   2395.5,2,   2.3982,20070519,1729
  32WC20070511,NACPWC,        3,    18,  1, 180105,      5,2,20070519,1655, 46.2900,-126.9200, 2745,    800.8,   4.1000,   34.3000,2,-999.0000,9,      8.8,2,      9.2,2,   117.70,2,    42.89,2,     0.00,2,     3.03,2,   2360.0,2,   2344.2,2,   4.0403,20070519,1746
  32WC20070511,NACPWC,        3,    18,  1, 180106,      6,2,20070519,1655, 46.2900,-126.9200, 2745,    499.0,   5.3000,   34.1100,2,-999.0000,9,     31.6,2,     31.1,2,    83.34,2,    39.85,2,     0.01,2,     2.79,2,   2311.1,2,   2300.0,2,   5.2594,20070519,1754
  32WC20070511,NACPWC,        3,    18,  1, 180107,      7,2,20070519,1655, 46.2900,-126.9200, 2745,    351.8,   6.2000,   34.0300,2,-999.0000,9,     55.4,2,     55.8,6,    65.01,2,    36.63,2,     0.01,2,     2.55,2,   2277.0,2,   -999.0,9,   6.1694,20070519,1800
  32WC20070511,NACPWC,        3,    18,  1, 180108,      8,2,20070519,1655, 46.2900,-126.9200, 2745,    249.8,   6.9000,   33.9900,2,-999.0000,9,     74.6,2,     74.3,2,    53.90,2,    33.81,2,     0.01,2,     2.35,2,   2252.0,2,   2269.1,2,   6.8771,20070519,1804
  32WC20070511,NACPWC,        3,    18,  1, 180109,      9,2,20070519,1655, 46.2900,-126.9200, 2745,    199.9,   7.3000,   33.9500,2,-999.0000,9,     88.2,2,     92.2,2,    46.49,2,    31.25,2,     0.02,2,     2.19,2,   2230.6,2,   -999.0,9,   7.2811,20070519,1807
  32WC20070511,NACPWC,        3,    18,  1, 180110,     10,2,20070519,1655, 46.2900,-126.9200, 2745,    174.5,   7.5000,   33.9000,2,-999.0000,9,    101.9,2,    104.2,2,    42.25,2,    30.00,2,     0.02,2,     2.11,2,   2217.3,2,   2252.9,2,   7.4833,20070519,1809
  32WC20070511,NACPWC,        3,    18,  1, 180111,     11,3,20070519,1655, 46.2900,-126.9200, 2745,    149.7,   7.7000,   33.8200,2,-999.0000,9,    111.1,2,    118.2,2,    38.69,2,    28.97,2,     0.03,2,     2.02,2,   2203.8,2,   -999.0,9,   7.6855,20070519,1810
  32WC20070511,NACPWC,        3,    18,  1, 180112,     12,2,20070519,1655, 46.2900,-126.9200, 2745,    128.9,   8.0000,   33.7400,2,-999.0000,9,    126.6,2,    123.2,2,    35.85,2,    27.95,2,     0.03,2,     1.97,2,   2195.3,2,   2239.6,2,   7.9873,20070519,1812
  32WC20070511,NACPWC,        3,    18,  1, 180113,     13,2,20070519,1655, 46.2900,-126.9200, 2745,    109.7,   7.9000,   33.4400,2,-999.0000,9,    179.0,2,    176.7,2,    27.60,2,    23.14,2,     0.03,2,     1.65,2,   2146.4,2,   -999.0,9,   7.8893,20070519,1814
  32WC20070511,NACPWC,        3,    18,  1, 180114,     14,2,20070519,1655, 46.2900,-126.9200, 2745,     89.3,   7.9000,   32.8400,2,-999.0000,9,    234.4,2,    237.7,2,    16.09,2,    14.97,2,     0.04,2,     1.22,2,   2077.1,2,   2193.1,2,   7.8914,20070519,1816
  32WC20070511,NACPWC,        3,    18,  1, 180115,     15,2,20070519,1655, 46.2900,-126.9200, 2745,     71.1,   8.5000,   32.4900,2,-999.0000,9,    280.5,2,    280.6,2,     8.26,2,     7.55,2,     0.37,2,     0.85,2,   2026.4,2,   2177.0,2,   8.4929,20070519,1817
  32WC20070511,NACPWC,        3,    18,  1, 180116,     16,2,20070519,1655, 46.2900,-126.9200, 2745,     60.3,   8.7000,   32.4400,2,-999.0000,9,    286.5,2,    286.0,2,     7.62,2,     6.30,2,     0.28,2,     0.79,2,   2019.2,2,   2173.2,2,   8.6939,20070519,1819
  32WC20070511,NACPWC,        3,    18,  1, 180117,     17,2,20070519,1655, 46.2900,-126.9200, 2745,     49.1,   9.0000,   32.4300,2,-999.0000,9,    294.2,2,    290.7,2,     7.56,2,     5.69,2,     0.16,2,     0.74,2,   2011.5,2,   2163.4,2,   8.9949,20070519,1820
  32WC20070511,NACPWC,        3,    18,  1, 180118,     18,2,20070519,1655, 46.2900,-126.9200, 2745,     39.7,   9.7000,   32.4300,2,-999.0000,9,    297.0,2,    298.7,6,     6.74,2,     4.40,2,     0.08,2,     0.64,2,   1998.8,2,   2176.0,2,   9.6957,20070519,1821
  32WC20070511,NACPWC,        3,    18,  1, 180119,     19,2,20070519,1655, 46.2900,-126.9200, 2745,     30.4,  10.6000,   32.4600,2,-999.0000,9,    292.4,2,    292.7,2,     6.07,2,     3.79,2,     0.08,2,     0.58,2,   1995.2,2,   2176.4,2,  10.5965,20070519,1823
  32WC20070511,NACPWC,        3,    18,  1, 180120,     20,2,20070519,1655, 46.2900,-126.9200, 2745,     25.0,  10.9000,   32.4800,2,-999.0000,9,    289.7,2,    290.5,2,     5.73,2,     3.65,2,     0.08,2,     0.56,2,   1995.5,2,   2176.4,2,  10.8970,20070519,1824
  32WC20070511,NACPWC,        3,    18,  1, 180121,     21,2,20070519,1655, 46.2900,-126.9200, 2745,     20.3,  11.0000,   32.4800,2,-999.0000,9,    290.3,2,    290.2,2,     5.70,2,     3.64,2,     0.08,2,     0.55,2,   1996.3,2,   2175.9,2,  10.9976,20070519,1825
  32WC20070511,NACPWC,        3,    18,  1, 180122,     22,2,20070519,1655, 46.2900,-126.9200, 2745,     15.1,  11.0000,   32.4800,2,-999.0000,9,    290.1,2,    289.5,2,     5.66,2,     3.64,2,     0.08,2,     0.56,2,   1996.7,2,   2177.4,2,  10.9982,20070519,1826
  32WC20070511,NACPWC,        3,    18,  1, 180123,     23,2,20070519,1655, 46.2900,-126.9200, 2745,     10.7,  11.1000,   32.4800,2,  32.4900,2,    290.0,2,    289.4,2,     5.62,2,     3.62,2,     0.08,2,     0.56,2,   1995.0,2,   2176.8,2,  11.0987,20070519,1827
  32WC20070511,NACPWC,        3,    18,  1, 180124,     24,2,20070519,1655, 46.2900,-126.9200, 2745,      4.2,  11.1000,   32.4800,2,-999.0000,9,    289.7,2,    322.0,2,     5.63,2,     3.65,2,     0.08,2,     0.55,2,   1994.3,2,   2174.6,2,  11.0995,20070519,1828
  32WC20070511,NACPWC,        3,    19,  1, 190101,      1,2,20070519,1024, 46.5900,-126.3200, 2677,   2674.5,   1.8000,   34.6400,2,  34.6500,6,     76.0,2,     75.5,2,   199.60,6,  -999.00,9,     0.00,6,     2.76,6,   2390.9,6,   2439.9,2,   1.6076,20070519,1024
  32WC20070511,NACPWC,        3,    19,  1, 190102,      2,2,20070519,1024, 46.5900,-126.3200, 2677,   2001.2,   1.9000,   34.6000,2,-999.0000,9,     61.0,2,     61.5,2,   183.02,2,  -999.00,5,     0.00,2,     2.81,2,   2385.1,2,   2414.6,2,   1.7651,20070519,1040
  32WC20070511,NACPWC,        3,    19,  1, 190103,      3,2,20070519,1024, 46.5900,-126.3200, 2677,   1501.3,   2.5000,   34.5300,2,-999.0000,9,     30.9,2,     31.4,2,   167.89,2,  -999.00,5,     0.00,2,     2.97,2,   2388.5,2,   2398.3,2,   2.3979,20070519,1052
  32WC20070511,NACPWC,        3,    19,  1, 190104,      4,2,20070519,1024, 46.5900,-126.3200, 2677,    801.7,   3.9000,   34.3200,2,-999.0000,9,      9.0,2,      9.6,2,   123.75,6,  -999.00,5,     0.00,6,     3.06,6,   2357.0,2,   2335.4,2,   3.8414,20070519,1109
  32WC20070511,NACPWC,        3,    19,  1, 190105,      5,2,20070519,1024, 46.5900,-126.3200, 2677,    499.8,   5.1000,   34.1400,2,-999.0000,9,     26.2,2,     25.3,2,    90.75,6,  -999.00,5,     0.00,6,     2.87,6,   2311.9,2,   2306.4,2,   5.0601,20070519,1116
  32WC20070511,NACPWC,        3,    19,  1, 190106,      6,2,20070519,1024, 46.5900,-126.3200, 2677,    351.2,   5.7000,   34.0300,2,-999.0000,9,     50.6,2,     51.2,2,    72.30,2,  -999.00,5,     0.00,2,     2.64,2,   2280.5,2,   2283.8,2,   5.6708,20070519,1120
  32WC20070511,NACPWC,        3,    19,  1, 190107,      7,2,20070519,1024, 46.5900,-126.3200, 2677,    300.7,   6.3000,   34.0200,2,-999.0000,9,     65.0,2,     57.6,2,    65.11,2,  -999.00,5,     0.01,2,     2.54,2,   2266.1,2,   2277.0,2,   6.2737,20070519,1122
  32WC20070511,NACPWC,        3,    19,  1, 190108,      8,2,20070519,1024, 46.5900,-126.3200, 2677,    249.4,   6.6000,   33.9700,2,-999.0000,9,     78.9,2,     81.2,2,    57.49,6,  -999.00,5,     0.01,6,     2.34,6,   2244.5,2,   2268.7,6,   6.5777,20070519,1124
  32WC20070511,NACPWC,        3,    19,  1, 190109,      9,2,20070519,1024, 46.5900,-126.3200, 2677,    200.5,   7.1000,   33.9400,2,-999.0000,9,     97.0,2,    100.1,2,    49.41,6,  -999.00,5,     0.01,6,     2.17,6,   2224.7,2,   2260.7,2,   7.0814,20070519,1126
  32WC20070511,NACPWC,        3,    19,  1, 190110,     10,2,20070519,1024, 46.5900,-126.3200, 2677,    175.3,   7.3000,   33.9000,2,-999.0000,9,     98.4,2,    108.9,2,    45.04,2,  -999.00,5,     0.03,2,     2.10,2,   2215.0,2,   2253.8,2,   7.2835,20070519,1128
  32WC20070511,NACPWC,        3,    19,  1, 190111,     11,2,20070519,1024, 46.5900,-126.3200, 2677,    151.3,   7.7000,   33.8400,2,-999.0000,9,    105.3,2,    114.2,2,    41.05,2,  -999.00,5,     0.03,2,     2.05,2,   2204.8,2,   2246.3,2,   7.6853,20070519,1129
  32WC20070511,NACPWC,        3,    19,  1, 190112,     12,2,20070519,1024, 46.5900,-126.3200, 2677,    129.6,   7.9000,   33.7600,2,-999.0000,9,    127.0,2,    121.1,2,    39.04,2,  -999.00,5,     0.02,2,     2.01,2,   2197.1,2,   2242.3,2,   7.8873,20070519,1131
  32WC20070511,NACPWC,        3,    19,  1, 190113,     13,2,20070519,1024, 46.5900,-126.3200, 2677,    110.3,   8.0000,   33.5700,2,-999.0000,9,    151.8,2,    157.5,2,    33.40,2,  -999.00,5,     0.02,2,     1.84,2,   2168.6,2,   2229.1,2,   7.9891,20070519,1132
  32WC20070511,NACPWC,        3,    19,  1, 190114,     14,2,20070519,1024, 46.5900,-126.3200, 2677,     90.1,   8.2000,   32.8600,2,-999.0000,9,    232.8,2,    230.4,2,    19.42,2,  -999.00,5,     0.03,2,     1.27,2,   2079.1,2,   2191.4,2,   8.1911,20070519,1133
  32WC20070511,NACPWC,        3,    19,  1, 190115,     15,2,20070519,1024, 46.5900,-126.3200, 2677,     70.4,   8.5000,   32.4100,2,-999.0000,9,    286.7,2,    288.2,2,    10.57,2,  -999.00,5,     0.41,2,     0.82,2,   2017.1,2,   2170.3,2,   8.4929,20070519,1135
  32WC20070511,NACPWC,        3,    19,  1, 190116,     16,2,20070519,1024, 46.5900,-126.3200, 2677,     59.5,   8.6000,   32.4000,2,-999.0000,9,    289.0,2,    290.5,6,    10.15,2,  -999.00,5,     0.24,2,     0.79,2,   2012.4,2,   2174.3,2,   8.5940,20070519,1136
  32WC20070511,NACPWC,        3,    19,  1, 190117,     17,2,20070519,1024, 46.5900,-126.3200, 2677,     50.4,   8.8000,   32.3900,2,-999.0000,9,    292.7,2,    293.8,2,    10.19,6,  -999.00,5,     0.15,6,     0.74,6,   2008.5,2,   2170.0,2,   8.7948,20070519,1137
  32WC20070511,NACPWC,        3,    19,  1, 190118,     18,2,20070519,1024, 46.5900,-126.3200, 2677,     40.4,   9.4000,   32.3600,2,-999.0000,9,    299.8,2,    300.5,2,     9.69,2,  -999.00,5,     0.08,2,     0.63,2,   1993.5,2,   2167.6,2,   9.3957,20070519,1139
  32WC20070511,NACPWC,        3,    19,  1, 190119,     19,2,20070519,1024, 46.5900,-126.3200, 2677,     30.4,  10.2000,   32.3400,2,-999.0000,9,    304.8,2,    304.4,2,     8.85,2,  -999.00,5,     0.07,2,     0.54,2,   1980.7,2,   2167.9,2,  10.1966,20070519,1140
  32WC20070511,NACPWC,        3,    19,  1, 190120,     20,2,20070519,1024, 46.5900,-126.3200, 2677,     24.2,  10.3000,   32.3500,2,-999.0000,9,    303.9,2,    305.0,2,     8.97,2,  -999.00,5,     0.07,2,     0.53,2,   1983.3,2,   2168.5,2,  10.2973,20070519,1141
  32WC20070511,NACPWC,        3,    19,  1, 190121,     21,2,20070519,1024, 46.5900,-126.3200, 2677,     19.5,  10.8000,   32.3500,2,-999.0000,9,    298.5,2,    298.8,2,     9.20,6,  -999.00,5,     0.07,6,     0.52,6,   1982.7,2,   2160.1,2,  10.7977,20070519,1142
  32WC20070511,NACPWC,        3,    19,  1, 190122,     22,2,20070519,1024, 46.5900,-126.3200, 2677,     14.3,  11.0000,   32.3500,2,-999.0000,9,    295.9,2,    295.6,2,     9.31,2,  -999.00,5,     0.07,2,     0.52,2,   1983.1,2,   2155.9,2,  10.9983,20070519,1143
  32WC20070511,NACPWC,        3,    19,  1, 190123,     23,2,20070519,1024, 46.5900,-126.3200, 2677,      9.5,  11.0000,   32.3500,2,  32.3500,2,    295.6,2,    295.1,2,     9.34,2,  -999.00,5,     0.07,2,     0.52,2,   1981.7,2,   2167.4,2,  10.9989,20070519,1144
  32WC20070511,NACPWC,        3,    19,  1, 190124,     24,2,20070519,1024, 46.5900,-126.3200, 2677,      4.8,  11.0000,   32.3500,2,-999.0000,9,    295.4,2,    294.8,2,     9.33,2,  -999.00,5,     0.07,2,     0.51,2,   1980.3,2,   2157.7,2,  10.9994,20070519,1146