BOTTLE,20220810CCHSIOAMB
EXPOCODE,SECT_ID,LINE,STNNBR,CASTNO,SAMPNO,BTLNBR,BTLNBR_FLAG_W,DATE,TIME,LATITUDE,LONGITUDE,DEPTH,CTDPRS,CTDTMP,CTDSAL,CTDSAL_FLAG_W,SALNTY,SALNTY_FLAG_W,CTDOXY,CTDOXY_FLAG_W,OXYGEN,OXYGEN_FLAG_W,SILCAT,SILCAT_FLAG_W,NITRAT,NITRAT_FLAG_W,NITRIT,NITRIT_FLAG_W,PHSPHT,PHSPHT_FLAG_W,TCARBN,TCARBN_FLAG_W,ALKALI,ALKALI_FLAG_W,THETA,BTL_DATE,BTL_TIME
,,,,,,,,,,,,METERS,DBAR,ITS-90,PSS-78,,PSS-78,,UMOL/KG,,UMOL/KG,,UMOL/KG,,UMOL/KG,,UMOL/KG,,UMOL/KG,,UMOL/KG,,UMOL/KG,,DEG C,,
  32WC20070511,NACPWC,       12,   102,  1,1020101,      1,2,20070609,2348, 27.3900,-116.1900, 3681,   3736.9,   1.6000,   34.6800,2,  34.6800,6,    127.5,2,    127.1,2,   170.69,6,    36.39,6,     0.00,6,     2.65,6,   2353.0,6,   2428.2,6,   1.3066,20070609,2348
  32WC20070511,NACPWC,       12,   102,  1,1020102,      2,2,20070609,2348, 27.3900,-116.1900, 3681,   3000.6,   1.7000,   34.6700,2,-999.0000,9,    116.2,2,    116.2,2,   169.40,2,    37.06,2,     0.00,2,     2.70,2,   2359.1,6,   2426.4,2,   1.4787,20070609,0004
  32WC20070511,NACPWC,       12,   102,  1,1020103,      3,2,20070609,2348, 27.3900,-116.1900, 3681,   1999.8,   2.2000,   34.6400,2,-999.0000,9,     80.2,2,     81.1,2,   159.44,2,    39.11,2,     0.00,2,     2.90,2,   2372.9,2,   2422.2,2,   2.0605,20070609,0025
  32WC20070511,NACPWC,       12,   102,  1,1020104,      4,2,20070609,2348, 27.3900,-116.1900, 3681,   1500.4,   2.9000,   34.5800,2,-999.0000,9,     47.0,2,     47.9,2,   145.04,2,    40.95,2,     0.00,2,     3.09,2,   2376.6,2,   2397.6,2,   2.7933,20070609,0036
  32WC20070511,NACPWC,       12,   102,  1,1020105,      5,2,20070609,2348, 27.3900,-116.1900, 3681,    800.5,   4.8000,   34.4600,2,-999.0000,9,     11.9,2,     12.1,2,   102.67,6,    41.11,6,     0.00,6,     3.16,6,   2348.5,2,   2348.8,2,   4.7357,20070609,0049
  32WC20070511,NACPWC,       12,   102,  1,1020106,      6,2,20070609,2348, 27.3900,-116.1900, 3681,    499.8,   6.6000,   34.3400,2,-999.0000,9,     14.8,2,     13.3,2,    72.38,2,    36.19,2,     0.00,2,     2.98,2,   2309.7,2,   2311.9,2,   6.5542,20070609,0056
  32WC20070511,NACPWC,       12,   102,  1,1020107,      7,2,20070609,2348, 27.3900,-116.1900, 3681,    351.6,   8.2000,   34.3400,2,-999.0000,9,     30.4,2,     29.8,2,    52.86,2,    31.04,2,     0.00,2,     2.70,2,   2278.5,2,   2293.3,2,   8.1639,20070609,0100
  32WC20070511,NACPWC,       12,   102,  1,1020108,      8,2,20070609,2348, 27.3900,-116.1900, 3681,    249.8,   9.1000,   34.2600,2,-999.0000,9,     69.2,2,     65.6,2,    40.48,2,    27.46,2,     0.00,2,     2.31,2,   2235.2,2,   2273.9,2,   9.0729,20070609,0103
  32WC20070511,NACPWC,       12,   102,  1,1020109,      9,2,20070609,2348, 27.3900,-116.1900, 3681,    201.3,   9.8000,   34.1900,2,-999.0000,9,     88.5,2,     88.3,2,    33.01,2,    24.84,2,     0.00,2,     2.05,2,   2208.7,2,   2265.7,2,   9.7772,20070609,0105
  32WC20070511,NACPWC,       12,   102,  1,1020110,     10,2,20070609,2348, 27.3900,-116.1900, 3681,    174.9,   9.9000,   34.0200,2,-999.0000,9,    117.0,2,    115.7,2,    28.23,2,    22.72,2,     0.01,2,     1.84,2,   2182.0,2,   2252.2,2,   9.8801,20070609,0106
  32WC20070511,NACPWC,       12,   102,  1,1020111,     11,2,20070609,2348, 27.3900,-116.1900, 3681,    150.1,  10.5000,   33.8600,2,-999.0000,9,    127.6,2,    129.5,6,    22.99,2,    20.20,2,     0.01,2,     1.67,2,   2159.4,2,   2245.2,2,  10.4823,20070609,0107
  32WC20070511,NACPWC,       12,   102,  1,1020112,     12,2,20070609,2348, 27.3900,-116.1900, 3681,    130.6,  11.2000,   33.7300,2,-999.0000,9,    149.3,2,    146.0,2,    18.46,2,    17.27,2,     0.01,2,     1.47,2,   2135.7,2,   2232.6,2,  11.1840,20070609,0109
  32WC20070511,NACPWC,       12,   102,  1,1020113,     13,2,20070609,2348, 27.3900,-116.1900, 3681,    109.4,  12.3000,   33.6000,2,-999.0000,9,    171.9,2,    177.3,2,    11.84,2,    11.85,2,     0.03,2,     1.06,2,   2095.8,2,   2225.3,2,  12.2858,20070609,0110
  32WC20070511,NACPWC,       12,   102,  1,1020114,     14,2,20070609,2348, 27.3900,-116.1900, 3681,     90.3,  13.5000,   33.5200,2,-999.0000,9,    229.8,2,    221.2,2,     6.37,2,     5.06,2,     0.04,2,     0.61,2,   2051.4,2,   2212.1,2,  13.4875,20070609,0111
  32WC20070511,NACPWC,       12,   102,  1,1020115,     15,2,20070609,2348, 27.3900,-116.1900, 3681,     70.1,  14.4000,   33.4800,2,-999.0000,9,    251.1,2,    249.6,2,     3.75,2,     0.63,2,     0.14,2,     0.35,2,   2023.7,2,   2228.6,2,  14.3899,20070609,0112
  32WC20070511,NACPWC,       12,   102,  1,1020116,     16,2,20070609,2348, 27.3900,-116.1900, 3681,     59.2,  16.0000,   33.6800,2,-999.0000,9,    247.7,2,    245.7,2,     2.87,2,     0.01,2,     0.00,2,     0.29,2,   2020.4,2,   2239.0,2,  15.9908,20070609,0113
  32WC20070511,NACPWC,       12,   102,  1,1020117,     17,2,20070609,2348, 27.3900,-116.1900, 3681,     50.5,  16.2000,   33.6700,2,-999.0000,9,    247.9,2,    248.3,2,     2.66,2,     0.01,2,     0.00,2,     0.26,2,   2017.8,2,   2241.8,2,  16.1921,20070609,0114
  32WC20070511,NACPWC,       12,   102,  1,1020118,     18,2,20070609,2348, 27.3900,-116.1900, 3681,     39.7,  16.6000,   33.6500,2,-999.0000,9,    249.5,2,    249.7,2,     2.63,2,     0.01,2,     0.00,2,     0.24,2,   2015.5,2,   2239.4,2,  16.5936,20070609,0115
  32WC20070511,NACPWC,       12,   102,  1,1020119,     19,2,20070609,2348, 27.3900,-116.1900, 3681,     29.4,  17.4000,   33.7300,2,-999.0000,9,    244.2,2,    243.4,2,     2.69,2,     0.00,2,     0.00,2,     0.24,2,   2016.0,2,   2244.2,2,  17.3951,20070609,0117
  32WC20070511,NACPWC,       12,   102,  1,1020120,     20,2,20070609,2348, 27.3900,-116.1900, 3681,     23.9,  17.4000,   33.7300,2,-999.0000,9,    244.2,2,    243.3,2,     2.70,2,     0.00,2,     0.00,2,     0.25,2,   2018.6,2,   2242.5,2,  17.3960,20070609,0118
  32WC20070511,NACPWC,       12,   102,  1,1020121,     21,2,20070609,2348, 27.3900,-116.1900, 3681,     20.5,  17.4000,   33.7000,2,-999.0000,9,    244.5,2,    243.8,2,     2.77,2,     0.02,2,     0.00,2,     0.25,2,   2017.0,2,   2243.3,2,  17.3966,20070609,0120
  32WC20070511,NACPWC,       12,   102,  1,1020122,     22,2,20070609,2348, 27.3900,-116.1900, 3681,     14.9,  17.4000,   33.7000,2,-999.0000,9,    244.3,2,    243.6,2,     2.77,2,     0.03,2,     0.00,2,     0.25,2,   2017.9,2,   2241.3,2,  17.3975,20070609,0121
  32WC20070511,NACPWC,       12,   102,  1,1020123,     23,2,20070609,2348, 27.3900,-116.1900, 3681,     10.2,  17.4000,   33.7000,2,  33.7000,2,    244.1,2,    243.9,2,     2.82,2,     0.03,2,     0.00,2,     0.25,2,   2016.5,2,   2241.8,2,  17.3983,20070609,0121
  32WC20070511,NACPWC,       12,   102,  1,1020124,     24,2,20070609,2348, 27.3900,-116.1900, 3681,      4.9,  17.4000,   33.6900,2,-999.0000,9,    244.1,2,    244.2,2,     2.85,2,     0.04,2,     0.00,2,     0.26,2,   2018.7,2,   2241.9,2,  17.3992,20070609,0122
  32WC20070511,NACPWC,       12,   103,  1,1030101,      1,2,20070610,0741, 27.2200,-116.5200, 3747,    349.7,   8.7000,   34.3900,2,  34.3900,2,     23.1,2,     23.7,2,    50.39,6,    30.22,6,     0.00,6,     2.70,6,   2277.5,6,   2293.4,6,   8.6627,20070610,0741
  32WC20070511,NACPWC,       12,   103,  1,1030102,      2,2,20070610,0741, 27.2200,-116.5200, 3747,    299.9,   9.2000,   34.3800,2,-999.0000,9,     34.7,2,     34.5,2,    44.42,2,    28.70,2,     0.00,2,     2.55,2,   2262.5,6,   2285.6,2,   9.1670,20070610,0743
  32WC20070511,NACPWC,       12,   103,  1,1030103,      3,2,20070610,0741, 27.2200,-116.5200, 3747,    249.8,   9.7000,   34.3400,2,-999.0000,9,     51.8,2,     54.0,2,    38.56,2,    26.85,2,     0.00,2,     2.36,2,   2240.1,6,   2279.0,2,   9.6717,20070610,0746
  32WC20070511,NACPWC,       12,   103,  1,1030104,      4,2,20070610,0741, 27.2200,-116.5200, 3747,    200.3,  10.3000,   34.2900,2,-999.0000,9,     68.8,2,     67.3,2,    33.63,2,    25.27,2,     0.01,2,     2.22,2,   2224.5,6,   2270.6,2,  10.2765,20070610,0748
  32WC20070511,NACPWC,       12,   103,  1,1030105,      5,2,20070610,0741, 27.2200,-116.5200, 3747,    150.1,  10.3000,   33.8200,2,-999.0000,9,    142.5,2,    139.9,2,    22.59,2,    19.71,2,     0.01,2,     1.63,2,   2153.9,2,   2239.6,2,  10.2825,20070610,0750
  32WC20070511,NACPWC,       12,   103,  1,1030106,      6,2,20070610,0741, 27.2200,-116.5200, 3747,     99.4,  14.2000,   33.6100,2,-999.0000,9,    227.2,2,    225.2,2,     5.59,2,     3.22,2,     0.14,2,     0.50,2,   2041.6,2,   2219.0,2,  14.1857,20070610,0752
  32WC20070511,NACPWC,       12,   103,  1,1030107,      7,2,20070610,0741, 27.2200,-116.5200, 3747,     70.2,  16.5000,   33.8000,2,-999.0000,9,    245.5,2,    260.0,2,     2.84,2,     0.03,2,     0.00,2,     0.26,2,   2020.7,2,   2246.4,2,  16.4888,20070610,0754
  32WC20070511,NACPWC,       12,   103,  1,1030108,      8,2,20070610,0741, 27.2200,-116.5200, 3747,     49.8,  17.7000,   33.8100,2,-999.0000,9,    240.4,2,    240.8,6,     2.58,2,     0.02,2,     0.00,2,     0.25,2,   2021.2,2,   2247.1,2,  17.6916,20070610,0755
  32WC20070511,NACPWC,       12,   103,  1,1030109,      9,2,20070610,0741, 27.2200,-116.5200, 3747,     30.0,  17.7000,   33.8100,2,-999.0000,9,    239.7,2,    240.5,2,     2.47,2,     0.02,2,     0.00,2,     0.25,2,   2021.6,2,   2250.9,2,  17.6950,20070610,0757
  32WC20070511,NACPWC,       12,   103,  1,1030110,     10,2,20070610,0741, 27.2200,-116.5200, 3747,     20.0,  17.7000,   33.8100,2,-999.0000,9,    239.2,2,    240.4,2,     2.43,2,     0.02,2,     0.00,2,     0.24,2,   2018.7,2,   2248.8,2,  17.6966,20070610,0758
  32WC20070511,NACPWC,       12,   103,  1,1030111,     11,2,20070610,0741, 27.2200,-116.5200, 3747,      9.8,  17.7000,   33.8100,2,  33.8100,2,    239.1,2,    240.4,2,     2.56,2,     0.02,2,     0.00,2,     0.24,2,   2017.8,2,   2250.0,2,  17.6984,20070610,0759
  32WC20070511,NACPWC,       12,   103,  1,1030112,     12,2,20070610,0741, 27.2200,-116.5200, 3747,      5.0,  17.7000,   33.8100,2,-999.0000,9,    238.7,2,    240.4,2,     2.45,2,     0.01,2,     0.00,2,     0.20,2,   2020.4,2,   2250.2,2,  17.6992,20070610,0801
  32WC20070511,NACPWC,       13,   104,  1,1040101,      1,2,20070611,0154, 26.0900,-112.8200,   87,     78.4,  11.8000,   34.4300,2,  34.4300,2,      9.1,2,     10.6,2,    44.24,2,    23.00,2,     0.58,2,     2.76,2,   2268.7,6,   2288.1,6,  11.7900,20070611,0154
  32WC20070511,NACPWC,       13,   104,  1,1040102,      2,2,20070611,0154, 26.0900,-112.8200,   87,     66.4,  12.0000,   34.4000,2,-999.0000,9,     15.3,2,     12.4,2,    42.64,2,    23.23,2,     0.31,2,     2.69,2,   2263.6,2,   2285.1,2,  11.9914,20070611,0155
  32WC20070511,NACPWC,       13,   104,  1,1040103,      3,2,20070611,0154, 26.0900,-112.8200,   87,     60.0,  11.9000,   34.3500,2,-999.0000,9,     31.3,2,     30.4,2,    33.50,2,    24.65,2,     0.32,2,     2.46,2,   2243.7,2,   2278.3,2,  11.8923,20070611,0156
  32WC20070511,NACPWC,       13,   104,  1,1040104,      4,2,20070611,0154, 26.0900,-112.8200,   87,     49.7,  12.0000,   34.2800,2,-999.0000,9,     33.1,2,     33.3,2,    34.10,2,    24.76,2,     0.16,2,     2.46,2,   2234.7,2,   2270.0,2,  11.9936,20070611,0157
  32WC20070511,NACPWC,       13,   104,  1,1040105,      5,2,20070611,0154, 26.0900,-112.8200,   87,     39.5,  12.0000,   34.1700,2,-999.0000,9,     37.2,2,     39.5,2,    31.57,2,    24.45,2,     0.26,2,     2.36,2,   2229.6,2,   2269.4,2,  11.9949,20070611,0158
  32WC20070511,NACPWC,       13,   104,  1,1040106,      6,2,20070611,0154, 26.0900,-112.8200,   87,     30.2,  13.4000,   34.1900,2,-999.0000,9,     81.3,2,     61.2,2,    32.33,6,    19.83,6,     0.86,6,     2.36,6,   2230.7,2,   2269.0,2,  13.3958,20070611,0159
  32WC20070511,NACPWC,       13,   104,  1,1040107,      7,2,20070611,0154, 26.0900,-112.8200,   87,     25.0,  14.4000,   34.1400,2,-999.0000,9,    131.8,2,    154.0,2,    26.23,2,    16.02,2,     0.71,2,     1.95,2,   2183.5,2,   2268.7,2,  14.3964,20070611,0200
  32WC20070511,NACPWC,       13,   104,  1,1040108,      8,2,20070611,0154, 26.0900,-112.8200,   87,     19.7,  14.9000,   34.1200,2,-999.0000,9,    210.8,2,    205.6,2,    21.58,2,    11.37,2,     0.27,2,     1.57,2,   2144.5,2,   2273.5,2,  14.8971,20070611,0201
  32WC20070511,NACPWC,       13,   104,  1,1040109,      9,2,20070611,0154, 26.0900,-112.8200,   87,     14.9,  15.4000,   34.1100,2,-999.0000,9,    230.1,2,    230.2,6,    18.43,2,     8.51,2,     0.24,2,     1.33,2,   2122.2,2,   2274.0,2,  15.3977,20070611,0202
  32WC20070511,NACPWC,       13,   104,  1,1040110,     10,2,20070611,0154, 26.0900,-112.8200,   87,      9.4,  15.9000,   34.1300,2,  34.1200,2,    271.7,2,    266.0,2,    15.87,2,     6.49,2,     0.25,2,     1.17,2,   2094.7,2,   2276.4,2,  15.8985,20070611,0203
  32WC20070511,NACPWC,       13,   104,  1,1040111,     11,2,20070611,0154, 26.0900,-112.8200,   87,      4.5,  16.1000,   34.1300,2,-999.0000,9,    279.2,2,    281.8,2,    13.71,2,     5.03,2,     0.26,2,     1.04,2,   2084.6,2,   2281.7,2,  16.0993,20070611,0204
  32WC20070511,NACPWC,       13,   104,  1,1040112,     12,2,20070611,0154, 26.0900,-112.8200,   87,      4.6,  16.1000,   34.1300,2,-999.0000,9,    280.2,2,   -999.0,9,    13.69,2,     5.04,2,     0.26,2,     1.02,2,   -999.0,9,   -999.0,9,  16.0993,20070611,0205
  32WC20070511,NACPWC,       13,   105,  1,1050101,      1,2,20070611,0440, 25.9200,-113.1400,  194,    184.2,  11.3000,   34.6200,2,  34.6200,2,      3.5,2,      7.0,2,    43.54,6,    22.60,6,     0.12,6,     2.77,6,   2285.0,6,   2300.8,6,  11.2770,20070611,0440
  32WC20070511,NACPWC,       13,   105,  1,1050102,      2,2,20070611,0440, 25.9200,-113.1400,  194,    174.6,  11.3000,   34.6200,2,-999.0000,9,      3.5,2,      3.2,2,    43.50,2,    22.65,2,     0.12,2,     2.76,2,   2283.9,6,   2302.6,2,  11.2782,20070611,0442
  32WC20070511,NACPWC,       13,   105,  1,1050103,      3,2,20070611,0440, 25.9200,-113.1400,  194,    150.0,  11.3000,   34.6200,2,-999.0000,9,      4.8,2,      3.4,2,    43.40,2,    22.75,2,     0.12,2,     2.76,2,   2285.8,2,   2299.8,2,  11.2813,20070611,0444
  32WC20070511,NACPWC,       13,   105,  1,1050104,      4,2,20070611,0440, 25.9200,-113.1400,  194,    129.4,  11.5000,   34.6100,2,-999.0000,9,      7.1,2,      7.5,2,    39.78,2,    24.46,2,     0.04,2,     2.69,2,   2278.0,2,   2297.2,2,  11.4837,20070611,0445
  32WC20070511,NACPWC,       13,   105,  1,1050105,      5,2,20070611,0440, 25.9200,-113.1400,  194,    110.1,  11.8000,   34.6000,2,-999.0000,9,      8.7,2,      9.9,2,    38.25,2,    24.19,2,     0.04,2,     2.65,2,   2274.2,2,   2295.8,2,  11.7859,20070611,0447
  32WC20070511,NACPWC,       13,   105,  1,1050106,      6,2,20070611,0440, 25.9200,-113.1400,  194,     90.3,  12.1000,   34.5600,2,-999.0000,9,      7.6,2,      9.9,2,    37.57,2,    23.48,2,     0.08,2,     2.64,2,   2271.2,2,   2291.8,2,  12.0883,20070611,0448
  32WC20070511,NACPWC,       13,   105,  1,1050107,      7,2,20070611,0440, 25.9200,-113.1400,  194,     70.0,  11.8000,   34.2600,2,-999.0000,9,     55.4,2,     53.1,2,    29.07,2,    23.62,2,     0.31,2,     2.25,2,   2227.2,2,   2267.7,2,  11.7911,20070611,0450
  32WC20070511,NACPWC,       13,   105,  1,1050108,      8,2,20070611,0440, 25.9200,-113.1400,  194,     60.0,  11.7000,   34.1100,2,-999.0000,9,     73.8,2,     70.7,2,    24.83,2,    22.67,2,     0.31,2,     2.08,2,   2208.8,2,   2264.4,2,  11.6924,20070611,0451
  32WC20070511,NACPWC,       13,   105,  1,1050109,      9,2,20070611,0440, 25.9200,-113.1400,  194,     51.1,  11.7000,   34.0000,2,-999.0000,9,     86.9,2,   -999.0,9,    19.87,2,    21.08,2,     0.39,2,     1.91,2,   2191.0,2,   2249.0,2,  11.6936,20070611,0452
  32WC20070511,NACPWC,       13,   105,  1,1050110,     10,2,20070611,0440, 25.9200,-113.1400,  194,     40.4,  12.0000,   33.8300,2,-999.0000,9,    122.6,2,    122.3,6,    17.59,2,    17.89,2,     0.41,2,     1.67,2,   2162.4,2,   2239.9,2,  11.9948,20070611,0454
  32WC20070511,NACPWC,       13,   105,  1,1050111,     11,2,20070611,0440, 25.9200,-113.1400,  194,     30.6,  12.5000,   33.7000,2,-999.0000,9,    183.3,2,    190.4,2,     9.07,2,     9.87,2,     0.25,2,     1.07,2,   2094.9,2,   2236.0,2,  12.4960,20070611,0455
  32WC20070511,NACPWC,       13,   105,  1,1050112,     12,2,20070611,0440, 25.9200,-113.1400,  194,     24.7,  13.7000,   33.7100,2,-999.0000,9,    221.4,2,    215.9,2,     6.20,2,     6.37,2,     0.22,2,     0.81,2,   2074.0,2,   2241.6,2,  13.6965,20070611,0456
  32WC20070511,NACPWC,       13,   105,  1,1050113,     13,2,20070611,0440, 25.9200,-113.1400,  194,     20.1,  14.0000,   33.7000,2,-999.0000,9,    237.0,2,    239.2,2,     3.50,2,     3.85,2,     0.19,2,     0.63,2,   -999.0,9,   -999.0,9,  13.9971,20070611,0457
  32WC20070511,NACPWC,       13,   105,  1,1050114,     14,2,20070611,0440, 25.9200,-113.1400,  194,     20.2,  14.2000,   33.7000,2,-999.0000,9,    257.9,2,    237.7,2,     3.61,2,     4.04,2,     0.18,2,     0.61,2,   2059.6,2,   2242.0,2,  14.1971,20070611,0457
  32WC20070511,NACPWC,       13,   105,  1,1050115,     15,2,20070611,0440, 25.9200,-113.1400,  194,     14.7,  14.6000,   33.7000,2,-999.0000,9,    272.0,2,    260.4,6,     2.02,2,     1.77,2,     0.12,2,     0.45,2,   2041.2,2,   2244.5,2,  14.5979,20070611,0458
  32WC20070511,NACPWC,       13,   105,  1,1050116,     16,2,20070611,0440, 25.9200,-113.1400,  194,     10.2,  14.9000,   33.7000,2,-999.0000,9,    276.1,2,   -999.0,9,     1.27,2,     0.67,2,     0.06,2,     0.37,2,   -999.0,9,   -999.0,9,  14.8985,20070611,0459
  32WC20070511,NACPWC,       13,   105,  1,1050117,     17,2,20070611,0440, 25.9200,-113.1400,  194,     10.2,  14.8000,   33.7000,2,-999.0000,9,    274.0,2,    276.7,2,     0.99,2,     0.37,2,     0.03,2,     0.33,2,   2020.8,2,   2243.0,2,  14.7985,20070611,0459
  32WC20070511,NACPWC,       13,   105,  1,1050118,     18,2,20070611,0440, 25.9200,-113.1400,  194,      4.8,  15.0000,   33.6900,2,  33.7000,2,    277.6,2,    277.8,2,     0.81,2,     0.21,2,     0.02,2,     0.31,2,   2017.1,6,   2244.5,2,  14.9993,20070611,0500
  32WC20070511,NACPWC,       13,   105,  1,1050119,     19,2,20070611,0440, 25.9200,-113.1400,  194,      4.9,  15.1000,   33.7000,2,-999.0000,9,    278.2,2,   -999.0,9,     0.91,2,     0.18,2,     0.03,2,     0.33,2,   -999.0,9,   -999.0,9,  15.0993,20070611,0500