BOTTLE,20220810CCHSIOAMB
EXPOCODE,SECT_ID,LINE,STNNBR,CASTNO,SAMPNO,BTLNBR,BTLNBR_FLAG_W,DATE,TIME,LATITUDE,LONGITUDE,DEPTH,CTDPRS,CTDTMP,CTDSAL,CTDSAL_FLAG_W,SALNTY,SALNTY_FLAG_W,CTDOXY,CTDOXY_FLAG_W,OXYGEN,OXYGEN_FLAG_W,SILCAT,SILCAT_FLAG_W,NITRAT,NITRAT_FLAG_W,NITRIT,NITRIT_FLAG_W,PHSPHT,PHSPHT_FLAG_W,TCARBN,TCARBN_FLAG_W,ALKALI,ALKALI_FLAG_W,THETA,BTL_DATE,BTL_TIME
,,,,,,,,,,,,METERS,DBAR,ITS-90,PSS-78,,PSS-78,,UMOL/KG,,UMOL/KG,,UMOL/KG,,UMOL/KG,,UMOL/KG,,UMOL/KG,,UMOL/KG,,UMOL/KG,,DEG C,,
  32WC20070511,NACPWC,        9,    69,  1, 690101,      1,2,20070601,1731, 34.7400,-121.3700,  590,    576.9,   5.5000,   34.3300,2,  34.3300,2,     12.1,2,     12.1,2,    90.99,6,    39.74,6,     0.02,6,     3.10,6,   2331.5,6,   2326.4,6,   5.4516,20070601,1731
  32WC20070511,NACPWC,        9,    69,  1, 690102,      2,2,20070601,1731, 34.7400,-121.3700,  590,    499.5,   5.6000,   34.2000,2,-999.0000,9,     22.9,2,     22.7,2,    83.39,2,    39.47,2,     0.00,2,     2.97,2,   2315.7,2,   2309.5,2,   5.5581,20070601,1735
  32WC20070511,NACPWC,        9,    69,  1, 690103,      3,2,20070601,1731, 34.7400,-121.3700,  590,    450.2,   5.8000,   34.1900,2,-999.0000,9,     26.8,2,     26.8,2,    78.54,2,    38.82,2,     0.00,2,     2.91,2,   2308.7,2,   2303.6,2,   5.7617,20070601,1738
  32WC20070511,NACPWC,        9,    69,  1, 690104,      4,2,20070601,1731, 34.7400,-121.3700,  590,    399.2,   6.0000,   34.1700,2,-999.0000,9,     32.6,2,     32.4,2,    74.47,2,    37.88,2,     0.00,2,     2.87,2,   2299.6,2,   2297.7,2,   5.9656,20070601,1740
  32WC20070511,NACPWC,        9,    69,  1, 690105,      5,2,20070601,1731, 34.7400,-121.3700,  590,    350.0,   6.0000,   34.1200,2,-999.0000,9,     44.1,2,     44.0,2,    71.11,2,    37.18,2,     0.01,2,     2.78,2,   2285.3,2,   2292.4,2,   5.9700,20070601,1743
  32WC20070511,NACPWC,        9,    69,  1, 690106,      6,2,20070601,1731, 34.7400,-121.3700,  590,    300.0,   6.6000,   34.1200,2,-999.0000,9,     51.7,2,     51.3,2,    62.84,2,    35.42,2,     0.01,2,     2.67,2,   2272.5,2,   2286.9,2,   6.5730,20070601,1745
  32WC20070511,NACPWC,        9,    69,  1, 690107,      7,2,20070601,1731, 34.7400,-121.3700,  590,    249.5,   7.2000,   34.0600,2,-999.0000,9,     79.7,2,     79.9,2,    52.28,2,    32.43,2,     0.01,2,     2.27,2,   2241.6,2,   2274.8,2,   7.1765,20070601,1747
  32WC20070511,NACPWC,        9,    69,  1, 690108,      8,2,20070601,1731, 34.7400,-121.3700,  590,    224.2,   7.5000,   34.0600,2,-999.0000,9,     83.9,2,     83.5,2,    48.72,2,    31.64,2,     0.01,2,     2.19,2,   2233.4,2,   2270.8,2,   7.4784,20070601,1749
  32WC20070511,NACPWC,        9,    69,  1, 690109,      9,2,20070601,1731, 34.7400,-121.3700,  590,    199.7,   7.8000,   34.0500,2,-999.0000,9,     87.6,2,     87.1,2,    44.69,2,    30.66,2,     0.02,2,     2.13,2,   2226.6,2,   2265.5,2,   7.7804,20070601,1751
  32WC20070511,NACPWC,        9,    69,  1, 690110,     10,2,20070601,1731, 34.7400,-121.3700,  590,    175.0,   8.0000,   34.0500,2,-999.0000,9,     90.9,2,     89.4,2,    42.33,2,    30.09,2,     0.03,2,     2.10,2,   2221.7,2,   2263.4,2,   7.9826,20070601,1753
  32WC20070511,NACPWC,        9,    69,  1, 690111,     11,2,20070601,1731, 34.7400,-121.3700,  590,    150.0,   8.3000,   33.9900,2,-999.0000,9,    120.4,2,    123.6,6,    35.84,2,    26.48,2,     0.03,2,     1.83,2,   2191.1,2,   2255.6,2,   8.2848,20070601,1755
  32WC20070511,NACPWC,        9,    69,  1, 690112,     12,2,20070601,1731, 34.7400,-121.3700,  590,    129.9,   8.4000,   33.9600,2,-999.0000,9,    130.4,2,    130.2,2,    33.74,2,    25.67,2,     0.03,2,     1.77,2,   2186.8,2,   2253.2,2,   8.3867,20070601,1757
  32WC20070511,NACPWC,        9,    69,  1, 690113,     13,2,20070601,1731, 34.7400,-121.3700,  590,    110.5,   9.0000,   33.9500,2,-999.0000,9,    111.6,2,    112.8,2,    32.72,2,    26.26,2,     0.02,2,     1.88,2,   2197.3,2,   2249.5,2,   8.9882,20070601,1758
  32WC20070511,NACPWC,        9,    69,  1, 690114,     14,2,20070601,1731, 34.7400,-121.3700,  590,     90.2,   9.5000,   33.9000,2,-999.0000,9,    122.4,2,    121.7,2,    31.23,2,    25.53,2,     0.04,2,     1.84,2,   2188.0,2,   2247.5,2,   9.4901,20070601,1800
  32WC20070511,NACPWC,        9,    69,  1, 690115,     15,2,20070601,1731, 34.7400,-121.3700,  590,     70.2,  10.4000,   33.8300,2,-999.0000,9,    190.1,2,    187.7,2,    23.27,2,    20.03,2,     0.26,2,     1.62,2,   2158.7,2,   2247.4,2,  10.3918,20070601,1801
  32WC20070511,NACPWC,        9,    69,  1, 690116,     16,2,20070601,1731, 34.7400,-121.3700,  590,     60.0,  10.6000,   33.8100,2,-999.0000,9,    202.7,2,    202.6,2,    20.66,2,    18.41,2,     0.27,2,     1.53,2,   2147.7,2,   2248.0,2,  10.5929,20070601,1802
  32WC20070511,NACPWC,        9,    69,  1, 690117,     17,2,20070601,1731, 34.7400,-121.3700,  590,     51.4,  11.0000,   33.7700,2,-999.0000,9,    215.3,2,    214.8,2,    17.95,2,    16.59,2,     0.30,2,     1.42,2,   2135.6,2,   2246.4,2,  10.9938,20070601,1804
  32WC20070511,NACPWC,        9,    69,  1, 690118,     18,2,20070601,1731, 34.7400,-121.3700,  590,     38.8,  11.3000,   33.5600,2,-999.0000,9,    230.0,2,    239.4,2,    14.43,2,    14.00,2,     0.32,2,     1.15,2,   2102.8,2,   2239.6,2,  11.2952,20070601,1806
  32WC20070511,NACPWC,        9,    69,  1, 690119,     19,2,20070601,1731, 34.7400,-121.3700,  590,     30.5,  11.0000,   33.3800,2,-999.0000,9,    213.3,2,    216.6,2,    12.62,2,    12.74,2,     0.06,2,     1.01,2,   2089.1,2,   2216.9,2,  10.9963,20070601,1807
  32WC20070511,NACPWC,        9,    69,  1, 690120,     20,2,20070601,1731, 34.7400,-121.3700,  590,     25.2,  11.2000,   33.3100,2,-999.0000,9,    254.4,2,    225.9,2,    11.28,2,    11.34,2,     0.08,2,     0.93,2,   2079.0,2,   2215.7,2,  11.1969,20070601,1808
  32WC20070511,NACPWC,        9,    69,  1, 690121,     21,2,20070601,1731, 34.7400,-121.3700,  590,     19.8,  11.8000,   33.2800,2,-999.0000,9,    264.2,2,    248.0,2,     9.70,2,     9.11,2,     0.18,2,     0.80,2,   2063.4,2,   2215.2,2,  11.7975,20070601,1809
  32WC20070511,NACPWC,        9,    69,  1, 690122,     22,2,20070601,1731, 34.7400,-121.3700,  590,     15.5,  12.2000,   33.3200,2,-999.0000,9,    267.3,2,    257.3,6,     9.31,2,     8.33,2,     0.21,2,     0.75,2,   2058.6,2,   2217.1,2,  12.1980,20070601,1810
  32WC20070511,NACPWC,        9,    69,  1, 690123,     23,2,20070601,1731, 34.7400,-121.3700,  590,      9.9,  12.4000,   33.3300,2,  33.3300,2,    267.2,2,    265.1,2,     9.07,2,     7.81,2,     0.22,2,     0.72,2,   2051.8,2,   2220.0,2,  12.3987,20070601,1811
  32WC20070511,NACPWC,        9,    69,  1, 690124,     24,2,20070601,1731, 34.7400,-121.3700,  590,      5.2,  12.4000,   33.3200,2,-999.0000,9,    267.1,2,    265.9,2,     9.08,2,     7.80,2,     0.22,2,     0.72,2,   2051.3,2,   2219.5,2,  12.3993,20070601,1812
  32WC20070511,NACPWC,        9,    70,  1, 700101,      1,2,20070601,2153, 34.8700,-121.0900,  530,    521.6,   6.2000,   34.2600,2,  34.2700,2,     19.4,2,     18.9,2,    77.72,2,    37.17,2,     0.05,2,     2.97,2,   2311.9,2,   -999.0,9,   6.1537,20070601,2153
  32WC20070511,NACPWC,        9,    70,  1, 700102,      2,2,20070601,2153, 34.8700,-121.0900,  530,    500.5,   6.3000,   34.2600,2,-999.0000,9,     20.7,2,     20.6,2,    75.84,6,    36.83,6,     0.03,6,     2.95,6,   2308.3,6,   2307.8,2,   6.2553,20070601,2155
  32WC20070511,NACPWC,        9,    70,  1, 700103,      3,2,20070601,2153, 34.8700,-121.0900,  530,    448.9,   6.9000,   34.2600,2,-999.0000,9,     26.5,2,     26.4,2,    68.45,2,    37.14,2,     0.03,2,     2.82,2,   2286.1,2,   2300.9,2,   6.8580,20070601,2157
  32WC20070511,NACPWC,        9,    70,  1, 700104,      4,2,20070601,2153, 34.8700,-121.0900,  530,    399.7,   7.0000,   34.2400,2,-999.0000,9,     29.4,2,     29.8,2,    66.74,2,    35.42,2,     0.04,2,     2.79,2,   2291.2,2,   2295.8,2,   6.9625,20070601,2159
  32WC20070511,NACPWC,        9,    70,  1, 700105,      5,2,20070601,2153, 34.8700,-121.0900,  530,    349.5,   7.3000,   34.2300,2,-999.0000,9,     36.8,2,     36.0,2,    61.17,2,    35.10,2,     0.02,2,     2.70,2,   2279.5,2,   2290.1,2,   7.2665,20070601,2201
  32WC20070511,NACPWC,        9,    70,  1, 700106,      6,2,20070601,2153, 34.8700,-121.0900,  530,    298.7,   7.7000,   34.2000,2,-999.0000,9,     46.3,2,     43.9,2,    56.12,2,    33.84,2,     0.02,2,     2.60,2,   2269.6,2,   2284.7,2,   7.6706,20070601,2203
  32WC20070511,NACPWC,        9,    70,  1, 700107,      7,2,20070601,2153, 34.8700,-121.0900,  530,    249.9,   7.7000,   34.1100,2,-999.0000,9,     70.7,2,     71.4,2,    49.85,2,    32.22,2,     0.02,2,     2.36,2,   2244.9,2,   2272.8,2,   7.6755,20070601,2205
  32WC20070511,NACPWC,        9,    70,  1, 700108,      8,2,20070601,2153, 34.8700,-121.0900,  530,    224.9,   7.9000,   34.1000,2,-999.0000,9,     76.1,2,     76.8,2,    46.93,2,    31.41,2,     0.02,2,     2.30,2,   2238.3,2,   2268.4,2,   7.8777,20070601,2207
  32WC20070511,NACPWC,        9,    70,  1, 700109,      9,2,20070601,2153, 34.8700,-121.0900,  530,    200.6,   8.4000,   34.1300,2,-999.0000,9,     67.9,2,     67.6,2,    44.52,2,    30.97,2,     0.02,2,     2.35,2,   2241.2,2,   2268.7,2,   8.3793,20070601,2208
  32WC20070511,NACPWC,        9,    70,  1, 700110,     10,2,20070601,2153, 34.8700,-121.0900,  530,    175.1,   8.6000,   34.0900,2,-999.0000,9,     82.4,2,     81.9,6,    40.32,2,    29.54,2,     0.02,2,     2.20,2,   2226.1,2,   2261.1,2,   8.5818,20070601,2209
  32WC20070511,NACPWC,        9,    70,  1, 700111,     11,2,20070601,2153, 34.8700,-121.0900,  530,    149.9,   9.2000,   34.1300,2,-999.0000,9,     56.8,2,     56.8,2,    39.66,2,    30.11,2,     0.02,2,     2.37,2,   2241.3,2,   2264.8,2,   9.1837,20070601,2211
  32WC20070511,NACPWC,        9,    70,  1, 700112,     12,2,20070601,2153, 34.8700,-121.0900,  530,    130.4,   9.3000,   34.1100,2,-999.0000,9,     62.3,2,     60.6,2,    38.28,2,    29.51,2,     0.02,2,     2.35,2,   2235.2,2,   2261.2,2,   9.2858,20070601,2212
  32WC20070511,NACPWC,        9,    70,  1, 700113,     13,2,20070601,2153, 34.8700,-121.0900,  530,    109.7,   9.4000,   34.0900,2,-999.0000,9,     67.8,2,     67.9,2,    36.52,2,    29.01,2,     0.02,2,     2.30,2,   2229.7,2,   2260.1,2,   9.3880,20070601,2213
  32WC20070511,NACPWC,        9,    70,  1, 700114,     14,2,20070601,2153, 34.8700,-121.0900,  530,     90.0,   9.4000,   34.0600,2,-999.0000,9,     72.6,2,     71.7,2,    35.72,2,    28.78,2,     0.03,2,     2.28,2,   2226.8,2,   2258.1,2,   9.3901,20070601,2214
  32WC20070511,NACPWC,        9,    70,  1, 700115,     15,2,20070601,2153, 34.8700,-121.0900,  530,     70.3,   9.5000,   33.9800,2,-999.0000,9,     98.3,2,     92.5,2,    33.12,2,    27.20,2,     0.27,2,     2.12,2,   2213.2,2,   2253.3,2,   9.4923,20070601,2215
  32WC20070511,NACPWC,        9,    70,  1, 700116,     16,2,20070601,2153, 34.8700,-121.0900,  530,     60.1,   9.6000,   33.9000,2,-999.0000,9,    123.3,2,    121.8,2,    29.51,2,    24.85,2,     0.25,2,     1.91,2,   2190.4,2,   2247.2,2,   9.5933,20070601,2216
  32WC20070511,NACPWC,        9,    70,  1, 700117,     17,2,20070601,2153, 34.8700,-121.0900,  530,     49.7,  10.1000,   33.8700,2,-999.0000,9,    160.7,2,    158.4,2,    25.06,2,    21.36,2,     0.25,2,     1.74,2,   2171.0,2,   2251.4,2,  10.0943,20070601,2217
  32WC20070511,NACPWC,        9,    70,  1, 700118,     18,2,20070601,2153, 34.8700,-121.0900,  530,     40.3,  10.2000,   33.8600,2,-999.0000,9,    166.6,2,    162.2,2,    23.90,2,    20.77,2,     0.23,2,     1.70,2,   2166.5,2,   2249.0,2,  10.1954,20070601,2218
  32WC20070511,NACPWC,        9,    70,  1, 700119,     19,2,20070601,2153, 34.8700,-121.0900,  530,     28.9,  11.1000,   33.8900,2,-999.0000,9,    223.5,2,    214.4,2,    14.67,2,    13.22,2,     0.25,2,     1.26,2,   2132.3,2,   2252.3,2,  11.0965,20070601,2218
  32WC20070511,NACPWC,        9,    70,  1, 700120,     20,2,20070601,2153, 34.8700,-121.0900,  530,     24.9,  11.4000,   33.8700,2,-999.0000,9,    233.0,2,    223.4,6,    13.29,2,    12.85,2,     0.24,2,     1.17,2,   2123.6,2,   2256.6,2,  11.3969,20070601,2219
  32WC20070511,NACPWC,        9,    70,  1, 700121,     21,2,20070601,2153, 34.8700,-121.0900,  530,     19.6,  11.8000,   33.8100,2,-999.0000,9,    262.4,2,    257.0,2,     6.84,6,    10.33,6,     0.24,6,     0.91,6,   2096.9,6,   2257.0,2,  11.7975,20070601,2220
  32WC20070511,NACPWC,        9,    70,  1, 700122,     22,2,20070601,2153, 34.8700,-121.0900,  530,     14.8,  11.8000,   33.8000,2,-999.0000,9,    263.2,2,    264.6,2,     5.22,6,    10.52,6,     0.24,6,     0.88,2,   2089.6,2,   2251.2,2,  11.7981,20070601,2221
  32WC20070511,NACPWC,        9,    70,  1, 700123,     23,2,20070601,2153, 34.8700,-121.0900,  530,      9.9,  11.9000,   33.7900,2,  33.8000,2,    274.0,2,    273.9,2,     4.04,6,    10.29,6,     0.24,6,     0.78,2,   2082.2,2,   2251.2,2,  11.8987,20070601,2221
  32WC20070511,NACPWC,        9,    70,  1, 700124,     24,2,20070601,2153, 34.8700,-121.0900,  530,      4.8,  11.9000,   33.7900,2,-999.0000,9,    274.8,2,    275.9,2,     4.24,2,    10.41,2,     0.24,2,     0.77,2,   2080.9,2,   2250.7,2,  11.8994,20070601,2222
  32WC20070511,NACPWC,        9,    71,  1, 710101,      1,2,20070602,0045, 34.9400,-120.9500,  330,    318.9,   7.5000,   34.1800,2,  34.1800,2,     49.0,2,     48.4,2,    57.78,6,    33.05,6,     0.04,6,     2.61,6,   2266.9,6,   2283.3,2,   7.4691,20070602,0045
  32WC20070511,NACPWC,        9,    71,  1, 710102,      2,2,20070602,0045, 34.9400,-120.9500,  330,    300.8,   7.6000,   34.1600,2,-999.0000,9,     55.5,2,     55.8,2,    54.87,2,    32.28,2,     0.04,2,     2.53,2,   2260.2,6,   2277.0,2,   7.5706,20070602,0046
  32WC20070511,NACPWC,        9,    71,  1, 710103,      3,2,20070602,0045, 34.9400,-120.9500,  330,    275.5,   7.8000,   34.1400,2,-999.0000,9,     62.4,2,     62.4,2,    50.82,2,    31.78,2,     0.02,2,     2.43,2,   2247.8,2,   2276.3,2,   7.7727,20070602,0048
  32WC20070511,NACPWC,        9,    71,  1, 710104,      4,2,20070602,0045, 34.9400,-120.9500,  330,    249.0,   8.0000,   34.0800,2,-999.0000,9,     88.6,2,     86.4,2,    44.67,2,    30.06,2,     0.02,2,     2.22,2,   2224.3,2,   2266.6,2,   7.9751,20070602,0049
  32WC20070511,NACPWC,        9,    71,  1, 710105,      5,2,20070602,0045, 34.9400,-120.9500,  330,    225.3,   8.1000,   34.0600,2,-999.0000,9,     98.7,2,     99.1,2,    42.07,2,    29.15,2,     0.02,2,     2.12,2,   2213.8,2,   2260.4,2,   8.0773,20070602,0050
  32WC20070511,NACPWC,        9,    71,  1, 710106,      6,2,20070602,0045, 34.9400,-120.9500,  330,    200.9,   8.5000,   34.0500,2,-999.0000,9,     93.9,2,     94.7,2,    39.49,2,    28.41,2,     0.02,2,     2.11,2,   2210.9,2,   2260.2,2,   8.4792,20070602,0052
  32WC20070511,NACPWC,        9,    71,  1, 710107,      7,2,20070602,0045, 34.9400,-120.9500,  330,    175.2,   8.6000,   34.0600,2,-999.0000,9,     90.4,2,     91.9,2,    38.63,2,    28.55,2,     0.01,2,     2.14,2,   2210.9,2,   2257.0,2,   8.5817,20070602,0053
  32WC20070511,NACPWC,        9,    71,  1, 710108,      8,2,20070602,0045, 34.9400,-120.9500,  330,    150.2,   9.2000,   34.0700,2,-999.0000,9,     76.3,2,     72.4,2,    36.85,2,    28.53,2,     0.01,2,     2.27,2,   2223.6,2,   2258.1,2,   9.1837,20070602,0054
  32WC20070511,NACPWC,        9,    71,  1, 710109,      9,2,20070602,0045, 34.9400,-120.9500,  330,    129.8,   9.4000,   34.0600,2,-999.0000,9,     74.9,2,     77.3,2,    35.49,2,    27.94,2,     0.01,2,     2.24,2,   2222.2,2,   2251.7,2,   9.3857,20070602,0055
  32WC20070511,NACPWC,        9,    71,  1, 710110,     10,2,20070602,0045, 34.9400,-120.9500,  330,    109.7,   9.5000,   34.0000,2,-999.0000,9,     99.2,2,     97.4,6,    32.41,6,    26.49,6,     0.28,6,     2.15,6,   2206.3,2,   2252.4,2,   9.4879,20070602,0056
  32WC20070511,NACPWC,        9,    71,  1, 710111,     11,2,20070602,0045, 34.9400,-120.9500,  330,     89.9,   9.5000,   33.9000,2,-999.0000,9,    122.9,2,    122.7,2,    29.13,2,    24.23,2,     0.24,2,     1.88,2,   2184.7,2,   2246.1,2,   9.4901,20070602,0057
  32WC20070511,NACPWC,        9,    71,  1, 710112,     12,2,20070602,0045, 34.9400,-120.9500,  330,     69.8,   9.3000,   33.7400,2,-999.0000,9,    146.5,2,    146.2,2,    25.60,2,    22.51,2,     0.06,2,     1.64,2,   2157.5,2,   2231.9,2,   9.2924,20070602,0058
  32WC20070511,NACPWC,        9,    71,  1, 710113,     13,2,20070602,0045, 34.9400,-120.9500,  330,     60.2,   9.5000,   33.7100,2,-999.0000,9,    152.9,2,    151.2,2,    24.42,2,    21.84,2,     0.09,2,     1.60,2,   2154.6,2,   2227.9,2,   9.4934,20070602,0059
  32WC20070511,NACPWC,        9,    71,  1, 710114,     14,2,20070602,0045, 34.9400,-120.9500,  330,     50.0,   9.9000,   33.6500,2,-999.0000,9,    159.6,2,    161.6,2,    22.80,2,    20.71,2,     0.14,2,     1.55,2,   2146.2,2,   2228.8,2,   9.8944,20070602,0100
  32WC20070511,NACPWC,        9,    71,  1, 710115,     15,2,20070602,0045, 34.9400,-120.9500,  330,     39.7,  10.8000,   33.7200,2,-999.0000,9,    205.6,2,    191.7,2,    19.86,2,    18.24,2,     0.27,2,     1.48,2,   2138.6,2,   2235.0,2,  10.7953,20070602,0101
  32WC20070511,NACPWC,        9,    71,  1, 710116,     16,2,20070602,0045, 34.9400,-120.9500,  330,     30.1,  11.2000,   33.6600,2,-999.0000,9,    216.7,2,    215.3,2,    15.72,2,    15.65,2,     0.27,2,     1.32,2,   2122.6,2,   2235.6,2,  11.1963,20070602,0102
  32WC20070511,NACPWC,        9,    71,  1, 710117,     17,2,20070602,0045, 34.9400,-120.9500,  330,     25.3,  11.7000,   33.6700,2,-999.0000,9,    243.8,2,    242.1,2,    11.70,6,    13.19,6,     0.28,6,     1.19,2,   2103.3,2,   2239.1,2,  11.6968,20070602,0103
  32WC20070511,NACPWC,        9,    71,  1, 710118,     18,2,20070602,0045, 34.9400,-120.9500,  330,     19.3,  12.1000,   33.6700,2,-999.0000,9,    279.3,2,    253.5,2,     9.19,6,    11.78,6,     0.26,6,     1.02,2,   -999.0,9,   -999.0,9,  12.0975,20070602,0103
  32WC20070511,NACPWC,        9,    71,  1, 710119,     19,2,20070602,0045, 34.9400,-120.9500,  330,     19.2,  12.1000,   33.6700,2,-999.0000,9,    279.4,2,    261.1,2,     8.48,2,    11.48,2,     0.26,2,     1.01,2,   2089.3,2,   2238.9,2,  12.0975,20070602,0104
  32WC20070511,NACPWC,        9,    71,  1, 710120,     20,2,20070602,0045, 34.9400,-120.9500,  330,     14.9,  12.5000,   33.7100,2,-999.0000,9,    289.8,2,    281.6,6,     5.85,2,    10.09,2,     0.24,2,     0.80,2,   -999.0,9,   -999.0,9,  12.4980,20070602,0104
  32WC20070511,NACPWC,        9,    71,  1, 710121,     21,2,20070602,0045, 34.9400,-120.9500,  330,     14.8,  12.5000,   33.7000,2,-999.0000,9,    288.3,2,    309.7,2,     4.77,2,     9.52,2,     0.23,2,     0.69,2,   2066.5,2,   2243.6,2,  12.4981,20070602,0105
  32WC20070511,NACPWC,        9,    71,  1, 710122,     22,2,20070602,0045, 34.9400,-120.9500,  330,      9.9,  12.6000,   33.7100,2,-999.0000,9,    296.9,2,    294.6,2,     4.37,2,     9.16,2,     0.23,2,     0.59,2,   -999.0,9,   -999.0,9,  12.5987,20070602,0105
  32WC20070511,NACPWC,        9,    71,  1, 710123,     23,2,20070602,0045, 34.9400,-120.9500,  330,      9.9,  12.6000,   33.7100,2,  33.7100,2,    296.3,2,    297.7,2,     4.05,2,     8.95,2,     0.23,2,     0.57,2,   2058.6,2,   2246.2,2,  12.5987,20070602,0105
  32WC20070511,NACPWC,        9,    71,  1, 710124,     24,2,20070602,0045, 34.9400,-120.9500,  330,      4.6,  12.8000,   33.7100,2,-999.0000,9,    299.6,2,    301.9,2,     3.70,6,     8.58,6,     0.23,6,     0.54,6,   2056.5,2,   2244.8,2,  12.7994,20070602,0106