BOTTLE,20220810CCHSIOAMB
EXPOCODE,SECT_ID,LINE,STNNBR,CASTNO,SAMPNO,BTLNBR,BTLNBR_FLAG_W,DATE,TIME,LATITUDE,LONGITUDE,DEPTH,CTDPRS,CTDTMP,CTDSAL,CTDSAL_FLAG_W,SALNTY,SALNTY_FLAG_W,CTDOXY,CTDOXY_FLAG_W,OXYGEN,OXYGEN_FLAG_W,SILCAT,SILCAT_FLAG_W,NITRAT,NITRAT_FLAG_W,NITRIT,NITRIT_FLAG_W,PHSPHT,PHSPHT_FLAG_W,TCARBN,TCARBN_FLAG_W,ALKALI,ALKALI_FLAG_W,THETA,BTL_DATE,BTL_TIME
,,,,,,,,,,,,METERS,DBAR,ITS-90,PSS-78,,PSS-78,,UMOL/KG,,UMOL/KG,,UMOL/KG,,UMOL/KG,,UMOL/KG,,UMOL/KG,,UMOL/KG,,UMOL/KG,,DEG C,,
  32WC20070511,NACPWC,       11,    91,  1, 910101,      1,2,20070607,0526, 31.3500,-117.4500, 1906,   1899.7,   2.4000,   34.6100,2,  34.6100,2,     65.8,2,     65.5,2,   157.44,6,    40.54,6,     0.03,6,     2.83,6,   2379.7,6,   2415.5,2,   2.2662,20070607,0526
  32WC20070511,NACPWC,       11,    91,  1, 910102,      2,2,20070607,0526, 31.3500,-117.4500, 1906,   1500.6,   3.0000,   34.5700,2,-999.0000,9,     46.1,2,     46.4,2,   145.34,2,    41.48,2,     0.03,2,     2.94,2,   2376.2,6,   2397.7,6,   2.8921,20070607,0540
  32WC20070511,NACPWC,       11,    91,  1, 910103,      3,2,20070607,0526, 31.3500,-117.4500, 1906,   1000.2,   4.0000,   34.4900,2,-999.0000,9,     22.2,2,     22.4,2,   120.09,6,    42.28,6,     0.03,6,     3.01,6,   2365.0,2,   2370.8,2,   3.9243,20070607,0555
  32WC20070511,NACPWC,       11,    91,  1, 910104,      4,2,20070607,0526, 31.3500,-117.4500, 1906,    800.5,   4.6000,   34.4400,2,-999.0000,9,     14.1,2,     14.7,2,   107.91,2,    42.08,2,     0.03,2,     3.02,2,   2354.3,2,   2357.6,2,   4.5370,20070607,0601
  32WC20070511,NACPWC,       11,    91,  1, 910105,      5,2,20070607,0526, 31.3500,-117.4500, 1906,    502.0,   6.2000,   34.3400,2,-999.0000,9,     12.0,2,     12.8,2,    78.78,2,    38.38,2,     0.03,2,     2.88,2,   2320.9,2,   2330.7,2,   6.1555,20070607,0609
  32WC20070511,NACPWC,       11,    91,  1, 910106,      6,2,20070607,0526, 31.3500,-117.4500, 1906,    349.5,   7.5000,   34.3000,2,-999.0000,9,     27.3,2,     27.3,2,    58.58,2,    33.96,2,     0.04,2,     2.62,2,   2288.4,2,   2295.8,2,   7.4660,20070607,0614
  32WC20070511,NACPWC,       11,    91,  1, 910107,      7,2,20070607,0526, 31.3500,-117.4500, 1906,    301.2,   7.7000,   34.2600,2,-999.0000,9,     40.8,2,     41.2,2,    54.81,2,    33.06,2,     0.04,2,     2.50,2,   2274.6,2,   2290.6,2,   7.6703,20070607,0616
  32WC20070511,NACPWC,       11,    91,  1, 910108,      8,2,20070607,0526, 31.3500,-117.4500, 1906,    250.4,   8.4000,   34.2800,2,-999.0000,9,     41.3,2,     42.7,2,    49.15,2,    31.23,2,     0.06,2,     2.43,2,   2264.6,2,   2285.4,2,   8.3741,20070607,0618
  32WC20070511,NACPWC,       11,    91,  1, 910109,      9,2,20070607,0526, 31.3500,-117.4500, 1906,    200.8,   9.1000,   34.2600,2,-999.0000,9,     62.3,2,     58.6,2,    41.32,2,    28.76,2,     0.08,2,     2.23,2,   2243.6,2,   2279.3,2,   9.0782,20070607,0621
  32WC20070511,NACPWC,       11,    91,  1, 910110,     10,2,20070607,0526, 31.3500,-117.4500, 1906,    175.3,   8.9000,   34.1500,2,-999.0000,9,     84.3,2,     84.2,2,    37.92,2,    28.02,2,     0.11,2,     2.04,2,   2222.6,2,   2252.8,2,   8.8813,20070607,0622
  32WC20070511,NACPWC,       11,    91,  1, 910111,     11,2,20070607,0526, 31.3500,-117.4500, 1906,    149.7,   9.1000,   34.1100,2,-999.0000,9,     93.0,2,     93.2,2,    35.33,2,    27.08,2,     0.12,2,     1.95,2,   2210.1,2,   2266.9,2,   9.0839,20070607,0624
  32WC20070511,NACPWC,       11,    91,  1, 910112,     12,2,20070607,0526, 31.3500,-117.4500, 1906,    130.7,   9.2000,   34.0600,2,-999.0000,9,    103.1,2,    103.0,2,    33.07,2,    26.08,2,     0.15,2,     1.86,2,   2197.5,2,   2257.3,2,   9.1858,20070607,0625
  32WC20070511,NACPWC,       11,    91,  1, 910113,     13,2,20070607,0526, 31.3500,-117.4500, 1906,    109.6,   9.5000,   34.0200,2,-999.0000,9,    102.5,2,    101.1,2,    31.40,2,    25.58,2,     0.05,2,     1.84,2,   2200.1,2,   2257.7,2,   9.4879,20070607,0627
  32WC20070511,NACPWC,       11,    91,  1, 910114,     14,2,20070607,0526, 31.3500,-117.4500, 1906,     90.5,   9.8000,   33.9300,2,-999.0000,9,    116.1,2,    115.6,2,    27.87,2,    24.06,2,     0.06,2,     1.74,2,   2185.3,2,   2249.7,2,   9.7898,20070607,0628
  32WC20070511,NACPWC,       11,    91,  1, 910115,     15,2,20070607,0526, 31.3500,-117.4500, 1906,     69.8,  10.1000,   33.9100,2,-999.0000,9,    120.1,2,    118.4,2,    26.91,2,    23.67,2,     0.06,2,     1.72,2,   2179.8,2,   2245.3,2,  10.0920,20070607,0630
  32WC20070511,NACPWC,       11,    91,  1, 910116,     16,2,20070607,0526, 31.3500,-117.4500, 1906,     62.4,  10.2000,   33.8600,2,-999.0000,9,    126.6,2,    126.4,2,    25.58,2,    22.81,2,     0.07,2,     1.65,2,   2171.8,2,   2243.7,2,  10.1928,20070607,0631
  32WC20070511,NACPWC,       11,    91,  1, 910117,     17,2,20070607,0526, 31.3500,-117.4500, 1906,     50.2,  10.4000,   33.8300,2,-999.0000,9,    129.4,2,    131.2,2,    24.01,2,    21.90,2,     0.20,2,     1.60,2,   2167.4,2,   2243.5,2,  10.3942,20070607,0632
  32WC20070511,NACPWC,       11,    91,  1, 910118,     18,2,20070607,0526, 31.3500,-117.4500, 1906,     40.4,  10.9000,   33.7800,2,-999.0000,9,    150.0,2,    145.1,2,    20.92,6,    19.19,6,     0.33,6,     1.49,6,   2149.8,2,   2240.4,2,  10.8952,20070607,0633
  32WC20070511,NACPWC,       11,    91,  1, 910119,     19,2,20070607,0526, 31.3500,-117.4500, 1906,     29.5,  11.4000,   33.6800,2,-999.0000,9,    156.2,2,    166.3,2,    16.07,2,    14.75,2,     0.56,2,     1.10,2,   2128.7,2,   2233.6,2,  11.3964,20070607,0634
  32WC20070511,NACPWC,       11,    91,  1, 910120,     20,2,20070607,0526, 31.3500,-117.4500, 1906,     24.9,  12.7000,   33.7300,2,-999.0000,9,    235.5,2,    194.8,2,    15.19,2,     3.99,2,     0.34,2,     0.43,2,   2107.6,2,   2250.4,2,  12.6967,20070607,0635
  32WC20070511,NACPWC,       11,    91,  1, 910121,     21,2,20070607,0526, 31.3500,-117.4500, 1906,     20.9,  13.7000,   33.7700,2,-999.0000,9,    251.5,2,    273.7,2,    13.40,2,     0.54,2,     0.11,2,     0.13,2,   2023.8,2,   2260.3,2,  13.6971,20070607,0636
  32WC20070511,NACPWC,       11,    91,  1, 910122,     22,2,20070607,0526, 31.3500,-117.4500, 1906,     14.8,  15.4000,   33.7900,2,-999.0000,9,    288.3,2,    290.8,2,    11.46,2,     0.00,2,     0.04,2,     0.02,2,   1933.6,2,   2259.7,2,  15.3978,20070607,0637
  32WC20070511,NACPWC,       11,    91,  1, 910123,     23,2,20070607,0526, 31.3500,-117.4500, 1906,     10.9,  15.4000,   33.7900,2,  33.7900,2,    290.1,2,    290.8,2,    11.37,2,     0.00,2,     0.04,2,     0.02,2,   1929.3,2,   2260.1,2,  15.3983,20070607,0638
  32WC20070511,NACPWC,       11,    91,  1, 910124,     24,2,20070607,0526, 31.3500,-117.4500, 1906,      6.0,  15.4000,   33.7900,2,-999.0000,9,    289.4,2,    290.3,2,    11.36,2,     0.00,2,     0.04,2,     0.03,2,   1931.8,2,   2270.8,2,  15.3991,20070607,0638
  32WC20070511,NACPWC,       11,    92,  1, 920101,      1,2,20070607,1055, 31.5200,-117.1100, 1233,   1230.1,   3.4000,   34.5300,2,  34.5300,2,     32.4,2,     33.2,2,   134.11,2,    41.45,2,     0.01,2,     3.11,2,   2369.9,6,   2386.2,6,   3.3104,20070607,1055
  32WC20070511,NACPWC,       11,    92,  1, 920102,      2,2,20070607,1055, 31.5200,-117.1100, 1233,    999.5,   4.0000,   34.4900,2,-999.0000,9,     22.7,2,     23.0,2,   120.73,2,    42.22,2,     0.01,2,     3.13,2,   2358.3,6,   2370.6,2,   3.9244,20070607,1101
  32WC20070511,NACPWC,       11,    92,  1, 920103,      3,2,20070607,1055, 31.5200,-117.1100, 1233,    800.8,   4.8000,   34.4300,2,-999.0000,9,     12.3,2,     12.5,2,   103.48,6,    41.93,6,     0.00,6,     3.11,6,   2346.0,2,   2352.0,2,   4.7358,20070607,1107
  32WC20070511,NACPWC,       11,    92,  1, 920104,      4,2,20070607,1055, 31.5200,-117.1100, 1233,    499.8,   6.4000,   34.3400,2,-999.0000,9,     12.6,2,     12.3,2,    75.87,2,    37.71,2,     0.01,2,     2.97,2,   2307.5,2,   2315.7,2,   6.3549,20070607,1115
  32WC20070511,NACPWC,       11,    92,  1, 920105,      5,2,20070607,1055, 31.5200,-117.1100, 1233,    401.2,   7.1000,   34.3100,2,-999.0000,9,     22.7,2,     22.5,2,    64.42,2,    35.27,2,     0.01,2,     2.81,2,   2291.8,2,   2301.1,2,   7.0620,20070607,1118
  32WC20070511,NACPWC,       11,    92,  1, 920106,      6,2,20070607,1055, 31.5200,-117.1100, 1233,    350.1,   7.4000,   34.2800,2,-999.0000,9,     33.2,2,     32.8,2,    58.77,2,    33.93,2,     0.01,2,     2.70,2,   2279.7,2,   2296.6,2,   7.3662,20070607,1121
  32WC20070511,NACPWC,       11,    92,  1, 920107,      7,2,20070607,1055, 31.5200,-117.1100, 1233,    301.1,   7.9000,   34.2500,2,-999.0000,9,     45.9,2,     43.6,2,    52.74,2,    32.36,2,     0.01,2,     2.57,2,   2263.2,2,   2303.5,2,   7.8699,20070607,1123
  32WC20070511,NACPWC,       11,    92,  1, 920108,      8,2,20070607,1055, 31.5200,-117.1100, 1233,    250.0,   8.4000,   34.2300,2,-999.0000,9,     60.1,2,     58.1,2,    45.95,2,    30.39,2,     0.01,2,     2.40,2,   2246.6,2,   2288.8,6,   8.3741,20070607,1126
  32WC20070511,NACPWC,       11,    92,  1, 920109,      9,2,20070607,1055, 31.5200,-117.1100, 1233,    201.8,   8.8000,   34.1500,2,-999.0000,9,     85.9,2,     83.7,2,    38.77,2,    28.08,2,     0.01,2,     2.16,2,   2218.7,2,   2271.1,2,   8.7786,20070607,1128
  32WC20070511,NACPWC,       11,    92,  1, 920110,     10,2,20070607,1055, 31.5200,-117.1100, 1233,    175.4,   9.2000,   34.1400,2,-999.0000,9,     84.2,2,     84.3,2,    36.50,2,    27.44,2,     0.01,2,     2.13,2,   2213.4,2,   2270.0,2,   9.1809,20070607,1130
  32WC20070511,NACPWC,       11,    92,  1, 920111,     11,2,20070607,1055, 31.5200,-117.1100, 1233,    149.8,   9.5000,   34.1000,2,-999.0000,9,     90.5,2,     94.7,2,    33.48,2,    26.34,2,     0.01,2,     2.06,2,   2205.2,2,   2262.1,2,   9.4834,20070607,1131
  32WC20070511,NACPWC,       11,    92,  1, 920112,     12,2,20070607,1055, 31.5200,-117.1100, 1233,    129.8,   9.4000,   33.9600,2,-999.0000,9,    118.1,2,    118.8,2,    29.25,2,    24.48,2,     0.01,2,     1.86,2,   2180.4,2,   2256.4,2,   9.3858,20070607,1132
  32WC20070511,NACPWC,       11,    92,  1, 920113,     13,2,20070607,1055, 31.5200,-117.1100, 1233,    110.1,   9.4000,   33.8500,2,-999.0000,9,    150.9,2,    152.2,2,    24.78,2,    21.80,2,     0.02,2,     1.60,2,   2152.6,2,   2243.8,2,   9.3880,20070607,1134
  32WC20070511,NACPWC,       11,    92,  1, 920114,     14,2,20070607,1055, 31.5200,-117.1100, 1233,     90.1,   9.6000,   33.8200,2,-999.0000,9,    151.0,2,    151.5,2,    23.57,2,    21.13,2,     0.02,2,     1.58,2,   2148.0,2,   2240.6,2,   9.5900,20070607,1135
  32WC20070511,NACPWC,       11,    92,  1, 920115,     15,2,20070607,1055, 31.5200,-117.1100, 1233,     70.5,  10.3000,   33.6500,2,-999.0000,9,    183.3,2,    181.6,2,    16.50,2,    16.54,2,     0.02,2,     1.24,2,   2107.7,2,   2228.5,2,  10.2919,20070607,1137
  32WC20070511,NACPWC,       11,    92,  1, 920116,     16,2,20070607,1055, 31.5200,-117.1100, 1233,     60.4,  11.0000,   33.5800,2,-999.0000,9,    188.3,2,    189.7,2,    13.87,2,    14.53,2,     0.03,2,     1.12,2,   2097.4,2,   2228.8,2,  10.9927,20070607,1138
  32WC20070511,NACPWC,       11,    92,  1, 920117,     17,2,20070607,1055, 31.5200,-117.1100, 1233,     49.5,  12.3000,   33.5500,2,-999.0000,9,    222.4,2,    216.7,2,     8.94,2,     9.68,2,     0.14,2,     0.86,2,   2071.2,2,   2225.5,2,  12.2936,20070607,1140
  32WC20070511,NACPWC,       11,    92,  1, 920118,     18,2,20070607,1055, 31.5200,-117.1100, 1233,     38.7,  13.2000,   33.5600,2,-999.0000,9,    240.5,2,    240.9,6,     7.02,6,     5.46,6,     0.22,6,     0.61,6,   2052.2,2,   2233.4,2,  13.1947,20070607,1141
  32WC20070511,NACPWC,       11,    92,  1, 920119,     19,2,20070607,1055, 31.5200,-117.1100, 1233,     29.9,  14.2000,   33.5700,2,-999.0000,9,    266.3,2,    267.6,2,     4.22,2,     1.96,2,     0.07,2,     0.39,2,   2025.9,2,   2235.7,2,  14.1957,20070607,1142
  32WC20070511,NACPWC,       11,    92,  1, 920120,     20,2,20070607,1055, 31.5200,-117.1100, 1233,     24.7,  15.9000,   33.6300,2,-999.0000,9,    254.5,2,    253.3,2,     2.86,2,     0.58,2,     0.01,2,     0.24,2,   2009.8,2,   2239.8,2,  15.8962,20070607,1143
  32WC20070511,NACPWC,       11,    92,  1, 920121,     21,2,20070607,1055, 31.5200,-117.1100, 1233,     20.5,  16.1000,   33.6400,2,-999.0000,9,    252.1,2,    251.5,2,     2.72,2,     0.55,2,     0.01,2,     0.24,2,   2012.9,2,   2239.8,2,  16.0968,20070607,1144
  32WC20070511,NACPWC,       11,    92,  1, 920122,     22,2,20070607,1055, 31.5200,-117.1100, 1233,     13.9,  16.1000,   33.6400,2,-999.0000,9,    251.8,2,    251.5,2,     2.69,2,     0.51,2,     0.01,2,     0.22,2,   2013.6,2,   2243.2,2,  16.0978,20070607,1145
  32WC20070511,NACPWC,       11,    92,  1, 920123,     23,2,20070607,1055, 31.5200,-117.1100, 1233,      9.2,  16.1000,   33.6400,2,  33.6400,2,    251.6,2,    251.6,2,     2.65,2,     0.51,2,     0.01,2,     0.22,2,   2012.8,2,   2238.1,2,  16.0986,20070607,1146
  32WC20070511,NACPWC,       11,    92,  1, 920124,     24,2,20070607,1055, 31.5200,-117.1100, 1233,      5.2,  16.1000,   33.6400,2,-999.0000,9,    251.8,2,    251.3,2,     2.64,2,     0.50,2,     0.01,2,     0.22,2,   2012.4,2,   2238.9,2,  16.0992,20070607,1147
  32WC20070511,NACPWC,       11,    93,  1, 930101,      1,2,20070607,1608, 31.6200,-116.9100, 1146,   1135.0,   3.9000,   34.5000,2,  34.5000,2,     24.4,2,     24.8,2,   123.92,6,    41.77,6,     0.01,6,     3.12,6,   2366.5,6,   2372.0,2,   3.8138,20070607,1608
  32WC20070511,NACPWC,       11,    93,  1, 930102,      2,2,20070607,1608, 31.6200,-116.9100, 1146,    800.1,   5.0000,   34.4200,2,-999.0000,9,     11.2,2,     12.0,2,   100.63,6,    41.35,6,     0.01,6,     3.13,6,   2343.2,6,   2343.7,2,   4.9346,20070607,1618
  32WC20070511,NACPWC,       11,    93,  1, 930103,      3,2,20070607,1608, 31.6200,-116.9100, 1146,    601.7,   6.1000,   34.3600,2,-999.0000,9,      9.8,2,     10.1,2,    80.53,2,    38.19,2,     0.01,2,     3.03,2,   2325.2,2,   2319.3,2,   6.0467,20070607,1624
  32WC20070511,NACPWC,       11,    93,  1, 930104,      4,2,20070607,1608, 31.6200,-116.9100, 1146,    500.1,   6.7000,   34.3500,2,-999.0000,9,     13.2,2,     13.9,2,    72.00,2,    36.49,2,     0.01,2,     2.94,2,   2310.5,2,   2307.6,2,   6.6538,20070607,1628
  32WC20070511,NACPWC,       11,    93,  1, 930105,      5,2,20070607,1608, 31.6200,-116.9100, 1146,    399.3,   7.5000,   34.3000,2,-999.0000,9,     27.5,2,     27.7,2,    60.07,2,    33.75,2,     0.01,2,     2.74,2,   2287.6,2,   2292.3,2,   7.4610,20070607,1632
  32WC20070511,NACPWC,       11,    93,  1, 930106,      6,2,20070607,1608, 31.6200,-116.9100, 1146,    351.2,   8.0000,   34.3200,2,-999.0000,9,     29.8,2,     29.2,2,    55.20,2,    32.17,2,     0.02,2,     2.68,2,   2283.0,2,   2289.4,2,   7.9645,20070607,1635
  32WC20070511,NACPWC,       11,    93,  1, 930107,      7,2,20070607,1608, 31.6200,-116.9100, 1146,    300.5,   8.3000,   34.3200,2,-999.0000,9,     33.3,2,     32.9,2,    52.27,2,    31.50,2,     0.02,2,     2.60,2,   2275.2,2,   2287.9,2,   8.2690,20070607,1637
  32WC20070511,NACPWC,       11,    93,  1, 930108,      8,2,20070607,1608, 31.6200,-116.9100, 1146,    248.4,   8.6000,   34.2900,2,-999.0000,9,     43.5,2,     44.9,2,    46.70,2,    29.96,2,     0.01,2,     2.47,2,   2258.4,2,   2285.1,2,   8.5739,20070607,1640
  32WC20070511,NACPWC,       11,    93,  1, 930109,      9,2,20070607,1608, 31.6200,-116.9100, 1146,    200.2,   9.2000,   34.3200,2,-999.0000,9,     46.8,2,     46.3,2,    42.93,2,    28.66,2,     0.01,2,     2.41,2,   2252.3,2,   2280.7,2,   9.1781,20070607,1642
  32WC20070511,NACPWC,       11,    93,  1, 930110,     10,2,20070607,1608, 31.6200,-116.9100, 1146,    176.2,   9.3000,   34.3100,2,-999.0000,9,     49.3,2,     49.1,2,    41.44,2,    28.16,2,     0.02,2,     2.38,2,   2249.4,2,   2279.4,2,   9.2807,20070607,1644
  32WC20070511,NACPWC,       11,    93,  1, 930111,     11,2,20070607,1608, 31.6200,-116.9100, 1146,    150.3,   9.4000,   34.2200,2,-999.0000,9,     69.7,2,     69.5,6,    37.18,2,    27.20,2,     0.02,2,     2.21,2,   2228.7,2,   2271.2,2,   9.3834,20070607,1646
  32WC20070511,NACPWC,       11,    93,  1, 930112,     12,2,20070607,1608, 31.6200,-116.9100, 1146,    129.5,   9.9000,   34.2100,2,-999.0000,9,     77.4,2,     73.7,2,    34.55,2,    26.30,2,     0.02,2,     2.14,2,   2222.3,2,   2266.1,2,   9.8853,20070607,1648
  32WC20070511,NACPWC,       11,    93,  1, 930113,     13,2,20070607,1608, 31.6200,-116.9100, 1146,    109.5,  10.0000,   34.1100,2,-999.0000,9,    102.0,2,     87.6,2,    31.16,2,    25.04,2,     0.02,2,     2.02,2,   2205.5,2,   2258.5,2,   9.9875,20070607,1650
  32WC20070511,NACPWC,       11,    93,  1, 930114,     14,2,20070607,1608, 31.6200,-116.9100, 1146,     91.4,   9.6000,   33.9000,2,-999.0000,9,    123.7,2,    125.8,2,    26.88,2,    22.99,2,     0.03,2,     1.74,2,   2172.3,2,   2244.6,2,   9.5899,20070607,1652
  32WC20070511,NACPWC,       11,    93,  1, 930115,     15,2,20070607,1608, 31.6200,-116.9100, 1146,     69.8,  10.3000,   33.7200,2,-999.0000,9,    155.9,2,    151.2,2,    19.78,2,    18.91,2,     0.02,2,     1.47,2,   2139.7,2,   2230.8,2,  10.2919,20070607,1654
  32WC20070511,NACPWC,       11,    93,  1, 930116,     16,2,20070607,1608, 31.6200,-116.9100, 1146,     60.5,  10.7000,   33.6100,2,-999.0000,9,    181.8,2,    184.4,2,    14.36,2,    14.81,2,     0.04,2,     1.14,2,   2104.6,2,   2222.7,2,  10.6928,20070607,1656
  32WC20070511,NACPWC,       11,    93,  1, 930117,     17,2,20070607,1608, 31.6200,-116.9100, 1146,     50.2,  11.4000,   33.5700,2,-999.0000,9,    189.5,2,    188.1,2,    12.53,2,    13.18,2,     0.15,2,     1.06,2,   2099.4,2,   2223.2,2,  11.3938,20070607,1657
  32WC20070511,NACPWC,       11,    93,  1, 930118,     18,2,20070607,1608, 31.6200,-116.9100, 1146,     39.6,  11.8000,   33.5600,2,-999.0000,9,    195.5,2,    200.6,2,    10.97,6,    11.04,6,     0.22,6,     0.96,6,   2086.8,2,   2226.0,2,  11.7950,20070607,1658
  32WC20070511,NACPWC,       11,    93,  1, 930119,     19,2,20070607,1608, 31.6200,-116.9100, 1146,     28.7,  13.0000,   33.5400,2,-999.0000,9,    243.9,2,    239.3,2,     6.12,2,     5.70,2,     0.22,2,     0.60,2,   2053.2,2,   2225.0,2,  12.9961,20070607,1659
  32WC20070511,NACPWC,       11,    93,  1, 930120,     20,2,20070607,1608, 31.6200,-116.9100, 1146,     25.0,  13.9000,   33.5600,2,-999.0000,9,    258.7,2,    266.0,2,     4.48,2,     2.22,2,     0.09,2,     0.38,2,   2031.6,2,   2230.7,2,  13.8965,20070607,1701
  32WC20070511,NACPWC,       11,    93,  1, 930121,     21,2,20070607,1608, 31.6200,-116.9100, 1146,     19.8,  15.5000,   33.6100,2,-999.0000,9,    257.4,2,    261.0,6,     2.95,2,     0.45,2,     0.01,2,     0.23,2,   2017.6,2,   2233.5,2,  15.4970,20070607,1702
  32WC20070511,NACPWC,       11,    93,  1, 930122,     22,2,20070607,1608, 31.6200,-116.9100, 1146,     15.3,  15.9000,   33.6300,2,-999.0000,9,    256.0,2,    258.0,2,     2.84,2,     0.46,2,     0.01,2,     0.22,2,   2013.1,2,   2238.2,2,  15.8976,20070607,1703
  32WC20070511,NACPWC,       11,    93,  1, 930123,     23,2,20070607,1608, 31.6200,-116.9100, 1146,      9.5,  15.9000,   33.6400,2,  33.6400,2,    258.0,2,    257.2,2,     2.85,2,     0.46,2,     0.01,2,     0.21,2,   2009.7,2,   2236.1,2,  15.8985,20070607,1704
  32WC20070511,NACPWC,       11,    93,  1, 930124,     24,2,20070607,1608, 31.6200,-116.9100, 1146,      5.0,  16.1000,   33.6500,2,-999.0000,9,    258.0,2,    256.8,2,     2.83,2,     0.48,2,     0.01,2,     0.21,2,   2007.7,2,   2239.8,2,  16.0992,20070607,1706