BOTTLE,20220810CCHSIOAMB
EXPOCODE,SECT_ID,LINE,STNNBR,CASTNO,SAMPNO,BTLNBR,BTLNBR_FLAG_W,DATE,TIME,LATITUDE,LONGITUDE,DEPTH,CTDPRS,CTDTMP,CTDSAL,CTDSAL_FLAG_W,SALNTY,SALNTY_FLAG_W,CTDOXY,CTDOXY_FLAG_W,OXYGEN,OXYGEN_FLAG_W,SILCAT,SILCAT_FLAG_W,NITRAT,NITRAT_FLAG_W,NITRIT,NITRIT_FLAG_W,PHSPHT,PHSPHT_FLAG_W,TCARBN,TCARBN_FLAG_W,ALKALI,ALKALI_FLAG_W,THETA,BTL_DATE,BTL_TIME
,,,,,,,,,,,,METERS,DBAR,ITS-90,PSS-78,,PSS-78,,UMOL/KG,,UMOL/KG,,UMOL/KG,,UMOL/KG,,UMOL/KG,,UMOL/KG,,UMOL/KG,,UMOL/KG,,DEG C,,
  32WC20070511,NACPWC,        6,    44,  1, 440101,      1,2,20070526,0544, 40.0900,-124.7700, 1055,   1043.3,   3.7000,   34.4400,2,  34.4400,2,     16.3,2,     17.4,2,   130.37,2,    43.58,2,     0.00,2,     3.21,2,   2370.0,6,   -999.0,9,   3.6232,20070526,0544
  32WC20070511,NACPWC,        6,    44,  1, 440102,      2,2,20070526,0544, 40.0900,-124.7700, 1055,    801.4,   4.2000,   34.3800,2,-999.0000,9,     11.1,2,     11.2,2,   116.53,2,    43.24,2,     0.00,2,     3.19,2,   2359.8,6,   2353.4,2,   4.1395,20070526,0553
  32WC20070511,NACPWC,        6,    44,  1, 440103,      3,2,20070526,0544, 40.0900,-124.7700, 1055,    600.1,   4.8000,   34.2700,2,-999.0000,9,     13.0,2,     13.7,2,   116.43,2,    43.06,2,     0.00,2,     3.18,2,   2338.1,2,   -999.0,9,   4.7529,20070526,0600
  32WC20070511,NACPWC,        6,    44,  1, 440104,      4,2,20070526,0544, 40.0900,-124.7700, 1055,    500.8,   4.9000,   34.1800,2,-999.0000,9,     21.7,2,     22.5,2,    92.41,6,    41.18,6,     0.00,6,     3.03,6,   2324.8,2,   2312.5,2,   4.8607,20070526,0604
  32WC20070511,NACPWC,        6,    44,  1, 440105,      5,2,20070526,0544, 40.0900,-124.7700, 1055,    400.5,   5.4000,   34.1200,2,-999.0000,9,     34.1,2,     35.2,2,    81.77,2,    40.30,2,     0.00,2,     2.92,2,   2303.7,2,   2297.4,2,   5.3674,20070526,0608
  32WC20070511,NACPWC,        6,    44,  1, 440106,      6,2,20070526,0544, 40.0900,-124.7700, 1055,    350.3,   5.5000,   34.1000,2,-999.0000,9,     41.7,2,     41.0,2,    77.71,2,    39.46,2,     0.01,2,     2.86,2,   2295.2,2,   2293.7,2,   5.4713,20070526,0610
  32WC20070511,NACPWC,        6,    44,  1, 440107,      7,2,20070526,0544, 40.0900,-124.7700, 1055,    300.8,   6.0000,   34.0700,2,-999.0000,9,     52.2,2,     54.3,2,    68.19,2,    37.37,2,     0.01,2,     2.72,2,   2277.4,2,   2283.4,2,   5.9744,20070526,0612
  32WC20070511,NACPWC,        6,    44,  1, 440108,      8,2,20070526,0544, 40.0900,-124.7700, 1055,    249.7,   6.5000,   34.0300,2,-999.0000,9,     68.5,2,     70.0,2,    59.15,2,    35.06,2,     0.02,2,     2.54,2,   2255.2,2,   2274.8,2,   6.4779,20070526,0615
  32WC20070511,NACPWC,        6,    44,  1, 440109,      9,2,20070526,0544, 40.0900,-124.7700, 1055,    199.2,   7.2000,   34.0100,2,-999.0000,9,     83.9,2,     86.0,2,    49.82,2,    32.96,2,     0.06,2,     2.36,2,   2237.0,2,   2265.5,2,   7.1813,20070526,0617
  32WC20070511,NACPWC,        6,    44,  1, 440110,     10,2,20070526,0544, 40.0900,-124.7700, 1055,    174.3,   7.5000,   33.9900,2,-999.0000,9,    116.0,2,    116.0,6,    46.83,2,    30.93,2,     0.09,2,     2.26,2,   2225.0,2,   2265.8,2,   7.4833,20070526,0619
  32WC20070511,NACPWC,        6,    44,  1, 440111,     11,4,20070526,0544, 40.0900,-124.7700, 1055,    150.5,   8.0000,   33.9500,2,-999.0000,9,    151.6,2,    154.9,2,    42.90,2,    27.60,2,     0.20,2,     2.10,2,   2208.1,2,   2264.6,2,   7.9851,20070526,0620
  32WC20070511,NACPWC,        6,    44,  1, 440112,     12,2,20070526,0544, 40.0900,-124.7700, 1055,    130.9,   8.1000,   33.9300,2,-999.0000,9,    148.3,2,    157.8,2,    41.47,2,    26.88,2,     0.22,2,     2.10,2,   2203.2,2,   2265.2,2,   8.0869,20070526,0622
  32WC20070511,NACPWC,        6,    44,  1, 440113,     13,2,20070526,0544, 40.0900,-124.7700, 1055,    109.5,   8.7000,   33.7900,2,-999.0000,9,    170.6,2,    189.1,2,    37.38,6,    25.51,6,     0.19,6,     1.94,6,   2161.5,2,   2252.4,2,   8.6886,20070526,0623
  32WC20070511,NACPWC,        6,    44,  1, 440114,     14,2,20070526,0544, 40.0900,-124.7700, 1055,     90.7,   9.1000,   33.7400,2,-999.0000,9,    194.2,2,    209.9,2,    28.82,2,    20.25,2,     0.21,2,     1.66,2,   2150.4,2,   2256.7,2,   9.0903,20070526,0625
  32WC20070511,NACPWC,        6,    44,  1, 440115,     15,2,20070526,0544, 40.0900,-124.7700, 1055,     69.8,   9.2000,   33.7400,2,-999.0000,9,    194.1,2,    211.9,2,    28.58,2,    19.84,2,     0.21,2,     1.64,2,   2151.1,2,   2254.5,2,   9.1925,20070526,0626
  32WC20070511,NACPWC,        6,    44,  1, 440116,     16,2,20070526,0544, 40.0900,-124.7700, 1055,     59.9,   9.2000,   33.7400,2,-999.0000,9,    198.8,2,    211.9,2,    28.43,2,    19.81,2,     0.22,2,     1.65,2,   2150.4,2,   2254.3,2,   9.1936,20070526,0627
  32WC20070511,NACPWC,        6,    44,  1, 440117,     17,2,20070526,0544, 40.0900,-124.7700, 1055,     49.7,   9.2000,   33.7400,2,-999.0000,9,    206.1,2,    212.3,2,    28.66,2,    19.78,2,     0.21,2,     1.64,2,   2149.8,2,   2253.2,2,   9.1947,20070526,0628
  32WC20070511,NACPWC,        6,    44,  1, 440118,     18,4,20070526,0544, 40.0900,-124.7700, 1055,     40.0,   9.2000,   33.7300,2,-999.0000,9,    205.8,2,    211.9,2,    28.24,6,    19.59,6,     0.21,6,     1.63,6,   2149.4,2,   2253.0,2,   9.1957,20070526,0629
  32WC20070511,NACPWC,        6,    44,  1, 440119,     19,2,20070526,0544, 40.0900,-124.7700, 1055,     30.3,   9.2000,   33.7200,2,-999.0000,9,    205.5,2,    235.3,2,    27.80,2,    19.73,2,     0.20,2,     1.64,2,   2148.6,2,   2254.2,2,   9.1968,20070526,0630
  32WC20070511,NACPWC,        6,    44,  1, 440120,     20,2,20070526,0544, 40.0900,-124.7700, 1055,     24.5,   9.3000,   33.6800,2,-999.0000,9,    205.4,2,    218.2,6,    26.45,2,    19.06,2,     0.20,2,     1.60,2,   2143.7,2,   2250.4,2,   9.2974,20070526,0631
  32WC20070511,NACPWC,        6,    44,  1, 440121,     21,2,20070526,0544, 40.0900,-124.7700, 1055,     20.0,   9.3000,   33.6900,2,-999.0000,9,    205.3,2,    217.0,2,    26.78,2,    19.15,2,     0.20,2,     1.61,2,   2145.5,2,   2247.1,2,   9.2978,20070526,0632
  32WC20070511,NACPWC,        6,    44,  1, 440122,     22,2,20070526,0544, 40.0900,-124.7700, 1055,     14.8,   9.4000,   33.6500,2,-999.0000,9,    205.1,2,    219.2,2,    26.35,2,    18.95,2,     0.19,2,     1.60,2,   2143.7,2,   2248.7,2,   9.3984,20070526,0633
  32WC20070511,NACPWC,        6,    44,  1, 440123,     23,4,20070526,0544, 40.0900,-124.7700, 1055,     14.7,   9.4000,   33.6500,2,  33.6600,2,    205.1,2,   -999.0,9,  -999.00,9,  -999.00,9,  -999.00,9,  -999.00,9,   -999.0,9,   -999.0,9,   9.3984,20070526,0634
  32WC20070511,NACPWC,        6,    44,  1, 440124,     24,2,20070526,0544, 40.0900,-124.7700, 1055,      4.6,   9.5000,   33.6300,2,-999.0000,9,    204.9,2,    223.9,2,    25.42,6,    18.47,6,     0.18,6,     1.56,6,   2139.5,2,   2246.4,2,   9.4995,20070526,0636
  32WC20070511,NACPWC,        6,    45,  1, 450101,      1,2,20070526,0201, 40.0100,-124.9500, 1412,   1397.7,   2.8000,   34.5300,2,  34.5200,2,     33.7,2,     34.5,2,   152.71,6,    42.84,6,     0.01,6,     3.12,6,   2383.0,6,   -999.0,9,   2.7029,20070526,0201
  32WC20070511,NACPWC,        6,    45,  1, 450102,      2,2,20070526,0201, 40.0100,-124.9500, 1412,    800.9,   4.2000,   34.3800,2,-999.0000,9,      9.9,2,      9.7,2,   116.86,6,    43.16,6,     0.01,6,     3.20,6,   2359.8,6,   2352.4,2,   4.1395,20070526,0214
  32WC20070511,NACPWC,        6,    45,  1, 450103,      3,2,20070526,0201, 40.0100,-124.9500, 1412,    600.4,   4.4000,   34.2100,2,-999.0000,9,     15.5,2,     15.5,2,   104.64,2,    42.82,2,     0.01,2,     3.11,2,   2339.6,2,   -999.0,9,   4.3548,20070526,0219
  32WC20070511,NACPWC,        6,    45,  1, 450104,      4,2,20070526,0201, 40.0100,-124.9500, 1412,    500.6,   5.0000,   34.1500,2,-999.0000,9,     27.6,2,     27.2,2,    91.37,2,    40.90,2,     0.01,2,     3.00,2,   2319.1,2,   2309.4,2,   4.9604,20070526,0222
  32WC20070511,NACPWC,        6,    45,  1, 450105,      5,2,20070526,0201, 40.0100,-124.9500, 1412,    399.7,   5.7000,   34.1100,2,-999.0000,9,     40.9,2,     39.9,2,    76.37,2,    38.65,2,     0.01,2,     2.85,2,   2294.1,2,   2292.2,2,   5.6665,20070526,0226
  32WC20070511,NACPWC,        6,    45,  1, 450106,      6,2,20070526,0201, 40.0100,-124.9500, 1412,    349.8,   6.1000,   34.1000,2,-999.0000,9,     45.9,2,     45.1,2,    69.96,6,    37.82,6,     0.02,6,     2.77,6,   2283.2,2,   2286.9,2,   6.0698,20070526,0228
  32WC20070511,NACPWC,        6,    45,  1, 450107,      7,2,20070526,0201, 40.0100,-124.9500, 1412,    300.3,   6.5000,   34.0700,2,-999.0000,9,     55.1,2,     58.8,2,    63.79,6,    37.26,6,     0.02,6,     2.66,6,   2271.7,2,   2279.7,2,   6.4732,20070526,0230
  32WC20070511,NACPWC,        6,    45,  1, 450108,      8,2,20070526,0201, 40.0100,-124.9500, 1412,    249.0,   6.8000,   34.0800,2,-999.0000,9,     55.7,2,     56.1,2,    59.70,2,    36.12,2,     0.03,2,     2.62,2,   2267.0,2,   2277.0,2,   6.7773,20070526,0232
  32WC20070511,NACPWC,        6,    45,  1, 450109,      9,2,20070526,0201, 40.0100,-124.9500, 1412,    201.4,   7.1000,   34.0300,2,-999.0000,9,     72.3,2,     71.3,2,    52.61,2,    34.51,2,     0.07,2,     2.48,2,   2248.3,2,   2268.2,2,   7.0813,20070526,0234
  32WC20070511,NACPWC,        6,    45,  1, 450110,     10,2,20070526,0201, 40.0100,-124.9500, 1412,    175.5,   7.5000,   34.0000,2,-999.0000,9,     83.7,2,     84.7,2,    47.76,2,    33.04,2,     0.08,2,     2.36,2,   2235.6,2,   2261.3,2,   7.4832,20070526,0236
  32WC20070511,NACPWC,        6,    45,  1, 450111,     11,2,20070526,0201, 40.0100,-124.9500, 1412,    149.6,   7.7000,   33.9800,2,-999.0000,9,     93.7,2,     94.6,6,    43.21,6,    31.49,6,     0.06,6,     2.25,6,   2222.9,2,   2256.3,2,   7.6855,20070526,0237
  32WC20070511,NACPWC,        6,    45,  1, 450112,     12,2,20070526,0201, 40.0100,-124.9500, 1412,    130.1,   8.0000,   33.9400,2,-999.0000,9,     95.4,2,     95.8,2,    41.40,2,    30.96,2,     0.07,2,     2.23,2,   2218.6,2,   2252.0,2,   7.9871,20070526,0239
  32WC20070511,NACPWC,        6,    45,  1, 450113,     13,2,20070526,0201, 40.0100,-124.9500, 1412,    109.7,   8.3000,   33.8600,2,-999.0000,9,    118.4,2,    115.7,2,    37.51,2,    29.10,2,     0.05,2,     2.11,2,   2202.9,2,   2246.7,2,   8.2889,20070526,0241
  32WC20070511,NACPWC,        6,    45,  1, 450114,     14,2,20070526,0201, 40.0100,-124.9500, 1412,     91.7,   8.7000,   33.7200,2,-999.0000,9,    131.3,2,    131.4,2,    33.63,2,    26.94,2,     0.03,2,     2.00,2,   -999.0,9,   2238.0,2,   8.6905,20070526,0242
  32WC20070511,NACPWC,        6,    45,  1, 450115,     15,2,20070526,0201, 40.0100,-124.9500, 1412,     71.1,   8.9000,   33.5600,2,-999.0000,9,    145.7,2,    144.4,2,    31.37,6,    25.21,6,     0.02,6,     1.90,6,   2169.7,2,   2232.2,2,   8.8925,20070526,0244
  32WC20070511,NACPWC,        6,    45,  1, 450116,     16,2,20070526,0201, 40.0100,-124.9500, 1412,     60.8,   9.0000,   33.4600,2,-999.0000,9,    154.8,2,    155.7,2,    29.21,6,    23.65,6,     0.02,6,     1.81,6,   2156.9,2,   2221.9,2,   8.9936,20070526,0245
  32WC20070511,NACPWC,        6,    45,  1, 450117,     17,2,20070526,0201, 40.0100,-124.9500, 1412,     50.1,   9.4000,   33.1800,2,-999.0000,9,    189.0,2,    190.0,2,    23.70,2,    19.41,2,     0.06,2,     1.55,2,   2120.1,2,   2209.0,2,   9.3946,20070526,0246
  32WC20070511,NACPWC,        6,    45,  1, 450118,     18,2,20070526,0201, 40.0100,-124.9500, 1412,     39.6,   9.9000,   32.9000,2,-999.0000,9,    234.0,2,    229.3,2,    19.36,2,    14.44,2,     0.31,2,     1.27,2,   2084.6,2,   2198.0,2,   9.8956,20070526,0247
  32WC20070511,NACPWC,        6,    45,  1, 450119,     19,2,20070526,0201, 40.0100,-124.9500, 1412,     30.0,  11.4000,   32.7400,2,-999.0000,9,    270.1,2,    268.9,2,    14.12,2,     6.73,2,     0.22,2,     0.79,2,   2037.3,2,   2194.3,2,  11.3963,20070526,0248
  32WC20070511,NACPWC,        6,    45,  1, 450120,     20,2,20070526,0201, 40.0100,-124.9500, 1412,     24.9,  11.5000,   32.7300,2,-999.0000,9,    272.1,2,    274.4,2,    13.39,2,     5.51,2,     0.19,2,     0.70,2,   2026.6,2,   2198.5,2,  11.4969,20070526,0249
  32WC20070511,NACPWC,        6,    45,  1, 450121,     21,2,20070526,0201, 40.0100,-124.9500, 1412,     19.5,  11.5000,   32.7300,2,-999.0000,9,    272.2,2,    274.1,2,    13.42,2,     5.48,2,     0.19,2,     0.69,2,   2025.4,2,   2196.4,2,  11.4976,20070526,0250
  32WC20070511,NACPWC,        6,    45,  1, 450122,     22,2,20070526,0201, 40.0100,-124.9500, 1412,     15.6,  11.8000,   32.7400,2,-999.0000,9,    274.2,2,    278.6,2,    12.63,2,     4.70,2,     0.16,2,     0.62,2,   2017.3,2,   2199.4,2,  11.7981,20070526,0251
  32WC20070511,NACPWC,        6,    45,  1, 450123,     23,4,20070526,0201, 40.0100,-124.9500, 1412,     10.6,  11.8000,   32.7100,2,  32.7100,2,    281.4,2,    279.8,2,    12.34,2,     4.14,2,     0.14,2,     0.57,2,   2011.1,2,   2196.4,2,  11.7987,20070526,0252
  32WC20070511,NACPWC,        6,    45,  1, 450124,     24,2,20070526,0201, 40.0100,-124.9500, 1412,      4.9,  11.8000,   32.7100,2,-999.0000,9,    281.0,2,    279.7,2,    12.32,2,     4.14,2,     0.14,2,     0.57,2,   2012.7,2,   2198.2,2,  11.7994,20070526,0253
  32WC20070511,NACPWC,        6,    46,  1, 460101,      1,2,20070525,2217, 39.9300,-125.1200, 1976,   1946.2,   2.1000,   34.6000,2,  34.6000,2,     66.1,2,     67.0,2,   170.82,6,    40.83,6,     0.01,6,     2.96,6,   2379.5,6,   2416.3,2,   1.9666,20070525,2217
  32WC20070511,NACPWC,        6,    46,  1, 460102,      2,2,20070525,2217, 39.9300,-125.1200, 1976,   1749.9,   2.3000,   34.5800,2,-999.0000,9,     55.7,2,     56.4,2,   165.63,2,    41.52,2,     0.01,2,     3.02,2,   2381.8,2,   -999.0,9,   2.1802,20070525,2224
  32WC20070511,NACPWC,        6,    46,  1, 460103,      3,2,20070525,2217, 39.9300,-125.1200, 1976,   1498.7,   2.7000,   34.5500,2,-999.0000,9,     40.8,2,     42.3,2,   155.11,2,    42.56,2,     0.01,2,     3.08,2,   2383.3,2,   2398.4,2,   2.5958,20070525,2231
  32WC20070511,NACPWC,        6,    46,  1, 460104,      4,2,20070525,2217, 39.9300,-125.1200, 1976,    800.5,   4.1000,   34.3400,2,-999.0000,9,      9.2,2,      9.8,2,   118.53,6,    43.10,6,     0.01,6,     3.19,6,   2358.1,2,   -999.0,9,   4.0402,20070525,2248
  32WC20070511,NACPWC,        6,    46,  1, 460105,      5,2,20070525,2217, 39.9300,-125.1200, 1976,    499.8,   5.3000,   34.1800,2,-999.0000,9,     25.3,2,     25.2,2,    86.84,6,    40.00,6,     0.01,6,     2.98,6,   2314.8,2,   2313.8,2,   5.2593,20070525,2255
  32WC20070511,NACPWC,        6,    46,  1, 460106,      6,2,20070525,2217, 39.9300,-125.1200, 1976,    350.3,   6.1000,   34.0700,2,-999.0000,9,     50.7,2,     50.2,2,    68.35,2,    37.54,2,     0.01,2,     2.73,2,   2276.4,2,   2286.1,2,   6.0697,20070525,2259
  32WC20070511,NACPWC,        6,    46,  1, 460107,      7,2,20070525,2217, 39.9300,-125.1200, 1976,    300.7,   6.6000,   34.0600,2,-999.0000,9,     58.9,2,     58.8,2,    60.65,2,    35.72,2,     0.02,2,     2.61,2,   2262.4,2,   2277.3,2,   6.5730,20070525,2301
  32WC20070511,NACPWC,        6,    46,  1, 460108,      8,2,20070525,2217, 39.9300,-125.1200, 1976,    250.5,   7.1000,   34.0400,2,-999.0000,9,     73.4,2,     72.2,2,    53.65,2,    33.95,2,     0.02,2,     2.46,2,   2247.2,2,   2272.2,2,   7.0766,20070525,2304
  32WC20070511,NACPWC,        6,    46,  1, 460109,      9,2,20070525,2217, 39.9300,-125.1200, 1976,    200.3,   7.5000,   33.9900,2,-999.0000,9,     80.8,2,     81.2,2,    46.71,6,    32.84,6,     0.03,6,     2.36,6,   2234.1,2,   2260.9,2,   7.4808,20070525,2306
  32WC20070511,NACPWC,        6,    46,  1, 460110,     10,2,20070525,2217, 39.9300,-125.1200, 1976,    175.3,   7.9000,   33.9500,2,-999.0000,9,     98.0,2,     98.3,6,    41.83,2,    30.40,2,     0.04,2,     2.23,2,   2217.7,2,   2254.6,2,   7.8827,20070525,2307
  32WC20070511,NACPWC,        6,    46,  1, 460111,     11,2,20070525,2217, 39.9300,-125.1200, 1976,    152.2,   8.1000,   33.9100,2,-999.0000,9,    104.2,2,    104.9,2,    39.73,2,    29.20,2,     0.04,2,     2.16,2,   2207.5,2,   2251.2,2,   8.0848,20070525,2309
  32WC20070511,NACPWC,        6,    46,  1, 460112,     12,2,20070525,2217, 39.9300,-125.1200, 1976,    131.3,   8.2000,   33.8500,2,-999.0000,9,    119.7,2,    120.1,2,    36.83,2,    28.12,2,     0.03,2,     2.06,2,   2196.1,2,   2246.7,2,   8.1868,20070525,2310
  32WC20070511,NACPWC,        6,    46,  1, 460113,     13,2,20070525,2217, 39.9300,-125.1200, 1976,    110.0,   8.7000,   33.6600,2,-999.0000,9,    133.5,2,    132.7,2,    33.33,6,    26.36,6,     0.02,6,     1.97,6,   2177.7,2,   2236.8,2,   8.6886,20070525,2311
  32WC20070511,NACPWC,        6,    46,  1, 460114,     14,2,20070525,2217, 39.9300,-125.1200, 1976,     89.8,   9.0000,   33.4800,2,-999.0000,9,    157.3,2,    155.3,2,    28.57,2,    23.00,2,     0.03,2,     1.80,2,   2155.5,2,   2225.7,2,   8.9905,20070525,2312
  32WC20070511,NACPWC,        6,    46,  1, 460115,     15,2,20070525,2217, 39.9300,-125.1200, 1976,     69.5,   9.4000,   33.1800,2,-999.0000,9,    193.6,2,    191.7,2,    22.33,2,    18.59,2,     0.04,2,     1.50,2,   2115.1,2,   2211.5,2,   9.3925,20070525,2313
  32WC20070511,NACPWC,        6,    46,  1, 460116,     16,2,20070525,2217, 39.9300,-125.1200, 1976,     60.1,   9.7000,   33.0200,2,-999.0000,9,    222.3,2,    218.5,2,    18.12,2,    15.17,2,     0.12,2,     1.29,2,   2087.6,2,   2204.7,2,   9.6934,20070525,2314
  32WC20070511,NACPWC,        6,    46,  1, 460117,     17,2,20070525,2217, 39.9300,-125.1200, 1976,     49.7,  10.0000,   32.8800,2,-999.0000,9,    247.0,2,    242.5,2,    14.95,2,    11.83,2,     0.18,2,     1.09,2,   2064.5,2,   2195.6,2,   9.9944,20070525,2315
  32WC20070511,NACPWC,        6,    46,  1, 460118,     18,2,20070525,2217, 39.9300,-125.1200, 1976,     39.3,  10.1000,   32.8000,2,-999.0000,9,    264.0,2,    262.4,2,    15.48,2,    10.05,2,     0.23,2,     1.02,2,   2056.3,2,   2193.1,2,  10.0956,20070525,2316
  32WC20070511,NACPWC,        6,    46,  1, 460119,     19,2,20070525,2217, 39.9300,-125.1200, 1976,     29.7,  11.9000,   32.6100,2,-999.0000,9,    281.9,2,    284.8,2,    10.68,2,     2.19,2,     0.07,2,     0.48,2,   2001.1,2,   2179.3,2,  11.8963,20070525,2317
  32WC20070511,NACPWC,        6,    46,  1, 460120,     20,2,20070525,2217, 39.9300,-125.1200, 1976,     24.4,  12.1000,   32.6200,2,-999.0000,9,    289.3,2,    288.9,6,    11.14,2,     1.89,2,     0.05,2,     0.45,2,   1999.6,2,   2193.6,2,  12.0969,20070525,2317
  32WC20070511,NACPWC,        6,    46,  1, 460121,     21,2,20070525,2217, 39.9300,-125.1200, 1976,     20.0,  12.1000,   32.6300,2,-999.0000,9,    289.1,2,    289.9,2,    11.16,2,     1.90,2,     0.05,2,     0.44,2,   1997.8,2,   2194.0,2,  12.0975,20070525,2318
  32WC20070511,NACPWC,        6,    46,  1, 460122,     22,2,20070525,2217, 39.9300,-125.1200, 1976,     14.5,  12.1000,   32.6300,2,-999.0000,9,    289.4,2,    290.0,2,    11.24,2,     1.84,2,     0.04,2,     0.44,2,   1997.6,2,   2194.0,2,  12.0982,20070525,2319
  32WC20070511,NACPWC,        6,    46,  1, 460123,     23,2,20070525,2217, 39.9300,-125.1200, 1976,      9.7,  12.1000,   32.6300,2,-999.0000,9,    288.7,2,    289.8,2,    11.17,2,     1.87,2,     0.05,2,     0.44,2,   1997.6,2,   2193.5,2,  12.0988,20070525,2320
  32WC20070511,NACPWC,        6,    46,  1, 460124,     24,2,20070525,2217, 39.9300,-125.1200, 1976,      3.6,  12.1000,   32.6300,2,  32.6300,2,    289.1,2,    290.0,2,    11.14,2,     1.80,2,     0.04,2,     0.44,2,   1997.2,2,   2193.3,2,  12.0995,20070525,2320