BOTTLE,20220810CCHSIOAMB
EXPOCODE,SECT_ID,LINE,STNNBR,CASTNO,SAMPNO,BTLNBR,BTLNBR_FLAG_W,DATE,TIME,LATITUDE,LONGITUDE,DEPTH,CTDPRS,CTDTMP,CTDSAL,CTDSAL_FLAG_W,SALNTY,SALNTY_FLAG_W,CTDOXY,CTDOXY_FLAG_W,OXYGEN,OXYGEN_FLAG_W,SILCAT,SILCAT_FLAG_W,NITRAT,NITRAT_FLAG_W,NITRIT,NITRIT_FLAG_W,PHSPHT,PHSPHT_FLAG_W,TCARBN,TCARBN_FLAG_W,ALKALI,ALKALI_FLAG_W,THETA,BTL_DATE,BTL_TIME
,,,,,,,,,,,,METERS,DBAR,ITS-90,PSS-78,,PSS-78,,UMOL/KG,,UMOL/KG,,UMOL/KG,,UMOL/KG,,UMOL/KG,,UMOL/KG,,UMOL/KG,,UMOL/KG,,DEG C,,
  32WC20070511,NACPWC,        1,     6,  1,  60101,      1,2,20070515,0824, 51.8300,-130.3700,  238,    227.4,   5.0000,   34.0300,2,  34.0300,6,     59.0,2,     59.5,2,    84.63,2,    38.35,2,     0.01,2,     2.71,2,   -999.0,9,   2297.9,6,   4.9825,20070515,0824
  32WC20070511,NACPWC,        1,     6,  1,  60102,      2,2,20070515,0824, 51.8300,-130.3700,  238,    201.3,   5.7000,   33.9500,2,-999.0000,9,     82.2,2,     83.5,2,    65.12,2,    35.42,2,     0.01,2,     2.49,2,   -999.0,9,   2274.0,2,   5.6835,20070515,0826
  32WC20070511,NACPWC,        1,     6,  1,  60103,      3,2,20070515,0824, 51.8300,-130.3700,  238,    175.8,   6.2000,   33.9000,2,-999.0000,9,    100.3,2,    102.1,2,    56.32,2,    33.20,2,     0.01,2,     2.34,2,   -999.0,9,   2266.0,2,   6.1849,20070515,0828
  32WC20070511,NACPWC,        1,     6,  1,  60104,      4,2,20070515,0824, 51.8300,-130.3700,  238,    149.9,   6.4000,   33.8700,2,-999.0000,9,    107.0,2,    107.5,2,    53.18,6,    32.08,6,     0.02,6,     2.28,6,   2220.5,3,   2262.2,2,   6.3870,20070515,0830
  32WC20070511,NACPWC,        1,     6,  1,  60105,      5,2,20070515,0824, 51.8300,-130.3700,  238,    130.5,   6.7000,   33.8200,2,-999.0000,9,    119.1,2,    118.9,2,    48.25,2,    30.80,2,     0.02,2,     2.20,2,   -999.0,9,   2255.8,2,   6.6884,20070515,0832
  32WC20070511,NACPWC,        1,     6,  1,  60106,      6,2,20070515,0824, 51.8300,-130.3700,  238,    109.1,   6.9000,   33.6500,2,-999.0000,9,    142.4,2,    141.9,2,    41.12,2,    28.03,2,     0.02,2,     2.04,2,   2185.2,2,   2241.5,2,   6.8902,20070515,0834
  32WC20070511,NACPWC,        1,     6,  1,  60107,      7,2,20070515,0824, 51.8300,-130.3700,  238,     89.7,   7.1000,   33.3300,2,-999.0000,9,    179.6,2,    187.6,2,    32.18,2,    22.97,2,     0.04,2,     1.76,2,   -999.0,9,   2221.6,2,   7.0918,20070515,0836
  32WC20070511,NACPWC,        1,     6,  1,  60108,      8,2,20070515,0824, 51.8300,-130.3700,  238,     69.7,   7.3000,   32.6100,2,-999.0000,9,    264.3,2,    265.0,2,    17.33,2,    13.70,2,     0.16,2,     1.27,2,   2054.0,2,   2181.6,2,   7.2936,20070515,0837
  32WC20070511,NACPWC,        1,     6,  1,  60109,      9,2,20070515,0824, 51.8300,-130.3700,  238,     60.0,   7.4000,   32.5100,2,-999.0000,9,    276.7,2,    277.3,6,    15.30,2,    12.00,2,     0.20,2,     1.18,2,   -999.0,9,   2178.1,2,   7.3945,20070515,0839
  32WC20070511,NACPWC,        1,     6,  1,  60110,     10,2,20070515,0824, 51.8300,-130.3700,  238,     50.7,   7.5000,   32.4400,2,-999.0000,9,    286.7,2,    287.4,2,    13.74,2,    10.35,2,     0.19,2,     1.10,2,   2027.1,2,   2172.5,2,   7.4953,20070515,0840
  32WC20070511,NACPWC,        1,     6,  1,  60111,     11,2,20070515,0824, 51.8300,-130.3700,  238,     40.6,   8.0000,   32.2800,2,-999.0000,9,    298.1,2,    299.3,2,    12.67,2,     8.23,2,     0.15,2,     0.97,2,   -999.0,9,   2167.2,2,   7.9961,20070515,0842
  32WC20070511,NACPWC,        1,     6,  1,  60112,     12,2,20070515,0824, 51.8300,-130.3700,  238,     30.4,   8.3000,   32.2200,2,-999.0000,9,    303.5,2,    304.0,2,    12.79,2,     7.58,2,     0.13,2,     0.92,2,   1996.8,2,   2164.4,2,   8.2970,20070515,0843
  32WC20070511,NACPWC,        1,     6,  1,  60113,     13,2,20070515,0824, 51.8300,-130.3700,  238,     24.9,   8.4000,   32.2200,2,-999.0000,9,    304.0,2,    305.3,2,    12.79,2,     7.37,2,     0.13,2,     0.90,2,   -999.0,9,   2166.0,2,   8.3975,20070515,0844
  32WC20070511,NACPWC,        1,     6,  1,  60114,     14,2,20070515,0824, 51.8300,-130.3700,  238,     19.9,   8.5000,   32.1800,2,-999.0000,9,    307.3,2,    307.8,2,    12.69,2,     6.84,2,     0.12,2,     0.86,2,   1989.3,2,   2161.9,2,   8.4980,20070515,0846
  32WC20070511,NACPWC,        1,     6,  1,  60115,     15,2,20070515,0824, 51.8300,-130.3700,  238,     15.2,   8.7000,   32.1500,2,-999.0000,9,    309.2,2,    308.9,2,    12.75,2,     6.58,2,     0.11,2,     0.84,2,   1989.4,2,   2164.2,2,   8.6985,20070515,0847
  32WC20070511,NACPWC,        1,     6,  1,  60116,     16,2,20070515,0824, 51.8300,-130.3700,  238,     10.1,   8.8000,   32.1500,2,  32.1400,6,    307.9,2,    309.4,2,    12.51,2,     6.42,2,     0.11,2,     0.83,2,   1984.3,2,   2159.6,2,   8.7990,20070515,0848
  32WC20070511,NACPWC,        1,     6,  1,  60117,     17,2,20070515,0824, 51.8300,-130.3700,  238,      4.6,   9.5000,   31.9700,2,-999.0000,9,    306.8,2,    308.1,2,    13.23,2,     6.19,2,     0.12,2,     0.80,2,   1974.9,2,   2154.0,6,   9.4995,20070515,0850
  32WC20070511,NACPWC,        1,     7,  1,  70101,      1,2,20070515,1203, 52.0200,-129.9700,  133,    120.0,   6.9000,   33.2500,2,  33.2500,6,    167.8,2,    168.0,2,    40.41,6,    24.73,6,     0.06,6,     1.90,6,   -999.0,9,   2225.6,6,   6.8892,20070515,1203
  32WC20070511,NACPWC,        1,     7,  1,  70102,      2,2,20070515,1203, 52.0200,-129.9700,  133,    110.9,   6.9000,   33.2400,2,-999.0000,9,    170.1,2,    169.9,2,    40.06,6,    24.53,6,     0.06,6,     1.88,6,   2158.3,2,   2225.9,2,   6.8901,20070515,1204
  32WC20070511,NACPWC,        1,     7,  1,  70103,      3,3,20070515,1203, 52.0200,-129.9700,  133,     90.2,   7.0000,   33.1100,2,-999.0000,9,    190.7,2,    194.3,2,    32.73,2,    21.84,2,     0.05,2,     1.72,2,   -999.0,9,   2212.6,2,   6.9919,20070515,1206
  32WC20070511,NACPWC,        1,     7,  1,  70104,      4,2,20070515,1203, 52.0200,-129.9700,  133,     70.5,   7.2000,   32.7800,2,-999.0000,9,    222.6,2,    236.9,2,    27.35,2,    18.55,2,     0.07,2,     1.54,2,   2100.6,2,   2193.9,2,   7.1936,20070515,1208
  32WC20070511,NACPWC,        1,     7,  1,  70105,      5,2,20070515,1203, 52.0200,-129.9700,  133,     60.4,   7.4000,   32.6300,2,-999.0000,9,    247.6,2,    246.3,6,    22.36,2,    15.47,2,     0.13,2,     1.37,2,   -999.0,9,   2183.3,2,   7.3944,20070515,1209
  32WC20070511,NACPWC,        1,     7,  1,  70106,      6,2,20070515,1203, 52.0200,-129.9700,  133,     51.0,   7.5000,   32.4900,2,-999.0000,9,    261.3,2,    259.0,2,    20.07,2,    13.80,2,     0.15,2,     1.28,2,   2057.8,2,   2175.8,2,   7.4953,20070515,1211
  32WC20070511,NACPWC,        1,     7,  1,  70107,      7,2,20070515,1203, 52.0200,-129.9700,  133,     40.6,   7.7000,   32.3000,2,-999.0000,9,    270.4,2,    269.5,2,    19.39,2,    12.46,2,     0.17,2,     1.20,2,   -999.0,9,   2166.2,2,   7.6962,20070515,1212
  32WC20070511,NACPWC,        1,     7,  1,  70108,      8,2,20070515,1203, 52.0200,-129.9700,  133,     30.7,   8.1000,   32.1300,2,-999.0000,9,    286.1,2,    287.7,2,    16.55,2,     9.90,2,     0.17,2,     1.04,2,   2018.7,2,   2158.8,2,   8.0970,20070515,1213
  32WC20070511,NACPWC,        1,     7,  1,  70109,      9,2,20070515,1203, 52.0200,-129.9700,  133,     25.0,   8.1000,   32.1300,2,-999.0000,9,    287.0,2,    293.8,2,    15.71,2,     9.03,2,     0.15,2,     0.99,2,   -999.0,9,   2157.8,2,   8.0976,20070515,1214
  32WC20070511,NACPWC,        1,     7,  1,  70110,     10,2,20070515,1203, 52.0200,-129.9700,  133,     20.3,   8.3000,   32.1200,2,-999.0000,9,    292.9,2,    301.1,2,    14.92,2,     8.27,2,     0.14,2,     0.94,2,   2006.5,2,   2159.2,2,   8.2980,20070515,1215
  32WC20070511,NACPWC,        1,     7,  1,  70111,     11,2,20070515,1203, 52.0200,-129.9700,  133,     14.5,   8.4000,   32.0500,2,-999.0000,9,    302.2,2,    302.8,6,    15.32,2,     8.01,2,     0.14,2,     0.92,2,   2000.3,2,   2155.0,2,   8.3986,20070515,1217
  32WC20070511,NACPWC,        1,     7,  1,  70112,     12,2,20070515,1203, 52.0200,-129.9700,  133,     14.4,   8.4000,   32.0600,2,-999.0000,9,    302.1,2,   -999.0,9,  -999.00,9,  -999.00,9,  -999.00,9,  -999.00,9,   -999.0,9,   2155.7,2,   8.3986,20070515,1217
  32WC20070511,NACPWC,        1,     7,  1,  70113,     13,2,20070515,1203, 52.0200,-129.9700,  133,      9.9,   9.0000,   32.0000,2,-999.0000,9,    312.6,2,    313.3,2,    14.06,2,     6.18,2,     0.12,2,     0.80,2,   1988.2,2,   -999.0,9,   8.9990,20070515,1218
  32WC20070511,NACPWC,        1,     7,  1,  70114,     14,2,20070515,1203, 52.0200,-129.9700,  133,      9.9,   9.0000,   32.0000,2,  31.9900,6,    312.6,2,   -999.0,9,  -999.00,9,  -999.00,9,  -999.00,9,  -999.00,9,   -999.0,9,   -999.0,9,   8.9990,20070515,1218
  32WC20070511,NACPWC,        1,     7,  1,  70115,     15,2,20070515,1203, 52.0200,-129.9700,  133,      4.6,   9.4000,   31.9700,2,-999.0000,9,    312.2,2,    312.0,2,    14.02,2,     5.98,2,     0.12,2,     0.78,2,   1982.5,2,   2152.5,2,   9.3995,20070515,1219
  32WC20070511,NACPWC,        1,     7,  1,  70116,     16,2,20070515,1203, 52.0200,-129.9700,  133,      4.6,   9.4000,   31.9700,2,-999.0000,9,    312.2,2,   -999.0,9,  -999.00,9,  -999.00,9,  -999.00,9,  -999.00,9,   -999.0,9,   -999.0,9,   9.3995,20070515,1220
  32WC20070511,NACPWC,        1,     8,  1,  80101,      1,2,20070515,1549, 52.2300,-129.4500,  170,    155.2,   6.0000,   33.7500,2,  33.7400,6,    101.7,2,    100.7,2,    62.77,6,    32.73,6,     0.02,6,     2.39,6,   2238.4,2,   2263.5,6,   5.9870,20070515,1549
  32WC20070511,NACPWC,        1,     8,  1,  80102,      2,2,20070515,1549, 52.2300,-129.4500,  170,    130.7,   6.8000,   33.3100,2,-999.0000,9,    153.4,2,    155.1,2,    44.23,6,    25.98,6,     0.02,6,     2.00,6,   -999.0,9,   2229.0,2,   6.7884,20070515,1551
  32WC20070511,NACPWC,        1,     8,  1,  80103,      3,2,20070515,1549, 52.2300,-129.4500,  170,    109.8,   7.2000,   32.8600,2,-999.0000,9,    211.4,2,    212.2,2,    30.65,2,    19.99,2,     0.02,2,     1.63,2,   2106.0,2,   2197.0,2,   7.1900,20070515,1553
  32WC20070511,NACPWC,        1,     8,  1,  80104,      4,2,20070515,1549, 52.2300,-129.4500,  170,     90.7,   7.3000,   32.5100,2,-999.0000,9,    241.2,2,    243.4,2,    25.24,2,    16.74,2,     0.03,2,     1.45,2,   -999.0,9,   2177.5,2,   7.2917,20070515,1555
  32WC20070511,NACPWC,        1,     8,  1,  80105,      5,2,20070515,1549, 52.2300,-129.4500,  170,     80.0,   7.4000,   32.3400,2,-999.0000,9,    255.8,2,    254.1,2,    23.72,2,    15.54,2,     0.08,2,     1.38,2,   -999.0,9,   2169.6,2,   7.3927,20070515,1556
  32WC20070511,NACPWC,        1,     8,  1,  80106,      6,2,20070515,1549, 52.2300,-129.4500,  170,     70.5,   7.6000,   32.1300,2,-999.0000,9,    270.7,2,    270.9,2,    20.70,2,    13.47,2,     0.15,2,     1.25,2,   2035.5,2,   2158.2,2,   7.5934,20070515,1558
  32WC20070511,NACPWC,        1,     8,  1,  80107,      7,2,20070515,1549, 52.2300,-129.4500,  170,     60.2,   7.6000,   32.0300,2,-999.0000,9,    273.2,2,    272.4,2,    21.06,2,    13.53,2,     0.15,2,     1.25,2,   -999.0,9,   2150.9,2,   7.5944,20070515,1559
  32WC20070511,NACPWC,        1,     8,  1,  80108,      8,2,20070515,1549, 52.2300,-129.4500,  170,     50.0,   7.9000,   31.7900,2,-999.0000,9,    282.0,2,    280.7,6,    19.93,2,    12.20,2,     0.16,2,     1.17,2,   2011.8,2,   2141.1,2,   7.8953,20070515,1601
  32WC20070511,NACPWC,        1,     8,  1,  80109,      9,2,20070515,1549, 52.2300,-129.4500,  170,     40.3,   8.0000,   31.6400,2,-999.0000,9,    286.4,2,    285.2,2,    19.87,2,    11.68,2,     0.19,2,     1.15,2,   -999.0,9,   2132.4,2,   7.9962,20070515,1602
  32WC20070511,NACPWC,        1,     8,  1,  80110,     10,2,20070515,1549, 52.2300,-129.4500,  170,     29.8,   8.1000,   31.5600,2,-999.0000,9,    288.8,2,    288.5,2,    19.55,2,    11.26,2,     0.22,2,     1.12,2,   1992.9,2,   2127.5,2,   8.0972,20070515,1604
  32WC20070511,NACPWC,        1,     8,  1,  80111,     11,2,20070515,1549, 52.2300,-129.4500,  170,     25.3,   8.2000,   31.4800,2,-999.0000,9,    293.8,2,    294.8,2,    19.95,2,    10.81,2,     0.24,2,     1.08,2,   -999.0,9,   2122.0,2,   8.1976,20070515,1605
  32WC20070511,NACPWC,        1,     8,  1,  80112,     12,2,20070515,1549, 52.2300,-129.4500,  170,     20.3,   8.3000,   31.4400,2,-999.0000,9,    304.0,2,    301.0,2,    19.50,2,    10.16,2,     0.23,2,     1.03,2,   1979.0,2,   2125.1,2,   8.2980,20070515,1607
  32WC20070511,NACPWC,        1,     8,  1,  80113,     13,2,20070515,1549, 52.2300,-129.4500,  170,     15.2,   8.9000,   31.3500,2,-999.0000,9,    319.0,2,    318.1,2,    18.69,2,     8.08,2,     0.20,2,     0.89,2,   -999.0,9,   2118.6,2,   8.8985,20070515,1608
  32WC20070511,NACPWC,        1,     8,  1,  80114,     14,2,20070515,1549, 52.2300,-129.4500,  170,     10.4,   9.1000,   31.3100,2,  31.3200,6,    322.9,2,    319.1,2,    18.84,2,     7.93,2,     0.20,2,     0.87,2,   1955.1,2,   2117.2,2,   9.0989,20070515,1609
  32WC20070511,NACPWC,        1,     8,  1,  80115,     15,2,20070515,1549, 52.2300,-129.4500,  170,      5.2,   9.4000,   31.2900,2,-999.0000,9,    321.5,2,    320.7,2,    18.49,2,     7.46,2,     0.19,2,     0.84,2,   1952.4,2,   2117.4,2,   9.3995,20070515,1611
  32WC20070511,NACPWC,        2,     9,  1,  90101,      1,2,20070516,1559, 48.2800,-129.4500, 2633,   2631.2,   1.7000,   34.6300,2,  34.6300,6,     84.7,2,     83.7,2,   183.94,6,    39.84,6,     0.01,6,     2.80,6,   -999.0,9,   2421.5,6,   1.5136,20070516,1559
  32WC20070511,NACPWC,        2,     9,  1,  90102,      2,2,20070516,1559, 48.2800,-129.4500, 2633,   2000.2,   2.0000,   34.5900,2,-999.0000,9,     57.0,2,     56.9,2,   178.93,2,    41.80,2,     0.01,2,     2.93,2,   -999.0,9,   2409.8,2,   1.8637,20070516,1617
  32WC20070511,NACPWC,        2,     9,  1,  90103,      3,2,20070516,1559, 48.2800,-129.4500, 2633,   1501.8,   2.4000,   34.5100,2,-999.0000,9,     27.3,2,     27.5,2,   166.40,2,    43.69,2,     0.01,2,     3.06,2,   -999.0,9,   2394.5,2,   2.2991,20070516,1630
  32WC20070511,NACPWC,        2,     9,  1,  90104,      4,2,20070516,1559, 48.2800,-129.4500, 2633,    800.1,   3.8000,   34.2900,2,-999.0000,9,     10.0,2,     11.1,2,   123.12,2,    44.02,2,     0.01,2,     3.11,2,   -999.0,9,   2345.3,2,   3.7422,20070516,1648
  32WC20070511,NACPWC,        2,     9,  1,  90105,      5,2,20070516,1559, 48.2800,-129.4500, 2633,    501.4,   4.9000,   34.1000,2,-999.0000,9,     30.7,2,     30.0,2,    90.64,2,    41.02,2,     0.01,2,     2.94,2,   2309.9,2,   2305.8,2,   4.8608,20070516,1657
  32WC20070511,NACPWC,        2,     9,  1,  90106,      6,2,20070516,1559, 48.2800,-129.4500, 2633,    350.3,   5.9000,   33.9900,2,-999.0000,9,     62.2,2,     62.2,2,    67.20,2,    37.13,2,     0.01,2,     2.61,2,   2268.5,2,   2277.3,2,   5.8703,20070516,1701
  32WC20070511,NACPWC,        2,     9,  1,  90107,      7,2,20070516,1559, 48.2800,-129.4500, 2633,    250.9,   6.7000,   33.9700,2,-999.0000,9,     81.6,2,     79.4,2,    55.41,2,    34.00,2,     0.01,2,     2.42,2,   -999.0,9,   2267.1,2,   6.6774,20070516,1705
  32WC20070511,NACPWC,        2,     9,  1,  90108,      8,2,20070516,1559, 48.2800,-129.4500, 2633,    198.8,   7.1000,   33.9100,2,-999.0000,9,     99.2,2,    100.8,2,    47.47,2,    31.63,2,     0.01,2,     2.23,2,   2220.0,2,   2256.3,6,   7.0816,20070516,1708
  32WC20070511,NACPWC,        2,     9,  1,  90109,      9,2,20070516,1559, 48.2800,-129.4500, 2633,    176.7,   7.3000,   33.8900,2,-999.0000,9,    102.2,2,    102.3,2,    45.51,2,    31.20,2,     0.01,2,     2.22,2,   -999.0,9,   2254.3,2,   7.2834,20070516,1710
  32WC20070511,NACPWC,        2,     9,  1,  90110,     10,2,20070516,1559, 48.2800,-129.4500, 2633,    149.4,   7.6000,   33.8200,2,-999.0000,9,    110.9,2,    109.3,2,    41.67,2,    30.13,2,     0.01,2,     2.16,2,   2207.4,2,   2246.3,2,   7.5856,20070516,1712
  32WC20070511,NACPWC,        2,     9,  1,  90111,     11,2,20070516,1559, 48.2800,-129.4500, 2633,    131.1,   7.8000,   33.6900,2,-999.0000,9,    132.1,2,    129.7,2,    36.97,2,    27.83,2,     0.02,2,     2.04,2,   -999.0,9,   2244.9,3,   7.7872,20070516,1714
  32WC20070511,NACPWC,        2,     9,  1,  90112,     12,2,20070516,1559, 48.2800,-129.4500, 2633,    110.8,   7.5000,   33.1900,2,-999.0000,9,    197.7,2,    198.5,2,    26.70,2,    21.08,2,     0.02,2,     1.64,2,   2125.2,2,   2198.0,2,   7.4896,20070516,1716
  32WC20070511,NACPWC,        2,     9,  1,  90113,     13,2,20070516,1559, 48.2800,-129.4500, 2633,     90.0,   7.4000,   32.7600,2,-999.0000,9,    248.0,2,    265.2,2,    17.99,2,    14.83,2,     0.03,2,     1.31,2,   -999.0,9,   2187.5,2,   7.3917,20070516,1718
  32WC20070511,NACPWC,        2,     9,  1,  90114,     14,2,20070516,1559, 48.2800,-129.4500, 2633,     81.3,   7.5000,   32.5900,2,-999.0000,9,    271.3,2,    269.7,6,    14.32,2,    12.03,2,     0.13,2,     1.16,2,   -999.0,9,   2181.6,2,   7.4924,20070516,1719
  32WC20070511,NACPWC,        2,     9,  1,  90115,     15,2,20070516,1559, 48.2800,-129.4500, 2633,     70.4,   7.5000,   32.4400,2,-999.0000,9,    290.3,2,    291.7,2,    10.66,2,     8.88,2,     0.35,2,     1.00,2,   2032.9,2,   2173.7,2,   7.4935,20070516,1721
  32WC20070511,NACPWC,        2,     9,  1,  90116,     16,2,20070516,1559, 48.2800,-129.4500, 2633,     59.9,   8.0000,   32.3800,2,-999.0000,9,    297.3,2,    297.7,2,     9.46,2,     7.29,2,     0.23,2,     0.91,2,   -999.0,9,   2172.7,2,   7.9942,20070516,1722
  32WC20070511,NACPWC,        2,     9,  1,  90117,     17,2,20070516,1559, 48.2800,-129.4500, 2633,     49.9,   8.2000,   32.3600,2,-999.0000,9,    300.3,2,    299.8,2,     9.10,2,     6.64,2,     0.18,2,     0.87,2,   2012.2,2,   2170.3,2,   8.1951,20070516,1723
  32WC20070511,NACPWC,        2,     9,  1,  90118,     18,2,20070516,1559, 48.2800,-129.4500, 2633,     40.8,   8.3000,   32.3500,2,-999.0000,9,    301.8,2,    300.6,2,     8.87,2,     6.39,2,     0.17,2,     0.86,2,   -999.0,9,   2165.4,2,   8.2960,20070516,1725
  32WC20070511,NACPWC,        2,     9,  1,  90119,     19,2,20070516,1559, 48.2800,-129.4500, 2633,     30.2,   9.4000,   32.3600,2,-999.0000,9,    301.1,2,    300.4,2,     8.38,2,     5.43,2,     0.10,2,     0.81,2,   2001.4,2,   2171.1,2,   9.3968,20070516,1726
  32WC20070511,NACPWC,        2,     9,  1,  90120,     20,2,20070516,1559, 48.2800,-129.4500, 2633,     24.7,   9.5000,   32.3500,2,-999.0000,9,    299.2,2,    300.3,2,     8.28,2,     5.35,2,     0.10,2,     0.80,2,   -999.0,9,   2169.4,2,   9.4973,20070516,1727
  32WC20070511,NACPWC,        2,     9,  1,  90121,     21,2,20070516,1559, 48.2800,-129.4500, 2633,     20.5,   9.7000,   32.3300,2,-999.0000,9,    297.8,2,    297.3,6,     8.08,2,     5.05,2,     0.10,2,     0.78,2,   1996.6,2,   2168.3,2,   9.6978,20070516,1729
  32WC20070511,NACPWC,        2,     9,  1,  90122,     22,2,20070516,1559, 48.2800,-129.4500, 2633,     15.9,   9.8000,   32.3200,2,-999.0000,9,    297.7,2,    296.6,2,     7.95,2,     4.92,2,     0.10,2,     0.77,2,   1998.1,2,   2167.5,2,   9.7983,20070516,1730
  32WC20070511,NACPWC,        2,     9,  1,  90123,     23,2,20070516,1559, 48.2800,-129.4500, 2633,     10.5,   9.8000,   32.3200,2,  32.3200,6,    297.5,2,    296.2,2,     7.88,2,     4.88,2,     0.10,2,     0.77,2,   1996.5,2,   2169.0,2,   9.7989,20070516,1731
  32WC20070511,NACPWC,        2,     9,  1,  90124,     24,2,20070516,1559, 48.2800,-129.4500, 2633,      4.4,   9.8000,   32.3200,2,-999.0000,9,    297.3,2,    295.8,2,     7.78,2,     4.86,2,     0.10,2,     0.77,2,   1997.6,2,   2165.9,2,   9.7995,20070516,1732