BOTTLE,20220810CCHSIOAMB
EXPOCODE,SECT_ID,LINE,STNNBR,CASTNO,SAMPNO,BTLNBR,BTLNBR_FLAG_W,DATE,TIME,LATITUDE,LONGITUDE,DEPTH,CTDPRS,CTDTMP,CTDSAL,CTDSAL_FLAG_W,SALNTY,SALNTY_FLAG_W,CTDOXY,CTDOXY_FLAG_W,OXYGEN,OXYGEN_FLAG_W,SILCAT,SILCAT_FLAG_W,NITRAT,NITRAT_FLAG_W,NITRIT,NITRIT_FLAG_W,PHSPHT,PHSPHT_FLAG_W,TCARBN,TCARBN_FLAG_W,ALKALI,ALKALI_FLAG_W,THETA,BTL_DATE,BTL_TIME
,,,,,,,,,,,,METERS,DBAR,ITS-90,PSS-78,,PSS-78,,UMOL/KG,,UMOL/KG,,UMOL/KG,,UMOL/KG,,UMOL/KG,,UMOL/KG,,UMOL/KG,,UMOL/KG,,DEG C,,
  32WC20070511,NACPWC,       10,    85,  1, 850101,      1,2,20070605,0222, 33.7900,-118.8500,  908,    896.4,   5.1000,   34.4100,2,  34.4100,2,      5.8,2,      6.2,2,   109.89,6,    35.90,6,     0.01,6,     3.27,6,   2353.9,6,   -999.0,9,   5.0254,20070605,0222
  32WC20070511,NACPWC,       10,    85,  1, 850102,      2,2,20070605,0222, 33.7900,-118.8500,  908,    800.1,   5.2000,   34.4000,2,-999.0000,9,      4.5,2,      4.8,2,   108.50,2,    34.27,2,     0.00,2,     3.28,2,   2353.8,6,   2353.2,2,   5.1334,20070605,0225
  32WC20070511,NACPWC,       10,    85,  1, 850103,      3,2,20070605,0222, 33.7900,-118.8500,  908,    599.6,   5.8000,   34.3600,2,-999.0000,9,      8.2,2,      8.6,2,    89.87,6,    38.23,6,     0.01,6,     3.11,6,   2328.3,2,   2327.7,2,   5.7482,20070605,0230
  32WC20070511,NACPWC,       10,    85,  1, 850104,      4,2,20070605,0222, 33.7900,-118.8500,  908,    499.6,   6.4000,   34.3100,2,-999.0000,9,     15.3,2,     16.1,2,    75.25,2,    37.76,2,     0.01,2,     2.98,2,   2304.7,2,   2311.8,2,   6.3550,20070605,0233
  32WC20070511,NACPWC,       10,    85,  1, 850105,      5,2,20070605,0222, 33.7900,-118.8500,  908,    400.1,   7.2000,   34.2800,2,-999.0000,9,     26.3,2,     27.4,2,    62.08,2,    35.36,2,     0.01,2,     2.80,2,   2284.4,2,   2296.5,2,   7.1618,20070605,0236
  32WC20070511,NACPWC,       10,    85,  1, 850106,      6,2,20070605,0222, 33.7900,-118.8500,  908,    350.0,   7.6000,   34.2700,2,-999.0000,9,     33.3,2,     32.5,2,    56.91,2,    33.95,2,     0.01,2,     2.70,2,   2273.3,2,   2297.6,2,   7.5657,20070605,0238
  32WC20070511,NACPWC,       10,    85,  1, 850107,      7,2,20070605,0222, 33.7900,-118.8500,  908,    299.7,   8.1000,   34.2700,2,-999.0000,9,     36.3,2,     38.9,2,    51.95,2,    32.38,2,     0.01,2,     2.60,2,   2266.4,2,   2285.6,2,   8.0696,20070605,0240
  32WC20070511,NACPWC,       10,    85,  1, 850108,      8,2,20070605,0222, 33.7900,-118.8500,  908,    249.6,   8.3000,   34.2400,2,-999.0000,9,     52.7,2,     53.6,2,    46.71,2,    31.09,2,     0.01,2,     2.46,2,   2248.6,2,   2277.5,2,   8.2744,20070605,0243
  32WC20070511,NACPWC,       10,    85,  1, 850109,      9,2,20070605,0222, 33.7900,-118.8500,  908,    224.9,   8.4000,   34.1800,2,-999.0000,9,     64.3,2,     64.9,2,    43.78,2,    30.11,2,     0.01,2,     2.34,2,   2240.1,2,   2273.6,2,   8.3768,20070605,0244
  32WC20070511,NACPWC,       10,    85,  1, 850110,     10,2,20070605,0222, 33.7900,-118.8500,  908,    200.1,   8.9000,   34.2100,2,-999.0000,9,     69.3,2,     63.5,2,    41.47,2,    29.29,2,     0.01,2,     2.32,2,   2236.4,2,   2273.6,2,   8.8786,20070605,0246
  32WC20070511,NACPWC,       10,    85,  1, 850111,     11,2,20070605,0222, 33.7900,-118.8500,  908,    174.8,   9.2000,   34.2300,2,-999.0000,9,     56.9,2,     61.5,2,    39.98,2,    28.94,2,     0.01,2,     2.31,2,   2237.7,2,   2270.4,2,   9.1810,20070605,0247
  32WC20070511,NACPWC,       10,    85,  1, 850112,     12,2,20070605,0222, 33.7900,-118.8500,  908,    149.6,   9.2000,   34.1900,2,-999.0000,9,     69.1,2,     69.8,6,    38.05,2,    28.25,2,     0.02,2,     2.24,2,   2228.7,2,   2269.7,2,   9.1837,20070605,0249
  32WC20070511,NACPWC,       10,    85,  1, 850113,     13,2,20070605,0222, 33.7900,-118.8500,  908,    130.0,   9.1000,   34.1000,2,-999.0000,9,     91.4,2,     90.0,2,    35.34,2,    27.11,2,     0.01,2,     2.08,2,   2215.2,2,   2260.6,2,   9.0860,20070605,0250
  32WC20070511,NACPWC,       10,    85,  1, 850114,     14,2,20070605,0222, 33.7900,-118.8500,  908,     90.0,   9.6000,   33.9600,2,-999.0000,9,    117.7,2,    112.5,2,    29.16,2,    24.83,2,     0.01,2,     1.89,2,   2189.7,2,   2253.1,2,   9.5900,20070605,0252
  32WC20070511,NACPWC,       10,    85,  1, 850115,     15,2,20070605,0222, 33.7900,-118.8500,  908,     69.9,   9.9000,   33.8700,2,-999.0000,9,    112.4,2,    118.8,2,    25.99,2,    23.51,2,     0.01,2,     1.80,2,   2178.7,2,   2246.4,2,   9.8921,20070605,0253
  32WC20070511,NACPWC,       10,    85,  1, 850116,     16,2,20070605,0222, 33.7900,-118.8500,  908,     60.0,  10.4000,   33.8200,2,-999.0000,9,    110.6,2,    112.1,2,    24.51,2,    23.11,2,     0.02,2,     1.80,2,   2179.8,2,   2244.4,2,  10.3930,20070605,0254
  32WC20070511,NACPWC,       10,    85,  1, 850117,     17,2,20070605,0222, 33.7900,-118.8500,  908,     49.8,  10.5000,   33.8000,2,-999.0000,9,    111.7,2,    113.0,2,    23.11,2,    22.56,2,     0.03,2,     1.78,2,   2178.1,2,   2244.3,2,  10.4942,20070605,0255
  32WC20070511,NACPWC,       10,    85,  1, 850118,     18,2,20070605,0222, 33.7900,-118.8500,  908,     39.8,  10.9000,   33.7400,2,-999.0000,9,    118.7,2,    118.6,2,    20.66,2,    21.34,2,     0.07,2,     1.68,2,   2164.1,2,   2245.9,2,  10.8952,20070605,0256
  32WC20070511,NACPWC,       10,    85,  1, 850119,     19,2,20070605,0222, 33.7900,-118.8500,  908,     29.8,  11.7000,   33.6500,2,-999.0000,9,    165.1,2,    162.3,2,    14.63,6,    15.02,6,     0.43,6,     1.23,6,   2122.0,2,   2234.9,2,  11.6963,20070605,0257
  32WC20070511,NACPWC,       10,    85,  1, 850120,     20,2,20070605,0222, 33.7900,-118.8500,  908,     24.9,  12.5000,   33.6400,2,-999.0000,9,    199.6,2,    201.4,2,    11.07,2,     9.39,2,     0.44,2,     0.87,2,   2090.8,2,   2246.1,2,  12.4967,20070605,0258
  32WC20070511,NACPWC,       10,    85,  1, 850121,     21,2,20070605,0222, 33.7900,-118.8500,  908,     19.9,  13.1000,   33.6200,2,-999.0000,9,    288.2,2,    261.1,2,     8.11,2,     2.53,2,     0.27,2,     0.44,2,   2042.2,2,   2239.6,2,  13.0973,20070605,0259
  32WC20070511,NACPWC,       10,    85,  1, 850122,     22,2,20070605,0222, 33.7900,-118.8500,  908,     14.6,  16.1000,   33.6800,2,-999.0000,9,    292.1,2,    290.5,2,     4.52,2,     0.36,2,     0.05,2,     0.23,2,   1995.8,2,   2247.2,2,  16.0977,20070605,0300
  32WC20070511,NACPWC,       10,    85,  1, 850123,     23,2,20070605,0222, 33.7900,-118.8500,  908,     10.2,  17.1000,   33.7000,2,-999.0000,9,    268.6,2,    267.1,2,     2.88,2,     0.00,2,     0.00,2,     0.15,2,   1996.3,2,   2246.8,2,  17.0983,20070605,0300
  32WC20070511,NACPWC,       10,    85,  1, 850124,     24,2,20070605,0222, 33.7900,-118.8500,  908,      5.1,  17.3000,   33.7100,2,  33.7100,2,    265.1,2,    294.9,2,     2.81,2,     0.00,2,     0.00,2,     0.15,2,   2000.1,2,   2247.0,2,  17.2992,20070605,0301
  32WC20070511,NACPWC,       11,    86,  1, 860101,      1,2,20070605,2207, 30.3500,-119.4600, 3850,   3864.1,   1.6000,   34.6800,2,  34.6800,2,    128.0,2,    126.5,2,   171.33,2,    37.46,2,     0.01,2,     2.62,2,   2353.0,6,   2431.9,6,   1.2930,20070605,2207
  32WC20070511,NACPWC,       11,    86,  1, 860102,      2,2,20070605,2207, 30.3500,-119.4600, 3850,   2500.6,   1.8000,   34.6600,2,-999.0000,9,    103.6,2,    103.9,2,   166.87,2,    38.84,2,     0.01,2,     2.76,2,   2365.8,6,   2427.7,2,   1.6233,20070605,2234
  32WC20070511,NACPWC,       11,    86,  1, 860103,      3,2,20070605,2207, 30.3500,-119.4600, 3850,   1500.1,   2.8000,   34.5700,2,-999.0000,9,     49.7,2,     51.0,2,   148.92,2,    42.14,2,     0.01,2,     3.05,2,   2374.1,2,   2400.8,2,   2.6945,20070605,2254
  32WC20070511,NACPWC,       11,    86,  1, 860104,      4,2,20070605,2207, 30.3500,-119.4600, 3850,    800.1,   4.5000,   34.4300,2,-999.0000,9,     14.4,2,     15.7,2,   107.88,6,    42.69,6,     0.00,6,     3.16,6,   2350.4,2,   2353.3,2,   4.4377,20070605,2307
  32WC20070511,NACPWC,       11,    86,  1, 860105,      5,2,20070605,2207, 30.3500,-119.4600, 3850,    501.7,   5.6000,   34.2400,2,-999.0000,9,     19.6,2,     19.3,2,    84.18,2,    40.03,2,     0.01,2,     3.00,2,   2316.3,2,   2316.0,2,   5.5579,20070605,2314
  32WC20070511,NACPWC,       11,    86,  1, 860106,      6,2,20070605,2207, 30.3500,-119.4600, 3850,    400.2,   6.0000,   34.1200,2,-999.0000,9,     44.2,2,     42.3,2,    71.92,2,    37.83,2,     0.01,2,     2.79,2,   2285.9,2,   2291.5,2,   5.9656,20070605,2316
  32WC20070511,NACPWC,       11,    86,  1, 860107,      7,2,20070605,2207, 30.3500,-119.4600, 3850,    300.1,   7.1000,   34.0700,2,-999.0000,9,     80.7,2,     80.9,2,    52.85,2,    32.94,2,     0.01,2,     2.38,2,   2237.5,2,   2276.4,2,   7.0719,20070605,2319
  32WC20070511,NACPWC,       11,    86,  1, 860108,      8,2,20070605,2207, 30.3500,-119.4600, 3850,    249.3,   7.7000,   34.0300,2,-999.0000,9,    110.3,2,    109.4,2,    43.19,2,    29.23,2,     0.01,2,     2.10,2,   2210.2,2,   2249.4,2,   7.6756,20070605,2321
  32WC20070511,NACPWC,       11,    86,  1, 860109,      9,2,20070605,2207, 30.3500,-119.4600, 3850,    199.9,   8.4000,   34.0000,2,-999.0000,9,    132.8,2,    136.1,2,    33.73,2,    25.42,2,     0.02,2,     1.83,2,   2178.6,2,   2242.1,6,   8.3795,20070605,2322
  32WC20070511,NACPWC,       11,    86,  1, 860110,     10,2,20070605,2207, 30.3500,-119.4600, 3850,    175.2,   8.8000,   33.9500,2,-999.0000,9,    156.3,2,    156.4,6,    28.53,2,    22.95,2,     0.02,2,     1.66,2,   2160.8,2,   2249.9,2,   8.7815,20070605,2323
  32WC20070511,NACPWC,       11,    86,  1, 860111,     11,2,20070605,2207, 30.3500,-119.4600, 3850,    149.3,   9.4000,   33.8800,2,-999.0000,9,    132.6,2,    129.1,2,    27.63,2,    23.97,2,     0.03,2,     1.81,2,   2174.3,2,   2246.9,2,   9.3836,20070605,2324
  32WC20070511,NACPWC,       11,    86,  1, 860112,     12,2,20070605,2207, 30.3500,-119.4600, 3850,    129.8,  10.0000,   33.8100,2,-999.0000,9,    147.1,2,    151.5,2,    24.11,2,    22.33,2,     0.06,2,     1.71,2,   2162.8,2,   -999.0,9,   9.9852,20070605,2325
  32WC20070511,NACPWC,       11,    86,  1, 860113,     13,2,20070605,2207, 30.3500,-119.4600, 3850,    109.5,  10.5000,   33.6700,2,-999.0000,9,    164.2,2,    161.2,2,    19.33,2,    19.18,2,     0.04,2,     1.50,2,   2139.3,2,   2230.3,2,  10.4872,20070605,2326
  32WC20070511,NACPWC,       11,    86,  1, 860114,     14,2,20070605,2207, 30.3500,-119.4600, 3850,     90.2,  11.3000,   33.6500,2,-999.0000,9,    196.2,2,    197.0,2,    14.66,2,    15.74,2,     0.23,2,     1.28,2,   2114.2,2,   2229.6,2,  11.2889,20070605,2327
  32WC20070511,NACPWC,       11,    86,  1, 860115,     15,2,20070605,2207, 30.3500,-119.4600, 3850,     69.8,  12.0000,   33.6400,2,-999.0000,9,    234.3,2,    230.4,2,    10.57,2,    11.73,2,     0.32,2,     1.09,2,   2095.0,2,   2240.6,2,  11.9911,20070605,2328
  32WC20070511,NACPWC,       11,    86,  1, 860116,     16,2,20070605,2207, 30.3500,-119.4600, 3850,     59.4,  12.2000,   33.6300,2,-999.0000,9,    236.3,2,    235.7,2,     9.65,2,    10.88,2,     0.36,2,     1.02,2,   2084.4,2,   2237.3,2,  12.1923,20070605,2329
  32WC20070511,NACPWC,       11,    86,  1, 860117,     17,2,20070605,2207, 30.3500,-119.4600, 3850,     50.8,  12.2000,   33.5800,2,-999.0000,9,    243.2,2,    240.8,2,     8.90,6,    10.20,6,     0.38,6,     0.94,6,   2080.0,2,   2236.0,2,  12.1934,20070605,2330
  32WC20070511,NACPWC,       11,    86,  1, 860118,     18,2,20070605,2207, 30.3500,-119.4600, 3850,     39.3,  12.4000,   33.4900,2,-999.0000,9,    254.6,2,    249.0,2,     6.11,2,     7.94,2,     0.33,2,     0.83,2,   2065.2,2,   2227.8,2,  12.3949,20070605,2331
  32WC20070511,NACPWC,       11,    86,  1, 860119,     19,2,20070605,2207, 30.3500,-119.4600, 3850,     29.9,  13.3000,   33.5100,2,-999.0000,9,    271.0,2,    279.2,2,     2.25,2,     4.71,2,     0.20,2,     0.60,2,   2037.6,2,   2230.2,2,  13.2959,20070605,2332
  32WC20070511,NACPWC,       11,    86,  1, 860120,     20,2,20070605,2207, 30.3500,-119.4600, 3850,     25.3,  13.7000,   33.4900,2,-999.0000,9,    272.0,2,    274.8,6,     2.46,2,     3.96,2,     0.17,2,     0.54,2,   2034.1,2,   2224.7,2,  13.6965,20070605,2333
  32WC20070511,NACPWC,       11,    86,  1, 860121,     21,2,20070605,2207, 30.3500,-119.4600, 3850,     18.9,  14.9000,   33.5600,2,-999.0000,9,    264.0,2,    263.7,2,     3.12,2,     2.47,2,     0.11,2,     0.45,2,   2031.1,2,   2239.8,2,  14.8972,20070605,2333
  32WC20070511,NACPWC,       11,    86,  1, 860122,     22,2,20070605,2207, 30.3500,-119.4600, 3850,     15.3,  15.1000,   33.5600,2,-999.0000,9,    265.6,2,    263.1,2,     3.08,2,     2.48,2,     0.10,2,     0.44,2,   2029.4,2,   2232.9,2,  15.0977,20070605,2334
  32WC20070511,NACPWC,       11,    86,  1, 860123,     23,2,20070605,2207, 30.3500,-119.4600, 3850,      9.4,  15.1000,   33.5600,2,  33.5600,2,    265.4,2,    262.7,2,     3.09,2,     2.46,2,     0.10,2,     0.44,2,   2030.1,2,   2232.8,2,  15.0986,20070605,2335
  32WC20070511,NACPWC,       11,    86,  1, 860124,     24,2,20070605,2207, 30.3500,-119.4600, 3850,      4.4,  15.1000,   33.5600,2,-999.0000,9,    265.2,2,    262.2,2,     3.05,2,     2.46,2,     0.10,2,     0.44,2,   2029.8,2,   2234.8,2,  15.0993,20070605,2336
  32WC20070511,NACPWC,       11,    87,  1, 870101,      1,2,20070606,0500, 30.6900,-118.7900, 2808,   2606.6,   1.8000,   34.6600,2,  34.6600,2,    105.8,2,    106.6,2,   166.92,6,    38.81,6,     0.01,6,     2.75,6,   2365.1,6,   2420.8,6,   1.6137,20070606,0500
  32WC20070511,NACPWC,       11,    87,  1, 870102,      2,2,20070606,0500, 30.6900,-118.7900, 2808,   2000.7,   2.1000,   34.6300,2,-999.0000,9,     81.9,2,     86.5,2,   160.91,2,    40.28,2,     0.01,2,     2.88,2,   2371.4,6,   2413.2,2,   1.9620,20070606,0518
  32WC20070511,NACPWC,       11,    87,  1, 870103,      3,2,20070606,0500, 30.6900,-118.7900, 2808,   1499.8,   2.8000,   34.5800,2,-999.0000,9,     50.1,2,     50.8,2,   147.00,2,    42.05,2,     0.01,2,     3.05,2,   2378.3,2,   2399.4,2,   2.6945,20070606,0532
  32WC20070511,NACPWC,       11,    87,  1, 870104,      4,2,20070606,0500, 30.6900,-118.7900, 2808,    800.7,   4.8000,   34.4300,2,-999.0000,9,     12.3,2,     13.1,2,   101.94,6,    42.40,6,     0.01,6,     3.17,6,   2347.2,2,   2346.2,2,   4.7358,20070606,0550
  32WC20070511,NACPWC,       11,    87,  1, 870105,      5,2,20070606,0500, 30.6900,-118.7900, 2808,    500.5,   6.0000,   34.2600,2,-999.0000,9,     19.9,2,     20.0,2,    77.77,2,    38.73,2,     0.01,2,     2.98,2,   2314.4,2,   2310.4,2,   5.9565,20070606,0558
  32WC20070511,NACPWC,       11,    87,  1, 870106,      6,2,20070606,0500, 30.6900,-118.7900, 2808,    350.3,   7.4000,   34.2200,2,-999.0000,9,     39.4,2,     39.6,2,    57.04,2,    34.25,2,     0.01,2,     2.68,2,   2276.3,2,   2284.6,2,   7.3662,20070606,0603
  32WC20070511,NACPWC,       11,    87,  1, 870107,      7,2,20070606,0500, 30.6900,-118.7900, 2808,    300.8,   7.5000,   34.1400,2,-999.0000,9,     60.5,2,     63.4,2,    51.22,2,    32.63,2,     0.01,2,     2.47,2,   2255.6,2,   2279.0,2,   7.4709,20070606,0605
  32WC20070511,NACPWC,       11,    87,  1, 870108,      8,2,20070606,0500, 30.6900,-118.7900, 2808,    251.0,   7.9000,   34.0600,2,-999.0000,9,    102.7,2,    101.5,2,    41.67,2,    29.20,2,     0.01,2,     2.13,2,   2216.3,2,   2262.3,2,   7.8750,20070606,0608
  32WC20070511,NACPWC,       11,    87,  1, 870109,      9,2,20070606,0500, 30.6900,-118.7900, 2808,    200.6,   8.5000,   33.9900,2,-999.0000,9,    135.6,2,    135.9,2,    32.73,2,    25.27,2,     0.01,2,     1.82,2,   2181.9,2,   2254.4,2,   8.4792,20070606,0610
  32WC20070511,NACPWC,       11,    87,  1, 870110,     10,2,20070606,0500, 30.6900,-118.7900, 2808,    177.0,   8.9000,   33.9300,2,-999.0000,9,    165.4,2,    165.4,2,    25.84,2,    21.72,2,     0.01,2,     1.56,2,   2151.5,2,   2244.4,2,   8.8812,20070606,0612
  32WC20070511,NACPWC,       11,    87,  1, 870111,     11,2,20070606,0500, 30.6900,-118.7900, 2808,    150.1,   9.4000,   33.8200,2,-999.0000,9,    171.3,2,    172.4,2,    21.03,2,    19.68,2,     0.02,2,     1.45,2,   2137.1,2,   2238.4,2,   9.3835,20070606,0614
  32WC20070511,NACPWC,       11,    87,  1, 870112,     12,2,20070606,0500, 30.6900,-118.7900, 2808,    129.9,   9.8000,   33.7100,2,-999.0000,9,    167.5,2,    167.4,2,    19.25,2,    19.18,2,     0.02,2,     1.43,2,   2131.8,2,   2227.5,2,   9.7854,20070606,0616
  32WC20070511,NACPWC,       11,    87,  1, 870113,     13,2,20070606,0500, 30.6900,-118.7900, 2808,    110.7,  11.0000,   33.5900,2,-999.0000,9,    184.7,2,    185.6,2,    13.48,2,    14.89,2,     0.02,2,     1.19,2,   2108.2,2,   2226.6,2,  10.9866,20070606,0617
  32WC20070511,NACPWC,       11,    87,  1, 870114,     14,2,20070606,0500, 30.6900,-118.7900, 2808,     89.9,  12.2000,   33.5200,2,-999.0000,9,    224.6,2,    218.5,2,     8.25,2,     9.52,2,     0.03,2,     0.84,2,   2075.6,2,   2221.9,2,  12.1884,20070606,0619
  32WC20070511,NACPWC,       11,    87,  1, 870115,     15,2,20070606,0500, 30.6900,-118.7900, 2808,     70.3,  13.5000,   33.5100,2,-999.0000,9,    254.2,2,    253.6,2,     4.23,6,     4.17,6,     0.28,6,     0.56,6,   2046.9,2,   2227.4,2,  13.4903,20070606,0621
  32WC20070511,NACPWC,       11,    87,  1, 870116,     16,4,20070606,0500, 30.6900,-118.7900, 2808,     51.4,  14.0000,   33.4600,2,-999.0000,9,    261.8,2,    260.6,2,     3.30,2,     1.74,2,     0.18,2,     0.39,2,   2028.7,2,   2225.9,2,  13.9927,20070606,0622
  32WC20070511,NACPWC,       11,    87,  1, 870117,     17,2,20070606,0500, 30.6900,-118.7900, 2808,     51.3,  14.0000,   33.4700,2,-999.0000,9,    261.6,2,    260.8,2,     3.29,2,     1.68,2,     0.18,2,     0.39,2,   2027.8,2,   2227.4,2,  13.9927,20070606,0623
  32WC20070511,NACPWC,       11,    87,  1, 870118,     18,2,20070606,0500, 30.6900,-118.7900, 2808,     39.8,  14.8000,   33.5000,2,-999.0000,9,    263.5,2,    263.0,2,     2.90,2,     0.53,2,     0.07,2,     0.31,2,   2020.4,2,   2226.8,2,  14.7941,20070606,0624
  32WC20070511,NACPWC,       11,    87,  1, 870119,     19,2,20070606,0500, 30.6900,-118.7900, 2808,     30.9,  15.8000,   33.5900,2,-999.0000,9,    253.3,2,    253.8,2,     2.43,2,     0.00,2,     0.01,2,     0.25,2,   2017.9,2,   2235.8,2,  15.7952,20070606,0625
  32WC20070511,NACPWC,       11,    87,  1, 870120,     20,2,20070606,0500, 30.6900,-118.7900, 2808,     25.2,  15.9000,   33.6000,2,-999.0000,9,    252.5,2,    251.9,2,     2.45,2,     0.00,2,     0.01,2,     0.24,2,   2018.3,2,   2242.7,2,  15.8961,20070606,0625
  32WC20070511,NACPWC,       11,    87,  1, 870121,     21,2,20070606,0500, 30.6900,-118.7900, 2808,     20.0,  15.9000,   33.6000,2,-999.0000,9,    252.3,2,    251.6,2,     2.49,2,     0.00,2,     0.01,2,     0.24,2,   2017.7,2,   2233.4,2,  15.8969,20070606,0626
  32WC20070511,NACPWC,       11,    87,  1, 870122,     22,2,20070606,0500, 30.6900,-118.7900, 2808,     14.4,  15.9000,   33.6000,2,-999.0000,9,    252.2,2,    251.2,2,     2.52,2,     0.00,2,     0.01,2,     0.25,2,   2017.4,2,   2233.3,2,  15.8978,20070606,0627
  32WC20070511,NACPWC,       11,    87,  1, 870123,     23,2,20070606,0500, 30.6900,-118.7900, 2808,      9.4,  15.9000,   33.6000,2,  33.6000,2,    252.3,2,    251.6,2,     2.56,2,     0.01,2,     0.01,2,     0.25,2,   2017.4,2,   2237.0,2,  15.8985,20070606,0628
  32WC20070511,NACPWC,       11,    87,  1, 870124,     24,2,20070606,0500, 30.6900,-118.7900, 2808,      5.2,  15.9000,   33.6000,2,-999.0000,9,    252.0,2,    251.6,2,     2.59,2,     0.00,2,     0.01,2,     0.25,2,   2017.8,2,   2234.5,2,  15.8992,20070606,0629