BOTTLE,20220810CCHSIOAMB
EXPOCODE,SECT_ID,LINE,STNNBR,CASTNO,SAMPNO,BTLNBR,BTLNBR_FLAG_W,DATE,TIME,LATITUDE,LONGITUDE,DEPTH,CTDPRS,CTDTMP,CTDSAL,CTDSAL_FLAG_W,SALNTY,SALNTY_FLAG_W,CTDOXY,CTDOXY_FLAG_W,OXYGEN,OXYGEN_FLAG_W,SILCAT,SILCAT_FLAG_W,NITRAT,NITRAT_FLAG_W,NITRIT,NITRIT_FLAG_W,PHSPHT,PHSPHT_FLAG_W,TCARBN,TCARBN_FLAG_W,ALKALI,ALKALI_FLAG_W,THETA,BTL_DATE,BTL_TIME
,,,,,,,,,,,,METERS,DBAR,ITS-90,PSS-78,,PSS-78,,UMOL/KG,,UMOL/KG,,UMOL/KG,,UMOL/KG,,UMOL/KG,,UMOL/KG,,UMOL/KG,,UMOL/KG,,DEG C,,
  32WC20070511,NACPWC,       10,    79,  1, 790101,      1,2,20070603,2245, 33.2000,-119.7600,  675,    666.1,   5.3000,   34.3800,2,  34.3700,2,     12.9,2,     12.8,2,    95.70,6,    39.63,6,     0.01,6,     3.04,6,   2334.5,6,   2337.3,6,   5.2447,20070603,2245
  32WC20070511,NACPWC,       10,    79,  1, 790102,      2,2,20070603,2245, 33.2000,-119.7600,  675,    599.9,   6.1000,   34.3300,2,-999.0000,9,     16.2,2,     15.9,2,    81.42,2,    37.31,2,     0.02,2,     2.95,2,   2317.7,6,   -999.0,9,   6.0469,20070603,2247
  32WC20070511,NACPWC,       10,    79,  1, 790103,      3,2,20070603,2245, 33.2000,-119.7600,  675,    499.5,   6.7000,   34.3100,2,-999.0000,9,     17.7,2,     17.6,2,    72.11,2,    35.70,2,     0.01,2,     2.88,2,   2305.4,2,   2310.0,2,   6.6538,20070603,2250
  32WC20070511,NACPWC,       10,    79,  1, 790104,      4,2,20070603,2245, 33.2000,-119.7600,  675,    450.2,   7.0000,   34.3000,2,-999.0000,9,     19.7,2,     20.0,2,    66.80,2,    34.69,2,     0.01,2,     2.83,2,   2299.5,2,   2309.2,2,   6.9575,20070603,2252
  32WC20070511,NACPWC,       10,    79,  1, 790105,      5,2,20070603,2245, 33.2000,-119.7600,  675,    401.2,   7.1000,   34.3000,2,-999.0000,9,     21.7,2,     22.5,2,    65.04,2,    34.43,2,     0.01,2,     2.80,2,   2295.3,2,   2286.1,2,   7.0620,20070603,2253
  32WC20070511,NACPWC,       10,    79,  1, 790106,      6,2,20070603,2245, 33.2000,-119.7600,  675,    350.2,   7.4000,   34.2800,2,-999.0000,9,     26.5,2,     25.9,2,    61.05,2,    33.60,2,     0.03,2,     2.73,2,   2284.1,2,   2295.0,2,   7.3662,20070603,2255
  32WC20070511,NACPWC,       10,    79,  1, 790107,      7,2,20070603,2245, 33.2000,-119.7600,  675,    299.7,   7.7000,   34.2700,2,-999.0000,9,     32.0,2,     33.2,2,    56.53,2,    32.57,2,     0.05,2,     2.66,2,   2278.1,2,   2289.6,2,   7.6705,20070603,2257
  32WC20070511,NACPWC,       10,    79,  1, 790108,      8,2,20070603,2245, 33.2000,-119.7600,  675,    250.3,   8.0000,   34.2300,2,-999.0000,9,     45.0,2,     44.0,6,    51.23,2,    31.59,2,     0.03,2,     2.52,2,   2263.4,2,   2284.2,2,   7.9749,20070603,2259
  32WC20070511,NACPWC,       10,    79,  1, 790109,      9,2,20070603,2245, 33.2000,-119.7600,  675,    199.8,   8.3000,   34.2000,2,-999.0000,9,     56.6,2,     56.5,2,    45.95,2,    30.25,2,     0.02,2,     2.39,2,   2249.9,2,   2273.8,2,   8.2796,20070603,2300
  32WC20070511,NACPWC,       10,    79,  1, 790110,     10,2,20070603,2245, 33.2000,-119.7600,  675,    174.7,   8.4000,   34.1600,2,-999.0000,9,     66.0,2,     65.3,2,    43.51,2,    29.69,2,     0.02,2,     2.30,2,   2241.6,2,   2234.2,4,   8.3820,20070603,2302
  32WC20070511,NACPWC,       10,    79,  1, 790111,     11,2,20070603,2245, 33.2000,-119.7600,  675,    150.9,   8.5000,   34.1400,2,-999.0000,9,     70.0,2,     69.6,2,    42.34,2,    29.36,2,     0.02,2,     2.26,2,   2238.1,2,   2268.7,2,   8.4844,20070603,2303
  32WC20070511,NACPWC,       10,    79,  1, 790112,     12,2,20070603,2245, 33.2000,-119.7600,  675,    129.9,   8.7000,   34.1200,2,-999.0000,9,     77.5,2,     74.8,2,    40.21,2,    28.68,2,     0.02,2,     2.21,2,   2230.8,2,   2267.9,2,   8.6864,20070603,2304
  32WC20070511,NACPWC,       10,    79,  1, 790113,     13,2,20070603,2245, 33.2000,-119.7600,  675,    109.5,   8.9000,   34.0700,2,-999.0000,9,     88.2,2,     88.0,2,    36.13,2,    27.28,2,     0.02,2,     2.07,2,   2215.0,2,   2258.9,2,   8.8884,20070603,2305
  32WC20070511,NACPWC,       10,    79,  1, 790114,     14,2,20070603,2245, 33.2000,-119.7600,  675,     90.4,   9.2000,   33.9700,2,-999.0000,9,    109.0,2,    110.7,2,    31.30,2,    25.16,2,     0.03,2,     1.90,2,   2193.5,2,   2229.1,4,   9.1902,20070603,2306
  32WC20070511,NACPWC,       10,    79,  1, 790115,     15,2,20070603,2245, 33.2000,-119.7600,  675,     70.0,   9.9000,   33.8300,2,-999.0000,9,    137.0,2,    137.8,2,    24.68,6,    22.31,6,     0.24,6,     1.67,6,   2170.4,2,   2240.0,2,   9.8921,20070603,2308
  32WC20070511,NACPWC,       10,    79,  1, 790116,     16,2,20070603,2245, 33.2000,-119.7600,  675,     59.9,  10.5000,   33.8100,2,-999.0000,9,    169.1,2,    164.3,2,    21.06,6,    19.78,2,     0.44,2,     1.52,6,   2152.7,2,   2245.2,2,  10.4930,20070603,2308
  32WC20070511,NACPWC,       10,    79,  1, 790117,     17,2,20070603,2245, 33.2000,-119.7600,  675,     49.4,  10.8000,   33.8000,2,-999.0000,9,    177.2,2,    181.1,2,    18.82,6,    18.10,2,     0.45,2,     1.43,6,   2144.7,2,   2238.3,2,  10.7941,20070603,2310
  32WC20070511,NACPWC,       10,    79,  1, 790118,     18,2,20070603,2245, 33.2000,-119.7600,  675,     39.7,  12.5000,   33.7800,2,-999.0000,9,    233.1,2,    227.2,2,    11.95,6,    11.99,2,     0.28,2,     1.02,6,   2102.0,2,   2242.5,2,  12.4948,20070603,2310
  32WC20070511,NACPWC,       10,    79,  1, 790119,     19,2,20070603,2245, 33.2000,-119.7600,  675,     29.2,  13.0000,   33.7800,2,-999.0000,9,    245.1,2,    245.0,2,     9.98,6,     9.56,2,     0.21,2,     0.83,6,   2085.2,2,   2248.2,2,  12.9961,20070603,2311
  32WC20070511,NACPWC,       10,    79,  1, 790120,     20,2,20070603,2245, 33.2000,-119.7600,  675,     24.8,  13.2000,   33.7900,2,-999.0000,9,    248.3,2,    246.6,2,    10.34,6,     9.30,2,     0.20,2,     0.81,6,   2082.0,2,   2244.3,2,  13.1966,20070603,2312
  32WC20070511,NACPWC,       10,    79,  1, 790121,     21,2,20070603,2245, 33.2000,-119.7600,  675,     19.5,  13.4000,   33.8000,2,-999.0000,9,    250.1,2,    249.8,2,    10.78,6,     8.68,2,     0.19,2,     0.76,6,   2077.7,2,   2240.8,2,  13.3973,20070603,2313
  32WC20070511,NACPWC,       10,    79,  1, 790122,     22,2,20070603,2245, 33.2000,-119.7600,  675,     14.7,  13.5000,   33.8100,2,-999.0000,9,    251.7,2,    249.1,2,    11.10,6,     8.56,2,     0.18,2,     0.75,6,   2078.1,2,   2249.7,2,  13.4980,20070603,2314
  32WC20070511,NACPWC,       10,    79,  1, 790123,     23,2,20070603,2245, 33.2000,-119.7600,  675,     10.0,  13.6000,   33.8200,2,  33.8200,2,    251.5,2,    250.5,2,    11.38,6,     8.58,2,     0.18,2,     0.75,6,   2076.8,2,   2250.5,2,  13.5986,20070603,2314
  32WC20070511,NACPWC,       10,    79,  1, 790124,     24,2,20070603,2245, 33.2000,-119.7600,  675,      4.8,  13.6000,   33.8200,2,-999.0000,9,    251.3,2,    278.7,2,    11.35,6,     8.64,2,     0.18,2,     0.76,6,   2077.1,2,   2249.6,2,  13.5993,20070603,2315
  32WC20070511,NACPWC,       10,    80,  1, 800101,      1,2,20070604,0455, 33.4400,-119.2900, 1558,   1584.4,   4.2000,   34.4800,2,  34.4700,2,     14.2,2,     14.4,2,   125.24,6,    39.80,6,     0.00,6,     3.17,6,   2369.8,2,   2377.4,2,   4.0709,20070604,0455
  32WC20070511,NACPWC,       10,    80,  1, 800102,      2,2,20070604,0455, 33.4400,-119.2900, 1558,    800.5,   4.8000,   34.4300,2,-999.0000,9,      9.8,2,     10.0,2,   111.08,2,    39.25,2,     0.00,2,     3.17,2,   2353.0,6,   2351.8,2,   4.7358,20070604,0514
  32WC20070511,NACPWC,       10,    80,  1, 800103,      3,2,20070604,0455, 33.4400,-119.2900, 1558,    599.9,   5.7000,   34.3600,2,-999.0000,9,      8.8,2,      9.1,2,    90.53,6,    37.58,6,     0.00,6,     3.02,6,   2334.8,2,   2328.0,2,   5.6487,20070604,0520
  32WC20070511,NACPWC,       10,    80,  1, 800104,      4,2,20070604,0455, 33.4400,-119.2900, 1558,    499.7,   6.4000,   34.3300,2,-999.0000,9,     12.5,2,     14.1,2,    77.75,2,    36.38,2,     0.00,2,     2.94,2,   2316.2,2,   2311.3,2,   6.3550,20070604,0524
  32WC20070511,NACPWC,       10,    80,  1, 800105,      5,2,20070604,0455, 33.4400,-119.2900, 1558,    400.0,   6.9000,   34.3100,2,-999.0000,9,     18.4,2,     19.1,2,    68.38,2,    34.99,2,     0.00,2,     2.82,2,   2303.5,2,   2304.1,2,   6.8627,20070604,0528
  32WC20070511,NACPWC,       10,    80,  1, 800106,      6,2,20070604,0455, 33.4400,-119.2900, 1558,    350.3,   7.1000,   34.3000,2,-999.0000,9,     20.6,2,     20.3,2,    65.65,2,    34.60,2,     0.01,2,     2.79,2,   2297.9,2,   2303.4,2,   7.0669,20070604,0530
  32WC20070511,NACPWC,       10,    80,  1, 800107,      7,2,20070604,0455, 33.4400,-119.2900, 1558,    299.7,   7.5000,   34.2800,2,-999.0000,9,     26.9,2,     27.7,2,    59.85,2,    33.24,2,     0.01,2,     2.69,2,   2288.2,2,   2288.8,2,   7.4709,20070604,0533
  32WC20070511,NACPWC,       10,    80,  1, 800108,      8,2,20070604,0455, 33.4400,-119.2900, 1558,    249.9,   7.8000,   34.2600,2,-999.0000,9,     34.4,2,     33.9,2,    54.78,2,    32.31,2,     0.01,2,     2.59,2,   2271.6,2,   2285.4,2,   7.7753,20070604,0535
  32WC20070511,NACPWC,       10,    80,  1, 800109,      9,2,20070604,0455, 33.4400,-119.2900, 1558,    200.3,   8.3000,   34.2400,2,-999.0000,9,     44.1,2,     43.8,2,    47.91,2,    30.86,2,     0.05,2,     2.47,2,   2263.9,2,   2279.2,2,   8.2795,20070604,0537
  32WC20070511,NACPWC,       10,    80,  1, 800110,     10,2,20070604,0455, 33.4400,-119.2900, 1558,    175.2,   8.6000,   34.1900,2,-999.0000,9,     56.2,2,     55.6,2,    44.64,2,    30.04,2,     0.16,2,     2.36,2,   2247.1,2,   2275.7,2,   8.5817,20070604,0539
  32WC20070511,NACPWC,       10,    80,  1, 800111,     11,2,20070604,0455, 33.4400,-119.2900, 1558,    150.5,   8.7000,   34.1700,2,-999.0000,9,     62.2,2,     61.7,2,    42.99,2,    29.46,2,     0.08,2,     2.30,2,   2243.6,2,   2271.4,2,   8.6842,20070604,0540
  32WC20070511,NACPWC,       10,    80,  1, 800112,     12,2,20070604,0455, 33.4400,-119.2900, 1558,    129.7,   8.7000,   34.1500,2,-999.0000,9,     67.6,2,     66.7,2,    41.56,2,    28.77,2,     0.05,2,     2.25,2,   2238.0,2,   2267.0,2,   8.6864,20070604,0542
  32WC20070511,NACPWC,       10,    80,  1, 800113,     13,2,20070604,0455, 33.4400,-119.2900, 1558,    110.4,   9.0000,   34.1200,2,-999.0000,9,     73.8,2,     73.5,2,    38.94,2,    28.26,2,     0.05,2,     2.16,2,   2225.2,2,   2264.7,2,   8.9882,20070604,0543
  32WC20070511,NACPWC,       10,    80,  1, 800114,     14,2,20070604,0455, 33.4400,-119.2900, 1558,     90.0,   9.1000,   34.0800,2,-999.0000,9,     81.3,2,     82.3,2,    36.56,2,    27.58,2,     0.07,2,     2.11,2,   2216.2,2,   2258.1,2,   9.0903,20070604,0545
  32WC20070511,NACPWC,       10,    80,  1, 800115,     15,2,20070604,0455, 33.4400,-119.2900, 1558,     70.1,   9.7000,   33.9800,2,-999.0000,9,    107.4,2,    113.2,2,    30.68,2,    24.42,2,     0.22,2,     1.87,2,   2192.1,2,   2252.7,2,   9.6922,20070604,0546
  32WC20070511,NACPWC,       10,    80,  1, 800116,     16,2,20070604,0455, 33.4400,-119.2900, 1558,     60.1,   9.9000,   33.9600,2,-999.0000,9,    119.9,2,    116.5,2,    29.10,2,    23.75,2,     0.29,2,     1.82,2,   2186.1,2,   2250.1,2,   9.8932,20070604,0547
  32WC20070511,NACPWC,       10,    80,  1, 800117,     17,2,20070604,0455, 33.4400,-119.2900, 1558,     49.9,  10.6000,   33.9000,2,-999.0000,9,    147.0,2,    139.3,2,    25.55,2,    21.29,2,     0.46,2,     1.66,2,   2169.1,2,   2248.0,2,  10.5941,20070604,0548
  32WC20070511,NACPWC,       10,    80,  1, 800118,     18,2,20070604,0455, 33.4400,-119.2900, 1558,     40.0,  11.2000,   33.8700,2,-999.0000,9,    162.5,2,    165.6,2,    20.97,2,    17.85,2,     0.58,2,     1.43,2,   2144.1,2,   2245.5,2,  11.1951,20070604,0549
  32WC20070511,NACPWC,       10,    80,  1, 800119,     19,2,20070604,0455, 33.4400,-119.2900, 1558,     30.6,  12.6000,   33.8000,2,-999.0000,9,    225.5,2,    226.0,2,    12.88,2,    11.41,2,     0.30,2,     0.95,2,   2095.0,2,   2231.0,3,  12.5960,20070604,0550
  32WC20070511,NACPWC,       10,    80,  1, 800120,     20,2,20070604,0455, 33.4400,-119.2900, 1558,     24.9,  13.1000,   33.7800,2,-999.0000,9,    238.6,2,    238.8,2,    10.54,2,     9.44,2,     0.24,2,     0.82,2,   2082.0,2,   2244.1,2,  13.0966,20070604,0551
  32WC20070511,NACPWC,       10,    80,  1, 800121,     21,2,20070604,0455, 33.4400,-119.2900, 1558,     20.2,  13.4000,   33.7800,2,-999.0000,9,    246.4,2,    246.4,2,     8.91,2,     7.86,2,     0.21,2,     0.71,2,   2070.2,2,   2245.1,2,  13.3972,20070604,0552
  32WC20070511,NACPWC,       10,    80,  1, 800122,     22,2,20070604,0455, 33.4400,-119.2900, 1558,     15.1,  15.0000,   33.7000,2,-999.0000,9,    258.1,2,    258.0,2,     5.37,2,     2.95,2,     0.10,2,     0.35,2,   2033.8,2,   2246.2,2,  14.9978,20070604,0553
  32WC20070511,NACPWC,       10,    80,  1, 800123,     23,2,20070604,0455, 33.4400,-119.2900, 1558,     10.5,  15.2000,   33.7000,2,-999.0000,9,    258.0,2,    258.6,2,     4.65,2,     2.04,2,     0.07,2,     0.29,2,   2027.1,2,   2243.0,2,  15.1984,20070604,0554
  32WC20070511,NACPWC,       10,    80,  1, 800124,     24,2,20070604,0455, 33.4400,-119.2900, 1558,      5.2,  15.2000,   33.7000,2,  33.7000,2,    257.8,2,    258.5,2,     4.55,2,     2.03,2,     0.07,2,     0.27,2,   2024.1,2,   2244.8,2,  15.1992,20070604,0554
  32WC20070511,NACPWC,       10,    81,  1, 810101,      1,2,20070604,1148, 33.6400,-118.8700,  897,    884.0,   5.1000,   34.4100,2,  34.4100,2,      7.9,2,      8.1,2,   107.08,2,    38.26,2,     0.01,2,     3.18,2,   2353.5,6,   2348.9,6,   5.0265,20070604,1148
  32WC20070511,NACPWC,       10,    81,  1, 810102,      2,2,20070604,1148, 33.6400,-118.8700,  897,    700.2,   5.3000,   34.3900,2,-999.0000,9,      5.1,2,      5.0,2,   105.01,2,    35.81,2,     0.00,2,     3.19,2,   2353.6,2,   2345.6,2,   5.2417,20070604,1153
  32WC20070511,NACPWC,       10,    81,  1, 810103,      3,2,20070604,1148, 33.6400,-118.8700,  897,    600.2,   5.6000,   34.3700,2,-999.0000,9,      7.3,2,      7.4,2,    93.77,6,    38.29,6,     0.01,6,     3.12,6,   2338.8,2,   2333.3,2,   5.5491,20070604,1156
  32WC20070511,NACPWC,       10,    81,  1, 810104,      4,2,20070604,1148, 33.6400,-118.8700,  897,    501.0,   6.2000,   34.3400,2,-999.0000,9,     11.1,2,     11.5,2,    80.23,2,    37.75,2,     0.00,2,     3.01,2,   2320.9,2,   2315.1,2,   6.1556,20070604,1159
  32WC20070511,NACPWC,       10,    81,  1, 810105,      5,2,20070604,1148, 33.6400,-118.8700,  897,    400.2,   7.0000,   34.3000,2,-999.0000,9,     20.9,2,     21.2,2,    66.41,2,    35.78,2,     0.00,2,     2.83,2,   2298.4,2,   2300.8,2,   6.9624,20070604,1202
  32WC20070511,NACPWC,       10,    81,  1, 810106,      6,2,20070604,1148, 33.6400,-118.8700,  897,    349.3,   7.4000,   34.2800,2,-999.0000,9,     26.8,2,     26.2,2,    61.18,2,    34.69,2,     0.00,2,     2.76,2,   2291.2,2,   2299.4,2,   7.3662,20070604,1204
  32WC20070511,NACPWC,       10,    81,  1, 810107,      7,2,20070604,1148, 33.6400,-118.8700,  897,    300.2,   7.8000,   34.2700,2,-999.0000,9,     34.7,2,     34.8,2,    55.13,2,    33.20,2,     0.01,2,     2.65,2,   2277.7,2,   2288.2,2,   7.7702,20070604,1206
  32WC20070511,NACPWC,       10,    81,  1, 810108,      8,2,20070604,1148, 33.6400,-118.8700,  897,    250.5,   8.3000,   34.2500,2,-999.0000,9,     45.3,2,     43.5,2,    49.07,2,    31.58,2,     0.04,2,     2.53,2,   2264.2,2,   2284.5,2,   8.2743,20070604,1209
  32WC20070511,NACPWC,       10,    81,  1, 810109,      9,2,20070604,1148, 33.6400,-118.8700,  897,    200.2,   8.7000,   34.2000,2,-999.0000,9,     61.8,2,     62.8,2,    42.20,2,    29.90,2,     0.04,2,     2.32,2,   2240.7,2,   2271.9,2,   8.6789,20070604,1211
  32WC20070511,NACPWC,       10,    81,  1, 810110,     10,2,20070604,1148, 33.6400,-118.8700,  897,    175.3,   9.0000,   34.2000,2,-999.0000,9,     71.6,2,     65.7,2,    39.73,2,    29.14,2,     0.04,2,     2.29,2,   2235.5,2,   2271.6,2,   8.9812,20070604,1213
  32WC20070511,NACPWC,       10,    81,  1, 810111,     11,2,20070604,1148, 33.6400,-118.8700,  897,    150.4,   9.2000,   34.1800,2,-999.0000,9,     65.0,2,     65.8,2,    37.95,2,    28.71,2,     0.04,2,     2.27,2,   2231.5,2,   2268.7,2,   9.1837,20070604,1214
  32WC20070511,NACPWC,       10,    81,  1, 810112,     12,2,20070604,1148, 33.6400,-118.8700,  897,    130.5,   9.4000,   34.1400,2,-999.0000,9,     78.6,2,     74.0,2,    35.68,2,    27.96,2,     0.05,2,     2.19,2,   2225.8,2,   2264.9,2,   9.3856,20070604,1216
  32WC20070511,NACPWC,       10,    81,  1, 810113,     13,2,20070604,1148, 33.6400,-118.8700,  897,    110.1,   9.6000,   34.0900,2,-999.0000,9,     81.4,2,     78.8,2,    33.66,2,    27.38,2,     0.03,2,     2.15,2,   2218.4,2,   2262.3,2,   9.5878,20070604,1217
  32WC20070511,NACPWC,       10,    81,  1, 810114,     14,2,20070604,1148, 33.6400,-118.8700,  897,     90.0,   9.8000,   34.0300,2,-999.0000,9,     88.4,2,     84.2,2,    31.33,2,    26.42,2,     0.03,2,     2.09,2,   2209.3,2,   2255.8,2,   9.7899,20070604,1218
  32WC20070511,NACPWC,       10,    81,  1, 810115,     15,2,20070604,1148, 33.6400,-118.8700,  897,     69.9,  10.0000,   33.9700,2,-999.0000,9,     86.4,2,     84.9,2,    29.65,2,    26.22,2,     0.02,2,     2.06,2,   2205.7,2,   2249.3,2,   9.9920,20070604,1220
  32WC20070511,NACPWC,       10,    81,  1, 810116,     16,2,20070604,1148, 33.6400,-118.8700,  897,     60.2,  10.0000,   33.9200,2,-999.0000,9,     91.3,2,     95.6,2,    27.86,2,    25.18,2,     0.02,2,     1.98,2,   2192.5,2,   2239.7,2,   9.9932,20070604,1221
  32WC20070511,NACPWC,       10,    81,  1, 810117,     17,2,20070604,1148, 33.6400,-118.8700,  897,     50.7,  10.3000,   33.8100,2,-999.0000,9,    116.6,2,    115.7,2,    24.17,2,    23.09,2,     0.07,2,     1.80,2,   2174.8,2,   2240.9,2,  10.2941,20070604,1222
  32WC20070511,NACPWC,       10,    81,  1, 810118,     18,2,20070604,1148, 33.6400,-118.8700,  897,     40.5,  10.6000,   33.7300,2,-999.0000,9,    141.8,2,    135.6,2,    20.49,2,    20.34,2,     0.11,2,     1.60,2,   2153.8,2,   2234.3,2,  10.5952,20070604,1224
  32WC20070511,NACPWC,       10,    81,  1, 810119,     19,2,20070604,1148, 33.6400,-118.8700,  897,     30.1,  11.4000,   33.7500,2,-999.0000,9,    153.6,2,    161.1,2,    14.27,2,    15.26,2,     0.50,2,     1.36,2,   2137.2,2,   2243.0,2,  11.3963,20070604,1225
  32WC20070511,NACPWC,       10,    81,  1, 810120,     20,2,20070604,1148, 33.6400,-118.8700,  897,     24.1,  11.9000,   33.7700,2,-999.0000,9,    184.8,2,    181.8,2,    11.70,2,    12.50,2,     0.48,2,     1.18,2,   2124.2,2,   2248.3,2,  11.8969,20070604,1226
  32WC20070511,NACPWC,       10,    81,  1, 810121,     21,2,20070604,1148, 33.6400,-118.8700,  897,     20.7,  12.7000,   33.7500,2,-999.0000,9,    188.5,2,    199.5,2,     8.55,2,     1.00,2,     0.14,2,     0.29,2,   2125.2,2,   2254.8,2,  12.6973,20070604,1227
  32WC20070511,NACPWC,       10,    81,  1, 810122,     22,2,20070604,1148, 33.6400,-118.8700,  897,     15.1,  14.4000,   33.7500,2,-999.0000,9,    310.9,2,    377.4,2,     5.16,2,     0.07,2,     0.01,2,     0.13,2,   1943.3,2,   2257.8,2,  14.3978,20070604,1228
  32WC20070511,NACPWC,       10,    81,  1, 810123,     23,4,20070604,1148, 33.6400,-118.8700,  897,     10.1,  16.9000,   33.7400,2,  33.7400,2,    285.1,2,    284.8,2,     2.92,2,     0.03,2,     0.00,2,     0.18,2,   1975.0,2,   2250.7,2,  16.8984,20070604,1229
  32WC20070511,NACPWC,       10,    81,  1, 810124,     24,2,20070604,1148, 33.6400,-118.8700,  897,      5.0,  17.1000,   33.7300,2,-999.0000,9,    271.5,2,    267.6,2,     3.14,2,     0.05,2,     0.00,2,     0.19,2,   1992.2,2,   2254.5,6,  17.0992,20070604,1230