BOTTLE,20220810CCHSIOAMB
# DATE/TIME to BTL_DATE and BTL_TIME, TIME from deepest bottle closure time, flag changes
#BOTTLE,20120706CCHDOSIOCBG
# DATE changed from YMMDD to YYYYMMDD by A Barna
#BOTTLE,20120405PRINUNIVRMK
# 3/14/2012 Initialized README file  
# Data source: SHIP: R/V Wecoma 
# Cruise: W0705A; NACP2007 
# Region: West coast of North America 
# EXPOCODE: 32WC20070511 
# DATES: 5/11 - 6/14/2007 
# Chief Scientist: R.A. Feely and C.L. Sabine 
# 111 stations with 24 place Rosette 
# Hydro: Who - G.Johnson; Status -  
# 	Notes: 	 
# Nuts: Who - B.Hales; Status - 
# 	Notes: 
# O2: Who - C.Langdon; Status -final 
# 	Notes: 
# TCO2: Who - R.Feely&C.Sabine; Status -final 
# 	Notes:  
# TA: Who - R.Feely&C.Sabine; Status -final 
# 	Notes:  
# DOC/POC/PON/ChloroA:  Who - D.Ianson; Status - unknown 
# 	Notes: no data in file 
# Please cite this data set as: 
# Feely, R. and C. Sabine. 2011. Carbon dioxide and hydrographic measurements during the 2007 NACP West Coast Cruise.  
# http://cdiac.ornl.gov/oceans/Coastal/NACP_West.html 
# Carbon Dioxide Information Analysis Center, Oak Ridge National Laboratory, US Department of Energy, Oak Ridge, Tennessee. 
# doi: 10.3334/CDIAC/otg.CLIVAR_NACP_West_Coast_Cruise_2007 
# References: 
# Byrne, R.H., S. Mecking, R.A. Feely, and X. Liu (2010): Direct observations of basin-wide acidification of the North Pacific Ocean. Geophys. Res. Lett., 37, L02601, doi: 10.1029/2009GL040999. 
# Feely, R.A., C.L. Sabine, J.M. Hernandez-Ayon, D. Ianson, and B. Hales (2008): Evidence for upwelling of corrosive "ocean acidified" water onto the west coast of North America. Science, 320, 1490, DOI: 10.1126/science.1155676. 
EXPOCODE,SECT_ID,LINE,STNNBR,CASTNO,SAMPNO,BTLNBR,BTLNBR_FLAG_W,DATE,TIME,LATITUDE,LONGITUDE,DEPTH,CTDPRS,CTDTMP,CTDSAL,CTDSAL_FLAG_W,SALNTY,SALNTY_FLAG_W,CTDOXY,CTDOXY_FLAG_W,OXYGEN,OXYGEN_FLAG_W,SILCAT,SILCAT_FLAG_W,NITRAT,NITRAT_FLAG_W,NITRIT,NITRIT_FLAG_W,PHSPHT,PHSPHT_FLAG_W,TCARBN,TCARBN_FLAG_W,ALKALI,ALKALI_FLAG_W,THETA,BTL_DATE,BTL_TIME
,,,,,,,,,,,,METERS,DBAR,ITS-90,PSS-78,,PSS-78,,UMOL/KG,,UMOL/KG,,UMOL/KG,,UMOL/KG,,UMOL/KG,,UMOL/KG,,UMOL/KG,,UMOL/KG,,DEG C,,
  32WC20070511,NACPWC,        1,     1,  1,  10101,      1,2,20070514,0814, 50.7200,-132.8200, 2944,   2946.5,   1.6000,12623.2200,4,  34.6600,6,     16.0,4,    109.7,2,   183.85,6,    39.14,6,     0.01,6,     2.73,6,   -999.0,9,   2350.1,4,-999.0000,20070514,0814
  32WC20070511,NACPWC,        1,     1,  1,  10102,      2,2,20070514,0814, 50.7200,-132.8200, 2944,   2502.2,   1.7000,12521.0200,4,-999.0000,9,     15.0,4,     84.3,2,   180.15,6,    40.36,6,     0.00,6,     2.83,6,   -999.0,9,   2264.0,4,-999.0000,20070514,0826
  32WC20070511,NACPWC,        1,     1,  1,  10103,      3,2,20070514,0814, 50.7200,-132.8200, 2944,   1996.8,   1.9000,12353.3500,4,-999.0000,9,     14.0,4,     57.8,2,   177.36,2,    42.36,2,     0.00,2,     2.94,2,   -999.0,9,   2240.4,4,-999.0000,20070514,0838
  32WC20070511,NACPWC,        1,     1,  1,  10104,      4,2,20070514,0814, 50.7200,-132.8200, 2944,   1499.6,   2.4000,11997.6400,4,-999.0000,9,     13.0,4,     25.5,2,   169.10,2,    44.34,2,     0.00,2,     3.08,2,   -999.0,9,   2396.2,2,-999.0000,20070514,0849
  32WC20070511,NACPWC,        1,     1,  1,  10105,      5,2,20070514,0814, 50.7200,-132.8200, 2944,    800.8,   3.5000,11024.6500,4,-999.0000,9,     11.4,4,     12.3,2,   130.46,6,    44.05,6,     0.00,6,     3.12,6,   -999.0,9,   2245.7,4,-999.0000,20070514,0904
  32WC20070511,NACPWC,        1,     1,  1,  10106,      6,2,20070514,0814, 50.7200,-132.8200, 2944,    500.3,   4.3000,10350.0800,4,-999.0000,9,     30.8,4,     32.8,6,   101.64,2,    42.77,2,     0.00,2,     2.98,2,   -999.0,9,   2191.3,4,-999.0000,20070514,0912
  32WC20070511,NACPWC,        1,     1,  1,  10107,      7,2,20070514,0814, 50.7200,-132.8200, 2944,    350.4,   4.7000, 9915.2600,4,-999.0000,9,     66.1,4,     62.6,2,    81.85,2,    39.75,2,     0.00,2,     2.75,2,   -999.0,9,   2220.7,4,-999.0000,20070514,0916
  32WC20070511,NACPWC,        1,     1,  1,  10108,      8,2,20070514,0814, 50.7200,-132.8200, 2944,    250.9,   5.2000,   33.8400,2,-999.0000,9,    112.7,2,    119.1,2,    63.25,2,    33.36,2,     0.01,2,     2.36,2,   -999.0,9,   2194.8,4,   5.1804,20070514,0920
  32WC20070511,NACPWC,        1,     1,  1,  10109,      9,2,20070514,0814, 50.7200,-132.8200, 2944,    199.9,   5.5000,   33.8200,2,-999.0000,9,    138.1,2,    139.0,2,    55.17,2,    31.01,2,     0.01,2,     2.20,2,   2215.9,2,   2119.4,4,   5.4840,20070514,0922
  32WC20070511,NACPWC,        1,     1,  1,  10110,     10,2,20070514,0814, 50.7200,-132.8200, 2944,    175.3,   5.7000,   33.7700,2,-999.0000,9,    156.2,2,    159.8,2,    49.57,2,    28.95,2,     0.01,2,     2.07,2,   -999.0,9,   2150.4,4,   5.6857,20070514,0924
  32WC20070511,NACPWC,        1,     1,  1,  10111,     11,2,20070514,0814, 50.7200,-132.8200, 2944,    150.6,   6.0000,   33.7000,2,-999.0000,9,    171.6,2,    171.8,2,    43.96,2,    27.02,2,     0.01,2,     1.97,2,   2182.1,2,   2082.5,4,   5.9874,20070514,0925
  32WC20070511,NACPWC,        1,     1,  1,  10112,     12,2,20070514,0814, 50.7200,-132.8200, 2944,    130.5,   6.7000,   33.6900,2,-999.0000,9,    139.7,2,    144.2,2,    46.12,2,    28.87,2,     0.01,2,     2.12,2,   -999.0,9,   2102.0,4,   6.6884,20070514,0927
  32WC20070511,NACPWC,        1,     1,  1,  10113,     13,2,20070514,0814, 50.7200,-132.8200, 2944,    109.4,   6.9000,   33.4200,2,-999.0000,9,    179.6,2,    179.2,2,    35.97,2,    24.43,2,     0.02,2,     1.86,2,   2154.2,2,   2227.2,2,   6.8902,20070514,0929
  32WC20070511,NACPWC,        1,     1,  1,  10114,     14,2,20070514,0814, 50.7200,-132.8200, 2944,     89.6,   7.0000,   33.0800,2,-999.0000,9,    207.2,2,    214.4,2,    28.67,2,    20.31,2,     0.03,2,     1.64,2,   -999.0,9,   2210.1,2,   6.9919,20070514,0930
  32WC20070511,NACPWC,        1,     1,  1,  10115,     15,2,20070514,0814, 50.7200,-132.8200, 2944,     70.2,   7.2000,   32.7200,2,-999.0000,9,    245.0,2,    249.6,2,    22.30,2,    15.91,2,     0.07,2,     1.42,2,   2074.9,2,   2190.8,2,   7.1936,20070514,0931
  32WC20070511,NACPWC,        1,     1,  1,  10116,     16,2,20070514,0814, 50.7200,-132.8200, 2944,     60.4,   7.3000,   32.5300,2,-999.0000,9,    258.8,2,    266.4,6,    19.71,2,    13.90,2,     0.12,2,     1.31,2,   -999.0,9,   2181.2,2,   7.2945,20070514,0933
  32WC20070511,NACPWC,        1,     1,  1,  10117,     17,2,20070514,0814, 50.7200,-132.8200, 2944,     49.5,   7.4000,   32.3700,2,-999.0000,9,    283.3,2,    288.2,2,    16.85,2,    10.99,2,     0.18,2,     1.16,2,   2031.6,2,   2172.5,2,   7.3955,20070514,0934
  32WC20070511,NACPWC,        1,     1,  1,  10118,     18,2,20070514,0814, 50.7200,-132.8200, 2944,     40.7,   7.9000,   32.2500,2,-999.0000,9,    295.0,2,    300.6,2,    14.52,2,     8.43,2,     0.16,2,     1.03,2,   -999.0,9,   2166.0,2,   7.8961,20070514,0936
  32WC20070511,NACPWC,        1,     1,  1,  10119,     19,2,20070514,0814, 50.7200,-132.8200, 2944,     29.8,   8.1000,   32.2000,2,-999.0000,9,    300.0,2,    301.1,2,    13.96,2,     7.55,2,     0.14,2,     0.98,2,   2003.3,2,   2162.7,2,   8.0971,20070514,0937
  32WC20070511,NACPWC,        1,     1,  1,  10120,     20,2,20070514,0814, 50.7200,-132.8200, 2944,     24.8,   8.2000,   32.1700,2,-999.0000,9,    304.6,2,    305.2,2,    14.55,2,     7.42,2,     0.13,2,     0.97,2,   -999.0,9,   2160.3,2,   8.1976,20070514,0938
  32WC20070511,NACPWC,        1,     1,  1,  10121,     21,2,20070514,0814, 50.7200,-132.8200, 2944,     20.5,   8.4000,   32.1200,2,-999.0000,9,    312.1,2,    312.6,2,    15.70,2,     7.08,2,     0.11,2,     0.93,2,   1994.4,2,   2151.2,2,   8.3980,20070514,0940
  32WC20070511,NACPWC,        1,     1,  1,  10122,     22,2,20070514,0814, 50.7200,-132.8200, 2944,     14.3,   8.7000,   32.1200,2,-999.0000,9,    315.2,2,    316.9,2,    15.79,2,     6.55,2,     0.10,2,     0.91,2,   1994.1,2,   2161.4,2,   8.6986,20070514,0941
  32WC20070511,NACPWC,        1,     1,  1,  10123,     23,3,20070514,0814, 50.7200,-132.8200, 2944,      9.8,   8.7000,   32.1200,2,  32.1200,6,    315.1,2,    315.9,2,    15.72,2,     6.54,2,     0.11,2,     0.91,2,   1985.4,2,   2160.4,2,   8.6990,20070514,0942
  32WC20070511,NACPWC,        1,     1,  1,  10124,     24,2,20070514,0814, 50.7200,-132.8200, 2944,      4.8,   8.7000,   32.1200,2,-999.0000,9,    314.9,2,    316.1,2,    15.62,2,     6.56,2,     0.11,2,     0.91,2,   1984.9,2,   2051.5,4,   8.6995,20070514,0943
  32WC20070511,NACPWC,        1,     2,  1,  20101,      1,2,20070514,1413, 51.0200,-132.1800, 2756,   2752.5,   1.6000,   34.6500,2,  34.6500,6,     95.2,2,     94.1,2,   185.53,2,    39.92,2,     0.00,2,     2.77,2,   -999.0,9,   2424.8,6,   1.4043,20070514,1413
  32WC20070511,NACPWC,        1,     2,  1,  20102,      2,2,20070514,1413, 51.0200,-132.1800, 2756,   1999.7,   2.0000,   34.5800,2,-999.0000,9,     54.0,2,     54.8,2,   183.27,2,    39.29,2,     0.00,2,     2.76,2,   -999.0,9,   2411.1,2,   1.8637,20070514,1434
  32WC20070511,NACPWC,        1,     2,  1,  20103,      3,2,20070514,1413, 51.0200,-132.1800, 2756,   1501.0,   2.4000,   34.5000,2,-999.0000,9,     24.4,2,     25.6,2,   177.50,2,    42.13,2,     0.00,2,     2.94,2,   -999.0,9,   2395.0,2,   2.2992,20070514,1447
  32WC20070511,NACPWC,        1,     2,  1,  20104,      4,2,20070514,1413, 51.0200,-132.1800, 2756,    801.0,   3.6000,   34.2900,2,-999.0000,9,     11.3,2,     12.0,2,   167.46,6,    43.84,6,     0.00,6,     3.07,6,   -999.0,9,   2350.8,2,   3.5434,20070514,1504
  32WC20070511,NACPWC,        1,     2,  1,  20105,      5,2,20070514,1413, 51.0200,-132.1800, 2756,    500.3,   4.6000,   34.0800,2,-999.0000,9,     34.6,2,     34.9,2,   130.78,2,    43.66,2,     0.00,2,     3.12,2,   -999.0,9,   2306.6,2,   4.5620,20070514,1512
  32WC20070511,NACPWC,        1,     2,  1,  20106,      6,2,20070514,1413, 51.0200,-132.1800, 2756,    351.2,   5.4000,   33.9600,2,-999.0000,9,     70.4,2,     70.3,2,    94.56,2,    41.29,2,     0.00,2,     2.93,2,   -999.0,9,   2283.5,2,   5.3716,20070514,1517
  32WC20070511,NACPWC,        1,     2,  1,  20107,      7,2,20070514,1413, 51.0200,-132.1800, 2756,    299.9,   5.7000,   33.9100,2,-999.0000,9,     97.6,2,     98.2,2,    71.36,2,    37.05,2,     0.00,2,     2.63,2,   -999.0,9,   2274.9,2,   5.6752,20070514,1520
  32WC20070511,NACPWC,        1,     2,  1,  20108,      8,2,20070514,1413, 51.0200,-132.1800, 2756,    250.5,   6.1000,   33.8800,2,-999.0000,9,    109.4,2,    110.4,2,    62.40,2,    33.93,2,     0.01,2,     2.42,2,   -999.0,9,   2266.1,6,   6.0786,20070514,1523
  32WC20070511,NACPWC,        1,     2,  1,  20109,      9,2,20070514,1413, 51.0200,-132.1800, 2756,    200.2,   6.9000,   33.8400,2,-999.0000,9,    108.7,2,    115.1,2,    55.44,2,    32.25,2,     0.01,2,     2.30,2,   2215.5,2,   2255.9,2,   6.8818,20070514,1526
  32WC20070511,NACPWC,        1,     2,  1,  20110,     10,2,20070514,1413, 51.0200,-132.1800, 2756,    174.9,   7.2000,   33.7900,2,-999.0000,9,    121.8,2,    115.1,2,    47.65,2,    30.38,2,     0.01,2,     2.21,2,   -999.0,9,   2251.0,2,   7.1837,20070514,1528
  32WC20070511,NACPWC,        1,     2,  1,  20111,     11,2,20070514,1413, 51.0200,-132.1800, 2756,    150.1,   7.2000,   33.5600,2,-999.0000,9,    139.6,2,    140.8,2,    44.48,2,    29.63,2,     0.01,2,     2.19,2,   2165.1,3,   2238.2,2,   7.1861,20070514,1530
  32WC20070511,NACPWC,        1,     2,  1,  20112,     12,2,20070514,1413, 51.0200,-132.1800, 2756,    130.3,   7.3000,   33.3100,2,-999.0000,9,    164.9,2,    168.5,2,    40.64,2,    27.24,2,     0.01,2,     2.04,2,   -999.0,9,   2222.9,2,   7.2879,20070514,1532
  32WC20070511,NACPWC,        1,     2,  1,  20113,     13,3,20070514,1413, 51.0200,-132.1800, 2756,    110.3,   7.2000,   32.8900,2,-999.0000,9,    209.1,2,    208.8,2,    36.60,2,    24.46,2,     0.01,2,     1.89,2,   2122.8,3,   2201.4,2,   7.1899,20070514,1534
  32WC20070511,NACPWC,        1,     2,  1,  20114,     14,2,20070514,1413, 51.0200,-132.1800, 2756,     90.0,   7.2000,   32.6000,2,-999.0000,9,    237.9,2,    239.0,2,    31.23,2,    20.40,2,     0.02,2,     1.67,2,   -999.0,9,   2184.3,2,   7.1918,20070514,1536
  32WC20070511,NACPWC,        1,     2,  1,  20115,     15,2,20070514,1413, 51.0200,-132.1800, 2756,     70.2,   7.4000,   32.3500,2,-999.0000,9,    277.8,2,    282.9,2,    26.39,2,    17.06,2,     0.02,2,     1.49,2,   2035.5,2,   2095.6,4,   7.3936,20070514,1538
  32WC20070511,NACPWC,        1,     2,  1,  20116,     16,2,20070514,1413, 51.0200,-132.1800, 2756,     60.3,   7.6000,   32.3200,2,-999.0000,9,    293.9,2,    293.6,2,    17.13,2,    10.98,2,     0.12,2,     1.16,2,   -999.0,9,   2169.5,2,   7.5944,20070514,1540
  32WC20070511,NACPWC,        1,     2,  1,  20117,     17,2,20070514,1413, 51.0200,-132.1800, 2756,     49.9,   7.6000,   32.2000,2,-999.0000,9,    287.8,2,    288.1,2,    14.51,2,     8.74,2,     0.15,2,     1.05,2,   2028.8,2,   2160.5,2,   7.5954,20070514,1542
  32WC20070511,NACPWC,        1,     2,  1,  20118,     18,2,20070514,1413, 51.0200,-132.1800, 2756,     40.3,   7.9000,   32.1000,2,-999.0000,9,    294.5,2,    294.6,2,    18.51,2,    10.46,2,     0.21,2,     1.15,2,   -999.0,9,   2158.8,2,   7.8962,20070514,1543
  32WC20070511,NACPWC,        1,     2,  1,  20119,     19,3,20070514,1413, 51.0200,-132.1800, 2756,     30.7,   8.2000,   32.0600,2,-999.0000,9,    304.8,2,    304.0,2,    18.57,2,     9.52,2,     0.19,2,     1.10,2,   2002.6,2,   2157.1,2,   8.1970,20070514,1544
  32WC20070511,NACPWC,        1,     2,  1,  20120,     20,2,20070514,1413, 51.0200,-132.1800, 2756,     25.2,   8.2000,   32.0600,2,-999.0000,9,    306.4,2,    307.3,6,    17.36,2,     8.30,2,     0.15,2,     1.00,2,   -999.0,9,   2157.1,2,   8.1976,20070514,1546
  32WC20070511,NACPWC,        1,     2,  1,  20121,     21,2,20070514,1413, 51.0200,-132.1800, 2756,     20.5,   8.3000,   32.0700,2,-999.0000,9,    309.3,2,    309.3,2,    16.96,2,     7.89,2,     0.14,2,     0.96,2,   1996.5,2,   2156.4,2,   8.2980,20070514,1547
  32WC20070511,NACPWC,        1,     2,  1,  20122,     22,2,20070514,1413, 51.0200,-132.1800, 2756,     15.4,   8.4000,   32.0700,2,-999.0000,9,    319.0,2,    319.0,2,    16.57,2,     7.65,2,     0.13,2,     0.94,2,   1985.8,2,   2159.9,2,   8.3985,20070514,1549
  32WC20070511,NACPWC,        1,     2,  1,  20123,     23,2,20070514,1413, 51.0200,-132.1800, 2756,      9.4,   8.8000,   32.0800,2,  32.0800,6,    315.4,2,    314.9,2,    15.80,2,     6.89,2,     0.12,2,     0.89,2,   1986.7,2,   2159.7,2,   8.7990,20070514,1550
  32WC20070511,NACPWC,        1,     2,  1,  20124,     24,2,20070514,1413, 51.0200,-132.1800, 2756,      5.5,   8.9000,   32.0800,2,-999.0000,9,    315.2,2,    350.9,2,    15.60,6,     6.56,6,     0.12,6,     0.86,6,   1984.3,2,   2160.7,2,   8.8994,20070514,1551