BOTTLE,20220810CCHSIOAMB
EXPOCODE,SECT_ID,LINE,STNNBR,CASTNO,SAMPNO,BTLNBR,BTLNBR_FLAG_W,DATE,TIME,LATITUDE,LONGITUDE,DEPTH,CTDPRS,CTDTMP,CTDSAL,CTDSAL_FLAG_W,SALNTY,SALNTY_FLAG_W,CTDOXY,CTDOXY_FLAG_W,OXYGEN,OXYGEN_FLAG_W,SILCAT,SILCAT_FLAG_W,NITRAT,NITRAT_FLAG_W,NITRIT,NITRIT_FLAG_W,PHSPHT,PHSPHT_FLAG_W,TCARBN,TCARBN_FLAG_W,ALKALI,ALKALI_FLAG_W,THETA,BTL_DATE,BTL_TIME
,,,,,,,,,,,,METERS,DBAR,ITS-90,PSS-78,,PSS-78,,UMOL/KG,,UMOL/KG,,UMOL/KG,,UMOL/KG,,UMOL/KG,,UMOL/KG,,UMOL/KG,,UMOL/KG,,DEG C,,
  32WC20070511,NACPWC,        2,    10,  1, 100101,      1,2,20070516,2149, 48.5700,-128.8400, 2042,   2047.9,   1.9000,   34.6000,2,  34.6000,6,     63.5,2,     65.4,2,   179.52,6,    40.61,6,     0.00,6,     2.91,6,   -999.0,9,   2417.2,2,   1.7612,20070516,2149
  32WC20070511,NACPWC,        2,    10,  1, 100102,      2,2,20070516,2149, 48.5700,-128.8400, 2042,   1750.5,   2.1000,   34.5600,2,-999.0000,9,     43.2,2,     43.6,2,   173.92,2,    41.86,2,     0.01,2,     2.99,2,   -999.0,9,   2405.6,6,   1.9829,20070516,2159
  32WC20070511,NACPWC,        2,    10,  1, 100103,      3,2,20070516,2149, 48.5700,-128.8400, 2042,   1501.0,   2.4000,   34.5100,2,-999.0000,9,     26.7,2,     27.0,2,   166.06,2,    43.14,2,     0.01,2,     3.06,2,   -999.0,9,   -999.0,9,   2.2992,20070516,2206
  32WC20070511,NACPWC,        2,    10,  1, 100104,      4,2,20070516,2149, 48.5700,-128.8400, 2042,    800.1,   3.6000,   34.2700,2,-999.0000,9,     11.4,2,     11.9,2,   126.74,6,    43.29,6,     0.00,6,     3.10,6,   -999.0,9,   2399.4,4,   3.5435,20070516,2222
  32WC20070511,NACPWC,        2,    10,  1, 100105,      5,2,20070516,2149, 48.5700,-128.8400, 2042,    499.9,   4.3000,   34.0500,2,-999.0000,9,     38.9,2,     39.5,2,    95.82,2,    41.30,2,     0.01,2,     2.90,2,   2318.9,2,   2346.9,4,   4.2633,20070516,2230
  32WC20070511,NACPWC,        2,    10,  1, 100106,      6,2,20070516,2149, 48.5700,-128.8400, 2042,    349.3,   4.8000,   33.9300,2,-999.0000,9,     71.8,2,     78.7,2,    77.80,2,    38.23,2,     0.01,2,     2.66,2,   2282.1,2,   2305.3,4,   4.7734,20070516,2235
  32WC20070511,NACPWC,        2,    10,  1, 100107,      7,2,20070516,2149, 48.5700,-128.8400, 2042,    299.6,   5.3000,   33.8900,2,-999.0000,9,    112.5,2,    101.1,2,    64.74,2,    34.33,2,     0.01,2,     2.42,2,   -999.0,9,   2282.6,2,   5.2762,20070516,2238
  32WC20070511,NACPWC,        2,    10,  1, 100108,      8,2,20070516,2149, 48.5700,-128.8400, 2042,    250.4,   5.5000,   33.8200,2,-999.0000,9,    146.0,2,    150.9,2,    53.91,2,    29.73,2,     0.00,2,     2.09,2,   2211.6,2,   2276.1,2,   5.4798,20070516,2241
  32WC20070511,NACPWC,        2,    10,  1, 100109,      9,2,20070516,2149, 48.5700,-128.8400, 2042,    200.0,   6.1000,   33.7600,2,-999.0000,9,    185.1,2,    184.3,2,    41.37,2,    25.29,2,     0.01,2,     1.82,2,   -999.0,9,   2263.6,2,   6.0830,20070516,2243
  32WC20070511,NACPWC,        2,    10,  1, 100110,     10,2,20070516,2149, 48.5700,-128.8400, 2042,    175.8,   6.3000,   33.6600,2,-999.0000,9,    192.0,2,    194.1,2,    36.34,2,    23.92,2,     0.01,2,     1.74,2,   2160.1,2,   2253.9,2,   6.2849,20070516,2244
  32WC20070511,NACPWC,        2,    10,  1, 100111,     11,2,20070516,2149, 48.5700,-128.8400, 2042,    150.9,   6.7000,   33.4800,2,-999.0000,9,    195.1,2,    198.6,2,    31.53,2,    22.51,2,     0.02,2,     1.69,2,   -999.0,9,   2243.8,3,   6.6866,20070516,2247
  32WC20070511,NACPWC,        2,    10,  1, 100112,     12,2,20070516,2149, 48.5700,-128.8400, 2042,    129.8,   7.6000,   33.1900,2,-999.0000,9,    226.2,2,    198.4,2,    26.50,2,    20.72,2,     0.02,2,     1.63,2,   2122.8,2,   2232.7,2,   7.5877,20070516,2248
  32WC20070511,NACPWC,        2,    10,  1, 100113,     13,2,20070516,2149, 48.5700,-128.8400, 2042,    110.6,   7.3000,   32.6800,2,-999.0000,9,    270.7,2,    267.8,2,    15.29,2,    12.74,2,     0.02,2,     1.20,2,   -999.0,9,   2187.9,2,   7.2899,20070516,2250
  32WC20070511,NACPWC,        2,    10,  1, 100114,     14,2,20070516,2149, 48.5700,-128.8400, 2042,     90.9,   7.2000,   32.4800,2,-999.0000,9,    290.5,2,    291.5,6,    11.55,2,     9.71,2,     0.37,2,     1.05,2,   -999.0,9,   2177.9,2,   7.1918,20070516,2251
  32WC20070511,NACPWC,        2,    10,  1, 100115,     15,2,20070516,2149, 48.5700,-128.8400, 2042,     70.2,   7.5000,   32.4600,2,-999.0000,9,    293.6,2,    296.6,2,     9.91,2,     8.17,2,     0.24,2,     0.98,2,   2024.3,2,   2176.6,2,   7.4935,20070516,2252
  32WC20070511,NACPWC,        2,    10,  1, 100116,     16,2,20070516,2149, 48.5700,-128.8400, 2042,     59.7,   7.7000,   32.4400,2,-999.0000,9,    296.6,2,    298.8,2,     9.71,2,     7.72,2,     0.18,2,     0.95,2,   -999.0,9,   2174.6,2,   7.6944,20070516,2254
  32WC20070511,NACPWC,        2,    10,  1, 100117,     17,2,20070516,2149, 48.5700,-128.8400, 2042,     49.7,   7.9000,   32.4300,2,-999.0000,9,    300.6,2,    300.3,2,     8.96,2,     7.10,2,     0.15,2,     0.91,2,   2016.7,2,   2174.8,2,   7.8953,20070516,2255
  32WC20070511,NACPWC,        2,    10,  1, 100118,     18,2,20070516,2149, 48.5700,-128.8400, 2042,     40.1,   8.3000,   32.4000,2,-999.0000,9,    306.1,2,    305.9,2,     8.33,2,     6.40,2,     0.11,2,     0.86,2,   -999.0,9,   2175.7,2,   8.2961,20070516,2256
  32WC20070511,NACPWC,        2,    10,  1, 100119,     19,2,20070516,2149, 48.5700,-128.8400, 2042,     30.3,   9.4000,   32.3700,2,-999.0000,9,    304.2,2,    304.9,2,     8.19,2,     5.29,2,     0.09,2,     0.80,2,   1996.4,2,   2167.7,2,   9.3968,20070516,2258
  32WC20070511,NACPWC,        2,    10,  1, 100120,     20,2,20070516,2149, 48.5700,-128.8400, 2042,     25.8,   9.4000,   32.3600,2,-999.0000,9,    303.6,2,    305.7,6,     8.11,2,     5.30,2,     0.09,2,     0.79,2,   -999.0,9,   2171.6,2,   9.3972,20070516,2259
  32WC20070511,NACPWC,        2,    10,  1, 100121,     21,2,20070516,2149, 48.5700,-128.8400, 2042,     20.3,   9.5000,   32.3500,2,-999.0000,9,    302.5,2,    304.3,2,     7.91,2,     5.19,2,     0.10,2,     0.79,2,   1994.5,2,   2169.6,2,   9.4978,20070516,2300
  32WC20070511,NACPWC,        2,    10,  1, 100122,     22,2,20070516,2149, 48.5700,-128.8400, 2042,     15.0,   9.7000,   32.3600,2,-999.0000,9,    300.6,2,    302.2,2,     7.97,2,     5.25,2,     0.09,2,     0.79,2,   1994.2,2,   2172.8,2,   9.6984,20070516,2301
  32WC20070511,NACPWC,        2,    10,  1, 100123,     23,2,20070516,2149, 48.5700,-128.8400, 2042,      8.4,   9.9000,   32.3700,2,  32.3700,6,    299.8,2,    300.2,2,     8.09,2,     5.31,2,     0.09,2,     0.79,2,   1993.7,2,   2164.4,2,   9.8991,20070516,2302
  32WC20070511,NACPWC,        2,    10,  1, 100124,     24,2,20070516,2149, 48.5700,-128.8400, 2042,      4.6,  10.1000,   32.3700,2,-999.0000,9,    299.2,2,    299.1,2,     8.10,2,     5.28,2,     0.09,2,     0.79,2,   1995.8,2,   2170.9,6,  10.0995,20070516,2303
  32WC20070511,NACPWC,        2,    11,  1, 110101,      1,2,20070517,0311, 48.8600,-128.2200, 2494,   2486.8,   1.8000,   34.6400,2,  34.6400,6,     76.1,2,     76.1,2,   193.80,2,    39.03,2,     0.01,2,     2.89,2,   -999.0,9,   2432.6,6,   1.6247,20070517,0311
  32WC20070511,NACPWC,        2,    11,  1, 110102,      2,2,20070517,0311, 48.8600,-128.2200, 2494,   2000.4,   1.9000,   34.6000,2,-999.0000,9,     62.5,2,     62.7,2,   179.50,2,    40.80,2,     0.01,2,     2.92,2,   -999.0,9,   2413.3,2,   1.7651,20070517,0326
  32WC20070511,NACPWC,        2,    11,  1, 110103,      3,2,20070517,0311, 48.8600,-128.2200, 2494,   1500.0,   2.5000,   34.5100,2,-999.0000,9,     27.3,2,     27.5,2,   165.48,2,    43.06,2,     0.01,2,     3.07,2,   -999.0,9,   2393.2,2,   2.3981,20070517,0340
  32WC20070511,NACPWC,        2,    11,  1, 110104,      4,2,20070517,0311, 48.8600,-128.2200, 2494,    799.9,   3.7000,   34.2600,2,-999.0000,9,     12.2,2,     12.8,2,   125.87,6,    43.57,6,     0.01,6,     3.09,6,   -999.0,9,   2344.3,2,   3.6429,20070517,0357
  32WC20070511,NACPWC,        2,    11,  1, 110105,      5,2,20070517,0311, 48.8600,-128.2200, 2494,    499.9,   4.4000,   34.0400,2,-999.0000,9,     40.9,2,     42.2,2,    94.48,2,    41.11,2,     0.01,2,     2.90,2,   2316.6,2,   2303.2,2,   4.3629,20070517,0405
  32WC20070511,NACPWC,        2,    11,  1, 110106,      6,2,20070517,0311, 48.8600,-128.2200, 2494,    349.8,   5.2000,   33.9300,2,-999.0000,9,     77.7,2,     76.4,2,    70.90,2,    36.69,2,     0.01,2,     2.59,2,   2271.7,2,   2278.6,2,   5.1723,20070517,0410
  32WC20070511,NACPWC,        2,    11,  1, 110107,      7,2,20070517,0311, 48.8600,-128.2200, 2494,    300.8,   5.5000,   33.8900,2,-999.0000,9,    105.1,2,    105.3,2,    61.88,2,    33.03,2,     0.01,2,     2.38,2,   -999.0,9,   2270.6,2,   5.4756,20070517,0413
  32WC20070511,NACPWC,        2,    11,  1, 110108,      8,2,20070517,0311, 48.8600,-128.2200, 2494,    250.1,   5.9000,   33.8400,2,-999.0000,9,    137.6,2,    136.6,2,    51.98,2,    29.70,2,     0.01,2,     2.15,2,   2217.2,2,   2260.5,2,   5.8791,20070517,0415
  32WC20070511,NACPWC,        2,    11,  1, 110109,      9,2,20070517,0311, 48.8600,-128.2200, 2494,    201.3,   6.7000,   33.8500,2,-999.0000,9,    124.5,2,    140.8,2,    43.63,2,    28.04,2,     0.01,2,     2.03,2,   -999.0,9,   2253.6,2,   6.6820,20070517,0418
  32WC20070511,NACPWC,        2,    11,  1, 110110,     10,2,20070517,0311, 48.8600,-128.2200, 2494,    176.1,   7.1000,   33.7900,2,-999.0000,9,    142.1,2,    143.8,2,    39.58,2,    27.17,2,     0.01,2,     1.98,2,   2192.3,2,   2246.6,2,   7.0837,20070517,0420
  32WC20070511,NACPWC,        2,    11,  1, 110111,     11,2,20070517,0311, 48.8600,-128.2200, 2494,    150.3,   7.3000,   33.6200,2,-999.0000,9,    150.3,2,    158.1,2,    34.79,2,    25.57,2,     0.01,2,     1.90,2,   -999.0,9,   2235.9,2,   7.2859,20070517,0421
  32WC20070511,NACPWC,        2,    11,  1, 110112,     12,2,20070517,0311, 48.8600,-128.2200, 2494,    129.1,   7.0000,   33.3800,2,-999.0000,9,    190.2,2,    201.1,6,    29.52,2,    21.82,2,     0.02,2,     1.67,2,   2139.2,2,   2221.6,6,   6.9883,20070517,0423
  32WC20070511,NACPWC,        2,    11,  1, 110113,     13,2,20070517,0311, 48.8600,-128.2200, 2494,    109.9,   7.0000,   32.9900,2,-999.0000,9,    239.8,2,    240.9,2,    21.78,2,    16.91,2,     0.02,2,     1.42,2,   -999.0,9,   2203.5,2,   6.9901,20070517,0425
  32WC20070511,NACPWC,        2,    11,  1, 110114,     14,2,20070517,0311, 48.8600,-128.2200, 2494,     90.5,   7.3000,   32.6000,2,-999.0000,9,    277.3,2,    279.1,2,    13.38,2,    11.33,2,     0.05,2,     1.14,2,   -999.0,9,   2181.7,2,   7.2917,20070517,0426
  32WC20070511,NACPWC,        2,    11,  1, 110115,     15,2,20070517,0311, 48.8600,-128.2200, 2494,     70.2,   7.5000,   32.4900,2,-999.0000,9,    292.6,2,    293.3,2,    10.36,2,     8.69,2,     0.27,2,     1.02,2,   2029.6,2,   2176.3,2,   7.4935,20070517,0428
  32WC20070511,NACPWC,        2,    11,  1, 110116,     16,2,20070517,0311, 48.8600,-128.2200, 2494,     61.2,   7.6000,   32.4600,2,-999.0000,9,    296.4,2,    295.3,2,     9.59,2,     7.95,2,     0.23,2,     0.98,2,   -999.0,9,   2177.1,2,   7.5943,20070517,0429
  32WC20070511,NACPWC,        2,    11,  1, 110117,     17,2,20070517,0311, 48.8600,-128.2200, 2494,     50.4,   8.1000,   32.4000,2,-999.0000,9,    303.9,2,    302.0,2,     9.77,2,     7.35,2,     0.13,2,     0.92,2,   2014.7,2,   2174.5,2,   8.0951,20070517,0431
  32WC20070511,NACPWC,        2,    11,  1, 110118,     18,2,20070517,0311, 48.8600,-128.2200, 2494,     41.2,   8.8000,   32.3700,2,-999.0000,9,    303.6,2,    303.6,2,     9.01,2,     6.16,2,     0.10,2,     0.86,2,   -999.0,9,   2172.6,2,   8.7958,20070517,0432
  32WC20070511,NACPWC,        2,    11,  1, 110119,     19,2,20070517,0311, 48.8600,-128.2200, 2494,     30.1,   9.1000,   32.3700,2,-999.0000,9,    303.9,2,    304.3,2,     8.90,2,     5.75,2,     0.10,2,     0.83,2,   2001.1,2,   2170.7,2,   9.0969,20070517,0433
  32WC20070511,NACPWC,        2,    11,  1, 110120,     20,2,20070517,0311, 48.8600,-128.2200, 2494,     25.8,   9.1000,   32.3700,2,-999.0000,9,    305.0,2,    305.0,6,     8.81,2,     5.77,2,     0.10,2,     0.83,2,   -999.0,9,   2170.6,2,   9.0973,20070517,0434
  32WC20070511,NACPWC,        2,    11,  1, 110121,     21,2,20070517,0311, 48.8600,-128.2200, 2494,     21.0,   9.1000,   32.3600,2,-999.0000,9,    306.6,2,    305.9,2,     8.89,2,     5.61,2,     0.10,2,     0.82,2,   1998.7,2,   2173.9,2,   9.0978,20070517,0436
  32WC20070511,NACPWC,        2,    11,  1, 110122,     22,2,20070517,0311, 48.8600,-128.2200, 2494,     15.5,   9.3000,   32.3600,2,-999.0000,9,    304.4,2,    305.4,2,     8.88,2,     5.48,2,     0.10,2,     0.81,2,   2000.6,2,   2171.1,2,   9.2984,20070517,0437
  32WC20070511,NACPWC,        2,    11,  1, 110123,     23,2,20070517,0311, 48.8600,-128.2200, 2494,      9.8,  10.0000,   32.3500,2,  32.3500,2,    303.2,2,    297.5,2,     9.14,2,     5.63,2,     0.10,2,     0.81,2,   2000.7,2,   2170.5,2,   9.9989,20070517,0438
  32WC20070511,NACPWC,        2,    11,  1, 110124,     24,2,20070517,0311, 48.8600,-128.2200, 2494,      5.7,  10.2000,   32.3500,2,-999.0000,9,    303.2,2,    297.1,2,     9.14,2,     5.56,2,     0.10,2,     0.81,2,   1999.3,2,   2172.4,2,  10.1994,20070517,0440
  32WC20070511,NACPWC,        2,    12,  1, 120101,      1,2,20070517,0851, 49.1100,-127.7000, 2579,   2523.6,   1.8000,   34.6400,2,  34.6400,6,     74.5,2,     73.0,2,   196.59,2,    35.62,2,     0.01,2,     2.93,2,   -999.0,9,   2435.5,6,   1.6213,20070517,0851
  32WC20070511,NACPWC,        2,    12,  1, 120102,      2,2,20070517,0851, 49.1100,-127.7000, 2579,   2000.4,   2.0000,   34.5900,2,-999.0000,9,     57.8,2,     57.6,2,   180.71,2,    37.34,2,     0.00,2,     2.97,2,   -999.0,9,   -999.0,9,   1.8636,20070517,0904
  32WC20070511,NACPWC,        2,    12,  1, 120103,      3,2,20070517,0851, 49.1100,-127.7000, 2579,   1500.8,   2.4000,   34.5200,2,-999.0000,9,     30.5,2,     30.4,2,   166.73,6,    40.68,6,     0.00,6,     3.08,6,   -999.0,9,   -999.0,9,   2.2991,20070517,0916
  32WC20070511,NACPWC,        2,    12,  1, 120104,      4,2,20070517,0851, 49.1100,-127.7000, 2579,    799.9,   3.8000,   34.2900,2,-999.0000,9,      9.7,2,     10.4,2,   123.52,2,    43.65,2,     0.00,2,     3.14,2,   -999.0,9,   -999.0,9,   3.7422,20070517,0932
  32WC20070511,NACPWC,        2,    12,  1, 120105,      5,2,20070517,0851, 49.1100,-127.7000, 2579,    500.1,   4.5000,   34.0600,2,-999.0000,9,     37.9,2,     37.1,2,    94.03,2,    41.15,2,     0.00,2,     2.94,2,   2318.6,2,   2304.8,2,   4.4625,20070517,0940
  32WC20070511,NACPWC,        2,    12,  1, 120106,      6,2,20070517,0851, 49.1100,-127.7000, 2579,    350.8,   5.1000,   33.9200,2,-999.0000,9,     78.3,2,     79.4,6,    72.18,2,    36.23,2,     0.00,2,     2.61,2,   2267.4,2,   2280.6,2,   5.0725,20070517,0945
  32WC20070511,NACPWC,        2,    12,  1, 120107,      7,2,20070517,0851, 49.1100,-127.7000, 2579,    300.1,   5.8000,   33.9300,2,-999.0000,9,    103.3,2,     88.7,2,    61.73,2,    33.32,2,     0.00,2,     2.47,2,   -999.0,9,   -999.0,9,   5.7749,20070517,0947
  32WC20070511,NACPWC,        2,    12,  1, 120108,      8,2,20070517,0851, 49.1100,-127.7000, 2579,    249.9,   6.3000,   33.9100,2,-999.0000,9,    110.7,2,    109.9,2,    53.45,2,    30.79,2,     0.00,2,     2.29,2,   2230.2,2,   2266.9,2,   6.2783,20070517,0949
  32WC20070511,NACPWC,        2,    12,  1, 120109,      9,2,20070517,0851, 49.1100,-127.7000, 2579,    200.3,   6.9000,   33.9200,2,-999.0000,9,    110.0,2,    103.8,2,    48.41,2,    30.49,2,     0.01,2,     2.26,2,   -999.0,9,   -999.0,9,   6.8817,20070517,0952
  32WC20070511,NACPWC,        2,    12,  1, 120110,     10,2,20070517,0851, 49.1100,-127.7000, 2579,    174.5,   7.3000,   33.8600,2,-999.0000,9,    120.0,2,    117.2,2,    42.59,2,    28.71,2,     0.01,2,     2.14,2,   2210.2,2,   2253.0,2,   7.2836,20070517,0953
  32WC20070511,NACPWC,        2,    12,  1, 120111,     11,2,20070517,0851, 49.1100,-127.7000, 2579,    150.6,   7.4000,   33.8000,2,-999.0000,9,    127.6,2,    127.0,2,    39.73,2,    27.04,2,     0.01,2,     2.08,2,   -999.0,9,   -999.0,9,   7.3858,20070517,0955
  32WC20070511,NACPWC,        2,    12,  1, 120112,     12,2,20070517,0851, 49.1100,-127.7000, 2579,    130.3,   7.4000,   33.5700,2,-999.0000,9,    156.8,2,    152.0,2,    34.79,2,    24.65,2,     0.01,2,     1.95,2,   2177.2,2,   2235.6,2,   7.3877,20070517,0957
  32WC20070511,NACPWC,        2,    12,  1, 120113,     13,2,20070517,0851, 49.1100,-127.7000, 2579,    109.9,   7.1000,   33.0800,2,-999.0000,9,    227.0,2,    218.3,2,    24.90,2,    18.07,2,     0.02,2,     1.57,2,   -999.0,9,   -999.0,9,   7.0900,20070517,0959
  32WC20070511,NACPWC,        2,    12,  1, 120114,     14,2,20070517,0851, 49.1100,-127.7000, 2579,     90.0,   7.3000,   32.5900,2,-999.0000,9,    284.8,2,    275.1,2,    13.31,2,    10.70,2,     0.06,2,     1.17,2,   -999.0,9,   -999.0,9,   7.2918,20070517,1000
  32WC20070511,NACPWC,        2,    12,  1, 120115,     15,2,20070517,0851, 49.1100,-127.7000, 2579,     70.5,   7.5000,   32.4800,2,-999.0000,9,    294.4,2,    295.4,2,     9.65,2,     7.11,2,     0.26,2,     1.03,2,   2026.7,2,   -999.0,9,   7.4935,20070517,1002
  32WC20070511,NACPWC,        2,    12,  1, 120116,     16,2,20070517,0851, 49.1100,-127.7000, 2579,     60.1,   7.9000,   32.4300,2,-999.0000,9,    298.1,2,    297.9,2,     9.11,2,     6.25,2,     0.21,2,     0.97,2,   -999.0,9,   -999.0,9,   7.8943,20070517,1003
  32WC20070511,NACPWC,        2,    12,  1, 120117,     17,2,20070517,0851, 49.1100,-127.7000, 2579,     51.1,   8.6000,   32.3800,2,-999.0000,9,    299.9,2,    301.0,2,     7.86,2,     5.10,2,     0.13,2,     0.89,2,   2008.3,2,   2173.3,3,   8.5948,20070517,1005
  32WC20070511,NACPWC,        2,    12,  1, 120118,     18,2,20070517,0851, 49.1100,-127.7000, 2579,     40.2,   9.0000,   32.3600,2,-999.0000,9,    301.0,2,    302.5,2,     8.08,2,     4.62,2,     0.11,2,     0.85,2,   -999.0,9,   -999.0,9,   8.9958,20070517,1006
  32WC20070511,NACPWC,        2,    12,  1, 120119,     19,2,20070517,0851, 49.1100,-127.7000, 2579,     29.9,   9.1000,   32.3600,2,-999.0000,9,    302.4,2,    303.7,2,     7.79,2,     4.69,2,     0.10,2,     0.84,2,   2001.3,2,   2172.3,2,   9.0969,20070517,1007
  32WC20070511,NACPWC,        2,    12,  1, 120120,     20,2,20070517,0851, 49.1100,-127.7000, 2579,     25.7,   9.1000,   32.3600,2,-999.0000,9,    303.0,2,    303.9,2,     7.77,2,     4.61,2,     0.10,2,     0.83,2,   -999.0,9,   -999.0,9,   9.0973,20070517,1009
  32WC20070511,NACPWC,        2,    12,  1, 120121,     21,2,20070517,0851, 49.1100,-127.7000, 2579,     20.0,   9.1000,   32.3400,2,-999.0000,9,    304.7,2,    306.5,2,     8.02,2,     4.44,2,     0.10,2,     0.81,2,   1999.4,2,   2171.4,2,   9.0979,20070517,1010
  32WC20070511,NACPWC,        2,    12,  1, 120122,     22,2,20070517,0851, 49.1100,-127.7000, 2579,     15.4,   9.3000,   32.2400,2,-999.0000,9,    308.8,2,    309.7,2,     8.26,2,     4.05,2,     0.09,2,     0.77,2,   1993.2,2,   2172.6,2,   9.2984,20070517,1011
  32WC20070511,NACPWC,        2,    12,  1, 120123,     23,2,20070517,0851, 49.1100,-127.7000, 2579,     10.1,   9.6000,   32.1400,2,  32.1100,2,    316.1,2,    312.4,2,     8.57,2,     3.19,2,     0.08,2,     0.71,2,   1979.4,2,   2163.9,2,   9.5989,20070517,1012
  32WC20070511,NACPWC,        2,    12,  1, 120124,     24,2,20070517,0851, 49.1100,-127.7000, 2579,      5.5,  10.4000,   31.9600,2,-999.0000,9,    311.2,2,    310.0,2,     8.79,2,     2.51,2,     0.07,2,     0.65,2,   1970.6,2,   2160.0,2,  10.3994,20070517,1014