BOTTLE,20220810CCHSIOAMB
EXPOCODE,SECT_ID,STNNBR,CASTNO,SAMPNO,BTLNBR,BTLNBR_FLAG_W,DATE,TIME,LATITUDE,LONGITUDE,DEPTH,CTDRAW,CTDPRS,CTDTMP,CTDSAL,CTDSAL_FLAG_W,SALNTY,SALNTY_FLAG_W,CTDOXY,CTDOXY_FLAG_W,THETA,OXYGEN,OXYGEN_FLAG_W,SILCAT,SILCAT_FLAG_W,NO2+NO3,NO2+NO3_FLAG_W,PHSPHT,PHSPHT_FLAG_W,CFC-11,CFC-11_FLAG_W,CFC-12,CFC-12_FLAG_W,CFC113,CFC113_FLAG_W,CCL4,CCL4_FLAG_W,TRITUM,TRITUM_FLAG_W,HELIUM,HELIUM_FLAG_W,DELHE3,DELHE3_FLAG_W,NEON,NEON_FLAG_W,TCARBN,TCARBN_FLAG_W,PCO2,PCO2_FLAG_W,PCO2TMP,REVPRS,HELIER,TRITER,REVTMP,NEONER,DELHER
,,,,,,,,,,,,,DBAR,ITS-90,PSS-78,,PSS-78,,UMOL/KG,,DEG C,UMOL/KG,,UMOL/KG,,UMOL/KG,,UMOL/KG,,PMOL/KG,,PMOL/KG,,PMOL/KG,,PMOL/KG,,TU,,NMOL/KG,,PERCNT,,NMOL/KG,,UMOL/KG,,UATM,,DEG C,DBAR,NMOL/KG,TU,ITS-90,NMOL/KG,PERCNT
      74JC10_1,   A23,    92,  1,   9224,     11,2,19950427,0231,-42.2003, -36.0005, 5170,     10,      5.3,  14.9932,  34.3755,2,  34.3523,2,    254.5,3, 14.9924,    248.1,2,     2.76,2,     0.24,2,     0.22,2,    3.070,2,    1.604,2,    0.288,2,    3.316,2, -999.000,9,-999.0000,9,  -999.00,9,-999.000,9,   -999.0,9,   -999.0,9,-999.0,  -999.0,-999.0000,-999.000,-999.000,-999.000,-999.000
      74JC10_1,   A23,    92,  1,   9223,     23,2,19950427,0231,-42.2003, -36.0005, 5170,     58,     53.8,  12.5183,  34.3422,2,  34.3270,2,    257.3,3, 12.5112,    258.5,2,     2.88,2,     5.00,2,     0.55,2,    3.543,2,    1.828,2,    0.307,2,    3.737,2, -999.000,9,-999.0000,9,  -999.00,9,-999.000,9,   -999.0,9,   -999.0,9,-999.0,  -999.0,-999.0000,-999.000,-999.000,-999.000,-999.000
      74JC10_1,   A23,    92,  1,   9222,     25,2,19950427,0231,-42.2003, -36.0005, 5170,    109,    103.9,   8.7856,  34.5176,2,  34.4728,2,    253.8,3,  8.7746,    243.7,2,     6.23,2,    16.71,2,     1.15,2,    4.082,2,    1.993,2,    0.312,2,    3.260,2, -999.000,9,-999.0000,9,  -999.00,9,-999.000,9,   -999.0,9,   -999.0,9,-999.0,  -999.0,-999.0000,-999.000,-999.000,-999.000,-999.000
      74JC10_1,   A23,    92,  1,   9221,     21,2,19950427,0231,-42.2003, -36.0005, 5170,    157,    151.1,   7.5247,  34.4429,2,  34.4294,2,    263.8,3,  7.5101,    262.3,2,     6.64,2,    16.72,2,     1.16,2,    4.323,2,    2.128,2,    0.353,2,    3.919,2, -999.000,9,-999.0000,9,  -999.00,9,-999.000,9,   -999.0,9,   -999.0,9,-999.0,  -999.0,-999.0000,-999.000,-999.000,-999.000,-999.000
      74JC10_1,   A23,    92,  1,   9220,     27,2,19950427,0231,-42.2003, -36.0005, 5170,    257,    250.5,   5.4109,  34.2436,2,  34.2352,2,    266.2,3,  5.3907,    251.1,2,    11.69,2,    24.67,2,     1.65,2,    4.203,2,    1.915,2,    0.320,2,    4.263,2, -999.000,9,-999.0000,9,  -999.00,9,-999.000,9,   -999.0,9,   -999.0,9,-999.0,  -999.0,-999.0000,-999.000,   5.401,-999.000,-999.000
      74JC10_1,   A23,    92,  1,   9219,     19,2,19950427,0231,-42.2003, -36.0005, 5170,    356,    347.9,   4.5609,  34.1883,2,  34.1905,2,    266.8,3,  4.5350,    258.4,2,    14.63,2,    26.25,2,     1.72,2,    4.164,2,    1.959,2,    0.316,2,    4.563,2, -999.000,9,-999.0000,9,  -999.00,9,-999.000,9,   -999.0,9,   -999.0,9,-999.0,  -999.0,-999.0000,-999.000,-999.000,-999.000,-999.000
      74JC10_1,   A23,    92,  1,   9218,     18,2,19950427,0231,-42.2003, -36.0005, 5170,    504,    495.2,   3.8927,  34.1851,2,  34.1868,2,    261.7,3,  3.8578,    253.9,2,    20.09,2,    27.83,2,     1.85,2,    3.717,2,    1.677,2,    0.265,2,    4.339,2, -999.000,9,-999.0000,9,  -999.00,9,-999.000,9,   -999.0,9,   -999.0,9,-999.0,  -999.0,-999.0000,-999.000,-999.000,-999.000,-999.000
      74JC10_1,   A23,    92,  1,   9217,     17,2,19950427,0231,-42.2003, -36.0005, 5170,    749,    738.3,   3.0085,  34.2320,2,  34.2370,2,    235.4,3,  2.9602,    230.0,2,    35.18,2,    31.18,2,     2.08,2,    2.448,2,    1.120,2,    0.159,2,    2.959,2, -999.000,9,-999.0000,9,  -999.00,9,-999.000,9,   -999.0,9,   -999.0,9,-999.0,  -999.0,-999.0000,-999.000,-999.000,-999.000,-999.000
      74JC10_1,   A23,    92,  1,   9216,     16,2,19950427,0231,-42.2003, -36.0005, 5170,   1001,    988.5,   2.6873,  34.3780,2,  34.3788,2,    203.9,3,  2.6229,    195.5,2,    53.79,2,    33.39,2,     2.25,2,    1.101,2,    0.497,2,    0.053,2,    1.591,2, -999.000,9,-999.0000,9,  -999.00,9,-999.000,9,   -999.0,9,   -999.0,9,-999.0,  -999.0,-999.0000,-999.000,-999.000,-999.000,-999.000
      74JC10_1,   A23,    92,  1,   9215,     15,2,19950427,0231,-42.2003, -36.0005, 5170,   1246,   1233.5,   2.6273,  34.5171,2,  34.5192,2,    183.7,3,  2.5449,    177.3,2,    65.71,2,    33.41,2,     2.25,2,    0.387,2,    0.185,2,    0.001,2,    0.801,2, -999.000,9,-999.0000,9,  -999.00,9,-999.000,9,   -999.0,9,   -999.0,9,-999.0,  -999.0,-999.0000,-999.000,-999.000,-999.000,-999.000
      74JC10_1,   A23,    92,  1,   9214,     14,2,19950427,0231,-42.2003, -36.0005, 5170,   1493,   1480.1,   2.6274,  34.6235,2,  34.6223,2,    182.2,3,  2.5253,    175.4,2,    71.05,2,    32.41,2,     2.20,2,    0.189,2,    0.092,2,    0.000,2,    0.462,2, -999.000,9,-999.0000,9,  -999.00,9,-999.000,9,   -999.0,9,   -999.0,9,-999.0,  -999.0,-999.0000,-999.000,-999.000,-999.000,-999.000
      74JC10_1,   A23,    92,  1,   9213,     13,2,19950427,0231,-42.2003, -36.0005, 5170,   1742,   1728.9,   2.6782,  34.7160,2,  34.7158,2,    188.8,3,  2.5547,    184.5,2,    70.23,2,    30.43,2,     2.01,2,    0.093,2,    0.066,2,    0.005,2,    0.281,2, -999.000,9,-999.0000,9,  -999.00,9,-999.000,9,   -999.0,9,   -999.0,9,-999.0,  -999.0,-999.0000,-999.000,-999.000,-999.000,-999.000
      74JC10_1,   A23,    92,  1,   9212,     12,2,19950427,0231,-42.2003, -36.0005, 5170,   1987,   1974.1,   2.6637,  34.7754,2,  34.7732,2,    199.7,3,  2.5190,    195.4,2,    67.81,2,    28.66,2,     1.90,2,    0.054,2,    0.036,2,    0.000,2,    0.218,2, -999.000,9,-999.0000,9,  -999.00,9,-999.000,9,   -999.0,9,   -999.0,9,-999.0,  -999.0,-999.0000,-999.000,-999.000,-999.000,-999.000
      74JC10_1,   A23,    92,  1,   9211,     24,2,19950427,0231,-42.2003, -36.0005, 5170,   2333,   2320.4,   2.4999,  34.8130,2,  34.8117,2,    211.7,3,  2.3265,    206.9,2,    65.87,2,    27.22,2,     1.80,2,    0.017,2,    0.014,2,    0.000,2,    0.150,2, -999.000,9,-999.0000,9,  -999.00,9,-999.000,9,   -999.0,9,   -999.0,9,-999.0,  -999.0,-999.0000,-999.000,-999.000,-999.000,-999.000
      74JC10_1,   A23,    92,  1,   9210,     10,2,19950427,0231,-42.2003, -36.0005, 5170,   2664,   2652.5,   2.1943,  34.8111,2,  34.8082,2,    214.2,3,  1.9955,    211.0,2,    72.15,2,    27.26,2,     1.79,2,    0.014,2,    0.014,2,    0.000,2,    0.125,2, -999.000,9,-999.0000,9,  -999.00,9,-999.000,9,   -999.0,9,   -999.0,9,-999.0,  -999.0,-999.0000,-999.000,-999.000,-999.000,-999.000
      74JC10_1,   A23,    92,  1,   9209,      9,2,19950427,0231,-42.2003, -36.0005, 5170,   2979,   2967.7,   1.6759,  34.7636,2,  34.7618,2,    208.3,3,  1.4579,    202.5,2,    92.41,2,    29.60,2,     1.97,2,    0.025,2,    0.016,2,    0.000,2,    0.120,2, -999.000,9,-999.0000,9,  -999.00,9,-999.000,9,   -999.0,9,   -999.0,9,-999.0,  -999.0,-999.0000,-999.000,-999.000,-999.000,-999.000
      74JC10_1,   A23,    92,  1,   9208,      8,2,19950427,0231,-42.2003, -36.0005, 5170,   3318,   3307.6,   1.2793,  34.7326,2,  34.7305,2,    207.4,3,  1.0376,    202.0,2,   105.61,2,    30.98,2,     2.08,2,    0.049,2,    0.037,2,    0.000,2,    0.172,2, -999.000,9,-999.0000,9,  -999.00,9,-999.000,9,   -999.0,9,   -999.0,9,-999.0,  -999.0,-999.0000,-999.000,-999.000,-999.000,-999.000
      74JC10_1,   A23,    92,  1,   9207,     26,2,19950427,0231,-42.2003, -36.0005, 5170,   3677,   3667.0,   0.9018,  34.7072,2,  34.7070,2,    211.4,3,  0.6340,    204.6,2,   114.78,2,    31.84,2,     2.12,2,    0.093,2,    0.050,2,    0.000,2,    0.267,2, -999.000,9,-999.0000,9,  -999.00,9,-999.000,9,   -999.0,9,   -999.0,9,-999.0,  -999.0,-999.0000,-999.000,   0.896,-999.000,-999.000
      74JC10_1,   A23,    92,  1,   9206,      6,2,19950427,0231,-42.2003, -36.0005, 5170,   3980,   3970.7,   0.5516,  34.6890,2,  34.6881,2,    216.5,3,  0.2626,    210.5,2,   120.93,2,    32.35,2,     2.19,2,    0.110,2,    0.055,2,    0.000,2,    0.337,2, -999.000,9,-999.0000,9,  -999.00,9,-999.000,9,   -999.0,9,   -999.0,9,-999.0,  -999.0,-999.0000,-999.000,-999.000,-999.000,-999.000
      74JC10_1,   A23,    92,  1,   9205,      5,2,19950427,0231,-42.2003, -36.0005, 5170,   4330,   4321.8,   0.3386,  34.6790,2,  34.6787,2,    221.3,3,  0.0193,    215.2,2,   123.67,2,    32.49,2,     2.20,2,    0.096,2,    0.054,2,    0.000,2,    0.347,2, -999.000,9,-999.0000,9,  -999.00,9,-999.000,9,   -999.0,9,   -999.0,9,-999.0,  -999.0,-999.0000,-999.000,-999.000,-999.000,-999.000
      74JC10_1,   A23,    92,  1,   9204,      4,2,19950427,0231,-42.2003, -36.0005, 5170,   4682,   4674.0,   0.2423,  34.6729,2,  34.6722,2,    224.6,3, -0.1122,    217.8,2,   126.40,2,    32.64,2,     2.25,2,    0.100,2,    0.064,2,    0.000,2,    0.378,2, -999.000,9,-999.0000,9,  -999.00,9,-999.000,9,   -999.0,9,   -999.0,9,-999.0,  4683.0,-999.0000,-999.000,   0.234,-999.000,-999.000
      74JC10_1,   A23,    92,  1,   9203,      3,2,19950427,0231,-42.2003, -36.0005, 5170,   4988,   4981.0,   0.2275,  34.6707,2,  34.6704,2,    226.4,3, -0.1610,    218.4,2,   127.28,2,    32.69,2,     2.21,2,    0.123,2,    0.066,2,    0.000,2,    0.386,2, -999.000,9,-999.0000,9,  -999.00,9,-999.000,9,   -999.0,9,   -999.0,9,-999.0,  -999.0,-999.0000,-999.000,-999.000,-999.000,-999.000
      74JC10_1,   A23,    92,  1,   9202,      2,2,19950427,0231,-42.2003, -36.0005, 5170,   5276,   5269.4,   0.2177,  34.6667,2,  34.6677,2,    227.1,3, -0.2040,    218.6,2,   128.06,2,    32.68,2,     2.22,2,    0.172,2,    0.090,2,    0.000,2,    0.436,2, -999.000,9,-999.0000,9,  -999.00,9,-999.000,9,   -999.0,9,   -999.0,9,-999.0,  -999.0,-999.0000,-999.000,-999.000,-999.000,-999.000
      74JC10_1,   A23,    92,  1,   9201,      1,2,19950427,0231,-42.2003, -36.0005, 5170,   5276,   5269.7,   0.2177,  34.6675,2,  34.6679,2,    227.1,3, -0.2040,    218.6,2,   127.38,2,    32.88,2,     2.66,2,    0.188,2,    0.098,2,    0.000,2,    0.459,2, -999.000,9,-999.0000,9,  -999.00,9,-999.000,9,   -999.0,9,   -999.0,9,-999.0,  5266.0,-999.0000,-999.000,   0.212,-999.000,-999.000
      74JC10_1,   A23,    93,  1,   9324,     11,2,19950427,1009,-41.5380, -35.9903, 5177,     11,      5.8,  16.6036,  34.8523,2,  34.8524,2,    244.3,3, 16.6026,    235.9,2,     2.53,2,     0.00,2,     0.15,2, -999.000,9, -999.000,9, -999.000,9, -999.000,9, -999.000,9,-999.0000,9,  -999.00,9,-999.000,9,   -999.0,9,   -999.0,9,-999.0,  -999.0,-999.0000,-999.000,-999.000,-999.000,-999.000
      74JC10_1,   A23,    93,  1,   9323,     23,2,19950427,1009,-41.5380, -35.9903, 5177,     61,     55.5,  15.8429,  34.9044,2,  34.9475,2,    240.8,3, 15.8342,    235.6,2,     2.59,2,     0.18,2,     0.20,2, -999.000,9, -999.000,9, -999.000,9, -999.000,9, -999.000,9,-999.0000,9,  -999.00,9,-999.000,9,   -999.0,9,   -999.0,9,-999.0,  -999.0,-999.0000,-999.000,-999.000,-999.000,-999.000
      74JC10_1,   A23,    93,  1,   9322,     25,2,19950427,1009,-41.5380, -35.9903, 5177,    109,    103.6,  11.9066,  34.8932,2,  34.9063,2,    232.1,3, 11.8933,    227.1,2,     3.87,2,    10.24,2,     0.76,2, -999.000,9, -999.000,9, -999.000,9, -999.000,9, -999.000,9,-999.0000,9,  -999.00,9,-999.000,9,   -999.0,9,   -999.0,9,-999.0,  -999.0,-999.0000,-999.000,-999.000,-999.000,-999.000
      74JC10_1,   A23,    93,  1,   9321,     21,2,19950427,1009,-41.5380, -35.9903, 5177,    159,    152.6,  10.7928,  34.8417,2,  34.8255,2,    224.3,3, 10.7743,    217.2,2,     5.40,2,    14.27,2,     1.01,2, -999.000,9, -999.000,9, -999.000,9, -999.000,9, -999.000,9,-999.0000,9,  -999.00,9,-999.000,9,   -999.0,9,   -999.0,9,-999.0,  -999.0,-999.0000,-999.000,-999.000,-999.000,-999.000
      74JC10_1,   A23,    93,  1,   9320,     27,2,19950427,1009,-41.5380, -35.9903, 5177,    257,    250.3,   7.1284,  34.4019,2,  34.4126,2,    242.0,3,  7.1048,    231.2,2,     8.63,2,    21.63,2,     1.44,2, -999.000,9, -999.000,9, -999.000,9, -999.000,9, -999.000,9,-999.0000,9,  -999.00,9,-999.000,9,   -999.0,9,   -999.0,9,-999.0,  -999.0,-999.0000,-999.000,   7.242,-999.000,-999.000
      74JC10_1,   A23,    93,  1,   9319,     19,2,19950427,1009,-41.5380, -35.9903, 5177,    356,    348.4,   5.6001,  34.2633,2,  34.2691,2,    255.7,3,  5.5713,    249.4,2,    11.16,2,    24.25,2,     1.61,2, -999.000,9, -999.000,9, -999.000,9, -999.000,9, -999.000,9,-999.0000,9,  -999.00,9,-999.000,9,   -999.0,9,   -999.0,9,-999.0,  -999.0,-999.0000,-999.000,-999.000,-999.000,-999.000
      74JC10_1,   A23,    93,  1,   9318,     18,2,19950427,1009,-41.5380, -35.9903, 5177,    506,    496.7,   4.5884,  34.2033,2,  34.2164,2,    261.2,3,  4.5507,    256.2,2,    14.69,2,    26.19,2,     1.75,2, -999.000,9, -999.000,9, -999.000,9, -999.000,9, -999.000,9,-999.0000,9,  -999.00,9,-999.000,9,   -999.0,9,   -999.0,9,-999.0,  -999.0,-999.0000,-999.000,-999.000,-999.000,-999.000
      74JC10_1,   A23,    93,  1,   9317,     17,2,19950427,1009,-41.5380, -35.9903, 5177,    752,    741.5,   3.4672,  34.2195,2,  34.2213,2,    248.3,3,  3.4160,    240.1,2,    26.14,2,    29.58,2,     1.97,2, -999.000,9, -999.000,9, -999.000,9, -999.000,9, -999.000,9,-999.0000,9,  -999.00,9,-999.000,9,   -999.0,9,   -999.0,9,-999.0,  -999.0,-999.0000,-999.000,-999.000,-999.000,-999.000
      74JC10_1,   A23,    93,  1,   9316,     16,2,19950427,1009,-41.5380, -35.9903, 5177,   1000,    987.8,   2.9171,  34.3230,2,  34.3272,2,    217.3,3,  2.8511,    208.8,2,    42.93,2,    32.22,2,     2.18,2, -999.000,9, -999.000,9, -999.000,9, -999.000,9, -999.000,9,-999.0000,9,  -999.00,9,-999.000,9,   -999.0,9,   -999.0,9,-999.0,  -999.0,-999.0000,-999.000,-999.000,-999.000,-999.000
      74JC10_1,   A23,    93,  1,   9315,     15,2,19950427,1009,-41.5380, -35.9903, 5177,   1249,   1235.8,   2.7462,  34.4676,2,  34.4675,2,    190.2,3,  2.6625,    184.1,2,    56.26,2,    33.19,2,     2.25,2, -999.000,9, -999.000,9, -999.000,9, -999.000,9, -999.000,9,-999.0000,9,  -999.00,9,-999.000,9,   -999.0,9,   -999.0,9,-999.0,  -999.0,-999.0000,-999.000,-999.000,-999.000,-999.000
      74JC10_1,   A23,    93,  1,   9314,     14,2,19950427,1009,-41.5380, -35.9903, 5177,   1496,   1482.5,   2.7880,  34.5994,2,  34.5995,2,    185.3,3,  2.6840,    179.3,2,    58.96,2,    32.01,2,     2.16,2, -999.000,9, -999.000,9, -999.000,9, -999.000,9, -999.000,9,-999.0000,9,  -999.00,9,-999.000,9,   -999.0,9,   -999.0,9,-999.0,  -999.0,-999.0000,-999.000,-999.000,-999.000,-999.000
      74JC10_1,   A23,    93,  1,   9313,     13,2,19950427,1009,-41.5380, -35.9903, 5177,   1745,   1731.7,   2.8795,  34.7196,2,  34.7184,2,    192.6,3,  2.7531,    187.8,2,    55.72,2,    29.59,2,     1.98,2, -999.000,9, -999.000,9, -999.000,9, -999.000,9, -999.000,9,-999.0000,9,  -999.00,9,-999.000,9,   -999.0,9,   -999.0,9,-999.0,  -999.0,-999.0000,-999.000,-999.000,-999.000,-999.000
      74JC10_1,   A23,    93,  1,   9312,     12,2,19950427,1009,-41.5380, -35.9903, 5177,   1992,   1979.2,   2.9135,  34.7922,2,  34.7929,2,    205.3,3,  2.7646,    201.5,2,    50.90,2,    27.34,2,     1.83,2, -999.000,9, -999.000,9, -999.000,9, -999.000,9, -999.000,9,-999.0000,9,  -999.00,9,-999.000,9,   -999.0,9,   -999.0,9,-999.0,  -999.0,-999.0000,-999.000,-999.000,-999.000,-999.000
      74JC10_1,   A23,    93,  1,   9311,     24,2,19950427,1009,-41.5380, -35.9903, 5177,   2339,   2326.2,   2.6972,  34.8294,2,  34.8296,2,    219.7,3,  2.5198,    211.5,2,    52.02,2,    26.00,2,     1.71,2, -999.000,9, -999.000,9, -999.000,9, -999.000,9, -999.000,9,-999.0000,9,  -999.00,9,-999.000,9,   -999.0,9,   -999.0,9,-999.0,  -999.0,-999.0000,-999.000,-999.000,-999.000,-999.000
      74JC10_1,   A23,    93,  1,   9310,     10,2,19950427,1009,-41.5380, -35.9903, 5177,   2687,   2675.2,   2.1818,  34.7937,2,  34.7917,2,    211.5,3,  1.9811,    204.9,2,    68.92,2,    27.82,2,     1.86,2, -999.000,9, -999.000,9, -999.000,9, -999.000,9, -999.000,9,-999.0000,9,  -999.00,9,-999.000,9,   -999.0,9,   -999.0,9,-999.0,  -999.0,-999.0000,-999.000,-999.000,-999.000,-999.000
      74JC10_1,   A23,    93,  1,   9309,      9,2,19950427,1009,-41.5380, -35.9903, 5177,   2985,   2973.9,   1.7633,  34.7644,2,  34.7634,2,    208.5,3,  1.5428,    201.5,2,    84.48,2,    29.24,2,     1.96,2, -999.000,9, -999.000,9, -999.000,9, -999.000,9, -999.000,9,-999.0000,9,  -999.00,9,-999.000,9,   -999.0,9,   -999.0,9,-999.0,  -999.0,-999.0000,-999.000,-999.000,-999.000,-999.000
      74JC10_1,   A23,    93,  1,   9308,      8,2,19950427,1009,-41.5380, -35.9903, 5177,   3334,   3323.9,   1.2400,  34.7251,2,  34.7254,2,    206.3,3,  0.9977,    200.9,2,   102.68,2,    31.00,2,     2.12,2, -999.000,9, -999.000,9, -999.000,9, -999.000,9, -999.000,9,-999.0000,9,  -999.00,9,-999.000,9,   -999.0,9,   -999.0,9,-999.0,  -999.0,-999.0000,-999.000,-999.000,-999.000,-999.000
      74JC10_1,   A23,    93,  1,   9307,     26,2,19950427,1009,-41.5380, -35.9903, 5177,   3681,   3671.9,   0.8667,  34.7036,2,  34.7046,2,    211.1,3,  0.5994,    205.6,2,   111.47,2,    31.69,2,     2.13,2, -999.000,9, -999.000,9, -999.000,9, -999.000,9, -999.000,9,-999.0000,9,  -999.00,9,-999.000,9,   -999.0,9,   -999.0,9,-999.0,  -999.0,-999.0000,-999.000,   0.859,-999.000,-999.000
      74JC10_1,   A23,    93,  1,   9306,      6,2,19950427,1009,-41.5380, -35.9903, 5177,   3983,   3973.6,   0.5940,  34.6899,2,  34.6908,2,    215.7,3,  0.3035,    210.0,2,   118.98,2,    32.06,2,     2.17,2, -999.000,9, -999.000,9, -999.000,9, -999.000,9, -999.000,9,-999.0000,9,  -999.00,9,-999.000,9,   -999.0,9,   -999.0,9,-999.0,  -999.0,-999.0000,-999.000,-999.000,-999.000,-999.000
      74JC10_1,   A23,    93,  1,   9305,      5,2,19950427,1009,-41.5380, -35.9903, 5177,   4334,   4325.6,   0.3586,  34.6791,2,  34.6791,2,    221.5,3,  0.0382,    214.8,2,   122.11,2,    32.33,2,     2.21,2, -999.000,9, -999.000,9, -999.000,9, -999.000,9, -999.000,9,-999.0000,9,  -999.00,9,-999.000,9,   -999.0,9,   -999.0,9,-999.0,  -999.0,-999.0000,-999.000,-999.000,-999.000,-999.000
      74JC10_1,   A23,    93,  1,   9304,      4,2,19950427,1009,-41.5380, -35.9903, 5177,   4687,   4679.1,   0.2587,  34.6720,2,  34.6732,2,    224.8,3, -0.0969,    217.7,2,   123.57,2,    32.46,2,     2.23,2, -999.000,9, -999.000,9, -999.000,9, -999.000,9, -999.000,9,-999.0000,9,  -999.00,9,-999.000,9,   -999.0,9,   -999.0,9,-999.0,  4687.0,-999.0000,-999.000,   0.251,-999.000,-999.000
      74JC10_1,   A23,    93,  1,   9303,      3,2,19950427,1009,-41.5380, -35.9903, 5177,   4987,   4979.7,   0.2324,  34.6711,2,  34.6702,2,    226.0,3, -0.1562,    218.2,2,   123.86,2,    32.37,2,     2.21,2, -999.000,9, -999.000,9, -999.000,9, -999.000,9, -999.000,9,-999.0000,9,  -999.00,9,-999.000,9,   -999.0,9,   -999.0,9,-999.0,  -999.0,-999.0000,-999.000,-999.000,-999.000,-999.000
      74JC10_1,   A23,    93,  1,   9301,      1,2,19950427,1009,-41.5380, -35.9903, 5177,   5280,   5273.9,   0.2099,  34.6676,2,  34.6681,2,    226.1,3, -0.2120,    221.0,2,   126.99,2,    32.44,2,     2.21,2, -999.000,9, -999.000,9, -999.000,9, -999.000,9, -999.000,9,-999.0000,9,  -999.00,9,-999.000,9,   -999.0,9,   -999.0,9,-999.0,  5270.0,-999.0000,-999.000,   0.204,-999.000,-999.000
      74JC10_1,   A23,    93,  1,   9302,      2,2,19950427,1009,-41.5380, -35.9903, 5177,   5281,   5274.4,   0.2095,  34.6677,2,  34.6677,2,    226.6,3, -0.2124,    219.6,2,   125.33,2,    32.53,2,     2.21,2, -999.000,9, -999.000,9, -999.000,9, -999.000,9, -999.000,9,-999.0000,9,  -999.00,9,-999.000,9,   -999.0,9,   -999.0,9,-999.0,  -999.0,-999.0000,-999.000,-999.000,-999.000,-999.000