BOTTLE,20220810CCHSIOAMB
EXPOCODE,SECT_ID,STNNBR,CASTNO,SAMPNO,BTLNBR,BTLNBR_FLAG_W,DATE,TIME,LATITUDE,LONGITUDE,DEPTH,CTDRAW,CTDPRS,CTDTMP,CTDSAL,CTDSAL_FLAG_W,SALNTY,SALNTY_FLAG_W,CTDOXY,CTDOXY_FLAG_W,THETA,OXYGEN,OXYGEN_FLAG_W,SILCAT,SILCAT_FLAG_W,NO2+NO3,NO2+NO3_FLAG_W,PHSPHT,PHSPHT_FLAG_W,CFC-11,CFC-11_FLAG_W,CFC-12,CFC-12_FLAG_W,CFC113,CFC113_FLAG_W,CCL4,CCL4_FLAG_W,TRITUM,TRITUM_FLAG_W,HELIUM,HELIUM_FLAG_W,DELHE3,DELHE3_FLAG_W,NEON,NEON_FLAG_W,TCARBN,TCARBN_FLAG_W,PCO2,PCO2_FLAG_W,PCO2TMP,REVPRS,HELIER,TRITER,REVTMP,NEONER,DELHER
,,,,,,,,,,,,,DBAR,ITS-90,PSS-78,,PSS-78,,UMOL/KG,,DEG C,UMOL/KG,,UMOL/KG,,UMOL/KG,,UMOL/KG,,PMOL/KG,,PMOL/KG,,PMOL/KG,,PMOL/KG,,TU,,NMOL/KG,,PERCNT,,NMOL/KG,,UMOL/KG,,UATM,,DEG C,DBAR,NMOL/KG,TU,ITS-90,NMOL/KG,PERCNT
      74JC10_1,   A23,    69,  1,   6922,     25,2,19950415,2038,-49.3345, -35.6572, 5046,     13,     10.0,   6.0301,  33.7483,2,  33.7472,2,    284.8,3,  6.0293,    299.4,2,     5.07,2,    17.29,2,     1.13,2, -999.000,9, -999.000,9, -999.000,9, -999.000,9, -999.000,9,-999.0000,9,  -999.00,9,-999.000,9,   -999.0,9,   -999.0,9,-999.0,  -999.0,-999.0000,-999.000,-999.000,-999.000,-999.000
      74JC10_1,   A23,    69,  1,   6923,     23,2,19950415,2038,-49.3345, -35.6572, 5046,     13,     10.3,   6.0332,  33.7482,2,  33.7484,2,    284.8,3,  6.0324,    299.9,2,     3.95,2,    17.50,2,     1.15,2, -999.000,9, -999.000,9, -999.000,9, -999.000,9, -999.000,9,-999.0000,9,  -999.00,9,-999.000,9,   -999.0,9,   -999.0,9,-999.0,  -999.0,-999.0000,-999.000,-999.000,-999.000,-999.000
      74JC10_1,   A23,    69,  1,   6921,     21,2,19950415,2038,-49.3345, -35.6572, 5046,     59,     55.5,   5.1841,  33.7457,2,  33.7490,2,    292.8,3,  5.1799,    300.4,2,     4.53,2,    16.56,2,     1.13,2, -999.000,9, -999.000,9, -999.000,9, -999.000,9, -999.000,9,-999.0000,9,  -999.00,9,-999.000,9,   -999.0,9,   -999.0,9,-999.0,  -999.0,-999.0000,-999.000,-999.000,-999.000,-999.000
      74JC10_1,   A23,    69,  1,   6920,     27,2,19950415,2038,-49.3345, -35.6572, 5046,    109,    105.3,   1.6600,  33.8760,2,  33.8784,2,    318.0,3,  1.6549,    304.8,2,    16.75,2,    23.99,2,     1.70,2, -999.000,9, -999.000,9, -999.000,9, -999.000,9, -999.000,9,-999.0000,9,  -999.00,9,-999.000,9,   -999.0,9,   -999.0,9,-999.0,  -999.0,-999.0000,-999.000,   1.707,-999.000,-999.000
      74JC10_1,   A23,    69,  1,   6919,     19,2,19950415,2038,-49.3345, -35.6572, 5046,    159,    154.7,   0.8115,  34.0022,2,  34.0192,2,    292.5,3,  0.8049,    287.7,2,    31.50,2,    28.84,2,     1.92,2, -999.000,9, -999.000,9, -999.000,9, -999.000,9, -999.000,9,-999.0000,9,  -999.00,9,-999.000,9,   -999.0,9,   -999.0,9,-999.0,  -999.0,-999.0000,-999.000,-999.000,-999.000,-999.000
      74JC10_1,   A23,    69,  1,   6918,     18,2,19950415,2038,-49.3345, -35.6572, 5046,    210,    204.7,   1.8230,  34.1609,2,  34.1593,2,    251.6,3,  1.8125,    248.9,2,    39.39,2,    30.78,2,     2.07,2, -999.000,9, -999.000,9, -999.000,9, -999.000,9, -999.000,9,-999.0000,9,  -999.00,9,-999.000,9,   -999.0,9,   -999.0,9,-999.0,  -999.0,-999.0000,-999.000,-999.000,-999.000,-999.000
      74JC10_1,   A23,    69,  1,   6917,     17,2,19950415,2038,-49.3345, -35.6572, 5046,    258,    252.1,   1.0903,  34.1848,2,  34.2007,2,    225.6,3,  1.0788,    244.9,2,    50.83,2,    31.75,2,     2.16,2, -999.000,9, -999.000,9, -999.000,9, -999.000,9, -999.000,9,-999.0000,9,  -999.00,9,-999.000,9,   -999.0,9,   -999.0,9,-999.0,  -999.0,-999.0000,-999.000,-999.000,-999.000,-999.000
      74JC10_1,   A23,    69,  1,   6916,     16,2,19950415,2038,-49.3345, -35.6572, 5046,    359,    351.7,   1.9349,  34.3846,2,  34.3859,2,    197.9,3,  1.9159,    191.5,2,    65.04,2,    33.39,2,     2.28,2, -999.000,9, -999.000,9, -999.000,9, -999.000,9, -999.000,9,-999.0000,9,  -999.00,9,-999.000,9,   -999.0,9,   -999.0,9,-999.0,  -999.0,-999.0000,-999.000,-999.000,-999.000,-999.000
      74JC10_1,   A23,    69,  1,   6915,     15,2,19950415,2038,-49.3345, -35.6572, 5046,    509,    499.9,   2.0853,  34.5215,2,  34.5247,2,    183.1,3,  2.0570,    175.8,2,    76.33,2,    33.29,2,     2.29,2, -999.000,9, -999.000,9, -999.000,9, -999.000,9, -999.000,9,-999.0000,9,  -999.00,9,-999.000,9,   -999.0,9,   -999.0,9,-999.0,  -999.0,-999.0000,-999.000,-999.000,-999.000,-999.000
      74JC10_1,   A23,    69,  1,   6914,     14,2,19950415,2038,-49.3345, -35.6572, 5046,    761,    750.3,   2.0690,  34.6365,2,  34.6372,2,    178.5,3,  2.0249,    173.4,2,    85.22,2,    32.53,2,     2.33,2, -999.000,9, -999.000,9, -999.000,9, -999.000,9, -999.000,9,-999.0000,9,  -999.00,9,-999.000,9,   -999.0,9,   -999.0,9,-999.0,  -999.0,-999.0000,-999.000,-999.000,-999.000,-999.000
      74JC10_1,   A23,    69,  1,   6913,     13,2,19950415,2038,-49.3345, -35.6572, 5046,   1011,    999.1,   1.9181,  34.6895,2,  34.6930,2,    181.4,3,  1.8585,    177.9,2,    90.96,2,    31.77,2,     2.17,2, -999.000,9, -999.000,9, -999.000,9, -999.000,9, -999.000,9,-999.0000,9,  -999.00,9,-999.000,9,   -999.0,9,   -999.0,9,-999.0,  -999.0,-999.0000,-999.000,-999.000,-999.000,-999.000
      74JC10_1,   A23,    69,  1,   6912,     12,2,19950415,2038,-49.3345, -35.6572, 5046,   1261,   1248.3,   1.9888,  34.7470,2,  34.7465,2,    195.7,3,  1.9109,    190.2,2,    85.22,2,    29.81,2,     2.00,3, -999.000,9, -999.000,9, -999.000,9, -999.000,9, -999.000,9,-999.0000,9,  -999.00,9,-999.000,9,   -999.0,9,   -999.0,9,-999.0,  -999.0,-999.0000,-999.000,-999.000,-999.000,-999.000
      74JC10_1,   A23,    69,  1,   6911,     24,2,19950415,2038,-49.3345, -35.6572, 5046,   1511,   1498.2,   1.6208,  34.7272,2,  34.7278,2,    198.4,3,  1.5287,    188.8,2,    98.60,2,    30.72,2,     2.10,2, -999.000,9, -999.000,9, -999.000,9, -999.000,9, -999.000,9,-999.0000,9,  -999.00,9,-999.000,9,   -999.0,9,   -999.0,9,-999.0,  -999.0,-999.0000,-999.000,-999.000,-999.000,-999.000
      74JC10_1,   A23,    69,  1,   6910,     10,2,19950415,2038,-49.3345, -35.6572, 5046,   1761,   1748.5,   1.4455,  34.7330,2,  34.7343,2,    202.7,3,  1.3369,    195.8,2,   100.84,2,    30.36,2,     2.06,2, -999.000,9, -999.000,9, -999.000,9, -999.000,9, -999.000,9,-999.0000,9,  -999.00,9,-999.000,9,   -999.0,9,   -999.0,9,-999.0,  -999.0,-999.0000,-999.000,-999.000,-999.000,-999.000
      74JC10_1,   A23,    69,  1,   6909,      9,2,19950415,2038,-49.3345, -35.6572, 5046,   2012,   1998.9,   1.1798,  34.7179,2,  34.7184,2,    204.1,3,  1.0557,    198.6,2,   108.67,2,    31.08,2,     2.08,2, -999.000,9, -999.000,9, -999.000,9, -999.000,9, -999.000,9,-999.0000,9,  -999.00,9,-999.000,9,   -999.0,9,   -999.0,9,-999.0,  -999.0,-999.0000,-999.000,-999.000,-999.000,-999.000
      74JC10_1,   A23,    69,  1,   6908,      8,2,19950415,2038,-49.3345, -35.6572, 5046,   2513,   2501.5,   0.8139,  34.7057,2,  34.7052,2,    213.2,3,  0.6556,    204.4,2,   115.93,2,    31.19,2,     2.13,2, -999.000,9, -999.000,9, -999.000,9, -999.000,9,    0.011,2,   1.8670,2,     9.65,2,   8.165,2,   -999.0,9,   -999.0,9,-999.0,  -999.0,  0.0070,   0.002,-999.000,   0.025,   0.300
      74JC10_1,   A23,    69,  1,   6907,     26,2,19950415,2038,-49.3345, -35.6572, 5046,   3016,   3005.5,   0.4623,  34.6874,2,  34.6871,2,    220.6,3,  0.2680,    212.3,2,   122.07,2,    31.59,2,     2.16,2, -999.000,9, -999.000,9, -999.000,9, -999.000,9,    0.017,2,   1.8660,2,     8.17,2,-999.000,9,   -999.0,9,   -999.0,9,-999.0,  -999.0,  0.0070,-999.000,   0.455,-999.000,   0.300
      74JC10_1,   A23,    69,  1,   6906,      6,2,19950415,2038,-49.3345, -35.6572, 5046,   3519,   3509.3,   0.2214,  34.6764,2,  34.6747,2,    224.9,3, -0.0131,    217.3,2,   125.18,2,    31.63,2,     2.19,2,    0.171,2,    0.104,2,    0.000,2,    0.444,2,    0.019,2,   1.8680,2,     7.81,2,   8.186,2,   -999.0,9,   -999.0,9,-999.0,  -999.0,  0.0070,   0.009,-999.000,   0.025,   0.300
      74JC10_1,   A23,    69,  1,   6905,      5,2,19950415,2038,-49.3345, -35.6572, 5046,   4024,   4014.9,   0.1051,  34.6700,2,  34.6686,2,    229.4,3, -0.1754,    221.4,2,   128.54,2,    31.80,2,     2.18,2,    0.214,2,    0.122,2,    0.000,2,    0.496,2,    0.026,2,   1.8700,2,     7.21,2,   8.231,2,   -999.0,9,   -999.0,9,-999.0,  -999.0,  0.0070,   0.003,-999.000,   0.026,   0.300
      74JC10_1,   A23,    69,  1,   6904,      4,2,19950415,2038,-49.3345, -35.6572, 5046,   4533,   4524.6,   0.0384,  34.6651,2,  34.6635,2,    232.9,3, -0.2932,    226.8,2,   126.15,2,    31.80,2,     2.18,2,    0.309,2,    0.167,2,    0.000,2,    0.618,2,    0.027,2,   1.8730,2,     6.91,2,   8.244,2,   -999.0,9,   -999.0,9,-999.0,  4532.0,  0.0070,   0.002,   0.031,   0.026,   0.300
      74JC10_1,   A23,    69,  1,   6903,      3,2,19950415,2038,-49.3345, -35.6572, 5046,   4835,   4828.0,   0.0207,  34.6619,2,  34.6612,2,    234.0,3, -0.3435,   -999.0,5,   125.48,2,    31.73,2,     2.18,2,    0.367,2,    0.187,2,    0.001,2,    0.661,2, -999.000,9,-999.0000,9,  -999.00,9,-999.000,9,   -999.0,9,   -999.0,9,-999.0,  -999.0,-999.0000,-999.000,-999.000,-999.000,-999.000
      74JC10_1,   A23,    69,  1,   6901,      1,2,19950415,2038,-49.3345, -35.6572, 5046,   5123,   5116.2,  -0.1141,  34.6550,2,  34.6543,2,    240.0,3, -0.5060,    238.5,2,   123.96,2,    31.54,2,     2.17,2,    0.504,2,    0.256,2,    0.019,2,    0.832,2,    0.041,2,   1.8740,2,     6.36,2,   8.272,2,   -999.0,9,   -999.0,9,-999.0,  5111.0,  0.0070,   0.003,  -0.121,   0.026,   0.300
      74JC10_1,   A23,    69,  1,   6902,      2,2,19950415,2038,-49.3345, -35.6572, 5046,   5124,   5117.2,  -0.1141,  34.6555,2,  34.6545,2,    240.1,3, -0.5061,    236.3,2,   124.65,2,    31.59,2,     2.18,2, -999.000,9, -999.000,9, -999.000,9, -999.000,9, -999.000,9,-999.0000,9,  -999.00,9,-999.000,9,   -999.0,9,   -999.0,9,-999.0,  -999.0,-999.0000,-999.000,-999.000,-999.000,-999.000
      74JC10_1,   A23,    70,  1,   7022,     25,2,19950416,0213,-49.1488, -35.8627, 5148,     11,      7.6,   5.5034,  33.7360,2,  33.7461,2,    311.9,3,  5.5028,    301.7,2,     3.87,2,    15.81,2,     1.16,2,    5.144,2,    2.512,2,    0.493,2,    5.919,2,    0.201,2,-999.0000,9,  -999.00,9,-999.000,9,   -999.0,9,   -999.0,9,-999.0,  -999.0,-999.0000,-999.000,-999.000,-999.000,-999.000
      74JC10_1,   A23,    70,  1,   7023,     23,2,19950416,0213,-49.1488, -35.8627, 5148,     11,      7.7,   5.4571,  33.7450,2,  33.7459,2,    311.9,3,  5.4565,    301.9,2,     3.73,2,    15.93,2,     1.15,2,    5.442,2,    2.572,2,    0.488,2,    6.230,2, -999.000,9,-999.0000,9,  -999.00,9,-999.000,9,   -999.0,9,   -999.0,9,-999.0,  -999.0,-999.0000,-999.000,-999.000,-999.000,-999.000
      74JC10_1,   A23,    70,  1,   7021,     21,2,19950416,0213,-49.1488, -35.8627, 5148,     58,     55.1,   5.1875,  33.7512,2,  33.7507,2,    315.1,3,  5.1832,    309.1,2,     4.01,2,    15.52,2,     1.14,2,    5.168,2,    2.434,2,    0.471,2,    5.641,2,    0.183,2,-999.0000,9,  -999.00,9,-999.000,9,   -999.0,9,   -999.0,9,-999.0,  -999.0,-999.0000,   0.013,-999.000,-999.000,-999.000
      74JC10_1,   A23,    70,  1,   7020,     27,2,19950416,0213,-49.1488, -35.8627, 5148,    106,    102.4,   2.7795,  33.8439,2,  33.8445,2,    310.6,3,  2.7735,    302.0,2,    12.00,2,    22.54,2,     1.57,2,    5.971,2,    2.760,2,    0.536,2,    6.455,2, -999.000,9,-999.0000,9,  -999.00,9,-999.000,9,   -999.0,9,   -999.0,9,-999.0,  -999.0,-999.0000,-999.000,   2.806,-999.000,-999.000
      74JC10_1,   A23,    70,  1,   7019,     19,2,19950416,0213,-49.1488, -35.8627, 5148,    158,    153.2,   0.8331,  33.9284,2,  33.9397,2,    299.5,3,  0.8266,    303.1,2,    24.74,2,    25.41,2,     1.82,2,    6.014,2,    2.753,2,    0.514,2,    6.443,2,    0.130,2,   1.7950,2,    -0.45,2,   8.029,2,   -999.0,9,   -999.0,9,-999.0,  -999.0,  0.0070,   0.029,-999.000,   0.025,   0.300
      74JC10_1,   A23,    70,  1,   7018,     18,2,19950416,0213,-49.1488, -35.8627, 5148,    210,    204.4,   1.2015,  34.1010,2,  34.1123,2,    269.6,3,  1.1920,    261.1,2,  -999.00,5,    34.06,2,     1.99,2,    4.299,2,    1.967,2,    0.353,2,    4.903,2, -999.000,9,-999.0000,9,  -999.00,9,-999.000,9,   -999.0,9,   -999.0,9,-999.0,  -999.0,-999.0000,-999.000,-999.000,-999.000,-999.000
      74JC10_1,   A23,    70,  1,   7017,     17,2,19950416,0213,-49.1488, -35.8627, 5148,    260,    253.9,   1.4749,  34.1830,2,  34.1885,2,    260.4,3,  1.4625,    240.7,2,    47.43,2,    32.30,2,     2.14,2,    3.488,2,    1.550,2,    0.273,2,    4.029,2,    0.108,4,   1.8050,2,     2.60,2,   7.999,2,   -999.0,9,   -999.0,9,-999.0,  -999.0,  0.0070,   0.009,-999.000,   0.025,   0.300
      74JC10_1,   A23,    70,  1,   7016,     16,2,19950416,0213,-49.1488, -35.8627, 5148,    360,    352.9,   1.5138,  34.3251,2,  34.3250,2,    226.2,3,  1.4961,    213.7,2,    61.31,2,    33.39,2,     2.25,2,    2.467,2,    1.122,2,    0.186,2,    2.958,2,    0.072,2,   1.8240,2,     4.69,2,   8.053,2,   -999.0,9,   -999.0,9,-999.0,  -999.0,  0.0070,   0.006,-999.000,   0.025,   0.300
      74JC10_1,   A23,    70,  1,   7015,     15,2,19950416,0213,-49.1488, -35.8627, 5148,    510,    501.3,   1.9086,  34.4789,2,  34.4832,2,    193.5,3,  1.8810,    182.5,2,    72.82,2,    35.82,2,     2.34,2,    1.164,2,    0.521,2,    0.078,2,    1.605,2,    0.058,2,   1.8510,2,     7.02,2,   8.092,2,   -999.0,9,   -999.0,9,-999.0,  -999.0,  0.0070,   0.003,-999.000,   0.025,   0.300
      74JC10_1,   A23,    70,  1,   7014,     14,2,19950416,0213,-49.1488, -35.8627, 5148,    752,    741.7,   1.9866,  34.5957,2,  34.5983,2,    178.0,3,  1.9436,    173.3,2,    81.32,2,    35.02,2,     2.28,2,    0.473,2,    0.230,2,    0.028,2,    0.779,2,    0.024,2,-999.0000,9,  -999.00,9,-999.000,9,   -999.0,9,   -999.0,9,-999.0,  -999.0,-999.0000,   0.006,-999.000,-999.000,-999.000
      74JC10_1,   A23,    70,  1,   7013,     13,2,19950416,0213,-49.1488, -35.8627, 5148,   1011,    998.6,   1.9100,  34.6829,2,  34.6816,2,    179.4,3,  1.8505,    176.1,2,    87.12,2,    33.58,2,     2.20,2,    0.214,2,    0.103,2,    0.005,2,    0.404,2,    0.047,2,   1.8500,2,    11.58,2,   8.060,2,   -999.0,9,   -999.0,9,-999.0,  -999.0,  0.0070,   0.013,-999.000,   0.025,   0.300
      74JC10_1,   A23,    70,  1,   7012,     12,2,19950416,0213,-49.1488, -35.8627, 5148,   1261,   1248.6,   1.8275,  34.7244,2,  34.7248,2,    190.4,3,  1.7513,    185.7,2,    88.04,2,    32.30,2,     2.13,2,    0.129,2,    0.069,2,    0.000,2,    0.268,2,    0.017,2,   1.8440,2,    11.39,2,   8.052,2,   -999.0,9,   -999.0,9,-999.0,  -999.0,  0.0070,   0.006,-999.000,   0.025,   0.300
      74JC10_1,   A23,    70,  1,   7011,     24,2,19950416,0213,-49.1488, -35.8627, 5148,   1509,   1496.0,   1.7058,  34.7373,2,  34.7374,2,    195.9,3,  1.6128,    191.7,2,    90.07,2,    31.75,2,     2.10,2,    0.090,3,    0.059,2,    0.001,2,    0.207,2,    0.272,3,   1.8520,2,    10.18,2,-999.000,9,   -999.0,9,   -999.0,9,-999.0,  -999.0,  0.0070,-999.000,-999.000,-999.000,   0.300
      74JC10_1,   A23,    70,  1,   7010,     10,2,19950416,0213,-49.1488, -35.8627, 5148,   1756,   1742.9,   1.4968,  34.7330,2,  34.7302,2,    198.3,3,  1.3878,    193.6,2,    96.66,2,    32.03,2,     2.10,2,    0.081,3,    0.062,2,    0.000,2,    0.203,2,    0.013,2,   1.8580,2,    10.14,2,   8.095,2,   -999.0,9,   -999.0,9,-999.0,  -999.0,  0.0070,   0.007,-999.000,   0.025,   0.300
      74JC10_1,   A23,    70,  1,   7009,      9,2,19950416,0213,-49.1488, -35.8627, 5148,   2004,   1991.1,   1.2679,  34.7176,2,  34.6557,4,    199.0,3,  1.1431,    195.4,2,   103.07,2,    32.51,2,     2.13,2,    0.130,2,    0.072,2,    0.000,2,    0.247,2,    0.068,3,   1.8550,2,    10.09,2,   8.081,2,   -999.0,9,   -999.0,9,-999.0,  -999.0,  0.0070,   0.011,-999.000,   0.025,   0.300
      74JC10_1,   A23,    70,  1,   7008,      8,2,19950416,0213,-49.1488, -35.8627, 5148,   2512,   2500.0,   0.8019,  34.6974,2,  34.6979,2,    206.6,3,  0.6440,    202.1,2,   113.22,2,    32.94,2,     2.17,2,    0.210,2,    0.115,2,    0.005,2,    0.391,2,    0.011,2,   1.8810,2,     9.79,2,   8.257,3,   -999.0,9,   -999.0,9,-999.0,  -999.0,  0.0070,   0.003,-999.000,   0.026,   0.300
      74JC10_1,   A23,    70,  1,   7007,     26,2,19950416,0213,-49.1488, -35.8627, 5148,   3006,   2995.7,   0.5213,  34.6874,2,  34.6877,2,    214.3,3,  0.3266,    209.1,2,   118.10,2,    33.15,2,     2.20,2,    0.210,2,    0.120,2,    0.000,2,    0.425,2,    0.016,2,   1.8580,2,     8.28,2,-999.000,9,   -999.0,9,   -999.0,9,-999.0,  -999.0,  0.0070,-999.000,   0.510,-999.000,   0.300
      74JC10_1,   A23,    70,  1,   7006,      6,2,19950416,0213,-49.1488, -35.8627, 5148,   3504,   3494.8,   0.3200,  34.6790,2,  34.6779,2,    218.3,3,  0.0843,    214.1,2,   121.52,2,    33.03,2,     2.19,2,    0.188,2,    0.099,2,    0.000,2,    0.414,2, -999.000,9,   1.8680,2,     7.57,2,   8.183,2,   -999.0,9,   -999.0,9,-999.0,  -999.0,  0.0070,-999.000,-999.000,   0.025,   0.300
      74JC10_1,   A23,    70,  1,   7005,      5,2,19950416,0213,-49.1488, -35.8627, 5148,   4005,   3995.6,   0.2082,  34.6728,2,  34.6722,2,    224.5,3, -0.0735,    218.1,2,   124.16,2,    33.22,2,     2.21,2,    0.192,2,    0.105,2,    0.005,2,    0.428,2,    0.021,4,   1.8810,2,     7.43,2,   8.286,2,   -999.0,9,   -999.0,9,-999.0,  -999.0,  0.0070,   0.011,-999.000,   0.026,   0.300
      74JC10_1,   A23,    70,  1,   7004,      4,2,19950416,0213,-49.1488, -35.8627, 5148,   4513,   4504.6,   0.1232,  34.6680,2,  34.6663,2,    230.7,3, -0.2089,    222.3,2,   125.33,2,    33.07,2,     2.20,2,    0.201,2,    0.116,2,    0.008,2,    0.451,2,    0.025,2,-999.0000,5,     7.20,2,-999.000,5,   -999.0,9,   -999.0,9,-999.0,  4515.0,-999.0000,   0.002,   0.116,-999.000,   0.300
      74JC10_1,   A23,    70,  1,   7003,      3,2,19950416,0213,-49.1488, -35.8627, 5148,   5017,   5009.8,  -0.0190,  34.6594,2,  34.6586,2,    238.1,3, -0.4022,    229.4,2,   126.01,2,    32.90,2,     2.18,2,    0.260,2,    0.142,2,    0.009,2,    0.516,2,    0.029,2,-999.0000,5,     5.65,3,-999.000,5,   -999.0,9,   -999.0,9,-999.0,  -999.0,-999.0000,   0.013,-999.000,-999.000,   0.300
      74JC10_1,   A23,    70,  1,   7001,      1,2,19950416,0213,-49.1488, -35.8627, 5148,   5238,   5231.3,  -0.0541,  34.6565,2,  34.6557,2,    241.7,3, -0.4615,    232.8,2,   124.06,2,    32.62,2,     2.16,2,    0.485,2,    0.250,2,    0.017,2,    0.787,2,    0.032,2,-999.0000,9,  -999.00,9,-999.000,9,   -999.0,9,   -999.0,9,-999.0,  5227.0,-999.0000,   0.002,  -0.057,-999.000,-999.000
      74JC10_1,   A23,    70,  1,   7002,      2,2,19950416,0213,-49.1488, -35.8627, 5148,   5239,   5233.1,  -0.0538,  34.6556,2,  34.6559,2,    241.1,3, -0.4614,    232.2,2,   125.52,2,    32.82,2,     2.25,4,    0.483,2,    0.246,2,    0.020,2,    0.795,2, -999.000,9,-999.0000,9,  -999.00,9,-999.000,9,   -999.0,9,   -999.0,9,-999.0,  -999.0,-999.0000,-999.000,-999.000,-999.000,-999.000