BOTTLE,20220810CCHSIOAMB
EXPOCODE,SECT_ID,STNNBR,CASTNO,SAMPNO,BTLNBR,BTLNBR_FLAG_W,DATE,TIME,LATITUDE,LONGITUDE,DEPTH,CTDRAW,CTDPRS,CTDTMP,CTDSAL,CTDSAL_FLAG_W,SALNTY,SALNTY_FLAG_W,CTDOXY,CTDOXY_FLAG_W,THETA,OXYGEN,OXYGEN_FLAG_W,SILCAT,SILCAT_FLAG_W,NO2+NO3,NO2+NO3_FLAG_W,PHSPHT,PHSPHT_FLAG_W,CFC-11,CFC-11_FLAG_W,CFC-12,CFC-12_FLAG_W,CFC113,CFC113_FLAG_W,CCL4,CCL4_FLAG_W,TRITUM,TRITUM_FLAG_W,HELIUM,HELIUM_FLAG_W,DELHE3,DELHE3_FLAG_W,NEON,NEON_FLAG_W,TCARBN,TCARBN_FLAG_W,PCO2,PCO2_FLAG_W,PCO2TMP,REVPRS,HELIER,TRITER,REVTMP,NEONER,DELHER
,,,,,,,,,,,,,DBAR,ITS-90,PSS-78,,PSS-78,,UMOL/KG,,DEG C,UMOL/KG,,UMOL/KG,,UMOL/KG,,UMOL/KG,,PMOL/KG,,PMOL/KG,,PMOL/KG,,PMOL/KG,,TU,,NMOL/KG,,PERCNT,,NMOL/KG,,UMOL/KG,,UATM,,DEG C,DBAR,NMOL/KG,TU,ITS-90,NMOL/KG,PERCNT
      74JC10_1,   A23,    81,  1,   8124,     11,2,19950423,2101,-48.0667, -35.9997, 5590,     10,      5.7,  11.1450,  34.4124,2,  34.4071,2,    274.0,3, 11.1443,    265.9,2,     2.59,2,     4.24,2,     0.62,2,    3.657,2,    1.883,2,    0.311,2,    3.249,2, -999.000,9,-999.0000,9,  -999.00,9,-999.000,9,   -999.0,9,   -999.0,9,-999.0,  -999.0,-999.0000,-999.000,-999.000,-999.000,-999.000
      74JC10_1,   A23,    81,  1,   8123,     23,2,19950423,2101,-48.0667, -35.9997, 5590,     59,     54.8,  10.1904,  34.3311,2,  34.3480,2,    275.6,3, 10.1841,    264.0,2,     3.27,2,     7.59,2,     0.73,2,    3.774,2,    1.952,2,    0.333,2,    3.148,2, -999.000,9,-999.0000,9,  -999.00,9,-999.000,9,   -999.0,9,   -999.0,9,-999.0,  -999.0,-999.0000,-999.000,-999.000,-999.000,-999.000
      74JC10_1,   A23,    81,  1,   8122,     25,2,19950423,2101,-48.0667, -35.9997, 5590,    110,    105.0,   7.0640,  34.3639,2,  34.3633,2,    251.2,3,  7.0543,    245.0,2,     7.83,2,    19.78,2,     1.39,2,    3.998,2,    1.964,2,    0.299,2,    2.747,2, -999.000,9,-999.0000,9,  -999.00,9,-999.000,9,   -999.0,9,   -999.0,9,-999.0,  -999.0,-999.0000,-999.000,-999.000,-999.000,-999.000
      74JC10_1,   A23,    81,  1,   8121,     21,2,19950423,2101,-48.0667, -35.9997, 5590,    159,    153.4,   5.6488,  34.2433,2,  34.2501,2,    260.1,3,  5.6362,    253.6,2,    13.01,2,    22.72,2,     1.52,2,    4.073,2,    2.020,2,    0.322,2,    3.197,2, -999.000,9,-999.0000,9,  -999.00,9,-999.000,9,   -999.0,9,   -999.0,9,-999.0,  -999.0,-999.0000,-999.000,-999.000,-999.000,-999.000
      74JC10_1,   A23,    81,  1,   8120,     27,2,19950423,2101,-48.0667, -35.9997, 5590,    260,    253.0,   4.5240,  34.1878,2,  34.1870,2,    273.4,3,  4.5054,    270.7,2,    12.26,2,    24.16,2,     1.64,2,    4.379,2,    2.130,2,    0.326,2,    3.718,2, -999.000,9,-999.0000,9,  -999.00,9,-999.000,9,   -999.0,9,   -999.0,9,-999.0,  -999.0,-999.0000,-999.000,   4.595,-999.000,-999.000
      74JC10_1,   A23,    81,  1,   8119,     19,2,19950423,2101,-48.0667, -35.9997, 5590,    358,    350.2,   4.1383,  34.1858,2,  34.1854,2,    268.2,3,  4.1134,    264.8,2,    17.14,2,    25.79,2,     1.71,2,    3.947,2,    1.948,2,    0.310,2,    3.404,2, -999.000,9,-999.0000,9,  -999.00,9,-999.000,9,   -999.0,9,   -999.0,9,-999.0,  -999.0,-999.0000,-999.000,-999.000,-999.000,-999.000
      74JC10_1,   A23,    81,  1,   8118,     18,2,19950423,2101,-48.0667, -35.9997, 5590,    624,    614.6,   3.1852,  34.2169,2,  34.2168,2,    269.5,3,  3.1447,    237.2,2,    29.03,2,    30.49,2,     1.99,2,    2.675,2,    1.318,2,    0.166,2,    2.364,2, -999.000,9,-999.0000,9,  -999.00,9,-999.000,9,   -999.0,9,   -999.0,9,-999.0,  -999.0,-999.0000,-999.000,-999.000,-999.000,-999.000
      74JC10_1,   A23,    81,  1,   8117,     17,2,19950423,2101,-48.0667, -35.9997, 5590,    758,    747.3,   2.8371,  34.2595,2,  34.2609,2,    220.0,3,  2.7891,    218.8,2,    39.38,2,    32.63,2,     2.12,2,    2.144,2,    1.023,2,    0.144,2,    1.961,2, -999.000,9,-999.0000,9,  -999.00,9,-999.000,9,   -999.0,9,   -999.0,9,-999.0,  -999.0,-999.0000,-999.000,-999.000,-999.000,-999.000
      74JC10_1,   A23,    81,  1,   8116,     16,2,19950423,2101,-48.0667, -35.9997, 5590,   1011,    998.5,   2.6725,  34.4142,2,  34.4122,2,    192.0,3,  2.6075,    194.6,2,    56.32,2,    34.79,2,     2.26,2,    0.846,2,    0.419,2,    0.031,2,    0.999,2, -999.000,9,-999.0000,9,  -999.00,9,-999.000,9,   -999.0,9,   -999.0,9,-999.0,  -999.0,-999.0000,-999.000,-999.000,-999.000,-999.000
      74JC10_1,   A23,    81,  1,   8115,     15,2,19950423,2101,-48.0667, -35.9997, 5590,   1261,   1247.8,   2.6171,  34.5406,2,  34.5425,2,    180.0,3,  2.5336,    176.2,2,    64.27,2,    34.31,2,     2.24,2,    0.326,2,    0.178,2,    0.009,2,    0.470,2, -999.000,9,-999.0000,9,  -999.00,9,-999.000,9,   -999.0,9,   -999.0,9,-999.0,  -999.0,-999.0000,-999.000,-999.000,-999.000,-999.000
      74JC10_1,   A23,    81,  1,   8114,     14,2,19950423,2101,-48.0667, -35.9997, 5590,   1510,   1496.5,   2.5338,  34.6255,2,  34.6262,2,    180.2,3,  2.4315,    174.6,2,    70.11,2,    33.60,2,     2.19,2,    0.170,2,    0.099,2,    0.000,2,    0.311,2, -999.000,9,-999.0000,9,  -999.00,9,-999.000,9,   -999.0,9,   -999.0,9,-999.0,  -999.0,-999.0000,-999.000,-999.000,-999.000,-999.000
      74JC10_1,   A23,    81,  1,   8113,     13,2,19950423,2101,-48.0667, -35.9997, 5590,   1757,   1744.1,   2.5167,  34.7046,2,  34.7048,2,    180.5,3,  2.3941,    181.2,2,    72.88,2,    31.56,2,     2.05,2,    0.080,2,    0.052,2,    0.000,2,    0.186,2, -999.000,9,-999.0000,9,  -999.00,9,-999.000,9,   -999.0,9,   -999.0,9,-999.0,  -999.0,-999.0000,-999.000,-999.000,-999.000,-999.000
      74JC10_1,   A23,    81,  1,   8112,     12,2,19950423,2101,-48.0667, -35.9997, 5590,   2007,   1993.5,   2.3496,  34.7361,2,  34.7378,2,    188.1,3,  2.2080,    186.9,2,    73.25,2,    30.71,2,     1.99,2,    0.069,2,    0.049,2,    0.000,2,    0.158,2, -999.000,9,-999.0000,9,  -999.00,9,-999.000,9,   -999.0,9,   -999.0,9,-999.0,  -999.0,-999.0000,-999.000,-999.000,-999.000,-999.000
      74JC10_1,   A23,    81,  1,   8111,     24,2,19950423,2101,-48.0667, -35.9997, 5590,   2212,   2199.1,   2.3171,  34.7651,2,  34.7649,2,    200.5,3,  2.1579,    193.6,2,    73.19,2,    29.66,2,     1.92,2,    0.038,3,    0.040,2,    0.000,2,    0.118,2, -999.000,9,-999.0000,9,  -999.00,9,-999.000,9,   -999.0,9,   -999.0,9,-999.0,  -999.0,-999.0000,-999.000,-999.000,-999.000,-999.000
      74JC10_1,   A23,    81,  1,   8110,     10,2,19950423,2101,-48.0667, -35.9997, 5590,   2713,   2701.6,   1.7628,  34.7514,2,  34.7510,2,    203.0,3,  1.5681,    194.0,2,    88.96,2,    30.56,2,     2.00,2,    0.046,3,    0.040,2,    0.000,2,    0.112,2, -999.000,9,-999.0000,9,  -999.00,9,-999.000,9,   -999.0,9,   -999.0,9,-999.0,  -999.0,-999.0000,-999.000,-999.000,-999.000,-999.000
      74JC10_1,   A23,    81,  1,   8109,      9,2,19950423,2101,-48.0667, -35.9997, 5590,   3008,   2997.1,   1.4259,  34.7308,2,  34.7300,2,    200.8,3,  1.2108,    196.0,2,   101.51,2,    31.56,2,     2.06,2,    0.066,2,    0.042,2,    0.000,2,    0.122,2, -999.000,9,-999.0000,9,  -999.00,9,-999.000,9,   -999.0,9,   -999.0,9,-999.0,  -999.0,-999.0000,-999.000,-999.000,-999.000,-999.000
      74JC10_1,   A23,    81,  1,   8108,      8,2,19950423,2101,-48.0667, -35.9997, 5590,   3351,   3340.8,   1.1082,  34.7144,2,  34.7136,2,    204.9,3,  0.8675,    199.8,2,   108.15,2,    32.29,2,     2.11,2,    0.103,2,    0.089,3,    0.005,2,    0.163,2, -999.000,9,-999.0000,9,  -999.00,9,-999.000,9,   -999.0,9,   -999.0,9,-999.0,  -999.0,-999.0000,-999.000,-999.000,-999.000,-999.000
      74JC10_1,   A23,    81,  1,   8107,     26,2,19950423,2101,-48.0667, -35.9997, 5590,   3697,   3687.7,   0.7927,  34.6978,2,  34.6977,2,    210.4,3,  0.5257,    205.5,2,   116.35,2,    32.72,2,     2.22,2,    0.147,2,    0.106,2,    0.009,2,    0.217,2, -999.000,9,-999.0000,9,  -999.00,9,-999.000,9,   -999.0,9,   -999.0,9,-999.0,  -999.0,-999.0000,-999.000,   0.790,-999.000,-999.000
      74JC10_1,   A23,    81,  1,   8106,      6,2,19950423,2101,-48.0667, -35.9997, 5590,   3991,   3981.9,   0.6152,  34.6891,2,  34.6893,2,    214.6,3,  0.3233,    208.8,2,   118.88,2,    32.61,2,     2.17,2, -999.000,9, -999.000,9, -999.000,9, -999.000,9, -999.000,9,-999.0000,9,  -999.00,9,-999.000,9,   -999.0,9,   -999.0,9,-999.0,  -999.0,-999.0000,-999.000,-999.000,-999.000,-999.000
      74JC10_1,   A23,    81,  1,   8105,      5,2,19950423,2101,-48.0667, -35.9997, 5590,   4481,   4472.9,   0.3591,  34.6774,2,  34.6767,2,    221.5,3,  0.0228,    214.3,2,   124.74,2,    32.71,2,     2.19,2,    0.112,2,    0.072,2,    0.000,2,    0.237,2, -999.000,9,-999.0000,9,  -999.00,9,-999.000,9,   -999.0,9,   -999.0,9,-999.0,  -999.0,-999.0000,-999.000,-999.000,-999.000,-999.000
      74JC10_1,   A23,    81,  1,   8104,      4,2,19950423,2101,-48.0667, -35.9997, 5590,   4969,   4962.3,   0.2680,  34.6714,2,  34.6712,2,    225.8,3, -0.1198,    215.9,2,   127.08,2,    33.04,2,     2.17,2,    0.120,2,    0.086,2,    0.000,2,    0.260,2, -999.000,9,-999.0000,9,  -999.00,9,-999.000,9,   -999.0,9,   -999.0,9,-999.0,  4971.0,-999.0000,-999.000,   0.262,-999.000,-999.000
      74JC10_1,   A23,    81,  1,   8103,      3,2,19950423,2101,-48.0667, -35.9997, 5590,   5459,   5453.2,   0.2548,  34.6675,2,  34.6682,2,    227.7,3, -0.1902,    219.3,2,   126.99,2,    33.16,2,     2.19,2,    0.166,2,    0.097,2,    0.000,2,    0.284,2, -999.000,9,-999.0000,9,  -999.00,9,-999.000,9,   -999.0,9,   -999.0,9,-999.0,  -999.0,-999.0000,-999.000,-999.000,-999.000,-999.000
      74JC10_1,   A23,    81,  1,   8102,      2,2,19950423,2101,-48.0667, -35.9997, 5590,   5731,   5725.7,   0.2388,  34.6663,2,  34.6667,2,    229.4,3, -0.2389,    222.0,2,   126.30,2,    33.07,2,  -999.00,5,    0.222,2,    0.126,2,    0.000,2,    0.320,2, -999.000,9,-999.0000,9,  -999.00,9,-999.000,9,   -999.0,9,   -999.0,9,-999.0,  -999.0,-999.0000,-999.000,-999.000,-999.000,-999.000
      74JC10_1,   A23,    81,  1,   8101,      1,2,19950423,2101,-48.0667, -35.9997, 5590,   5732,   5727.2,   0.2392,  34.6664,2,  34.6659,2,    229.2,3, -0.2387,    223.2,2,   127.48,2,    32.97,2,     2.19,2,    0.224,2,    0.137,2,    0.000,2,    0.294,2, -999.000,9,-999.0000,9,  -999.00,9,-999.000,9,   -999.0,9,   -999.0,9,-999.0,  5730.0,-999.0000,-999.000,   0.288,-999.000,-999.000
      74JC10_1,   A23,    82,  1,   8224,     11,2,19950424,0438,-47.5372, -35.9972, 5769,     12,      7.3,  10.7172,  34.2378,2,  34.2377,2,    275.2,3, 10.7163,    271.0,2,     3.39,2,     6.24,2,     0.62,2,    3.679,2,    1.885,2,    0.327,2,    3.488,2, -999.000,9,-999.0000,9,  -999.00,9,-999.000,9,   -999.0,9,   -999.0,9,-999.0,  -999.0,-999.0000,-999.000,-999.000,-999.000,-999.000
      74JC10_1,   A23,    82,  1,   8223,     23,2,19950424,0438,-47.5372, -35.9972, 5769,     59,     54.5,  10.3139,  34.2899,2,  34.2901,2,    272.4,3, 10.3075,    264.3,2,     3.82,2,     6.50,2,     0.73,2,    3.686,2,    1.832,2,    0.327,2,    3.259,2, -999.000,9,-999.0000,9,  -999.00,9,-999.000,9,   -999.0,9,   -999.0,9,-999.0,  -999.0,-999.0000,-999.000,-999.000,-999.000,-999.000
      74JC10_1,   A23,    82,  1,   8222,     25,2,19950424,0438,-47.5372, -35.9972, 5769,    108,    103.5,   8.7239,  34.4081,2,  34.4080,2,    258.0,3,  8.7130,    247.4,2,     5.67,2,    14.54,2,     1.11,2,    3.921,2,    1.927,2,    0.310,2,    2.948,2, -999.000,9,-999.0000,9,  -999.00,9,-999.000,9,   -999.0,9,   -999.0,9,-999.0,  -999.0,-999.0000,-999.000,-999.000,-999.000,-999.000
      74JC10_1,   A23,    82,  1,   8221,     21,2,19950424,0438,-47.5372, -35.9972, 5769,    158,    152.1,   6.4749,  34.3089,2,  34.3086,2,    258.1,3,  6.4614,    250.1,2,     8.69,2,    20.63,2,     1.42,2,    4.087,2,    1.962,2,    0.335,2,    3.265,2, -999.000,9,-999.0000,9,  -999.00,9,-999.000,9,   -999.0,9,   -999.0,9,-999.0,  -999.0,-999.0000,-999.000,-999.000,-999.000,-999.000
      74JC10_1,   A23,    82,  1,   8220,     27,2,19950424,0438,-47.5372, -35.9972, 5769,    257,    250.4,   4.9494,  34.2022,2,  34.2036,2,    269.8,3,  4.9301,    262.1,2,    12.02,2,    24.21,2,     1.61,2,    4.168,2,    1.978,2,    0.321,2,    3.774,2, -999.000,9,-999.0000,9,  -999.00,9,-999.000,9,   -999.0,9,   -999.0,9,-999.0,  -999.0,-999.0000,-999.000,-999.000,-999.000,-999.000
      74JC10_1,   A23,    82,  1,   8219,     19,2,19950424,0438,-47.5372, -35.9972, 5769,    358,    349.9,   4.3486,  34.1829,2,  34.1830,2,    275.1,3,  4.3231,    266.5,2,    15.16,2,    25.99,2,     1.73,2,    4.081,2,    1.864,2,    0.319,2,    3.793,2, -999.000,9,-999.0000,9,  -999.00,9,-999.000,9,   -999.0,9,   -999.0,9,-999.0,  -999.0,-999.0000,-999.000,-999.000,-999.000,-999.000
      74JC10_1,   A23,    82,  1,   8218,     18,2,19950424,0438,-47.5372, -35.9972, 5769,    509,    499.5,   3.6899,  34.1826,2,  34.1840,2,    262.2,3,  3.6555,    253.5,2,    21.70,2,    28.37,2,     1.86,2,    3.457,2,    1.476,2,    0.250,2,    3.208,2, -999.000,9,-999.0000,9,  -999.00,9,-999.000,9,   -999.0,9,   -999.0,9,-999.0,  -999.0,-999.0000,-999.000,-999.000,-999.000,-999.000
      74JC10_1,   A23,    82,  1,   8217,     17,2,19950424,0438,-47.5372, -35.9972, 5769,    757,    746.5,   3.0163,  34.2618,2,  34.2658,2,    230.4,3,  2.9673,    220.9,2,    38.03,2,    32.53,2,     2.11,2,    2.016,2,    0.892,2,    0.127,2,    2.142,2, -999.000,9,-999.0000,9,  -999.00,9,-999.000,9,   -999.0,9,   -999.0,9,-999.0,  -999.0,-999.0000,-999.000,-999.000,-999.000,-999.000
      74JC10_1,   A23,    82,  1,   8216,     16,2,19950424,0438,-47.5372, -35.9972, 5769,   1005,    993.0,   2.7156,  34.3948,2,  34.3968,2,    200.1,3,  2.6506,    191.8,2,    54.91,2,    34.70,2,     2.20,2,    0.921,2,    0.453,2,    0.054,2,    1.103,2, -999.000,9,-999.0000,9,  -999.00,9,-999.000,9,   -999.0,9,   -999.0,9,-999.0,  -999.0,-999.0000,-999.000,-999.000,-999.000,-999.000
      74JC10_1,   A23,    82,  1,   8215,     15,2,19950424,0438,-47.5372, -35.9972, 5769,   1254,   1241.2,   2.6447,  34.5231,2,  34.5247,2,    182.8,3,  2.5615,    177.6,2,    64.52,2,    34.66,2,     2.25,2,    0.366,2,    0.184,2,    0.012,2,    0.648,2, -999.000,9,-999.0000,9,  -999.00,9,-999.000,9,   -999.0,9,   -999.0,9,-999.0,  -999.0,-999.0000,-999.000,-999.000,-999.000,-999.000
      74JC10_1,   A23,    82,  1,   8214,     14,2,19950424,0438,-47.5372, -35.9972, 5769,   1507,   1493.8,   2.6976,  34.6366,2,  34.6392,2,    180.0,3,  2.5936,    178.2,2,    66.67,2,    32.87,2,  -999.00,5,    0.142,2,    0.081,2,    0.007,2,    0.324,2, -999.000,9,-999.0000,9,  -999.00,9,-999.000,9,   -999.0,9,   -999.0,9,-999.0,  -999.0,-999.0000,-999.000,-999.000,-999.000,-999.000
      74JC10_1,   A23,    82,  1,   8213,     13,2,19950424,0438,-47.5372, -35.9972, 5769,   1753,   1739.7,   2.6769,  34.7170,2,  34.7148,2,    188.0,3,  2.5525,    184.6,2,    67.95,2,    30.98,2,     2.10,2,    0.067,2,    0.040,2,    0.000,2,    0.200,2, -999.000,9,-999.0000,9,  -999.00,9,-999.000,9,   -999.0,9,   -999.0,9,-999.0,  -999.0,-999.0000,-999.000,-999.000,-999.000,-999.000
      74JC10_1,   A23,    82,  1,   8212,     12,2,19950424,0438,-47.5372, -35.9972, 5769,   2007,   1993.8,   2.4990,  34.7481,2,  34.7465,2,    201.0,3,  2.3552,    188.7,2,    73.38,2,    30.19,2,     2.03,2,    0.040,2,    0.029,2,    0.000,2,    0.148,2, -999.000,9,-999.0000,9,  -999.00,9,-999.000,9,   -999.0,9,   -999.0,9,-999.0,  -999.0,-999.0000,-999.000,-999.000,-999.000,-999.000
      74JC10_1,   A23,    82,  1,   8211,     24,2,19950424,0438,-47.5372, -35.9972, 5769,   2359,   2346.0,   2.3063,  34.7854,2,  34.7866,2,    204.3,3,  2.1340,    200.8,2,    73.56,2,    29.15,2,     1.86,2,    0.026,3,    0.026,2,    0.000,2,    0.113,2, -999.000,9,-999.0000,9,  -999.00,9,-999.000,9,   -999.0,9,   -999.0,9,-999.0,  -999.0,-999.0000,-999.000,-999.000,-999.000,-999.000
      74JC10_1,   A23,    82,  1,   8210,     10,2,19950424,0438,-47.5372, -35.9972, 5769,   2712,   2700.6,   1.9480,  34.7726,2,  34.7706,2,    203.2,3,  1.7496,    200.9,2,    84.46,2,    29.48,2,     1.92,2,    0.019,3,    0.022,2,    0.000,2,    0.093,2, -999.000,9,-999.0000,9,  -999.00,9,-999.000,9,   -999.0,9,   -999.0,9,-999.0,  -999.0,-999.0000,-999.000,-999.000,-999.000,-999.000
      74JC10_1,   A23,    82,  1,   8209,      9,2,19950424,0438,-47.5372, -35.9972, 5769,   3012,   3001.4,   1.5367,  34.7398,2,  34.7408,2,    202.9,3,  1.3187,    197.5,2,   100.04,2,    31.49,2,     2.05,2,    0.038,2,    0.026,2,    0.000,2,    0.115,2, -999.000,9,-999.0000,9,  -999.00,9,-999.000,9,   -999.0,9,   -999.0,9,-999.0,  -999.0,-999.0000,-999.000,-999.000,-999.000,-999.000
      74JC10_1,   A23,    82,  1,   8208,      8,2,19950424,0438,-47.5372, -35.9972, 5769,   3367,   3357.2,   1.2303,  34.7228,2,  34.7229,2,    205.1,3,  0.9850,    200.1,2,   108.63,2,    32.12,2,     2.10,2,    0.053,2,    0.038,2,    0.000,2,    0.138,2, -999.000,9,-999.0000,9,  -999.00,9,-999.000,9,   -999.0,9,   -999.0,9,-999.0,  -999.0,-999.0000,-999.000,-999.000,-999.000,-999.000
      74JC10_1,   A23,    82,  1,   8207,     26,2,19950424,0438,-47.5372, -35.9972, 5769,   3721,   3711.2,   0.8927,  34.7039,2,  34.7044,2,    210.4,3,  0.6207,    204.9,2,   115.37,2,    32.65,2,     2.15,2,    0.113,2,    0.063,2,    0.005,2,    0.223,2, -999.000,9,-999.0000,9,  -999.00,9,-999.000,9,   -999.0,9,   -999.0,9,-999.0,  -999.0,-999.0000,-999.000,   0.887,-999.000,-999.000
      74JC10_1,   A23,    82,  1,   8206,      6,2,19950424,0438,-47.5372, -35.9972, 5769,   4019,   4010.2,   0.6497,  34.6911,2,  34.6914,2,    214.8,3,  0.3538,    209.2,2,   118.49,2,    32.93,2,     2.17,2,    0.141,2,    0.102,3,    0.000,2,    0.193,2, -999.000,9,-999.0000,9,  -999.00,9,-999.000,9,   -999.0,9,   -999.0,9,-999.0,  -999.0,-999.0000,-999.000,-999.000,-999.000,-999.000
      74JC10_1,   A23,    82,  1,   8205,      5,2,19950424,0438,-47.5372, -35.9972, 5769,   4529,   4520.8,   0.3610,  34.6771,2,  34.6757,2,    221.6,3,  0.0195,    216.0,2,   122.89,2,    33.36,2,     2.19,2,    0.122,2,    0.073,2,    0.000,2,    0.278,2, -999.000,9,-999.0000,9,  -999.00,9,-999.000,9,   -999.0,9,   -999.0,9,-999.0,  -999.0,-999.0000,-999.000,-999.000,-999.000,-999.000
      74JC10_1,   A23,    82,  1,   8204,      4,2,19950424,0438,-47.5372, -35.9972, 5769,   5033,   5025.8,   0.2653,  34.6706,2,  34.6706,2,    226.2,3, -0.1297,    218.4,2,   124.35,2,    33.32,2,     2.20,2,    0.137,2,    0.091,2,    0.002,2,    0.337,2, -999.000,9,-999.0000,9,  -999.00,9,-999.000,9,   -999.0,9,   -999.0,9,-999.0,  5036.0,-999.0000,-999.000,   0.258,-999.000,-999.000
      74JC10_1,   A23,    82,  1,   8203,      3,2,19950424,0438,-47.5372, -35.9972, 5769,   5428,   5422.6,   0.2342,  34.6673,2,  34.6675,2,    228.8,3, -0.2063,    220.7,2,   124.84,2,    33.30,2,     2.35,3,    0.190,2,    0.116,2,    0.007,2,    0.384,2, -999.000,9,-999.0000,9,  -999.00,9,-999.000,9,   -999.0,9,   -999.0,9,-999.0,  -999.0,-999.0000,-999.000,-999.000,-999.000,-999.000
      74JC10_1,   A23,    82,  1,   8202,      2,2,19950424,0438,-47.5372, -35.9972, 5769,   5816,   5811.0,   0.1889,  34.6624,2,  34.6629,2,    234.0,3, -0.2974,    224.8,2,   127.48,2,    33.14,2,     2.19,2,    0.292,2,    0.165,2,    0.000,2,    0.495,2, -999.000,9,-999.0000,9,  -999.00,9,-999.000,9,   -999.0,9,   -999.0,9,-999.0,  -999.0,-999.0000,-999.000,-999.000,-999.000,-999.000
      74JC10_1,   A23,    82,  1,   8201,      1,2,19950424,0438,-47.5372, -35.9972, 5769,   5817,   5811.8,   0.1879,  34.6629,2,  34.6631,2,    234.0,3, -0.2985,    225.9,2,   124.35,2,    33.48,2,     2.18,2,    0.300,2,    0.174,2,    0.000,2,    0.500,2, -999.000,9,-999.0000,9,  -999.00,9,-999.000,9,   -999.0,9,   -999.0,9,-999.0,  5817.0,-999.0000,-999.000,   0.184,-999.000,-999.000