BOTTLE,20220810CCHSIOAMB
EXPOCODE,SECT_ID,STNNBR,CASTNO,SAMPNO,BTLNBR,BTLNBR_FLAG_W,DATE,TIME,LATITUDE,LONGITUDE,DEPTH,CTDRAW,CTDPRS,CTDTMP,CTDSAL,CTDSAL_FLAG_W,SALNTY,SALNTY_FLAG_W,CTDOXY,CTDOXY_FLAG_W,THETA,OXYGEN,OXYGEN_FLAG_W,SILCAT,SILCAT_FLAG_W,NO2+NO3,NO2+NO3_FLAG_W,PHSPHT,PHSPHT_FLAG_W,CFC-11,CFC-11_FLAG_W,CFC-12,CFC-12_FLAG_W,CFC113,CFC113_FLAG_W,CCL4,CCL4_FLAG_W,TRITUM,TRITUM_FLAG_W,HELIUM,HELIUM_FLAG_W,DELHE3,DELHE3_FLAG_W,NEON,NEON_FLAG_W,TCARBN,TCARBN_FLAG_W,PCO2,PCO2_FLAG_W,PCO2TMP,REVPRS,HELIER,TRITER,REVTMP,NEONER,DELHER
,,,,,,,,,,,,,DBAR,ITS-90,PSS-78,,PSS-78,,UMOL/KG,,DEG C,UMOL/KG,,UMOL/KG,,UMOL/KG,,UMOL/KG,,PMOL/KG,,PMOL/KG,,PMOL/KG,,PMOL/KG,,TU,,NMOL/KG,,PERCNT,,NMOL/KG,,UMOL/KG,,UATM,,DEG C,DBAR,NMOL/KG,TU,ITS-90,NMOL/KG,PERCNT
      74JC10_1,   A23,   111,  1,  11111,     24,2,19950502,0449,-30.6915, -36.2552,  982,      9,      2.3,  22.0307,  35.6710,2,  35.6632,2,    219.6,3, 22.0302,    214.3,2,     1.23,2,    -0.05,2,     0.02,2, -999.000,9, -999.000,9, -999.000,9, -999.000,9, -999.000,9,-999.0000,9,  -999.00,9,-999.000,9,   -999.0,9,   -999.0,9,-999.0,  -999.0,-999.0000,-999.000,-999.000,-999.000,-999.000
      74JC10_1,   A23,   111,  1,  11110,     10,2,19950502,0449,-30.6915, -36.2552,  982,     63,     56.1,  21.4355,  35.7312,2,  35.7130,2,    231.6,3, 21.4246,    222.6,2,     2.24,2,    -0.05,2,     0.04,2, -999.000,9, -999.000,9, -999.000,9, -999.000,9, -999.000,9,-999.0000,9,  -999.00,9,-999.000,9,   -999.0,9,   -999.0,9,-999.0,  -999.0,-999.0000,-999.000,-999.000,-999.000,-999.000
      74JC10_1,   A23,   111,  1,  11109,      9,2,19950502,0449,-30.6915, -36.2552,  982,    113,    106.1,  17.4303,  35.6782,2,  35.7081,2,    232.1,3, 17.2577,    227.4,2,     2.40,2,     0.02,2,     0.13,2, -999.000,9, -999.000,9, -999.000,9, -999.000,9, -999.000,9,-999.0000,9,  -999.00,9,-999.000,9,   -999.0,9,   -999.0,9,-999.0,  -999.0,-999.0000,-999.000,-999.000,-999.000,-999.000
      74JC10_1,   A23,   111,  1,  11108,      8,2,19950502,0449,-30.6915, -36.2552,  982,    162,    155.2,  16.0196,  35.5919,2,  35.5890,2,    220.9,3, 15.9950,    213.8,2,     1.12,2,     1.90,2,     0.29,2, -999.000,9, -999.000,9, -999.000,9, -999.000,9, -999.000,9,-999.0000,9,  -999.00,9,-999.000,9,   -999.0,9,   -999.0,9,-999.0,  -999.0,-999.0000,-999.000,-999.000,-999.000,-999.000
      74JC10_1,   A23,   111,  1,  11107,     26,2,19950502,0449,-30.6915, -36.2552,  982,    215,    207.8,  15.1040,  35.4949,2,  35.4896,2,    217.8,3, 15.0723,    210.7,2,     1.28,2,     3.98,2,     0.42,2, -999.000,9, -999.000,9, -999.000,9, -999.000,9, -999.000,9,-999.0000,9,  -999.00,9,-999.000,9,   -999.0,9,   -999.0,9,-999.0,  -999.0,-999.0000,-999.000,  15.106,-999.000,-999.000
      74JC10_1,   A23,   111,  1,  11106,      6,2,19950502,0449,-30.6915, -36.2552,  982,    265,    257.9,  14.4785,  35.4380,2,  35.4277,2,    215.1,3, 14.4402,    209.7,2,     2.78,2,     5.65,2,     0.52,2, -999.000,9, -999.000,9, -999.000,9, -999.000,9, -999.000,9,-999.0000,9,  -999.00,9,-999.000,9,   -999.0,9,   -999.0,9,-999.0,  -999.0,-999.0000,-999.000,-999.000,-999.000,-999.000
      74JC10_1,   A23,   111,  1,  11105,      5,2,19950502,0449,-30.6915, -36.2552,  982,    365,    357.7,  13.1655,  35.2915,2,  35.2913,2,    214.1,3, 13.1154,    211.3,2,     2.35,2,     8.53,2,     0.69,2, -999.000,9, -999.000,9, -999.000,9, -999.000,9, -999.000,9,-999.0000,9,  -999.00,9,-999.000,9,   -999.0,9,   -999.0,9,-999.0,  -999.0,-999.0000,-999.000,-999.000,-999.000,-999.000
      74JC10_1,   A23,   111,  1,  11104,      4,2,19950502,0449,-30.6915, -36.2552,  982,    514,    507.4,  10.0687,  34.8280,2,  34.8281,2,    213.8,3, 10.0087,    204.2,2,     5.61,2,    16.68,2,     1.19,2, -999.000,9, -999.000,9, -999.000,9, -999.000,9, -999.000,9,-999.0000,9,  -999.00,9,-999.000,9,   -999.0,9,   -999.0,9,-999.0,   504.0,-999.0000,-999.000,  10.096,-999.000,-999.000
      74JC10_1,   A23,   111,  1,  11103,      3,2,19950502,0449,-30.6915, -36.2552,  982,    766,    759.3,   4.9998,  34.3298,2,  34.3309,2,    229.3,3,  4.9381,    222.7,2,    18.98,2,    26.96,2,     1.84,2, -999.000,9, -999.000,9, -999.000,9, -999.000,9, -999.000,9,-999.0000,9,  -999.00,9,-999.000,9,   -999.0,9,   -999.0,9,-999.0,  -999.0,-999.0000,-999.000,-999.000,-999.000,-999.000
      74JC10_1,   A23,   111,  1,  11101,      1,2,19950502,0449,-30.6915, -36.2552,  982,    991,    982.8,   3.6792,  34.3464,2,  34.3450,2,    216.7,3,  3.6077,    210.3,2,    33.36,2,    29.38,2,     2.03,2, -999.000,9, -999.000,9, -999.000,9, -999.000,9, -999.000,9,-999.0000,9,  -999.00,9,-999.000,9,   -999.0,9,   -999.0,9,-999.0,   973.0,-999.0000,-999.000,   3.677,-999.000,-999.000
      74JC10_1,   A23,   111,  1,  11102,      2,2,19950502,0449,-30.6915, -36.2552,  982,    992,    984.5,   3.6743,  34.3463,2,  34.3466,2,    216.6,3,  3.6027,    210.2,2,    33.62,2,    29.91,2,     2.03,2, -999.000,9, -999.000,9, -999.000,9, -999.000,9, -999.000,9,-999.0000,9,  -999.00,9,-999.000,9,   -999.0,9,   -999.0,9,-999.0,  -999.0,-999.0000,-999.000,-999.000,-999.000,-999.000
      74JC10_1,   A23,   112,  1,  11213,     13,2,19950502,0824,-30.3222, -36.5745, 1501,     14,      6.9,  22.0458,  35.6571,2,  35.6571,2,    208.9,3, 22.0445,    214.2,2,     6.30,2,    -0.01,2,     0.01,2,    2.172,2,    1.157,2,    0.233,2,    2.178,2, -999.000,9,-999.0000,9,  -999.00,9,-999.000,9,   -999.0,9,   -999.0,9,-999.0,  -999.0,-999.0000,-999.000,-999.000,-999.000,-999.000
      74JC10_1,   A23,   112,  1,  11212,     12,2,19950502,0824,-30.3222, -36.5745, 1501,     62,     54.9,  22.0563,  35.6568,2,  35.6573,2,    220.1,3, 22.0454,    212.7,2,     6.99,2,    -0.01,2,     0.02,2,    2.303,2,    1.173,2,    0.249,2,    2.191,2, -999.000,9,-999.0000,9,  -999.00,9,-999.000,9,   -999.0,9,   -999.0,9,-999.0,  -999.0,-999.0000,-999.000,-999.000,-999.000,-999.000
      74JC10_1,   A23,   112,  1,  11211,     24,2,19950502,0824,-30.3222, -36.5745, 1501,    111,    104.6,  18.0045,  35.7931,2,  35.7898,2,    235.1,3, 17.9865,    226.5,2,     6.89,2,     0.07,2,     0.12,2,    2.612,2,    1.433,3,    0.231,2,    1.636,2, -999.000,9,-999.0000,9,  -999.00,9,-999.000,9,   -999.0,9,   -999.0,9,-999.0,  -999.0,-999.0000,-999.000,-999.000,-999.000,-999.000
      74JC10_1,   A23,   112,  1,  11210,     10,2,19950502,0824,-30.3222, -36.5745, 1501,    161,    154.4,  15.9173,  35.5800,2,  35.5786,2,    218.0,3, 15.8928,    212.9,2,     8.50,2,     2.54,2,     0.30,2,    2.750,2,    1.395,2,    0.123,2,    1.032,2, -999.000,9,-999.0000,9,  -999.00,9,-999.000,9,   -999.0,9,   -999.0,9,-999.0,  -999.0,-999.0000,-999.000,-999.000,-999.000,-999.000
      74JC10_1,   A23,   112,  1,  11209,      9,2,19950502,0824,-30.3222, -36.5745, 1501,    213,    206.1,  14.9552,  35.4885,2,  35.4874,2,    215.2,3, 14.9239,    211.4,2,     6.57,2,     4.81,2,     0.44,2,    2.803,2,    1.344,2,    0.083,2,    0.887,2, -999.000,9,-999.0000,9,  -999.00,9,-999.000,9,   -999.0,9,   -999.0,9,-999.0,  -999.0,-999.0000,-999.000,-999.000,-999.000,-999.000
      74JC10_1,   A23,   112,  1,  11208,      8,2,19950502,0824,-30.3222, -36.5745, 1501,    265,    257.4,  14.3884,  35.4710,2,  35.4715,2,    216.2,3, 14.3503,    210.9,2,     8.50,2,     6.38,2,     0.53,2,    2.728,2,    1.329,2,    0.090,2,    0.837,2, -999.000,9,-999.0000,9,  -999.00,9,-999.000,9,   -999.0,9,   -999.0,9,-999.0,  -999.0,-999.0000,-999.000,-999.000,-999.000,-999.000
      74JC10_1,   A23,   112,  1,  11207,     26,2,19950502,0824,-30.3222, -36.5745, 1501,    365,    357.5,  12.7751,  35.2332,2,  35.2255,2,    216.6,3, 12.7262,    209.2,2,     7.00,2,    10.29,2,     0.76,2,    2.652,2,    1.349,2,    0.060,2,    0.858,2, -999.000,9,-999.0000,9,  -999.00,9,-999.000,9,   -999.0,9,   -999.0,9,-999.0,  -999.0,-999.0000,-999.000,  12.785,-999.000,-999.000
      74JC10_1,   A23,   112,  1,  11206,      6,2,19950502,0824,-30.3222, -36.5745, 1501,    517,    509.4,   9.7221,  34.7922,2,  34.7899,2,    211.3,3,  9.6633,    204.7,2,    10.15,2,    17.85,2,     1.22,2,    2.272,2,    1.059,2,    0.069,2,    1.218,2, -999.000,9,-999.0000,9,  -999.00,9,-999.000,9,   -999.0,9,   -999.0,9,-999.0,  -999.0,-999.0000,-999.000,-999.000,-999.000,-999.000
      74JC10_1,   A23,   112,  1,  11205,      5,2,19950502,0824,-30.3222, -36.5745, 1501,    771,    763.0,   5.3601,  34.3422,2,  34.3409,2,    229.0,3,  5.2960,    223.7,2,    18.87,2,    26.52,2,     1.80,2,    1.945,2,    0.867,2,    0.080,2,    2.312,2, -999.000,9,-999.0000,9,  -999.00,9,-999.000,9,   -999.0,9,   -999.0,9,-999.0,  -999.0,-999.0000,-999.000,-999.000,-999.000,-999.000
      74JC10_1,   A23,   112,  1,  11204,      4,2,19950502,0824,-30.3222, -36.5745, 1501,   1023,   1014.1,   3.5115,  34.3406,2,  34.3435,2,    217.7,3,  3.4388,    209.6,2,    38.86,2,    30.38,2,     2.09,2,    0.849,2,    0.354,3,    0.017,2,    1.575,2, -999.000,9,-999.0000,9,  -999.00,9,-999.000,9,   -999.0,9,   -999.0,9,-999.0,  1013.0,-999.0000,-999.000,   3.505,-999.000,-999.000
      74JC10_1,   A23,   112,  1,  11203,      3,2,19950502,0824,-30.3222, -36.5745, 1501,   1279,   1271.0,   2.9945,  34.4877,2,  34.4842,2,    198.2,3,  2.9056,    190.7,2,    52.75,2,    31.26,2,     2.16,2,    0.219,2,    0.103,2,    0.000,2,    0.687,2, -999.000,9,-999.0000,9,  -999.00,9,-999.000,9,   -999.0,9,   -999.0,9,-999.0,  -999.0,-999.0000,-999.000,-999.000,-999.000,-999.000
      74JC10_1,   A23,   112,  1,  11202,      2,2,19950502,0824,-30.3222, -36.5745, 1501,   1498,   1489.9,   2.8986,  34.5874,2,  34.5879,2,    194.5,3,  2.7927,    189.8,2,    54.89,2,    30.36,2,     2.09,2,    0.109,2,    0.062,2,    0.000,2,    0.400,2, -999.000,9,-999.0000,9,  -999.00,9,-999.000,9,   -999.0,9,   -999.0,9,-999.0,  -999.0,-999.0000,-999.000,-999.000,-999.000,-999.000
      74JC10_1,   A23,   112,  1,  11201,      1,2,19950502,0824,-30.3222, -36.5745, 1501,   1499,   1490.7,   2.8989,  34.5880,2,  34.5883,2,    194.6,3,  2.7930,    190.6,2,    56.65,2,    30.24,2,     2.07,2,    0.076,2,    0.038,2,    0.000,2,    0.378,2, -999.000,9,-999.0000,9,  -999.00,9,-999.000,9,   -999.0,9,   -999.0,9,-999.0,  1474.0,-999.0000,-999.000,   2.895,-999.000,-999.000
      74JC10_1,   A23,   113,  1,  11315,     15,2,19950502,1214,-30.0045, -36.8797, 2054,     11,      4.1,  22.0203,  35.6660,2,  35.6664,2,    217.7,3, 22.0195,    213.7,2,     3.26,2,    -0.09,2,     0.52,4,    2.389,2,    1.193,2,    0.237,2,    2.223,2, -999.000,9,-999.0000,9,  -999.00,9,-999.000,9,   -999.0,9,   -999.0,9,-999.0,  -999.0,-999.0000,-999.000,-999.000,-999.000,-999.000
      74JC10_1,   A23,   113,  1,  11314,     14,2,19950502,1214,-30.0045, -36.8797, 2054,     60,     52.5,  21.8753,  35.6752,2,  35.6753,2,    217.9,3, 21.8649,    210.6,2,     4.43,2,     0.71,2,     0.06,2,    2.477,2,    1.247,2,    0.253,2,    2.244,2, -999.000,9,-999.0000,9,  -999.00,9,-999.000,9,   -999.0,9,   -999.0,9,-999.0,  -999.0,-999.0000,-999.000,-999.000,-999.000,-999.000
      74JC10_1,   A23,   113,  1,  11313,     13,2,19950502,1214,-30.0045, -36.8797, 2054,    110,    102.9,  17.7765,  35.7349,2,  35.7505,2,    233.7,3, 17.7589,    227.6,2,     9.88,4,    -0.01,3,     0.18,3, -999.000,9, -999.000,9, -999.000,9, -999.000,9, -999.000,9,-999.0000,9,  -999.00,9,-999.000,9,   -999.0,9,   -999.0,9,-999.0,  -999.0,-999.0000,-999.000,-999.000,-999.000,-999.000
      74JC10_1,   A23,   113,  1,  11312,     12,2,19950502,1214,-30.0045, -36.8797, 2054,    162,    154.2,  16.6571,  35.7286,2,  35.7280,2,    220.8,3, 16.6319,    210.9,2,     6.36,2,     2.09,2,     0.58,2,    2.878,2,    1.378,2,    0.151,2,    1.038,2, -999.000,9,-999.0000,9,  -999.00,9,-999.000,9,   -999.0,9,   -999.0,9,-999.0,  -999.0,-999.0000,-999.000,-999.000,-999.000,-999.000
      74JC10_1,   A23,   113,  1,  11311,     24,2,19950502,1214,-30.0045, -36.8797, 2054,    211,    203.5,  15.5077,  35.5887,2,  35.5877,2,    215.0,3, 15.4761,    209.2,2,     7.16,4,     4.04,2,     0.66,2,    2.938,2,    1.391,2,    0.110,2,    0.876,2, -999.000,9,-999.0000,9,  -999.00,9,-999.000,9,   -999.0,9,   -999.0,9,-999.0,  -999.0,-999.0000,-999.000,-999.000,-999.000,-999.000
      74JC10_1,   A23,   113,  1,  11310,     10,2,19950502,1214,-30.0045, -36.8797, 2054,    263,    255.1,  14.8994,  35.5469,2,  35.5344,2,    213.5,3, 14.8607,    208.5,2,     6.36,2,     5.77,2,     0.52,2,    2.933,2,    1.404,2,    0.096,2,    0.742,2, -999.000,9,-999.0000,9,  -999.00,9,-999.000,9,   -999.0,9,   -999.0,9,-999.0,  -999.0,-999.0000,-999.000,-999.000,-999.000,-999.000
      74JC10_1,   A23,   113,  1,  11309,      9,2,19950502,1214,-30.0045, -36.8797, 2054,    366,    357.2,  13.0735,  35.2885,2,  35.2885,2,    215.1,3, 13.0238,    209.1,2,     5.82,2,     9.66,2,     0.77,2,    2.801,2,    1.374,2,    0.075,2,    0.813,2, -999.000,9,-999.0000,9,  -999.00,9,-999.000,9,   -999.0,9,   -999.0,9,-999.0,  -999.0,-999.0000,-999.000,-999.000,-999.000,-999.000
      74JC10_1,   A23,   113,  1,  11308,      8,2,19950502,1214,-30.0045, -36.8797, 2054,    518,    509.6,   9.9257,  34.8175,2,  34.8163,2,    210.7,3,  9.8660,    204.1,2,    10.79,2,    17.61,2,     1.21,2,    2.397,2,    1.002,3,    0.053,2,    1.208,2, -999.000,9,-999.0000,9,  -999.00,9,-999.000,9,   -999.0,9,   -999.0,9,-999.0,  -999.0,-999.0000,-999.000,-999.000,-999.000,-999.000
      74JC10_1,   A23,   113,  1,  11307,     26,2,19950502,1214,-30.0045, -36.8797, 2054,    774,    764.8,   5.4013,  34.3548,2,  34.3539,2,    225.6,3,  5.3367,    221.3,2,    19.30,2,    26.67,2,     2.00,2,    2.031,2,    0.843,3,    0.061,2,    2.105,2, -999.000,9,-999.0000,9,  -999.00,9,-999.000,9,   -999.0,9,   -999.0,9,-999.0,  -999.0,-999.0000,-999.000,   5.393,-999.000,-999.000
      74JC10_1,   A23,   113,  1,  11306,      6,2,19950502,1214,-30.0045, -36.8797, 2054,   1029,   1019.1,   3.6682,  34.3253,2,  34.3268,2,    220.7,3,  3.5938,    212.1,2,    36.46,2,    30.36,2,     2.24,2,    1.022,2,    0.421,3,    0.020,2,    1.625,2, -999.000,9,-999.0000,9,  -999.00,9,-999.000,9,   -999.0,9,   -999.0,9,-999.0,  -999.0,-999.0000,-999.000,-999.000,-999.000,-999.000
      74JC10_1,   A23,   113,  1,  11305,      5,2,19950502,1214,-30.0045, -36.8797, 2054,   1281,   1271.2,   3.0513,  34.4697,2,  34.4710,2,    200.3,3,  2.9618,    193.2,2,    52.06,2,    31.36,2,     2.16,2,    0.280,2,    0.136,2,    0.006,2,    0.752,2, -999.000,9,-999.0000,9,  -999.00,9,-999.000,9,   -999.0,9,   -999.0,9,-999.0,  -999.0,-999.0000,-999.000,-999.000,-999.000,-999.000
      74JC10_1,   A23,   113,  1,  11304,      4,2,19950502,1214,-30.0045, -36.8797, 2054,   1540,   1530.4,   2.8469,  34.6344,2,  34.6348,2,    194.0,3,  2.7382,    189.9,2,    55.85,2,    30.03,2,     2.07,2, -999.000,9, -999.000,9, -999.000,9, -999.000,9, -999.000,9,-999.0000,9,  -999.00,9,-999.000,9,   -999.0,9,   -999.0,9,-999.0,  1531.0,-999.0000,-999.000,   2.842,-999.000,-999.000
      74JC10_1,   A23,   113,  1,  11303,      3,2,19950502,1214,-30.0045, -36.8797, 2054,   1795,   1785.9,   2.8115,  34.7558,2,  34.7557,2,    211.2,3,  2.6813,    204.5,2,    52.37,2,    27.14,2,     1.83,2,   -0.021,2,   -0.004,2,    0.000,2,    0.084,2, -999.000,9,-999.0000,9,  -999.00,9,-999.000,9,   -999.0,9,   -999.0,9,-999.0,  -999.0,-999.0000,-999.000,-999.000,-999.000,-999.000
      74JC10_1,   A23,   113,  1,  11301,      1,2,19950502,1214,-30.0045, -36.8797, 2054,   2069,   2060.8,   2.7955,  34.8295,2,  34.8292,2,    226.9,3,  2.6409,    222.8,2,    47.39,2,    24.43,2,     1.65,2,   -0.007,2,   -0.004,2,    0.000,2,    0.045,2, -999.000,9,-999.0000,9,  -999.00,9,-999.000,9,   -999.0,9,   -999.0,9,-999.0,  2041.0,-999.0000,-999.000,   2.793,-999.000,-999.000
      74JC10_1,   A23,   113,  1,  11302,      2,2,19950502,1214,-30.0045, -36.8797, 2054,   2071,   2062.0,   2.7956,  34.8293,2,  34.8290,2,    226.9,3,  2.6409,    220.1,2,    47.02,2,    24.65,2,     1.64,2,   -0.021,2,   -0.004,2,    0.000,2,    0.050,2, -999.000,9,-999.0000,9,  -999.00,9,-999.000,9,   -999.0,9,   -999.0,9,-999.0,  -999.0,-999.0000,-999.000,-999.000,-999.000,-999.000