BOTTLE,20220810CCHSIOAMB
EXPOCODE,SECT_ID,STNNBR,CASTNO,SAMPNO,BTLNBR,BTLNBR_FLAG_W,DATE,TIME,LATITUDE,LONGITUDE,DEPTH,CTDRAW,CTDPRS,CTDTMP,CTDSAL,CTDSAL_FLAG_W,SALNTY,SALNTY_FLAG_W,CTDOXY,CTDOXY_FLAG_W,THETA,OXYGEN,OXYGEN_FLAG_W,SILCAT,SILCAT_FLAG_W,NO2+NO3,NO2+NO3_FLAG_W,PHSPHT,PHSPHT_FLAG_W,CFC-11,CFC-11_FLAG_W,CFC-12,CFC-12_FLAG_W,CFC113,CFC113_FLAG_W,CCL4,CCL4_FLAG_W,TRITUM,TRITUM_FLAG_W,HELIUM,HELIUM_FLAG_W,DELHE3,DELHE3_FLAG_W,NEON,NEON_FLAG_W,TCARBN,TCARBN_FLAG_W,PCO2,PCO2_FLAG_W,PCO2TMP,REVPRS,HELIER,TRITER,REVTMP,NEONER,DELHER
,,,,,,,,,,,,,DBAR,ITS-90,PSS-78,,PSS-78,,UMOL/KG,,DEG C,UMOL/KG,,UMOL/KG,,UMOL/KG,,UMOL/KG,,PMOL/KG,,PMOL/KG,,PMOL/KG,,PMOL/KG,,TU,,NMOL/KG,,PERCNT,,NMOL/KG,,UMOL/KG,,UATM,,DEG C,DBAR,NMOL/KG,TU,ITS-90,NMOL/KG,PERCNT
      74JC10_1,   A23,    67,  1,   6722,     25,2,19950415,1035,-49.8348, -35.5842, 4603,     12,      8.5,   6.1442,  33.8160,2,  33.8167,2,    303.9,3,  6.1435,    295.7,2,     4.26,2,    18.09,2,     1.19,2, -999.000,9, -999.000,9, -999.000,9, -999.000,9, -999.000,9,-999.0000,9,  -999.00,9,-999.000,9,   -999.0,9,   -999.0,9,-999.0,  -999.0,-999.0000,-999.000,-999.000,-999.000,-999.000
      74JC10_1,   A23,    67,  1,   6721,     21,2,19950415,1035,-49.8348, -35.5842, 4603,     12,      8.8,   6.1443,  33.8157,2,  33.8151,2,    303.9,3,  6.1436,    295.6,2,     4.21,2,    18.09,2,     1.20,2, -999.000,9, -999.000,9, -999.000,9, -999.000,9, -999.000,9,-999.0000,9,  -999.00,9,-999.000,9,   -999.0,9,   -999.0,9,-999.0,  -999.0,-999.0000,-999.000,-999.000,-999.000,-999.000
      74JC10_1,   A23,    67,  1,   6720,     27,2,19950415,1035,-49.8348, -35.5842, 4603,     57,     54.0,   5.8860,  33.8176,2,  33.8169,2,    306.0,3,  5.8815,    296.5,2,     5.18,2,    18.43,2,     1.25,2, -999.000,9, -999.000,9, -999.000,9, -999.000,9, -999.000,9,-999.0000,9,  -999.00,9,-999.000,9,   -999.0,9,   -999.0,9,-999.0,  -999.0,-999.0000,-999.000,-999.000,-999.000,-999.000
      74JC10_1,   A23,    67,  1,   6719,     19,2,19950415,1035,-49.8348, -35.5842, 4603,    107,    103.6,   1.9541,  33.8780,2,  33.8903,2,    318.1,3,  1.9488,    311.7,3,    16.26,2,    24.72,2,     1.74,2, -999.000,9, -999.000,9, -999.000,9, -999.000,9, -999.000,9,-999.0000,9,  -999.00,9,-999.000,9,   -999.0,9,   -999.0,9,-999.0,  -999.0,-999.0000,-999.000,-999.000,-999.000,-999.000
      74JC10_1,   A23,    67,  1,   6718,     18,2,19950415,1035,-49.8348, -35.5842, 4603,    158,    153.3,   1.0732,  34.0198,2,  34.0253,2,    300.9,3,  1.0664,    287.2,2,    29.29,2,    29.00,2,     1.93,2, -999.000,9, -999.000,9, -999.000,9, -999.000,9, -999.000,9,-999.0000,9,  -999.00,9,-999.000,9,   -999.0,9,   -999.0,9,-999.0,  -999.0,-999.0000,-999.000,-999.000,-999.000,-999.000
      74JC10_1,   A23,    67,  1,   6717,     17,2,19950415,1035,-49.8348, -35.5842, 4603,    208,    202.4,   1.3851,  34.1419,2,  34.1717,2,    243.4,3,  1.3755,    238.7,2,    42.00,2,    31.21,2,     2.11,2, -999.000,9, -999.000,9, -999.000,9, -999.000,9, -999.000,9,-999.0000,9,  -999.00,9,-999.000,9,   -999.0,9,   -999.0,9,-999.0,  -999.0,-999.0000,-999.000,-999.000,-999.000,-999.000
      74JC10_1,   A23,    67,  1,   6716,     16,2,19950415,1035,-49.8348, -35.5842, 4603,    257,    251.2,   2.1546,  34.2922,2,  34.3011,2,    221.9,3,  2.1408,    208.9,2,    51.99,2,    32.86,2,     2.27,2, -999.000,9, -999.000,9, -999.000,9, -999.000,9, -999.000,9,-999.0000,9,  -999.00,9,-999.000,9,   -999.0,9,   -999.0,9,-999.0,  -999.0,-999.0000,-999.000,-999.000,-999.000,-999.000
      74JC10_1,   A23,    67,  1,   6715,     15,2,19950415,1035,-49.8348, -35.5842, 4603,    358,    350.4,   2.5016,  34.4127,2,  34.4149,2,    191.9,3,  2.4811,    183.8,2,    61.01,2,    33.51,2,     2.29,2, -999.000,9, -999.000,9, -999.000,9, -999.000,9, -999.000,9,-999.0000,9,  -999.00,9,-999.000,9,   -999.0,9,   -999.0,9,-999.0,  -999.0,-999.0000,-999.000,-999.000,-999.000,-999.000
      74JC10_1,   A23,    67,  1,   6714,     14,2,19950415,1035,-49.8348, -35.5842, 4603,    509,    500.0,   2.4727,  34.5425,2,  34.5443,2,    180.1,3,  2.4429,    174.2,2,    70.95,2,    33.01,2,     2.25,2, -999.000,9, -999.000,9, -999.000,9, -999.000,9, -999.000,9,-999.0000,9,  -999.00,9,-999.000,9,   -999.0,9,   -999.0,9,-999.0,  -999.0,-999.0000,-999.000,-999.000,-999.000,-999.000
      74JC10_1,   A23,    67,  1,   6713,     13,2,19950415,1035,-49.8348, -35.5842, 4603,    762,    751.1,   2.4102,  34.6484,2,  34.6468,2,    179.9,3,  2.3640,    174.5,2,    74.38,2,    31.86,2,     2.17,2, -999.000,9, -999.000,9, -999.000,9, -999.000,9, -999.000,9,-999.0000,9,  -999.00,9,-999.000,9,   -999.0,9,   -999.0,9,-999.0,  -999.0,-999.0000,-999.000,-999.000,-999.000,-999.000
      74JC10_1,   A23,    67,  1,   6712,     12,2,19950415,1035,-49.8348, -35.5842, 4603,   1011,    999.1,   2.3757,  34.7295,2,  34.7298,2,    191.9,3,  2.3124,    186.3,2,    73.92,2,    30.02,2,     2.00,2, -999.000,9, -999.000,9, -999.000,9, -999.000,9, -999.000,9,-999.0000,9,  -999.00,9,-999.000,9,   -999.0,9,   -999.0,9,-999.0,  -999.0,-999.0000,-999.000,-999.000,-999.000,-999.000
      74JC10_1,   A23,    67,  1,   6711,     24,2,19950415,1035,-49.8348, -35.5842, 4603,   1261,   1248.9,   2.1756,  34.7598,2,  34.7598,2,    197.0,3,  2.0958,    193.0,2,    77.04,2,    29.22,2,     1.95,2, -999.000,9, -999.000,9, -999.000,9, -999.000,9, -999.000,9,-999.0000,9,  -999.00,9,-999.000,9,   -999.0,9,   -999.0,9,-999.0,  -999.0,-999.0000,-999.000,-999.000,-999.000,-999.000
      74JC10_1,   A23,    67,  1,   6710,     10,2,19950415,1035,-49.8348, -35.5842, 4603,   1512,   1499.1,   1.9767,  34.7717,2,  34.7716,2,    206.1,3,  1.8803,    198.1,2,    79.95,2,    28.82,2,     1.92,2, -999.000,9, -999.000,9, -999.000,9, -999.000,9, -999.000,9,-999.0000,9,  -999.00,9,-999.000,9,   -999.0,9,   -999.0,9,-999.0,  -999.0,-999.0000,-999.000,-999.000,-999.000,-999.000
      74JC10_1,   A23,    67,  1,   6709,      9,2,19950415,1035,-49.8348, -35.5842, 4603,   1763,   1750.3,   1.6834,  34.7545,2,  34.7553,2,    204.4,3,  1.5713,    197.5,2,    89.95,2,    29.61,2,     1.99,2, -999.000,9, -999.000,9, -999.000,9, -999.000,9, -999.000,9,-999.0000,9,  -999.00,9,-999.000,9,   -999.0,9,   -999.0,9,-999.0,  -999.0,-999.0000,-999.000,-999.000,-999.000,-999.000
      74JC10_1,   A23,    67,  1,   6708,      8,2,19950415,1035,-49.8348, -35.5842, 4603,   2013,   2000.5,   1.3199,  34.7266,2,  34.7272,2,    202.1,3,  1.1935,    196.0,2,   102.78,2,    30.67,2,     2.08,2, -999.000,9, -999.000,9, -999.000,9, -999.000,9, -999.000,9,-999.0000,9,  -999.00,9,-999.000,9,   -999.0,9,   -999.0,9,-999.0,  -999.0,-999.0000,-999.000,-999.000,-999.000,-999.000
      74JC10_1,   A23,    67,  1,   6707,     26,2,19950415,1035,-49.8348, -35.5842, 4603,   2516,   2504.4,   0.7813,  34.6988,2,  34.6983,2,    209.6,3,  0.6233,    204.9,2,   113.22,2,    31.29,2,     2.15,2, -999.000,9, -999.000,9, -999.000,9, -999.000,9, -999.000,9,-999.0000,9,  -999.00,9,-999.000,9,   -999.0,9,   -999.0,9,-999.0,  -999.0,-999.0000,-999.000,-999.000,-999.000,-999.000
      74JC10_1,   A23,    67,  1,   6706,      6,2,19950415,1035,-49.8348, -35.5842, 4603,   3016,   3005.9,   0.5200,  34.6874,2,  34.6865,2,    216.0,3,  0.3244,    209.8,2,   117.71,2,    31.71,2,     2.17,2,    0.234,2,    0.136,2,    0.005,2,    0.423,2, -999.000,9,-999.0000,9,  -999.00,9,-999.000,9,   -999.0,9,   -999.0,9,-999.0,  -999.0,-999.0000,-999.000,-999.000,-999.000,-999.000
      74JC10_1,   A23,    67,  1,   6705,      5,2,19950415,1035,-49.8348, -35.5842, 4603,   3520,   3510.9,   0.3314,  34.6792,2,  34.6785,2,    219.7,3,  0.0940,    214.8,2,   121.33,2,    31.84,2,     2.17,2,    0.230,2,    0.113,2,    0.009,2,    0.427,2, -999.000,9,-999.0000,9,  -999.00,9,-999.000,9,   -999.0,9,   -999.0,9,-999.0,  -999.0,-999.0000,-999.000,-999.000,-999.000,-999.000
      74JC10_1,   A23,    67,  1,   6704,      4,2,19950415,1035,-49.8348, -35.5842, 4603,   4024,   4015.3,   0.1590,  34.6704,2,  34.6702,2,    227.2,3, -0.1232,    219.9,2,   123.47,2,    31.87,2,     2.18,2,    0.249,2,    0.149,2,    0.009,2,    0.498,2, -999.000,9,-999.0000,9,  -999.00,9,-999.000,9,   -999.0,9,   -999.0,9,-999.0,  -999.0,-999.0000,-999.000,-999.000,-999.000,-999.000
      74JC10_1,   A23,    67,  1,   6703,      3,2,19950415,1035,-49.8348, -35.5842, 4603,   4329,   4320.6,   0.1335,  34.6694,2,  34.6682,2,    229.5,3, -0.1794,    222.1,2,   123.77,2,    31.76,2,     2.20,2,    0.269,2,    0.150,2,    0.000,2,    0.463,2, -999.000,9,-999.0000,9,  -999.00,9,-999.000,9,   -999.0,9,   -999.0,9,-999.0,  -999.0,-999.0000,-999.000,-999.000,-999.000,-999.000
      74JC10_1,   A23,    67,  1,   6702,      2,2,19950415,1035,-49.8348, -35.5842, 4603,   4667,   4659.7,   0.1000,  34.6654,2,  34.6655,2,    233.5,3, -0.2482,    225.5,2,   123.96,2,    31.85,2,     2.18,2, -999.000,9, -999.000,9, -999.000,9, -999.000,9, -999.000,9,-999.0000,9,  -999.00,9,-999.000,9,   -999.0,9,   -999.0,9,-999.0,  -999.0,-999.0000,-999.000,-999.000,-999.000,-999.000
      74JC10_1,   A23,    67,  1,   6701,      1,2,19950415,1035,-49.8348, -35.5842, 4603,   4668,   4660.5,   0.1000,  34.6663,2,  34.6651,2,    233.7,3, -0.2483,    226.4,2,   123.77,2,    31.74,2,     2.17,2,    0.292,2,    0.164,2,    0.007,2,    0.523,2, -999.000,9,-999.0000,9,  -999.00,9,-999.000,9,   -999.0,9,   -999.0,9,-999.0,  -999.0,-999.0000,-999.000,-999.000,-999.000,-999.000
      74JC10_1,   A23,    68,  1,   6822,     25,2,19950415,1530,-49.5855, -35.6237, 5053,     10,      6.7,   5.8505,  33.7059,2,  33.7071,2,    306.9,3,  5.8499,    302.6,2,     3.16,2,    16.45,2,     1.08,2,    5.059,2,    2.102,3,    0.459,2,    5.463,2, -999.000,9,-999.0000,9,  -999.00,9,-999.000,9,   -999.0,9,   -999.0,9,-999.0,  -999.0,-999.0000,-999.000,-999.000,-999.000,-999.000
      74JC10_1,   A23,    68,  1,   6823,     23,2,19950415,1530,-49.5855, -35.6237, 5053,     10,      7.4,   5.8620,  33.7097,2,  33.7065,2,    306.9,3,  5.8614,    302.1,2,     3.12,2,    16.45,2,     1.11,2,    5.060,2,    2.307,2,    0.447,2,    5.570,2, -999.000,9,-999.0000,9,  -999.00,9,-999.000,9,   -999.0,9,   -999.0,9,-999.0,  -999.0,-999.0000,-999.000,-999.000,-999.000,-999.000
      74JC10_1,   A23,    68,  1,   6821,     21,2,19950415,1530,-49.5855, -35.6237, 5053,     58,     54.5,   5.1770,  33.7059,2,  33.7073,2,    308.2,3,  5.1729,    302.2,2,     3.70,2,    17.96,2,     1.17,2,    5.162,2,    2.463,2,    0.464,2,    5.601,2, -999.000,9,-999.0000,9,  -999.00,9,-999.000,9,   2083.5,3,    311.2,2,   4.0,  -999.0,-999.0000,-999.000,-999.000,-999.000,-999.000
      74JC10_1,   A23,    68,  1,   6820,     27,2,19950415,1530,-49.5855, -35.6237, 5053,    107,    103.2,   1.2594,  33.8579,2,  33.8559,2,    322.6,3,  1.2547,    313.9,2,    18.12,2,    24.52,2,     1.77,2,    6.231,2,    2.560,3,    0.567,2,    6.784,2, -999.000,9,-999.0000,9,  -999.00,9,-999.000,9,   -999.0,9,   -999.0,9,-999.0,  -999.0,-999.0000,-999.000,   1.588,-999.000,-999.000
      74JC10_1,   A23,    68,  1,   6819,     19,2,19950415,1530,-49.5855, -35.6237, 5053,    158,    153.3,   0.4565,  33.9828,2,  33.9851,2,    304.5,3,  0.4505,    294.8,2,    30.00,2,    28.88,2,     1.95,2,    5.410,2,    2.310,2,    0.483,2,    5.779,2, -999.000,9,-999.0000,9,  -999.00,9,-999.000,9,   2153.9,3,    381.4,2,   4.0,  -999.0,-999.0000,-999.000,-999.000,-999.000,-999.000
      74JC10_1,   A23,    68,  1,   6818,     18,2,19950415,1530,-49.5855, -35.6237, 5053,    210,    204.3,   0.7790,  34.1084,2,  34.1150,2,    259.5,3,  0.7703,    264.2,2,    43.82,2,    30.74,2,     2.08,2,    4.313,2,    1.904,2,    0.363,2,    4.840,2, -999.000,9,-999.0000,9,  -999.00,9,-999.000,9,   -999.0,9,   -999.0,9,-999.0,  -999.0,-999.0000,-999.000,-999.000,-999.000,-999.000
      74JC10_1,   A23,    68,  1,   6817,     17,2,19950415,1530,-49.5855, -35.6237, 5053,    260,    253.7,   1.5422,  34.2589,2,  34.2625,2,    226.6,3,  1.5296,    222.8,2,    55.59,2,    32.79,2,     2.24,2,    2.753,2,    1.305,2,    0.204,2,    3.027,2, -999.000,9,-999.0000,9,  -999.00,9,-999.000,9,   -999.0,9,   -999.0,9,-999.0,  -999.0,-999.0000,-999.000,-999.000,-999.000,-999.000
      74JC10_1,   A23,    68,  1,   6816,     16,2,19950415,1530,-49.5855, -35.6237, 5053,    360,    352.7,   2.0524,  34.4190,2,  34.4206,2,    191.4,3,  2.0331,    188.2,2,    67.37,2,    33.75,2,     2.30,2,    1.300,2,    0.514,3,    0.082,2,    1.653,2, -999.000,9,-999.0000,9,  -999.00,9,-999.000,9,   -999.0,9,   -999.0,9,-999.0,  -999.0,-999.0000,-999.000,-999.000,-999.000,-999.000
      74JC10_1,   A23,    68,  1,   6815,     15,2,19950415,1530,-49.5855, -35.6237, 5053,    490,    481.3,   2.2752,  34.5272,2,  34.5272,2,    182.9,3,  2.2473,    173.4,2,    73.40,2,    33.48,2,     2.29,2,    0.521,2,    0.229,2,    0.020,2,    0.801,2, -999.000,9,-999.0000,9,  -999.00,9,-999.000,9,   2233.0,6,    544.0,2,   4.0,  -999.0,-999.0000,-999.000,-999.000,-999.000,-999.000
      74JC10_1,   A23,    68,  1,   6814,     14,2,19950415,1530,-49.5855, -35.6237, 5053,    754,    744.0,   2.1890,  34.6623,2,  34.6618,2,    182.3,3,  2.1446,    174.9,2,    80.69,2,    31.99,2,     2.17,2,    0.196,2,    0.074,3,    0.000,2,    0.404,2, -999.000,9,-999.0000,9,  -999.00,9,-999.000,9,   -999.0,9,   -999.0,9,-999.0,  -999.0,-999.0000,-999.000,-999.000,-999.000,-999.000
      74JC10_1,   A23,    68,  1,   6813,     13,2,19950415,1530,-49.5855, -35.6237, 5053,   1011,    998.8,   1.8993,  34.6808,2,  34.6816,2,    182.9,3,  1.8399,    175.7,2,    89.75,2,    32.14,2,     2.20,2,    0.151,2,    0.075,2,    0.000,2,    0.315,2, -999.000,9,-999.0000,9,  -999.00,9,-999.000,9,   -999.0,9,   -999.0,9,-999.0,  -999.0,-999.0000,-999.000,-999.000,-999.000,-999.000
      74JC10_1,   A23,    68,  1,   6812,     12,2,19950415,1530,-49.5855, -35.6237, 5053,   1256,   1243.6,   1.7304,  34.7077,2,  34.7083,2,    186.3,3,  1.6555,    180.3,2,    95.10,2,    31.67,2,     2.16,2,    0.087,2,    0.040,2,    0.000,2,    0.214,2, -999.000,9,-999.0000,9,  -999.00,9,-999.000,9,   -999.0,9,   -999.0,9,-999.0,  -999.0,-999.0000,-999.000,-999.000,-999.000,-999.000
      74JC10_1,   A23,    68,  1,   6811,     24,2,19950415,1530,-49.5855, -35.6237, 5053,   1509,   1496.5,   1.5187,  34.7179,2,  34.7182,2,    193.4,3,  1.4280,    187.4,2,    99.75,2,    31.39,2,     2.14,2,    0.083,2,    0.035,2,    0.000,2,    0.186,2, -999.000,9,-999.0000,9,  -999.00,9,-999.000,9,   -999.0,9,   -999.0,9,-999.0,  -999.0,-999.0000,-999.000,-999.000,-999.000,-999.000
      74JC10_1,   A23,    68,  1,   6810,     10,2,19950415,1530,-49.5855, -35.6237, 5053,   1762,   1749.0,   1.2738,  34.7110,2,  34.7121,2,    199.8,3,  1.1675,    192.4,2,   104.92,2,    31.53,2,     2.16,2,    0.142,2,    0.054,3,    0.000,2,    0.256,2, -999.000,9,-999.0000,9,  -999.00,9,-999.000,9,   -999.0,9,   -999.0,9,-999.0,  -999.0,-999.0000,-999.000,-999.000,-999.000,-999.000
      74JC10_1,   A23,    68,  1,   6809,      9,2,19950415,1530,-49.5855, -35.6237, 5053,   2011,   1998.5,   1.0675,  34.7073,2,  34.7077,2,    203.6,3,  0.9452,    198.1,2,   109.81,2,    31.55,2,     2.14,2,    0.170,2,    0.084,2,    0.000,2,    0.289,2, -999.000,9,-999.0000,9,  -999.00,9,-999.000,9,   2242.4,6,    467.5,2,   4.0,  -999.0,-999.0000,-999.000,-999.000,-999.000,-999.000
      74JC10_1,   A23,    68,  1,   6808,      8,2,19950415,1530,-49.5855, -35.6237, 5053,   2513,   2501.4,   0.7512,  34.7014,2,  34.7026,2,    212.0,3,  0.5941,    205.4,2,   115.27,2,    31.52,2,     2.15,2,    0.123,3,    0.077,2,    0.005,2,    0.275,2, -999.000,9,-999.0000,9,  -999.00,9,-999.000,9,   -999.0,9,   -999.0,9,-999.0,  -999.0,-999.0000,-999.000,-999.000,-999.000,-999.000
      74JC10_1,   A23,    68,  1,   6807,     26,2,19950415,1530,-49.5855, -35.6237, 5053,   3016,   3005.5,   0.3841,  34.6826,2,  34.6826,2,    218.6,3,  0.1916,    212.7,2,   121.42,2,    31.85,2,     2.20,2,    0.226,2,    0.124,2,    0.005,2,    0.426,2, -999.000,9,-999.0000,9,  -999.00,9,-999.000,9,   2250.6,3,    451.7,2,   4.0,  -999.0,-999.0000,-999.000,   0.377,-999.000,-999.000
      74JC10_1,   A23,    68,  1,   6806,      6,2,19950415,1530,-49.5855, -35.6237, 5053,   3522,   3512.7,   0.1884,  34.6734,2,  34.6737,2,    224.1,3, -0.0456,    218.7,2,   123.47,2,    32.31,2,     2.20,2,    0.194,2,    0.130,3,    0.009,2,    0.381,2, -999.000,9,-999.0000,9,  -999.00,9,-999.000,9,   -999.0,9,   -999.0,9,-999.0,  -999.0,-999.0000,-999.000,-999.000,-999.000,-999.000
      74JC10_1,   A23,    68,  1,   6805,      5,2,19950415,1530,-49.5855, -35.6237, 5053,   4027,   4018.4,   0.0929,  34.6694,2,  34.6682,2,    227.7,3, -0.1877,    221.8,2,   124.84,2,    31.94,2,     2.20,2,    0.249,2,    0.127,2,    0.001,2,    0.473,2, -999.000,9,-999.0000,9,  -999.00,9,-999.000,9,   -999.0,9,   -999.0,9,-999.0,  -999.0,-999.0000,-999.000,-999.000,-999.000,-999.000
      74JC10_1,   A23,    68,  1,   6804,      4,2,19950415,1530,-49.5855, -35.6237, 5053,   4535,   4527.2,   0.0028,  34.6624,2,  34.6620,2,    234.2,3, -0.3279,    227.1,2,   125.62,2,    31.82,2,     2.19,2,    0.381,2,    0.192,2,    0.005,2,    0.597,2, -999.000,9,-999.0000,9,  -999.00,9,-999.000,9,   -999.0,9,   -999.0,9,-999.0,  4533.0,-999.0000,-999.000,  -0.003,-999.000,-999.000
      74JC10_1,   A23,    68,  1,   6803,      3,2,19950415,1530,-49.5855, -35.6237, 5053,   4837,   4829.3,  -0.0347,  34.6598,2,  34.6592,2,    237.3,3, -0.3971,    229.8,2,   126.99,2,    31.75,2,     2.21,2, -999.000,9, -999.000,9, -999.000,9,    0.661,2, -999.000,9,-999.0000,9,  -999.00,9,-999.000,9,   2239.0,6,    431.6,2,   4.0,  -999.0,-999.0000,-999.000,-999.000,-999.000,-999.000
      74JC10_1,   A23,    68,  1,   6802,      2,2,19950415,1530,-49.5855, -35.6237, 5053,   5132,   5125.3,  -0.0358,  34.6581,2,  34.6580,2,    238.3,3, -0.4316,    230.1,2,   126.40,2,    31.76,2,     2.18,2,    0.487,2,    0.250,2,    0.013,2,    0.690,2, -999.000,9,-999.0000,9,  -999.00,9,-999.000,9,   -999.0,9,   -999.0,9,-999.0,  -999.0,-999.0000,-999.000,-999.000,-999.000,-999.000
      74JC10_1,   A23,    68,  1,   6801,      1,2,19950415,1530,-49.5855, -35.6237, 5053,   5133,   5126.8,  -0.0377,  34.6580,2,  34.6576,2,    238.3,3, -0.4336,    233.1,2,   126.60,2,    31.56,2,     2.18,2,    0.454,2,    0.241,2,    0.005,2,    0.693,2, -999.000,9,-999.0000,9,  -999.00,9,-999.000,9,   2239.2,6,    433.9,2,   4.0,  5120.0,-999.0000,-999.000,   0.030,-999.000,-999.000