BOTTLE,20220810CCHSIOAMB
EXPOCODE,SECT_ID,STNNBR,CASTNO,SAMPNO,BTLNBR,BTLNBR_FLAG_W,DATE,TIME,LATITUDE,LONGITUDE,DEPTH,CTDRAW,CTDPRS,CTDTMP,CTDSAL,CTDSAL_FLAG_W,SALNTY,SALNTY_FLAG_W,CTDOXY,CTDOXY_FLAG_W,THETA,OXYGEN,OXYGEN_FLAG_W,SILCAT,SILCAT_FLAG_W,NO2+NO3,NO2+NO3_FLAG_W,PHSPHT,PHSPHT_FLAG_W,CFC-11,CFC-11_FLAG_W,CFC-12,CFC-12_FLAG_W,CFC113,CFC113_FLAG_W,CCL4,CCL4_FLAG_W,TRITUM,TRITUM_FLAG_W,HELIUM,HELIUM_FLAG_W,DELHE3,DELHE3_FLAG_W,NEON,NEON_FLAG_W,TCARBN,TCARBN_FLAG_W,PCO2,PCO2_FLAG_W,PCO2TMP,REVPRS,HELIER,TRITER,REVTMP,NEONER,DELHER
,,,,,,,,,,,,,DBAR,ITS-90,PSS-78,,PSS-78,,UMOL/KG,,DEG C,UMOL/KG,,UMOL/KG,,UMOL/KG,,UMOL/KG,,PMOL/KG,,PMOL/KG,,PMOL/KG,,PMOL/KG,,TU,,NMOL/KG,,PERCNT,,NMOL/KG,,UMOL/KG,,UATM,,DEG C,DBAR,NMOL/KG,TU,ITS-90,NMOL/KG,PERCNT
      74JC10_1,   A23,    77,  1,   7723,     23,2,19950422,1832,-49.5485, -35.6393, 5038,     12,      9.4,   6.0706,  33.7660,2,  33.7668,2,    309.5,3,  6.0699,    301.7,2,     4.57,3,  -999.00,9,     1.17,3, -999.000,9, -999.000,9, -999.000,9, -999.000,9, -999.000,9,-999.0000,9,  -999.00,9,-999.000,9,   -999.0,9,   -999.0,9,-999.0,  -999.0,-999.0000,-999.000,-999.000,-999.000,-999.000
      74JC10_1,   A23,    77,  1,   7722,     25,2,19950422,1832,-49.5485, -35.6393, 5038,     57,     53.7,   3.9214,  33.7964,2,  33.8032,2,    313.6,3,  3.9178,    309.3,2,     7.64,2,    17.31,2,     1.23,2,    5.701,2,    2.687,2,    0.483,2,    5.939,2, -999.000,9,-999.0000,9,  -999.00,9,-999.000,9,   -999.0,9,   -999.0,9,-999.0,  -999.0,-999.0000,-999.000,-999.000,-999.000,-999.000
      74JC10_1,   A23,    77,  1,   7721,     21,2,19950422,1832,-49.5485, -35.6393, 5038,    105,    101.2,   2.2674,  34.0605,2,  34.0625,2,    304.4,3,  2.2619,    288.9,2,  -999.00,5,    27.37,2,  -999.00,5,    4.866,2,    2.476,2,    0.404,2,    5.441,2, -999.000,9,-999.0000,9,  -999.00,9,-999.000,9,   -999.0,9,   -999.0,9,-999.0,  -999.0,-999.0000,-999.000,-999.000,-999.000,-999.000
      74JC10_1,   A23,    77,  1,   7720,     27,2,19950422,1832,-49.5485, -35.6393, 5038,    157,    151.9,   2.2881,  34.1089,2,  34.1097,2,    276.7,3,  2.2798,    268.4,2,    25.67,2,    28.94,2,     1.90,2,    4.188,2,    2.025,2,    0.330,2,    4.768,2, -999.000,9,-999.0000,9,  -999.00,9,-999.000,9,   -999.0,9,   -999.0,9,-999.0,  -999.0,-999.0000,-999.000,   2.270,-999.000,-999.000
      74JC10_1,   A23,    77,  1,   7719,     19,2,19950422,1832,-49.5485, -35.6393, 5038,    256,    250.1,   2.0876,  34.2026,2,  34.2044,2,    247.8,3,  2.0741,    232.5,2,    42.20,2,    32.22,2,     2.14,2,    2.980,2,    1.399,2,    0.217,2,    3.387,2, -999.000,9,-999.0000,9,  -999.00,9,-999.000,9,   -999.0,9,   -999.0,9,-999.0,  -999.0,-999.0000,-999.000,-999.000,-999.000,-999.000
      74JC10_1,   A23,    77,  1,   7718,     18,2,19950422,1832,-49.5485, -35.6393, 5038,    355,    348.1,   1.3546,  34.2392,2,  34.2407,2,    227.1,3,  1.3376,    229.6,2,    54.16,2,    33.21,2,     2.22,2,    3.086,2,    1.479,2,    0.249,2,    3.396,2, -999.000,9,-999.0000,9,  -999.00,9,-999.000,9,   -999.0,9,   -999.0,9,-999.0,  -999.0,-999.0000,-999.000,-999.000,-999.000,-999.000
      74JC10_1,   A23,    77,  1,   7717,     17,2,19950422,1832,-49.5485, -35.6393, 5038,    502,    493.4,   1.8774,  34.4508,2,  34.4520,2,    194.7,3,  1.8503,    186.6,2,    71.43,2,    34.83,2,     2.30,2,    1.357,2,    0.608,2,    0.097,2,    1.685,2, -999.000,9,-999.0000,9,  -999.00,9,-999.000,9,   -999.0,9,   -999.0,9,-999.0,  -999.0,-999.0000,-999.000,-999.000,-999.000,-999.000
      74JC10_1,   A23,    77,  1,   7716,     16,2,19950422,1832,-49.5485, -35.6393, 5038,    754,    743.9,   2.0040,  34.6128,2,  34.6140,2,    181.2,3,  1.9608,    172.1,2,    83.22,2,    33.86,2,     2.25,2,    0.435,2,    0.215,2,    0.023,2,    0.697,2, -999.000,9,-999.0000,9,  -999.00,9,-999.000,9,   -999.0,9,   -999.0,9,-999.0,  -999.0,-999.0000,-999.000,-999.000,-999.000,-999.000
      74JC10_1,   A23,    77,  1,   7715,     15,2,19950422,1832,-49.5485, -35.6393, 5038,   1008,    996.3,   2.2272,  34.7178,2,  34.7190,2,    184.3,3,  2.1653,    183.0,2,    78.70,2,    31.01,2,     2.04,2,    0.078,2,    0.048,2,    0.006,2,    0.236,2, -999.000,9,-999.0000,9,  -999.00,9,-999.000,9,   -999.0,9,   -999.0,9,-999.0,  -999.0,-999.0000,-999.000,-999.000,-999.000,-999.000
      74JC10_1,   A23,    77,  1,   7714,     14,2,19950422,1832,-49.5485, -35.6393, 5038,   1256,   1243.2,   2.2574,  34.7641,2,  34.7636,2,    198.0,3,  2.1772,    192.9,2,    75.47,2,    29.33,2,     1.93,2,    0.028,2,    0.021,2,    0.000,2,    0.150,2, -999.000,9,-999.0000,9,  -999.00,9,-999.000,9,   -999.0,9,   -999.0,9,-999.0,  -999.0,-999.0000,-999.000,-999.000,-999.000,-999.000
      74JC10_1,   A23,    77,  1,   7713,     13,2,19950422,1832,-49.5485, -35.6393, 5038,   1501,   1488.1,   1.6701,  34.7158,2,  34.7166,2,    193.7,3,  1.5782,    185.7,2,    94.72,2,    31.70,2,     2.16,2,    0.104,2,    0.048,2,    0.000,2,    0.230,2, -999.000,9,-999.0000,9,  -999.00,9,-999.000,9,   -999.0,9,   -999.0,9,-999.0,  -999.0,-999.0000,-999.000,-999.000,-999.000,-999.000
      74JC10_1,   A23,    77,  1,   7712,     12,2,19950422,1832,-49.5485, -35.6393, 5038,   1754,   1740.8,   1.6186,  34.7431,2,  34.7427,2,    203.1,3,  1.5082,    199.6,2,    93.56,2,    30.40,2,     2.02,2,    0.073,2,    0.043,2,    0.006,2,    0.185,2, -999.000,9,-999.0000,9,  -999.00,9,-999.000,9,   -999.0,9,   -999.0,9,-999.0,  -999.0,-999.0000,-999.000,-999.000,-999.000,-999.000
      74JC10_1,   A23,    77,  1,   7711,     24,2,19950422,1832,-49.5485, -35.6393, 5038,   2006,   1993.5,   1.2712,  34.7238,2,  34.7247,2,    202.9,3,  1.1462,    196.0,2,   103.17,2,    31.29,2,     2.06,2,    0.087,2,    0.054,2,    0.000,2,    0.211,2, -999.000,9,-999.0000,9,  -999.00,9,-999.000,9,   -999.0,9,   -999.0,9,-999.0,  -999.0,-999.0000,-999.000,-999.000,-999.000,-999.000
      74JC10_1,   A23,    77,  1,   7710,     10,2,19950422,1832,-49.5485, -35.6393, 5038,   2360,   2348.2,   1.0181,  34.7130,2,  34.7103,2,    206.8,3,  0.8687,    198.9,2,   108.15,2,    31.70,2,     2.11,2,    0.120,2,    0.073,2,    0.000,2,    0.247,2, -999.000,9,-999.0000,9,  -999.00,9,-999.000,9,   -999.0,9,   -999.0,9,-999.0,  -999.0,-999.0000,-999.000,-999.000,-999.000,-999.000
      74JC10_1,   A23,    77,  1,   7709,      9,2,19950422,1832,-49.5485, -35.6393, 5038,   2712,   2701.0,   0.7287,  34.6955,2,  34.6963,2,    210.9,3,  0.5552,    206.5,2,   113.22,2,    32.11,2,     2.12,2,    0.221,2,    0.119,2,    0.002,2,    0.377,2, -999.000,9,-999.0000,9,  -999.00,9,-999.000,9,   -999.0,9,   -999.0,9,-999.0,  -999.0,-999.0000,-999.000,-999.000,-999.000,-999.000
      74JC10_1,   A23,    77,  1,   7708,      8,2,19950422,1832,-49.5485, -35.6393, 5038,   3016,   3005.7,   0.5382,  34.6869,2,  34.6871,2,    214.6,3,  0.3422,    209.8,2,   115.96,2,    32.32,2,     2.13,2,    0.239,2,    0.136,2,    0.016,2,    0.438,2, -999.000,9,-999.0000,9,  -999.00,9,-999.000,9,   -999.0,9,   -999.0,9,-999.0,  -999.0,-999.0000,-999.000,-999.000,-999.000,-999.000
      74JC10_1,   A23,    77,  1,   7707,     26,2,19950422,1832,-49.5485, -35.6393, 5038,   3368,   3358.1,   0.3497,  34.6789,2,  34.6791,2,    218.9,3,  0.1261,    213.4,2,   119.28,2,    32.50,2,     2.19,2,    0.212,2,    0.125,2,    0.007,2,    0.456,2, -999.000,9,-999.0000,9,  -999.00,9,-999.000,9,   -999.0,9,   -999.0,9,-999.0,  -999.0,-999.0000,-999.000,   0.343,-999.000,-999.000
      74JC10_1,   A23,    77,  1,   7706,      6,2,19950422,1832,-49.5485, -35.6393, 5038,   3721,   3711.1,   0.2428,  34.6756,2,  34.6739,2,    222.4,3, -0.0116,    216.9,2,   121.03,2,    32.50,2,     2.22,2,    0.228,2,    0.134,2,    0.014,2,    0.478,2, -999.000,9,-999.0000,9,  -999.00,9,-999.000,9,   -999.0,9,   -999.0,9,-999.0,  -999.0,-999.0000,-999.000,-999.000,-999.000,-999.000
      74JC10_1,   A23,    77,  1,   7705,      5,2,19950422,1832,-49.5485, -35.6393, 5038,   4020,   4011.2,   0.1926,  34.6733,2,  34.6714,2,    225.5,3, -0.0902,    218.2,2,   121.91,2,    32.51,2,     2.17,2,    0.216,2,    0.124,2,    0.005,2,    0.467,2, -999.000,9,-999.0000,9,  -999.00,9,-999.000,9,   -999.0,9,   -999.0,9,-999.0,  -999.0,-999.0000,-999.000,-999.000,-999.000,-999.000
      74JC10_1,   A23,    77,  1,   7704,      4,2,19950422,1832,-49.5485, -35.6393, 5038,   4532,   4523.6,   0.0656,  34.6658,2,  34.6641,2,    233.0,3, -0.2668,    224.6,2,   122.50,2,    32.33,2,     2.16,2,    0.317,2,    0.177,2,    0.002,2,    0.601,2, -999.000,9,-999.0000,9,  -999.00,9,-999.000,9,   -999.0,9,   -999.0,9,-999.0,  4534.0,-999.0000,-999.000,   0.059,-999.000,-999.000
      74JC10_1,   A23,    77,  1,   7703,      3,2,19950422,1832,-49.5485, -35.6393, 5038,   4835,   4827.8,  -0.0057,  34.6621,2,  34.6600,2,    237.2,3, -0.3690,    229.6,2,   122.99,2,    32.33,2,     2.22,2,    0.399,2,    0.203,2,    0.000,2,    0.679,2, -999.000,9,-999.0000,9,  -999.00,9,-999.000,9,   -999.0,9,   -999.0,9,-999.0,  -999.0,-999.0000,-999.000,-999.000,-999.000,-999.000
      74JC10_1,   A23,    77,  1,   7702,      2,2,19950422,1832,-49.5485, -35.6393, 5038,   5112,   5105.7,  -0.0257,  34.6586,2,  34.6578,2,    240.1,3, -0.4196,    232.2,2,   123.47,2,    32.16,2,     2.17,2,    0.446,2,    0.231,2,    0.022,2,    0.723,2, -999.000,9,-999.0000,9,  -999.00,9,-999.000,9,   -999.0,9,   -999.0,9,-999.0,  -999.0,-999.0000,-999.000,-999.000,-999.000,-999.000
      74JC10_1,   A23,    77,  1,   7701,      1,2,19950422,1832,-49.5485, -35.6393, 5038,   5113,   5106.3,  -0.0252,  34.6587,2,  34.6580,2,    240.3,3, -0.4192,    232.0,2,   123.47,2,    31.98,2,     2.13,2,    0.457,2,    0.241,2,    0.023,2,    0.741,2, -999.000,9,-999.0000,9,  -999.00,9,-999.000,9,   -999.0,9,   -999.0,9,-999.0,  5101.0,-999.0000,-999.000,  -0.029,-999.000,-999.000
      74JC10_1,   A23,    78,  1,   7823,     23,2,19950423,0057,-49.2312, -35.8092, 4998,      9,      6.0,   6.8307,  33.8205,2,  33.8206,2,    301.9,3,  6.8301,    298.4,2,     4.00,2,  -999.00,5,     1.32,2, -999.000,9, -999.000,9, -999.000,9, -999.000,9, -999.000,9,-999.0000,9,  -999.00,9,-999.000,9,   -999.0,9,   -999.0,9,-999.0,  -999.0,-999.0000,-999.000,-999.000,-999.000,-999.000
      74JC10_1,   A23,    78,  1,   7822,     25,2,19950423,0057,-49.2312, -35.8092, 4998,     58,     54.4,   5.6593,  33.8079,2,  33.8163,2,    317.9,3,  5.6549,    300.8,2,    15.21,2,    17.80,2,     1.75,2, -999.000,9, -999.000,9, -999.000,9, -999.000,9, -999.000,9,-999.0000,9,  -999.00,9,-999.000,9,   -999.0,9,   -999.0,9,-999.0,  -999.0,-999.0000,-999.000,-999.000,-999.000,-999.000
      74JC10_1,   A23,    78,  1,   7821,     21,2,19950423,0057,-49.2312, -35.8092, 4998,    106,    101.6,   2.7053,  33.9671,2,  33.9739,2,    307.3,3,  2.6995,    299.2,2,  -999.00,5,    25.27,2,  -999.00,5, -999.000,9, -999.000,9, -999.000,9, -999.000,9, -999.000,9,-999.0000,9,  -999.00,9,-999.000,9,   -999.0,9,   -999.0,9,-999.0,  -999.0,-999.0000,-999.000,-999.000,-999.000,-999.000
      74JC10_1,   A23,    78,  1,   7820,     27,2,19950423,0057,-49.2312, -35.8092, 4998,    155,    150.1,   2.0111,  34.0322,2,  34.0329,2,    303.2,3,  2.0032,    298.4,2,    18.46,2,    26.69,2,     1.82,2, -999.000,9, -999.000,9, -999.000,9, -999.000,9, -999.000,9,-999.0000,9,  -999.00,9,-999.000,9,   -999.0,9,   -999.0,9,-999.0,  -999.0,-999.0000,-999.000,   2.009,-999.000,-999.000
      74JC10_1,   A23,    78,  1,   7819,     19,2,19950423,0057,-49.2312, -35.8092, 4998,    255,    249.1,   1.7541,  34.0647,2,  34.0723,2,    289.0,3,  1.7414,    281.2,2,    24.29,2,    28.70,2,     1.91,2, -999.000,9, -999.000,9, -999.000,9, -999.000,9, -999.000,9,-999.0000,9,  -999.00,9,-999.000,9,   -999.0,9,   -999.0,9,-999.0,  -999.0,-999.0000,-999.000,-999.000,-999.000,-999.000
      74JC10_1,   A23,    78,  1,   7818,     18,2,19950423,0057,-49.2312, -35.8092, 4998,    356,    348.6,   2.3562,  34.2092,2,  34.2105,2,    242.1,3,  2.3363,    233.6,2,    37.50,2,    32.00,2,     2.14,2, -999.000,9, -999.000,9, -999.000,9, -999.000,9, -999.000,9,-999.0000,9,  -999.00,9,-999.000,9,   -999.0,9,   -999.0,9,-999.0,  -999.0,-999.0000,-999.000,-999.000,-999.000,-999.000
      74JC10_1,   A23,    78,  1,   7817,     17,2,19950423,0057,-49.2312, -35.8092, 4998,    498,    489.7,   2.6209,  34.3762,2,  34.3778,2,    201.9,3,  2.5913,    189.2,2,    55.24,2,    34.95,2,     2.28,2, -999.000,9, -999.000,9, -999.000,9, -999.000,9, -999.000,9,-999.0000,9,  -999.00,9,-999.000,9,   -999.0,9,   -999.0,9,-999.0,  -999.0,-999.0000,-999.000,-999.000,-999.000,-999.000
      74JC10_1,   A23,    78,  1,   7816,     16,2,19950423,0057,-49.2312, -35.8092, 4998,    749,    738.7,   2.3324,  34.5280,2,  34.5290,2,    179.1,3,  2.2877,    170.8,2,    71.51,2,    35.41,2,     2.31,2, -999.000,9, -999.000,9, -999.000,9, -999.000,9, -999.000,9,-999.0000,9,  -999.00,9,-999.000,9,   -999.0,9,   -999.0,9,-999.0,  -999.0,-999.0000,-999.000,-999.000,-999.000,-999.000
      74JC10_1,   A23,    78,  1,   7815,     15,2,19950423,0057,-49.2312, -35.8092, 4998,   1003,    990.7,   2.0926,  34.6160,2,  34.6158,2,    173.6,3,  2.0323,    170.4,2,    80.62,2,    34.62,2,     2.29,2, -999.000,9, -999.000,9, -999.000,9, -999.000,9, -999.000,9,-999.0000,9,  -999.00,9,-999.000,9,   -999.0,9,   -999.0,9,-999.0,  -999.0,-999.0000,-999.000,-999.000,-999.000,-999.000
      74JC10_1,   A23,    78,  1,   7814,     14,2,19950423,0057,-49.2312, -35.8092, 4998,   1252,   1239.9,   1.9982,  34.6840,2,  34.6830,2,    177.4,3,  1.9210,    171.9,2,    89.23,2,    33.53,2,     2.21,2, -999.000,9, -999.000,9, -999.000,9, -999.000,9, -999.000,9,-999.0000,9,  -999.00,9,-999.000,9,   -999.0,9,   -999.0,9,-999.0,  -999.0,-999.0000,-999.000,-999.000,-999.000,-999.000
      74JC10_1,   A23,    78,  1,   7813,     13,2,19950423,0057,-49.2312, -35.8092, 4998,   1502,   1489.0,   1.8336,  34.7079,2,  34.7083,2,    182.1,3,  1.7398,    177.1,2,    94.90,2,    32.78,2,     2.20,2, -999.000,9, -999.000,9, -999.000,9, -999.000,9, -999.000,9,-999.0000,9,  -999.00,9,-999.000,9,   -999.0,9,   -999.0,9,-999.0,  -999.0,-999.0000,-999.000,-999.000,-999.000,-999.000
      74JC10_1,   A23,    78,  1,   7812,     12,2,19950423,0057,-49.2312, -35.8092, 4998,   1753,   1739.9,   1.9658,  34.7697,2,  34.7693,2,    206.5,3,  1.8507,    198.0,2,    81.42,2,    29.47,2,     1.93,2, -999.000,9, -999.000,9, -999.000,9, -999.000,9, -999.000,9,-999.0000,9,  -999.00,9,-999.000,9,   -999.0,9,   -999.0,9,-999.0,  -999.0,-999.0000,-999.000,-999.000,-999.000,-999.000
      74JC10_1,   A23,    78,  1,   7811,     24,2,19950423,0057,-49.2312, -35.8092, 4998,   2008,   1994.8,   1.6732,  34.7504,2,  34.7498,2,    202.3,3,  1.5418,    196.9,2,    91.25,2,    30.66,2,     2.01,2, -999.000,9, -999.000,9, -999.000,9, -999.000,9, -999.000,9,-999.0000,9,  -999.00,9,-999.000,9,   -999.0,9,   -999.0,9,-999.0,  -999.0,-999.0000,-999.000,-999.000,-999.000,-999.000
      74JC10_1,   A23,    78,  1,   7810,     10,2,19950423,0057,-49.2312, -35.8092, 4998,   2358,   2345.3,   1.3115,  34.7305,2,  34.7292,2,    204.0,3,  1.1570,    198.2,2,   101.51,2,    31.83,2,     2.06,2, -999.000,9, -999.000,9, -999.000,9, -999.000,9, -999.000,9,-999.0000,9,  -999.00,9,-999.000,9,   -999.0,9,   -999.0,9,-999.0,  -999.0,-999.0000,-999.000,-999.000,-999.000,-999.000
      74JC10_1,   A23,    78,  1,   7809,      9,2,19950423,0057,-49.2312, -35.8092, 4998,   2708,   2696.1,   0.9792,  34.7104,2,  34.7095,2,    208.1,3,  0.8010,    201.6,2,   110.00,2,    32.57,2,     2.14,2, -999.000,9, -999.000,9, -999.000,9, -999.000,9, -999.000,9,-999.0000,9,  -999.00,9,-999.000,9,   -999.0,9,   -999.0,9,-999.0,  -999.0,-999.0000,-999.000,-999.000,-999.000,-999.000
      74JC10_1,   A23,    78,  1,   7808,      8,2,19950423,0057,-49.2312, -35.8092, 4998,   3013,   3002.5,   0.7312,  34.6971,2,  34.6963,2,    212.5,3,  0.5311,    205.8,2,   115.96,2,    32.78,2,     2.15,2, -999.000,9, -999.000,9, -999.000,9, -999.000,9, -999.000,9,-999.0000,9,  -999.00,9,-999.000,9,   -999.0,9,   -999.0,9,-999.0,  -999.0,-999.0000,-999.000,-999.000,-999.000,-999.000
      74JC10_1,   A23,    78,  1,   7807,     26,2,19950423,0057,-49.2312, -35.8092, 4998,   3366,   3355.9,   0.5147,  34.6869,2,  34.6873,2,    217.4,3,  0.2872,    210.0,2,   118.49,2,    33.12,2,     2.17,2, -999.000,9, -999.000,9, -999.000,9, -999.000,9, -999.000,9,-999.0000,9,  -999.00,9,-999.000,9,   -999.0,9,   -999.0,9,-999.0,  -999.0,-999.0000,-999.000,   0.508,-999.000,-999.000
      74JC10_1,   A23,    78,  1,   7806,      6,2,19950423,0057,-49.2312, -35.8092, 4998,   3715,   3705.1,   0.3658,  34.6800,2,  34.6806,3,    221.0,3,  0.1086,    214.8,2,   119.86,2,    33.29,2,     2.18,2, -999.000,9, -999.000,9, -999.000,9, -999.000,9, -999.000,9,   1.8950,2,     7.50,2,   8.218,2,   -999.0,9,   -999.0,9,-999.0,  -999.0,  0.0070,-999.000,-999.000,   0.025,   0.300
      74JC10_1,   A23,    78,  1,   7805,      5,2,19950423,0057,-49.2312, -35.8092, 4998,   4020,   4011.1,   0.2613,  34.6757,2,  34.6761,2,    224.0,3, -0.0235,    217.3,2,   121.52,2,    33.07,2,     2.20,2, -999.000,9, -999.000,9, -999.000,9, -999.000,9, -999.000,9,-999.0000,9,  -999.00,9,-999.000,9,   -999.0,9,   -999.0,9,-999.0,  -999.0,-999.0000,-999.000,-999.000,-999.000,-999.000
      74JC10_1,   A23,    78,  1,   7804,      4,2,19950423,0057,-49.2312, -35.8092, 4998,   4530,   4522.0,   0.1984,  34.6724,2,  34.6716,2,    227.3,3, -0.1380,    219.8,2,   124.74,2,    32.97,2,     2.20,2, -999.000,9, -999.000,9, -999.000,9, -999.000,9, -999.000,9,-999.0000,9,  -999.00,9,-999.000,9,   -999.0,9,   -999.0,9,-999.0,  4530.0,-999.0000,-999.000,   0.191,-999.000,-999.000
      74JC10_1,   A23,    78,  1,   7803,      3,2,19950423,0057,-49.2312, -35.8092, 4998,   4837,   4829.7,   0.1854,  34.6690,2,  34.6696,3,    228.2,3, -0.1845,    221.2,2,   125.62,2,    32.84,2,     2.19,2, -999.000,9, -999.000,9, -999.000,9, -999.000,9, -999.000,9,-999.0000,9,  -999.00,9,-999.000,9,   -999.0,9,   -999.0,9,-999.0,  -999.0,-999.0000,-999.000,-999.000,-999.000,-999.000
      74JC10_1,   A23,    78,  1,   7802,      2,2,19950423,0057,-49.2312, -35.8092, 4998,   5092,   5085.0,   0.0468,  34.6618,2,  34.6618,2,    234.6,3, -0.3473,    227.9,2,   126.50,2,    32.70,2,     2.22,2, -999.000,9, -999.000,9, -999.000,9, -999.000,9, -999.000,9,   1.9100,2,     6.16,2,   8.288,2,   -999.0,9,   -999.0,9,-999.0,  -999.0,  0.0070,-999.000,-999.000,   0.026,   0.300
      74JC10_1,   A23,    78,  1,   7801,      1,2,19950423,0057,-49.2312, -35.8092, 4998,   5092,   5085.1,   0.0428,  34.6629,2,  34.6620,2,    234.6,3, -0.3511,    228.1,2,   126.70,2,    32.17,2,     2.17,2,    0.375,2,    0.190,2,    0.003,2,    0.666,2, -999.000,9,-999.0000,9,  -999.00,9,-999.000,9,   -999.0,9,   -999.0,9,-999.0,  5080.0,-999.0000,-999.000,   0.042,-999.000,-999.000