BOTTLE,20220810CCHSIOAMB
EXPOCODE,SECT_ID,STNNBR,CASTNO,SAMPNO,BTLNBR,BTLNBR_FLAG_W,DATE,TIME,LATITUDE,LONGITUDE,DEPTH,CTDRAW,CTDPRS,CTDTMP,CTDSAL,CTDSAL_FLAG_W,SALNTY,SALNTY_FLAG_W,CTDOXY,CTDOXY_FLAG_W,THETA,OXYGEN,OXYGEN_FLAG_W,SILCAT,SILCAT_FLAG_W,NO2+NO3,NO2+NO3_FLAG_W,PHSPHT,PHSPHT_FLAG_W,CFC-11,CFC-11_FLAG_W,CFC-12,CFC-12_FLAG_W,CFC113,CFC113_FLAG_W,CCL4,CCL4_FLAG_W,TRITUM,TRITUM_FLAG_W,HELIUM,HELIUM_FLAG_W,DELHE3,DELHE3_FLAG_W,NEON,NEON_FLAG_W,TCARBN,TCARBN_FLAG_W,PCO2,PCO2_FLAG_W,PCO2TMP,REVPRS,HELIER,TRITER,REVTMP,NEONER,DELHER
,,,,,,,,,,,,,DBAR,ITS-90,PSS-78,,PSS-78,,UMOL/KG,,DEG C,UMOL/KG,,UMOL/KG,,UMOL/KG,,UMOL/KG,,PMOL/KG,,PMOL/KG,,PMOL/KG,,PMOL/KG,,TU,,NMOL/KG,,PERCNT,,NMOL/KG,,UMOL/KG,,UATM,,DEG C,DBAR,NMOL/KG,TU,ITS-90,NMOL/KG,PERCNT
      74JC10_1,   A23,    71,  1,   7122,     25,2,19950416,0841,-48.9330, -35.9175, 5097,      7,      4.2,   5.5745,  33.7409,2,  33.7392,2,    309.5,3,  5.5742,    305.4,2,     1.36,2,    21.59,2,     1.15,2, -999.000,9, -999.000,9, -999.000,9, -999.000,9, -999.000,9,   1.7740,2,    -1.04,2,-999.000,9,   -999.0,9,   -999.0,9,-999.0,  -999.0,  0.0070,-999.000,-999.000,-999.000,   0.300
      74JC10_1,   A23,    71,  1,   7121,     21,2,19950416,0841,-48.9330, -35.9175, 5097,      8,      4.6,   5.5719,  33.7405,2,  33.7390,2,    309.5,3,  5.5716,    305.4,2,     1.93,3,    22.40,2,     1.15,2,    5.299,2,    2.413,2,    0.460,2,    5.725,2, -999.000,9,-999.0000,9,  -999.00,9,-999.000,9,   -999.0,9,   -999.0,9,-999.0,  -999.0,-999.0000,-999.000,-999.000,-999.000,-999.000
      74JC10_1,   A23,    71,  1,   7120,     27,2,19950416,0841,-48.9330, -35.9175, 5097,     51,     47.4,   5.0778,  33.7492,2,  33.7517,2,    326.7,3,  5.0742,    308.7,2,     1.46,2,    17.01,4,     1.22,2,    5.458,2,    2.513,2,    0.494,2,    6.125,2, -999.000,9,-999.0000,9,  -999.00,9,-999.000,9,   -999.0,9,   -999.0,9,-999.0,  -999.0,-999.0000,-999.000,   5.078,-999.000,-999.000
      74JC10_1,   A23,    71,  1,   7119,     19,2,19950416,0841,-48.9330, -35.9175, 5097,     99,     95.2,   3.8204,  33.9047,2,  33.9077,2,    309.3,3,  3.8141,    306.4,2,     9.43,2,    21.45,2,     1.60,2, -999.000,9, -999.000,9, -999.000,9, -999.000,9, -999.000,9,-999.0000,9,  -999.00,9,-999.000,9,   -999.0,9,   -999.0,9,-999.0,  -999.0,-999.0000,-999.000,-999.000,-999.000,-999.000
      74JC10_1,   A23,    71,  1,   7118,     18,2,19950416,0841,-48.9330, -35.9175, 5097,    144,    139.9,   2.0798,  34.0253,2,  34.0270,2,    312.1,3,  2.0724,    296.5,2,    17.47,2,    26.26,2,     1.79,2,    5.605,2,    2.506,2,    0.496,2,    6.024,2, -999.000,9,-999.0000,9,  -999.00,9,-999.000,9,   -999.0,9,   -999.0,9,-999.0,  -999.0,-999.0000,-999.000,-999.000,-999.000,-999.000
      74JC10_1,   A23,    71,  1,   7117,     17,2,19950416,0841,-48.9330, -35.9175, 5097,    239,    232.8,   1.4613,  34.0347,2,  34.1638,4,    295.8,3,  1.4500,    287.7,2,    23.28,2,    27.71,2,     1.89,2,    5.125,2,    2.170,2,    0.434,2,    5.651,2, -999.000,9,   1.7840,2,    -0.12,2,   7.968,2,   -999.0,9,   -999.0,9,-999.0,  -999.0,  0.0070,-999.000,-999.000,   0.025,   0.300
      74JC10_1,   A23,    71,  1,   7116,     16,2,19950416,0841,-48.9330, -35.9175, 5097,    336,    329.2,   1.6774,  34.1062,2,  34.1107,4,    262.0,3,  1.6605,    267.9,2,    28.60,2,    29.38,2,     1.95,2,    4.264,2,    1.925,2,    0.349,2,    4.708,2, -999.000,9,-999.0000,9,  -999.00,9,-999.000,9,   -999.0,9,   -999.0,9,-999.0,  -999.0,-999.0000,-999.000,-999.000,-999.000,-999.000
      74JC10_1,   A23,    71,  1,   7115,     15,2,19950416,0841,-48.9330, -35.9175, 5097,    485,    475.9,   2.7586,  34.3396,2,  34.3399,2,    221.3,3,  2.7293,    200.0,2,    48.05,2,    32.89,2,     2.21,2,    1.432,2, -999.000,9,    0.080,2,    1.910,2, -999.000,9,   1.8010,2,     5.36,2,   7.895,2,   -999.0,9,   -999.0,9,-999.0,  -999.0,  0.0070,-999.000,-999.000,   0.024,   0.300
      74JC10_1,   A23,    71,  1,   7114,     14,2,19950416,0841,-48.9330, -35.9175, 5097,    735,    725.0,   2.5435,  34.4824,2,  34.4824,2,    188.5,3,  2.4985,    178.9,2,    62.95,2,    33.64,2,     2.30,2,    0.567,2,    0.254,2,    0.030,2,    0.985,2, -999.000,9,-999.0000,9,  -999.00,9,-999.000,9,   -999.0,9,   -999.0,9,-999.0,  -999.0,-999.0000,-999.000,-999.000,-999.000,-999.000
      74JC10_1,   A23,    71,  1,   7113,     13,2,19950416,0841,-48.9330, -35.9175, 5097,    985,    973.4,   2.1609,  34.5701,2,  34.5714,2,    179.2,3,  2.1013,    172.0,2,    76.59,2,    34.03,2,     2.27,2,    0.475,2,    0.219,2,    0.032,2,    0.792,2, -999.000,9,   1.7630,2,     9.26,2,   7.695,3,   -999.0,9,   -999.0,9,-999.0,  -999.0,  0.0070,-999.000,-999.000,   0.024,   0.300
      74JC10_1,   A23,    71,  1,   7112,     12,2,19950416,0841,-48.9330, -35.9175, 5097,   1235,   1222.6,   2.1369,  34.6750,2,  34.6753,2,    182.6,3,  2.0597,    177.2,2,    80.64,2,    32.43,2,     2.21,2, -999.000,9, -999.000,9, -999.000,9, -999.000,9, -999.000,9,-999.0000,9,  -999.00,9,-999.000,9,   -999.0,9,   -999.0,9,-999.0,  -999.0,-999.0000,-999.000,-999.000,-999.000,-999.000
      74JC10_1,   A23,    71,  1,   7111,     24,2,19950416,0841,-48.9330, -35.9175, 5097,   1486,   1472.7,   2.2467,  34.7424,2,  34.7427,2,    194.4,3,  2.1493,    182.7,2,    75.80,2,    30.28,2,     2.00,2,    0.074,2,    0.028,3,    0.005,2,    0.218,2, -999.000,9,   1.8340,2,     9.88,2,-999.000,9,   -999.0,9,   -999.0,9,-999.0,  -999.0,  0.0070,-999.000,-999.000,-999.000,   0.300
      74JC10_1,   A23,    71,  1,   7110,     10,2,19950416,0841,-48.9330, -35.9175, 5097,   1735,   1721.7,   1.7962,  34.7186,2,  34.7123,2,    188.2,3,  1.6849,    183.1,2,    92.34,2,    31.97,2,     2.13,2, -999.000,9, -999.000,9, -999.000,9, -999.000,9, -999.000,9,-999.0000,9,  -999.00,9,-999.000,9,   -999.0,9,   -999.0,9,-999.0,  -999.0,-999.0000,-999.000,-999.000,-999.000,-999.000
      74JC10_1,   A23,    71,  1,   7109,      9,2,19950416,0841,-48.9330, -35.9175, 5097,   1991,   1978.2,   1.7534,  34.7486,2,  34.7482,2,    200.4,3,  1.6221,    195.2,2,    89.74,2,    30.62,2,     2.02,2,    0.065,2,    0.035,2,    0.002,2,    0.181,2, -999.000,9,   1.8510,2,     9.67,2,   8.036,2,   -999.0,9,   -999.0,9,-999.0,  -999.0,  0.0070,-999.000,-999.000,   0.025,   0.300
      74JC10_1,   A23,    71,  1,   7108,      8,2,19950416,0841,-48.9330, -35.9175, 5097,   2500,   2487.6,   1.1762,  34.7151,2,  34.6940,3,    202.2,3,  1.0121,    197.8,2,   107.27,2,    32.17,2,     2.18,2,    0.127,2,    0.074,2,    0.017,2,    0.257,2,    0.017,2,   1.8600,2,     9.95,2,   8.114,2,   -999.0,9,   -999.0,9,-999.0,  -999.0,  0.0070,   0.010,-999.000,   0.025,   0.300
      74JC10_1,   A23,    71,  1,   7107,     26,2,19950416,0841,-48.9330, -35.9175, 5097,   3005,   2994.7,   0.8274,  34.7032,2,  34.6975,2,    208.1,3,  0.6258,    204.8,2,   113.22,2,    32.41,2,     2.26,2,    0.153,2,    0.085,2,    0.017,2,    0.319,2, -999.000,9,   1.8630,2,     9.39,2,-999.000,9,   -999.0,9,   -999.0,9,-999.0,  -999.0,  0.0070,-999.000,   0.821,-999.000,   0.300
      74JC10_1,   A23,    71,  1,   7106,      6,2,19950416,0841,-48.9330, -35.9175, 5097,   3510,   3499.8,   0.5419,  34.6896,2,  34.6885,2,    215.2,3,  0.3001,    210.9,2,   118.01,2,    32.82,2,     2.21,2, -999.000,9, -999.000,9, -999.000,9, -999.000,9,    0.017,2,   1.8650,2,     8.38,2,   8.162,2,   -999.0,9,   -999.0,9,-999.0,  -999.0,  0.0070,   0.007,-999.000,   0.025,   0.300
      74JC10_1,   A23,    71,  1,   7105,      5,2,19950416,0841,-48.9330, -35.9175, 5097,   4013,   4004.1,   0.2882,  34.6763,2,  34.6767,2,    222.0,3,  0.0034,    217.3,2,   122.30,2,    33.24,2,     2.26,2,    0.152,2,    0.079,2,    0.000,2,    0.403,2, -999.000,9,-999.0000,9,  -999.00,9,-999.000,9,   -999.0,9,   -999.0,9,-999.0,  -999.0,-999.0000,-999.000,-999.000,-999.000,-999.000
      74JC10_1,   A23,    71,  1,   7104,      4,2,19950416,0841,-48.9330, -35.9175, 5097,   4519,   4511.1,   0.1910,  34.6719,2,  34.6702,2,    227.3,3, -0.1441,    220.0,2,   125.04,2,    33.33,2,     2.25,2,    0.183,2,    0.102,2,    0.000,2,    0.450,2,    0.028,2,   1.8920,2,     7.15,2,   8.293,2,   -999.0,9,   -999.0,9,-999.0,  4521.0,  0.0070,   0.010,   0.184,   0.026,   0.300
      74JC10_1,   A23,    71,  1,   7103,      3,2,19950416,0841,-48.9330, -35.9175, 5097,   5029,   5021.9,   0.1688,  34.6678,2,  34.6671,2,    231.5,3, -0.2224,    221.9,2,   126.40,2,    33.49,2,     2.25,2,    0.223,2,    0.113,2,    0.009,2,    0.515,2, -999.000,9,   1.8720,2,     6.73,2,   8.211,2,   -999.0,9,   -999.0,9,-999.0,  -999.0,  0.0070,-999.000,-999.000,   0.025,   0.300
      74JC10_1,   A23,    71,  1,   7101,      1,2,19950416,0841,-48.9330, -35.9175, 5097,   5195,   5188.1,   0.1705,  34.6675,2,  34.6665,2,    232.1,3, -0.2399,    220.5,4,   128.16,2,    33.07,2,     2.32,2,    0.253,2,    0.133,2,    0.000,2,    0.516,2,    0.040,2,   1.8740,2,     6.59,2,   8.266,2,   -999.0,9,   -999.0,9,-999.0,  5186.0,  0.0070,   0.004,   0.166,   0.026,   0.300
      74JC10_1,   A23,    71,  1,   7102,      2,2,19950416,0841,-48.9330, -35.9175, 5097,   5195,   5188.2,   0.1693,  34.6666,2,  34.6665,2,    232.1,3, -0.2411,    222.6,2,   127.09,2,    33.28,2,     2.25,2, -999.000,9, -999.000,9, -999.000,9, -999.000,9, -999.000,9,-999.0000,9,  -999.00,9,-999.000,9,   -999.0,9,   -999.0,9,-999.0,  -999.0,-999.0000,-999.000,-999.000,-999.000,-999.000
      74JC10_1,   A23,    72,  1,   7224,     11,2,19950421,1324,-49.8260, -35.6065, 4967,   2349,   2337.1,   0.9951,  34.7077,2,  34.7077,2,    208.1,3,  0.8470,    205.5,2,   111.07,2,    32.99,2,     2.61,2, -999.000,9, -999.000,9, -999.000,9, -999.000,9, -999.000,9,-999.0000,9,  -999.00,9,-999.000,9,   -999.0,9,   -999.0,9,-999.0,  -999.0,-999.0000,-999.000,-999.000,-999.000,-999.000
      74JC10_1,   A23,    72,  1,   7223,     23,2,19950421,1324,-49.8260, -35.6065, 4967,   2351,   2338.7,   0.9948,  34.7080,2,  34.7074,2,    208.2,3,  0.8466,    201.8,2,   111.37,2,    32.82,2,     2.14,2, -999.000,9, -999.000,9, -999.000,9, -999.000,9, -999.000,9,-999.0000,9,  -999.00,9,-999.000,9,   -999.0,9,   -999.0,9,-999.0,  -999.0,-999.0000,-999.000,-999.000,-999.000,-999.000
      74JC10_1,   A23,    72,  1,   7221,     21,2,19950421,1324,-49.8260, -35.6065, 4967,   2708,   2696.7,   0.7366,  34.6975,2,  34.6991,2,    211.8,3,  0.5633,    204.9,2,   114.88,2,    33.27,2,     2.15,2, -999.000,9, -999.000,9, -999.000,9, -999.000,9, -999.000,9,-999.0000,9,  -999.00,9,-999.000,9,   -999.0,9,   -999.0,9,-999.0,  -999.0,-999.0000,-999.000,-999.000,-999.000,-999.000
      74JC10_1,   A23,    72,  1,   7222,     25,2,19950421,1324,-49.8260, -35.6065, 4967,   2708,   2696.7,   0.7366,  34.6975,2,  34.7019,3,    211.8,3,  0.5633,    204.5,2,   113.91,2,    33.09,2,     2.15,2, -999.000,9, -999.000,9, -999.000,9, -999.000,9, -999.000,9,-999.0000,9,  -999.00,9,-999.000,9,   -999.0,9,   -999.0,9,-999.0,  -999.0,-999.0000,-999.000,-999.000,-999.000,-999.000
      74JC10_1,   A23,    72,  1,   7219,     19,2,19950421,1324,-49.8260, -35.6065, 4967,   3015,   3004.7,   0.5420,  34.6877,2,  34.6887,2,    215.9,3,  0.3460,    209.1,2,   123.96,2,    33.86,2,     2.21,2, -999.000,9, -999.000,9, -999.000,9, -999.000,9, -999.000,9,-999.0000,9,  -999.00,9,-999.000,9,   -999.0,9,   -999.0,9,-999.0,  -999.0,-999.0000,-999.000,-999.000,-999.000,-999.000
      74JC10_1,   A23,    72,  1,   7220,     27,2,19950421,1324,-49.8260, -35.6065, 4967,   3015,   3004.7,   0.5420,  34.6877,2,  34.6916,3,    215.9,3,  0.3460,    207.1,2,   118.20,2,    33.57,2,     2.19,2, -999.000,9, -999.000,9, -999.000,9, -999.000,9, -999.000,9,-999.0000,9,  -999.00,9,-999.000,9,   -999.0,9,   -999.0,9,-999.0,  -999.0,-999.0000,-999.000,   0.620,-999.000,-999.000
      74JC10_1,   A23,    72,  1,   7214,     14,2,19950421,1324,-49.8260, -35.6065, 4967,   3363,   3353.2,   0.3756,  34.6792,2,  34.6751,3,    219.4,3,  0.1518,    214.7,2,   122.89,2,    34.28,2,  -999.00,5, -999.000,9, -999.000,9, -999.000,9, -999.000,9, -999.000,9,-999.0000,9,  -999.00,9,-999.000,9,   -999.0,9,   -999.0,9,-999.0,  -999.0,-999.0000,-999.000,-999.000,-999.000,-999.000
      74JC10_1,   A23,    72,  1,   7215,     15,2,19950421,1324,-49.8260, -35.6065, 4967,   3363,   3353.2,   0.3756,  34.6792,2,  34.6791,2,    219.4,3,  0.1518,    215.5,2,   124.25,2,    34.40,2,     2.19,2, -999.000,9, -999.000,9, -999.000,9, -999.000,9, -999.000,9,-999.0000,9,  -999.00,9,-999.000,9,   -999.0,9,   -999.0,9,-999.0,  -999.0,-999.0000,-999.000,-999.000,-999.000,-999.000
      74JC10_1,   A23,    72,  1,   7216,     16,2,19950421,1324,-49.8260, -35.6065, 4967,   3363,   3353.2,   0.3756,  34.6792,2,  34.6794,2,    219.4,3,  0.1518,    213.1,2,   124.35,2,    34.20,2,     2.20,2, -999.000,9, -999.000,9, -999.000,9, -999.000,9, -999.000,9,-999.0000,9,  -999.00,9,-999.000,9,   -999.0,9,   -999.0,9,-999.0,  -999.0,-999.0000,-999.000,-999.000,-999.000,-999.000
      74JC10_1,   A23,    72,  1,   7217,     17,2,19950421,1324,-49.8260, -35.6065, 4967,   3363,   3353.2,   0.3756,  34.6792,2,  34.6794,2,    219.4,3,  0.1518,    211.8,2,   125.13,2,    33.91,2,     2.17,2, -999.000,9, -999.000,9, -999.000,9, -999.000,9, -999.000,9,-999.0000,9,  -999.00,9,-999.000,9,   -999.0,9,   -999.0,9,-999.0,  -999.0,-999.0000,-999.000,-999.000,-999.000,-999.000
      74JC10_1,   A23,    72,  1,   7210,     10,2,19950421,1324,-49.8260, -35.6065, 4967,   3715,   3705.5,   0.2581,  34.6733,2,  34.6720,3,    223.1,3,  0.0038,    217.8,2,   121.81,2,    34.19,2,     2.22,2, -999.000,9, -999.000,9, -999.000,9, -999.000,9, -999.000,9,-999.0000,9,  -999.00,9,-999.000,9,   -999.0,9,   -999.0,9,-999.0,  -999.0,-999.0000,-999.000,-999.000,-999.000,-999.000
      74JC10_1,   A23,    72,  1,   7211,     24,2,19950421,1324,-49.8260, -35.6065, 4967,   3715,   3705.5,   0.2581,  34.6733,2,  34.6736,2,    223.1,3,  0.0038,    217.5,2,   121.52,2,    34.80,2,     2.26,2, -999.000,9, -999.000,9, -999.000,9, -999.000,9, -999.000,9,-999.0000,9,  -999.00,9,-999.000,9,   -999.0,9,   -999.0,9,-999.0,  -999.0,-999.0000,-999.000,-999.000,-999.000,-999.000
      74JC10_1,   A23,    72,  1,   7212,     12,2,19950421,1324,-49.8260, -35.6065, 4967,   3715,   3705.5,   0.2581,  34.6733,2,  34.6747,2,    223.1,3,  0.0038,    216.2,2,   123.77,2,    34.49,2,     2.19,2, -999.000,9, -999.000,9, -999.000,9, -999.000,9, -999.000,9,-999.0000,9,  -999.00,9,-999.000,9,   -999.0,9,   -999.0,9,-999.0,  -999.0,-999.0000,-999.000,-999.000,-999.000,-999.000
      74JC10_1,   A23,    72,  1,   7213,     13,2,19950421,1324,-49.8260, -35.6065, 4967,   3715,   3705.5,   0.2581,  34.6733,2,  34.6743,3,    223.1,3,  0.0038,    216.4,2,   126.40,2,    34.16,2,     2.19,2, -999.000,9, -999.000,9, -999.000,9, -999.000,9, -999.000,9,-999.0000,9,  -999.00,9,-999.000,9,   -999.0,9,   -999.0,9,-999.0,  -999.0,-999.0000,-999.000,-999.000,-999.000,-999.000
      74JC10_1,   A23,    72,  1,   7208,      8,2,19950421,1324,-49.8260, -35.6065, 4967,   4020,   4010.9,   0.1634,  34.6697,2,  34.6700,3,    226.4,3, -0.1185,    219.1,2,   122.11,2,    34.13,2,     2.22,2, -999.000,9, -999.000,9, -999.000,9, -999.000,9, -999.000,9,-999.0000,9,  -999.00,9,-999.000,9,   -999.0,9,   -999.0,9,-999.0,  -999.0,-999.0000,-999.000,-999.000,-999.000,-999.000
      74JC10_1,   A23,    72,  1,   7209,      9,2,19950421,1324,-49.8260, -35.6065, 4967,   4020,   4010.9,   0.1634,  34.6697,2,  34.6706,2,    226.4,3, -0.1185,    219.0,2,   120.84,2,    34.19,2,     2.28,2, -999.000,9, -999.000,9, -999.000,9, -999.000,9, -999.000,9,-999.0000,9,  -999.00,9,-999.000,9,   -999.0,9,   -999.0,9,-999.0,  -999.0,-999.0000,-999.000,-999.000,-999.000,-999.000
      74JC10_1,   A23,    72,  1,   7207,     26,2,19950421,1324,-49.8260, -35.6065, 4967,   4529,   4520.9,   0.0968,  34.6649,2,  34.6649,3,    230.5,3, -0.2363,    223.2,2,   121.81,2,    34.09,2,     2.21,2, -999.000,9, -999.000,9, -999.000,9, -999.000,9, -999.000,9,-999.0000,9,  -999.00,9,-999.000,9,   -999.0,9,   -999.0,9,-999.0,  -999.0,-999.0000,-999.000,   0.091,-999.000,-999.000
      74JC10_1,   A23,    72,  1,   7218,     18,2,19950421,1324,-49.8260, -35.6065, 4967,   4529,   4520.9,   0.0968,  34.6649,2,  34.6659,3,    230.5,3, -0.2363,    223.0,2,   130.31,2,    34.24,2,     2.20,2, -999.000,9, -999.000,9, -999.000,9, -999.000,9, -999.000,9,-999.0000,9,  -999.00,9,-999.000,9,   -999.0,9,   -999.0,9,-999.0,  -999.0,-999.0000,-999.000,-999.000,-999.000,-999.000
      74JC10_1,   A23,    72,  1,   7205,      5,2,19950421,1324,-49.8260, -35.6065, 4967,   4832,   4824.4,   0.0414,  34.6617,2,  34.6610,2,    234.0,3, -0.3231,    227.0,2,   122.79,2,    34.11,2,     2.22,2, -999.000,9, -999.000,9, -999.000,9, -999.000,9, -999.000,9,-999.0000,9,  -999.00,9,-999.000,9,   -999.0,9,   -999.0,9,-999.0,  -999.0,-999.0000,-999.000,-999.000,-999.000,-999.000
      74JC10_1,   A23,    72,  1,   7206,      6,2,19950421,1324,-49.8260, -35.6065, 4967,   4832,   4824.4,   0.0414,  34.6617,2,  34.6624,2,    234.0,3, -0.3231,    227.1,2,   122.60,2,    34.48,2,     2.20,2, -999.000,9, -999.000,9, -999.000,9, -999.000,9, -999.000,9,-999.0000,9,  -999.00,9,-999.000,9,   -999.0,9,   -999.0,9,-999.0,  -999.0,-999.0000,-999.000,-999.000,-999.000,-999.000
      74JC10_1,   A23,    72,  1,   7202,      2,2,19950421,1324,-49.8260, -35.6065, 4967,   5043,   5036.6,   0.0373,  34.6600,2,  34.6602,2,    235.0,3, -0.3510,    228.2,2,   123.86,2,    33.79,2,     2.18,2, -999.000,9, -999.000,9, -999.000,9, -999.000,9, -999.000,9,-999.0000,9,  -999.00,9,-999.000,9,   -999.0,9,   -999.0,9,-999.0,  -999.0,-999.0000,-999.000,-999.000,-999.000,-999.000
      74JC10_1,   A23,    72,  1,   7201,      1,2,19950421,1324,-49.8260, -35.6065, 4967,   5044,   5037.4,   0.0381,  34.6599,2,  34.6586,2,    235.0,3, -0.3502,    228.7,2,   123.67,2,    32.99,2,     2.17,2, -999.000,9, -999.000,9, -999.000,9, -999.000,9, -999.000,9,-999.0000,9,  -999.00,9,-999.000,9,   -999.0,9,   -999.0,9,-999.0,  5029.0,-999.0000,-999.000,   0.032,-999.000,-999.000
      74JC10_1,   A23,    72,  1,   7203,      3,2,19950421,1324,-49.8260, -35.6065, 4967,   5045,   5038.2,   0.0368,  34.6609,2,  34.6606,2,    235.1,3, -0.3516,    227.6,2,   123.77,2,    34.43,2,     2.18,2, -999.000,9, -999.000,9, -999.000,9, -999.000,9, -999.000,9,-999.0000,9,  -999.00,9,-999.000,9,   -999.0,9,   -999.0,9,-999.0,  -999.0,-999.0000,-999.000,-999.000,-999.000,-999.000
      74JC10_1,   A23,    72,  1,   7204,      4,2,19950421,1324,-49.8260, -35.6065, 4967,   5045,   5038.2,   0.0368,  34.6609,2,  34.6596,3,    235.1,3, -0.3516,    227.1,2,   124.06,2,    34.43,2,     2.27,2, -999.000,9, -999.000,9, -999.000,9, -999.000,9, -999.000,9,-999.0000,9,  -999.00,9,-999.000,9,   -999.0,9,   -999.0,9,-999.0,  5044.0,-999.0000,-999.000,   0.029,-999.000,-999.000