BOTTLE,20220810CCHSIOAMB
EXPOCODE,SECT_ID,STNNBR,CASTNO,SAMPNO,BTLNBR,BTLNBR_FLAG_W,DATE,TIME,LATITUDE,LONGITUDE,DEPTH,CTDRAW,CTDPRS,CTDTMP,CTDSAL,CTDSAL_FLAG_W,SALNTY,SALNTY_FLAG_W,CTDOXY,CTDOXY_FLAG_W,THETA,OXYGEN,OXYGEN_FLAG_W,SILCAT,SILCAT_FLAG_W,NO2+NO3,NO2+NO3_FLAG_W,PHSPHT,PHSPHT_FLAG_W,CFC-11,CFC-11_FLAG_W,CFC-12,CFC-12_FLAG_W,CFC113,CFC113_FLAG_W,CCL4,CCL4_FLAG_W,TRITUM,TRITUM_FLAG_W,HELIUM,HELIUM_FLAG_W,DELHE3,DELHE3_FLAG_W,NEON,NEON_FLAG_W,TCARBN,TCARBN_FLAG_W,PCO2,PCO2_FLAG_W,PCO2TMP,REVPRS,HELIER,TRITER,REVTMP,NEONER,DELHER
,,,,,,,,,,,,,DBAR,ITS-90,PSS-78,,PSS-78,,UMOL/KG,,DEG C,UMOL/KG,,UMOL/KG,,UMOL/KG,,UMOL/KG,,PMOL/KG,,PMOL/KG,,PMOL/KG,,PMOL/KG,,TU,,NMOL/KG,,PERCNT,,NMOL/KG,,UMOL/KG,,UATM,,DEG C,DBAR,NMOL/KG,TU,ITS-90,NMOL/KG,PERCNT
      74JC10_1,   A23,    28,  1,   2822,     25,2,19950406,1459,-62.4912, -31.2615, 4794,     14,     11.8,  -1.5718,  33.6153,2,  33.6140,2,    347.6,3, -1.5720,    345.5,2,    69.35,2,    26.12,2,     1.78,2, -999.000,9, -999.000,9, -999.000,9, -999.000,9, -999.000,9,-999.0000,9,  -999.00,9,-999.000,9,   2150.3,6,    337.9,2,   4.0,  -999.0,-999.0000,-999.000,-999.000,-999.000,-999.000
      74JC10_1,   A23,    28,  1,   2821,     21,2,19950406,1459,-62.4912, -31.2615, 4794,     58,     55.8,  -1.5736,  33.6174,2,  33.6770,2,    346.0,3, -1.5747,    341.0,2,    69.61,2,    26.21,2,     1.77,2, -999.000,9, -999.000,9, -999.000,9, -999.000,9, -999.000,9,-999.0000,9,  -999.00,9,-999.000,9,   -999.0,9,   -999.0,9,-999.0,  -999.0,-999.0000,-999.000,-999.000,-999.000,-999.000
      74JC10_1,   A23,    28,  1,   2820,     26,2,19950406,1459,-62.4912, -31.2615, 4794,    109,    105.3,  -1.2808,  34.4014,2,  34.4025,2,    277.8,3, -1.2834,    272.6,2,    79.62,2,    29.22,2,     1.98,2, -999.000,9, -999.000,9, -999.000,9, -999.000,9, -999.000,9,-999.0000,9,  -999.00,9,-999.000,9,   2216.3,6,    400.1,2,   4.0,  -999.0,-999.0000,-999.000,  -1.305,-999.000,-999.000
      74JC10_1,   A23,    28,  1,   2819,     19,2,19950406,1459,-62.4912, -31.2615, 4794,    158,    154.0,  -0.3972,  34.5479,2,  34.5494,2,    241.2,3, -0.4022,    228.6,2,    91.66,2,    31.09,2,     2.12,2, -999.000,9, -999.000,9, -999.000,9, -999.000,9, -999.000,9,-999.0000,9,  -999.00,9,-999.000,9,   -999.0,9,   -999.0,9,-999.0,  -999.0,-999.0000,-999.000,-999.000,-999.000,-999.000
      74JC10_1,   A23,    28,  1,   2818,     18,2,19950406,1459,-62.4912, -31.2615, 4794,    209,    204.5,   0.1820,  34.6384,2,  34.6319,2,    214.4,3,  0.1741,    204.1,2,    99.27,2,    32.10,2,     2.22,2, -999.000,9, -999.000,9, -999.000,9, -999.000,9, -999.000,9,-999.0000,9,  -999.00,9,-999.000,9,   -999.0,9,   -999.0,9,-999.0,  -999.0,-999.0000,-999.000,-999.000,-999.000,-999.000
      74JC10_1,   A23,    28,  1,   2817,     17,2,19950406,1459,-62.4912, -31.2615, 4794,    259,    253.6,   0.4892,  34.6773,2,  34.6761,2,    201.1,3,  0.4786,    192.4,2,   106.49,2,    32.71,2,     2.26,2, -999.000,9, -999.000,9, -999.000,9, -999.000,9, -999.000,9,-999.0000,9,  -999.00,9,-999.000,9,   -999.0,9,   -999.0,9,-999.0,  -999.0,-999.0000,-999.000,-999.000,-999.000,-999.000
      74JC10_1,   A23,    28,  1,   2816,     16,2,19950406,1459,-62.4912, -31.2615, 4794,    359,    352.2,   0.5077,  34.6862,2,  34.6869,2,    199.5,3,  0.4927,    190.5,2,   112.05,2,    32.61,3,     2.25,2, -999.000,9, -999.000,9, -999.000,9, -999.000,9, -999.000,9,-999.0000,9,  -999.00,9,-999.000,9,   -999.0,9,   -999.0,9,-999.0,  -999.0,-999.0000,-999.000,-999.000,-999.000,-999.000
      74JC10_1,   A23,    28,  1,   2815,     15,2,19950406,1459,-62.4912, -31.2615, 4794,    502,    494.3,   0.4350,  34.6861,2,  34.6865,2,    200.4,3,  0.4136,    193.2,2,   115.76,2,    32.65,3,     2.35,2, -999.000,9, -999.000,9, -999.000,9, -999.000,9, -999.000,9,-999.0000,9,  -999.00,9,-999.000,9,   -999.0,9,   -999.0,9,-999.0,  -999.0,-999.0000,-999.000,-999.000,-999.000,-999.000
      74JC10_1,   A23,    28,  1,   2814,     14,2,19950406,1459,-62.4912, -31.2615, 4794,    760,    750.2,   0.2930,  34.6816,2,  34.6818,2,    204.2,3,  0.2597,    197.7,2,   119.37,2,    32.70,2,     2.26,2, -999.000,9, -999.000,9, -999.000,9, -999.000,9, -999.000,9,-999.0000,9,  -999.00,9,-999.000,9,   -999.0,9,   -999.0,9,-999.0,  -999.0,-999.0000,-999.000,-999.000,-999.000,-999.000
      74JC10_1,   A23,    28,  1,   2813,     13,2,19950406,1459,-62.4912, -31.2615, 4794,   1010,    998.7,   0.1808,  34.6780,2,  34.6773,2,    209.6,3,  0.1352,    203.2,2,   121.03,2,    32.63,2,     2.25,2, -999.000,9, -999.000,9, -999.000,9, -999.000,9, -999.000,9,-999.0000,9,  -999.00,9,-999.000,9,   -999.0,9,   -999.0,9,-999.0,  -999.0,-999.0000,-999.000,-999.000,-999.000,-999.000
      74JC10_1,   A23,    28,  1,   2812,     12,2,19950406,1459,-62.4912, -31.2615, 4794,   1261,   1249.3,   0.0779,  34.6733,2,  34.6732,2,    215.3,3,  0.0191,    208.6,2,   120.25,2,    32.11,2,     2.22,2, -999.000,9, -999.000,9, -999.000,9, -999.000,9, -999.000,9,-999.0000,9,  -999.00,9,-999.000,9,   -999.0,9,   -999.0,9,-999.0,  -999.0,-999.0000,-999.000,-999.000,-999.000,-999.000
      74JC10_1,   A23,    28,  1,   2811,     11,2,19950406,1459,-62.4912, -31.2615, 4794,   1511,   1498.3,  -0.0133,  34.6696,2,  34.6686,2,    220.9,3, -0.0859,    214.5,2,   120.64,2,    32.14,2,     2.27,2, -999.000,9, -999.000,9, -999.000,9, -999.000,9, -999.000,9,-999.0000,9,  -999.00,9,-999.000,9,   -999.0,9,   -999.0,9,-999.0,  -999.0,-999.0000,-999.000,-999.000,-999.000,-999.000
      74JC10_1,   A23,    28,  1,   2810,     10,2,19950406,1459,-62.4912, -31.2615, 4794,   1761,   1748.6,  -0.0859,  34.6665,2,  34.6657,2,    225.7,3, -0.1734,    218.9,2,   120.64,2,    31.93,2,     2.20,2, -999.000,9, -999.000,9, -999.000,9, -999.000,9, -999.000,9,-999.0000,9,  -999.00,9,-999.000,9,   -999.0,9,   -999.0,9,-999.0,  -999.0,-999.0000,-999.000,-999.000,-999.000,-999.000
      74JC10_1,   A23,    28,  1,   2809,      9,2,19950406,1459,-62.4912, -31.2615, 4794,   2011,   1998.7,  -0.1566,  34.6632,2,  34.6639,2,    230.2,3, -0.2597,    222.1,2,   120.25,2,    31.79,2,     2.19,2, -999.000,9, -999.000,9, -999.000,9, -999.000,9, -999.000,9,-999.0000,9,  -999.00,9,-999.000,9,   2247.8,6,    461.8,2,   4.0,  -999.0,-999.0000,-999.000,-999.000,-999.000,-999.000
      74JC10_1,   A23,    28,  1,   2808,      8,2,19950406,1459,-62.4912, -31.2615, 4794,   2512,   2500.0,  -0.2434,  34.6606,2,  34.6610,2,    238.0,3, -0.3812,    226.0,2,   120.55,2,    31.78,2,     2.18,2, -999.000,9, -999.000,9, -999.000,9, -999.000,9, -999.000,9,-999.0000,9,  -999.00,9,-999.000,9,   -999.0,9,   -999.0,9,-999.0,  -999.0,-999.0000,-999.000,-999.000,-999.000,-999.000
      74JC10_1,   A23,    28,  1,   2807,      7,2,19950406,1459,-62.4912, -31.2615, 4794,   3011,   3001.0,  -0.3084,  34.6577,2,  34.6578,2,    242.2,3, -0.4848,    233.2,2,   119.18,2,    31.60,2,     2.19,2, -999.000,9, -999.000,9, -999.000,9, -999.000,9, -999.000,9,-999.0000,9,  -999.00,9,-999.000,9,   2243.1,6,    449.6,2,   4.0,  -999.0,-999.0000,-999.000,  -0.309,-999.000,-999.000
      74JC10_1,   A23,    28,  1,   2806,      6,2,19950406,1459,-62.4912, -31.2615, 4794,   3516,   3506.3,  -0.3791,  34.6534,2,  34.6521,2,    248.4,3, -0.5977,    238.1,2,   117.13,2,    31.28,2,     2.16,2,    0.411,2, -999.000,9,    0.000,2,    0.750,2, -999.000,9,-999.0000,9,  -999.00,9,-999.000,9,   -999.0,9,   -999.0,9,-999.0,  -999.0,-999.0000,-999.000,-999.000,-999.000,-999.000
      74JC10_1,   A23,    28,  1,   2805,      5,2,19950406,1459,-62.4912, -31.2615, 4794,   4021,   4011.9,  -0.4626,  34.6459,2,  34.6455,2,    256.6,3, -0.7263,    248.7,2,   109.52,2,    31.08,2,     2.13,2,    0.974,2,    0.468,2,    0.057,2,    1.037,2, -999.000,9,-999.0000,9,  -999.00,9,-999.000,9,   -999.0,9,   -999.0,9,-999.0,  -999.0,-999.0000,-999.000,-999.000,-999.000,-999.000
      74JC10_1,   A23,    28,  1,   2804,      4,2,19950406,1459,-62.4912, -31.2615, 4794,   4527,   4519.6,  -0.4545,  34.6442,2,  34.6431,2,    259.4,3, -0.7696,    244.9,2,   107.08,2,    31.09,2,     2.12,2,    1.199,2,    0.587,2,    0.043,2,    1.213,2, -999.000,9,-999.0000,9,  -999.00,9,-999.000,9,   2237.6,6,    428.8,2,   4.0,  4529.0,-999.0000,-999.000,  -0.462,-999.000,-999.000
      74JC10_1,   A23,    28,  1,   2803,      3,2,19950406,1459,-62.4912, -31.2615, 4794,   4654,   4646.1,  -0.4441,  34.6441,2,  34.6441,2,    260.1,3, -0.7729,    252.9,3,   107.37,2,    31.10,2,     2.13,2,    1.229,2,    0.567,2,    0.074,2,    1.183,2, -999.000,9,-999.0000,9,  -999.00,9,-999.000,9,   2238.0,3,    435.5,2,   4.0,  -999.0,-999.0000,-999.000,-999.000,-999.000,-999.000
      74JC10_1,   A23,    28,  1,   2802,      2,2,19950406,1459,-62.4912, -31.2615, 4794,   4859,   4851.8,  -0.4217,  34.6433,2,  34.6443,2,    258.0,3, -0.7734,    248.7,2,   107.18,2,    30.94,2,     2.11,2, -999.000,9, -999.000,9, -999.000,9, -999.000,9, -999.000,9,-999.0000,9,  -999.00,9,-999.000,9,   2238.3,6,    427.7,2,   4.0,  -999.0,-999.0000,-999.000,-999.000,-999.000,-999.000
      74JC10_1,   A23,    28,  1,   2801,      1,2,19950406,1459,-62.4912, -31.2615, 4794,   4859,   4852.4,  -0.4217,  34.6434,2,  34.6441,2,    258.3,3, -0.7735,    250.2,2,   108.15,2,    31.08,2,     2.11,2,    1.229,2,    0.570,2,    0.068,2,    1.201,2, -999.000,9,-999.0000,9,  -999.00,9,-999.000,9,   -999.0,9,   -999.0,9,-999.0,  4844.0,-999.0000,-999.000,  -0.428,-999.000,-999.000
      74JC10_1,   A23,    29,  1,   2922,     25,2,19950406,2101,-62.0753, -31.1835, 4890,     13,     11.5,  -1.3380,  33.6205,2,  33.6207,2,    345.5,3, -1.3383,   -999.0,5,    68.27,2,    26.39,2,     1.73,2,    6.798,2,    3.240,2,    0.626,2,    8.149,2, -999.000,9,-999.0000,9,  -999.00,9,-999.000,9,   -999.0,9,   -999.0,9,-999.0,  -999.0,-999.0000,-999.000,-999.000,-999.000,-999.000
      74JC10_1,   A23,    29,  1,   2921,     21,2,19950406,2101,-62.0753, -31.1835, 4890,     58,     55.6,  -1.4577,  34.0839,2,  34.0889,2,    326.5,3, -1.4589,    307.8,2,    71.58,2,    27.27,2,     1.81,2,    5.255,2,    2.522,2,    0.458,2,    5.676,2, -999.000,9,-999.0000,9,  -999.00,9,-999.000,9,   -999.0,9,   -999.0,9,-999.0,  -999.0,-999.0000,-999.000,-999.000,-999.000,-999.000
      74JC10_1,   A23,    29,  1,   2920,     26,2,19950406,2101,-62.0753, -31.1835, 4890,    108,    104.6,  -1.4831,  34.3732,2,  34.3727,2,    286.8,3, -1.4855,    272.6,2,    79.03,2,    29.44,2,     1.97,2,    4.232,2,    1.979,2,    0.365,2,    4.399,2, -999.000,9,-999.0000,9,  -999.00,9,-999.000,9,   -999.0,9,   -999.0,9,-999.0,  -999.0,-999.0000,-999.000,  -1.507,-999.000,-999.000
      74JC10_1,   A23,    29,  1,   2919,     19,2,19950406,2101,-62.0753, -31.1835, 4890,    158,    154.3,  -0.3886,  34.5501,2,  34.5415,2,    243.2,3, -0.3937,    229.7,3,    91.02,2,    31.63,2,     2.12,2,    2.422,2,    1.091,2,    0.145,2,    2.607,2, -999.000,9,-999.0000,9,  -999.00,9,-999.000,9,   -999.0,9,   -999.0,9,-999.0,  -999.0,-999.0000,-999.000,-999.000,-999.000,-999.000
      74JC10_1,   A23,    29,  1,   2918,     18,2,19950406,2101,-62.0753, -31.1835, 4890,    208,    203.1,   0.3229,  34.6520,2,  34.6523,2,    214.0,3,  0.3149,    196.9,2,   101.32,2,    32.25,2,     2.19,2,    0.913,2,    0.388,2,    0.046,2,    1.053,2, -999.000,9,-999.0000,9,  -999.00,9,-999.000,9,   -999.0,9,   -999.0,9,-999.0,  -999.0,-999.0000,-999.000,-999.000,-999.000,-999.000
      74JC10_1,   A23,    29,  1,   2917,     17,2,19950406,2101,-62.0753, -31.1835, 4890,    259,    253.3,   0.5072,  34.6757,2,  34.6775,2,    199.0,3,  0.4966,    190.3,2,   105.51,2,    32.63,2,     2.21,2,    0.527,2,    0.253,2,    0.012,2,    0.705,2, -999.000,9,-999.0000,9,  -999.00,9,-999.000,9,   -999.0,9,   -999.0,9,-999.0,  -999.0,-999.0000,-999.000,-999.000,-999.000,-999.000
      74JC10_1,   A23,    29,  1,   2916,     16,2,19950406,2101,-62.0753, -31.1835, 4890,    359,    352.2,   0.5603,  34.6869,2,  34.6879,2,    197.8,3,  0.5451,    193.6,2,   109.90,2,    32.64,2,     2.22,2,    0.268,2,    0.126,2,    0.000,2,    0.502,2, -999.000,9,-999.0000,9,  -999.00,9,-999.000,9,   -999.0,9,   -999.0,9,-999.0,  -999.0,-999.0000,-999.000,-999.000,-999.000,-999.000
      74JC10_1,   A23,    29,  1,   2915,     15,2,19950406,2101,-62.0753, -31.1835, 4890,    509,    500.6,   0.4641,  34.6876,2,  34.6879,2,    199.1,3,  0.4423,    193.9,3,   115.08,2,    32.76,2,     2.23,2,    0.127,2,    0.080,2,    0.000,2,    0.361,2, -999.000,9,-999.0000,9,  -999.00,9,-999.000,9,   -999.0,9,   -999.0,9,-999.0,  -999.0,-999.0000,-999.000,-999.000,-999.000,-999.000
      74JC10_1,   A23,    29,  1,   2914,     14,2,19950406,2101,-62.0753, -31.1835, 4890,    760,    750.4,   0.3074,  34.6818,2,  34.6830,2,    202.1,3,  0.2740,    198.1,2,   118.30,2,    32.77,2,     2.24,2,    0.086,2,    0.051,2,    0.000,2,    0.296,2, -999.000,9,-999.0000,9,  -999.00,9,-999.000,9,   -999.0,9,   -999.0,9,-999.0,  -999.0,-999.0000,-999.000,-999.000,-999.000,-999.000
      74JC10_1,   A23,    29,  1,   2913,     13,2,19950406,2101,-62.0753, -31.1835, 4890,   1010,    998.4,   0.1914,  34.6784,2,  34.6779,2,    208.1,3,  0.1457,    204.6,2,   119.96,2,    32.55,2,     2.22,2,    0.079,2,    0.033,3,    0.000,2,    0.315,2, -999.000,9,-999.0000,9,  -999.00,9,-999.000,9,   -999.0,9,   -999.0,9,-999.0,  -999.0,-999.0000,-999.000,-999.000,-999.000,-999.000
      74JC10_1,   A23,    29,  1,   2912,     12,2,19950406,2101,-62.0753, -31.1835, 4890,   1260,   1247.6,   0.0805,  34.6735,2,  34.6736,2,    214.0,3,  0.0218,    209.4,2,   119.57,2,    32.21,2,     2.20,2,    0.080,2,    0.061,2,    0.000,2,    0.314,2, -999.000,9,-999.0000,9,  -999.00,9,-999.000,9,   -999.0,9,   -999.0,9,-999.0,  -999.0,-999.0000,-999.000,-999.000,-999.000,-999.000
      74JC10_1,   A23,    29,  1,   2911,     11,2,19950406,2101,-62.0753, -31.1835, 4890,   1511,   1498.8,  -0.0133,  34.6711,2,  34.6698,2,    219.7,3, -0.0859,    217.6,2,   120.15,2,    32.21,2,     2.20,2,    0.139,2,    0.099,2,    0.000,2,    0.374,2,    0.014,2,   1.8530,2,     7.52,2,   8.076,2,   -999.0,9,   -999.0,9,-999.0,  -999.0,  0.0070,   0.004,-999.000,   0.025,   0.300
      74JC10_1,   A23,    29,  1,   2910,     10,2,19950406,2101,-62.0753, -31.1835, 4890,   1760,   1748.0,  -0.1007,  34.6676,2,  34.6665,2,    225.3,3, -0.1879,    220.2,2,   120.06,2,    32.03,2,     2.19,2,    0.112,2,    0.066,2,    0.000,2,    0.403,2, -999.000,9,-999.0000,9,  -999.00,9,-999.000,9,   -999.0,9,   -999.0,9,-999.0,  -999.0,-999.0000,-999.000,-999.000,-999.000,-999.000
      74JC10_1,   A23,    29,  1,   2909,      9,2,19950406,2101,-62.0753, -31.1835, 4890,   2012,   1999.4,  -0.1568,  34.6649,2,  34.6645,2,    228.6,3, -0.2600,    223.0,2,   120.25,2,    31.88,2,     2.18,2,    0.114,2,    0.073,2,    0.001,2,    0.408,2,    0.014,2,   1.8740,2,     7.13,2,   8.168,2,   -999.0,9,   -999.0,9,-999.0,  -999.0,  0.0070,   0.002,-999.000,   0.025,   0.300
      74JC10_1,   A23,    29,  1,   2908,      8,2,19950406,2101,-62.0753, -31.1835, 4890,   2511,   2499.6,  -0.2604,  34.6600,2,  34.6602,2,    235.7,3, -0.3979,    229.1,2,   118.98,2,    31.74,2,     2.16,2,    0.178,2,    0.105,2,    0.000,2,    0.553,2, -999.000,9,-999.0000,9,  -999.00,9,-999.000,9,   -999.0,9,   -999.0,9,-999.0,  -999.0,-999.0000,-999.000,-999.000,-999.000,-999.000
      74JC10_1,   A23,    29,  1,   2907,      7,2,19950406,2101,-62.0753, -31.1835, 4890,   3014,   3003.1,  -0.3500,  34.6547,2,  34.6549,2,    242.2,3, -0.5257,    236.8,2,   115.47,2,    31.45,2,     2.16,2,    0.497,2,    0.246,2,    0.028,2,    0.792,2, -999.000,9,   1.9050,3,     5.22,2,   8.229,2,   -999.0,9,   -999.0,9,-999.0,  -999.0,  0.0070,-999.000,  -0.350,   0.026,   0.300
      74JC10_1,   A23,    29,  1,   2906,      6,2,19950406,2101,-62.0753, -31.1835, 4890,   3514,   3504.4,  -0.4234,  34.6498,2,  34.6498,2,    248.9,3, -0.6407,    240.2,2,   112.15,2,    31.34,2,     2.15,2,    0.709,2,    0.375,2,    0.019,2,    0.528,2,    0.034,2,   1.8830,2,     4.96,2,   8.198,2,   -999.0,9,   -999.0,9,-999.0,  -999.0,  0.0070,   0.003,-999.000,   0.025,   0.300
      74JC10_1,   A23,    29,  1,   2905,      5,2,19950406,2101,-62.0753, -31.1835, 4890,   4020,   4010.8,  -0.4461,  34.6456,2,  34.6449,2,    253.7,3, -0.7102,    245.5,2,   108.05,2,    31.28,2,     2.12,2,    1.096,2,    0.490,2,    0.061,2,    0.921,2,    0.045,2,   1.8800,2,     4.44,2,   8.276,2,   -999.0,9,   -999.0,9,-999.0,  -999.0,  0.0070,   0.005,-999.000,   0.026,   0.300
      74JC10_1,   A23,    29,  1,   2904,      4,2,19950406,2101,-62.0753, -31.1835, 4890,   4524,   4515.8,  -0.4175,  34.6445,2,  34.6441,2,    255.2,3, -0.7335,    248.0,2,   108.64,2,    31.27,2,     2.12,2,    1.121,2,    0.490,3,    0.048,2,    0.969,2,    0.060,2,   1.8770,2,     4.59,2,   8.237,2,   -999.0,9,   -999.0,9,-999.0,  4528.0,  0.0070,   0.015,  -0.425,   0.026,   0.300
      74JC10_1,   A23,    29,  1,   2903,      3,2,19950406,2101,-62.0753, -31.1835, 4890,   4728,   4720.4,  -0.4008,  34.6439,2,  34.6441,2,    256.3,3, -0.7390,    247.1,2,   108.15,2,    31.32,2,     2.15,2,    1.121,2,    0.486,3,    0.057,2,    0.969,2, -999.000,9,   1.8770,6,     4.48,6,   8.274,6,   -999.0,9,   -999.0,9,-999.0,  -999.0,  0.0070,-999.000,-999.000,   0.026,   0.300
      74JC10_1,   A23,    29,  1,   2902,      2,2,19950406,2101,-62.0753, -31.1835, 4890,   4948,   4941.0,  -0.3811,  34.6428,2,  34.6429,2,    254.2,3, -0.7439,    246.9,2,   108.15,2,    31.11,2,     2.12,2,    1.150,2,    0.558,2,    0.044,2,    0.882,2,    0.048,2,-999.0000,9,  -999.00,9,-999.000,9,   -999.0,9,   -999.0,9,-999.0,  -999.0,-999.0000,   0.003,-999.000,-999.000,-999.000
      74JC10_1,   A23,    29,  1,   2901,      1,2,19950406,2101,-62.0753, -31.1835, 4890,   4948,   4941.3,  -0.3811,  34.6431,2,  34.6433,2,    254.6,3, -0.7440,    248.3,2,   108.35,2,    31.17,2,     2.13,2,    1.111,2,    0.460,3,    0.048,2,    1.112,2,    0.060,4,   1.8830,2,     4.26,2,   8.211,2,   -999.0,9,   -999.0,9,-999.0,  4936.0,  0.0070,   0.003,  -0.386,   0.025,   0.300