BOTTLE,20220810CCHSIOAMB
EXPOCODE,SECT_ID,STNNBR,CASTNO,SAMPNO,BTLNBR,BTLNBR_FLAG_W,DATE,TIME,LATITUDE,LONGITUDE,DEPTH,CTDRAW,CTDPRS,CTDTMP,CTDSAL,CTDSAL_FLAG_W,SALNTY,SALNTY_FLAG_W,CTDOXY,CTDOXY_FLAG_W,THETA,OXYGEN,OXYGEN_FLAG_W,SILCAT,SILCAT_FLAG_W,NO2+NO3,NO2+NO3_FLAG_W,PHSPHT,PHSPHT_FLAG_W,CFC-11,CFC-11_FLAG_W,CFC-12,CFC-12_FLAG_W,CFC113,CFC113_FLAG_W,CCL4,CCL4_FLAG_W,TRITUM,TRITUM_FLAG_W,HELIUM,HELIUM_FLAG_W,DELHE3,DELHE3_FLAG_W,NEON,NEON_FLAG_W,TCARBN,TCARBN_FLAG_W,PCO2,PCO2_FLAG_W,PCO2TMP,REVPRS,HELIER,TRITER,REVTMP,NEONER,DELHER
,,,,,,,,,,,,,DBAR,ITS-90,PSS-78,,PSS-78,,UMOL/KG,,DEG C,UMOL/KG,,UMOL/KG,,UMOL/KG,,UMOL/KG,,PMOL/KG,,PMOL/KG,,PMOL/KG,,PMOL/KG,,TU,,NMOL/KG,,PERCNT,,NMOL/KG,,UMOL/KG,,UATM,,DEG C,DBAR,NMOL/KG,TU,ITS-90,NMOL/KG,PERCNT
      74JC10_1,   A23,    38,  1,   3819,     19,2,19950408,1332,-59.6738, -30.8965, 2935,     10,      8.4,  -0.6193,  33.6780,2,  33.6768,2,    352.2,3, -0.6196,    342.5,2,    57.98,2,    24.19,2,     1.48,2, -999.000,9, -999.000,9, -999.000,9, -999.000,9, -999.000,9,-999.0000,9,  -999.00,9,-999.000,9,   -999.0,9,   -999.0,9,-999.0,  -999.0,-999.0000,-999.000,-999.000,-999.000,-999.000
      74JC10_1,   A23,    38,  1,   3820,      7,2,19950408,1332,-59.6738, -30.8965, 2935,     10,      8.5,  -0.6194,  33.6779,2,  33.6782,2,    352.2,3, -0.6196,    342.3,2,    58.26,2,    24.14,2,     1.48,2, -999.000,9, -999.000,9, -999.000,9, -999.000,9, -999.000,9,-999.0000,9,  -999.00,9,-999.000,9,   -999.0,9,   -999.0,9,-999.0,  -999.0,-999.0000,-999.000,  -0.621,-999.000,-999.000
      74JC10_1,   A23,    38,  1,   3818,     18,2,19950408,1332,-59.6738, -30.8965, 2935,     56,     53.5,  -0.6751,  33.6970,2,  33.7472,2,    306.3,3, -0.6766,    332.8,2,    61.35,2,    24.87,2,     1.57,2, -999.000,9, -999.000,9, -999.000,9, -999.000,9, -999.000,9,-999.0000,9,  -999.00,9,-999.000,9,   -999.0,9,   -999.0,9,-999.0,  -999.0,-999.0000,-999.000,-999.000,-999.000,-999.000
      74JC10_1,   A23,    38,  1,   3817,     17,2,19950408,1332,-59.6738, -30.8965, 2935,     82,     78.9,  -1.5378,  34.2546,2,  34.2495,2,    292.4,3, -1.5396,    285.3,2,    80.51,2,    29.21,2,     2.00,2, -999.000,9, -999.000,9, -999.000,9, -999.000,9, -999.000,9,-999.0000,9,  -999.00,9,-999.000,9,   -999.0,9,   -999.0,9,-999.0,  -999.0,-999.0000,-999.000,-999.000,-999.000,-999.000
      74JC10_1,   A23,    38,  1,   3816,     16,2,19950408,1332,-59.6738, -30.8965, 2935,    107,    103.7,  -1.3229,  34.3579,2,  34.3794,2,    272.5,3, -1.3254,    263.6,2,    85.95,2,    30.42,2,     2.03,2, -999.000,9, -999.000,9, -999.000,9, -999.000,9, -999.000,9,-999.0000,9,  -999.00,9,-999.000,9,   -999.0,9,   -999.0,9,-999.0,  -999.0,-999.0000,-999.000,-999.000,-999.000,-999.000
      74JC10_1,   A23,    38,  1,   3815,     15,2,19950408,1332,-59.6738, -30.8965, 2935,    156,    152.2,  -0.6310,  34.4945,2,  34.5148,2,    247.3,3, -0.6357,    236.3,2,    93.67,2,    31.52,2,     2.12,2, -999.000,9, -999.000,9, -999.000,9, -999.000,9, -999.000,9,-999.0000,9,  -999.00,9,-999.000,9,   -999.0,9,   -999.0,9,-999.0,  -999.0,-999.0000,-999.000,-999.000,-999.000,-999.000
      74JC10_1,   A23,    38,  1,   3814,     14,2,19950408,1332,-59.6738, -30.8965, 2935,    207,    202.1,  -0.0378,  34.6027,2,  34.5995,2,    223.8,3, -0.0452,    215.6,2,   100.05,2,    32.13,2,     2.18,2, -999.000,9, -999.000,9, -999.000,9, -999.000,9, -999.000,9,-999.0000,9,  -999.00,9,-999.000,9,   -999.0,9,   -999.0,9,-999.0,  -999.0,-999.0000,-999.000,-999.000,-999.000,-999.000
      74JC10_1,   A23,    38,  1,   3813,     13,2,19950408,1332,-59.6738, -30.8965, 2935,    257,    251.9,   0.1891,  34.6333,2,  34.6362,2,    214.8,3,  0.1793,    207.3,2,   103.76,2,    32.40,2,     2.19,2, -999.000,9, -999.000,9, -999.000,9, -999.000,9, -999.000,9,-999.0000,9,  -999.00,9,-999.000,9,   -999.0,9,   -999.0,9,-999.0,  -999.0,-999.0000,-999.000,-999.000,-999.000,-999.000
      74JC10_1,   A23,    38,  1,   3812,     12,2,19950408,1332,-59.6738, -30.8965, 2935,    357,    350.9,   0.3841,  34.6670,2,  34.6667,2,    208.6,3,  0.3695,    201.9,2,   107.86,2,    32.51,2,     2.19,2, -999.000,9, -999.000,9, -999.000,9, -999.000,9, -999.000,9,-999.0000,9,  -999.00,9,-999.000,9,   -999.0,9,   -999.0,9,-999.0,  -999.0,-999.0000,-999.000,-999.000,-999.000,-999.000
      74JC10_1,   A23,    38,  1,   3811,     24,2,19950408,1332,-59.6738, -30.8965, 2935,    508,    499.8,   0.4244,  34.6787,2,  34.6794,2,    206.3,3,  0.4028,    199.8,2,   113.32,2,    32.54,2,     2.21,2, -999.000,9, -999.000,9, -999.000,9, -999.000,9, -999.000,9,-999.0000,9,  -999.00,9,-999.000,9,   -999.0,9,   -999.0,9,-999.0,  -999.0,-999.0000,-999.000,-999.000,-999.000,-999.000
      74JC10_1,   A23,    38,  1,   3810,     10,2,19950408,1332,-59.6738, -30.8965, 2935,    758,    748.3,   0.3292,  34.6797,2,  34.6794,2,    208.8,3,  0.2957,    202.3,2,   117.62,2,    32.48,2,     2.23,2, -999.000,9, -999.000,9, -999.000,9, -999.000,9, -999.000,9,-999.0000,9,  -999.00,9,-999.000,9,   -999.0,9,   -999.0,9,-999.0,  -999.0,-999.0000,-999.000,-999.000,-999.000,-999.000
      74JC10_1,   A23,    38,  1,   3809,      9,2,19950408,1332,-59.6738, -30.8965, 2935,   1009,    998.5,   0.2065,  34.6769,2,  34.6761,2,    213.2,3,  0.1607,    209.2,2,   120.45,2,    32.57,2,     2.22,2, -999.000,9, -999.000,9, -999.000,9, -999.000,9, -999.000,9,-999.0000,9,  -999.00,9,-999.000,9,   -999.0,9,   -999.0,9,-999.0,  -999.0,-999.0000,-999.000,-999.000,-999.000,-999.000
      74JC10_1,   A23,    38,  1,   3808,      8,2,19950408,1332,-59.6738, -30.8965, 2935,   1258,   1247.0,   0.1235,  34.6734,2,  34.6730,2,    217.9,3,  0.0644,    212.0,2,   120.06,2,    32.32,2,     2.21,2, -999.000,9, -999.000,9, -999.000,9, -999.000,9, -999.000,9,-999.0000,9,  -999.00,9,-999.000,9,   -999.0,9,   -999.0,9,-999.0,  -999.0,-999.0000,-999.000,-999.000,-999.000,-999.000
      74JC10_1,   A23,    38,  1,   3807,     26,2,19950408,1332,-59.6738, -30.8965, 2935,   1508,   1496.9,   0.0349,  34.6704,2,  34.6700,2,    221.4,3, -0.0382,    215.8,2,   121.03,2,    32.32,2,     2.20,2, -999.000,9, -999.000,9, -999.000,9, -999.000,9, -999.000,9,-999.0000,9,  -999.00,9,-999.000,9,   -999.0,9,   -999.0,9,-999.0,  -999.0,-999.0000,-999.000,   0.030,-999.000,-999.000
      74JC10_1,   A23,    38,  1,   3806,      6,2,19950408,1332,-59.6738, -30.8965, 2935,   1757,   1745.6,  -0.0444,  34.6657,2,  34.6661,2,    225.2,3, -0.1322,    220.8,2,   121.52,2,    32.30,2,     2.21,2, -999.000,9, -999.000,9, -999.000,9, -999.000,9, -999.000,9,-999.0000,9,  -999.00,9,-999.000,9,   -999.0,9,   -999.0,9,-999.0,  -999.0,-999.0000,-999.000,-999.000,-999.000,-999.000
      74JC10_1,   A23,    38,  1,   3805,      5,2,19950408,1332,-59.6738, -30.8965, 2935,   2008,   1997.0,  -0.1004,  34.6641,2,  34.6639,2,    228.3,3, -0.2043,    222.3,2,   121.91,2,    32.22,2,     2.20,2,    0.366,2,    0.196,2,    0.004,2,    0.632,2, -999.000,9,-999.0000,9,  -999.00,9,-999.000,9,   -999.0,9,   -999.0,9,-999.0,  -999.0,-999.0000,-999.000,-999.000,-999.000,-999.000
      74JC10_1,   A23,    38,  1,   3804,      4,2,19950408,1332,-59.6738, -30.8965, 2935,   2505,   2495.2,  -0.1375,  34.6608,2,  34.6608,2,    232.7,3, -0.2771,    224.9,2,   125.13,2,    32.17,2,     2.20,2,    0.394,2,    0.208,2,    0.011,2,    0.702,2, -999.000,9,-999.0000,9,  -999.00,9,-999.000,9,   -999.0,9,   -999.0,9,-999.0,  2501.0,-999.0000,-999.000,  -0.143,-999.000,-999.000
      74JC10_1,   A23,    38,  1,   3803,      3,2,19950408,1332,-59.6738, -30.8965, 2935,   2701,   2692.3,  -0.1351,  34.6604,2,  34.6602,2,    233.9,3, -0.2901,    225.9,3,   124.74,2,    32.15,2,     2.20,2, -999.000,9, -999.000,9, -999.000,9, -999.000,9, -999.000,9,-999.0000,9,  -999.00,9,-999.000,9,   -999.0,9,   -999.0,9,-999.0,  -999.0,-999.0000,-999.000,-999.000,-999.000,-999.000
      74JC10_1,   A23,    38,  1,   3802,      2,2,19950408,1332,-59.6738, -30.8965, 2935,   2923,   2914.4,  -0.1311,  34.6605,2,  34.6600,2,    233.5,3, -0.3042,    225.9,2,   124.06,2,    32.08,2,     2.22,2, -999.000,9, -999.000,9, -999.000,9, -999.000,9, -999.000,9,-999.0000,9,  -999.00,9,-999.000,9,   -999.0,9,   -999.0,9,-999.0,  -999.0,-999.0000,-999.000,-999.000,-999.000,-999.000
      74JC10_1,   A23,    38,  1,   3801,      1,2,19950408,1332,-59.6738, -30.8965, 2935,   2924,   2915.8,  -0.1311,  34.6604,2,  34.6598,2,    233.5,3, -0.3043,    230.4,3,   124.26,2,    32.02,2,     2.18,2,    0.442,2,    0.221,2,    0.004,2,    0.682,2, -999.000,9,-999.0000,9,  -999.00,9,-999.000,9,   -999.0,9,   -999.0,9,-999.0,  2894.0,-999.0000,-999.000,  -0.137,-999.000,-999.000
      74JC10_1,   A23,    39,  1,   3921,     21,2,19950408,1752,-59.4357, -30.8602, 3495,     11,      9.6,  -0.3878,  33.6558,2,  33.6533,2,    343.8,3, -0.3881,    337.4,2,    57.66,2,    23.97,2,     1.56,2,    6.532,2,    3.314,2,    0.653,2,    8.337,2, -999.000,9,-999.0000,9,  -999.00,9,-999.000,9,   -999.0,9,   -999.0,9,-999.0,  -999.0,-999.0000,-999.000,-999.000,-999.000,-999.000
      74JC10_1,   A23,    39,  1,   3920,      7,2,19950408,1752,-59.4357, -30.8602, 3495,     12,      9.7,  -0.3951,  33.6587,2,  33.6537,2,    343.8,3, -0.3954,    336.5,2,    57.43,2,    23.91,2,     1.64,2,    6.736,2,    3.388,2,    0.677,2,    8.412,2, -999.000,9,-999.0000,9,  -999.00,9,   8.203,2,   -999.0,9,   -999.0,9,-999.0,  -999.0,-999.0000,-999.000,  -0.393,   0.025,-999.000
      74JC10_1,   A23,    39,  1,   3919,     19,2,19950408,1752,-59.4357, -30.8602, 3495,     57,     54.7,  -0.4592,  33.6728,2,  33.6909,2,    345.9,3, -0.4609,    334.1,2,    58.49,2,    24.20,2,     1.59,2,    6.443,2,    3.213,2,    0.646,2,    7.853,2,    0.135,2,   1.8000,2,    -1.26,2,   8.098,2,   -999.0,9,   -999.0,9,-999.0,  -999.0,  0.0070,   0.027,-999.000,   0.025,   0.300
      74JC10_1,   A23,    39,  1,   3918,     18,2,19950408,1752,-59.4357, -30.8602, 3495,     81,     78.2,  -1.5029,  34.2011,2,  34.2109,2,    306.5,3, -1.5046,    294.8,2,    76.17,2,    28.50,2,     1.97,2,    4.909,2,    2.393,2,    0.457,2,    5.504,2,    0.098,2,-999.0000,9,  -999.00,9,-999.000,9,   -999.0,9,   -999.0,9,-999.0,  -999.0,-999.0000,   0.016,-999.000,-999.000,-999.000
      74JC10_1,   A23,    39,  1,   3917,     17,2,19950408,1752,-59.4357, -30.8602, 3495,    107,    103.5,  -1.5601,  34.3045,2,  34.2999,2,    283.7,3, -1.5624,    280.8,2,    79.31,2,    29.54,2,     1.99,2,    4.418,2,    2.173,2,    0.397,2,    4.960,2, -999.000,9,-999.0000,9,  -999.00,9,-999.000,9,   -999.0,9,   -999.0,9,-999.0,  -999.0,-999.0000,-999.000,-999.000,-999.000,-999.000
      74JC10_1,   A23,    39,  1,   3916,     16,2,19950408,1752,-59.4357, -30.8602, 3495,    155,    151.4,  -0.9097,  34.4439,2,  34.4428,2,    251.0,3, -0.9140,    248.9,2,    87.94,2,    31.00,2,     2.10,2,    3.237,2,    1.548,2,    0.270,2,    3.525,2,    0.081,2,-999.0000,9,  -999.00,9,-999.000,9,   -999.0,9,   -999.0,9,-999.0,  -999.0,-999.0000,   0.004,-999.000,-999.000,-999.000
      74JC10_1,   A23,    39,  1,   3915,     15,2,19950408,1752,-59.4357, -30.8602, 3495,    207,    202.3,  -0.2120,  34.5664,2,  34.5736,2,    226.8,3, -0.2191,    222.3,2,    96.06,2,    31.73,2,     2.18,2,    1.915,2,    0.899,2,    0.142,2,    2.137,2, -999.000,9,   1.8340,2,     6.31,2,   8.131,2,   -999.0,9,   -999.0,9,-999.0,  -999.0,  0.0070,-999.000,-999.000,   0.025,   0.300
      74JC10_1,   A23,    39,  1,   3914,     14,2,19950408,1752,-59.4357, -30.8602, 3495,    258,    252.2,   0.1838,  34.6366,2,  34.6343,2,    219.2,3,  0.1740,    210.0,2,   101.03,2,    32.21,2,     2.27,2,    1.222,2,    0.550,2,    0.083,2,    1.446,2, -999.000,9,   1.8460,2,     7.49,2,   8.124,2,   -999.0,9,   -999.0,9,-999.0,  -999.0,  0.0070,-999.000,-999.000,   0.025,   0.300
      74JC10_1,   A23,    39,  1,   3913,     13,2,19950408,1752,-59.4357, -30.8602, 3495,    358,    351.3,   0.3277,  34.6603,2,  34.6574,2,    213.0,3,  0.3133,    202.9,2,   104.25,2,    32.24,2,     2.22,2,    0.869,2, -999.000,9,    0.054,2,    1.084,2, -999.000,9,   1.8520,2,     8.61,2,   8.126,2,   -999.0,9,   -999.0,9,-999.0,  -999.0,  0.0070,-999.000,-999.000,   0.025,   0.300
      74JC10_1,   A23,    39,  1,   3912,     12,2,19950408,1752,-59.4357, -30.8602, 3495,    508,    500.1,   0.4325,  34.6775,2,  34.6757,2,    211.6,3,  0.4108,    200.5,2,   108.73,2,    32.17,2,     2.21,2,    0.465,2,    0.251,2,    0.020,2,    0.690,2,    0.029,2,   1.8530,2,     8.72,2,   8.118,2,   -999.0,9,   -999.0,9,-999.0,  -999.0,  0.0070,   0.002,-999.000,   0.025,   0.300
      74JC10_1,   A23,    39,  1,   3911,     24,2,19950408,1752,-59.4357, -30.8602, 3495,    757,    747.4,   0.3526,  34.6806,2,  34.6802,2,    211.6,3,  0.3191,    201.6,2,   115.27,2,    32.34,2,     2.25,2,    0.255,2,    0.132,2,    0.012,2,    0.477,2, -999.000,9,   1.8580,2,     8.44,2,-999.000,9,   -999.0,9,   -999.0,9,-999.0,  -999.0,  0.0070,-999.000,-999.000,-999.000,   0.300
      74JC10_1,   A23,    39,  1,   3910,     10,2,19950408,1752,-59.4357, -30.8602, 3495,   1007,    995.6,   0.2473,  34.6779,2,  34.6775,2,    214.2,3,  0.2013,    205.6,2,   118.01,2,    32.40,2,     2.41,3,    0.234,2,    0.123,2,    0.008,2,    0.456,2,    0.025,2,   1.8610,2,     7.88,2,   8.105,2,   -999.0,9,   -999.0,9,-999.0,  -999.0,  0.0070,   0.017,-999.000,   0.025,   0.300
      74JC10_1,   A23,    39,  1,   3909,      9,2,19950408,1752,-59.4357, -30.8602, 3495,   1259,   1247.2,   0.1390,  34.6728,2,  34.6732,2,    218.8,3,  0.0797,    209.8,2,   119.86,2,    32.30,2,     2.21,2,    0.228,2,    0.116,2,    0.010,2,    0.448,2, -999.000,9,   1.8670,2,     8.40,2,   8.203,2,   -999.0,9,   -999.0,9,-999.0,  -999.0,  0.0070,-999.000,-999.000,   0.025,   0.300
      74JC10_1,   A23,    39,  1,   3908,      8,2,19950408,1752,-59.4357, -30.8602, 3495,   1508,   1495.7,   0.0481,  34.6686,2,  34.6704,2,    222.0,3, -0.0250,    214.7,2,   119.86,2,    32.30,2,     2.30,2,    0.310,2,    0.174,3,    0.011,2,    0.578,2, -999.000,1,   1.8700,2,     8.29,2,   8.169,2,   -999.0,9,   -999.0,9,-999.0,  -999.0,  0.0070,-999.000,-999.000,   0.025,   0.300
      74JC10_1,   A23,    39,  1,   3907,     26,2,19950408,1752,-59.4357, -30.8602, 3495,   1755,   1743.3,  -0.0362,  34.6656,2,  34.6665,2,    226.8,3, -0.1240,    219.1,2,   120.55,2,    32.26,2,     2.26,2, -999.000,9, -999.000,9, -999.000,9, -999.000,9, -999.000,9,   1.8750,2,     9.00,2,-999.000,9,   -999.0,9,   -999.0,9,-999.0,  -999.0,  0.0070,-999.000,  -0.041,-999.000,   0.300
      74JC10_1,   A23,    39,  1,   3906,      6,2,19950408,1752,-59.4357, -30.8602, 3495,   2005,   1992.8,  -0.0992,  34.6635,2,  34.6633,2,    229.8,3, -0.2028,    220.3,2,   120.74,2,    32.07,2,     2.18,2,    0.390,2,    0.198,2,    0.009,2,    0.657,2,    0.028,2,   1.8730,2,     9.72,2,   8.185,2,   -999.0,9,   -999.0,9,-999.0,  -999.0,  0.0070,   0.013,-999.000,   0.025,   0.300
      74JC10_1,   A23,    39,  1,   3905,      5,2,19950408,1752,-59.4357, -30.8602, 3495,   2506,   2495.2,  -0.1419,  34.6606,2,  34.6606,2,    233.0,3, -0.2813,    225.8,2,   122.99,2,    32.05,2,     2.26,2,    0.446,2,    0.212,2,    0.018,2,    0.705,2,    0.034,2,   1.8850,2,    12.94,3,   8.227,2,   -999.0,9,   -999.0,9,-999.0,  -999.0,  0.0070,   0.002,-999.000,   0.026,   0.300
      74JC10_1,   A23,    39,  1,   3904,      4,2,19950408,1752,-59.4357, -30.8602, 3495,   3009,   2999.3,  -0.1635,  34.6579,2,  34.6574,2,    236.0,3, -0.3431,    228.4,2,   121.52,2,    32.00,2,     2.27,2,    0.568,2,    0.274,2,    0.009,2,    0.651,2,    0.035,2,   1.9470,3,     8.99,2,   8.369,2,   -999.0,9,   -999.0,9,-999.0,  3009.0,  0.0070,   0.007,  -0.169,   0.026,   0.300
      74JC10_1,   A23,    39,  1,   3903,      3,2,19950408,1752,-59.4357, -30.8602, 3495,   3308,   3298.9,  -0.1641,  34.6564,2,  34.6569,2,    236.5,3, -0.3696,    229.1,2,   119.86,2,    31.76,2,     2.17,2,    0.669,2,    0.336,2,    0.032,2,    0.892,2, -999.000,9,   1.8800,2,     8.56,2,   8.254,2,   -999.0,9,   -999.0,9,-999.0,  -999.0,  0.0070,-999.000,-999.000,   0.026,   0.300
      74JC10_1,   A23,    39,  1,   3902,      2,2,19950408,1752,-59.4357, -30.8602, 3495,   3502,   3493.9,  -0.1998,  34.6549,2,  34.6551,2,    236.7,3, -0.4219,    232.2,2,   118.40,2,    31.68,2,     2.17,2,    0.740,2,    0.366,2,    0.024,2,    0.910,2, -999.000,9,-999.0000,9,  -999.00,9,-999.000,9,   -999.0,9,   -999.0,9,-999.0,  -999.0,-999.0000,-999.000,-999.000,-999.000,-999.000
      74JC10_1,   A23,    39,  1,   3901,      1,2,19950408,1752,-59.4357, -30.8602, 3495,   3504,   3495.4,  -0.1996,  34.6548,2,  34.6559,2,    236.7,3, -0.4218,    232.3,2,   118.89,2,    32.04,2,     2.14,2,    0.758,2,    0.352,2,    0.046,2,    0.951,2,    0.042,2,   1.8760,2,     6.75,2,   8.246,2,   -999.0,9,   -999.0,9,-999.0,  3476.0,  0.0070,   0.014,  -0.206,   0.026,   0.300