BOTTLE,20220810CCHSIOAMB
EXPOCODE,SECT_ID,STNNBR,CASTNO,SAMPNO,BTLNBR,BTLNBR_FLAG_W,DATE,TIME,LATITUDE,LONGITUDE,DEPTH,CTDRAW,CTDPRS,CTDTMP,CTDSAL,CTDSAL_FLAG_W,SALNTY,SALNTY_FLAG_W,CTDOXY,CTDOXY_FLAG_W,THETA,OXYGEN,OXYGEN_FLAG_W,SILCAT,SILCAT_FLAG_W,NO2+NO3,NO2+NO3_FLAG_W,PHSPHT,PHSPHT_FLAG_W,CFC-11,CFC-11_FLAG_W,CFC-12,CFC-12_FLAG_W,CFC113,CFC113_FLAG_W,CCL4,CCL4_FLAG_W,TRITUM,TRITUM_FLAG_W,HELIUM,HELIUM_FLAG_W,DELHE3,DELHE3_FLAG_W,NEON,NEON_FLAG_W,TCARBN,TCARBN_FLAG_W,PCO2,PCO2_FLAG_W,PCO2TMP,REVPRS,HELIER,TRITER,REVTMP,NEONER,DELHER
,,,,,,,,,,,,,DBAR,ITS-90,PSS-78,,PSS-78,,UMOL/KG,,DEG C,UMOL/KG,,UMOL/KG,,UMOL/KG,,UMOL/KG,,PMOL/KG,,PMOL/KG,,PMOL/KG,,PMOL/KG,,TU,,NMOL/KG,,PERCNT,,NMOL/KG,,UMOL/KG,,UATM,,DEG C,DBAR,NMOL/KG,TU,ITS-90,NMOL/KG,PERCNT
      74JC10_1,   A23,    65,  1,   6511,     24,2,19950414,2322,-50.7088, -35.4153, 4136,      9,      6.3,   4.0552,  33.7893,2,  33.7877,2,    316.7,3,  4.0548,    309.1,4,     6.82,4,    18.48,4,     1.28,4, -999.000,9, -999.000,9, -999.000,9, -999.000,9, -999.000,9,-999.0000,9,  -999.00,9,-999.000,9,   -999.0,9,   -999.0,9,-999.0,  -999.0,-999.0000,-999.000,-999.000,-999.000,-999.000
      74JC10_1,   A23,    65,  1,   6520,     27,2,19950414,2322,-50.7088, -35.4153, 4136,      9,      6.3,   4.1020,  33.7870,2,  33.7877,2,    316.7,3,  4.1016,    308.8,2,     6.31,2,    18.33,2,     1.28,2, -999.000,9, -999.000,9, -999.000,9, -999.000,9, -999.000,9,-999.0000,9,  -999.00,9,-999.000,9,   -999.0,9,   -999.0,9,-999.0,  -999.0,-999.0000,-999.000,   4.080,-999.000,-999.000
      74JC10_1,   A23,    65,  1,   6521,     21,2,19950414,2322,-50.7088, -35.4153, 4136,      9,      6.3,   4.0552,  33.7893,2,  33.7877,2,    316.7,3,  4.0548,    309.1,2,     6.26,2,    18.39,2,     1.27,2, -999.000,9, -999.000,9, -999.000,9, -999.000,9, -999.000,9,-999.0000,9,  -999.00,9,-999.000,9,   -999.0,9,   -999.0,9,-999.0,  -999.0,-999.0000,-999.000,-999.000,-999.000,-999.000
      74JC10_1,   A23,    65,  1,   6519,     19,2,19950414,2322,-50.7088, -35.4153, 4136,     58,     54.5,   3.9230,  33.7929,2,  33.7936,2,    324.2,3,  3.9194,    311.6,2,     7.13,2,    19.34,2,     1.31,2, -999.000,9, -999.000,9, -999.000,9, -999.000,9, -999.000,9,-999.0000,9,  -999.00,9,-999.000,9,   -999.0,9,   -999.0,9,-999.0,  -999.0,-999.0000,-999.000,-999.000,-999.000,-999.000
      74JC10_1,   A23,    65,  1,   6518,     18,2,19950414,2322,-50.7088, -35.4153, 4136,    108,    103.8,   1.7194,  33.8632,2,  33.8768,2,    329.5,3,  1.7143,    309.4,2,    16.47,2,    23.17,2,     1.75,2, -999.000,9, -999.000,9, -999.000,9, -999.000,9, -999.000,9,-999.0000,9,  -999.00,9,-999.000,9,   -999.0,9,   -999.0,9,-999.0,  -999.0,-999.0000,-999.000,-999.000,-999.000,-999.000
      74JC10_1,   A23,    65,  1,   6517,     17,2,19950414,2322,-50.7088, -35.4153, 4136,    158,    153.6,   0.5716,  34.0004,2,  34.0049,2,    300.1,3,  0.5654,    295.0,2,    32.82,2,    28.88,2,     1.96,2, -999.000,9, -999.000,9, -999.000,9, -999.000,9, -999.000,9,-999.0000,9,  -999.00,9,-999.000,9,   -999.0,9,   -999.0,9,-999.0,  -999.0,-999.0000,-999.000,-999.000,-999.000,-999.000
      74JC10_1,   A23,    65,  1,   6516,     16,2,19950414,2322,-50.7088, -35.4153, 4136,    208,    202.7,   1.6813,  34.2075,2,  34.2062,2,    249.1,3,  1.6711,    237.3,2,    47.89,2,    31.81,2,     2.18,2, -999.000,9, -999.000,9, -999.000,9, -999.000,9, -999.000,9,-999.0000,9,  -999.00,9,-999.000,9,   -999.0,9,   -999.0,9,-999.0,  -999.0,-999.0000,-999.000,-999.000,-999.000,-999.000
      74JC10_1,   A23,    65,  1,   6515,     15,2,19950414,2322,-50.7088, -35.4153, 4136,    258,    252.0,   1.4138,  34.2893,2,  34.2931,2,    222.1,3,  1.4015,    219.9,2,    59.12,2,    33.00,2,     3.47,4, -999.000,9, -999.000,9, -999.000,9, -999.000,9, -999.000,9,-999.0000,9,  -999.00,9,-999.000,9,   -999.0,9,   -999.0,9,-999.0,  -999.0,-999.0000,-999.000,-999.000,-999.000,-999.000
      74JC10_1,   A23,    65,  1,   6514,     14,2,19950414,2322,-50.7088, -35.4153, 4136,    357,    349.4,   1.9188,  34.4578,2,  34.4606,2,    193.6,3,  1.9000,    184.4,2,    70.95,2,    33.79,2,     2.35,2, -999.000,9, -999.000,9, -999.000,9, -999.000,9, -999.000,9,-999.0000,9,  -999.00,9,-999.000,9,   -999.0,9,   -999.0,9,-999.0,  -999.0,-999.0000,-999.000,-999.000,-999.000,-999.000
      74JC10_1,   A23,    65,  1,   6513,     13,2,19950414,2322,-50.7088, -35.4153, 4136,    508,    499.3,   1.9430,  34.5676,2,  34.5736,2,    181.4,3,  1.9152,    174.1,2,    79.66,2,    33.37,2,     2.37,2, -999.000,9, -999.000,9, -999.000,9, -999.000,9, -999.000,9,-999.0000,9,  -999.00,9,-999.000,9,   -999.0,9,   -999.0,9,-999.0,  -999.0,-999.0000,-999.000,-999.000,-999.000,-999.000
      74JC10_1,   A23,    65,  1,   6512,     12,2,19950414,2322,-50.7088, -35.4153, 4136,    760,    749.4,   1.8972,  34.6562,2,  34.6553,2,    180.9,3,  1.8542,    175.9,2,    86.06,2,    32.15,2,     2.32,2, -999.000,9, -999.000,9, -999.000,9, -999.000,9, -999.000,9,-999.0000,9,  -999.00,9,-999.000,9,   -999.0,9,   -999.0,9,-999.0,  -999.0,-999.0000,-999.000,-999.000,-999.000,-999.000
      74JC10_1,   A23,    65,  1,   6510,     10,2,19950414,2322,-50.7088, -35.4153, 4136,   1262,   1249.3,   1.6292,  34.7113,2,  34.7115,2,    190.9,3,  1.5549,    184.7,2,    95.18,2,    31.33,2,     2.14,2, -999.000,9, -999.000,9, -999.000,9, -999.000,9, -999.000,9,-999.0000,9,  -999.00,9,-999.000,9,   -999.0,9,   -999.0,9,-999.0,  -999.0,-999.0000,-999.000,-999.000,-999.000,-999.000
      74JC10_1,   A23,    65,  1,   6509,      9,2,19950414,2322,-50.7088, -35.4153, 4136,   1510,   1497.4,   1.4502,  34.7180,2,  34.7188,2,    197.6,3,  1.3601,    192.8,2,    98.48,2,    31.05,2,     2.11,2, -999.000,9, -999.000,9, -999.000,9, -999.000,9, -999.000,9,-999.0000,9,  -999.00,9,-999.000,9,   -999.0,9,   -999.0,9,-999.0,  -999.0,-999.0000,-999.000,-999.000,-999.000,-999.000
      74JC10_1,   A23,    65,  1,   6508,      8,2,19950414,2322,-50.7088, -35.4153, 4136,   1759,   1746.1,   1.2343,  34.7160,2,  34.7166,2,    201.6,3,  1.1287,    194.8,2,   104.14,2,    31.14,2,     2.12,2, -999.000,9, -999.000,9, -999.000,9, -999.000,9, -999.000,9,-999.0000,9,  -999.00,9,-999.000,9,   -999.0,9,   -999.0,9,-999.0,  -999.0,-999.0000,-999.000,-999.000,-999.000,-999.000
      74JC10_1,   A23,    65,  1,   6507,     26,2,19950414,2322,-50.7088, -35.4153, 4136,   2009,   1997.0,   1.0247,  34.7109,2,  34.7109,2,    205.8,3,  0.9032,    199.4,2,   109.02,2,    31.24,2,     2.13,2, -999.000,9, -999.000,9, -999.000,9, -999.000,9, -999.000,9,-999.0000,9,  -999.00,9,-999.000,9,   -999.0,9,   -999.0,9,-999.0,  -999.0,-999.0000,-999.000,   1.015,-999.000,-999.000
      74JC10_1,   A23,    65,  1,   6506,      6,2,19950414,2322,-50.7088, -35.4153, 4136,   2514,   2502.2,   0.6894,  34.6928,2,  34.6932,2,    212.2,3,  0.5334,    207.3,2,   114.88,2,    31.59,2,     2.18,2, -999.000,9, -999.000,9, -999.000,9, -999.000,9, -999.000,9,-999.0000,9,  -999.00,9,-999.000,9,   -999.0,9,   -999.0,9,-999.0,  -999.0,-999.0000,-999.000,-999.000,-999.000,-999.000
      74JC10_1,   A23,    65,  1,   6505,      5,2,19950414,2322,-50.7088, -35.4153, 4136,   3016,   3006.0,   0.4193,  34.6845,2,  34.6832,2,    219.0,3,  0.2259,    211.9,2,   119.47,2,    31.69,2,     2.19,2, -999.000,9, -999.000,9, -999.000,9, -999.000,9, -999.000,9,-999.0000,9,  -999.00,9,-999.000,9,   -999.0,9,   -999.0,9,-999.0,  -999.0,-999.0000,-999.000,-999.000,-999.000,-999.000
      74JC10_1,   A23,    65,  1,   6504,      4,2,19950414,2322,-50.7088, -35.4153, 4136,   3520,   3511.2,   0.2757,  34.6770,2,  34.6759,2,    222.9,3,  0.0397,    215.6,2,   121.33,2,    31.93,2,     2.19,2, -999.000,9, -999.000,9, -999.000,9, -999.000,9, -999.000,9,-999.0000,9,  -999.00,9,-999.000,9,   -999.0,9,   -999.0,9,-999.0,  3518.0,-999.0000,-999.000,   0.268,-999.000,-999.000
      74JC10_1,   A23,    65,  1,   6503,      3,2,19950414,2322,-50.7088, -35.4153, 4136,   4025,   4016.4,  -0.1023,  34.6600,2,  34.6598,2,    237.2,3, -0.3770,    229.5,2,   124.45,2,    31.70,2,     2.17,2, -999.000,9, -999.000,9, -999.000,9, -999.000,9, -999.000,9,-999.0000,9,  -999.00,9,-999.000,9,   -999.0,9,   -999.0,9,-999.0,  -999.0,-999.0000,-999.000,-999.000,-999.000,-999.000
      74JC10_1,   A23,    65,  1,   6501,      1,2,19950414,2322,-50.7088, -35.4153, 4136,   4168,   4160.2,  -0.2084,  34.6550,2,  34.6545,2,    242.5,3, -0.4944,    234.9,2,   123.87,2,    31.60,2,     2.16,2, -999.000,9, -999.000,9, -999.000,9, -999.000,9, -999.000,9,-999.0000,9,  -999.00,9,-999.000,9,   -999.0,9,   -999.0,9,-999.0,  4145.0,-999.0000,-999.000,  -0.216,-999.000,-999.000
      74JC10_1,   A23,    65,  1,   6502,      2,2,19950414,2322,-50.7088, -35.4153, 4136,   4169,   4161.2,  -0.2096,  34.6553,2,  34.6547,2,    242.5,3, -0.4956,    235.6,2,   123.67,2,    31.65,2,     2.16,2, -999.000,9, -999.000,9, -999.000,9, -999.000,9, -999.000,9,-999.0000,9,  -999.00,9,-999.000,9,   -999.0,9,   -999.0,9,-999.0,  -999.0,-999.0000,-999.000,-999.000,-999.000,-999.000
      74JC10_1,   A23,    66,  1,   6619,     19,2,19950415,0514,-50.2072, -35.4892, 3417,     10,      7.7,   4.1765,  33.7548,2,  33.7599,2,    328.3,3,  4.1760,    320.4,2,     5.59,2,    18.31,2,     1.03,2,    5.396,2,    2.666,2,    0.489,2,    5.859,2, -999.000,9,-999.0000,9,  -999.00,9,-999.000,9,   -999.0,9,   -999.0,9,-999.0,  -999.0,-999.0000,-999.000,-999.000,-999.000,-999.000
      74JC10_1,   A23,    66,  1,   6620,     27,2,19950415,0514,-50.2072, -35.4892, 3417,     11,      8.4,   4.1591,  33.7625,2,  33.7601,2,    330.8,3,  4.1585,    320.3,2,     5.54,2,    18.28,2,     0.95,2,    5.336,2,    2.635,2,    0.481,2,    5.904,2, -999.000,9,-999.0000,9,  -999.00,9,-999.000,9,   -999.0,9,   -999.0,9,-999.0,  -999.0,-999.0000,-999.000,   4.204,-999.000,-999.000
      74JC10_1,   A23,    66,  1,   6618,     18,2,19950415,0514,-50.2072, -35.4892, 3417,     59,     55.3,   3.5035,  33.7778,2,  33.8116,2,    336.3,3,  3.5000,    314.7,2,    10.57,2,    21.31,2,     1.35,2,    5.718,2,    2.837,2,    0.506,2,    5.977,2, -999.000,9,-999.0000,9,  -999.00,9,-999.000,9,   -999.0,9,   -999.0,9,-999.0,  -999.0,-999.0000,-999.000,-999.000,-999.000,-999.000
      74JC10_1,   A23,    66,  1,   6617,     17,2,19950415,0514,-50.2072, -35.4892, 3417,    108,    104.5,   0.9552,  33.9691,2,  33.9841,2,    311.9,3,  0.9507,    301.9,2,    22.72,2,    27.90,2,     1.87,2,    5.457,2,    2.622,2,    0.483,2,    5.802,2, -999.000,9,   1.8060,2,    -0.92,2,   8.020,2,   -999.0,9,   -999.0,9,-999.0,  -999.0,  0.0070,-999.000,-999.000,   0.025,   0.300
      74JC10_1,   A23,    66,  1,   6616,     16,2,19950415,0514,-50.2072, -35.4892, 3417,    159,    153.9,   1.0347,  34.0279,2,  34.0492,2,    287.8,3,  1.0279,    279.6,2,    30.77,2,    29.42,2,     1.93,2,    4.738,2,    2.309,2,    0.407,2,    4.836,2, -999.000,9,-999.0000,9,  -999.00,9,-999.000,9,   -999.0,9,   -999.0,9,-999.0,  -999.0,-999.0000,-999.000,-999.000,-999.000,-999.000
      74JC10_1,   A23,    66,  1,   6615,     15,2,19950415,0514,-50.2072, -35.4892, 3417,    207,    201.8,   1.6218,  34.1313,2,  34.1468,2,    251.6,3,  1.6117,    250.7,2,    38.56,2,    30.72,2,     2.07,2, -999.000,9, -999.000,9, -999.000,9, -999.000,9, -999.000,9,-999.0000,9,  -999.00,9,-999.000,9,   -999.0,9,   -999.0,9,-999.0,  -999.0,-999.0000,-999.000,-999.000,-999.000,-999.000
      74JC10_1,   A23,    66,  1,   6614,     14,2,19950415,0514,-50.2072, -35.4892, 3417,    258,    252.3,   2.4588,  34.2785,2,  34.2887,2,    222.0,3,  2.4444,    209.4,2,    48.51,2,    32.54,2,     2.21,2,    1.918,2,    0.922,2,    0.107,2,    2.139,2, -999.000,9,   1.8210,2,     3.17,2,   7.946,2,   -999.0,9,   -999.0,9,-999.0,  -999.0,  0.0070,-999.000,-999.000,   0.025,   0.300
      74JC10_1,   A23,    66,  1,   6613,     13,2,19950415,0514,-50.2072, -35.4892, 3417,    358,    350.9,   2.5110,  34.3984,2,  34.3935,2,    209.7,3,  2.4904,    187.8,2,    60.34,2,    33.36,2,     2.29,2,    1.097,2,    0.537,2,    0.049,2,    1.454,2, -999.000,9,-999.0000,9,  -999.00,9,-999.000,9,   -999.0,9,   -999.0,9,-999.0,  -999.0,-999.0000,-999.000,-999.000,-999.000,-999.000
      74JC10_1,   A23,    66,  1,   6612,     12,2,19950415,0514,-50.2072, -35.4892, 3417,    506,    497.3,   2.1079,  34.4814,2,  34.4842,2,    186.7,3,  2.0797,    179.8,2,    72.59,2,    33.61,2,     2.30,2,    0.871,2,    0.434,2,    0.052,2,    1.167,2, -999.000,9,   1.8520,2,     7.45,2,   8.055,2,   -999.0,9,   -999.0,9,-999.0,  -999.0,  0.0070,-999.000,-999.000,   0.025,   0.300
      74JC10_1,   A23,    66,  1,   6611,     24,2,19950415,0514,-50.2072, -35.4892, 3417,    753,    743.0,   2.3707,  34.6290,2,  34.6284,2,    180.7,3,  2.3253,    173.2,2,    75.97,2,    32.22,2,     2.20,2,    0.198,2,    0.118,2,    0.001,2,    0.415,2, -999.000,9,-999.0000,9,  -999.00,9,-999.000,9,   -999.0,9,   -999.0,9,-999.0,  -999.0,-999.0000,-999.000,-999.000,-999.000,-999.000
      74JC10_1,   A23,    66,  1,   6610,     10,2,19950415,0514,-50.2072, -35.4892, 3417,   1006,    994.8,   1.9317,  34.6605,2,  34.6594,2,    180.2,3,  1.8723,    174.8,2,    88.63,2,    32.26,2,     2.22,2,    0.289,2,    0.177,2,    0.021,2,    0.463,2, -999.000,9,   1.8520,2,     9.88,2,   8.028,2,   -999.0,9,   -999.0,9,-999.0,  -999.0,  0.0070,-999.000,-999.000,   0.025,   0.300
      74JC10_1,   A23,    66,  1,   6609,      9,2,19950415,0514,-50.2072, -35.4892, 3417,   1257,   1245.4,   1.6944,  34.6933,2,  34.6906,2,    186.9,3,  1.6198,    182.1,2,    93.23,2,    31.93,2,     2.17,2,    0.243,2,    0.137,2,    0.009,2,    0.393,2, -999.000,9,-999.0000,9,  -999.00,9,-999.000,9,   -999.0,9,   -999.0,9,-999.0,  -999.0,-999.0000,-999.000,-999.000,-999.000,-999.000
      74JC10_1,   A23,    66,  1,   6608,      8,2,19950415,0514,-50.2072, -35.4892, 3417,   1510,   1497.2,   1.6127,  34.7283,2,  34.7282,2,    193.8,3,  1.5208,    191.5,2,    94.77,2,    30.59,2,     2.08,2,    0.118,2,    0.076,2,    0.005,2,    0.234,2, -999.000,9,   1.8800,2,    10.38,2,   8.107,2,   -999.0,9,   -999.0,9,-999.0,  -999.0,  0.0070,-999.000,-999.000,   0.025,   0.300
      74JC10_1,   A23,    66,  1,   6607,     26,2,19950415,0514,-50.2072, -35.4892, 3417,   1759,   1747.1,   1.4857,  34.7369,2,  34.7364,2,    201.9,3,  1.3766,    195.6,2,    97.23,2,    30.22,2,     2.06,2,    0.082,2,    0.059,2,    0.000,2,    0.201,2, -999.000,9,-999.0000,9,  -999.00,9,-999.000,9,   -999.0,9,   -999.0,9,-999.0,  -999.0,-999.0000,-999.000,   1.479,-999.000,-999.000
      74JC10_1,   A23,    66,  1,   6606,      6,2,19950415,0514,-50.2072, -35.4892, 3417,   2006,   1994.2,   1.2153,  34.7217,2,  34.7207,2,    202.9,3,  1.0910,    198.6,2,   104.63,2,    30.83,2,     2.10,2,    0.110,2,    0.077,2,    0.000,2,    0.240,2, -999.000,9,-999.0000,9,  -999.00,9,-999.000,9,   -999.0,9,   -999.0,9,-999.0,  -999.0,-999.0000,-999.000,-999.000,-999.000,-999.000
      74JC10_1,   A23,    66,  1,   6605,      5,2,19950415,0514,-50.2072, -35.4892, 3417,   2499,   2488.3,   0.7517,  34.6973,2,  34.6987,2,    211.2,3,  0.5956,    205.3,2,   113.71,2,    31.32,2,     2.15,2,    0.202,2,    0.124,2,    0.010,2,    0.362,2, -999.000,9,   1.8820,2,     8.85,2,   8.174,2,   -999.0,9,   -999.0,9,-999.0,  -999.0,  0.0070,-999.000,-999.000,   0.025,   0.300
      74JC10_1,   A23,    66,  1,   6604,      4,2,19950415,0514,-50.2072, -35.4892, 3417,   2992,   2982.4,   0.4840,  34.6850,2,  34.6859,2,    217.6,3,  0.2912,    210.2,2,   118.30,2,    31.50,2,     2.16,2,    0.221,2,    0.140,2,    0.000,2,    0.409,2, -999.000,9,-999.0000,9,  -999.00,9,-999.000,9,   -999.0,9,   -999.0,9,-999.0,  2987.0,-999.0000,-999.000,   0.480,-999.000,-999.000
      74JC10_1,   A23,    66,  1,   6603,      3,2,19950415,0514,-50.2072, -35.4892, 3417,   3203,   3193.4,   0.3611,  34.6800,2,  34.6806,2,    220.7,3,  0.1524,    213.1,2,   120.15,2,    31.51,2,     2.18,2,    0.212,2,    0.122,2,    0.000,2,    0.419,2, -999.000,9,-999.0000,9,  -999.00,9,-999.000,9,   -999.0,9,   -999.0,9,-999.0,  -999.0,-999.0000,-999.000,-999.000,-999.000,-999.000
      74JC10_1,   A23,    66,  1,   6601,      1,2,19950415,0514,-50.2072, -35.4892, 3417,   3432,   3423.7,   0.2790,  34.6761,2,  34.6767,2,    222.8,3,  0.0510,    216.3,2,   122.79,2,    31.64,2,     2.16,2,    0.222,2,    0.126,2,    0.000,2,    0.423,2, -999.000,9,   1.8760,2,     7.13,2,   8.229,2,   -999.0,9,   -999.0,9,-999.0,  3405.0,  0.0070,-999.000,   0.274,   0.026,   0.300
      74JC10_1,   A23,    66,  1,   6602,      2,2,19950415,0514,-50.2072, -35.4892, 3417,   3433,   3424.5,   0.2788,  34.6763,2,  34.6771,2,    222.5,3,  0.0508,    215.4,2,   122.30,2,    31.69,2,     2.18,2,    0.212,2,    0.117,2,    0.000,2,    0.414,2, -999.000,9,-999.0000,9,  -999.00,9,-999.000,9,   -999.0,9,   -999.0,9,-999.0,  -999.0,-999.0000,-999.000,-999.000,-999.000,-999.000