BOTTLE,20220810CCHSIOAMB
EXPOCODE,SECT_ID,STNNBR,CASTNO,SAMPNO,BTLNBR,BTLNBR_FLAG_W,DATE,TIME,LATITUDE,LONGITUDE,DEPTH,CTDRAW,CTDPRS,CTDTMP,CTDSAL,CTDSAL_FLAG_W,SALNTY,SALNTY_FLAG_W,CTDOXY,CTDOXY_FLAG_W,THETA,OXYGEN,OXYGEN_FLAG_W,SILCAT,SILCAT_FLAG_W,NO2+NO3,NO2+NO3_FLAG_W,PHSPHT,PHSPHT_FLAG_W,CFC-11,CFC-11_FLAG_W,CFC-12,CFC-12_FLAG_W,CFC113,CFC113_FLAG_W,CCL4,CCL4_FLAG_W,TRITUM,TRITUM_FLAG_W,HELIUM,HELIUM_FLAG_W,DELHE3,DELHE3_FLAG_W,NEON,NEON_FLAG_W,TCARBN,TCARBN_FLAG_W,PCO2,PCO2_FLAG_W,PCO2TMP,REVPRS,HELIER,TRITER,REVTMP,NEONER,DELHER
,,,,,,,,,,,,,DBAR,ITS-90,PSS-78,,PSS-78,,UMOL/KG,,DEG C,UMOL/KG,,UMOL/KG,,UMOL/KG,,UMOL/KG,,PMOL/KG,,PMOL/KG,,PMOL/KG,,PMOL/KG,,TU,,NMOL/KG,,PERCNT,,NMOL/KG,,UMOL/KG,,UATM,,DEG C,DBAR,NMOL/KG,TU,ITS-90,NMOL/KG,PERCNT
      74JC10_1,   A23,    51,  1,   5113,     13,2,19950412,0727,-55.2595, -34.4437, 1524,     12,      9.6,   2.7512,  33.7822,2,  33.7815,2,    325.0,3,  2.7507,    317.5,2,    14.15,2,    21.62,2,     1.46,2, -999.000,9, -999.000,9, -999.000,9, -999.000,9, -999.000,9,-999.0000,9,  -999.00,9,-999.000,9,   -999.0,9,   -999.0,9,-999.0,  -999.0,-999.0000,-999.000,-999.000,-999.000,-999.000
      74JC10_1,   A23,    51,  1,   5114,     14,2,19950412,0727,-55.2595, -34.4437, 1524,     12,      9.9,   2.7522,  33.7812,2,  33.7813,2,    325.0,3,  2.7516,    317.6,2,    13.93,2,    21.51,2,     1.45,2, -999.000,9, -999.000,9, -999.000,9, -999.000,9, -999.000,9,-999.0000,9,  -999.00,9,-999.000,9,   -999.0,9,   -999.0,9,-999.0,  -999.0,-999.0000,-999.000,-999.000,-999.000,-999.000
      74JC10_1,   A23,    51,  1,   5112,     12,2,19950412,0727,-55.2595, -34.4437, 1524,     56,     53.2,   2.6740,  33.7886,2,  33.7891,2,    329.8,3,  2.6710,    316.5,2,    14.87,2,    21.87,2,     1.49,2, -999.000,9, -999.000,9, -999.000,9, -999.000,9, -999.000,9,-999.0000,9,  -999.00,9,-999.000,9,   -999.0,9,   -999.0,9,-999.0,  -999.0,-999.0000,-999.000,-999.000,-999.000,-999.000
      74JC10_1,   A23,    51,  1,   5111,     24,2,19950412,0727,-55.2595, -34.4437, 1524,    105,    101.7,   0.2927,  33.9662,2,  33.9637,2,    308.6,3,  0.2889,    302.8,2,    29.40,2,    28.43,2,     1.95,2, -999.000,9, -999.000,9, -999.000,9, -999.000,9, -999.000,9,-999.0000,9,  -999.00,9,-999.000,9,   -999.0,9,   -999.0,9,-999.0,  -999.0,-999.0000,-999.000,-999.000,-999.000,-999.000
      74JC10_1,   A23,    51,  1,   5110,     10,2,19950412,0727,-55.2595, -34.4437, 1524,    156,    151.9,   1.0775,  34.1106,2,  34.1199,2,    268.8,3,  1.0708,    257.0,2,    41.39,2,    30.83,2,     2.12,2, -999.000,9, -999.000,9, -999.000,9, -999.000,9, -999.000,9,-999.0000,9,  -999.00,9,-999.000,9,   -999.0,9,   -999.0,9,-999.0,  -999.0,-999.0000,-999.000,-999.000,-999.000,-999.000
      74JC10_1,   A23,    51,  1,   5109,      9,2,19950412,0727,-55.2595, -34.4437, 1524,    206,    202.0,   1.6672,  34.2535,2,  34.2532,2,    229.2,3,  1.6571,    220.2,2,    53.33,2,    32.72,2,     2.30,2, -999.000,9, -999.000,9, -999.000,9, -999.000,9, -999.000,9,-999.0000,9,  -999.00,9,-999.000,9,   -999.0,9,   -999.0,9,-999.0,  -999.0,-999.0000,-999.000,-999.000,-999.000,-999.000
      74JC10_1,   A23,    51,  1,   5108,      8,2,19950412,0727,-55.2595, -34.4437, 1524,    257,    252.0,   1.9287,  34.3485,2,  34.3498,2,    204.9,3,  1.9153,    202.1,2,    61.63,2,    33.53,2,     2.32,2, -999.000,9, -999.000,9, -999.000,9, -999.000,9, -999.000,9,-999.0000,9,  -999.00,9,-999.000,9,   -999.0,9,   -999.0,9,-999.0,  -999.0,-999.0000,-999.000,-999.000,-999.000,-999.000
      74JC10_1,   A23,    51,  1,   5107,     26,2,19950412,0727,-55.2595, -34.4437, 1524,    357,    351.5,   2.0621,  34.4908,2,  34.4891,2,    182.6,3,  2.0427,    178.3,2,    72.85,2,    33.77,2,     2.36,2, -999.000,9, -999.000,9, -999.000,9, -999.000,9, -999.000,9,-999.0000,9,  -999.00,9,-999.000,9,   -999.0,9,   -999.0,9,-999.0,  -999.0,-999.0000,-999.000,   2.056,-999.000,-999.000
      74JC10_1,   A23,    51,  1,   5106,      6,2,19950412,0727,-55.2595, -34.4437, 1524,    507,    500.6,   2.0624,  34.5895,2,  34.5902,2,    178.4,3,  2.0341,    171.3,2,    81.32,2,    33.15,2,     2.32,2, -999.000,9, -999.000,9, -999.000,9, -999.000,9, -999.000,9,-999.0000,9,  -999.00,9,-999.000,9,   -999.0,9,   -999.0,9,-999.0,  -999.0,-999.0000,-999.000,-999.000,-999.000,-999.000
      74JC10_1,   A23,    51,  1,   5105,      5,2,19950412,0727,-55.2595, -34.4437, 1524,    757,    749.2,   1.9213,  34.6611,2,  34.6618,2,    182.2,3,  1.8782,    174.4,2,    88.47,2,    32.49,2,     2.25,2,    0.088,2,    0.067,2,    0.000,2,    0.211,2, -999.000,9,-999.0000,9,  -999.00,9,-999.000,9,   -999.0,9,   -999.0,9,-999.0,  -999.0,-999.0000,-999.000,-999.000,-999.000,-999.000
      74JC10_1,   A23,    51,  1,   5104,      4,2,19950412,0727,-55.2595, -34.4437, 1524,   1007,    998.5,   1.6482,  34.7082,2,  34.7081,2,    187.7,3,  1.5908,    182.0,2,    97.38,2,    31.71,2,     2.21,2, -999.000,9, -999.000,9, -999.000,9, -999.000,9, -999.000,9,-999.0000,9,  -999.00,9,-999.000,9,   -999.0,9,   -999.0,9,-999.0,   996.0,-999.0000,-999.000,   1.647,-999.000,-999.000
      74JC10_1,   A23,    51,  1,   5103,      3,2,19950412,0727,-55.2595, -34.4437, 1524,   1255,   1247.7,   1.6084,  34.7113,2,  34.7111,2,    190.6,3,  1.5344,    183.0,2,    98.58,2,    31.59,2,     2.19,2,    0.039,2,    0.034,2,    0.000,2,    0.108,2, -999.000,9,-999.0000,9,  -999.00,9,-999.000,9,   -999.0,9,   -999.0,9,-999.0,  -999.0,-999.0000,-999.000,-999.000,-999.000,-999.000
      74JC10_1,   A23,    51,  1,   5101,      1,2,19950412,0727,-55.2595, -34.4437, 1524,   1525,   1517.7,   1.1906,  34.7167,2,  34.6960,4,    197.5,3,  1.1022,    192.5,2,   109.02,2,    31.45,2,     2.15,2,    0.026,2,    0.030,2,    0.000,2,    0.096,2, -999.000,9,-999.0000,9,  -999.00,9,-999.000,9,   -999.0,9,   -999.0,9,-999.0,  1501.0,-999.0000,-999.000,   1.200,-999.000,-999.000
      74JC10_1,   A23,    51,  1,   5102,      2,2,19950412,0727,-55.2595, -34.4437, 1524,   1525,   1517.7,   1.2004,  34.7152,2,  34.7142,2,    197.5,3,  1.1119,    193.2,2,   108.63,2,    31.36,2,     2.16,2, -999.000,9, -999.000,9, -999.000,9, -999.000,9, -999.000,9,-999.0000,9,  -999.00,9,-999.000,9,   -999.0,9,   -999.0,9,-999.0,  -999.0,-999.0000,-999.000,-999.000,-999.000,-999.000
      74JC10_1,   A23,    52,  1,   5209,      9,2,19950412,0933,-55.2152, -34.5080,  537,     15,     12.3,   2.9029,  33.7887,2,  33.7899,2,    323.9,3,  2.9022,    315.2,2,    12.11,2,    21.23,2,     1.44,2,    5.608,2,    2.724,2,    0.512,2,    6.683,2, -999.000,9,-999.0000,9,  -999.00,9,-999.000,9,   -999.0,9,   -999.0,9,-999.0,  -999.0,-999.0000,-999.000,-999.000,-999.000,-999.000
      74JC10_1,   A23,    52,  1,   5210,     10,2,19950412,0933,-55.2152, -34.5080,  537,     15,     12.3,   2.9013,  33.7890,2,  33.7899,2,    323.9,3,  2.9006,    315.0,2,    11.84,2,    21.18,2,     1.42,2, -999.000,9, -999.000,9, -999.000,9, -999.000,9, -999.000,9,-999.0000,9,  -999.00,9,-999.000,9,   -999.0,9,   -999.0,9,-999.0,  -999.0,-999.0000,-999.000,-999.000,-999.000,-999.000
      74JC10_1,   A23,    52,  1,   5208,      8,2,19950412,0933,-55.2152, -34.5080,  537,     59,     56.2,   1.6229,  33.8715,2,  33.8568,2,    325.9,3,  1.6202,    314.7,2,    18.06,2,    23.87,2,     1.64,2,    5.897,2,    2.601,2,    0.533,2,    6.838,2, -999.000,9,-999.0000,9,  -999.00,9,-999.000,9,   -999.0,9,   -999.0,9,-999.0,  -999.0,-999.0000,-999.000,-999.000,-999.000,-999.000
      74JC10_1,   A23,    52,  1,   5207,     26,2,19950412,0933,-55.2152, -34.5080,  537,    108,    105.5,   0.2268,  33.9764,2,  33.9771,2,    305.4,3,  0.2229,    297.6,2,    29.67,2,    28.56,2,     1.95,2,    5.641,2,    2.601,2,    0.504,2,    6.270,2, -999.000,9,-999.0000,9,  -999.00,9,-999.000,9,   -999.0,9,   -999.0,9,-999.0,  -999.0,-999.0000,-999.000,   0.127,-999.000,-999.000
      74JC10_1,   A23,    52,  1,   5206,      6,2,19950412,0933,-55.2152, -34.5080,  537,    159,    155.2,   1.4460,  34.1642,2,  34.1619,2,    249.8,3,  1.4386,    243.3,2,    43.26,2,    31.35,2,     2.15,2,    3.404,2,    1.527,2,    0.269,2,    3.893,2, -999.000,9,-999.0000,9,  -999.00,9,-999.000,9,   -999.0,9,   -999.0,9,-999.0,  -999.0,-999.0000,-999.000,-999.000,-999.000,-999.000
      74JC10_1,   A23,    52,  1,   5205,      5,2,19950412,0933,-55.2152, -34.5080,  537,    208,    204.6,   1.9129,  34.2986,2,  34.3056,2,    215.6,3,  1.9022,    207.8,2,    56.96,2,    32.91,2,     2.30,2,    2.126,2,    0.945,2,    0.151,2,    2.534,2, -999.000,9,-999.0000,9,  -999.00,9,-999.000,9,   -999.0,9,   -999.0,9,-999.0,  -999.0,-999.0000,-999.000,-999.000,-999.000,-999.000
      74JC10_1,   A23,    52,  1,   5204,      4,2,19950412,0933,-55.2152, -34.5080,  537,    258,    253.9,   2.0343,  34.3744,2,  34.3770,2,    200.3,3,  2.0206,    194.1,2,    62.79,2,    33.94,2,     2.31,2,    0.637,2,    0.298,2,    0.033,2,    1.027,2, -999.000,9,-999.0000,9,  -999.00,9,-999.000,9,   -999.0,9,   -999.0,9,-999.0,   251.0,-999.0000,-999.000,   2.027,-999.000,-999.000
      74JC10_1,   A23,    52,  1,   5203,      3,2,19950412,0933,-55.2152, -34.5080,  537,    356,    351.9,   2.0680,  34.5075,2,  34.5070,2,    182.3,3,  2.0486,    176.9,2,    74.44,2,    33.50,2,     2.35,2,    0.311,2,    0.161,2,    0.005,2,    0.488,2, -999.000,9,-999.0000,9,  -999.00,9,-999.000,9,   -999.0,9,   -999.0,9,-999.0,  -999.0,-999.0000,-999.000,-999.000,-999.000,-999.000
      74JC10_1,   A23,    52,  1,   5201,      1,2,19950412,0933,-55.2152, -34.5080,  537,    528,    523.4,   2.0352,  34.5918,2,  34.5902,2,    179.3,3,  2.0056,    173.3,2,    81.21,2,    32.92,2,     2.32,2,    0.171,2,    0.097,2,    0.005,2,    0.315,2, -999.000,9,-999.0000,9,  -999.00,9,-999.000,9,   -999.0,9,   -999.0,9,-999.0,   522.0,-999.0000,-999.000,   2.031,-999.000,-999.000
      74JC10_1,   A23,    52,  1,   5202,      2,2,19950412,0933,-55.2152, -34.5080,  537,    529,    524.0,   2.0359,  34.5912,2,  34.5904,2,    179.1,3,  2.0062,    174.0,2,    81.65,2,    33.03,2,     2.30,2, -999.000,9, -999.000,9, -999.000,9, -999.000,9, -999.000,9,-999.0000,9,  -999.00,9,-999.000,9,   -999.0,9,   -999.0,9,-999.0,  -999.0,-999.0000,-999.000,-999.000,-999.000,-999.000
      74JC10_1,   A23,    53,  1,   5310,     10,2,19950412,1510,-54.8268, -34.6825,  505,      8,      5.8,   2.7201,  33.7815,2,  33.7813,2,    323.0,3,  2.7198,    309.6,2,    14.21,2,    21.66,2,     1.57,2, -999.000,9, -999.000,9, -999.000,9, -999.000,9, -999.000,9,-999.0000,9,  -999.00,9,-999.000,9,   -999.0,9,   -999.0,9,-999.0,  -999.0,-999.0000,-999.000,-999.000,-999.000,-999.000
      74JC10_1,   A23,    53,  1,   5309,      9,2,19950412,1510,-54.8268, -34.6825,  505,      9,      6.1,   2.7204,  33.7804,2,  33.7813,2,    323.0,3,  2.7201,    309.8,2,    14.32,2,    21.72,2,     1.57,2, -999.000,9, -999.000,9, -999.000,9, -999.000,9, -999.000,9,-999.0000,9,  -999.00,9,-999.000,9,   -999.0,9,   -999.0,9,-999.0,  -999.0,-999.0000,-999.000,-999.000,-999.000,-999.000
      74JC10_1,   A23,    53,  1,   5308,      8,2,19950412,1510,-54.8268, -34.6825,  505,     53,     50.3,   2.7019,  33.7843,2,  33.7852,2,    315.5,3,  2.6991,    310.4,2,    15.05,2,    21.66,2,     1.56,2, -999.000,9, -999.000,9, -999.000,9, -999.000,9,    0.153,2,   1.7760,2,    -1.62,2,   7.909,2,   -999.0,9,   -999.0,9,-999.0,  -999.0,  0.0070,   0.005,-999.000,   0.025,   0.300
      74JC10_1,   A23,    53,  1,   5307,     26,2,19950412,1510,-54.8268, -34.6825,  505,    105,    101.5,   2.5729,  33.7981,2,  33.8157,2,    319.9,3,  2.5672,    300.5,3,    18.34,2,    22.86,2,     1.64,2, -999.000,9, -999.000,9, -999.000,9, -999.000,9, -999.000,9,-999.0000,9,  -999.00,9,-999.000,9,   -999.0,9,   -999.0,9,-999.0,  -999.0,-999.0000,-999.000,   2.601,-999.000,-999.000
      74JC10_1,   A23,    53,  1,   5306,      6,2,19950412,1510,-54.8268, -34.6825,  505,    154,    151.1,   0.9028,  34.0158,2,  34.0143,2,    277.7,3,  0.8963,    274.6,2,    33.89,2,    28.90,2,     2.03,2, -999.000,9, -999.000,9, -999.000,9, -999.000,9,    0.119,2,   1.7890,2,     0.57,2,   7.972,2,   -999.0,9,   -999.0,9,-999.0,  -999.0,  0.0070,   0.005,-999.000,   0.025,   0.300
      74JC10_1,   A23,    53,  1,   5305,      5,2,19950412,1510,-54.8268, -34.6825,  505,    203,    199.9,   1.4845,  34.1858,2,  34.1873,2,    251.1,3,  1.4748,    236.0,2,    45.29,2,    31.64,2,     2.19,2,    3.289,2,    1.498,2,    0.281,2,    3.801,2, -999.000,9,-999.0000,9,  -999.00,9,-999.000,9,   -999.0,9,   -999.0,9,-999.0,  -999.0,-999.0000,-999.000,-999.000,-999.000,-999.000
      74JC10_1,   A23,    53,  1,   5304,      4,2,19950412,1510,-54.8268, -34.6825,  505,    247,    242.9,   1.9794,  34.3322,2,  34.3329,2,    210.8,3,  1.9664,    202.0,2,    58.12,2,    33.18,2,     2.29,2, -999.000,9, -999.000,9, -999.000,9, -999.000,9,    0.061,2,   1.8050,2,     4.88,2,   7.978,2,   -999.0,9,   -999.0,9,-999.0,   241.0,  0.0070,   0.006,   1.973,   0.025,   0.300
      74JC10_1,   A23,    53,  1,   5303,      3,2,19950412,1510,-54.8268, -34.6825,  505,    351,    346.7,   2.1035,  34.4280,2,  34.4306,2,    189.1,3,  2.0843,    184.8,2,    66.72,2,    33.65,2,     2.31,2,    1.210,2,    0.513,2,    0.064,2,    1.548,2,    0.042,2,-999.0000,9,  -999.00,9,-999.000,9,   -999.0,9,   -999.0,9,-999.0,  -999.0,-999.0000,   0.003,-999.000,-999.000,-999.000
      74JC10_1,   A23,    53,  1,   5302,      2,2,19950412,1510,-54.8268, -34.6825,  505,    498,    493.6,   2.0121,  34.5910,2,  34.5871,2,    176.7,3,  1.9844,    172.5,2,    80.77,2,    33.19,2,     2.29,2, -999.000,9, -999.000,9, -999.000,9, -999.000,9, -999.000,9,-999.0000,9,  -999.00,9,-999.000,9,   -999.0,9,   -999.0,9,-999.0,  -999.0,-999.0000,-999.000,-999.000,-999.000,-999.000
      74JC10_1,   A23,    53,  1,   5301,      1,2,19950412,1510,-54.8268, -34.6825,  505,    498,    493.9,   2.0173,  34.5864,2,  34.5855,2,    176.7,3,  1.9896,    175.0,2,    81.41,2,    33.18,2,     2.28,2,    0.493,2,    0.229,2,    0.018,2,    0.775,2,    0.020,2,   1.8310,2,     9.53,2,   8.017,2,   -999.0,9,   -999.0,9,-999.0,   493.0,  0.0070,   0.002,   1.898,   0.025,   0.300
      74JC10_1,   A23,    54,  1,   5412,     12,2,19950412,1653,-54.7177, -34.6732,  998,     10,      7.7,   2.8225,  33.7723,2,  33.7717,2,    320.7,3,  2.8220,    311.7,2,    12.00,2,    21.26,2,     1.51,2, -999.000,9, -999.000,9, -999.000,9, -999.000,9, -999.000,9,-999.0000,9,  -999.00,9,-999.000,9,   -999.0,9,   -999.0,9,-999.0,  -999.0,-999.0000,-999.000,-999.000,-999.000,-999.000
      74JC10_1,   A23,    54,  1,   5411,     24,2,19950412,1653,-54.7177, -34.6732,  998,     11,      8.0,   2.8215,  33.7726,2,  33.7717,2,    320.7,3,  2.8211,    312.3,2,    12.20,2,    21.24,2,     1.52,2,    5.586,2,    2.703,2,    0.513,2,    6.575,2, -999.000,9,-999.0000,9,  -999.00,9,-999.000,9,   -999.0,9,   -999.0,9,-999.0,  -999.0,-999.0000,-999.000,-999.000,-999.000,-999.000
      74JC10_1,   A23,    54,  1,   5410,     10,2,19950412,1653,-54.7177, -34.6732,  998,     56,     53.4,   2.7903,  33.7750,2,  33.7754,2,    325.4,3,  2.7873,    309.4,2,    12.88,2,    21.44,2,     1.54,2,    5.542,2,    2.783,2,    0.525,2,    6.477,2, -999.000,9,-999.0000,9,  -999.00,9,-999.000,9,   -999.0,9,   -999.0,9,-999.0,  -999.0,-999.0000,-999.000,-999.000,-999.000,-999.000
      74JC10_1,   A23,    54,  1,   5409,      9,2,19950412,1653,-54.7177, -34.6732,  998,    126,    122.2,   0.4258,  33.9806,2,  33.9806,2,    302.3,3,  0.4211,    294.6,2,    29.51,2,    28.74,2,     1.97,2,    5.350,2,    2.527,2,    0.477,2,    6.228,2, -999.000,9,-999.0000,9,  -999.00,9,-999.000,9,   -999.0,9,   -999.0,9,-999.0,  -999.0,-999.0000,-999.000,-999.000,-999.000,-999.000
      74JC10_1,   A23,    54,  1,   5408,      8,2,19950412,1653,-54.7177, -34.6732,  998,    156,    152.8,   1.3614,  34.1612,2,  34.1707,2,    266.2,3,  1.3542,    241.9,2,    42.24,2,    31.52,2,     2.16,2,    3.469,2,    1.591,2,    0.272,2,    3.892,2, -999.000,9,-999.0000,9,  -999.00,9,-999.000,9,   -999.0,9,   -999.0,9,-999.0,  -999.0,-999.0000,-999.000,-999.000,-999.000,-999.000
      74JC10_1,   A23,    54,  1,   5407,     26,2,19950412,1653,-54.7177, -34.6732,  998,    207,    202.6,   1.8753,  34.2714,2,  34.2758,2,    221.6,3,  1.8647,    214.8,2,    51.29,2,    32.82,2,     2.26,2,    2.338,2,    1.099,2,    0.158,2,    2.714,2, -999.000,9,-999.0000,9,  -999.00,9,-999.000,9,   -999.0,9,   -999.0,9,-999.0,  -999.0,-999.0000,-999.000,   1.867,-999.000,-999.000
      74JC10_1,   A23,    54,  1,   5406,      6,2,19950412,1653,-54.7177, -34.6732,  998,    256,    252.0,   2.0234,  34.3621,2,  34.3633,2,    205.8,3,  2.0098,    196.4,2,    59.84,2,    33.49,2,     2.32,2,    1.652,2, -999.000,9,    0.093,2,    2.002,2, -999.000,9,-999.0000,9,  -999.00,9,-999.000,9,   -999.0,9,   -999.0,9,-999.0,  -999.0,-999.0000,-999.000,-999.000,-999.000,-999.000
      74JC10_1,   A23,    54,  1,   5405,      5,2,19950412,1653,-54.7177, -34.6732,  998,    355,    349.5,   2.1233,  34.4548,2,  34.4540,2,    187.2,3,  2.1039,    181.0,2,    67.60,2,    33.88,2,     2.34,2,    1.037,2,    0.483,2,    0.065,2,    1.355,2, -999.000,9,-999.0000,9,  -999.00,9,-999.000,9,   -999.0,9,   -999.0,9,-999.0,  -999.0,-999.0000,-999.000,-999.000,-999.000,-999.000
      74JC10_1,   A23,    54,  1,   5404,      4,2,19950412,1653,-54.7177, -34.6732,  998,    506,    500.2,   2.0762,  34.5518,2,  34.5535,2,    178.2,3,  2.0479,    172.9,2,    76.10,2,    33.68,2,     2.33,2,    0.635,2,    0.428,3,    0.056,2,    0.870,2, -999.000,9,-999.0000,9,  -999.00,9,-999.000,9,   -999.0,9,   -999.0,9,-999.0,   497.0,-999.0000,-999.000,   2.070,-999.000,-999.000
      74JC10_1,   A23,    54,  1,   5403,      3,2,19950412,1653,-54.7177, -34.6732,  998,    745,    739.7,   1.9791,  34.6295,2,  34.6311,2,    180.2,3,  1.9362,    173.6,2,    83.47,2,    32.85,2,     2.27,2,    0.342,2,    0.175,2,    0.012,2,    0.566,2, -999.000,9,-999.0000,9,  -999.00,9,-999.000,9,   -999.0,9,   -999.0,9,-999.0,  -999.0,-999.0000,-999.000,-999.000,-999.000,-999.000
      74JC10_1,   A23,    54,  1,   5402,      2,2,19950412,1653,-54.7177, -34.6732,  998,    985,    979.2,   1.7603,  34.7010,2,  34.7001,2,    183.8,3,  1.7032,    177.9,2,    94.23,2,    31.92,2,     2.20,2,    0.154,2,    0.079,2,    0.010,2,    0.285,2, -999.000,9,-999.0000,9,  -999.00,9,-999.000,9,   -999.0,9,   -999.0,9,-999.0,  -999.0,-999.0000,-999.000,-999.000,-999.000,-999.000
      74JC10_1,   A23,    54,  1,   5401,      1,2,19950412,1653,-54.7177, -34.6732,  998,    986,    979.8,   1.7582,  34.7009,2,  34.6995,2,    183.8,3,  1.7012,    178.5,2,    94.47,2,    31.77,2,     2.19,2,    0.125,3,    0.077,2,    0.012,2,    0.257,2, -999.000,9,-999.0000,9,  -999.00,9,-999.000,9,   -999.0,9,   -999.0,9,-999.0,   972.0,-999.0000,-999.000,   1.756,-999.000,-999.000