BOTTLE,20220810CCHSIOAMB
EXPOCODE,SECT_ID,STNNBR,CASTNO,SAMPNO,BTLNBR,BTLNBR_FLAG_W,DATE,TIME,LATITUDE,LONGITUDE,DEPTH,CTDRAW,CTDPRS,CTDTMP,CTDSAL,CTDSAL_FLAG_W,SALNTY,SALNTY_FLAG_W,CTDOXY,CTDOXY_FLAG_W,THETA,OXYGEN,OXYGEN_FLAG_W,SILCAT,SILCAT_FLAG_W,NO2+NO3,NO2+NO3_FLAG_W,PHSPHT,PHSPHT_FLAG_W,CFC-11,CFC-11_FLAG_W,CFC-12,CFC-12_FLAG_W,CFC113,CFC113_FLAG_W,CCL4,CCL4_FLAG_W,TRITUM,TRITUM_FLAG_W,HELIUM,HELIUM_FLAG_W,DELHE3,DELHE3_FLAG_W,NEON,NEON_FLAG_W,TCARBN,TCARBN_FLAG_W,PCO2,PCO2_FLAG_W,PCO2TMP,REVPRS,HELIER,TRITER,REVTMP,NEONER,DELHER
,,,,,,,,,,,,,DBAR,ITS-90,PSS-78,,PSS-78,,UMOL/KG,,DEG C,UMOL/KG,,UMOL/KG,,UMOL/KG,,UMOL/KG,,PMOL/KG,,PMOL/KG,,PMOL/KG,,PMOL/KG,,TU,,NMOL/KG,,PERCNT,,NMOL/KG,,UMOL/KG,,UATM,,DEG C,DBAR,NMOL/KG,TU,ITS-90,NMOL/KG,PERCNT
      74JC10_1,   A23,   122,  1,  12224,     11,2,19950504,0845,-27.8610, -38.9443, 4253,     16,      8.9,  23.8104,  36.1528,2,  36.1527,2,    215.7,3, 23.8085,    206.7,2,     2.79,2,    -0.02,2,    -0.01,2, -999.000,9, -999.000,9, -999.000,9, -999.000,9, -999.000,9,-999.0000,9,  -999.00,9,-999.000,9,   -999.0,9,   -999.0,9,-999.0,  -999.0,-999.0000,-999.000,-999.000,-999.000,-999.000
      74JC10_1,   A23,   122,  1,  12223,     23,2,19950504,0845,-27.8610, -38.9443, 4253,     65,     58.0,  22.8550,  36.1403,2,  36.1891,2,    220.6,3, 22.5464,    221.5,2,     2.84,2,     0.01,2,     0.01,2, -999.000,9, -999.000,9, -999.000,9, -999.000,9, -999.000,9,-999.0000,9,  -999.00,9,-999.000,9,   -999.0,9,   -999.0,9,-999.0,  -999.0,-999.0000,-999.000,-999.000,-999.000,-999.000
      74JC10_1,   A23,   122,  1,  12222,     25,2,19950504,0845,-27.8610, -38.9443, 4253,    115,    108.0,  17.9654,  35.8905,2,  35.8840,2,    228.7,3, 17.9468,    214.3,2,     2.95,2,     0.32,2,     0.13,2, -999.000,9, -999.000,9, -999.000,9, -999.000,9, -999.000,9,-999.0000,9,  -999.00,9,-999.000,9,   -999.0,9,   -999.0,9,-999.0,  -999.0,-999.0000,-999.000,-999.000,-999.000,-999.000
      74JC10_1,   A23,   122,  1,  12221,     21,2,19950504,0845,-27.8610, -38.9443, 4253,    166,    159.0,  16.4237,  35.7025,2,  35.7041,2,    214.3,3, 16.3980,    206.2,2,     3.33,2,     2.06,2,     0.31,2, -999.000,9, -999.000,9, -999.000,9, -999.000,9, -999.000,9,-999.0000,9,  -999.00,9,-999.000,9,   -999.0,9,   -999.0,9,-999.0,  -999.0,-999.0000,-999.000,-999.000,-999.000,-999.000
      74JC10_1,   A23,   122,  1,  12220,     27,2,19950504,0845,-27.8610, -38.9443, 4253,    267,    259.0,  14.2920,  35.4274,2,  35.4166,2,    207.7,3, 14.2538,    206.0,2,     4.20,2,     6.97,2,     0.58,2, -999.000,9, -999.000,9, -999.000,9, -999.000,9, -999.000,9,-999.0000,9,  -999.00,9,-999.000,9,   -999.0,9,   -999.0,9,-999.0,  -999.0,-999.0000,-999.000,  14.293,-999.000,-999.000
      74JC10_1,   A23,   122,  1,  12219,     19,2,19950504,0845,-27.8610, -38.9443, 4253,    368,    359.1,  12.4855,  35.1791,2,  35.1748,2,    210.0,3, 12.4370,    204.1,2,     5.51,2,    11.14,2,     0.84,2,    2.096,2,    1.268,3,    0.025,2,    0.428,2, -999.000,9,-999.0000,9,  -999.00,9,-999.000,9,   -999.0,9,   -999.0,9,-999.0,  -999.0,-999.0000,-999.000,-999.000,-999.000,-999.000
      74JC10_1,   A23,   122,  1,  12218,     18,2,19950504,0845,-27.8610, -38.9443, 4253,    522,    511.9,   8.9878,  34.6939,2,  34.6903,2,    207.7,3,  8.9315,    203.0,2,    10.22,2,    20.09,2,     1.40,2, -999.000,9, -999.000,9, -999.000,9, -999.000,9, -999.000,9,-999.0000,9,  -999.00,9,-999.000,9,   -999.0,9,   -999.0,9,-999.0,  -999.0,-999.0000,-999.000,-999.000,-999.000,-999.000
      74JC10_1,   A23,   122,  1,  12217,     17,2,19950504,0845,-27.8610, -38.9443, 4253,    777,    766.5,   4.8658,  34.3262,2,  34.3299,2,    218.2,3,  4.8043,    215.6,2,    23.01,2,    28.44,2,     1.97,2,    1.510,2,    0.678,2,    0.049,2,    1.946,2, -999.000,9,-999.0000,9,  -999.00,9,-999.000,9,   -999.0,9,   -999.0,9,-999.0,  -999.0,-999.0000,-999.000,-999.000,-999.000,-999.000
      74JC10_1,   A23,   122,  1,  12216,     16,2,19950504,0845,-27.8610, -38.9443, 4253,   1031,   1018.4,   3.5050,  34.3613,2,  34.3615,2,    207.4,3,  3.4320,    199.9,2,    40.83,2,    31.56,2,     2.20,2,    0.537,2,    0.281,2,    0.014,2,    1.180,2, -999.000,9,-999.0000,9,  -999.00,9,-999.000,9,   -999.0,9,   -999.0,9,-999.0,  -999.0,-999.0000,-999.000,-999.000,-999.000,-999.000
      74JC10_1,   A23,   122,  1,  12215,     15,2,19950504,0845,-27.8610, -38.9443, 4253,   1288,   1275.6,   2.9746,  34.5308,2,  34.5311,2,    192.3,3,  2.8855,    184.9,2,    55.47,2,    31.80,2,     2.21,2, -999.000,9, -999.000,9, -999.000,9, -999.000,9, -999.000,9,-999.0000,9,  -999.00,9,-999.000,9,   -999.0,9,   -999.0,9,-999.0,  -999.0,-999.0000,-999.000,-999.000,-999.000,-999.000
      74JC10_1,   A23,   122,  1,  12214,     14,2,19950504,0845,-27.8610, -38.9443, 4253,   1542,   1529.0,   2.8392,  34.6846,2,  34.6850,2,    198.8,3,  2.7306,    192.6,2,    57.21,2,    29.35,2,     2.03,2, -999.000,9, -999.000,9, -999.000,9, -999.000,9, -999.000,9,-999.0000,9,  -999.00,9,-999.000,9,   -999.0,9,   -999.0,9,-999.0,  -999.0,-999.0000,-999.000,-999.000,-999.000,-999.000
      74JC10_1,   A23,   122,  1,  12213,     13,2,19950504,0845,-27.8610, -38.9443, 4253,   1803,   1789.6,   2.8903,  34.7938,2,  34.7980,2,    216.7,3,  2.7586,    210.5,2,    49.56,2,    26.07,2,     1.77,2, -999.000,9, -999.000,9, -999.000,9, -999.000,9, -999.000,9,-999.0000,9,  -999.00,9,-999.000,9,   -999.0,9,   -999.0,9,-999.0,  -999.0,-999.0000,-999.000,-999.000,-999.000,-999.000
      74JC10_1,   A23,   122,  1,  12212,     12,2,19950504,0845,-27.8610, -38.9443, 4253,   2056,   2043.4,   3.1002,  34.8956,2,  34.8969,2,    241.0,3,  2.9423,    231.9,2,    36.82,2,    22.28,2,     1.51,2, -999.000,9, -999.000,9, -999.000,9, -999.000,9, -999.000,9,-999.0000,9,  -999.00,9,-999.000,9,   -999.0,9,   -999.0,9,-999.0,  -999.0,-999.0000,-999.000,-999.000,-999.000,-999.000
      74JC10_1,   A23,   122,  1,  12211,     24,2,19950504,0845,-27.8610, -38.9443, 4253,   2311,   2298.3,   3.0310,  34.9254,2,  34.9264,2,    249.7,3,  2.8501,    241.6,2,    32.40,2,    21.22,2,     1.39,2,    0.012,2,    0.018,3,    0.000,2,    0.109,2, -999.000,9,-999.0000,9,  -999.00,9,-999.000,9,   -999.0,9,   -999.0,9,-999.0,  -999.0,-999.0000,-999.000,-999.000,-999.000,-999.000
      74JC10_1,   A23,   122,  1,  12210,     10,2,19950504,0845,-27.8610, -38.9443, 4253,   2567,   2554.5,   2.9304,  34.9284,2,  34.9286,2,    252.3,3,  2.7265,    244.3,2,    33.05,2,    20.61,2,     1.39,2,   -0.005,2,    0.006,2,    0.000,2,    0.101,2, -999.000,9,-999.0000,9,  -999.00,9,-999.000,9,   -999.0,9,   -999.0,9,-999.0,  -999.0,-999.0000,-999.000,-999.000,-999.000,-999.000
      74JC10_1,   A23,   122,  1,  12209,      9,2,19950504,0845,-27.8610, -38.9443, 4253,   2828,   2816.3,   2.8005,  34.9232,2,  34.9227,2,    252.0,3,  2.5730,    245.3,2,    35.18,2,    20.69,2,     1.39,2, -999.000,9, -999.000,9, -999.000,9, -999.000,9, -999.000,9,-999.0000,9,  -999.00,9,-999.000,9,   -999.0,9,   -999.0,9,-999.0,  -999.0,-999.0000,-999.000,-999.000,-999.000,-999.000
      74JC10_1,   A23,   122,  1,  12208,      8,2,19950504,0845,-27.8610, -38.9443, 4253,   3083,   3072.0,   2.6698,  34.9155,2,  34.9140,2,    252.5,3,  2.4189,    245.5,2,    37.09,2,    20.80,2,     1.41,2, -999.000,9, -999.000,9, -999.000,9, -999.000,9, -999.000,9,-999.0000,9,  -999.00,9,-999.000,9,   -999.0,9,   -999.0,9,-999.0,  -999.0,-999.0000,-999.000,-999.000,-999.000,-999.000
      74JC10_1,   A23,   122,  1,  12207,     26,2,19950504,0845,-27.8610, -38.9443, 4253,   3340,   3329.7,   2.4600,  34.8988,2,  34.8987,2,    252.5,3,  2.1870,    244.9,2,    42.83,2,    21.39,2,     1.47,2, -999.000,9, -999.000,9, -999.000,9, -999.000,9, -999.000,9,-999.0000,9,  -999.00,9,-999.000,9,   -999.0,9,   -999.0,9,-999.0,  -999.0,-999.0000,-999.000,   2.455,-999.000,-999.000
      74JC10_1,   A23,   122,  1,  12206,      6,2,19950504,0845,-27.8610, -38.9443, 4253,   3599,   3589.2,   1.9415,  34.8479,2,  34.8473,2,    245.7,3,  1.6540,    237.9,2,    62.39,2,    23.89,2,     1.64,2,   -0.006,2,   -0.004,2,    0.000,2,    0.039,2, -999.000,9,-999.0000,9,  -999.00,9,-999.000,9,   -999.0,9,   -999.0,9,-999.0,  -999.0,-999.0000,-999.000,-999.000,-999.000,-999.000
      74JC10_1,   A23,   122,  1,  12205,      5,2,19950504,0845,-27.8610, -38.9443, 4253,   3856,   3846.6,   1.3086,  34.7782,2,  34.7789,2,    232.7,3,  1.0110,    226.2,2,    88.30,2,    27.60,2,     1.90,2,    0.021,2,    0.018,2,    0.000,2,    0.096,2, -999.000,9,-999.0000,9,  -999.00,9,-999.000,9,   -999.0,9,   -999.0,9,-999.0,  -999.0,-999.0000,-999.000,-999.000,-999.000,-999.000
      74JC10_1,   A23,   122,  1,  12204,      4,2,19950504,0845,-27.8610, -38.9443, 4253,   4110,   4101.1,   0.7729,  34.7203,2,  34.7190,2,    223.6,3,  0.4638,    216.2,2,   110.87,2,    30.53,2,     2.13,2,    0.053,2,    0.042,2,    0.000,2,    0.198,2, -999.000,9,-999.0000,9,  -999.00,9,-999.000,9,   -999.0,9,   -999.0,9,-999.0,  4113.0,-999.0000,-999.000,   0.776,-999.000,-999.000
      74JC10_1,   A23,   122,  1,  12201,      1,2,19950504,0845,-27.8610, -38.9443, 4253,   4319,   4310.6,   0.4052,  34.6881,2,  34.6873,2,    220.5,3,  0.0849,    215.3,2,   122.23,2,    31.86,2,     2.22,2, -999.000,9, -999.000,9, -999.000,9, -999.000,9, -999.000,9,-999.0000,9,  -999.00,9,-999.000,9,   -999.0,9,   -999.0,9,-999.0,  4298.0,-999.0000,-999.000,   0.392,-999.000,-999.000
      74JC10_1,   A23,   122,  1,  12203,      3,2,19950504,0845,-27.8610, -38.9443, 4253,   4320,   4311.4,   0.4052,  34.6880,2,  34.6867,2,    220.5,3,  0.0849,    214.8,2,   122.51,2,    31.91,2,     2.23,2,    0.096,2,    0.064,2,    0.000,2,    0.311,2, -999.000,9,-999.0000,9,  -999.00,9,-999.000,9,   -999.0,9,   -999.0,9,-999.0,  -999.0,-999.0000,-999.000,-999.000,-999.000,-999.000
      74JC10_1,   A23,   122,  1,  12202,      2,2,19950504,0845,-27.8610, -38.9443, 4253,   4321,   4312.5,   0.4046,  34.6881,2,  34.6867,2,    220.5,3,  0.0841,    215.3,2,   122.40,2,    32.03,2,     2.22,2,    0.088,2,    0.053,2,    0.000,2,    0.315,2, -999.000,9,-999.0000,9,  -999.00,9,-999.000,9,   -999.0,9,   -999.0,9,-999.0,  -999.0,-999.0000,-999.000,-999.000,-999.000,-999.000
      74JC10_1,   A23,   123,  1,  12324,     11,2,19950504,1406,-27.5250, -39.2600, 4232,     10,      3.0,  23.4915,  35.8403,2,  35.8230,2,    211.0,3, 23.4909,    208.0,2,     2.22,2,    -0.03,2,     0.03,2,    2.102,2,    1.080,2,    0.208,2,    2.038,2, -999.000,9,-999.0000,9,  -999.00,9,-999.000,9,   -999.0,9,   -999.0,9,-999.0,  -999.0,-999.0000,-999.000,-999.000,-999.000,-999.000
      74JC10_1,   A23,   123,  1,  12323,     23,2,19950504,1406,-27.5250, -39.2600, 4232,     61,     53.8,  22.9862,  35.9331,2,  35.9307,2,    231.2,3, 22.9752,    221.5,2,     2.38,2,    -0.02,2,     0.06,2,    2.396,2,    1.143,2,    0.297,2,    1.875,2, -999.000,9,-999.0000,9,  -999.00,9,-999.000,9,   -999.0,9,   -999.0,9,-999.0,  -999.0,-999.0000,-999.000,-999.000,-999.000,-999.000
      74JC10_1,   A23,   123,  1,  12322,     25,2,19950504,1406,-27.5250, -39.2600, 4232,    110,    102.9,  18.0928,  35.8400,2,  35.7993,2,    229.3,3, 18.0750,    220.5,2,     2.38,2,     0.20,2,     0.17,2,    2.698,2,    1.352,2,    0.193,2,    1.228,2, -999.000,9,-999.0000,9,  -999.00,9,-999.000,9,   -999.0,9,   -999.0,9,-999.0,  -999.0,-999.0000,-999.000,-999.000,-999.000,-999.000
      74JC10_1,   A23,   123,  1,  12321,     21,2,19950504,1406,-27.5250, -39.2600, 4232,    162,    155.0,  15.7522,  35.6064,2,  35.5855,2,    207.4,3, 15.7279,    204.8,2,     3.05,2,     3.88,2,     0.42,2,    2.807,2,    1.362,2,    0.100,2,    0.767,2, -999.000,9,-999.0000,9,  -999.00,9,-999.000,9,   -999.0,9,   -999.0,9,-999.0,  -999.0,-999.0000,-999.000,-999.000,-999.000,-999.000
      74JC10_1,   A23,   123,  1,  12320,     27,2,19950504,1406,-27.5250, -39.2600, 4232,    259,    251.0,  14.2462,  35.4537,2,  35.4352,2,    207.7,3, 14.2093,    205.4,2,     3.79,2,     7.07,2,     0.60,2,    2.813,2,    1.295,2,    0.073,2,    0.703,2, -999.000,9,-999.0000,9,  -999.00,9,-999.000,9,   -999.0,9,   -999.0,9,-999.0,  -999.0,-999.0000,-999.000,  14.347,-999.000,-999.000
      74JC10_1,   A23,   123,  1,  12319,     19,2,19950504,1406,-27.5250, -39.2600, 4232,    366,    357.4,  12.3900,  35.1746,2,  35.1650,2,    212.5,3, 12.3420,    204.1,2,     5.26,2,    11.48,2,     0.86,2,    2.601,2,    1.160,2,    0.066,2,    0.772,2, -999.000,9,-999.0000,9,  -999.00,9,-999.000,9,   -999.0,9,   -999.0,9,-999.0,  -999.0,-999.0000,-999.000,-999.000,-999.000,-999.000
      74JC10_1,   A23,   123,  1,  12318,     18,2,19950504,1406,-27.5250, -39.2600, 4232,    520,    510.1,   8.9339,  34.6977,2,  34.6944,2,    209.4,3,  8.8779,    202.5,2,     9.65,2,    20.14,2,     1.40,2,    2.140,2,    0.922,2,    0.064,2,    1.324,2, -999.000,9,-999.0000,9,  -999.00,9,-999.000,9,   -999.0,9,   -999.0,9,-999.0,  -999.0,-999.0000,-999.000,-999.000,-999.000,-999.000
      74JC10_1,   A23,   123,  1,  12317,     17,2,19950504,1406,-27.5250, -39.2600, 4232,    776,    765.3,   5.0342,  34.3265,2,  34.3258,2,    229.4,3,  4.9717,    222.2,2,    20.30,2,    27.65,2,     1.89,2,    1.875,2,    0.746,3,    0.068,2,    2.280,2, -999.000,9,-999.0000,9,  -999.00,9,-999.000,9,   -999.0,9,   -999.0,9,-999.0,  -999.0,-999.0000,-999.000,-999.000,-999.000,-999.000
      74JC10_1,   A23,   123,  1,  12316,     16,2,19950504,1406,-27.5250, -39.2600, 4232,   1029,   1016.5,   3.4618,  34.3682,2,  34.3674,2,    205.7,3,  3.3893,    198.5,2,    41.51,2,    31.64,2,     2.19,2,    0.538,2,    0.248,2,    0.010,2,    1.143,2, -999.000,9,-999.0000,9,  -999.00,9,-999.000,9,   -999.0,9,   -999.0,9,-999.0,  -999.0,-999.0000,-999.000,-999.000,-999.000,-999.000
      74JC10_1,   A23,   123,  1,  12315,     15,2,19950504,1406,-27.5250, -39.2600, 4232,   1286,   1273.5,   2.9904,  34.5279,2,  34.5298,2,    191.5,3,  2.9013,    184.7,2,    54.97,2,    31.89,2,     2.19,2,    0.088,2,    0.049,2,    0.000,2,    0.431,2, -999.000,9,-999.0000,9,  -999.00,9,-999.000,9,   -999.0,9,   -999.0,9,-999.0,  -999.0,-999.0000,-999.000,-999.000,-999.000,-999.000
      74JC10_1,   A23,   123,  1,  12314,     14,2,19950504,1406,-27.5250, -39.2600, 4232,   1543,   1529.6,   2.8740,  34.6826,2,  34.6846,2,    198.3,3,  2.7649,    192.4,2,    55.37,2,    29.35,2,     1.99,2,    0.008,2,    0.012,2,    0.000,2,    0.141,2, -999.000,9,-999.0000,9,  -999.00,9,-999.000,9,   -999.0,9,   -999.0,9,-999.0,  -999.0,-999.0000,-999.000,-999.000,-999.000,-999.000
      74JC10_1,   A23,   123,  1,  12313,     13,2,19950504,1406,-27.5250, -39.2600, 4232,   1799,   1785.6,   2.9946,  34.7968,2,  34.7956,2,    215.7,3,  2.8618,    209.7,2,    46.73,2,    26.45,2,     1.76,2,    0.001,2,    0.003,2,    0.000,2,    0.088,2, -999.000,9,-999.0000,9,  -999.00,9,-999.000,9,   -999.0,9,   -999.0,9,-999.0,  -999.0,-999.0000,-999.000,-999.000,-999.000,-999.000
      74JC10_1,   A23,   123,  1,  12312,     12,2,19950504,1406,-27.5250, -39.2600, 4232,   2055,   2041.8,   2.8961,  34.8450,2,  34.8448,2,    228.0,3,  2.7417,    222.0,2,    43.54,2,    24.38,2,     1.62,2,   -0.011,2,    0.005,2,    0.000,2,    0.053,2, -999.000,9,-999.0000,9,  -999.00,9,-999.000,9,   -999.0,9,   -999.0,9,-999.0,  -999.0,-999.0000,-999.000,-999.000,-999.000,-999.000
      74JC10_1,   A23,   123,  1,  12311,     24,2,19950504,1406,-27.5250, -39.2600, 4232,   2309,   2295.9,   2.9795,  34.8972,2,  34.8985,2,    241.4,3,  2.7999,    235.0,2,    36.15,2,    22.12,2,     1.46,2,   -0.002,2,   -0.001,2,    0.000,2,    0.081,2, -999.000,9,-999.0000,9,  -999.00,9,-999.000,9,   -999.0,9,   -999.0,9,-999.0,  -999.0,-999.0000,-999.000,-999.000,-999.000,-999.000
      74JC10_1,   A23,   123,  1,  12310,     10,2,19950504,1406,-27.5250, -39.2600, 4232,   2567,   2555.3,   3.0312,  34.9361,2,  34.9349,2,    252.1,3,  2.8253,    244.6,2,    30.28,2,    20.43,2,     1.35,2,    0.005,2,   -0.001,2,    0.000,2,    0.138,2, -999.000,9,-999.0000,9,  -999.00,9,-999.000,9,   -999.0,9,   -999.0,9,-999.0,  -999.0,-999.0000,-999.000,-999.000,-999.000,-999.000
      74JC10_1,   A23,   123,  1,  12309,      9,2,19950504,1406,-27.5250, -39.2600, 4232,   2826,   2814.1,   2.9113,  34.9289,2,  34.9280,2,    251.6,3,  2.6818,    245.0,2,    32.49,2,    20.53,2,     1.35,2,   -0.001,2,   -0.001,2,    0.000,2,    0.104,2, -999.000,9,-999.0000,9,  -999.00,9,-999.000,9,   -999.0,9,   -999.0,9,-999.0,  -999.0,-999.0000,-999.000,-999.000,-999.000,-999.000
      74JC10_1,   A23,   123,  1,  12308,      8,2,19950504,1406,-27.5250, -39.2600, 4232,   3081,   3070.6,   2.8015,  34.9214,2,  34.9227,2,    252.4,3,  2.5478,    245.4,2,    34.68,2,    20.72,2,     1.37,2,   -0.002,2,    0.015,3,    0.000,2,    0.115,2, -999.000,9,-999.0000,9,  -999.00,9,-999.000,9,   -999.0,9,   -999.0,9,-999.0,  -999.0,-999.0000,-999.000,-999.000,-999.000,-999.000
      74JC10_1,   A23,   123,  1,  12307,     26,2,19950504,1406,-27.5250, -39.2600, 4232,   3491,   3481.6,   2.2711,  34.8770,2,  34.8764,2,    250.7,3,  1.9866,    241.4,2,    52.64,2,    22.74,2,     1.51,2,   -0.002,2,    0.003,2,    0.000,2,    0.104,2, -999.000,9,   1.8240,2,     3.47,2,-999.000,9,   -999.0,9,   -999.0,9,-999.0,  -999.0,  0.0070,-999.000,   2.274,-999.000,   0.300
      74JC10_1,   A23,   123,  1,  12306,      6,2,19950504,1406,-27.5250, -39.2600, 4232,   3698,   3688.5,   1.2986,  34.7800,2,  34.7785,2,    233.5,3,  1.0177,    226.3,2,    88.73,2,    27.68,2,     1.88,2,    0.013,2,    0.009,2,    0.000,2,    0.108,2, -999.000,9,   1.8490,2,     5.88,2,   8.133,2,   -999.0,9,   -999.0,9,-999.0,  -999.0,  0.0070,-999.000,-999.000,   0.025,   0.300
      74JC10_1,   A23,   123,  1,  12305,      5,2,19950504,1406,-27.5250, -39.2600, 4232,   3904,   3895.0,   0.7880,  34.7201,3,  34.7284,3,    225.9,3,  0.5000,    217.9,2,   107.22,2,    30.19,2,     2.05,2,    0.046,2,    0.031,2,    0.004,2,    0.199,2, -999.000,9,   1.8590,2,     6.55,2,   8.154,2,   -999.0,9,   -999.0,9,-999.0,  -999.0,  0.0070,-999.000,-999.000,   0.025,   0.300
      74JC10_1,   A23,   123,  1,  12304,      4,2,19950504,1406,-27.5250, -39.2600, 4232,   4112,   4103.6,   0.5037,  34.6955,2,  34.6950,2,    222.5,3,  0.2023,    215.0,2,   119.42,2,    31.60,2,     2.16,2,    0.067,2,    0.040,2,    0.000,2,    0.256,2, -999.000,9,-999.0000,9,  -999.00,9,-999.000,9,   -999.0,9,   -999.0,9,-999.0,  4114.0,-999.0000,-999.000,   0.498,-999.000,-999.000
      74JC10_1,   A23,   123,  1,  12302,      2,2,19950504,1406,-27.5250, -39.2600, 4232,   4302,   4293.3,   0.3646,  34.6828,2,  34.6826,2,    220.7,3,  0.0475,    215.3,2,   125.71,2,    32.10,2,     2.20,2,    0.082,2,    0.052,2,    0.000,2,    0.297,2, -999.000,9,-999.0000,9,  -999.00,9,-999.000,9,   -999.0,9,   -999.0,9,-999.0,  -999.0,-999.0000,-999.000,-999.000,-999.000,-999.000
      74JC10_1,   A23,   123,  1,  12301,      1,2,19950504,1406,-27.5250, -39.2600, 4232,   4302,   4293.8,   0.3647,  34.6827,2,  34.6828,2,    220.7,3,  0.0475,    214.7,2,   125.50,2,    32.07,2,     2.22,2,    0.084,2,    0.051,2,    0.000,2,    0.265,2, -999.000,9,   1.8600,2,     7.18,2,   8.146,2,   -999.0,9,   -999.0,9,-999.0,  4282.0,  0.0070,-999.000,   0.350,   0.025,   0.300
      74JC10_1,   A23,   123,  1,  12303,      3,2,19950504,1406,-27.5250, -39.2600, 4232,   4302,   4294.2,   0.3650,  34.6823,2,  34.6828,2,    220.5,3,  0.0478,    215.4,2,   124.56,2,    32.14,2,     2.19,2,    0.077,2,    0.050,2,    0.000,2,    0.183,2, -999.000,9,-999.0000,9,  -999.00,9,-999.000,9,   -999.0,9,   -999.0,9,-999.0,  -999.0,-999.0000,-999.000,-999.000,-999.000,-999.000