BOTTLE,20220810CCHSIOAMB
EXPOCODE,SECT_ID,STNNBR,CASTNO,SAMPNO,BTLNBR,BTLNBR_FLAG_W,DATE,TIME,LATITUDE,LONGITUDE,DEPTH,CTDRAW,CTDPRS,CTDTMP,CTDSAL,CTDSAL_FLAG_W,SALNTY,SALNTY_FLAG_W,CTDOXY,CTDOXY_FLAG_W,THETA,OXYGEN,OXYGEN_FLAG_W,SILCAT,SILCAT_FLAG_W,NO2+NO3,NO2+NO3_FLAG_W,PHSPHT,PHSPHT_FLAG_W,CFC-11,CFC-11_FLAG_W,CFC-12,CFC-12_FLAG_W,CFC113,CFC113_FLAG_W,CCL4,CCL4_FLAG_W,TRITUM,TRITUM_FLAG_W,HELIUM,HELIUM_FLAG_W,DELHE3,DELHE3_FLAG_W,NEON,NEON_FLAG_W,TCARBN,TCARBN_FLAG_W,PCO2,PCO2_FLAG_W,PCO2TMP,REVPRS,HELIER,TRITER,REVTMP,NEONER,DELHER
,,,,,,,,,,,,,DBAR,ITS-90,PSS-78,,PSS-78,,UMOL/KG,,DEG C,UMOL/KG,,UMOL/KG,,UMOL/KG,,UMOL/KG,,PMOL/KG,,PMOL/KG,,PMOL/KG,,PMOL/KG,,TU,,NMOL/KG,,PERCNT,,NMOL/KG,,UMOL/KG,,UATM,,DEG C,DBAR,NMOL/KG,TU,ITS-90,NMOL/KG,PERCNT
      74JC10_1,   A23,    49,  1,   4920,     27,2,19950411,2354,-55.7255, -33.7855, 3567,     11,      8.9,   1.9807,  33.9225,2,  33.9228,2,    326.0,3,  1.9803,    317.9,2,    28.73,2,    22.87,2,     1.58,2, -999.000,9, -999.000,9, -999.000,9, -999.000,9, -999.000,9,-999.0000,9,  -999.00,9,-999.000,9,   -999.0,9,   -999.0,9,-999.0,  -999.0,-999.0000,-999.000,   1.979,-999.000,-999.000
      74JC10_1,   A23,    49,  1,   4919,     19,2,19950411,2354,-55.7255, -33.7855, 3567,     12,      9.7,   1.9791,  33.9221,2,  33.9230,2,    326.0,3,  1.9786,    318.4,2,    29.34,2,    22.77,2,     1.56,2, -999.000,9, -999.000,9, -999.000,9, -999.000,9, -999.000,9,-999.0000,9,  -999.00,9,-999.000,9,   -999.0,9,   -999.0,9,-999.0,  -999.0,-999.0000,-999.000,-999.000,-999.000,-999.000
      74JC10_1,   A23,    49,  1,   4918,     18,2,19950411,2354,-55.7255, -33.7855, 3567,     59,     56.2,   1.9875,  33.9267,2,  33.9281,2,    328.8,3,  1.9846,    318.0,2,    29.45,2,    22.90,2,     1.55,2, -999.000,9, -999.000,9, -999.000,9, -999.000,9, -999.000,9,-999.0000,9,  -999.00,9,-999.000,9,   -999.0,9,   -999.0,9,-999.0,  -999.0,-999.0000,-999.000,-999.000,-999.000,-999.000
      74JC10_1,   A23,    49,  1,   4917,     17,2,19950411,2354,-55.7255, -33.7855, 3567,    108,    104.5,   1.0996,  34.0629,2,  34.0674,2,    298.4,3,  1.0949,    291.9,2,    45.36,2,    27.28,2,     1.87,2, -999.000,9, -999.000,9, -999.000,9, -999.000,9, -999.000,9,-999.0000,9,  -999.00,9,-999.000,9,   -999.0,9,   -999.0,9,-999.0,  -999.0,-999.0000,-999.000,-999.000,-999.000,-999.000
      74JC10_1,   A23,    49,  1,   4916,     16,2,19950411,2354,-55.7255, -33.7855, 3567,    158,    153.7,   1.2565,  34.2444,2,  34.2703,2,    226.3,3,  1.2494,    222.1,2,    58.61,2,    33.15,2,     2.26,2, -999.000,9, -999.000,9, -999.000,9, -999.000,9, -999.000,9,-999.0000,9,  -999.00,9,-999.000,9,   -999.0,9,   -999.0,9,-999.0,  -999.0,-999.0000,-999.000,-999.000,-999.000,-999.000
      74JC10_1,   A23,    49,  1,   4915,     15,2,19950411,2354,-55.7255, -33.7855, 3567,    208,    202.6,   1.7269,  34.3840,2,  34.3882,2,    208.1,3,  1.7165,    196.1,2,    67.47,2,    33.77,2,     2.33,2, -999.000,9, -999.000,9, -999.000,9, -999.000,9, -999.000,9,-999.0000,9,  -999.00,9,-999.000,9,   -999.0,9,   -999.0,9,-999.0,  -999.0,-999.0000,-999.000,-999.000,-999.000,-999.000
      74JC10_1,   A23,    49,  1,   4914,     14,2,19950411,2354,-55.7255, -33.7855, 3567,    259,    252.8,   1.9456,  34.4630,2,  34.4679,2,    187.0,3,  1.9321,    181.9,2,    73.46,2,    34.13,2,     2.35,2, -999.000,9, -999.000,9, -999.000,9, -999.000,9, -999.000,9,-999.0000,9,  -999.00,9,-999.000,9,   -999.0,9,   -999.0,9,-999.0,  -999.0,-999.0000,-999.000,-999.000,-999.000,-999.000
      74JC10_1,   A23,    49,  1,   4913,     13,2,19950411,2354,-55.7255, -33.7855, 3567,    359,    351.4,   1.8762,  34.5414,2,  34.5419,2,    185.4,3,  1.8573,    177.3,2,    80.11,2,    33.93,2,     2.33,2, -999.000,9, -999.000,9, -999.000,9, -999.000,9, -999.000,9,-999.0000,9,  -999.00,9,-999.000,9,   -999.0,9,   -999.0,9,-999.0,  -999.0,-999.0000,-999.000,-999.000,-999.000,-999.000
      74JC10_1,   A23,    49,  1,   4912,     12,2,19950411,2354,-55.7255, -33.7855, 3567,    510,    501.3,   1.9230,  34.6288,2,  34.6299,2,    178.8,3,  1.8952,    173.7,2,    87.37,2,    32.92,2,     2.26,2, -999.000,9, -999.000,9, -999.000,9, -999.000,9, -999.000,9,-999.0000,9,  -999.00,9,-999.000,9,   -999.0,9,   -999.0,9,-999.0,  -999.0,-999.0000,-999.000,-999.000,-999.000,-999.000
      74JC10_1,   A23,    49,  1,   4911,     24,2,19950411,2354,-55.7255, -33.7855, 3567,    759,    748.6,   1.8405,  34.6961,2,  34.6962,2,    179.6,3,  1.7978,    174.9,2,    97.11,2,    32.15,2,     2.19,2, -999.000,9, -999.000,9, -999.000,9, -999.000,9, -999.000,9,-999.0000,9,  -999.00,9,-999.000,9,   -999.0,9,   -999.0,9,-999.0,  -999.0,-999.0000,-999.000,-999.000,-999.000,-999.000
      74JC10_1,   A23,    49,  1,   4910,     10,2,19950411,2354,-55.7255, -33.7855, 3567,   1009,    997.4,   1.4468,  34.7020,2,  34.7020,2,    193.4,3,  1.3910,    185.3,2,   100.73,2,    31.63,2,     2.15,2, -999.000,9, -999.000,9, -999.000,9, -999.000,9, -999.000,9,-999.0000,9,  -999.00,9,-999.000,9,   -999.0,9,   -999.0,9,-999.0,  -999.0,-999.0000,-999.000,-999.000,-999.000,-999.000
      74JC10_1,   A23,    49,  1,   4909,      9,2,19950411,2354,-55.7255, -33.7855, 3567,   1257,   1245.3,   1.2939,  34.7125,2,  34.7129,2,    196.9,3,  1.2232,    190.2,2,   106.39,2,    31.50,2,     2.14,2, -999.000,9, -999.000,9, -999.000,9, -999.000,9, -999.000,9,-999.0000,9,  -999.00,9,-999.000,9,   -999.0,9,   -999.0,9,-999.0,  -999.0,-999.0000,-999.000,-999.000,-999.000,-999.000
      74JC10_1,   A23,    49,  1,   4908,      8,2,19950411,2354,-55.7255, -33.7855, 3567,   1505,   1493.2,   1.0515,  34.7072,2,  34.7079,2,    201.2,3,  0.9665,    194.0,2,   110.68,2,    31.51,2,     2.13,2, -999.000,9, -999.000,9, -999.000,9, -999.000,9, -999.000,9,-999.0000,9,  -999.00,9,-999.000,9,   -999.0,9,   -999.0,9,-999.0,  -999.0,-999.0000,-999.000,-999.000,-999.000,-999.000
      74JC10_1,   A23,    49,  1,   4907,     26,2,19950411,2354,-55.7255, -33.7855, 3567,   1756,   1743.7,   0.8024,  34.6986,2,  34.6985,2,    206.9,3,  0.7029,    201.0,2,   115.08,2,    31.67,2,     2.15,2, -999.000,9, -999.000,9, -999.000,9, -999.000,9, -999.000,9,-999.0000,9,  -999.00,9,-999.000,9,   -999.0,9,   -999.0,9,-999.0,  -999.0,-999.0000,-999.000,   0.797,-999.000,-999.000
      74JC10_1,   A23,    49,  1,   4906,      6,2,19950411,2354,-55.7255, -33.7855, 3567,   2006,   1994.0,   0.6173,  34.6905,2,  34.6905,2,    210.7,3,  0.5024,    204.7,2,   118.49,2,    31.84,2,     2.17,2, -999.000,9, -999.000,9, -999.000,9, -999.000,9, -999.000,9,-999.0000,9,  -999.00,9,-999.000,9,   -999.0,9,   -999.0,9,-999.0,  -999.0,-999.0000,-999.000,-999.000,-999.000,-999.000
      74JC10_1,   A23,    49,  1,   4905,      5,2,19950411,2354,-55.7255, -33.7855, 3567,   2509,   2497.5,   0.3606,  34.6794,2,  34.6785,2,    216.9,3,  0.2113,    211.2,2,   122.01,2,    32.01,2,     2.20,2, -999.000,9, -999.000,9, -999.000,9, -999.000,9, -999.000,9,-999.0000,9,  -999.00,9,-999.000,9,   -999.0,9,   -999.0,9,-999.0,  -999.0,-999.0000,-999.000,-999.000,-999.000,-999.000
      74JC10_1,   A23,    49,  1,   4904,      4,2,19950411,2354,-55.7255, -33.7855, 3567,   3004,   2994.2,   0.1635,  34.6711,2,  34.6696,2,    223.9,3, -0.0230,    217.3,2,   123.77,2,    31.80,2,     2.19,2, -999.000,9, -999.000,9, -999.000,9, -999.000,9, -999.000,9,-999.0000,9,  -999.00,9,-999.000,9,   -999.0,9,   -999.0,9,-999.0,  3003.0,-999.0000,-999.000,   0.156,-999.000,-999.000
      74JC10_1,   A23,    49,  1,   4903,      3,2,19950411,2354,-55.7255, -33.7855, 3567,   3309,   3300.2,   0.1110,  34.6677,2,  34.6665,2,    227.4,3, -0.1014,    219.8,2,   123.86,2,    31.88,2,     2.19,2, -999.000,9, -999.000,9, -999.000,9, -999.000,9, -999.000,9,-999.0000,9,  -999.00,9,-999.000,9,   -999.0,9,   -999.0,9,-999.0,  -999.0,-999.0000,-999.000,-999.000,-999.000,-999.000
      74JC10_1,   A23,    49,  1,   4901,      1,2,19950411,2354,-55.7255, -33.7855, 3567,   3585,   3576.2,   0.0500,  34.6647,2,  34.6631,2,    229.2,3, -0.1862,    222.3,4,   124.16,2,    31.78,2,     2.17,2, -999.000,9, -999.000,9, -999.000,9, -999.000,9, -999.000,9,-999.0000,9,  -999.00,9,-999.000,9,   -999.0,9,   -999.0,9,-999.0,  3555.0,-999.0000,-999.000,   0.046,-999.000,-999.000
      74JC10_1,   A23,    49,  1,   4902,      2,2,19950411,2354,-55.7255, -33.7855, 3567,   3586,   3576.9,   0.0501,  34.6647,2,  34.6639,2,    229.2,3, -0.1862,    223.3,2,   123.96,2,    31.78,2,     2.19,2, -999.000,9, -999.000,9, -999.000,9, -999.000,9, -999.000,9,-999.0000,9,  -999.00,9,-999.000,9,   -999.0,9,   -999.0,9,-999.0,  -999.0,-999.0000,-999.000,-999.000,-999.000,-999.000
      74JC10_1,   A23,    50,  1,   5018,     18,2,19950412,0355,-55.4847, -34.1333, 2509,     12,      9.8,   2.0148,  33.8757,2,  33.8770,2,    328.0,3,  2.0143,    318.3,2,    23.72,2,    22.83,2,     1.55,2, -999.000,9, -999.000,9, -999.000,9, -999.000,9, -999.000,9,-999.0000,9,  -999.00,9,-999.000,9,   -999.0,9,   -999.0,9,-999.0,  -999.0,-999.0000,-999.000,-999.000,-999.000,-999.000
      74JC10_1,   A23,    50,  1,   5017,     17,2,19950412,0355,-55.4847, -34.1333, 2509,     12,      9.9,   2.0147,  33.8771,2,  33.8780,2,    328.0,3,  2.0142,    319.1,2,    23.62,2,    22.62,2,     1.55,2,    2.473,3,    1.228,3,    0.236,2,    2.913,2, -999.000,9,-999.0000,9,  -999.00,9,-999.000,9,   -999.0,9,   -999.0,9,-999.0,  -999.0,-999.0000,-999.000,-999.000,-999.000,-999.000
      74JC10_1,   A23,    50,  1,   5016,     16,2,19950412,0355,-55.4847, -34.1333, 2509,     58,     54.7,   1.9188,  33.8967,2,  33.8979,2,    331.0,3,  1.9161,    318.6,2,    25.22,2,    22.84,2,     1.58,2,    2.463,3,    1.201,3,    0.221,2,    2.857,2, -999.000,9,-999.0000,9,  -999.00,9,-999.000,9,   -999.0,9,   -999.0,9,-999.0,  -999.0,-999.0000,-999.000,-999.000,-999.000,-999.000
      74JC10_1,   A23,    50,  1,   5015,     15,2,19950412,0355,-55.4847, -34.1333, 2509,    109,    105.1,   0.3051,  34.0522,2,  34.0068,2,    305.7,3,  0.3011,    292.6,2,    35.99,2,    29.28,2,     1.99,2,    2.263,3,    1.089,3,    0.195,2,    2.672,2, -999.000,9,-999.0000,9,  -999.00,9,-999.000,9,   -999.0,9,   -999.0,9,-999.0,  -999.0,-999.0000,-999.000,-999.000,-999.000,-999.000
      74JC10_1,   A23,    50,  1,   5014,     14,2,19950412,0355,-55.4847, -34.1333, 2509,    158,    153.6,   1.1318,  34.2182,2,  34.2093,2,    245.4,3,  1.1249,    239.7,2,    52.12,2,    32.15,2,     2.22,2,    1.402,2,    0.653,2,    0.107,2,    1.692,2, -999.000,9,-999.0000,9,  -999.00,9,-999.000,9,   -999.0,9,   -999.0,9,-999.0,  -999.0,-999.0000,-999.000,-999.000,-999.000,-999.000
      74JC10_1,   A23,    50,  1,   5013,     13,2,19950412,0355,-55.4847, -34.1333, 2509,    208,    203.1,   1.4895,  34.3395,2,  34.3370,2,    210.2,3,  1.4796,    209.6,2,    62.51,2,    33.44,2,     2.32,2,    0.929,2,    0.454,2,    0.056,2,    1.107,2, -999.000,9,-999.0000,9,  -999.00,9,-999.000,9,   -999.0,9,   -999.0,9,-999.0,  -999.0,-999.0000,-999.000,-999.000,-999.000,-999.000
      74JC10_1,   A23,    50,  1,   5012,     12,2,19950412,0355,-55.4847, -34.1333, 2509,    257,    251.9,   1.8288,  34.4384,2,  34.4400,2,    195.6,3,  1.8156,    188.7,2,    69.45,2,    33.82,2,     2.35,2,    0.525,2,    0.257,2,    0.027,2,    0.750,2, -999.000,9,-999.0000,9,  -999.00,9,-999.000,9,   -999.0,9,   -999.0,9,-999.0,  -999.0,-999.0000,-999.000,-999.000,-999.000,-999.000
      74JC10_1,   A23,    50,  1,   5011,     24,2,19950412,0355,-55.4847, -34.1333, 2509,    357,    350.7,   1.8240,  34.5305,2,  34.5307,2,    183.1,3,  1.8053,    180.0,2,    77.09,2,    33.69,2,     2.34,2,    0.373,2,    0.190,2,    0.018,2,    0.547,2, -999.000,9,-999.0000,9,  -999.00,9,-999.000,9,   -999.0,9,   -999.0,9,-999.0,  -999.0,-999.0000,-999.000,-999.000,-999.000,-999.000
      74JC10_1,   A23,    50,  1,   5010,     10,2,19950412,0355,-55.4847, -34.1333, 2509,    509,    500.7,   1.8681,  34.6279,2,  34.6286,2,    180.9,3,  1.8406,    175.8,2,    84.45,2,    32.86,2,     2.31,2,    0.162,2,    0.109,2,    0.005,2,    0.298,2, -999.000,9,-999.0000,9,  -999.00,9,-999.000,9,   -999.0,9,   -999.0,9,-999.0,  -999.0,-999.0000,-999.000,-999.000,-999.000,-999.000
      74JC10_1,   A23,    50,  1,   5009,      9,2,19950412,0355,-55.4847, -34.1333, 2509,    758,    748.6,   1.7681,  34.6846,2,  34.6857,2,    183.2,3,  1.7258,    177.5,2,    91.50,2,    32.14,2,     2.25,2,    0.077,2,    0.059,2,    0.000,2,    0.170,2, -999.000,9,-999.0000,9,  -999.00,9,-999.000,9,   -999.0,9,   -999.0,9,-999.0,  -999.0,-999.0000,-999.000,-999.000,-999.000,-999.000
      74JC10_1,   A23,    50,  1,   5008,      8,2,19950412,0355,-55.4847, -34.1333, 2509,   1008,    997.8,   1.6013,  34.7089,2,  34.7097,2,    188.5,3,  1.5442,    182.5,2,    96.78,2,    31.69,2,     2.24,2,    0.067,2,    0.044,2,    0.005,2,    0.135,2,    0.017,2,   1.8450,2,    11.27,2,   8.018,2,   -999.0,9,   -999.0,9,-999.0,  -999.0,  0.0070,   0.002,-999.000,   0.025,   0.300
      74JC10_1,   A23,    50,  1,   5007,     26,2,19950412,0355,-55.4847, -34.1333, 2509,   1257,   1246.3,   1.3856,  34.7134,2,  34.7129,2,    194.0,3,  1.3139,    188.5,2,   101.51,2,    31.54,2,     2.16,2,    0.045,2,    0.037,2,    0.000,2,    0.111,2, -999.000,9,-999.0000,9,  -999.00,9,-999.000,9,   -999.0,9,   -999.0,9,-999.0,  -999.0,-999.0000,-999.000,   1.379,-999.000,-999.000
      74JC10_1,   A23,    50,  1,   5006,      6,2,19950412,0355,-55.4847, -34.1333, 2509,   1508,   1497.6,   1.2521,  34.7131,2,  34.7125,2,    198.0,3,  1.1644,    190.5,2,   106.00,2,    31.51,2,     2.17,2,    0.045,2,    0.039,2,    0.000,2,    0.121,2,    0.011,2,   1.8500,2,    10.76,2,   8.055,2,   -999.0,9,   -999.0,9,-999.0,  -999.0,  0.0070,   0.005,-999.000,   0.025,   0.300
      74JC10_1,   A23,    50,  1,   5005,      5,2,19950412,0355,-55.4847, -34.1333, 2509,   1754,   1743.1,   1.0435,  34.7080,2,  34.7081,2,    202.7,3,  0.9408,    196.6,2,   109.61,2,    31.59,2,     2.16,2,    0.053,2,    0.044,2,    0.000,2,    0.128,2, -999.000,9,-999.0000,9,  -999.00,9,-999.000,9,   -999.0,9,   -999.0,9,-999.0,  -999.0,-999.0000,-999.000,-999.000,-999.000,-999.000
      74JC10_1,   A23,    50,  1,   5004,      4,2,19950412,0355,-55.4847, -34.1333, 2509,   2005,   1995.1,   0.9002,  34.7040,2,  34.7034,2,    206.0,3,  0.7807,    199.4,2,   113.03,2,    31.62,2,     2.24,2,    0.068,2,    0.054,2,    0.001,2,    0.147,2,    0.026,2,   1.8540,2,     9.58,2,   8.100,2,   -999.0,9,   -999.0,9,-999.0,  1999.0,  0.0070,   0.047,   0.897,   0.025,   0.300
      74JC10_1,   A23,    50,  1,   5003,      3,2,19950412,0355,-55.4847, -34.1333, 2509,   2301,   2291.9,   0.7452,  34.6978,2,  34.6967,2,    210.4,3,  0.6052,    200.6,3,   116.93,2,    31.74,2,     2.18,2,    0.084,2,    0.057,2,    0.003,2,    0.160,2, -999.000,9,   1.8600,2,     9.26,2,   8.115,2,   -999.0,9,   -999.0,9,-999.0,  -999.0,  0.0070,-999.000,-999.000,   0.025,   0.300
      74JC10_1,   A23,    50,  1,   5001,      1,2,19950412,0355,-55.4847, -34.1333, 2509,   2497,   2488.4,   0.4931,  34.6876,2,  34.6863,2,    215.3,3,  0.3420,    210.8,2,   119.18,2,    31.87,2,     2.18,2,    0.112,2,    0.074,2,    0.005,2,    0.223,2,    0.021,2,-999.0000,5,     8.76,3,-999.000,5,   -999.0,9,   -999.0,9,-999.0,  2468.0,-999.0000,   0.002,   0.489,-999.000,   0.300
      74JC10_1,   A23,    50,  1,   5002,      2,2,19950412,0355,-55.4847, -34.1333, 2509,   2498,   2489.8,   0.4935,  34.6876,2,  34.6855,2,    215.3,3,  0.3423,    208.9,2,   118.98,2,    31.89,2,     2.19,2,    0.111,2,    0.071,2,    0.000,2,    0.227,2, -999.000,9,-999.0000,9,  -999.00,9,-999.000,9,   -999.0,9,   -999.0,9,-999.0,  -999.0,-999.0000,-999.000,-999.000,-999.000,-999.000