BOTTLE,20220810CCHSIOAMB
EXPOCODE,SECT_ID,STNNBR,CASTNO,SAMPNO,BTLNBR,BTLNBR_FLAG_W,DATE,TIME,LATITUDE,LONGITUDE,DEPTH,CTDRAW,CTDPRS,CTDTMP,CTDSAL,CTDSAL_FLAG_W,SALNTY,SALNTY_FLAG_W,CTDOXY,CTDOXY_FLAG_W,THETA,OXYGEN,OXYGEN_FLAG_W,SILCAT,SILCAT_FLAG_W,NO2+NO3,NO2+NO3_FLAG_W,PHSPHT,PHSPHT_FLAG_W,CFC-11,CFC-11_FLAG_W,CFC-12,CFC-12_FLAG_W,CFC113,CFC113_FLAG_W,CCL4,CCL4_FLAG_W,TRITUM,TRITUM_FLAG_W,HELIUM,HELIUM_FLAG_W,DELHE3,DELHE3_FLAG_W,NEON,NEON_FLAG_W,TCARBN,TCARBN_FLAG_W,PCO2,PCO2_FLAG_W,PCO2TMP,REVPRS,HELIER,TRITER,REVTMP,NEONER,DELHER
,,,,,,,,,,,,,DBAR,ITS-90,PSS-78,,PSS-78,,UMOL/KG,,DEG C,UMOL/KG,,UMOL/KG,,UMOL/KG,,UMOL/KG,,PMOL/KG,,PMOL/KG,,PMOL/KG,,PMOL/KG,,TU,,NMOL/KG,,PERCNT,,NMOL/KG,,UMOL/KG,,UATM,,DEG C,DBAR,NMOL/KG,TU,ITS-90,NMOL/KG,PERCNT
      74JC10_1,   A23,    44,  1,   4419,     19,2,19950410,1730,-57.4582, -31.3278, 3813,     12,      9.3,   1.4110,  34.0397,2,  34.0396,2,    325.4,3,  1.4105,    316.5,2,    40.09,2,    23.83,2,     1.64,2, -999.000,9, -999.000,9, -999.000,9, -999.000,9, -999.000,9,-999.0000,9,  -999.00,9,-999.000,9,   -999.0,9,   -999.0,9,-999.0,  -999.0,-999.0000,-999.000,-999.000,-999.000,-999.000
      74JC10_1,   A23,    44,  1,   4420,      7,2,19950410,1730,-57.4582, -31.3278, 3813,     13,     10.4,   1.4126,  34.0397,2,  34.0405,2,    325.6,3,  1.4121,    316.1,2,    39.02,2,    23.89,2,     1.65,2, -999.000,9, -999.000,9, -999.000,9, -999.000,9, -999.000,9,-999.0000,9,  -999.00,9,-999.000,9,   2147.8,6,    354.6,2,   4.0,  -999.0,-999.0000,-999.000,   1.409,-999.000,-999.000
      74JC10_1,   A23,    44,  1,   4418,     18,2,19950410,1730,-57.4582, -31.3278, 3813,     57,     53.6,   1.4059,  34.0406,2,  34.0398,2,    324.8,3,  1.4035,    316.5,2,    39.29,2,    23.98,2,     1.68,2, -999.000,9, -999.000,9, -999.000,9, -999.000,9, -999.000,9,-999.0000,9,  -999.00,9,-999.000,9,   -999.0,9,   -999.0,9,-999.0,  -999.0,-999.0000,-999.000,-999.000,-999.000,-999.000
      74JC10_1,   A23,    44,  1,   4417,     17,2,19950410,1730,-57.4582, -31.3278, 3813,    107,    103.7,   0.3833,  34.2386,2,  34.2373,2,    272.1,3,  0.3793,    266.1,2,    57.44,2,    30.36,2,     2.09,2, -999.000,9, -999.000,9, -999.000,9, -999.000,9, -999.000,9,-999.0000,9,  -999.00,9,-999.000,9,   -999.0,9,   -999.0,9,-999.0,  -999.0,-999.0000,-999.000,-999.000,-999.000,-999.000
      74JC10_1,   A23,    44,  1,   4416,     16,2,19950410,1730,-57.4582, -31.3278, 3813,    157,    152.7,   0.6474,  34.3802,2,  34.3823,2,    237.7,3,  0.6411,    231.4,2,    71.20,2,    32.46,2,     2.27,2, -999.000,9, -999.000,9, -999.000,9, -999.000,9, -999.000,9,-999.0000,9,  -999.00,9,-999.000,9,   2213.7,6,    493.5,2,   4.0,  -999.0,-999.0000,-999.000,-999.000,-999.000,-999.000
      74JC10_1,   A23,    44,  1,   4415,     15,2,19950410,1730,-57.4582, -31.3278, 3813,    207,    202.2,   0.9594,  34.4563,2,  34.4575,2,    215.5,3,  0.9503,    212.7,2,    75.64,2,    32.77,2,     2.32,2, -999.000,9, -999.000,9, -999.000,9, -999.000,9, -999.000,9,-999.0000,9,  -999.00,9,-999.000,9,   -999.0,9,   -999.0,9,-999.0,  -999.0,-999.0000,-999.000,-999.000,-999.000,-999.000
      74JC10_1,   A23,    44,  1,   4414,     14,2,19950410,1730,-57.4582, -31.3278, 3813,    257,    251.5,   1.3902,  34.5380,2,  34.5384,2,    199.8,3,  1.3779,    193.7,2,    79.50,2,    32.98,2,     2.31,2, -999.000,9, -999.000,9, -999.000,9, -999.000,9, -999.000,9,-999.0000,9,  -999.00,9,-999.000,9,   -999.0,9,   -999.0,9,-999.0,  -999.0,-999.0000,-999.000,-999.000,-999.000,-999.000
      74JC10_1,   A23,    44,  1,   4413,     13,2,19950410,1730,-57.4582, -31.3278, 3813,    357,    349.7,   1.6100,  34.6206,2,  34.6213,2,    191.8,3,  1.5919,    184.1,2,    84.15,2,    32.46,2,     2.26,2, -999.000,9, -999.000,9, -999.000,9, -999.000,9, -999.000,9,-999.0000,9,  -999.00,9,-999.000,9,   2237.4,6,    539.9,2,   4.0,  -999.0,-999.0000,-999.000,-999.000,-999.000,-999.000
      74JC10_1,   A23,    44,  1,   4412,     12,2,19950410,1730,-57.4582, -31.3278, 3813,    507,    498.5,   1.4347,  34.6503,2,  34.6521,2,    197.0,3,  1.4090,    189.7,2,    88.44,2,    31.89,2,     2.23,2, -999.000,9, -999.000,9, -999.000,9, -999.000,9, -999.000,9,-999.0000,9,  -999.00,9,-999.000,9,   2237.0,6,    515.5,2,   4.0,  -999.0,-999.0000,-999.000,-999.000,-999.000,-999.000
      74JC10_1,   A23,    44,  1,   4411,     24,2,19950410,1730,-57.4582, -31.3278, 3813,    758,    748.1,   1.3710,  34.6993,2,  34.7005,2,    197.2,3,  1.3311,    189.3,2,    96.85,2,    31.46,2,     2.21,2, -999.000,9, -999.000,9, -999.000,9, -999.000,9, -999.000,9,-999.0000,9,  -999.00,9,-999.000,9,   -999.0,9,   -999.0,9,-999.0,  -999.0,-999.0000,-999.000,-999.000,-999.000,-999.000
      74JC10_1,   A23,    44,  1,   4410,     10,2,19950410,1730,-57.4582, -31.3278, 3813,   1007,    995.5,   1.1036,  34.7035,2,  34.7022,2,    202.5,3,  1.0507,    195.3,2,   102.97,2,    31.40,2,     2.17,2, -999.000,9, -999.000,9, -999.000,9, -999.000,9, -999.000,9,-999.0000,9,  -999.00,9,-999.000,9,   -999.0,9,   -999.0,9,-999.0,  -999.0,-999.0000,-999.000,-999.000,-999.000,-999.000
      74JC10_1,   A23,    44,  1,   4409,      9,2,19950410,1730,-57.4582, -31.3278, 3813,   1258,   1246.1,   0.8580,  34.6973,2,  34.6973,2,    207.1,3,  0.7915,    199.8,2,   107.07,2,    31.46,2,     2.23,2, -999.000,9, -999.000,9, -999.000,9, -999.000,9, -999.000,9,-999.0000,9,  -999.00,9,-999.000,9,   -999.0,9,   -999.0,9,-999.0,  -999.0,-999.0000,-999.000,-999.000,-999.000,-999.000
      74JC10_1,   A23,    44,  1,   4408,      8,2,19950410,1730,-57.4582, -31.3278, 3813,   1503,   1490.9,   0.6437,  34.6894,2,  34.6881,2,    210.5,3,  0.5637,    203.3,2,   110.69,2,    31.60,2,     2.22,2, -999.000,9, -999.000,9, -999.000,9, -999.000,9, -999.000,9,-999.0000,9,  -999.00,9,-999.000,9,   2242.1,6,    478.9,2,   4.0,  -999.0,-999.0000,-999.000,-999.000,-999.000,-999.000
      74JC10_1,   A23,    44,  1,   4407,     26,2,19950410,1730,-57.4582, -31.3278, 3813,   1757,   1744.7,   0.4777,  34.6843,2,  34.6832,2,    214.0,3,  0.3827,    207.2,2,   113.13,2,    31.73,2,     2.20,2, -999.000,9, -999.000,9, -999.000,9, -999.000,9, -999.000,9,-999.0000,9,  -999.00,9,-999.000,9,   -999.0,9,   -999.0,9,-999.0,  -999.0,-999.0000,-999.000,   0.473,-999.000,-999.000
      74JC10_1,   A23,    44,  1,   4406,      6,2,19950410,1730,-57.4582, -31.3278, 3813,   2002,   1989.8,   0.3772,  34.6817,2,  34.6802,2,    216.7,3,  0.2663,    209.8,2,   114.79,2,    31.73,2,     2.22,2, -999.000,9, -999.000,9, -999.000,9, -999.000,9, -999.000,9,-999.0000,9,  -999.00,9,-999.000,9,   -999.0,9,   -999.0,9,-999.0,  -999.0,-999.0000,-999.000,-999.000,-999.000,-999.000
      74JC10_1,   A23,    44,  1,   4405,      5,2,19950410,1730,-57.4582, -31.3278, 3813,   2506,   2495.2,   0.1764,  34.6714,2,  34.6708,2,    221.7,3,  0.0308,    215.5,2,   117.71,2,    31.85,2,     2.22,2,    0.374,2,    0.205,2,    0.016,2,    0.456,2, -999.000,9,-999.0000,9,  -999.00,9,-999.000,9,   -999.0,9,   -999.0,9,-999.0,  -999.0,-999.0000,-999.000,-999.000,-999.000,-999.000
      74JC10_1,   A23,    44,  1,   4404,      4,2,19950410,1730,-57.4582, -31.3278, 3813,   3008,   2998.3,   0.0368,  34.6654,2,  34.6641,2,    227.4,3, -0.1472,    221.2,2,   118.20,2,    31.75,2,     2.25,2,    0.458,2,    0.245,2,    0.017,2,    0.516,2, -999.000,9,-999.0000,9,  -999.00,9,-999.000,9,   2237.3,6,    461.1,2,   4.0,  3008.0,-999.0000,-999.000,   0.031,-999.000,-999.000
      74JC10_1,   A23,    44,  1,   4403,      3,2,19950410,1730,-57.4582, -31.3278, 3813,   3513,   3503.7,   0.0051,  34.6621,2,  34.6616,2,    229.9,3, -0.2233,    223.3,2,   121.42,2,    31.71,2,     2.22,2,    0.502,2,    0.257,2,    0.015,2,    0.594,2, -999.000,9,-999.0000,9,  -999.00,9,-999.000,9,   2239.1,6,    463.2,2,   4.0,  -999.0,-999.0000,-999.000,-999.000,-999.000,-999.000
      74JC10_1,   A23,    44,  1,   4401,      1,2,19950410,1730,-57.4582, -31.3278, 3813,   3839,   3830.6,   0.0015,  34.6615,2,  34.6616,2,    230.9,3, -0.2579,    224.7,3,   121.82,2,    31.79,2,     2.20,2,    0.514,2,    0.244,2,    0.022,2,    0.619,2, -999.000,9,-999.0000,9,  -999.00,9,-999.000,9,   -999.0,9,   -999.0,9,-999.0,  3813.0,-999.0000,-999.000,  -0.004,-999.000,-999.000
      74JC10_1,   A23,    44,  1,   4402,      2,2,19950410,1730,-57.4582, -31.3278, 3813,   3840,   3831.5,   0.0016,  34.6612,2,  34.6616,2,    230.9,3, -0.2578,    227.0,3,   120.64,2,    31.82,2,     2.23,2, -999.000,9, -999.000,9, -999.000,9, -999.000,9, -999.000,9,-999.0000,9,  -999.00,9,-999.000,9,   2236.8,6,    461.3,2,   4.0,  -999.0,-999.0000,-999.000,-999.000,-999.000,-999.000
      74JC10_1,   A23,    45,  1,   4504,      4,2,19950410,2239,-57.1185, -31.8147, 3463,   2999,   2989.4,  -0.0250,  34.6637,2,  34.6625,2,    229.9,3, -0.2069,    223.6,2,   121.42,2,    31.99,2,     2.26,2,    0.521,2,    0.255,2,    0.019,2,    0.708,2, -999.000,9,-999.0000,9,  -999.00,9,-999.000,9,   -999.0,9,   -999.0,9,-999.0,  2997.0,-999.0000,-999.000,  -0.031,-999.000,-999.000
      74JC10_1,   A23,    45,  1,   4503,      3,2,19950410,2239,-57.1185, -31.8147, 3463,   3303,   3294.0,  -0.0309,  34.6617,2,  34.6608,2,    233.0,3, -0.2392,    224.5,2,   122.01,2,    31.93,2,     2.19,2,    0.551,2,    0.271,2,    0.028,2,    0.701,2, -999.000,9,-999.0000,9,  -999.00,9,-999.000,9,   -999.0,9,   -999.0,9,-999.0,  -999.0,-999.0000,-999.000,-999.000,-999.000,-999.000
      74JC10_1,   A23,    45,  1,   4502,      2,2,19950410,2239,-57.1185, -31.8147, 3463,   3461,   3451.9,  -0.0431,  34.6605,2,  34.6608,2,    235.6,3, -0.2654,    224.8,2,   123.86,2,    31.96,2,     2.17,2,    0.524,2,    0.243,2,    0.019,2,    0.714,2, -999.000,9,-999.0000,9,  -999.00,9,-999.000,9,   -999.0,9,   -999.0,9,-999.0,  -999.0,-999.0000,-999.000,-999.000,-999.000,-999.000
      74JC10_1,   A23,    45,  1,   4501,      1,2,19950410,2239,-57.1185, -31.8147, 3463,   3462,   3453.2,  -0.0432,  34.6606,2,  34.6610,2,    235.4,3, -0.2656,    226.1,2,   124.06,2,    31.98,2,     2.24,2,    0.540,2,    0.264,2,    0.026,2,    0.676,2, -999.000,9,-999.0000,9,  -999.00,9,-999.000,9,   -999.0,9,   -999.0,9,-999.0,  3434.0,-999.0000,-999.000,  -0.047,-999.000,-999.000
      74JC10_1,   A23,    46,  1,   4618,     18,2,19950411,0907,-56.7757, -32.3040, 3267,     14,     11.7,   1.4756,  34.0225,2,  34.0225,2,    322.4,3,  1.4751,    314.6,2,    42.10,2,    24.36,2,     1.72,2,    5.596,2, -999.000,9,    0.524,2,    6.849,2, -999.000,9,-999.0000,9,  -999.00,9,-999.000,9,   -999.0,9,   -999.0,9,-999.0,  -999.0,-999.0000,-999.000,-999.000,-999.000,-999.000
      74JC10_1,   A23,    46,  1,   4619,     19,2,19950411,0907,-56.7757, -32.3040, 3267,     14,     11.9,   1.4750,  34.0224,2,  34.0227,2,    322.4,3,  1.4745,    315.0,2,    41.75,2,    24.37,2,     1.81,2,    5.811,2,    2.632,2,    0.528,2,    7.052,2, -999.000,9,-999.0000,9,  -999.00,9,-999.000,9,   -999.0,9,   -999.0,9,-999.0,  -999.0,-999.0000,-999.000,-999.000,-999.000,-999.000
      74JC10_1,   A23,    46,  1,   4617,     17,2,19950411,0907,-56.7757, -32.3040, 3267,     59,     55.9,   1.4500,  34.0223,2,  34.0229,2,    325.3,3,  1.4474,    312.8,2,    42.27,2,    24.44,2,     1.68,2,    5.660,2, -999.000,9,    0.515,2,    6.625,2, -999.000,9,-999.0000,9,  -999.00,9,-999.000,9,   -999.0,9,   -999.0,9,-999.0,  -999.0,-999.0000,-999.000,-999.000,-999.000,-999.000
      74JC10_1,   A23,    46,  1,   4616,     16,2,19950411,0907,-56.7757, -32.3040, 3267,    110,    106.4,   0.8360,  34.2581,2,  34.2560,2,    292.2,3,  0.8315,    244.5,2,    60.67,2,    31.72,2,     2.17,2,    3.608,2,    1.637,2,    0.308,2,    4.399,2, -999.000,9,-999.0000,9,  -999.00,9,-999.000,9,   -999.0,9,   -999.0,9,-999.0,  -999.0,-999.0000,-999.000,-999.000,-999.000,-999.000
      74JC10_1,   A23,    46,  1,   4615,     15,2,19950411,0907,-56.7757, -32.3040, 3267,    159,    154.4,   1.0629,  34.3712,2,  34.3794,2,    236.7,3,  1.0559,    216.9,2,    69.00,2,    33.10,2,     2.29,2,    2.452,2,    1.022,2,    0.198,2,    2.999,2, -999.000,9,-999.0000,9,  -999.00,9,-999.000,9,   -999.0,9,   -999.0,9,-999.0,  -999.0,-999.0000,-999.000,-999.000,-999.000,-999.000
      74JC10_1,   A23,    46,  1,   4614,     14,2,19950411,0907,-56.7757, -32.3040, 3267,    209,    204.3,   1.2273,  34.4499,2,  34.4514,2,    213.6,3,  1.2178,    206.4,2,    73.98,2,    33.32,2,     2.29,2,    1.998,2,    0.884,2,    0.145,2,    2.437,2, -999.000,9,-999.0000,9,  -999.00,9,-999.000,9,   -999.0,9,   -999.0,9,-999.0,  -999.0,-999.0000,-999.000,-999.000,-999.000,-999.000
      74JC10_1,   A23,    46,  1,   4613,     13,2,19950411,0907,-56.7757, -32.3040, 3267,    261,    255.3,   1.3121,  34.5105,2,  34.5072,2,    206.9,3,  1.2998,    199.3,2,    78.32,2,    33.25,2,     2.24,2, -999.000,9, -999.000,9, -999.000,9, -999.000,9, -999.000,9,-999.0000,9,  -999.00,9,-999.000,9,   -999.0,9,   -999.0,9,-999.0,  -999.0,-999.0000,-999.000,-999.000,-999.000,-999.000
      74JC10_1,   A23,    46,  1,   4612,     12,2,19950411,0907,-56.7757, -32.3040, 3267,    359,    352.1,   1.5695,  34.5988,2,  34.6024,2,    192.8,3,  1.5514,    185.7,2,    83.58,2,    32.83,2,     2.25,2, -999.000,9, -999.000,9, -999.000,9, -999.000,9, -999.000,9,-999.0000,9,  -999.00,9,-999.000,9,   -999.0,9,   -999.0,9,-999.0,  -999.0,-999.0000,-999.000,-999.000,-999.000,-999.000
      74JC10_1,   A23,    46,  1,   4611,     24,2,19950411,0907,-56.7757, -32.3040, 3267,    510,    502.1,   1.2934,  34.6370,2,  34.6386,2,    203.0,3,  1.2681,    194.2,2,    90.23,2,    32.13,2,     2.22,2,    0.790,2,    0.425,2,    0.041,2,    0.689,2, -999.000,9,-999.0000,9,  -999.00,9,-999.000,9,   -999.0,9,   -999.0,9,-999.0,  -999.0,-999.0000,-999.000,-999.000,-999.000,-999.000
      74JC10_1,   A23,    46,  1,   4610,     10,2,19950411,0907,-56.7757, -32.3040, 3267,    757,    747.3,   1.2273,  34.6869,2,  34.6883,2,    200.1,3,  1.1885,    195.5,2,    98.78,2,    31.73,2,     2.16,2,    0.443,2,    0.225,2,    0.022,2,    0.478,2, -999.000,9,-999.0000,9,  -999.00,9,-999.000,9,   -999.0,9,   -999.0,9,-999.0,  -999.0,-999.0000,-999.000,-999.000,-999.000,-999.000
      74JC10_1,   A23,    46,  1,   4609,      9,2,19950411,0907,-56.7757, -32.3040, 3267,   1009,    997.5,   1.0345,  34.7007,2,  34.7017,2,    202.4,3,  0.9820,    197.0,2,   107.27,2,    31.70,2,     2.15,2,    0.288,2,    0.135,2,    0.015,2,    0.325,2, -999.000,9,-999.0000,9,  -999.00,9,-999.000,9,   -999.0,9,   -999.0,9,-999.0,  -999.0,-999.0000,-999.000,-999.000,-999.000,-999.000
      74JC10_1,   A23,    46,  1,   4608,      8,2,19950411,0907,-56.7757, -32.3040, 3267,   1252,   1240.0,   0.8374,  34.6970,2,  34.6985,2,    207.6,3,  0.7715,    202.9,2,   112.54,2,    31.83,2,     2.15,2,    0.270,2,    0.144,2,    0.012,2,    0.322,2, -999.000,9,-999.0000,9,  -999.00,9,-999.000,9,   -999.0,9,   -999.0,9,-999.0,  -999.0,-999.0000,-999.000,-999.000,-999.000,-999.000
      74JC10_1,   A23,    46,  1,   4607,     26,2,19950411,0907,-56.7757, -32.3040, 3267,   1506,   1494.1,   0.5626,  34.6834,2,  34.6834,2,    212.1,3,  0.4834,    199.2,2,   113.71,2,    31.99,2,     2.16,2,    0.392,2,    0.191,2,    0.015,2,    0.497,2, -999.000,9,-999.0000,9,  -999.00,9,-999.000,9,   -999.0,9,   -999.0,9,-999.0,  -999.0,-999.0000,-999.000,   0.576,-999.000,-999.000
      74JC10_1,   A23,    46,  1,   4606,      6,2,19950411,0907,-56.7757, -32.3040, 3267,   1755,   1742.7,   0.4464,  34.6816,2,  34.6814,2,    213.7,3,  0.3519,    208.1,2,   116.25,2,    31.98,2,     2.17,2,    0.368,2,    0.188,2,    0.012,2,    0.468,2, -999.000,9,-999.0000,9,  -999.00,9,-999.000,9,   -999.0,9,   -999.0,9,-999.0,  -999.0,-999.0000,-999.000,-999.000,-999.000,-999.000
      74JC10_1,   A23,    46,  1,   4605,      5,2,19950411,0907,-56.7757, -32.3040, 3267,   2001,   1988.9,   0.3613,  34.6790,2,  34.6791,2,    217.2,3,  0.2507,    211.2,2,   117.71,2,    31.98,2,     2.19,2,    0.388,2,    0.193,2,    0.028,2,    0.494,2, -999.000,9,-999.0000,9,  -999.00,9,-999.000,9,   -999.0,9,   -999.0,9,-999.0,  -999.0,-999.0000,-999.000,-999.000,-999.000,-999.000
      74JC10_1,   A23,    46,  1,   4604,      4,2,19950411,0907,-56.7757, -32.3040, 3267,   2472,   2461.4,   0.1672,  34.6707,2,  34.6704,2,    223.9,3,  0.0244,    216.2,2,   119.76,2,    31.98,2,     2.18,2,    0.444,2,    0.221,2,    0.012,2,    0.579,2, -999.000,9,-999.0000,9,  -999.00,9,-999.000,9,   -999.0,9,   -999.0,9,-999.0,  2470.0,-999.0000,-999.000,   0.159,-999.000,-999.000
      74JC10_1,   A23,    46,  1,   4603,      3,2,19950411,0907,-56.7757, -32.3040, 3267,   3005,   2995.9,  -0.0259,  34.6636,2,  34.6625,2,    229.9,3, -0.2083,    223.0,2,   121.72,2,    32.02,2,     2.22,2,    0.515,2,    0.256,2,    0.012,2,    0.651,2, -999.000,9,-999.0000,9,  -999.00,9,-999.000,9,   -999.0,9,   -999.0,9,-999.0,  -999.0,-999.0000,-999.000,-999.000,-999.000,-999.000
      74JC10_1,   A23,    46,  1,   4602,      2,2,19950411,0907,-56.7757, -32.3040, 3267,   3284,   3275.8,  -0.0253,  34.6622,2,  34.6618,2,    231.2,3, -0.2321,    224.0,2,   121.72,2,    32.02,2,     2.19,2,    0.517,2,    0.252,2,    0.022,2,    0.611,2, -999.000,9,-999.0000,9,  -999.00,9,-999.000,9,   -999.0,9,   -999.0,9,-999.0,  -999.0,-999.0000,-999.000,-999.000,-999.000,-999.000
      74JC10_1,   A23,    46,  1,   4601,      1,2,19950411,0907,-56.7757, -32.3040, 3267,   3285,   3276.4,  -0.0259,  34.6630,2,  34.6608,2,    231.1,3, -0.2328,    224.1,2,   121.91,2,    31.93,2,     2.18,2,    0.484,2,    0.243,2,    0.008,2,    0.570,2, -999.000,9,-999.0000,9,  -999.00,9,-999.000,9,   -999.0,9,   -999.0,9,-999.0,  3256.0,-999.0000,-999.000,  -0.029,-999.000,-999.000