BOTTLE,20220810CCHSIOAMB
EXPOCODE,SECT_ID,STNNBR,CASTNO,SAMPNO,BTLNBR,BTLNBR_FLAG_W,DATE,TIME,LATITUDE,LONGITUDE,DEPTH,CTDRAW,CTDPRS,CTDTMP,CTDSAL,CTDSAL_FLAG_W,SALNTY,SALNTY_FLAG_W,CTDOXY,CTDOXY_FLAG_W,THETA,OXYGEN,OXYGEN_FLAG_W,SILCAT,SILCAT_FLAG_W,NO2+NO3,NO2+NO3_FLAG_W,PHSPHT,PHSPHT_FLAG_W,CFC-11,CFC-11_FLAG_W,CFC-12,CFC-12_FLAG_W,CFC113,CFC113_FLAG_W,CCL4,CCL4_FLAG_W,TRITUM,TRITUM_FLAG_W,HELIUM,HELIUM_FLAG_W,DELHE3,DELHE3_FLAG_W,NEON,NEON_FLAG_W,TCARBN,TCARBN_FLAG_W,PCO2,PCO2_FLAG_W,PCO2TMP,REVPRS,HELIER,TRITER,REVTMP,NEONER,DELHER
,,,,,,,,,,,,,DBAR,ITS-90,PSS-78,,PSS-78,,UMOL/KG,,DEG C,UMOL/KG,,UMOL/KG,,UMOL/KG,,UMOL/KG,,PMOL/KG,,PMOL/KG,,PMOL/KG,,PMOL/KG,,TU,,NMOL/KG,,PERCNT,,NMOL/KG,,UMOL/KG,,UATM,,DEG C,DBAR,NMOL/KG,TU,ITS-90,NMOL/KG,PERCNT
      74JC10_1,   A23,    36,  1,   3622,     25,2,19950408,0539,-59.9947, -30.9298, 3047,     12,      9.7,  -0.3840,  33.6121,2,  33.6148,2,    354.4,3, -0.3843,    339.0,2,    56.36,2,    23.26,2,     1.48,2,    6.529,2,    3.112,2,    0.599,2,    8.012,2, -999.000,9,-999.0000,9,  -999.00,9,-999.000,9,   -999.0,9,   -999.0,9,-999.0,  -999.0,-999.0000,-999.000,-999.000,-999.000,-999.000
      74JC10_1,   A23,    36,  1,   3621,     21,2,19950408,0539,-59.9947, -30.9298, 3047,     12,     10.4,  -0.3871,  33.6134,2,  33.6181,2,    345.2,3, -0.3875,    338.9,2,    56.61,2,    23.39,2,     1.49,2,    6.487,2,    3.139,2,    0.595,2,    7.898,2, -999.000,9,-999.0000,9,  -999.00,9,-999.000,9,   -999.0,9,   -999.0,9,-999.0,  -999.0,-999.0000,-999.000,-999.000,-999.000,-999.000
      74JC10_1,   A23,    36,  1,   3620,     26,2,19950408,0539,-59.9947, -30.9298, 3047,     57,     54.6,  -1.3822,  34.1410,2,  34.1615,2,    348.6,3, -1.3834,    296.4,2,    76.39,2,    28.07,2,     1.90,2,    4.858,2,    2.360,2,    0.433,2,    5.399,2, -999.000,9,-999.0000,9,  -999.00,9,-999.000,9,   -999.0,9,   -999.0,9,-999.0,  -999.0,-999.0000,-999.000,  -1.380,-999.000,-999.000
      74JC10_1,   A23,    36,  1,   3619,     19,2,19950408,0539,-59.9947, -30.9298, 3047,     81,     78.3,  -1.4839,  34.3136,2,  34.3099,2,    295.8,3, -1.4857,    282.9,2,    80.91,2,    29.51,2,     1.97,2,    4.414,2,    2.166,2,    0.391,2,    4.762,2, -999.000,9,-999.0000,9,  -999.00,9,-999.000,9,   -999.0,9,   -999.0,9,-999.0,  -999.0,-999.0000,-999.000,-999.000,-999.000,-999.000
      74JC10_1,   A23,    36,  1,   3618,     18,2,19950408,0539,-59.9947, -30.9298, 3047,    106,    102.8,  -1.3279,  34.3632,2,  34.3464,2,    280.2,3, -1.3304,    274.3,2,    82.88,2,    30.08,2,     2.01,2,    4.079,2,    1.949,2,    0.360,2,    4.364,2, -999.000,9,-999.0000,9,  -999.00,9,-999.000,9,   -999.0,9,   -999.0,9,-999.0,  -999.0,-999.0000,-999.000,-999.000,-999.000,-999.000
      74JC10_1,   A23,    36,  1,   3617,     17,2,19950408,0539,-59.9947, -30.9298, 3047,    157,    153.1,  -0.3239,  34.5525,2,  34.5492,2,    234.8,3, -0.3290,    225.9,2,    96.27,2,    34.98,2,     2.15,2,    2.112,2,    0.982,2,    0.156,2,    2.263,2, -999.000,9,-999.0000,9,  -999.00,9,-999.000,9,   -999.0,9,   -999.0,9,-999.0,  -999.0,-999.0000,-999.000,-999.000,-999.000,-999.000
      74JC10_1,   A23,    36,  1,   3616,     16,2,19950408,0539,-59.9947, -30.9298, 3047,    208,    203.1,   0.0130,  34.6154,2,  34.6123,2,    217.8,3,  0.0055,    213.0,2,   102.20,2,    32.29,2,     2.17,2,    1.412,2,    0.630,2,    0.121,2,    1.556,2, -999.000,9,-999.0000,9,  -999.00,9,-999.000,9,   -999.0,9,   -999.0,9,-999.0,  -999.0,-999.0000,-999.000,-999.000,-999.000,-999.000
      74JC10_1,   A23,    36,  1,   3615,     15,2,19950408,0539,-59.9947, -30.9298, 3047,    258,    252.6,   0.1790,  34.6393,2,  34.6388,2,    212.4,3,  0.1692,    207.2,2,   105.32,2,    32.50,2,     2.20,2,    1.053,2,    0.510,2,    0.052,2,    1.296,2, -999.000,9,-999.0000,9,  -999.00,9,-999.000,9,   -999.0,9,   -999.0,9,-999.0,  -999.0,-999.0000,-999.000,-999.000,-999.000,-999.000
      74JC10_1,   A23,    36,  1,   3614,     14,2,19950408,0539,-59.9947, -30.9298, 3047,    358,    351.5,   0.3620,  34.6671,2,  34.6671,2,    206.8,3,  0.3475,    201.7,2,   110.49,2,    32.55,2,     2.20,2,    0.602,2,    0.301,2,    0.036,2,    0.857,2, -999.000,9,-999.0000,9,  -999.00,9,-999.000,9,   -999.0,9,   -999.0,9,-999.0,  -999.0,-999.0000,-999.000,-999.000,-999.000,-999.000
      74JC10_1,   A23,    36,  1,   3613,     13,2,19950408,0539,-59.9947, -30.9298, 3047,    509,    500.9,   0.3905,  34.6759,2,  34.6757,2,    204.8,3,  0.3690,    203.0,2,   114.40,2,    32.52,2,     2.19,2,    0.391,2,    0.207,2,    0.019,2,    0.678,2,    0.035,2,   1.8570,3,    11.63,3,   8.141,3,   -999.0,9,   -999.0,9,-999.0,  -999.0,  0.0070,   0.005,-999.000,   0.025,   0.300
      74JC10_1,   A23,    36,  1,   3611,     11,2,19950408,0539,-59.9947, -30.9298, 3047,    758,    748.7,   0.3129,  34.6775,2,  34.6777,2,    205.9,3,  0.2795,    202.8,2,   119.67,2,    32.68,2,     2.23,2,    0.231,2,    0.126,2,    0.000,2,    0.418,2, -999.000,9,-999.0000,9,  -999.00,9,-999.000,9,   -999.0,9,   -999.0,9,-999.0,  -999.0,-999.0000,-999.000,-999.000,-999.000,-999.000
      74JC10_1,   A23,    36,  1,   3612,     12,2,19950408,0539,-59.9947, -30.9298, 3047,    759,    750.0,   0.3135,  34.6780,2,  34.6779,2,    205.9,3,  0.2801,    202.7,2,   119.47,2,    32.61,2,     2.23,2,    0.229,2,    0.133,3,    0.002,2,    0.422,2, -999.000,9,-999.0000,9,  -999.00,9,-999.000,9,   -999.0,9,   -999.0,9,-999.0,  -999.0,-999.0000,-999.000,-999.000,-999.000,-999.000
      74JC10_1,   A23,    36,  1,   3610,     10,2,19950408,0539,-59.9947, -30.9298, 3047,   1008,    997.4,   0.2233,  34.6742,2,  34.6757,2,    211.6,3,  0.1774,    206.6,2,   122.79,2,    32.63,2,     2.26,2,    0.218,2,    0.125,3,    0.000,2,    0.439,2, -999.000,9,   1.8630,2,     6.27,2,   8.179,2,   -999.0,9,   -999.0,9,-999.0,  -999.0,  0.0070,-999.000,-999.000,   0.025,   0.300
      74JC10_1,   A23,    36,  1,   3609,      9,2,19950408,0539,-59.9947, -30.9298, 3047,   1260,   1249.0,   0.1278,  34.6720,2,  34.6724,2,    216.4,3,  0.0686,    211.5,2,   121.91,2,    32.45,2,     2.21,2,    0.251,2,    0.148,3,    0.000,2,    0.465,2, -999.000,9,-999.0000,9,  -999.00,9,-999.000,9,   -999.0,9,   -999.0,9,-999.0,  -999.0,-999.0000,-999.000,-999.000,-999.000,-999.000
      74JC10_1,   A23,    36,  1,   3607,      7,2,19950408,0539,-59.9947, -30.9298, 3047,   1509,   1497.9,   0.0378,  34.6691,2,  34.6694,2,    220.7,3, -0.0353,    214.8,2,   121.62,2,    32.27,2,     2.21,2,    0.260,2,    0.149,2,    0.007,2,    0.507,2, -999.000,9,-999.0000,9,  -999.00,9,-999.000,9,   -999.0,9,   -999.0,9,-999.0,  -999.0,-999.0000,-999.000,   0.035,-999.000,-999.000
      74JC10_1,   A23,    36,  1,   3608,      8,2,19950408,0539,-59.9947, -30.9298, 3047,   1510,   1498.7,   0.0396,  34.6693,2,  34.6694,2,    220.6,3, -0.0337,    214.5,2,   122.20,2,    32.29,2,     2.19,2,    0.275,2,    0.154,2,    0.004,2,    0.509,2,    0.028,2,   1.8730,2,     7.97,2,   8.277,2,   -999.0,9,   -999.0,9,-999.0,  -999.0,  0.0070,   0.010,-999.000,   0.026,   0.300
      74JC10_1,   A23,    36,  1,   3606,      6,2,19950408,0539,-59.9947, -30.9298, 3047,   1758,   1746.8,  -0.0433,  34.6637,2,  34.6645,2,    226.3,3, -0.1312,    220.3,2,   120.84,2,    32.10,2,     2.20,2,    0.381,2,    0.200,2,    0.009,2,    0.629,2, -999.000,9,   1.8710,2,     7.49,2,   8.221,2,   -999.0,9,   -999.0,9,-999.0,  -999.0,  0.0070,-999.000,-999.000,   0.025,   0.300
      74JC10_1,   A23,    36,  1,   3605,      5,2,19950408,0539,-59.9947, -30.9298, 3047,   2008,   1997.4,  -0.0949,  34.6613,2,  34.6622,2,    228.8,3, -0.1989,    223.0,2,   120.64,2,    32.22,2,     2.22,2,    0.400,2,    0.217,2,    0.014,2,    0.635,2,    0.039,2,   1.8680,2,     7.62,2,   8.253,2,   -999.0,9,   -999.0,9,-999.0,  -999.0,  0.0070,   0.019,-999.000,   0.026,   0.300
      74JC10_1,   A23,    36,  1,   3604,      4,2,19950408,0539,-59.9947, -30.9298, 3047,   2508,   2497.6,  -0.1395,  34.6600,2,  34.6598,2,    232.1,3, -0.2792,    225.1,2,   123.47,2,    32.05,2,     2.21,2,    0.409,2,    0.214,2,    0.007,2,    0.695,2,    0.041,2,   1.8840,2,    11.55,3,   8.218,2,   -999.0,9,   -999.0,9,-999.0,  2507.0,  0.0070,   0.022,  -0.145,   0.025,   0.300
      74JC10_1,   A23,    36,  1,   3603,      3,2,19950408,0539,-59.9947, -30.9298, 3047,   2811,   2801.7,  -0.1379,  34.6591,2,  34.6592,2,    234.3,3, -0.3016,    225.8,2,   124.94,2,    32.03,2,     2.20,2,    0.421,2,    0.212,2,    0.012,2,    0.689,2, -999.000,9,-999.0000,9,  -999.00,9,-999.000,9,   -999.0,9,   -999.0,9,-999.0,  -999.0,-999.0000,-999.000,-999.000,-999.000,-999.000
      74JC10_1,   A23,    36,  1,   3602,      2,2,19950408,0539,-59.9947, -30.9298, 3047,   3037,   3028.1,  -0.1364,  34.6589,2,  34.6584,2,    234.7,3, -0.3189,    226.6,2,   124.35,2,    31.99,2,     2.20,2,    0.456,2,    0.243,2,    0.017,2,    0.712,2, -999.000,9,-999.0000,9,  -999.00,9,-999.000,9,   -999.0,9,   -999.0,9,-999.0,  -999.0,-999.0000,-999.000,-999.000,-999.000,-999.000
      74JC10_1,   A23,    36,  1,   3601,      1,2,19950408,0539,-59.9947, -30.9298, 3047,   3037,   3028.4,  -0.1358,  34.6581,2,  34.6584,2,    234.7,3, -0.3185,    227.4,2,   124.84,2,    31.95,2,     2.17,2,    0.452,2,    0.236,2,    0.010,2,    0.726,2, -999.000,1,   1.8780,2,    10.21,2,   8.273,2,   -999.0,9,   -999.0,9,-999.0,  3007.0,  0.0070,-999.000,  -0.141,   0.026,   0.300
      74JC10_1,   A23,    37,  1,   3723,     23,2,19950408,0940,-59.7662, -30.9055, 3845,     12,     10.1,  -0.5202,  33.6510,2,  33.6516,2,    351.2,3, -0.5205,    341.5,2,    56.97,2,    23.87,2,     1.51,2, -999.000,9, -999.000,9, -999.000,9, -999.000,9, -999.000,9,-999.0000,9,  -999.00,9,-999.000,9,   -999.0,9,   -999.0,9,-999.0,  -999.0,-999.0000,-999.000,-999.000,-999.000,-999.000
      74JC10_1,   A23,    37,  1,   3724,     24,2,19950408,0940,-59.7662, -30.9055, 3845,     12,     10.3,  -0.5156,  33.6541,2,  33.6500,2,    351.2,3, -0.5159,    341.9,2,    56.41,2,    23.89,2,     1.52,2, -999.000,9, -999.000,9, -999.000,9, -999.000,9, -999.000,9,-999.0000,9,  -999.00,9,-999.000,9,   -999.0,9,   -999.0,9,-999.0,  -999.0,-999.0000,-999.000,-999.000,-999.000,-999.000
      74JC10_1,   A23,    37,  1,   3722,     25,2,19950408,0940,-59.7662, -30.9055, 3845,     57,     54.8,  -0.6949,  33.7119,2,  33.7529,2,    343.5,3, -0.6964,    331.9,2,    61.68,2,    24.87,2,     1.63,2, -999.000,9, -999.000,9, -999.000,9, -999.000,9, -999.000,9,-999.0000,9,  -999.00,9,-999.000,9,   -999.0,9,   -999.0,9,-999.0,  -999.0,-999.0000,-999.000,-999.000,-999.000,-999.000
      74JC10_1,   A23,    37,  1,   3721,     21,2,19950408,0940,-59.7662, -30.9055, 3845,     83,     80.1,  -1.5505,  34.2345,2,  34.2426,2,    300.1,3, -1.5522,    290.1,2,    79.68,2,    28.76,2,     2.00,2, -999.000,9, -999.000,9, -999.000,9, -999.000,9, -999.000,9,-999.0000,9,  -999.00,9,-999.000,9,   -999.0,9,   -999.0,9,-999.0,  -999.0,-999.0000,-999.000,-999.000,-999.000,-999.000
      74JC10_1,   A23,    37,  1,   3720,     26,2,19950408,0940,-59.7662, -30.9055, 3845,    107,    103.9,  -1.4249,  34.3399,2,  34.3372,2,    278.9,3, -1.4273,    274.4,2,    82.35,2,    29.72,2,     2.04,2, -999.000,9, -999.000,9, -999.000,9, -999.000,9, -999.000,9,-999.0000,9,  -999.00,9,-999.000,9,   -999.0,9,   -999.0,9,-999.0,  -999.0,-999.0000,-999.000,  -1.431,-999.000,-999.000
      74JC10_1,   A23,    37,  1,   3719,     19,2,19950408,0940,-59.7662, -30.9055, 3845,    158,    154.2,  -0.6810,  34.4865,2,  34.4842,2,    248.4,3, -0.6857,    240.8,2,    91.27,2,    30.96,2,     2.15,2, -999.000,9, -999.000,9, -999.000,9, -999.000,9, -999.000,9,-999.0000,9,  -999.00,9,-999.000,9,   -999.0,9,   -999.0,9,-999.0,  -999.0,-999.0000,-999.000,-999.000,-999.000,-999.000
      74JC10_1,   A23,    37,  1,   3718,     18,2,19950408,0940,-59.7662, -30.9055, 3845,    209,    203.9,  -0.1734,  34.5761,2,  34.5783,2,    228.1,3, -0.1806,    220.1,2,    97.21,2,    31.57,2,     2.22,2, -999.000,9, -999.000,9, -999.000,9, -999.000,9, -999.000,9,-999.0000,9,  -999.00,9,-999.000,9,   -999.0,9,   -999.0,9,-999.0,  -999.0,-999.0000,-999.000,-999.000,-999.000,-999.000
      74JC10_1,   A23,    37,  1,   3717,     17,2,19950408,0940,-59.7662, -30.9055, 3845,    258,    252.4,   0.1379,  34.6299,2,  34.6284,2,    215.1,3,  0.1282,    208.9,2,   104.54,2,    31.88,2,     2.25,2, -999.000,9, -999.000,9, -999.000,9, -999.000,9, -999.000,9,-999.0000,9,  -999.00,9,-999.000,9,   -999.0,9,   -999.0,9,-999.0,  -999.0,-999.0000,-999.000,-999.000,-999.000,-999.000
      74JC10_1,   A23,    37,  1,   3716,     16,2,19950408,0940,-59.7662, -30.9055, 3845,    359,    352.2,   0.3662,  34.6642,2,  34.6624,2,    208.5,3,  0.3516,    201.7,2,   106.30,2,    32.05,2,     2.25,2, -999.000,9, -999.000,9, -999.000,9, -999.000,9, -999.000,9,-999.0000,9,  -999.00,9,-999.000,9,   -999.0,9,   -999.0,9,-999.0,  -999.0,-999.0000,-999.000,-999.000,-999.000,-999.000
      74JC10_1,   A23,    37,  1,   3715,     15,2,19950408,0940,-59.7662, -30.9055, 3845,    509,    501.0,   0.4320,  34.6790,2,  34.6783,2,    206.1,3,  0.4103,    199.9,2,   115.08,2,    32.01,2,     2.25,2, -999.000,9, -999.000,9, -999.000,9, -999.000,9, -999.000,9,-999.0000,9,  -999.00,9,-999.000,9,   -999.0,9,   -999.0,9,-999.0,  -999.0,-999.0000,-999.000,-999.000,-999.000,-999.000
      74JC10_1,   A23,    37,  1,   3714,     14,2,19950408,0940,-59.7662, -30.9055, 3845,    761,    750.9,   0.3407,  34.6798,2,  34.6793,2,    207.9,3,  0.3070,    202.6,2,   116.54,2,    32.11,2,     2.27,2, -999.000,9, -999.000,9, -999.000,9, -999.000,9, -999.000,9,-999.0000,9,  -999.00,9,-999.000,9,   -999.0,9,   -999.0,9,-999.0,  -999.0,-999.0000,-999.000,-999.000,-999.000,-999.000
      74JC10_1,   A23,    37,  1,   3713,     13,2,19950408,0940,-59.7662, -30.9055, 3845,   1010,    999.1,   0.2335,  34.6769,2,  34.6749,2,    212.8,3,  0.1874,    207.1,2,   118.30,2,    32.07,2,     2.25,2, -999.000,9, -999.000,9, -999.000,9, -999.000,9, -999.000,9,-999.0000,9,  -999.00,9,-999.000,9,   -999.0,9,   -999.0,9,-999.0,  -999.0,-999.0000,-999.000,-999.000,-999.000,-999.000
      74JC10_1,   A23,    37,  1,   3712,     12,2,19950408,0940,-59.7662, -30.9055, 3845,   1259,   1247.5,   0.1479,  34.6738,2,  34.6734,2,    215.9,3,  0.0886,    210.4,2,   120.55,2,    32.02,2,     2.25,2, -999.000,9, -999.000,9, -999.000,9, -999.000,9, -999.000,9,-999.0000,9,  -999.00,9,-999.000,9,   -999.0,9,   -999.0,9,-999.0,  -999.0,-999.0000,-999.000,-999.000,-999.000,-999.000
      74JC10_1,   A23,    37,  1,   3711,     11,2,19950408,0940,-59.7662, -30.9055, 3845,   1260,   1248.0,   0.1464,  34.6733,2,  34.6720,2,    215.9,3,  0.0871,    211.3,2,   118.98,2,    32.00,2,     2.27,2, -999.000,9, -999.000,9, -999.000,9, -999.000,9, -999.000,9,-999.0000,9,  -999.00,9,-999.000,9,   -999.0,9,   -999.0,9,-999.0,  -999.0,-999.0000,-999.000,-999.000,-999.000,-999.000
      74JC10_1,   A23,    37,  1,   3710,     10,2,19950408,0940,-59.7662, -30.9055, 3845,   1511,   1498.6,   0.0576,  34.6699,2,  34.6700,2,    219.9,3, -0.0159,    213.8,2,   119.67,2,    31.84,2,     2.24,2, -999.000,9, -999.000,9, -999.000,9, -999.000,9, -999.000,9,-999.0000,9,  -999.00,9,-999.000,9,   -999.0,9,   -999.0,9,-999.0,  -999.0,-999.0000,-999.000,-999.000,-999.000,-999.000
      74JC10_1,   A23,    37,  1,   3709,      9,2,19950408,0940,-59.7662, -30.9055, 3845,   1760,   1747.7,  -0.0237,  34.6657,2,  34.6667,2,    224.2,3, -0.1119,    218.1,2,   119.47,2,    32.24,2,     2.25,2, -999.000,9, -999.000,9, -999.000,9, -999.000,9, -999.000,9,-999.0000,9,  -999.00,9,-999.000,9,   -999.0,9,   -999.0,9,-999.0,  -999.0,-999.0000,-999.000,-999.000,-999.000,-999.000
      74JC10_1,   A23,    37,  1,   3707,      7,2,19950408,0940,-59.7662, -30.9055, 3845,   2008,   1996.1,  -0.0778,  34.6640,2,  34.6637,2,    227.4,3, -0.1820,    221.3,2,   120.35,2,    31.77,2,     2.35,2, -999.000,9, -999.000,9, -999.000,9, -999.000,9, -999.000,9,-999.0000,9,  -999.00,9,-999.000,9,   -999.0,9,   -999.0,9,-999.0,  -999.0,-999.0000,-999.000,  -0.079,-999.000,-999.000
      74JC10_1,   A23,    37,  1,   3708,      8,2,19950408,0940,-59.7662, -30.9055, 3845,   2008,   1996.2,  -0.0776,  34.6638,2,  34.6639,2,    227.4,3, -0.1818,    220.9,2,   120.45,2,    31.81,2,     2.25,2, -999.000,9, -999.000,9, -999.000,9, -999.000,9, -999.000,9,-999.0000,9,  -999.00,9,-999.000,9,   -999.0,9,   -999.0,9,-999.0,  -999.0,-999.0000,-999.000,-999.000,-999.000,-999.000
      74JC10_1,   A23,    37,  1,   3706,      6,2,19950408,0940,-59.7662, -30.9055, 3845,   2510,   2499.2,  -0.1365,  34.6599,2,  34.6602,2,    230.9,3, -0.2763,    222.1,2,   122.69,2,    31.87,2,     2.28,2, -999.000,9, -999.000,9, -999.000,9, -999.000,9, -999.000,9,-999.0000,9,  -999.00,9,-999.000,9,   -999.0,9,   -999.0,9,-999.0,  -999.0,-999.0000,-999.000,-999.000,-999.000,-999.000
      74JC10_1,   A23,    37,  1,   3705,      5,2,19950408,0940,-59.7662, -30.9055, 3845,   3011,   3000.7,  -0.1575,  34.6566,2,  34.6582,2,    234.4,3, -0.3373,    226.6,2,   121.33,2,    31.83,2,     2.34,2, -999.000,9, -999.000,9, -999.000,9, -999.000,9, -999.000,9,-999.0000,9,  -999.00,9,-999.000,9,   -999.0,9,   -999.0,9,-999.0,  -999.0,-999.0000,-999.000,-999.000,-999.000,-999.000
      74JC10_1,   A23,    37,  1,   3704,      4,2,19950408,0940,-59.7662, -30.9055, 3845,   3514,   3505.2,  -0.1540,  34.6553,2,  34.6561,2,    237.4,3, -0.3783,    229.5,2,   119.86,2,    31.68,2,     2.22,2,    0.517,2,    0.263,2,    0.011,2,    0.780,2, -999.000,9,-999.0000,9,  -999.00,9,-999.000,9,   -999.0,9,   -999.0,9,-999.0,  3516.0,-999.0000,-999.000,  -0.159,-999.000,-999.000
      74JC10_1,   A23,    37,  1,   3703,      3,2,19950408,0940,-59.7662, -30.9055, 3845,   3665,   3656.2,  -0.1451,  34.6545,2,  34.6555,2,    237.9,3, -0.3837,    229.9,2,   119.86,2,    31.75,2,     2.26,2,    0.584,2,    0.296,2,    0.019,2,    0.831,2, -999.000,9,-999.0000,9,  -999.00,9,-999.000,9,   -999.0,9,   -999.0,9,-999.0,  -999.0,-999.0000,-999.000,-999.000,-999.000,-999.000
      74JC10_1,   A23,    37,  1,   3701,      1,2,19950408,0940,-59.7662, -30.9055, 3845,   3860,   3851.3,  -0.1311,  34.6545,2,  34.6553,2,    237.4,3, -0.3887,    230.9,2,   121.62,2,    31.70,2,     2.19,2,    0.604,2,    0.294,2,    0.016,2,    0.827,2, -999.000,9,-999.0000,9,  -999.00,9,-999.000,9,   -999.0,9,   -999.0,9,-999.0,  3833.0,-999.0000,-999.000,  -0.138,-999.000,-999.000
      74JC10_1,   A23,    37,  1,   3702,      2,2,19950408,0940,-59.7662, -30.9055, 3845,   3860,   3851.4,  -0.1311,  34.6549,2,  34.6557,2,    237.4,3, -0.3887,    229.9,2,   121.03,2,    31.81,2,     2.19,2,    0.617,2,    0.292,2,    0.021,2,    0.834,2, -999.000,9,-999.0000,9,  -999.00,9,-999.000,9,   -999.0,9,   -999.0,9,-999.0,  -999.0,-999.0000,-999.000,-999.000,-999.000,-999.000