BOTTLE,20220810CCHSIOAMB
EXPOCODE,SECT_ID,STNNBR,CASTNO,SAMPNO,BTLNBR,BTLNBR_FLAG_W,DATE,TIME,LATITUDE,LONGITUDE,DEPTH,CTDRAW,CTDPRS,CTDTMP,CTDSAL,CTDSAL_FLAG_W,SALNTY,SALNTY_FLAG_W,CTDOXY,CTDOXY_FLAG_W,THETA,OXYGEN,OXYGEN_FLAG_W,SILCAT,SILCAT_FLAG_W,NO2+NO3,NO2+NO3_FLAG_W,PHSPHT,PHSPHT_FLAG_W,CFC-11,CFC-11_FLAG_W,CFC-12,CFC-12_FLAG_W,CFC113,CFC113_FLAG_W,CCL4,CCL4_FLAG_W,TRITUM,TRITUM_FLAG_W,HELIUM,HELIUM_FLAG_W,DELHE3,DELHE3_FLAG_W,NEON,NEON_FLAG_W,TCARBN,TCARBN_FLAG_W,PCO2,PCO2_FLAG_W,PCO2TMP,REVPRS,HELIER,TRITER,REVTMP,NEONER,DELHER
,,,,,,,,,,,,,DBAR,ITS-90,PSS-78,,PSS-78,,UMOL/KG,,DEG C,UMOL/KG,,UMOL/KG,,UMOL/KG,,UMOL/KG,,PMOL/KG,,PMOL/KG,,PMOL/KG,,PMOL/KG,,TU,,NMOL/KG,,PERCNT,,NMOL/KG,,UMOL/KG,,UATM,,DEG C,DBAR,NMOL/KG,TU,ITS-90,NMOL/KG,PERCNT
      74JC10_1,   A23,   100,  1,  10024,     11,2,19950429,2252,-34.8662, -35.9983, 4661,     14,      6.8,  19.5576,  35.5970,2,  35.5859,2,    228.1,3, 19.5563,    222.9,2,     3.15,2,     0.01,2,     0.04,2,    2.476,2,    1.212,2,    0.237,2,    2.412,2, -999.000,9,-999.0000,9,  -999.00,9,-999.000,9,   -999.0,9,   -999.0,9,-999.0,  -999.0,-999.0000,-999.000,-999.000,-999.000,-999.000
      74JC10_1,   A23,   100,  1,  10023,     23,2,19950429,2252,-34.8662, -35.9983, 4661,     55,     47.8,  19.5511,  35.6161,2,  35.6159,2,    229.1,3, 19.5424,    223.4,2,     2.79,2,     0.01,2,     0.05,2,    2.454,2,    1.295,2,    0.221,2,    2.424,2, -999.000,9,-999.0000,9,  -999.00,9,-999.000,9,   -999.0,9,   -999.0,9,-999.0,  -999.0,-999.0000,-999.000,-999.000,-999.000,-999.000
      74JC10_1,   A23,   100,  1,  10022,     25,2,19950429,2252,-34.8662, -35.9983, 4661,    100,     93.3,  15.8418,  35.6671,2,  35.6546,2,    237.5,3, 15.8271,    216.3,2,     3.61,2,     3.54,2,     0.32,2,    2.822,2,    1.360,2,    0.196,2,    0.997,2, -999.000,9,-999.0000,9,  -999.00,9,-999.000,9,   -999.0,9,   -999.0,9,-999.0,  -999.0,-999.0000,-999.000,-999.000,-999.000,-999.000
      74JC10_1,   A23,   100,  1,  10021,     21,2,19950429,2252,-34.8662, -35.9983, 4661,    142,    134.9,  15.1045,  35.6136,2,  35.5839,2,    218.1,3, 15.0839,    224.1,2,     5.08,2,     4.17,2,     0.34,2,    2.937,2,    1.477,2,    0.212,2,    1.008,2, -999.000,9,-999.0000,9,  -999.00,9,-999.000,9,   -999.0,9,   -999.0,9,-999.0,  -999.0,-999.0000,-999.000,-999.000,-999.000,-999.000
      74JC10_1,   A23,   100,  1,  10020,     27,2,19950429,2252,-34.8662, -35.9983, 4661,    204,    195.8,  14.8268,  35.5691,2,  35.5646,2,    229.8,3, 14.7972,    227.8,2,     3.96,2,     4.11,2,     0.37,2,    2.967,2,    1.493,2,    0.212,2,    1.020,2, -999.000,9,-999.0000,9,  -999.00,9,-999.000,9,   -999.0,9,   -999.0,9,-999.0,  -999.0,-999.0000,-999.000,  14.830,-999.000,-999.000
      74JC10_1,   A23,   100,  1,  10019,     19,2,19950429,2252,-34.8662, -35.9983, 4661,    236,    227.7,  14.7602,  35.5589,2,  35.5399,2,    232.1,3, 14.7259,    221.6,2,     4.21,2,     5.59,2,     0.43,2,    2.890,2,    1.414,2,    0.151,2,    1.049,2, -999.000,9,-999.0000,9,  -999.00,9,-999.000,9,   -999.0,9,   -999.0,9,-999.0,  -999.0,-999.0000,-999.000,-999.000,-999.000,-999.000
      74JC10_1,   A23,   100,  1,  10018,     18,2,19950429,2252,-34.8662, -35.9983, 4661,    337,    327.7,  13.7235,  35.4124,2,  35.3687,2,    218.0,3, 13.6764,    212.2,2,     5.13,2,     9.52,2,     0.64,2,    2.865,2,    1.372,2,    0.095,2,    0.912,2, -999.000,9,-999.0000,9,  -999.00,9,-999.000,9,   -999.0,9,   -999.0,9,-999.0,  -999.0,-999.0000,-999.000,-999.000,-999.000,-999.000
      74JC10_1,   A23,   100,  1,  10017,     17,2,19950429,2252,-34.8662, -35.9983, 4661,    482,    472.1,  10.2960,  34.8282,2,  34.7486,2,    212.4,3, 10.2395,    208.8,2,     8.18,2,    18.71,2,     1.20,2,    2.702,2,    1.265,2,    0.123,2,    1.528,2, -999.000,9,-999.0000,9,  -999.00,9,-999.000,9,   -999.0,9,   -999.0,9,-999.0,  -999.0,-999.0000,-999.000,-999.000,-999.000,-999.000
      74JC10_1,   A23,   100,  1,  10016,     16,2,19950429,2252,-34.8662, -35.9983, 4661,    720,    709.7,   5.1144,  34.2627,2,  34.2705,2,    251.5,3,  5.0565,    242.4,2,    16.57,2,    27.03,2,     1.73,2,    3.015,2,    1.290,3,    0.192,2,    3.480,2, -999.000,9,-999.0000,9,  -999.00,9,-999.000,9,   -999.0,9,   -999.0,9,-999.0,  -999.0,-999.0000,-999.000,-999.000,-999.000,-999.000
      74JC10_1,   A23,   100,  1,  10015,     15,2,19950429,2252,-34.8662, -35.9983, 4661,    983,    971.0,   3.7168,  34.2361,2,  34.2375,2,    245.6,3,  3.6461,    236.3,2,    27.50,2,    30.54,2,     1.96,2,    2.323,2,    1.001,3,    0.127,2,    3.056,2, -999.000,9,-999.0000,9,  -999.00,9,-999.000,9,   -999.0,9,   -999.0,9,-999.0,  -999.0,-999.0000,-999.000,-999.000,-999.000,-999.000
      74JC10_1,   A23,   100,  1,  10014,     14,2,19950429,2252,-34.8662, -35.9983, 4661,   1243,   1230.2,   2.9454,  34.3313,2,  34.3319,2,    215.0,3,  2.8605,    207.6,2,    45.63,2,    33.27,2,     2.17,2,    1.086,2,    0.434,3,    0.046,2,    1.753,2, -999.000,9,-999.0000,9,  -999.00,9,-999.000,9,   -999.0,9,   -999.0,9,-999.0,  -999.0,-999.0000,-999.000,-999.000,-999.000,-999.000
      74JC10_1,   A23,   100,  1,  10013,     13,2,19950429,2252,-34.8662, -35.9983, 4661,   1371,   1357.9,   2.8224,  34.4164,2,  34.4200,2,    197.7,3,  2.7285,    191.9,2,    54.83,2,    33.91,2,     2.22,2,    0.537,2,    0.244,2,    0.021,2,    1.085,2, -999.000,9,-999.0000,9,  -999.00,9,-999.000,9,   -999.0,9,   -999.0,9,-999.0,  -999.0,-999.0000,-999.000,-999.000,-999.000,-999.000
      74JC10_1,   A23,   100,  1,  10012,     12,2,19950429,2252,-34.8662, -35.9983, 4661,   1659,   1645.8,   2.8325,  34.5961,3,  34.6099,3,    186.5,3,  2.7144,    181.9,2,    62.55,2,    32.68,2,     2.12,2,    0.103,2,    0.054,2,    0.003,2,    0.370,2, -999.000,9,-999.0000,9,  -999.00,9,-999.000,9,   -999.0,9,   -999.0,9,-999.0,  -999.0,-999.0000,-999.000,-999.000,-999.000,-999.000
      74JC10_1,   A23,   100,  1,  10011,     24,2,19950429,2252,-34.8662, -35.9983, 4661,   1943,   1930.1,   2.9230,  34.7370,3,  34.7488,3,    199.9,3,  2.7786,    196.3,2,    55.48,2,    29.57,2,     1.86,2,    0.015,2,    0.018,3,    0.000,2,    0.165,2, -999.000,9,-999.0000,9,  -999.00,9,-999.000,9,   -999.0,9,   -999.0,9,-999.0,  -999.0,-999.0000,-999.000,-999.000,-999.000,-999.000
      74JC10_1,   A23,   100,  1,  10010,     10,2,19950429,2252,-34.8662, -35.9983, 4661,   2203,   2190.2,   3.0684,  34.8390,2,  34.8405,2,    220.2,3,  2.8975,    215.3,2,    46.33,2,    26.23,2,     1.65,2,    0.003,2,   -0.004,2,    0.000,2,    0.152,2, -999.000,9,-999.0000,9,  -999.00,9,-999.000,9,   -999.0,9,   -999.0,9,-999.0,  -999.0,-999.0000,-999.000,-999.000,-999.000,-999.000
      74JC10_1,   A23,   100,  1,  10009,      9,2,19950429,2252,-34.8662, -35.9983, 4661,   2437,   2424.2,   3.0700,  34.8875,2,  34.8879,2,    236.3,3,  2.8765,    229.7,2,    39.92,2,    24.08,2,     1.48,2,   -0.004,2,   -0.004,2,    0.000,2,    0.111,2, -999.000,9,-999.0000,9,  -999.00,9,-999.000,9,   -999.0,9,   -999.0,9,-999.0,  -999.0,-999.0000,-999.000,-999.000,-999.000,-999.000
      74JC10_1,   A23,   100,  1,  10008,      8,2,19950429,2252,-34.8662, -35.9983, 4661,   2709,   2696.8,   2.9103,  34.9008,3,  34.9113,3,    245.8,3,  2.6927,    238.4,2,    37.08,2,    22.86,2,     1.41,2,   -0.010,2,   -0.004,2,    0.000,2,    0.110,2, -999.000,9,-999.0000,9,  -999.00,9,-999.000,9,   -999.0,9,   -999.0,9,-999.0,  -999.0,-999.0000,-999.000,-999.000,-999.000,-999.000
      74JC10_1,   A23,   100,  1,  10007,     26,2,19950429,2252,-34.8662, -35.9983, 4661,   2951,   2939.8,   2.6535,  34.8664,2,  34.8623,2,    238.1,3,  2.4168,    226.1,2,    54.25,2,    25.32,2,     1.59,2,    0.004,2,    0.011,3,    0.000,2,    0.125,2, -999.000,9,-999.0000,9,  -999.00,9,-999.000,9,   -999.0,9,   -999.0,9,-999.0,  -999.0,-999.0000,-999.000,   2.566,-999.000,-999.000
      74JC10_1,   A23,   100,  1,  10006,      6,2,19950429,2252,-34.8662, -35.9983, 4661,   3321,   3310.2,   2.1869,  34.8418,2,  34.8408,2,    230.7,3,  1.9227,    226.8,2,    65.33,2,    26.13,2,     1.64,2,    0.003,2,    0.002,2,    0.000,2,    0.086,2, -999.000,9,-999.0000,9,  -999.00,9,-999.000,9,   -999.0,9,   -999.0,9,-999.0,  -999.0,-999.0000,-999.000,-999.000,-999.000,-999.000
      74JC10_1,   A23,   100,  1,  10005,      5,2,19950429,2252,-34.8662, -35.9983, 4661,   3678,   3668.6,   1.4116,  34.7551,2,  34.7577,2,    218.5,3,  1.1300,    211.6,2,    98.26,2,    30.33,2,     1.95,2,    0.031,2,    0.002,3,    0.000,2,    0.143,2, -999.000,9,-999.0000,9,  -999.00,9,-999.000,9,   -999.0,9,   -999.0,9,-999.0,  -999.0,-999.0000,-999.000,-999.000,-999.000,-999.000
      74JC10_1,   A23,   100,  1,  10004,      4,2,19950429,2252,-34.8662, -35.9983, 4661,   3980,   3971.2,   0.8888,  34.7134,2,  34.7133,2,    216.3,3,  0.5901,    208.8,2,   115.27,2,    32.17,2,     2.14,2,    0.058,2,    0.022,2,    0.000,2,    0.220,2, -999.000,9,-999.0000,9,  -999.00,9,-999.000,9,   -999.0,9,   -999.0,9,-999.0,  3980.0,-999.0000,-999.000,   0.886,-999.000,-999.000
      74JC10_1,   A23,   100,  1,  10003,      3,2,19950429,2252,-34.8662, -35.9983, 4661,   4428,   4419.9,   0.3438,  34.6802,2,  34.6787,2,    221.5,3,  0.0138,    215.3,2,   127.93,2,    33.27,2,     2.19,2,    0.070,2,    0.024,2,    0.000,2,    0.312,2, -999.000,9,-999.0000,9,  -999.00,9,-999.000,9,   -999.0,9,   -999.0,9,-999.0,  -999.0,-999.0000,-999.000,-999.000,-999.000,-999.000
      74JC10_1,   A23,   100,  1,  10001,      1,2,19950429,2252,-34.8662, -35.9983, 4661,   4743,   4735.0,   0.2166,  34.6718,2,  34.6712,2,    224.1,3, -0.1438,    217.2,2,   130.42,2,    33.33,2,     2.19,2,    0.112,2,    0.058,2,    0.000,2,    0.362,2, -999.000,9,-999.0000,9,  -999.00,9,-999.000,9,   -999.0,9,   -999.0,9,-999.0,  4726.0,-999.0000,-999.000,   0.212,-999.000,-999.000
      74JC10_1,   A23,   100,  1,  10002,      2,2,19950429,2252,-34.8662, -35.9983, 4661,   4743,   4735.1,   0.2167,  34.6721,2,  34.6712,2,    224.1,3, -0.1437,    216.9,2,   130.62,2,    33.43,2,     2.21,2,    0.119,2, -999.000,9,    0.000,2,    0.394,2, -999.000,9,-999.0000,9,  -999.00,9,-999.000,9,   -999.0,9,   -999.0,9,-999.0,  -999.0,-999.0000,-999.000,-999.000,-999.000,-999.000
      74JC10_1,   A23,   101,  1,  10124,     11,2,19950430,0734,-34.3667, -35.9882, 4594,     26,     19.2,  20.9096,  35.7615,2,  35.7641,2,    225.1,3, 20.9059,    217.5,2,     3.45,2,     0.17,2,     0.05,2, -999.000,9, -999.000,9, -999.000,9, -999.000,9, -999.000,9,-999.0000,9,  -999.00,9,-999.000,9,   -999.0,9,   -999.0,9,-999.0,  -999.0,-999.0000,-999.000,-999.000,-999.000,-999.000
      74JC10_1,   A23,   101,  1,  10123,     23,2,19950430,0734,-34.3667, -35.9882, 4594,     71,     63.9,  18.4349,  35.8540,2,  35.8165,2,    238.7,3, 18.4237,    228.1,2,     3.50,2,     0.19,2,     0.12,2, -999.000,9, -999.000,9, -999.000,9, -999.000,9, -999.000,9,-999.0000,9,  -999.00,9,-999.000,9,   -999.0,9,   -999.0,9,-999.0,  -999.0,-999.0000,-999.000,-999.000,-999.000,-999.000
      74JC10_1,   A23,   101,  1,  10122,     25,2,19950430,0734,-34.3667, -35.9882, 4594,    121,    113.5,  16.1537,  35.6740,2,  35.6763,2,    214.0,3, 16.1355,    209.8,2,     4.06,2,     3.67,2,     0.34,2, -999.000,9, -999.000,9, -999.000,9, -999.000,9, -999.000,9,-999.0000,9,  -999.00,9,-999.000,9,   -999.0,9,   -999.0,9,-999.0,  -999.0,-999.0000,-999.000,-999.000,-999.000,-999.000
      74JC10_1,   A23,   101,  1,  10121,     21,2,19950430,0734,-34.3667, -35.9882, 4594,    171,    162.8,  15.6674,  35.6534,2,  35.6524,2,    213.6,3, 15.6419,    210.7,2,     4.37,2,     4.79,2,     0.39,2,    2.665,2,    1.458,2,    0.120,2,    0.649,2, -999.000,9,-999.0000,9,  -999.00,9,-999.000,9,   -999.0,9,   -999.0,9,-999.0,  -999.0,-999.0000,-999.000,-999.000,-999.000,-999.000
      74JC10_1,   A23,   101,  1,  10120,     27,2,19950430,0734,-34.3667, -35.9882, 4594,    220,    211.6,  14.9917,  35.5887,2,  35.5855,2,    222.7,3, 14.9595,    214.0,2,     4.77,2,     5.94,2,     0.45,2, -999.000,9, -999.000,9, -999.000,9, -999.000,9, -999.000,9,-999.0000,9,  -999.00,9,-999.000,9,   -999.0,9,   -999.0,9,-999.0,  -999.0,-999.0000,-999.000,  14.994,-999.000,-999.000
      74JC10_1,   A23,   101,  1,  10119,     19,2,19950430,0734,-34.3667, -35.9882, 4594,    267,    258.8,  14.4284,  35.5068,2,  35.5048,2,    215.9,3, 14.3900,    210.8,2,     8.08,2,     7.68,2,     0.57,2,    2.818,2,    1.381,2,    0.092,2,    0.812,2, -999.000,9,-999.0000,9,  -999.00,9,-999.000,9,   -999.0,9,   -999.0,9,-999.0,  -999.0,-999.0000,-999.000,-999.000,-999.000,-999.000
      74JC10_1,   A23,   101,  1,  10118,     18,2,19950430,0734,-34.3667, -35.9882, 4594,    365,    355.6,  13.2599,  35.3201,2,  35.3116,2,    218.6,3, 13.2099,    211.6,2,     5.02,2,    10.20,2,     0.71,2, -999.000,9, -999.000,9, -999.000,9, -999.000,9, -999.000,9,-999.0000,9,  -999.00,9,-999.000,9,   -999.0,9,   -999.0,9,-999.0,  -999.0,-999.0000,-999.000,-999.000,-999.000,-999.000
      74JC10_1,   A23,   101,  1,  10117,     17,2,19950430,0734,-34.3667, -35.9882, 4594,    515,    505.3,  10.0905,  34.8230,2,  34.8196,2,    205.8,3, 10.0307,    203.5,2,     8.13,2,    18.40,2,     1.20,2,    2.412,2,    1.151,2,    0.060,2,    1.076,2, -999.000,9,-999.0000,9,  -999.00,9,-999.000,9,   -999.0,9,   -999.0,9,-999.0,  -999.0,-999.0000,-999.000,-999.000,-999.000,-999.000
      74JC10_1,   A23,   101,  1,  10116,     16,2,19950430,0734,-34.3667, -35.9882, 4594,    762,    750.9,   5.3635,  34.3146,2,  34.3129,2,    243.8,3,  5.3004,    231.1,2,    16.92,2,    27.51,2,     1.79,2,    2.010,2,    1.059,2,    0.096,2,    1.438,2, -999.000,9,-999.0000,9,  -999.00,9,-999.000,9,   -999.0,9,   -999.0,9,-999.0,  -999.0,-999.0000,-999.000,-999.000,-999.000,-999.000
      74JC10_1,   A23,   101,  1,  10115,     15,2,19950430,0734,-34.3667, -35.9882, 4594,   1009,    996.7,   3.7639,  34.2708,2,  34.2728,2,    235.3,3,  3.6907,    226.1,2,    30.24,2,    30.99,2,     2.05,2,    1.569,2,    0.698,2,    0.068,2,    2.310,2, -999.000,9,-999.0000,9,  -999.00,9,-999.000,9,   -999.0,9,   -999.0,9,-999.0,  -999.0,-999.0000,-999.000,-999.000,-999.000,-999.000
      74JC10_1,   A23,   101,  1,  10114,     14,2,19950430,0734,-34.3667, -35.9882, 4594,   1253,   1240.0,   3.0609,  34.3712,2,  34.3731,2,    206.6,3,  2.9741,    199.5,2,    48.88,2,    33.28,2,     2.21,2,    0.556,2,    0.248,2,    0.018,2,    1.196,2, -999.000,9,-999.0000,9,  -999.00,9,-999.000,9,   -999.0,9,   -999.0,9,-999.0,  -999.0,-999.0000,-999.000,-999.000,-999.000,-999.000
      74JC10_1,   A23,   101,  1,  10113,     13,2,19950430,0734,-34.3667, -35.9882, 4594,   1496,   1483.0,   2.8319,  34.5119,2,  34.5135,2,    188.7,3,  2.7276,    183.6,2,    60.11,2,    33.58,2,     2.24,2,    0.190,2,    0.090,2,    0.006,2,    0.567,2, -999.000,9,-999.0000,9,  -999.00,9,-999.000,9,   -999.0,9,   -999.0,9,-999.0,  -999.0,-999.0000,-999.000,-999.000,-999.000,-999.000
      74JC10_1,   A23,   101,  1,  10112,     12,2,19950430,0734,-34.3667, -35.9882, 4594,   1750,   1736.5,   2.8300,  34.6557,2,  34.6574,2,    190.7,3,  2.7041,    186.9,2,    61.33,2,    31.55,2,     2.07,2, -999.000,9, -999.000,9, -999.000,9, -999.000,9, -999.000,9,-999.0000,9,  -999.00,9,-999.000,9,   -999.0,9,   -999.0,9,-999.0,  -999.0,-999.0000,-999.000,-999.000,-999.000,-999.000
      74JC10_1,   A23,   101,  1,  10111,     24,2,19950430,0734,-34.3667, -35.9882, 4594,   2001,   1987.7,   2.9512,  34.7726,2,  34.7742,2,    206.9,3,  2.8011,    201.5,2,    55.17,2,    28.78,2,     1.83,2,    0.028,2,    0.016,2,    0.006,2,    0.156,2, -999.000,9,-999.0000,9,  -999.00,9,-999.000,9,   -999.0,9,   -999.0,9,-999.0,  -999.0,-999.0000,-999.000,-999.000,-999.000,-999.000
      74JC10_1,   A23,   101,  1,  10110,     10,2,19950430,0734,-34.3667, -35.9882, 4594,   2246,   2232.8,   3.0438,  34.8593,2,  34.8603,2,    227.3,3,  2.8693,    221.3,2,    45.11,2,    25.45,2,     1.63,2, -999.000,9, -999.000,9, -999.000,9, -999.000,9, -999.000,9,-999.0000,9,  -999.00,9,-999.000,9,   -999.0,9,   -999.0,9,-999.0,  -999.0,-999.0000,-999.000,-999.000,-999.000,-999.000
      74JC10_1,   A23,   101,  1,  10109,      9,2,19950430,0734,-34.3667, -35.9882, 4594,   2495,   2482.8,   3.0267,  34.8984,2,  34.8993,2,    239.2,3,  2.8282,    233.1,2,    38.91,2,    23.64,2,     1.46,2,    0.026,2,    0.023,2,    0.001,2,    0.169,2, -999.000,9,-999.0000,9,  -999.00,9,-999.000,9,   -999.0,9,   -999.0,9,-999.0,  -999.0,-999.0000,-999.000,-999.000,-999.000,-999.000
      74JC10_1,   A23,   101,  1,  10108,      8,2,19950430,0734,-34.3667, -35.9882, 4594,   2741,   2729.1,   2.9284,  34.9129,2,  34.9132,2,    245.9,3,  2.7072,    239.6,2,    37.44,2,    22.74,2,     1.40,2, -999.000,9, -999.000,9, -999.000,9, -999.000,9, -999.000,9,-999.0000,9,  -999.00,9,-999.000,9,   -999.0,9,   -999.0,9,-999.0,  -999.0,-999.0000,-999.000,-999.000,-999.000,-999.000
      74JC10_1,   A23,   101,  1,  10107,     26,2,19950430,0734,-34.3667, -35.9882, 4594,   2987,   2975.6,   2.7931,  34.9145,2,  34.9146,2,    249.6,3,  2.5494,    243.5,2,    37.54,2,    22.47,2,     1.40,2,   -0.005,2,   -0.001,2,    0.000,2,    0.115,2, -999.000,9,-999.0000,9,  -999.00,9,-999.000,9,   -999.0,9,   -999.0,9,-999.0,  -999.0,-999.0000,-999.000,   2.786,-999.000,-999.000
      74JC10_1,   A23,   101,  1,  10106,      6,2,19950430,0734,-34.3667, -35.9882, 4594,   3386,   3375.4,   2.2428,  34.8639,2,  34.8633,2,    243.6,3,  1.9703,    236.4,2,    56.54,2,    24.75,2,     1.55,2, -999.000,9, -999.000,9, -999.000,9, -999.000,9, -999.000,9,-999.0000,9,  -999.00,9,-999.000,9,   -999.0,9,   -999.0,9,-999.0,  -999.0,-999.0000,-999.000,-999.000,-999.000,-999.000
      74JC10_1,   A23,   101,  1,  10105,      5,2,19950430,0734,-34.3667, -35.9882, 4594,   3788,   3778.5,   1.3771,  34.7664,2,  34.7669,2,    224.3,3,  1.0849,    217.5,2,    94.04,2,    29.74,2,     1.92,2,    0.053,2,    0.028,2,    0.010,2,    0.164,2, -999.000,9,-999.0000,9,  -999.00,9,-999.000,9,   -999.0,9,   -999.0,9,-999.0,  -999.0,-999.0000,-999.000,-999.000,-999.000,-999.000
      74JC10_1,   A23,   101,  1,  10104,      4,2,19950430,0734,-34.3667, -35.9882, 4594,   3987,   3977.5,   0.9465,  34.7188,2,  34.7197,2,    217.5,3,  0.6454,    210.2,2,   111.77,2,    32.05,2,     2.10,2, -999.000,9, -999.000,9, -999.000,9, -999.000,9, -999.000,9,-999.0000,9,  -999.00,9,-999.000,9,   -999.0,9,   -999.0,9,-999.0,  3986.0,-999.0000,-999.000,   0.942,-999.000,-999.000
      74JC10_1,   A23,   101,  1,  10103,      3,2,19950430,0734,-34.3667, -35.9882, 4594,   4385,   4376.4,   0.3750,  34.6824,2,  34.6812,2,    222.4,3,  0.0487,    214.8,2,   126.61,2,    33.34,2,     2.25,2,    0.087,2,    0.049,2,    0.006,2,    0.307,2, -999.000,9,-999.0000,9,  -999.00,9,-999.000,9,   -999.0,9,   -999.0,9,-999.0,  -999.0,-999.0000,-999.000,-999.000,-999.000,-999.000
      74JC10_1,   A23,   101,  1,  10101,      1,2,19950430,0734,-34.3667, -35.9882, 4594,   4691,   4683.0,   0.2218,  34.6743,2,  34.6718,2,    225.2,3, -0.1330,    217.9,2,   130.73,2,    33.32,2,     2.25,2,    0.121,2,    0.066,2,    0.006,2,    0.375,2, -999.000,9,-999.0000,9,  -999.00,9,-999.000,9,   -999.0,9,   -999.0,9,-999.0,  4674.0,-999.0000,-999.000,   0.219,-999.000,-999.000
      74JC10_1,   A23,   101,  1,  10102,      2,2,19950430,0734,-34.3667, -35.9882, 4594,   4691,   4683.1,   0.2218,  34.6742,2,  34.6714,2,    225.2,3, -0.1330,    216.9,2,   129.51,2,    33.50,2,     2.24,2, -999.000,9, -999.000,9, -999.000,9, -999.000,9, -999.000,9,-999.0000,9,  -999.00,9,-999.000,9,   -999.0,9,   -999.0,9,-999.0,  -999.0,-999.0000,-999.000,-999.000,-999.000,-999.000