BOTTLE,20220810CCHSIOAMB
EXPOCODE,SECT_ID,STNNBR,CASTNO,SAMPNO,BTLNBR,BTLNBR_FLAG_W,DATE,TIME,LATITUDE,LONGITUDE,DEPTH,CTDRAW,CTDPRS,CTDTMP,CTDSAL,CTDSAL_FLAG_W,SALNTY,SALNTY_FLAG_W,CTDOXY,CTDOXY_FLAG_W,THETA,OXYGEN,OXYGEN_FLAG_W,SILCAT,SILCAT_FLAG_W,NO2+NO3,NO2+NO3_FLAG_W,PHSPHT,PHSPHT_FLAG_W,CFC-11,CFC-11_FLAG_W,CFC-12,CFC-12_FLAG_W,CFC113,CFC113_FLAG_W,CCL4,CCL4_FLAG_W,TRITUM,TRITUM_FLAG_W,HELIUM,HELIUM_FLAG_W,DELHE3,DELHE3_FLAG_W,NEON,NEON_FLAG_W,TCARBN,TCARBN_FLAG_W,PCO2,PCO2_FLAG_W,PCO2TMP,REVPRS,HELIER,TRITER,REVTMP,NEONER,DELHER
,,,,,,,,,,,,,DBAR,ITS-90,PSS-78,,PSS-78,,UMOL/KG,,DEG C,UMOL/KG,,UMOL/KG,,UMOL/KG,,UMOL/KG,,PMOL/KG,,PMOL/KG,,PMOL/KG,,PMOL/KG,,TU,,NMOL/KG,,PERCNT,,NMOL/KG,,UMOL/KG,,UATM,,DEG C,DBAR,NMOL/KG,TU,ITS-90,NMOL/KG,PERCNT
      74JC10_1,   A23,    90,  1,   9024,     11,2,19950426,1236,-43.3667, -36.0003, 5179,     12,      6.6,  15.1643,  34.8010,2,  34.7992,2,    244.7,3, 15.1632,    243.8,2,     2.33,2,     0.16,2,     0.17,2,    2.922,2,    1.429,2,    0.249,2,    2.904,2, -999.000,9,-999.0000,9,  -999.00,9,   7.989,2,   -999.0,9,   -999.0,9,-999.0,  -999.0,-999.0000,   0.005,-999.000,   0.025,-999.000
      74JC10_1,   A23,    90,  1,   9023,     23,2,19950426,1236,-43.3667, -36.0003, 5179,     61,     55.4,  15.6306,  35.1268,2,  35.1284,2,    243.5,3, 15.6220,    236.0,2,     2.53,2,     0.10,2,     0.16,2,    2.857,2,    1.380,2,    0.261,2,    2.591,2, -999.000,1,   1.7330,2,    -0.55,2,   7.136,2,   -999.0,9,   -999.0,9,-999.0,  -999.0,  0.0070,-999.000,-999.000,   0.022,   0.300
      74JC10_1,   A23,    90,  1,   9022,     25,2,19950426,1236,-43.3667, -36.0003, 5179,    110,    104.9,  12.3035,  34.9626,2,  34.9728,2,    229.5,3, 12.2896,    227.0,2,     3.72,2,     8.94,2,     0.70,2,    3.305,2,    1.588,2,    0.240,2,    1.229,2, -999.000,9,-999.0000,9,  -999.00,9,-999.000,9,   -999.0,9,   -999.0,9,-999.0,  -999.0,-999.0000,-999.000,-999.000,-999.000,-999.000
      74JC10_1,   A23,    90,  1,   9021,     21,2,19950426,1236,-43.3667, -36.0003, 5179,    160,    154.2,  10.1881,  34.6855,2,  34.6832,2,    231.2,3, 10.1701,    231.5,2,     4.57,2,    13.60,2,     0.97,2,    3.492,2,    1.605,2,    0.237,2,    1.936,2, -999.000,9,-999.0000,9,  -999.00,9,-999.000,9,   -999.0,9,   -999.0,9,-999.0,  -999.0,-999.0000,-999.000,-999.000,-999.000,-999.000
      74JC10_1,   A23,    90,  1,   9020,     27,2,19950426,1236,-43.3667, -36.0003, 5179,    257,    250.3,   7.0298,  34.3695,2,  34.3686,2,    250.5,3,  7.0065,    241.8,2,     7.79,2,    20.96,2,     1.39,2, -999.000,9, -999.000,9, -999.000,9, -999.000,9,    0.287,2,   1.7710,2,     0.22,2,-999.000,9,   -999.0,9,   -999.0,9,-999.0,  -999.0,  0.0070,-999.000,   7.049,-999.000,   0.300
      74JC10_1,   A23,    90,  1,   9019,     19,2,19950426,1236,-43.3667, -36.0003, 5179,    352,    344.5,   5.6016,  34.2700,2,  34.2703,2,    255.9,3,  5.5730,    246.2,2,    10.92,2,    24.46,2,     1.60,2,    3.557,2,    1.667,2,    0.269,2,    3.757,2, -999.000,9,-999.0000,9,  -999.00,9,-999.000,9,   -999.0,9,   -999.0,9,-999.0,  -999.0,-999.0000,-999.000,-999.000,-999.000,-999.000
      74JC10_1,   A23,    90,  1,   9018,     18,2,19950426,1236,-43.3667, -36.0003, 5179,    503,    494.3,   4.6643,  34.2309,2,  34.2317,2,    256.8,3,  4.6265,    251.1,2,    15.24,2,    26.41,2,     1.74,2,    3.251,2,    1.443,2,    0.209,2,    3.735,2,    0.183,2,-999.0000,9,  -999.00,9,-999.000,9,   -999.0,9,   -999.0,9,-999.0,  -999.0,-999.0000,   0.008,-999.000,-999.000,-999.000
      74JC10_1,   A23,    90,  1,   9017,     17,2,19950426,1236,-43.3667, -36.0003, 5179,    746,    735.7,   3.6702,  34.2335,2,  34.2350,2,    242.3,3,  3.6183,    236.1,2,    25.77,2,    29.72,2,     1.95,2,    2.360,2,    0.991,3,    0.152,2,    3.015,2, -999.000,9,-999.0000,9,  -999.00,9,-999.000,9,   -999.0,9,   -999.0,9,-999.0,  -999.0,-999.0000,-999.000,-999.000,-999.000,-999.000
      74JC10_1,   A23,    90,  1,   9016,     16,2,19950426,1236,-43.3667, -36.0003, 5179,   1001,    989.1,   2.9400,  34.3028,2,  34.3093,2,    216.6,3,  2.8737,    210.4,2,    41.45,2,    32.57,2,     2.17,2,    1.488,2,    0.612,3,    0.084,2,    1.985,2,    0.072,2,   1.7790,3,     5.71,2,-999.000,5,   -999.0,9,   -999.0,9,-999.0,  -999.0,  0.0070,   0.012,-999.000,-999.000,   0.300
      74JC10_1,   A23,    90,  1,   9015,     15,2,19950426,1236,-43.3667, -36.0003, 5179,   1235,   1221.9,   2.6691,  34.4241,2,  34.4243,2,    194.6,3,  2.5873,    187.2,2,    55.99,2,    34.00,2,     2.25,2,    0.773,2,    0.321,3,    0.035,2,    1.237,2, -999.000,9,-999.0000,9,  -999.00,9,-999.000,9,   -999.0,9,   -999.0,9,-999.0,  -999.0,-999.0000,-999.000,-999.000,-999.000,-999.000
      74JC10_1,   A23,    90,  1,   9014,     14,2,19950426,1236,-43.3667, -36.0003, 5179,   1491,   1477.4,   2.6284,  34.5537,2,  34.5559,2,    181.6,3,  2.5267,    175.6,2,    65.06,2,    33.69,2,     2.22,2,    0.298,2,    0.132,2,    0.005,2,    0.623,2,    0.029,2,   1.8670,2,     8.51,2,   7.946,2,   -999.0,9,   -999.0,9,-999.0,  -999.0,  0.0070,   0.018,-999.000,   0.025,   0.300
      74JC10_1,   A23,    90,  1,   9013,     13,2,19950426,1236,-43.3667, -36.0003, 5179,   1737,   1723.7,   2.6469,  34.6561,2,  34.6574,2,    184.2,3,  2.5244,    176.9,2,    67.24,2,    32.15,2,     2.11,2,    0.129,2,    0.053,2,    0.000,2,    0.348,2, -999.000,9,-999.0000,9,  -999.00,9,-999.000,9,   -999.0,9,   -999.0,9,-999.0,  -999.0,-999.0000,-999.000,-999.000,-999.000,-999.000
      74JC10_1,   A23,    90,  1,   9012,     12,2,19950426,1236,-43.3667, -36.0003, 5179,   1985,   1972.3,   2.6583,  34.7377,2,  34.7394,2,    192.2,3,  2.5140,    187.8,2,    65.90,2,    30.03,2,     1.95,2,    0.065,2,    0.031,2,    0.000,2,    0.238,2,    0.016,2,   1.8310,2,     9.16,2,   7.879,2,   -999.0,9,   -999.0,9,-999.0,  -999.0,  0.0070,   0.005,-999.000,   0.024,   0.300
      74JC10_1,   A23,    90,  1,   9011,     24,2,19950426,1236,-43.3667, -36.0003, 5179,   2336,   2323.1,   2.5540,  34.7985,2,  34.7982,2,    206.2,3,  2.3794,    201.1,2,    64.41,2,    27.93,2,     1.82,2,    0.053,2,    0.033,2,    0.000,2,    0.201,2,    0.014,2,   1.8350,2,     8.66,2,-999.000,9,   -999.0,9,   -999.0,9,-999.0,  -999.0,  0.0070,-999.000,-999.000,-999.000,   0.300
      74JC10_1,   A23,    90,  1,   9010,     10,2,19950426,1236,-43.3667, -36.0003, 5179,   2683,   2671.1,   2.5300,  34.8548,2,  34.8548,2,    216.1,3,  2.3226,    222.6,2,    54.83,2,    24.80,2,     1.59,2,    0.018,2,    0.017,3,    0.000,2,    0.122,2,    0.013,2,   1.8290,2,     6.14,2,   7.949,2,   -999.0,9,   -999.0,9,-999.0,  -999.0,  0.0070,   0.010,-999.000,   0.025,   0.300
      74JC10_1,   A23,    90,  1,   9009,      9,2,19950426,1236,-43.3667, -36.0003, 5179,   2983,   2971.7,   2.0992,  34.8110,2,  34.8110,2,    222.1,3,  1.8714,    213.4,2,    71.69,2,    27.06,2,     1.75,2,    0.019,2,    0.019,3,    0.000,2,    0.129,2, -999.000,9,   1.8440,2,     8.15,2,   8.014,2,   -999.0,9,   -999.0,9,-999.0,  -999.0,  0.0070,-999.000,-999.000,   0.025,   0.300
      74JC10_1,   A23,    90,  1,   9008,      8,2,19950426,1236,-43.3667, -36.0003, 5179,   3333,   3322.6,   1.5450,  34.7550,2,  34.7543,2,    209.8,3,  1.2953,    203.9,2,    94.53,2,    30.12,2,     1.96,2,    0.024,2,    0.027,3,    0.000,2,    0.124,2, -999.000,1,   1.8540,2,     9.26,2,   8.052,2,   -999.0,9,   -999.0,9,-999.0,  -999.0,  0.0070,-999.000,-999.000,   0.025,   0.300
      74JC10_1,   A23,    90,  1,   9007,     26,2,19950426,1236,-43.3667, -36.0003, 5179,   3680,   3670.5,   1.1012,  34.7220,2,  34.7215,2,    209.7,3,  0.8278,    204.0,2,   108.34,2,    31.54,2,     2.06,2,    0.060,2,   -0.002,3,    0.000,2,    0.195,2, -999.000,9,   1.8600,2,     9.06,2,-999.000,9,   -999.0,9,   -999.0,9,-999.0,  -999.0,  0.0070,-999.000,   1.097,-999.000,   0.300
      74JC10_1,   A23,    90,  1,   9006,      6,2,19950426,1236,-43.3667, -36.0003, 5179,   3979,   3969.7,   0.8060,  34.7027,2,  34.7022,2,    212.9,3,  0.5098,    207.6,2,   116.54,2,    32.10,2,     2.10,2,    0.096,2,    0.049,2,    0.000,2,    0.286,2,    0.013,2,   1.8660,2,     8.93,2,   8.151,2,   -999.0,9,   -999.0,9,-999.0,  -999.0,  0.0070,   0.006,-999.000,   0.025,   0.300
      74JC10_1,   A23,    90,  1,   9005,      5,2,19950426,1236,-43.3667, -36.0003, 5179,   4328,   4319.4,   0.4797,  34.6859,2,  34.6855,2,    218.8,3,  0.1563,    212.7,2,   123.18,2,    32.58,2,     2.14,2,    0.091,2,    0.050,2,    0.000,2,    0.324,2,    0.019,2,   1.8680,2,     8.46,2,   8.152,2,   -999.0,9,   -999.0,9,-999.0,  -999.0,  0.0070,   0.008,-999.000,   0.025,   0.300
      74JC10_1,   A23,    90,  1,   9004,      4,2,19950426,1236,-43.3667, -36.0003, 5179,   4678,   4670.0,   0.3077,  34.6765,2,  34.6763,2,    223.1,3, -0.0485,    215.8,2,   126.69,2,    32.82,2,     2.16,2,    0.116,2,    0.077,2,    0.003,2,    0.377,2,    0.023,2,   1.8710,2,     7.04,2,   8.203,2,   -999.0,9,   -999.0,9,-999.0,  4679.0,  0.0070,   0.006,   0.300,   0.025,   0.300
      74JC10_1,   A23,    90,  1,   9003,      3,2,19950426,1236,-43.3667, -36.0003, 5179,   4978,   4971.2,   0.2617,  34.6731,2,  34.6724,2,    225.1,3, -0.1269,    217.2,2,   127.67,2,    32.89,2,     2.16,2,    0.179,2,    0.208,3,    0.007,2,    0.443,2,    0.018,2,   1.8710,2,     7.03,2,   8.187,2,   -999.0,9,   -999.0,9,-999.0,  -999.0,  0.0070,   0.003,-999.000,   0.025,   0.300
      74JC10_1,   A23,    90,  1,   9002,      2,2,19950426,1236,-43.3667, -36.0003, 5179,   5288,   5281.4,   0.2477,  34.6703,2,  34.6698,2,    225.1,3, -0.1764,    218.0,2,   129.33,2,    32.93,2,     2.18,2,    0.159,2,    0.084,2,    0.000,2,    0.410,2, -999.000,9,-999.0000,9,  -999.00,9,-999.000,9,   -999.0,9,   -999.0,9,-999.0,  -999.0,-999.0000,-999.000,-999.000,-999.000,-999.000
      74JC10_1,   A23,    90,  1,   9001,      1,2,19950426,1236,-43.3667, -36.0003, 5179,   5288,   5282.0,   0.2478,  34.6720,2,  34.6698,2,    223.9,3, -0.1765,    219.0,2,   130.11,2,    32.87,2,     2.16,2,    0.149,2,    0.083,2,    0.000,2,    0.409,2,    0.025,2,   1.8760,2,     6.87,2,   8.223,2,   -999.0,9,   -999.0,9,-999.0,  5278.0,  0.0070,   0.002,   0.242,   0.025,   0.300
      74JC10_1,   A23,    91,  1,   9124,     11,2,19950426,1909,-42.8645, -36.0047, 5185,     12,      7.5,  13.3901,  34.3579,2,  34.3580,2,    264.5,3, 13.3891,    257.7,2,     1.88,2,     2.05,2,     0.37,2, -999.000,9, -999.000,9, -999.000,9, -999.000,9, -999.000,9,-999.0000,9,  -999.00,9,-999.000,9,   -999.0,9,   -999.0,9,-999.0,  -999.0,-999.0000,-999.000,-999.000,-999.000,-999.000
      74JC10_1,   A23,    91,  1,   9123,     23,2,19950426,1909,-42.8645, -36.0047, 5185,     61,     56.1,  11.6674,  34.3608,2,  34.3545,2,    266.1,3, 11.6603,    258.2,2,     2.14,2,     4.83,2,     0.57,2, -999.000,9, -999.000,9, -999.000,9, -999.000,9, -999.000,9,-999.0000,9,  -999.00,9,-999.000,9,   -999.0,9,   -999.0,9,-999.0,  -999.0,-999.0000,-999.000,-999.000,-999.000,-999.000
      74JC10_1,   A23,    91,  1,   9122,     25,2,19950426,1909,-42.8645, -36.0047, 5185,    110,    104.4,   9.6320,  34.5494,2,  34.5565,2,    249.5,3,  9.6203,    240.1,2,     3.97,2,    13.76,2,     1.00,2,    3.931,2,    2.003,2,    0.297,2,    2.514,2, -999.000,9,-999.0000,9,  -999.00,9,-999.000,9,   -999.0,9,   -999.0,9,-999.0,  -999.0,-999.0000,-999.000,-999.000,-999.000,-999.000
      74JC10_1,   A23,    91,  1,   9121,     21,2,19950426,1909,-42.8645, -36.0047, 5185,    159,    153.1,  10.4187,  34.9661,2,  34.9579,2,    247.3,3, 10.4005,    244.1,2,     4.54,2,    11.87,2,     0.88,2, -999.000,9, -999.000,9, -999.000,9, -999.000,9, -999.000,9,-999.0000,9,  -999.00,9,-999.000,9,   -999.0,9,   -999.0,9,-999.0,  -999.0,-999.0000,-999.000,-999.000,-999.000,-999.000
      74JC10_1,   A23,    91,  1,   9120,     27,2,19950426,1909,-42.8645, -36.0047, 5185,    258,    250.9,   5.7504,  34.2634,2,  34.2572,2,    259.1,3,  5.7295,    249.6,3,     9.02,2,    23.70,2,     1.56,2,    4.060,2,    1.986,2,    0.317,2,    3.987,2, -999.000,9,-999.0000,9,  -999.00,9,-999.000,9,   -999.0,9,   -999.0,9,-999.0,  -999.0,-999.0000,-999.000,   5.801,-999.000,-999.000
      74JC10_1,   A23,    91,  1,   9119,     19,2,19950426,1909,-42.8645, -36.0047, 5185,    355,    347.6,   4.9903,  34.2259,2,  34.2179,2,    265.2,3,  4.9631,    256.8,2,    11.88,2,    24.96,2,     1.67,2, -999.000,9, -999.000,9, -999.000,9, -999.000,9, -999.000,9,-999.0000,9,  -999.00,9,-999.000,9,   -999.0,9,   -999.0,9,-999.0,  -999.0,-999.0000,-999.000,-999.000,-999.000,-999.000
      74JC10_1,   A23,    91,  1,   9118,     18,2,19950426,1909,-42.8645, -36.0047, 5185,    505,    495.9,   4.3147,  34.2147,2,  34.2140,2,    259.1,3,  4.2781,    250.2,2,    16.41,2,    26.96,2,     1.81,2,    3.401,2,    1.622,2,    0.235,2,    3.818,2, -999.000,9,-999.0000,9,  -999.00,9,-999.000,9,   -999.0,9,   -999.0,9,-999.0,  -999.0,-999.0000,-999.000,-999.000,-999.000,-999.000
      74JC10_1,   A23,    91,  1,   9117,     17,2,19950426,1909,-42.8645, -36.0047, 5185,    749,    738.5,   3.1127,  34.2117,2,  34.2152,2,    244.6,3,  3.0638,    235.4,2,    45.68,2,    32.78,2,     2.21,2, -999.000,9, -999.000,9, -999.000,9, -999.000,9, -999.000,9,-999.0000,9,  -999.00,9,-999.000,9,   -999.0,9,   -999.0,9,-999.0,  -999.0,-999.0000,-999.000,-999.000,-999.000,-999.000
      74JC10_1,   A23,    91,  1,   9116,     16,2,19950426,1909,-42.8645, -36.0047, 5185,   1002,    990.3,   2.8453,  34.3572,2,  34.3568,2,    206.4,3,  2.7796,    206.0,2,    46.08,2,    32.82,2,     2.21,2,    1.080,2,    0.496,2,    0.046,2,    1.640,2, -999.000,9,-999.0000,9,  -999.00,9,-999.000,9,   2203.6,3,    530.9,2,   4.0,  -999.0,-999.0000,-999.000,-999.000,-999.000,-999.000
      74JC10_1,   A23,    91,  1,   9115,     15,2,19950426,1909,-42.8645, -36.0047, 5185,   1237,   1224.1,   2.6414,  34.4817,2,  34.4862,2,    188.1,3,  2.5596,    180.6,2,    60.14,2,    33.43,2,     2.23,2, -999.000,9, -999.000,9, -999.000,9, -999.000,9, -999.000,9,-999.0000,9,  -999.00,9,-999.000,9,   -999.0,9,   -999.0,9,-999.0,  -999.0,-999.0000,-999.000,-999.000,-999.000,-999.000
      74JC10_1,   A23,    91,  1,   9114,     14,2,19950426,1909,-42.8645, -36.0047, 5185,   1495,   1481.9,   2.8240,  34.6363,2,  34.6378,2,    184.4,3,  2.7195,    177.9,2,    59.32,2,    31.49,2,     2.21,2,    0.120,2,    0.059,2,    0.000,2,    0.359,2, -999.000,9,-999.0000,9,  -999.00,9,-999.000,9,   -999.0,9,   -999.0,9,-999.0,  -999.0,-999.0000,-999.000,-999.000,-999.000,-999.000
      74JC10_1,   A23,    91,  1,   9113,     13,2,19950426,1909,-42.8645, -36.0047, 5185,   1741,   1727.9,   2.9934,  34.7550,2,  34.7539,2,    196.2,3,  2.8657,    191.7,2,    52.79,2,    28.32,2,     1.86,2, -999.000,9, -999.000,9, -999.000,9, -999.000,9, -999.000,9,-999.0000,9,  -999.00,9,-999.000,9,   -999.0,9,   -999.0,9,-999.0,  -999.0,-999.0000,-999.000,-999.000,-999.000,-999.000
      74JC10_1,   A23,    91,  1,   9112,     12,2,19950426,1909,-42.8645, -36.0047, 5185,   1990,   1977.0,   3.0027,  34.8205,2,  34.8204,2,    212.6,3,  2.8526,    204.9,2,    49.23,2,    26.16,2,     1.72,2,    0.019,2,    0.018,2,    0.000,2,    0.179,2, -999.000,9,-999.0000,9,  -999.00,9,-999.000,9,   2199.0,3,    457.5,2,   4.0,  -999.0,-999.0000,-999.000,-999.000,-999.000,-999.000
      74JC10_1,   A23,    91,  1,   9111,     24,2,19950426,1909,-42.8645, -36.0047, 5185,   2338,   2325.3,   2.8289,  34.8589,2,  34.8591,2,    228.4,3,  2.6492,    219.7,3,    47.59,2,    24.47,2,     1.60,2, -999.000,9, -999.000,9, -999.000,9, -999.000,9, -999.000,9,-999.0000,9,  -999.00,9,-999.000,9,   -999.0,9,   -999.0,9,-999.0,  -999.0,-999.0000,-999.000,-999.000,-999.000,-999.000
      74JC10_1,   A23,    91,  1,   9110,     10,2,19950426,1909,-42.8645, -36.0047, 5185,   2686,   2674.4,   2.5770,  34.8592,2,  34.8582,2,    227.4,3,  2.3683,    224.2,2,    51.52,2,    24.40,2,     1.59,2,   -0.001,2,    0.009,2,    0.000,2,    0.117,2, -999.000,9,-999.0000,9,  -999.00,9,-999.000,9,   -999.0,9,   -999.0,9,-999.0,  -999.0,-999.0000,-999.000,-999.000,-999.000,-999.000
      74JC10_1,   A23,    91,  1,   9109,      9,2,19950426,1909,-42.8645, -36.0047, 5185,   2986,   2975.2,   2.0968,  34.8143,2,  34.8127,2,    223.0,3,  1.8688,    214.6,2,    68.59,2,    26.66,2,     1.77,2, -999.000,9, -999.000,9, -999.000,9, -999.000,9, -999.000,9,-999.0000,9,  -999.00,9,-999.000,9,   -999.0,9,   -999.0,9,-999.0,  -999.0,-999.0000,-999.000,-999.000,-999.000,-999.000
      74JC10_1,   A23,    91,  1,   9108,      8,2,19950426,1909,-42.8645, -36.0047, 5185,   3332,   3321.3,   1.4505,  34.7445,2,  34.7455,2,    209.5,3,  1.2032,    202.4,2,    94.89,2,    30.23,2,     2.02,2,    0.033,2,    0.022,2,    0.000,2,    0.146,2, -999.000,9,-999.0000,9,  -999.00,9,-999.000,9,   2234.0,3,    469.7,2,   4.0,  -999.0,-999.0000,-999.000,-999.000,-999.000,-999.000
      74JC10_1,   A23,    91,  1,   9107,     26,2,19950426,1909,-42.8645, -36.0047, 5185,   3674,   3664.8,   1.0255,  34.7137,2,  34.7131,2,    209.4,3,  0.7546,    204.1,2,   112.25,2,    31.52,2,     2.11,2, -999.000,9, -999.000,9, -999.000,9, -999.000,9, -999.000,9,-999.0000,9,  -999.00,9,-999.000,9,   -999.0,9,   -999.0,9,-999.0,  -999.0,-999.0000,-999.000,   1.024,-999.000,-999.000
      74JC10_1,   A23,    91,  1,   9106,      6,2,19950426,1909,-42.8645, -36.0047, 5185,   3985,   3975.6,   0.7440,  34.6970,2,  34.6969,2,    214.4,3,  0.4490,    208.3,2,   114.49,2,    31.91,2,     2.16,2,    0.121,2,    0.066,2,    0.005,2,    0.307,2, -999.000,9,-999.0000,9,  -999.00,9,-999.000,9,   -999.0,9,   -999.0,9,-999.0,  -999.0,-999.0000,-999.000,-999.000,-999.000,-999.000
      74JC10_1,   A23,    91,  1,   9105,      5,2,19950426,1909,-42.8645, -36.0047, 5185,   4336,   4327.4,   0.4501,  34.6837,2,  34.6826,2,    220.3,3,  0.1267,    215.1,2,   120.15,2,    32.23,2,     2.18,2, -999.000,9, -999.000,9, -999.000,9, -999.000,9, -999.000,9,-999.0000,9,  -999.00,9,-999.000,9,   -999.0,9,   -999.0,9,-999.0,  -999.0,-999.0000,-999.000,-999.000,-999.000,-999.000
      74JC10_1,   A23,    91,  1,   9104,      4,2,19950426,1909,-42.8645, -36.0047, 5185,   4677,   4669.6,   0.2900,  34.6753,2,  34.6739,2,    224.5,3, -0.0656,    217.3,2,   123.96,2,    32.34,2,     2.19,2,    0.093,2, -999.000,9,    0.000,2,    0.343,2, -999.000,9,-999.0000,9,  -999.00,9,-999.000,9,   -999.0,9,   -999.0,9,-999.0,  4679.0,-999.0000,-999.000,   0.283,-999.000,-999.000
      74JC10_1,   A23,    91,  1,   9103,      3,2,19950426,1909,-42.8645, -36.0047, 5185,   4967,   4960.3,   0.2480,  34.6720,2,  34.6716,2,    226.7,3, -0.1388,    218.7,2,   126.69,2,    32.54,2,     2.19,2, -999.000,9, -999.000,9, -999.000,9, -999.000,9, -999.000,9,-999.0000,9,  -999.00,9,-999.000,9,   2251.5,6,    470.6,2,   4.0,  -999.0,-999.0000,-999.000,-999.000,-999.000,-999.000
      74JC10_1,   A23,    91,  1,   9101,      1,2,19950426,1909,-42.8645, -36.0047, 5185,   5298,   5292.1,   0.2296,  34.6696,2,  34.6686,2,    227.2,3, -0.1951,    220.9,2,   128.74,2,    32.49,2,     2.20,2,    0.183,2,    0.109,2,    0.001,2,    0.450,2, -999.000,9,-999.0000,9,  -999.00,9,-999.000,9,   2250.8,6,    461.5,2,   4.0,  5291.0,-999.0000,-999.000,   0.224,-999.000,-999.000
      74JC10_1,   A23,    91,  1,   9102,      2,2,19950426,1909,-42.8645, -36.0047, 5185,   5299,   5293.0,   0.2295,  34.6691,2,  34.6686,2,    227.2,3, -0.1954,    218.8,2,   128.35,2,    32.66,2,     2.21,2,    0.170,2,    0.097,2,    0.009,2,    0.447,2, -999.000,9,-999.0000,9,  -999.00,9,-999.000,9,   -999.0,9,   -999.0,9,-999.0,  -999.0,-999.0000,-999.000,-999.000,-999.000,-999.000