BOTTLE,20220810CCHSIOAMB
EXPOCODE,SECT_ID,STNNBR,CASTNO,SAMPNO,BTLNBR,BTLNBR_FLAG_W,DATE,TIME,LATITUDE,LONGITUDE,DEPTH,CTDRAW,CTDPRS,CTDTMP,CTDSAL,CTDSAL_FLAG_W,SALNTY,SALNTY_FLAG_W,CTDOXY,CTDOXY_FLAG_W,THETA,OXYGEN,OXYGEN_FLAG_W,SILCAT,SILCAT_FLAG_W,NO2+NO3,NO2+NO3_FLAG_W,PHSPHT,PHSPHT_FLAG_W,CFC-11,CFC-11_FLAG_W,CFC-12,CFC-12_FLAG_W,CFC113,CFC113_FLAG_W,CCL4,CCL4_FLAG_W,TRITUM,TRITUM_FLAG_W,HELIUM,HELIUM_FLAG_W,DELHE3,DELHE3_FLAG_W,NEON,NEON_FLAG_W,TCARBN,TCARBN_FLAG_W,PCO2,PCO2_FLAG_W,PCO2TMP,REVPRS,HELIER,TRITER,REVTMP,NEONER,DELHER
,,,,,,,,,,,,,DBAR,ITS-90,PSS-78,,PSS-78,,UMOL/KG,,DEG C,UMOL/KG,,UMOL/KG,,UMOL/KG,,UMOL/KG,,PMOL/KG,,PMOL/KG,,PMOL/KG,,PMOL/KG,,TU,,NMOL/KG,,PERCNT,,NMOL/KG,,UMOL/KG,,UATM,,DEG C,DBAR,NMOL/KG,TU,ITS-90,NMOL/KG,PERCNT
      74JC10_1,   A23,    63,  1,   6321,     21,2,19950414,1107,-51.7020, -35.2502, 4724,      9,      6.2,   4.0943,  33.7940,2,  33.7932,2,    317.1,3,  4.0939,    309.6,2,     6.16,2,    18.60,2,     1.29,2, -999.000,9, -999.000,9, -999.000,9, -999.000,9, -999.000,9,-999.0000,9,  -999.00,9,-999.000,9,   -999.0,9,   -999.0,9,-999.0,  -999.0,-999.0000,-999.000,-999.000,-999.000,-999.000
      74JC10_1,   A23,    63,  1,   6322,     25,2,19950414,1107,-51.7020, -35.2502, 4724,      9,      6.4,   4.0946,  33.7935,2,  33.7932,2,    317.1,3,  4.0942,    309.5,2,     6.11,2,    18.62,2,     1.28,2, -999.000,9, -999.000,9, -999.000,9, -999.000,9, -999.000,9,-999.0000,9,  -999.00,9,-999.000,9,   -999.0,9,   -999.0,9,-999.0,  -999.0,-999.0000,-999.000,-999.000,-999.000,-999.000
      74JC10_1,   A23,    63,  1,   6320,     27,2,19950414,1107,-51.7020, -35.2502, 4724,     65,     61.6,   3.1513,  33.8317,2,  33.8465,2,    323.9,3,  3.1476,    301.0,3,    11.89,2,    21.16,2,     1.61,2, -999.000,9, -999.000,9, -999.000,9, -999.000,9, -999.000,9,-999.0000,9,  -999.00,9,-999.000,9,   -999.0,9,   -999.0,9,-999.0,  -999.0,-999.0000,-999.000,   3.121,-999.000,-999.000
      74JC10_1,   A23,    63,  1,   6319,     19,2,19950414,1107,-51.7020, -35.2502, 4724,    114,    110.4,   0.4357,  33.9988,2,  34.0047,2,    312.0,3,  0.4314,    297.3,2,    33.92,2,    29.37,2,     2.01,2, -999.000,9, -999.000,9, -999.000,9, -999.000,9, -999.000,9,-999.0000,9,  -999.00,9,-999.000,9,   -999.0,9,   -999.0,9,-999.0,  -999.0,-999.0000,-999.000,-999.000,-999.000,-999.000
      74JC10_1,   A23,    63,  1,   6318,     18,2,19950414,1107,-51.7020, -35.2502, 4724,    165,    160.4,   0.9667,  34.1542,2,  34.1601,2,    265.9,3,  0.9597,    251.0,2,    47.16,2,    31.82,2,     2.18,2, -999.000,9, -999.000,9, -999.000,9, -999.000,9, -999.000,9,-999.0000,9,  -999.00,9,-999.000,9,   -999.0,9,   -999.0,9,-999.0,  -999.0,-999.0000,-999.000,-999.000,-999.000,-999.000
      74JC10_1,   A23,    63,  1,   6317,     17,2,19950414,1107,-51.7020, -35.2502, 4724,    214,    208.2,   1.2162,  34.2665,2,  34.2628,2,    237.6,3,  1.2065,    231.1,2,    57.05,2,    33.06,2,     2.27,2, -999.000,9, -999.000,9, -999.000,9, -999.000,9, -999.000,9,-999.0000,9,  -999.00,9,-999.000,9,   -999.0,9,   -999.0,9,-999.0,  -999.0,-999.0000,-999.000,-999.000,-999.000,-999.000
      74JC10_1,   A23,    63,  1,   6316,     16,2,19950414,1107,-51.7020, -35.2502, 4724,    265,    258.6,   1.6711,  34.3809,2,  34.3843,2,    207.4,3,  1.6579,    200.4,2,    65.98,2,    33.98,2,     2.36,2, -999.000,9, -999.000,9, -999.000,9, -999.000,9, -999.000,9,-999.0000,9,  -999.00,9,-999.000,9,   -999.0,9,   -999.0,9,-999.0,  -999.0,-999.0000,-999.000,-999.000,-999.000,-999.000
      74JC10_1,   A23,    63,  1,   6315,     15,2,19950414,1107,-51.7020, -35.2502, 4724,    365,    357.6,   2.1701,  34.5319,2,  34.5331,2,    178.4,3,  2.1500,    172.9,2,    75.23,2,    34.00,2,     2.39,2, -999.000,9, -999.000,9, -999.000,9, -999.000,9, -999.000,9,-999.0000,9,  -999.00,9,-999.000,9,   -999.0,9,   -999.0,9,-999.0,  -999.0,-999.0000,-999.000,-999.000,-999.000,-999.000
      74JC10_1,   A23,    63,  1,   6314,     14,2,19950414,1107,-51.7020, -35.2502, 4724,    513,    504.7,   2.0533,  34.6118,2,  34.6115,2,    174.9,3,  2.0248,    173.2,2,    81.68,2,    33.28,2,     2.32,2, -999.000,9, -999.000,9, -999.000,9, -999.000,9, -999.000,9,-999.0000,9,  -999.00,9,-999.000,9,   -999.0,9,   -999.0,9,-999.0,  -999.0,-999.0000,-999.000,-999.000,-999.000,-999.000
      74JC10_1,   A23,    63,  1,   6313,     13,2,19950414,1107,-51.7020, -35.2502, 4724,    760,    749.7,   1.9779,  34.6806,2,  34.6818,2,    180.6,3,  1.9343,    178.3,2,    87.25,2,    32.32,2,     2.23,2, -999.000,9, -999.000,9, -999.000,9, -999.000,9, -999.000,9,-999.0000,9,  -999.00,9,-999.000,9,   -999.0,9,   -999.0,9,-999.0,  -999.0,-999.0000,-999.000,-999.000,-999.000,-999.000
      74JC10_1,   A23,    63,  1,   6312,     12,2,19950414,1107,-51.7020, -35.2502, 4724,   1009,    997.4,   1.8869,  34.7225,2,  34.7193,2,    186.9,3,  1.8275,    185.9,2,    88.80,2,    31.40,2,     2.26,2, -999.000,9, -999.000,9, -999.000,9, -999.000,9, -999.000,9,-999.0000,9,  -999.00,9,-999.000,9,   -999.0,9,   -999.0,9,-999.0,  -999.0,-999.0000,-999.000,-999.000,-999.000,-999.000
      74JC10_1,   A23,    63,  1,   6311,     24,2,19950414,1107,-51.7020, -35.2502, 4724,   1255,   1243.0,   1.5973,  34.7175,2,  34.7193,2,    197.6,3,  1.5237,    187.1,2,    95.64,2,    31.44,2,     2.16,2, -999.000,9, -999.000,9, -999.000,9, -999.000,9, -999.000,9,-999.0000,9,  -999.00,9,-999.000,9,   -999.0,9,   -999.0,9,-999.0,  -999.0,-999.0000,-999.000,-999.000,-999.000,-999.000
      74JC10_1,   A23,    63,  1,   6310,     10,2,19950414,1107,-51.7020, -35.2502, 4724,   1503,   1490.5,   1.3518,  34.7184,2,  34.7193,2,    199.1,3,  1.2634,    194.1,2,   101.22,2,    31.46,2,     2.15,2, -999.000,9, -999.000,9, -999.000,9, -999.000,9, -999.000,9,-999.0000,9,  -999.00,9,-999.000,9,   -999.0,9,   -999.0,9,-999.0,  -999.0,-999.0000,-999.000,-999.000,-999.000,-999.000
      74JC10_1,   A23,    63,  1,   6309,      9,2,19950414,1107,-51.7020, -35.2502, 4724,   1759,   1745.9,   1.1409,  34.7162,2,  34.7160,2,    202.7,3,  1.0367,    196.4,2,   106.19,2,    31.46,2,     2.16,2, -999.000,9, -999.000,9, -999.000,9, -999.000,9, -999.000,9,-999.0000,9,  -999.00,9,-999.000,9,   -999.0,9,   -999.0,9,-999.0,  -999.0,-999.0000,-999.000,-999.000,-999.000,-999.000
      74JC10_1,   A23,    63,  1,   6308,      8,2,19950414,1107,-51.7020, -35.2502, 4724,   2010,   1997.3,   0.9306,  34.7063,2,  34.7083,2,    207.7,3,  0.8105,    200.9,2,   110.88,2,    31.68,2,     2.17,2, -999.000,9, -999.000,9, -999.000,9, -999.000,9,    0.061,4,   1.8630,2,     9.03,2,   8.034,2,   -999.0,9,   -999.0,9,-999.0,  -999.0,  0.0070,   0.048,-999.000,   0.025,   0.300
      74JC10_1,   A23,    63,  1,   6307,     26,2,19950414,1107,-51.7020, -35.2502, 4724,   2511,   2499.5,   0.6127,  34.6918,2,  34.6930,2,    214.8,3,  0.4584,    200.7,4,   116.25,2,    31.94,2,     2.21,2, -999.000,9, -999.000,9, -999.000,9, -999.000,9,    0.029,2,   1.8750,2,     8.69,2,-999.000,9,   -999.0,9,   -999.0,9,-999.0,  -999.0,  0.0070,-999.000,   0.606,-999.000,   0.300
      74JC10_1,   A23,    63,  1,   6306,      6,2,19950414,1107,-51.7020, -35.2502, 4724,   3014,   3002.9,   0.3801,  34.6815,2,  34.6820,2,    221.5,3,  0.1879,    214.7,2,   119.96,2,    32.07,2,     2.24,2, -999.000,9, -999.000,9, -999.000,9, -999.000,9,    0.022,2,   1.8730,2,     8.23,2,   8.237,2,   -999.0,9,   -999.0,9,-999.0,  -999.0,  0.0070,   0.002,-999.000,   0.026,   0.300
      74JC10_1,   A23,    63,  1,   6305,      5,2,19950414,1107,-51.7020, -35.2502, 4724,   3518,   3508.4,   0.2227,  34.6745,2,  34.6745,2,    225.5,3, -0.0118,    220.1,2,   122.30,2,    32.13,2,     2.23,2,    0.199,2,    0.113,2,    0.010,2,    0.464,2,    0.054,2,   1.8720,2,     7.96,2,   8.182,2,   -999.0,9,   -999.0,9,-999.0,  -999.0,  0.0070,   0.007,-999.000,   0.025,   0.300
      74JC10_1,   A23,    63,  1,   6304,      4,2,19950414,1107,-51.7020, -35.2502, 4724,   4020,   4011.3,   0.1295,  34.6692,2,  34.6686,2,    230.3,3, -0.1515,    223.1,2,   123.47,2,    33.03,3,     2.23,2,    0.252,2,    0.137,2,    0.006,2,    0.538,2,    0.027,2,   1.8710,2,     7.46,2,   8.178,2,   -999.0,9,   -999.0,9,-999.0,  4022.0,  0.0070,   0.002,   0.122,   0.025,   0.300
      74JC10_1,   A23,    63,  1,   6303,      3,2,19950414,1107,-51.7020, -35.2502, 4724,   4523,   4515.2,   0.0310,  34.6650,2,  34.6631,2,    236.8,3, -0.2993,   -999.0,5,   124.35,2,    31.98,2,     2.24,2,    0.339,2,    0.172,2,    0.005,2,    0.641,2, -999.000,9,   1.8840,2,     6.71,2,   8.191,2,   -999.0,9,   -999.0,9,-999.0,  -999.0,  0.0070,-999.000,-999.000,   0.025,   0.300
      74JC10_1,   A23,    63,  1,   6301,      1,2,19950414,1107,-51.7020, -35.2502, 4724,   4789,   4781.7,  -0.0815,  34.6578,2,  34.6570,2,    239.7,3, -0.4370,    232.8,2,   126.60,2,    31.99,2,     2.21,2,    0.471,2,    0.166,3,    0.019,2,    0.764,2,    0.046,2,-999.0000,9,  -999.00,9,-999.000,9,   -999.0,9,   -999.0,9,-999.0,  4773.0,-999.0000,   0.018,  -0.087,-999.000,-999.000
      74JC10_1,   A23,    63,  1,   6302,      2,2,19950414,1107,-51.7020, -35.2502, 4724,   4789,   4781.9,  -0.0816,  34.6580,2,  34.6570,2,    239.7,3, -0.4372,    231.6,2,   126.11,2,    32.04,2,     2.24,2, -999.000,9, -999.000,9, -999.000,9, -999.000,9, -999.000,9,-999.0000,9,  -999.00,9,-999.000,9,   -999.0,9,   -999.0,9,-999.0,  -999.0,-999.0000,-999.000,-999.000,-999.000,-999.000
      74JC10_1,   A23,    64,  1,   6422,     25,2,19950414,1724,-51.1990, -35.3327, 4861,     13,     10.4,   4.5672,  33.7586,2,  33.7566,2,    320.7,3,  4.5665,    310.8,2,     3.64,2,    17.18,2,     1.05,2, -999.000,9, -999.000,9, -999.000,9, -999.000,9, -999.000,9,-999.0000,9,  -999.00,9,-999.000,9,   -999.0,9,   -999.0,9,-999.0,  -999.0,-999.0000,-999.000,-999.000,-999.000,-999.000
      74JC10_1,   A23,    64,  1,   6421,     21,2,19950414,1724,-51.1990, -35.3327, 4861,     13,     10.7,   4.5670,  33.7567,2,  33.7566,2,    320.7,3,  4.5662,    310.5,2,     3.74,2,    17.23,2,  -999.00,5,    5.145,2,    2.456,2,    0.469,2,    6.333,2,    0.159,2,-999.0000,9,  -999.00,9,-999.000,9,   2081.3,6,    295.0,2,   4.0,  -999.0,-999.0000,   0.014,-999.000,-999.000,-999.000
      74JC10_1,   A23,    64,  1,   6420,     27,2,19950414,1724,-51.1990, -35.3327, 4861,     59,     56.3,   4.1130,  33.7874,2,  33.7899,2,    316.6,3,  4.1091,    309.2,2,     6.75,2,    18.66,2,     1.29,2,    5.342,2,    2.631,2,    0.507,2,    6.496,2,    0.149,2,   1.7840,2,    -0.61,2,-999.000,9,   2097.0,6,    315.1,2,   4.0,  -999.0,  0.0070,-999.000,   4.099,-999.000,   0.300
      74JC10_1,   A23,    64,  1,   6419,     19,2,19950414,1724,-51.1990, -35.3327, 4861,    110,    106.3,   0.5468,  33.9543,2,  33.9747,2,    306.7,3,  0.5426,    302.1,2,    31.53,2,    28.43,2,     1.97,2, -999.000,9, -999.000,9, -999.000,9, -999.000,9, -999.000,9,-999.0000,9,  -999.00,9,-999.000,9,   -999.0,9,   -999.0,9,-999.0,  -999.0,-999.0000,-999.000,-999.000,-999.000,-999.000
      74JC10_1,   A23,    64,  1,   6418,     18,2,19950414,1724,-51.1990, -35.3327, 4861,    162,    157.7,   0.8336,  34.1598,2,  34.1809,2,    262.7,3,  0.8268,    250.1,2,    51.58,2,    32.19,2,     2.19,2,    3.841,2,    1.774,2,    0.334,2,    4.593,2,    0.095,2,   1.8130,2,     2.53,2,   8.035,2,   2191.4,6,    462.6,2,   4.0,  -999.0,  0.0070,   0.087,-999.000,   0.025,   0.300
      74JC10_1,   A23,    64,  1,   6417,     17,2,19950414,1724,-51.1990, -35.3327, 4861,    215,    209.9,   1.5365,  34.3037,2,  34.3044,2,    220.0,3,  1.5262,    216.7,2,    59.75,2,    33.50,2,     2.28,2,    2.562,2,    1.149,2,    0.188,2,    2.998,2, -999.000,9,-999.0000,9,  -999.00,9,-999.000,9,   -999.0,9,   -999.0,9,-999.0,  -999.0,-999.0000,-999.000,-999.000,-999.000,-999.000
      74JC10_1,   A23,    64,  1,   6416,     16,2,19950414,1724,-51.1990, -35.3327, 4861,    266,    259.5,   1.6658,  34.3665,2,  34.3743,2,    210.5,3,  1.6526,    202.4,2,    65.85,2,    33.87,2,     2.32,2,    1.936,2,    0.838,2,    0.145,2,    2.368,2,    0.071,2,   1.8280,2,     6.20,2,   8.034,2,   -999.0,9,   -999.0,9,-999.0,  -999.0,  0.0070,   0.021,-999.000,   0.025,   0.300
      74JC10_1,   A23,    64,  1,   6415,     15,2,19950414,1724,-51.1990, -35.3327, 4861,    369,    362.0,   1.8934,  34.4960,2,  34.5009,2,    184.1,3,  1.8740,    180.5,2,    76.09,2,    34.15,2,     2.35,2,    1.012,2,    0.484,2,    0.062,2,    1.343,2,    0.038,2,   1.8290,2,     8.33,2,   8.019,2,   -999.0,9,   -999.0,9,-999.0,  -999.0,  0.0070,   0.018,-999.000,   0.025,   0.300
      74JC10_1,   A23,    64,  1,   6414,     14,2,19950414,1724,-51.1990, -35.3327, 4861,    525,    515.9,   1.9758,  34.6084,2,  34.6085,2,    182.1,3,  1.9469,    172.9,2,    83.71,2,    33.48,2,     2.29,2,    0.666,2,    0.240,3,    0.046,2,    0.855,2,    0.017,2,   1.8580,2,     9.47,2,   8.035,2,   -999.0,9,   -999.0,9,-999.0,  -999.0,  0.0070,   0.002,-999.000,   0.025,   0.300
      74JC10_1,   A23,    64,  1,   6413,     13,2,19950414,1724,-51.1990, -35.3327, 4861,    784,    773.4,   1.8532,  34.6698,2,  34.6700,2,    184.5,3,  1.8089,    176.0,2,    90.66,2,    32.61,2,     2.24,2,    0.252,2,    0.122,2,    0.009,2,    0.467,2,    0.015,2,   1.9070,3,    10.72,2,   8.102,2,   -999.0,9,   -999.0,9,-999.0,  -999.0,  0.0070,   0.004,-999.000,   0.025,   0.300
      74JC10_1,   A23,    64,  1,   6412,     12,2,19950414,1724,-51.1990, -35.3327, 4861,   1040,   1028.3,   1.7111,  34.7075,2,  34.7081,2,    189.4,3,  1.6512,    182.4,2,    95.14,2,    31.89,2,     2.18,2,    0.130,2,    0.057,3,    0.001,2,    0.279,2, -999.000,9,   1.8770,3,    11.15,2,   8.048,2,   2241.7,6,    501.4,2,   4.0,  -999.0,  0.0070,-999.000,-999.000,   0.025,   0.300
      74JC10_1,   A23,    64,  1,   6411,     24,2,19950414,1724,-51.1990, -35.3327, 4861,   1297,   1284.7,   1.5464,  34.7165,2,  34.7172,2,    195.5,3,  1.4704,    187.0,2,    98.97,2,    31.60,2,     2.17,2,    0.117,2,    0.064,2,    0.003,2,    0.250,2,    0.012,2,   1.8800,2,    10.84,2,-999.000,9,   -999.0,9,   -999.0,9,-999.0,  -999.0,  0.0070,-999.000,-999.000,-999.000,   0.300
      74JC10_1,   A23,    64,  1,   6410,     10,2,19950414,1724,-51.1990, -35.3327, 4861,   1556,   1542.8,   1.3049,  34.7149,2,  34.7160,2,    199.7,3,  1.2133,    193.3,2,   103.85,2,    31.51,2,     2.15,2,    0.147,2,    0.082,2,    0.012,2,    0.278,2,    0.012,2,   1.8820,2,    10.18,2,   8.126,2,   -999.0,9,   -999.0,9,-999.0,  -999.0,  0.0070,   0.002,-999.000,   0.025,   0.300
      74JC10_1,   A23,    64,  1,   6409,      9,2,19950414,1724,-51.1990, -35.3327, 4861,   1815,   1802.7,   1.0467,  34.7086,2,  34.7076,2,    203.2,3,  0.9396,    198.8,2,   109.90,2,    31.60,2,     2.16,2,    0.166,2,    0.082,2,    0.001,2,    0.308,2,    0.015,2,-999.0000,9,  -999.00,9,-999.000,9,   -999.0,9,   -999.0,9,-999.0,  -999.0,-999.0000,   0.002,-999.000,-999.000,-999.000
      74JC10_1,   A23,    64,  1,   6408,      8,2,19950414,1724,-51.1990, -35.3327, 4861,   2067,   2054.6,   0.8756,  34.7048,2,  34.7062,2,    207.2,3,  0.7520,    201.7,2,   113.32,2,    31.77,2,     2.16,2,    0.157,2,    0.084,2,    0.005,2,    0.316,2,    0.028,2,   1.8860,2,     8.97,2,   8.189,2,   2243.3,6,    463.4,2,   4.0,  -999.0,  0.0070,   0.009,-999.000,   0.025,   0.300
      74JC10_1,   A23,    64,  1,   6407,     26,2,19950414,1724,-51.1990, -35.3327, 4861,   2574,   2562.4,   0.5277,  34.6883,2,  34.6887,2,    213.2,3,  0.3699,    208.7,2,   118.69,2,    32.02,2,     2.19,2,    0.205,2,    0.116,2,    0.011,2,    0.409,2,    0.024,2,   1.8830,2,     8.58,2,-999.000,9,   -999.0,9,   -999.0,9,-999.0,  -999.0,  0.0070,-999.000,   0.521,-999.000,   0.300
      74JC10_1,   A23,    64,  1,   6406,      6,2,19950414,1724,-51.1990, -35.3327, 4861,   3108,   3097.4,   0.3195,  34.6801,2,  34.6804,2,    219.1,3,  0.1204,    214.1,2,   121.62,2,    32.21,2,     2.22,2,    0.199,2,    0.111,2,    0.005,2,    0.459,2,    0.039,2,   1.8820,2,     7.80,2,   8.192,2,   2245.1,6,    455.1,2,   4.0,  -999.0,  0.0070,   0.003,-999.000,   0.025,   0.300
      74JC10_1,   A23,    64,  1,   6405,      5,2,19950414,1724,-51.1990, -35.3327, 4861,   3626,   3616.3,   0.1816,  34.6742,2,  34.6724,2,    222.5,3, -0.0620,    217.9,2,   124.25,2,    32.24,2,     2.21,2,    0.197,2,    0.115,2,    0.001,2,    0.461,2,    0.038,2,   1.8860,2,     6.95,2,   8.226,2,   -999.0,9,   -999.0,9,-999.0,  -999.0,  0.0070,   0.003,-999.000,   0.026,   0.300
      74JC10_1,   A23,    64,  1,   6404,      4,2,19950414,1724,-51.1990, -35.3327, 4861,   4146,   4135.8,   0.0853,  34.6682,2,  34.6669,2,    230.5,3, -0.2070,    222.2,2,   126.30,2,    32.06,2,     2.20,2,    0.255,2,    0.149,2,    0.000,2,    0.562,2,    0.030,2,   1.8890,2,     6.75,2,   8.232,2,   -999.0,9,   -999.0,9,-999.0,  4145.0,  0.0070,   0.003,   0.079,   0.026,   0.300
      74JC10_1,   A23,    64,  1,   6403,      3,2,19950414,1724,-51.1990, -35.3327, 4861,   4664,   4656.7,  -0.0484,  34.6607,2,  34.6596,2,    238.6,3, -0.3914,    230.6,2,   126.21,2,    32.19,2,     2.22,2,    0.410,2,    0.207,2,    0.009,2,    0.735,2,    0.033,2,   1.8920,2,     6.16,2,   8.293,2,   2240.4,6,    444.7,2,   4.0,  -999.0,  0.0070,   0.005,-999.000,   0.026,   0.300
      74JC10_1,   A23,    64,  1,   6401,      1,2,19950414,1724,-51.1990, -35.3327, 4861,   4920,   4912.7,  -0.0853,  34.6570,2,  34.6565,2,    241.8,3, -0.4553,    234.2,2,   125.13,2,    32.17,2,     2.20,2,    0.479,2,    0.242,2,    0.009,2,    0.751,2, -999.000,1,-999.0000,9,  -999.00,9,-999.000,9,   2238.9,3,    437.9,2,   4.0,  4906.0,-999.0000,-999.000,  -0.127,-999.000,-999.000
      74JC10_1,   A23,    64,  1,   6402,      2,2,19950414,1724,-51.1990, -35.3327, 4861,   4920,   4912.8,  -0.0852,  34.6564,2,  34.6567,2,    241.8,3, -0.4552,    233.7,2,   124.65,2,    32.16,2,     2.20,2,    0.487,2,    0.259,2,    0.015,2,    0.814,2,    0.051,2,   1.8870,2,     6.21,2,   8.260,2,   -999.0,9,   -999.0,9,-999.0,  -999.0,  0.0070,   0.008,-999.000,   0.026,   0.300