BOTTLE,20220810CCHSIOAMB
EXPOCODE,SECT_ID,STNNBR,CASTNO,SAMPNO,BTLNBR,BTLNBR_FLAG_W,DATE,TIME,LATITUDE,LONGITUDE,DEPTH,CTDRAW,CTDPRS,CTDTMP,CTDSAL,CTDSAL_FLAG_W,SALNTY,SALNTY_FLAG_W,CTDOXY,CTDOXY_FLAG_W,THETA,OXYGEN,OXYGEN_FLAG_W,SILCAT,SILCAT_FLAG_W,NO2+NO3,NO2+NO3_FLAG_W,PHSPHT,PHSPHT_FLAG_W,CFC-11,CFC-11_FLAG_W,CFC-12,CFC-12_FLAG_W,CFC113,CFC113_FLAG_W,CCL4,CCL4_FLAG_W,TRITUM,TRITUM_FLAG_W,HELIUM,HELIUM_FLAG_W,DELHE3,DELHE3_FLAG_W,NEON,NEON_FLAG_W,TCARBN,TCARBN_FLAG_W,PCO2,PCO2_FLAG_W,PCO2TMP,REVPRS,HELIER,TRITER,REVTMP,NEONER,DELHER
,,,,,,,,,,,,,DBAR,ITS-90,PSS-78,,PSS-78,,UMOL/KG,,DEG C,UMOL/KG,,UMOL/KG,,UMOL/KG,,UMOL/KG,,PMOL/KG,,PMOL/KG,,PMOL/KG,,PMOL/KG,,TU,,NMOL/KG,,PERCNT,,NMOL/KG,,UMOL/KG,,UATM,,DEG C,DBAR,NMOL/KG,TU,ITS-90,NMOL/KG,PERCNT
      74JC10_1,   A23,    55,  1,   5516,     16,2,19950412,1939,-54.4380, -34.6790, 1977,     12,      9.0,   2.8350,  33.7819,2,  33.7830,2,    329.8,3,  2.8345,    320.7,2,    11.76,2,    21.47,2,     1.46,2, -999.000,9, -999.000,9, -999.000,9, -999.000,9, -999.000,9,-999.0000,9,  -999.00,9,-999.000,9,   -999.0,9,   -999.0,9,-999.0,  -999.0,-999.0000,-999.000,-999.000,-999.000,-999.000
      74JC10_1,   A23,    55,  1,   5515,     15,2,19950412,1939,-54.4380, -34.6790, 1977,     12,      9.4,   2.8360,  33.7816,2,  33.7828,2,    329.8,3,  2.8354,    320.1,2,    12.00,2,    21.52,2,     1.46,2, -999.000,9, -999.000,9, -999.000,9, -999.000,9, -999.000,9,-999.0000,9,  -999.00,9,-999.000,9,   -999.0,9,   -999.0,9,-999.0,  -999.0,-999.0000,-999.000,-999.000,-999.000,-999.000
      74JC10_1,   A23,    55,  1,   5514,     14,2,19950412,1939,-54.4380, -34.6790, 1977,     56,     53.5,   2.7353,  33.7870,2,  33.7871,2,    328.5,3,  2.7322,    320.2,2,    12.49,2,    21.55,2,     1.47,2, -999.000,9, -999.000,9, -999.000,9, -999.000,9, -999.000,9,-999.0000,9,  -999.00,9,-999.000,9,   -999.0,9,   -999.0,9,-999.0,  -999.0,-999.0000,-999.000,-999.000,-999.000,-999.000
      74JC10_1,   A23,    55,  1,   5513,     13,2,19950412,1939,-54.4380, -34.6790, 1977,    106,    102.8,   0.3186,  33.9549,2,  33.9551,2,    311.6,3,  0.3148,    304.5,2,    28.92,2,    28.33,2,     1.93,2, -999.000,9, -999.000,9, -999.000,9, -999.000,9, -999.000,9,-999.0000,9,  -999.00,9,-999.000,9,   -999.0,9,   -999.0,9,-999.0,  -999.0,-999.0000,-999.000,-999.000,-999.000,-999.000
      74JC10_1,   A23,    55,  1,   5512,     12,2,19950412,1939,-54.4380, -34.6790, 1977,    156,    152.0,   1.6167,  34.1899,2,  34.2001,2,    247.8,3,  1.6092,    234.8,2,    43.47,2,    32.10,2,     2.19,2, -999.000,9, -999.000,9, -999.000,9, -999.000,9, -999.000,9,-999.0000,9,  -999.00,9,-999.000,9,   -999.0,9,   -999.0,9,-999.0,  -999.0,-999.0000,-999.000,-999.000,-999.000,-999.000
      74JC10_1,   A23,    55,  1,   5511,     24,2,19950412,1939,-54.4380, -34.6790, 1977,    207,    201.7,   2.0118,  34.3085,2,  34.3121,2,    211.1,3,  2.0011,    207.3,2,    53.94,2,    33.28,2,     2.29,2, -999.000,9, -999.000,9, -999.000,9, -999.000,9, -999.000,9,-999.0000,9,  -999.00,9,-999.000,9,   -999.0,9,   -999.0,9,-999.0,  -999.0,-999.0000,-999.000,-999.000,-999.000,-999.000
      74JC10_1,   A23,    55,  1,   5510,     10,2,19950412,1939,-54.4380, -34.6790, 1977,    256,    250.8,   2.1414,  34.4003,2,  34.4020,2,    195.1,3,  2.1277,    188.2,2,    61.80,2,    33.78,2,     2.33,2, -999.000,9, -999.000,9, -999.000,9, -999.000,9, -999.000,9,-999.0000,9,  -999.00,9,-999.000,9,   -999.0,9,   -999.0,9,-999.0,  -999.0,-999.0000,-999.000,-999.000,-999.000,-999.000
      74JC10_1,   A23,    55,  1,   5509,      9,2,19950412,1939,-54.4380, -34.6790, 1977,    356,    349.9,   2.1619,  34.4988,2,  34.5011,2,    181.8,3,  2.1424,    175.0,2,    70.70,2,    33.93,2,     2.33,2, -999.000,9, -999.000,9, -999.000,9, -999.000,9, -999.000,9,-999.0000,9,  -999.00,9,-999.000,9,   -999.0,9,   -999.0,9,-999.0,  -999.0,-999.0000,-999.000,-999.000,-999.000,-999.000
      74JC10_1,   A23,    55,  1,   5508,      8,2,19950412,1939,-54.4380, -34.6790, 1977,    507,    499.1,   2.1076,  34.5634,2,  34.5647,2,    175.5,3,  2.0792,    171.5,2,    76.25,2,    33.62,2,     2.32,2, -999.000,9, -999.000,9, -999.000,9, -999.000,9, -999.000,9,-999.0000,9,  -999.00,9,-999.000,9,   -999.0,9,   -999.0,9,-999.0,  -999.0,-999.0000,-999.000,-999.000,-999.000,-999.000
      74JC10_1,   A23,    55,  1,   5507,     26,2,19950412,1939,-54.4380, -34.6790, 1977,    757,    748.5,   1.9968,  34.6543,2,  34.6547,2,    176.6,3,  1.9533,    172.0,2,    84.40,2,    32.69,2,     2.26,2, -999.000,9, -999.000,9, -999.000,9, -999.000,9, -999.000,9,-999.0000,9,  -999.00,9,-999.000,9,   -999.0,9,   -999.0,9,-999.0,  -999.0,-999.0000,-999.000,   1.992,-999.000,-999.000
      74JC10_1,   A23,    55,  1,   5506,      6,2,19950412,1939,-54.4380, -34.6790, 1977,   1007,    997.7,   1.7230,  34.7047,2,  34.7030,2,    183.3,3,  1.6650,    179.5,2,    92.90,2,    31.80,2,     2.20,2, -999.000,9, -999.000,9, -999.000,9, -999.000,9, -999.000,9,-999.0000,9,  -999.00,9,-999.000,9,   -999.0,9,   -999.0,9,-999.0,  -999.0,-999.0000,-999.000,-999.000,-999.000,-999.000
      74JC10_1,   A23,    55,  1,   5505,      5,2,19950412,1939,-54.4380, -34.6790, 1977,   1255,   1246.0,   1.4204,  34.7144,2,  34.7136,2,    194.2,3,  1.3484,    187.9,2,    99.17,2,    31.53,2,     2.20,2, -999.000,9, -999.000,9, -999.000,9, -999.000,9, -999.000,9,-999.0000,9,  -999.00,9,-999.000,9,   -999.0,9,   -999.0,9,-999.0,  -999.0,-999.0000,-999.000,-999.000,-999.000,-999.000
      74JC10_1,   A23,    55,  1,   5504,      4,2,19950412,1939,-54.4380, -34.6790, 1977,   1505,   1496.2,   1.2530,  34.7150,2,  34.7133,2,    199.3,3,  1.1654,    192.0,2,   102.68,2,    31.48,2,     2.17,2, -999.000,9, -999.000,9, -999.000,9, -999.000,9, -999.000,9,-999.0000,9,  -999.00,9,-999.000,9,   -999.0,9,   -999.0,9,-999.0,  1498.0,-999.0000,-999.000,   1.246,-999.000,-999.000
      74JC10_1,   A23,    55,  1,   5503,      3,2,19950412,1939,-54.4380, -34.6790, 1977,   1754,   1745.4,   1.1127,  34.7114,2,  34.7099,2,    203.5,3,  1.0088,    195.4,2,   106.88,2,    31.51,2,     2.19,2, -999.000,9, -999.000,9, -999.000,9, -999.000,9, -999.000,9,-999.0000,9,  -999.00,9,-999.000,9,   -999.0,9,   -999.0,9,-999.0,  -999.0,-999.0000,-999.000,-999.000,-999.000,-999.000
      74JC10_1,   A23,    55,  1,   5502,      2,2,19950412,1939,-54.4380, -34.6790, 1977,   1965,   1956.8,   0.9584,  34.7060,2,  34.7046,2,    203.3,3,  0.8410,    198.8,2,   108.73,2,    31.55,2,     2.18,2, -999.000,9, -999.000,9, -999.000,9, -999.000,9, -999.000,9,-999.0000,9,  -999.00,9,-999.000,9,   -999.0,9,   -999.0,9,-999.0,  -999.0,-999.0000,-999.000,-999.000,-999.000,-999.000
      74JC10_1,   A23,    55,  1,   5501,      1,2,19950412,1939,-54.4380, -34.6790, 1977,   1965,   1957.1,   0.9591,  34.7056,2,  34.7044,2,    201.6,3,  0.8417,    198.1,2,   108.73,2,    31.36,2,     2.18,2, -999.000,9, -999.000,9, -999.000,9, -999.000,9, -999.000,9,-999.0000,9,  -999.00,9,-999.000,9,   -999.0,9,   -999.0,9,-999.0,  1939.0,-999.0000,-999.000,   0.954,-999.000,-999.000
      74JC10_1,   A23,    56,  1,   5619,     19,2,19950412,2247,-54.2953, -34.6730, 3295,     14,     11.4,   2.3565,  33.8191,2,  33.8208,2,    331.3,3,  2.3559,    318.4,2,    16.37,2,    22.49,2,     1.48,2, -999.000,9, -999.000,9, -999.000,9, -999.000,9, -999.000,9,-999.0000,9,  -999.00,9,-999.000,9,   2117.5,6,    334.6,2,   4.0,  -999.0,-999.0000,-999.000,-999.000,-999.000,-999.000
      74JC10_1,   A23,    56,  1,   5618,     18,2,19950412,2247,-54.2953, -34.6730, 3295,     14,     11.5,   2.3557,  33.8197,2,  33.8208,2,    331.3,3,  2.3550,    319.8,2,    17.56,2,    22.76,2,     1.51,2, -999.000,9, -999.000,9, -999.000,9, -999.000,9, -999.000,9,-999.0000,9,  -999.00,9,-999.000,9,   -999.0,9,   -999.0,9,-999.0,  -999.0,-999.0000,-999.000,-999.000,-999.000,-999.000
      74JC10_1,   A23,    56,  1,   5617,     17,2,19950412,2247,-54.2953, -34.6730, 3295,     59,     55.9,   2.2687,  33.8281,2,  33.8359,2,    323.0,3,  2.2658,    317.5,2,    17.62,2,    22.94,2,     1.56,2, -999.000,9, -999.000,9, -999.000,9, -999.000,9, -999.000,9,-999.0000,9,  -999.00,9,-999.000,9,   2122.2,3,    334.1,2,   4.0,  -999.0,-999.0000,-999.000,-999.000,-999.000,-999.000
      74JC10_1,   A23,    56,  1,   5616,     16,2,19950412,2247,-54.2953, -34.6730, 3295,    109,    105.0,   0.4382,  33.9704,2,  33.9673,2,    297.6,3,  0.4342,    299.3,2,    32.45,2,    28.77,2,     1.93,2, -999.000,9, -999.000,9, -999.000,9, -999.000,9, -999.000,9,-999.0000,9,  -999.00,9,-999.000,9,   -999.0,9,   -999.0,9,-999.0,  -999.0,-999.0000,-999.000,-999.000,-999.000,-999.000
      74JC10_1,   A23,    56,  1,   5615,     15,2,19950412,2247,-54.2953, -34.6730, 3295,    158,    153.3,   1.0679,  34.1397,2,  34.1440,2,    262.7,3,  1.0611,    250.8,2,    45.42,2,    32.06,2,     2.14,2, -999.000,9, -999.000,9, -999.000,9, -999.000,9, -999.000,9,-999.0000,9,  -999.00,9,-999.000,9,   2183.7,6,    477.2,2,   4.0,  -999.0,-999.0000,-999.000,-999.000,-999.000,-999.000
      74JC10_1,   A23,    56,  1,   5614,     14,2,19950412,2247,-54.2953, -34.6730, 3295,    208,    202.4,   1.6343,  34.2771,2,  34.2878,2,    223.1,3,  1.6242,    213.4,2,    57.42,2,    33.70,2,     2.27,2, -999.000,9, -999.000,9, -999.000,9, -999.000,9, -999.000,9,-999.0000,9,  -999.00,9,-999.000,9,   -999.0,9,   -999.0,9,-999.0,  -999.0,-999.0000,-999.000,-999.000,-999.000,-999.000
      74JC10_1,   A23,    56,  1,   5613,     13,2,19950412,2247,-54.2953, -34.6730, 3295,    258,    252.1,   1.8309,  34.3710,2,  34.3810,2,    198.1,3,  1.8177,    196.2,2,    66.47,2,    35.01,2,     2.36,2, -999.000,9, -999.000,9, -999.000,9, -999.000,9, -999.000,9,-999.0000,9,  -999.00,9,-999.000,9,   -999.0,9,   -999.0,9,-999.0,  -999.0,-999.0000,-999.000,-999.000,-999.000,-999.000
      74JC10_1,   A23,    56,  1,   5612,     12,2,19950412,2247,-54.2953, -34.6730, 3295,    309,    302.4,   1.9871,  34.4368,2,  34.4353,2,    185.8,3,  1.9707,    185.9,2,    69.81,2,    34.60,2,     2.34,2, -999.000,9, -999.000,9, -999.000,9, -999.000,9, -999.000,9,-999.0000,9,  -999.00,9,-999.000,9,   -999.0,9,   -999.0,9,-999.0,  -999.0,-999.0000,-999.000,-999.000,-999.000,-999.000
      74JC10_1,   A23,    56,  1,   5611,     24,2,19950412,2247,-54.2953, -34.6730, 3295,    509,    501.0,   1.9976,  34.6102,2,  34.6123,2,    178.7,3,  1.9695,    172.1,2,    84.00,2,    33.83,2,     2.28,2, -999.000,9, -999.000,9, -999.000,9, -999.000,9, -999.000,9,-999.0000,9,  -999.00,9,-999.000,9,   2240.0,6,    517.0,2,   4.0,  -999.0,-999.0000,-999.000,-999.000,-999.000,-999.000
      74JC10_1,   A23,    56,  1,   5610,     10,2,19950412,2247,-54.2953, -34.6730, 3295,    760,    750.2,   1.8982,  34.6813,2,  34.6802,2,    182.8,3,  1.8551,    174.8,2,    91.64,2,    32.78,2,     2.21,2, -999.000,9, -999.000,9, -999.000,9, -999.000,9, -999.000,9,-999.0000,9,  -999.00,9,-999.000,9,   -999.0,9,   -999.0,9,-999.0,  -999.0,-999.0000,-999.000,-999.000,-999.000,-999.000
      74JC10_1,   A23,    56,  1,   5609,      9,2,19950412,2247,-54.2953, -34.6730, 3295,   1007,    995.7,   1.6369,  34.7110,2,  34.7097,2,    189.2,3,  1.5797,    181.4,2,    98.48,2,    32.34,2,     2.17,2, -999.000,9, -999.000,9, -999.000,9, -999.000,9, -999.000,9,-999.0000,9,  -999.00,9,-999.000,9,   2244.7,6,    499.9,2,   4.0,  -999.0,-999.0000,-999.000,-999.000,-999.000,-999.000
      74JC10_1,   A23,    56,  1,   5608,      8,2,19950412,2247,-54.2953, -34.6730, 3295,   1246,   1233.8,   1.3901,  34.7139,2,  34.7140,2,    195.5,3,  1.3192,    188.2,2,   102.68,2,    32.10,2,     2.15,2, -999.000,9, -999.000,9, -999.000,9, -999.000,9, -999.000,9,-999.0000,9,  -999.00,9,-999.000,9,   -999.0,9,   -999.0,9,-999.0,  -999.0,-999.0000,-999.000,-999.000,-999.000,-999.000
      74JC10_1,   A23,    56,  1,   5607,     26,2,19950412,2247,-54.2953, -34.6730, 3295,   1494,   1481.6,   1.2119,  34.7129,2,  34.7125,2,    197.9,3,  1.1258,    192.9,2,   106.19,2,    32.06,2,     2.15,2, -999.000,9, -999.000,9, -999.000,9, -999.000,9, -999.000,9,-999.0000,9,  -999.00,9,-999.000,9,   -999.0,9,   -999.0,9,-999.0,  -999.0,-999.0000,-999.000,   1.205,-999.000,-999.000
      74JC10_1,   A23,    56,  1,   5606,      6,2,19950412,2247,-54.2953, -34.6730, 3295,   1753,   1740.6,   0.9063,  34.7031,2,  34.7032,2,    201.1,3,  0.8057,    198.5,2,   112.05,2,    32.05,2,     2.15,2, -999.000,9, -999.000,9, -999.000,9, -999.000,9, -999.000,9,-999.0000,9,  -999.00,9,-999.000,9,   -999.0,9,   -999.0,9,-999.0,  -999.0,-999.0000,-999.000,-999.000,-999.000,-999.000
      74JC10_1,   A23,    56,  1,   5605,      5,2,19950412,2247,-54.2953, -34.6730, 3295,   2005,   1993.3,   0.7869,  34.6993,2,  34.6987,2,    203.9,3,  0.6694,    202.7,2,   114.20,2,    32.19,2,     2.16,2, -999.000,9, -999.000,9, -999.000,9, -999.000,9, -999.000,9,-999.0000,9,  -999.00,9,-999.000,9,   -999.0,9,   -999.0,9,-999.0,  -999.0,-999.0000,-999.000,-999.000,-999.000,-999.000
      74JC10_1,   A23,    56,  1,   5604,      4,2,19950412,2247,-54.2953, -34.6730, 3295,   2488,   2477.3,   0.5989,  34.6905,2,  34.6903,2,    212.8,3,  0.4467,    205.2,2,   116.05,2,    32.35,2,     2.18,2, -999.000,9, -999.000,9, -999.000,9, -999.000,9, -999.000,9,-999.0000,9,  -999.00,9,-999.000,9,   2242.5,2,    473.0,2,   4.0,  2483.0,-999.0000,-999.000,   0.591,-999.000,-999.000
      74JC10_1,   A23,    56,  1,   5603,      3,2,19950412,2247,-54.2953, -34.6730, 3295,   2996,   2986.2,   0.4670,  34.6831,2,  34.6824,2,    221.3,3,  0.2744,    211.8,2,   118.01,2,    32.42,2,     2.18,2, -999.000,9, -999.000,9, -999.000,9, -999.000,9, -999.000,9,-999.0000,9,  -999.00,9,-999.000,9,   2244.4,2,    470.3,2,   4.0,  -999.0,-999.0000,-999.000,-999.000,-999.000,-999.000
      74JC10_1,   A23,    56,  1,   5601,      1,2,19950412,2247,-54.2953, -34.6730, 3295,   3299,   3290.2,   0.3445,  34.6758,2,  34.6759,2,    224.4,3,  0.1274,    217.2,2,   119.96,2,    32.49,2,     2.23,2, -999.000,9, -999.000,9, -999.000,9, -999.000,9, -999.000,9,-999.0000,9,  -999.00,9,-999.000,9,   2243.0,6,    462.6,2,   4.0,  3270.0,-999.0000,-999.000,   0.339,-999.000,-999.000
      74JC10_1,   A23,    56,  1,   5602,      2,2,19950412,2247,-54.2953, -34.6730, 3295,   3301,   3292.1,   0.3434,  34.6757,2,  34.6757,2,    222.1,3,  0.1261,    217.9,2,   119.08,2,    32.29,2,     2.19,2, -999.000,9, -999.000,9, -999.000,9, -999.000,9, -999.000,9,-999.0000,9,  -999.00,9,-999.000,9,   -999.0,9,   -999.0,9,-999.0,  -999.0,-999.0000,-999.000,-999.000,-999.000,-999.000