BOTTLE,20220810CCHSIOAMB
EXPOCODE,SECT_ID,STNNBR,CASTNO,SAMPNO,BTLNBR,BTLNBR_FLAG_W,DATE,TIME,LATITUDE,LONGITUDE,DEPTH,CTDRAW,CTDPRS,CTDTMP,CTDSAL,CTDSAL_FLAG_W,SALNTY,SALNTY_FLAG_W,CTDOXY,CTDOXY_FLAG_W,THETA,OXYGEN,OXYGEN_FLAG_W,SILCAT,SILCAT_FLAG_W,NO2+NO3,NO2+NO3_FLAG_W,PHSPHT,PHSPHT_FLAG_W,CFC-11,CFC-11_FLAG_W,CFC-12,CFC-12_FLAG_W,CFC113,CFC113_FLAG_W,CCL4,CCL4_FLAG_W,TRITUM,TRITUM_FLAG_W,HELIUM,HELIUM_FLAG_W,DELHE3,DELHE3_FLAG_W,NEON,NEON_FLAG_W,TCARBN,TCARBN_FLAG_W,PCO2,PCO2_FLAG_W,PCO2TMP,REVPRS,HELIER,TRITER,REVTMP,NEONER,DELHER
,,,,,,,,,,,,,DBAR,ITS-90,PSS-78,,PSS-78,,UMOL/KG,,DEG C,UMOL/KG,,UMOL/KG,,UMOL/KG,,UMOL/KG,,PMOL/KG,,PMOL/KG,,PMOL/KG,,PMOL/KG,,TU,,NMOL/KG,,PERCNT,,NMOL/KG,,UMOL/KG,,UATM,,DEG C,DBAR,NMOL/KG,TU,ITS-90,NMOL/KG,PERCNT
      74JC10_1,   A23,    79,  1,   7923,     23,2,19950423,0706,-48.9150, -35.9495, 5235,     12,      8.9,   9.2020,  34.0490,2,  34.0497,2,    291.3,3,  9.2010,    278.8,2,     3.86,2,    11.92,2,     1.03,2,    4.128,2,    2.111,2,    0.335,2,    4.625,2,    0.287,2,   1.7760,2,    -1.42,2,   7.561,2,   -999.0,9,   -999.0,9,-999.0,  -999.0,  0.0070,   0.009,-999.000,   0.023,   0.300
      74JC10_1,   A23,    79,  1,   7922,     25,2,19950423,0706,-48.9150, -35.9495, 5235,     60,     56.2,   7.0295,  34.0255,2,  34.0300,2,    290.0,3,  7.0243,    279.6,2,     5.53,2,    17.61,2,     1.35,2,    4.478,2,    2.303,2,    0.390,2,    5.015,2, -999.000,9,-999.0000,9,  -999.00,9,-999.000,9,   -999.0,9,   -999.0,9,-999.0,  -999.0,-999.0000,-999.000,-999.000,-999.000,-999.000
      74JC10_1,   A23,    79,  1,   7921,     21,2,19950423,0706,-48.9150, -35.9495, 5235,    109,    104.7,   4.6703,  34.1679,2,  34.1623,2,    276.9,3,  4.6626,    275.2,2,    10.99,2,    23.36,2,     1.67,2,    4.580,2,    2.283,2,    0.394,2,    5.072,2, -999.000,9,   1.7780,2,    -1.26,2,   7.733,2,   -999.0,9,   -999.0,9,-999.0,  -999.0,  0.0070,-999.000,-999.000,   0.024,   0.300
      74JC10_1,   A23,    79,  1,   7920,     27,2,19950423,0706,-48.9150, -35.9495, 5235,    155,    150.2,   4.2372,  34.1611,2,  34.1597,2,    276.4,3,  4.2266,    281.1,2,    12.52,2,    23.42,2,     1.62,2,    4.602,2,    2.295,2,    0.389,2,    5.146,2,    0.221,2,-999.0000,9,  -999.00,9,-999.000,9,   -999.0,9,   -999.0,9,-999.0,  -999.0,-999.0000,-999.000,   4.237,-999.000,-999.000
      74JC10_1,   A23,    79,  1,   7919,     19,2,19950423,0706,-48.9150, -35.9495, 5235,    252,    245.8,   3.7088,  34.1521,2,  34.1509,2,    258.2,3,  3.6923,    272.5,2,    16.63,2,    25.47,2,     1.75,2,    4.191,2,    2.062,2,    0.319,2,    4.706,2, -999.000,9,   1.7810,3,    -0.83,3,   7.818,3,   -999.0,9,   -999.0,9,-999.0,  -999.0,  0.0070,-999.000,-999.000,   0.024,   0.300
      74JC10_1,   A23,    79,  1,   7918,     18,2,19950423,0706,-48.9150, -35.9495, 5235,    350,    342.7,   3.1546,  34.1487,2,  34.1468,2,    264.5,3,  3.1329,    264.6,2,    22.35,2,    27.38,2,     1.86,2,    3.871,2,    1.847,2,    0.289,2,    4.269,2, -999.000,9,-999.0000,9,  -999.00,9,-999.000,9,   -999.0,9,   -999.0,9,-999.0,  -999.0,-999.0000,-999.000,-999.000,-999.000,-999.000
      74JC10_1,   A23,    79,  1,   7917,     17,2,19950423,0706,-48.9150, -35.9495, 5235,    501,    491.8,   3.0376,  34.2436,2,  34.2442,2,    233.9,3,  3.0063,    224.8,2,    38.72,2,    30.87,2,     2.10,2,    2.377,2,    1.090,2,    0.152,2,    2.765,2, -999.000,9,   1.8160,2,     2.22,2,   7.878,2,   -999.0,9,   -999.0,9,-999.0,  -999.0,  0.0070,-999.000,-999.000,   0.024,   0.300
      74JC10_1,   A23,    79,  1,   7916,     16,2,19950423,0706,-48.9150, -35.9495, 5235,    750,    739.8,   2.6929,  34.4194,2,  34.4206,2,    196.4,3,  2.6461,    187.4,2,    58.03,2,    33.51,2,     2.26,2, -999.000,9, -999.000,9, -999.000,9, -999.000,9,    0.038,2,-999.0000,9,  -999.00,9,-999.000,9,   -999.0,9,   -999.0,9,-999.0,  -999.0,-999.0000,   0.003,-999.000,-999.000,-999.000
      74JC10_1,   A23,    79,  1,   7915,     15,2,19950423,0706,-48.9150, -35.9495, 5235,   1000,    987.8,   2.5692,  34.5555,2,  34.5563,2,    187.9,3,  2.5055,    174.9,2,    68.87,2,    33.28,2,     2.28,2,    0.288,2,    0.158,2,    0.000,2,    0.604,2, -999.000,9,   1.8270,3,     6.64,3,   7.935,3,   -999.0,9,   -999.0,9,-999.0,  -999.0,  0.0070,-999.000,-999.000,   0.025,   0.300
      74JC10_1,   A23,    79,  1,   7914,     14,2,19950423,0706,-48.9150, -35.9495, 5235,   1252,   1239.5,   2.6188,  34.6613,2,  34.6602,2,    189.4,3,  2.5357,    177.9,2,    70.33,2,    31.56,2,     2.13,2,    0.122,2,    0.061,2,    0.000,2,    0.351,2, -999.000,9,-999.0000,9,  -999.00,9,-999.000,9,   -999.0,9,   -999.0,9,-999.0,  -999.0,-999.0000,-999.000,-999.000,-999.000,-999.000
      74JC10_1,   A23,    79,  1,   7913,     13,2,19950423,0706,-48.9150, -35.9495, 5235,   1501,   1488.1,   2.5078,  34.7295,2,  34.7284,2,    195.0,3,  2.4062,    185.6,2,    72.20,2,    29.61,2,     2.04,2,    0.064,2,    0.040,2,    0.000,2,    0.237,2, -999.000,9,   1.8510,2,     9.27,2,   7.988,2,   -999.0,9,   -999.0,9,-999.0,  -999.0,  0.0070,-999.000,-999.000,   0.025,   0.300
      74JC10_1,   A23,    79,  1,   7912,     12,2,19950423,0706,-48.9150, -35.9495, 5235,   1754,   1740.4,   2.7126,  34.8181,2,  34.8180,2,    209.5,3,  2.5874,    207.2,2,    58.41,2,    25.91,2,     1.77,2,    0.012,3,    0.019,2,    0.000,2,    0.161,2,    0.018,2,   1.8580,3,     6.73,3,   7.985,3,   -999.0,9,   -999.0,9,-999.0,  -999.0,  0.0070,   0.008,-999.000,   0.025,   0.300
      74JC10_1,   A23,    79,  1,   7911,     24,2,19950423,0706,-48.9150, -35.9495, 5235,   2004,   1990.5,   2.1128,  34.7594,2,  34.7579,2,    198.0,3,  1.9750,    191.8,2,    82.13,2,    29.51,2,     1.99,2,    0.026,3,    0.024,2,    0.000,2,    0.144,2, -999.000,9,-999.0000,9,  -999.00,9,-999.000,9,   -999.0,9,   -999.0,9,-999.0,  -999.0,-999.0000,-999.000,-999.000,-999.000,-999.000
      74JC10_1,   A23,    79,  1,   7910,     10,2,19950423,0706,-48.9150, -35.9495, 5235,   2356,   2343.5,   1.8563,  34.7657,2,  34.7655,2,    206.3,3,  1.6922,    199.3,2,    86.44,2,    28.76,2,     1.98,2,    0.022,3,    0.029,2,    0.000,2,    0.124,2,    0.013,2,   1.8670,2,     9.42,2,   8.061,2,   -999.0,9,   -999.0,9,-999.0,  -999.0,  0.0070,   0.002,-999.000,   0.025,   0.300
      74JC10_1,   A23,    79,  1,   7909,      9,2,19950423,0706,-48.9150, -35.9495, 5235,   2708,   2696.7,   1.2800,  34.7230,2,  34.7227,2,    203.8,3,  1.0956,    197.2,2,   105.51,2,    31.18,2,     2.17,2,    0.078,2,    0.032,2,    0.000,2,    0.195,2, -999.000,9,-999.0000,9,  -999.00,9,-999.000,9,   -999.0,9,   -999.0,9,-999.0,  -999.0,-999.0000,-999.000,-999.000,-999.000,-999.000
      74JC10_1,   A23,    79,  1,   7908,      8,2,19950423,0706,-48.9150, -35.9495, 5235,   3011,   2999.7,   0.9942,  34.7068,2,  34.7077,2,    207.8,3,  0.7885,    200.4,2,   111.95,2,    31.72,2,     2.15,2,    0.145,2,    0.090,2,    0.002,2,    0.290,2, -999.000,9,-999.0000,9,  -999.00,9,-999.000,9,   -999.0,9,   -999.0,9,-999.0,  -999.0,-999.0000,-999.000,-999.000,-999.000,-999.000
      74JC10_1,   A23,    79,  1,   7907,     26,2,19950423,0706,-48.9150, -35.9495, 5235,   3365,   3354.7,   0.7091,  34.6939,2,  34.6944,2,    212.4,3,  0.4769,    206.2,2,   117.03,2,    31.97,2,     2.17,2,    0.198,2,    0.109,2,    0.004,2,    0.385,2, -999.000,9,   1.7020,4,     8.45,2,-999.000,9,   -999.0,9,   -999.0,9,-999.0,  -999.0,  0.0070,-999.000,   0.703,-999.000,   0.300
      74JC10_1,   A23,    79,  1,   7906,      6,2,19950423,0706,-48.9150, -35.9495, 5235,   3718,   3708.2,   0.4572,  34.6823,2,  34.6828,3,    217.2,3,  0.1973,    211.7,2,   121.03,2,    32.29,2,     2.18,2,    0.212,2,    0.130,2,    0.000,2,    0.447,2,    0.018,2,   1.8780,2,     7.78,2,   8.188,2,   -999.0,9,   -999.0,9,-999.0,  -999.0,  0.0070,   0.011,-999.000,   0.025,   0.300
      74JC10_1,   A23,    79,  1,   7905,      5,2,19950423,0706,-48.9150, -35.9495, 5235,   4021,   4012.0,   0.3208,  34.6756,2,  34.6763,2,    220.5,3,  0.0342,    215.1,2,   123.57,2,    32.34,2,     2.20,2,    0.196,2,    0.117,2,    0.000,2,    0.433,2,    0.020,2,-999.0000,9,  -999.00,9,-999.000,9,   -999.0,9,   -999.0,9,-999.0,  -999.0,-999.0000,   0.002,-999.000,-999.000,-999.000
      74JC10_1,   A23,    79,  1,   7904,      4,2,19950423,0706,-48.9150, -35.9495, 5235,   4528,   4519.8,   0.2052,  34.6708,2,  34.6716,2,    225.7,3, -0.1312,    218.4,2,   125.91,2,    32.57,2,     2.24,2,    0.126,3,    0.117,2,    0.000,2,    0.381,2,    0.019,2,   1.8960,2,     6.92,2,   8.284,2,   -999.0,9,   -999.0,9,-999.0,  4527.0,  0.0070,   0.004,   0.200,   0.026,   0.300
      74JC10_1,   A23,    79,  1,   7903,      3,2,19950423,0706,-48.9150, -35.9495, 5235,   5034,   5027.2,   0.1829,  34.6677,2,  34.6681,2,    230.4,3, -0.2093,    220.8,2,   126.11,2,    32.47,2,     2.20,2,    0.211,2,    0.129,2,    0.000,2,    0.464,2,    0.025,2,   2.4160,4,     6.20,2,   9.686,4,   -999.0,9,   -999.0,9,-999.0,  -999.0,  0.0090,   0.002,-999.000,   0.030,   0.300
      74JC10_1,   A23,    79,  1,   7902,      2,2,19950423,0706,-48.9150, -35.9495, 5235,   5340,   5334.4,   0.0678,  34.6622,2,  34.6616,2,    235.7,3, -0.3561,    227.5,2,   125.13,2,    32.34,2,     2.23,2,    0.374,2,    0.214,2,    0.005,2,    0.667,2,    0.031,2,-999.0000,9,  -999.00,9,-999.000,9,   -999.0,9,   -999.0,9,-999.0,  -999.0,-999.0000,   0.007,-999.000,-999.000,-999.000
      74JC10_1,   A23,    79,  1,   7901,      1,2,19950423,0706,-48.9150, -35.9495, 5235,   5343,   5337.0,   0.0798,  34.6604,2,  34.6618,2,    235.8,3, -0.3448,    229.6,2,   125.62,2,    32.36,2,     2.19,2,    0.309,2,    0.175,2,    0.009,2,    0.573,2,    0.034,2,   1.8870,2,     6.29,2,   8.251,2,   -999.0,9,   -999.0,9,-999.0,  5333.0,  0.0070,   0.013,   0.065,   0.026,   0.300
      74JC10_1,   A23,    80,  1,   8023,     23,2,19950423,1325,-48.6005, -35.9950, 5374,     10,      6.4,  10.4801,  34.3421,2,  34.3176,2,    276.1,3, 10.4794,    270.4,2,     2.99,2,     7.06,2,     0.72,2, -999.000,9, -999.000,9, -999.000,9, -999.000,9, -999.000,9,-999.0000,9,  -999.00,9,-999.000,9,   2051.4,6,    314.2,2,   4.0,  -999.0,-999.0000,-999.000,-999.000,-999.000,-999.000
      74JC10_1,   A23,    80,  1,   8022,     25,2,19950423,1325,-48.6005, -35.9950, 5374,     60,     55.7,   9.3724,  34.2326,2,  34.2332,2,    275.3,3,  9.3663,    266.7,2,     3.54,2,    11.10,2,     0.94,2, -999.000,9, -999.000,9, -999.000,9, -999.000,9, -999.000,9,-999.0000,9,  -999.00,9,-999.000,9,   2064.8,6,    333.1,2,   4.0,  -999.0,-999.0000,-999.000,-999.000,-999.000,-999.000
      74JC10_1,   A23,    80,  1,   8021,     21,2,19950423,1325,-48.6005, -35.9950, 5374,    110,    105.5,   6.3868,  34.3045,2,  34.2652,2,    263.7,3,  6.3776,    255.1,2,     8.05,2,    21.25,2,     1.48,2, -999.000,9, -999.000,9, -999.000,9, -999.000,9, -999.000,9,-999.0000,9,  -999.00,9,-999.000,9,   2217.8,4,    398.7,2,   4.0,  -999.0,-999.0000,-999.000,-999.000,-999.000,-999.000
      74JC10_1,   A23,    80,  1,   8020,     27,2,19950423,1325,-48.6005, -35.9950, 5374,    159,    153.9,   5.2970,  34.2304,2,  34.2221,2,    264.1,3,  5.2849,    257.2,2,    10.55,2,    23.64,2,     1.61,2, -999.000,9, -999.000,9, -999.000,9, -999.000,9, -999.000,9,-999.0000,9,  -999.00,9,-999.000,9,   2126.3,6,    422.5,2,   4.0,  -999.0,-999.0000,-999.000,   5.288,-999.000,-999.000
      74JC10_1,   A23,    80,  1,   8019,     19,2,19950423,1325,-48.6005, -35.9950, 5374,    260,    253.8,   4.3534,  34.1832,2,  34.1809,2,    277.8,3,  4.3351,    270.4,2,    13.53,2,    24.58,2,     1.68,2, -999.000,9, -999.000,9, -999.000,9, -999.000,9, -999.000,9,-999.0000,9,  -999.00,9,-999.000,9,   -999.0,9,   -999.0,9,-999.0,  -999.0,-999.0000,-999.000,-999.000,-999.000,-999.000
      74JC10_1,   A23,    80,  1,   8018,     18,2,19950423,1325,-48.6005, -35.9950, 5374,    360,    351.9,   3.8624,  34.1766,2,  34.1762,2,    273.8,3,  3.8381,    260.6,2,    18.45,2,    26.94,2,     1.89,2, -999.000,9, -999.000,9, -999.000,9, -999.000,9, -999.000,9,-999.0000,9,  -999.00,9,-999.000,9,   -999.0,9,   -999.0,9,-999.0,  -999.0,-999.0000,-999.000,-999.000,-999.000,-999.000
      74JC10_1,   A23,    80,  1,   8017,     17,2,19950423,1325,-48.6005, -35.9950, 5374,    509,    499.9,   3.1063,  34.1806,2,  34.1828,2,    252.1,3,  3.0742,    248.8,2,    26.97,2,    28.86,2,     1.97,2, -999.000,9, -999.000,9, -999.000,9, -999.000,9, -999.000,9,-999.0000,9,  -999.00,9,-999.000,9,   -999.0,9,   -999.0,9,-999.0,  -999.0,-999.0000,-999.000,-999.000,-999.000,-999.000
      74JC10_1,   A23,    80,  1,   8016,     16,2,19950423,1325,-48.6005, -35.9950, 5374,    761,    750.8,   2.8864,  34.3176,2,  34.3178,2,    212.3,3,  2.8378,    207.1,2,    46.12,2,    32.52,2,     2.23,2, -999.000,9, -999.000,9, -999.000,9, -999.000,9, -999.000,9,-999.0000,9,  -999.00,9,-999.000,9,   -999.0,9,   -999.0,9,-999.0,  -999.0,-999.0000,-999.000,-999.000,-999.000,-999.000
      74JC10_1,   A23,    80,  1,   8015,     15,2,19950423,1325,-48.6005, -35.9950, 5374,   1012,    999.5,   2.6459,  34.4785,2,  34.4793,2,    188.2,3,  2.5809,    179.8,2,    64.21,2,    33.62,2,     2.28,2, -999.000,9, -999.000,9, -999.000,9, -999.000,9, -999.000,9,-999.0000,9,  -999.00,9,-999.000,9,   -999.0,9,   -999.0,9,-999.0,  -999.0,-999.0000,-999.000,-999.000,-999.000,-999.000
      74JC10_1,   A23,    80,  1,   8014,     14,2,19950423,1325,-48.6005, -35.9950, 5374,   1258,   1245.0,   2.5973,  34.5905,2,  34.5916,2,    180.6,3,  2.5141,    174.4,2,    70.44,2,    33.00,2,     2.24,2,    0.219,2,    0.114,2,    0.000,2,    0.520,2, -999.000,9,-999.0000,9,  -999.00,9,-999.000,9,   -999.0,9,   -999.0,9,-999.0,  -999.0,-999.0000,-999.000,-999.000,-999.000,-999.000
      74JC10_1,   A23,    80,  1,   8013,     13,2,19950423,1325,-48.6005, -35.9950, 5374,   1510,   1496.7,   2.5718,  34.6764,2,  34.6759,2,    186.6,3,  2.4689,    178.4,2,    72.96,2,    31.42,2,     2.19,2,    0.108,2,    0.058,2,    0.000,2,    0.329,2, -999.000,9,-999.0000,9,  -999.00,9,-999.000,9,   -999.0,9,   -999.0,9,-999.0,  -999.0,-999.0000,-999.000,-999.000,-999.000,-999.000
      74JC10_1,   A23,    80,  1,   8012,     12,2,19950423,1325,-48.6005, -35.9950, 5374,   1763,   1749.4,   2.6704,  34.7644,2,  34.7636,2,    198.6,3,  2.5451,    193.1,2,    65.81,2,    28.53,2,     1.94,2, -999.000,9, -999.000,9, -999.000,9, -999.000,9, -999.000,9,-999.0000,9,  -999.00,9,-999.000,9,   -999.0,9,   -999.0,9,-999.0,  -999.0,-999.0000,-999.000,-999.000,-999.000,-999.000
      74JC10_1,   A23,    80,  1,   8011,     24,2,19950423,1325,-48.6005, -35.9950, 5374,   2014,   2001.4,   2.5517,  34.7937,2,  34.7929,2,    208.4,3,  2.4062,    200.3,2,    66.11,2,    27.61,2,     1.86,2,    0.020,2,    0.014,2,    0.000,2,    0.161,2, -999.000,9,   1.8510,2,     8.08,2,-999.000,9,   -999.0,9,   -999.0,9,-999.0,  -999.0,  0.0070,-999.000,-999.000,-999.000,   0.300
      74JC10_1,   A23,    80,  1,   8010,     10,2,19950423,1325,-48.6005, -35.9950, 5374,   2363,   2350.2,   1.8169,  34.7348,2,  34.7349,2,    191.8,3,  1.6530,    189.1,2,    92.57,2,    30.82,2,     2.10,2, -999.000,9, -999.000,9, -999.000,9, -999.000,9, -999.000,9,-999.0000,9,  -999.00,9,-999.000,9,   2236.6,2,    484.1,2,   4.0,  -999.0,-999.0000,-999.000,-999.000,-999.000,-999.000
      74JC10_1,   A23,    80,  1,   8009,      9,2,19950423,1325,-48.6005, -35.9950, 5374,   2709,   2697.3,   1.4719,  34.7351,2,  34.7345,2,    201.0,3,  1.2835,    196.0,2,   101.41,2,    30.71,2,     2.08,2,    0.016,2,    0.006,2,    0.000,2,    0.143,2, -999.000,9,-999.0000,9,  -999.00,9,-999.000,9,   -999.0,9,   -999.0,9,-999.0,  -999.0,-999.0000,-999.000,-999.000,-999.000,-999.000
      74JC10_1,   A23,    80,  1,   8008,      8,2,19950423,1325,-48.6005, -35.9950, 5374,   3009,   2998.3,   1.1631,  34.7140,2,  34.7146,2,    203.7,3,  0.9537,    198.4,2,   109.02,2,    31.64,2,     2.14,2, -999.000,9, -999.000,9, -999.000,9, -999.000,9, -999.000,9,-999.0000,9,  -999.00,9,-999.000,9,   -999.0,9,   -999.0,9,-999.0,  -999.0,-999.0000,-999.000,-999.000,-999.000,-999.000
      74JC10_1,   A23,    80,  1,   8007,     26,2,19950423,1325,-48.6005, -35.9950, 5374,   3365,   3354.4,   0.8705,  34.6984,2,  34.7001,2,    209.0,3,  0.6344,    203.4,2,   114.98,2,    32.01,2,     2.19,2, -999.000,9, -999.000,9, -999.000,9, -999.000,9, -999.000,9,-999.0000,9,  -999.00,9,-999.000,9,   -999.0,9,   -999.0,9,-999.0,  -999.0,-999.0000,-999.000,   0.868,-999.000,-999.000
      74JC10_1,   A23,    80,  1,   8006,      6,2,19950423,1325,-48.6005, -35.9950, 5374,   3723,   3713.5,   0.5995,  34.6899,2,  34.6908,2,    214.7,3,  0.3352,    209.8,2,   118.59,2,    32.17,2,     2.26,2, -999.000,9, -999.000,9, -999.000,9, -999.000,9, -999.000,9,-999.0000,9,  -999.00,9,-999.000,9,   -999.0,9,   -999.0,9,-999.0,  -999.0,-999.0000,-999.000,-999.000,-999.000,-999.000
      74JC10_1,   A23,    80,  1,   8005,      5,2,19950423,1325,-48.6005, -35.9950, 5374,   4026,   4017.0,   0.4170,  34.6802,2,  34.6804,2,    219.0,3,  0.1272,    213.2,2,   121.23,2,    32.24,2,     2.22,2, -999.000,9, -999.000,9, -999.000,9, -999.000,9, -999.000,9,-999.0000,9,  -999.00,9,-999.000,9,   2245.3,6,    461.9,2,   4.0,  -999.0,-999.0000,-999.000,-999.000,-999.000,-999.000
      74JC10_1,   A23,    80,  1,   8004,      4,2,19950423,1325,-48.6005, -35.9950, 5374,   4532,   4523.9,   0.2566,  34.6720,2,  34.6724,2,    224.5,3, -0.0819,    217.9,2,   123.47,2,    32.39,2,     2.25,2, -999.000,9, -999.000,9, -999.000,9, -999.000,9, -999.000,9,-999.0000,9,  -999.00,9,-999.000,9,   -999.0,9,   -999.0,9,-999.0,  4534.0,-999.0000,-999.000,   0.251,-999.000,-999.000
      74JC10_1,   A23,    80,  1,   8003,      3,2,19950423,1325,-48.6005, -35.9950, 5374,   5043,   5035.9,   0.2253,  34.6700,2,  34.6684,2,    227.7,3, -0.1694,    219.4,2,   123.96,2,    32.47,2,     2.24,2, -999.000,9, -999.000,9, -999.000,9, -999.000,9, -999.000,9,-999.0000,9,  -999.00,9,-999.000,9,   -999.0,9,   -999.0,9,-999.0,  -999.0,-999.0000,-999.000,-999.000,-999.000,-999.000
      74JC10_1,   A23,    80,  1,   8001,      1,2,19950423,1325,-48.6005, -35.9950, 5374,   5485,   5479.0,   0.1779,  34.6650,2,  34.6637,2,    231.0,3, -0.2673,    223.2,2,   126.99,2,    32.17,2,     2.21,2,    0.274,2,    0.140,2,    0.000,2,    0.587,2, -999.000,9,   1.9080,2,     6.14,2,   8.383,3,   2245.3,6,    457.0,2,   4.0,  5479.0,  0.0070,-999.000,   0.165,   0.026,   0.300
      74JC10_1,   A23,    80,  1,   8002,      2,2,19950423,1325,-48.6005, -35.9950, 5374,   5486,   5480.4,   0.1779,  34.6647,2,  34.6639,2,    230.9,3, -0.2675,    223.2,2,   126.70,2,    32.36,2,     2.27,2, -999.000,9, -999.000,9, -999.000,9, -999.000,9, -999.000,9,-999.0000,9,  -999.00,9,-999.000,9,   -999.0,9,   -999.0,9,-999.0,  -999.0,-999.0000,-999.000,-999.000,-999.000,-999.000