BOTTLE,20220810CCHSIOAMB
EXPOCODE,SECT_ID,STNNBR,CASTNO,SAMPNO,BTLNBR,BTLNBR_FLAG_W,DATE,TIME,LATITUDE,LONGITUDE,DEPTH,CTDRAW,CTDPRS,CTDTMP,CTDSAL,CTDSAL_FLAG_W,SALNTY,SALNTY_FLAG_W,CTDOXY,CTDOXY_FLAG_W,THETA,OXYGEN,OXYGEN_FLAG_W,SILCAT,SILCAT_FLAG_W,NO2+NO3,NO2+NO3_FLAG_W,PHSPHT,PHSPHT_FLAG_W,CFC-11,CFC-11_FLAG_W,CFC-12,CFC-12_FLAG_W,CFC113,CFC113_FLAG_W,CCL4,CCL4_FLAG_W,TRITUM,TRITUM_FLAG_W,HELIUM,HELIUM_FLAG_W,DELHE3,DELHE3_FLAG_W,NEON,NEON_FLAG_W,TCARBN,TCARBN_FLAG_W,PCO2,PCO2_FLAG_W,PCO2TMP,REVPRS,HELIER,TRITER,REVTMP,NEONER,DELHER
,,,,,,,,,,,,,DBAR,ITS-90,PSS-78,,PSS-78,,UMOL/KG,,DEG C,UMOL/KG,,UMOL/KG,,UMOL/KG,,UMOL/KG,,PMOL/KG,,PMOL/KG,,PMOL/KG,,PMOL/KG,,TU,,NMOL/KG,,PERCNT,,NMOL/KG,,UMOL/KG,,UATM,,DEG C,DBAR,NMOL/KG,TU,ITS-90,NMOL/KG,PERCNT
      74JC10_1,   A23,    59,  1,   5920,     27,2,19950413,1337,-53.5018, -34.8325, 3592,     10,      7.5,   2.2676,  33.8653,2,  33.8639,2,    328.1,3,  2.2672,    318.9,2,    23.22,2,    22.97,2,     1.47,2,    5.957,2,    2.676,2,    0.554,2,    6.866,2, -999.000,9,-999.0000,9,  -999.00,9,-999.000,9,   -999.0,9,   -999.0,9,-999.0,  -999.0,-999.0000,-999.000,   2.231,-999.000,-999.000
      74JC10_1,   A23,    59,  1,   5919,     19,2,19950413,1337,-53.5018, -34.8325, 3592,     10,      7.7,   2.2751,  33.8666,2,  33.8641,2,    328.1,3,  2.2747,    319.5,2,    25.70,2,    23.04,2,  -999.00,5,    5.701,2,    2.463,2,    0.541,2,    6.778,2,    0.155,2,   1.7940,2,    -1.08,2,   7.948,2,   -999.0,9,   -999.0,9,-999.0,  -999.0,  0.0070,   0.020,-999.000,   0.025,   0.300
      74JC10_1,   A23,    59,  1,   5918,     18,2,19950413,1337,-53.5018, -34.8325, 3592,     59,     56.4,   2.1592,  33.8716,2,  33.8752,2,    328.8,3,  2.1563,    317.2,3,    23.68,2,    23.21,2,     1.51,2,    5.878,2,    2.711,2,    0.554,2,    6.938,2, -999.000,9,-999.0000,9,  -999.00,9,-999.000,9,   -999.0,9,   -999.0,9,-999.0,  -999.0,-999.0000,-999.000,-999.000,-999.000,-999.000
      74JC10_1,   A23,    59,  1,   5917,     17,2,19950413,1337,-53.5018, -34.8325, 3592,    109,    105.4,   0.6508,  34.0997,2,  34.1021,2,    299.7,3,  0.6465,    276.4,2,    45.15,2,    30.15,2,     1.95,2,    4.829,2,    1.912,3,    0.431,2,    5.326,2, -999.000,9,-999.0000,9,  -999.00,9,-999.000,9,   -999.0,9,   -999.0,9,-999.0,  -999.0,-999.0000,-999.000,-999.000,-999.000,-999.000
      74JC10_1,   A23,    59,  1,   5916,     16,2,19950413,1337,-53.5018, -34.8325, 3592,    160,    155.1,   1.4533,  34.3241,2,  34.3270,2,    229.1,3,  1.4458,    214.7,3,    62.16,2,    33.80,2,     2.27,2,    2.522,2,    0.986,3,    0.117,2,    2.836,2,    0.068,2,   1.8220,2,     4.90,2,   8.024,2,   -999.0,9,   -999.0,9,-999.0,  -999.0,  0.0070,   0.003,-999.000,   0.025,   0.300
      74JC10_1,   A23,    59,  1,   5915,     15,2,19950413,1337,-53.5018, -34.8325, 3592,    209,    203.9,   1.3849,  34.3736,2,  34.3680,2,    213.2,3,  1.3751,    209.9,2,    66.87,2,    33.77,2,     2.25,2,    2.344,2,    1.007,2,    0.187,2,    2.602,2, -999.000,9,-999.0000,9,  -999.00,9,-999.000,9,   -999.0,9,   -999.0,9,-999.0,  -999.0,-999.0000,-999.000,-999.000,-999.000,-999.000
      74JC10_1,   A23,    59,  1,   5914,     14,2,19950413,1337,-53.5018, -34.8325, 3592,    260,    254.5,   1.4932,  34.4366,2,  34.4406,2,    201.9,3,  1.4806,    198.6,2,    74.00,2,    34.23,2,     2.27,2,    1.785,2,    0.690,3,    0.137,2,    2.053,2,    0.057,2,   1.8350,2,     6.24,2,   8.044,2,   -999.0,9,   -999.0,9,-999.0,  -999.0,  0.0070,   0.003,-999.000,   0.025,   0.300
      74JC10_1,   A23,    59,  1,   5913,     13,2,19950413,1337,-53.5018, -34.8325, 3592,    359,    352.0,   1.6986,  34.5417,2,  34.5417,2,    188.5,3,  1.6802,    183.3,2,    83.50,2,    34.19,2,     2.27,2,    1.081,2,    0.448,3,    0.091,2,    1.330,2, -999.000,9,-999.0000,9,  -999.00,9,-999.000,9,   -999.0,9,   -999.0,9,-999.0,  -999.0,-999.0000,-999.000,-999.000,-999.000,-999.000
      74JC10_1,   A23,    59,  1,   5912,     12,2,19950413,1337,-53.5018, -34.8325, 3592,    509,    500.2,   1.6169,  34.6130,2,  34.6134,2,    188.2,3,  1.5904,    183.9,2,    87.78,2,    33.42,2,     2.23,2,    0.818,2,    0.337,3,    0.058,2,    1.020,2,    0.042,2,   1.8380,2,     9.47,2,   8.004,2,   -999.0,9,   -999.0,9,-999.0,  -999.0,  0.0070,   0.004,-999.000,   0.025,   0.300
      74JC10_1,   A23,    59,  1,   5911,     24,2,19950413,1337,-53.5018, -34.8325, 3592,    758,    748.1,   1.6033,  34.6833,2,  34.6857,2,    189.1,3,  1.5621,    183.4,2,    96.12,2,    32.68,2,     2.16,2,    0.369,2,    0.168,2,    0.023,2,    0.518,2,    0.040,2,   1.8560,2,    10.71,2,-999.000,9,   -999.0,9,   -999.0,9,-999.0,  -999.0,  0.0070,-999.000,-999.000,-999.000,   0.300
      74JC10_1,   A23,    59,  1,   5910,     10,2,19950413,1337,-53.5018, -34.8325, 3592,   1008,    996.3,   1.4426,  34.7077,2,  34.7083,2,    193.1,3,  1.3869,    186.8,2,   102.78,2,    32.13,2,     2.14,2,    0.218,2,    0.089,3,    0.012,2,    0.361,2,    0.036,2,   1.8610,2,    11.32,2,   8.024,2,   -999.0,9,   -999.0,9,-999.0,  -999.0,  0.0070,   0.009,-999.000,   0.025,   0.300
      74JC10_1,   A23,    59,  1,   5909,      9,2,19950413,1337,-53.5018, -34.8325, 3592,   1258,   1245.5,   1.1944,  34.7051,2,  34.7060,2,    198.6,3,  1.1247,    193.0,2,   108.34,2,    32.23,2,     2.14,2,    0.270,2,    0.111,3,    0.015,2,    0.379,2,   -0.091,4,   1.8570,2,    11.01,2,   8.026,2,   -999.0,9,   -999.0,9,-999.0,  -999.0,  0.0070,   0.027,-999.000,   0.025,   0.300
      74JC10_1,   A23,    59,  1,   5908,      8,2,19950413,1337,-53.5018, -34.8325, 3592,   1510,   1497.5,   0.9860,  34.7010,2,  34.7020,2,    202.8,3,  0.9015,    196.3,2,   112.83,2,    32.20,2,     2.19,2,    0.260,2,    0.109,3,    0.018,2,    0.396,2,    0.027,2,   1.8750,2,     9.79,2,   8.133,2,   -999.0,9,   -999.0,9,-999.0,  -999.0,  0.0070,   0.002,-999.000,   0.025,   0.300
      74JC10_1,   A23,    59,  1,   5907,     26,2,19950413,1337,-53.5018, -34.8325, 3592,   1759,   1746.8,   0.8704,  34.7015,2,  34.7017,2,    205.5,3,  0.7698,    199.6,2,   117.91,2,    32.34,2,     2.17,2,    0.225,2,    0.089,3,    0.012,2,    0.366,2,    0.023,2,   1.8730,2,     9.62,2,-999.000,9,   -999.0,9,   -999.0,9,-999.0,  -999.0,  0.0070,-999.000,   0.864,-999.000,   0.300
      74JC10_1,   A23,    59,  1,   5906,      6,2,19950413,1337,-53.5018, -34.8325, 3592,   2010,   1997.9,   0.7387,  34.6955,2,  34.6954,2,    209.3,3,  0.6216,    202.8,2,   117.52,2,    32.45,2,     2.20,2,    0.267,2,    0.126,2,    0.014,2,    0.395,2,    0.021,2,   1.8670,2,    10.14,2,   8.150,2,   -999.0,9,   -999.0,9,-999.0,  -999.0,  0.0070,   0.009,-999.000,   0.025,   0.300
      74JC10_1,   A23,    59,  1,   5905,      5,2,19950413,1337,-53.5018, -34.8325, 3592,   2504,   2493.1,   0.4942,  34.6846,2,  34.6842,2,    214.9,3,  0.3427,    208.1,2,   120.25,2,    32.55,2,     2.20,2,    0.326,2,    0.164,2,    0.016,2,    0.502,2,    0.027,2,   1.8770,2,     9.02,2,   8.169,2,   -999.0,9,   -999.0,9,-999.0,  -999.0,  0.0070,   0.012,-999.000,   0.025,   0.300
      74JC10_1,   A23,    59,  1,   5904,      4,2,19950413,1337,-53.5018, -34.8325, 3592,   2997,   2987.1,   0.3408,  34.6763,2,  34.6765,2,    220.6,3,  0.1509,    212.6,2,   122.89,2,    32.68,2,     2.20,2,    0.358,2,    0.168,2,    0.012,2,    0.574,2,    0.043,2,   1.8640,2,     8.15,2,   8.158,2,   -999.0,9,   -999.0,9,-999.0,  2995.0,  0.0070,   0.006,   0.333,   0.025,   0.300
      74JC10_1,   A23,    59,  1,   5903,      3,2,19950413,1337,-53.5018, -34.8325, 3592,   3513,   3504.0,   0.0608,  34.6671,2,  34.6667,2,    230.1,3, -0.1690,    221.1,2,   128.06,2,    32.72,2,     2.22,2,    0.344,2,    0.167,2,    0.012,2,    0.590,2, -999.000,9,   1.8770,2,     7.67,2,   8.235,2,   -999.0,9,   -999.0,9,-999.0,  -999.0,  0.0070,-999.000,-999.000,   0.026,   0.300
      74JC10_1,   A23,    59,  1,   5902,      2,2,19950413,1337,-53.5018, -34.8325, 3592,   3608,   3599.2,   0.0403,  34.6668,2,  34.6663,2,    227.3,3, -0.1979,    221.8,2,   129.14,2,    32.68,2,     2.20,2,    0.323,2,    0.154,2,    0.001,2,    0.561,2, -999.000,9,-999.0000,9,  -999.00,9,-999.000,9,   -999.0,9,   -999.0,9,-999.0,  -999.0,-999.0000,-999.000,-999.000,-999.000,-999.000
      74JC10_1,   A23,    59,  1,   5901,      1,2,19950413,1337,-53.5018, -34.8325, 3592,   3608,   3599.5,   0.0406,  34.6660,2,  34.6663,2,    227.3,3, -0.1976,    221.8,2,   129.14,2,    32.57,2,     2.20,2,    0.311,2,    0.157,2,    0.005,2,    0.579,2,    0.032,2,   1.8710,2,     6.20,2,   8.133,2,   -999.0,9,   -999.0,9,-999.0,  3580.0,  0.0070,   0.011,   0.030,   0.025,   0.300
      74JC10_1,   A23,    60,  1,   6020,     27,2,19950413,1841,-53.0845, -34.9113, 3639,     14,     11.3,   2.8835,  33.8521,2,  33.8525,2,    325.3,3,  2.8829,    317.8,2,    14.22,2,    22.19,2,     1.45,2, -999.000,9, -999.000,9, -999.000,9, -999.000,9, -999.000,9,-999.0000,9,  -999.00,9,-999.000,9,   -999.0,9,   -999.0,9,-999.0,  -999.0,-999.0000,-999.000,   2.880,-999.000,-999.000
      74JC10_1,   A23,    60,  1,   6019,     19,2,19950413,1841,-53.0845, -34.9113, 3639,     14,     11.5,   2.8841,  33.8523,2,  33.8525,2,    325.3,3,  2.8834,    318.6,2,    16.34,2,    22.43,2,     1.47,2, -999.000,9, -999.000,9, -999.000,9, -999.000,9, -999.000,9,-999.0000,9,  -999.00,9,-999.000,9,   -999.0,9,   -999.0,9,-999.0,  -999.0,-999.0000,-999.000,-999.000,-999.000,-999.000
      74JC10_1,   A23,    60,  1,   6018,     18,2,19950413,1841,-53.0845, -34.9113, 3639,     59,     55.5,   2.8534,  33.8523,2,  33.8519,2,    329.8,3,  2.8502,    318.2,2,    14.91,2,    22.26,2,     1.43,2, -999.000,9, -999.000,9, -999.000,9, -999.000,9, -999.000,9,-999.0000,9,  -999.00,9,-999.000,9,   -999.0,9,   -999.0,9,-999.0,  -999.0,-999.0000,-999.000,-999.000,-999.000,-999.000
      74JC10_1,   A23,    60,  1,   6017,     17,2,19950413,1841,-53.0845, -34.9113, 3639,    109,    105.2,   1.0450,  34.0369,2,  34.0627,2,    308.4,3,  1.0404,    293.3,2,    35.37,2,    27.60,2,     1.82,2, -999.000,9, -999.000,9, -999.000,9, -999.000,9, -999.000,9,-999.0000,9,  -999.00,9,-999.000,9,   -999.0,9,   -999.0,9,-999.0,  -999.0,-999.0000,-999.000,-999.000,-999.000,-999.000
      74JC10_1,   A23,    60,  1,   6016,     16,2,19950413,1841,-53.0845, -34.9113, 3639,    157,    152.5,   0.8271,  34.2162,2,  34.2313,2,    256.6,3,  0.8206,    248.0,2,    55.93,2,    32.32,2,     2.12,2, -999.000,9, -999.000,9, -999.000,9, -999.000,9, -999.000,9,-999.0000,9,  -999.00,9,-999.000,9,   -999.0,9,   -999.0,9,-999.0,  -999.0,-999.0000,-999.000,-999.000,-999.000,-999.000
      74JC10_1,   A23,    60,  1,   6015,     15,2,19950413,1841,-53.0845, -34.9113, 3639,    203,    198.0,   0.9902,  34.3213,2,  34.3305,2,    233.9,3,  0.9813,    227.1,2,    66.28,2,    33.50,2,     2.21,2, -999.000,9, -999.000,9, -999.000,9, -999.000,9, -999.000,9,-999.0000,9,  -999.00,9,-999.000,9,   -999.0,9,   -999.0,9,-999.0,  -999.0,-999.0000,-999.000,-999.000,-999.000,-999.000
      74JC10_1,   A23,    60,  1,   6014,     14,2,19950413,1841,-53.0845, -34.9113, 3639,    260,    253.8,   1.4408,  34.4340,2,  34.4420,2,    206.4,3,  1.4284,    199.8,2,    72.94,2,    34.26,2,     2.26,2, -999.000,9, -999.000,9, -999.000,9, -999.000,9, -999.000,9,-999.0000,9,  -999.00,9,-999.000,9,   -999.0,9,   -999.0,9,-999.0,  -999.0,-999.0000,-999.000,-999.000,-999.000,-999.000
      74JC10_1,   A23,    60,  1,   6013,     13,2,19950413,1841,-53.0845, -34.9113, 3639,    359,    352.2,   1.5718,  34.5277,2,  34.5288,2,    194.4,3,  1.5538,    189.0,2,    79.65,2,    33.91,2,     2.25,2, -999.000,9, -999.000,9, -999.000,9, -999.000,9, -999.000,9,-999.0000,9,  -999.00,9,-999.000,9,   -999.0,9,   -999.0,9,-999.0,  -999.0,-999.0000,-999.000,-999.000,-999.000,-999.000
      74JC10_1,   A23,    60,  1,   6012,     12,2,19950413,1841,-53.0845, -34.9113, 3639,    510,    501.3,   1.6042,  34.6008,2,  34.6093,2,    186.2,3,  1.5777,    182.9,2,    85.72,2,    33.43,2,     2.21,2, -999.000,9, -999.000,9, -999.000,9, -999.000,9, -999.000,9,-999.0000,9,  -999.00,9,-999.000,9,   -999.0,9,   -999.0,9,-999.0,  -999.0,-999.0000,-999.000,-999.000,-999.000,-999.000
      74JC10_1,   A23,    60,  1,   6011,     24,2,19950413,1841,-53.0845, -34.9113, 3639,    761,    750.5,   1.6168,  34.6822,2,  34.6826,2,    188.9,3,  1.5753,    183.8,2,    93.69,2,    32.54,2,     2.13,2, -999.000,9, -999.000,9, -999.000,9, -999.000,9, -999.000,9,-999.0000,9,  -999.00,9,-999.000,9,   -999.0,9,   -999.0,9,-999.0,  -999.0,-999.0000,-999.000,-999.000,-999.000,-999.000
      74JC10_1,   A23,    60,  1,   6010,     10,2,19950413,1841,-53.0845, -34.9113, 3639,   1009,    997.5,   1.3896,  34.7013,2,  34.7007,2,    194.7,3,  1.3343,    189.4,2,   100.14,2,    32.27,2,     2.10,2, -999.000,9, -999.000,9, -999.000,9, -999.000,9, -999.000,9,-999.0000,9,  -999.00,9,-999.000,9,   -999.0,9,   -999.0,9,-999.0,  -999.0,-999.0000,-999.000,-999.000,-999.000,-999.000
      74JC10_1,   A23,    60,  1,   6009,      9,2,19950413,1841,-53.0845, -34.9113, 3639,   1260,   1247.7,   1.1419,  34.7017,2,  34.7026,2,    200.0,3,  1.0726,    195.8,2,   106.10,2,    32.05,2,     2.10,2, -999.000,9, -999.000,9, -999.000,9, -999.000,9, -999.000,9,-999.0000,9,  -999.00,9,-999.000,9,   -999.0,9,   -999.0,9,-999.0,  -999.0,-999.0000,-999.000,-999.000,-999.000,-999.000
      74JC10_1,   A23,    60,  1,   6008,      8,2,19950413,1841,-53.0845, -34.9113, 3639,   1509,   1496.1,   0.9353,  34.7003,2,  34.6967,2,    204.4,3,  0.8514,    199.3,2,   111.37,2,    32.66,2,     2.10,2, -999.000,9, -999.000,9, -999.000,9, -999.000,9, -999.000,9,-999.0000,9,  -999.00,9,-999.000,9,   -999.0,9,   -999.0,9,-999.0,  -999.0,-999.0000,-999.000,-999.000,-999.000,-999.000
      74JC10_1,   A23,    60,  1,   6007,     26,2,19950413,1841,-53.0845, -34.9113, 3639,   1758,   1745.9,   0.7385,  34.6939,2,  34.6952,2,    208.1,3,  0.6398,    203.4,2,   115.57,2,    32.23,2,     2.15,2, -999.000,9, -999.000,9, -999.000,9, -999.000,9, -999.000,9,-999.0000,9,  -999.00,9,-999.000,9,   -999.0,9,   -999.0,9,-999.0,  -999.0,-999.0000,-999.000,   0.731,-999.000,-999.000
      74JC10_1,   A23,    60,  1,   6006,      6,2,19950413,1841,-53.0845, -34.9113, 3639,   2007,   1994.9,   0.5947,  34.6880,2,  34.6877,2,    211.4,3,  0.4800,    206.9,2,   117.23,2,    32.40,2,     2.11,2, -999.000,9, -999.000,9, -999.000,9, -999.000,9, -999.000,9,-999.0000,9,  -999.00,9,-999.000,9,   -999.0,9,   -999.0,9,-999.0,  -999.0,-999.0000,-999.000,-999.000,-999.000,-999.000
      74JC10_1,   A23,    60,  1,   6005,      5,2,19950413,1841,-53.0845, -34.9113, 3639,   2508,   2496.7,   0.3791,  34.6798,2,  34.6798,2,    217.6,3,  0.2295,    211.5,2,   120.94,2,    32.65,2,     2.14,3, -999.000,9, -999.000,9, -999.000,9, -999.000,9, -999.000,9,-999.0000,9,  -999.00,9,-999.000,9,   -999.0,9,   -999.0,9,-999.0,  -999.0,-999.0000,-999.000,-999.000,-999.000,-999.000
      74JC10_1,   A23,    60,  1,   6004,      4,2,19950413,1841,-53.0845, -34.9113, 3639,   3003,   2993.5,   0.2258,  34.6743,2,  34.6732,2,    223.9,3,  0.0380,    215.7,2,   122.01,2,    32.61,2,     2.17,2, -999.000,9, -999.000,9, -999.000,9, -999.000,9, -999.000,9,-999.0000,9,  -999.00,9,-999.000,9,   -999.0,9,   -999.0,9,-999.0,  3001.0,-999.0000,-999.000,   0.723,-999.000,-999.000
      74JC10_1,   A23,    60,  1,   6003,      3,2,19950413,1841,-53.0845, -34.9113, 3639,   3500,   3491.4,   0.0963,  34.6689,2,  34.6684,2,    230.3,3, -0.1333,    220.2,2,   126.21,2,    32.58,2,     2.20,2, -999.000,9, -999.000,9, -999.000,9, -999.000,9, -999.000,9,-999.0000,9,  -999.00,9,-999.000,9,   -999.0,9,   -999.0,9,-999.0,  -999.0,-999.0000,-999.000,-999.000,-999.000,-999.000
      74JC10_1,   A23,    60,  1,   6001,      1,2,19950413,1841,-53.0845, -34.9113, 3639,   3651,   3642.6,  -0.0387,  34.6641,2,  34.6631,2,    232.5,3, -0.2789,    226.4,2,   130.50,2,    32.53,2,     2.14,3, -999.000,9, -999.000,9, -999.000,9, -999.000,9, -999.000,9,-999.0000,9,  -999.00,9,-999.000,9,   -999.0,9,   -999.0,9,-999.0,  3623.0,-999.0000,-999.000,   0.032,-999.000,-999.000
      74JC10_1,   A23,    60,  1,   6002,      2,2,19950413,1841,-53.0845, -34.9113, 3639,   3651,   3642.9,  -0.0386,  34.6630,2,  34.6631,2,    232.5,3, -0.2789,    225.1,2,   130.50,2,    32.49,2,     2.15,2, -999.000,9, -999.000,9, -999.000,9, -999.000,9, -999.000,9,-999.0000,9,  -999.00,9,-999.000,9,   -999.0,9,   -999.0,9,-999.0,  -999.0,-999.0000,-999.000,-999.000,-999.000,-999.000