BOTTLE,20220810CCHSIOAMB
EXPOCODE,SECT_ID,STNNBR,CASTNO,SAMPNO,BTLNBR,BTLNBR_FLAG_W,DATE,TIME,LATITUDE,LONGITUDE,DEPTH,CTDRAW,CTDPRS,CTDTMP,CTDSAL,CTDSAL_FLAG_W,SALNTY,SALNTY_FLAG_W,CTDOXY,CTDOXY_FLAG_W,THETA,OXYGEN,OXYGEN_FLAG_W,SILCAT,SILCAT_FLAG_W,NO2+NO3,NO2+NO3_FLAG_W,PHSPHT,PHSPHT_FLAG_W,CFC-11,CFC-11_FLAG_W,CFC-12,CFC-12_FLAG_W,CFC113,CFC113_FLAG_W,CCL4,CCL4_FLAG_W,TRITUM,TRITUM_FLAG_W,HELIUM,HELIUM_FLAG_W,DELHE3,DELHE3_FLAG_W,NEON,NEON_FLAG_W,TCARBN,TCARBN_FLAG_W,PCO2,PCO2_FLAG_W,PCO2TMP,REVPRS,HELIER,TRITER,REVTMP,NEONER,DELHER
,,,,,,,,,,,,,DBAR,ITS-90,PSS-78,,PSS-78,,UMOL/KG,,DEG C,UMOL/KG,,UMOL/KG,,UMOL/KG,,UMOL/KG,,PMOL/KG,,PMOL/KG,,PMOL/KG,,PMOL/KG,,TU,,NMOL/KG,,PERCNT,,NMOL/KG,,UMOL/KG,,UATM,,DEG C,DBAR,NMOL/KG,TU,ITS-90,NMOL/KG,PERCNT
      74JC10_1,   A23,   128,  1,  12817,     17,2,19950505,1546,-26.2533, -41.3442, 2584,     13,      4.4,  26.4688,  37.2937,2,  37.2938,2,    195.3,3, 26.4678,    196.8,2,     3.32,2,     0.23,2,    -0.01,2, -999.000,9, -999.000,9, -999.000,9, -999.000,9, -999.000,9,-999.0000,9,  -999.00,9,-999.000,9,   -999.0,9,   -999.0,9,-999.0,  -999.0,-999.0000,-999.000,-999.000,-999.000,-999.000
      74JC10_1,   A23,   128,  1,  12816,     16,2,19950505,1546,-26.2533, -41.3442, 2584,     63,     54.3,  26.3546,  37.2775,2,  37.2791,2,    204.0,3, 26.3423,    197.4,2,     3.49,2,     0.22,2,     0.01,2, -999.000,9, -999.000,9, -999.000,9, -999.000,9, -999.000,9,-999.0000,9,  -999.00,9,-999.000,9,   -999.0,9,   -999.0,9,-999.0,  -999.0,-999.0000,-999.000,-999.000,-999.000,-999.000
      74JC10_1,   A23,   128,  1,  12815,     15,2,19950505,1546,-26.2533, -41.3442, 2584,    112,    104.3,  23.9384,  37.0122,2,  37.0410,2,    213.1,3, 24.0837,    202.1,2,     3.49,2,     0.40,2,     0.06,2, -999.000,9, -999.000,9, -999.000,9, -999.000,9, -999.000,9,-999.0000,9,  -999.00,9,-999.000,9,   -999.0,9,   -999.0,9,-999.0,  -999.0,-999.0000,-999.000,-999.000,-999.000,-999.000
      74JC10_1,   A23,   128,  1,  12814,     14,2,19950505,1546,-26.2533, -41.3442, 2584,    162,    154.4,  21.9290,  36.6751,2,  36.5789,2,    205.6,3, 21.8983,    197.7,2,     3.40,2,     0.68,2,     0.13,2, -999.000,9, -999.000,9, -999.000,9, -999.000,9, -999.000,9,-999.0000,9,  -999.00,9,-999.000,9,   -999.0,9,   -999.0,9,-999.0,  -999.0,-999.0000,-999.000,-999.000,-999.000,-999.000
      74JC10_1,   A23,   128,  1,  12813,     13,2,19950505,1546,-26.2533, -41.3442, 2584,    265,    256.3,  16.8392,  35.7723,2,  35.7631,2,    204.9,3, 16.7969,    196.8,2,     4.23,2,     3.45,2,     0.34,2, -999.000,9, -999.000,9, -999.000,9, -999.000,9, -999.000,9,-999.0000,9,  -999.00,9,-999.000,9,   -999.0,9,   -999.0,9,-999.0,  -999.0,-999.0000,-999.000,-999.000,-999.000,-999.000
      74JC10_1,   A23,   128,  1,  12812,     12,2,19950505,1546,-26.2533, -41.3442, 2584,    364,    354.6,  14.2025,  35.3993,2,  35.3938,2,    204.6,3, 14.1503,    200.1,2,     5.00,2,     7.78,2,     0.67,2, -999.000,9, -999.000,9, -999.000,9, -999.000,9, -999.000,9,-999.0000,9,  -999.00,9,-999.000,9,   -999.0,9,   -999.0,9,-999.0,  -999.0,-999.0000,-999.000,-999.000,-999.000,-999.000
      74JC10_1,   A23,   128,  1,  12811,     24,2,19950505,1546,-26.2533, -41.3442, 2584,    518,    508.9,  11.3799,  35.0021,2,  34.8910,3,    205.3,3, 11.3149,    201.6,2,     7.25,2,    14.13,2,     1.02,2, -999.000,9, -999.000,9, -999.000,9, -999.000,9, -999.000,9,-999.0000,9,  -999.00,9,-999.000,9,   -999.0,9,   -999.0,9,-999.0,  -999.0,-999.0000,-999.000,-999.000,-999.000,-999.000
      74JC10_1,   A23,   128,  1,  12810,     10,2,19950505,1546,-26.2533, -41.3442, 2584,    776,    765.4,   6.0129,  34.3933,2,  34.3970,2,    218.7,3,  5.9447,    213.7,2,    17.06,2,    26.09,2,     1.74,2, -999.000,9, -999.000,9, -999.000,9, -999.000,9, -999.000,9,-999.0000,9,  -999.00,9,-999.000,9,   -999.0,9,   -999.0,9,-999.0,  -999.0,-999.0000,-999.000,-999.000,-999.000,-999.000
      74JC10_1,   A23,   128,  1,  12809,      9,2,19950505,1546,-26.2533, -41.3442, 2584,   1030,   1019.2,   3.7889,  34.3373,2,  34.3372,2,    213.1,3,  3.7136,    205.9,2,    36.28,2,    30.98,2,     2.08,2, -999.000,9, -999.000,9, -999.000,9, -999.000,9, -999.000,9,-999.0000,9,  -999.00,9,-999.000,9,   -999.0,9,   -999.0,9,-999.0,  -999.0,-999.0000,-999.000,-999.000,-999.000,-999.000
      74JC10_1,   A23,   128,  1,  12808,      8,2,19950505,1546,-26.2533, -41.3442, 2584,   1285,   1273.1,   3.1658,  34.4823,2,  34.4826,2,    194.8,3,  3.0751,    187.7,2,    49.87,2,    31.98,2,     2.14,2, -999.000,9, -999.000,9, -999.000,9, -999.000,9, -999.000,9,-999.0000,9,  -999.00,9,-999.000,9,   -999.0,9,   -999.0,9,-999.0,  -999.0,-999.0000,-999.000,-999.000,-999.000,-999.000
      74JC10_1,   A23,   128,  1,  12807,     26,2,19950505,1546,-26.2533, -41.3442, 2584,   1540,   1528.2,   3.1720,  34.6726,2,  34.6747,2,    197.6,3,  3.0596,    191.7,2,    49.44,2,    29.28,2,     1.97,2, -999.000,9, -999.000,9, -999.000,9, -999.000,9, -999.000,9,-999.0000,9,  -999.00,9,-999.000,9,   -999.0,9,   -999.0,9,-999.0,  -999.0,-999.0000,-999.000,   3.158,-999.000,-999.000
      74JC10_1,   A23,   128,  1,  12806,      6,2,19950505,1546,-26.2533, -41.3442, 2584,   1793,   1782.0,   3.8789,  34.9065,2,  34.9077,2,    229.7,3,  3.7343,    222.0,2,    26.81,2,    22.84,2,     1.63,2, -999.000,9, -999.000,9, -999.000,9, -999.000,9, -999.000,9,-999.0000,9,  -999.00,9,-999.000,9,   -999.0,9,   -999.0,9,-999.0,  -999.0,-999.0000,-999.000,-999.000,-999.000,-999.000
      74JC10_1,   A23,   128,  1,  12805,      5,2,19950505,1546,-26.2533, -41.3442, 2584,   2053,   2042.5,   3.6270,  34.9549,2,  34.9536,2,    248.4,3,  3.4610,    240.6,2,    24.01,2,    20.17,2,     1.29,2, -999.000,9, -999.000,9, -999.000,9, -999.000,9, -999.000,9,-999.0000,9,  -999.00,9,-999.000,9,   -999.0,9,   -999.0,9,-999.0,  -999.0,-999.0000,-999.000,-999.000,-999.000,-999.000
      74JC10_1,   A23,   128,  1,  12804,      4,2,19950505,1546,-26.2533, -41.3442, 2584,   2310,   2299.6,   3.3281,  34.9497,2,  34.9439,3,    254.7,3,  3.1420,    245.6,2,    26.25,2,    19.81,2,     1.27,2, -999.000,9, -999.000,9, -999.000,9, -999.000,9, -999.000,9,-999.0000,9,  -999.00,9,-999.000,9,   -999.0,9,   -999.0,9,-999.0,  2304.0,-999.0000,-999.000,   3.324,-999.000,-999.000
      74JC10_1,   A23,   128,  1,  12801,      1,2,19950505,1546,-26.2533, -41.3442, 2584,   2602,   2592.9,   2.8938,  34.9303,2,  34.9311,3,    252.7,3,  2.6868,    249.5,2,    34.97,2,    20.30,2,     1.44,2, -999.000,9, -999.000,9, -999.000,9, -999.000,9, -999.000,9,-999.0000,9,  -999.00,9,-999.000,9,   -999.0,9,   -999.0,9,-999.0,  2570.0,-999.0000,-999.000,   2.884,-999.000,-999.000
      74JC10_1,   A23,   128,  1,  12802,      2,2,19950505,1546,-26.2533, -41.3442, 2584,   2603,   2593.2,   2.8947,  34.9298,2,  34.9282,2,    252.7,3,  2.6876,    247.3,2,    33.97,2,    20.24,2,     1.32,2, -999.000,9, -999.000,9, -999.000,9, -999.000,9, -999.000,9,-999.0000,9,  -999.00,9,-999.000,9,   -999.0,9,   -999.0,9,-999.0,  -999.0,-999.0000,-999.000,-999.000,-999.000,-999.000
      74JC10_1,   A23,   128,  1,  12803,      3,2,19950505,1546,-26.2533, -41.3442, 2584,   2603,   2593.8,   2.8951,  34.9294,2,  34.9284,2,    252.7,3,  2.6879,    248.3,2,    33.33,2,    20.28,2,     1.33,2, -999.000,9, -999.000,9, -999.000,9, -999.000,9, -999.000,9,-999.0000,9,  -999.00,9,-999.000,9,   -999.0,9,   -999.0,9,-999.0,  -999.0,-999.0000,-999.000,-999.000,-999.000,-999.000