BOTTLE,20220810CCHSIOAMB
EXPOCODE,SECT_ID,STNNBR,CASTNO,SAMPNO,BTLNBR,BTLNBR_FLAG_W,DATE,TIME,LATITUDE,LONGITUDE,DEPTH,CTDRAW,CTDPRS,CTDTMP,CTDSAL,CTDSAL_FLAG_W,SALNTY,SALNTY_FLAG_W,CTDOXY,CTDOXY_FLAG_W,THETA,OXYGEN,OXYGEN_FLAG_W,SILCAT,SILCAT_FLAG_W,NO2+NO3,NO2+NO3_FLAG_W,PHSPHT,PHSPHT_FLAG_W,CFC-11,CFC-11_FLAG_W,CFC-12,CFC-12_FLAG_W,CFC113,CFC113_FLAG_W,CCL4,CCL4_FLAG_W,TRITUM,TRITUM_FLAG_W,HELIUM,HELIUM_FLAG_W,DELHE3,DELHE3_FLAG_W,NEON,NEON_FLAG_W,TCARBN,TCARBN_FLAG_W,PCO2,PCO2_FLAG_W,PCO2TMP,REVPRS,HELIER,TRITER,REVTMP,NEONER,DELHER
,,,,,,,,,,,,,DBAR,ITS-90,PSS-78,,PSS-78,,UMOL/KG,,DEG C,UMOL/KG,,UMOL/KG,,UMOL/KG,,UMOL/KG,,PMOL/KG,,PMOL/KG,,PMOL/KG,,PMOL/KG,,TU,,NMOL/KG,,PERCNT,,NMOL/KG,,UMOL/KG,,UATM,,DEG C,DBAR,NMOL/KG,TU,ITS-90,NMOL/KG,PERCNT
      74JC10_1,   A23,    96,  1,   9624,     11,2,19950428,1110,-38.8690, -35.9960, 4914,      9,      3.7,  17.1172,  35.0558,2,  35.0561,2,    237.7,3, 17.1166,    233.8,2,    -0.83,2,  -999.00,5,     0.15,2,    2.472,2,    1.085,2,    0.221,2,    2.543,2, -999.000,9,-999.0000,9,  -999.00,9,-999.000,9,   -999.0,9,   -999.0,9,-999.0,  -999.0,-999.0000,-999.000,-999.000,-999.000,-999.000
      74JC10_1,   A23,    96,  1,   9623,     23,2,19950428,1110,-38.8690, -35.9960, 4914,     60,     54.2,  15.6018,  34.8223,2,  34.8277,2,    246.6,3, 15.5934,    232.7,2,    -0.71,2,     1.30,2,     0.31,2,    2.830,2,    1.372,2,    0.239,2,    2.447,2, -999.000,9,-999.0000,9,  -999.00,9,-999.000,9,   -999.0,9,   -999.0,9,-999.0,  -999.0,-999.0000,-999.000,-999.000,-999.000,-999.000
      74JC10_1,   A23,    96,  1,   9622,     25,2,19950428,1110,-38.8690, -35.9960, 4914,    108,    102.2,  13.6228,  35.2602,2,  35.2479,2,    210.4,3, 13.6083,    206.0,2,     1.25,2,     9.10,2,     0.70,2,    2.768,2, -999.000,9,    0.143,2,    1.070,2, -999.000,9,-999.0000,9,  -999.00,9,-999.000,9,   -999.0,9,   -999.0,9,-999.0,  -999.0,-999.0000,-999.000,-999.000,-999.000,-999.000
      74JC10_1,   A23,    96,  1,   9621,     21,2,19950428,1110,-38.8690, -35.9960, 4914,    158,    152.2,  12.2474,  35.1035,2,  35.0561,2,    215.1,3, 12.2273,    210.7,2,     2.20,2,    12.09,2,     0.89,2,    2.732,2,    1.294,2,    0.118,2,    1.143,2, -999.000,9,-999.0000,9,  -999.00,9,-999.000,9,   -999.0,9,   -999.0,9,-999.0,  -999.0,-999.0000,-999.000,-999.000,-999.000,-999.000
      74JC10_1,   A23,    96,  1,   9620,     27,2,19950428,1110,-38.8690, -35.9960, 4914,    207,    200.0,   9.9337,  34.7145,2,  34.7074,2,    223.2,3,  9.9107,    218.5,2,     3.39,2,    16.45,2,     1.22,2,    2.924,2,    1.320,2,    0.168,2,    1.818,2, -999.000,9,-999.0000,9,  -999.00,9,-999.000,9,   -999.0,9,   -999.0,9,-999.0,  -999.0,-999.0000,-999.000,   9.956,-999.000,-999.000
      74JC10_1,   A23,    96,  1,   9619,     19,2,19950428,1110,-38.8690, -35.9960, 4914,    257,    250.3,   8.1943,  34.5233,2,  34.4997,2,    233.1,3,  8.1687,    225.2,2,     5.53,2,    20.21,2,     1.40,2,    2.988,2,    1.329,2,    0.183,2,    2.433,2, -999.000,9,-999.0000,9,  -999.00,9,-999.000,9,   -999.0,9,   -999.0,9,-999.0,  -999.0,-999.0000,-999.000,-999.000,-999.000,-999.000
      74JC10_1,   A23,    96,  1,   9618,     18,2,19950428,1110,-38.8690, -35.9960, 4914,    354,    345.9,   5.9863,  34.2999,2,  34.2968,2,    251.1,3,  5.9567,    244.0,2,     7.96,2,    23.77,2,     1.59,2,    3.423,2,    1.448,3,    0.254,2,    3.507,2, -999.000,9,-999.0000,9,  -999.00,9,-999.000,9,   -999.0,9,   -999.0,9,-999.0,  -999.0,-999.0000,-999.000,-999.000,-999.000,-999.000
      74JC10_1,   A23,    96,  1,   9617,     17,2,19950428,1110,-38.8690, -35.9960, 4914,    501,    492.3,   4.6625,  34.2169,2,  34.2152,2,    265.4,3,  4.6248,    259.1,2,    11.88,2,    25.76,2,     1.72,2,    3.667,2, -999.000,9,    0.259,2,    4.078,2, -999.000,9,-999.0000,9,  -999.00,9,-999.000,9,   -999.0,9,   -999.0,9,-999.0,  -999.0,-999.0000,-999.000,-999.000,-999.000,-999.000
      74JC10_1,   A23,    96,  1,   9616,     16,2,19950428,1110,-38.8690, -35.9960, 4914,    748,    737.6,   3.7079,  34.2308,2,  34.2305,2,    248.5,3,  3.6556,    238.7,2,    23.04,2,    29.30,2,     1.96,2,    2.450,2,    0.903,3,    0.147,2,    3.024,2, -999.000,9,-999.0000,9,  -999.00,9,-999.000,9,   -999.0,9,   -999.0,9,-999.0,  -999.0,-999.0000,-999.000,-999.000,-999.000,-999.000
      74JC10_1,   A23,    96,  1,   9615,     15,2,19950428,1110,-38.8690, -35.9960, 4914,    992,    980.3,   3.0202,  34.3114,2,  34.3150,2,    219.8,3,  2.9540,    212.2,2,    38.84,2,    32.10,2,     2.16,2,    1.208,2, -999.000,9,    0.045,2,    1.779,2, -999.000,9,-999.0000,9,  -999.00,9,-999.000,9,   -999.0,9,   -999.0,9,-999.0,  -999.0,-999.0000,-999.000,-999.000,-999.000,-999.000
      74JC10_1,   A23,    96,  1,   9614,     14,2,19950428,1110,-38.8690, -35.9960, 4914,   1239,   1225.8,   2.7981,  34.4470,2,  34.4473,2,    193.5,3,  2.7148,    198.3,2,    53.09,2,    33.08,2,     2.25,2,    0.544,2,    0.262,2,    0.018,2,    1.040,2, -999.000,9,-999.0000,9,  -999.00,9,-999.000,9,   -999.0,9,   -999.0,9,-999.0,  -999.0,-999.0000,-999.000,-999.000,-999.000,-999.000
      74JC10_1,   A23,    96,  1,   9613,     13,2,19950428,1110,-38.8690, -35.9960, 4914,   1486,   1472.6,   2.7911,  34.5913,2,  34.5906,2,    185.3,3,  2.6879,    179.3,2,    59.86,2,    32.24,2,     2.17,2,    0.174,2,    0.088,2,    0.000,2,    0.450,2, -999.000,9,-999.0000,9,  -999.00,9,-999.000,9,   -999.0,9,   -999.0,9,-999.0,  -999.0,-999.0000,-999.000,-999.000,-999.000,-999.000
      74JC10_1,   A23,    96,  1,   9612,     12,2,19950428,1110,-38.8690, -35.9960, 4914,   1732,   1718.3,   2.8302,  34.6999,2,  34.6997,2,    193.1,3,  2.7057,    185.5,2,    59.56,2,    30.33,2,     2.02,2,    0.070,2,    0.041,2,    0.000,2,    0.279,2, -999.000,9,-999.0000,9,  -999.00,9,-999.000,9,   -999.0,9,   -999.0,9,-999.0,  -999.0,-999.0000,-999.000,-999.000,-999.000,-999.000
      74JC10_1,   A23,    96,  1,   9611,     24,2,19950428,1110,-38.8690, -35.9960, 4914,   1979,   1965.4,   2.7888,  34.7733,2,  34.7742,2,    199.8,3,  2.6430,    196.3,2,    58.19,2,    28.27,2,     1.88,2,    0.034,2,    0.028,2,    0.000,2,    0.209,2, -999.000,9,-999.0000,9,  -999.00,9,-999.000,9,   -999.0,9,   -999.0,9,-999.0,  -999.0,-999.0000,-999.000,-999.000,-999.000,-999.000
      74JC10_1,   A23,    96,  1,   9610,     10,2,19950428,1110,-38.8690, -35.9960, 4914,   2324,   2311.5,   2.8461,  34.8572,2,  34.8580,2,    222.0,3,  2.6675,    219.6,2,    47.91,2,    24.81,2,     1.64,2,   -0.001,2,    0.009,2,    0.000,2,    0.128,2, -999.000,9,-999.0000,9,  -999.00,9,-999.000,9,   -999.0,9,   -999.0,9,-999.0,  -999.0,-999.0000,-999.000,-999.000,-999.000,-999.000
      74JC10_1,   A23,    96,  1,   9609,      9,2,19950428,1110,-38.8690, -35.9960, 4914,   2671,   2659.3,   2.5486,  34.8569,2,  34.8566,2,    230.6,3,  2.3420,    224.2,2,    52.95,2,    24.75,2,     1.64,2,   -0.011,2,    0.009,2,    0.000,2,    0.100,2, -999.000,9,-999.0000,9,  -999.00,9,-999.000,9,   -999.0,9,   -999.0,9,-999.0,  -999.0,-999.0000,-999.000,-999.000,-999.000,-999.000
      74JC10_1,   A23,    96,  1,   9608,      8,2,19950428,1110,-38.8690, -35.9960, 4914,   2976,   2964.4,   2.0681,  34.8111,2,  34.8137,2,    224.6,3,  1.8417,    215.9,2,    68.93,2,    26.82,2,     1.79,2,   -0.004,2,    0.014,3,    0.000,2,    0.099,2, -999.000,9,-999.0000,9,  -999.00,9,-999.000,9,   -999.0,9,   -999.0,9,-999.0,  -999.0,-999.0000,-999.000,-999.000,-999.000,-999.000
      74JC10_1,   A23,    96,  1,   9607,     26,2,19950428,1110,-38.8690, -35.9960, 4914,   3326,   3315.7,   1.4021,  34.7475,2,  34.7484,2,    214.3,3,  1.1566,    205.9,2,    96.25,2,    30.03,2,     2.01,2,    0.027,2,    0.017,2,    0.000,2,    0.144,2, -999.000,9,-999.0000,9,  -999.00,9,-999.000,9,   -999.0,9,   -999.0,9,-999.0,  -999.0,-999.0000,-999.000,   1.400,-999.000,-999.000
      74JC10_1,   A23,    96,  1,   9606,      6,2,19950428,1110,-38.8690, -35.9960, 4914,   3675,   3665.6,   0.9224,  34.7128,2,  34.7119,2,    213.1,3,  0.6542,    206.8,2,   111.56,2,    31.57,2,     2.13,2,    0.059,2,    0.036,2,    0.000,2,    0.227,2, -999.000,9,-999.0000,9,  -999.00,9,-999.000,9,   -999.0,9,   -999.0,9,-999.0,  -999.0,-999.0000,-999.000,-999.000,-999.000,-999.000
      74JC10_1,   A23,    96,  1,   9605,      5,2,19950428,1110,-38.8690, -35.9960, 4914,   3978,   3969.2,   0.5708,  34.6917,2,  34.6908,2,    217.0,3,  0.2814,    210.8,2,   119.47,2,    32.19,2,     2.20,2,    0.078,2,    0.041,2,    0.000,2,    0.295,2, -999.000,9,-999.0000,9,  -999.00,9,-999.000,9,   -999.0,9,   -999.0,9,-999.0,  -999.0,-999.0000,-999.000,-999.000,-999.000,-999.000
      74JC10_1,   A23,    96,  1,   9604,      4,2,19950428,1110,-38.8690, -35.9960, 4914,   4329,   4320.1,   0.3229,  34.6785,2,  34.6781,2,    221.9,3,  0.0042,    215.4,2,   122.79,2,    32.44,2,     2.21,2,    0.078,2,    0.043,2,    0.000,2,    0.312,2, -999.000,9,-999.0000,9,  -999.00,9,-999.000,9,   -999.0,9,   -999.0,9,-999.0,  4328.0,-999.0000,-999.000,   0.316,-999.000,-999.000
      74JC10_1,   A23,    96,  1,   9603,      3,2,19950428,1110,-38.8690, -35.9960, 4914,   4674,   4666.2,   0.2327,  34.6728,2,  34.6720,2,    225.4,3, -0.1206,    217.6,2,   124.45,2,    32.50,2,     2.22,2,    0.090,2,    0.046,2,    0.000,2,    0.345,2, -999.000,9,-999.0000,9,  -999.00,9,-999.000,9,   -999.0,9,   -999.0,9,-999.0,  -999.0,-999.0000,-999.000,-999.000,-999.000,-999.000
      74JC10_1,   A23,    96,  1,   9602,      2,2,19950428,1110,-38.8690, -35.9960, 4914,   5006,   4998.9,   0.2102,  34.6702,2,  34.6700,2,    224.5,3, -0.1797,    217.8,2,   126.11,2,    32.64,2,     2.23,2,    0.119,2,    0.068,2,    0.002,2,    0.395,2, -999.000,9,-999.0000,9,  -999.00,9,-999.000,9,   -999.0,9,   -999.0,9,-999.0,  -999.0,-999.0000,-999.000,-999.000,-999.000,-999.000
      74JC10_1,   A23,    96,  1,   9601,      1,2,19950428,1110,-38.8690, -35.9960, 4914,   5007,   5000.4,   0.2107,  34.6694,2,  34.6694,2,    224.9,3, -0.1794,    218.7,2,   126.21,2,    32.64,2,     2.22,2,    0.126,2,    0.073,2,    0.006,2,    0.396,2, -999.000,9,-999.0000,9,  -999.00,9,-999.000,9,   -999.0,9,   -999.0,9,-999.0,  4992.0,-999.0000,-999.000,   0.204,-999.000,-999.000
      74JC10_1,   A23,    97,  1,   9724,     11,2,19950428,2005,-37.8968, -35.9852, 4927,     13,      6.5,  19.6814,  35.7554,2,  35.7554,2,    220.7,3, 19.6802,    222.0,2,     2.96,2,     0.00,2,     0.02,2,    2.371,2,    1.161,2,    0.225,2,    2.384,2, -999.000,5,   1.7050,2,    -1.16,2,   7.864,2,   2019.7,6,    316.8,2,   4.0,  -999.0,  0.0070,-999.000,-999.000,   0.024,   0.300
      74JC10_1,   A23,    97,  1,   9723,     23,2,19950428,2005,-37.8968, -35.9852, 4927,     60,     53.5,  19.6839,  35.7579,2,  35.8080,2,    227.3,3, 19.6741,    222.0,2,     3.05,2,     0.07,2,     0.13,2,    2.481,2,    1.274,2,    0.242,2,    1.937,2, -999.000,9,-999.0000,9,  -999.00,9,-999.000,9,   2028.9,6,    330.6,2,   4.0,  -999.0,-999.0000,-999.000,-999.000,-999.000,-999.000
      74JC10_1,   A23,    97,  1,   9722,     25,2,19950428,2005,-37.8968, -35.9852, 4927,    111,    103.9,  16.6109,  35.8201,2,  35.8117,2,    210.8,3, 16.5940,    206.5,2,     3.57,2,     3.13,2,     0.30,2,    2.564,2,    1.208,2,    0.151,2,    0.811,2, -999.000,9,-999.0000,9,  -999.00,9,-999.000,9,   2073.8,6,    334.3,2,   4.0,  -999.0,-999.0000,-999.000,-999.000,-999.000,-999.000
      74JC10_1,   A23,    97,  1,   9721,     21,2,19950428,2005,-37.8968, -35.9852, 4927,    159,    151.8,  15.4224,  35.6629,2,  35.6591,2,    221.0,3, 15.3988,    213.8,2,     3.93,2,     4.70,2,     0.37,2,    2.686,2,    1.254,2,    0.148,2,    0.826,2,    0.712,2,   1.7370,2,    -0.92,2,   7.154,2,   -999.0,9,   -999.0,9,-999.0,  -999.0,  0.0070,   0.022,-999.000,   0.022,   0.300
      74JC10_1,   A23,    97,  1,   9720,     27,2,19950428,2005,-37.8968, -35.9852, 4927,    208,    199.8,  14.7646,  35.5607,2,  35.5654,2,    221.1,3, 14.7346,    212.2,2,     4.15,2,     5.95,2,     0.46,2,    2.735,2,    1.333,2,    0.108,2,    0.805,2, -999.000,9,-999.0000,9,  -999.00,9,-999.000,9,   -999.0,9,   -999.0,9,-999.0,  -999.0,-999.0000,-999.000,  14.834,-999.000,-999.000
      74JC10_1,   A23,    97,  1,   9719,     19,2,19950428,2005,-37.8968, -35.9852, 4927,    256,    248.0,  14.1129,  35.4582,2,  35.4500,2,    215.1,3, 14.0767,    208.7,2,     4.45,2,     7.84,2,     0.58,2,    2.719,2,    1.242,2,    0.076,2,    0.796,2, -999.000,9,-999.0000,9,  -999.00,9,-999.000,9,   -999.0,9,   -999.0,9,-999.0,  -999.0,-999.0000,-999.000,-999.000,-999.000,-999.000
      74JC10_1,   A23,    97,  1,   9718,     18,2,19950428,2005,-37.8968, -35.9852, 4927,    356,    347.5,  12.2338,  35.1516,2,  35.1390,2,    219.5,3, 12.1875,    207.1,2,     5.81,2,    12.09,2,     0.86,2,    2.617,2,    1.131,3,    0.071,2,    0.843,2,    0.551,2,   1.7500,2,    -0.14,2,   7.349,2,   -999.0,9,   -999.0,9,-999.0,  -999.0,  0.0070,   0.020,-999.000,   0.023,   0.300
      74JC10_1,   A23,    97,  1,   9717,     17,2,19950428,2005,-37.8968, -35.9852, 4927,    504,    494.2,   7.9086,  34.5456,2,  34.5031,2,    220.8,3,  7.8583,    219.7,2,     9.95,2,    21.35,2,     1.43,2,    2.859,2,    1.055,3,    0.150,2,    2.308,2, -999.000,9,   1.7680,2,    -0.05,2,   7.563,2,   -999.0,9,   -999.0,9,-999.0,  -999.0,  0.0070,-999.000,-999.000,   0.023,   0.300
      74JC10_1,   A23,    97,  1,   9716,     16,2,19950428,2005,-37.8968, -35.9852, 4927,    753,    742.0,   4.4155,  34.2283,2,  34.2258,2,    258.7,3,  4.3588,    251.2,2,    17.57,2,    26.59,2,     1.78,2,    3.225,2,    0.986,3,    0.221,2,    3.602,2,    0.834,3,   1.7870,2,    -0.27,2,   7.786,2,   -999.0,9,   -999.0,9,-999.0,  -999.0,  0.0070,   0.087,-999.000,   0.024,   0.300
      74JC10_1,   A23,    97,  1,   9715,     15,2,19950428,2005,-37.8968, -35.9852, 4927,   1000,    987.5,   3.4558,  34.2568,2,  34.2579,2,    239.4,3,  3.3858,    228.8,2,    31.10,2,    29.98,2,     2.07,2,    1.815,2,    0.756,3,    0.133,2,    2.505,2, -999.000,9,   1.8030,2,     1.78,2,   7.847,2,   -999.0,9,   -999.0,9,-999.0,  -999.0,  0.0070,-999.000,-999.000,   0.024,   0.300
      74JC10_1,   A23,    97,  1,   9714,     14,2,19950428,2005,-37.8968, -35.9852, 4927,   1247,   1233.8,   2.9541,  34.3696,2,  34.3739,2,    208.5,3,  2.8688,    203.1,2,    47.53,2,    32.00,2,     2.20,2,    0.711,2,    0.220,3,    0.021,2,    1.271,2,    0.091,2,-999.0000,9,  -999.00,9,-999.000,9,   -999.0,9,   -999.0,9,-999.0,  -999.0,-999.0000,   0.308,-999.000,-999.000,-999.000
      74JC10_1,   A23,    97,  1,   9713,     13,2,19950428,2005,-37.8968, -35.9852, 4927,   1493,   1479.9,   2.7446,  34.5119,2,  34.5156,2,    188.6,3,  2.6415,    180.9,2,    61.45,2,    32.61,2,     2.23,2,    0.340,2,    0.154,2,    0.000,2,    0.725,2, -999.000,9,-999.0000,9,  -999.00,9,-999.000,9,   2213.1,6,    531.6,2,   4.0,  -999.0,-999.0000,-999.000,-999.000,-999.000,-999.000
      74JC10_1,   A23,    97,  1,   9712,     12,2,19950428,2005,-37.8968, -35.9852, 4927,   1739,   1725.5,   2.8959,  34.6667,2,  34.6706,2,    190.0,3,  2.7700,    184.7,2,    60.36,2,    30.24,2,     2.04,2,    0.090,2,    0.050,2,    0.000,2,    0.300,2, -999.000,9,   1.8210,2,     6.81,2,   7.942,2,   -999.0,9,   -999.0,9,-999.0,  -999.0,  0.0070,-999.000,-999.000,   0.025,   0.300
      74JC10_1,   A23,    97,  1,   9711,     24,2,19950428,2005,-37.8968, -35.9852, 4927,   1989,   1975.7,   2.9736,  34.7651,2,  34.7638,2,    200.4,3,  2.8242,    195.8,2,    56.63,2,    27.84,2,     1.86,2,    0.056,2,    0.031,2,    0.000,2,    0.236,2, -999.000,9,   1.8240,2,     7.57,2,   6.908,2,   -999.0,9,   -999.0,9,-999.0,  -999.0,  0.0070,-999.000,-999.000,   0.021,   0.300
      74JC10_1,   A23,    97,  1,   9710,     10,2,19950428,2005,-37.8968, -35.9852, 4927,   2334,   2320.8,   2.9681,  34.8480,2,  34.8473,2,    221.4,3,  2.7865,    215.9,2,    49.63,2,    24.94,2,     1.64,2,    0.017,2,    0.011,2,    0.000,2,    0.161,2,    0.023,2,   1.8300,2,     6.51,2,   7.923,2,   -999.0,9,   -999.0,9,-999.0,  -999.0,  0.0070,   0.004,-999.000,   0.025,   0.300
      74JC10_1,   A23,    97,  1,   9709,      9,2,19950428,2005,-37.8968, -35.9852, 4927,   2679,   2667.3,   2.7043,  34.8586,2,  34.8583,2,    227.7,3,  2.4939,    221.8,2,    52.68,2,    24.32,2,     1.59,2,    0.002,2,   -0.004,2,    0.000,2,    0.107,2, -999.000,9,-999.0000,9,  -999.00,9,-999.000,9,   2184.8,3,    403.6,3,   4.0,  -999.0,-999.0000,-999.000,-999.000,-999.000,-999.000
      74JC10_1,   A23,    97,  1,   9708,      8,2,19950428,2005,-37.8968, -35.9852, 4927,   2977,   2965.7,   2.2822,  34.8259,2,  34.8259,2,    223.5,3,  2.0510,    217.1,2,    66.21,2,    25.79,2,     1.71,2,    0.003,2,    0.006,2,    0.000,2,    0.110,2,    0.014,2,   1.8490,2,     7.21,2,   7.994,2,   -999.0,9,   -999.0,9,-999.0,  -999.0,  0.0070,   0.015,-999.000,   0.025,   0.300
      74JC10_1,   A23,    97,  1,   9707,     26,2,19950428,2005,-37.8968, -35.9852, 4927,   3325,   3314.6,   1.6108,  34.7598,2,  34.7583,2,    210.8,3,  1.3603,    204.6,2,    93.62,2,    29.07,2,     1.99,2,    0.023,2,    0.009,2,    0.000,2,    0.117,2, -999.000,9,-999.0000,9,  -999.00,9,-999.000,9,   2224.5,6,    440.3,2,   4.0,  -999.0,-999.0000,-999.000,   1.595,-999.000,-999.000
      74JC10_1,   A23,    97,  1,   9706,      6,2,19950428,2005,-37.8968, -35.9852, 4927,   3669,   3659.0,   1.0956,  34.7237,2,  34.7225,2,    213.0,3,  0.8235,    205.9,2,   108.63,2,    30.50,2,     2.07,2,    0.053,2,    0.017,2,    0.000,2,    0.194,2,    0.016,2,   1.8610,2,     9.13,2,   8.061,2,   -999.0,9,   -999.0,9,-999.0,  -999.0,  0.0070,   0.008,-999.000,   0.025,   0.300
      74JC10_1,   A23,    97,  1,   9705,      5,2,19950428,2005,-37.8968, -35.9852, 4927,   3971,   3962.0,   0.7526,  34.7019,2,  34.7022,2,    215.9,3,  0.4587,    209.3,2,   115.47,2,    31.06,2,     2.13,2,    0.068,2,    0.025,2,    0.000,2,    0.237,2, -999.000,9,-999.0000,9,  -999.00,9,-999.000,9,   -999.0,9,   -999.0,9,-999.0,  -999.0,-999.0000,-999.000,-999.000,-999.000,-999.000
      74JC10_1,   A23,    97,  1,   9704,      4,2,19950428,2005,-37.8968, -35.9852, 4927,   4314,   4305.9,   0.3886,  34.6810,2,  34.6804,2,    221.7,3,  0.0694,    215.2,2,   123.77,2,    31.70,2,     2.18,2,    0.091,2,    0.041,2,    0.000,2,    0.318,2,    0.017,2,-999.0000,5,     7.87,2,-999.000,5,   2244.9,6,    448.3,2,   4.0,  4319.0,-999.0000,   0.002,   0.381,-999.000,   0.300
      74JC10_1,   A23,    97,  1,   9703,      3,2,19950428,2005,-37.8968, -35.9852, 4927,   4669,   4660.9,   0.2464,  34.6731,2,  34.6716,2,    225.7,3, -0.1068,    218.4,2,   126.60,2,    31.83,2,     2.20,2,    0.101,2,    0.047,2,    0.000,2,    0.340,2, -999.000,9,   1.8730,2,     7.60,2,   8.204,2,   -999.0,9,   -999.0,9,-999.0,  -999.0,  0.0070,-999.000,-999.000,   0.025,   0.300
      74JC10_1,   A23,    97,  1,   9701,      1,2,19950428,2005,-37.8968, -35.9852, 4927,   5026,   5019.2,   0.2208,  34.6709,2,  34.6698,2,    226.3,3, -0.1719,    218.1,2,   127.57,2,    31.79,2,     2.20,2,    0.128,2,    0.062,2,    0.000,2,    0.369,2,    0.026,2,   1.8730,2,     7.31,2,   8.130,2,   2246.4,2,    443.7,2,   4.0,  5016.0,  0.0070,   0.007,   0.215,   0.025,   0.300
      74JC10_1,   A23,    97,  1,   9702,      2,2,19950428,2005,-37.8968, -35.9852, 4927,   5027,   5020.4,   0.2210,  34.6710,2,  34.6696,2,    226.2,3, -0.1718,    219.3,2,   127.96,2,    31.98,2,     2.24,2,    0.131,2,    0.051,2,    0.000,2,    0.372,2, -999.000,9,-999.0000,9,  -999.00,9,-999.000,9,   -999.0,9,   -999.0,9,-999.0,  -999.0,-999.0000,-999.000,-999.000,-999.000,-999.000