BOTTLE,20220810CCHSIOAMB
EXPOCODE,SECT_ID,STNNBR,CASTNO,SAMPNO,BTLNBR,BTLNBR_FLAG_W,DATE,TIME,LATITUDE,LONGITUDE,DEPTH,CTDRAW,CTDPRS,CTDTMP,CTDSAL,CTDSAL_FLAG_W,SALNTY,SALNTY_FLAG_W,CTDOXY,CTDOXY_FLAG_W,THETA,OXYGEN,OXYGEN_FLAG_W,SILCAT,SILCAT_FLAG_W,NO2+NO3,NO2+NO3_FLAG_W,PHSPHT,PHSPHT_FLAG_W,CFC-11,CFC-11_FLAG_W,CFC-12,CFC-12_FLAG_W,CFC113,CFC113_FLAG_W,CCL4,CCL4_FLAG_W,TRITUM,TRITUM_FLAG_W,HELIUM,HELIUM_FLAG_W,DELHE3,DELHE3_FLAG_W,NEON,NEON_FLAG_W,TCARBN,TCARBN_FLAG_W,PCO2,PCO2_FLAG_W,PCO2TMP,REVPRS,HELIER,TRITER,REVTMP,NEONER,DELHER
,,,,,,,,,,,,,DBAR,ITS-90,PSS-78,,PSS-78,,UMOL/KG,,DEG C,UMOL/KG,,UMOL/KG,,UMOL/KG,,UMOL/KG,,PMOL/KG,,PMOL/KG,,PMOL/KG,,PMOL/KG,,TU,,NMOL/KG,,PERCNT,,NMOL/KG,,UMOL/KG,,UATM,,DEG C,DBAR,NMOL/KG,TU,ITS-90,NMOL/KG,PERCNT
      74JC10_1,   A23,    32,  1,   3221,     21,2,19950407,1358,-61.1710, -31.0460, 3527,     13,     10.7,  -1.1151,  33.6754,2,  33.6746,2,    349.0,3, -1.1154,    342.2,2,    66.98,2,    26.22,2,     1.70,2, -999.000,9, -999.000,9, -999.000,9, -999.000,9, -999.000,9,-999.0000,9,  -999.00,9,-999.000,9,   -999.0,9,   -999.0,9,-999.0,  -999.0,-999.0000,-999.000,-999.000,-999.000,-999.000
      74JC10_1,   A23,    32,  1,   3220,     26,2,19950407,1358,-61.1710, -31.0460, 3527,     33,     30.5,  -1.1311,  33.6839,2,  33.6870,2,    349.5,3, -1.1318,    342.2,2,    66.93,2,    26.25,2,     1.71,2, -999.000,9, -999.000,9, -999.000,9, -999.000,9, -999.000,9,-999.0000,9,  -999.00,9,-999.000,9,   -999.0,9,   -999.0,9,-999.0,  -999.0,-999.0000,-999.000,  -1.142,-999.000,-999.000
      74JC10_1,   A23,    32,  1,   3219,     19,2,19950407,1358,-61.1710, -31.0460, 3527,     57,     54.1,  -1.1934,  34.0101,2,  33.9884,2,    338.4,3, -1.1947,    313.2,2,    74.30,2,    27.90,2,     1.86,2, -999.000,9, -999.000,9, -999.000,9, -999.000,9, -999.000,9,-999.0000,9,  -999.00,9,-999.000,9,   -999.0,9,   -999.0,9,-999.0,  -999.0,-999.0000,-999.000,-999.000,-999.000,-999.000
      74JC10_1,   A23,    32,  1,   3218,     18,2,19950407,1358,-61.1710, -31.0460, 3527,     83,     79.8,  -1.0962,  34.4337,2,  34.4316,2,    277.8,3, -1.0983,    260.6,2,    85.45,2,    30.77,2,     2.09,2, -999.000,9, -999.000,9, -999.000,9, -999.000,9, -999.000,9,-999.0000,9,  -999.00,9,-999.000,9,   -999.0,9,   -999.0,9,-999.0,  -999.0,-999.0000,-999.000,-999.000,-999.000,-999.000
      74JC10_1,   A23,    32,  1,   3217,     17,2,19950407,1358,-61.1710, -31.0460, 3527,    107,    104.0,  -0.8772,  34.4745,2,  34.4752,2,    250.9,3, -0.8801,    249.1,2,    88.43,2,    31.19,2,     2.11,2, -999.000,9, -999.000,9, -999.000,9, -999.000,9, -999.000,9,-999.0000,9,  -999.00,9,-999.000,9,   -999.0,9,   -999.0,9,-999.0,  -999.0,-999.0000,-999.000,-999.000,-999.000,-999.000
      74JC10_1,   A23,    32,  1,   3216,     16,2,19950407,1358,-61.1710, -31.0460, 3527,    158,    153.8,  -0.0091,  34.6063,2,  34.6046,2,    218.8,3, -0.0147,    214.1,2,    98.00,2,    32.46,2,     2.22,2, -999.000,9, -999.000,9, -999.000,9, -999.000,9, -999.000,9,-999.0000,9,  -999.00,9,-999.000,9,   -999.0,9,   -999.0,9,-999.0,  -999.0,-999.0000,-999.000,-999.000,-999.000,-999.000
      74JC10_1,   A23,    32,  1,   3215,     15,2,19950407,1358,-61.1710, -31.0460, 3527,    206,    200.8,   0.3564,  34.6557,2,  34.6551,2,    208.3,3,  0.3484,    200.4,2,   104.83,2,    32.70,2,     2.23,2, -999.000,9, -999.000,9, -999.000,9, -999.000,9, -999.000,9,-999.0000,9,  -999.00,9,-999.000,9,   -999.0,9,   -999.0,9,-999.0,  -999.0,-999.0000,-999.000,-999.000,-999.000,-999.000
      74JC10_1,   A23,    32,  1,   3214,     14,2,19950407,1358,-61.1710, -31.0460, 3527,    257,    251.3,   0.5255,  34.6766,2,  34.6757,2,    204.3,3,  0.5149,    198.0,2,   107.08,2,    32.75,2,     2.25,2, -999.000,9, -999.000,9, -999.000,9, -999.000,9, -999.000,9,-999.0000,9,  -999.00,9,-999.000,9,   -999.0,9,   -999.0,9,-999.0,  -999.0,-999.0000,-999.000,-999.000,-999.000,-999.000
      74JC10_1,   A23,    32,  1,   3213,     13,2,19950407,1358,-61.1710, -31.0460, 3527,    359,    352.2,   0.5759,  34.6866,2,  34.6861,2,    202.1,3,  0.5607,    194.0,2,   111.66,2,    33.00,2,     2.26,2, -999.000,9, -999.000,9, -999.000,9, -999.000,9, -999.000,9,-999.0000,9,  -999.00,9,-999.000,9,   -999.0,9,   -999.0,9,-999.0,  -999.0,-999.0000,-999.000,-999.000,-999.000,-999.000
      74JC10_1,   A23,    32,  1,   3212,     12,2,19950407,1358,-61.1710, -31.0460, 3527,    509,    500.5,   0.5461,  34.6882,2,  34.6891,2,    203.9,3,  0.5239,    195.9,2,   115.66,2,    32.98,2,     2.26,2, -999.000,9, -999.000,9, -999.000,9, -999.000,9, -999.000,9,-999.0000,9,  -999.00,9,-999.000,9,   -999.0,9,   -999.0,9,-999.0,  -999.0,-999.0000,-999.000,-999.000,-999.000,-999.000
      74JC10_1,   A23,    32,  1,   3211,     11,2,19950407,1358,-61.1710, -31.0460, 3527,    759,    749.0,   0.3826,  34.6848,2,  34.6836,2,    204.9,3,  0.3488,    197.9,2,   121.23,2,    33.17,2,     2.28,2, -999.000,9, -999.000,9, -999.000,9, -999.000,9, -999.000,9,-999.0000,9,  -999.00,9,-999.000,9,   -999.0,9,   -999.0,9,-999.0,  -999.0,-999.0000,-999.000,-999.000,-999.000,-999.000
      74JC10_1,   A23,    32,  1,   3210,     10,2,19950407,1358,-61.1710, -31.0460, 3527,   1009,    998.2,   0.2508,  34.6806,2,  34.6798,2,    208.9,3,  0.2046,    201.5,2,   123.77,2,    33.18,2,     2.28,2, -999.000,9, -999.000,9, -999.000,9, -999.000,9, -999.000,9,-999.0000,9,  -999.00,9,-999.000,9,   -999.0,9,   -999.0,9,-999.0,  -999.0,-999.0000,-999.000,-999.000,-999.000,-999.000
      74JC10_1,   A23,    32,  1,   3209,      9,2,19950407,1358,-61.1710, -31.0460, 3527,   1258,   1246.4,   0.1392,  34.6759,2,  34.6755,2,    214.9,3,  0.0800,    207.7,2,   123.86,2,    32.97,2,     2.26,2, -999.000,9, -999.000,9, -999.000,9, -999.000,9, -999.000,9,-999.0000,9,  -999.00,9,-999.000,9,   -999.0,9,   -999.0,9,-999.0,  -999.0,-999.0000,-999.000,-999.000,-999.000,-999.000
      74JC10_1,   A23,    32,  1,   3208,      8,2,19950407,1358,-61.1710, -31.0460, 3527,   1509,   1497.0,   0.0299,  34.6717,2,  34.6710,2,    221.6,3, -0.0431,    214.2,2,   123.96,2,    32.97,2,     2.27,2, -999.000,9, -999.000,9, -999.000,9, -999.000,9, -999.000,9,-999.0000,9,  -999.00,9,-999.000,9,   -999.0,9,   -999.0,9,-999.0,  -999.0,-999.0000,-999.000,-999.000,-999.000,-999.000
      74JC10_1,   A23,    32,  1,   3207,      7,2,19950407,1358,-61.1710, -31.0460, 3527,   1759,   1747.4,  -0.0457,  34.6666,2,  34.6677,2,    227.0,3, -0.1336,    218.3,2,   124.06,2,    32.60,2,     2.25,2, -999.000,9, -999.000,9, -999.000,9, -999.000,9, -999.000,9,-999.0000,9,  -999.00,9,-999.000,9,   -999.0,9,   -999.0,9,-999.0,  -999.0,-999.0000,-999.000,  -0.047,-999.000,-999.000
      74JC10_1,   A23,    32,  1,   3206,      6,2,19950407,1358,-61.1710, -31.0460, 3527,   2010,   1997.9,  -0.1420,  34.6639,2,  34.6641,2,    231.6,3, -0.2452,    225.3,2,   124.16,2,    32.45,2,     2.24,2,    0.384,2, -999.000,9,    0.000,2,    0.750,2,    0.019,2,-999.0000,9,  -999.00,9,-999.000,9,   -999.0,9,   -999.0,9,-999.0,  -999.0,-999.0000,   0.014,-999.000,-999.000,-999.000
      74JC10_1,   A23,    32,  1,   3205,      5,2,19950407,1358,-61.1710, -31.0460, 3527,   2510,   2499.3,  -0.2873,  34.6562,2,  34.6565,2,    240.3,3, -0.4243,    234.4,2,   120.94,2,    32.28,2,     2.23,2,    0.449,2,    0.221,2,    0.000,2,    0.757,2,    0.030,2,   1.8710,2,     6.41,2,   8.279,2,   -999.0,9,   -999.0,9,-999.0,  -999.0,  0.0070,   0.005,-999.000,   0.026,   0.300
      74JC10_1,   A23,    32,  1,   3204,      4,2,19950407,1358,-61.1710, -31.0460, 3527,   3011,   3001.5,  -0.4038,  34.6486,2,  34.6488,2,    248.2,3, -0.5780,    241.6,2,   114.69,2,    31.95,2,     2.20,2,    0.966,2,    0.426,2,    0.048,2,    1.175,2, -999.000,1,   1.8690,2,     5.16,2,   8.284,2,   -999.0,9,   -999.0,9,-999.0,  3011.0,  0.0070,-999.000,  -0.411,   0.026,   0.300
      74JC10_1,   A23,    32,  1,   3203,      3,2,19950407,1358,-61.1710, -31.0460, 3527,   3311,   3302.4,  -0.4087,  34.6464,2,  34.6476,2,    250.8,3, -0.6084,   -999.0,5,   113.71,2,    31.67,2,     2.16,2,    1.101,2,    0.501,2,    0.050,2,    1.224,2, -999.000,9,-999.0000,9,  -999.00,9,-999.000,9,   -999.0,9,   -999.0,9,-999.0,  -999.0,-999.0000,-999.000,-999.000,-999.000,-999.000
      74JC10_1,   A23,    32,  1,   3201,      1,2,19950407,1358,-61.1710, -31.0460, 3527,   3534,   3525.2,  -0.4008,  34.6462,2,  34.6460,2,    251.0,3, -0.6204,   -999.0,5,   113.81,2,    31.71,2,     2.18,2,    1.085,2,    0.513,2,    0.059,2,    1.275,2,    0.036,2,-999.0000,9,  -999.00,9,-999.000,9,   -999.0,9,   -999.0,9,-999.0,  3505.0,-999.0000,   0.006,  -0.407,-999.000,-999.000
      74JC10_1,   A23,    32,  1,   3202,      2,2,19950407,1358,-61.1710, -31.0460, 3527,   3534,   3525.3,  -0.4015,  34.6446,2,  34.6466,2,    251.0,3, -0.6211,    245.0,3,   113.13,2,    31.92,2,     2.20,2, -999.000,9, -999.000,9, -999.000,9, -999.000,9, -999.000,9,-999.0000,9,  -999.00,9,-999.000,9,   -999.0,9,   -999.0,9,-999.0,  -999.0,-999.0000,-999.000,-999.000,-999.000,-999.000
      74JC10_1,   A23,    33,  1,   3318,     18,2,19950407,1719,-61.1093, -31.0413, 2569,     11,      9.2,  -1.0889,  33.7311,2,  33.7298,2,    298.2,3, -1.0892,    343.8,2,    66.83,2,    26.42,2,     1.73,2, -999.000,9, -999.000,9, -999.000,9, -999.000,9, -999.000,9,-999.0000,9,  -999.00,9,-999.000,9,   -999.0,9,   -999.0,9,-999.0,  -999.0,-999.0000,-999.000,-999.000,-999.000,-999.000
      74JC10_1,   A23,    33,  1,   3317,     17,2,19950407,1719,-61.1093, -31.0413, 2569,     56,     53.1,  -1.3074,  34.2424,2,  34.2456,2,    303.5,3, -1.3087,    287.8,2,    79.31,2,    29.35,2,     1.99,2, -999.000,9, -999.000,9, -999.000,9, -999.000,9, -999.000,9,-999.0000,9,  -999.00,9,-999.000,9,   -999.0,9,   -999.0,9,-999.0,  -999.0,-999.0000,-999.000,-999.000,-999.000,-999.000
      74JC10_1,   A23,    33,  1,   3316,     16,2,19950407,1719,-61.1093, -31.0413, 2569,     81,     78.1,  -1.1281,  34.4176,2,  34.4231,2,    260.7,3, -1.1301,    261.1,2,    86.72,2,    30.86,2,     2.11,2, -999.000,9, -999.000,9, -999.000,9, -999.000,9, -999.000,9,-999.0000,9,  -999.00,9,-999.000,9,   -999.0,9,   -999.0,9,-999.0,  -999.0,-999.0000,-999.000,-999.000,-999.000,-999.000
      74JC10_1,   A23,    33,  1,   3315,     15,2,19950407,1719,-61.1093, -31.0413, 2569,    105,    101.6,  -0.7285,  34.4930,2,  34.4913,2,    252.8,3, -0.7315,    245.1,2,    91.06,2,    31.38,2,     2.14,2, -999.000,9, -999.000,9, -999.000,9, -999.000,9, -999.000,9,-999.0000,9,  -999.00,9,-999.000,9,   -999.0,9,   -999.0,9,-999.0,  -999.0,-999.0000,-999.000,-999.000,-999.000,-999.000
      74JC10_1,   A23,    33,  1,   3314,     14,2,19950407,1719,-61.1093, -31.0413, 2569,    155,    151.3,  -0.1884,  34.5774,2,  34.5769,2,    225.4,3, -0.1936,    223.8,2,    98.10,2,    32.15,2,     2.20,2, -999.000,9, -999.000,9, -999.000,9, -999.000,9, -999.000,9,-999.0000,9,  -999.00,9,-999.000,9,   -999.0,9,   -999.0,9,-999.0,  -999.0,-999.0000,-999.000,-999.000,-999.000,-999.000
      74JC10_1,   A23,    33,  1,   3313,     13,2,19950407,1719,-61.1093, -31.0413, 2569,    207,    202.6,   0.1519,  34.6315,2,  34.6293,2,    217.3,3,  0.1442,    209.6,2,   103.17,2,    32.47,2,     2.24,2, -999.000,9, -999.000,9, -999.000,9, -999.000,9, -999.000,9,-999.0000,9,  -999.00,9,-999.000,9,   -999.0,9,   -999.0,9,-999.0,  -999.0,-999.0000,-999.000,-999.000,-999.000,-999.000
      74JC10_1,   A23,    33,  1,   3312,     12,2,19950407,1719,-61.1093, -31.0413, 2569,    257,    251.3,   0.3333,  34.6567,2,  34.6590,2,    211.2,3,  0.3232,    202.9,2,   106.10,2,    32.63,2,     2.24,2, -999.000,9, -999.000,9, -999.000,9, -999.000,9, -999.000,9,-999.0000,9,  -999.00,9,-999.000,9,   -999.0,9,   -999.0,9,-999.0,  -999.0,-999.0000,-999.000,-999.000,-999.000,-999.000
      74JC10_1,   A23,    33,  1,   3311,     11,2,19950407,1719,-61.1093, -31.0413, 2569,    358,    351.1,   0.4622,  34.6751,2,  34.6743,2,    206.0,3,  0.4474,    200.9,2,   110.00,2,    32.70,2,     2.25,2, -999.000,9, -999.000,9, -999.000,9, -999.000,9, -999.000,9,-999.0000,9,  -999.00,9,-999.000,9,   -999.0,9,   -999.0,9,-999.0,  -999.0,-999.0000,-999.000,-999.000,-999.000,-999.000
      74JC10_1,   A23,    33,  1,   3310,     10,2,19950407,1719,-61.1093, -31.0413, 2569,    508,    500.0,   0.4654,  34.6829,2,  34.6824,2,    205.1,3,  0.4436,    199.5,2,   115.47,2,    32.69,2,     2.26,2, -999.000,9, -999.000,9, -999.000,9, -999.000,9, -999.000,9,-999.0000,9,  -999.00,9,-999.000,9,   -999.0,9,   -999.0,9,-999.0,  -999.0,-999.0000,-999.000,-999.000,-999.000,-999.000
      74JC10_1,   A23,    33,  1,   3309,      9,2,19950407,1719,-61.1093, -31.0413, 2569,    759,    749.8,   0.3649,  34.6823,2,  34.6824,2,    206.7,3,  0.3312,    200.8,2,   120.25,2,    32.83,2,     2.26,2, -999.000,9, -999.000,9, -999.000,9, -999.000,9, -999.000,9,-999.0000,9,  -999.00,9,-999.000,9,   -999.0,9,   -999.0,9,-999.0,  -999.0,-999.0000,-999.000,-999.000,-999.000,-999.000
      74JC10_1,   A23,    33,  1,   3308,      8,2,19950407,1719,-61.1093, -31.0413, 2569,   1001,    991.4,   0.2392,  34.6787,2,  34.6779,2,    210.3,3,  0.1935,    205.7,2,   122.11,2,    32.89,2,     2.27,2, -999.000,9, -999.000,9, -999.000,9, -999.000,9, -999.000,9,-999.0000,9,  -999.00,9,-999.000,9,   -999.0,9,   -999.0,9,-999.0,  -999.0,-999.0000,-999.000,-999.000,-999.000,-999.000
      74JC10_1,   A23,    33,  1,   3307,      7,2,19950407,1719,-61.1093, -31.0413, 2569,   1252,   1242.1,   0.1480,  34.6751,2,  34.6747,2,    215.3,3,  0.0889,    209.0,2,   123.77,2,    32.76,2,     2.25,2, -999.000,9, -999.000,9, -999.000,9, -999.000,9, -999.000,9,-999.0000,9,  -999.00,9,-999.000,9,   -999.0,9,   -999.0,9,-999.0,  -999.0,-999.0000,-999.000,   0.145,-999.000,-999.000
      74JC10_1,   A23,    33,  1,   3306,      6,2,19950407,1719,-61.1093, -31.0413, 2569,   1503,   1492.8,   0.0519,  34.6723,2,  34.6704,2,    220.8,3, -0.0211,    212.2,2,   124.55,2,    32.71,2,     2.29,2, -999.000,9, -999.000,9, -999.000,9, -999.000,9, -999.000,9,-999.0000,9,  -999.00,9,-999.000,9,   -999.0,9,   -999.0,9,-999.0,  -999.0,-999.0000,-999.000,-999.000,-999.000,-999.000
      74JC10_1,   A23,    33,  1,   3305,      5,2,19950407,1719,-61.1093, -31.0413, 2569,   1756,   1745.6,  -0.0634,  34.6664,2,  34.6669,2,    227.4,3, -0.1510,    220.4,2,   124.35,2,    32.55,2,     2.25,2,    0.226,2,    0.101,2,    0.003,2,    0.493,2, -999.000,9,-999.0000,9,  -999.00,9,-999.000,9,   -999.0,9,   -999.0,9,-999.0,  -999.0,-999.0000,-999.000,-999.000,-999.000,-999.000
      74JC10_1,   A23,    33,  1,   3304,      4,2,19950407,1719,-61.1093, -31.0413, 2569,   2006,   1996.7,  -0.1650,  34.6619,2,  34.6614,2,    234.0,3, -0.2679,    224.9,2,   122.50,2,    32.46,2,     2.30,2,    0.367,2,    0.186,2,    0.000,2,    0.660,2, -999.000,9,-999.0000,9,  -999.00,9,-999.000,9,   -999.0,9,   -999.0,9,-999.0,  2002.0,-999.0000,-999.000,  -0.170,-999.000,-999.000
      74JC10_1,   A23,    33,  1,   3303,      3,2,19950407,1719,-61.1093, -31.0413, 2569,   2300,   2290.6,  -0.2046,  34.6562,2,  34.6594,2,    238.0,3, -0.3276,    230.8,2,   120.94,2,    32.36,2,     2.23,2,    0.439,2,    0.211,2,    0.003,2,    0.721,2, -999.000,9,-999.0000,9,  -999.00,9,-999.000,9,   -999.0,9,   -999.0,9,-999.0,  -999.0,-999.0000,-999.000,-999.000,-999.000,-999.000
      74JC10_1,   A23,    33,  1,   3302,      2,2,19950407,1719,-61.1093, -31.0413, 2569,   2553,   2545.1,  -0.2888,  34.6554,2,  34.6555,2,    240.9,3, -0.4292,    234.3,2,   118.98,2,    32.23,2,     2.22,2, -999.000,9, -999.000,9, -999.000,9, -999.000,9, -999.000,9,-999.0000,9,  -999.00,9,-999.000,9,   -999.0,9,   -999.0,9,-999.0,  -999.0,-999.0000,-999.000,-999.000,-999.000,-999.000
      74JC10_1,   A23,    33,  1,   3301,      1,2,19950407,1719,-61.1093, -31.0413, 2569,   2555,   2546.3,  -0.2886,  34.6550,2,  34.6557,2,    241.4,3, -0.4291,    234.9,2,   119.77,2,    33.70,2,     2.24,2,    0.605,2,    0.277,2,    0.027,2,    0.884,2, -999.000,9,-999.0000,9,  -999.00,9,-999.000,9,   -999.0,9,   -999.0,9,-999.0,  2525.0,-999.0000,-999.000,  -0.294,-999.000,-999.000