BOTTLE,20220810CCHSIOAMB
EXPOCODE,SECT_ID,STNNBR,CASTNO,SAMPNO,BTLNBR,BTLNBR_FLAG_W,DATE,TIME,LATITUDE,LONGITUDE,DEPTH,CTDRAW,CTDPRS,CTDTMP,CTDSAL,CTDSAL_FLAG_W,SALNTY,SALNTY_FLAG_W,CTDOXY,CTDOXY_FLAG_W,THETA,OXYGEN,OXYGEN_FLAG_W,SILCAT,SILCAT_FLAG_W,NO2+NO3,NO2+NO3_FLAG_W,PHSPHT,PHSPHT_FLAG_W,CFC-11,CFC-11_FLAG_W,CFC-12,CFC-12_FLAG_W,CFC113,CFC113_FLAG_W,CCL4,CCL4_FLAG_W,TRITUM,TRITUM_FLAG_W,HELIUM,HELIUM_FLAG_W,DELHE3,DELHE3_FLAG_W,NEON,NEON_FLAG_W,TCARBN,TCARBN_FLAG_W,PCO2,PCO2_FLAG_W,PCO2TMP,REVPRS,HELIER,TRITER,REVTMP,NEONER,DELHER
,,,,,,,,,,,,,DBAR,ITS-90,PSS-78,,PSS-78,,UMOL/KG,,DEG C,UMOL/KG,,UMOL/KG,,UMOL/KG,,UMOL/KG,,PMOL/KG,,PMOL/KG,,PMOL/KG,,PMOL/KG,,TU,,NMOL/KG,,PERCNT,,NMOL/KG,,UMOL/KG,,UATM,,DEG C,DBAR,NMOL/KG,TU,ITS-90,NMOL/KG,PERCNT
      74JC10_1,   A23,   120,  1,  12024,     11,2,19950503,2155,-28.5315, -38.3065, 4661,     15,      7.7,  22.3815,  35.6745,2,  35.6743,2,    216.8,3, 22.3800,    212.8,2,     2.71,2,    -0.03,2,     0.01,2,    2.274,2,    1.152,2, -999.000,9,    2.265,2, -999.000,9,-999.0000,9,  -999.00,9,   7.921,2,   -999.0,9,   -999.0,9,-999.0,  -999.0,-999.0000,   0.007,-999.000,   0.025,-999.000
      74JC10_1,   A23,   120,  1,  12023,     23,2,19950503,2155,-28.5315, -38.3065, 4661,     64,     57.2,  21.5744,  36.1908,2,  36.2192,2,    239.4,3, 21.5632,    229.3,2,     3.35,2,    -0.03,2,     0.03,2, -999.000,9, -999.000,9, -999.000,9, -999.000,9, -999.000,9,-999.0000,9,  -999.00,9,-999.000,9,   -999.0,9,   -999.0,9,-999.0,  -999.0,-999.0000,-999.000,-999.000,-999.000,-999.000
      74JC10_1,   A23,   120,  1,  12022,     25,2,19950503,2155,-28.5315, -38.3065, 4661,    114,    107.0,  18.5966,  36.0183,2,  35.9864,2,    212.8,3, 18.5777,    207.2,2,     4.95,2,     0.75,2,     0.14,2,    2.582,2,    1.329,2,    0.196,2,    1.134,2,    0.828,2,-999.0000,9,  -999.00,9,-999.000,9,   -999.0,9,   -999.0,9,-999.0,  -999.0,-999.0000,-999.000,-999.000,-999.000,-999.000
      74JC10_1,   A23,   120,  1,  12021,     21,2,19950503,2155,-28.5315, -38.3065, 4661,    165,    157.7,  17.1169,  35.8011,2,  35.8007,2,    207.9,3, 17.0906,    204.4,2,     3.25,2,     2.43,2,     0.28,2, -999.000,9, -999.000,9, -999.000,9, -999.000,9, -999.000,9,-999.0000,9,  -999.00,9,-999.000,9,   -999.0,9,   -999.0,9,-999.0,  -999.0,-999.0000,-999.000,-999.000,-999.000,-999.000
      74JC10_1,   A23,   120,  1,  12020,     27,2,19950503,2155,-28.5315, -38.3065, 4661,    268,    259.1,  15.0598,  35.5487,2,  35.5387,2,    211.3,3, 15.0202,    205.2,2,     4.10,2,     6.37,2,     0.49,2,    2.771,2,    1.339,2,    0.074,2,    0.689,2, -999.000,9,-999.0000,9,  -999.00,9,-999.000,9,   -999.0,9,   -999.0,9,-999.0,  -999.0,-999.0000,-999.000,  18.309,-999.000,-999.000
      74JC10_1,   A23,   120,  1,  12019,     19,2,19950503,2155,-28.5315, -38.3065, 4661,    369,    359.9,  13.2537,  35.3021,2,  35.2857,2,    214.9,3, 13.2031,    208.0,2,     4.68,2,     9.40,2,     0.69,2, -999.000,9, -999.000,9, -999.000,9, -999.000,9,    0.640,2,   1.7320,2,     0.07,2,   7.246,2,   -999.0,9,   -999.0,9,-999.0,  -999.0,  0.0070,   0.016,-999.000,   0.022,   0.300
      74JC10_1,   A23,   120,  1,  12018,     18,2,19950503,2155,-28.5315, -38.3065, 4661,    522,    512.3,   9.8841,  34.8046,2,  34.7999,2,    209.3,3,  9.8243,    201.3,2,     8.79,2,    18.01,2,     1.23,2, -999.000,9, -999.000,9, -999.000,9, -999.000,9, -999.000,9,-999.0000,9,  -999.00,9,-999.000,9,   -999.0,9,   -999.0,9,-999.0,  -999.0,-999.0000,-999.000,-999.000,-999.000,-999.000
      74JC10_1,   A23,   120,  1,  12017,     17,2,19950503,2155,-28.5315, -38.3065, 4661,    779,    767.6,   5.1180,  34.3246,2,  34.3201,2,    227.9,3,  5.0549,    222.8,2,    19.61,2,    27.64,2,     1.85,2, -999.000,9, -999.000,9, -999.000,9, -999.000,9, -999.000,1,   1.7780,2,     1.01,2,   7.724,2,   -999.0,9,   -999.0,9,-999.0,  -999.0,  0.0070,-999.000,-999.000,   0.024,   0.300
      74JC10_1,   A23,   120,  1,  12016,     16,2,19950503,2155,-28.5315, -38.3065, 4661,   1034,   1021.3,   3.5150,  34.3620,2,  34.3660,2,    206.8,3,  3.4416,    198.7,2,    40.61,2,    31.56,2,     2.16,2,    0.449,2,    0.191,2,    0.012,2,    1.130,2, -999.000,1,   1.7890,2,     3.87,2,   7.831,2,   -999.0,9,   -999.0,9,-999.0,  -999.0,  0.0070,-999.000,-999.000,   0.024,   0.300
      74JC10_1,   A23,   120,  1,  12015,     15,2,19950503,2155,-28.5315, -38.3065, 4661,   1285,   1272.2,   3.0063,  34.5248,2,  34.5264,2,    192.0,3,  2.9171,    185.1,2,    56.98,2,    31.79,2,     2.16,2, -999.000,9, -999.000,9, -999.000,9, -999.000,9,    0.034,2,   1.8120,2,     6.34,2,   7.883,2,   -999.0,9,   -999.0,9,-999.0,  -999.0,  0.0070,   0.029,-999.000,   0.024,   0.300
      74JC10_1,   A23,   120,  1,  12014,     14,2,19950503,2155,-28.5315, -38.3065, 4661,   1544,   1530.6,   2.9429,  34.6920,2,  34.6958,2,    199.8,3,  2.8329,    193.3,2,    53.13,2,    29.02,2,     1.94,2,    0.004,2,    0.005,2,    0.000,2,    0.144,2, -999.000,9,-999.0000,9,  -999.00,9,-999.000,9,   -999.0,9,   -999.0,9,-999.0,  -999.0,-999.0000,-999.000,-999.000,-999.000,-999.000
      74JC10_1,   A23,   120,  1,  12013,     13,2,19950503,2155,-28.5315, -38.3065, 4661,   1803,   1789.6,   3.1298,  34.8284,2,  34.8285,2,    219.4,3,  2.9947,    215.4,2,    42.20,2,    25.13,2,     1.65,2, -999.000,9, -999.000,9, -999.000,9, -999.000,9,    0.024,2,   1.8180,2,     4.77,2,   7.900,2,   -999.0,9,   -999.0,9,-999.0,  -999.0,  0.0070,   0.014,-999.000,   0.024,   0.300
      74JC10_1,   A23,   120,  1,  12012,     12,2,19950503,2155,-28.5315, -38.3065, 4661,   2058,   2044.9,   3.2259,  34.9062,2,  34.9056,2,    241.3,3,  3.0660,    234.3,2,    32.71,2,    22.22,2,     1.43,2,    0.004,2,    0.010,2,    0.000,2,    0.146,2,    0.062,4,   1.8000,2,     3.76,2,   7.874,2,   -999.0,9,   -999.0,9,-999.0,  -999.0,  0.0070,   0.418,-999.000,   0.024,   0.300
      74JC10_1,   A23,   120,  1,  12011,     24,2,19950503,2155,-28.5315, -38.3065, 4661,   2416,   2403.9,   3.0886,  34.9333,2,  34.9327,2,    252.0,3,  2.8966,    244.1,2,    30.32,2,    20.84,2,     1.38,2, -999.000,9, -999.000,9, -999.000,9, -999.000,9,    0.023,2,   1.8130,2,     2.70,2,-999.000,9,   -999.0,9,   -999.0,9,-999.0,  -999.0,  0.0070,-999.000,-999.000,-999.000,   0.300
      74JC10_1,   A23,   120,  1,  12010,     10,2,19950503,2155,-28.5315, -38.3065, 4661,   2776,   2764.2,   2.8700,  34.9265,2,  34.9256,2,    253.3,3,  2.6463,    245.9,2,    33.36,2,    20.92,2,     1.35,2,   -0.003,2,    0.004,2,    0.000,2,    0.081,2,    0.015,2,   1.8150,2,     4.27,2,   7.910,2,   -999.0,9,   -999.0,9,-999.0,  -999.0,  0.0070,   0.002,-999.000,   0.025,   0.300
      74JC10_1,   A23,   120,  1,  12009,      9,2,19950503,2155,-28.5315, -38.3065, 4661,   3085,   3073.6,   2.7260,  34.9201,2,  34.9185,2,    255.2,3,  2.4736,    248.3,2,    35.96,2,    20.94,2,     1.41,2, -999.000,9, -999.000,9, -999.000,9, -999.000,9, -999.000,9,   1.8170,2,     2.71,2,   7.951,2,   -999.0,9,   -999.0,9,-999.0,  -999.0,  0.0070,-999.000,-999.000,   0.025,   0.300
      74JC10_1,   A23,   120,  1,  12008,      8,2,19950503,2155,-28.5315, -38.3065, 4661,   3445,   3434.7,   2.4512,  34.8984,2,  34.8987,2,    254.8,3,  2.1672,    246.8,2,    42.68,2,    21.74,2,     1.42,2,   -0.007,2,    0.005,2,    0.000,2,    0.069,2,    0.012,2,   1.8140,2,     3.01,2,   7.949,2,   -999.0,9,   -999.0,9,-999.0,  -999.0,  0.0070,   0.002,-999.000,   0.025,   0.300
      74JC10_1,   A23,   120,  1,  12007,     26,2,19950503,2155,-28.5315, -38.3065, 4661,   3806,   3796.8,   1.7144,  34.8238,2,  34.8228,2,    243.5,3,  1.4108,    235.2,2,    70.77,2,    25.47,2,     1.71,2, -999.000,9, -999.000,9, -999.000,9, -999.000,9, -999.000,9,   1.8400,2,     4.25,2,-999.000,9,   -999.0,9,   -999.0,9,-999.0,  -999.0,  0.0070,-999.000,   1.711,-999.000,   0.300
      74JC10_1,   A23,   120,  1,  12006,      6,2,19950503,2155,-28.5315, -38.3065, 4661,   4115,   4106.5,   1.0693,  34.7511,2,  34.7508,2,    230.8,3,  0.7508,    222.7,2,    97.89,2,    29.28,2,     1.98,2,    0.018,2,    0.017,2,    0.000,2,    0.128,2,    0.078,4,-999.0000,9,  -999.00,9,-999.000,9,   -999.0,9,   -999.0,9,-999.0,  -999.0,-999.0000,   0.176,-999.000,-999.000,-999.000
      74JC10_1,   A23,   120,  1,  12005,      5,2,19950503,2155,-28.5315, -38.3065, 4661,   4373,   4364.8,   0.4110,  34.6864,2,  34.6926,2,    222.9,3,  0.0848,    216.3,2,   117.29,2,    31.58,2,     2.15,2,    0.084,2,    0.052,2,    0.000,2,    0.292,2,    0.017,2,-999.0000,9,  -999.00,9,-999.000,9,   -999.0,9,   -999.0,9,-999.0,  -999.0,-999.0000,   0.002,-999.000,-999.000,-999.000
      74JC10_1,   A23,   120,  1,  12004,      4,2,19950503,2155,-28.5315, -38.3065, 4661,   4582,   4574.1,   0.2697,  34.6777,2,  34.6779,2,    224.3,3, -0.0747,    217.3,2,   122.59,2,    31.77,2,     2.21,2,    0.101,2,    0.062,2,    0.005,2,    0.334,2,    0.017,2,   1.8600,2,     6.92,2,   8.174,2,   -999.0,9,   -999.0,9,-999.0,  4582.0,  0.0070,   0.005,   0.262,   0.025,   0.300
      74JC10_1,   A23,   120,  1,  12003,      3,2,19950503,2155,-28.5315, -38.3065, 4661,   4755,   4747.2,   0.2748,  34.6773,2,  34.6745,2,    223.1,3, -0.0888,    217.5,2,   124.70,2,    32.40,2,     2.23,2,    0.102,2,    0.058,2,    0.011,2,    0.318,2, -999.000,9,-999.0000,9,  -999.00,9,-999.000,9,   -999.0,9,   -999.0,9,-999.0,  -999.0,-999.0000,-999.000,-999.000,-999.000,-999.000
      74JC10_1,   A23,   120,  1,  12002,      2,2,19950503,2155,-28.5315, -38.3065, 4661,   4755,   4747.5,   0.2747,  34.6773,2,  34.6753,2,    223.1,3, -0.0889,    216.8,2,   125.50,2,    32.25,2,     2.20,2,    0.106,2,    0.054,2,    0.013,2,    0.323,2, -999.000,9,-999.0000,9,  -999.00,9,-999.000,9,   -999.0,9,   -999.0,9,-999.0,  -999.0,-999.0000,-999.000,-999.000,-999.000,-999.000
      74JC10_1,   A23,   120,  1,  12001,      1,2,19950503,2155,-28.5315, -38.3065, 4661,   4756,   4748.0,   0.2748,  34.6770,2,  34.6761,2,    223.1,3, -0.0890,    217.8,2,   124.92,2,    32.21,2,     2.18,2, -999.000,9, -999.000,9, -999.000,9, -999.000,9,    0.019,2,   1.8680,2,     7.30,2,   8.179,2,   -999.0,9,   -999.0,9,-999.0,  4737.0,  0.0070,   0.020,   0.272,   0.025,   0.300
      74JC10_1,   A23,   121,  1,  12124,     11,2,19950504,0325,-28.1965, -38.6268, 4223,     14,      6.5,  24.0148,  36.1404,2,  36.1403,2,    213.1,3, 24.0134,    206.0,2,     3.38,2,     0.09,2,     0.00,2,    2.122,2,    1.141,2,    0.203,2,    1.910,2, -999.000,9,-999.0000,9,  -999.00,9,-999.000,9,   -999.0,9,   -999.0,9,-999.0,  -999.0,-999.0000,-999.000,-999.000,-999.000,-999.000
      74JC10_1,   A23,   121,  1,  12123,     23,2,19950504,0325,-28.1965, -38.6268, 4223,     62,     54.9,  23.9293,  36.1460,2,  36.1917,2,    215.1,3, 23.9177,    212.8,2,     3.38,2,     0.10,2,     0.00,2,    2.212,2,    1.179,2,    0.263,2,    1.751,2, -999.000,9,-999.0000,9,  -999.00,9,-999.000,9,   -999.0,9,   -999.0,9,-999.0,  -999.0,-999.0000,-999.000,-999.000,-999.000,-999.000
      74JC10_1,   A23,   121,  1,  12122,     25,2,19950504,0325,-28.1965, -38.6268, 4223,    113,    105.3,  19.4221,  36.1205,2,  36.1199,2,    224.8,3, 19.4030,    212.3,2,     3.49,2,     0.18,2,     0.07,2, -999.000,9, -999.000,9, -999.000,9, -999.000,9, -999.000,9,-999.0000,9,  -999.00,9,-999.000,9,   -999.0,9,   -999.0,9,-999.0,  -999.0,-999.0000,-999.000,-999.000,-999.000,-999.000
      74JC10_1,   A23,   121,  1,  12121,     21,2,19950504,0325,-28.1965, -38.6268, 4223,    164,    156.4,  17.7267,  35.9079,2,  35.9026,2,    206.8,3, 17.7000,    200.6,2,     3.82,2,     1.86,2,     0.27,2, -999.000,9, -999.000,9, -999.000,9, -999.000,9, -999.000,9,-999.0000,9,  -999.00,9,-999.000,9,   -999.0,9,   -999.0,9,-999.0,  -999.0,-999.0000,-999.000,-999.000,-999.000,-999.000
      74JC10_1,   A23,   121,  1,  12120,     27,2,19950504,0325,-28.1965, -38.6268, 4223,    215,    207.2,  16.3675,  35.6893,2,  35.6863,2,    207.8,3, 16.3340,    204.4,2,     4.04,2,     2.83,2,     0.34,2, -999.000,9, -999.000,9, -999.000,9, -999.000,9, -999.000,9,-999.0000,9,  -999.00,9,-999.000,9,   -999.0,9,   -999.0,9,-999.0,  -999.0,-999.0000,-999.000,  16.414,-999.000,-999.000
      74JC10_1,   A23,   121,  1,  12119,     19,2,19950504,0325,-28.1965, -38.6268, 4223,    266,    257.1,  15.3205,  35.5751,2,  35.5723,2,    207.6,3, 15.2808,    204.5,2,     4.92,2,     4.74,2,     0.48,2,    2.728,2,    1.395,2,    0.087,2,    0.640,2, -999.000,9,-999.0000,9,  -999.00,9,-999.000,9,   -999.0,9,   -999.0,9,-999.0,  -999.0,-999.0000,-999.000,-999.000,-999.000,-999.000
      74JC10_1,   A23,   121,  1,  12118,     18,2,19950504,0325,-28.1965, -38.6268, 4223,    367,    358.0,  13.4934,  35.3358,2,  35.3263,2,    212.8,3, 13.4425,    206.8,2,     5.13,2,     8.43,2,     0.68,2,    2.675,2,    1.366,2,    0.068,2,    0.623,2, -999.000,9,-999.0000,9,  -999.00,9,-999.000,9,   -999.0,9,   -999.0,9,-999.0,  -999.0,-999.0000,-999.000,-999.000,-999.000,-999.000
      74JC10_1,   A23,   121,  1,  12117,     17,2,19950504,0325,-28.1965, -38.6268, 4223,    520,    510.5,   9.9172,  34.8062,2,  34.7940,2,    206.0,3,  9.8574,    199.2,2,     9.34,2,    17.89,2,     1.25,2,    2.217,2,    1.056,2,    0.064,2,    0.973,2, -999.000,9,-999.0000,9,  -999.00,9,-999.000,9,   -999.0,9,   -999.0,9,-999.0,  -999.0,-999.0000,-999.000,-999.000,-999.000,-999.000
      74JC10_1,   A23,   121,  1,  12116,     16,2,19950504,0325,-28.1965, -38.6268, 4223,    774,    763.4,   5.2246,  34.3315,2,  34.3311,2,    232.6,3,  5.1612,    224.5,2,    19.46,2,    27.01,2,     1.85,2,    2.070,2,    1.108,3,    0.123,2,    2.197,2, -999.000,9,-999.0000,9,  -999.00,9,-999.000,9,   -999.0,9,   -999.0,9,-999.0,  -999.0,-999.0000,-999.000,-999.000,-999.000,-999.000
      74JC10_1,   A23,   121,  1,  12115,     15,2,19950504,0325,-28.1965, -38.6268, 4223,   1032,   1019.8,   3.5929,  34.3522,2,  34.3527,2,    205.7,3,  3.5190,    201.5,2,    39.40,2,    31.55,2,     2.17,2,    0.598,2,    0.310,2,    0.013,2,    1.158,2, -999.000,9,-999.0000,9,  -999.00,9,-999.000,9,   -999.0,9,   -999.0,9,-999.0,  -999.0,-999.0000,-999.000,-999.000,-999.000,-999.000
      74JC10_1,   A23,   121,  1,  12114,     14,2,19950504,0325,-28.1965, -38.6268, 4223,   1287,   1274.2,   2.9992,  34.5214,2,  34.5237,2,    192.1,3,  2.9100,    185.5,2,    54.75,2,    31.98,2,     2.22,2,    0.090,2,    0.063,2,    0.007,2,    0.401,2, -999.000,9,-999.0000,9,  -999.00,9,-999.000,9,   -999.0,9,   -999.0,9,-999.0,  -999.0,-999.0000,-999.000,-999.000,-999.000,-999.000
      74JC10_1,   A23,   121,  1,  12113,     13,2,19950504,0325,-28.1965, -38.6268, 4223,   1536,   1522.3,   2.9838,  34.6785,2,  34.6810,2,    199.2,3,  2.8741,    192.1,2,    53.77,2,    29.44,2,     2.00,2,    0.006,2,    0.012,3,    0.000,2,    0.134,2, -999.000,9,-999.0000,9,  -999.00,9,-999.000,9,   -999.0,9,   -999.0,9,-999.0,  -999.0,-999.0000,-999.000,-999.000,-999.000,-999.000
      74JC10_1,   A23,   121,  1,  12112,     12,2,19950504,0325,-28.1965, -38.6268, 4223,   1799,   1786.1,   2.9986,  34.8021,2,  34.8025,2,    219.0,3,  2.8657,    211.7,2,    46.93,2,    25.91,2,     1.76,2, -999.000,9, -999.000,9, -999.000,9, -999.000,9, -999.000,9,-999.0000,9,  -999.00,9,-999.000,9,   -999.0,9,   -999.0,9,-999.0,  -999.0,-999.0000,-999.000,-999.000,-999.000,-999.000
      74JC10_1,   A23,   121,  1,  12111,     24,2,19950504,0325,-28.1965, -38.6268, 4223,   2052,   2038.8,   2.9579,  34.8613,2,  34.8627,2,    231.8,3,  2.8027,    225.9,2,    41.57,2,    23.55,2,     1.59,2,    0.001,2,    0.005,2,    0.000,2,    0.072,2, -999.000,9,-999.0000,9,  -999.00,9,-999.000,9,   -999.0,9,   -999.0,9,-999.0,  -999.0,-999.0000,-999.000,-999.000,-999.000,-999.000
      74JC10_1,   A23,   121,  1,  12110,     10,2,19950504,0325,-28.1965, -38.6268, 4223,   2414,   2401.2,   3.0207,  34.9268,2,  34.9262,2,    250.4,3,  2.8301,    243.0,2,    32.40,2,    20.74,2,     1.38,2, -999.000,9, -999.000,9, -999.000,9, -999.000,9, -999.000,9,-999.0000,9,  -999.00,9,-999.000,9,   -999.0,9,   -999.0,9,-999.0,  -999.0,-999.0000,-999.000,-999.000,-999.000,-999.000
      74JC10_1,   A23,   121,  1,  12109,      9,2,19950504,0325,-28.1965, -38.6268, 4223,   2773,   2761.5,   2.8247,  34.9222,2,  34.9217,2,    251.6,3,  2.6023,    245.2,2,    34.97,2,    20.64,2,     1.37,2,   -0.006,2,    0.008,2,    0.000,2,    0.090,2, -999.000,9,-999.0000,9,  -999.00,9,-999.000,9,   -999.0,9,   -999.0,9,-999.0,  -999.0,-999.0000,-999.000,-999.000,-999.000,-999.000
      74JC10_1,   A23,   121,  1,  12108,      8,2,19950504,0325,-28.1965, -38.6268, 4223,   3080,   3069.4,   2.6743,  34.9159,2,  34.9154,2,    253.8,3,  2.4236,    246.5,2,    37.32,2,    20.69,2,     1.39,2,    0.001,2,    0.018,3,    0.000,2,    0.098,2, -999.000,9,-999.0000,9,  -999.00,9,-999.000,9,   -999.0,9,   -999.0,9,-999.0,  -999.0,-999.0000,-999.000,-999.000,-999.000,-999.000
      74JC10_1,   A23,   121,  1,  12107,     26,2,19950504,0325,-28.1965, -38.6268, 4223,   3438,   3427.6,   2.3133,  34.8837,2,  34.8833,2,    251.9,3,  2.0335,    244.0,2,    48.95,2,    21.96,2,     1.47,2,   -0.010,2,    0.007,2,    0.000,2,    0.081,2, -999.000,9,-999.0000,9,  -999.00,9,-999.000,9,   -999.0,9,   -999.0,9,-999.0,  -999.0,-999.0000,-999.000,   2.307,-999.000,-999.000
      74JC10_1,   A23,   121,  1,  12106,      6,2,19950504,0325,-28.1965, -38.6268, 4223,   3597,   3587.4,   1.9442,  34.8467,2,  34.8456,2,    246.5,3,  1.6568,    237.9,2,    63.38,2,    24.06,2,     1.64,2,   -0.009,2,    0.007,2,    0.000,2,    0.066,2, -999.000,9,-999.0000,9,  -999.00,9,-999.000,9,   -999.0,9,   -999.0,9,-999.0,  -999.0,-999.0000,-999.000,-999.000,-999.000,-999.000
      74JC10_1,   A23,   121,  1,  12105,      5,2,19950504,0325,-28.1965, -38.6268, 4223,   3810,   3800.7,   1.3761,  34.7865,2,  34.7866,2,    235.6,3,  1.0814,    228.2,2,    86.00,2,    27.18,2,     1.85,2,   -0.001,2,    0.011,2,    0.000,2,    0.071,2, -999.000,9,-999.0000,9,  -999.00,9,-999.000,9,   -999.0,9,   -999.0,9,-999.0,  -999.0,-999.0000,-999.000,-999.000,-999.000,-999.000
      74JC10_1,   A23,   121,  1,  12104,      4,2,19950504,0325,-28.1965, -38.6268, 4223,   4114,   4105.3,   0.6116,  34.7036,2,  34.7026,2,    222.4,3,  0.3068,    215.4,2,   117.98,2,    31.34,2,     2.16,2,    0.065,2,    0.052,2,    0.000,2,    0.264,2, -999.000,9,-999.0000,9,  -999.00,9,-999.000,9,   -999.0,9,   -999.0,9,-999.0,  4115.0,-999.0000,-999.000,   0.608,-999.000,-999.000
      74JC10_1,   A23,   121,  1,  12102,      2,2,19950504,0325,-28.1965, -38.6268, 4223,   4298,   4289.4,   0.4105,  34.6863,2,  34.6848,2,    221.0,3,  0.0924,    214.9,2,   125.13,2,    32.09,2,     2.21,2,    0.077,2,    0.045,2,    0.000,2,    0.280,2, -999.000,9,-999.0000,9,  -999.00,9,-999.000,9,   -999.0,9,   -999.0,9,-999.0,  -999.0,-999.0000,-999.000,-999.000,-999.000,-999.000
      74JC10_1,   A23,   121,  1,  12103,      3,2,19950504,0325,-28.1965, -38.6268, 4223,   4298,   4289.4,   0.4103,  34.6863,2,  34.6848,2,    221.0,3,  0.0922,    214.9,2,   124.75,2,    32.01,2,     2.22,2,    0.083,2,    0.050,2,    0.000,2,    0.276,2, -999.000,9,-999.0000,9,  -999.00,9,-999.000,9,   -999.0,9,   -999.0,9,-999.0,  -999.0,-999.0000,-999.000,-999.000,-999.000,-999.000
      74JC10_1,   A23,   121,  1,  12101,      1,2,19950504,0325,-28.1965, -38.6268, 4223,   4299,   4290.6,   0.4105,  34.6863,2,  34.6857,2,    221.0,3,  0.0923,    215.5,2,   125.79,2,    32.06,2,     2.20,2, -999.000,9, -999.000,9, -999.000,9, -999.000,9, -999.000,9,-999.0000,9,  -999.00,9,-999.000,9,   -999.0,9,   -999.0,9,-999.0,  4277.0,-999.0000,-999.000,   0.397,-999.000,-999.000