BOTTLE,20220810CCHSIOAMB
EXPOCODE,SECT_ID,STNNBR,CASTNO,SAMPNO,BTLNBR,BTLNBR_FLAG_W,DATE,TIME,LATITUDE,LONGITUDE,DEPTH,CTDRAW,CTDPRS,CTDTMP,CTDSAL,CTDSAL_FLAG_W,SALNTY,SALNTY_FLAG_W,CTDOXY,CTDOXY_FLAG_W,THETA,OXYGEN,OXYGEN_FLAG_W,SILCAT,SILCAT_FLAG_W,NO2+NO3,NO2+NO3_FLAG_W,PHSPHT,PHSPHT_FLAG_W,CFC-11,CFC-11_FLAG_W,CFC-12,CFC-12_FLAG_W,CFC113,CFC113_FLAG_W,CCL4,CCL4_FLAG_W,TRITUM,TRITUM_FLAG_W,HELIUM,HELIUM_FLAG_W,DELHE3,DELHE3_FLAG_W,NEON,NEON_FLAG_W,TCARBN,TCARBN_FLAG_W,PCO2,PCO2_FLAG_W,PCO2TMP,REVPRS,HELIER,TRITER,REVTMP,NEONER,DELHER
,,,,,,,,,,,,,DBAR,ITS-90,PSS-78,,PSS-78,,UMOL/KG,,DEG C,UMOL/KG,,UMOL/KG,,UMOL/KG,,UMOL/KG,,PMOL/KG,,PMOL/KG,,PMOL/KG,,PMOL/KG,,TU,,NMOL/KG,,PERCNT,,NMOL/KG,,UMOL/KG,,UATM,,DEG C,DBAR,NMOL/KG,TU,ITS-90,NMOL/KG,PERCNT
      74JC10_1,   A23,   104,  1,  10423,     23,2,19950501,0112,-33.0880, -36.0002, 4072,     14,      7.4,  21.6902,  35.6597,2,  35.6595,2,    223.9,3, 21.6887,    216.5,2,     2.65,2,     0.17,2,     0.03,2,    2.058,2,    1.177,2,    0.251,2,    2.131,2, -999.000,9,-999.0000,9,  -999.00,9,-999.000,9,   -999.0,9,   -999.0,9,-999.0,  -999.0,-999.0000,-999.000,-999.000,-999.000,-999.000
      74JC10_1,   A23,   104,  1,  10422,     25,2,19950501,0112,-33.0880, -36.0002, 4072,     66,     58.7,  20.9638,  35.9213,2,  35.8815,2,    226.5,3, 20.9526,    223.7,2,     2.77,2,     0.18,2,     0.03,2,    2.238,2,    1.234,2,    0.293,2,    1.905,2, -999.000,9,-999.0000,9,  -999.00,9,-999.000,9,   -999.0,9,   -999.0,9,-999.0,  -999.0,-999.0000,-999.000,-999.000,-999.000,-999.000
      74JC10_1,   A23,   104,  1,  10421,     21,2,19950501,0112,-33.0880, -36.0002, 4072,    117,    109.8,  17.5515,  35.8186,2,  35.8127,2,    237.4,3, 17.5329,    226.1,2,     2.83,2,     0.30,2,     0.15,2,    2.581,2,    1.412,2,    0.213,2,    1.418,2, -999.000,9,-999.0000,9,  -999.00,9,-999.000,9,   -999.0,9,   -999.0,9,-999.0,  -999.0,-999.0000,-999.000,-999.000,-999.000,-999.000
      74JC10_1,   A23,   104,  1,  10420,     27,2,19950501,0112,-33.0880, -36.0002, 4072,    167,    158.7,  16.4256,  35.7482,2,  35.7349,2,    212.2,3, 16.3999,    212.3,2,     3.26,2,     3.75,2,     0.43,2,    2.590,2,    1.366,2,    0.116,2,    0.869,2, -999.000,9,-999.0000,9,  -999.00,9,-999.000,9,   -999.0,9,   -999.0,9,-999.0,  -999.0,-999.0000,-999.000,  16.424,-999.000,-999.000
      74JC10_1,   A23,   104,  1,  10419,     19,2,19950501,0112,-33.0880, -36.0002, 4072,    219,    210.7,  15.5399,  35.6560,2,  35.6427,2,    215.8,3, 15.5070,    211.0,2,     3.55,2,     5.45,2,     0.38,2,    2.645,2,    1.377,2,    0.102,2,    0.780,2, -999.000,9,-999.0000,9,  -999.00,9,-999.000,9,   -999.0,9,   -999.0,9,-999.0,  -999.0,-999.0000,-999.000,-999.000,-999.000,-999.000
      74JC10_1,   A23,   104,  1,  10418,     18,2,19950501,0112,-33.0880, -36.0002, 4072,    269,    259.9,  14.9566,  35.5842,2,  35.5823,2,    215.4,3, 14.9170,    210.6,2,     3.79,2,     6.58,2,     0.44,2,    2.674,2,    1.422,2,    0.094,2,    0.773,2, -999.000,9,-999.0000,9,  -999.00,9,-999.000,9,   -999.0,9,   -999.0,9,-999.0,  -999.0,-999.0000,-999.000,-999.000,-999.000,-999.000
      74JC10_1,   A23,   104,  1,  10417,     17,2,19950501,0112,-33.0880, -36.0002, 4072,    372,    362.2,  13.7334,  35.3879,2,  35.3813,2,    216.6,3, 13.6813,    208.4,2,     4.59,2,     9.59,2,     0.60,2,    2.581,2,    1.305,2,    0.061,2,    0.743,2, -999.000,9,-999.0000,9,  -999.00,9,-999.000,9,   -999.0,9,   -999.0,9,-999.0,  -999.0,-999.0000,-999.000,-999.000,-999.000,-999.000
      74JC10_1,   A23,   104,  1,  10416,     16,2,19950501,0112,-33.0880, -36.0002, 4072,    527,    516.5,  10.5278,  34.8929,2,  34.8877,2,    209.5,3, 10.4650,    202.3,2,     7.17,2,    17.38,2,     1.06,2,    2.231,2,    1.126,2,    0.056,2,    1.021,2, -999.000,9,-999.0000,9,  -999.00,9,-999.000,9,   -999.0,9,   -999.0,9,-999.0,  -999.0,-999.0000,-999.000,-999.000,-999.000,-999.000
      74JC10_1,   A23,   104,  1,  10415,     15,2,19950501,0112,-33.0880, -36.0002, 4072,    780,    769.3,   5.6152,  34.3364,2,  34.3401,2,    233.9,3,  5.5490,    226.8,2,    15.87,2,    27.06,2,     1.72,2,    2.138,2,    1.069,2,    0.099,2,    2.521,2, -999.000,9,-999.0000,9,  -999.00,9,-999.000,9,   -999.0,9,   -999.0,9,-999.0,  -999.0,-999.0000,-999.000,-999.000,-999.000,-999.000
      74JC10_1,   A23,   104,  1,  10414,     14,2,19950501,0112,-33.0880, -36.0002, 4072,   1034,   1021.9,   3.8716,  34.3037,2,  34.3042,2,    224.5,3,  3.7954,    216.4,2,    31.36,2,    31.32,2,     1.96,2,    1.051,2,    0.538,2,    0.029,2,    1.839,2, -999.000,9,-999.0000,9,  -999.00,9,-999.000,9,   -999.0,9,   -999.0,9,-999.0,  -999.0,-999.0000,-999.000,-999.000,-999.000,-999.000
      74JC10_1,   A23,   104,  1,  10413,     13,2,19950501,0112,-33.0880, -36.0002, 4072,   1283,   1270.6,   3.1217,  34.4199,2,  34.4198,2,    201.8,3,  3.0317,    192.8,2,    49.27,2,    33.14,2,     2.10,2,    0.322,2,    0.188,2,    0.010,2,    0.920,2, -999.000,9,-999.0000,9,  -999.00,9,-999.000,9,   -999.0,9,   -999.0,9,-999.0,  -999.0,-999.0000,-999.000,-999.000,-999.000,-999.000
      74JC10_1,   A23,   104,  1,  10412,     12,2,19950501,0112,-33.0880, -36.0002, 4072,   1543,   1529.9,   2.8445,  34.5566,2,  34.5582,2,    189.0,3,  2.7361,    184.3,2,    58.79,2,    32.78,2,     2.05,2,    0.070,2,    0.049,2,    0.000,2,    0.376,2, -999.000,9,-999.0000,9,  -999.00,9,-999.000,9,   -999.0,9,   -999.0,9,-999.0,  -999.0,-999.0000,-999.000,-999.000,-999.000,-999.000
      74JC10_1,   A23,   104,  1,  10411,     24,2,19950501,0112,-33.0880, -36.0002, 4072,   1801,   1787.8,   2.8837,  34.7086,2,  34.7097,2,    196.9,3,  2.7524,    192.7,2,    56.50,2,    30.18,2,     1.85,2,    0.011,2,    0.022,3,    0.000,2,    0.168,2, -999.000,9,-999.0000,9,  -999.00,9,-999.000,9,   -999.0,9,   -999.0,9,-999.0,  -999.0,-999.0000,-999.000,-999.000,-999.000,-999.000
      74JC10_1,   A23,   104,  1,  10410,     10,2,19950501,0112,-33.0880, -36.0002, 4072,   2052,   2039.2,   3.0770,  34.8260,2,  34.8265,2,    218.7,3,  2.9201,    213.5,2,    46.54,2,    26.69,2,     1.59,2,   -0.001,2,    0.014,3,    0.006,2,    0.138,2, -999.000,9,-999.0000,9,  -999.00,9,-999.000,9,   -999.0,9,   -999.0,9,-999.0,  -999.0,-999.0000,-999.000,-999.000,-999.000,-999.000
      74JC10_1,   A23,   104,  1,  10409,      9,2,19950501,0112,-33.0880, -36.0002, 4072,   2303,   2290.9,   3.0843,  34.8849,2,  34.8849,2,    234.7,3,  2.9034,    227.6,2,    41.12,2,    24.46,2,     1.46,2, -999.000,9, -999.000,9, -999.000,9, -999.000,9, -999.000,9,-999.0000,9,  -999.00,9,-999.000,9,   -999.0,9,   -999.0,9,-999.0,  -999.0,-999.0000,-999.000,-999.000,-999.000,-999.000
      74JC10_1,   A23,   104,  1,  10408,      8,2,19950501,0112,-33.0880, -36.0002, 4072,   2562,   2550.0,   3.0400,  34.9125,2,  34.9136,2,    242.5,3,  2.8346,    238.7,2,    35.87,2,    22.91,2,     1.32,2,   -0.008,2,    0.012,3,    0.000,2,    0.130,2, -999.000,9,-999.0000,9,  -999.00,9,-999.000,9,   -999.0,9,   -999.0,9,-999.0,  -999.0,-999.0000,-999.000,-999.000,-999.000,-999.000
      74JC10_1,   A23,   104,  1,  10407,     26,2,19950501,0112,-33.0880, -36.0002, 4072,   2825,   2813.4,   2.9223,  34.9188,2,  34.9193,2,    252.0,3,  2.6926,    242.9,2,    35.02,2,    22.29,2,     1.33,2,   -0.015,2,    0.010,3,    0.001,2,    0.111,2, -999.000,9,-999.0000,9,  -999.00,9,-999.000,9,   -999.0,9,   -999.0,9,-999.0,  -999.0,-999.0000,-999.000,   2.915,-999.000,-999.000
      74JC10_1,   A23,   104,  1,  10406,      6,2,19950501,0112,-33.0880, -36.0002, 4072,   3082,   3071.6,   2.7462,  34.9130,2,  34.9134,2,    252.0,3,  2.4936,    244.8,2,    37.62,2,    22.33,2,     1.42,2,   -0.014,2,    0.012,3,    0.000,2,    0.107,2, -999.000,9,-999.0000,9,  -999.00,9,-999.000,9,   -999.0,9,   -999.0,9,-999.0,  -999.0,-999.0000,-999.000,-999.000,-999.000,-999.000
      74JC10_1,   A23,   104,  1,  10405,      5,2,19950501,0112,-33.0880, -36.0002, 4072,   3333,   3323.3,   2.3883,  34.8729,2,  34.8729,2,    244.3,3,  2.1178,    236.7,2,    51.85,2,    24.29,2,     1.42,2,   -0.011,2,    0.004,2,    0.006,2,    0.094,2, -999.000,9,-999.0000,9,  -999.00,9,-999.000,9,   -999.0,9,   -999.0,9,-999.0,  -999.0,-999.0000,-999.000,-999.000,-999.000,-999.000
      74JC10_1,   A23,   104,  1,  10404,      4,2,19950501,0112,-33.0880, -36.0002, 4072,   3591,   3581.4,   1.9101,  34.8283,2,  34.8261,2,    243.1,3,  1.6243,    230.8,2,    70.43,2,    26.52,2,     1.57,2,   -0.003,2,    0.014,2,    0.000,2,    0.082,2, -999.000,9,-999.0000,9,  -999.00,9,-999.000,9,   -999.0,9,   -999.0,9,-999.0,  3589.0,-999.0000,-999.000,   1.902,-999.000,-999.000
      74JC10_1,   A23,   104,  1,  10403,      3,2,19950501,0112,-33.0880, -36.0002, 4072,   3901,   3891.9,   1.2308,  34.7518,2,  34.7516,2,    223.4,3,  0.9307,    216.8,2,    99.31,2,    30.26,2,     1.85,2,    0.019,2,    0.023,3,    0.009,2,    0.122,2, -999.000,9,-999.0000,9,  -999.00,9,-999.000,9,   -999.0,9,   -999.0,9,-999.0,  -999.0,-999.0000,-999.000,-999.000,-999.000,-999.000
      74JC10_1,   A23,   104,  1,  10401,      1,2,19950501,0112,-33.0880, -36.0002, 4072,   4130,   4120.9,   0.6757,  34.7044,2,  34.7028,2,    221.1,3,  0.3673,    213.3,2,   116.86,2,    32.20,2,     1.99,2,    0.050,2,    0.032,2,    0.000,2,    0.231,2, -999.000,9,-999.0000,9,  -999.00,9,-999.000,9,   -999.0,9,   -999.0,9,-999.0,  4108.0,-999.0000,-999.000,   0.674,-999.000,-999.000
      74JC10_1,   A23,   104,  1,  10402,      2,2,19950501,0112,-33.0880, -36.0002, 4072,   4134,   4125.4,   0.6763,  34.7043,2,  34.7022,2,    220.9,3,  0.3675,    213.5,2,   116.68,2,    32.35,2,     2.00,2,    0.051,2,    0.029,2,    0.000,2,    0.231,2, -999.000,9,-999.0000,9,  -999.00,9,-999.000,9,   -999.0,9,   -999.0,9,-999.0,  -999.0,-999.0000,-999.000,-999.000,-999.000,-999.000
      74JC10_1,   A23,   105,  1,  10521,     21,2,19950501,0532,-32.8468, -35.9877, 3501,      9,      2.2,  21.5534,  35.7790,2,  35.7791,2,    221.3,3, 21.5529,    215.9,2,     2.71,2,     0.00,2,     0.02,2, -999.000,9, -999.000,9, -999.000,9, -999.000,9, -999.000,9,-999.0000,9,  -999.00,9,-999.000,9,   -999.0,9,   -999.0,9,-999.0,  -999.0,-999.0000,-999.000,-999.000,-999.000,-999.000
      74JC10_1,   A23,   105,  1,  10520,     27,2,19950501,0532,-32.8468, -35.9877, 3501,     65,     58.3,  20.9645,  35.8039,2,  35.8056,2,    229.2,3, 20.9533,    218.9,2,     2.96,2,     0.02,2,     0.03,2, -999.000,9, -999.000,9, -999.000,9, -999.000,9, -999.000,9,-999.0000,9,  -999.00,9,-999.000,9,   -999.0,9,   -999.0,9,-999.0,  -999.0,-999.0000,-999.000,  20.986,-999.000,-999.000
      74JC10_1,   A23,   105,  1,  10519,     19,2,19950501,0532,-32.8468, -35.9877, 3501,    117,    109.8,  17.3419,  35.7656,2,  35.7683,2,    231.6,3, 17.3234,    226.6,2,     2.90,2,     0.20,2,     0.16,2, -999.000,9, -999.000,9, -999.000,9, -999.000,9, -999.000,9,-999.0000,9,  -999.00,9,-999.000,9,   -999.0,9,   -999.0,9,-999.0,  -999.0,-999.0000,-999.000,-999.000,-999.000,-999.000
      74JC10_1,   A23,   105,  1,  10518,     18,2,19950501,0532,-32.8468, -35.9877, 3501,    168,    160.4,  16.0341,  35.6718,2,  35.6674,2,    217.0,3, 16.0086,    211.8,2,     3.37,2,     3.75,2,     0.32,2, -999.000,9, -999.000,9, -999.000,9, -999.000,9, -999.000,9,-999.0000,9,  -999.00,9,-999.000,9,   -999.0,9,   -999.0,9,-999.0,  -999.0,-999.0000,-999.000,-999.000,-999.000,-999.000
      74JC10_1,   A23,   105,  1,  10517,     17,2,19950501,0532,-32.8468, -35.9877, 3501,    219,    211.1,  15.3065,  35.6363,2,  35.6399,2,    215.7,3, 15.2739,    210.2,2,     3.68,2,     5.54,2,     0.41,2, -999.000,9, -999.000,9, -999.000,9, -999.000,9, -999.000,9,-999.0000,9,  -999.00,9,-999.000,9,   -999.0,9,   -999.0,9,-999.0,  -999.0,-999.0000,-999.000,-999.000,-999.000,-999.000
      74JC10_1,   A23,   105,  1,  10516,     16,2,19950501,0532,-32.8468, -35.9877, 3501,    270,    261.4,  14.8863,  35.5773,2,  35.5778,2,    219.2,3, 14.8466,    215.1,2,     3.92,2,     6.30,2,     0.50,2, -999.000,9, -999.000,9, -999.000,9, -999.000,9, -999.000,9,-999.0000,9,  -999.00,9,-999.000,9,   -999.0,9,   -999.0,9,-999.0,  -999.0,-999.0000,-999.000,-999.000,-999.000,-999.000
      74JC10_1,   A23,   105,  1,  10515,     15,2,19950501,0532,-32.8468, -35.9877, 3501,    371,    362.0,  13.8234,  35.4148,2,  35.4129,2,    218.2,3, 13.7710,    210.4,2,     4.58,2,     8.99,2,     0.62,2, -999.000,9, -999.000,9, -999.000,9, -999.000,9, -999.000,9,-999.0000,9,  -999.00,9,-999.000,9,   -999.0,9,   -999.0,9,-999.0,  -999.0,-999.0000,-999.000,-999.000,-999.000,-999.000
      74JC10_1,   A23,   105,  1,  10514,     14,2,19950501,0532,-32.8468, -35.9877, 3501,    521,    510.8,  10.7830,  34.9218,2,  34.9221,2,    212.0,3, 10.7200,    204.3,2,     7.23,2,    16.53,2,     1.07,2, -999.000,9, -999.000,9, -999.000,9, -999.000,9, -999.000,9,-999.0000,9,  -999.00,9,-999.000,9,   -999.0,9,   -999.0,9,-999.0,  -999.0,-999.0000,-999.000,-999.000,-999.000,-999.000
      74JC10_1,   A23,   105,  1,  10513,     13,2,19950501,0532,-32.8468, -35.9877, 3501,    781,    770.3,   5.5024,  34.3268,2,  34.3262,2,    237.6,3,  5.4368,    230.3,2,    16.65,2,    27.02,2,     1.75,2, -999.000,9, -999.000,9, -999.000,9, -999.000,9, -999.000,9,-999.0000,9,  -999.00,9,-999.000,9,   -999.0,9,   -999.0,9,-999.0,  -999.0,-999.0000,-999.000,-999.000,-999.000,-999.000
      74JC10_1,   A23,   105,  1,  10512,     12,2,19950501,0532,-32.8468, -35.9877, 3501,   1034,   1021.8,   3.8033,  34.2925,2,  34.2929,2,    229.4,3,  3.7277,    223.0,2,    31.13,2,    30.81,2,     2.03,2, -999.000,9, -999.000,9, -999.000,9, -999.000,9, -999.000,9,-999.0000,9,  -999.00,9,-999.000,9,   -999.0,9,   -999.0,9,-999.0,  -999.0,-999.0000,-999.000,-999.000,-999.000,-999.000
      74JC10_1,   A23,   105,  1,  10511,     24,2,19950501,0532,-32.8468, -35.9877, 3501,   1293,   1280.4,   3.1020,  34.4168,2,  34.4167,2,    201.7,3,  3.0114,    194.3,2,    48.73,2,    32.67,2,     2.19,2, -999.000,9, -999.000,9, -999.000,9, -999.000,9, -999.000,9,-999.0000,9,  -999.00,9,-999.000,9,   -999.0,9,   -999.0,9,-999.0,  -999.0,-999.0000,-999.000,-999.000,-999.000,-999.000
      74JC10_1,   A23,   105,  1,  10510,     10,2,19950501,0532,-32.8468, -35.9877, 3501,   1547,   1534.1,   2.8340,  34.5738,2,  34.5769,2,    190.9,3,  2.7253,    184.5,2,    58.26,2,    32.12,2,     2.13,2, -999.000,9, -999.000,9, -999.000,9, -999.000,9, -999.000,9,-999.0000,9,  -999.00,9,-999.000,9,   -999.0,9,   -999.0,9,-999.0,  -999.0,-999.0000,-999.000,-999.000,-999.000,-999.000
      74JC10_1,   A23,   105,  1,  10509,      9,2,19950501,0532,-32.8468, -35.9877, 3501,   1800,   1786.8,   2.8354,  34.6924,2,  34.6930,2,    198.6,3,  2.7049,    192.6,2,    57.23,2,    30.11,2,     1.98,2, -999.000,9, -999.000,9, -999.000,9, -999.000,9, -999.000,9,-999.0000,9,  -999.00,9,-999.000,9,   -999.0,9,   -999.0,9,-999.0,  -999.0,-999.0000,-999.000,-999.000,-999.000,-999.000
      74JC10_1,   A23,   105,  1,  10508,      8,2,19950501,0532,-32.8468, -35.9877, 3501,   2050,   2037.7,   2.8849,  34.7894,2,  34.7897,2,    214.9,3,  2.7312,    209.2,2,    50.47,2,    27.34,2,     1.79,2, -999.000,9, -999.000,9, -999.000,9, -999.000,9, -999.000,9,-999.0000,9,  -999.00,9,-999.000,9,   -999.0,9,   -999.0,9,-999.0,  -999.0,-999.0000,-999.000,-999.000,-999.000,-999.000
      74JC10_1,   A23,   105,  1,  10507,     26,2,19950501,0532,-32.8468, -35.9877, 3501,   2310,   2297.9,   2.9992,  34.8756,2,  34.8762,2,    235.3,3,  2.8191,    229.9,2,    39.79,2,    24.07,2,     1.51,2, -999.000,9, -999.000,9, -999.000,9, -999.000,9, -999.000,9,-999.0000,9,  -999.00,9,-999.000,9,   -999.0,9,   -999.0,9,-999.0,  -999.0,-999.0000,-999.000,   2.992,-999.000,-999.000
      74JC10_1,   A23,   105,  1,  10506,      6,2,19950501,0532,-32.8468, -35.9877, 3501,   2570,   2558.3,   2.9508,  34.9031,2,  34.9024,2,    244.5,3,  2.7462,    238.3,2,    36.54,2,    22.74,2,     1.42,2, -999.000,9, -999.000,9, -999.000,9, -999.000,9, -999.000,9,-999.0000,9,  -999.00,9,-999.000,9,   -999.0,9,   -999.0,9,-999.0,  -999.0,-999.0000,-999.000,-999.000,-999.000,-999.000
      74JC10_1,   A23,   105,  1,  10505,      5,2,19950501,0532,-32.8468, -35.9877, 3501,   2826,   2814.8,   2.8289,  34.9109,2,  34.9103,2,    251.1,3,  2.6010,    242.9,2,    36.60,2,    22.31,2,     1.37,2, -999.000,9, -999.000,9, -999.000,9, -999.000,9, -999.000,9,-999.0000,9,  -999.00,9,-999.000,9,   -999.0,9,   -999.0,9,-999.0,  -999.0,-999.0000,-999.000,-999.000,-999.000,-999.000
      74JC10_1,   A23,   105,  1,  10504,      4,2,19950501,0532,-32.8468, -35.9877, 3501,   3084,   3074.0,   2.6968,  34.9112,2,  34.9103,2,    253.8,3,  2.4451,    246.0,2,    38.10,2,    22.07,2,     1.36,2, -999.000,9, -999.000,9, -999.000,9, -999.000,9, -999.000,9,-999.0000,9,  -999.00,9,-999.000,9,   -999.0,9,   -999.0,9,-999.0,  3081.0,-999.0000,-999.000,   2.690,-999.000,-999.000
      74JC10_1,   A23,   105,  1,  10503,      3,2,19950501,0532,-32.8468, -35.9877, 3501,   3341,   3331.5,   2.4178,  34.8875,2,  34.8865,2,    252.0,3,  2.1456,    243.5,2,    46.73,2,    23.08,2,     1.47,2, -999.000,9, -999.000,9, -999.000,9, -999.000,9, -999.000,9,-999.0000,9,  -999.00,9,-999.000,9,   -999.0,9,   -999.0,9,-999.0,  -999.0,-999.0000,-999.000,-999.000,-999.000,-999.000
      74JC10_1,   A23,   105,  1,  10501,      1,2,19950501,0532,-32.8468, -35.9877, 3501,   3544,   3535.1,   1.9489,  34.8402,2,  34.8405,2,    244.5,3,  1.6669,    237.4,2,    64.39,2,    25.32,2,     1.70,2, -999.000,9, -999.000,9, -999.000,9, -999.000,9, -999.000,9,-999.0000,9,  -999.00,9,-999.000,9,   -999.0,9,   -999.0,9,-999.0,  3519.0,-999.0000,-999.000,   1.938,-999.000,-999.000
      74JC10_1,   A23,   105,  1,  10502,      2,2,19950501,0532,-32.8468, -35.9877, 3501,   3547,   3537.3,   1.9404,  34.8391,2,  34.8381,2,    243.3,3,  1.6584,    236.2,2,    64.81,2,    25.37,2,     1.62,2, -999.000,9, -999.000,9, -999.000,9, -999.000,9, -999.000,9,-999.0000,9,  -999.00,9,-999.000,9,   -999.0,9,   -999.0,9,-999.0,  -999.0,-999.0000,-999.000,-999.000,-999.000,-999.000