BOTTLE,20220810CCHSIOAMB
EXPOCODE,SECT_ID,STNNBR,CASTNO,SAMPNO,BTLNBR,BTLNBR_FLAG_W,DATE,TIME,LATITUDE,LONGITUDE,DEPTH,CTDRAW,CTDPRS,CTDTMP,CTDSAL,CTDSAL_FLAG_W,SALNTY,SALNTY_FLAG_W,CTDOXY,CTDOXY_FLAG_W,THETA,OXYGEN,OXYGEN_FLAG_W,SILCAT,SILCAT_FLAG_W,NO2+NO3,NO2+NO3_FLAG_W,PHSPHT,PHSPHT_FLAG_W,CFC-11,CFC-11_FLAG_W,CFC-12,CFC-12_FLAG_W,CFC113,CFC113_FLAG_W,CCL4,CCL4_FLAG_W,TRITUM,TRITUM_FLAG_W,HELIUM,HELIUM_FLAG_W,DELHE3,DELHE3_FLAG_W,NEON,NEON_FLAG_W,TCARBN,TCARBN_FLAG_W,PCO2,PCO2_FLAG_W,PCO2TMP,REVPRS,HELIER,TRITER,REVTMP,NEONER,DELHER
,,,,,,,,,,,,,DBAR,ITS-90,PSS-78,,PSS-78,,UMOL/KG,,DEG C,UMOL/KG,,UMOL/KG,,UMOL/KG,,UMOL/KG,,PMOL/KG,,PMOL/KG,,PMOL/KG,,PMOL/KG,,TU,,NMOL/KG,,PERCNT,,NMOL/KG,,UMOL/KG,,UATM,,DEG C,DBAR,NMOL/KG,TU,ITS-90,NMOL/KG,PERCNT
      74JC10_1,   A23,    24,  1,   2422,     25,2,19950405,1326,-63.9655, -28.8770, 4831,     12,     10.3,  -1.8365,  33.6658,2,  33.6656,2,    354.3,3, -1.8367,    345.5,2,    68.95,2,    26.05,2,     1.70,2,    7.091,2,    3.347,2,    0.671,2,    8.255,2, -999.000,9,-999.0000,9,  -999.00,9,-999.000,9,   -999.0,9,   -999.0,9,-999.0,  -999.0,-999.0000,-999.000,-999.000,-999.000,-999.000
      74JC10_1,   A23,    24,  1,   2421,     21,2,19950405,1326,-63.9655, -28.8770, 4831,     36,     34.3,  -1.8437,  33.6707,2,  33.6709,2,    357.4,3, -1.8443,    345.8,2,    68.48,2,    25.96,2,     1.70,2,    7.035,2,    3.265,2,    0.671,2,    7.929,2, -999.000,9,-999.0000,9,  -999.00,9,-999.000,9,   -999.0,9,   -999.0,9,-999.0,  -999.0,-999.0000,-999.000,-999.000,-999.000,-999.000
      74JC10_1,   A23,    24,  1,   2420,     26,2,19950405,1326,-63.9655, -28.8770, 4831,     37,     34.6,  -1.8435,  33.6702,2,  33.6711,2,    357.4,3, -1.8441,    345.4,2,    68.25,2,    26.00,2,     1.69,2,    7.292,2,    3.169,2,    0.685,2,    8.630,2, -999.000,9,   1.8140,2,    -1.07,2,-999.000,9,   -999.0,9,   -999.0,9,-999.0,  -999.0,  0.0070,-999.000,  -1.854,-999.000,   0.300
      74JC10_1,   A23,    24,  1,   2419,     19,2,19950405,1326,-63.9655, -28.8770, 4831,     57,     54.3,  -1.6910,  34.1091,2,  34.1556,2,    321.9,3, -1.6921,    314.8,2,    71.22,2,    27.19,2,     1.81,2,    5.812,2,    2.761,2,    0.504,2,    5.866,2, -999.000,9,-999.0000,9,  -999.00,9,-999.000,9,   -999.0,9,   -999.0,9,-999.0,  -999.0,-999.0000,-999.000,-999.000,-999.000,-999.000
      74JC10_1,   A23,    24,  1,   2418,     18,2,19950405,1326,-63.9655, -28.8770, 4831,    107,    104.1,  -1.7234,  34.3555,2,  34.3552,2,    307.9,3, -1.7255,    298.0,2,    73.11,2,    28.43,2,     1.90,2,    5.291,2,    2.507,2,    0.469,2,    5.366,2, -999.000,9,   1.8310,2,     1.34,2,   8.188,2,   -999.0,9,   -999.0,9,-999.0,  -999.0,  0.0070,-999.000,-999.000,   0.025,   0.300
      74JC10_1,   A23,    24,  1,   2417,     17,2,19950405,1326,-63.9655, -28.8770, 4831,    157,    153.2,  -0.7119,  34.5028,2,  34.4826,2,    256.6,3, -0.7166,    251.3,2,    84.78,2,    30.51,2,     2.04,2,    3.392,2,    1.563,2,    0.288,2,    3.377,2, -999.000,9,-999.0000,9,  -999.00,9,-999.000,9,   -999.0,9,   -999.0,9,-999.0,  -999.0,-999.0000,-999.000,-999.000,-999.000,-999.000
      74JC10_1,   A23,    24,  1,   2416,     16,2,19950405,1326,-63.9655, -28.8770, 4831,    208,    203.1,   0.3566,  34.6522,2,  34.6631,2,    204.3,3,  0.3485,    195.4,2,   103.17,2,    32.73,2,     2.21,2,    0.787,2,    0.302,3,    0.048,2,    0.953,2, -999.000,9,-999.0000,9,  -999.00,9,-999.000,9,   -999.0,9,   -999.0,9,-999.0,  -999.0,-999.0000,-999.000,-999.000,-999.000,-999.000
      74JC10_1,   A23,    24,  1,   2415,     15,2,19950405,1326,-63.9655, -28.8770, 4831,    258,    252.4,   0.5139,  34.6795,2,  34.6793,2,    195.5,3,  0.5034,    190.7,2,   107.17,2,    33.02,2,     2.26,2,    0.447,2,    0.222,2,    0.021,2,    0.666,2, -999.000,9,   1.8590,2,     8.57,2,   8.082,2,   -999.0,9,   -999.0,9,-999.0,  -999.0,  0.0070,-999.000,-999.000,   0.025,   0.300
      74JC10_1,   A23,    24,  1,   2414,     14,2,19950405,1326,-63.9655, -28.8770, 4831,    358,    351.3,   0.4911,  34.6837,2,  34.6857,2,    196.7,3,  0.4762,    189.6,2,   113.71,2,    33.29,2,     2.27,2,    0.227,2,    0.129,2,    0.004,2,    0.442,2,    0.020,2,-999.0000,9,  -999.00,9,-999.000,9,   -999.0,9,   -999.0,9,-999.0,  -999.0,-999.0000,   0.002,-999.000,-999.000,-999.000
      74JC10_1,   A23,    24,  1,   2413,     13,2,19950405,1326,-63.9655, -28.8770, 4831,    509,    500.9,   0.4003,  34.6854,2,  34.6846,2,    196.5,3,  0.3787,    190.0,2,   116.54,2,    33.39,2,     2.26,2,    0.113,2,    0.062,2,    0.000,2,    0.337,2, -999.000,9,   1.8640,2,     8.87,2,   8.099,2,   -999.0,9,   -999.0,9,-999.0,  -999.0,  0.0070,-999.000,-999.000,   0.025,   0.300
      74JC10_1,   A23,    24,  1,   2412,     12,2,19950405,1326,-63.9655, -28.8770, 4831,    759,    749.5,   0.2655,  34.6815,2,-999.0000,5,    205.8,3,  0.2324,    198.8,2,   119.18,2,    32.98,2,     2.24,2,    0.087,2,    0.071,3,    0.000,2,    0.310,2, -999.000,9,-999.0000,9,  -999.00,9,-999.000,9,   -999.0,9,   -999.0,9,-999.0,  -999.0,-999.0000,-999.000,-999.000,-999.000,-999.000
      74JC10_1,   A23,    24,  1,   2411,     11,2,19950405,1326,-63.9655, -28.8770, 4831,   1010,    998.8,   0.1530,  34.6776,2,  34.6741,2,    209.2,3,  0.1077,    201.8,2,   121.81,2,    32.98,2,     2.24,2,    0.067,2,    0.060,3,    0.000,2,    0.286,2,    0.016,2,   1.8720,2,     8.07,2,   8.200,2,   -999.0,9,   -999.0,9,-999.0,  -999.0,  0.0070,   0.002,-999.000,   0.025,   0.300
      74JC10_1,   A23,    24,  1,   2410,     10,2,19950405,1326,-63.9655, -28.8770, 4831,   1260,   1248.1,   0.0611,  34.6732,2,  34.6730,2,    211.8,3,  0.0026,    208.9,3,   121.91,2,    32.94,2,     2.24,2, -999.000,9, -999.000,9, -999.000,9, -999.000,9, -999.000,9,-999.0000,9,  -999.00,9,-999.000,9,   -999.0,9,   -999.0,9,-999.0,  -999.0,-999.0000,-999.000,-999.000,-999.000,-999.000
      74JC10_1,   A23,    24,  1,   2409,      9,2,19950405,1326,-63.9655, -28.8770, 4831,   1510,   1497.6,  -0.0388,  34.6693,2,  34.6690,2,    219.8,3, -0.1110,    215.0,2,   122.60,2,    32.62,2,     2.23,2,    0.059,2,    0.052,3,    0.000,2,    0.276,2, -999.000,9,   1.8790,2,     6.82,2,   8.254,2,   -999.0,9,   -999.0,9,-999.0,  -999.0,  0.0070,-999.000,-999.000,   0.026,   0.300
      74JC10_1,   A23,    24,  1,   2408,      8,2,19950405,1326,-63.9655, -28.8770, 4831,   1761,   1748.2,  -0.1186,  34.6654,2,  34.6657,2,    226.4,3, -0.2056,    220.3,2,   122.40,2,    32.50,2,     2.21,2,    0.081,2,    0.066,3,    0.000,2,    0.321,2, -999.000,9,-999.0000,9,  -999.00,9,-999.000,9,   -999.0,9,   -999.0,9,-999.0,  -999.0,-999.0000,-999.000,-999.000,-999.000,-999.000
      74JC10_1,   A23,    24,  1,   2407,      7,2,19950405,1326,-63.9655, -28.8770, 4831,   2010,   1997.9,  -0.1814,  34.6637,2,  34.6633,2,    230.4,3, -0.2841,    228.4,2,   122.01,2,    32.38,2,     2.20,2,    0.098,2,    0.067,3,    0.000,2,    0.385,2,    0.013,2,   1.8470,2,     5.50,2,   8.139,2,   -999.0,9,   -999.0,9,-999.0,  -999.0,  0.0070,   0.002,  -0.184,   0.025,   0.300
      74JC10_1,   A23,    24,  1,   2406,      6,2,19950405,1326,-63.9655, -28.8770, 4831,   2512,   2500.0,  -0.2623,  34.6593,2,  34.6598,2,    233.7,3, -0.3998,    228.2,2,   121.72,2,    32.18,2,     2.19,2,    0.120,2,    0.065,2,    0.000,2,    0.437,2, -999.000,9,-999.0000,9,  -999.00,9,-999.000,9,   -999.0,9,   -999.0,9,-999.0,  -999.0,-999.0000,-999.000,-999.000,-999.000,-999.000
      74JC10_1,   A23,    24,  1,   2405,      5,2,19950405,1326,-63.9655, -28.8770, 4831,   3013,   3003.0,  -0.3228,  34.6576,2,  34.6578,2,    238.9,3, -0.4990,    247.6,3,   121.42,2,    32.06,2,     2.19,2,    0.116,2,    0.069,2,    0.000,2,    0.453,2,    0.023,2,-999.0000,9,  -999.00,9,-999.000,9,   -999.0,9,   -999.0,9,-999.0,  -999.0,-999.0000,   0.002,-999.000,-999.000,-999.000
      74JC10_1,   A23,    24,  1,   2404,      4,2,19950405,1326,-63.9655, -28.8770, 4831,   4018,   4009.1,  -0.4760,  34.6470,2,  34.6474,2,    254.7,3, -0.7391,    246.2,2,   113.52,2,    31.68,2,     2.14,2,    0.675,2,    0.313,2,    0.029,2,    0.929,2,    0.044,2,   1.8730,2,     3.71,2,   8.242,2,   -999.0,9,   -999.0,9,-999.0,  -999.0,  0.0070,   0.006,-999.000,   0.026,   0.300
      74JC10_1,   A23,    24,  1,   2403,      3,2,19950405,1326,-63.9655, -28.8770, 4831,   4525,   4517.1,  -0.5187,  34.6422,2,  34.6429,2,    259.7,3, -0.8315,    250.3,2,   110.49,2,    31.54,2,     2.16,2,    0.935,2,    0.465,2,    0.037,2,    1.084,2, -999.000,9,-999.0000,9,  -999.00,9,-999.000,9,   -999.0,9,   -999.0,9,-999.0,  -999.0,-999.0000,-999.000,-999.000,-999.000,-999.000
      74JC10_1,   A23,    24,  1,   2401,      1,2,19950405,1326,-63.9655, -28.8770, 4831,   4895,   4888.0,  -0.5202,  34.6397,2,  34.6409,2,    260.5,3, -0.8724,    253.9,2,   110.79,2,    31.38,2,     2.13,2,    1.048,2,    0.491,2,    0.044,2,    1.249,2,    0.327,3,   1.8900,2,     3.96,2,   8.293,2,   -999.0,9,   -999.0,9,-999.0,  -999.0,  0.0070,   0.025,-999.000,   0.026,   0.300
      74JC10_1,   A23,    24,  1,   2402,      2,2,19950405,1326,-63.9655, -28.8770, 4831,   4895,   4888.4,  -0.5204,  34.6403,2,  34.6403,2,    261.3,3, -0.8727,    251.5,3,   109.71,2,    31.58,2,     2.13,2,    1.040,2,    0.483,2,    0.048,2,    1.191,2, -999.000,9,-999.0000,9,  -999.00,9,-999.000,9,   -999.0,9,   -999.0,9,-999.0,  -999.0,-999.0000,-999.000,-999.000,-999.000,-999.000
      74JC10_1,   A23,    25,  1,   2522,     25,2,19950405,2050,-63.3467, -29.5688, 4758,     10,      8.1,  -1.8160,  33.5703,2,  33.5687,2,    327.4,3, -1.8162,    349.0,2,    68.45,2,    25.87,2,     1.71,2,    7.153,2,    3.320,2,    0.665,2,    8.686,2, -999.000,9,-999.0000,9,  -999.00,9,-999.000,9,   -999.0,9,   -999.0,9,-999.0,  -999.0,-999.0000,-999.000,-999.000,-999.000,-999.000
      74JC10_1,   A23,    25,  1,   2521,     21,2,19950405,2050,-63.3467, -29.5688, 4758,     36,     33.4,  -1.8129,  33.5733,2,  33.5776,2,    546.7,3, -1.8135,    350.5,2,    68.35,2,    25.74,2,     1.69,2,    7.137,2,    3.241,2,    0.665,2,    8.461,2, -999.000,9,-999.0000,9,  -999.00,9,-999.000,9,   -999.0,9,   -999.0,9,-999.0,  -999.0,-999.0000,-999.000,-999.000,-999.000,-999.000
      74JC10_1,   A23,    25,  1,   2520,     26,2,19950405,2050,-63.3467, -29.5688, 4758,     56,     53.0,  -1.5816,  34.1021,3,  34.2703,3,    734.6,3, -1.5827,    301.1,2,    74.06,2,    27.58,2,     1.87,2,    5.163,2,    2.440,2,    0.457,2,    5.692,2, -999.000,9,-999.0000,9,  -999.00,9,-999.000,9,   -999.0,9,   -999.0,9,-999.0,  -999.0,-999.0000,-999.000,  -1.586,-999.000,-999.000
      74JC10_1,   A23,    25,  1,   2519,     19,2,19950405,2050,-63.3467, -29.5688, 4758,    106,    102.7,  -1.2036,  34.4380,2,  34.4334,2,    133.4,3, -1.2062,    265.0,2,    81.54,2,    29.71,2,     1.99,2,    3.966,2,    1.869,2,    0.333,2,    4.256,2, -999.000,9,-999.0000,9,  -999.00,9,-999.000,9,   -999.0,9,   -999.0,9,-999.0,  -999.0,-999.0000,-999.000,-999.000,-999.000,-999.000
      74JC10_1,   A23,    25,  1,   2518,     18,2,19950405,2050,-63.3467, -29.5688, 4758,    157,    152.6,  -0.0571,  34.6012,2,  34.6134,2,    220.5,3, -0.0626,    210.8,2,    96.93,2,    31.77,2,     2.15,2,    1.559,2,    0.697,2,    0.121,2,    1.761,2, -999.000,9,-999.0000,9,  -999.00,9,-999.000,9,   -999.0,9,   -999.0,9,-999.0,  -999.0,-999.0000,-999.000,-999.000,-999.000,-999.000
      74JC10_1,   A23,    25,  1,   2517,     17,2,19950405,2050,-63.3467, -29.5688, 4758,    207,    201.7,   0.3980,  34.6587,2,  34.6590,2,    202.3,3,  0.3899,    198.1,2,   101.42,2,    32.14,2,     2.18,2,    0.869,2,    0.413,2,    0.055,2,    1.083,2, -999.000,9,-999.0000,9,  -999.00,9,-999.000,9,   -999.0,9,   -999.0,9,-999.0,  -999.0,-999.0000,-999.000,-999.000,-999.000,-999.000
      74JC10_1,   A23,    25,  1,   2516,     16,2,19950405,2050,-63.3467, -29.5688, 4758,    257,    251.4,   0.5614,  34.6776,2,  34.6785,2,    198.0,3,  0.5508,    192.8,2,   103.56,2,    32.23,2,     2.19,2,    0.530,2,    0.270,2,    0.017,2,    0.790,2, -999.000,9,-999.0000,9,  -999.00,9,-999.000,9,   -999.0,9,   -999.0,9,-999.0,  -999.0,-999.0000,-999.000,-999.000,-999.000,-999.000
      74JC10_1,   A23,    25,  1,   2515,     15,2,19950405,2050,-63.3467, -29.5688, 4758,    357,    350.3,   0.5831,  34.6866,2,  34.6877,2,    199.5,3,  0.5680,    191.8,2,   109.90,2,    32.51,2,     2.23,2,    0.266,2,    0.132,2,    0.000,2,    0.547,2, -999.000,9,-999.0000,9,  -999.00,9,-999.000,9,   -999.0,9,   -999.0,9,-999.0,  -999.0,-999.0000,-999.000,-999.000,-999.000,-999.000
      74JC10_1,   A23,    25,  1,   2514,     14,2,19950405,2050,-63.3467, -29.5688, 4758,    508,    500.3,   0.4666,  34.6870,2,  34.6861,2,    203.0,3,  0.4448,    192.2,2,   115.08,2,    32.89,2,     2.29,2,    0.142,2,    0.089,2,    0.000,2,    0.386,2, -999.000,9,-999.0000,9,  -999.00,9,-999.000,9,   -999.0,9,   -999.0,9,-999.0,  -999.0,-999.0000,-999.000,-999.000,-999.000,-999.000
      74JC10_1,   A23,    25,  1,   2513,     13,2,19950405,2050,-63.3467, -29.5688, 4758,    759,    748.7,   0.3270,  34.6819,2,  34.6814,2,    207.7,3,  0.2935,    192.3,3,   118.30,2,    32.68,2,     2.21,2,    0.087,2,    0.066,2,    0.000,2,    0.320,2, -999.000,9,-999.0000,9,  -999.00,9,-999.000,9,   -999.0,9,   -999.0,9,-999.0,  -999.0,-999.0000,-999.000,-999.000,-999.000,-999.000
      74JC10_1,   A23,    25,  1,   2512,     12,2,19950405,2050,-63.3467, -29.5688, 4758,   1009,    997.1,   0.1989,  34.6778,2,  34.6777,2,    211.5,3,  0.1532,    205.1,2,   121.23,2,    32.52,2,     2.22,2,    0.069,2,    0.055,2,    0.000,2,    0.290,2, -999.000,9,-999.0000,9,  -999.00,9,-999.000,9,   -999.0,9,   -999.0,9,-999.0,  -999.0,-999.0000,-999.000,-999.000,-999.000,-999.000
      74JC10_1,   A23,    25,  1,   2511,     11,2,19950405,2050,-63.3467, -29.5688, 4758,   1255,   1243.1,   0.0954,  34.6727,2,  34.6718,2,    215.2,3,  0.0369,    211.1,3,   123.86,2,    32.44,2,     2.22,2,    0.110,3,    0.067,2,    0.000,2,    0.344,2, -999.000,9,-999.0000,9,  -999.00,9,-999.000,9,   -999.0,9,   -999.0,9,-999.0,  -999.0,-999.0000,-999.000,-999.000,-999.000,-999.000
      74JC10_1,   A23,    25,  1,   2510,     10,2,19950405,2050,-63.3467, -29.5688, 4758,   1506,   1493.1,  -0.0035,  34.6703,2,  34.6692,2,    219.0,3, -0.0759,    214.9,2,   121.33,2,    32.31,2,     2.19,2,    0.083,2,    0.060,2,    0.000,2,    0.349,2, -999.000,9,-999.0000,9,  -999.00,9,-999.000,9,   -999.0,9,   -999.0,9,-999.0,  -999.0,-999.0000,-999.000,-999.000,-999.000,-999.000
      74JC10_1,   A23,    25,  1,   2509,      9,2,19950405,2050,-63.3467, -29.5688, 4758,   1759,   1746.5,  -0.0734,  34.6666,2,  34.6692,2,    222.4,3, -0.1609,    219.2,2,   121.23,2,    32.10,2,     2.18,2,    0.093,2,    0.063,2,    0.000,2,    0.364,2, -999.000,9,-999.0000,9,  -999.00,9,-999.000,9,   -999.0,9,   -999.0,9,-999.0,  -999.0,-999.0000,-999.000,-999.000,-999.000,-999.000
      74JC10_1,   A23,    25,  1,   2508,      8,2,19950405,2050,-63.3467, -29.5688, 4758,   2009,   1996.7,  -0.1505,  34.6648,2,  34.6639,2,    225.7,3, -0.2536,    223.8,2,   121.91,2,    32.01,2,     2.18,2, -999.000,9,    0.123,2,    0.000,2,    0.518,2, -999.000,9,-999.0000,9,  -999.00,9,-999.000,9,   -999.0,9,   -999.0,9,-999.0,  -999.0,-999.0000,-999.000,-999.000,-999.000,-999.000
      74JC10_1,   A23,    25,  1,   2507,      7,2,19950405,2050,-63.3467, -29.5688, 4758,   2508,   2496.5,  -0.2466,  34.6602,2,  34.6602,2,    231.9,3, -0.3841,    235.1,2,   124.16,2,    32.22,2,     2.16,2,    0.226,2,    0.159,3,    0.000,2,    0.549,2, -999.000,9,-999.0000,9,  -999.00,9,-999.000,9,   -999.0,9,   -999.0,9,-999.0,  -999.0,-999.0000,-999.000,  -0.248,-999.000,-999.000
      74JC10_1,   A23,    25,  1,   2506,      6,2,19950405,2050,-63.3467, -29.5688, 4758,   3012,   3001.5,  -0.3166,  34.6571,2,  34.6570,2,    238.0,3, -0.4928,    235.1,3,   121.52,2,    31.76,2,     2.17,2,    0.192,2,    0.127,3,    0.000,2,    0.599,2, -999.000,9,-999.0000,9,  -999.00,9,-999.000,9,   -999.0,9,   -999.0,9,-999.0,  -999.0,-999.0000,-999.000,-999.000,-999.000,-999.000
      74JC10_1,   A23,    25,  1,   2505,      5,2,19950405,2050,-63.3467, -29.5688, 4758,   3514,   3504.9,  -0.3924,  34.6520,2,  34.6523,2,    245.3,3, -0.6105,    240.3,3,   119.08,2,    31.59,2,     2.12,2,    0.403,2,    0.188,2,    0.013,2,    0.723,2, -999.000,9,-999.0000,9,  -999.00,9,-999.000,9,   -999.0,9,   -999.0,9,-999.0,  -999.0,-999.0000,-999.000,-999.000,-999.000,-999.000
      74JC10_1,   A23,    25,  1,   2504,      4,2,19950405,2050,-63.3467, -29.5688, 4758,   4018,   4009.7,  -0.4845,  34.6434,2,  34.6445,2,    253.4,3, -0.7474,    247.7,2,   110.79,2,    31.32,2,     2.11,2,    1.134,2, -999.000,9,    0.067,2,    1.247,2, -999.000,9,-999.0000,9,  -999.00,9,-999.000,9,   -999.0,9,   -999.0,9,-999.0,  4020.0,-999.0000,-999.000,  -0.491,-999.000,-999.000
      74JC10_1,   A23,    25,  1,   2503,      3,2,19950405,2050,-63.3467, -29.5688, 4758,   4526,   4518.0,  -0.4847,  34.6425,2,  34.6427,2,    260.4,3, -0.7987,    250.2,2,   108.54,2,    31.27,2,     2.10,2,    1.292,2,    0.597,2,    0.067,2,    1.384,2, -999.000,9,-999.0000,9,  -999.00,9,-999.000,9,   -999.0,9,   -999.0,9,-999.0,  -999.0,-999.0000,-999.000,-999.000,-999.000,-999.000
      74JC10_1,   A23,    25,  1,   2502,      2,2,19950405,2050,-63.3467, -29.5688, 4758,   4830,   4822.5,  -0.4706,  34.6435,2,  34.6427,2,    263.2,3, -0.8174,    252.7,2,   109.62,2,    31.26,2,     2.11,2,    1.224,2,    0.576,2,    0.067,2,    1.343,2, -999.000,9,-999.0000,9,  -999.00,9,-999.000,9,   -999.0,9,   -999.0,9,-999.0,  -999.0,-999.0000,-999.000,-999.000,-999.000,-999.000
      74JC10_1,   A23,    25,  1,   2501,      1,2,19950405,2050,-63.3467, -29.5688, 4758,   4830,   4822.7,  -0.4705,  34.6432,2,  34.6431,2,    263.2,3, -0.8174,    251.8,2,   110.30,2,    31.31,2,     2.10,2,    1.200,2,    0.575,2,    0.059,2,    1.302,2, -999.000,9,-999.0000,9,  -999.00,9,-999.000,9,   -999.0,9,   -999.0,9,-999.0,  4814.0,-999.0000,-999.000,  -0.475,-999.000,-999.000