BOTTLE,20220810CCHSIOAMB
EXPOCODE,SECT_ID,STNNBR,CASTNO,SAMPNO,BTLNBR,BTLNBR_FLAG_W,DATE,TIME,LATITUDE,LONGITUDE,DEPTH,CTDRAW,CTDPRS,CTDTMP,CTDSAL,CTDSAL_FLAG_W,SALNTY,SALNTY_FLAG_W,CTDOXY,CTDOXY_FLAG_W,THETA,OXYGEN,OXYGEN_FLAG_W,SILCAT,SILCAT_FLAG_W,NO2+NO3,NO2+NO3_FLAG_W,PHSPHT,PHSPHT_FLAG_W,CFC-11,CFC-11_FLAG_W,CFC-12,CFC-12_FLAG_W,CFC113,CFC113_FLAG_W,CCL4,CCL4_FLAG_W,TRITUM,TRITUM_FLAG_W,HELIUM,HELIUM_FLAG_W,DELHE3,DELHE3_FLAG_W,NEON,NEON_FLAG_W,TCARBN,TCARBN_FLAG_W,PCO2,PCO2_FLAG_W,PCO2TMP,REVPRS,HELIER,TRITER,REVTMP,NEONER,DELHER
,,,,,,,,,,,,,DBAR,ITS-90,PSS-78,,PSS-78,,UMOL/KG,,DEG C,UMOL/KG,,UMOL/KG,,UMOL/KG,,UMOL/KG,,PMOL/KG,,PMOL/KG,,PMOL/KG,,PMOL/KG,,TU,,NMOL/KG,,PERCNT,,NMOL/KG,,UMOL/KG,,UATM,,DEG C,DBAR,NMOL/KG,TU,ITS-90,NMOL/KG,PERCNT
      74JC10_1,   A23,    94,  1,   9424,     11,2,19950427,1747,-40.8758, -35.9862, 5003,     12,      6.6,  17.1080,  34.8904,2,  34.8865,2,    241.2,3, 17.1069,    235.0,2,     2.86,2,     0.00,2,     0.14,2,    2.788,2,    1.472,2,    0.241,2,    2.712,2, -999.000,9,-999.0000,9,  -999.00,9,-999.000,9,   -999.0,9,   -999.0,9,-999.0,  -999.0,-999.0000,-999.000,-999.000,-999.000,-999.000
      74JC10_1,   A23,    94,  1,   9423,     23,2,19950427,1747,-40.8758, -35.9862, 5003,     60,     54.5,  16.1325,  34.9239,2,  34.9284,2,    243.6,3, 16.1239,    237.4,2,     2.97,2,     0.07,2,     0.19,2,    2.896,2,    1.374,2,    0.274,2,    2.744,2, -999.000,9,-999.0000,9,  -999.00,9,-999.000,9,   -999.0,9,   -999.0,9,-999.0,  -999.0,-999.0000,-999.000,-999.000,-999.000,-999.000
      74JC10_1,   A23,    94,  1,   9422,     25,2,19950427,1747,-40.8758, -35.9862, 5003,    109,    103.1,  12.8806,  35.0896,2,  35.0967,2,    219.6,3, 12.8666,    212.1,2,     4.84,2,     9.58,2,     0.73,2,    3.230,2,    1.521,2,    0.208,2,    1.138,2, -999.000,9,-999.0000,9,  -999.00,9,-999.000,9,   -999.0,9,   -999.0,9,-999.0,  -999.0,-999.0000,-999.000,-999.000,-999.000,-999.000
      74JC10_1,   A23,    94,  1,   9421,     21,2,19950427,1747,-40.8758, -35.9862, 5003,    157,    151.0,  11.3434,  34.9092,2,  34.8859,2,    225.0,3, 11.3245,    216.2,2,     9.88,4,    13.02,2,     0.93,2,    3.260,2,    1.509,2,    0.185,2,    1.407,2, -999.000,9,-999.0000,9,  -999.00,9,-999.000,9,   -999.0,9,   -999.0,9,-999.0,  -999.0,-999.0000,-999.000,-999.000,-999.000,-999.000
      74JC10_1,   A23,    94,  1,   9420,     27,2,19950427,1747,-40.8758, -35.9862, 5003,    208,    201.4,  10.0631,  34.7620,2,  34.7494,2,    221.9,3, 10.0397,    215.1,2,     6.71,2,    16.20,2,     1.10,2,    2.942,2,    1.408,2,    0.156,2,    1.678,2, -999.000,9,-999.0000,9,  -999.00,9,-999.000,9,   -999.0,9,   -999.0,9,-999.0,  -999.0,-999.0000,-999.000,   9.974,-999.000,-999.000
      74JC10_1,   A23,    94,  1,   9419,     19,2,19950427,1747,-40.8758, -35.9862, 5003,    255,    248.5,   8.3241,  34.5344,2,  34.4940,2,    229.4,3,  8.2984,    229.4,2,     8.27,2,    19.87,2,     1.35,2,    3.279,2,    1.530,2,    0.208,2,    2.597,2, -999.000,9,-999.0000,9,  -999.00,9,-999.000,9,   -999.0,9,   -999.0,9,-999.0,  -999.0,-999.0000,-999.000,-999.000,-999.000,-999.000
      74JC10_1,   A23,    94,  1,   9418,     18,2,19950427,1747,-40.8758, -35.9862, 5003,    355,    347.2,   6.1536,  34.3504,2,  34.3262,2,    243.9,3,  6.1233,    240.0,2,    11.60,2,    23.77,2,     1.59,2,    3.358,2,    1.485,2,    0.218,2,    3.312,2, -999.000,9,-999.0000,9,  -999.00,9,-999.000,9,   -999.0,9,   -999.0,9,-999.0,  -999.0,-999.0000,-999.000,-999.000,-999.000,-999.000
      74JC10_1,   A23,    94,  1,   9417,     17,2,19950427,1747,-40.8758, -35.9862, 5003,    503,    494.2,   4.8794,  34.2397,2,  34.2411,2,    261.0,3,  4.8407,    253.2,2,    14.68,2,    25.74,2,     1.72,2,    3.404,2,    1.457,3,    0.236,2,    3.837,2, -999.000,9,-999.0000,9,  -999.00,9,-999.000,9,   -999.0,9,   -999.0,9,-999.0,  -999.0,-999.0000,-999.000,-999.000,-999.000,-999.000
      74JC10_1,   A23,    94,  1,   9416,     16,2,19950427,1747,-40.8758, -35.9862, 5003,    754,    743.1,   3.5897,  34.2173,2,  34.2175,2,    252.3,3,  3.5376,    242.1,2,    25.49,2,    29.59,2,     1.99,2,    2.845,2,    1.243,2,    0.172,2,    3.330,2, -999.000,9,-999.0000,9,  -999.00,9,-999.000,9,   -999.0,9,   -999.0,9,-999.0,  -999.0,-999.0000,-999.000,-999.000,-999.000,-999.000
      74JC10_1,   A23,    94,  1,   9415,     15,2,19950427,1747,-40.8758, -35.9862, 5003,    999,    987.3,   2.9819,  34.3076,2,  34.3089,2,    219.7,3,  2.9154,    212.6,2,    41.93,2,    32.36,2,     2.18,2,    1.473,2,    0.629,3,    0.064,2,    1.967,2, -999.000,9,-999.0000,9,  -999.00,9,-999.000,9,   -999.0,9,   -999.0,9,-999.0,  -999.0,-999.0000,-999.000,-999.000,-999.000,-999.000
      74JC10_1,   A23,    94,  1,   9414,     14,2,19950427,1747,-40.8758, -35.9862, 5003,   1244,   1231.3,   2.7278,  34.4337,2,  34.4377,2,    194.6,3,  2.6447,    188.3,2,    56.65,2,    33.55,2,     2.26,2,    0.670,2,    0.300,2,    0.025,2,    1.105,2, -999.000,9,-999.0000,9,  -999.00,9,-999.000,9,   -999.0,9,   -999.0,9,-999.0,  -999.0,-999.0000,-999.000,-999.000,-999.000,-999.000
      74JC10_1,   A23,    94,  1,   9413,     13,2,19950427,1747,-40.8758, -35.9862, 5003,   1493,   1480.0,   2.7876,  34.5874,2,  34.5891,2,    185.5,3,  2.6838,    179.6,2,    61.90,2,    32.52,2,     2.18,2,    0.177,2,    0.088,2,    0.000,2,    0.471,2, -999.000,9,-999.0000,9,  -999.00,9,-999.000,9,   -999.0,9,   -999.0,9,-999.0,  -999.0,-999.0000,-999.000,-999.000,-999.000,-999.000
      74JC10_1,   A23,    94,  1,   9412,     12,2,19950427,1747,-40.8758, -35.9862, 5003,   1736,   1723.0,   2.8825,  34.7034,2,  34.7034,2,    191.5,3,  2.7569,    186.2,2,    59.91,2,    30.34,2,     2.03,2,    0.071,2,    0.042,2,    0.000,2,    0.276,2, -999.000,9,-999.0000,9,  -999.00,9,-999.000,9,   -999.0,9,   -999.0,9,-999.0,  -999.0,-999.0000,-999.000,-999.000,-999.000,-999.000
      74JC10_1,   A23,    94,  1,   9411,     24,2,19950427,1747,-40.8758, -35.9862, 5003,   1986,   1972.6,   2.8760,  34.7781,2,  34.7807,2,    203.1,3,  2.7283,    198.7,2,    57.98,2,    28.14,2,     1.86,2,    0.035,2,    0.022,2,    0.000,2,    0.213,2, -999.000,9,-999.0000,9,  -999.00,9,-999.000,9,   -999.0,9,   -999.0,9,-999.0,  -999.0,-999.0000,-999.000,-999.000,-999.000,-999.000
      74JC10_1,   A23,    94,  1,   9410,     10,2,19950427,1747,-40.8758, -35.9862, 5003,   2336,   2323.3,   2.7881,  34.8394,2,  34.8387,2,    220.6,3,  2.6093,    213.6,2,    53.87,2,    25.91,2,     1.67,2,    0.007,2,    0.018,3,    0.000,2,    0.140,2, -999.000,9,-999.0000,9,  -999.00,9,-999.000,9,   -999.0,9,   -999.0,9,-999.0,  -999.0,-999.0000,-999.000,-999.000,-999.000,-999.000
      74JC10_1,   A23,    94,  1,   9409,      9,2,19950427,1747,-40.8758, -35.9862, 5003,   2677,   2665.4,   2.4656,  34.8325,2,  34.8322,2,    227.1,3,  2.2602,    214.9,2,    61.06,2,    26.18,2,     1.73,2,    0.000,2,   -0.004,2,    0.000,2,    0.123,2, -999.000,9,-999.0000,9,  -999.00,9,-999.000,9,   -999.0,9,   -999.0,9,-999.0,  -999.0,-999.0000,-999.000,-999.000,-999.000,-999.000
      74JC10_1,   A23,    94,  1,   9408,      8,2,19950427,1747,-40.8758, -35.9862, 5003,   2982,   2971.0,   2.0432,  34.8016,2,  34.8009,2,    214.8,3,  1.8168,    210.9,2,    75.09,2,    27.90,2,     1.83,2,    0.007,2,    0.007,2,    0.000,2,    0.113,2, -999.000,9,-999.0000,9,  -999.00,9,-999.000,9,   -999.0,9,   -999.0,9,-999.0,  -999.0,-999.0000,-999.000,-999.000,-999.000,-999.000
      74JC10_1,   A23,    94,  1,   9407,     26,2,19950427,1747,-40.8758, -35.9862, 5003,   3329,   3318.7,   1.4393,  34.7489,2,  34.7482,2,    211.9,3,  1.1925,    204.7,2,    96.84,2,    30.27,2,     2.07,2,    0.034,2,    0.023,2,    0.000,2,    0.138,2, -999.000,9,-999.0000,9,  -999.00,9,-999.000,9,   -999.0,9,   -999.0,9,-999.0,  -999.0,-999.0000,-999.000,   1.435,-999.000,-999.000
      74JC10_1,   A23,    94,  1,   9406,      6,2,19950427,1747,-40.8758, -35.9862, 5003,   3664,   3654.1,   1.0085,  34.7177,2,  34.7164,2,    211.3,3,  0.7391,    205.3,2,   110.20,2,    31.59,2,     2.19,2,    0.071,2,    0.042,2,    0.000,2,    0.207,2, -999.000,9,-999.0000,9,  -999.00,9,-999.000,9,   -999.0,9,   -999.0,9,-999.0,  -999.0,-999.0000,-999.000,-999.000,-999.000,-999.000
      74JC10_1,   A23,    94,  1,   9405,      5,2,19950427,1747,-40.8758, -35.9862, 5003,   3944,   3935.1,   0.7044,  34.6987,2,  34.6997,2,    215.2,3,  0.4147,    209.1,2,   116.05,2,    32.10,2,     2.23,2,    0.086,2,    0.049,2,    0.005,2,    0.269,2, -999.000,9,-999.0000,9,  -999.00,9,-999.000,9,   -999.0,9,   -999.0,9,-999.0,  -999.0,-999.0000,-999.000,-999.000,-999.000,-999.000
      74JC10_1,   A23,    94,  1,   9404,      4,2,19950427,1747,-40.8758, -35.9862, 5003,   4483,   4475.2,   0.2990,  34.6761,2,  34.6761,2,    223.2,3, -0.0356,    216.6,2,   123.86,2,    32.66,2,     2.21,2,    0.107,2,    0.062,2,    0.000,2,    0.354,2, -999.000,9,-999.0000,9,  -999.00,9,-999.000,9,   -999.0,9,   -999.0,9,-999.0,  4484.0,-999.0000,-999.000,   0.294,-999.000,-999.000
      74JC10_1,   A23,    94,  1,   9403,      3,2,19950427,1747,-40.8758, -35.9862, 5003,   4782,   4774.8,   0.2372,  34.6726,2,  34.6718,2,    225.7,3, -0.1283,    218.1,2,   125.72,2,    32.69,2,     2.22,2,    0.118,2,    0.070,2,    0.000,2,    0.354,2, -999.000,9,-999.0000,9,  -999.00,9,-999.000,9,   -999.0,9,   -999.0,9,-999.0,  -999.0,-999.0000,-999.000,-999.000,-999.000,-999.000
      74JC10_1,   A23,    94,  1,   9402,      2,2,19950427,1747,-40.8758, -35.9862, 5003,   5112,   5105.4,   0.2246,  34.6711,2,  34.6694,2,    226.5,3, -0.1781,    218.4,2,   126.89,2,    32.78,2,     2.26,2,    0.152,2,    0.087,2,    0.000,2,    0.379,2, -999.000,9,-999.0000,9,  -999.00,9,-999.000,9,   -999.0,9,   -999.0,9,-999.0,  -999.0,-999.0000,-999.000,-999.000,-999.000,-999.000
      74JC10_1,   A23,    94,  1,   9401,      1,2,19950427,1747,-40.8758, -35.9862, 5003,   5114,   5107.5,   0.2245,  34.6712,2,  34.6696,2,    226.6,3, -0.1784,    219.0,2,   126.99,2,    32.46,2,     2.13,2,    0.154,2,    0.086,2,    0.000,2,    0.379,2, -999.000,9,-999.0000,9,  -999.00,9,-999.000,9,   -999.0,9,   -999.0,9,-999.0,  5101.0,-999.0000,-999.000,   0.220,-999.000,-999.000
      74JC10_1,   A23,    95,  1,   9523,     23,2,19950428,0230,-39.8682, -36.0107, 4680,     10,      4.4,  17.0679,  35.0551,2,  35.0549,2,    236.6,3, 17.0672,    234.2,2,     2.97,2,     0.01,2,     0.14,2,    2.661,2,    1.368,2,    0.236,2,    2.857,2, -999.000,9,-999.0000,9,  -999.00,9,-999.000,9,   -999.0,9,   -999.0,9,-999.0,  -999.0,-999.0000,-999.000,-999.000,-999.000,-999.000
      74JC10_1,   A23,    95,  1,   9522,     25,2,19950428,0230,-39.8682, -36.0107, 4680,     56,     50.4,  16.3669,  35.0111,2,  34.9784,2,    245.2,3, 16.3588,    232.6,2,     2.97,2,     0.60,2,     0.22,2,    2.782,2,    1.363,2,    0.262,2,    2.562,2, -999.000,9,-999.0000,9,  -999.00,9,-999.000,9,   -999.0,9,   -999.0,9,-999.0,  -999.0,-999.0000,-999.000,-999.000,-999.000,-999.000
      74JC10_1,   A23,    95,  1,   9521,     21,2,19950428,0230,-39.8682, -36.0107, 4680,    107,    100.6,  13.4232,  35.2469,2,  35.2408,2,    229.6,3, 13.4091,    219.9,2,     4.04,2,     7.54,2,     0.61,2,    3.145,2,    1.551,2,    0.201,2,    0.909,2, -999.000,9,-999.0000,9,  -999.00,9,-999.000,9,   -999.0,9,   -999.0,9,-999.0,  -999.0,-999.0000,-999.000,-999.000,-999.000,-999.000
      74JC10_1,   A23,    95,  1,   9520,     27,2,19950428,0230,-39.8682, -36.0107, 4680,    154,    148.3,  12.6662,  35.1658,2,  35.1455,2,    212.1,3, 12.6462,    211.8,2,     4.75,2,    10.73,2,     0.79,2,    2.885,2,    1.405,2,    0.140,2,    1.151,2, -999.000,9,-999.0000,9,  -999.00,9,-999.000,9,   -999.0,9,   -999.0,9,-999.0,  -999.0,-999.0000,-999.000,  12.666,-999.000,-999.000
      74JC10_1,   A23,    95,  1,   9519,     19,2,19950428,0230,-39.8682, -36.0107, 4680,    251,    244.4,   9.1762,  34.6494,2,  34.6240,2,    226.1,3,  9.1493,    217.8,2,     7.55,2,    18.72,2,     1.27,2,    3.002,2,    1.363,2,    0.162,2,    2.074,2, -999.000,9,-999.0000,9,  -999.00,9,-999.000,9,   -999.0,9,   -999.0,9,-999.0,  -999.0,-999.0000,-999.000,-999.000,-999.000,-999.000
      74JC10_1,   A23,    95,  1,   9518,     18,2,19950428,0230,-39.8682, -36.0107, 4680,    351,    343.2,   6.7959,  34.3986,2,  34.3896,2,    224.6,3,  6.7643,    231.9,2,    10.63,2,    23.11,2,     1.54,2,    3.479,2,    1.364,3,    0.206,2,    3.606,2, -999.000,9,-999.0000,9,  -999.00,9,-999.000,9,   -999.0,9,   -999.0,9,-999.0,  -999.0,-999.0000,-999.000,-999.000,-999.000,-999.000
      74JC10_1,   A23,    95,  1,   9517,     17,2,19950428,0230,-39.8682, -36.0107, 4680,    495,    485.7,   4.9661,  34.2306,2,  34.2303,2,    259.2,3,  4.9278,    256.0,2,    12.95,2,    25.22,2,     1.68,2, -999.000,9, -999.000,9, -999.000,9, -999.000,9, -999.000,9,-999.0000,9,  -999.00,9,-999.000,9,   -999.0,9,   -999.0,9,-999.0,  -999.0,-999.0000,-999.000,-999.000,-999.000,-999.000
      74JC10_1,   A23,    95,  1,   9516,     16,2,19950428,0230,-39.8682, -36.0107, 4680,    749,    738.1,   3.9144,  34.2451,2,  34.2458,2,    248.7,3,  3.8608,    236.9,2,    24.41,2,    29.07,2,     1.94,2,    2.319,2,    1.012,2,    0.117,2,    2.952,2, -999.000,9,-999.0000,9,  -999.00,9,-999.000,9,   -999.0,9,   -999.0,9,-999.0,  -999.0,-999.0000,-999.000,-999.000,-999.000,-999.000
      74JC10_1,   A23,    95,  1,   9515,     15,2,19950428,0230,-39.8682, -36.0107, 4680,    996,    983.9,   3.0158,  34.3007,2,  34.3025,2,    224.8,3,  2.9493,    216.0,2,    40.26,2,    31.77,2,     2.15,2,    1.450,2,    0.597,3,    0.062,2,    2.073,2, -999.000,9,-999.0000,9,  -999.00,9,-999.000,9,   -999.0,9,   -999.0,9,-999.0,  -999.0,-999.0000,-999.000,-999.000,-999.000,-999.000
      74JC10_1,   A23,    95,  1,   9514,     14,2,19950428,0230,-39.8682, -36.0107, 4680,   1234,   1221.7,   2.8169,  34.4293,2,  34.4312,2,    197.4,3,  2.7337,    191.2,2,    53.93,2,    32.96,2,     2.23,2,    0.506,2,    0.227,2,    0.013,2,    0.990,2, -999.000,9,-999.0000,9,  -999.00,9,-999.000,9,   -999.0,9,   -999.0,9,-999.0,  -999.0,-999.0000,-999.000,-999.000,-999.000,-999.000
      74JC10_1,   A23,    95,  1,   9513,     13,2,19950428,0230,-39.8682, -36.0107, 4680,   1472,   1458.6,   2.7829,  34.5679,2,  34.5702,2,    184.7,3,  2.6810,    180.0,2,    61.52,2,    32.33,2,     2.18,2,    0.193,2,    0.092,2,    0.004,2,    0.516,2, -999.000,9,-999.0000,9,  -999.00,9,-999.000,9,   -999.0,9,   -999.0,9,-999.0,  -999.0,-999.0000,-999.000,-999.000,-999.000,-999.000
      74JC10_1,   A23,    95,  1,   9512,     12,2,19950428,0230,-39.8682, -36.0107, 4680,   1731,   1717.9,   2.9119,  34.7050,2,  34.7042,2,    193.0,3,  2.7864,    187.2,2,    60.14,2,    29.93,2,     2.00,2,    0.064,2,    0.033,2,    0.000,2,    0.258,2, -999.000,9,-999.0000,9,  -999.00,9,-999.000,9,   -999.0,9,   -999.0,9,-999.0,  -999.0,-999.0000,-999.000,-999.000,-999.000,-999.000
      74JC10_1,   A23,    95,  1,   9511,     24,2,19950428,0230,-39.8682, -36.0107, 4680,   1986,   1973.2,   2.9003,  34.7828,2,  34.7836,2,    205.3,3,  2.7522,    199.2,2,    57.65,2,    27.83,2,     1.84,2,    0.031,2,    0.025,2,    0.000,2,    0.197,2, -999.000,9,-999.0000,9,  -999.00,9,-999.000,9,   -999.0,9,   -999.0,9,-999.0,  -999.0,-999.0000,-999.000,-999.000,-999.000,-999.000
      74JC10_1,   A23,    95,  1,   9510,     10,2,19950428,0230,-39.8682, -36.0107, 4680,   2330,   2317.0,   2.8758,  34.8603,2,  34.8603,2,    222.0,3,  2.6960,    220.4,2,    49.75,2,    24.67,2,     1.60,2,    0.004,2,    0.011,2,    0.000,2,    0.124,2, -999.000,9,-999.0000,9,  -999.00,9,-999.000,9,   -999.0,9,   -999.0,9,-999.0,  -999.0,-999.0000,-999.000,-999.000,-999.000,-999.000
      74JC10_1,   A23,    95,  1,   9509,      9,2,19950428,0230,-39.8682, -36.0107, 4680,   2682,   2670.3,   2.3807,  34.8263,2,  34.8267,2,    222.6,3,  2.1765,    214.8,2,    66.43,2,    26.32,2,     1.73,2,    0.002,2,    0.008,2,    0.000,2,    0.112,2, -999.000,9,-999.0000,9,  -999.00,9,-999.000,9,   -999.0,9,   -999.0,9,-999.0,  -999.0,-999.0000,-999.000,-999.000,-999.000,-999.000
      74JC10_1,   A23,    95,  1,   9508,      8,2,19950428,0230,-39.8682, -36.0107, 4680,   2979,   2968.0,   1.9327,  34.7934,2,  34.7903,2,    216.2,3,  1.7090,    209.3,2,    82.71,2,    28.00,2,     1.85,2,    0.013,2, -999.000,9,    0.000,2,    0.100,2, -999.000,9,-999.0000,9,  -999.00,9,-999.000,9,   -999.0,9,   -999.0,9,-999.0,  -999.0,-999.0000,-999.000,-999.000,-999.000,-999.000
      74JC10_1,   A23,    95,  1,   9507,     26,2,19950428,0230,-39.8682, -36.0107, 4680,   3330,   3320.0,   1.3084,  34.7324,2,  34.7321,2,    208.7,3,  1.0648,    201.1,2,   106.88,2,    30.95,2,     2.07,2,    0.056,2,    0.037,2,    0.000,2,    0.170,2, -999.000,9,-999.0000,9,  -999.00,9,-999.000,9,   -999.0,9,   -999.0,9,-999.0,  -999.0,-999.0000,-999.000,   1.298,-999.000,-999.000
      74JC10_1,   A23,    95,  1,   9506,      6,2,19950428,0230,-39.8682, -36.0107, 4680,   3680,   3670.2,   0.8773,  34.7084,2,  34.7079,2,    212.7,3,  0.6099,    206.5,2,   116.15,2,    31.64,2,     2.12,2,    0.081,2,    0.045,2,    0.000,2,    0.250,2, -999.000,9,-999.0000,9,  -999.00,9,-999.000,9,   -999.0,9,   -999.0,9,-999.0,  -999.0,-999.0000,-999.000,-999.000,-999.000,-999.000
      74JC10_1,   A23,    95,  1,   9505,      5,2,19950428,0230,-39.8682, -36.0107, 4680,   3979,   3970.5,   0.5036,  34.6865,2,  34.6869,2,    217.4,3,  0.2160,    211.7,2,   122.89,2,    32.18,2,     2.18,2,    0.107,2,    0.066,2,    0.006,2,    0.335,2, -999.000,9,-999.0000,9,  -999.00,9,-999.000,9,   -999.0,9,   -999.0,9,-999.0,  -999.0,-999.0000,-999.000,-999.000,-999.000,-999.000
      74JC10_1,   A23,    95,  1,   9504,      4,2,19950428,0230,-39.8682, -36.0107, 4680,   4230,   4221.1,   0.3123,  34.6776,2,  34.6769,2,    222.2,3,  0.0044,    215.4,2,   126.30,2,    32.40,2,     2.19,2,    0.111,2,    0.065,2,    0.000,2,    0.354,2, -999.000,9,-999.0000,9,  -999.00,9,-999.000,9,   -999.0,9,   -999.0,9,-999.0,  4230.0,-999.0000,-999.000,   0.304,-999.000,-999.000
      74JC10_1,   A23,    95,  1,   9503,      3,2,19950428,0230,-39.8682, -36.0107, 4680,   4480,   4472.3,   0.2189,  34.6729,2,  34.6720,2,    225.1,3, -0.1128,    217.6,2,   126.30,2,    32.39,2,     2.20,2,    0.121,2,    0.064,2,    0.000,2,    0.385,2, -999.000,9,-999.0000,9,  -999.00,9,-999.000,9,   -999.0,9,   -999.0,9,-999.0,  -999.0,-999.0000,-999.000,-999.000,-999.000,-999.000
      74JC10_1,   A23,    95,  1,   9502,      2,2,19950428,0230,-39.8682, -36.0107, 4680,   4765,   4757.8,   0.1797,  34.6702,2,  34.6688,2,    225.7,3, -0.1820,    217.9,2,   129.23,2,    32.60,2,     2.21,2,    0.157,2,    0.085,2,    0.000,2,    0.409,2, -999.000,9,-999.0000,9,  -999.00,9,-999.000,9,   -999.0,9,   -999.0,9,-999.0,  -999.0,-999.0000,-999.000,-999.000,-999.000,-999.000
      74JC10_1,   A23,    95,  1,   9501,      1,2,19950428,0230,-39.8682, -36.0107, 4680,   4766,   4758.4,   0.1807,  34.6701,2,  34.6690,2,    226.4,3, -0.1810,    217.7,2,   129.13,2,    32.44,2,     2.21,2,    0.155,2,    0.077,2,    0.000,2,    0.410,2, -999.000,9,-999.0000,9,  -999.00,9,-999.000,9,   -999.0,9,   -999.0,9,-999.0,  4748.0,-999.0000,-999.000,   0.174,-999.000,-999.000