BOTTLE,20220810CCHSIOAMB
EXPOCODE,SECT_ID,STNNBR,CASTNO,SAMPNO,BTLNBR,BTLNBR_FLAG_W,DATE,TIME,LATITUDE,LONGITUDE,DEPTH,CTDRAW,CTDPRS,CTDTMP,CTDSAL,CTDSAL_FLAG_W,SALNTY,SALNTY_FLAG_W,CTDOXY,CTDOXY_FLAG_W,THETA,OXYGEN,OXYGEN_FLAG_W,SILCAT,SILCAT_FLAG_W,NO2+NO3,NO2+NO3_FLAG_W,PHSPHT,PHSPHT_FLAG_W,CFC-11,CFC-11_FLAG_W,CFC-12,CFC-12_FLAG_W,CFC113,CFC113_FLAG_W,CCL4,CCL4_FLAG_W,TRITUM,TRITUM_FLAG_W,HELIUM,HELIUM_FLAG_W,DELHE3,DELHE3_FLAG_W,NEON,NEON_FLAG_W,TCARBN,TCARBN_FLAG_W,PCO2,PCO2_FLAG_W,PCO2TMP,REVPRS,HELIER,TRITER,REVTMP,NEONER,DELHER
,,,,,,,,,,,,,DBAR,ITS-90,PSS-78,,PSS-78,,UMOL/KG,,DEG C,UMOL/KG,,UMOL/KG,,UMOL/KG,,UMOL/KG,,PMOL/KG,,PMOL/KG,,PMOL/KG,,PMOL/KG,,TU,,NMOL/KG,,PERCNT,,NMOL/KG,,UMOL/KG,,UATM,,DEG C,DBAR,NMOL/KG,TU,ITS-90,NMOL/KG,PERCNT
      74JC10_1,   A23,    34,  1,   3415,     15,2,19950407,2128,-60.6995, -31.0098, 1629,     11,      9.2,  -0.7119,  33.7605,2,  33.7562,2,    350.2,3, -0.7121,    337.8,2,    61.17,2,    25.22,2,     1.63,2,    6.672,2,    3.173,2,    0.601,2,    7.816,2,    0.135,2,-999.0000,9,  -999.00,9,-999.000,9,   2148.3,6,    329.1,2,   4.0,  -999.0,-999.0000,   0.005,-999.000,-999.000,-999.000
      74JC10_1,   A23,    34,  1,   3414,     14,2,19950407,2128,-60.6995, -31.0098, 1629,     58,     55.7,  -1.2244,  34.0782,2,  34.0539,2,    336.9,3, -1.2258,    336.4,2,    70.86,2,    27.26,2,     1.85,2,    5.702,2,    2.677,2,    0.503,2,    6.569,2, -999.000,9,-999.0000,9,  -999.00,9,-999.000,9,   2180.0,6,    356.0,2,   4.0,  -999.0,-999.0000,-999.000,-999.000,-999.000,-999.000
      74JC10_1,   A23,    34,  1,   3413,     13,2,19950407,2128,-60.6995, -31.0098, 1629,     82,     79.4,  -1.5508,  34.2828,2,  34.2834,2,    305.5,3, -1.5525,    297.3,2,    78.65,2,    29.38,2,     1.99,2,    4.992,2,    2.309,2,    0.445,2,    5.396,2, -999.000,9,-999.0000,9,  -999.00,9,-999.000,9,   -999.0,9,   -999.0,9,-999.0,  -999.0,-999.0000,-999.000,-999.000,-999.000,-999.000
      74JC10_1,   A23,    34,  1,   3412,     12,2,19950407,2128,-60.6995, -31.0098, 1629,    107,    104.2,  -1.2987,  34.3606,2,  34.3641,2,    291.3,3, -1.3013,   -999.0,5,    82.12,2,    30.24,2,     2.10,2,    4.211,2,    1.940,2,    0.363,2,    4.437,2,    0.092,2,   1.8310,2,     2.86,2,   8.177,2,   2213.8,6,    399.0,2,   4.0,  -999.0,  0.0070,   0.019,-999.000,   0.025,   0.300
      74JC10_1,   A23,    34,  1,   3411,     11,2,19950407,2128,-60.6995, -31.0098, 1629,    157,    153.1,  -0.5977,  34.4890,2,  34.4913,2,    255.1,3, -0.6025,    246.2,2,    90.44,2,    31.47,2,     2.13,2,    2.868,2,    1.327,2,    0.247,2,    2.958,2, -999.000,9,-999.0000,9,  -999.00,9,-999.000,9,   -999.0,9,   -999.0,9,-999.0,  -999.0,-999.0000,-999.000,-999.000,-999.000,-999.000
      74JC10_1,   A23,    34,  1,   3410,     10,2,19950407,2128,-60.6995, -31.0098, 1629,    207,    202.6,  -0.2540,  34.5546,2,  34.5525,2,    233.4,3, -0.2611,    227.8,3,    94.82,2,    31.83,2,     2.16,2,    2.137,2,    0.966,2,    0.161,2,    2.231,2, -999.000,9,-999.0000,9,  -999.00,9,-999.000,9,   -999.0,9,   -999.0,9,-999.0,  -999.0,-999.0000,-999.000,-999.000,-999.000,-999.000
      74JC10_1,   A23,    34,  1,   3409,      9,2,19950407,2128,-60.6995, -31.0098, 1629,    256,    251.8,   0.1149,  34.6231,2,  34.6217,2,    216.5,3,  0.1052,    212.2,2,   100.83,2,    32.34,2,     2.41,3,    1.321,2,    0.613,2,    0.096,2,    1.573,2, -999.000,9,-999.0000,9,  -999.00,9,-999.000,9,   2243.9,6,    481.2,2,   4.0,  -999.0,-999.0000,-999.000,-999.000,-999.000,-999.000
      74JC10_1,   A23,    34,  1,   3408,      8,2,19950407,2128,-60.6995, -31.0098, 1629,    357,    351.1,   0.3661,  34.6631,2,  34.6625,2,    207.1,3,  0.3516,    201.9,2,   106.20,2,    32.45,2,     2.24,2,    0.728,2,    0.340,2,    0.034,2,    0.975,2, -999.000,9,   1.8550,2,     8.16,2,   8.147,2,   -999.0,9,   -999.0,9,-999.0,  -999.0,  0.0070,-999.000,-999.000,   0.025,   0.300
      74JC10_1,   A23,    34,  1,   3407,      7,2,19950407,2128,-60.6995, -31.0098, 1629,    505,    498.5,   0.4514,  34.6773,2,  34.6779,2,    205.1,3,  0.4297,    200.5,2,   110.78,2,    32.56,2,     2.31,3,    0.447,2,    0.223,2,    0.018,2,    0.663,2,    0.029,2,   1.8550,2,     8.34,2,   8.160,2,   2250.3,6,    498.2,2,   4.0,  -999.0,  0.0070,   0.004,   0.449,   0.025,   0.300
      74JC10_1,   A23,    34,  1,   3406,      6,2,19950407,2128,-60.6995, -31.0098, 1629,    755,    748.1,   0.3891,  34.6812,2,  34.6820,2,    208.2,3,  0.3553,    201.3,2,   116.64,2,    32.58,2,     2.22,2,    0.230,2,    0.128,2,    0.000,2,    0.429,2,    0.025,2,   1.8610,2,     8.53,2,   8.193,2,   2252.8,6,    496.0,2,   4.0,  -999.0,  0.0070,   0.003,-999.000,   0.025,   0.300
      74JC10_1,   A23,    34,  1,   3405,      5,2,19950407,2128,-60.6995, -31.0098, 1629,   1004,    996.4,   0.2473,  34.6775,2,  34.6777,2,    213.2,3,  0.2013,    206.3,2,   120.06,2,    32.47,2,     2.24,2,    0.220,2,    0.120,2,    0.003,2,    0.423,2, -999.000,5,   1.8560,2,     7.72,2,   8.153,2,   2252.4,6,    480.5,2,   4.0,  -999.0,  0.0070,-999.000,-999.000,   0.025,   0.300
      74JC10_1,   A23,    34,  1,   3404,      4,2,19950407,2128,-60.6995, -31.0098, 1629,   1255,   1247.5,   0.1345,  34.6731,2,  34.6728,2,    219.0,3,  0.0753,    211.3,2,   122.01,2,    32.56,2,     2.71,3,    0.251,2,    0.135,2,    0.000,2,    0.460,2,    0.018,2,   1.8610,2,     7.25,2,   8.172,2,   -999.0,9,   -999.0,9,-999.0,  1249.0,  0.0070,   0.003,   0.127,   0.025,   0.300
      74JC10_1,   A23,    34,  1,   3403,      3,2,19950407,2128,-60.6995, -31.0098, 1629,   1504,   1497.2,   0.0752,  34.6708,2,  34.6708,2,    222.3,3,  0.0016,    214.0,2,   122.20,2,    32.44,2,     2.25,2,    0.241,2,    0.146,3,    0.000,2,    0.454,2, -999.000,9,   1.8720,2,     7.67,2,   8.201,2,   -999.0,9,   -999.0,9,-999.0,  -999.0,  0.0070,-999.000,-999.000,   0.025,   0.300
      74JC10_1,   A23,    34,  1,   3401,      1,2,19950407,2128,-60.6995, -31.0098, 1629,   1601,   1594.4,   0.0795,  34.6705,2,  34.6710,2,    215.7,3, -0.0003,    216.0,3,   122.79,2,    32.34,2,     2.21,2,    0.240,2,    0.129,2,    0.000,2,    0.433,2, -999.000,9,   1.8820,2,     6.85,2,   8.235,2,   2249.6,6,    470.6,2,   4.0,  1578.0,  0.0070,-999.000,   0.073,   0.026,   0.300
      74JC10_1,   A23,    34,  1,   3402,      2,2,19950407,2128,-60.6995, -31.0098, 1629,   1602,   1595.4,   0.0788,  34.6711,2,  34.6708,2,    218.6,3, -0.0010,    213.4,2,   122.30,2,    32.44,2,     2.23,2,    0.249,2,    0.144,3,    0.008,2,    0.461,2, -999.000,9,-999.0000,9,  -999.00,9,-999.000,9,   -999.0,9,   -999.0,9,-999.0,  -999.0,-999.0000,-999.000,-999.000,-999.000,-999.000
      74JC10_1,   A23,    35,  1,   3519,     19,2,19950408,0131,-60.3152, -30.9585, 2818,      8,      6.2,  -0.7595,  33.6367,2,  33.6361,2,    346.7,3, -0.7597,    340.6,2,    64.03,2,    24.34,2,     1.57,2, -999.000,9, -999.000,9, -999.000,9, -999.000,9, -999.000,9,-999.0000,9,  -999.00,9,-999.000,9,   -999.0,9,   -999.0,9,-999.0,  -999.0,-999.0000,-999.000,-999.000,-999.000,-999.000
      74JC10_1,   A23,    35,  1,   3520,     26,2,19950408,0131,-60.3152, -30.9585, 2818,      9,      6.9,  -0.7573,  33.6368,2,  33.6367,2,    346.7,3, -0.7575,    341.4,2,    64.27,2,    24.44,2,     1.57,2, -999.000,9, -999.000,9, -999.000,9, -999.000,9, -999.000,9,-999.0000,9,  -999.00,9,-999.000,9,   -999.0,9,   -999.0,9,-999.0,  -999.0,-999.0000,-999.000,  -0.769,-999.000,-999.000
      74JC10_1,   A23,    35,  1,   3518,     18,2,19950408,0131,-60.3152, -30.9585, 2818,     56,     53.2,  -0.8630,  33.6734,2,  33.6752,2,    350.0,3, -0.8644,    336.2,2,    64.99,2,    24.70,2,     1.63,2, -999.000,9, -999.000,9, -999.000,9, -999.000,9, -999.000,9,-999.0000,9,  -999.00,9,-999.000,9,   -999.0,9,   -999.0,9,-999.0,  -999.0,-999.0000,-999.000,-999.000,-999.000,-999.000
      74JC10_1,   A23,    35,  1,   3517,     17,2,19950408,0131,-60.3152, -30.9585, 2818,    106,    102.7,  -1.1062,  34.4025,2,  34.3819,2,    272.0,3, -1.1089,    260.8,2,    85.82,2,    30.34,2,     2.06,2, -999.000,9, -999.000,9, -999.000,9, -999.000,9, -999.000,9,-999.0000,9,  -999.00,9,-999.000,9,   -999.0,9,   -999.0,9,-999.0,  -999.0,-999.0000,-999.000,-999.000,-999.000,-999.000
      74JC10_1,   A23,    35,  1,   3516,     16,2,19950408,0131,-60.3152, -30.9585, 2818,    157,    152.7,  -0.4047,  34.5415,2,  34.5411,2,    235.3,3, -0.4098,    227.1,2,    96.65,2,    31.75,2,     2.27,2, -999.000,9, -999.000,9, -999.000,9, -999.000,9, -999.000,9,-999.0000,9,  -999.00,9,-999.000,9,   -999.0,9,   -999.0,9,-999.0,  -999.0,-999.0000,-999.000,-999.000,-999.000,-999.000
      74JC10_1,   A23,    35,  1,   3515,     15,2,19950408,0131,-60.3152, -30.9585, 2818,    207,    202.5,   0.0255,  34.6132,2,  34.6101,2,    219.3,3,  0.0179,    213.0,2,   101.81,2,    32.26,2,     2.20,2, -999.000,9, -999.000,9, -999.000,9, -999.000,9, -999.000,9,-999.0000,9,  -999.00,9,-999.000,9,   -999.0,9,   -999.0,9,-999.0,  -999.0,-999.0000,-999.000,-999.000,-999.000,-999.000
      74JC10_1,   A23,    35,  1,   3514,     14,2,19950408,0131,-60.3152, -30.9585, 2818,    256,    251.0,   0.1757,  34.6388,2,  34.6388,2,    211.5,3,  0.1660,    206.3,2,   104.25,2,    32.42,2,     2.20,2, -999.000,9, -999.000,9, -999.000,9, -999.000,9, -999.000,9,-999.0000,9,  -999.00,9,-999.000,9,   -999.0,9,   -999.0,9,-999.0,  -999.0,-999.0000,-999.000,-999.000,-999.000,-999.000
      74JC10_1,   A23,    35,  1,   3513,     13,2,19950408,0131,-60.3152, -30.9585, 2818,    357,    350.4,   0.3704,  34.6686,2,  34.6682,2,    207.6,3,  0.3559,    200.5,2,   109.52,2,    32.55,2,     2.21,2, -999.000,9, -999.000,9, -999.000,9, -999.000,9, -999.000,9,-999.0000,9,  -999.00,9,-999.000,9,   -999.0,9,   -999.0,9,-999.0,  -999.0,-999.0000,-999.000,-999.000,-999.000,-999.000
      74JC10_1,   A23,    35,  1,   3512,     12,2,19950408,0131,-60.3152, -30.9585, 2818,    506,    498.8,   0.4021,  34.6792,2,  34.6794,2,    208.1,3,  0.3806,    200.2,2,   114.30,2,    32.30,2,     2.22,2, -999.000,9, -999.000,9, -999.000,9, -999.000,9, -999.000,9,-999.0000,9,  -999.00,9,-999.000,9,   -999.0,9,   -999.0,9,-999.0,  -999.0,-999.0000,-999.000,-999.000,-999.000,-999.000
      74JC10_1,   A23,    35,  1,   3511,     11,2,19950408,0131,-60.3152, -30.9585, 2818,    509,    501.1,   0.4015,  34.6794,2,  34.6781,2,    208.1,3,  0.3799,    200.9,2,   114.00,2,    32.54,2,     2.21,2, -999.000,9, -999.000,9, -999.000,9, -999.000,9, -999.000,9,-999.0000,9,  -999.00,9,-999.000,9,   -999.0,9,   -999.0,9,-999.0,  -999.0,-999.0000,-999.000,-999.000,-999.000,-999.000
      74JC10_1,   A23,    35,  1,   3510,     10,2,19950408,0131,-60.3152, -30.9585, 2818,    758,    748.7,   0.3141,  34.6787,2,  34.6793,2,    210.8,3,  0.2807,    202.3,2,   118.40,2,    32.69,2,     2.25,2, -999.000,9, -999.000,9, -999.000,9, -999.000,9, -999.000,9,-999.0000,9,  -999.00,9,-999.000,9,   -999.0,9,   -999.0,9,-999.0,  -999.0,-999.0000,-999.000,-999.000,-999.000,-999.000
      74JC10_1,   A23,    35,  1,   3509,      9,2,19950408,0131,-60.3152, -30.9585, 2818,   1007,    996.1,   0.1962,  34.6758,2,  34.6759,2,    215.0,3,  0.1506,    207.3,2,   120.74,2,    32.62,2,     2.23,2, -999.000,9, -999.000,9, -999.000,9, -999.000,9, -999.000,9,-999.0000,9,  -999.00,9,-999.000,9,   -999.0,9,   -999.0,9,-999.0,  -999.0,-999.0000,-999.000,-999.000,-999.000,-999.000
      74JC10_1,   A23,    35,  1,   3507,      7,2,19950408,0131,-60.3152, -30.9585, 2818,   1258,   1246.7,   0.0918,  34.6716,2,  34.6720,2,    218.5,3,  0.0330,    211.8,2,   121.23,2,    32.32,2,     2.23,2, -999.000,9, -999.000,9, -999.000,9, -999.000,9, -999.000,9,-999.0000,9,  -999.00,9,-999.000,9,   -999.0,9,   -999.0,9,-999.0,  -999.0,-999.0000,-999.000,   0.088,-999.000,-999.000
      74JC10_1,   A23,    35,  1,   3508,      8,2,19950408,0131,-60.3152, -30.9585, 2818,   1258,   1246.7,   0.0919,  34.6725,2,  34.6728,2,    218.5,3,  0.0332,    211.7,2,   121.42,2,    32.46,2,     2.23,2, -999.000,9, -999.000,9, -999.000,9, -999.000,9, -999.000,9,-999.0000,9,  -999.00,9,-999.000,9,   -999.0,9,   -999.0,9,-999.0,  -999.0,-999.0000,-999.000,-999.000,-999.000,-999.000
      74JC10_1,   A23,    35,  1,   3506,      6,2,19950408,0131,-60.3152, -30.9585, 2818,   1509,   1498.0,   0.0065,  34.6687,2,  34.6692,2,    223.4,3, -0.0663,    213.8,2,   121.33,2,    32.20,2,     2.22,2, -999.000,9, -999.000,9, -999.000,9, -999.000,9, -999.000,9,-999.0000,9,  -999.00,9,-999.000,9,   -999.0,9,   -999.0,9,-999.0,  -999.0,-999.0000,-999.000,-999.000,-999.000,-999.000
      74JC10_1,   A23,    35,  1,   3505,      5,2,19950408,0131,-60.3152, -30.9585, 2818,   1757,   1746.6,  -0.0745,  34.6653,2,  34.6655,2,    226.9,3, -0.1619,    218.8,2,   122.50,2,    32.06,2,     2.21,2, -999.000,9, -999.000,9, -999.000,9, -999.000,9, -999.000,9,-999.0000,9,  -999.00,9,-999.000,9,   -999.0,9,   -999.0,9,-999.0,  -999.0,-999.0000,-999.000,-999.000,-999.000,-999.000
      74JC10_1,   A23,    35,  1,   3504,      4,2,19950408,0131,-60.3152, -30.9585, 2818,   2007,   1996.3,  -0.1175,  34.6638,2,  34.6635,2,    229.2,3, -0.2211,    221.7,2,   123.18,2,    32.06,2,     2.21,2, -999.000,9, -999.000,9, -999.000,9, -999.000,9, -999.000,9,-999.0000,9,  -999.00,9,-999.000,9,   -999.0,9,   -999.0,9,-999.0,  2002.0,-999.0000,-999.000,  -0.123,-999.000,-999.000
      74JC10_1,   A23,    35,  1,   3503,      3,2,19950408,0131,-60.3152, -30.9585, 2818,   2507,   2497.7,  -0.1387,  34.6605,2,  34.6618,2,    231.0,3, -0.2784,    225.4,2,   124.55,2,    31.99,2,     2.21,2, -999.000,9, -999.000,9, -999.000,9, -999.000,9, -999.000,9,-999.0000,9,  -999.00,9,-999.000,9,   -999.0,9,   -999.0,9,-999.0,  -999.0,-999.0000,-999.000,-999.000,-999.000,-999.000
      74JC10_1,   A23,    35,  1,   3502,      2,2,19950408,0131,-60.3152, -30.9585, 2818,   2808,   2799.2,  -0.1173,  34.6613,2,  34.6612,2,    229.8,3, -0.2813,    224.2,2,   125.82,2,    32.11,2,     2.23,2, -999.000,9, -999.000,9, -999.000,9, -999.000,9, -999.000,9,-999.0000,9,  -999.00,9,-999.000,9,   -999.0,9,   -999.0,9,-999.0,  -999.0,-999.0000,-999.000,-999.000,-999.000,-999.000
      74JC10_1,   A23,    35,  1,   3501,      1,2,19950408,0131,-60.3152, -30.9585, 2818,   2810,   2801.7,  -0.1166,  34.6611,2,  34.6610,2,    229.6,3, -0.2808,   -999.0,5,   126.21,2,    32.03,2,     2.19,2, -999.000,9, -999.000,9, -999.000,9, -999.000,9, -999.000,9,-999.0000,9,  -999.00,9,-999.000,9,   -999.0,9,   -999.0,9,-999.0,  2780.0,-999.0000,-999.000,  -0.127,-999.000,-999.000