BOTTLE,20220810CCHSIOAMB
EXPOCODE,SECT_ID,STNNBR,CASTNO,SAMPNO,BTLNBR,BTLNBR_FLAG_W,DATE,TIME,LATITUDE,LONGITUDE,DEPTH,CTDRAW,CTDPRS,CTDTMP,CTDSAL,CTDSAL_FLAG_W,SALNTY,SALNTY_FLAG_W,CTDOXY,CTDOXY_FLAG_W,THETA,OXYGEN,OXYGEN_FLAG_W,SILCAT,SILCAT_FLAG_W,NO2+NO3,NO2+NO3_FLAG_W,PHSPHT,PHSPHT_FLAG_W,CFC-11,CFC-11_FLAG_W,CFC-12,CFC-12_FLAG_W,CFC113,CFC113_FLAG_W,CCL4,CCL4_FLAG_W,TRITUM,TRITUM_FLAG_W,HELIUM,HELIUM_FLAG_W,DELHE3,DELHE3_FLAG_W,NEON,NEON_FLAG_W,TCARBN,TCARBN_FLAG_W,PCO2,PCO2_FLAG_W,PCO2TMP,REVPRS,HELIER,TRITER,REVTMP,NEONER,DELHER
,,,,,,,,,,,,,DBAR,ITS-90,PSS-78,,PSS-78,,UMOL/KG,,DEG C,UMOL/KG,,UMOL/KG,,UMOL/KG,,UMOL/KG,,PMOL/KG,,PMOL/KG,,PMOL/KG,,PMOL/KG,,TU,,NMOL/KG,,PERCNT,,NMOL/KG,,UMOL/KG,,UATM,,DEG C,DBAR,NMOL/KG,TU,ITS-90,NMOL/KG,PERCNT
      74JC10_1,   A23,    16,  1,   1621,     21,2,19950402,1817,-70.2565, -20.9877, 4560,     10,      8.4,  -1.8365,  33.9901,2,  34.0043,2,    340.9,3, -1.8367,    334.2,2,    68.93,2,    26.87,2,     1.67,2,    6.248,2,    2.893,2,    0.560,2,    7.545,2, -999.000,9,-999.0000,9,  -999.00,9,-999.000,9,   -999.0,9,   -999.0,9,-999.0,  -999.0,-999.0000,-999.000,-999.000,-999.000,-999.000
      74JC10_1,   A23,    16,  1,   1622,     25,2,19950402,1817,-70.2565, -20.9877, 4560,     11,      8.7,  -1.7965,  33.9881,2,  33.9941,2,    340.9,3, -1.7967,    335.5,2,    68.21,2,    26.62,2,     1.64,2,    6.415,2,    2.855,2,    0.555,2,    7.580,2, -999.000,9,-999.0000,9,  -999.00,9,-999.000,9,   -999.0,9,   -999.0,9,-999.0,  -999.0,-999.0000,-999.000,-999.000,-999.000,-999.000
      74JC10_1,   A23,    16,  1,   1620,     20,2,19950402,1817,-70.2565, -20.9877, 4560,     57,     54.7,  -1.6302,  34.4268,2,  34.4231,2,    280.9,3, -1.6313,    268.6,2,    81.15,2,    30.09,2,     2.08,2,    3.614,2,    1.666,2,    0.353,2,    4.194,2, -999.000,9,-999.0000,9,  -999.00,9,-999.000,9,   -999.0,9,   -999.0,9,-999.0,  -999.0,-999.0000,-999.000,-999.000,-999.000,-999.000
      74JC10_1,   A23,    16,  1,   1619,     19,2,19950402,1817,-70.2565, -20.9877, 4560,    109,    105.1,  -1.4670,  34.4650,2,  34.4624,2,    266.5,3, -1.4694,    255.1,2,    83.68,2,    31.06,2,     2.12,2,    3.333,2,    1.479,2,    0.274,2,    3.754,2, -999.000,9,-999.0000,9,  -999.00,9,-999.000,9,   -999.0,9,   -999.0,9,-999.0,  -999.0,-999.0000,-999.000,-999.000,-999.000,-999.000
      74JC10_1,   A23,    16,  1,   1618,     18,2,19950402,1817,-70.2565, -20.9877, 4560,    160,    156.0,  -0.0509,  34.5818,2,  34.5893,2,    236.5,3, -0.0565,    221.3,2,    91.40,2,    31.69,2,     2.16,2,    1.822,2,    0.752,3,    0.142,2,    2.277,2, -999.000,9,-999.0000,9,  -999.00,9,-999.000,9,   -999.0,9,   -999.0,9,-999.0,  -999.0,-999.0000,-999.000,-999.000,-999.000,-999.000
      74JC10_1,   A23,    16,  1,   1617,     17,2,19950402,1817,-70.2565, -20.9877, 4560,    211,    206.5,   0.6083,  34.6605,2,  34.6602,2,    212.1,3,  0.5995,    203.4,2,    96.57,2,    31.75,2,     2.18,2,    0.970,2,    0.442,2,    0.063,2,    1.273,2, -999.000,9,-999.0000,9,  -999.00,9,-999.000,9,   -999.0,9,   -999.0,9,-999.0,  -999.0,-999.0000,-999.000,-999.000,-999.000,-999.000
      74JC10_1,   A23,    16,  1,   1616,     16,2,19950402,1817,-70.2565, -20.9877, 4560,    263,    257.7,   0.6707,  34.6697,2,  34.6698,2,    210.5,3,  0.6595,    201.2,2,    97.61,2,    31.63,2,     2.16,2,    0.857,2,    0.386,2,    0.056,2,    1.148,2, -999.000,9,-999.0000,9,  -999.00,9,-999.000,9,   -999.0,9,   -999.0,9,-999.0,  -999.0,-999.0000,-999.000,-999.000,-999.000,-999.000
      74JC10_1,   A23,    16,  1,   1615,     15,2,19950402,1817,-70.2565, -20.9877, 4560,    366,    359.2,   0.8674,  34.6953,2,  34.6944,2,    204.6,3,  0.8509,    197.7,2,   104.15,2,    31.82,2,     2.21,2,    0.437,2,    0.196,2,    0.017,2,    0.714,2, -999.000,9,-999.0000,9,  -999.00,9,-999.000,9,   -999.0,9,   -999.0,9,-999.0,  -999.0,-999.0000,-999.000,-999.000,-999.000,-999.000
      74JC10_1,   A23,    16,  1,   1614,     14,2,19950402,1817,-70.2565, -20.9877, 4560,    521,    513.0,   0.7372,  34.6943,2,  34.6942,2,    205.3,3,  0.7136,    199.6,2,   107.95,2,    31.85,2,     2.17,2,    0.413,2,    0.208,2,    0.026,2,    0.658,2, -999.000,9,-999.0000,9,  -999.00,9,-999.000,9,   -999.0,9,   -999.0,9,-999.0,  -999.0,-999.0000,-999.000,-999.000,-999.000,-999.000
      74JC10_1,   A23,    16,  1,   1613,     13,2,19950402,1817,-70.2565, -20.9877, 4560,    777,    767.0,   0.5814,  34.6934,2,  34.6918,2,    207.2,3,  0.5453,    201.3,2,   112.54,2,    31.79,2,     2.18,2,    0.227,2,    0.120,2,    0.000,2,    0.489,2, -999.000,9,-999.0000,9,  -999.00,9,-999.000,9,   -999.0,9,   -999.0,9,-999.0,  -999.0,-999.0000,-999.000,-999.000,-999.000,-999.000
      74JC10_1,   A23,    16,  1,   1612,     12,2,19950402,1817,-70.2565, -20.9877, 4560,   1034,   1022.6,   0.4075,  34.6857,2,  34.6851,2,    209.6,3,  0.3587,    203.8,2,   117.42,2,    32.11,2,     2.21,2,    0.157,2,    0.085,2,    0.000,2,    0.414,2, -999.000,9,-999.0000,9,  -999.00,9,-999.000,9,   -999.0,9,   -999.0,9,-999.0,  -999.0,-999.0000,-999.000,-999.000,-999.000,-999.000
      74JC10_1,   A23,    16,  1,   1611,     11,2,19950402,1817,-70.2565, -20.9877, 4560,   1292,   1279.7,   0.2666,  34.6790,2,  34.6779,2,    213.5,3,  0.2041,    208.7,2,   120.35,2,    32.15,2,     2.22,2,    0.187,2,    0.110,2,    0.000,2,    0.456,2, -999.000,9,-999.0000,9,  -999.00,9,-999.000,9,   -999.0,9,   -999.0,9,-999.0,  -999.0,-999.0000,-999.000,-999.000,-999.000,-999.000
      74JC10_1,   A23,    16,  1,   1610,     10,2,19950402,1817,-70.2565, -20.9877, 4560,   1549,   1536.5,   0.1539,  34.6746,2,  34.6757,2,    217.2,3,  0.0769,    211.5,2,   122.30,2,    32.54,2,     2.41,3,    0.179,2,    0.100,2,    0.000,2,    0.458,2, -999.000,9,-999.0000,9,  -999.00,9,-999.000,9,   -999.0,9,   -999.0,9,-999.0,  -999.0,-999.0000,-999.000,-999.000,-999.000,-999.000
      74JC10_1,   A23,    16,  1,   1609,      9,2,19950402,1817,-70.2565, -20.9877, 4560,   1804,   1791.9,   0.0606,  34.6711,2,  34.6708,2,    222.3,3, -0.0317,    215.9,2,   121.33,2,    31.88,2,     2.21,2,    0.180,2,    0.083,3,    0.000,2,    0.478,2, -999.000,9,-999.0000,9,  -999.00,9,-999.000,9,   -999.0,9,   -999.0,9,-999.0,  -999.0,-999.0000,-999.000,-999.000,-999.000,-999.000
      74JC10_1,   A23,    16,  1,   1608,      8,2,19950402,1817,-70.2565, -20.9877, 4560,   2062,   2049.5,  -0.0168,  34.6677,2,  34.6679,2,    226.7,3, -0.1257,    219.9,2,   121.91,2,    31.97,2,     2.20,2,    0.213,2,    0.105,2,    0.000,2,    0.552,2, -999.000,9,-999.0000,9,  -999.00,9,-999.000,9,   -999.0,9,   -999.0,9,-999.0,  -999.0,-999.0000,-999.000,-999.000,-999.000,-999.000
      74JC10_1,   A23,    16,  1,   1607,      7,2,19950402,1817,-70.2565, -20.9877, 4560,   2576,   2564.5,  -0.1295,  34.6642,2,  34.6639,2,    233.2,3, -0.2746,    226.7,2,   120.74,2,    31.56,2,     2.17,2,    0.298,2,    0.156,2,    0.000,2,    0.686,2, -999.000,9,-999.0000,9,  -999.00,9,-999.000,9,   -999.0,9,   -999.0,9,-999.0,  -999.0,-999.0000,-999.000,  -0.130,-999.000,-999.000
      74JC10_1,   A23,    16,  1,   1606,      6,2,19950402,1817,-70.2565, -20.9877, 4560,   3090,   3079.7,  -0.2053,  34.6600,2,  34.6608,2,    238.7,3, -0.3907,    231.8,2,   121.23,2,    31.56,2,     2.17,2,    0.413,2,    0.208,2,    0.000,2,    0.824,2, -999.000,9,-999.0000,9,  -999.00,9,-999.000,9,   -999.0,9,   -999.0,9,-999.0,  -999.0,-999.0000,-999.000,-999.000,-999.000,-999.000
      74JC10_1,   A23,    16,  1,   1605,      5,2,19950402,1817,-70.2565, -20.9877, 4560,   3606,   3596.9,  -0.2415,  34.6580,2,  34.6582,2,    242.9,3, -0.4719,    235.3,2,   121.23,2,    31.37,2,     2.16,2,    0.428,2,    0.208,2,    0.000,2,    0.837,2, -999.000,9,-999.0000,9,  -999.00,9,-999.000,9,   -999.0,9,   -999.0,9,-999.0,  -999.0,-999.0000,-999.000,-999.000,-999.000,-999.000
      74JC10_1,   A23,    16,  1,   1604,      4,2,19950402,1817,-70.2565, -20.9877, 4560,   4125,   4116.1,  -0.2688,  34.6542,2,  34.6553,2,    246.5,3, -0.5485,    237.5,2,   123.18,2,    31.42,2,     2.16,2,    0.416,2,    0.208,2,    0.000,2,    0.862,2, -999.000,9,-999.0000,9,  -999.00,9,-999.000,9,   -999.0,9,   -999.0,9,-999.0,  4127.0,-999.0000,-999.000,  -0.274,-999.000,-999.000
      74JC10_1,   A23,    16,  1,   1603,      3,2,19950402,1817,-70.2565, -20.9877, 4560,   4435,   4427.3,  -0.2874,  34.6540,2,  34.6541,2,    248.5,3, -0.5983,    239.9,2,   125.23,2,    31.38,2,     2.16,2,    0.358,2,    0.170,2,    0.004,2,    0.762,2, -999.000,9,-999.0000,9,  -999.00,9,-999.000,9,   -999.0,9,   -999.0,9,-999.0,  -999.0,-999.0000,-999.000,-999.000,-999.000,-999.000
      74JC10_1,   A23,    16,  1,   1601,      1,2,19950402,1817,-70.2565, -20.9877, 4560,   4606,   4598.2,  -0.3950,  34.6494,2,  34.6506,2,    248.5,3, -0.7204,    242.5,2,   130.21,2,    31.49,2,     2.15,2,    0.252,2,    0.149,2,    0.006,2,    0.698,2, -999.000,9,-999.0000,9,  -999.00,9,-999.000,9,   -999.0,9,   -999.0,9,-999.0,  4588.0,-999.0000,-999.000,  -0.404,-999.000,-999.000
      74JC10_1,   A23,    16,  1,   1602,      2,2,19950402,1817,-70.2565, -20.9877, 4560,   4606,   4598.5,  -0.3951,  34.6498,2,  34.6508,2,    248.5,3, -0.7205,    241.4,2,   129.23,2,    31.30,2,     2.18,2, -999.000,9, -999.000,9, -999.000,9, -999.000,9, -999.000,9,-999.0000,9,  -999.00,9,-999.000,9,   -999.0,9,   -999.0,9,-999.0,  -999.0,-999.0000,-999.000,-999.000,-999.000,-999.000
      74JC10_1,   A23,    17,  1,   1722,     25,2,19950403,0046,-69.6553, -21.8202, 4650,     11,      9.5,  -1.8472,  33.9147,2,  33.9494,2,    563.5,3, -1.8474,    334.9,2,    66.98,2,    26.53,2,     1.56,2, -999.000,9, -999.000,9, -999.000,9, -999.000,9, -999.000,9,-999.0000,9,  -999.00,9,-999.000,9,   -999.0,9,   -999.0,9,-999.0,  -999.0,-999.0000,-999.000,-999.000,-999.000,-999.000
      74JC10_1,   A23,    17,  1,   1721,     21,2,19950403,0046,-69.6553, -21.8202, 4650,     58,     55.2,  -1.5955,  34.4217,2,  34.4245,2,    274.4,3, -1.5967,    263.9,2,    83.76,2,    30.61,2,     2.04,2, -999.000,9, -999.000,9, -999.000,9, -999.000,9, -999.000,9,-999.0000,9,  -999.00,9,-999.000,9,   -999.0,9,   -999.0,9,-999.0,  -999.0,-999.0000,-999.000,-999.000,-999.000,-999.000
      74JC10_1,   A23,    17,  1,   1720,     20,2,19950403,0046,-69.6553, -21.8202, 4650,     58,     55.3,  -1.5769,  34.4291,2,  34.4275,2,    274.4,3, -1.5781,    271.9,2,    84.44,2,    30.60,2,     2.03,2, -999.000,9, -999.000,9, -999.000,9, -999.000,9, -999.000,9,-999.0000,9,  -999.00,9,-999.000,9,   -999.0,9,   -999.0,9,-999.0,  -999.0,-999.0000,-999.000,-999.000,-999.000,-999.000
      74JC10_1,   A23,    17,  1,   1719,     19,2,19950403,0046,-69.6553, -21.8202, 4650,    110,    106.2,  -1.0009,  34.4980,2,  34.4991,2,    251.7,3, -1.0038,    244.1,2,    88.78,2,    31.57,2,     2.10,2, -999.000,9, -999.000,9, -999.000,9, -999.000,9, -999.000,9,-999.0000,9,  -999.00,9,-999.000,9,   -999.0,9,   -999.0,9,-999.0,  -999.0,-999.0000,-999.000,-999.000,-999.000,-999.000
      74JC10_1,   A23,    17,  1,   1718,     18,2,19950403,0046,-69.6553, -21.8202, 4650,    161,    157.2,   0.3523,  34.6324,2,  34.6333,2,    219.4,3,  0.3461,    208.4,2,    99.84,2,    32.24,2,     2.15,2, -999.000,9, -999.000,9, -999.000,9, -999.000,9, -999.000,9,-999.0000,9,  -999.00,9,-999.000,9,   -999.0,9,   -999.0,9,-999.0,  -999.0,-999.0000,-999.000,-999.000,-999.000,-999.000
      74JC10_1,   A23,    17,  1,   1717,     17,2,19950403,0046,-69.6553, -21.8202, 4650,    213,    208.1,   0.7830,  34.6791,2,  34.6791,2,    205.4,3,  0.7739,    197.6,2,   104.54,2,    32.11,2,     2.15,2, -999.000,9, -999.000,9, -999.000,9, -999.000,9, -999.000,9,-999.0000,9,  -999.00,9,-999.000,9,   -999.0,9,   -999.0,9,-999.0,  -999.0,-999.0000,-999.000,-999.000,-999.000,-999.000
      74JC10_1,   A23,    17,  1,   1716,     16,2,19950403,0046,-69.6553, -21.8202, 4650,    264,    258.7,   0.8858,  34.6938,2,  34.6936,2,    203.8,3,  0.8742,    195.9,2,   106.51,2,    32.15,2,     2.15,2, -999.000,9, -999.000,9, -999.000,9, -999.000,9, -999.000,9,-999.0000,9,  -999.00,9,-999.000,9,   -999.0,9,   -999.0,9,-999.0,  -999.0,-999.0000,-999.000,-999.000,-999.000,-999.000
      74JC10_1,   A23,    17,  1,   1715,     15,2,19950403,0046,-69.6553, -21.8202, 4650,    367,    360.4,   0.8217,  34.6961,2,  34.6967,2,    204.9,3,  0.8054,    197.0,2,   109.50,2,    32.24,2,     2.18,2, -999.000,9, -999.000,9, -999.000,9, -999.000,9, -999.000,9,-999.0000,9,  -999.00,9,-999.000,9,   -999.0,9,   -999.0,9,-999.0,  -999.0,-999.0000,-999.000,-999.000,-999.000,-999.000
      74JC10_1,   A23,    17,  1,   1714,     14,2,19950403,0046,-69.6553, -21.8202, 4650,    522,    513.6,   0.6780,  34.6942,2,  34.6942,2,    205.0,3,  0.6546,    200.0,2,   113.85,2,    32.20,2,     2.17,2, -999.000,9, -999.000,9, -999.000,9, -999.000,9, -999.000,9,-999.0000,9,  -999.00,9,-999.000,9,   -999.0,9,   -999.0,9,-999.0,  -999.0,-999.0000,-999.000,-999.000,-999.000,-999.000
      74JC10_1,   A23,    17,  1,   1713,     13,2,19950403,0046,-69.6553, -21.8202, 4650,    779,    769.3,   0.5213,  34.6899,2,  34.6908,2,    207.0,3,  0.4855,    200.3,2,   120.42,2,    32.29,2,     2.20,2, -999.000,9, -999.000,9, -999.000,9, -999.000,9, -999.000,9,-999.0000,9,  -999.00,9,-999.000,9,   -999.0,9,   -999.0,9,-999.0,  -999.0,-999.0000,-999.000,-999.000,-999.000,-999.000
      74JC10_1,   A23,    17,  1,   1712,     12,2,19950403,0046,-69.6553, -21.8202, 4650,   1034,   1022.4,   0.3602,  34.6832,2,  34.6840,2,    208.9,3,  0.3118,    203.0,2,   124.30,2,    32.62,2,     2.20,2, -999.000,9, -999.000,9, -999.000,9, -999.000,9, -999.000,9,-999.0000,9,  -999.00,9,-999.000,9,   -999.0,9,   -999.0,9,-999.0,  -999.0,-999.0000,-999.000,-999.000,-999.000,-999.000
      74JC10_1,   A23,    17,  1,   1711,     11,2,19950403,0046,-69.6553, -21.8202, 4650,   1291,   1278.7,   0.2364,  34.6780,2,  34.6785,2,    211.0,3,  0.1743,    206.4,2,   127.66,2,    32.84,2,     2.24,2, -999.000,9, -999.000,9, -999.000,9, -999.000,9, -999.000,9,-999.0000,9,  -999.00,9,-999.000,9,   -999.0,9,   -999.0,9,-999.0,  -999.0,-999.0000,-999.000,-999.000,-999.000,-999.000
      74JC10_1,   A23,    17,  1,   1710,     10,2,19950403,0046,-69.6553, -21.8202, 4650,   1548,   1535.3,   0.1275,  34.6734,2,  34.6739,2,    216.8,3,  0.0509,    211.2,2,   127.77,2,    32.68,2,     2.22,2, -999.000,9, -999.000,9, -999.000,9, -999.000,9, -999.000,9,-999.0000,9,  -999.00,9,-999.000,9,   -999.0,9,   -999.0,9,-999.0,  -999.0,-999.0000,-999.000,-999.000,-999.000,-999.000
      74JC10_1,   A23,    17,  1,   1709,      9,2,19950403,0046,-69.6553, -21.8202, 4650,   1797,   1784.7,   0.0372,  34.6700,2,  34.6716,2,    221.9,3, -0.0544,    216.3,2,   127.72,2,    32.50,2,     2.23,2, -999.000,9, -999.000,9, -999.000,9, -999.000,9, -999.000,9,-999.0000,9,  -999.00,9,-999.000,9,   -999.0,9,   -999.0,9,-999.0,  -999.0,-999.0000,-999.000,-999.000,-999.000,-999.000
      74JC10_1,   A23,    17,  1,   1708,      8,2,19950403,0046,-69.6553, -21.8202, 4650,   2049,   2037.2,  -0.0353,  34.6667,2,  34.6688,2,    225.2,3, -0.1430,    218.7,2,   128.02,2,    32.59,2,     2.21,2, -999.000,9, -999.000,9, -999.000,9, -999.000,9, -999.000,9,-999.0000,9,  -999.00,9,-999.000,9,   -999.0,9,   -999.0,9,-999.0,  -999.0,-999.0000,-999.000,-999.000,-999.000,-999.000
      74JC10_1,   A23,    17,  1,   1707,      7,2,19950403,0046,-69.6553, -21.8202, 4650,   2572,   2560.4,  -0.1534,  34.6637,2,  34.6643,2,    232.6,3, -0.2976,    227.6,2,   127.72,2,    32.48,2,     2.20,2, -999.000,9, -999.000,9, -999.000,9, -999.000,9, -999.000,9,-999.0000,9,  -999.00,9,-999.000,9,   -999.0,9,   -999.0,9,-999.0,  -999.0,-999.0000,-999.000,  -0.155,-999.000,-999.000
      74JC10_1,   A23,    17,  1,   1706,      6,2,19950403,0046,-69.6553, -21.8202, 4650,   3090,   3079.7,  -0.2235,  34.6615,2,  34.6618,2,    237.8,3, -0.4085,    229.5,2,   126.73,2,    32.27,2,     2.18,2, -999.000,9, -999.000,9, -999.000,9, -999.000,9, -999.000,9,-999.0000,9,  -999.00,9,-999.000,9,   -999.0,9,   -999.0,9,-999.0,  -999.0,-999.0000,-999.000,-999.000,-999.000,-999.000
      74JC10_1,   A23,    17,  1,   1705,      5,2,19950403,0046,-69.6553, -21.8202, 4650,   3607,   3597.6,  -0.2763,  34.6590,2,  34.6578,2,    242.8,3, -0.5060,    235.2,2,   126.37,2,    32.15,2,     2.20,2, -999.000,9, -999.000,9, -999.000,9, -999.000,9, -999.000,9,-999.0000,9,  -999.00,9,-999.000,9,   -999.0,9,   -999.0,9,-999.0,  -999.0,-999.0000,-999.000,-999.000,-999.000,-999.000
      74JC10_1,   A23,    17,  1,   1704,      4,2,19950403,0046,-69.6553, -21.8202, 4650,   4127,   4118.0,  -0.3023,  34.6565,2,  34.6549,2,    246.7,3, -0.5812,    238.2,3,   128.60,2,    32.05,2,     2.17,2, -999.000,9, -999.000,9, -999.000,9, -999.000,9, -999.000,9,-999.0000,9,  -999.00,9,-999.000,9,   -999.0,9,   -999.0,9,-999.0,  4125.0,-999.0000,-999.000,  -0.308,-999.000,-999.000
      74JC10_1,   A23,    17,  1,   1703,      3,2,19950403,0046,-69.6553, -21.8202, 4650,   4490,   4482.0,  -0.3364,  34.6557,2,  34.6535,2,    248.5,3, -0.6514,    239.4,2,   130.36,2,    32.10,2,     2.17,2, -999.000,9, -999.000,9, -999.000,9, -999.000,9, -999.000,9,-999.0000,9,  -999.00,9,-999.000,9,   -999.0,9,   -999.0,9,-999.0,  -999.0,-999.0000,-999.000,-999.000,-999.000,-999.000
      74JC10_1,   A23,    17,  1,   1701,      1,2,19950403,0046,-69.6553, -21.8202, 4650,   4699,   4691.5,  -0.4506,  34.6499,2,  34.6498,2,    249.8,3, -0.7840,    244.0,2,   138.07,2,    32.08,2,     2.17,2,    0.222,2,    0.128,2,    0.000,2,    0.711,2, -999.000,9,-999.0000,9,  -999.00,9,-999.000,9,   -999.0,9,   -999.0,9,-999.0,  4683.0,-999.0000,-999.000,  -0.459,-999.000,-999.000
      74JC10_1,   A23,    17,  1,   1702,      2,2,19950403,0046,-69.6553, -21.8202, 4650,   4700,   4692.4,  -0.4506,  34.6503,2,  34.6494,2,    249.9,3, -0.7841,    241.4,2,   138.27,2,    32.19,2,     2.18,2,    0.217,2,    0.116,2,    0.000,2,    0.691,2, -999.000,9,-999.0000,9,  -999.00,9,-999.000,9,   -999.0,9,   -999.0,9,-999.0,  -999.0,-999.0000,-999.000,-999.000,-999.000,-999.000