BOTTLE,20220810CCHSIOAMB
EXPOCODE,SECT_ID,STNNBR,CASTNO,SAMPNO,BTLNBR,BTLNBR_FLAG_W,DATE,TIME,LATITUDE,LONGITUDE,DEPTH,CTDRAW,CTDPRS,CTDTMP,CTDSAL,CTDSAL_FLAG_W,SALNTY,SALNTY_FLAG_W,CTDOXY,CTDOXY_FLAG_W,THETA,OXYGEN,OXYGEN_FLAG_W,SILCAT,SILCAT_FLAG_W,NO2+NO3,NO2+NO3_FLAG_W,PHSPHT,PHSPHT_FLAG_W,CFC-11,CFC-11_FLAG_W,CFC-12,CFC-12_FLAG_W,CFC113,CFC113_FLAG_W,CCL4,CCL4_FLAG_W,TRITUM,TRITUM_FLAG_W,HELIUM,HELIUM_FLAG_W,DELHE3,DELHE3_FLAG_W,NEON,NEON_FLAG_W,TCARBN,TCARBN_FLAG_W,PCO2,PCO2_FLAG_W,PCO2TMP,REVPRS,HELIER,TRITER,REVTMP,NEONER,DELHER
,,,,,,,,,,,,,DBAR,ITS-90,PSS-78,,PSS-78,,UMOL/KG,,DEG C,UMOL/KG,,UMOL/KG,,UMOL/KG,,UMOL/KG,,PMOL/KG,,PMOL/KG,,PMOL/KG,,PMOL/KG,,TU,,NMOL/KG,,PERCNT,,NMOL/KG,,UMOL/KG,,UATM,,DEG C,DBAR,NMOL/KG,TU,ITS-90,NMOL/KG,PERCNT
      74JC10_1,   A23,    84,  1,   8424,     11,2,19950424,1644,-46.8732, -36.0017, 5828,     10,      6.0,  11.8409,  34.3780,2,  34.3776,2,    267.8,3, 11.8401,    265.3,2,     2.81,2,     3.70,2,     0.55,2,    3.498,2,    1.731,2,    0.305,2,    3.300,2,    0.425,2,   1.7520,2,    -1.72,2,   8.015,2,   2045.4,6,    304.7,2,   4.0,  -999.0,  0.0070,   0.003,-999.000,   0.025,   0.300
      74JC10_1,   A23,    84,  1,   8423,     23,2,19950424,1644,-46.8732, -36.0017, 5828,     59,     54.9,  10.0827,  34.3061,2,  34.3180,2,    271.6,3, 10.0764,    263.3,2,     3.43,2,     8.46,2,     0.84,2,    3.864,2,    1.926,2,    0.351,2,    3.746,2,    0.390,2,   1.7620,3,    -1.85,3,   7.475,3,   2067.7,6,    322.8,2,   4.0,  -999.0,  0.0070,   0.031,-999.000,   0.023,   0.300
      74JC10_1,   A23,    84,  1,   8422,     25,2,19950424,1644,-46.8732, -36.0017, 5828,    110,    105.0,   7.8293,  34.4436,2,  34.4440,2,    253.0,3,  7.8190,    242.5,2,     6.76,2,    17.85,2,     1.30,2,    3.864,2,    1.829,2,    0.305,2,    2.988,2,    0.366,2,   1.7680,2,    -1.60,2,-999.000,9,   2116.9,2,    390.2,2,   4.0,  -999.0,  0.0070,-999.000,-999.000,-999.000,   0.300
      74JC10_1,   A23,    84,  1,   8421,     21,2,19950424,1644,-46.8732, -36.0017, 5828,    160,    154.6,   5.8661,  34.2554,2,  34.2509,2,    256.0,3,  5.8532,    255.2,2,     9.46,2,    22.63,2,     1.55,2,    4.117,2,    1.959,2,    0.344,2,    3.678,2,    0.273,2,   1.7770,2,    -0.90,2,   7.723,2,   -999.0,9,   -999.0,9,-999.0,  -999.0,  0.0070,   0.008,-999.000,   0.024,   0.300
      74JC10_1,   A23,    84,  1,   8420,     27,2,19950424,1644,-46.8732, -36.0017, 5828,    265,    258.8,   4.5074,  34.1841,2,  34.1870,2,    272.1,3,  4.4883,    271.0,2,    12.90,2,    24.55,2,     1.66,2,    4.318,2,    1.994,2,    0.351,2,    4.143,2, -999.000,9,-999.0000,9,  -999.00,9,-999.000,9,   -999.0,9,   -999.0,9,-999.0,  -999.0,-999.0000,-999.000,   4.512,-999.000,-999.000
      74JC10_1,   A23,    84,  1,   8419,     19,2,19950424,1644,-46.8732, -36.0017, 5828,    366,    358.1,   4.1053,  34.1714,2,  34.1732,2,    278.9,3,  4.0799,    270.1,2,    15.18,2,    25.82,2,     1.83,2,    4.223,2,    1.902,2,    0.339,2,    4.256,2,    0.203,4,   1.7770,2,    -1.09,2,   7.719,2,   -999.0,9,   -999.0,9,-999.0,  -999.0,  0.0070,   0.027,-999.000,   0.024,   0.300
      74JC10_1,   A23,    84,  1,   8418,     18,2,19950424,1644,-46.8732, -36.0017, 5828,    525,    515.8,   3.5029,  34.1899,2,  34.1917,2,    259.8,3,  3.4680,    248.9,2,    24.28,2,    29.59,2,     1.94,2,    3.277,2,    1.447,2,    0.231,2,    3.440,2,    0.145,2,   1.7970,2,     0.58,2,   7.854,2,   -999.0,9,   -999.0,9,-999.0,  -999.0,  0.0070,   0.021,-999.000,   0.024,   0.300
      74JC10_1,   A23,    84,  1,   8417,     17,2,19950424,1644,-46.8732, -36.0017, 5828,    781,    769.8,   2.8583,  34.2865,2,  34.2885,2,    221.6,3,  2.8086,    214.7,2,    43.15,2,    33.24,2,     2.20,2,    1.857,2,    0.800,2,    0.110,2,    2.089,2,    0.080,2,   1.8280,2,     3.38,2,   7.918,2,   -999.0,9,   -999.0,9,-999.0,  -999.0,  0.0070,   0.012,-999.000,   0.025,   0.300
      74JC10_1,   A23,    84,  1,   8416,     16,2,19950424,1644,-46.8732, -36.0017, 5828,   1041,   1028.2,   2.6967,  34.4337,2,  34.4351,2,    192.8,3,  2.6292,    184.9,2,    58.38,2,    34.72,2,     2.28,2,    0.695,2,    0.301,2,    0.026,2,    1.017,2,    0.037,2,   1.8340,2,     6.49,2,   7.937,2,   -999.0,9,   -999.0,9,-999.0,  -999.0,  0.0070,   0.002,-999.000,   0.025,   0.300
      74JC10_1,   A23,    84,  1,   8415,     15,2,19950424,1644,-46.8732, -36.0017, 5828,   1296,   1282.9,   2.6088,  34.5521,2,  34.5547,2,    182.8,3,  2.5226,    175.4,2,    66.07,2,    34.37,2,     2.38,2,    0.299,2,    0.137,2,    0.005,2,    0.536,2,    0.022,2,   1.8360,2,     8.29,2,   7.956,2,   -999.0,9,   -999.0,9,-999.0,  -999.0,  0.0070,   0.002,-999.000,   0.025,   0.300
      74JC10_1,   A23,    84,  1,   8414,     14,2,19950424,1644,-46.8732, -36.0017, 5828,   1550,   1537.0,   2.5890,  34.6538,2,  34.6565,2,    183.4,3,  2.4827,    178.1,2,    69.81,2,    32.81,2,     2.19,2,    0.165,2,    0.083,2,    0.004,2,    0.325,2,    0.018,2,   1.8490,2,     9.24,2,   7.996,2,   -999.0,9,   -999.0,9,-999.0,  -999.0,  0.0070,   0.002,-999.000,   0.025,   0.300
      74JC10_1,   A23,    84,  1,   8413,     13,2,19950424,1644,-46.8732, -36.0017, 5828,   1815,   1802.2,   2.6619,  34.7468,2,  34.7475,2,    193.6,3,  2.5323,    189.6,2,    66.53,2,    30.07,2,     1.98,2,    0.045,2,    0.030,2,    0.000,2,    0.177,2,    0.017,2,   1.8520,2,     8.84,2,   8.002,2,   -999.0,9,   -999.0,9,-999.0,  -999.0,  0.0070,   0.002,-999.000,   0.025,   0.300
      74JC10_1,   A23,    84,  1,   8412,     12,2,19950424,1644,-46.8732, -36.0017, 5828,   2071,   2057.9,   2.6042,  34.7897,2,  34.7889,2,    206.1,3,  2.4529,    199.2,2,    63.62,2,    28.28,2,     1.89,2,    0.025,2,    0.024,3,    0.000,2,    0.146,2,    0.013,2,   1.8500,2,     7.97,2,   7.991,2,   -999.0,9,   -999.0,9,-999.0,  -999.0,  0.0070,   0.009,-999.000,   0.025,   0.300
      74JC10_1,   A23,    84,  1,   8411,     24,2,19950424,1644,-46.8732, -36.0017, 5828,   2430,   2417.4,   2.3698,  34.8077,2,  34.8058,2,    214.2,3,  2.1898,    207.4,2,    67.05,2,    27.27,2,     1.82,2,    0.019,2,    0.025,3,    0.000,2,    0.106,2,    0.012,2,   1.8480,2,     7.83,2,   7.374,2,   2216.7,6,    442.0,2,   4.0,  -999.0,  0.0070,   0.015,-999.000,   0.023,   0.300
      74JC10_1,   A23,    84,  1,   8410,     10,2,19950424,1644,-46.8732, -36.0017, 5828,   2795,   2783.7,   1.9866,  34.7880,2,  34.7850,2,    213.7,3,  1.7795,    206.8,2,    78.17,2,    28.41,2,     1.88,2,    0.011,3,    0.007,3,    0.000,2,    0.089,2,    0.007,2,   1.8240,6,     8.38,6,   7.899,6,   -999.0,9,   -999.0,9,-999.0,  -999.0,  0.0070,   0.003,-999.000,   0.024,   0.300
      74JC10_1,   A23,    84,  1,   8409,      9,2,19950424,1644,-46.8732, -36.0017, 5828,   3106,   3095.4,   1.5541,  34.7492,2,  34.7490,2,    208.5,3,  1.3266,    201.4,2,    94.91,2,    30.74,2,     2.04,2,    0.044,2,    0.018,2,    0.000,2,    0.131,2,    0.005,2,   1.8690,2,     8.66,2,   8.057,2,   -999.0,9,   -999.0,9,-999.0,  -999.0,  0.0070,   0.002,-999.000,   0.025,   0.300
      74JC10_1,   A23,    84,  1,   8408,      8,2,19950424,1644,-46.8732, -36.0017, 5828,   3472,   3461.7,   1.1330,  34.7208,2,  34.7176,2,    208.3,3,  0.8797,    202.1,2,   106.29,2,    31.91,2,     2.12,2,    0.084,2,    0.058,2,    0.000,2,    0.184,2,    0.006,2,   1.8780,2,     9.24,2,   8.155,2,   2246.8,6,    469.0,2,   4.0,  -999.0,  0.0070,   0.002,-999.000,   0.025,   0.300
      74JC10_1,   A23,    84,  1,   8407,     26,2,19950424,1644,-46.8732, -36.0017, 5828,   3829,   3819.8,   0.8156,  34.7008,2,  34.7003,2,    213.1,3,  0.5346,    205.7,2,   114.00,2,    32.75,2,     2.20,2,    0.126,2,    0.055,2,    0.001,2,    0.273,2,    0.009,2,   1.8810,3,     8.85,3,-999.000,9,   -999.0,9,   -999.0,9,-999.0,  -999.0,  0.0070,-999.000,   0.814,-999.000,   0.300
      74JC10_1,   A23,    84,  1,   8406,      6,2,19950424,1644,-46.8732, -36.0017, 5828,   4148,   4138.9,   0.5690,  34.6876,2,  34.6851,2,    217.2,3,  0.2620,    213.4,2,   121.52,2,    33.05,2,     2.20,2,    0.139,2,    0.064,2,    0.005,2,    0.321,2,    0.017,2,   1.8810,2,     8.24,2,   8.178,2,   -999.0,9,   -999.0,9,-999.0,  -999.0,  0.0070,   0.002,-999.000,   0.025,   0.300
      74JC10_1,   A23,    84,  1,   8405,      5,2,19950424,1644,-46.8732, -36.0017, 5828,   4672,   4664.1,   0.3344,  34.6758,2,  34.6745,2,    223.6,3, -0.0220,    217.1,2,   125.23,2,    33.34,2,     2.22,2,    0.127,2,    0.059,2,    0.005,2,    0.341,2,    0.021,2,   1.8970,3,     7.13,3,   8.212,3,   2254.0,2,    457.6,2,   4.0,  -999.0,  0.0070,   0.014,-999.000,   0.025,   0.300
      74JC10_1,   A23,    84,  1,   8404,      4,2,19950424,1644,-46.8732, -36.0017, 5828,   5195,   5188.8,   0.2800,  34.6704,2,  34.6710,2,    226.6,3, -0.1344,    218.8,2,   127.28,2,    33.40,2,     2.23,2,    0.135,2,    0.067,2,    0.000,2,    0.354,2,    0.045,2,-999.0000,9,  -999.00,9,-999.000,9,   -999.0,9,   -999.0,9,-999.0,  5196.0,-999.0000,   0.003,   0.273,-999.000,-999.000
      74JC10_1,   A23,    84,  1,   8403,      3,2,19950424,1644,-46.8732, -36.0017, 5828,   5726,   5720.8,   0.2526,  34.6665,2,  34.6665,2,    228.4,3, -0.2250,    221.5,2,   128.94,2,    33.26,2,     2.22,2,    0.202,2,    0.096,2,    0.000,2,    0.439,2, -999.000,9,-999.0000,9,  -999.00,9,-999.000,9,   -999.0,9,   -999.0,9,-999.0,  -999.0,-999.0000,-999.000,-999.000,-999.000,-999.000
      74JC10_1,   A23,    84,  1,   8402,      2,2,19950424,1644,-46.8732, -36.0017, 5828,   5930,   5925.7,   0.2343,  34.6639,2,  34.6641,2,    230.6,3, -0.2681,    223.1,2,   129.14,2,    33.31,2,     2.26,2,    0.286,2,    0.128,2,    0.001,2,    0.497,2,    0.024,2,   1.8760,2,     6.59,2,   8.179,2,   -999.0,9,   -999.0,9,-999.0,  -999.0,  0.0070,   0.006,-999.000,   0.025,   0.300
      74JC10_1,   A23,    84,  1,   8401,      1,2,19950424,1644,-46.8732, -36.0017, 5828,   5931,   5926.1,   0.2343,  34.6633,2,  34.6629,2,    230.7,3, -0.2682,    222.7,2,   128.84,2,    33.00,2,     2.21,2,    0.287,2,    0.138,2,    0.000,2,    0.500,2,    0.023,2,   1.8900,2,     6.60,2,   8.247,2,   2262.0,2,    452.5,2,   4.0,  5934.0,  0.0070,   0.007,   0.229,   0.026,   0.300
      74JC10_1,   A23,    85,  1,   8501,      1,2,19950425,0018,-46.0660, -36.0000, 5558,    308,    303.7,   4.4013,  34.1823,2,  34.1811,2,    245.0,3,  4.3791,   -999.0,9,  -999.00,9,  -999.00,9,  -999.00,9, -999.000,9, -999.000,9, -999.000,9, -999.000,9, -999.000,9,-999.0000,9,  -999.00,9,-999.000,9,   -999.0,9,   -999.0,9,-999.0,   307.0,-999.0000,-999.000,   4.397,-999.000,-999.000
      74JC10_1,   A23,    85,  1,   8502,      2,2,19950425,0018,-46.0660, -36.0000, 5558,    309,    304.0,   4.4011,  34.1807,2,  34.1809,2,    246.9,3,  4.3789,   -999.0,9,  -999.00,9,  -999.00,9,  -999.00,9, -999.000,9, -999.000,9, -999.000,9, -999.000,9, -999.000,9,-999.0000,9,  -999.00,9,-999.000,9,   -999.0,9,   -999.0,9,-999.0,  -999.0,-999.0000,-999.000,-999.000,-999.000,-999.000