BOTTLE,20220810CCHSIOAMB
EXPOCODE,SECT_ID,STNNBR,CASTNO,SAMPNO,BTLNBR,BTLNBR_FLAG_W,DATE,TIME,LATITUDE,LONGITUDE,DEPTH,CTDRAW,CTDPRS,CTDTMP,CTDSAL,CTDSAL_FLAG_W,SALNTY,SALNTY_FLAG_W,CTDOXY,CTDOXY_FLAG_W,THETA,OXYGEN,OXYGEN_FLAG_W,SILCAT,SILCAT_FLAG_W,NO2+NO3,NO2+NO3_FLAG_W,PHSPHT,PHSPHT_FLAG_W,CFC-11,CFC-11_FLAG_W,CFC-12,CFC-12_FLAG_W,CFC113,CFC113_FLAG_W,CCL4,CCL4_FLAG_W,TRITUM,TRITUM_FLAG_W,HELIUM,HELIUM_FLAG_W,DELHE3,DELHE3_FLAG_W,NEON,NEON_FLAG_W,TCARBN,TCARBN_FLAG_W,PCO2,PCO2_FLAG_W,PCO2TMP,REVPRS,HELIER,TRITER,REVTMP,NEONER,DELHER
,,,,,,,,,,,,,DBAR,ITS-90,PSS-78,,PSS-78,,UMOL/KG,,DEG C,UMOL/KG,,UMOL/KG,,UMOL/KG,,UMOL/KG,,PMOL/KG,,PMOL/KG,,PMOL/KG,,PMOL/KG,,TU,,NMOL/KG,,PERCNT,,NMOL/KG,,UMOL/KG,,UATM,,DEG C,DBAR,NMOL/KG,TU,ITS-90,NMOL/KG,PERCNT
      74JC10_1,   A23,    86,  1,   8624,     11,2,19950425,0622,-45.8668, -36.0017, 5544,     12,      7.9,  11.4957,  34.3156,2,  34.3150,2,    274.1,3, 11.4947,    265.7,2,     2.61,2,     5.46,2,     0.61,2,    1.810,2,    0.953,2,    0.160,2,    1.806,2, -999.000,9,-999.0000,9,  -999.00,9,-999.000,9,   -999.0,9,   -999.0,9,-999.0,  -999.0,-999.0000,-999.000,-999.000,-999.000,-999.000
      74JC10_1,   A23,    86,  1,   8623,     23,2,19950425,0622,-45.8668, -36.0017, 5544,     57,     53.0,  10.6183,  34.3372,2,  34.3384,2,    268.3,3, 10.6120,    256.5,2,     3.10,2,     9.33,2,     0.84,2,    1.915,2,    0.945,2,    0.164,2,    1.838,2, -999.000,9,-999.0000,9,  -999.00,9,-999.000,9,   -999.0,9,   -999.0,9,-999.0,  -999.0,-999.0000,-999.000,-999.000,-999.000,-999.000
      74JC10_1,   A23,    86,  1,   8622,     25,2,19950425,0622,-45.8668, -36.0017, 5544,    105,    100.6,   7.8990,  34.4138,2,  34.4131,2,    260.1,3,  7.8890,    251.7,2,     5.16,2,    15.83,2,     1.16,2,    2.085,2,    1.073,2,    0.164,2,    1.681,2, -999.000,9,-999.0000,9,  -999.00,9,-999.000,9,   -999.0,9,   -999.0,9,-999.0,  -999.0,-999.0000,-999.000,-999.000,-999.000,-999.000
      74JC10_1,   A23,    86,  1,   8621,     21,2,19950425,0622,-45.8668, -36.0017, 5544,    155,    149.4,   6.2181,  34.2679,2,  34.2758,2,    260.9,3,  6.2053,    254.6,2,     7.78,2,    21.45,2,     1.47,2,    2.115,2,    1.076,2,    0.165,2,    1.890,2, -999.000,9,-999.0000,9,  -999.00,9,-999.000,9,   -999.0,9,   -999.0,9,-999.0,  -999.0,-999.0000,-999.000,-999.000,-999.000,-999.000
      74JC10_1,   A23,    86,  1,   8620,     27,2,19950425,0622,-45.8668, -36.0017, 5544,    252,    245.3,   4.7250,  34.1897,2,  34.1899,2,    276.7,3,  4.7066,    268.0,2,    11.42,2,    23.95,2,     1.62,2,    2.284,2,    1.130,2,    0.186,2,    2.264,2, -999.000,9,-999.0000,9,  -999.00,9,-999.000,9,   -999.0,9,   -999.0,9,-999.0,  -999.0,-999.0000,-999.000,   4.725,-999.000,-999.000
      74JC10_1,   A23,    86,  1,   8619,     19,2,19950425,0622,-45.8668, -36.0017, 5544,    350,    342.6,   4.2147,  34.1738,2,  34.1707,2,    282.5,3,  4.1901,    267.8,2,    14.26,2,    25.31,2,     1.73,2,    2.219,2,    1.092,2,    0.171,2,    2.266,2, -999.000,9,-999.0000,9,  -999.00,9,-999.000,9,   -999.0,9,   -999.0,9,-999.0,  -999.0,-999.0000,-999.000,-999.000,-999.000,-999.000
      74JC10_1,   A23,    86,  1,   8618,     18,2,19950425,0622,-45.8668, -36.0017, 5544,    496,    487.1,   3.7093,  34.1768,2,  34.1777,2,    268.9,3,  3.6758,    257.1,2,    20.03,2,    27.17,2,     1.86,2,    1.915,2,    0.888,2,    0.139,2,    2.054,2, -999.000,9,-999.0000,9,  -999.00,9,-999.000,9,   -999.0,9,   -999.0,9,-999.0,  -999.0,-999.0000,-999.000,-999.000,-999.000,-999.000
      74JC10_1,   A23,    86,  1,   8617,     17,2,19950425,0622,-45.8668, -36.0017, 5544,    740,    729.7,   3.0530,  34.2752,2,  34.2721,2,    232.4,3,  3.0050,    217.4,2,    38.63,2,    31.82,2,     2.21,2,    0.970,2,    0.482,2,    0.054,2,    1.209,2, -999.000,9,-999.0000,9,  -999.00,9,-999.000,9,   -999.0,9,   -999.0,9,-999.0,  -999.0,-999.0000,-999.000,-999.000,-999.000,-999.000
      74JC10_1,   A23,    86,  1,   8616,     16,2,19950425,0622,-45.8668, -36.0017, 5544,    984,    972.3,   2.7963,  34.4124,2,  34.4116,2,    201.4,3,  2.7322,    190.9,2,    54.03,2,    33.43,2,  -999.00,5,    0.388,2,    0.211,2,    0.013,2,    0.631,2, -999.000,9,-999.0000,9,  -999.00,9,-999.000,9,   -999.0,9,   -999.0,9,-999.0,  -999.0,-999.0000,-999.000,-999.000,-999.000,-999.000
      74JC10_1,   A23,    86,  1,   8615,     15,2,19950425,0622,-45.8668, -36.0017, 5544,   1227,   1214.6,   2.6003,  34.5179,2,  34.5211,2,    184.0,3,  2.5196,    176.9,2,    66.26,2,    33.88,2,     2.25,2,    0.221,2,    0.126,2,    0.003,2,    0.400,2, -999.000,9,-999.0000,9,  -999.00,9,-999.000,9,   -999.0,9,   -999.0,9,-999.0,  -999.0,-999.0000,-999.000,-999.000,-999.000,-999.000
      74JC10_1,   A23,    86,  1,   8614,     14,2,19950425,0622,-45.8668, -36.0017, 5544,   1472,   1458.4,   2.6691,  34.6424,2,  34.6413,2,    185.0,3,  2.5683,    178.6,2,    67.07,2,    32.01,2,     2.12,2,    0.095,2,    0.063,2,    0.008,2,    0.212,2, -999.000,9,-999.0000,9,  -999.00,9,-999.000,9,   -999.0,9,   -999.0,9,-999.0,  -999.0,-999.0000,-999.000,-999.000,-999.000,-999.000
      74JC10_1,   A23,    86,  1,   8613,     13,2,19950425,0622,-45.8668, -36.0017, 5544,   1716,   1702.6,   2.7901,  34.7399,2,  34.7400,2,    197.9,3,  2.6674,    190.2,2,    62.17,2,    29.27,2,     3.59,4,    0.026,3,    0.028,2,    0.000,2,    0.131,2, -999.000,9,-999.0000,9,  -999.00,9,-999.000,9,   -999.0,9,   -999.0,9,-999.0,  -999.0,-999.0000,-999.000,-999.000,-999.000,-999.000
      74JC10_1,   A23,    86,  1,   8612,     12,2,19950425,0622,-45.8668, -36.0017, 5544,   1959,   1945.5,   2.9603,  34.8242,2,  34.8194,2,    219.8,3,  2.8137,    209.3,2,    51.35,2,    25.57,2,     1.70,2,    0.015,3,    0.029,3,    0.001,2,    0.105,2, -999.000,9,-999.0000,9,  -999.00,9,-999.000,9,   -999.0,9,   -999.0,9,-999.0,  -999.0,-999.0000,-999.000,-999.000,-999.000,-999.000
      74JC10_1,   A23,    86,  1,   8611,     24,2,19950425,0622,-45.8668, -36.0017, 5544,   2303,   2290.1,   2.7558,  34.8549,2,  34.8548,2,    228.6,3,  2.5807,    219.5,2,    50.52,2,    24.44,2,  -999.00,5,    0.001,3,    0.015,2,    0.000,2,    0.065,2, -999.000,9,-999.0000,9,  -999.00,9,-999.000,9,   -999.0,9,   -999.0,9,-999.0,  -999.0,-999.0000,-999.000,-999.000,-999.000,-999.000
      74JC10_1,   A23,    86,  1,   8610,     10,2,19950425,0622,-45.8668, -36.0017, 5544,   2645,   2632.6,   2.3712,  34.8266,2,  34.8277,2,    223.0,3,  2.1708,    215.2,2,    62.28,2,    25.99,2,     1.70,2,   -0.006,3,    0.012,2,    0.000,2,    0.043,2, -999.000,9,-999.0000,9,  -999.00,9,-999.000,9,   -999.0,9,   -999.0,9,-999.0,  -999.0,-999.0000,-999.000,-999.000,-999.000,-999.000
      74JC10_1,   A23,    86,  1,   8609,      9,2,19950425,0622,-45.8668, -36.0017, 5544,   2939,   2928.2,   1.8501,  34.7741,2,  34.7742,2,    213.0,3,  1.6322,    204.1,2,    82.35,2,    29.01,2,     1.88,2,    0.059,2,    0.021,2,    0.000,2,    0.121,2, -999.000,9,-999.0000,9,  -999.00,9,-999.000,9,   -999.0,9,   -999.0,9,-999.0,  -999.0,-999.0000,-999.000,-999.000,-999.000,-999.000
      74JC10_1,   A23,    86,  1,   8608,      8,2,19950425,0622,-45.8668, -36.0017, 5544,   3283,   3272.2,   1.3870,  34.7364,2,  34.7368,2,    209.6,3,  1.1461,    200.5,2,    98.48,2,    31.20,2,     2.04,2, -999.000,9, -999.000,9, -999.000,9, -999.000,9, -999.000,9,-999.0000,9,  -999.00,9,-999.000,9,   -999.0,9,   -999.0,9,-999.0,  -999.0,-999.0000,-999.000,-999.000,-999.000,-999.000
      74JC10_1,   A23,    86,  1,   8607,     26,2,19950425,0622,-45.8668, -36.0017, 5544,   3627,   3617.0,   1.0511,  34.7173,2,  34.7170,2,    213.1,3,  0.7844,    203.1,2,   106.10,2,    31.91,2,     2.11,2,    0.089,2,    0.039,2,    0.000,2,    0.203,2, -999.000,9,-999.0000,9,  -999.00,9,-999.000,9,   -999.0,9,   -999.0,9,-999.0,  -999.0,-999.0000,-999.000,   1.053,-999.000,-999.000
      74JC10_1,   A23,    86,  1,   8606,      6,2,19950425,0622,-45.8668, -36.0017, 5544,   3924,   3914.5,   0.7723,  34.6992,2,  34.6991,2,    216.3,3,  0.4828,    207.7,2,   112.83,2,    32.32,2,     2.12,2,    0.133,2,    0.054,2,    0.000,2,    0.302,2, -999.000,9,-999.0000,9,  -999.00,9,-999.000,9,   -999.0,9,   -999.0,9,-999.0,  -999.0,-999.0000,-999.000,-999.000,-999.000,-999.000
      74JC10_1,   A23,    86,  1,   8605,      5,2,19950425,0622,-45.8668, -36.0017, 5544,   4418,   4409.2,   0.3963,  34.6800,2,  34.6802,2,    223.7,3,  0.0658,    215.4,2,   119.47,2,    32.83,2,     2.17,2,    0.129,2,    0.063,2,    0.004,2,    0.324,2, -999.000,9,-999.0000,9,  -999.00,9,-999.000,9,   -999.0,9,   -999.0,9,-999.0,  -999.0,-999.0000,-999.000,-999.000,-999.000,-999.000
      74JC10_1,   A23,    86,  1,   8604,      4,2,19950425,0622,-45.8668, -36.0017, 5544,   4913,   4905.7,   0.2658,  34.6723,2,  34.6720,2,    226.9,3, -0.1155,    217.6,2,   122.01,2,    32.61,2,     2.20,2,    0.131,2,    0.060,2,    0.000,2,    0.355,2, -999.000,9,-999.0000,9,  -999.00,9,-999.000,9,   -999.0,9,   -999.0,9,-999.0,  4916.0,-999.0000,-999.000,   0.258,-999.000,-999.000
      74JC10_1,   A23,    86,  1,   8603,      3,2,19950425,0622,-45.8668, -36.0017, 5544,   5207,   5200.4,   0.2530,  34.6689,2,  34.6694,2,    229.4,3, -0.1618,    218.9,2,   122.99,2,    32.70,2,     2.18,2,    0.162,2,    0.073,2,    0.000,2,    0.386,2, -999.000,9,-999.0000,9,  -999.00,9,-999.000,9,   -999.0,9,   -999.0,9,-999.0,  -999.0,-999.0000,-999.000,-999.000,-999.000,-999.000
      74JC10_1,   A23,    86,  1,   8602,      2,2,19950425,0622,-45.8668, -36.0017, 5544,   5667,   5661.7,   0.2711,  34.6671,2,  34.6681,2,    229.7,3, -0.1999,    218.8,2,   125.04,2,    32.49,2,     2.18,2,    0.190,2,    0.090,2,    0.000,2,    0.423,2, -999.000,9,-999.0000,9,  -999.00,9,-999.000,9,   -999.0,9,   -999.0,9,-999.0,  -999.0,-999.0000,-999.000,-999.000,-999.000,-999.000
      74JC10_1,   A23,    86,  1,   8601,      1,2,19950425,0622,-45.8668, -36.0017, 5544,   5667,   5662.1,   0.2712,  34.6670,2,  34.6675,2,    229.7,3, -0.1998,    218.6,2,   124.65,2,    32.43,2,     2.18,2,    0.200,2,    0.107,2,    0.000,2,    0.428,2, -999.000,9,-999.0000,9,  -999.00,9,-999.000,9,   -999.0,9,   -999.0,9,-999.0,  5666.0,-999.0000,-999.000,   0.266,-999.000,-999.000
      74JC10_1,   A23,    87,  1,   8724,     11,2,19950425,1616,-44.8683, -36.0017, 5443,     10,      5.5,  12.7647,  34.3229,2,  34.3213,2,    261.0,3, 12.7639,    260.4,2,     2.59,2,     3.36,2,     0.56,2,    3.368,2,    1.702,2,    0.297,2,    3.930,2, -999.000,9,-999.0000,9,  -999.00,9,-999.000,9,   2034.0,3,    304.6,2,   4.0,  -999.0,-999.0000,-999.000,-999.000,-999.000,-999.000
      74JC10_1,   A23,    87,  1,   8723,     23,2,19950425,1616,-44.8683, -36.0017, 5443,     56,     51.9,  11.7503,  34.3466,2,  34.3476,2,    269.4,3, 11.7437,    256.9,2,     2.59,2,     4.97,2,     0.62,2,    3.341,2,    1.532,2,    0.305,2,    3.784,2, -999.000,9,-999.0000,9,  -999.00,9,-999.000,9,   2049.1,3,    313.3,2,   4.0,  -999.0,-999.0000,-999.000,-999.000,-999.000,-999.000
      74JC10_1,   A23,    87,  1,   8722,     25,2,19950425,1616,-44.8683, -36.0017, 5443,    105,    100.3,   7.9570,  34.3946,2,  34.3967,2,    267.5,3,  7.9470,    252.8,2,     5.44,2,    16.16,2,     1.18,2,    3.995,2,    1.842,2,    0.309,2,    3.577,2, -999.000,9,-999.0000,9,  -999.00,9,-999.000,9,   -999.0,9,   -999.0,9,-999.0,  -999.0,-999.0000,-999.000,-999.000,-999.000,-999.000
      74JC10_1,   A23,    87,  1,   8721,     21,2,19950425,1616,-44.8683, -36.0017, 5443,    152,    146.9,   6.8692,  34.3665,2,  34.3605,2,    266.0,3,  6.8558,    256.2,2,     7.18,2,    18.84,2,     1.33,2,    3.982,2,    1.882,2,    0.333,2,    3.887,2, -999.000,9,-999.0000,9,  -999.00,9,-999.000,9,   2114.4,6,    379.1,2,   4.0,  -999.0,-999.0000,-999.000,-999.000,-999.000,-999.000
      74JC10_1,   A23,    87,  1,   8720,     27,2,19950425,1616,-44.8683, -36.0017, 5443,    250,    243.3,   4.8947,  34.1947,2,  34.1922,2,    267.7,3,  4.8762,    260.1,2,    11.30,2,    24.63,2,     1.68,2,    4.164,2,    1.955,2,    0.341,2,    4.632,2, -999.000,9,-999.0000,9,  -999.00,9,-999.000,9,   -999.0,9,   -999.0,9,-999.0,  -999.0,-999.0000,-999.000,   4.889,-999.000,-999.000
      74JC10_1,   A23,    87,  1,   8719,     19,2,19950425,1616,-44.8683, -36.0017, 5443,    348,    340.6,   4.2597,  34.1814,2,  34.1789,2,    275.8,3,  4.2351,    263.0,2,    14.31,2,    25.90,2,     1.75,2,    3.709,2, -999.000,9,    0.298,2,    4.402,2, -999.000,9,-999.0000,9,  -999.00,9,-999.000,9,   -999.0,9,   -999.0,9,-999.0,  -999.0,-999.0000,-999.000,-999.000,-999.000,-999.000
      74JC10_1,   A23,    87,  1,   8718,     18,2,19950425,1616,-44.8683, -36.0017, 5443,    496,    486.7,   3.6643,  34.1780,2,  34.1793,2,    266.4,3,  3.6309,    255.1,2,    19.80,2,    27.97,2,     1.89,2,    3.519,2, -999.000,9,    0.268,2,    4.129,2, -999.000,9,-999.0000,9,  -999.00,9,-999.000,9,   2150.7,3,    434.5,2,   4.0,  -999.0,-999.0000,-999.000,-999.000,-999.000,-999.000
      74JC10_1,   A23,    87,  1,   8717,     17,2,19950425,1616,-44.8683, -36.0017, 5443,    738,    727.7,   2.9162,  34.2466,2,  34.2485,2,    239.2,3,  2.8691,    227.3,2,    35.37,2,    31.19,2,     2.12,2,    2.054,2, -999.000,9,    0.141,2,    2.600,2, -999.000,9,-999.0000,9,  -999.00,9,-999.000,9,   -999.0,9,   -999.0,9,-999.0,  -999.0,-999.0000,-999.000,-999.000,-999.000,-999.000
      74JC10_1,   A23,    87,  1,   8716,     16,2,19950425,1616,-44.8683, -36.0017, 5443,    984,    971.7,   2.6999,  34.3890,2,  34.3896,2,    203.7,3,  2.6367,    192.8,2,    54.16,2,    33.24,2,     2.26,2, -999.000,9, -999.000,9, -999.000,9, -999.000,9, -999.000,9,-999.0000,9,  -999.00,9,-999.000,9,   -999.0,9,   -999.0,9,-999.0,  -999.0,-999.0000,-999.000,-999.000,-999.000,-999.000
      74JC10_1,   A23,    87,  1,   8715,     15,2,19950425,1616,-44.8683, -36.0017, 5443,   1228,   1215.2,   2.6088,  34.5134,2,  34.5158,2,    187.6,3,  2.5280,    177.7,2,    64.77,2,    33.44,2,     2.27,2,    0.427,2,    0.199,2,    0.011,2,    0.845,2, -999.000,9,-999.0000,9,  -999.00,9,-999.000,9,   -999.0,9,   -999.0,9,-999.0,  -999.0,-999.0000,-999.000,-999.000,-999.000,-999.000
      74JC10_1,   A23,    87,  1,   8714,     14,2,19950425,1616,-44.8683, -36.0017, 5443,   1468,   1454.6,   2.6181,  34.6257,2,  34.6270,2,    184.5,3,  2.5182,    177.7,2,    68.84,2,    32.20,2,     2.20,2,    0.226,2,    0.130,2,    0.004,2,    0.512,2, -999.000,9,-999.0000,9,  -999.00,9,-999.000,9,   -999.0,9,   -999.0,9,-999.0,  -999.0,-999.0000,-999.000,-999.000,-999.000,-999.000
      74JC10_1,   A23,    87,  1,   8713,     13,2,19950425,1616,-44.8683, -36.0017, 5443,   1714,   1700.9,   2.6538,  34.7110,2,  34.7109,2,    190.9,3,  2.5330,    184.0,2,    68.51,2,    30.36,2,     2.06,2,    0.082,2,    0.035,2,    0.000,2,    0.284,2, -999.000,9,-999.0000,9,  -999.00,9,-999.000,9,   -999.0,9,   -999.0,9,-999.0,  -999.0,-999.0000,-999.000,-999.000,-999.000,-999.000
      74JC10_1,   A23,    87,  1,   8712,     12,2,19950425,1616,-44.8683, -36.0017, 5443,   1955,   1941.8,   2.6388,  34.7679,2,  34.7706,2,    202.8,3,  2.4974,    194.3,2,    67.34,2,    28.47,2,     1.91,2,    0.044,2,    0.022,2,    0.000,2,    0.202,2, -999.000,9,-999.0000,9,  -999.00,9,-999.000,9,   -999.0,9,   -999.0,9,-999.0,  -999.0,-999.0000,-999.000,-999.000,-999.000,-999.000
      74JC10_1,   A23,    87,  1,   8711,     24,2,19950425,1616,-44.8683, -36.0017, 5443,   2296,   2283.5,   2.4306,  34.7940,2,  34.7948,2,    208.5,3,  2.2618,    201.2,2,    69.09,2,    27.67,2,     1.86,2, -999.000,9, -999.000,9, -999.000,9, -999.000,9, -999.000,9,-999.0000,9,  -999.00,9,-999.000,9,   2215.6,3,    449.4,2,   4.0,  -999.0,-999.0000,-999.000,-999.000,-999.000,-999.000
      74JC10_1,   A23,    87,  1,   8710,     10,2,19950425,1616,-44.8683, -36.0017, 5443,   2638,   2625.8,   2.1007,  34.7857,2,  34.7858,2,    211.9,3,  1.9063,    202.4,2,    77.48,2,    28.25,2,     1.88,2,    0.014,2,    0.012,2,    0.000,2,    0.132,2, -999.000,9,-999.0000,9,  -999.00,9,-999.000,9,   -999.0,9,   -999.0,9,-999.0,  -999.0,-999.0000,-999.000,-999.000,-999.000,-999.000
      74JC10_1,   A23,    87,  1,   8709,      9,2,19950425,1616,-44.8683, -36.0017, 5443,   2932,   2921.3,   1.6951,  34.7522,2,  34.7518,2,    206.5,3,  1.4812,    197.5,2,    92.20,2,    29.94,2,     2.02,2,    0.057,2,    0.037,2,    0.001,2,    0.176,2, -999.000,9,-999.0000,9,  -999.00,9,-999.000,9,   -999.0,9,   -999.0,9,-999.0,  -999.0,-999.0000,-999.000,-999.000,-999.000,-999.000
      74JC10_1,   A23,    87,  1,   8708,      8,2,19950425,1616,-44.8683, -36.0017, 5443,   3276,   3265.7,   1.3139,  34.7301,2,  34.7296,2,    207.6,3,  1.0755,    199.4,2,   102.87,2,    30.90,2,     2.09,2,    0.073,2,    0.045,2,    0.000,2,    0.205,2, -999.000,9,-999.0000,9,  -999.00,9,-999.000,9,   2242.0,6,    466.9,2,   4.0,  -999.0,-999.0000,-999.000,-999.000,-999.000,-999.000
      74JC10_1,   A23,    87,  1,   8707,     26,2,19950425,1616,-44.8683, -36.0017, 5443,   3622,   3612.2,   1.0087,  34.7155,2,  34.7150,2,    213.2,3,  0.7436,    203.9,2,   107.66,2,    31.20,2,     2.12,2,    0.078,2,    0.052,2,    0.000,2,    0.233,2, -999.000,9,-999.0000,9,  -999.00,9,-999.000,9,   -999.0,9,   -999.0,9,-999.0,  -999.0,-999.0000,-999.000,   1.003,-999.000,-999.000
      74JC10_1,   A23,    87,  1,   8706,      6,2,19950425,1616,-44.8683, -36.0017, 5443,   3912,   3903.0,   0.7154,  34.6983,2,  34.6969,2,    216.9,3,  0.4287,    208.1,2,   114.10,2,    31.75,2,     2.20,2,    0.154,2,    0.102,2,    0.000,2,    0.352,2, -999.000,9,-999.0000,9,  -999.00,9,-999.000,9,   -999.0,9,   -999.0,9,-999.0,  -999.0,-999.0000,-999.000,-999.000,-999.000,-999.000
      74JC10_1,   A23,    87,  1,   8705,      5,2,19950425,1616,-44.8683, -36.0017, 5443,   4411,   4402.5,   0.3591,  34.6798,2,  34.6802,2,    224.2,3,  0.0305,    214.6,2,   120.74,2,    32.35,2,     2.25,2,    0.118,2,    0.078,2,    0.000,2,    0.381,2, -999.000,9,-999.0000,9,  -999.00,9,-999.000,9,   2251.6,6,    458.9,2,   4.0,  -999.0,-999.0000,-999.000,-999.000,-999.000,-999.000
      74JC10_1,   A23,    87,  1,   8704,      4,2,19950425,1616,-44.8683, -36.0017, 5443,   4907,   4900.1,   0.2523,  34.6729,2,  34.6722,2,    228.3,3, -0.1278,    218.4,2,   124.55,2,    32.38,2,     2.23,2,    0.130,2,    0.088,2,    0.000,2,    0.411,2, -999.000,9,-999.0000,9,  -999.00,9,-999.000,9,   -999.0,9,   -999.0,9,-999.0,  4908.0,-999.0000,-999.000,   0.245,-999.000,-999.000
      74JC10_1,   A23,    87,  1,   8703,      3,2,19950425,1616,-44.8683, -36.0017, 5443,   5207,   5200.8,   0.2453,  34.6709,2,  34.6700,2,    228.8,3, -0.1693,    219.2,2,   126.40,2,    32.35,2,     2.22,2,    0.165,2,    0.097,2,    0.000,2,    0.447,2, -999.000,9,-999.0000,9,  -999.00,9,-999.000,9,   -999.0,9,   -999.0,9,-999.0,  -999.0,-999.0000,-999.000,-999.000,-999.000,-999.000
      74JC10_1,   A23,    87,  1,   8701,      1,2,19950425,1616,-44.8683, -36.0017, 5443,   5565,   5559.2,   0.2577,  34.6693,2,  34.6679,2,    230.5,3, -0.2001,    219.7,2,   126.99,2,    32.20,2,     2.20,2,    0.203,2,    0.116,2,    0.023,2,    0.492,2, -999.000,9,-999.0000,9,  -999.00,9,-999.000,9,   2252.0,3,    454.8,2,   4.0,  5562.0,-999.0000,-999.000,   0.253,-999.000,-999.000
      74JC10_1,   A23,    87,  1,   8702,      2,2,19950425,1616,-44.8683, -36.0017, 5443,   5566,   5560.3,   0.2578,  34.6699,2,  34.6686,2,    230.5,3, -0.2002,    219.6,2,   127.77,2,    32.29,2,     2.22,2,    0.208,2,    0.124,2,    0.000,2,    0.484,2, -999.000,9,-999.0000,9,  -999.00,9,-999.000,9,   -999.0,9,   -999.0,9,-999.0,  -999.0,-999.0000,-999.000,-999.000,-999.000,-999.000