BOTTLE,20220810CCHSIOAMB
EXPOCODE,SECT_ID,STNNBR,CASTNO,SAMPNO,BTLNBR,BTLNBR_FLAG_W,DATE,TIME,LATITUDE,LONGITUDE,DEPTH,CTDRAW,CTDPRS,CTDTMP,CTDSAL,CTDSAL_FLAG_W,SALNTY,SALNTY_FLAG_W,CTDOXY,CTDOXY_FLAG_W,THETA,OXYGEN,OXYGEN_FLAG_W,SILCAT,SILCAT_FLAG_W,NO2+NO3,NO2+NO3_FLAG_W,PHSPHT,PHSPHT_FLAG_W,CFC-11,CFC-11_FLAG_W,CFC-12,CFC-12_FLAG_W,CFC113,CFC113_FLAG_W,CCL4,CCL4_FLAG_W,TRITUM,TRITUM_FLAG_W,HELIUM,HELIUM_FLAG_W,DELHE3,DELHE3_FLAG_W,NEON,NEON_FLAG_W,TCARBN,TCARBN_FLAG_W,PCO2,PCO2_FLAG_W,PCO2TMP,REVPRS,HELIER,TRITER,REVTMP,NEONER,DELHER
,,,,,,,,,,,,,DBAR,ITS-90,PSS-78,,PSS-78,,UMOL/KG,,DEG C,UMOL/KG,,UMOL/KG,,UMOL/KG,,UMOL/KG,,PMOL/KG,,PMOL/KG,,PMOL/KG,,PMOL/KG,,TU,,NMOL/KG,,PERCNT,,NMOL/KG,,UMOL/KG,,UATM,,DEG C,DBAR,NMOL/KG,TU,ITS-90,NMOL/KG,PERCNT
      74JC10_1,   A23,    88,  1,   8824,     11,2,19950426,0040,-44.0688, -35.9945, 5243,      9,      4.2,  15.0832,  34.6947,2,  34.6956,2,    252.5,3, 15.0825,    246.5,2,     2.57,2,     0.12,2,     0.20,2, -999.000,9, -999.000,9, -999.000,9, -999.000,9, -999.000,9,-999.0000,9,  -999.00,9,-999.000,9,   -999.0,9,   -999.0,9,-999.0,  -999.0,-999.0000,-999.000,-999.000,-999.000,-999.000
      74JC10_1,   A23,    88,  1,   8823,     23,2,19950426,0040,-44.0688, -35.9945, 5243,     10,      4.5,  15.0873,  34.6954,2,  34.6948,2,    252.5,3, 15.0866,    246.8,2,     2.78,2,     0.14,2,     0.24,2, -999.000,9, -999.000,9, -999.000,9, -999.000,9, -999.000,9,-999.0000,9,  -999.00,9,-999.000,9,   -999.0,9,   -999.0,9,-999.0,  -999.0,-999.0000,-999.000,-999.000,-999.000,-999.000
      74JC10_1,   A23,    88,  1,   8822,     25,2,19950426,0040,-44.0688, -35.9945, 5243,     58,     52.4,  15.3045,  34.8725,2,  34.9056,2,    245.1,3, 15.2965,    240.3,2,     3.00,2,     0.15,2,     0.22,2, -999.000,9, -999.000,9, -999.000,9, -999.000,9, -999.000,9,-999.0000,9,  -999.00,9,-999.000,9,   -999.0,9,   -999.0,9,-999.0,  -999.0,-999.0000,-999.000,-999.000,-999.000,-999.000
      74JC10_1,   A23,    88,  1,   8821,     21,2,19950426,0040,-44.0688, -35.9945, 5243,    108,    102.1,  12.8173,  35.0916,2,  35.0732,2,    235.3,3, 12.8034,    221.8,2,     4.61,2,     6.82,2,     0.70,2, -999.000,9, -999.000,9, -999.000,9, -999.000,9, -999.000,9,-999.0000,9,  -999.00,9,-999.000,9,   -999.0,9,   -999.0,9,-999.0,  -999.0,-999.0000,-999.000,-999.000,-999.000,-999.000
      74JC10_1,   A23,    88,  1,   8820,     27,2,19950426,0040,-44.0688, -35.9945, 5243,    157,    150.9,  10.0769,  34.6801,2,  34.7024,2,    237.5,3, 10.0595,    228.3,2,     5.35,2,    12.41,2,     1.01,2, -999.000,9, -999.000,9, -999.000,9, -999.000,9, -999.000,9,-999.0000,9,  -999.00,9,-999.000,9,   -999.0,9,   -999.0,9,-999.0,  -999.0,-999.0000,-999.000,  10.172,-999.000,-999.000
      74JC10_1,   A23,    88,  1,   8819,     19,2,19950426,0040,-44.0688, -35.9945, 5243,    253,    245.9,   7.1168,  34.3951,2,  34.3923,2,    242.7,3,  7.0937,    239.4,2,     8.94,2,    19.75,2,     1.41,2, -999.000,9, -999.000,9, -999.000,9, -999.000,9, -999.000,9,-999.0000,9,  -999.00,9,-999.000,9,   -999.0,9,   -999.0,9,-999.0,  -999.0,-999.0000,-999.000,-999.000,-999.000,-999.000
      74JC10_1,   A23,    88,  1,   8818,     18,2,19950426,0040,-44.0688, -35.9945, 5243,    352,    343.9,   5.3841,  34.2538,2,  34.2534,2,    255.2,3,  5.3563,    249.3,2,    12.59,2,    23.51,2,     1.64,2, -999.000,9, -999.000,9, -999.000,9, -999.000,9, -999.000,9,-999.0000,9,  -999.00,9,-999.000,9,   -999.0,9,   -999.0,9,-999.0,  -999.0,-999.0000,-999.000,-999.000,-999.000,-999.000
      74JC10_1,   A23,    88,  1,   8817,     17,2,19950426,0040,-44.0688, -35.9945, 5243,    497,    488.2,   4.4237,  34.2099,2,  34.2107,2,    263.8,3,  4.3873,    256.6,2,    17.35,2,    25.44,2,     1.76,2, -999.000,9, -999.000,9, -999.000,9, -999.000,9, -999.000,9,-999.0000,9,  -999.00,9,-999.000,9,   -999.0,9,   -999.0,9,-999.0,  -999.0,-999.0000,-999.000,-999.000,-999.000,-999.000
      74JC10_1,   A23,    88,  1,   8816,     16,2,19950426,0040,-44.0688, -35.9945, 5243,    742,    731.3,   3.4190,  34.2363,2,  34.2381,2,    243.5,3,  3.3688,    234.2,2,    31.26,2,    29.50,2,     2.05,2, -999.000,9, -999.000,9, -999.000,9, -999.000,9, -999.000,9,-999.0000,9,  -999.00,9,-999.000,9,   -999.0,9,   -999.0,9,-999.0,  -999.0,-999.0000,-999.000,-999.000,-999.000,-999.000
      74JC10_1,   A23,    88,  1,   8815,     15,2,19950426,0040,-44.0688, -35.9945, 5243,    997,    985.0,   2.8881,  34.3331,2,  34.3333,2,    215.1,3,  2.8224,    206.1,2,    48.50,2,    32.23,2,     2.20,2, -999.000,9, -999.000,9, -999.000,9, -999.000,9, -999.000,9,-999.0000,9,  -999.00,9,-999.000,9,   -999.0,9,   -999.0,9,-999.0,  -999.0,-999.0000,-999.000,-999.000,-999.000,-999.000
      74JC10_1,   A23,    88,  1,   8814,     14,2,19950426,0040,-44.0688, -35.9945, 5243,   1244,   1231.1,   2.6322,  34.4550,2,  34.4551,2,    189.6,3,  2.5500,    183.6,2,    63.91,2,    33.53,2,     2.27,2, -999.000,9, -999.000,9, -999.000,9, -999.000,9, -999.000,9,-999.0000,9,  -999.00,9,-999.000,9,   -999.0,9,   -999.0,9,-999.0,  -999.0,-999.0000,-999.000,-999.000,-999.000,-999.000
      74JC10_1,   A23,    88,  1,   8813,     13,2,19950426,0040,-44.0688, -35.9945, 5243,   1492,   1479.0,   2.6232,  34.5829,2,  34.5830,2,    180.8,3,  2.5214,    174.4,2,    71.51,2,    32.99,2,     2.24,2, -999.000,9, -999.000,9, -999.000,9, -999.000,9, -999.000,9,-999.0000,9,  -999.00,9,-999.000,9,   -999.0,9,   -999.0,9,-999.0,  -999.0,-999.0000,-999.000,-999.000,-999.000,-999.000
      74JC10_1,   A23,    88,  1,   8812,     12,2,19950426,0040,-44.0688, -35.9945, 5243,   1740,   1726.9,   2.6338,  34.6884,2,  34.6901,2,    185.5,3,  2.5111,    180.8,2,    72.25,2,    30.80,2,     2.07,2, -999.000,9, -999.000,9, -999.000,9, -999.000,9, -999.000,9,-999.0000,9,  -999.00,9,-999.000,9,   -999.0,9,   -999.0,9,-999.0,  -999.0,-999.0000,-999.000,-999.000,-999.000,-999.000
      74JC10_1,   A23,    88,  1,   8811,     24,2,19950426,0040,-44.0688, -35.9945, 5243,   1988,   1975.0,   2.6490,  34.7584,2,  34.7604,2,    195.7,3,  2.5045,    192.5,2,    69.68,2,    28.93,2,     1.94,2, -999.000,9, -999.000,9, -999.000,9, -999.000,9, -999.000,9,-999.0000,9,  -999.00,9,-999.000,9,   -999.0,9,   -999.0,9,-999.0,  -999.0,-999.0000,-999.000,-999.000,-999.000,-999.000
      74JC10_1,   A23,    88,  1,   8810,     10,2,19950426,0040,-44.0688, -35.9945, 5243,   2330,   2317.2,   2.5574,  34.8094,2,  34.8108,2,    213.0,3,  2.3833,    206.5,2,    65.99,2,    26.38,2,     1.79,2, -999.000,9, -999.000,9, -999.000,9, -999.000,9, -999.000,9,-999.0000,9,  -999.00,9,-999.000,9,   -999.0,9,   -999.0,9,-999.0,  -999.0,-999.0000,-999.000,-999.000,-999.000,-999.000
      74JC10_1,   A23,    88,  1,   8809,      9,2,19950426,0040,-44.0688, -35.9945, 5243,   2680,   2668.3,   2.3493,  34.8253,2,  34.8265,2,    221.6,3,  2.1458,    214.9,2,    66.46,2,    25.39,2,     1.74,2, -999.000,9, -999.000,9, -999.000,9, -999.000,9, -999.000,9,-999.0000,9,  -999.00,9,-999.000,9,   -999.0,9,   -999.0,9,-999.0,  -999.0,-999.0000,-999.000,-999.000,-999.000,-999.000
      74JC10_1,   A23,    88,  1,   8808,      8,2,19950426,0040,-44.0688, -35.9945, 5243,   2981,   2969.9,   1.8021,  34.7663,2,  34.7661,2,    209.0,3,  1.5811,    201.8,2,    90.66,2,    28.79,2,     1.95,2, -999.000,9, -999.000,9, -999.000,9, -999.000,9, -999.000,9,-999.0000,9,  -999.00,9,-999.000,9,   -999.0,9,   -999.0,9,-999.0,  -999.0,-999.0000,-999.000,-999.000,-999.000,-999.000
      74JC10_1,   A23,    88,  1,   8807,     26,2,19950426,0040,-44.0688, -35.9945, 5243,   3327,   3316.7,   1.2818,  34.7295,2,  34.7288,2,    206.0,3,  1.0392,    200.5,2,   107.75,2,    31.13,2,     2.07,2, -999.000,9, -999.000,9, -999.000,9, -999.000,9, -999.000,9,-999.0000,9,  -999.00,9,-999.000,9,   -999.0,9,   -999.0,9,-999.0,  -999.0,-999.0000,-999.000,   1.274,-999.000,-999.000
      74JC10_1,   A23,    88,  1,   8806,      6,2,19950426,0040,-44.0688, -35.9945, 5243,   3676,   3666.8,   0.9256,  34.7095,2,  34.7085,2,    210.6,3,  0.6572,    205.3,2,   115.95,2,    31.56,2,     2.12,2, -999.000,9, -999.000,9, -999.000,9, -999.000,9, -999.000,9,-999.0000,9,  -999.00,9,-999.000,9,   -999.0,9,   -999.0,9,-999.0,  -999.0,-999.0000,-999.000,-999.000,-999.000,-999.000
      74JC10_1,   A23,    88,  1,   8805,      5,2,19950426,0040,-44.0688, -35.9945, 5243,   3977,   3968.2,   0.6115,  34.6925,2,  34.6908,2,    215.9,3,  0.3211,    209.5,2,   121.32,2,    31.91,2,     2.16,2, -999.000,9, -999.000,9, -999.000,9, -999.000,9, -999.000,9,-999.0000,9,  -999.00,9,-999.000,9,   -999.0,9,   -999.0,9,-999.0,  -999.0,-999.0000,-999.000,-999.000,-999.000,-999.000
      74JC10_1,   A23,    88,  1,   8804,      4,2,19950426,0040,-44.0688, -35.9945, 5243,   4474,   4465.6,   0.3060,  34.6774,2,  34.6759,2,    222.7,3, -0.0278,    216.2,2,   126.11,2,    32.25,2,     2.19,2, -999.000,9, -999.000,9, -999.000,9, -999.000,9, -999.000,9,-999.0000,9,  -999.00,9,-999.000,9,   -999.0,9,   -999.0,9,-999.0,  4475.0,-999.0000,-999.000,   0.300,-999.000,-999.000
      74JC10_1,   A23,    88,  1,   8803,      3,2,19950426,0040,-44.0688, -35.9945, 5243,   4987,   4980.2,   0.2353,  34.6709,2,  34.6698,2,    225.7,3, -0.1534,    218.5,2,   128.26,2,    32.41,2,     2.23,2, -999.000,9, -999.000,9, -999.000,9, -999.000,9, -999.000,9,-999.0000,9,  -999.00,9,-999.000,9,   -999.0,9,   -999.0,9,-999.0,  -999.0,-999.0000,-999.000,-999.000,-999.000,-999.000
      74JC10_1,   A23,    88,  1,   8801,      1,2,19950426,0040,-44.0688, -35.9945, 5243,   5354,   5347.9,   0.2123,  34.6672,2,  34.6667,2,    227.8,3, -0.2184,    220.8,2,   128.45,2,    32.34,2,     2.19,2, -999.000,9, -999.000,9, -999.000,9, -999.000,9, -999.000,9,-999.0000,9,  -999.00,9,-999.000,9,   -999.0,9,   -999.0,9,-999.0,  5346.0,-999.0000,-999.000,   0.207,-999.000,-999.000
      74JC10_1,   A23,    88,  1,   8802,      2,2,19950426,0040,-44.0688, -35.9945, 5243,   5355,   5348.7,   0.2136,  34.6664,2,  34.6669,2,    227.8,3, -0.2173,    219.7,2,   129.33,2,    32.41,2,     2.20,2, -999.000,9, -999.000,9, -999.000,9, -999.000,9, -999.000,9,-999.0000,9,  -999.00,9,-999.000,9,   -999.0,9,   -999.0,9,-999.0,  -999.0,-999.0000,-999.000,-999.000,-999.000,-999.000
      74JC10_1,   A23,    89,  1,   8902,      2,2,19950426,0610,-43.8655, -35.9940, 5201,   2596,   2584.1,   2.5933,  34.8498,2,-999.0000,9,    230.6,3,  2.3932,    222.0,2,  -999.00,9,  -999.00,9,  -999.00,9,   -0.004,2,    0.014,2,    0.000,2,    0.098,2, -999.000,9,-999.0000,9,  -999.00,9,-999.000,9,   -999.0,9,   -999.0,9,-999.0,  -999.0,-999.0000,-999.000,-999.000,-999.000,-999.000
      74JC10_1,   A23,    89,  1,   8905,      5,2,19950426,0610,-43.8655, -35.9940, 5201,   2596,   2584.2,   2.5939,  34.8462,2,  34.8509,2,    230.6,3,  2.3938,   -999.0,9,  -999.00,9,  -999.00,9,  -999.00,9,   -0.005,2,    0.015,2,    0.000,2,    0.109,2, -999.000,9,-999.0000,9,  -999.00,9,-999.000,9,   -999.0,9,   -999.0,9,-999.0,  -999.0,-999.0000,-999.000,-999.000,-999.000,-999.000
      74JC10_1,   A23,    89,  1,   8903,      3,2,19950426,0610,-43.8655, -35.9940, 5201,   2597,   2584.4,   2.5750,  34.8705,3,  34.8507,3,    230.6,3,  2.3751,    221.6,2,  -999.00,9,  -999.00,9,  -999.00,9,   -0.005,2,    0.008,2,    0.000,2,    0.104,2, -999.000,9,-999.0000,9,  -999.00,9,-999.000,9,   -999.0,9,   -999.0,9,-999.0,  -999.0,-999.0000,-999.000,-999.000,-999.000,-999.000
      74JC10_1,   A23,    89,  1,   8901,      1,2,19950426,0610,-43.8655, -35.9940, 5201,   2597,   2584.7,   2.5933,  34.8427,2,-999.0000,9,    230.6,3,  2.3931,    221.3,2,  -999.00,9,  -999.00,9,  -999.00,9,    0.002,2,    0.020,3,    0.000,2,    0.099,2, -999.000,9,-999.0000,9,  -999.00,9,-999.000,9,   -999.0,9,   -999.0,9,-999.0,  2562.0,-999.0000,-999.000,   2.587,-999.000,-999.000
      74JC10_1,   A23,    89,  1,   8904,      4,2,19950426,0610,-43.8655, -35.9940, 5201,   2597,   2585.0,   2.5935,  34.8492,2,-999.0000,9,    230.6,3,  2.3932,    223.6,2,  -999.00,9,  -999.00,9,  -999.00,9,   -0.003,2,    0.017,2,    0.000,2,    0.099,2, -999.000,9,-999.0000,9,  -999.00,9,-999.000,9,   -999.0,9,   -999.0,9,-999.0,  2592.0,-999.0000,-999.000,   2.587,-999.000,-999.000
      74JC10_1,   A23,    89,  1,   8908,      8,2,19950426,0610,-43.8655, -35.9940, 5201,   2597,   2585.0,   2.5941,  34.8524,2,-999.0000,9,    230.6,3,  2.3939,   -999.0,9,  -999.00,9,  -999.00,9,  -999.00,9,   -0.006,2,    0.021,3,    0.000,2,    0.097,2, -999.000,9,-999.0000,9,  -999.00,9,-999.000,9,   -999.0,9,   -999.0,9,-999.0,  -999.0,-999.0000,-999.000,-999.000,-999.000,-999.000
      74JC10_1,   A23,    89,  1,   8907,     26,2,19950426,0610,-43.8655, -35.9940, 5201,   2597,   2585.3,   2.5946,  34.8500,2,  34.8515,2,    230.6,3,  2.3944,   -999.0,9,  -999.00,9,  -999.00,9,  -999.00,9,   -0.008,2,    0.014,2,    0.000,2,    0.100,2, -999.000,9,-999.0000,9,  -999.00,9,-999.000,9,   -999.0,9,   -999.0,9,-999.0,  -999.0,-999.0000,-999.000,   2.586,-999.000,-999.000
      74JC10_1,   A23,    89,  1,   8921,     21,2,19950426,0610,-43.8655, -35.9940, 5201,   2598,   2585.6,   2.5996,  34.8509,2,-999.0000,9,    230.6,3,  2.3992,   -999.0,9,  -999.00,9,  -999.00,9,  -999.00,9,    0.002,2,    0.009,2,    0.000,2,    0.126,2, -999.000,9,-999.0000,9,  -999.00,9,-999.000,9,   -999.0,9,   -999.0,9,-999.0,  -999.0,-999.0000,-999.000,-999.000,-999.000,-999.000
      74JC10_1,   A23,    89,  1,   8910,     10,2,19950426,0610,-43.8655, -35.9940, 5201,   2598,   2585.8,   2.4781,  34.9770,2,-999.0000,9,    230.6,3,  2.3973,   -999.0,9,  -999.00,9,  -999.00,9,  -999.00,9,   -0.001,2,    0.011,2,    0.000,2,    0.104,2, -999.000,9,-999.0000,9,  -999.00,9,-999.000,9,   -999.0,9,   -999.0,9,-999.0,  -999.0,-999.0000,-999.000,-999.000,-999.000,-999.000
      74JC10_1,   A23,    89,  1,   8920,     27,2,19950426,0610,-43.8655, -35.9940, 5201,   2598,   2586.0,   2.5998,  34.8506,2,-999.0000,9,    230.6,3,  2.3993,   -999.0,9,  -999.00,9,  -999.00,9,  -999.00,9,    0.018,3,    0.025,3,    0.000,2,    0.136,2, -999.000,9,-999.0000,9,  -999.00,9,-999.000,9,   -999.0,9,   -999.0,9,-999.0,  -999.0,-999.0000,-999.000,   2.593,-999.000,-999.000
      74JC10_1,   A23,    89,  1,   8922,     25,2,19950426,0610,-43.8655, -35.9940, 5201,   2598,   2586.3,   2.5992,  34.8504,2,-999.0000,9,    230.4,3,  2.3987,   -999.0,9,  -999.00,9,  -999.00,9,  -999.00,9,    0.001,2,    0.007,2,    0.000,2,    0.115,2, -999.000,9,-999.0000,9,  -999.00,9,-999.000,9,   -999.0,9,   -999.0,9,-999.0,  -999.0,-999.0000,-999.000,-999.000,-999.000,-999.000
      74JC10_1,   A23,    89,  1,   8923,     23,2,19950426,0610,-43.8655, -35.9940, 5201,   2599,   2586.5,   2.5994,  34.8509,2,-999.0000,9,    230.4,3,  2.3989,   -999.0,9,  -999.00,9,  -999.00,9,  -999.00,9,   -0.002,2,    0.012,2,    0.000,2,    0.126,2, -999.000,9,-999.0000,9,  -999.00,9,-999.000,9,   -999.0,9,   -999.0,9,-999.0,  -999.0,-999.0000,-999.000,-999.000,-999.000,-999.000
      74JC10_1,   A23,    89,  1,   8906,      6,2,19950426,0610,-43.8655, -35.9940, 5201,   2599,   2586.6,   2.5946,  34.8501,2,-999.0000,9,    230.4,3,  2.3942,   -999.0,9,  -999.00,9,  -999.00,9,  -999.00,9,   -0.008,2,    0.012,2,    0.000,2,    0.107,2, -999.000,9,-999.0000,9,  -999.00,9,-999.000,9,   -999.0,9,   -999.0,9,-999.0,  -999.0,-999.0000,-999.000,-999.000,-999.000,-999.000
      74JC10_1,   A23,    89,  1,   8924,     11,2,19950426,0610,-43.8655, -35.9940, 5201,   2599,   2586.6,   2.5995,  34.8512,2,-999.0000,9,    230.4,3,  2.3990,   -999.0,9,  -999.00,9,  -999.00,9,  -999.00,9,    0.004,2,    0.012,2,    0.000,2,    0.124,2, -999.000,9,-999.0000,9,  -999.00,9,-999.000,9,   -999.0,9,   -999.0,9,-999.0,  -999.0,-999.0000,-999.000,-999.000,-999.000,-999.000
      74JC10_1,   A23,    89,  1,   8909,      9,2,19950426,0610,-43.8655, -35.9940, 5201,   2599,   2586.8,   2.5952,  34.8499,2,-999.0000,9,    230.4,3,  2.3947,   -999.0,9,  -999.00,9,  -999.00,9,  -999.00,9,   -0.005,2,    0.021,2,    0.000,2,    0.104,2, -999.000,9,-999.0000,9,  -999.00,9,-999.000,9,   -999.0,9,   -999.0,9,-999.0,  -999.0,-999.0000,-999.000,-999.000,-999.000,-999.000
      74JC10_1,   A23,    89,  1,   8915,     15,2,19950426,0610,-43.8655, -35.9940, 5201,   2599,   2586.9,   2.6011,  34.8515,2,-999.0000,9,    230.4,3,  2.4005,   -999.0,9,  -999.00,9,  -999.00,9,  -999.00,9,   -0.005,2,    0.002,3,    0.000,2,    0.104,2, -999.000,9,-999.0000,9,  -999.00,9,-999.000,9,   -999.0,9,   -999.0,9,-999.0,  -999.0,-999.0000,-999.000,-999.000,-999.000,-999.000
      74JC10_1,   A23,    89,  1,   8919,     19,2,19950426,0610,-43.8655, -35.9940, 5201,   2599,   2586.9,   2.6014,  34.8519,2,-999.0000,9,    230.4,3,  2.4008,   -999.0,9,  -999.00,9,  -999.00,9,  -999.00,9,   -0.004,2,    0.011,2,    0.000,2,    0.112,2, -999.000,9,-999.0000,9,  -999.00,9,-999.000,9,   -999.0,9,   -999.0,9,-999.0,  -999.0,-999.0000,-999.000,-999.000,-999.000,-999.000
      74JC10_1,   A23,    89,  1,   8913,     13,2,19950426,0610,-43.8655, -35.9940, 5201,   2599,   2587.0,   2.5997,  34.8515,2,-999.0000,9,    230.4,3,  2.3991,   -999.0,9,  -999.00,9,  -999.00,9,  -999.00,9,   -0.005,2,    0.010,2,    0.000,2,    0.106,2, -999.000,9,-999.0000,9,  -999.00,9,-999.000,9,   -999.0,9,   -999.0,9,-999.0,  -999.0,-999.0000,-999.000,-999.000,-999.000,-999.000
      74JC10_1,   A23,    89,  1,   8918,     18,2,19950426,0610,-43.8655, -35.9940, 5201,   2599,   2587.0,   2.6017,  34.8513,2,-999.0000,9,    230.4,3,  2.4011,   -999.0,9,  -999.00,9,  -999.00,9,  -999.00,9,    0.004,2,    0.010,2,    0.000,2,    0.114,2, -999.000,9,-999.0000,9,  -999.00,9,-999.000,9,   -999.0,9,   -999.0,9,-999.0,  -999.0,-999.0000,-999.000,-999.000,-999.000,-999.000
      74JC10_1,   A23,    89,  1,   8917,     17,2,19950426,0610,-43.8655, -35.9940, 5201,   2599,   2587.3,   2.6013,  34.8512,2,-999.0000,9,    230.4,3,  2.4007,   -999.0,9,  -999.00,9,  -999.00,9,  -999.00,9,    0.000,2,    0.010,2,    0.000,2,    0.114,2, -999.000,9,-999.0000,9,  -999.00,9,-999.000,9,   -999.0,9,   -999.0,9,-999.0,  -999.0,-999.0000,-999.000,-999.000,-999.000,-999.000
      74JC10_1,   A23,    89,  1,   8912,     12,2,19950426,0610,-43.8655, -35.9940, 5201,   2600,   2587.6,   2.5998,  34.8507,2,-999.0000,9,    230.4,3,  2.3992,   -999.0,9,  -999.00,9,  -999.00,9,  -999.00,9,   -0.001,2,    0.015,2,    0.000,2,    0.110,2, -999.000,9,-999.0000,9,  -999.00,9,-999.000,9,   -999.0,9,   -999.0,9,-999.0,  -999.0,-999.0000,-999.000,-999.000,-999.000,-999.000
      74JC10_1,   A23,    89,  1,   8911,     24,2,19950426,0610,-43.8655, -35.9940, 5201,   2600,   2587.7,   2.5995,  34.8504,2,-999.0000,9,    230.4,3,  2.3989,   -999.0,9,  -999.00,9,  -999.00,9,  -999.00,9,   -0.004,2,    0.011,2,    0.000,2,    0.108,2, -999.000,9,-999.0000,9,  -999.00,9,-999.000,9,   -999.0,9,   -999.0,9,-999.0,  -999.0,-999.0000,-999.000,-999.000,-999.000,-999.000
      74JC10_1,   A23,    89,  1,   8914,     14,2,19950426,0610,-43.8655, -35.9940, 5201,   2601,   2588.5,   2.5989,  34.8515,2,-999.0000,9,    231.0,3,  2.3982,   -999.0,9,  -999.00,9,  -999.00,9,  -999.00,9,   -0.002,2,    0.009,2,    0.000,2,    0.112,2, -999.000,9,-999.0000,9,  -999.00,9,-999.000,9,   -999.0,9,   -999.0,9,-999.0,  -999.0,-999.0000,-999.000,-999.000,-999.000,-999.000
      74JC10_1,   A23,    89,  1,   8916,     16,2,19950426,0610,-43.8655, -35.9940, 5201,   2601,   2588.7,   2.6008,  34.8531,2,-999.0000,9,    231.0,3,  2.4001,   -999.0,9,  -999.00,9,  -999.00,9,  -999.00,9,    0.012,3,    0.012,2,    0.000,2,    0.124,2, -999.000,9,-999.0000,9,  -999.00,9,-999.000,9,   -999.0,9,   -999.0,9,-999.0,  -999.0,-999.0000,-999.000,-999.000,-999.000,-999.000