BOTTLE,20220810CCHSIOAMB
EXPOCODE,SECT_ID,STNNBR,CASTNO,SAMPNO,BTLNBR,BTLNBR_FLAG_W,DATE,TIME,LATITUDE,LONGITUDE,DEPTH,CTDRAW,CTDPRS,CTDTMP,CTDSAL,CTDSAL_FLAG_W,SALNTY,SALNTY_FLAG_W,CTDOXY,CTDOXY_FLAG_W,THETA,OXYGEN,OXYGEN_FLAG_W,SILCAT,SILCAT_FLAG_W,NO2+NO3,NO2+NO3_FLAG_W,PHSPHT,PHSPHT_FLAG_W,CFC-11,CFC-11_FLAG_W,CFC-12,CFC-12_FLAG_W,CFC113,CFC113_FLAG_W,CCL4,CCL4_FLAG_W,TRITUM,TRITUM_FLAG_W,HELIUM,HELIUM_FLAG_W,DELHE3,DELHE3_FLAG_W,NEON,NEON_FLAG_W,TCARBN,TCARBN_FLAG_W,PCO2,PCO2_FLAG_W,PCO2TMP,REVPRS,HELIER,TRITER,REVTMP,NEONER,DELHER
,,,,,,,,,,,,,DBAR,ITS-90,PSS-78,,PSS-78,,UMOL/KG,,DEG C,UMOL/KG,,UMOL/KG,,UMOL/KG,,UMOL/KG,,PMOL/KG,,PMOL/KG,,PMOL/KG,,PMOL/KG,,TU,,NMOL/KG,,PERCNT,,NMOL/KG,,UMOL/KG,,UATM,,DEG C,DBAR,NMOL/KG,TU,ITS-90,NMOL/KG,PERCNT
      74JC10_1,   A23,   126,  1,  12621,     21,2,19950505,0546,-26.7483, -40.4518, 3400,     12,      4.6,  25.3900,  37.1024,2,  37.1024,2,    205.4,3, 25.3890,    200.1,2,     2.85,2,     0.00,2,     0.03,2, -999.000,9, -999.000,9, -999.000,9, -999.000,9, -999.000,9,-999.0000,9,  -999.00,9,-999.000,9,   -999.0,9,   -999.0,9,-999.0,  -999.0,-999.0000,-999.000,-999.000,-999.000,-999.000
      74JC10_1,   A23,   126,  1,  12620,     27,2,19950505,0546,-26.7483, -40.4518, 3400,     63,     54.9,  25.3820,  37.0985,2,  36.7929,4,    208.7,3, 25.3699,    202.2,2,     2.85,2,     0.00,2,     0.05,2, -999.000,9, -999.000,9, -999.000,9, -999.000,9, -999.000,9,-999.0000,9,  -999.00,9,-999.000,9,   -999.0,9,   -999.0,9,-999.0,  -999.0,-999.0000,-999.000,  25.367,-999.000,-999.000
      74JC10_1,   A23,   126,  1,  12619,     19,2,19950505,0546,-26.7483, -40.4518, 3400,    113,    105.3,  22.2334,  36.7859,2,  36.7929,2,    206.6,3, 22.2122,    201.3,2,     2.85,2,     0.00,2,     0.10,2, -999.000,9, -999.000,9, -999.000,9, -999.000,9, -999.000,9,-999.0000,9,  -999.00,9,-999.000,9,   -999.0,9,   -999.0,9,-999.0,  -999.0,-999.0000,-999.000,-999.000,-999.000,-999.000
      74JC10_1,   A23,   126,  1,  12618,     18,2,19950505,0546,-26.7483, -40.4518, 3400,    164,    155.9,  20.2311,  36.3801,2,  36.3802,2,    203.7,3, 20.2018,    196.8,2,     2.85,2,     1.00,2,     0.20,2, -999.000,9, -999.000,9, -999.000,9, -999.000,9, -999.000,9,-999.0000,9,  -999.00,9,-999.000,9,   -999.0,9,   -999.0,9,-999.0,  -999.0,-999.0000,-999.000,-999.000,-999.000,-999.000
      74JC10_1,   A23,   126,  1,  12617,     17,2,19950505,0546,-26.7483, -40.4518, 3400,    266,    257.4,  16.0187,  35.6607,2,  35.6461,2,    204.7,3, 15.9777,    199.8,2,     2.85,2,     4.67,2,     0.39,2, -999.000,9, -999.000,9, -999.000,9, -999.000,9, -999.000,9,-999.0000,9,  -999.00,9,-999.000,9,   -999.0,9,   -999.0,9,-999.0,  -999.0,-999.0000,-999.000,-999.000,-999.000,-999.000
      74JC10_1,   A23,   126,  1,  12616,     16,2,19950505,0546,-26.7483, -40.4518, 3400,    368,    358.8,  13.7784,  35.3370,2,  35.3535,2,    208.4,3, 13.7266,    203.8,2,     4.75,2,     8.51,2,     0.71,2, -999.000,9, -999.000,9, -999.000,9, -999.000,9, -999.000,9,-999.0000,9,  -999.00,9,-999.000,9,   -999.0,9,   -999.0,9,-999.0,  -999.0,-999.0000,-999.000,-999.000,-999.000,-999.000
      74JC10_1,   A23,   126,  1,  12615,     15,2,19950505,0546,-26.7483, -40.4518, 3400,    520,    509.9,  10.4184,  34.8703,2,  34.8629,2,    202.0,3, 10.3569,    196.9,2,     7.59,2,    17.34,2,     1.17,2, -999.000,9, -999.000,9, -999.000,9, -999.000,9, -999.000,9,-999.0000,9,  -999.00,9,-999.000,9,   -999.0,9,   -999.0,9,-999.0,  -999.0,-999.0000,-999.000,-999.000,-999.000,-999.000
      74JC10_1,   A23,   126,  1,  12614,     14,2,19950505,0546,-26.7483, -40.4518, 3400,    827,    816.0,   4.9040,  34.3401,2,  34.3386,2,    219.3,3,  4.8380,    211.9,2,    21.85,2,    28.69,2,     1.86,2, -999.000,9, -999.000,9, -999.000,9, -999.000,9, -999.000,9,-999.0000,9,  -999.00,9,-999.000,9,   -999.0,9,   -999.0,9,-999.0,  -999.0,-999.0000,-999.000,-999.000,-999.000,-999.000
      74JC10_1,   A23,   126,  1,  12613,     13,2,19950505,0546,-26.7483, -40.4518, 3400,   1031,   1019.2,   3.6189,  34.3521,2,  34.3560,2,    209.3,3,  3.5449,    201.4,2,  -999.00,5,  -999.00,5,  -999.00,5, -999.000,9, -999.000,9, -999.000,9, -999.000,9, -999.000,9,-999.0000,9,  -999.00,9,-999.000,9,   -999.0,9,   -999.0,9,-999.0,  -999.0,-999.0000,-999.000,-999.000,-999.000,-999.000
      74JC10_1,   A23,   126,  1,  12612,     12,2,19950505,0546,-26.7483, -40.4518, 3400,   1288,   1275.3,   3.0378,  34.5136,2,  34.5144,2,    195.4,3,  2.9481,    186.5,2,    48.45,2,    32.19,2,     2.16,2, -999.000,9, -999.000,9, -999.000,9, -999.000,9, -999.000,9,-999.0000,9,  -999.00,9,-999.000,9,   -999.0,9,   -999.0,9,-999.0,  -999.0,-999.0000,-999.000,-999.000,-999.000,-999.000
      74JC10_1,   A23,   126,  1,  12611,     24,2,19950505,0546,-26.7483, -40.4518, 3400,   1542,   1529.4,   3.6558,  34.8029,2,  34.7970,2,    204.9,3,  3.5374,    203.5,2,    34.19,2,    26.52,2,     1.77,2, -999.000,9, -999.000,9, -999.000,9, -999.000,9, -999.000,9,-999.0000,9,  -999.00,9,-999.000,9,   -999.0,9,   -999.0,9,-999.0,  -999.0,-999.0000,-999.000,-999.000,-999.000,-999.000
      74JC10_1,   A23,   126,  1,  12610,     10,2,19950505,0546,-26.7483, -40.4518, 3400,   1797,   1784.1,   3.6286,  34.8926,2,  34.8949,2,    231.0,3,  3.4872,    224.2,2,    28.49,2,    23.19,2,     1.59,2, -999.000,9, -999.000,9, -999.000,9, -999.000,9, -999.000,9,-999.0000,9,  -999.00,9,-999.000,9,   -999.0,9,   -999.0,9,-999.0,  -999.0,-999.0000,-999.000,-999.000,-999.000,-999.000
      74JC10_1,   A23,   126,  1,  12609,      9,2,19950505,0546,-26.7483, -40.4518, 3400,   2056,   2043.1,   3.6184,  34.9571,2,  34.9571,2,    249.8,3,  3.4525,    242.4,2,    22.79,2,    20.51,2,     1.28,2, -999.000,9, -999.000,9, -999.000,9, -999.000,9, -999.000,9,-999.0000,9,  -999.00,9,-999.000,9,   -999.0,9,   -999.0,9,-999.0,  -999.0,-999.0000,-999.000,-999.000,-999.000,-999.000
      74JC10_1,   A23,   126,  1,  12608,      8,2,19950505,0546,-26.7483, -40.4518, 3400,   2309,   2296.4,   3.3814,  34.9524,2,  34.9530,2,    253.4,3,  3.1947,    245.7,2,    24.69,2,    20.18,2,     1.35,2, -999.000,9, -999.000,9, -999.000,9, -999.000,9, -999.000,9,-999.0000,9,  -999.00,9,-999.000,9,   -999.0,9,   -999.0,9,-999.0,  -999.0,-999.0000,-999.000,-999.000,-999.000,-999.000
      74JC10_1,   A23,   126,  1,  12607,     26,2,19950505,0546,-26.7483, -40.4518, 3400,   2565,   2553.4,   3.1645,  34.9425,2,  34.9439,2,    253.9,3,  2.9563,    246.7,2,    27.54,2,    20.35,2,     1.28,2, -999.000,9, -999.000,9, -999.000,9, -999.000,9, -999.000,9,-999.0000,9,  -999.00,9,-999.000,9,   -999.0,9,   -999.0,9,-999.0,  -999.0,-999.0000,-999.000,   3.159,-999.000,-999.000
      74JC10_1,   A23,   126,  1,  12606,      6,2,19950505,0546,-26.7483, -40.4518, 3400,   2824,   2812.9,   2.9641,  34.9318,2,  34.9319,2,    254.9,3,  2.7336,    246.6,2,    30.39,2,    20.68,2,     1.30,2,    0.009,2, -999.000,9,    0.000,2,    0.157,2, -999.000,9,-999.0000,9,  -999.00,9,-999.000,9,   -999.0,9,   -999.0,9,-999.0,  -999.0,-999.0000,-999.000,-999.000,-999.000,-999.000
      74JC10_1,   A23,   126,  1,  12605,      5,2,19950505,0546,-26.7483, -40.4518, 3400,   3081,   3070.9,   2.7270,  34.9148,2,  34.9160,2,    254.6,3,  2.4749,    246.5,2,    35.13,2,    21.18,2,     1.52,2,    0.013,2,    0.023,3,    0.000,2,    0.134,2, -999.000,9,-999.0000,9,  -999.00,9,-999.000,9,   -999.0,9,   -999.0,9,-999.0,  -999.0,-999.0000,-999.000,-999.000,-999.000,-999.000
      74JC10_1,   A23,   126,  1,  12604,      4,2,19950505,0546,-26.7483, -40.4518, 3400,   3340,   3330.0,   1.9181,  34.8478,2,  34.8440,2,    248.7,3,  1.6583,   -999.0,5,    59.84,2,    24.52,2,     1.59,2,    0.016,2,    0.011,2,    0.000,2,    0.106,2, -999.000,9,-999.0000,9,  -999.00,9,-999.000,9,   -999.0,9,   -999.0,9,-999.0,  3336.0,-999.0000,-999.000,   1.923,-999.000,-999.000
      74JC10_1,   A23,   126,  1,  12603,      3,2,19950505,0546,-26.7483, -40.4518, 3400,   3443,   3434.1,   1.5019,  34.8023,2,  34.8017,2,    239.0,3,  1.2418,    231.6,2,    75.98,2,    26.68,2,     1.77,2,    0.025,2,    0.017,2,    0.000,2,    0.130,2, -999.000,9,-999.0000,9,  -999.00,9,-999.000,9,   -999.0,9,   -999.0,9,-999.0,  -999.0,-999.0000,-999.000,-999.000,-999.000,-999.000
      74JC10_1,   A23,   126,  1,  12601,      1,2,19950505,0546,-26.7483, -40.4518, 3400,   3445,   3435.2,   1.5085,  34.8031,2,  34.8047,3,    239.0,3,  1.2481,    231.8,2,    75.98,2,    26.52,2,     1.69,2, -999.000,9, -999.000,9, -999.000,9, -999.000,9, -999.000,9,-999.0000,9,  -999.00,9,-999.000,9,   -999.0,9,   -999.0,9,-999.0,  3415.0,-999.0000,-999.000,   1.507,-999.000,-999.000
      74JC10_1,   A23,   126,  1,  12602,      2,2,19950505,0546,-26.7483, -40.4518, 3400,   3445,   3435.3,   1.5008,  34.8037,2,  34.8019,2,    239.0,3,  1.2406,    231.6,2,    74.08,2,    27.36,2,     1.72,2, -999.000,9,    0.017,2,    0.000,2,    0.137,2, -999.000,9,-999.0000,9,  -999.00,9,-999.000,9,   -999.0,9,   -999.0,9,-999.0,  -999.0,-999.0000,-999.000,-999.000,-999.000,-999.000
      74JC10_1,   A23,   127,  1,  12720,     27,2,19950505,0950,-26.6483, -40.6422, 3014,     12,      4.7,  25.5683,  37.1027,2,  37.1026,2,    201.4,3, 25.5673,    200.0,2,     1.90,2,     0.17,2,     0.00,2,    1.995,2,    1.105,2,    0.208,2,    1.754,2, -999.000,9,-999.0000,9,  -999.00,9,-999.000,9,   -999.0,9,   -999.0,9,-999.0,  -999.0,-999.0000,-999.000,  25.557,-999.000,-999.000
      74JC10_1,   A23,   127,  1,  12719,     19,2,19950505,0950,-26.6483, -40.6422, 3014,     63,     55.5,  25.3325,  37.1168,2,  37.1038,2,    209.6,3, 25.3203,    199.8,2,     1.90,2,     0.17,2,     0.15,2,    2.110,2,    1.147,2,    0.193,2,    1.830,2, -999.000,9,-999.0000,9,  -999.00,9,-999.000,9,   -999.0,9,   -999.0,9,-999.0,  -999.0,-999.0000,-999.000,-999.000,-999.000,-999.000
      74JC10_1,   A23,   127,  1,  12718,     18,2,19950505,0950,-26.6483, -40.6422, 3014,    113,    105.7,  20.7623,  36.4419,2,  36.4406,2,    214.4,3, 20.7421,    208.3,2,     1.90,2,     0.50,2,     0.20,2,    2.534,2,    1.347,2,    0.206,2,    1.340,2, -999.000,9,-999.0000,9,  -999.00,9,-999.000,9,   -999.0,9,   -999.0,9,-999.0,  -999.0,-999.0000,-999.000,-999.000,-999.000,-999.000
      74JC10_1,   A23,   127,  1,  12717,     17,2,19950505,0950,-26.6483, -40.6422, 3014,    165,    156.8,  19.2498,  36.1876,2,  36.1903,2,    201.9,3, 19.2214,    197.5,2,     1.90,2,     1.17,2,     0.15,2,    2.639,2,    1.374,2,    0.115,2,    0.707,2, -999.000,9,-999.0000,9,  -999.00,9,-999.000,9,   -999.0,9,   -999.0,9,-999.0,  -999.0,-999.0000,-999.000,-999.000,-999.000,-999.000
      74JC10_1,   A23,   127,  1,  12716,     16,2,19950505,0950,-26.6483, -40.6422, 3014,    215,    207.0,  16.6652,  35.7035,2,  35.6820,2,    213.4,3, 16.6314,    206.9,2,     1.90,2,     2.17,2,     0.24,2,    2.982,2,    1.500,2,    0.109,2,    0.799,2, -999.000,9,-999.0000,9,  -999.00,9,-999.000,9,   -999.0,9,   -999.0,9,-999.0,  -999.0,-999.0000,-999.000,-999.000,-999.000,-999.000
      74JC10_1,   A23,   127,  1,  12715,     15,2,19950505,0950,-26.6483, -40.6422, 3014,    266,    257.7,  15.7976,  35.6231,2,  35.6222,2,    211.3,3, 15.7569,    202.7,2,     2.85,2,     4.50,2,     0.57,2,    2.923,2,    1.539,2,    0.081,2,    0.664,2, -999.000,9,-999.0000,9,  -999.00,9,-999.000,9,   -999.0,9,   -999.0,9,-999.0,  -999.0,-999.0000,-999.000,-999.000,-999.000,-999.000
      74JC10_1,   A23,   127,  1,  12714,     14,2,19950505,0950,-26.6483, -40.6422, 3014,    368,    358.7,  14.1455,  35.4080,2,  35.3971,2,    209.3,3, 14.0929,    202.7,2,     3.79,2,     8.00,2,     0.52,2,    2.846,2,    1.407,2,    0.059,2,    0.668,2, -999.000,9,-999.0000,9,  -999.00,9,-999.000,9,   -999.0,9,   -999.0,9,-999.0,  -999.0,-999.0000,-999.000,-999.000,-999.000,-999.000
      74JC10_1,   A23,   127,  1,  12713,     13,2,19950505,0950,-26.6483, -40.6422, 3014,    520,    509.9,  10.6828,  34.9017,2,  34.9142,2,    202.3,3, 10.6203,    199.5,2,     5.70,2,    16.35,2,     0.98,2,    2.316,2,    1.149,2,    0.049,2,    0.948,2, -999.000,9,-999.0000,9,  -999.00,9,-999.000,9,   -999.0,9,   -999.0,9,-999.0,  -999.0,-999.0000,-999.000,-999.000,-999.000,-999.000
      74JC10_1,   A23,   127,  1,  12712,     12,2,19950505,0950,-26.6483, -40.6422, 3014,    776,    765.7,   5.4728,  34.3643,2,  34.3651,2,    222.2,3,  5.4077,    216.3,2,    17.10,2,    27.86,2,     1.77,2,    1.707,2,    0.792,2,    0.053,2,    2.187,2, -999.000,9,-999.0000,9,  -999.00,9,-999.000,9,   -999.0,9,   -999.0,9,-999.0,  -999.0,-999.0000,-999.000,-999.000,-999.000,-999.000
      74JC10_1,   A23,   127,  1,  12711,     24,2,19950505,0950,-26.6483, -40.6422, 3014,   1033,   1020.8,   3.6480,  34.3834,2,  34.3841,2,    204.6,3,  3.5736,    196.4,2,    38.00,2,    32.36,2,     2.23,2,    0.355,2,    0.207,2,    0.000,2,    1.009,2, -999.000,9,-999.0000,9,  -999.00,9,-999.000,9,   -999.0,9,   -999.0,9,-999.0,  -999.0,-999.0000,-999.000,-999.000,-999.000,-999.000
      74JC10_1,   A23,   127,  1,  12710,     10,2,19950505,0950,-26.6483, -40.6422, 3014,   1288,   1275.2,   3.2084,  34.5377,2,  34.5382,2,    191.6,3,  3.1170,    185.3,2,    47.50,2,    32.19,2,     2.16,2,    0.085,2,    0.061,2,    0.000,2,    0.416,2, -999.000,9,-999.0000,9,  -999.00,9,-999.000,9,   -999.0,9,   -999.0,9,-999.0,  -999.0,-999.0000,-999.000,-999.000,-999.000,-999.000
      74JC10_1,   A23,   127,  1,  12709,      9,2,19950505,0950,-26.6483, -40.6422, 3014,   1543,   1530.5,   3.2963,  34.7158,2,  34.7176,2,    202.0,3,  3.1821,    196.0,2,    43.69,2,    28.86,2,     1.83,2,    0.027,2,    0.020,2,    0.000,2,    0.188,2, -999.000,9,-999.0000,9,  -999.00,9,-999.000,9,   -999.0,9,   -999.0,9,-999.0,  -999.0,-999.0000,-999.000,-999.000,-999.000,-999.000
      74JC10_1,   A23,   127,  1,  12708,      8,2,19950505,0950,-26.6483, -40.6422, 3014,   1798,   1785.8,   3.7991,  34.9139,2,  34.9158,2,    231.3,3,  3.6551,    225.5,2,    25.64,2,    22.85,2,     1.44,2,    0.034,2,    0.042,3,    0.000,2,    0.258,2, -999.000,9,-999.0000,9,  -999.00,9,-999.000,9,   -999.0,9,   -999.0,9,-999.0,  -999.0,-999.0000,-999.000,-999.000,-999.000,-999.000
      74JC10_1,   A23,   127,  1,  12707,     26,2,19950505,0950,-26.6483, -40.6422, 3014,   2054,   2041.4,   3.6681,  34.9567,2,  34.9512,2,    246.5,3,  3.5016,    239.1,2,    21.84,2,    20.84,2,     1.33,2, -999.000,9, -999.000,9, -999.000,9, -999.000,9, -999.000,9,-999.0000,9,  -999.00,9,-999.000,9,   -999.0,9,   -999.0,9,-999.0,  -999.0,-999.0000,-999.000,   3.666,-999.000,-999.000
      74JC10_1,   A23,   127,  1,  12706,      6,2,19950505,0950,-26.6483, -40.6422, 3014,   2307,   2295.9,   3.4153,  34.9545,2,  34.9541,2,    254.6,3,  3.2281,    246.3,3,    23.74,2,    20.18,2,     1.23,2,    0.032,2,    0.031,3,    0.000,2,    0.204,2, -999.000,9,-999.0000,9,  -999.00,9,-999.000,9,   -999.0,9,   -999.0,9,-999.0,  -999.0,-999.0000,-999.000,-999.000,-999.000,-999.000
      74JC10_1,   A23,   127,  1,  12705,      5,2,19950505,0950,-26.6483, -40.6422, 3014,   2562,   2551.2,   3.1376,  34.9426,2,  34.9414,2,    255.5,3,  2.9301,    246.3,2,    27.54,2,    20.51,2,     1.25,2,    0.026,2,    0.028,3,    0.000,2,    0.179,2, -999.000,9,-999.0000,9,  -999.00,9,-999.000,9,   -999.0,9,   -999.0,9,-999.0,  -999.0,-999.0000,-999.000,-999.000,-999.000,-999.000
      74JC10_1,   A23,   127,  1,  12704,      4,2,19950505,0950,-26.6483, -40.6422, 3014,   2873,   2862.8,   2.6034,  34.9134,2,  34.9130,2,    255.8,3,  2.3753,    247.9,2,    35.13,2,    21.01,2,     1.30,2,    0.035,2,    0.037,3,    0.000,2,    0.156,2, -999.000,9,-999.0000,9,  -999.00,9,-999.000,9,   -999.0,9,   -999.0,9,-999.0,  2870.0,-999.0000,-999.000,   2.600,-999.000,-999.000
      74JC10_1,   A23,   127,  1,  12701,      1,2,19950505,0950,-26.6483, -40.6422, 3014,   3068,   3058.2,   2.3218,  34.8884,2,  34.8873,2,    251.0,3,  2.0802,    244.9,2,    46.53,2,    22.51,2,     1.35,2, -999.000,9, -999.000,9, -999.000,9, -999.000,9, -999.000,9,-999.0000,9,  -999.00,9,-999.000,9,   -999.0,9,   -999.0,9,-999.0,  3037.0,-999.0000,-999.000,   2.310,-999.000,-999.000
      74JC10_1,   A23,   127,  1,  12703,      3,2,19950505,0950,-26.6483, -40.6422, 3014,   3068,   3058.3,   2.3220,  34.8874,2,  34.8865,2,    251.0,3,  2.0803,    244.6,2,    44.64,2,    22.35,2,     1.38,2,    0.012,2,    0.017,3,    0.000,2,    0.112,2, -999.000,9,-999.0000,9,  -999.00,9,-999.000,9,   -999.0,9,   -999.0,9,-999.0,  -999.0,-999.0000,-999.000,-999.000,-999.000,-999.000
      74JC10_1,   A23,   127,  1,  12702,      2,2,19950505,0950,-26.6483, -40.6422, 3014,   3068,   3058.8,   2.3217,  34.8875,2,  34.8859,2,    251.0,3,  2.0800,    245.6,2,    45.59,2,    22.35,2,     1.44,2,    0.013,2,    0.016,3,    0.000,2,    0.075,2, -999.000,9,-999.0000,9,  -999.00,9,-999.000,9,   -999.0,9,   -999.0,9,-999.0,  -999.0,-999.0000,-999.000,-999.000,-999.000,-999.000