BOTTLE,20220810CCHSIOAMB
EXPOCODE,SECT_ID,STNNBR,CASTNO,SAMPNO,BTLNBR,BTLNBR_FLAG_W,DATE,TIME,LATITUDE,LONGITUDE,DEPTH,CTDRAW,CTDPRS,CTDTMP,CTDSAL,CTDSAL_FLAG_W,SALNTY,SALNTY_FLAG_W,CTDOXY,CTDOXY_FLAG_W,THETA,OXYGEN,OXYGEN_FLAG_W,SILCAT,SILCAT_FLAG_W,NO2+NO3,NO2+NO3_FLAG_W,PHSPHT,PHSPHT_FLAG_W,CFC-11,CFC-11_FLAG_W,CFC-12,CFC-12_FLAG_W,CFC113,CFC113_FLAG_W,CCL4,CCL4_FLAG_W,TRITUM,TRITUM_FLAG_W,HELIUM,HELIUM_FLAG_W,DELHE3,DELHE3_FLAG_W,NEON,NEON_FLAG_W,TCARBN,TCARBN_FLAG_W,PCO2,PCO2_FLAG_W,PCO2TMP,REVPRS,HELIER,TRITER,REVTMP,NEONER,DELHER
,,,,,,,,,,,,,DBAR,ITS-90,PSS-78,,PSS-78,,UMOL/KG,,DEG C,UMOL/KG,,UMOL/KG,,UMOL/KG,,UMOL/KG,,PMOL/KG,,PMOL/KG,,PMOL/KG,,PMOL/KG,,TU,,NMOL/KG,,PERCNT,,NMOL/KG,,UMOL/KG,,UATM,,DEG C,DBAR,NMOL/KG,TU,ITS-90,NMOL/KG,PERCNT
      74JC10_1,   A23,   124,  1,  12423,     23,2,19950504,1848,-27.2902, -39.4783, 3984,     12,      4.9,  23.5711,  35.8096,2,  35.7977,2,    213.8,3, 23.5701,    208.2,2,     1.54,2,    -0.01,2,     0.08,2, -999.000,9, -999.000,9, -999.000,9, -999.000,9, -999.000,9,-999.0000,9,  -999.00,9,-999.000,9,   -999.0,9,   -999.0,9,-999.0,  -999.0,-999.0000,-999.000,-999.000,-999.000,-999.000
      74JC10_1,   A23,   124,  1,  12422,     25,2,19950504,1848,-27.2902, -39.4783, 3984,     61,     53.9,  20.9354,  35.9541,2,  35.9585,2,    214.6,3, 20.9251,    232.6,2,     1.59,2,    -0.01,2,     0.04,2, -999.000,9, -999.000,9, -999.000,9, -999.000,9, -999.000,9,-999.0000,9,  -999.00,9,-999.000,9,   -999.0,9,   -999.0,9,-999.0,  -999.0,-999.0000,-999.000,-999.000,-999.000,-999.000
      74JC10_1,   A23,   124,  1,  12421,     21,2,19950504,1848,-27.2902, -39.4783, 3984,    113,    105.6,  17.4200,  35.8497,2,  35.8348,2,    217.6,3, 17.4022,    208.0,2,     1.96,2,     1.25,2,     0.21,2, -999.000,9, -999.000,9, -999.000,9, -999.000,9, -999.000,9,-999.0000,9,  -999.00,9,-999.000,9,   -999.0,9,   -999.0,9,-999.0,  -999.0,-999.0000,-999.000,-999.000,-999.000,-999.000
      74JC10_1,   A23,   124,  1,  12420,     27,2,19950504,1848,-27.2902, -39.4783, 3984,    161,    153.8,  16.3213,  35.7154,2,  35.6889,2,    211.0,3, 16.2966,    204.4,2,     2.69,2,     3.51,2,     0.35,2, -999.000,9, -999.000,9, -999.000,9, -999.000,9, -999.000,9,-999.0000,9,  -999.00,9,-999.000,9,   -999.0,9,   -999.0,9,-999.0,  -999.0,-999.0000,-999.000,  16.246,-999.000,-999.000
      74JC10_1,   A23,   124,  1,  12419,     19,2,19950504,1848,-27.2902, -39.4783, 3984,    265,    256.9,  14.3791,  35.4766,2,  35.4691,2,    206.2,3, 14.3411,    204.8,2,     3.16,2,     7.14,2,     0.56,2, -999.000,9, -999.000,9, -999.000,9, -999.000,9, -999.000,9,-999.0000,9,  -999.00,9,-999.000,9,   -999.0,9,   -999.0,9,-999.0,  -999.0,-999.0000,-999.000,-999.000,-999.000,-999.000
      74JC10_1,   A23,   124,  1,  12418,     18,2,19950504,1848,-27.2902, -39.4783, 3984,    367,    358.0,  12.5175,  35.1954,2,  35.1827,2,    211.7,3, 12.4691,    204.8,2,     4.42,2,    11.08,2,     0.81,2, -999.000,9, -999.000,9, -999.000,9, -999.000,9, -999.000,9,-999.0000,9,  -999.00,9,-999.000,9,   -999.0,9,   -999.0,9,-999.0,  -999.0,-999.0000,-999.000,-999.000,-999.000,-999.000
      74JC10_1,   A23,   124,  1,  12417,     17,2,19950504,1848,-27.2902, -39.4783, 3984,    517,    507.8,   8.9880,  34.7040,2,  34.6975,2,    208.0,3,  8.9322,    202.0,2,     9.50,2,    20.22,2,     1.39,2, -999.000,9, -999.000,9, -999.000,9, -999.000,9, -999.000,9,-999.0000,9,  -999.00,9,-999.000,9,   -999.0,9,   -999.0,9,-999.0,  -999.0,-999.0000,-999.000,-999.000,-999.000,-999.000
      74JC10_1,   A23,   124,  1,  12416,     16,2,19950504,1848,-27.2902, -39.4783, 3984,    766,    755.1,   4.7954,  34.3125,2,  34.3103,2,    228.4,3,  4.7352,    224.3,2,    21.61,2,    27.98,2,     1.89,2, -999.000,9, -999.000,9, -999.000,9, -999.000,9, -999.000,9,-999.0000,9,  -999.00,9,-999.000,9,   -999.0,9,   -999.0,9,-999.0,  -999.0,-999.0000,-999.000,-999.000,-999.000,-999.000
      74JC10_1,   A23,   124,  1,  12415,     15,2,19950504,1848,-27.2902, -39.4783, 3984,   1031,   1018.4,   3.4451,  34.3694,2,  34.3717,2,    204.5,3,  3.3725,    197.3,2,    42.09,2,    31.89,2,     2.18,2, -999.000,9, -999.000,9, -999.000,9, -999.000,9, -999.000,9,-999.0000,9,  -999.00,9,-999.000,9,   -999.0,9,   -999.0,9,-999.0,  -999.0,-999.0000,-999.000,-999.000,-999.000,-999.000
      74JC10_1,   A23,   124,  1,  12414,     14,2,19950504,1848,-27.2902, -39.4783, 3984,   1286,   1272.9,   2.9658,  34.5341,2,  34.5360,2,    190.5,3,  2.8769,    184.2,2,    56.01,2,    31.82,2,     2.17,2, -999.000,9, -999.000,9, -999.000,9, -999.000,9, -999.000,9,-999.0000,9,  -999.00,9,-999.000,9,   -999.0,9,   -999.0,9,-999.0,  -999.0,-999.0000,-999.000,-999.000,-999.000,-999.000
      74JC10_1,   A23,   124,  1,  12413,     13,2,19950504,1848,-27.2902, -39.4783, 3984,   1533,   1519.3,   3.5404,  34.8086,2,  34.8053,2,    211.0,3,  3.4241,    203.6,2,    38.30,2,    26.21,2,     1.78,2,    0.010,2,    0.015,3,    0.000,2,    0.176,2, -999.000,9,-999.0000,9,  -999.00,9,-999.000,9,   -999.0,9,   -999.0,9,-999.0,  -999.0,-999.0000,-999.000,-999.000,-999.000,-999.000
      74JC10_1,   A23,   124,  1,  12412,     12,2,19950504,1848,-27.2902, -39.4783, 3984,   1799,   1785.9,   3.6073,  34.9230,2,  34.9233,2,    236.5,3,  3.4659,    230.1,2,    27.14,2,    21.90,2,     1.42,2,    0.018,3,    0.014,3,    0.000,2,    0.239,2, -999.000,9,-999.0000,9,  -999.00,9,-999.000,9,   -999.0,9,   -999.0,9,-999.0,  -999.0,-999.0000,-999.000,-999.000,-999.000,-999.000
      74JC10_1,   A23,   124,  1,  12411,     24,2,19950504,1848,-27.2902, -39.4783, 3984,   2054,   2040.7,   3.4105,  34.9392,2,  34.9402,2,    245.6,3,  3.2480,    239.0,2,    26.36,2,    20.83,2,     1.37,2, -999.000,9, -999.000,9, -999.000,9, -999.000,9, -999.000,9,-999.0000,9,  -999.00,9,-999.000,9,   -999.0,9,   -999.0,9,-999.0,  -999.0,-999.0000,-999.000,-999.000,-999.000,-999.000
      74JC10_1,   A23,   124,  1,  12410,     10,2,19950504,1848,-27.2902, -39.4783, 3984,   2312,   2299.8,   3.1756,  34.9261,2,  34.9282,2,    247.8,3,  2.9922,    240.0,2,    29.92,2,    21.05,2,     1.40,2, -999.000,9, -999.000,9, -999.000,9, -999.000,9, -999.000,9,-999.0000,9,  -999.00,9,-999.000,9,   -999.0,9,   -999.0,9,-999.0,  -999.0,-999.0000,-999.000,-999.000,-999.000,-999.000
      74JC10_1,   A23,   124,  1,  12409,      9,2,19950504,1848,-27.2902, -39.4783, 3984,   2570,   2557.5,   3.0486,  34.9360,2,  34.9355,2,    251.9,3,  2.8421,    244.1,2,    30.23,2,    20.46,2,     1.35,2,    0.006,2,   -0.004,2,    0.000,2,    0.142,2, -999.000,9,-999.0000,9,  -999.00,9,-999.000,9,   -999.0,9,   -999.0,9,-999.0,  -999.0,-999.0000,-999.000,-999.000,-999.000,-999.000
      74JC10_1,   A23,   124,  1,  12408,      8,2,19950504,1848,-27.2902, -39.4783, 3984,   2826,   2814.9,   2.9039,  34.9296,2,  34.9284,2,    251.6,3,  2.6744,    244.6,2,    32.64,2,    20.66,2,     1.42,2,    0.000,2,    0.017,3,    0.000,2,    0.139,2, -999.000,9,-999.0000,9,  -999.00,9,-999.000,9,   -999.0,9,   -999.0,9,-999.0,  -999.0,-999.0000,-999.000,-999.000,-999.000,-999.000
      74JC10_1,   A23,   124,  1,  12407,     26,2,19950504,1848,-27.2902, -39.4783, 3984,   3082,   3071.1,   2.7851,  34.9209,2,  34.9207,2,    252.3,3,  2.5318,    244.7,2,    35.10,2,    20.71,2,     1.37,2, -999.000,9, -999.000,9, -999.000,9, -999.000,9, -999.000,9,-999.0000,9,  -999.00,9,-999.000,9,   -999.0,9,   -999.0,9,-999.0,  -999.0,-999.0000,-999.000,   2.777,-999.000,-999.000
      74JC10_1,   A23,   124,  1,  12406,      6,2,19950504,1848,-27.2902, -39.4783, 3984,   3340,   3330.2,   2.5920,  34.9092,2,  34.9083,2,    252.7,3,  2.3157,    245.2,2,    39.35,2,    21.19,2,     1.42,2, -999.000,9, -999.000,9, -999.000,9, -999.000,9, -999.000,9,-999.0000,9,  -999.00,9,-999.000,9,   -999.0,9,   -999.0,9,-999.0,  -999.0,-999.0000,-999.000,-999.000,-999.000,-999.000
      74JC10_1,   A23,   124,  1,  12405,      5,2,19950504,1848,-27.2902, -39.4783, 3984,   3597,   3588.1,   1.9083,  34.8398,2,  34.8412,2,    245.1,3,  1.6218,    236.1,2,    65.27,2,    24.48,2,     1.65,2,   -0.002,2,    0.003,2,    0.000,2,    0.089,2, -999.000,9,-999.0000,9,  -999.00,9,-999.000,9,   -999.0,9,   -999.0,9,-999.0,  -999.0,-999.0000,-999.000,-999.000,-999.000,-999.000
      74JC10_1,   A23,   124,  1,  12404,      4,2,19950504,1848,-27.2902, -39.4783, 3984,   3855,   3846.4,   0.8978,  34.7346,2,  34.7341,2,    226.7,3,  0.6117,    218.8,2,   106.95,2,    29.83,2,     2.04,2,    0.035,2,    0.034,3,    0.000,2,    0.187,2, -999.000,9,-999.0000,9,  -999.00,9,-999.000,9,   -999.0,9,   -999.0,9,-999.0,  3856.0,-999.0000,-999.000,   0.882,-999.000,-999.000
      74JC10_1,   A23,   124,  1,  12403,      3,2,19950504,1848,-27.2902, -39.4783, 3984,   4055,   4046.1,   0.6607,  34.7104,2,  34.7099,2,    220.6,3,  0.3607,    215.2,2,   115.81,2,    30.94,2,     2.12,2,    0.056,2,    0.035,2,    0.000,2,    0.234,2, -999.000,9,-999.0000,9,  -999.00,9,-999.000,9,   -999.0,9,   -999.0,9,-999.0,  -999.0,-999.0000,-999.000,-999.000,-999.000,-999.000
      74JC10_1,   A23,   124,  1,  12402,      2,2,19950504,1848,-27.2902, -39.4783, 3984,   4056,   4046.9,   0.6641,  34.7106,2,  34.7095,2,    220.6,3,  0.3639,    216.0,2,   114.50,2,    30.91,2,     2.10,2,    0.057,2,    0.037,2,    0.000,2,    0.226,2, -999.000,9,-999.0000,9,  -999.00,9,-999.000,9,   -999.0,9,   -999.0,9,-999.0,  -999.0,-999.0000,-999.000,-999.000,-999.000,-999.000
      74JC10_1,   A23,   124,  1,  12401,      1,2,19950504,1848,-27.2902, -39.4783, 3984,   4056,   4047.0,   0.6619,  34.7100,2,  34.7101,2,    220.6,3,  0.3617,    216.7,2,   115.29,2,    30.83,2,     2.09,2, -999.000,9, -999.000,9, -999.000,9, -999.000,9, -999.000,9,-999.0000,9,  -999.00,9,-999.000,9,   -999.0,9,   -999.0,9,-999.0,  4031.0,-999.0000,-999.000,   0.648,-999.000,-999.000
      74JC10_1,   A23,   125,  1,  12524,     11,2,19950505,0013,-27.0247, -39.9597, 3907,     15,      8.6,  23.5967,  35.9533,2,  35.9532,2,    217.3,3, 23.5950,    209.1,2,     2.85,2,     0.00,2,     0.00,2,    2.197,2,    1.211,2,    0.204,2,    2.190,2,    0.939,2,   1.7130,2,    -0.82,2,   7.889,2,   -999.0,9,   -999.0,9,-999.0,  -999.0,  0.0070,   0.003,-999.000,   0.024,   0.300
      74JC10_1,   A23,   125,  1,  12523,     23,2,19950505,0013,-27.0247, -39.9597, 3907,     64,     56.6,  20.6221,  36.0606,2,  36.0805,2,    233.2,3, 20.6114,    229.4,2,     2.85,2,     0.00,2,     0.05,2,    2.534,2,    1.305,2,    0.280,2,    1.667,2, -999.000,9,-999.0000,9,  -999.00,9,-999.000,9,   -999.0,9,   -999.0,9,-999.0,  -999.0,-999.0000,-999.000,-999.000,-999.000,-999.000
      74JC10_1,   A23,   125,  1,  12522,     25,2,19950505,0013,-27.0247, -39.9597, 3907,    115,    107.3,  18.4955,  36.0462,2,  36.0353,2,    212.0,3, 18.4767,    206.7,2,     3.79,2,     0.50,2,     0.15,2,    2.703,2,    1.366,2,    0.170,2,    0.958,2,    0.785,2,-999.0000,9,  -999.00,9,-999.000,9,   -999.0,9,   -999.0,9,-999.0,  -999.0,-999.0000,-999.000,-999.000,-999.000,-999.000
      74JC10_1,   A23,   125,  1,  12521,     21,2,19950505,0013,-27.0247, -39.9597, 3907,    165,    157.4,  16.8415,  35.7954,2,  35.7922,2,    200.2,3, 16.8156,    201.1,2,     3.79,2,     3.00,2,     0.37,2,    2.771,2,    1.277,2,    0.096,2,    0.680,2, -999.000,9,-999.0000,9,  -999.00,9,-999.000,9,   -999.0,9,   -999.0,9,-999.0,  -999.0,-999.0000,-999.000,-999.000,-999.000,-999.000
      74JC10_1,   A23,   125,  1,  12520,     27,2,19950505,0013,-27.0247, -39.9597, 3907,    216,    208.4,  15.7635,  35.6579,2,  35.6674,2,    209.9,3, 15.7307,    200.5,2,     3.79,2,     4.50,2,     0.37,2,    2.741,2,    1.277,2,    0.066,2,    0.623,2,    0.730,2,   1.7190,2,    -0.04,2,-999.000,9,   -999.0,9,   -999.0,9,-999.0,  -999.0,  0.0070,-999.000,  15.899,-999.000,   0.300
      74JC10_1,   A23,   125,  1,  12519,     19,2,19950505,0013,-27.0247, -39.9597, 3907,    267,    259.0,  14.7624,  35.5212,2,  35.5105,2,    211.3,3, 14.7234,    203.7,2,     4.75,2,     6.16,2,     0.47,2,    2.722,2,    1.277,2,    0.061,2,    0.619,2, -999.000,9,   1.7250,2,    -0.33,2,   7.142,2,   -999.0,9,   -999.0,9,-999.0,  -999.0,  0.0070,-999.000,-999.000,   0.022,   0.300
      74JC10_1,   A23,   125,  1,  12518,     18,2,19950505,0013,-27.0247, -39.9597, 3907,    368,    359.3,  12.8544,  35.2252,2,  35.2296,2,    212.6,3, 12.8049,    204.0,2,     5.70,2,    10.34,2,     0.71,2,    2.634,2,    1.214,2,    0.054,2,    0.741,2, -999.000,1,   1.7480,3,     0.46,3,   7.263,3,   -999.0,9,   -999.0,9,-999.0,  -999.0,  0.0070,-999.000,-999.000,   0.023,   0.300
      74JC10_1,   A23,   125,  1,  12517,     17,2,19950505,0013,-27.0247, -39.9597, 3907,    522,    512.4,   9.4330,  34.7515,2,  34.7433,2,    203.2,3,  9.3749,    198.6,2,     9.50,2,    19.69,2,     1.28,2, -999.000,9, -999.000,9, -999.000,9, -999.000,9,    0.343,2,   1.7600,2,     1.65,2,   7.480,2,   -999.0,9,   -999.0,9,-999.0,  -999.0,  0.0070,   0.012,-999.000,   0.023,   0.300
      74JC10_1,   A23,   125,  1,  12516,     16,2,19950505,0013,-27.0247, -39.9597, 3907,    777,    766.4,   5.0568,  34.3355,2,  34.3362,2,    222.2,3,  4.9942,    218.0,2,  -999.00,5,    28.69,2,     1.86,2,    1.679,2,    0.663,3,    0.044,2,    2.214,2, -999.000,9,   1.7770,2,     1.35,2,   7.732,2,   -999.0,9,   -999.0,9,-999.0,  -999.0,  0.0070,-999.000,-999.000,   0.024,   0.300
      74JC10_1,   A23,   125,  1,  12515,     15,2,19950505,0013,-27.0247, -39.9597, 3907,   1034,   1021.4,   3.3897,  34.3636,2,  34.3645,2,    206.1,3,  3.3173,    200.1,2,    40.85,2,    32.20,2,     2.13,2,    0.484,2,    0.207,2,    0.006,2,    1.222,2,    0.065,2,   1.8000,2,     3.52,2,   7.855,2,   -999.0,9,   -999.0,9,-999.0,  -999.0,  0.0070,   0.007,-999.000,   0.024,   0.300
      74JC10_1,   A23,   125,  1,  12514,     14,2,19950505,0013,-27.0247, -39.9597, 3907,   1290,   1277.0,   2.9943,  34.5427,2,  34.5453,2,    190.8,3,  2.9049,    185.4,2,    52.24,2,    32.19,2,     2.13,2,    0.079,2,    0.041,2,    0.006,2,    0.324,2,    0.017,2,-999.0000,5,     5.84,2,-999.000,5,   -999.0,9,   -999.0,9,-999.0,  -999.0,-999.0000,   0.002,-999.000,-999.000,   0.300
      74JC10_1,   A23,   125,  1,  12513,     13,2,19950505,0013,-27.0247, -39.9597, 3907,   1545,   1532.1,   3.4664,  34.7811,3,  34.7710,3,    211.0,3,  3.3500,    201.2,2,    40.84,2,    27.52,2,     1.72,2,    0.008,2,    0.006,2,    0.000,2,    0.172,2,    0.030,2,   1.8030,2,     4.51,2,   7.875,2,   -999.0,9,   -999.0,9,-999.0,  -999.0,  0.0070,   0.008,-999.000,   0.024,   0.300
      74JC10_1,   A23,   125,  1,  12512,     12,2,19950505,0013,-27.0247, -39.9597, 3907,   1800,   1787.3,   3.6159,  34.9146,2,  34.9152,2,    233.3,3,  3.4742,    229.5,2,    28.49,2,    22.51,2,     1.42,2,    0.017,3,    0.012,3,    0.000,2,    0.238,2,    0.058,2,-999.0000,9,  -999.00,9,-999.000,9,   -999.0,9,   -999.0,9,-999.0,  -999.0,-999.0000,   0.003,-999.000,-999.000,-999.000
      74JC10_1,   A23,   125,  1,  12511,     24,2,19950505,0013,-27.0247, -39.9597, 3907,   2058,   2044.8,   3.4391,  34.9420,2,  34.9420,2,    247.0,3,  3.2758,    241.3,2,    25.64,2,    20.84,2,     1.30,2,    0.010,2,    0.011,2,    0.000,2,    0.172,2,    0.053,2,   1.8060,2,     2.90,2,   6.793,2,   -999.0,9,   -999.0,9,-999.0,  -999.0,  0.0070,   0.026,-999.000,   0.021,   0.300
      74JC10_1,   A23,   125,  1,  12510,     10,2,19950505,0013,-27.0247, -39.9597, 3907,   2312,   2299.8,   3.2642,  34.9437,2,  34.9439,2,    252.2,3,  3.0792,    244.8,2,    25.64,2,    20.51,2,     1.23,2,    0.011,2,    0.011,2,    0.006,2,    0.190,2,    0.038,2,   1.8070,2,     2.99,2,   7.913,2,   -999.0,9,   -999.0,9,-999.0,  -999.0,  0.0070,   0.006,-999.000,   0.025,   0.300
      74JC10_1,   A23,   125,  1,  12509,      9,2,19950505,0013,-27.0247, -39.9597, 3907,   2568,   2555.7,   3.0913,  34.9398,2,  34.9390,2,    252.9,3,  2.8842,    247.3,2,    28.49,2,    20.51,2,     1.25,2,    0.005,2,    0.007,2,    0.000,2,    0.167,2, -999.000,1,   1.8050,2,     3.00,2,   7.902,2,   -999.0,9,   -999.0,9,-999.0,  -999.0,  0.0070,-999.000,-999.000,   0.024,   0.300
      74JC10_1,   A23,   125,  1,  12508,      8,2,19950505,0013,-27.0247, -39.9597, 3907,   2822,   2810.4,   2.9260,  34.9297,2,  34.9299,2,    253.8,3,  2.6966,    246.5,2,    31.34,2,    20.84,2,     1.28,2,   -0.004,2,    0.012,3,    0.000,2,    0.116,2,    0.030,2,-999.0000,9,  -999.00,9,-999.000,9,   -999.0,9,   -999.0,9,-999.0,  -999.0,-999.0000,   0.003,-999.000,-999.000,-999.000
      74JC10_1,   A23,   125,  1,  12507,     26,2,19950505,0013,-27.0247, -39.9597, 3907,   3077,   3066.6,   2.7640,  34.9203,2,  34.9211,2,    254.5,3,  2.5115,    247.1,2,    34.19,2,    20.85,2,     1.28,2,   -0.005,2,    0.003,2,    0.000,2,    0.095,2,    0.026,2,   1.7950,2,     2.75,2,-999.000,9,   -999.0,9,   -999.0,9,-999.0,  -999.0,  0.0070,-999.000,   2.757,-999.000,   0.300
      74JC10_1,   A23,   125,  1,  12506,      6,2,19950505,0013,-27.0247, -39.9597, 3907,   3338,   3328.5,   2.4918,  34.9006,2,  34.8989,2,    254.3,3,  2.2181,    246.4,2,    41.79,2,    21.68,2,     1.38,2, -999.000,9, -999.000,9, -999.000,9, -999.000,9, -999.000,9,   1.8220,2,     3.35,2,   8.009,2,   -999.0,9,   -999.0,9,-999.0,  -999.0,  0.0070,-999.000,-999.000,   0.025,   0.300
      74JC10_1,   A23,   125,  1,  12505,      5,2,19950505,0013,-27.0247, -39.9597, 3907,   3598,   3588.8,   1.5925,  34.8090,2,  34.8117,2,    241.2,3,  1.3142,    232.6,2,    72.18,2,    26.19,2,     1.64,2,   -0.001,2, -999.000,9,    0.000,2,    0.073,2, -999.000,9,   1.9110,2,     4.21,2,   8.185,2,   -999.0,9,   -999.0,9,-999.0,  -999.0,  0.0070,-999.000,-999.000,   0.025,   0.300
      74JC10_1,   A23,   125,  1,  12504,      4,2,19950505,0013,-27.0247, -39.9597, 3907,   3804,   3794.8,   0.9754,  34.7439,2,  34.7431,2,    228.9,3,  0.6924,    221.6,2,    98.77,2,    30.02,2,     1.98,2,    0.028,2,    0.020,2,    0.000,2,    0.130,2, -999.000,9,-999.0000,9,  -999.00,9,-999.000,9,   -999.0,9,   -999.0,9,-999.0,  3804.0,-999.0000,-999.000,   0.970,-999.000,-999.000
      74JC10_1,   A23,   125,  1,  12503,      3,2,19950505,0013,-27.0247, -39.9597, 3907,   3988,   3978.9,   0.6772,  34.7128,2,  34.7111,2,    221.7,3,  0.3836,    217.6,2,   110.18,2,    31.36,2,     2.06,2,    0.055,2,    0.029,2,    0.000,2,    0.218,2,    0.010,2,   1.8660,2,     6.87,2,   8.155,2,   -999.0,9,   -999.0,9,-999.0,  -999.0,  0.0070,   0.002,-999.000,   0.025,   0.300
      74JC10_1,   A23,   125,  1,  12502,      2,2,19950505,0013,-27.0247, -39.9597, 3907,   3988,   3979.0,   0.6774,  34.7123,2,  34.7119,2,    221.7,3,  0.3839,    217.6,2,   110.18,2,    31.36,2,     2.01,2,    0.050,2,    0.021,2,    0.000,2,    0.209,2, -999.000,9,-999.0000,9,  -999.00,9,-999.000,9,   -999.0,9,   -999.0,9,-999.0,  -999.0,-999.0000,-999.000,-999.000,-999.000,-999.000
      74JC10_1,   A23,   125,  1,  12501,      1,2,19950505,0013,-27.0247, -39.9597, 3907,   3989,   3980.1,   0.6775,  34.7126,2,  34.7127,2,    221.4,3,  0.3839,    218.3,2,   112.08,2,    31.36,2,     2.01,2, -999.000,9, -999.000,9, -999.000,9, -999.000,9, -999.000,9,-999.0000,9,  -999.00,9,-999.000,9,   -999.0,9,   -999.0,9,-999.0,  3964.0,-999.0000,-999.000,   0.663,-999.000,-999.000