BOTTLE,20220810CCHSIOAMB
EXPOCODE,SECT_ID,STNNBR,CASTNO,SAMPNO,BTLNBR,BTLNBR_FLAG_W,DATE,TIME,LATITUDE,LONGITUDE,DEPTH,CTDRAW,CTDPRS,CTDTMP,CTDSAL,CTDSAL_FLAG_W,SALNTY,SALNTY_FLAG_W,CTDOXY,CTDOXY_FLAG_W,THETA,OXYGEN,OXYGEN_FLAG_W,SILCAT,SILCAT_FLAG_W,NO2+NO3,NO2+NO3_FLAG_W,PHSPHT,PHSPHT_FLAG_W,CFC-11,CFC-11_FLAG_W,CFC-12,CFC-12_FLAG_W,CFC113,CFC113_FLAG_W,CCL4,CCL4_FLAG_W,TRITUM,TRITUM_FLAG_W,HELIUM,HELIUM_FLAG_W,DELHE3,DELHE3_FLAG_W,NEON,NEON_FLAG_W,TCARBN,TCARBN_FLAG_W,PCO2,PCO2_FLAG_W,PCO2TMP,REVPRS,HELIER,TRITER,REVTMP,NEONER,DELHER
,,,,,,,,,,,,,DBAR,ITS-90,PSS-78,,PSS-78,,UMOL/KG,,DEG C,UMOL/KG,,UMOL/KG,,UMOL/KG,,UMOL/KG,,PMOL/KG,,PMOL/KG,,PMOL/KG,,PMOL/KG,,TU,,NMOL/KG,,PERCNT,,NMOL/KG,,UMOL/KG,,UATM,,DEG C,DBAR,NMOL/KG,TU,ITS-90,NMOL/KG,PERCNT
      74JC10_1,   A23,    30,  1,   3019,     19,2,19950407,0341,-61.6612, -31.1110, 3393,     12,     10.5,  -1.1811,  33.5887,2,  33.5878,2,    346.5,3, -1.1813,    342.6,2,    65.59,2,    25.57,2,     1.70,2, -999.000,9, -999.000,9, -999.000,9, -999.000,9, -999.000,9,-999.0000,9,  -999.00,9,-999.000,9,   -999.0,9,   -999.0,9,-999.0,  -999.0,-999.0000,-999.000,-999.000,-999.000,-999.000
      74JC10_1,   A23,    30,  1,   3020,     26,2,19950407,0341,-61.6612, -31.1110, 3393,     13,     10.6,  -1.1800,  33.5887,2,  33.5878,2,    346.5,3, -1.1802,    344.3,2,    68.16,2,    25.60,2,     1.69,2, -999.000,9, -999.000,9, -999.000,9, -999.000,9, -999.000,9,-999.0000,9,  -999.00,9,-999.000,9,   -999.0,9,   -999.0,9,-999.0,  -999.0,-999.0000,-999.000,  -1.191,-999.000,-999.000
      74JC10_1,   A23,    30,  1,   3018,     18,2,19950407,0341,-61.6612, -31.1110, 3393,     58,     55.7,  -1.5315,  34.2327,2,  34.2601,2,    306.3,3, -1.5327,    299.1,2,    73.00,2,    27.72,2,     1.88,2, -999.000,9, -999.000,9, -999.000,9, -999.000,9, -999.000,9,-999.0000,9,  -999.00,9,-999.000,9,   -999.0,9,   -999.0,9,-999.0,  -999.0,-999.0000,-999.000,-999.000,-999.000,-999.000
      74JC10_1,   A23,    30,  1,   3017,     17,2,19950407,0341,-61.6612, -31.1110, 3393,    107,    104.0,  -1.0234,  34.4521,2,  34.4528,2,    263.3,3, -1.0262,    255.5,2,    83.58,2,    30.27,2,     2.07,2, -999.000,9, -999.000,9, -999.000,9, -999.000,9, -999.000,9,-999.0000,9,  -999.00,9,-999.000,9,   -999.0,9,   -999.0,9,-999.0,  -999.0,-999.0000,-999.000,-999.000,-999.000,-999.000
      74JC10_1,   A23,    30,  1,   3016,     16,2,19950407,0341,-61.6612, -31.1110, 3393,    159,    155.1,  -0.0559,  34.5941,2,  34.5971,2,    219.6,3, -0.0615,    214.4,2,    95.94,2,    31.75,2,     2.18,2, -999.000,9, -999.000,9, -999.000,9, -999.000,9, -999.000,9,-999.0000,9,  -999.00,9,-999.000,9,   -999.0,9,   -999.0,9,-999.0,  -999.0,-999.0000,-999.000,-999.000,-999.000,-999.000
      74JC10_1,   A23,    30,  1,   3015,     15,2,19950407,0341,-61.6612, -31.1110, 3393,    209,    204.2,   0.4357,  34.6663,2,  34.6675,2,    200.3,3,  0.4274,    194.5,2,   104.05,2,    32.29,2,     2.22,2, -999.000,9, -999.000,9, -999.000,9, -999.000,9, -999.000,9,-999.0000,9,  -999.00,9,-999.000,9,   -999.0,9,   -999.0,9,-999.0,  -999.0,-999.0000,-999.000,-999.000,-999.000,-999.000
      74JC10_1,   A23,    30,  1,   3014,     14,2,19950407,0341,-61.6612, -31.1110, 3393,    260,    254.1,   0.5470,  34.6808,2,  34.6808,2,    197.8,3,  0.5363,    191.5,2,   107.07,2,    32.42,2,     2.23,2, -999.000,9, -999.000,9, -999.000,9, -999.000,9, -999.000,9,-999.0000,9,  -999.00,9,-999.000,9,   -999.0,9,   -999.0,9,-999.0,  -999.0,-999.0000,-999.000,-999.000,-999.000,-999.000
      74JC10_1,   A23,    30,  1,   3013,     13,2,19950407,0341,-61.6612, -31.1110, 3393,    359,    352.2,   0.5679,  34.6889,2,  34.6877,2,    203.3,3,  0.5527,    191.6,2,   110.78,2,    32.53,2,     2.24,2, -999.000,9, -999.000,9, -999.000,9, -999.000,9, -999.000,9,-999.0000,9,  -999.00,9,-999.000,9,   -999.0,9,   -999.0,9,-999.0,  -999.0,-999.0000,-999.000,-999.000,-999.000,-999.000
      74JC10_1,   A23,    30,  1,   3012,     12,2,19950407,0341,-61.6612, -31.1110, 3393,    508,    500.5,   0.4815,  34.6884,2,  34.6881,2,    201.0,3,  0.4596,    193.2,2,   115.37,2,    32.62,2,     2.24,2, -999.000,9, -999.000,9, -999.000,9, -999.000,9, -999.000,9,-999.0000,9,  -999.00,9,-999.000,9,   -999.0,9,   -999.0,9,-999.0,  -999.0,-999.0000,-999.000,-999.000,-999.000,-999.000
      74JC10_1,   A23,    30,  1,   3011,     11,2,19950407,0341,-61.6612, -31.1110, 3393,    755,    745.7,   0.3411,  34.6834,2,  34.6828,2,    203.7,3,  0.3077,    199.8,2,   119.67,2,    32.53,2,     2.24,2, -999.000,9, -999.000,9, -999.000,9, -999.000,9, -999.000,9,-999.0000,9,  -999.00,9,-999.000,9,   -999.0,9,   -999.0,9,-999.0,  -999.0,-999.0000,-999.000,-999.000,-999.000,-999.000
      74JC10_1,   A23,    30,  1,   3010,     10,2,19950407,0341,-61.6612, -31.1110, 3393,   1008,    996.7,   0.2162,  34.6789,2,  34.6787,2,    207.6,3,  0.1704,    201.9,2,   121.72,2,    32.60,2,     2.24,2, -999.000,9, -999.000,9, -999.000,9, -999.000,9, -999.000,9,-999.0000,9,  -999.00,9,-999.000,9,   -999.0,9,   -999.0,9,-999.0,  -999.0,-999.0000,-999.000,-999.000,-999.000,-999.000
      74JC10_1,   A23,    30,  1,   3009,      9,2,19950407,0341,-61.6612, -31.1110, 3393,   1260,   1248.6,   0.1083,  34.6752,2,  34.6753,2,    213.2,3,  0.0493,    208.0,2,   121.52,2,    32.22,2,     2.22,2, -999.000,9, -999.000,9, -999.000,9, -999.000,9, -999.000,9,-999.0000,9,  -999.00,9,-999.000,9,   -999.0,9,   -999.0,9,-999.0,  -999.0,-999.0000,-999.000,-999.000,-999.000,-999.000
      74JC10_1,   A23,    30,  1,   3008,      8,2,19950407,0341,-61.6612, -31.1110, 3393,   1511,   1498.8,   0.0068,  34.6710,2,  34.6706,2,    219.3,3, -0.0661,    214.8,2,   123.38,2,    32.12,2,     2.19,2, -999.000,9, -999.000,9, -999.000,9, -999.000,9, -999.000,9,-999.0000,9,  -999.00,9,-999.000,9,   -999.0,9,   -999.0,9,-999.0,  -999.0,-999.0000,-999.000,-999.000,-999.000,-999.000
      74JC10_1,   A23,    30,  1,   3007,      7,2,19950407,0341,-61.6612, -31.1110, 3393,   1758,   1746.1,  -0.0792,  34.6671,2,  34.6673,2,    225.1,3, -0.1666,    218.0,2,   121.42,2,    31.89,2,     2.19,2, -999.000,9, -999.000,9, -999.000,9, -999.000,9, -999.000,9,-999.0000,9,  -999.00,9,-999.000,9,   -999.0,9,   -999.0,9,-999.0,  -999.0,-999.0000,-999.000,  -0.080,-999.000,-999.000
      74JC10_1,   A23,    30,  1,   3006,      6,2,19950407,0341,-61.6612, -31.1110, 3393,   2003,   1991.8,  -0.1710,  34.6642,2,  34.6637,2,    230.1,3, -0.2734,    222.4,2,   122.11,2,    31.84,2,     2.17,2, -999.000,9, -999.000,9, -999.000,9, -999.000,9, -999.000,9,-999.0000,9,  -999.00,9,-999.000,9,   -999.0,9,   -999.0,9,-999.0,  -999.0,-999.0000,-999.000,-999.000,-999.000,-999.000
      74JC10_1,   A23,    30,  1,   3005,      5,2,19950407,0341,-61.6612, -31.1110, 3393,   2508,   2497.6,  -0.2899,  34.6582,2,  34.6588,2,    239.9,3, -0.4267,    231.6,2,   119.86,2,    31.68,2,     2.17,2,    0.292,2,    0.156,2,    0.009,2,    0.596,2, -999.000,9,-999.0000,9,  -999.00,9,-999.000,9,   -999.0,9,   -999.0,9,-999.0,  -999.0,-999.0000,-999.000,-999.000,-999.000,-999.000
      74JC10_1,   A23,    30,  1,   3004,      4,2,19950407,0341,-61.6612, -31.1110, 3393,   3010,   3000.9,  -0.3993,  34.6521,2,  34.6517,2,    249.3,3, -0.5736,    238.6,2,   115.47,2,    31.43,2,     2.14,2,    0.665,2,    0.325,2,    0.019,2,    0.879,2, -999.000,9,-999.0000,9,  -999.00,9,-999.000,9,   -999.0,9,   -999.0,9,-999.0,  3009.0,-999.0000,-999.000,  -0.406,-999.000,-999.000
      74JC10_1,   A23,    30,  1,   3003,      3,2,19950407,0341,-61.6612, -31.1110, 3393,   3208,   3199.5,  -0.4510,  34.6488,2,  34.6484,2,    253.5,3, -0.6408,    241.7,2,   112.15,2,    31.19,2,     2.13,2,    0.897,2,    0.430,2,    0.049,2,    1.018,2, -999.000,9,-999.0000,9,  -999.00,9,-999.000,9,   -999.0,9,   -999.0,9,-999.0,  -999.0,-999.0000,-999.000,-999.000,-999.000,-999.000
      74JC10_1,   A23,    30,  1,   3001,      1,2,19950407,0341,-61.6612, -31.1110, 3393,   3400,   3391.9,  -0.4715,  34.6472,2,  34.6470,2,    254.7,3, -0.6775,    246.7,3,   112.74,2,    31.82,2,     2.16,2,    1.066,2,    0.514,2,    0.031,2,    1.146,2, -999.000,9,-999.0000,9,  -999.00,9,-999.000,9,   -999.0,9,   -999.0,9,-999.0,  3373.0,-999.0000,-999.000,  -0.476,-999.000,-999.000
      74JC10_1,   A23,    30,  1,   3002,      2,2,19950407,0341,-61.6612, -31.1110, 3393,   3401,   3392.8,  -0.4714,  34.6474,2,  34.6464,2,    253.3,3, -0.6775,    244.1,2,   109.91,2,    31.81,2,     2.18,2, -999.000,9, -999.000,9, -999.000,9, -999.000,9, -999.000,9,-999.0000,9,  -999.00,9,-999.000,9,   -999.0,9,   -999.0,9,-999.0,  -999.0,-999.0000,-999.000,-999.000,-999.000,-999.000
      74JC10_1,   A23,    31,  1,   3120,     26,2,19950407,0846,-61.5510, -31.1038, 4112,     13,     11.4,  -1.1215,  33.5929,2,  33.5954,2,    354.2,3, -1.1218,    343.0,2,    67.16,2,    26.16,2,     1.70,2,    7.084,2,    3.288,2,    0.647,2,    8.270,2, -999.000,9,-999.0000,9,  -999.00,9,-999.000,9,   -999.0,9,   -999.0,9,-999.0,  -999.0,-999.0000,-999.000,  -1.134,-999.000,-999.000
      74JC10_1,   A23,    31,  1,   3119,     19,2,19950407,0846,-61.5510, -31.1038, 4112,     59,     56.1,  -1.4575,  34.1567,3,  33.9959,3,    323.2,3, -1.4587,    316.1,2,    71.91,2,    27.42,2,     1.82,2,    5.634,2,    2.666,2,    0.518,2,    6.391,2,    0.120,2,-999.0000,9,  -999.00,9,-999.000,9,   -999.0,9,   -999.0,9,-999.0,  -999.0,-999.0000,   0.006,-999.000,-999.000,-999.000
      74JC10_1,   A23,    31,  1,   3118,     18,2,19950407,0846,-61.5510, -31.1038, 4112,    110,    106.5,  -1.1342,  34.4318,2,  34.4288,2,    272.6,3, -1.1369,    263.0,2,    84.21,2,    30.50,2,     2.05,2, -999.000,9, -999.000,9, -999.000,9, -999.000,9, -999.000,9,   1.8280,2,     4.11,2,   8.146,2,   -999.0,9,   -999.0,9,-999.0,  -999.0,  0.0070,-999.000,-999.000,   0.025,   0.300
      74JC10_1,   A23,    31,  1,   3117,     17,2,19950407,0846,-61.5510, -31.1038, 4112,    160,    155.5,  -0.1645,  34.5851,2,  34.5832,2,    228.2,3, -0.1699,    219.4,3,    95.11,2,    32.10,2,     2.17,2,    2.063,2,    0.939,2,    0.154,2,    2.204,2, -999.000,9,-999.0000,9,  -999.00,9,-999.000,9,   -999.0,9,   -999.0,9,-999.0,  -999.0,-999.0000,-999.000,-999.000,-999.000,-999.000
      74JC10_1,   A23,    31,  1,   3116,     16,2,19950407,0846,-61.5510, -31.1038, 4112,    210,    204.8,   0.3797,  34.6551,2,  34.6574,2,    204.5,3,  0.3715,    203.3,2,   102.59,2,    32.75,2,     2.23,2,    1.008,2,    0.488,2,    0.045,2,    1.216,2,    0.032,2,-999.0000,9,  -999.00,9,-999.000,9,   -999.0,9,   -999.0,9,-999.0,  -999.0,-999.0000,   0.009,-999.000,-999.000,-999.000
      74JC10_1,   A23,    31,  1,   3115,     15,2,19950407,0846,-61.5510, -31.1038, 4112,    260,    254.8,   0.5883,  34.6799,2,  34.6806,2,    199.7,3,  0.5775,    188.1,2,   107.07,2,    32.87,2,     2.23,2,    0.528,2,    0.269,2, -999.000,9,    0.760,2, -999.000,9,-999.0000,5,     8.76,2,-999.000,5,   -999.0,9,   -999.0,9,-999.0,  -999.0,-999.0000,-999.000,-999.000,-999.000,   0.300
      74JC10_1,   A23,    31,  1,   3114,     14,2,19950407,0846,-61.5510, -31.1038, 4112,    361,    354.5,   0.5808,  34.6862,2,  34.6865,2,    201.5,3,  0.5655,    195.4,3,   111.37,2,    32.96,2,     2.24,2,    0.341,2,    0.174,2,    0.012,2,    0.568,2, -999.000,9,-999.0000,9,  -999.00,9,-999.000,9,   -999.0,9,   -999.0,9,-999.0,  -999.0,-999.0000,-999.000,-999.000,-999.000,-999.000
      74JC10_1,   A23,    31,  1,   3113,     13,2,19950407,0846,-61.5510, -31.1038, 4112,    512,    503.7,   0.4879,  34.6879,2,  34.6879,2,    202.3,3,  0.4658,    198.0,3,   116.74,2,    32.83,2,     2.24,2,    0.149,2,    0.100,2,    0.000,2,    0.338,2, -999.000,9,   1.8620,2,     9.13,2,   8.146,2,   -999.0,9,   -999.0,9,-999.0,  -999.0,  0.0070,-999.000,-999.000,   0.025,   0.300
      74JC10_1,   A23,    31,  1,   3112,     12,2,19950407,0846,-61.5510, -31.1038, 4112,    762,    752.5,   0.3410,  34.6825,2,  34.6828,2,    207.4,3,  0.3073,    204.0,2,   120.74,2,    33.23,2,     2.25,2,    0.103,2,    0.046,3,    0.000,2,    0.327,2,    0.018,2,   1.8610,2,     8.26,2,   8.148,2,   -999.0,9,   -999.0,9,-999.0,  -999.0,  0.0070,   0.013,-999.000,   0.025,   0.300
      74JC10_1,   A23,    31,  1,   3111,     11,2,19950407,0846,-61.5510, -31.1038, 4112,   1010,    998.9,   0.2030,  34.6777,2,  34.6773,2,    210.5,3,  0.1572,    206.0,2,   122.30,2,    33.04,2,     2.26,2,    0.127,2,    0.092,2,    0.000,2,    0.334,2,    0.020,3,   1.7920,2,     7.74,2,   7.845,3,   -999.0,9,   -999.0,9,-999.0,  -999.0,  0.0070,   0.036,-999.000,   0.024,   0.300
      74JC10_1,   A23,    31,  1,   3110,     10,2,19950407,0846,-61.5510, -31.1038, 4112,   1261,   1249.4,   0.0865,  34.6731,2,  34.6730,2,    218.3,3,  0.0277,    210.3,2,   123.96,2,    33.00,2,     2.25,2,    0.105,2,    0.081,2,    0.000,2,    0.298,2, -999.000,9,-999.0000,9,  -999.00,9,-999.000,9,   -999.0,9,   -999.0,9,-999.0,  -999.0,-999.0000,-999.000,-999.000,-999.000,-999.000
      74JC10_1,   A23,    31,  1,   3109,      9,2,19950407,0846,-61.5510, -31.1038, 4112,   1512,   1500.0,  -0.0043,  34.6699,2,  34.6692,2,    221.4,3, -0.0771,    215.0,2,   123.77,2,    32.68,2,     2.24,2,    0.106,2,    0.079,2,    0.000,2,    0.326,2,    0.015,2,-999.0000,9,  -999.00,9,-999.000,9,   -999.0,9,   -999.0,9,-999.0,  -999.0,-999.0000,   0.014,-999.000,-999.000,-999.000
      74JC10_1,   A23,    31,  1,   3108,      8,2,19950407,0846,-61.5510, -31.1038, 4112,   1762,   1749.6,  -0.0781,  34.6668,2,  34.6669,2,    225.8,3, -0.1658,    219.0,2,   123.67,2,    32.62,2,     2.23,2,    0.121,2,    0.085,2,    0.000,2,    0.400,2, -999.000,9,   1.8630,2,     7.07,2,   8.224,2,   -999.0,9,   -999.0,9,-999.0,  -999.0,  0.0070,-999.000,-999.000,   0.025,   0.300
      74JC10_1,   A23,    31,  1,   3107,      7,2,19950407,0846,-61.5510, -31.1038, 4112,   2010,   1997.8,  -0.1553,  34.6635,2,  34.6639,2,    228.7,3, -0.2584,    224.3,2,   123.18,2,    32.52,2,     2.22,2,    0.181,2,    0.112,2,    0.000,2,    0.474,2,    0.029,2,-999.0000,9,  -999.00,9,-999.000,9,   -999.0,9,   -999.0,9,-999.0,  -999.0,-999.0000,   0.017,  -0.155,-999.000,-999.000
      74JC10_1,   A23,    31,  1,   3106,      6,2,19950407,0846,-61.5510, -31.1038, 4112,   2513,   2501.3,  -0.2893,  34.6571,2,  34.6580,2,    238.2,3, -0.4264,    229.5,2,   121.62,2,    32.29,2,     2.20,2,    0.301,2,    0.168,2,    0.005,2,    0.622,2, -999.000,9,   1.9490,3,     6.07,2,   8.332,2,   -999.0,9,   -999.0,9,-999.0,  -999.0,  0.0070,-999.000,-999.000,   0.026,   0.300
      74JC10_1,   A23,    31,  1,   3105,      5,2,19950407,0846,-61.5510, -31.1038, 4112,   3015,   3005.4,  -0.4014,  34.6503,2,  34.6504,2,    246.4,3, -0.5760,    239.2,2,   116.45,2,    32.00,2,     2.19,2,    0.776,2,    0.384,2,    0.041,2,    0.973,2,    0.034,2,   1.8800,2,     4.93,2,   8.279,2,   -999.0,9,   -999.0,9,-999.0,  -999.0,  0.0070,   0.005,-999.000,   0.026,   0.300
      74JC10_1,   A23,    31,  1,   3104,      4,2,19950407,0846,-61.5510, -31.1038, 4112,   3516,   3507.3,  -0.4543,  34.6468,2,  34.6462,2,    250.7,3, -0.6710,    244.0,2,   113.42,2,    31.90,2,     2.17,2,    1.000,2,    0.485,2,    0.056,2,    1.137,2,    0.041,2,-999.0000,9,  -999.00,9,-999.000,9,   -999.0,9,   -999.0,9,-999.0,  3518.0,-999.0000,   0.003,  -0.461,-999.000,-999.000
      74JC10_1,   A23,    31,  1,   3103,      3,2,19950407,0846,-61.5510, -31.1038, 4112,   3819,   3810.8,  -0.4566,  34.6445,2,  34.6445,2,    253.7,3, -0.7012,    246.0,2,   111.67,2,    31.88,2,     2.16,2,    1.175,2,    0.546,2,    0.056,2,    1.255,2, -999.000,9,   1.8760,2,     5.16,2,   8.297,2,   -999.0,9,   -999.0,9,-999.0,  -999.0,  0.0070,-999.000,-999.000,   0.026,   0.300
      74JC10_1,   A23,    31,  1,   3101,      1,2,19950407,0846,-61.5510, -31.1038, 4112,   4134,   4126.3,  -0.4410,  34.6443,2,  34.6445,2,    254.2,3, -0.7165,    248.5,3,   110.40,2,    31.74,2,     2.18,2,    1.234,2,    0.586,2,    0.067,2,    1.288,2,    0.051,2,   1.8790,2,     4.58,2,   8.211,2,   -999.0,9,   -999.0,9,-999.0,  4110.0,  0.0070,   0.003,  -0.447,   0.025,   0.300
      74JC10_1,   A23,    31,  1,   3102,      2,2,19950407,0846,-61.5510, -31.1038, 4112,   4135,   4127.0,  -0.4408,  34.6446,2,  34.6439,2,    254.2,3, -0.7164,    246.9,2,   110.69,2,    31.81,2,     2.16,2,    1.210,2,    0.588,2,    0.056,2,    1.285,2, -999.000,9,-999.0000,9,  -999.00,9,-999.000,9,   -999.0,9,   -999.0,9,-999.0,  -999.0,-999.0000,-999.000,-999.000,-999.000,-999.000