BOTTLE,20220810CCHSIOAMB
EXPOCODE,SECT_ID,STNNBR,CASTNO,SAMPNO,BTLNBR,BTLNBR_FLAG_W,DATE,TIME,LATITUDE,LONGITUDE,DEPTH,CTDRAW,CTDPRS,CTDTMP,CTDSAL,CTDSAL_FLAG_W,SALNTY,SALNTY_FLAG_W,CTDOXY,CTDOXY_FLAG_W,THETA,OXYGEN,OXYGEN_FLAG_W,SILCAT,SILCAT_FLAG_W,NO2+NO3,NO2+NO3_FLAG_W,PHSPHT,PHSPHT_FLAG_W,CFC-11,CFC-11_FLAG_W,CFC-12,CFC-12_FLAG_W,CFC113,CFC113_FLAG_W,CCL4,CCL4_FLAG_W,TRITUM,TRITUM_FLAG_W,HELIUM,HELIUM_FLAG_W,DELHE3,DELHE3_FLAG_W,NEON,NEON_FLAG_W,TCARBN,TCARBN_FLAG_W,PCO2,PCO2_FLAG_W,PCO2TMP,REVPRS,HELIER,TRITER,REVTMP,NEONER,DELHER
,,,,,,,,,,,,,DBAR,ITS-90,PSS-78,,PSS-78,,UMOL/KG,,DEG C,UMOL/KG,,UMOL/KG,,UMOL/KG,,UMOL/KG,,PMOL/KG,,PMOL/KG,,PMOL/KG,,PMOL/KG,,TU,,NMOL/KG,,PERCNT,,NMOL/KG,,UMOL/KG,,UATM,,DEG C,DBAR,NMOL/KG,TU,ITS-90,NMOL/KG,PERCNT
      74JC10_1,   A23,    12,  1,   1203,      3,2,19950401,1241,-72.4933, -22.9208, 3902,     10,      7.9,  -1.8660,  34.0938,2,  34.0923,2,    297.7,3, -1.8661,    328.5,2,    62.08,2,    26.65,2,     1.64,2,    6.513,2,    2.905,2,    0.612,2,    7.150,2, -999.000,9,-999.0000,9,  -999.00,9,-999.000,9,   -999.0,9,   -999.0,9,-999.0,  -999.0,-999.0000,-999.000,-999.000,-999.000,-999.000
      74JC10_1,   A23,    12,  1,   1201,      1,2,19950401,1241,-72.4933, -22.9208, 3902,     53,     50.1,  -1.8318,  34.1352,3,  34.3225,3,    289.7,3, -1.8327,    283.7,2,    74.61,2,    29.35,2,     1.96,2,    4.422,2,    2.087,2,    0.402,2,    4.841,2, -999.000,9,   1.8320,2,     2.50,2,   8.165,2,   -999.0,9,   -999.0,9,-999.0,    55.0,  0.0070,-999.000,  -1.785,   0.025,   0.300
      74JC10_1,   A23,    12,  1,   1202,      2,2,19950401,1241,-72.4933, -22.9208, 3902,     53,     50.1,  -1.8318,  34.1352,3,  34.3233,3,    289.7,3, -1.8327,    283.4,2,    74.87,2,    29.54,2,     1.98,2,    4.405,2,    2.066,2,    0.384,2,    4.890,2, -999.000,9,-999.0000,9,  -999.00,9,-999.000,9,   -999.0,9,   -999.0,9,-999.0,  -999.0,-999.0000,-999.000,-999.000,-999.000,-999.000
      74JC10_1,   A23,    12,  1,   1224,     24,2,19950401,1241,-72.4933, -22.9208, 3902,    156,    151.9,  -0.0592,  34.5798,2,  34.5908,2,    236.9,3, -0.0646,    219.1,2,    89.72,2,    31.94,2,     2.17,2,    1.677,2,    0.774,2,    0.136,2,    1.901,2, -999.000,9,-999.0000,9,  -999.00,9,-999.000,9,   -999.0,9,   -999.0,9,-999.0,  -999.0,-999.0000,-999.000,-999.000,-999.000,-999.000
      74JC10_1,   A23,    12,  1,   1223,     23,2,19950401,1241,-72.4933, -22.9208, 3902,    208,    202.8,   0.5772,  34.6458,2,  34.6486,2,    216.9,3,  0.5687,    206.9,2,    93.73,2,    31.86,2,     2.16,2,    1.117,2,    0.518,2,    0.071,2,    1.284,2, -999.000,9,   1.8550,2,     7.82,2,   8.164,2,   -999.0,9,   -999.0,9,-999.0,  -999.0,  0.0070,-999.000,-999.000,   0.025,   0.300
      74JC10_1,   A23,    12,  1,   1222,     25,2,19950401,1241,-72.4933, -22.9208, 3902,    259,    253.4,   0.7591,  34.6677,2,  34.6679,2,    206.0,3,  0.7480,    200.8,2,    96.60,2,    31.93,2,     2.18,2,    0.842,2,    0.402,2,    0.050,2,    1.014,2,    0.024,2,-999.0000,5,    -0.75,3,-999.000,9,   -999.0,9,   -999.0,9,-999.0,  -999.0,-999.0000,-999.000,-999.000,-999.000,   0.300
      74JC10_1,   A23,    12,  1,   1221,     21,2,19950401,1241,-72.4933, -22.9208, 3902,    311,    304.4,   0.7985,  34.6774,2,  34.6781,2,    202.6,3,  0.7849,    201.5,2,    98.49,2,    31.84,2,     2.16,2,    0.709,2,    0.327,2,    0.031,2,    0.913,2, -999.000,9,   1.8460,2,     8.22,2,   8.123,2,   -999.0,9,   -999.0,9,-999.0,  -999.0,  0.0070,-999.000,-999.000,   0.025,   0.300
      74JC10_1,   A23,    12,  1,   1220,     20,2,19950401,1241,-72.4933, -22.9208, 3902,    362,    354.8,   0.7816,  34.6818,2,  34.6818,2,    202.6,3,  0.7656,   -999.0,5,   100.14,2,    31.64,2,     2.15,2,    1.041,3,    0.564,3,    0.215,2,    1.005,2, -999.000,9,-999.0000,9,  -999.00,9,-999.000,9,   -999.0,9,   -999.0,9,-999.0,  -999.0,-999.0000,-999.000,-999.000,-999.000,-999.000
      74JC10_1,   A23,    12,  1,   1219,     19,2,19950401,1241,-72.4933, -22.9208, 3902,    514,    505.9,   0.6843,  34.6876,2,  34.6920,3,    205.3,3,  0.6613,    203.6,2,   104.83,2,    31.85,2,     2.16,2,    0.503,2,    0.254,2,    0.005,2,    0.683,2,    0.021,2,   1.8590,2,     8.66,2,   8.186,2,   -999.0,9,   -999.0,9,-999.0,  -999.0,  0.0070,   0.002,-999.000,   0.025,   0.300
      74JC10_1,   A23,    12,  1,   1218,     18,2,19950401,1241,-72.4933, -22.9208, 3902,    771,    761.2,   0.4773,  34.6833,2,  34.6869,2,    211.5,3,  0.4423,    203.9,2,   104.63,2,    31.85,2,     2.16,2,    0.473,2,    0.233,2,    0.016,2,    0.620,2, -999.000,9,   1.7730,3,     8.46,2,   7.812,3,   -999.0,9,   -999.0,9,-999.0,  -999.0,  0.0070,-999.000,-999.000,   0.024,   0.300
      74JC10_1,   A23,    12,  1,   1217,     17,2,19950401,1241,-72.4933, -22.9208, 3902,   1030,   1018.5,   0.3112,  34.6778,2,  34.6781,2,    215.5,3,  0.2634,    209.6,2,   114.40,2,    32.15,2,     2.18,2,    0.320,2,    0.162,2,    0.000,2,    0.583,2,    0.019,2,   1.8640,2,     7.82,2,   8.168,2,   -999.0,9,   -999.0,9,-999.0,  -999.0,  0.0070,   0.002,-999.000,   0.025,   0.300
      74JC10_1,   A23,    12,  1,   1215,     15,2,19950401,1241,-72.4933, -22.9208, 3902,   1288,   1275.9,   0.1944,  34.6742,2,  34.6736,2,    218.8,3,  0.1329,    212.7,2,   117.81,2,    32.17,2,     2.20,2,    0.282,2,    0.150,2,    0.005,2,    0.556,2,    0.025,2,   1.8650,2,     7.63,2,   8.175,2,   -999.0,9,   -999.0,9,-999.0,  -999.0,  0.0070,   0.003,-999.000,   0.025,   0.300
      74JC10_1,   A23,    12,  1,   1216,     16,2,19950401,1241,-72.4933, -22.9208, 3902,   1288,   1275.9,   0.1944,  34.6742,2,  34.6745,2,    218.8,3,  0.1329,    212.4,2,   117.91,2,    32.26,2,     2.20,2, -999.000,9, -999.000,9, -999.000,9, -999.000,9, -999.000,9,-999.0000,9,  -999.00,9,-999.000,9,   -999.0,9,   -999.0,9,-999.0,  -999.0,-999.0000,-999.000,-999.000,-999.000,-999.000
      74JC10_1,   A23,    12,  1,   1214,     14,2,19950401,1241,-72.4933, -22.9208, 3902,   1543,   1530.9,   0.1006,  34.6725,2,  34.6720,2,    222.3,3,  0.0247,    215.2,2,   119.86,2,    32.19,2,     2.19,2, -999.000,9, -999.000,9, -999.000,9,    0.586,2,    0.017,2,   1.8620,2,     7.35,2,   8.153,2,   -999.0,9,   -999.0,9,-999.0,  -999.0,  0.0070,   0.006,-999.000,   0.025,   0.300
      74JC10_1,   A23,    12,  1,   1213,     13,2,19950401,1241,-72.4933, -22.9208, 3902,   2055,   2043.5,  -0.0457,  34.6670,2,  34.6671,2,    228.8,3, -0.1537,    221.3,2,   121.23,2,    32.21,2,     2.19,2,    0.300,2,    0.162,2,    0.008,2,    0.601,2, -999.000,9,   1.8680,2,     6.69,2,   8.201,2,   -999.0,9,   -999.0,9,-999.0,  -999.0,  0.0070,-999.000,-999.000,   0.025,   0.300
      74JC10_1,   A23,    12,  1,   1212,     12,2,19950401,1241,-72.4933, -22.9208, 3902,   2568,   2557.1,  -0.1431,  34.6635,2,  34.6631,2,    234.5,3, -0.2873,    227.0,2,   121.03,2,    32.01,2,     2.18,2,    0.383,2,    0.195,2,    0.020,2,    0.698,2,    0.020,2,   1.8740,2,     6.75,2,   8.232,2,   -999.0,9,   -999.0,9,-999.0,  -999.0,  0.0070,   0.002,-999.000,   0.026,   0.300
      74JC10_1,   A23,    12,  1,   1211,     11,2,19950401,1241,-72.4933, -22.9208, 3902,   3081,   3070.9,  -0.1815,  34.6623,2,  34.6620,2,    238.4,3, -0.3667,    232.9,2,   121.52,2,    32.04,2,     2.20,2,    0.493,2,    0.255,2,    0.010,2,    0.829,2,    0.029,2,   1.8640,2,     5.28,2,   8.189,2,   -999.0,9,   -999.0,9,-999.0,  -999.0,  0.0070,   0.003,-999.000,   0.025,   0.300
      74JC10_1,   A23,    12,  1,   1210,     10,2,19950401,1241,-72.4933, -22.9208, 3902,   3596,   3586.8,  -0.2025,  34.6609,2,  34.6598,2,    241.6,3, -0.4331,    233.1,2,   122.50,2,    31.88,2,     2.19,2,    0.479,2,    0.243,2,    0.020,2,    0.820,2,    0.027,2,   1.8730,2,     5.54,2,   8.242,2,   -999.0,9,   -999.0,9,-999.0,  -999.0,  0.0070,   0.002,-999.000,   0.026,   0.300
      74JC10_1,   A23,    12,  1,   1209,      9,2,19950401,1241,-72.4933, -22.9208, 3902,   3697,   3688.6,  -0.2141,  34.6592,2,  34.6580,2,    242.5,3, -0.4539,    234.7,2,   122.99,2,    31.86,2,     2.17,2,    0.454,2,    0.242,2,    0.011,2,    0.794,2,    0.026,2,   1.8640,2,     5.59,2,   8.217,2,   -999.0,9,   -999.0,9,-999.0,  -999.0,  0.0070,   0.003,-999.000,   0.025,   0.300
      74JC10_1,   A23,    12,  1,   1208,      8,2,19950401,1241,-72.4933, -22.9208, 3902,   3916,   3907.7,  -0.2431,  34.6580,2,  34.6567,2,    244.0,3, -0.5031,    234.2,2,   124.74,2,    31.93,2,     2.13,2,    0.448,2,    0.226,2,    0.012,2,    0.839,2, -999.000,9,-999.0000,9,  -999.00,9,-999.000,9,   -999.0,9,   -999.0,9,-999.0,  -999.0,-999.0000,-999.000,-999.000,-999.000,-999.000
      74JC10_1,   A23,    12,  1,   1206,      6,2,19950401,1241,-72.4933, -22.9208, 3902,   3916,   3907.8,  -0.2434,  34.6580,2,  34.6572,2,    244.0,3, -0.5034,    235.9,2,   124.26,2,    31.63,2,     2.13,2,    0.454,2, -999.000,9,    0.001,2,    0.802,2,    0.030,2,   1.8670,2,     5.56,2,   8.225,2,   -999.0,9,   -999.0,9,-999.0,  -999.0,  0.0070,   0.007,-999.000,   0.025,   0.300
      74JC10_1,   A23,    12,  1,   1207,      7,2,19950401,1241,-72.4933, -22.9208, 3902,   3916,   3907.8,  -0.2438,  34.6584,2,  34.6561,2,    244.0,3, -0.5037,    240.3,2,   124.94,2,    31.93,2,     2.17,2,    0.442,2,    0.229,2,    0.020,2,    0.828,2, -999.000,9,-999.0000,9,  -999.00,9,-999.000,9,   -999.0,9,   -999.0,9,-999.0,  -999.0,-999.0000,-999.000,  -0.244,-999.000,-999.000
      74JC10_1,   A23,    13,  1,   1323,     23,2,19950402,0000,-71.7050, -18.8592, 4049,     12,      9.9,  -1.8575,  34.1464,2,  34.1470,2,    100.5,3, -1.8576,   -999.0,9,  -999.00,9,  -999.00,9,  -999.00,9, -999.000,9, -999.000,9, -999.000,9, -999.000,9, -999.000,9,-999.0000,9,  -999.00,9,-999.000,9,   -999.0,9,   -999.0,9,-999.0,  -999.0,-999.0000,-999.000,-999.000,-999.000,-999.000
      74JC10_1,   A23,    13,  1,   1322,     25,2,19950402,0000,-71.7050, -18.8592, 4049,     58,     55.5,  -1.6022,  34.2193,2,  34.2923,2,     98.0,3, -1.6034,   -999.0,9,  -999.00,9,  -999.00,9,  -999.00,9, -999.000,9, -999.000,9, -999.000,9, -999.000,9, -999.000,9,-999.0000,9,  -999.00,9,-999.000,9,   -999.0,9,   -999.0,9,-999.0,  -999.0,-999.0000,-999.000,-999.000,-999.000,-999.000
      74JC10_1,   A23,    13,  1,   1321,     21,2,19950402,0000,-71.7050, -18.8592, 4049,    110,    106.1,  -0.5450,  34.5355,2,  34.5315,2,     78.0,3, -0.5484,   -999.0,9,  -999.00,9,  -999.00,9,  -999.00,9, -999.000,9, -999.000,9, -999.000,9, -999.000,9, -999.000,9,-999.0000,9,  -999.00,9,-999.000,9,   -999.0,9,   -999.0,9,-999.0,  -999.0,-999.0000,-999.000,-999.000,-999.000,-999.000
      74JC10_1,   A23,    13,  1,   1320,     20,2,19950402,0000,-71.7050, -18.8592, 4049,    162,    157.5,   0.2312,  34.6110,2,  34.6219,2,     61.8,3,  0.2252,   -999.0,9,  -999.00,9,  -999.00,9,  -999.00,9, -999.000,9, -999.000,9, -999.000,9, -999.000,9, -999.000,9,-999.0000,9,  -999.00,9,-999.000,9,   -999.0,9,   -999.0,9,-999.0,  -999.0,-999.0000,-999.000,-999.000,-999.000,-999.000
      74JC10_1,   A23,    13,  1,   1319,     19,2,19950402,0000,-71.7050, -18.8592, 4049,    213,    208.5,   0.7315,  34.6661,2,  34.6649,2,     53.2,3,  0.7225,   -999.0,9,  -999.00,9,  -999.00,9,  -999.00,9, -999.000,9, -999.000,9, -999.000,9, -999.000,9, -999.000,9,-999.0000,9,  -999.00,9,-999.000,9,   -999.0,9,   -999.0,9,-999.0,  -999.0,-999.0000,-999.000,-999.000,-999.000,-999.000
      74JC10_1,   A23,    13,  1,   1318,     18,2,19950402,0000,-71.7050, -18.8592, 4049,    265,    259.2,   0.8260,  34.6799,2,  34.6818,2,     49.6,3,  0.8145,   -999.0,9,  -999.00,9,  -999.00,9,  -999.00,9, -999.000,9, -999.000,9, -999.000,9, -999.000,9, -999.000,9,-999.0000,9,  -999.00,9,-999.000,9,   -999.0,9,   -999.0,9,-999.0,  -999.0,-999.0000,-999.000,-999.000,-999.000,-999.000
      74JC10_1,   A23,    13,  1,   1317,     17,2,19950402,0000,-71.7050, -18.8592, 4049,    367,    359.8,   0.8182,  34.6889,2,  34.6914,2,     45.0,3,  0.8019,   -999.0,9,  -999.00,9,  -999.00,9,  -999.00,9, -999.000,9, -999.000,9, -999.000,9, -999.000,9, -999.000,9,-999.0000,9,  -999.00,9,-999.000,9,   -999.0,9,   -999.0,9,-999.0,  -999.0,-999.0000,-999.000,-999.000,-999.000,-999.000
      74JC10_1,   A23,    13,  1,   1316,     16,2,19950402,0000,-71.7050, -18.8592, 4049,    521,    513.1,   0.7067,  34.6918,2,  34.6934,2,     42.4,3,  0.6833,   -999.0,9,  -999.00,9,  -999.00,9,  -999.00,9, -999.000,9, -999.000,9, -999.000,9, -999.000,9, -999.000,9,-999.0000,9,  -999.00,9,-999.000,9,   -999.0,9,   -999.0,9,-999.0,  -999.0,-999.0000,-999.000,-999.000,-999.000,-999.000
      74JC10_1,   A23,    13,  1,   1315,     15,2,19950402,0000,-71.7050, -18.8592, 4049,    779,    769.1,   0.5071,  34.6865,2,  34.6879,2,     41.6,3,  0.4715,   -999.0,9,  -999.00,9,  -999.00,9,  -999.00,9, -999.000,9, -999.000,9, -999.000,9, -999.000,9, -999.000,9,-999.0000,9,  -999.00,9,-999.000,9,   -999.0,9,   -999.0,9,-999.0,  -999.0,-999.0000,-999.000,-999.000,-999.000,-999.000
      74JC10_1,   A23,    13,  1,   1314,     14,2,19950402,0000,-71.7050, -18.8592, 4049,   1035,   1024.0,   0.3531,  34.6804,2,  34.6802,2,     43.0,3,  0.3047,   -999.0,9,  -999.00,9,  -999.00,9,  -999.00,9, -999.000,9, -999.000,9, -999.000,9, -999.000,9, -999.000,9,-999.0000,9,  -999.00,9,-999.000,9,   -999.0,9,   -999.0,9,-999.0,  -999.0,-999.0000,-999.000,-999.000,-999.000,-999.000
      74JC10_1,   A23,    13,  1,   1313,     13,2,19950402,0000,-71.7050, -18.8592, 4049,   1293,   1281.4,   0.2288,  34.6741,2,  34.6759,2,     46.4,3,  0.1666,   -999.0,9,  -999.00,9,  -999.00,9,  -999.00,9, -999.000,9, -999.000,9, -999.000,9, -999.000,9, -999.000,9,-999.0000,9,  -999.00,9,-999.000,9,   -999.0,9,   -999.0,9,-999.0,  -999.0,-999.0000,-999.000,-999.000,-999.000,-999.000
      74JC10_1,   A23,    13,  1,   1312,     12,2,19950402,0000,-71.7050, -18.8592, 4049,   1549,   1536.4,   0.1223,  34.6723,2,  34.6734,2,     50.7,3,  0.0457,   -999.0,9,  -999.00,9,  -999.00,9,  -999.00,9,    0.231,2,    0.110,2,    0.001,2,    0.479,2, -999.000,9,-999.0000,9,  -999.00,9,-999.000,9,   -999.0,9,   -999.0,9,-999.0,  -999.0,-999.0000,-999.000,-999.000,-999.000,-999.000
      74JC10_1,   A23,    13,  1,   1311,     11,2,19950402,0000,-71.7050, -18.8592, 4049,   1807,   1794.6,   0.0307,  34.6704,2,  34.6692,2,     55.3,3, -0.0615,   -999.0,9,  -999.00,9,  -999.00,9,  -999.00,9, -999.000,9, -999.000,9, -999.000,9, -999.000,9, -999.000,9,-999.0000,9,  -999.00,9,-999.000,9,   -999.0,9,   -999.0,9,-999.0,  -999.0,-999.0000,-999.000,-999.000,-999.000,-999.000
      74JC10_1,   A23,    13,  1,   1310,     10,2,19950402,0000,-71.7050, -18.8592, 4049,   2063,   2050.8,  -0.0392,  34.6668,2,  34.6675,2,     60.0,3, -0.1478,   -999.0,9,  -999.00,9,  -999.00,9,  -999.00,9, -999.000,9, -999.000,9, -999.000,9, -999.000,9, -999.000,9,-999.0000,9,  -999.00,9,-999.000,9,   -999.0,9,   -999.0,9,-999.0,  -999.0,-999.0000,-999.000,-999.000,-999.000,-999.000
      74JC10_1,   A23,    13,  1,   1309,      9,2,19950402,0000,-71.7050, -18.8592, 4049,   2575,   2563.4,  -0.1412,  34.6641,2,  34.6655,2,     69.7,3, -0.2860,   -999.0,9,  -999.00,9,  -999.00,9,  -999.00,9, -999.000,9, -999.000,9, -999.000,9, -999.000,9, -999.000,9,-999.0000,9,  -999.00,9,-999.000,9,   -999.0,9,   -999.0,9,-999.0,  -999.0,-999.0000,-999.000,-999.000,-999.000,-999.000
      74JC10_1,   A23,    13,  1,   1308,      8,2,19950402,0000,-71.7050, -18.8592, 4049,   3084,   3073.7,  -0.1988,  34.6611,2,  34.6639,2,     80.8,3, -0.3838,   -999.0,9,  -999.00,9,  -999.00,9,  -999.00,9, -999.000,9, -999.000,9, -999.000,9, -999.000,9, -999.000,9,-999.0000,9,  -999.00,9,-999.000,9,   -999.0,9,   -999.0,9,-999.0,  -999.0,-999.0000,-999.000,-999.000,-999.000,-999.000
      74JC10_1,   A23,    13,  1,   1306,      6,2,19950402,0000,-71.7050, -18.8592, 4049,   3605,   3596.2,  -0.2100,  34.6599,2,  34.6590,2,     91.7,3, -0.4412,   -999.0,9,  -999.00,9,  -999.00,9,  -999.00,9,    0.566,2,    0.279,2,    0.033,2,    0.922,2, -999.000,9,-999.0000,9,  -999.00,9,-999.000,9,   -999.0,9,   -999.0,9,-999.0,  -999.0,-999.0000,-999.000,-999.000,-999.000,-999.000
      74JC10_1,   A23,    13,  1,   1307,      7,2,19950402,0000,-71.7050, -18.8592, 4049,   3606,   3596.9,  -0.2099,  34.6609,2,  34.6590,2,     91.7,3, -0.4413,   -999.0,9,  -999.00,9,  -999.00,9,  -999.00,9, -999.000,9, -999.000,9, -999.000,9, -999.000,9, -999.000,9,-999.0000,9,  -999.00,9,-999.000,9,   -999.0,9,   -999.0,9,-999.0,  -999.0,-999.0000,-999.000,  -0.209,-999.000,-999.000
      74JC10_1,   A23,    13,  1,   1305,      5,2,19950402,0000,-71.7050, -18.8592, 4049,   3916,   3907.6,  -0.2414,  34.6580,2,  34.6574,2,     98.5,3, -0.5013,   -999.0,9,  -999.00,9,  -999.00,9,  -999.00,9, -999.000,9, -999.000,9, -999.000,9, -999.000,9, -999.000,9,-999.0000,9,  -999.00,9,-999.000,9,   -999.0,9,   -999.0,9,-999.0,  -999.0,-999.0000,-999.000,-999.000,-999.000,-999.000
      74JC10_1,   A23,    13,  1,   1304,      4,2,19950402,0000,-71.7050, -18.8592, 4049,   3916,   3907.7,  -0.2424,  34.6587,2,  34.6570,2,     98.5,3, -0.5024,   -999.0,9,  -999.00,9,  -999.00,9,  -999.00,9, -999.000,9, -999.000,9, -999.000,9, -999.000,9, -999.000,9,-999.0000,9,  -999.00,9,-999.000,9,   -999.0,9,   -999.0,9,-999.0,  3919.0,-999.0000,-999.000,  -0.245,-999.000,-999.000
      74JC10_1,   A23,    13,  1,   1302,      2,2,19950402,0000,-71.7050, -18.8592, 4049,   4074,   4065.9,  -0.2735,  34.6570,2,  34.6557,2,    103.0,3, -0.5481,   -999.0,9,  -999.00,9,  -999.00,9,  -999.00,9,    0.480,2,    0.244,2,    0.019,2,    0.893,2, -999.000,9,-999.0000,9,  -999.00,9,-999.000,9,   -999.0,9,   -999.0,9,-999.0,  -999.0,-999.0000,-999.000,-999.000,-999.000,-999.000
      74JC10_1,   A23,    13,  1,   1301,      1,2,19950402,0000,-71.7050, -18.8592, 4049,   4074,   4066.0,  -0.2735,  34.6573,2,  34.6559,2,    103.0,3, -0.5481,   -999.0,9,  -999.00,9,  -999.00,9,  -999.00,9, -999.000,9, -999.000,9, -999.000,9, -999.000,9, -999.000,9,-999.0000,9,  -999.00,9,-999.000,9,   -999.0,9,   -999.0,9,-999.0,  4051.0,-999.0000,-999.000,  -0.281,-999.000,-999.000
      74JC10_1,   A23,    13,  1,   1303,      3,2,19950402,0000,-71.7050, -18.8592, 4049,   4075,   4066.7,  -0.2736,  34.6569,2,  34.6557,2,    103.3,3, -0.5483,   -999.0,9,  -999.00,9,  -999.00,9,  -999.00,9,    0.481,2,    0.238,2,    0.023,2,    0.853,2, -999.000,9,-999.0000,9,  -999.00,9,-999.000,9,   -999.0,9,   -999.0,9,-999.0,  -999.0,-999.0000,-999.000,-999.000,-999.000,-999.000