BOTTLE,20220810CCHSIOAMB
EXPOCODE,SECT_ID,STNNBR,CASTNO,SAMPNO,BTLNBR,BTLNBR_FLAG_W,DATE,TIME,LATITUDE,LONGITUDE,DEPTH,CTDRAW,CTDPRS,CTDTMP,CTDSAL,CTDSAL_FLAG_W,SALNTY,SALNTY_FLAG_W,CTDOXY,CTDOXY_FLAG_W,THETA,OXYGEN,OXYGEN_FLAG_W,SILCAT,SILCAT_FLAG_W,NO2+NO3,NO2+NO3_FLAG_W,PHSPHT,PHSPHT_FLAG_W,CFC-11,CFC-11_FLAG_W,CFC-12,CFC-12_FLAG_W,CFC113,CFC113_FLAG_W,CCL4,CCL4_FLAG_W,TRITUM,TRITUM_FLAG_W,HELIUM,HELIUM_FLAG_W,DELHE3,DELHE3_FLAG_W,NEON,NEON_FLAG_W,TCARBN,TCARBN_FLAG_W,PCO2,PCO2_FLAG_W,PCO2TMP,REVPRS,HELIER,TRITER,REVTMP,NEONER,DELHER
,,,,,,,,,,,,,DBAR,ITS-90,PSS-78,,PSS-78,,UMOL/KG,,DEG C,UMOL/KG,,UMOL/KG,,UMOL/KG,,UMOL/KG,,PMOL/KG,,PMOL/KG,,PMOL/KG,,PMOL/KG,,TU,,NMOL/KG,,PERCNT,,NMOL/KG,,UMOL/KG,,UATM,,DEG C,DBAR,NMOL/KG,TU,ITS-90,NMOL/KG,PERCNT
      74JC10_1,   A23,    75,  1,   7520,     27,2,19950422,0727,-50.2113, -35.5100, 3593,     13,     10.5,   5.9889,  33.7180,2,  33.7108,2,    309.1,3,  5.9881,    301.2,2,     3.83,2,    14.35,2,     1.15,2,    5.100,2,    2.364,2,    0.450,2,    5.651,2, -999.000,9,-999.0000,9,  -999.00,9,-999.000,9,   -999.0,9,   -999.0,9,-999.0,  -999.0,-999.0000,-999.000,   6.016,-999.000,-999.000
      74JC10_1,   A23,    75,  1,   7519,     19,2,19950422,0727,-50.2113, -35.5100, 3593,     58,     55.2,   3.6898,  33.7971,2,  33.8038,2,    314.5,3,  3.6862,    303.5,2,     9.06,2,    17.51,2,     1.47,2,    5.783,2,    2.732,2,    0.505,2,    5.995,2, -999.000,9,-999.0000,9,  -999.00,9,-999.000,9,   -999.0,9,   -999.0,9,-999.0,  -999.0,-999.0000,-999.000,-999.000,-999.000,-999.000
      74JC10_1,   A23,    75,  1,   7518,     18,2,19950422,0727,-50.2113, -35.5100, 3593,    108,    103.9,   1.0874,  33.9059,2,  33.9191,2,    307.8,3,  1.0828,    303.9,2,    21.68,2,    25.08,2,     1.87,2,    6.259,2,    2.933,2,    0.532,2,    6.333,2, -999.000,9,-999.0000,9,  -999.00,9,-999.000,9,   -999.0,9,   -999.0,9,-999.0,  -999.0,-999.0000,-999.000,-999.000,-999.000,-999.000
      74JC10_1,   A23,    75,  1,   7517,     17,2,19950422,0727,-50.2113, -35.5100, 3593,    158,    153.7,   0.9811,  34.0268,2,  34.0449,2,    289.4,3,  0.9743,    279.0,2,    30.80,2,    29.35,2,     1.97,2,    4.967,2,    2.284,2,    0.419,2,    5.147,2, -999.000,9,-999.0000,9,  -999.00,9,-999.000,9,   -999.0,9,   -999.0,9,-999.0,  -999.0,-999.0000,-999.000,-999.000,-999.000,-999.000
      74JC10_1,   A23,    75,  1,   7516,     16,2,19950422,0727,-50.2113, -35.5100, 3593,    208,    202.8,   1.6464,  34.1506,2,  34.1562,2,    259.5,3,  1.6363,    245.7,2,    39.75,2,    31.78,2,     2.11,2,    3.654,2,    1.665,2,    0.287,2,    3.779,2, -999.000,9,-999.0000,9,  -999.00,9,-999.000,9,   -999.0,9,   -999.0,9,-999.0,  -999.0,-999.0000,-999.000,-999.000,-999.000,-999.000
      74JC10_1,   A23,    75,  1,   7515,     15,2,19950422,0727,-50.2113, -35.5100, 3593,    257,    251.2,   1.7892,  34.2156,2,  34.2228,2,    230.8,3,  1.7763,    227.9,2,    47.29,2,    33.04,2,     2.17,2,    2.849,2,    1.339,2,    0.194,2,    2.914,2, -999.000,9,-999.0000,9,  -999.00,9,-999.000,9,   -999.0,9,   -999.0,9,-999.0,  -999.0,-999.0000,-999.000,-999.000,-999.000,-999.000
      74JC10_1,   A23,    75,  1,   7514,     14,2,19950422,0727,-50.2113, -35.5100, 3593,    359,    351.3,   2.2298,  34.3623,2,  34.3613,2,    202.1,3,  2.2100,    196.6,2,    59.17,2,    34.74,2,     2.27,2,    1.554,2,    0.733,2,    0.096,2,    1.823,2, -999.000,9,-999.0000,9,  -999.00,9,-999.000,9,   -999.0,9,   -999.0,9,-999.0,  -999.0,-999.0000,-999.000,-999.000,-999.000,-999.000
      74JC10_1,   A23,    75,  1,   7513,     13,2,19950422,0727,-50.2113, -35.5100, 3593,    507,    498.7,   2.2137,  34.4953,2,  34.4962,2,    182.1,3,  2.1850,    178.4,2,    72.00,2,    35.22,2,     2.31,2,    0.692,2,    0.357,2,    0.034,2,    0.936,2, -999.000,9,-999.0000,9,  -999.00,9,-999.000,9,   -999.0,9,   -999.0,9,-999.0,  -999.0,-999.0000,-999.000,-999.000,-999.000,-999.000
      74JC10_1,   A23,    75,  1,   7512,     12,2,19950422,0727,-50.2113, -35.5100, 3593,    753,    743.1,   2.2152,  34.6167,2,  34.6181,2,    179.8,3,  2.1708,    171.0,2,    80.99,2,    34.38,2,     2.25,2,    0.237,2,    0.138,2,    0.002,2,    0.463,2, -999.000,9,-999.0000,9,  -999.00,9,-999.000,9,   -999.0,9,   -999.0,9,-999.0,  -999.0,-999.0000,-999.000,-999.000,-999.000,-999.000
      74JC10_1,   A23,    75,  1,   7511,     24,2,19950422,0727,-50.2113, -35.5100, 3593,   1000,    988.8,   2.2964,  34.7166,2,  34.7158,2,    184.8,3,  2.2345,    182.6,2,    77.53,2,    31.46,2,     2.06,2,    0.090,2,    0.063,2,    0.000,2,    0.251,2, -999.000,9,-999.0000,9,  -999.00,9,-999.000,9,   -999.0,9,   -999.0,9,-999.0,  -999.0,-999.0000,-999.000,-999.000,-999.000,-999.000
      74JC10_1,   A23,    75,  1,   7510,     10,2,19950422,0727,-50.2113, -35.5100, 3593,   1252,   1239.6,   1.7850,  34.6998,2,  34.6997,2,    187.9,3,  1.7098,    180.4,2,    92.08,2,    32.81,2,     2.16,2,    0.143,2,    0.110,2,    0.000,2,    0.181,2, -999.000,9,-999.0000,9,  -999.00,9,-999.000,9,   -999.0,9,   -999.0,9,-999.0,  -999.0,-999.0000,-999.000,-999.000,-999.000,-999.000
      74JC10_1,   A23,    75,  1,   7509,      9,2,19950422,0727,-50.2113, -35.5100, 3593,   1500,   1487.4,   1.6193,  34.7132,2,  34.7129,2,    193.1,3,  1.5281,    190.0,2,    95.69,2,    32.80,2,     2.12,2,    0.153,2,    0.089,2,    0.000,2,    0.250,2, -999.000,9,-999.0000,9,  -999.00,9,-999.000,9,   -999.0,9,   -999.0,9,-999.0,  -999.0,-999.0000,-999.000,-999.000,-999.000,-999.000
      74JC10_1,   A23,    75,  1,   7508,      8,2,19950422,0727,-50.2113, -35.5100, 3593,   1752,   1739.9,   1.4485,  34.7234,2,  34.7237,2,    198.3,3,  1.3405,    192.5,2,    98.19,2,    32.45,2,     2.16,2,    0.097,2,    0.071,2,    0.000,2,    0.193,2, -999.000,9,-999.0000,9,  -999.00,9,-999.000,9,   -999.0,9,   -999.0,9,-999.0,  -999.0,-999.0000,-999.000,-999.000,-999.000,-999.000
      74JC10_1,   A23,    75,  1,   7507,     26,2,19950422,0727,-50.2113, -35.5100, 3593,   2004,   1991.8,   1.1869,  34.7149,2,  34.7144,2,    203.0,3,  1.0633,    196.7,2,   103.46,2,    32.82,2,     2.20,2,    0.149,2,    0.092,2,    0.027,2,    0.189,2, -999.000,9,-999.0000,9,  -999.00,9,-999.000,9,   -999.0,9,   -999.0,9,-999.0,  -999.0,-999.0000,-999.000,   1.183,-999.000,-999.000
      74JC10_1,   A23,    75,  1,   7506,      6,2,19950422,0727,-50.2113, -35.5100, 3593,   2355,   2343.0,   0.9404,  34.7091,2,  34.7087,2,    207.6,3,  0.7928,    201.1,2,   109.22,2,    33.03,2,     2.12,2, -999.000,9, -999.000,9, -999.000,9, -999.000,9, -999.000,9,-999.0000,9,  -999.00,9,-999.000,9,   -999.0,9,   -999.0,9,-999.0,  -999.0,-999.0000,-999.000,-999.000,-999.000,-999.000
      74JC10_1,   A23,    75,  1,   7505,      5,2,19950422,0727,-50.2113, -35.5100, 3593,   2705,   2694.7,   0.6642,  34.6945,2,  34.6944,2,    212.6,3,  0.4926,    206.6,2,   113.81,2,    33.40,2,     2.13,2, -999.000,9, -999.000,9, -999.000,9, -999.000,9, -999.000,9,-999.0000,9,  -999.00,9,-999.000,9,   -999.0,9,   -999.0,9,-999.0,  -999.0,-999.0000,-999.000,-999.000,-999.000,-999.000
      74JC10_1,   A23,    75,  1,   7504,      4,2,19950422,0727,-50.2113, -35.5100, 3593,   3008,   2998.3,   0.4150,  34.6819,2,  34.6822,2,    217.5,3,  0.2224,    210.9,2,   118.10,2,    34.26,2,     2.15,2,    0.202,2,    0.100,2,    0.000,2,    0.315,2, -999.000,9,-999.0000,9,  -999.00,9,-999.000,9,   -999.0,9,   -999.0,9,-999.0,  3005.0,-999.0000,-999.000,   0.408,-999.000,-999.000
      74JC10_1,   A23,    75,  1,   7503,      3,2,19950422,0727,-50.2113, -35.5100, 3593,   3261,   3251.7,   0.2533,  34.6762,2,  34.6763,2,    221.3,3,  0.0418,    214.6,2,   121.23,2,    32.67,2,     2.19,2,    0.191,2,    0.101,2,    0.000,2,    0.326,2, -999.000,9,-999.0000,9,  -999.00,9,-999.000,9,   -999.0,9,   -999.0,9,-999.0,  -999.0,-999.0000,-999.000,-999.000,-999.000,-999.000
      74JC10_1,   A23,    75,  1,   7502,      2,2,19950422,0727,-50.2113, -35.5100, 3593,   3614,   3605.2,   0.1476,  34.6715,2,  34.6714,2,    224.0,3, -0.0941,    218.0,2,   122.99,2,    32.84,2,     2.18,2,    0.203,2,    0.110,2,    0.016,2,    0.367,2, -999.000,9,-999.0000,9,  -999.00,9,-999.000,9,   -999.0,9,   -999.0,9,-999.0,  -999.0,-999.0000,-999.000,-999.000,-999.000,-999.000
      74JC10_1,   A23,    75,  1,   7501,      1,2,19950422,0727,-50.2113, -35.5100, 3593,   3614,   3605.4,   0.1479,  34.6711,2,  34.6714,2,    224.0,3, -0.0938,    219.1,2,   123.28,2,    32.81,2,     2.19,2,    0.199,2,    0.075,3,    0.000,2,    0.356,2, -999.000,9,-999.0000,9,  -999.00,9,-999.000,9,   -999.0,9,   -999.0,9,-999.0,  3586.0,-999.0000,-999.000,   0.143,-999.000,-999.000
      74JC10_1,   A23,    76,  1,   7622,     25,9,19950422,1214,-49.8730, -35.5745, 4422,     18,     14.4,   6.3258,  33.8752,2,  33.8760,2,    304.8,3,  6.3246,    295.9,2,  -999.00,9,  -999.00,9,  -999.00,9, -999.000,9, -999.000,9, -999.000,9, -999.000,9, -999.000,9,-999.0000,9,  -999.00,9,-999.000,9,   2084.4,6,    333.2,2,   4.0,  -999.0,-999.0000,-999.000,-999.000,-999.000,-999.000
      74JC10_1,   A23,    76,  1,   7621,     21,2,19950422,1214,-49.8730, -35.5745, 4422,     62,     58.1,   4.3576,  34.1548,2,  34.1546,2,    324.7,3,  4.3535,    282.1,2,    11.63,2,    23.17,2,     1.77,2, -999.000,9, -999.000,9, -999.000,9, -999.000,9, -999.000,9,-999.0000,9,  -999.00,9,-999.000,9,   2125.5,3,    385.8,2,   4.0,  -999.0,-999.0000,-999.000,-999.000,-999.000,-999.000
      74JC10_1,   A23,    76,  1,   7619,     19,2,19950422,1214,-49.8730, -35.5745, 4422,    161,    156.2,   2.8493,  34.1076,2,  34.1103,2,    282.5,3,  2.8400,    277.0,2,    19.85,2,    26.72,2,     1.84,2, -999.000,9, -999.000,9, -999.000,9, -999.000,9, -999.000,9,-999.0000,9,  -999.00,9,-999.000,9,   2140.9,3,    394.6,2,   4.0,  -999.0,-999.0000,-999.000,-999.000,-999.000,-999.000
      74JC10_1,   A23,    76,  1,   7618,     18,2,19950422,1214,-49.8730, -35.5745, 4422,    212,    206.9,   2.4696,  34.1421,2,  34.1407,2,    270.5,3,  2.4579,    257.9,2,    27.28,2,    28.82,2,     2.03,2, -999.000,9, -999.000,9, -999.000,9, -999.000,9, -999.000,9,-999.0000,9,  -999.00,9,-999.000,9,   -999.0,9,   -999.0,9,-999.0,  -999.0,-999.0000,-999.000,-999.000,-999.000,-999.000
      74JC10_1,   A23,    76,  1,   7617,     17,2,19950422,1214,-49.8730, -35.5745, 4422,    261,    254.8,   2.2795,  34.1784,2,  34.1809,2,    245.5,3,  2.2654,    242.7,2,    34.30,2,    30.87,2,     2.17,2, -999.000,9, -999.000,9, -999.000,9, -999.000,9, -999.000,9,-999.0000,9,  -999.00,9,-999.000,9,   -999.0,9,   -999.0,9,-999.0,  -999.0,-999.0000,-999.000,-999.000,-999.000,-999.000
      74JC10_1,   A23,    76,  1,   7616,     16,2,19950422,1214,-49.8730, -35.5745, 4422,    361,    353.8,   2.7060,  34.3382,2,  34.3327,2,    208.5,3,  2.6847,    199.8,2,    50.43,2,    33.49,2,     2.30,2, -999.000,9, -999.000,9, -999.000,9, -999.000,9, -999.000,9,-999.0000,9,  -999.00,9,-999.000,9,   -999.0,9,   -999.0,9,-999.0,  -999.0,-999.0000,-999.000,-999.000,-999.000,-999.000
      74JC10_1,   A23,    76,  1,   7615,     15,2,19950422,1214,-49.8730, -35.5745, 4422,    509,    500.1,   2.5533,  34.4502,2,  34.4498,2,    187.9,3,  2.5232,    181.2,2,    62.47,2,    34.93,2,     2.31,2, -999.000,9, -999.000,9, -999.000,9, -999.000,9, -999.000,9,-999.0000,9,  -999.00,9,-999.000,9,   -999.0,9,   -999.0,9,-999.0,  -999.0,-999.0000,-999.000,-999.000,-999.000,-999.000
      74JC10_1,   A23,    76,  1,   7614,     14,2,19950422,1214,-49.8730, -35.5745, 4422,    761,    751.0,   2.3243,  34.5971,2,  34.5959,2,    175.2,3,  2.2787,    170.8,2,    75.71,2,    34.12,2,     2.26,2, -999.000,9, -999.000,9, -999.000,9, -999.000,9, -999.000,9,-999.0000,9,  -999.00,9,-999.000,9,   -999.0,9,   -999.0,9,-999.0,  -999.0,-999.0000,-999.000,-999.000,-999.000,-999.000
      74JC10_1,   A23,    76,  1,   7613,     13,2,19950422,1214,-49.8730, -35.5745, 4422,   1011,    998.8,   2.3802,  34.7065,2,  34.7054,2,    186.8,3,  2.3169,    179.9,2,    73.76,2,    31.75,2,     2.26,2, -999.000,9, -999.000,9, -999.000,9, -999.000,9, -999.000,9,-999.0000,9,  -999.00,9,-999.000,9,   -999.0,9,   -999.0,9,-999.0,  -999.0,-999.0000,-999.000,-999.000,-999.000,-999.000
      74JC10_1,   A23,    76,  1,   7612,     12,2,19950422,1214,-49.8730, -35.5745, 4422,   1256,   1243.4,   2.1672,  34.7437,2,  34.7435,2,    190.2,3,  2.0879,    186.4,2,    78.68,2,    29.98,2,     2.11,2, -999.000,9, -999.000,9, -999.000,9, -999.000,9, -999.000,9,-999.0000,9,  -999.00,9,-999.000,9,   -999.0,9,   -999.0,9,-999.0,  -999.0,-999.0000,-999.000,-999.000,-999.000,-999.000
      74JC10_1,   A23,    76,  1,   7611,     24,2,19950422,1214,-49.8730, -35.5745, 4422,   1510,   1496.9,   2.0797,  34.7694,2,  34.7685,2,    197.6,3,  1.9823,    195.5,2,    78.41,2,    28.60,2,     2.05,2, -999.000,9, -999.000,9, -999.000,9, -999.000,9, -999.000,9,-999.0000,9,  -999.00,9,-999.000,9,   -999.0,9,   -999.0,9,-999.0,  -999.0,-999.0000,-999.000,-999.000,-999.000,-999.000
      74JC10_1,   A23,    76,  1,   7610,     10,2,19950422,1214,-49.8730, -35.5745, 4422,   1762,   1749.1,   1.6817,  34.7464,2,  34.7457,2,    201.5,3,  1.5697,    194.9,2,    92.19,2,    29.88,2,     2.02,2, -999.000,9, -999.000,9, -999.000,9, -999.000,9, -999.000,9,-999.0000,9,  -999.00,9,-999.000,9,   -999.0,9,   -999.0,9,-999.0,  -999.0,-999.0000,-999.000,-999.000,-999.000,-999.000
      74JC10_1,   A23,    76,  1,   7609,      9,2,19950422,1214,-49.8730, -35.5745, 4422,   2012,   1999.8,   1.3741,  34.7275,2,  34.7282,2,    200.5,3,  1.2469,    194.9,2,   101.70,2,    30.79,2,     2.07,2, -999.000,9, -999.000,9, -999.000,9, -999.000,9, -999.000,9,-999.0000,9,  -999.00,9,-999.000,9,   2228.1,3,    469.9,2,   4.0,  -999.0,-999.0000,-999.000,-999.000,-999.000,-999.000
      74JC10_1,   A23,    76,  1,   7608,      8,2,19950422,1214,-49.8730, -35.5745, 4422,   2359,   2347.1,   1.0503,  34.7131,2,  34.7134,2,    205.3,3,  0.9004,    200.2,2,   108.54,2,    31.13,2,     2.15,2, -999.000,9, -999.000,9, -999.000,9, -999.000,9, -999.000,9,-999.0000,9,  -999.00,9,-999.000,9,   -999.0,9,   -999.0,9,-999.0,  -999.0,-999.0000,-999.000,-999.000,-999.000,-999.000
      74JC10_1,   A23,    76,  1,   7607,     26,2,19950422,1214,-49.8730, -35.5745, 4422,   2711,   2699.4,   0.7566,  34.6993,2,  34.6993,2,    211.6,3,  0.5827,    204.1,2,   112.64,2,    31.61,2,     2.24,2, -999.000,9, -999.000,9, -999.000,9, -999.000,9, -999.000,9,-999.0000,9,  -999.00,9,-999.000,9,   -999.0,9,   -999.0,9,-999.0,  -999.0,-999.0000,-999.000,   0.751,-999.000,-999.000
      74JC10_1,   A23,    76,  1,   7606,      6,2,19950422,1214,-49.8730, -35.5745, 4422,   3013,   3002.2,   0.5538,  34.6885,2,  34.6895,2,    215.6,3,  0.3578,    208.4,2,   116.05,2,    31.57,2,     2.15,2, -999.000,9, -999.000,9, -999.000,9, -999.000,9, -999.000,9,-999.0000,9,  -999.00,9,-999.000,9,   2230.4,3,    456.1,2,   4.0,  -999.0,-999.0000,-999.000,-999.000,-999.000,-999.000
      74JC10_1,   A23,    76,  1,   7605,      5,2,19950422,1214,-49.8730, -35.5745, 4422,   3360,   3350.5,   0.3617,  34.6786,2,  34.6793,2,    220.4,3,  0.1385,    213.3,2,   118.40,2,    31.95,2,     2.18,2, -999.000,9, -999.000,9, -999.000,9, -999.000,9, -999.000,9,-999.0000,9,  -999.00,9,-999.000,9,   -999.0,9,   -999.0,9,-999.0,  -999.0,-999.0000,-999.000,-999.000,-999.000,-999.000
      74JC10_1,   A23,    76,  1,   7604,      4,2,19950422,1214,-49.8730, -35.5745, 4422,   3714,   3705.1,   0.2355,  34.6727,2,  34.6734,2,    223.5,3, -0.0182,    217.6,2,   120.06,2,    32.24,2,     2.22,2, -999.000,9, -999.000,9, -999.000,9, -999.000,9, -999.000,9,-999.0000,9,  -999.00,9,-999.000,9,   -999.0,9,   -999.0,9,-999.0,  3715.0,-999.0000,-999.000,   0.229,-999.000,-999.000
      74JC10_1,   A23,    76,  1,   7603,      3,2,19950422,1214,-49.8730, -35.5745, 4422,   4016,   4006.9,   0.2159,  34.6715,2,  34.6720,2,    225.7,3, -0.0671,    218.4,2,   121.13,2,    32.13,2,     2.19,2, -999.000,9, -999.000,9, -999.000,9, -999.000,9, -999.000,9,-999.0000,9,  -999.00,9,-999.000,9,   2249.6,3,    446.6,2,   4.0,  -999.0,-999.0000,-999.000,-999.000,-999.000,-999.000
      74JC10_1,   A23,    76,  1,   7602,      2,2,19950422,1214,-49.8730, -35.5745, 4422,   4473,   4465.2,   0.0457,  34.6634,2,  34.6629,2,    232.4,3, -0.2798,    225.4,2,   122.79,2,    32.04,2,     2.16,2, -999.000,9, -999.000,9, -999.000,9, -999.000,9, -999.000,9,-999.0000,9,  -999.00,9,-999.000,9,   -999.0,9,   -999.0,9,-999.0,  -999.0,-999.0000,-999.000,-999.000,-999.000,-999.000
      74JC10_1,   A23,    76,  1,   7601,      1,2,19950422,1214,-49.8730, -35.5745, 4422,   4474,   4466.1,   0.0455,  34.6630,2,  34.6631,2,    232.4,3, -0.2800,    225.4,2,   123.57,2,    31.95,2,     2.18,2, -999.000,9, -999.000,9, -999.000,9, -999.000,9, -999.000,9,-999.0000,9,  -999.00,9,-999.000,9,   2245.3,3,    441.8,2,   4.0,  4453.0,-999.0000,-999.000,   0.040,-999.000,-999.000