BOTTLE,20220810CCHSIOAMB
EXPOCODE,SECT_ID,STNNBR,CASTNO,SAMPNO,BTLNBR,BTLNBR_FLAG_W,DATE,TIME,LATITUDE,LONGITUDE,DEPTH,CTDRAW,CTDPRS,CTDTMP,CTDSAL,CTDSAL_FLAG_W,SALNTY,SALNTY_FLAG_W,CTDOXY,CTDOXY_FLAG_W,THETA,OXYGEN,OXYGEN_FLAG_W,SILCAT,SILCAT_FLAG_W,NO2+NO3,NO2+NO3_FLAG_W,PHSPHT,PHSPHT_FLAG_W,CFC-11,CFC-11_FLAG_W,CFC-12,CFC-12_FLAG_W,CFC113,CFC113_FLAG_W,CCL4,CCL4_FLAG_W,TRITUM,TRITUM_FLAG_W,HELIUM,HELIUM_FLAG_W,DELHE3,DELHE3_FLAG_W,NEON,NEON_FLAG_W,TCARBN,TCARBN_FLAG_W,PCO2,PCO2_FLAG_W,PCO2TMP,REVPRS,HELIER,TRITER,REVTMP,NEONER,DELHER
,,,,,,,,,,,,,DBAR,ITS-90,PSS-78,,PSS-78,,UMOL/KG,,DEG C,UMOL/KG,,UMOL/KG,,UMOL/KG,,UMOL/KG,,PMOL/KG,,PMOL/KG,,PMOL/KG,,PMOL/KG,,TU,,NMOL/KG,,PERCNT,,NMOL/KG,,UMOL/KG,,UATM,,DEG C,DBAR,NMOL/KG,TU,ITS-90,NMOL/KG,PERCNT
      74JC10_1,   A23,    40,  1,   4020,      7,2,19950408,2240,-59.0503, -30.8303, 3180,     12,     10.2,  -0.2920,  33.7462,2,  33.7468,2,    346.4,3, -0.2924,    335.2,2,    52.00,2,    23.42,2,     1.50,2, -999.000,9, -999.000,9, -999.000,9, -999.000,9, -999.000,9,-999.0000,9,  -999.00,9,-999.000,9,   -999.0,9,   -999.0,9,-999.0,  -999.0,-999.0000,-999.000,  -0.295,-999.000,-999.000
      74JC10_1,   A23,    40,  1,   4019,     19,2,19950408,2240,-59.0503, -30.8303, 3180,     12,     10.3,  -0.2800,  33.7471,2,  33.7461,2,    346.4,3, -0.2803,    337.1,2,    52.15,2,    23.47,2,     1.52,2, -999.000,9, -999.000,9, -999.000,9, -999.000,9, -999.000,9,-999.0000,9,  -999.00,9,-999.000,9,   2145.2,6,    321.2,2,   4.0,  -999.0,-999.0000,-999.000,-999.000,-999.000,-999.000
      74JC10_1,   A23,    40,  1,   4018,     18,2,19950408,2240,-59.0503, -30.8303, 3180,     57,     54.4,  -0.2862,  33.7511,2,  33.8075,2,    337.8,3, -0.2879,    329.5,2,    54.81,2,    24.02,2,     1.59,2, -999.000,9, -999.000,9, -999.000,9, -999.000,9, -999.000,9,-999.0000,9,  -999.00,9,-999.000,9,   2156.8,3,    328.0,2,   4.0,  -999.0,-999.0000,-999.000,-999.000,-999.000,-999.000
      74JC10_1,   A23,    40,  1,   4017,     17,2,19950408,2240,-59.0503, -30.8303, 3180,     82,     79.3,  -1.4259,  34.2282,2,  34.2273,2,    320.7,3, -1.4277,    298.7,2,    76.16,2,    28.96,2,     1.98,2, -999.000,9, -999.000,9, -999.000,9, -999.000,9, -999.000,9,-999.0000,9,  -999.00,9,-999.000,9,   -999.0,9,   -999.0,9,-999.0,  -999.0,-999.0000,-999.000,-999.000,-999.000,-999.000
      74JC10_1,   A23,    40,  1,   4016,     16,2,19950408,2240,-59.0503, -30.8303, 3180,    107,    104.1,  -1.2854,  34.3035,2,  34.2966,2,    295.3,3, -1.2879,    286.1,2,    79.59,2,    30.14,2,     2.01,2, -999.000,9, -999.000,9, -999.000,9, -999.000,9, -999.000,9,-999.0000,9,  -999.00,9,-999.000,9,   -999.0,9,   -999.0,9,-999.0,  -999.0,-999.0000,-999.000,-999.000,-999.000,-999.000
      74JC10_1,   A23,    40,  1,   4015,     15,2,19950408,2240,-59.0503, -30.8303, 3180,    158,    153.7,  -0.6833,  34.4194,2,  34.4182,2,    264.7,3, -0.6879,    257.2,2,    86.35,2,    31.37,2,     2.09,2, -999.000,9, -999.000,9, -999.000,9, -999.000,9, -999.000,9,-999.0000,9,  -999.00,9,-999.000,9,   2223.2,6,    430.9,2,   4.0,  -999.0,-999.0000,-999.000,-999.000,-999.000,-999.000
      74JC10_1,   A23,    40,  1,   4014,     14,2,19950408,2240,-59.0503, -30.8303, 3180,    208,    203.3,  -0.2175,  34.5211,2,  34.5229,2,    243.1,3, -0.2246,    234.2,2,    93.21,2,    31.97,2,     2.15,2, -999.000,9, -999.000,9, -999.000,9, -999.000,9, -999.000,9,-999.0000,9,  -999.00,9,-999.000,9,   -999.0,9,   -999.0,9,-999.0,  -999.0,-999.0000,-999.000,-999.000,-999.000,-999.000
      74JC10_1,   A23,    40,  1,   4013,     13,2,19950408,2240,-59.0503, -30.8303, 3180,    258,    252.8,   0.2031,  34.6081,2,  34.6097,2,    222.3,3,  0.1933,    215.4,2,   100.25,2,    32.40,2,     2.16,2, -999.000,9, -999.000,9, -999.000,9, -999.000,9, -999.000,9,-999.0000,9,  -999.00,9,-999.000,9,   -999.0,9,   -999.0,9,-999.0,  -999.0,-999.0000,-999.000,-999.000,-999.000,-999.000
      74JC10_1,   A23,    40,  1,   4012,     12,2,19950408,2240,-59.0503, -30.8303, 3180,    358,    351.6,   0.3966,  34.6514,2,  34.6519,2,    215.4,3,  0.3820,    207.8,2,   107.08,2,    32.49,2,     2.21,2, -999.000,9, -999.000,9, -999.000,9, -999.000,9, -999.000,9,-999.0000,9,  -999.00,9,-999.000,9,   2248.5,6,    481.0,2,   4.0,  -999.0,-999.0000,-999.000,-999.000,-999.000,-999.000
      74JC10_1,   A23,    40,  1,   4011,     24,2,19950408,2240,-59.0503, -30.8303, 3180,    509,    500.8,   0.4010,  34.6681,2,  34.6684,2,    207.1,3,  0.3794,    201.1,2,   109.71,2,    32.71,2,     2.18,2,    0.705,2,    0.314,2,    0.047,2,    0.917,2, -999.000,9,-999.0000,9,  -999.00,9,-999.000,9,   -999.0,9,   -999.0,9,-999.0,  -999.0,-999.0000,-999.000,-999.000,-999.000,-999.000
      74JC10_1,   A23,    40,  1,   4010,     10,2,19950408,2240,-59.0503, -30.8303, 3180,    758,    749.0,   0.3976,  34.6777,2,  34.6781,2,    210.1,3,  0.3637,    204.9,2,   115.86,2,    32.69,2,     2.18,2,    0.421,2,    0.225,2,    0.011,2,    0.649,2, -999.000,9,-999.0000,9,  -999.00,9,-999.000,9,   -999.0,9,   -999.0,9,-999.0,  -999.0,-999.0000,-999.000,-999.000,-999.000,-999.000
      74JC10_1,   A23,    40,  1,   4009,      9,2,19950408,2240,-59.0503, -30.8303, 3180,   1010,    999.2,   0.2807,  34.6758,2,  34.6773,2,    210.8,3,  0.2342,    205.8,2,   119.47,2,    32.74,2,     2.18,2, -999.000,9, -999.000,9, -999.000,9, -999.000,9, -999.000,9,-999.0000,9,  -999.00,9,-999.000,9,   2253.0,3,    482.8,2,   4.0,  -999.0,-999.0000,-999.000,-999.000,-999.000,-999.000
      74JC10_1,   A23,    40,  1,   4008,      8,2,19950408,2240,-59.0503, -30.8303, 3180,   1259,   1248.0,   0.1973,  34.6748,2,  34.6755,2,    214.1,3,  0.1374,    208.1,2,   120.84,2,    32.63,2,     2.18,2, -999.000,9, -999.000,9, -999.000,9, -999.000,9, -999.000,9,-999.0000,9,  -999.00,9,-999.000,9,   -999.0,9,   -999.0,9,-999.0,  -999.0,-999.0000,-999.000,-999.000,-999.000,-999.000
      74JC10_1,   A23,    40,  1,   4007,     26,2,19950408,2240,-59.0503, -30.8303, 3180,   1509,   1496.7,   0.1087,  34.6728,2,  34.6722,2,    219.3,3,  0.0347,    213.3,2,   121.13,2,    32.65,2,     2.21,2, -999.000,9, -999.000,9, -999.000,9, -999.000,9, -999.000,9,-999.0000,9,  -999.00,9,-999.000,9,   -999.0,9,   -999.0,9,-999.0,  -999.0,-999.0000,-999.000,   0.104,-999.000,-999.000
      74JC10_1,   A23,    40,  1,   4006,      6,2,19950408,2240,-59.0503, -30.8303, 3180,   1759,   1747.8,   0.0110,  34.6683,2,  34.6675,2,    223.9,3, -0.0777,    217.3,2,   120.84,2,    32.40,2,     2.16,2, -999.000,9, -999.000,9, -999.000,9, -999.000,9, -999.000,9,-999.0000,9,  -999.00,9,-999.000,9,   -999.0,9,   -999.0,9,-999.0,  -999.0,-999.0000,-999.000,-999.000,-999.000,-999.000
      74JC10_1,   A23,    40,  1,   4005,      5,2,19950408,2240,-59.0503, -30.8303, 3180,   2009,   1997.6,  -0.0510,  34.6648,2,  34.6649,2,    228.0,3, -0.1557,    220.6,2,   121.52,2,    32.44,2,     2.16,2, -999.000,9, -999.000,9, -999.000,9, -999.000,9, -999.000,9,-999.0000,9,  -999.00,9,-999.000,9,   -999.0,9,   -999.0,9,-999.0,  -999.0,-999.0000,-999.000,-999.000,-999.000,-999.000
      74JC10_1,   A23,    40,  1,   4004,      4,2,19950408,2240,-59.0503, -30.8303, 3180,   2508,   2497.6,  -0.1348,  34.6602,2,  34.6594,2,    233.4,3, -0.2746,    225.2,2,   122.79,2,    32.33,2,     2.15,2, -999.000,9, -999.000,9, -999.000,9, -999.000,9, -999.000,9,-999.0000,9,  -999.00,9,-999.000,9,   2246.5,3,    458.0,2,   4.0,  2505.0,-999.0000,-999.000,  -0.140,-999.000,-999.000
      74JC10_1,   A23,    40,  1,   4003,      3,2,19950408,2240,-59.0503, -30.8303, 3180,   3009,   3000.0,  -0.1890,  34.6577,2,  34.6567,2,    237.9,3, -0.3680,    229.1,2,   121.72,2,    32.33,2,     2.13,2, -999.000,9, -999.000,9, -999.000,9, -999.000,9, -999.000,9,-999.0000,9,  -999.00,9,-999.000,9,   2247.3,3,    454.0,2,   4.0,  -999.0,-999.0000,-999.000,-999.000,-999.000,-999.000
      74JC10_1,   A23,    40,  1,   4002,      2,2,19950408,2240,-59.0503, -30.8303, 3180,   3171,   3161.9,  -0.1959,  34.6565,2,  34.6559,2,    236.0,3, -0.3886,    230.5,2,   121.72,2,    32.20,2,     2.14,2, -999.000,9, -999.000,9, -999.000,9, -999.000,9, -999.000,9,-999.0000,9,  -999.00,9,-999.000,9,   -999.0,9,   -999.0,9,-999.0,  -999.0,-999.0000,-999.000,-999.000,-999.000,-999.000
      74JC10_1,   A23,    40,  1,   4001,      1,2,19950408,2240,-59.0503, -30.8303, 3180,   3171,   3162.6,  -0.1959,  34.6569,2,  34.6557,2,    235.6,3, -0.3886,    231.6,2,   122.40,2,    32.26,2,     2.14,2,    0.673,2,    0.329,2,    0.018,2,    0.917,2, -999.000,9,-999.0000,9,  -999.00,9,-999.000,9,   2247.8,6,    446.9,2,   4.0,  -999.0,-999.0000,-999.000,-999.000,-999.000,-999.000
      74JC10_1,   A23,    41,  1,   4120,      7,2,19950409,0441,-58.6352, -30.8245, 3537,     21,     18.8,   0.7067,  33.8937,2,  33.8948,2,    336.0,3,  0.7060,    325.1,2,    41.25,2,    21.18,2,     1.45,2,    5.883,2,    2.996,2,    0.579,2,    7.757,2, -999.000,9,-999.0000,9,  -999.00,9,-999.000,9,   -999.0,9,   -999.0,9,-999.0,  -999.0,-999.0000,-999.000,   0.705,-999.000,-999.000
      74JC10_1,   A23,    41,  1,   4121,     21,2,19950409,0441,-58.6352, -30.8245, 3537,     22,     19.5,   0.7073,  33.8937,2,  33.8950,2,    336.0,3,  0.7066,    326.3,2,    41.20,2,    21.18,2,     1.52,2,    6.064,2,    3.023,2,    0.606,2,    7.424,2, -999.000,9,-999.0000,9,  -999.00,9,-999.000,9,   -999.0,9,   -999.0,9,-999.0,  -999.0,-999.0000,-999.000,-999.000,-999.000,-999.000
      74JC10_1,   A23,    41,  1,   4119,     19,2,19950409,0441,-58.6352, -30.8245, 3537,     60,     57.3,   0.6985,  33.8926,2,  33.8942,2,    333.6,3,  0.6962,    326.1,2,    41.40,2,    21.19,2,     1.47,2,    6.065,2,    3.032,2,    0.563,2,    7.422,2, -999.000,9,-999.0000,9,  -999.00,9,-999.000,9,   -999.0,9,   -999.0,9,-999.0,  -999.0,-999.0000,-999.000,-999.000,-999.000,-999.000
      74JC10_1,   A23,    41,  1,   4118,     18,2,19950409,0441,-58.6352, -30.8245, 3537,     87,     84.1,   0.6453,  33.8920,3,  34.0004,3,    331.8,3,  0.2524,    314.7,2,    56.01,2,    24.21,2,     1.70,2,    5.552,2,    2.876,2,    0.566,2,    7.004,2, -999.000,9,-999.0000,9,  -999.00,9,-999.000,9,   -999.0,9,   -999.0,9,-999.0,  -999.0,-999.0000,-999.000,-999.000,-999.000,-999.000
      74JC10_1,   A23,    41,  1,   4117,     17,2,19950409,0441,-58.6352, -30.8245, 3537,    113,    109.8,  -1.3670,  34.2649,2,  34.2615,2,    300.0,3, -1.3696,    291.2,2,    76.83,2,    31.97,2,     2.03,2,    4.898,2,    2.457,2,    0.459,2,    5.805,2, -999.000,9,-999.0000,9,  -999.00,9,-999.000,9,   -999.0,9,   -999.0,9,-999.0,  -999.0,-999.0000,-999.000,-999.000,-999.000,-999.000
      74JC10_1,   A23,    41,  1,   4116,     16,2,19950409,0441,-58.6352, -30.8245, 3537,    163,    158.6,  -0.4675,  34.4133,2,  34.4180,2,    265.0,3, -0.4726,    255.4,2,    83.06,4,    31.29,2,     2.13,2,    3.477,2,    1.753,2,    0.338,2,    4.088,2, -999.000,9,-999.0000,9,  -999.00,9,-999.000,9,   -999.0,9,   -999.0,9,-999.0,  -999.0,-999.0000,-999.000,-999.000,-999.000,-999.000
      74JC10_1,   A23,    41,  1,   4115,     15,2,19950409,0441,-58.6352, -30.8245, 3537,    212,    207.5,  -0.1422,  34.5050,2,  34.5001,2,    235.5,3, -0.1496,    235.4,2,    89.34,2,    31.59,2,     2.12,2,    2.714,2,    1.356,2,    0.247,2,    3.142,2, -999.000,9,-999.0000,9,  -999.00,9,-999.000,9,   -999.0,9,   -999.0,9,-999.0,  -999.0,-999.0000,-999.000,-999.000,-999.000,-999.000
      74JC10_1,   A23,    41,  1,   4114,     14,2,19950409,0441,-58.6352, -30.8245, 3537,    261,    255.2,   0.3892,  34.5824,2,  34.5844,2,    223.3,3,  0.3788,    216.5,2,    92.72,2,    31.88,2,     2.14,2,    1.762,2,    0.919,2,    0.119,2,    2.056,2, -999.000,9,-999.0000,9,  -999.00,9,-999.000,9,   -999.0,9,   -999.0,9,-999.0,  -999.0,-999.0000,-999.000,-999.000,-999.000,-999.000
      74JC10_1,   A23,    41,  1,   4113,     13,2,19950409,0441,-58.6352, -30.8245, 3537,    361,    354.0,   0.7844,  34.6482,2,  34.6488,2,    214.8,3,  0.7685,    204.9,2,    96.63,2,    31.79,2,     2.15,2,    1.009,2,    0.502,2,    0.074,2,    1.167,2, -999.000,9,-999.0000,9,  -999.00,9,-999.000,9,   -999.0,9,   -999.0,9,-999.0,  -999.0,-999.0000,-999.000,-999.000,-999.000,-999.000
      74JC10_1,   A23,    41,  1,   4112,     12,2,19950409,0441,-58.6352, -30.8245, 3537,    510,    501.7,   0.4872,  34.6582,2,  34.6588,2,    211.1,3,  0.4652,    205.2,2,   104.66,2,    31.95,2,     2.18,2,    0.828,2,    0.395,2,    0.050,2,    0.999,2, -999.000,9,-999.0000,9,  -999.00,9,-999.000,9,   -999.0,9,   -999.0,9,-999.0,  -999.0,-999.0000,-999.000,-999.000,-999.000,-999.000
      74JC10_1,   A23,    41,  1,   4111,     24,2,19950409,0441,-58.6352, -30.8245, 3537,    765,    755.1,   0.4789,  34.6765,2,  34.6765,2,    210.6,3,  0.4442,    205.2,2,   110.79,2,    32.10,2,     2.17,2,    0.522,2,    0.265,2,    0.009,2,    0.726,2, -999.000,9,-999.0000,9,  -999.00,9,-999.000,9,   -999.0,9,   -999.0,9,-999.0,  -999.0,-999.0000,-999.000,-999.000,-999.000,-999.000
      74JC10_1,   A23,    41,  1,   4110,     10,2,19950409,0441,-58.6352, -30.8245, 3537,   1012,   1001.0,   0.3750,  34.6769,2,  34.6767,2,    210.2,3,  0.3276,    204.4,2,   115.53,2,    32.46,2,     2.20,2,    0.379,2,    0.208,2,    0.000,2,    0.615,2, -999.000,9,-999.0000,9,  -999.00,9,-999.000,9,   -999.0,9,   -999.0,9,-999.0,  -999.0,-999.0000,-999.000,-999.000,-999.000,-999.000
      74JC10_1,   A23,    41,  1,   4109,      9,2,19950409,0441,-58.6352, -30.8245, 3537,   1264,   1252.4,   0.2965,  34.6771,2,  34.6769,2,    213.2,3,  0.2353,    208.8,2,   118.05,2,    32.34,2,     2.18,2,    0.362,2,    0.202,2,    0.009,2,    0.579,2, -999.000,9,-999.0000,9,  -999.00,9,-999.000,9,   -999.0,9,   -999.0,9,-999.0,  -999.0,-999.0000,-999.000,-999.000,-999.000,-999.000
      74JC10_1,   A23,    41,  1,   4108,      8,2,19950409,0441,-58.6352, -30.8245, 3537,   1510,   1498.0,   0.2144,  34.6744,2,  34.6751,2,    215.4,3,  0.1390,    208.6,2,   120.37,2,    32.42,2,     2.20,2,    0.271,3,    0.171,2,    0.006,2,    0.499,2, -999.000,9,-999.0000,9,  -999.00,9,-999.000,9,   -999.0,9,   -999.0,9,-999.0,  -999.0,-999.0000,-999.000,-999.000,-999.000,-999.000
      74JC10_1,   A23,    41,  1,   4107,     26,2,19950409,0441,-58.6352, -30.8245, 3537,   1763,   1750.9,   0.1188,  34.6715,2,  34.6708,2,    218.4,3,  0.0284,    215.3,3,   120.37,2,    32.27,2,     2.17,2,    0.382,2,    0.208,2,    0.009,2,    0.618,2, -999.000,9,-999.0000,9,  -999.00,9,-999.000,9,   -999.0,9,   -999.0,9,-999.0,  -999.0,-999.0000,-999.000,   0.116,-999.000,-999.000
      74JC10_1,   A23,    41,  1,   4106,      6,2,19950409,0441,-58.6352, -30.8245, 3537,   2012,   2000.0,   0.0598,  34.6682,2,  34.6688,2,    221.3,3, -0.0468,    214.1,2,   122.20,2,    32.27,2,     2.18,2,    0.381,2,    0.193,2,    0.013,2,    0.620,2, -999.000,9,-999.0000,9,  -999.00,9,-999.000,9,   -999.0,9,   -999.0,9,-999.0,  -999.0,-999.0000,-999.000,-999.000,-999.000,-999.000
      74JC10_1,   A23,    41,  1,   4105,      5,2,19950409,0441,-58.6352, -30.8245, 3537,   2511,   2499.7,  -0.0835,  34.6616,2,  34.6618,2,    228.7,3, -0.2244,    224.7,2,   122.73,2,    32.25,2,     2.18,2,    0.507,2,    0.241,2,    0.023,2,    0.736,2, -999.000,9,-999.0000,9,  -999.00,9,-999.000,9,   -999.0,9,   -999.0,9,-999.0,  -999.0,-999.0000,-999.000,-999.000,-999.000,-999.000
      74JC10_1,   A23,    41,  1,   4104,      4,2,19950409,0441,-58.6352, -30.8245, 3537,   3008,   2998.0,  -0.1073,  34.6599,2,  34.6588,2,    232.8,3, -0.2880,    226.2,2,   122.45,2,    32.03,2,     2.18,2,    0.540,2,    0.270,2,    0.020,2,    0.785,2, -999.000,9,-999.0000,9,  -999.00,9,-999.000,9,   -999.0,9,   -999.0,9,-999.0,  2505.0,-999.0000,-999.000,  -0.140,-999.000,-999.000
      74JC10_1,   A23,    41,  1,   4103,      3,2,19950409,0441,-58.6352, -30.8245, 3537,   3308,   3299.2,  -0.1363,  34.6577,2,  34.6578,2,    235.7,3, -0.3425,    228.5,2,   122.11,2,    32.14,2,     2.17,2, -999.000,9, -999.000,9, -999.000,9, -999.000,9, -999.000,9,-999.0000,9,  -999.00,9,-999.000,9,   -999.0,9,   -999.0,9,-999.0,  -999.0,-999.0000,-999.000,-999.000,-999.000,-999.000
      74JC10_1,   A23,    41,  1,   4101,      1,2,19950409,0441,-58.6352, -30.8245, 3537,   3546,   3537.1,  -0.1501,  34.6575,2,  34.6563,2,    237.9,3, -0.3774,    231.6,2,   122.96,2,    32.01,2,     2.16,2,    0.640,2,    0.295,2,    0.039,2,    0.831,2, -999.000,9,-999.0000,9,  -999.00,9,-999.000,9,   -999.0,9,   -999.0,9,-999.0,  3520.0,-999.0000,-999.000,  -0.157,-999.000,-999.000
      74JC10_1,   A23,    41,  1,   4102,      2,2,19950409,0441,-58.6352, -30.8245, 3537,   3548,   3539.4,  -0.1500,  34.6578,2,  34.6563,2,    238.2,3, -0.3776,    230.2,2,   122.06,2,    32.19,2,     2.16,2,    0.624,2,    0.309,2,    0.020,2,    0.819,2, -999.000,9,-999.0000,9,  -999.00,9,-999.000,9,   -999.0,9,   -999.0,9,-999.0,  -999.0,-999.0000,-999.000,-999.000,-999.000,-999.000