BOTTLE,20220810CCHSIOAMB
EXPOCODE,SECT_ID,STNNBR,CASTNO,SAMPNO,BTLNBR,BTLNBR_FLAG_W,DATE,TIME,LATITUDE,LONGITUDE,DEPTH,CTDRAW,CTDPRS,CTDTMP,CTDSAL,CTDSAL_FLAG_W,SALNTY,SALNTY_FLAG_W,CTDOXY,CTDOXY_FLAG_W,THETA,OXYGEN,OXYGEN_FLAG_W,SILCAT,SILCAT_FLAG_W,NO2+NO3,NO2+NO3_FLAG_W,PHSPHT,PHSPHT_FLAG_W,CFC-11,CFC-11_FLAG_W,CFC-12,CFC-12_FLAG_W,CFC113,CFC113_FLAG_W,CCL4,CCL4_FLAG_W,TRITUM,TRITUM_FLAG_W,HELIUM,HELIUM_FLAG_W,DELHE3,DELHE3_FLAG_W,NEON,NEON_FLAG_W,TCARBN,TCARBN_FLAG_W,PCO2,PCO2_FLAG_W,PCO2TMP,REVPRS,HELIER,TRITER,REVTMP,NEONER,DELHER
,,,,,,,,,,,,,DBAR,ITS-90,PSS-78,,PSS-78,,UMOL/KG,,DEG C,UMOL/KG,,UMOL/KG,,UMOL/KG,,UMOL/KG,,PMOL/KG,,PMOL/KG,,PMOL/KG,,PMOL/KG,,TU,,NMOL/KG,,PERCNT,,NMOL/KG,,UMOL/KG,,UATM,,DEG C,DBAR,NMOL/KG,TU,ITS-90,NMOL/KG,PERCNT
      74JC10_1,   A23,   106,  1,  10618,     18,2,19950501,0940,-32.5637, -35.9943, 3011,     15,      8.6,  21.0310,  35.7971,2,  35.7971,2,    221.8,3, 21.0294,    218.6,2,     2.90,2,    -0.06,2,     0.00,2,    2.325,2,    1.182,2,    0.220,2,    2.342,2, -999.000,9,-999.0000,9,  -999.00,9,-999.000,9,   -999.0,9,   -999.0,9,-999.0,  -999.0,-999.0000,-999.000,-999.000,-999.000,-999.000
      74JC10_1,   A23,   106,  1,  10617,     17,2,19950501,0940,-32.5637, -35.9943, 3011,     62,     55.3,  21.0048,  35.7992,2,  35.8011,2,    226.1,3, 20.9942,    218.8,2,     2.96,2,    -0.05,2,     0.02,2,    2.351,2,    1.192,2,    0.240,2,    2.288,2, -999.000,9,-999.0000,9,  -999.00,9,-999.000,9,   -999.0,9,   -999.0,9,-999.0,  -999.0,-999.0000,-999.000,-999.000,-999.000,-999.000
      74JC10_1,   A23,   106,  1,  10616,     16,2,19950501,0940,-32.5637, -35.9943, 3011,    115,    107.3,  18.2300,  35.9729,2,  35.9552,2,    222.9,3, 18.2113,    212.8,2,     3.07,2,     0.60,2,     0.13,2,    2.623,2,    1.348,2,    0.182,2,    1.117,2, -999.000,9,-999.0000,9,  -999.00,9,-999.000,9,   -999.0,9,   -999.0,9,-999.0,  -999.0,-999.0000,-999.000,-999.000,-999.000,-999.000
      74JC10_1,   A23,   106,  1,  10615,     15,2,19950501,0940,-32.5637, -35.9943, 3011,    165,    157.4,  16.3725,  35.7118,2,  35.6968,2,    213.3,3, 16.3471,    207.2,2,     3.62,2,     3.78,2,     0.32,2,    2.712,2,    1.360,2,    0.107,2,    0.776,2, -999.000,9,-999.0000,9,  -999.00,9,-999.000,9,   -999.0,9,   -999.0,9,-999.0,  -999.0,-999.0000,-999.000,-999.000,-999.000,-999.000
      74JC10_1,   A23,   106,  1,  10614,     14,2,19950501,0940,-32.5637, -35.9943, 3011,    269,    260.1,  15.0564,  35.5920,2,  35.5918,2,    218.5,3, 15.0167,    212.6,2,     3.98,2,     6.16,4,     0.50,2,    2.778,2,    1.398,2,    0.101,2,    0.830,2, -999.000,9,-999.0000,9,  -999.00,9,-999.000,9,   -999.0,9,   -999.0,9,-999.0,  -999.0,-999.0000,-999.000,-999.000,-999.000,-999.000
      74JC10_1,   A23,   106,  1,  10613,     13,2,19950501,0940,-32.5637, -35.9943, 3011,    370,    360.5,  13.8795,  35.4250,2,  35.4151,2,    216.2,3, 13.8272,    211.0,2,     4.46,2,     8.83,2,     0.62,2, -999.000,9, -999.000,9, -999.000,9, -999.000,9, -999.000,9,-999.0000,9,  -999.00,9,-999.000,9,   -999.0,9,   -999.0,9,-999.0,  -999.0,-999.0000,-999.000,-999.000,-999.000,-999.000
      74JC10_1,   A23,   106,  1,  10612,     12,2,19950501,0940,-32.5637, -35.9943, 3011,    522,    512.0,  10.9740,  34.9519,2,  34.9518,2,    210.5,3, 10.9101,    205.1,2,     7.17,2,    16.02,2,     1.05,2,    2.449,2,    1.131,2,    0.059,2,    0.965,2, -999.000,9,-999.0000,9,  -999.00,9,-999.000,9,   -999.0,9,   -999.0,9,-999.0,  -999.0,-999.0000,-999.000,-999.000,-999.000,-999.000
      74JC10_1,   A23,   106,  1,  10611,     24,2,19950501,0940,-32.5637, -35.9943, 3011,    775,    764.8,   5.9646,  34.3744,2,  34.3747,2,    229.4,3,  5.8968,    224.7,2,    15.74,2,    26.29,2,     1.72,2,    2.223,2,    0.975,2,    0.104,2,    2.380,2, -999.000,9,-999.0000,9,  -999.00,9,-999.000,9,   -999.0,9,   -999.0,9,-999.0,  -999.0,-999.0000,-999.000,-999.000,-999.000,-999.000
      74JC10_1,   A23,   106,  1,  10610,     10,2,19950501,0940,-32.5637, -35.9943, 3011,   1030,   1018.7,   3.8338,  34.2967,2,  34.2987,2,    229.0,3,  3.7583,    220.7,2,    30.82,2,    30.64,2,     2.02,2,    1.243,2,    0.495,3,    0.040,2,    2.004,2, -999.000,9,-999.0000,9,  -999.00,9,-999.000,9,   -999.0,9,   -999.0,9,-999.0,  -999.0,-999.0000,-999.000,-999.000,-999.000,-999.000
      74JC10_1,   A23,   106,  1,  10609,      9,2,19950501,0940,-32.5637, -35.9943, 3011,   1290,   1277.4,   3.1318,  34.4150,2,  34.4155,2,    201.8,3,  3.0412,    194.5,2,    48.55,2,    32.69,2,     2.21,2,    0.319,2,    0.154,2,    0.006,2,    0.956,2, -999.000,9,-999.0000,9,  -999.00,9,-999.000,9,   -999.0,9,   -999.0,9,-999.0,  -999.0,-999.0000,-999.000,-999.000,-999.000,-999.000
      74JC10_1,   A23,   106,  1,  10608,      8,2,19950501,0940,-32.5637, -35.9943, 3011,   1546,   1533.4,   2.8530,  34.5694,2,  34.5710,2,    193.0,3,  2.7442,    186.2,2,    57.90,2,    31.98,2,     2.14,2,    0.080,2,    0.041,2,    0.000,2,    0.376,2, -999.000,9,-999.0000,9,  -999.00,9,-999.000,9,   -999.0,9,   -999.0,9,-999.0,  -999.0,-999.0000,-999.000,-999.000,-999.000,-999.000
      74JC10_1,   A23,   106,  1,  10607,     26,2,19950501,0940,-32.5637, -35.9943, 3011,   1800,   1787.3,   2.8396,  34.6926,2,  34.6899,2,    197.1,3,  2.7090,    192.6,2,    57.95,2,    30.18,2,     1.97,2, -999.000,9,    0.061,3,    0.000,2,    0.183,2, -999.000,9,-999.0000,9,  -999.00,9,-999.000,9,   -999.0,9,   -999.0,9,-999.0,  -999.0,-999.0000,-999.000,   2.831,-999.000,-999.000
      74JC10_1,   A23,   106,  1,  10606,      6,2,19950501,0940,-32.5637, -35.9943, 3011,   2048,   2036.3,   2.8916,  34.7872,2,  34.7872,2,    214.2,3,  2.7380,    208.2,2,    51.25,2,    27.41,2,     1.77,2,    0.011,2,    0.005,2,    0.000,2,    0.113,2, -999.000,9,-999.0000,9,  -999.00,9,-999.000,9,   -999.0,9,   -999.0,9,-999.0,  -999.0,-999.0000,-999.000,-999.000,-999.000,-999.000
      74JC10_1,   A23,   106,  1,  10605,      5,2,19950501,0940,-32.5637, -35.9943, 3011,   2310,   2298.7,   2.9698,  34.8675,2,  34.8674,2,    234.4,3,  2.7902,    227.3,2,    42.02,2,    24.42,2,     1.54,2,    0.016,3,    0.014,3,    0.000,2,    0.116,2, -999.000,9,-999.0000,9,  -999.00,9,-999.000,9,   -999.0,9,   -999.0,9,-999.0,  -999.0,-999.0000,-999.000,-999.000,-999.000,-999.000
      74JC10_1,   A23,   106,  1,  10604,      4,2,19950501,0940,-32.5637, -35.9943, 3011,   2567,   2556.4,   2.9353,  34.9003,2,  34.9000,2,    244.2,3,  2.7312,    237.2,2,    37.80,2,    22.94,2,     1.47,2,    0.003,2,    0.012,3,    0.000,2,    0.111,2, -999.000,9,-999.0000,9,  -999.00,9,-999.000,9,   -999.0,9,   -999.0,9,-999.0,  2558.0,-999.0000,-999.000,   2.930,-999.000,-999.000
      74JC10_1,   A23,   106,  1,  10603,      3,2,19950501,0940,-32.5637, -35.9943, 3011,   2872,   2862.2,   2.8125,  34.9117,2,  34.9119,2,    252.5,3,  2.5801,    243.5,2,    37.20,2,    22.17,2,     1.38,2,    0.009,2,    0.011,2,    0.000,2,    0.104,2, -999.000,9,-999.0000,9,  -999.00,9,-999.000,9,   -999.0,9,   -999.0,9,-999.0,  -999.0,-999.0000,-999.000,-999.000,-999.000,-999.000
      74JC10_1,   A23,   106,  1,  10601,      1,2,19950501,0940,-32.5637, -35.9943, 3011,   3034,   3024.2,   2.7002,  34.9105,2,  34.9097,2,    252.7,3,  2.4536,    245.8,2,    39.61,2,    22.14,2,     1.38,2,    0.012,2,    0.012,2,    0.000,2,    0.113,2, -999.000,9,-999.0000,9,  -999.00,9,-999.000,9,   -999.0,9,   -999.0,9,-999.0,  3005.0,-999.0000,-999.000,   2.698,-999.000,-999.000
      74JC10_1,   A23,   106,  1,  10602,      2,2,19950501,0940,-32.5637, -35.9943, 3011,   3034,   3024.4,   2.7002,  34.9102,2,  34.9099,2,    252.7,3,  2.4536,    245.1,2,    38.82,2,    22.18,2,     1.39,2,   -0.003,2,    0.007,2,    0.000,2,    0.092,2, -999.000,9,-999.0000,9,  -999.00,9,-999.000,9,   -999.0,9,   -999.0,9,-999.0,  -999.0,-999.0000,-999.000,-999.000,-999.000,-999.000
      74JC10_1,   A23,   107,  1,  10718,     18,2,19950501,1449,-32.0002, -36.0062, 2631,     11,      3.5,  21.6162,  35.6203,2,  35.6204,2,    221.8,3, 21.6156,    217.1,2,     3.06,2,     0.00,2,     0.00,2, -999.000,9, -999.000,9, -999.000,9, -999.000,9, -999.000,9,-999.0000,9,  -999.00,9,-999.000,9,   -999.0,9,   -999.0,9,-999.0,  -999.0,-999.0000,-999.000,-999.000,-999.000,-999.000
      74JC10_1,   A23,   107,  1,  10717,     17,2,19950501,1449,-32.0002, -36.0062, 2631,     64,     56.4,  21.5811,  35.6193,2,  35.6184,2,    231.4,3, 21.5700,    216.8,2,     3.06,2,     0.00,2,     0.01,2, -999.000,9, -999.000,9, -999.000,9, -999.000,9, -999.000,9,-999.0000,9,  -999.00,9,-999.000,9,   -999.0,9,   -999.0,9,-999.0,  -999.0,-999.0000,-999.000,-999.000,-999.000,-999.000
      74JC10_1,   A23,   107,  1,  10716,     16,2,19950501,1449,-32.0002, -36.0062, 2631,    113,    105.8,  17.8087,  35.8005,2,  35.7981,2,    233.4,3, 17.7906,    223.9,2,     3.27,2,     0.11,2,     0.11,2, -999.000,9, -999.000,9, -999.000,9, -999.000,9, -999.000,9,-999.0000,9,  -999.00,9,-999.000,9,   -999.0,9,   -999.0,9,-999.0,  -999.0,-999.0000,-999.000,-999.000,-999.000,-999.000
      74JC10_1,   A23,   107,  1,  10715,     15,2,19950501,1449,-32.0002, -36.0062, 2631,    167,    159.1,  16.3845,  35.6257,2,  35.6230,2,    222.1,3, 16.3588,    216.8,2,     3.79,2,     2.03,2,     0.24,2, -999.000,9, -999.000,9, -999.000,9, -999.000,9, -999.000,9,-999.0000,9,  -999.00,9,-999.000,9,   -999.0,9,   -999.0,9,-999.0,  -999.0,-999.0000,-999.000,-999.000,-999.000,-999.000
      74JC10_1,   A23,   107,  1,  10714,     14,2,19950501,1449,-32.0002, -36.0062, 2631,    217,    208.5,  15.5309,  35.5404,2,  35.5476,2,    225.5,3, 15.4984,    215.2,2,     4.17,2,     4.23,2,     0.34,2, -999.000,9, -999.000,9, -999.000,9, -999.000,9, -999.000,9,-999.0000,9,  -999.00,9,-999.000,9,   -999.0,9,   -999.0,9,-999.0,  -999.0,-999.0000,-999.000,-999.000,-999.000,-999.000
      74JC10_1,   A23,   107,  1,  10713,     13,2,19950501,1449,-32.0002, -36.0062, 2631,    267,    258.3,  14.8961,  35.5115,2,  35.5083,2,    218.6,3, 14.8569,    215.5,2,     4.27,2,     5.34,2,     0.40,2, -999.000,9, -999.000,9, -999.000,9, -999.000,9, -999.000,9,-999.0000,9,  -999.00,9,-999.000,9,   -999.0,9,   -999.0,9,-999.0,  -999.0,-999.0000,-999.000,-999.000,-999.000,-999.000
      74JC10_1,   A23,   107,  1,  10712,     12,2,19950501,1449,-32.0002, -36.0062, 2631,    367,    357.8,  13.7086,  35.3600,2,  35.3604,2,    222.7,3, 13.6572,    212.7,2,     4.59,2,     8.38,2,     0.60,2, -999.000,9, -999.000,9, -999.000,9, -999.000,9, -999.000,9,-999.0000,9,  -999.00,9,-999.000,9,   -999.0,9,   -999.0,9,-999.0,  -999.0,-999.0000,-999.000,-999.000,-999.000,-999.000
      74JC10_1,   A23,   107,  1,  10711,     24,2,19950501,1449,-32.0002, -36.0062, 2631,    522,    512.0,  11.1776,  34.9674,2,  34.9660,2,    214.2,3, 11.1129,    208.7,2,     6.80,2,    18.55,2,     0.98,2, -999.000,9, -999.000,9, -999.000,9, -999.000,9, -999.000,9,-999.0000,9,  -999.00,9,-999.000,9,   -999.0,9,   -999.0,9,-999.0,  -999.0,-999.0000,-999.000,-999.000,-999.000,-999.000
      74JC10_1,   A23,   107,  1,  10710,     10,2,19950501,1449,-32.0002, -36.0062, 2631,    777,    766.4,   6.0334,  34.3868,2,  34.3876,2,    226.7,3,  5.9650,    222.6,2,    16.10,2,    26.21,2,     1.70,2, -999.000,9, -999.000,9, -999.000,9, -999.000,9, -999.000,9,-999.0000,9,  -999.00,9,-999.000,9,   -999.0,9,   -999.0,9,-999.0,  -999.0,-999.0000,-999.000,-999.000,-999.000,-999.000
      74JC10_1,   A23,   107,  1,  10709,      9,2,19950501,1449,-32.0002, -36.0062, 2631,   1031,   1019.9,   4.0284,  34.3008,2,  34.3011,2,    228.4,3,  3.9512,    222.2,2,    29.41,2,    33.86,2,     1.95,2, -999.000,9, -999.000,9, -999.000,9, -999.000,9, -999.000,9,-999.0000,9,  -999.00,9,-999.000,9,   -999.0,9,   -999.0,9,-999.0,  -999.0,-999.0000,-999.000,-999.000,-999.000,-999.000
      74JC10_1,   A23,   107,  1,  10708,      8,2,19950501,1449,-32.0002, -36.0062, 2631,   1284,   1272.2,   3.1087,  34.3976,2,  34.3996,2,    208.2,3,  3.0188,    200.2,2,    47.35,2,    32.59,2,     2.13,2, -999.000,9, -999.000,9, -999.000,9, -999.000,9, -999.000,9,-999.0000,9,  -999.00,9,-999.000,9,   -999.0,9,   -999.0,9,-999.0,  -999.0,-999.0000,-999.000,-999.000,-999.000,-999.000
      74JC10_1,   A23,   107,  1,  10707,     26,2,19950501,1449,-32.0002, -36.0062, 2631,   1543,   1531.5,   2.8814,  34.5840,2,  34.5853,2,    196.7,3,  2.7724,    191.4,2,    56.25,2,    31.63,2,     2.09,2, -999.000,9, -999.000,9, -999.000,9, -999.000,9, -999.000,9,-999.0000,9,  -999.00,9,-999.000,9,   -999.0,9,   -999.0,9,-999.0,  -999.0,-999.0000,-999.000,   2.877,-999.000,-999.000
      74JC10_1,   A23,   107,  1,  10706,      6,2,19950501,1449,-32.0002, -36.0062, 2631,   1799,   1787.4,   2.8427,  34.7162,2,  34.7156,2,    204.8,3,  2.7121,    198.2,2,    55.20,2,    29.21,2,     1.86,2, -999.000,9, -999.000,9, -999.000,9, -999.000,9, -999.000,9,-999.0000,9,  -999.00,9,-999.000,9,   -999.0,9,   -999.0,9,-999.0,  -999.0,-999.0000,-999.000,-999.000,-999.000,-999.000
      74JC10_1,   A23,   107,  1,  10705,      5,2,19950501,1449,-32.0002, -36.0062, 2631,   2055,   2043.6,   2.9270,  34.8172,2,  34.8141,2,    223.7,3,  2.7720,    215.9,2,    47.38,2,    26.07,2,     1.63,2, -999.000,9, -999.000,9, -999.000,9, -999.000,9, -999.000,9,-999.0000,9,  -999.00,9,-999.000,9,   -999.0,9,   -999.0,9,-999.0,  -999.0,-999.0000,-999.000,-999.000,-999.000,-999.000
      74JC10_1,   A23,   107,  1,  10704,      4,2,19950501,1449,-32.0002, -36.0062, 2631,   2261,   2250.5,   2.9800,  34.8767,2,  34.8772,2,    235.9,3,  2.8047,    229.9,2,    40.89,2,    23.68,2,     1.48,2, -999.000,9, -999.000,9, -999.000,9, -999.000,9, -999.000,9,-999.0000,9,  -999.00,9,-999.000,9,   -999.0,9,   -999.0,9,-999.0,  2254.0,-999.0000,-999.000,   2.974,-999.000,-999.000
      74JC10_1,   A23,   107,  1,  10703,      3,2,19950501,1449,-32.0002, -36.0062, 2631,   2463,   2453.6,   2.9653,  34.9098,2,  34.9097,2,    248.5,3,  2.7707,    239.8,2,    36.09,2,    22.27,2,     1.36,2, -999.000,9, -999.000,9, -999.000,9, -999.000,9, -999.000,9,-999.0000,9,  -999.00,9,-999.000,9,   -999.0,9,   -999.0,9,-999.0,  -999.0,-999.0000,-999.000,-999.000,-999.000,-999.000
      74JC10_1,   A23,   107,  1,  10701,      1,2,19950501,1449,-32.0002, -36.0062, 2631,   2651,   2641.6,   2.8559,  34.9199,2,  34.9193,2,    251.8,3,  2.6448,    244.1,2,    36.72,2,    21.65,2,     1.33,2, -999.000,9, -999.000,9, -999.000,9, -999.000,9, -999.000,9,-999.0000,9,  -999.00,9,-999.000,9,   -999.0,9,   -999.0,9,-999.0,  2621.0,-999.0000,-999.000,   2.853,-999.000,-999.000
      74JC10_1,   A23,   107,  1,  10702,      2,2,19950501,1449,-32.0002, -36.0062, 2631,   2652,   2642.7,   2.8560,  34.9196,2,  34.9201,2,    252.3,3,  2.6448,    245.6,2,    35.72,2,    21.53,2,     1.31,2, -999.000,9, -999.000,9, -999.000,9, -999.000,9, -999.000,9,-999.0000,9,  -999.00,9,-999.000,9,   -999.0,9,   -999.0,9,-999.0,  -999.0,-999.0000,-999.000,-999.000,-999.000,-999.000