BOTTLE,20220810CCHSIOAMB
EXPOCODE,SECT_ID,STNNBR,CASTNO,SAMPNO,BTLNBR,BTLNBR_FLAG_W,DATE,TIME,LATITUDE,LONGITUDE,DEPTH,CTDRAW,CTDPRS,CTDTMP,CTDSAL,CTDSAL_FLAG_W,SALNTY,SALNTY_FLAG_W,CTDOXY,CTDOXY_FLAG_W,THETA,OXYGEN,OXYGEN_FLAG_W,SILCAT,SILCAT_FLAG_W,NO2+NO3,NO2+NO3_FLAG_W,PHSPHT,PHSPHT_FLAG_W,CFC-11,CFC-11_FLAG_W,CFC-12,CFC-12_FLAG_W,CFC113,CFC113_FLAG_W,CCL4,CCL4_FLAG_W,TRITUM,TRITUM_FLAG_W,HELIUM,HELIUM_FLAG_W,DELHE3,DELHE3_FLAG_W,NEON,NEON_FLAG_W,TCARBN,TCARBN_FLAG_W,PCO2,PCO2_FLAG_W,PCO2TMP,REVPRS,HELIER,TRITER,REVTMP,NEONER,DELHER
,,,,,,,,,,,,,DBAR,ITS-90,PSS-78,,PSS-78,,UMOL/KG,,DEG C,UMOL/KG,,UMOL/KG,,UMOL/KG,,UMOL/KG,,PMOL/KG,,PMOL/KG,,PMOL/KG,,PMOL/KG,,TU,,NMOL/KG,,PERCNT,,NMOL/KG,,UMOL/KG,,UATM,,DEG C,DBAR,NMOL/KG,TU,ITS-90,NMOL/KG,PERCNT
      74JC10_1,   A23,    57,  1,   5724,     11,2,19950413,0234,-54.2193, -34.6687, 4227,     10,      7.9,   2.3499,  33.8244,2,  33.8269,2,    322.7,3,  2.3495,    317.5,2,    16.31,2,    22.36,2,     1.47,2,    5.748,2,    2.704,2,    0.547,2,    6.886,2, -999.000,9,-999.0000,9,  -999.00,9,   8.199,2,   -999.0,9,   -999.0,9,-999.0,  -999.0,-999.0000,   0.010,-999.000,   0.025,-999.000
      74JC10_1,   A23,    57,  1,   5723,     23,2,19950413,0234,-54.2193, -34.6687, 4227,     62,     58.4,   2.3398,  33.8243,2,  33.8255,2,    325.7,3,  2.3367,    318.7,2,    16.49,2,    22.48,2,     1.48,2,    5.585,2,    2.514,2,    0.522,2,    6.535,2, -999.000,9,-999.0000,9,  -999.00,9,-999.000,9,   -999.0,9,   -999.0,9,-999.0,  -999.0,-999.0000,-999.000,-999.000,-999.000,-999.000
      74JC10_1,   A23,    57,  1,   5722,     25,2,19950413,0234,-54.2193, -34.6687, 4227,    113,    108.7,   1.5135,  33.8974,2,  33.8979,2,    317.1,3,  1.5083,    310.1,2,    24.70,2,    25.12,2,     1.66,2,    5.491,2,    2.535,2,    0.514,2,    6.342,2,    0.130,2,   1.7830,2,    -1.72,2,-999.000,9,   -999.0,9,   -999.0,9,-999.0,  -999.0,  0.0070,-999.000,-999.000,-999.000,   0.300
      74JC10_1,   A23,    57,  1,   5721,     21,2,19950413,0234,-54.2193, -34.6687, 4227,    158,    153.5,   0.6252,  34.0762,2,  34.0768,2,    281.6,3,  0.6190,    272.7,2,    41.29,2,    30.82,2,     2.05,2,    4.439,2,    2.060,2,    0.388,2,    4.868,2,    0.123,2,   1.8220,2,     0.87,2,   8.051,2,   -999.0,9,   -999.0,9,-999.0,  -999.0,  0.0070,   0.009,-999.000,   0.025,   0.300
      74JC10_1,   A23,    57,  1,   5720,     27,2,19950413,0234,-54.2193, -34.6687, 4227,    212,    206.2,   1.3996,  34.2601,2,  34.2715,2,    231.8,3,  1.3897,    222.3,2,    56.17,2,    33.32,2,     2.23,2,    2.631,2,    1.150,2,    0.210,2,    2.995,2, -999.000,9,-999.0000,9,  -999.00,9,-999.000,9,   -999.0,9,   -999.0,9,-999.0,  -999.0,-999.0000,-999.000,   1.393,-999.000,-999.000
      74JC10_1,   A23,    57,  1,   5719,     19,2,19950413,0234,-54.2193, -34.6687, 4227,    263,    256.7,   1.7086,  34.3904,2,  34.3868,2,    205.8,3,  1.6954,    199.0,2,    65.62,2,    34.16,2,     2.29,2,    1.743,2,    0.767,2,    0.131,2,    2.080,2,    0.056,2,   1.8360,2,     5.52,2,   7.996,2,   -999.0,9,   -999.0,9,-999.0,  -999.0,  0.0070,   0.003,-999.000,   0.025,   0.300
      74JC10_1,   A23,    57,  1,   5717,     17,2,19950413,0234,-54.2193, -34.6687, 4227,    361,    353.7,   1.8278,  34.4821,2,  34.4820,2,    191.8,3,  1.8089,    184.6,2,    73.09,2,    34.28,2,     2.32,2,    1.145,2,    0.525,2,    0.082,2,    1.391,2,    0.043,2,   1.8590,2,     6.87,2,   8.076,2,   -999.0,9,   -999.0,9,-999.0,  -999.0,  0.0070,   0.002,-999.000,   0.025,   0.300
      74JC10_1,   A23,    57,  1,   5718,     18,2,19950413,0234,-54.2193, -34.6687, 4227,    362,    355.2,   1.8267,  34.4838,2,  34.4838,2,    192.9,3,  1.8077,    184.4,2,    73.60,2,    34.33,2,     2.32,2,    1.126,2,    0.494,2,    0.082,2,    1.463,2, -999.000,9,-999.0000,9,  -999.00,9,-999.000,9,   -999.0,9,   -999.0,9,-999.0,  -999.0,-999.0000,-999.000,-999.000,-999.000,-999.000
      74JC10_1,   A23,    57,  1,   5716,     16,2,19950413,0234,-54.2193, -34.6687, 4227,    511,    502.2,   1.9807,  34.5918,2,  34.5928,2,    180.2,3,  1.9527,    172.9,2,    80.84,2,    33.70,2,     2.29,2,    0.514,2,    0.241,2,    0.019,2,    0.758,2, -999.000,9,-999.0000,9,  -999.00,9,-999.000,9,   -999.0,9,   -999.0,9,-999.0,  -999.0,-999.0000,-999.000,-999.000,-999.000,-999.000
      74JC10_1,   A23,    57,  1,   5715,     15,2,19950413,0234,-54.2193, -34.6687, 4227,    761,    750.5,   1.9252,  34.6712,2,  34.6734,2,    180.5,3,  1.8819,    173.7,2,    88.36,2,    32.83,2,     2.22,2,    0.174,2,    0.098,2,    0.000,2,    0.341,2,    0.025,2,   1.8630,2,    10.48,2,   8.040,2,   -999.0,9,   -999.0,9,-999.0,  -999.0,  0.0070,   0.002,-999.000,   0.025,   0.300
      74JC10_1,   A23,    57,  1,   5714,     14,2,19950413,0234,-54.2193, -34.6687, 4227,   1013,   1000.9,   1.5634,  34.6948,2,  34.6954,3,    192.5,3,  1.5065,    185.4,2,    94.65,2,    32.13,2,     2.16,2,    0.286,2,    0.131,2,    0.016,2,    0.435,2,    0.034,2,   1.8710,2,    10.61,2,   8.090,2,   -999.0,9,   -999.0,9,-999.0,  -999.0,  0.0070,   0.012,-999.000,   0.025,   0.300
      74JC10_1,   A23,    57,  1,   5713,     13,2,19950413,0234,-54.2193, -34.6687, 4227,   1263,   1250.8,   1.3556,  34.7064,2,  34.7074,2,    196.4,3,  1.2839,    190.4,2,   100.92,2,    31.90,2,     2.16,2,    0.214,2,    0.121,2,    0.005,2,    0.323,2,    0.031,2,   1.8720,2,    10.27,2,   8.080,2,   -999.0,9,   -999.0,9,-999.0,  -999.0,  0.0070,   0.002,-999.000,   0.025,   0.300
      74JC10_1,   A23,    57,  1,   5712,     12,2,19950413,0234,-54.2193, -34.6687, 4227,   1513,   1500.2,   1.0867,  34.6975,2,  34.6963,2,    205.9,3,  1.0009,    197.5,2,   103.85,2,    31.93,2,     2.15,2,    0.360,2,    0.188,2,    0.005,2,    0.508,2,    0.030,2,   1.8720,2,     9.56,2,   8.116,2,   -999.0,9,   -999.0,9,-999.0,  -999.0,  0.0070,   0.002,-999.000,   0.025,   0.300
      74JC10_1,   A23,    57,  1,   5711,     24,2,19950413,0234,-54.2193, -34.6687, 4227,   1759,   1746.5,   0.8964,  34.6954,2,  34.6958,2,    207.3,3,  0.7955,    200.8,2,   109.22,2,    31.97,2,     2.14,2,    0.320,2,    0.164,2,    0.005,2,    0.441,2,    0.027,2,   1.8880,2,     9.51,2,-999.000,9,   -999.0,9,   -999.0,9,-999.0,  -999.0,  0.0070,-999.000,-999.000,-999.000,   0.300
      74JC10_1,   A23,    57,  1,   5710,     10,2,19950413,0234,-54.2193, -34.6687, 4227,   2002,   1989.6,   0.6773,  34.6852,2,  34.6838,2,    211.3,3,  0.5618,    203.9,2,   111.95,2,    32.15,2,     2.16,2,    0.418,2,    0.214,2,    0.020,2,    0.551,2,    0.021,2,   1.8800,2,     8.97,2,   8.151,2,   -999.0,9,   -999.0,9,-999.0,  -999.0,  0.0070,   0.003,-999.000,   0.025,   0.300
      74JC10_1,   A23,    57,  1,   5709,      9,2,19950413,0234,-54.2193, -34.6687, 4227,   2509,   2497.4,   0.5353,  34.6867,2,  34.6863,2,    214.4,3,  0.3826,    207.4,2,   117.03,2,    32.44,2,     2.19,2,    0.320,2,    0.177,2,    0.008,2,    0.481,2,    0.021,2,   1.8900,2,     8.76,2,   8.217,2,   -999.0,9,   -999.0,9,-999.0,  -999.0,  0.0070,   0.010,-999.000,   0.025,   0.300
      74JC10_1,   A23,    57,  1,   5708,      8,2,19950413,0234,-54.2193, -34.6687, 4227,   3014,   3003.8,   0.3124,  34.6765,2,  34.6755,2,    221.2,3,  0.1217,    214.0,2,   118.89,2,    32.32,2,     2.21,2,    0.385,2,    0.207,2,    0.013,2,    0.575,2,    0.022,2,   1.8870,2,     7.42,2,   8.221,2,   -999.0,9,   -999.0,9,-999.0,  -999.0,  0.0070,   0.003,-999.000,   0.025,   0.300
      74JC10_1,   A23,    57,  1,   5707,     26,2,19950413,0234,-54.2193, -34.6687, 4227,   3512,   3503.1,   0.1838,  34.6696,2,  34.6681,2,    224.2,3, -0.0491,    218.6,2,   119.76,2,    32.35,2,     2.18,2,    0.421,2,    0.209,2,    0.013,2,    0.609,2, -999.000,1,   1.8800,2,     7.31,2,-999.000,9,   -999.0,9,   -999.0,9,-999.0,  -999.0,  0.0070,-999.000,   0.177,-999.000,   0.300
      74JC10_1,   A23,    57,  1,   5706,      6,2,19950413,0234,-54.2193, -34.6687, 4227,   4014,   4005.9,  -0.1011,  34.6569,2,  34.6572,2,    236.6,3, -0.3747,    230.4,2,   120.55,2,    32.18,2,     2.19,2,    0.509,2,    0.267,2,    0.016,2,    0.750,2,    0.048,2,   1.8950,2,     6.50,2,   8.322,2,   -999.0,9,   -999.0,9,-999.0,  -999.0,  0.0070,   0.003,-999.000,   0.026,   0.300
      74JC10_1,   A23,    57,  1,   5705,      5,2,19950413,0234,-54.2193, -34.6687, 4227,   4220,   4211.4,  -0.2124,  34.6545,2,  34.6525,2,    243.4,3, -0.5034,    235.7,2,   120.45,2,    32.17,2,     2.17,2,    0.612,2,    0.300,2,    0.026,2,    0.811,2,    0.041,2,   1.8940,4,     5.74,2,   8.254,4,   -999.0,9,   -999.0,9,-999.0,  -999.0,  0.0070,   0.002,-999.000,   0.026,   0.300
      74JC10_1,   A23,    57,  1,   5704,      4,2,19950413,0234,-54.2193, -34.6687, 4227,   4268,   4260.0,  -0.2304,  34.6525,2,  34.6517,2,    243.3,3, -0.5258,    236.5,2,   119.67,2,    32.15,2,     2.18,2,    0.637,2,    0.315,2,    0.023,2,    0.786,2, -999.000,9,-999.0000,9,  -999.00,9,-999.000,9,   -999.0,9,   -999.0,9,-999.0,  4270.0,-999.0000,-999.000,  -0.237,-999.000,-999.000
      74JC10_1,   A23,    57,  1,   5703,      3,2,19950413,0234,-54.2193, -34.6687, 4227,   4268,   4260.2,  -0.2304,  34.6527,2,  34.6517,2,    243.3,3, -0.5258,    236.1,2,   119.08,2,    32.09,2,     2.17,2,    0.628,2,    0.324,2,    0.017,2,    0.880,2, -999.000,9,-999.0000,9,  -999.00,9,-999.000,9,   -999.0,9,   -999.0,9,-999.0,  -999.0,-999.0000,-999.000,-999.000,-999.000,-999.000
      74JC10_1,   A23,    57,  1,   5701,      1,2,19950413,0234,-54.2193, -34.6687, 4227,   4268,   4260.3,  -0.2299,  34.6527,2,  34.6519,2,    243.3,3, -0.5254,    237.1,2,   120.74,2,    32.08,2,     2.15,2,    0.622,2,    0.306,2,    0.029,2,    0.857,2,    0.040,2,   1.8910,2,     5.55,2,   8.252,2,   -999.0,9,   -999.0,9,-999.0,  4245.0,  0.0070,   0.002,   0.229,   0.026,   0.300
      74JC10_1,   A23,    57,  1,   5702,      2,2,19950413,0234,-54.2193, -34.6687, 4227,   4268,   4260.3,  -0.2299,  34.6527,2,  34.6517,2,    243.3,3, -0.5254,    237.0,2,   120.06,2,    32.10,2,     2.17,2,    0.631,2,    0.302,2,    0.021,2,    0.876,2, -999.000,9,-999.0000,9,  -999.00,9,-999.000,9,   -999.0,9,   -999.0,9,-999.0,  -999.0,-999.0000,-999.000,-999.000,-999.000,-999.000
      74JC10_1,   A23,    58,  1,   5820,     27,2,19950413,0858,-53.9005, -35.0167, 3596,     21,     18.4,   2.3182,  33.8343,2,  33.8359,2,    326.9,3,  2.3172,    319.1,2,    18.19,2,    22.49,2,     1.48,2, -999.000,9, -999.000,9, -999.000,9, -999.000,9, -999.000,9,-999.0000,9,  -999.00,9,-999.000,9,   -999.0,9,   -999.0,9,-999.0,  -999.0,-999.0000,-999.000,   2.316,-999.000,-999.000
      74JC10_1,   A23,    58,  1,   5819,     19,2,19950413,0858,-53.9005, -35.0167, 3596,     21,     18.5,   2.3178,  33.8344,2,  33.8357,2,    326.9,3,  2.3169,    318.6,2,    17.95,2,    22.55,2,     1.48,2, -999.000,9, -999.000,9, -999.000,9, -999.000,9, -999.000,9,-999.0000,9,  -999.00,9,-999.000,9,   -999.0,9,   -999.0,9,-999.0,  -999.0,-999.0000,-999.000,-999.000,-999.000,-999.000
      74JC10_1,   A23,    58,  1,   5818,     18,2,19950413,0858,-53.9005, -35.0167, 3596,     66,     62.3,   2.0333,  33.8557,2,  33.8594,2,    327.6,3,  2.0301,    315.8,2,    20.05,2,    23.33,2,     1.55,2, -999.000,9, -999.000,9, -999.000,9, -999.000,9, -999.000,9,-999.0000,9,  -999.00,9,-999.000,9,   -999.0,9,   -999.0,9,-999.0,  -999.0,-999.0000,-999.000,-999.000,-999.000,-999.000
      74JC10_1,   A23,    58,  1,   5817,     17,2,19950413,0858,-53.9005, -35.0167, 3596,    115,    111.1,   0.6875,  34.0325,2,  34.0309,2,    295.1,3,  0.6830,    289.0,2,    39.08,2,    28.96,2,     1.95,2, -999.000,9, -999.000,9, -999.000,9, -999.000,9, -999.000,9,-999.0000,9,  -999.00,9,-999.000,9,   -999.0,9,   -999.0,9,-999.0,  -999.0,-999.0000,-999.000,-999.000,-999.000,-999.000
      74JC10_1,   A23,    58,  1,   5816,     16,2,19950413,0858,-53.9005, -35.0167, 3596,    166,    161.0,   1.2589,  34.2088,2,  34.2160,2,    238.8,3,  1.2514,    235.5,2,    51.02,2,    32.87,2,     2.19,2, -999.000,9, -999.000,9, -999.000,9, -999.000,9, -999.000,9,-999.0000,9,  -999.00,9,-999.000,9,   -999.0,9,   -999.0,9,-999.0,  -999.0,-999.0000,-999.000,-999.000,-999.000,-999.000
      74JC10_1,   A23,    58,  1,   5815,     15,2,19950413,0858,-53.9005, -35.0167, 3596,    216,    211.1,   1.6610,  34.3384,2,  34.3439,2,    216.0,3,  1.6503,    199.9,2,    61.49,2,    34.14,2,     2.29,2, -999.000,9, -999.000,9, -999.000,9, -999.000,9, -999.000,9,-999.0000,9,  -999.00,9,-999.000,9,   -999.0,9,   -999.0,9,-999.0,  -999.0,-999.0000,-999.000,-999.000,-999.000,-999.000
      74JC10_1,   A23,    58,  1,   5814,     14,2,19950413,0858,-53.9005, -35.0167, 3596,    265,    259.2,   1.7326,  34.4070,2,  34.4086,2,    200.1,3,  1.7192,    196.6,2,    66.86,2,    34.24,2,     2.30,2, -999.000,9, -999.000,9, -999.000,9, -999.000,9, -999.000,9,-999.0000,9,  -999.00,9,-999.000,9,   -999.0,9,   -999.0,9,-999.0,  -999.0,-999.0000,-999.000,-999.000,-999.000,-999.000
      74JC10_1,   A23,    58,  1,   5813,     13,2,19950413,0858,-53.9005, -35.0167, 3596,    365,    357.6,   1.7012,  34.5144,2,  34.5140,2,    192.7,3,  1.6825,    187.3,2,    75.92,2,    33.99,2,     2.29,2, -999.000,9, -999.000,9, -999.000,9, -999.000,9, -999.000,9,-999.0000,9,  -999.00,9,-999.000,9,   -999.0,9,   -999.0,9,-999.0,  -999.0,-999.0000,-999.000,-999.000,-999.000,-999.000
      74JC10_1,   A23,    58,  1,   5812,     12,2,19950413,0858,-53.9005, -35.0167, 3596,    514,    505.9,   1.8562,  34.6128,2,  34.6124,2,    185.4,3,  1.8284,    176.3,2,    82.42,2,    33.47,2,     2.25,2, -999.000,9, -999.000,9, -999.000,9, -999.000,9, -999.000,9,-999.0000,9,  -999.00,9,-999.000,9,   -999.0,9,   -999.0,9,-999.0,  -999.0,-999.0000,-999.000,-999.000,-999.000,-999.000
      74JC10_1,   A23,    58,  1,   5811,     24,2,19950413,0858,-53.9005, -35.0167, 3596,    765,    755.2,   1.7410,  34.6749,2,  34.6749,2,    185.7,3,  1.6986,    180.2,2,    89.32,2,    32.61,2,     2.19,2, -999.000,9, -999.000,9, -999.000,9, -999.000,9, -999.000,9,-999.0000,9,  -999.00,9,-999.000,9,   -999.0,9,   -999.0,9,-999.0,  -999.0,-999.0000,-999.000,-999.000,-999.000,-999.000
      74JC10_1,   A23,    58,  1,   5810,     10,2,19950413,0858,-53.9005, -35.0167, 3596,   1018,   1006.0,   1.4797,  34.6932,2,  34.6932,2,    192.5,3,  1.4231,    189.1,2,    95.55,2,    32.04,2,     2.17,2, -999.000,9, -999.000,9, -999.000,9, -999.000,9, -999.000,9,-999.0000,9,  -999.00,9,-999.000,9,   -999.0,9,   -999.0,9,-999.0,  -999.0,-999.0000,-999.000,-999.000,-999.000,-999.000
      74JC10_1,   A23,    58,  1,   5809,      9,2,19950413,0858,-53.9005, -35.0167, 3596,   1267,   1254.5,   1.2865,  34.7078,2,  34.7072,2,    196.9,3,  1.2153,    191.9,2,   102.49,2,    31.97,2,     2.14,2, -999.000,9, -999.000,9, -999.000,9, -999.000,9, -999.000,9,-999.0000,9,  -999.00,9,-999.000,9,   -999.0,9,   -999.0,9,-999.0,  -999.0,-999.0000,-999.000,-999.000,-999.000,-999.000
      74JC10_1,   A23,    58,  1,   5808,      8,2,19950413,0858,-53.9005, -35.0167, 3596,   1517,   1504.7,   1.0499,  34.7049,2,  34.7048,2,    201.5,3,  0.9641,    196.8,2,   107.76,2,    32.05,2,     2.13,2, -999.000,9, -999.000,9, -999.000,9, -999.000,9, -999.000,9,-999.0000,9,  -999.00,9,-999.000,9,   -999.0,9,   -999.0,9,-999.0,  -999.0,-999.0000,-999.000,-999.000,-999.000,-999.000
      74JC10_1,   A23,    58,  1,   5807,     26,2,19950413,0858,-53.9005, -35.0167, 3596,   1766,   1753.8,   0.8668,  34.7005,2,  34.6997,2,    204.7,3,  0.7658,    200.3,2,   111.56,2,    32.04,2,     2.14,2, -999.000,9, -999.000,9, -999.000,9, -999.000,9, -999.000,9,-999.0000,9,  -999.00,9,-999.000,9,   -999.0,9,   -999.0,9,-999.0,  -999.0,-999.0000,-999.000,   0.863,-999.000,-999.000
      74JC10_1,   A23,    58,  1,   5806,      6,2,19950413,0858,-53.9005, -35.0167, 3596,   2017,   2004.8,   0.6889,  34.6943,2,  34.6920,2,    208.7,3,  0.5720,    204.2,2,   114.39,2,    32.25,2,     2.16,2, -999.000,9, -999.000,9, -999.000,9, -999.000,9,    0.025,2,   1.8760,2,     8.97,2,   8.158,2,   -999.0,9,   -999.0,9,-999.0,  -999.0,  0.0070,   0.002,-999.000,   0.025,   0.300
      74JC10_1,   A23,    58,  1,   5805,      5,2,19950413,0858,-53.9005, -35.0167, 3596,   2517,   2505.5,   0.4713,  34.6845,2,  34.6840,2,    214.0,3,  0.3192,    208.6,2,   118.79,2,    32.44,2,     2.16,2,    0.334,2,    0.162,2,    0.018,2,    0.493,2,    0.027,2,   1.8760,3,     8.26,3,   8.188,3,   -999.0,9,   -999.0,9,-999.0,  -999.0,  0.0070,   0.014,-999.000,   0.025,   0.300
      74JC10_1,   A23,    58,  1,   5804,      4,2,19950413,0858,-53.9005, -35.0167, 3596,   3017,   3007.6,   0.2776,  34.6761,2,  34.6739,2,    221.9,3,  0.0874,    214.9,2,   121.03,2,    32.47,2,     2.16,2,    0.429,2,    0.197,2,    0.019,2,    0.619,2,    0.037,2,   1.8800,2,     7.76,2,   8.191,2,   -999.0,9,   -999.0,9,-999.0,  3016.0,  0.0070,   0.003,   0.272,   0.025,   0.300
      74JC10_1,   A23,    58,  1,   5803,      3,2,19950413,0858,-53.9005, -35.0167, 3596,   3417,   3408.5,   0.1392,  34.6692,2,  34.6679,2,    228.1,3, -0.0837,    219.2,2,   122.30,2,    32.54,2,     2.17,2,    0.441,2,    0.221,2,    0.008,2,    0.671,2, -999.000,9,   1.8900,2,     7.59,2,   8.279,2,   -999.0,9,   -999.0,9,-999.0,  -999.0,  0.0070,-999.000,-999.000,   0.026,   0.300
      74JC10_1,   A23,    58,  1,   5801,      1,2,19950413,0858,-53.9005, -35.0167, 3596,   3609,   3600.1,  -0.0168,  34.6623,2,  34.6622,2,    233.7,3, -0.2536,    226.2,2,   124.16,2,    32.46,2,     2.20,2,    0.468,2,    0.214,2,    0.012,2,    0.735,2,    0.086,3,   1.8900,2,     6.56,2,   8.271,2,   -999.0,9,   -999.0,9,-999.0,  3580.0,  0.0070,   0.004,  -0.025,   0.026,   0.300
      74JC10_1,   A23,    58,  1,   5802,      2,2,19950413,0858,-53.9005, -35.0167, 3596,   3609,   3600.2,  -0.0184,  34.6634,2,  34.6624,2,    233.7,3, -0.2551,    225.6,3,   124.35,2,    32.42,2,     2.17,2, -999.000,9, -999.000,9, -999.000,9, -999.000,9, -999.000,9,-999.0000,9,  -999.00,9,-999.000,9,   -999.0,9,   -999.0,9,-999.0,  -999.0,-999.0000,-999.000,-999.000,-999.000,-999.000