BOTTLE,20220810CCHSIOAMB
EXPOCODE,SECT_ID,STNNBR,CASTNO,SAMPNO,BTLNBR,BTLNBR_FLAG_W,DATE,TIME,LATITUDE,LONGITUDE,DEPTH,CTDRAW,CTDPRS,CTDTMP,CTDSAL,CTDSAL_FLAG_W,SALNTY,SALNTY_FLAG_W,CTDOXY,CTDOXY_FLAG_W,THETA,OXYGEN,OXYGEN_FLAG_W,SILCAT,SILCAT_FLAG_W,NO2+NO3,NO2+NO3_FLAG_W,PHSPHT,PHSPHT_FLAG_W,CFC-11,CFC-11_FLAG_W,CFC-12,CFC-12_FLAG_W,CFC113,CFC113_FLAG_W,CCL4,CCL4_FLAG_W,TRITUM,TRITUM_FLAG_W,HELIUM,HELIUM_FLAG_W,DELHE3,DELHE3_FLAG_W,NEON,NEON_FLAG_W,TCARBN,TCARBN_FLAG_W,PCO2,PCO2_FLAG_W,PCO2TMP,REVPRS,HELIER,TRITER,REVTMP,NEONER,DELHER
,,,,,,,,,,,,,DBAR,ITS-90,PSS-78,,PSS-78,,UMOL/KG,,DEG C,UMOL/KG,,UMOL/KG,,UMOL/KG,,UMOL/KG,,PMOL/KG,,PMOL/KG,,PMOL/KG,,PMOL/KG,,TU,,NMOL/KG,,PERCNT,,NMOL/KG,,UMOL/KG,,UATM,,DEG C,DBAR,NMOL/KG,TU,ITS-90,NMOL/KG,PERCNT
      74JC10_1,   A23,    10,  2,   1003,      3,2,19950331,1834,-71.8477, -18.5235, 3569,      9,      7.1,  -1.7245,  34.1977,2,  34.1997,2,    336.2,3, -1.7246,    327.7,2,    70.53,2,    27.83,2,     1.79,2, -999.000,9, -999.000,9, -999.000,9, -999.000,9, -999.000,9,-999.0000,9,  -999.00,9,-999.000,9,   2156.5,3,    350.0,2,   4.0,  -999.0,-999.0000,-999.000,-999.000,-999.000,-999.000
      74JC10_1,   A23,    10,  2,   1002,      2,2,19950331,1834,-71.8477, -18.5235, 3569,     55,     52.1,  -1.7090,  34.2032,2,  34.2070,2,    294.0,3, -1.7100,    325.9,2,    71.04,2,    27.87,2,     1.81,2, -999.000,9, -999.000,9, -999.000,9, -999.000,9, -999.000,9,-999.0000,9,  -999.00,9,-999.000,9,   2159.1,3,    348.9,2,   4.0,  -999.0,-999.0000,-999.000,-999.000,-999.000,-999.000
      74JC10_1,   A23,    10,  2,   1001,      1,2,19950331,1834,-71.8477, -18.5235, 3569,     55,     52.4,  -1.7040,  34.2065,2,  34.2062,2,    294.0,3, -1.7051,    328.4,2,    71.56,2,    27.89,2,     1.80,2,    5.794,2,    0.017,4,    0.525,2,    6.988,2, -999.000,9,-999.0000,9,  -999.00,9,-999.000,9,   -999.0,9,   -999.0,9,-999.0,    57.0,-999.0000,-999.000,  -1.713,-999.000,-999.000
      74JC10_1,   A23,    10,  2,   1024,     24,2,19950331,1834,-71.8477, -18.5235, 3569,    108,    104.1,  -0.7760,  34.5209,2,  34.5176,2,    249.8,3, -0.7790,    242.3,2,    85.47,2,    31.53,2,     2.14,2, -999.000,9, -999.000,9, -999.000,9, -999.000,9, -999.000,9,-999.0000,9,  -999.00,9,-999.000,9,   2200.5,6,    439.0,2,   4.0,  -999.0,-999.0000,-999.000,-999.000,-999.000,-999.000
      74JC10_1,   A23,    10,  2,   1023,     23,2,19950331,1834,-71.8477, -18.5235, 3569,    159,    154.5,   0.4863,  34.6267,2,  34.6307,2,    224.2,3,  0.4800,   -999.0,5,    91.80,2,    31.75,2,     2.16,2, -999.000,9, -999.000,9, -999.000,9, -999.000,9, -999.000,9,-999.0000,9,  -999.00,9,-999.000,9,   -999.0,9,   -999.0,9,-999.0,  -999.0,-999.0000,-999.000,-999.000,-999.000,-999.000
      74JC10_1,   A23,    10,  2,   1022,     25,2,19950331,1834,-71.8477, -18.5235, 3569,    211,    205.9,   0.7132,  34.6608,2,  34.6624,2,    215.0,3,  0.7043,    204.7,2,    95.60,2,    31.87,2,     2.18,2, -999.000,9, -999.000,9, -999.000,9, -999.000,9, -999.000,9,-999.0000,9,  -999.00,9,-999.000,9,   -999.0,9,   -999.0,9,-999.0,  -999.0,-999.0000,-999.000,-999.000,-999.000,-999.000
      74JC10_1,   A23,    10,  2,   1021,     21,2,19950331,1834,-71.8477, -18.5235, 3569,    260,    254.8,   0.8218,  34.6763,2,  34.6802,2,    209.8,3,  0.8104,    200.8,2,    97.43,2,    31.69,2,     2.16,2, -999.000,9, -999.000,9, -999.000,9, -999.000,9, -999.000,9,-999.0000,9,  -999.00,9,-999.000,9,   2218.3,6,    496.2,2,   4.0,  -999.0,-999.0000,-999.000,-999.000,-999.000,-999.000
      74JC10_1,   A23,    10,  2,   1020,     20,2,19950331,1834,-71.8477, -18.5235, 3569,    363,    356.5,   0.8720,  34.6931,2,  34.6946,2,    206.0,3,  0.8557,    208.5,2,   102.73,2,    31.57,2,     2.15,2, -999.000,9, -999.000,9, -999.000,9, -999.000,9, -999.000,9,-999.0000,9,  -999.00,9,-999.000,9,   -999.0,9,   -999.0,9,-999.0,  -999.0,-999.0000,-999.000,-999.000,-999.000,-999.000
      74JC10_1,   A23,    10,  2,   1018,     18,2,19950331,1834,-71.8477, -18.5235, 3569,    518,    509.6,   0.6796,  34.6894,2,  34.6908,2,    207.1,3,  0.6564,   -999.0,5,   107.51,2,    31.56,2,     2.15,2, -999.000,9, -999.000,9, -999.000,9, -999.000,9, -999.000,9,-999.0000,9,  -999.00,9,-999.000,9,   2218.3,6,    483.1,2,   4.0,  -999.0,-999.0000,-999.000,-999.000,-999.000,-999.000
      74JC10_1,   A23,    10,  2,   1019,     19,2,19950331,1834,-71.8477, -18.5235, 3569,    518,    509.6,   0.6796,  34.6894,2,  34.6916,2,    207.1,3,  0.6564,    204.7,2,   106.24,2,    31.49,2,     2.15,2, -999.000,9, -999.000,9, -999.000,9, -999.000,9, -999.000,9,-999.0000,9,  -999.00,9,-999.000,9,   2218.0,6,    483.0,2,   4.0,  -999.0,-999.0000,-999.000,-999.000,-999.000,-999.000
      74JC10_1,   A23,    10,  2,   1017,     17,2,19950331,1834,-71.8477, -18.5235, 3569,   1034,   1022.6,   0.3498,  34.6807,2,  34.6806,2,    216.9,3,  0.3014,    208.2,2,   116.57,2,    32.02,2,     2.18,2,    0.237,2, -999.000,9,    0.007,2,    0.475,2, -999.000,9,   1.8630,2,     8.24,2,   8.137,2,   -999.0,9,   -999.0,9,-999.0,  -999.0,  0.0070,-999.000,-999.000,   0.025,   0.300
      74JC10_1,   A23,    10,  2,   1016,     16,2,19950331,1834,-71.8477, -18.5235, 3569,   1034,   1023.1,   0.3510,  34.6806,2,  34.6814,2,    216.9,3,  0.3026,    211.8,2,   116.24,2,    32.00,2,     2.19,2, -999.000,9, -999.000,9, -999.000,9, -999.000,9, -999.000,9,-999.0000,9,  -999.00,9,-999.000,9,   2222.7,3,    481.7,2,   4.0,  -999.0,-999.0000,-999.000,-999.000,-999.000,-999.000
      74JC10_1,   A23,    10,  2,   1014,     14,2,19950331,1834,-71.8477, -18.5235, 3569,   1529,   1516.7,   0.1253,  34.6726,2,  34.6724,2,    226.0,3,  0.0498,    219.5,2,   120.46,2,    32.04,2,     2.20,2, -999.000,9, -999.000,9, -999.000,9, -999.000,9, -999.000,9,-999.0000,9,  -999.00,9,-999.000,9,   -999.0,9,   -999.0,9,-999.0,  -999.0,-999.0000,-999.000,-999.000,-999.000,-999.000
      74JC10_1,   A23,    10,  2,   1015,     15,2,19950331,1834,-71.8477, -18.5235, 3569,   1530,   1517.4,   0.1250,  34.6725,2,  34.6728,2,    226.0,3,  0.0495,    215.1,2,   123.04,2,    32.05,2,     2.20,2,    0.213,2, -999.000,9,    0.015,2,    0.491,2, -999.000,9,   1.8940,2,     7.42,2,   8.236,2,   -999.0,9,   -999.0,9,-999.0,  -999.0,  0.0070,-999.000,-999.000,   0.026,   0.300
      74JC10_1,   A23,    10,  2,   1013,     13,2,19950331,1834,-71.8477, -18.5235, 3569,   1794,   1782.2,   0.0458,  34.6699,2,  34.6704,2,    229.8,3, -0.0457,    218.8,2,   121.26,2,    32.08,2,     2.23,2,    0.259,2, -999.000,9,    0.007,2,    0.530,2, -999.000,9,   1.8750,2,     6.92,2,   8.164,2,   -999.0,9,   -999.0,9,-999.0,  -999.0,  0.0070,-999.000,-999.000,   0.025,   0.300
      74JC10_1,   A23,    10,  2,   1012,     12,2,19950331,1834,-71.8477, -18.5235, 3569,   2061,   2048.7,  -0.0273,  34.6677,2,  34.6681,2,    232.7,3, -0.1360,    222.2,2,   122.11,2,    32.02,2,     2.19,2, -999.000,9, -999.000,9, -999.000,9, -999.000,9, -999.000,9,-999.0000,9,  -999.00,9,-999.000,9,   2219.4,6,    464.2,2,   4.0,  -999.0,-999.0000,-999.000,-999.000,-999.000,-999.000
      74JC10_1,   A23,    10,  2,   1010,     10,2,19950331,1834,-71.8477, -18.5235, 3569,   2572,   2561.7,  -0.1334,  34.6649,2,  34.6641,2,    236.5,3, -0.2782,    226.9,2,   121.91,2,    31.85,2,     2.18,2, -999.000,9, -999.000,9, -999.000,9, -999.000,9, -999.000,9,-999.0000,9,  -999.00,9,-999.000,9,   -999.0,9,   -999.0,9,-999.0,  -999.0,-999.0000,-999.000,-999.000,-999.000,-999.000
      74JC10_1,   A23,    10,  2,   1011,     11,2,19950331,1834,-71.8477, -18.5235, 3569,   2572,   2561.7,  -0.1332,  34.6641,2,  34.6635,2,    236.5,3, -0.2779,    228.7,2,   122.43,2,    31.88,2,     2.19,2,    0.347,2, -999.000,9,    0.029,2,    0.689,2, -999.000,9,   1.8760,2,     5.98,2,   8.208,2,   2217.9,6,    456.7,2,   4.0,  -999.0,  0.0070,-999.000,-999.000,   0.025,   0.300
      74JC10_1,   A23,    10,  2,   1008,      8,2,19950331,1834,-71.8477, -18.5235, 3569,   3089,   3079.1,  -0.1761,  34.6620,2,  34.6602,2,    237.6,3, -0.3621,    232.7,2,   121.91,2,    31.66,2,     2.17,2,    0.527,2, -999.000,9,    0.025,2,    0.900,2, -999.000,9,-999.0000,9,  -999.00,9,-999.000,9,   -999.0,9,   -999.0,9,-999.0,  -999.0,-999.0000,-999.000,-999.000,-999.000,-999.000
      74JC10_1,   A23,    10,  2,   1009,      9,2,19950331,1834,-71.8477, -18.5235, 3569,   3089,   3079.4,  -0.1759,  34.6618,2,  34.6616,2,    237.6,3, -0.3620,    230.6,2,   120.98,2,    31.69,2,     2.18,2,    0.462,2, -999.000,9,    0.020,2,    0.813,2, -999.000,9,-999.0000,5,     5.19,3,-999.000,5,   -999.0,9,   -999.0,9,-999.0,  -999.0,-999.0000,-999.000,-999.000,-999.000,   0.300
      74JC10_1,   A23,    10,  2,   1007,      7,2,19950331,1834,-71.8477, -18.5235, 3569,   3577,   3568.7,  -0.2161,  34.6600,2,  34.6596,2,    238.4,3, -0.4446,    234.6,2,   123.00,2,    31.75,2,     2.17,2,    0.520,2, -999.000,9,    0.034,2,    0.904,2, -999.000,9,   1.8940,2,     5.67,2,   8.286,2,   -999.0,9,   -999.0,9,-999.0,  -999.0,  0.0070,-999.000,  -0.216,   0.026,   0.300
      74JC10_1,   A23,    10,  2,   1006,      6,2,19950331,1834,-71.8477, -18.5235, 3569,   3578,   3569.0,  -0.2155,  34.6600,2,  34.6596,2,    238.4,3, -0.4441,    232.5,2,   122.81,2,    31.71,2,     2.17,2,    0.525,2,    0.252,2,    0.017,2,    0.882,2, -999.000,9,-999.0000,9,  -999.00,9,-999.000,9,   2216.1,6,    448.7,2,   4.0,  -999.0,-999.0000,-999.000,-999.000,-999.000,-999.000
      74JC10_1,   A23,    11,  1,   1123,     23,2,19950331,2349,-71.7043, -18.8625, 4051,     10,      8.2,  -1.7262,  34.1516,2,  34.1524,2,    292.8,3, -1.7263,    333.5,2,    70.01,2,    28.08,2,     1.76,2,    6.246,2,    2.877,2,    0.550,2,    6.764,2, -999.000,9,   1.8350,2,    -0.77,2,   8.250,2,   -999.0,9,   -999.0,9,-999.0,  -999.0,  0.0070,-999.000,-999.000,   0.026,   0.300
      74JC10_1,   A23,    11,  1,   1122,     25,2,19950331,2349,-71.7043, -18.8625, 4051,     57,     54.6,  -1.5206,  34.3372,2,  34.3808,2,    284.7,3, -1.5218,    272.1,2,    80.19,2,    30.52,2,     2.03,2,    3.876,2,    1.770,2,    0.349,2,    4.125,2,    0.085,2,-999.0000,9,  -999.00,9,-999.000,9,   -999.0,9,   -999.0,9,-999.0,  -999.0,-999.0000,-999.000,-999.000,-999.000,-999.000
      74JC10_1,   A23,    11,  1,   1121,     21,2,19950331,2349,-71.7043, -18.8625, 4051,    108,    104.8,  -0.8948,  34.4969,2,  34.4952,2,    244.7,3, -0.8978,    244.1,2,    86.23,2,    31.85,2,     2.17,2,    2.875,2,    1.312,2,    0.241,2,    3.075,2, -999.000,9,   1.8450,2,     4.39,2,   8.141,2,   -999.0,9,   -999.0,9,-999.0,  -999.0,  0.0070,-999.000,-999.000,   0.025,   0.300
      74JC10_1,   A23,    11,  1,   1120,     20,2,19950331,2349,-71.7043, -18.8625, 4051,    161,    156.6,   0.0608,  34.5941,2,  34.6144,2,    224.3,3,  0.0550,    215.4,2,    94.00,2,    32.29,2,     2.17,2,    2.593,2,    3.061,4,    1.102,2,    1.460,2,    0.047,2,   1.8380,2,     6.90,2,   8.107,2,   -999.0,9,   -999.0,9,-999.0,  -999.0,  0.0070,   0.043,-999.000,   0.025,   0.300
      74JC10_1,   A23,    11,  1,   1119,     19,2,19950331,2349,-71.7043, -18.8625, 4051,    213,    207.7,   0.7470,  34.6683,2,  34.6706,2,    212.1,3,  0.7380,    203.2,2,    98.29,2,    32.14,2,     2.16,2,    0.769,2,    0.352,2,    0.032,2,    0.939,2, -999.000,9,   1.8480,2,     7.41,2,   8.100,2,   -999.0,9,   -999.0,9,-999.0,  -999.0,  0.0070,-999.000,-999.000,   0.025,   0.300
      74JC10_1,   A23,    11,  1,   1118,     18,2,19950331,2349,-71.7043, -18.8625, 4051,    263,    257.8,   0.8155,  34.6812,2,  34.6816,2,    207.4,3,  0.8040,    201.0,2,   100.24,2,    32.21,2,     2.16,2,    0.622,2,    0.308,2,    0.036,2,    0.753,2,    0.042,2,   1.8480,2,     8.87,2,   8.096,2,   -999.0,9,   -999.0,9,-999.0,  -999.0,  0.0070,   0.012,-999.000,   0.025,   0.300
      74JC10_1,   A23,    11,  1,   1116,     16,2,19950331,2349,-71.7043, -18.8625, 4051,    366,    359.1,   0.8648,  34.6934,2,  34.6942,2,    204.4,3,  0.8484,    198.9,2,   103.07,2,    32.21,2,     2.17,2,    0.454,2,    0.225,2,    0.025,2,    0.593,2,    0.027,2,   1.8460,2,     9.10,2,   8.055,2,   -999.0,9,   -999.0,9,-999.0,  -999.0,  0.0070,   0.010,-999.000,   0.025,   0.300
      74JC10_1,   A23,    11,  1,   1117,     17,2,19950331,2349,-71.7043, -18.8625, 4051,    366,    359.1,   0.8648,  34.6934,2,  34.6940,2,    204.4,3,  0.8484,    198.3,2,   103.36,2,    32.10,2,     2.17,2,    0.452,2,    0.216,2,    0.009,2,    0.611,2, -999.000,9,   1.8760,2,     8.79,2,   8.197,2,   -999.0,9,   -999.0,9,-999.0,  -999.0,  0.0070,-999.000,-999.000,   0.025,   0.300
      74JC10_1,   A23,    11,  1,   1115,     15,2,19950331,2349,-71.7043, -18.8625, 4051,   1291,   1279.5,   0.2278,  34.6764,2,  34.6769,2,    218.1,3,  0.1658,    210.0,2,   120.15,2,    32.61,2,     2.22,2,    0.221,2,    0.124,2,    0.001,2,    0.399,2, -999.000,9,   1.8590,2,     7.35,2,   8.158,2,   -999.0,9,   -999.0,9,-999.0,  -999.0,  0.0070,-999.000,-999.000,   0.025,   0.300
      74JC10_1,   A23,    11,  1,   1114,     14,2,19950331,2349,-71.7043, -18.8625, 4051,   1549,   1537.0,   0.1203,  34.6724,2,  34.6728,2,    221.4,3,  0.0437,    214.7,2,   121.13,2,    32.76,2,     2.22,2,    0.211,2,    0.122,2,    0.000,2,    0.312,2,    0.041,2,   1.8660,2,     7.80,2,   8.198,2,   -999.0,9,   -999.0,9,-999.0,  -999.0,  0.0070,   0.006,-999.000,   0.025,   0.300
      74JC10_1,   A23,    11,  1,   1112,     12,2,19950331,2349,-71.7043, -18.8625, 4051,   1806,   1793.9,   0.0282,  34.6701,2,  34.6692,2,    225.5,3, -0.0639,    219.8,2,   121.13,2,    32.51,2,     2.22,2, -999.000,9, -999.000,9, -999.000,9, -999.000,9, -999.000,1,   1.8450,3,     7.48,3,   8.138,3,   -999.0,9,   -999.0,9,-999.0,  -999.0,  0.0070,-999.000,-999.000,   0.025,   0.300
      74JC10_1,   A23,    11,  1,   1113,     13,2,19950331,2349,-71.7043, -18.8625, 4051,   1806,   1793.9,   0.0282,  34.6701,2,  34.6698,2,    225.5,3, -0.0639,    219.1,2,   121.42,2,    32.64,2,     2.21,2,    0.272,2,    0.154,2,    0.001,2,    0.476,2, -999.000,9,-999.0000,5,  -999.00,5,-999.000,5,   -999.0,9,   -999.0,9,-999.0,  -999.0,-999.0000,-999.000,-999.000,-999.000,-999.000
      74JC10_1,   A23,    11,  1,   1110,     10,2,19950331,2349,-71.7043, -18.8625, 4051,   2576,   2564.6,  -0.1443,  34.6640,2,  34.6633,2,    233.5,3, -0.2890,    228.1,2,   121.81,2,    32.43,2,     2.20,2,    0.374,2,    0.146,3,    0.015,2,    0.748,2,    0.032,2,   1.8670,2,     6.37,2,   8.207,2,   -999.0,9,   -999.0,9,-999.0,  -999.0,  0.0070,   0.009,-999.000,   0.025,   0.300
      74JC10_1,   A23,    11,  1,   1111,     11,2,19950331,2349,-71.7043, -18.8625, 4051,   2576,   2564.6,  -0.1443,  34.6640,2,  34.6641,2,    233.5,3, -0.2890,    229.4,2,   121.62,2,    32.39,2,     2.21,2, -999.000,9, -999.000,9, -999.000,9, -999.000,9,    0.055,2,   1.8660,2,     6.01,2,   8.202,2,   -999.0,9,   -999.0,9,-999.0,  -999.0,  0.0070,   0.012,-999.000,   0.025,   0.300
      74JC10_1,   A23,    11,  1,   1109,      9,2,19950331,2349,-71.7043, -18.8625, 4051,   3917,   3908.6,  -0.2387,  34.6583,2,  34.6594,2,    243.4,3, -0.4989,    232.7,2,   120.94,2,    32.03,2,     2.18,2,    0.342,2,    0.182,2,    0.000,2,    0.472,2,    0.063,2,   1.8860,3,     6.40,3,   8.253,3,   -999.0,9,   -999.0,9,-999.0,  -999.0,  0.0070,   0.003,-999.000,   0.026,   0.300
      74JC10_1,   A23,    11,  1,   1106,      6,2,19950331,2349,-71.7043, -18.8625, 4051,   4074,   4066.0,  -0.2659,  34.6566,2,  34.6561,2,    244.3,3, -0.5407,    238.5,2,   125.13,2,    32.40,2,     2.21,2,    0.474,2,    0.192,3,    0.052,2,    0.921,2,    0.032,2,   1.8710,2,     4.69,2,   8.235,2,   -999.0,9,   -999.0,9,-999.0,  -999.0,  0.0070,   0.002,-999.000,   0.026,   0.300
      74JC10_1,   A23,    11,  1,   1107,      7,2,19950331,2349,-71.7043, -18.8625, 4051,   4074,   4066.3,  -0.2662,  34.6571,2,  34.6555,2,    244.2,3, -0.5410,    239.7,2,   124.84,2,    32.23,2,     2.21,2,    0.484,2,    0.236,2,    0.009,2,    0.771,2, -999.000,9,-999.0000,9,  -999.00,9,-999.000,9,   -999.0,9,   -999.0,9,-999.0,  -999.0,-999.0000,-999.000,  -0.266,-999.000,-999.000
      74JC10_1,   A23,    11,  1,   1108,      8,2,19950331,2349,-71.7043, -18.8625, 4051,   4074,   4066.3,  -0.2662,  34.6571,2,  34.6569,2,    244.2,3, -0.5410,    236.9,2,   122.99,2,    32.26,2,     2.21,2,    0.499,2,    0.269,2,    0.009,2,    0.736,2,    0.047,2,   1.8730,2,     5.17,2,   8.290,2,   -999.0,9,   -999.0,9,-999.0,  -999.0,  0.0070,   0.003,-999.000,   0.026,   0.300