BOTTLE,20220810CCHSIOAMB
EXPOCODE,SECT_ID,STNNBR,CASTNO,SAMPNO,BTLNBR,BTLNBR_FLAG_W,DATE,TIME,LATITUDE,LONGITUDE,DEPTH,CTDRAW,CTDPRS,CTDTMP,CTDSAL,CTDSAL_FLAG_W,SALNTY,SALNTY_FLAG_W,CTDOXY,CTDOXY_FLAG_W,THETA,OXYGEN,OXYGEN_FLAG_W,SILCAT,SILCAT_FLAG_W,NO2+NO3,NO2+NO3_FLAG_W,PHSPHT,PHSPHT_FLAG_W,CFC-11,CFC-11_FLAG_W,CFC-12,CFC-12_FLAG_W,CFC113,CFC113_FLAG_W,CCL4,CCL4_FLAG_W,TRITUM,TRITUM_FLAG_W,HELIUM,HELIUM_FLAG_W,DELHE3,DELHE3_FLAG_W,NEON,NEON_FLAG_W,TCARBN,TCARBN_FLAG_W,PCO2,PCO2_FLAG_W,PCO2TMP,REVPRS,HELIER,TRITER,REVTMP,NEONER,DELHER
,,,,,,,,,,,,,DBAR,ITS-90,PSS-78,,PSS-78,,UMOL/KG,,DEG C,UMOL/KG,,UMOL/KG,,UMOL/KG,,UMOL/KG,,PMOL/KG,,PMOL/KG,,PMOL/KG,,PMOL/KG,,TU,,NMOL/KG,,PERCNT,,NMOL/KG,,UMOL/KG,,UATM,,DEG C,DBAR,NMOL/KG,TU,ITS-90,NMOL/KG,PERCNT
      74JC10_1,   A23,   108,  1,  10815,     15,2,19950501,1923,-31.5520, -36.0060, 2017,     15,      8.1,  21.9956,  35.6702,2,  35.6701,2,    214.4,3, 21.9940,    214.0,2,     2.37,2,    -0.05,2,     0.10,3,    2.161,2,    1.168,2,    0.230,2,    2.248,2, -999.000,9,-999.0000,9,  -999.00,9,-999.000,9,   2013.1,6,    336.2,2,   4.0,  -999.0,-999.0000,-999.000,-999.000,-999.000,-999.000
      74JC10_1,   A23,   108,  1,  10814,     14,2,19950501,1923,-31.5520, -36.0060, 2017,     62,     54.8,  21.8666,  35.6549,2,  35.6555,2,    227.3,3, 21.8558,    215.4,2,     2.17,2,    -0.05,2,     0.03,2,    2.252,2,    0.970,2,    0.227,2,    2.215,2, -999.000,9,-999.0000,9,  -999.00,9,-999.000,9,   2016.9,6,    342.5,2,   4.0,  -999.0,-999.0000,-999.000,-999.000,-999.000,-999.000
      74JC10_1,   A23,   108,  1,  10813,     13,2,19950501,1923,-31.5520, -36.0060, 2017,    111,    104.2,  17.9341,  35.7348,2,  35.7339,2,    236.8,3, 17.9162,    229.7,2,     2.37,2,     0.02,2,     0.14,2,    2.692,2,    1.286,2,    0.282,2,    1.820,2, -999.000,9,-999.0000,9,  -999.00,9,-999.000,9,   2045.9,6,    326.9,2,   4.0,  -999.0,-999.0000,-999.000,-999.000,-999.000,-999.000
      74JC10_1,   A23,   108,  1,  10812,     12,2,19950501,1923,-31.5520, -36.0060, 2017,    161,    153.3,  17.0058,  35.6824,2,  35.6763,2,    227.3,3, 16.9804,    221.9,2,     2.58,2,     0.67,2,     0.16,2,    2.794,2,    1.414,2,    0.223,2,    1.473,2, -999.000,9,-999.0000,9,  -999.00,9,-999.000,9,   -999.0,9,   -999.0,9,-999.0,  -999.0,-999.0000,-999.000,-999.000,-999.000,-999.000
      74JC10_1,   A23,   108,  1,  10811,     24,2,19950501,1923,-31.5520, -36.0060, 2017,    212,    204.1,  15.6985,  35.5330,2,  35.5241,2,    221.7,3, 15.6665,    216.4,2,     2.96,2,     3.01,2,     0.51,2,    2.863,2,    1.337,2,    0.127,2,    1.048,2, -999.000,9,-999.0000,9,  -999.00,9,-999.000,9,   -999.0,9,   -999.0,9,-999.0,  -999.0,-999.0000,-999.000,-999.000,-999.000,-999.000
      74JC10_1,   A23,   108,  1,  10810,     10,2,19950501,1923,-31.5520, -36.0060, 2017,    266,    257.6,  14.9331,  35.4590,2,  35.4592,2,    220.8,3, 14.8940,    214.2,2,     3.38,2,     4.61,2,     0.55,2,    2.349,3,    0.950,3,    0.083,2,    0.825,2, -999.000,9,-999.0000,9,  -999.00,9,-999.000,9,   -999.0,9,   -999.0,9,-999.0,  -999.0,-999.0000,-999.000,-999.000,-999.000,-999.000
      74JC10_1,   A23,   108,  1,  10809,      9,2,19950501,1923,-31.5520, -36.0060, 2017,    367,    358.3,  13.6933,  35.3660,2,  35.3648,2,    222.5,3, 13.6418,    216.2,2,     4.12,2,     7.95,2,     0.70,2,    2.739,2,    1.300,2,    0.077,2,    0.812,2, -999.000,9,-999.0000,9,  -999.00,9,-999.000,9,   -999.0,9,   -999.0,9,-999.0,  -999.0,-999.0000,-999.000,-999.000,-999.000,-999.000
      74JC10_1,   A23,   108,  1,  10808,      8,2,19950501,1923,-31.5520, -36.0060, 2017,    518,    508.7,  10.9709,  34.9347,2,  34.9227,2,    215.6,3, 10.9075,    204.7,2,     7.07,2,    15.52,2,     1.01,2,    2.395,2,    1.184,2,    0.058,2,    0.963,2, -999.000,9,-999.0000,9,  -999.00,9,-999.000,9,   2107.6,3,    421.3,2,   4.0,  -999.0,-999.0000,-999.000,-999.000,-999.000,-999.000
      74JC10_1,   A23,   108,  1,  10807,     26,2,19950501,1923,-31.5520, -36.0060, 2017,    776,    766.3,   5.8803,  34.3646,2,  34.3660,2,    225.6,3,  5.8128,    223.1,2,    15.62,2,    26.27,2,     1.71,2,    2.128,2,    0.790,3,    0.085,2,    2.295,2, -999.000,9,-999.0000,9,  -999.00,9,-999.000,9,   2141.9,6,    452.1,2,   4.0,  -999.0,-999.0000,-999.000,   5.900,-999.000,-999.000
      74JC10_1,   A23,   108,  1,  10806,      6,2,19950501,1923,-31.5520, -36.0060, 2017,   1031,   1021.0,   3.9809,  34.2969,2,  34.3009,2,    227.0,3,  3.9040,    219.4,2,    29.93,2,    30.39,2,     2.00,2,    1.232,2,    0.584,2,    0.038,2,    1.912,2, -999.000,9,-999.0000,9,  -999.00,9,-999.000,9,   -999.0,9,   -999.0,9,-999.0,  -999.0,-999.0000,-999.000,-999.000,-999.000,-999.000
      74JC10_1,   A23,   108,  1,  10805,      5,2,19950501,1923,-31.5520, -36.0060, 2017,   1284,   1274.0,   3.1816,  34.4102,2,  34.4073,2,    208.7,3,  3.0908,    199.5,2,    45.97,2,    32.06,2,     2.12,2,    0.469,2, -999.000,9,    0.000,2,    1.086,2, -999.000,9,-999.0000,9,  -999.00,9,-999.000,9,   2195.4,6,    497.6,2,   4.0,  -999.0,-999.0000,-999.000,-999.000,-999.000,-999.000
      74JC10_1,   A23,   108,  1,  10804,      4,2,19950501,1923,-31.5520, -36.0060, 2017,   1541,   1531.5,   2.8566,  34.5793,2,  34.5798,2,    190.9,3,  2.7478,    186.6,2,    58.42,2,    31.63,2,     2.09,2,    0.065,2,    0.049,2,    0.000,2,    0.340,2, -999.000,9,-999.0000,9,  -999.00,9,-999.000,9,   2211.5,6,    508.8,2,   4.0,  1535.0,-999.0000,-999.000,   2.857,-999.000,-999.000
      74JC10_1,   A23,   108,  1,  10803,      3,2,19950501,1923,-31.5520, -36.0060, 2017,   1846,   1837.1,   2.8951,  34.7598,2,  34.7581,2,    209.1,3,  2.7592,    203.3,2,    52.82,2,    27.86,2,     1.80,2,    0.000,2,    0.005,2,    0.000,2,    0.125,2, -999.000,9,-999.0000,9,  -999.00,9,-999.000,9,   -999.0,9,   -999.0,9,-999.0,  -999.0,-999.0000,-999.000,-999.000,-999.000,-999.000
      74JC10_1,   A23,   108,  1,  10801,      1,2,19950501,1923,-31.5520, -36.0060, 2017,   2024,   2015.7,   2.9792,  34.8356,2,  34.8355,2,    224.6,3,  2.8259,    220.9,2,    46.11,2,    25.37,2,     1.64,2,   -0.001,2,    0.007,2,    0.000,2,    0.090,2, -999.000,9,-999.0000,9,  -999.00,9,-999.000,9,   2183.5,3,    406.5,3,   4.0,  1997.0,-999.0000,-999.000,   2.975,-999.000,-999.000
      74JC10_1,   A23,   108,  1,  10802,      2,2,19950501,1923,-31.5520, -36.0060, 2017,   2025,   2016.1,   2.9769,  34.8342,2,  34.8342,2,    225.7,3,  2.8236,    218.9,2,    45.59,2,    25.35,2,     1.62,2, -999.000,9, -999.000,9, -999.000,9, -999.000,9, -999.000,9,-999.0000,9,  -999.00,9,-999.000,9,   -999.0,9,   -999.0,9,-999.0,  -999.0,-999.0000,-999.000,-999.000,-999.000,-999.000
      74JC10_1,   A23,   109,  1,  10915,     15,2,19950501,2237,-31.2523, -36.0063, 1504,     12,      4.6,  21.6944,  35.6330,2,  35.6330,2,    217.6,3, 21.6935,    214.9,2,     2.82,2,     0.36,2,     0.09,2, -999.000,9, -999.000,9, -999.000,9, -999.000,9, -999.000,9,-999.0000,9,  -999.00,9,-999.000,9,   -999.0,9,   -999.0,9,-999.0,  -999.0,-999.0000,-999.000,-999.000,-999.000,-999.000
      74JC10_1,   A23,   109,  1,  10914,     14,2,19950501,2237,-31.2523, -36.0063, 1504,     60,     52.8,  21.6672,  35.6237,2,  35.6242,2,    224.3,3, 21.6569,    214.8,2,     3.37,2,     0.35,2,     0.10,2, -999.000,9, -999.000,9, -999.000,9, -999.000,9, -999.000,9,-999.0000,9,  -999.00,9,-999.000,9,   -999.0,9,   -999.0,9,-999.0,  -999.0,-999.0000,-999.000,-999.000,-999.000,-999.000
      74JC10_1,   A23,   109,  1,  10913,     13,2,19950501,2237,-31.2523, -36.0063, 1504,    113,    106.4,  18.1264,  35.7682,2,  35.7677,2,    234.8,3, 18.1080,    228.5,2,     3.92,2,     0.42,2,     0.14,2, -999.000,9, -999.000,9, -999.000,9, -999.000,9, -999.000,9,-999.0000,9,  -999.00,9,-999.000,9,   -999.0,9,   -999.0,9,-999.0,  -999.0,-999.0000,-999.000,-999.000,-999.000,-999.000
      74JC10_1,   A23,   109,  1,  10912,     12,2,19950501,2237,-31.2523, -36.0063, 1504,    163,    155.6,  16.5886,  35.6577,2,  35.6615,2,    220.7,3, 16.5633,    215.3,2,     4.20,2,     1.75,2,     0.21,2, -999.000,9, -999.000,9, -999.000,9, -999.000,9, -999.000,9,-999.0000,9,  -999.00,9,-999.000,9,   -999.0,9,   -999.0,9,-999.0,  -999.0,-999.0000,-999.000,-999.000,-999.000,-999.000
      74JC10_1,   A23,   109,  1,  10911,     24,2,19950501,2237,-31.2523, -36.0063, 1504,    213,    205.2,  15.3919,  35.5233,2,  35.5214,2,    218.2,3, 15.3602,    211.5,2,     4.37,2,     4.69,2,     0.40,2, -999.000,9, -999.000,9, -999.000,9, -999.000,9, -999.000,9,-999.0000,9,  -999.00,9,-999.000,9,   -999.0,9,   -999.0,9,-999.0,  -999.0,-999.0000,-999.000,-999.000,-999.000,-999.000
      74JC10_1,   A23,   109,  1,  10910,     10,2,19950501,2237,-31.2523, -36.0063, 1504,    264,    256.7,  14.8121,  35.5076,2,  35.5064,2,    219.7,3, 14.7734,    212.9,2,     5.14,2,     5.57,2,     0.45,2, -999.000,9, -999.000,9, -999.000,9, -999.000,9, -999.000,9,-999.0000,9,  -999.00,9,-999.000,9,   -999.0,9,   -999.0,9,-999.0,  -999.0,-999.0000,-999.000,-999.000,-999.000,-999.000
      74JC10_1,   A23,   109,  1,  10909,      9,2,19950501,2237,-31.2523, -36.0063, 1504,    367,    358.5,  13.7240,  35.3712,2,  35.3610,2,    216.3,3, 13.6724,    213.1,2,     5.97,2,     8.27,2,     0.60,2, -999.000,9, -999.000,9, -999.000,9, -999.000,9, -999.000,9,-999.0000,9,  -999.00,9,-999.000,9,   -999.0,9,   -999.0,9,-999.0,  -999.0,-999.0000,-999.000,-999.000,-999.000,-999.000
      74JC10_1,   A23,   109,  1,  10908,      8,2,19950501,2237,-31.2523, -36.0063, 1504,    519,    511.0,  10.6912,  34.9057,2,  34.8924,2,    214.7,3, 10.6285,    205.4,2,     7.18,2,    15.78,2,     1.03,2, -999.000,9, -999.000,9, -999.000,9, -999.000,9, -999.000,9,-999.0000,9,  -999.00,9,-999.000,9,   -999.0,9,   -999.0,9,-999.0,  -999.0,-999.0000,-999.000,-999.000,-999.000,-999.000
      74JC10_1,   A23,   109,  1,  10907,     26,2,19950501,2237,-31.2523, -36.0063, 1504,    774,    766.0,   5.8108,  34.3677,2,  34.3698,2,    227.8,3,  5.7437,    222.1,2,    16.87,2,    25.83,2,     1.70,2, -999.000,9, -999.000,9, -999.000,9, -999.000,9, -999.000,9,-999.0000,9,  -999.00,9,-999.000,9,   -999.0,9,   -999.0,9,-999.0,  -999.0,-999.0000,-999.000,   5.873,-999.000,-999.000
      74JC10_1,   A23,   109,  1,  10906,      6,2,19950501,2237,-31.2523, -36.0063, 1504,   1028,   1019.0,   4.0447,  34.3020,2,  34.3025,2,    226.2,3,  3.9675,    220.7,2,    28.43,2,    29.78,2,     1.97,2, -999.000,9, -999.000,9, -999.000,9, -999.000,9, -999.000,9,-999.0000,9,  -999.00,9,-999.000,9,   -999.0,9,   -999.0,9,-999.0,  -999.0,-999.0000,-999.000,-999.000,-999.000,-999.000
      74JC10_1,   A23,   109,  1,  10905,      5,2,19950501,2237,-31.2523, -36.0063, 1504,   1283,   1274.5,   3.1603,  34.4217,2,  34.4226,2,    208.4,3,  3.0696,    198.2,2,    46.07,2,    31.43,2,     2.12,2, -999.000,9, -999.000,9, -999.000,9, -999.000,9, -999.000,9,-999.0000,9,  -999.00,9,-999.000,9,   -999.0,9,   -999.0,9,-999.0,  -999.0,-999.0000,-999.000,-999.000,-999.000,-999.000
      74JC10_1,   A23,   109,  1,  10904,      4,2,19950501,2237,-31.2523, -36.0063, 1504,   1508,   1500.4,   2.8734,  34.6086,2,  34.6083,2,    194.4,3,  2.7669,    190.2,2,    55.24,2,    30.76,2,     2.04,2, -999.000,9, -999.000,9, -999.000,9, -999.000,9, -999.000,9,-999.0000,9,  -999.00,9,-999.000,9,   -999.0,9,   -999.0,9,-999.0,  1502.0,-999.0000,-999.000,   2.868,-999.000,-999.000
      74JC10_1,   A23,   109,  1,  10903,      3,2,19950501,2237,-31.2523, -36.0063, 1504,   1509,   1501.3,   2.8734,  34.6081,2,  34.6077,2,    194.4,3,  2.7669,    189.7,2,    55.96,2,    30.54,2,     2.05,2, -999.000,9, -999.000,9, -999.000,9, -999.000,9, -999.000,9,-999.0000,9,  -999.00,9,-999.000,9,   -999.0,9,   -999.0,9,-999.0,  -999.0,-999.0000,-999.000,-999.000,-999.000,-999.000
      74JC10_1,   A23,   109,  1,  10901,      1,2,19950501,2237,-31.2523, -36.0063, 1504,   1509,   1501.4,   2.8732,  34.6085,2,  34.6087,2,    194.4,3,  2.7666,    189.9,2,    56.85,2,    30.49,2,     2.03,2, -999.000,9, -999.000,9, -999.000,9, -999.000,9, -999.000,9,-999.0000,9,  -999.00,9,-999.000,9,   -999.0,9,   -999.0,9,-999.0,  1486.0,-999.0000,-999.000,   2.871,-999.000,-999.000
      74JC10_1,   A23,   109,  1,  10902,      2,2,19950501,2237,-31.2523, -36.0063, 1504,   1509,   1501.4,   2.8732,  34.6085,2,  34.6079,2,    194.4,3,  2.7666,    190.4,2,    56.52,2,    30.51,2,     2.04,2, -999.000,9, -999.000,9, -999.000,9, -999.000,9, -999.000,9,-999.0000,9,  -999.00,9,-999.000,9,   -999.0,9,   -999.0,9,-999.0,  -999.0,-999.0000,-999.000,-999.000,-999.000,-999.000
      74JC10_1,   A23,   110,  1,  11011,     24,2,19950502,0137,-31.0178, -36.0027, 1032,     14,      6.6,  21.7557,  35.6478,2,  35.6478,2,    293.8,3, 21.7544,    217.0,2,     3.10,2,    -0.11,2,     0.02,2,    2.281,2,    1.206,2,    0.230,2,    2.313,2, -999.000,9,-999.0000,9,  -999.00,9,-999.000,9,   -999.0,9,   -999.0,9,-999.0,  -999.0,-999.0000,-999.000,-999.000,-999.000,-999.000
      74JC10_1,   A23,   110,  1,  11010,     10,2,19950502,0137,-31.0178, -36.0027, 1032,     63,     55.7,  21.5069,  35.6822,2,  35.6976,2,    226.6,3, 21.4960,    220.7,2,     2.24,2,    -0.11,2,     0.03,2,    2.303,2,    1.180,2,    0.264,2,    2.071,2, -999.000,9,-999.0000,9,  -999.00,9,-999.000,9,   -999.0,9,   -999.0,9,-999.0,  -999.0,-999.0000,-999.000,-999.000,-999.000,-999.000
      74JC10_1,   A23,   110,  1,  11009,      9,2,19950502,0137,-31.0178, -36.0027, 1032,    112,    105.4,  18.3393,  35.7994,2,  35.7991,2,    236.4,3, 18.3209,    228.9,2,     2.51,2,    -0.09,2,     0.10,2,    2.600,2,    1.292,2,    0.255,2,    1.636,2, -999.000,9,-999.0000,9,  -999.00,9,-999.000,9,   -999.0,9,   -999.0,9,-999.0,  -999.0,-999.0000,-999.000,-999.000,-999.000,-999.000
      74JC10_1,   A23,   110,  1,  11008,      8,2,19950502,0137,-31.0178, -36.0027, 1032,    164,    157.2,  16.8194,  35.6855,2,  35.6832,2,    221.2,3, 16.7935,    214.6,2,     2.83,2,     0.71,2,     0.20,2,    2.691,2,    1.354,2,    0.182,2,    1.278,2, -999.000,9,-999.0000,9,  -999.00,9,-999.000,9,   -999.0,9,   -999.0,9,-999.0,  -999.0,-999.0000,-999.000,-999.000,-999.000,-999.000
      74JC10_1,   A23,   110,  1,  11007,     26,2,19950502,0137,-31.0178, -36.0027, 1032,    215,    208.3,  15.8244,  35.5673,2,  35.5677,2,    217.6,3, 15.7915,    208.8,3,     3.69,2,     2.86,2,     0.36,2,    2.711,2,    1.273,2,    0.103,2,    0.867,2, -999.000,9,-999.0000,9,  -999.00,9,-999.000,9,   -999.0,9,   -999.0,9,-999.0,  -999.0,-999.0000,-999.000,  15.835,-999.000,-999.000
      74JC10_1,   A23,   110,  1,  11006,      6,2,19950502,0137,-31.0178, -36.0027, 1032,    268,    260.9,  14.7343,  35.4558,2,  35.4502,2,    213.9,3, 14.6950,    209.0,2,     4.64,2,     5.05,2,     0.52,2,    2.783,2,    1.251,2,    0.108,2,    0.828,2, -999.000,9,-999.0000,9,  -999.00,9,-999.000,9,   -999.0,9,   -999.0,9,-999.0,  -999.0,-999.0000,-999.000,-999.000,-999.000,-999.000
      74JC10_1,   A23,   110,  1,  11005,      5,2,19950502,0137,-31.0178, -36.0027, 1032,    370,    362.1,  13.2202,  35.2876,2,  35.2909,2,    212.6,3, 13.1695,    210.9,2,     5.29,2,     8.18,2,     0.66,2,    2.769,2,    1.321,2,    0.078,2,    0.817,2, -999.000,9,-999.0000,9,  -999.00,9,-999.000,9,   -999.0,9,   -999.0,9,-999.0,  -999.0,-999.0000,-999.000,-999.000,-999.000,-999.000
      74JC10_1,   A23,   110,  1,  11004,      4,2,19950502,0137,-31.0178, -36.0027, 1032,    520,    513.1,  10.3243,  34.8567,2,  34.8595,2,    214.5,3, 10.2627,    204.0,2,     8.66,2,    15.89,2,     1.11,2,    2.449,2,    1.165,2,    0.084,2,    1.149,2, -999.000,9,-999.0000,9,  -999.00,9,-999.000,9,   -999.0,9,   -999.0,9,-999.0,   511.0,-999.0000,-999.000,  10.379,-999.000,-999.000
      74JC10_1,   A23,   110,  1,  11003,      3,2,19950502,0137,-31.0178, -36.0027, 1032,    773,    766.0,   6.1942,  34.4068,2,  34.4090,2,    225.2,3,  6.1249,    221.0,2,    16.35,2,    24.85,2,     1.67,2,    1.905,2,    0.793,3,    0.085,2,    2.094,2, -999.000,9,-999.0000,9,  -999.00,9,-999.000,9,   -999.0,9,   -999.0,9,-999.0,  -999.0,-999.0000,-999.000,-999.000,-999.000,-999.000
      74JC10_1,   A23,   110,  1,  11001,      1,2,19950502,0137,-31.0178, -36.0027, 1032,   1035,   1027.6,   3.7970,  34.3236,2,  34.3244,2,    221.8,3,  3.7210,    214.6,2,    34.00,2,    29.63,2,     2.00,2,    1.069,2,    0.449,3,    0.021,2,    1.752,2, -999.000,9,-999.0000,9,  -999.00,9,-999.000,9,   -999.0,9,   -999.0,9,-999.0,  1020.0,-999.0000,-999.000,   3.795,-999.000,-999.000
      74JC10_1,   A23,   110,  1,  11002,      2,2,19950502,0137,-31.0178, -36.0027, 1032,   1039,   1030.9,   3.7382,  34.3263,2,  34.3256,2,    221.2,3,  3.6623,    213.8,2,    34.38,2,    29.68,2,     2.05,2,    1.041,2,    0.435,3,    0.025,2,    1.729,2, -999.000,9,-999.0000,9,  -999.00,9,-999.000,9,   -999.0,9,   -999.0,9,-999.0,  -999.0,-999.0000,-999.000,-999.000,-999.000,-999.000