BOTTLE,20220810CCHSIOAMB
EXPOCODE,SECT_ID,STNNBR,CASTNO,SAMPNO,BTLNBR,BTLNBR_FLAG_W,DATE,TIME,LATITUDE,LONGITUDE,DEPTH,CTDRAW,CTDPRS,CTDTMP,CTDSAL,CTDSAL_FLAG_W,SALNTY,SALNTY_FLAG_W,CTDOXY,CTDOXY_FLAG_W,THETA,OXYGEN,OXYGEN_FLAG_W,SILCAT,SILCAT_FLAG_W,NO2+NO3,NO2+NO3_FLAG_W,PHSPHT,PHSPHT_FLAG_W,CFC-11,CFC-11_FLAG_W,CFC-12,CFC-12_FLAG_W,CFC113,CFC113_FLAG_W,CCL4,CCL4_FLAG_W,TRITUM,TRITUM_FLAG_W,HELIUM,HELIUM_FLAG_W,DELHE3,DELHE3_FLAG_W,NEON,NEON_FLAG_W,TCARBN,TCARBN_FLAG_W,PCO2,PCO2_FLAG_W,PCO2TMP,REVPRS,HELIER,TRITER,REVTMP,NEONER,DELHER
,,,,,,,,,,,,,DBAR,ITS-90,PSS-78,,PSS-78,,UMOL/KG,,DEG C,UMOL/KG,,UMOL/KG,,UMOL/KG,,UMOL/KG,,PMOL/KG,,PMOL/KG,,PMOL/KG,,PMOL/KG,,TU,,NMOL/KG,,PERCNT,,NMOL/KG,,UMOL/KG,,UATM,,DEG C,DBAR,NMOL/KG,TU,ITS-90,NMOL/KG,PERCNT
      74JC10_1,   A23,    14,  1,   1420,     20,9,19950402,0550,-71.3047, -19.4943, 4378,     12,      9.8,  -1.8680,  34.1047,2,  34.1046,2,    259.6,3, -1.8682,   -999.0,9,  -999.00,9,  -999.00,9,  -999.00,9, -999.000,9, -999.000,9, -999.000,9, -999.000,9, -999.000,9,-999.0000,9,  -999.00,9,-999.000,9,   -999.0,9,   -999.0,9,-999.0,  -999.0,-999.0000,-999.000,-999.000,-999.000,-999.000
      74JC10_1,   A23,    14,  1,   1419,     19,2,19950402,0550,-71.3047, -19.4943, 4378,     57,     54.7,  -1.8675,  34.1474,2,  34.1573,2,    243.8,3, -1.8685,    334.3,2,    72.12,2,    28.24,2,     1.79,2,    6.343,2,    3.004,2,    0.578,2,    7.544,2, -999.000,9,-999.0000,9,  -999.00,9,-999.000,9,   -999.0,9,   -999.0,9,-999.0,  -999.0,-999.0000,-999.000,-999.000,-999.000,-999.000
      74JC10_1,   A23,    14,  1,   1418,     18,2,19950402,0550,-71.3047, -19.4943, 4378,    109,    105.4,  -0.4224,  34.5490,2,  34.5588,2,    218.3,3, -0.4258,    329.7,2,    73.18,2,    28.61,2,     1.82,2,    5.973,2,    2.883,2,    0.552,2,    7.092,2, -999.000,9,-999.0000,9,  -999.00,9,-999.000,9,   -999.0,9,   -999.0,9,-999.0,  -999.0,-999.0000,-999.000,-999.000,-999.000,-999.000
      74JC10_1,   A23,    14,  1,   1417,     17,2,19950402,0550,-71.3047, -19.4943, 4378,    161,    156.8,   0.6154,  34.6493,2,-999.0000,5,    206.6,3,  0.6089,    230.1,2,    93.51,2,    32.49,2,     2.26,2,    2.163,2,    0.985,2,    0.167,2,    2.622,2, -999.000,9,-999.0000,9,  -999.00,9,-999.000,9,   -999.0,9,   -999.0,9,-999.0,  -999.0,-999.0000,-999.000,-999.000,-999.000,-999.000
      74JC10_1,   A23,    14,  1,   1416,     16,2,19950402,0550,-71.3047, -19.4943, 4378,    212,    207.3,   0.7806,  34.6729,2,  34.6741,2,    205.0,3,  0.7716,    199.8,2,   102.00,2,    32.56,2,     2.25,2,    0.768,2,    0.364,2,    0.041,2,    1.045,2, -999.000,9,-999.0000,9,  -999.00,9,-999.000,9,   -999.0,9,   -999.0,9,-999.0,  -999.0,-999.0000,-999.000,-999.000,-999.000,-999.000
      74JC10_1,   A23,    14,  1,   1415,     15,2,19950402,0550,-71.3047, -19.4943, 4378,    264,    258.1,   0.8499,  34.6851,2,  34.6853,2,    204.5,3,  0.8384,    199.2,2,   105.12,2,    32.51,2,     2.25,2,    0.588,2,    0.277,2,    0.029,2,    0.798,2, -999.000,9,-999.0000,9,  -999.00,9,-999.000,9,   -999.0,9,   -999.0,9,-999.0,  -999.0,-999.0000,-999.000,-999.000,-999.000,-999.000
      74JC10_1,   A23,    14,  1,   1414,     14,2,19950402,0550,-71.3047, -19.4943, 4378,    367,    360.2,   0.8549,  34.6949,2,  34.6952,2,    205.0,3,  0.8384,    198.3,2,   109.32,2,    32.62,2,     2.26,2,    0.433,2,    0.209,2,    0.015,2,    0.683,2, -999.000,9,-999.0000,9,  -999.00,9,-999.000,9,   -999.0,9,   -999.0,9,-999.0,  -999.0,-999.0000,-999.000,-999.000,-999.000,-999.000
      74JC10_1,   A23,    14,  1,   1413,     13,2,19950402,0550,-71.3047, -19.4943, 4378,    522,    513.5,   0.7292,  34.6943,2,  34.6950,2,    206.8,3,  0.7056,    199.7,2,   113.03,2,    32.69,2,     2.27,2,    0.389,2,    0.199,2,    0.016,2,    0.660,2, -999.000,9,-999.0000,9,  -999.00,9,-999.000,9,   -999.0,9,   -999.0,9,-999.0,  -999.0,-999.0000,-999.000,-999.000,-999.000,-999.000
      74JC10_1,   A23,    14,  1,   1412,     12,2,19950402,0550,-71.3047, -19.4943, 4378,    774,    763.7,   0.5352,  34.6889,2,  34.6895,2,    210.4,3,  0.4997,    203.0,2,   118.01,2,    32.76,2,     2.25,2,    0.251,2,    0.132,2,    0.000,2,    0.476,2, -999.000,9,-999.0000,9,  -999.00,9,-999.000,9,   -999.0,9,   -999.0,9,-999.0,  -999.0,-999.0000,-999.000,-999.000,-999.000,-999.000
      74JC10_1,   A23,    14,  1,   1411,     11,2,19950402,0550,-71.3047, -19.4943, 4378,   1029,   1017.6,   0.3731,  34.6833,2,  34.6834,2,    213.5,3,  0.3249,    206.3,2,   121.62,2,    32.89,2,     2.28,2, -999.000,9, -999.000,9, -999.000,9, -999.000,9, -999.000,9,-999.0000,9,  -999.00,9,-999.000,9,   -999.0,9,   -999.0,9,-999.0,  -999.0,-999.0000,-999.000,-999.000,-999.000,-999.000
      74JC10_1,   A23,    14,  1,   1410,     10,2,19950402,0550,-71.3047, -19.4943, 4378,   1286,   1274.5,   0.2291,  34.6766,2,  34.6763,2,    217.4,3,  0.1673,    209.9,2,   124.06,2,    32.82,2,     2.27,2,    0.230,2,    0.115,2,    0.004,2,    0.451,2, -999.000,9,-999.0000,9,  -999.00,9,-999.000,9,   -999.0,9,   -999.0,9,-999.0,  -999.0,-999.0000,-999.000,-999.000,-999.000,-999.000
      74JC10_1,   A23,    14,  1,   1409,      9,2,19950402,0550,-71.3047, -19.4943, 4378,   1548,   1536.0,   0.1177,  34.6740,2,  34.6732,2,    220.6,3,  0.0411,    213.1,2,   126.01,2,    32.87,2,     2.27,2, -999.000,9,    0.128,2,    0.000,2,    0.488,2, -999.000,9,   1.8610,2,     7.00,2,   8.190,2,   -999.0,9,   -999.0,9,-999.0,  -999.0,  0.0070,-999.000,-999.000,   0.025,   0.300
      74JC10_1,   A23,    14,  1,   1408,      8,2,19950402,0550,-71.3047, -19.4943, 4378,   1805,   1793.1,   0.0248,  34.6706,2,  34.6692,2,    224.0,3, -0.0672,    217.4,2,   126.11,2,    32.85,2,     2.27,2,    0.239,2,    0.138,2,    0.016,2,    0.515,2, -999.000,9,-999.0000,9,  -999.00,9,-999.000,9,   -999.0,9,   -999.0,9,-999.0,  -999.0,-999.0000,-999.000,-999.000,-999.000,-999.000
      74JC10_1,   A23,    14,  1,   1407,      7,2,19950402,0550,-71.3047, -19.4943, 4378,   2060,   2047.5,  -0.0395,  34.6680,2,  34.6679,2,    226.7,3, -0.1479,    221.3,2,   124.16,2,    32.66,2,     2.26,2,    0.258,2,    0.141,2,    0.006,2,    0.566,2, -999.000,9,   1.8570,2,     6.85,2,   8.150,2,   -999.0,9,   -999.0,9,-999.0,  -999.0,  0.0070,-999.000,  -0.039,   0.025,   0.300
      74JC10_1,   A23,    14,  1,   1406,      6,2,19950402,0550,-71.3047, -19.4943, 4378,   2573,   2562.0,  -0.1485,  34.6650,2,  34.6645,2,    232.6,3, -0.2930,    225.7,2,   123.77,2,    32.49,2,     2.25,2,    0.395,2,    0.201,2,    0.007,2,    0.777,2, -999.000,9,-999.0000,9,  -999.00,9,-999.000,9,   -999.0,9,   -999.0,9,-999.0,  -999.0,-999.0000,-999.000,-999.000,-999.000,-999.000
      74JC10_1,   A23,    14,  1,   1405,      5,2,19950402,0550,-71.3047, -19.4943, 4378,   3088,   3077.8,  -0.2109,  34.6612,2,  34.6606,2,    237.6,3, -0.3961,    231.5,2,   124.45,2,    32.38,2,     2.24,2,    0.474,2,    0.214,2,    0.021,2,    0.832,2, -999.000,9,   1.8660,2,     5.85,2,   8.228,2,   -999.0,9,   -999.0,9,-999.0,  -999.0,  0.0070,-999.000,-999.000,   0.026,   0.300
      74JC10_1,   A23,    14,  1,   1404,      4,2,19950402,0550,-71.3047, -19.4943, 4378,   3583,   3574.2,  -0.2249,  34.6592,2,  34.6594,2,    241.1,3, -0.4537,    234.0,2,   124.55,2,    32.31,2,     2.23,2,    0.590,2,    0.274,2,    0.024,2,    0.985,2, -999.000,9,   1.8830,2,     5.90,2,   8.277,2,   -999.0,9,   -999.0,9,-999.0,  3584.0,  0.0070,-999.000,  -0.231,   0.026,   0.300
      74JC10_1,   A23,    14,  1,   1403,      3,2,19950402,0550,-71.3047, -19.4943, 4378,   4109,   4101.1,  -0.2539,  34.6562,2,  34.6567,2,    244.9,3, -0.5326,    236.8,2,   126.21,2,    32.36,2,     2.26,2,    0.485,2,    0.225,2,    0.011,2,    0.912,2, -999.000,9,   1.8600,2,     5.44,2,   8.225,2,   -999.0,9,   -999.0,9,-999.0,  -999.0,  0.0070,-999.000,-999.000,   0.025,   0.300
      74JC10_1,   A23,    14,  1,   1402,      2,2,19950402,0550,-71.3047, -19.4943, 4378,   4421,   4413.2,  -0.3513,  34.6529,2,  34.6525,2,    247.0,3, -0.6587,    239.6,2,   131.19,2,    32.33,2,     2.25,2,    0.326,2,    0.166,2,    0.003,2,    0.739,2, -999.000,9,-999.0000,9,  -999.00,9,-999.000,9,   -999.0,9,   -999.0,9,-999.0,  -999.0,-999.0000,-999.000,-999.000,-999.000,-999.000
      74JC10_1,   A23,    14,  1,   1401,      1,2,19950402,0550,-71.3047, -19.4943, 4378,   4422,   4414.2,  -0.3517,  34.6534,2,  34.6529,2,    246.9,3, -0.6593,    241.7,2,   131.48,2,    32.19,2,     2.19,2, -999.000,9, -999.000,9, -999.000,9, -999.000,9, -999.000,9,   1.8810,2,     5.23,2,   8.324,2,   -999.0,9,   -999.0,9,-999.0,  4401.0,  0.0070,-999.000,  -0.358,   0.026,   0.300
      74JC10_1,   A23,    15,  1,   1522,     25,2,19950402,1144,-70.8558, -20.1357, 4376,     12,     10.1,  -1.8590,  34.1136,2,  34.1070,2,    301.8,3, -1.8592,    332.5,2,    70.44,2,    27.96,2,     1.74,2, -999.000,9, -999.000,9, -999.000,9, -999.000,9, -999.000,9,-999.0000,9,  -999.00,9,-999.000,9,   2167.6,6,    334.4,2,   4.0,  -999.0,-999.0000,-999.000,-999.000,-999.000,-999.000
      74JC10_1,   A23,    15,  1,   1521,     21,2,19950402,1144,-70.8558, -20.1357, 4376,     59,     56.3,  -1.5131,  34.4419,2,  34.4408,2,    277.6,3, -1.5144,    260.0,2,    82.98,2,    31.01,2,     2.14,2, -999.000,9, -999.000,9, -999.000,9, -999.000,9, -999.000,9,-999.0000,9,  -999.00,9,-999.000,9,   2211.7,6,    406.0,2,   4.0,  -999.0,-999.0000,-999.000,-999.000,-999.000,-999.000
      74JC10_1,   A23,    15,  1,   1520,     20,2,19950402,1144,-70.8558, -20.1357, 4376,    111,    107.3,  -0.9761,  34.5043,2,  34.5060,2,    256.1,3, -0.9790,    251.3,2,    86.38,2,    31.73,2,     2.17,2, -999.000,9, -999.000,9, -999.000,9, -999.000,9, -999.000,9,-999.0000,9,  -999.00,9,-999.000,9,   -999.0,9,   -999.0,9,-999.0,  -999.0,-999.0000,-999.000,-999.000,-999.000,-999.000
      74JC10_1,   A23,    15,  1,   1519,     19,2,19950402,1144,-70.8558, -20.1357, 4376,    162,    158.0,   0.1938,  34.6126,2,  34.6124,2,    218.5,3,  0.1878,    236.1,2,    92.92,2,    32.27,2,     2.61,2, -999.000,9, -999.000,9, -999.000,9, -999.000,9, -999.000,9,-999.0000,9,  -999.00,9,-999.000,9,   -999.0,9,   -999.0,9,-999.0,  -999.0,-999.0000,-999.000,-999.000,-999.000,-999.000
      74JC10_1,   A23,    15,  1,   1518,     18,2,19950402,1144,-70.8558, -20.1357, 4376,    214,    209.2,   0.7533,  34.6698,2,  34.6698,2,    204.2,3,  0.7442,    202.4,2,    97.80,2,    32.45,2,     2.25,2, -999.000,9, -999.000,9, -999.000,9, -999.000,9, -999.000,9,-999.0000,9,  -999.00,9,-999.000,9,   -999.0,9,   -999.0,9,-999.0,  -999.0,-999.0000,-999.000,-999.000,-999.000,-999.000
      74JC10_1,   A23,    15,  1,   1517,     17,2,19950402,1144,-70.8558, -20.1357, 4376,    265,    259.0,   0.8094,  34.6808,2,  34.6812,2,    202.7,3,  0.7979,    199.3,2,   100.24,2,    32.25,2,     2.25,2, -999.000,9, -999.000,9, -999.000,9, -999.000,9, -999.000,9,-999.0000,9,  -999.00,9,-999.000,9,   -999.0,9,   -999.0,9,-999.0,  -999.0,-999.0000,-999.000,-999.000,-999.000,-999.000
      74JC10_1,   A23,    15,  1,   1516,     16,2,19950402,1144,-70.8558, -20.1357, 4376,    367,    359.8,   0.8283,  34.6920,2,  34.6926,2,    202.4,3,  0.8120,    198.8,2,   104.44,2,    32.11,2,     2.21,2, -999.000,9, -999.000,9, -999.000,9, -999.000,9, -999.000,9,-999.0000,9,  -999.00,9,-999.000,9,   -999.0,9,   -999.0,9,-999.0,  -999.0,-999.0000,-999.000,-999.000,-999.000,-999.000
      74JC10_1,   A23,    15,  1,   1515,     15,2,19950402,1144,-70.8558, -20.1357, 4376,    523,    514.5,   0.7401,  34.6951,2,  34.6962,2,    204.6,3,  0.7165,    199.0,2,   110.49,2,    32.36,2,     2.23,2, -999.000,9, -999.000,9, -999.000,9, -999.000,9, -999.000,9,-999.0000,9,  -999.00,9,-999.000,9,   2239.3,6,    488.9,2,   4.0,  -999.0,-999.0000,-999.000,-999.000,-999.000,-999.000
      74JC10_1,   A23,    15,  1,   1514,     14,2,19950402,1144,-70.8558, -20.1357, 4376,    780,    770.4,   0.5489,  34.6912,2,  34.6910,2,    210.0,3,  0.5129,    203.1,2,   114.20,2,    32.60,2,     2.23,2, -999.000,9, -999.000,9, -999.000,9, -999.000,9, -999.000,9,-999.0000,9,  -999.00,9,-999.000,9,   -999.0,9,   -999.0,9,-999.0,  -999.0,-999.0000,-999.000,-999.000,-999.000,-999.000
      74JC10_1,   A23,    15,  1,   1513,     13,2,19950402,1144,-70.8558, -20.1357, 4376,   1036,   1024.7,   0.3880,  34.6846,2,  34.6853,2,    214.7,3,  0.3392,    205.0,2,   119.57,2,    32.77,2,     2.25,2, -999.000,9, -999.000,9, -999.000,9, -999.000,9, -999.000,9,-999.0000,9,  -999.00,9,-999.000,9,   2241.4,6,    481.3,2,   4.0,  -999.0,-999.0000,-999.000,-999.000,-999.000,-999.000
      74JC10_1,   A23,    15,  1,   1512,     12,2,19950402,1144,-70.8558, -20.1357, 4376,   1294,   1281.6,   0.2529,  34.6792,2,  34.6789,2,    219.1,3,  0.1905,    209.0,2,   121.03,2,    32.93,2,     2.26,2, -999.000,9, -999.000,9, -999.000,9, -999.000,9, -999.000,9,-999.0000,9,  -999.00,9,-999.000,9,   -999.0,9,   -999.0,9,-999.0,  -999.0,-999.0000,-999.000,-999.000,-999.000,-999.000
      74JC10_1,   A23,    15,  1,   1511,     11,2,19950402,1144,-70.8558, -20.1357, 4376,   1551,   1538.7,   0.1366,  34.6743,2,  34.6730,2,    223.6,3,  0.0597,    213.4,2,   123.08,2,    32.85,2,     2.27,2, -999.000,9, -999.000,9, -999.000,9, -999.000,9, -999.000,9,-999.0000,9,  -999.00,9,-999.000,9,   -999.0,9,   -999.0,9,-999.0,  -999.0,-999.0000,-999.000,-999.000,-999.000,-999.000
      74JC10_1,   A23,    15,  1,   1510,     10,2,19950402,1144,-70.8558, -20.1357, 4376,   1807,   1795.2,   0.0487,  34.6687,2,  34.6698,2,    227.2,3, -0.0437,    217.3,2,   123.47,2,    32.76,2,     2.25,2, -999.000,9, -999.000,9, -999.000,9, -999.000,9, -999.000,9,-999.0000,9,  -999.00,9,-999.000,9,   -999.0,9,   -999.0,9,-999.0,  -999.0,-999.0000,-999.000,-999.000,-999.000,-999.000
      74JC10_1,   A23,    15,  1,   1509,      9,2,19950402,1144,-70.8558, -20.1357, 4376,   2064,   2052.0,  -0.0277,  34.6688,2,  34.6681,2,    230.5,3, -0.1366,    220.1,2,   125.43,2,    32.78,2,     2.25,2, -999.000,9, -999.000,9, -999.000,9, -999.000,9, -999.000,9,-999.0000,9,  -999.00,9,-999.000,9,   2231.6,6,    459.3,2,   4.0,  -999.0,-999.0000,-999.000,-999.000,-999.000,-999.000
      74JC10_1,   A23,    15,  1,   1508,      8,2,19950402,1144,-70.8558, -20.1357, 4376,   2576,   2565.0,  -0.1428,  34.6654,2,  34.6637,2,    236.0,3, -0.2876,    226.5,2,   125.23,2,    32.55,2,     2.26,2, -999.000,9, -999.000,9, -999.000,9, -999.000,9, -999.000,9,-999.0000,9,  -999.00,9,-999.000,9,   -999.0,9,   -999.0,9,-999.0,  -999.0,-999.0000,-999.000,-999.000,-999.000,-999.000
      74JC10_1,   A23,    15,  1,   1507,      7,2,19950402,1144,-70.8558, -20.1357, 4376,   3092,   3082.4,  -0.2064,  34.6625,2,  34.6608,2,    239.7,3, -0.3920,    231.4,2,   123.67,2,    32.45,2,     2.26,2, -999.000,9, -999.000,9, -999.000,9, -999.000,9, -999.000,9,-999.0000,9,  -999.00,9,-999.000,9,   2227.0,6,    452.7,2,   4.0,  -999.0,-999.0000,-999.000,  -0.207,-999.000,-999.000
      74JC10_1,   A23,    15,  1,   1506,      6,2,19950402,1144,-70.8558, -20.1357, 4376,   3609,   3599.8,  -0.2269,  34.6588,2,  34.6590,2,    241.6,3, -0.4580,    235.1,2,   125.23,2,    32.36,2,     2.24,2, -999.000,9, -999.000,9, -999.000,9, -999.000,9, -999.000,9,-999.0000,9,  -999.00,9,-999.000,9,   -999.0,9,   -999.0,9,-999.0,  -999.0,-999.0000,-999.000,-999.000,-999.000,-999.000
      74JC10_1,   A23,    15,  1,   1505,      5,2,19950402,1144,-70.8558, -20.1357, 4376,   4124,   4116.0,  -0.2559,  34.6567,2,  34.6567,2,    243.7,3, -0.5359,    237.9,2,   124.84,2,    32.52,2,     2.24,2, -999.000,9, -999.000,9, -999.000,9, -999.000,9, -999.000,9,-999.0000,9,  -999.00,9,-999.000,9,   2226.5,6,    440.1,2,   4.0,  -999.0,-999.0000,-999.000,-999.000,-999.000,-999.000
      74JC10_1,   A23,    15,  1,   1504,      4,2,19950402,1144,-70.8558, -20.1357, 4376,   4333,   4325.5,  -0.2793,  34.6549,2,  34.6551,2,    244.6,3, -0.5799,    238.4,2,   128.55,2,    32.38,2,     2.31,2, -999.000,9, -999.000,9, -999.000,9, -999.000,9, -999.000,9,-999.0000,9,  -999.00,9,-999.000,9,   2227.0,6,    442.2,2,   4.0,  4335.0,-999.0000,-999.000,  -0.286,-999.000,-999.000
      74JC10_1,   A23,    15,  1,   1502,      2,2,19950402,1144,-70.8558, -20.1357, 4376,   4415,   4406.9,  -0.3246,  34.6533,2,  34.6533,2,    245.5,3, -0.6322,    239.2,2,   130.11,2,    32.42,2,     2.24,2, -999.000,9, -999.000,9, -999.000,9, -999.000,9, -999.000,9,-999.0000,9,  -999.00,9,-999.000,9,   -999.0,9,   -999.0,9,-999.0,  -999.0,-999.0000,-999.000,-999.000,-999.000,-999.000
      74JC10_1,   A23,    15,  1,   1503,      3,2,19950402,1144,-70.8558, -20.1357, 4376,   4415,   4406.9,  -0.3246,  34.6533,2,  34.6533,2,    245.5,3, -0.6322,    238.8,2,   129.72,2,    32.41,2,     2.24,2, -999.000,9, -999.000,9, -999.000,9, -999.000,9, -999.000,9,-999.0000,9,  -999.00,9,-999.000,9,   -999.0,9,   -999.0,9,-999.0,  -999.0,-999.0000,-999.000,-999.000,-999.000,-999.000
      74JC10_1,   A23,    15,  1,   1501,      1,2,19950402,1144,-70.8558, -20.1357, 4376,   4415,   4407.3,  -0.3247,  34.6524,2,  34.6535,2,    245.6,3, -0.6323,    239.9,2,   129.33,2,    32.40,2,     2.23,2, -999.000,9, -999.000,9, -999.000,9, -999.000,9, -999.000,9,-999.0000,9,  -999.00,9,-999.000,9,   -999.0,9,   -999.0,9,-999.0,  4396.0,-999.0000,-999.000,  -0.331,-999.000,-999.000