BOTTLE,20220810CCHSIOAMB
EXPOCODE,SECT_ID,STNNBR,CASTNO,SAMPNO,BTLNBR,BTLNBR_FLAG_W,DATE,TIME,LATITUDE,LONGITUDE,DEPTH,CTDRAW,CTDPRS,CTDTMP,CTDSAL,CTDSAL_FLAG_W,SALNTY,SALNTY_FLAG_W,CTDOXY,CTDOXY_FLAG_W,THETA,OXYGEN,OXYGEN_FLAG_W,SILCAT,SILCAT_FLAG_W,NO2+NO3,NO2+NO3_FLAG_W,PHSPHT,PHSPHT_FLAG_W,CFC-11,CFC-11_FLAG_W,CFC-12,CFC-12_FLAG_W,CFC113,CFC113_FLAG_W,CCL4,CCL4_FLAG_W,TRITUM,TRITUM_FLAG_W,HELIUM,HELIUM_FLAG_W,DELHE3,DELHE3_FLAG_W,NEON,NEON_FLAG_W,TCARBN,TCARBN_FLAG_W,PCO2,PCO2_FLAG_W,PCO2TMP,REVPRS,HELIER,TRITER,REVTMP,NEONER,DELHER
,,,,,,,,,,,,,DBAR,ITS-90,PSS-78,,PSS-78,,UMOL/KG,,DEG C,UMOL/KG,,UMOL/KG,,UMOL/KG,,UMOL/KG,,PMOL/KG,,PMOL/KG,,PMOL/KG,,PMOL/KG,,TU,,NMOL/KG,,PERCNT,,NMOL/KG,,UMOL/KG,,UATM,,DEG C,DBAR,NMOL/KG,TU,ITS-90,NMOL/KG,PERCNT
      74JC10_1,   A23,   102,  1,  10224,     11,2,19950430,1411,-33.8687, -36.0038, 4341,     12,      5.0,  21.5684,  35.8213,2,  35.8214,2,    219.0,3, 21.5674,    214.6,2,     3.31,2,    -0.01,2,    -0.01,2,    2.188,2,    1.200,2,    0.214,2,    2.212,2, -999.000,9,-999.0000,9,  -999.00,9,-999.000,9,   -999.0,9,   -999.0,9,-999.0,  -999.0,-999.0000,-999.000,-999.000,-999.000,-999.000
      74JC10_1,   A23,   102,  1,  10223,     23,2,19950430,1411,-33.8687, -36.0038, 4341,     12,      5.3,  21.5663,  35.8212,2,  35.8210,2,    219.0,3, 21.5653,    214.4,2,     3.73,2,    -0.02,2,     0.00,2,    2.186,2,    1.141,2,    0.220,2,    2.239,2, -999.000,9,-999.0000,9,  -999.00,9,-999.000,9,   -999.0,9,   -999.0,9,-999.0,  -999.0,-999.0000,-999.000,-999.000,-999.000,-999.000
      74JC10_1,   A23,   102,  1,  10222,     25,2,19950430,1411,-33.8687, -36.0038, 4341,     60,     52.7,  21.5762,  35.8223,2,  35.8631,2,    224.6,3, 21.5658,    216.5,2,     3.51,2,     0.00,2,     0.02,2,    2.181,2,    1.161,2,    0.258,2,    2.160,2, -999.000,9,-999.0000,9,  -999.00,9,-999.000,9,   -999.0,9,   -999.0,9,-999.0,  -999.0,-999.0000,-999.000,-999.000,-999.000,-999.000
      74JC10_1,   A23,   102,  1,  10221,     21,2,19950430,1411,-33.8687, -36.0038, 4341,    110,    102.3,  17.5362,  35.8303,2,  35.8562,2,    235.1,3, 17.5189,    212.6,2,     3.87,2,     1.44,2,     0.18,2,    2.474,2,    1.442,3,    0.182,2,    1.098,2, -999.000,9,   1.7340,2,    -0.89,2,   7.127,2,   -999.0,9,   -999.0,9,-999.0,  -999.0,  0.0070,-999.000,-999.000,   0.022,   0.300
      74JC10_1,   A23,   102,  1,  10220,     27,2,19950430,1411,-33.8687, -36.0038, 4341,    160,    151.8,  16.3119,  35.7599,2,  35.7393,2,    214.5,3, 16.2875,    205.8,2,     4.50,2,     4.48,2,     0.36,2,    2.618,2,    1.371,2,    0.119,2,    0.715,2, -999.000,9,-999.0000,9,  -999.00,9,-999.000,9,   -999.0,9,   -999.0,9,-999.0,  -999.0,-999.0000,-999.000,  16.266,-999.000,-999.000
      74JC10_1,   A23,   102,  1,  10219,     19,2,19950430,1411,-33.8687, -36.0038, 4341,    208,    199.6,  15.5423,  35.6634,2,  35.6583,2,    212.8,3, 15.5111,    209.4,2,     4.96,2,     5.33,2,     0.40,2,    2.707,2,    1.332,2,    0.125,2,    0.771,2, -999.000,9,-999.0000,9,  -999.00,9,-999.000,9,   -999.0,9,   -999.0,9,-999.0,  -999.0,-999.0000,-999.000,-999.000,-999.000,-999.000
      74JC10_1,   A23,   102,  1,  10218,     18,2,19950430,1411,-33.8687, -36.0038, 4341,    256,    247.7,  14.8952,  35.5778,2,  35.5707,2,    220.9,3, 14.8576,    212.5,2,     5.33,2,     6.31,2,     0.47,2,    2.733,2,    1.259,2,    0.126,2,    0.812,2, -999.000,9,   1.7400,2,    -1.21,2,   7.173,2,   -999.0,9,   -999.0,9,-999.0,  -999.0,  0.0070,-999.000,-999.000,   0.022,   0.300
      74JC10_1,   A23,   102,  1,  10217,     17,2,19950430,1411,-33.8687, -36.0038, 4341,    354,    345.2,  13.7328,  35.3913,2,  35.3845,2,    216.5,3, 13.6831,    210.5,2,     5.94,2,     9.20,2,     0.62,2,    2.657,2,    1.421,2,    0.087,2,    0.786,2, -999.000,9,-999.0000,9,  -999.00,9,-999.000,9,   -999.0,9,   -999.0,9,-999.0,  -999.0,-999.0000,-999.000,-999.000,-999.000,-999.000
      74JC10_1,   A23,   102,  1,  10216,     16,2,19950430,1411,-33.8687, -36.0038, 4341,    504,    494.0,  10.6447,  34.9037,2,  34.8833,2,    213.3,3, 10.5843,    203.8,2,     8.95,2,    17.21,2,     1.08,2,    2.422,2,    1.192,2,    0.077,2,    1.083,2,    0.451,2,   1.7860,2,     0.23,2,   7.503,2,   -999.0,9,   -999.0,9,-999.0,  -999.0,  0.0070,   0.012,-999.000,   0.023,   0.300
      74JC10_1,   A23,   102,  1,  10215,     15,2,19950430,1411,-33.8687, -36.0038, 4341,    739,    727.8,   6.1797,  34.3954,2,  34.3880,2,    222.9,3,  6.1141,    220.8,2,    16.81,2,    26.56,2,     1.68,2,    2.223,2,    1.040,2,    0.099,2,    2.256,2, -999.000,9,-999.0000,9,  -999.00,9,-999.000,9,   -999.0,9,   -999.0,9,-999.0,  -999.0,-999.0000,-999.000,-999.000,-999.000,-999.000
      74JC10_1,   A23,   102,  1,  10214,     14,2,19950430,1411,-33.8687, -36.0038, 4341,    991,    979.1,   4.0750,  34.2928,2,  34.2915,2,    227.5,3,  4.0009,    219.6,2,    30.64,2,    30.85,2,     1.99,2,    1.360,2,    0.612,2,    0.054,2,    2.024,2, -999.000,9,   1.7950,2,     1.55,2,   7.815,2,   -999.0,9,   -999.0,9,-999.0,  -999.0,  0.0070,-999.000,-999.000,   0.024,   0.300
      74JC10_1,   A23,   102,  1,  10213,     13,2,19950430,1411,-33.8687, -36.0038, 4341,   1240,   1227.7,   3.1968,  34.3822,2,  34.3827,2,    205.7,3,  3.1096,    196.9,2,    49.00,2,    33.20,2,     2.15,2,    0.444,2,    0.245,2,    0.019,2,    1.096,2, -999.000,9,-999.0000,9,  -999.00,9,-999.000,9,   -999.0,9,   -999.0,9,-999.0,  -999.0,-999.0000,-999.000,-999.000,-999.000,-999.000
      74JC10_1,   A23,   102,  1,  10212,     12,2,19950430,1411,-33.8687, -36.0038, 4341,   1494,   1480.3,   2.8583,  34.5244,2,  34.5248,2,    190.6,3,  2.7539,    184.1,2,    61.52,2,    33.20,2,     2.16,2,    0.115,2,    0.065,2,    0.006,2,    0.454,2,    0.024,2,-999.0000,9,  -999.00,9,-999.000,9,   -999.0,9,   -999.0,9,-999.0,  -999.0,-999.0000,   0.003,-999.000,-999.000,-999.000
      74JC10_1,   A23,   102,  1,  10211,     24,2,19950430,1411,-33.8687, -36.0038, 4341,   1738,   1724.4,   2.8420,  34.6710,2,  34.6716,2,    193.2,3,  2.7169,    188.3,2,    61.25,2,    31.06,2,     2.00,2,    0.028,2,    0.023,2,    0.006,2,    0.191,2, -999.000,9,-999.0000,9,  -999.00,9,-999.000,9,   -999.0,9,   -999.0,9,-999.0,  -999.0,-999.0000,-999.000,-999.000,-999.000,-999.000
      74JC10_1,   A23,   102,  1,  10210,     10,2,19950430,1411,-33.8687, -36.0038, 4341,   1989,   1976.0,   2.9537,  34.7849,2,  34.7850,2,    209.9,3,  2.8046,    204.1,2,    53.85,2,    28.02,2,     1.77,2,    0.002,2,    0.014,3,    0.000,2,    0.113,2,    0.010,2,   1.8370,2,     5.48,2,   7.971,2,   -999.0,9,   -999.0,9,-999.0,  -999.0,  0.0070,   0.006,-999.000,   0.025,   0.300
      74JC10_1,   A23,   102,  1,  10209,      9,2,19950430,1411,-33.8687, -36.0038, 4341,   2234,   2221.5,   2.9403,  34.8489,2,  34.8509,2,    227.8,3,  2.7685,    222.2,2,    45.57,2,    25.40,2,     1.62,2,   -0.005,2,    0.004,2,    0.006,2,    0.079,2, -999.000,9,   1.8470,3,     3.66,3,   8.067,3,   -999.0,9,   -999.0,9,-999.0,  -999.0,  0.0070,-999.000,-999.000,   0.025,   0.300
      74JC10_1,   A23,   102,  1,  10208,      8,2,19950430,1411,-33.8687, -36.0038, 4341,   2485,   2473.0,   3.0265,  34.9048,2,  34.9050,2,    242.7,3,  2.8289,    235.1,2,    36.98,2,    22.97,2,     1.42,2,    0.002,2,    0.027,3,    0.000,2,    0.108,2,    0.015,2,   1.8280,2,     3.62,2,   7.957,2,   -999.0,9,   -999.0,9,-999.0,  -999.0,  0.0070,   0.013,-999.000,   0.025,   0.300
      74JC10_1,   A23,   102,  1,  10207,     26,2,19950430,1411,-33.8687, -36.0038, 4341,   2705,   2692.8,   2.9413,  34.9171,2,  34.9178,2,    248.6,3,  2.7235,    241.3,2,    35.12,2,    22.18,2,     1.36,2,   -0.013,2,    0.002,2,    0.000,2,    0.096,2, -999.000,9,-999.0000,9,  -999.00,9,-999.000,9,   -999.0,9,   -999.0,9,-999.0,  -999.0,-999.0000,-999.000,   2.935,-999.000,-999.000
      74JC10_1,   A23,   102,  1,  10206,      6,2,19950430,1411,-33.8687, -36.0038, 4341,   2979,   2968.3,   2.7476,  34.9114,2,  34.9113,2,    251.0,3,  2.5057,    243.6,2,    38.32,2,    22.16,2,     1.39,2,    0.022,3,    0.023,3,    0.006,2,    0.137,2, -999.000,5,   1.8330,2,     3.20,2,   7.972,2,   -999.0,9,   -999.0,9,-999.0,  -999.0,  0.0070,-999.000,-999.000,   0.025,   0.300
      74JC10_1,   A23,   102,  1,  10205,      5,2,19950430,1411,-33.8687, -36.0038, 4341,   3331,   3321.1,   2.2276,  34.8595,2,  34.8593,2,    242.5,3,  1.9611,    233.8,2,    57.21,2,    24.54,2,     1.54,2,    0.023,3,    0.024,3,    0.010,2,    0.109,2, -999.000,9,-999.0000,9,  -999.00,9,-999.000,9,   -999.0,9,   -999.0,9,-999.0,  -999.0,-999.0000,-999.000,-999.000,-999.000,-999.000
      74JC10_1,   A23,   102,  1,  10204,      4,2,19950430,1411,-33.8687, -36.0038, 4341,   3673,   3663.7,   1.6301,  34.8010,2,  34.8001,2,    232.2,3,  1.3430,    226.0,2,    80.49,2,    27.46,2,     1.78,2,    0.012,2,    0.024,3,    0.009,2,    0.083,2,    0.036,4,   1.8560,2,     5.63,2,   8.068,2,   -999.0,9,   -999.0,9,-999.0,  3671.0,  0.0070,   0.110,   1.625,   0.025,   0.300
      74JC10_1,   A23,   102,  1,  10203,      3,2,19950430,1411,-33.8687, -36.0038, 4341,   3978,   3969.1,   0.8478,  34.7163,2,  34.7136,2,    218.0,3,  0.5504,    211.1,2,   113.29,2,    31.65,2,     2.13,2,    0.058,2,    0.043,2,    0.010,2,    0.205,2, -999.000,9,   1.8720,2,     7.72,2,   7.944,3,   -999.0,9,   -999.0,9,-999.0,  -999.0,  0.0070,-999.000,-999.000,   0.025,   0.300
      74JC10_1,   A23,   102,  1,  10202,      2,2,19950430,1411,-33.8687, -36.0038, 4341,   4420,   4411.9,   0.2683,  34.6760,2,  34.6747,2,    221.9,3, -0.0585,    215.1,2,   127.88,2,    32.79,2,     2.18,2,    0.105,2,    0.071,2,    0.000,2,    0.323,2, -999.000,9,-999.0000,9,  -999.00,9,-999.000,9,   -999.0,9,   -999.0,9,-999.0,  -999.0,-999.0000,-999.000,-999.000,-999.000,-999.000
      74JC10_1,   A23,   102,  1,  10201,      1,2,19950430,1411,-33.8687, -36.0038, 4341,   4420,   4412.3,   0.2688,  34.6764,2,  34.6757,2,    221.7,3, -0.0581,    216.2,2,   129.07,2,    32.79,2,     2.17,2,    0.106,2,    0.078,2,    0.000,2,    0.308,2,    0.015,2,   1.8680,2,     7.58,2,   7.958,3,   -999.0,9,   -999.0,9,-999.0,  4398.0,  0.0070,   0.002,   0.265,   0.025,   0.300
      74JC10_1,   A23,   103,  1,  10323,     23,2,19950430,1926,-33.5387, -35.9950, 4406,     18,     11.2,  21.6698,  35.7992,2,  35.7985,2,    216.7,3, 21.6676,    215.5,2,     2.81,2,    -0.06,2,     0.00,2, -999.000,9, -999.000,9, -999.000,9, -999.000,9, -999.000,9,-999.0000,9,  -999.00,9,-999.000,9,   2011.7,6,    325.3,2,   4.0,  -999.0,-999.0000,-999.000,-999.000,-999.000,-999.000
      74JC10_1,   A23,   103,  1,  10324,     11,2,19950430,1926,-33.5387, -35.9950, 4406,     18,     11.2,  21.6677,  35.7993,2,  35.7847,2,    216.7,3, 21.6655,    215.3,2,     2.65,2,    -0.05,2,     0.00,2, -999.000,9, -999.000,9, -999.000,9, -999.000,9, -999.000,9,-999.0000,9,  -999.00,9,-999.000,9,   -999.0,9,   -999.0,9,-999.0,  -999.0,-999.0000,-999.000,-999.000,-999.000,-999.000
      74JC10_1,   A23,   103,  1,  10322,     25,2,19950430,1926,-33.5387, -35.9950, 4406,     65,     57.6,  20.9797,  35.7338,2,  35.7343,2,    233.7,3, 20.9687,    218.4,2,     2.87,2,     0.00,2,     0.04,2, -999.000,9, -999.000,9, -999.000,9, -999.000,9, -999.000,9,-999.0000,9,  -999.00,9,-999.000,9,   2014.7,2,    323.1,2,   4.0,  -999.0,-999.0000,-999.000,-999.000,-999.000,-999.000
      74JC10_1,   A23,   103,  1,  10321,     21,2,19950430,1926,-33.5387, -35.9950, 4406,    106,     98.1,  18.0912,  35.9230,2,  35.9597,2,    234.0,3, 18.0743,    216.0,2,     3.02,2,     0.30,2,     0.12,2, -999.000,9, -999.000,9, -999.000,9, -999.000,9, -999.000,9,-999.0000,9,  -999.00,9,-999.000,9,   -999.0,9,   -999.0,9,-999.0,  -999.0,-999.0000,-999.000,-999.000,-999.000,-999.000
      74JC10_1,   A23,   103,  1,  10320,     27,2,19950430,1926,-33.5387, -35.9950, 4406,    168,    160.0,  16.4712,  35.7200,2,  35.6865,2,    212.3,3, 16.4452,    211.6,2,     3.34,2,     3.05,2,     0.26,2, -999.000,9, -999.000,9, -999.000,9, -999.000,9, -999.000,9,-999.0000,9,  -999.00,9,-999.000,9,   2066.8,6,    349.7,2,   4.0,  -999.0,-999.0000,-999.000,  16.402,-999.000,-999.000
      74JC10_1,   A23,   103,  1,  10319,     19,2,19950430,1926,-33.5387, -35.9950, 4406,    268,    259.9,  14.6138,  35.4993,2,  35.5001,2,    218.5,3, 14.5749,    207.5,4,     4.01,2,     6.53,2,     0.46,2, -999.000,9, -999.000,9, -999.000,9, -999.000,9, -999.000,9,-999.0000,9,  -999.00,9,-999.000,9,   -999.0,9,   -999.0,9,-999.0,  -999.0,-999.0000,-999.000,-999.000,-999.000,-999.000
      74JC10_1,   A23,   103,  1,  10318,     18,2,19950430,1926,-33.5387, -35.9950, 4406,    372,    362.7,  13.5500,  35.3490,2,  35.3526,2,    220.5,3, 13.4983,    211.2,2,     4.68,2,     9.19,2,     0.61,2, -999.000,9, -999.000,9, -999.000,9, -999.000,9, -999.000,9,-999.0000,9,  -999.00,9,-999.000,9,   -999.0,9,   -999.0,9,-999.0,  -999.0,-999.0000,-999.000,-999.000,-999.000,-999.000
      74JC10_1,   A23,   103,  1,  10317,     17,2,19950430,1926,-33.5387, -35.9950, 4406,    523,    512.9,  10.8415,  34.9338,2,  34.9418,2,    210.1,3, 10.7780,    205.6,2,     7.04,2,    15.88,2,     1.03,2, -999.000,9, -999.000,9, -999.000,9, -999.000,9, -999.000,9,-999.0000,9,  -999.00,9,-999.000,9,   2212.7,3,    401.5,2,   4.0,  -999.0,-999.0000,-999.000,-999.000,-999.000,-999.000
      74JC10_1,   A23,   103,  1,  10316,     16,2,19950430,1926,-33.5387, -35.9950, 4406,    778,    766.6,   5.7661,  34.3578,2,  34.3580,2,    231.0,3,  5.6993,    225.2,2,    15.94,2,    26.27,2,     1.71,2, -999.000,9, -999.000,9, -999.000,9, -999.000,9, -999.000,9,-999.0000,9,  -999.00,9,-999.000,9,   -999.0,9,   -999.0,9,-999.0,  -999.0,-999.0000,-999.000,-999.000,-999.000,-999.000
      74JC10_1,   A23,   103,  1,  10315,     15,2,19950430,1926,-33.5387, -35.9950, 4406,   1037,   1024.2,   3.8700,  34.2950,2,  34.2950,2,    226.2,3,  3.7937,    220.1,2,    30.17,2,    30.25,2,     2.01,2, -999.000,9, -999.000,9, -999.000,9, -999.000,9, -999.000,9,-999.0000,9,  -999.00,9,-999.000,9,   -999.0,9,   -999.0,9,-999.0,  -999.0,-999.0000,-999.000,-999.000,-999.000,-999.000
      74JC10_1,   A23,   103,  1,  10314,     14,2,19950430,1926,-33.5387, -35.9950, 4406,   1280,   1267.4,   3.1287,  34.4014,2,  34.4065,2,    203.5,3,  3.0390,    195.1,2,    47.36,2,    32.16,2,     2.16,2, -999.000,9, -999.000,9, -999.000,9, -999.000,9, -999.000,9,-999.0000,9,  -999.00,9,-999.000,9,   -999.0,9,   -999.0,9,-999.0,  -999.0,-999.0000,-999.000,-999.000,-999.000,-999.000
      74JC10_1,   A23,   103,  1,  10313,     13,2,19950430,1926,-33.5387, -35.9950, 4406,   1541,   1527.9,   2.8408,  34.5575,2,  34.5588,2,    193.6,3,  2.7325,    185.7,2,    57.62,2,    31.84,2,     2.13,2, -999.000,9, -999.000,9, -999.000,9, -999.000,9, -999.000,9,-999.0000,9,  -999.00,9,-999.000,9,   2108.7,3,    508.7,2,   4.0,  -999.0,-999.0000,-999.000,-999.000,-999.000,-999.000
      74JC10_1,   A23,   103,  1,  10312,     12,2,19950430,1926,-33.5387, -35.9950, 4406,   1793,   1779.4,   2.8355,  34.6924,2,  34.6942,2,    200.7,3,  2.7057,    196.3,2,    57.04,2,    29.68,2,     1.94,2, -999.000,9, -999.000,9, -999.000,9, -999.000,9, -999.000,9,-999.0000,9,  -999.00,9,-999.000,9,   -999.0,9,   -999.0,9,-999.0,  -999.0,-999.0000,-999.000,-999.000,-999.000,-999.000
      74JC10_1,   A23,   103,  1,  10311,     24,2,19950430,1926,-33.5387, -35.9950, 4406,   2055,   2042.3,   2.8545,  34.7856,2,  34.7844,2,    216.2,3,  2.7008,    211.9,2,    51.00,2,    26.96,2,     1.76,2, -999.000,9, -999.000,9, -999.000,9, -999.000,9, -999.000,9,-999.0000,9,  -999.00,9,-999.000,9,   -999.0,9,   -999.0,9,-999.0,  -999.0,-999.0000,-999.000,-999.000,-999.000,-999.000
      74JC10_1,   A23,   103,  1,  10310,     10,2,19950430,1926,-33.5387, -35.9950, 4406,   2313,   2300.2,   2.9571,  34.8590,2,  34.8605,2,    235.1,3,  2.7776,    234.4,2,    42.35,2,    24.29,2,     1.53,2, -999.000,9, -999.000,9, -999.000,9, -999.000,9, -999.000,9,-999.0000,9,  -999.00,9,-999.000,9,   -999.0,9,   -999.0,9,-999.0,  -999.0,-999.0000,-999.000,-999.000,-999.000,-999.000
      74JC10_1,   A23,   103,  1,  10309,      9,2,19950430,1926,-33.5387, -35.9950, 4406,   2567,   2555.1,   2.9843,  34.9008,2,  34.9006,2,    249.0,3,  2.7795,    237.9,2,    36.57,2,    22.52,2,     1.41,2, -999.000,9, -999.000,9, -999.000,9, -999.000,9, -999.000,9,-999.0000,9,  -999.00,9,-999.000,9,   2165.3,3,    370.4,3,   4.0,  -999.0,-999.0000,-999.000,-999.000,-999.000,-999.000
      74JC10_1,   A23,   103,  1,  10308,      8,2,19950430,1926,-33.5387, -35.9950, 4406,   2822,   2810.8,   2.8983,  34.9164,2,  34.9168,2,    252.8,3,  2.6694,    242.7,2,    35.52,2,    21.74,2,     1.35,2, -999.000,9, -999.000,9, -999.000,9, -999.000,9, -999.000,9,-999.0000,9,  -999.00,9,-999.000,9,   2163.9,3,    362.8,3,   4.0,  -999.0,-999.0000,-999.000,-999.000,-999.000,-999.000
      74JC10_1,   A23,   103,  1,  10307,     26,2,19950430,1926,-33.5387, -35.9950, 4406,   3077,   3066.6,   2.7630,  34.9146,2,  34.9156,2,    254.8,3,  2.5106,    246.6,2,    36.72,2,    21.52,2,     1.34,2, -999.000,9, -999.000,9, -999.000,9, -999.000,9, -999.000,9,-999.0000,9,  -999.00,9,-999.000,9,   2166.0,3,    355.9,3,   4.0,  -999.0,-999.0000,-999.000,   2.756,-999.000,-999.000
      74JC10_1,   A23,   103,  1,  10306,      6,2,19950430,1926,-33.5387, -35.9950, 4406,   3438,   3427.5,   2.3361,  34.8773,2,  34.8768,2,    249.2,3,  2.0557,    245.9,2,    50.16,2,    23.15,2,     1.44,2, -999.000,9, -999.000,9, -999.000,9, -999.000,9, -999.000,9,-999.0000,9,  -999.00,9,-999.000,9,   -999.0,9,   -999.0,9,-999.0,  -999.0,-999.0000,-999.000,-999.000,-999.000,-999.000
      74JC10_1,   A23,   103,  1,  10305,      5,2,19950430,1926,-33.5387, -35.9950, 4406,   3796,   3786.3,   1.5653,  34.7967,2,  34.7940,2,    236.0,3,  1.2670,    227.7,2,    81.26,2,    27.19,2,     1.79,2, -999.000,9, -999.000,9, -999.000,9, -999.000,9, -999.000,9,-999.0000,9,  -999.00,9,-999.000,9,   -999.0,9,   -999.0,9,-999.0,  -999.0,-999.0000,-999.000,-999.000,-999.000,-999.000
      74JC10_1,   A23,   103,  1,  10304,      4,2,19950430,1926,-33.5387, -35.9950, 4406,   4095,   4086.6,   0.8004,  34.7171,2,  34.7131,2,    224.0,3,  0.4920,    215.4,2,   111.22,2,    30.92,2,     2.08,2, -999.000,9, -999.000,9, -999.000,9, -999.000,9, -999.000,9,-999.0000,9,  -999.00,9,-999.000,9,   -999.0,9,   -999.0,9,-999.0,  4099.0,-999.0000,-999.000,   0.806,-999.000,-999.000
      74JC10_1,   A23,   103,  1,  10303,      3,2,19950430,1926,-33.5387, -35.9950, 4406,   4308,   4300.1,   0.3092,  34.6785,2,  34.6771,2,    223.7,3, -0.0070,    217.1,2,   125.23,2,    32.22,2,     2.22,2, -999.000,9, -999.000,9, -999.000,9, -999.000,9, -999.000,9,-999.0000,9,  -999.00,9,-999.000,9,   -999.0,9,   -999.0,9,-999.0,  -999.0,-999.0000,-999.000,-999.000,-999.000,-999.000
      74JC10_1,   A23,   103,  1,  10301,      1,2,19950430,1926,-33.5387, -35.9950, 4406,   4483,   4474.5,   0.2684,  34.6750,2,  34.6755,2,    224.0,3, -0.0651,    217.6,2,   125.96,2,    32.28,2,     2.18,2, -999.000,9, -999.000,9, -999.000,9, -999.000,9, -999.000,9,-999.0000,9,  -999.00,9,-999.000,9,   -999.0,9,   -999.0,9,-999.0,  4463.0,-999.0000,-999.000,   0.267,-999.000,-999.000
      74JC10_1,   A23,   103,  1,  10302,      2,2,19950430,1926,-33.5387, -35.9950, 4406,   4483,   4475.2,   0.2683,  34.6755,2,  34.6737,2,    224.3,3, -0.0653,    217.5,2,   126.69,2,    32.32,2,     2.25,2, -999.000,9, -999.000,9, -999.000,9, -999.000,9, -999.000,9,-999.0000,9,  -999.00,9,-999.000,9,   -999.0,9,   -999.0,9,-999.0,  -999.0,-999.0000,-999.000,-999.000,-999.000,-999.000