BOTTLE,20220810CCHSIOAMB
EXPOCODE,SECT_ID,STNNBR,CASTNO,SAMPNO,BTLNBR,BTLNBR_FLAG_W,DATE,TIME,LATITUDE,LONGITUDE,DEPTH,CTDRAW,CTDPRS,CTDTMP,CTDSAL,CTDSAL_FLAG_W,SALNTY,SALNTY_FLAG_W,CTDOXY,CTDOXY_FLAG_W,THETA,OXYGEN,OXYGEN_FLAG_W,SILCAT,SILCAT_FLAG_W,NO2+NO3,NO2+NO3_FLAG_W,PHSPHT,PHSPHT_FLAG_W,CFC-11,CFC-11_FLAG_W,CFC-12,CFC-12_FLAG_W,CFC113,CFC113_FLAG_W,CCL4,CCL4_FLAG_W,TRITUM,TRITUM_FLAG_W,HELIUM,HELIUM_FLAG_W,DELHE3,DELHE3_FLAG_W,NEON,NEON_FLAG_W,TCARBN,TCARBN_FLAG_W,PCO2,PCO2_FLAG_W,PCO2TMP,REVPRS,HELIER,TRITER,REVTMP,NEONER,DELHER
,,,,,,,,,,,,,DBAR,ITS-90,PSS-78,,PSS-78,,UMOL/KG,,DEG C,UMOL/KG,,UMOL/KG,,UMOL/KG,,UMOL/KG,,PMOL/KG,,PMOL/KG,,PMOL/KG,,PMOL/KG,,TU,,NMOL/KG,,PERCNT,,NMOL/KG,,UMOL/KG,,UATM,,DEG C,DBAR,NMOL/KG,TU,ITS-90,NMOL/KG,PERCNT
      74JC10_1,   A23,    26,  1,   2622,     25,2,19950406,0253,-63.0728, -30.1153, 4916,     12,      9.9,  -1.7830,  33.4742,2,  33.4739,2,    360.9,3, -1.7832,    350.6,2,    71.05,2,    25.65,2,     1.71,2, -999.000,9, -999.000,9, -999.000,9, -999.000,9, -999.000,9,-999.0000,9,  -999.00,9,-999.000,9,   -999.0,9,   -999.0,9,-999.0,  -999.0,-999.0000,-999.000,-999.000,-999.000,-999.000
      74JC10_1,   A23,    26,  1,   2621,     21,2,19950406,0253,-63.0728, -30.1153, 4916,     57,     54.0,  -1.5436,  34.2513,2,  34.2938,2,    308.6,3, -1.5448,    298.8,2,    76.41,2,    27.57,2,     1.86,2, -999.000,9, -999.000,9, -999.000,9, -999.000,9, -999.000,9,-999.0000,9,  -999.00,9,-999.000,9,   -999.0,9,   -999.0,9,-999.0,  -999.0,-999.0000,-999.000,-999.000,-999.000,-999.000
      74JC10_1,   A23,    26,  1,   2620,     26,2,19950406,0253,-63.0728, -30.1153, 4916,    107,    103.5,  -0.9951,  34.4572,2,  34.4443,2,    271.1,3, -0.9979,    261.6,2,    85.27,2,    29.70,2,     2.01,2, -999.000,9, -999.000,9, -999.000,9, -999.000,9, -999.000,9,-999.0000,9,  -999.00,9,-999.000,9,   -999.0,9,   -999.0,9,-999.0,  -999.0,-999.0000,-999.000,  -1.100,-999.000,-999.000
      74JC10_1,   A23,    26,  1,   2619,     19,2,19950406,0253,-63.0728, -30.1153, 4916,    157,    152.7,   0.0132,  34.6071,2,  34.6087,2,    221.6,3,  0.0076,    214.6,2,    99.17,2,    31.70,2,     2.17,2, -999.000,9, -999.000,9, -999.000,9, -999.000,9, -999.000,9,-999.0000,9,  -999.00,9,-999.000,9,   -999.0,9,   -999.0,9,-999.0,  -999.0,-999.0000,-999.000,-999.000,-999.000,-999.000
      74JC10_1,   A23,    26,  1,   2618,     18,2,19950406,0253,-63.0728, -30.1153, 4916,    208,    202.7,   0.4387,  34.6655,2,  34.6669,2,    207.4,3,  0.4305,    196.7,2,   107.37,2,    32.39,2,     2.22,2, -999.000,9, -999.000,9, -999.000,9, -999.000,9, -999.000,9,-999.0000,9,  -999.00,9,-999.000,9,   -999.0,9,   -999.0,9,-999.0,  -999.0,-999.0000,-999.000,-999.000,-999.000,-999.000
      74JC10_1,   A23,    26,  1,   2617,     17,2,19950406,0253,-63.0728, -30.1153, 4916,    258,    252.4,   0.5709,  34.6818,2,  34.6826,2,    202.0,3,  0.5603,    192.5,2,   109.32,2,    32.33,2,     2.22,2, -999.000,9, -999.000,9, -999.000,9, -999.000,9, -999.000,9,-999.0000,9,  -999.00,9,-999.000,9,   -999.0,9,   -999.0,9,-999.0,  -999.0,-999.0000,-999.000,-999.000,-999.000,-999.000
      74JC10_1,   A23,    26,  1,   2616,     16,2,19950406,0253,-63.0728, -30.1153, 4916,    358,    351.1,   0.5539,  34.6880,2,  34.6877,2,    197.2,3,  0.5388,    192.5,2,   112.64,2,    32.58,2,     2.27,2, -999.000,9, -999.000,9, -999.000,9, -999.000,9, -999.000,9,-999.0000,9,  -999.00,9,-999.000,9,   -999.0,9,   -999.0,9,-999.0,  -999.0,-999.0000,-999.000,-999.000,-999.000,-999.000
      74JC10_1,   A23,    26,  1,   2615,     15,2,19950406,0253,-63.0728, -30.1153, 4916,    508,    499.4,   0.4595,  34.6873,2,  34.6869,2,    202.3,3,  0.4378,    194.3,2,   115.86,2,    32.57,2,     2.24,2, -999.000,9, -999.000,9, -999.000,9, -999.000,9, -999.000,9,-999.0000,9,  -999.00,9,-999.000,9,   -999.0,9,   -999.0,9,-999.0,  -999.0,-999.0000,-999.000,-999.000,-999.000,-999.000
      74JC10_1,   A23,    26,  1,   2614,     14,2,19950406,0253,-63.0728, -30.1153, 4916,    759,    749.2,   0.3136,  34.6831,2,  34.6822,2,    203.6,3,  0.2802,    198.7,2,   119.37,2,    32.58,2,     2.23,2, -999.000,9, -999.000,9, -999.000,9, -999.000,9, -999.000,9,-999.0000,9,  -999.00,9,-999.000,9,   -999.0,9,   -999.0,9,-999.0,  -999.0,-999.0000,-999.000,-999.000,-999.000,-999.000
      74JC10_1,   A23,    26,  1,   2613,     13,2,19950406,0253,-63.0728, -30.1153, 4916,   1010,    998.1,   0.1978,  34.6785,2,  34.6769,2,    208.7,3,  0.1521,    203.0,2,   121.33,2,    32.76,2,     2.16,2, -999.000,9, -999.000,9, -999.000,9, -999.000,9, -999.000,9,-999.0000,9,  -999.00,9,-999.000,9,   -999.0,9,   -999.0,9,-999.0,  -999.0,-999.0000,-999.000,-999.000,-999.000,-999.000
      74JC10_1,   A23,    26,  1,   2612,     12,2,19950406,0253,-63.0728, -30.1153, 4916,   1259,   1247.3,   0.0845,  34.6742,2,  34.6737,2,    216.1,3,  0.0258,    210.4,2,   121.91,2,    32.22,2,     2.22,2, -999.000,9, -999.000,9, -999.000,9, -999.000,9, -999.000,9,-999.0000,9,  -999.00,9,-999.000,9,   -999.0,9,   -999.0,9,-999.0,  -999.0,-999.0000,-999.000,-999.000,-999.000,-999.000
      74JC10_1,   A23,    26,  1,   2611,     11,2,19950406,0253,-63.0728, -30.1153, 4916,   1510,   1497.8,   0.0025,  34.6694,2,  34.6681,2,    221.0,3, -0.0702,    215.5,2,   121.72,2,    32.12,2,     2.22,2, -999.000,9, -999.000,9, -999.000,9, -999.000,9, -999.000,9,-999.0000,9,  -999.00,9,-999.000,9,   -999.0,9,   -999.0,9,-999.0,  -999.0,-999.0000,-999.000,-999.000,-999.000,-999.000
      74JC10_1,   A23,    26,  1,   2610,     10,2,19950406,0253,-63.0728, -30.1153, 4916,   1760,   1747.8,  -0.0798,  34.6668,2,  34.6669,2,    223.7,3, -0.1673,    219.0,2,   122.11,2,    31.95,2,     2.20,2, -999.000,9, -999.000,9, -999.000,9, -999.000,9, -999.000,9,-999.0000,9,  -999.00,9,-999.000,9,   -999.0,9,   -999.0,9,-999.0,  -999.0,-999.0000,-999.000,-999.000,-999.000,-999.000
      74JC10_1,   A23,    26,  1,   2609,      9,2,19950406,0253,-63.0728, -30.1153, 4916,   2010,   1997.4,  -0.1434,  34.6638,2,  34.6647,2,    227.4,3, -0.2467,    222.3,2,   121.81,2,    31.75,2,     2.19,2, -999.000,9, -999.000,9, -999.000,9, -999.000,9, -999.000,9,-999.0000,9,  -999.00,9,-999.000,9,   -999.0,9,   -999.0,9,-999.0,  -999.0,-999.0000,-999.000,-999.000,-999.000,-999.000
      74JC10_1,   A23,    26,  1,   2608,      8,2,19950406,0253,-63.0728, -30.1153, 4916,   2511,   2499.7,  -0.2485,  34.6603,2,  34.6608,2,    233.8,3, -0.3862,    232.0,2,   121.13,2,    32.29,2,     2.20,2, -999.000,9, -999.000,9, -999.000,9, -999.000,9, -999.000,9,-999.0000,9,  -999.00,9,-999.000,9,   -999.0,9,   -999.0,9,-999.0,  -999.0,-999.0000,-999.000,-999.000,-999.000,-999.000
      74JC10_1,   A23,    26,  1,   2607,      7,2,19950406,0253,-63.0728, -30.1153, 4916,   3012,   3001.2,  -0.3122,  34.6575,2,  34.6576,2,    239.7,3, -0.4886,    234.2,2,   121.23,2,    31.51,2,     2.17,2, -999.000,9, -999.000,9, -999.000,9, -999.000,9, -999.000,9,-999.0000,9,  -999.00,9,-999.000,9,   -999.0,9,   -999.0,9,-999.0,  -999.0,-999.0000,-999.000,  -0.314,-999.000,-999.000
      74JC10_1,   A23,    26,  1,   2606,      6,2,19950406,0253,-63.0728, -30.1153, 4916,   3514,   3504.9,  -0.3777,  34.6535,2,  34.6535,2,    243.4,3, -0.5961,    236.6,2,   119.47,2,    31.41,2,     2.15,2,    0.362,2,    0.189,2,    0.032,2,    0.758,2, -999.000,9,   1.8760,2,     5.23,2,   8.229,2,   -999.0,9,   -999.0,9,-999.0,  -999.0,  0.0070,-999.000,-999.000,   0.026,   0.300
      74JC10_1,   A23,    26,  1,   2605,      5,2,19950406,0253,-63.0728, -30.1153, 4916,   4018,   4009.3,  -0.4622,  34.6476,2,  34.6470,2,    252.9,3, -0.7257,    261.9,4,   112.54,2,    31.32,2,     2.13,2,    0.950,2,    0.446,2,    0.064,2,    1.140,2, -999.000,9,-999.0000,9,  -999.00,9,-999.000,9,   -999.0,9,   -999.0,9,-999.0,  -999.0,-999.0000,-999.000,-999.000,-999.000,-999.000
      74JC10_1,   A23,    26,  1,   2604,      4,2,19950406,0253,-63.0728, -30.1153, 4916,   4526,   4517.8,  -0.4820,  34.6432,2,  34.6433,2,    258.5,3, -0.7961,    250.0,2,   108.93,2,    31.05,2,     2.12,2,    1.297,2,    0.603,2,    0.073,2,    1.420,2, -999.000,9,   1.8710,2,     3.50,2,   8.264,2,   -999.0,9,   -999.0,9,-999.0,  4526.0,  0.0070,-999.000,  -0.489,   0.026,   0.300
      74JC10_1,   A23,    26,  1,   2603,      3,2,19950406,0253,-63.0728, -30.1153, 4916,   4728,   4720.2,  -0.4730,  34.6440,2,  34.6433,2,    259.6,3, -0.8087,    250.4,2,   109.81,2,    31.16,2,     2.12,2,    1.266,2,    0.596,2,    0.066,2,    1.380,2, -999.000,9,   1.8670,2,     3.90,2,   8.260,2,   -999.0,9,   -999.0,9,-999.0,  -999.0,  0.0070,-999.000,-999.000,   0.026,   0.300
      74JC10_1,   A23,    26,  1,   2602,      2,2,19950406,0253,-63.0728, -30.1153, 4916,   4976,   4969.4,  -0.4649,  34.6426,2,  34.6429,2,    260.4,3, -0.8281,    251.7,2,   111.86,2,    31.18,2,     2.12,2, -999.000,9, -999.000,9, -999.000,9, -999.000,9, -999.000,9,-999.0000,9,  -999.00,9,-999.000,9,   -999.0,9,   -999.0,9,-999.0,  -999.0,-999.0000,-999.000,-999.000,-999.000,-999.000
      74JC10_1,   A23,    26,  1,   2601,      1,2,19950406,0253,-63.0728, -30.1153, 4916,   4978,   4970.9,  -0.4646,  34.6421,2,  34.6429,2,    261.0,3, -0.8279,    251.8,2,   112.64,2,    31.25,2,     2.11,2,    1.159,2,    0.495,3,    0.050,2,    1.291,2, -999.000,9,   1.8770,2,     4.39,2,   8.249,2,   -999.0,9,   -999.0,9,-999.0,  4964.0,  0.0070,-999.000,  -0.470,   0.026,   0.300
      74JC10_1,   A23,    27,  1,   2722,     25,2,19950406,0928,-62.7828, -30.6938, 4870,     11,      9.1,  -1.7610,  33.4806,2,  33.4817,2,    355.0,3, -1.7612,    350.1,2,    67.58,2,    25.76,2,     1.75,2,    6.863,2,    3.192,2,    0.645,2,    8.242,2, -999.000,9,-999.0000,9,  -999.00,9,-999.000,9,   -999.0,9,   -999.0,9,-999.0,  -999.0,-999.0000,-999.000,-999.000,-999.000,-999.000
      74JC10_1,   A23,    27,  1,   2721,     21,2,19950406,0928,-62.7828, -30.6938, 4870,     55,     52.8,  -1.5461,  33.6945,2,  33.6473,2,    349.4,3, -1.5472,    343.3,3,    68.71,2,    26.04,2,     1.78,2,    6.438,2,    2.554,3,    0.561,2,    7.585,2, -999.000,9,-999.0000,9,  -999.00,9,-999.000,9,   -999.0,9,   -999.0,9,-999.0,  -999.0,-999.0000,-999.000,-999.000,-999.000,-999.000
      74JC10_1,   A23,    27,  1,   2720,     26,2,19950406,0928,-62.7828, -30.6938, 4870,    105,    102.1,  -1.5316,  34.3805,2,  34.3790,2,    302.9,3, -1.5338,    288.0,2,    76.03,2,    28.69,2,     1.96,2,    4.663,2,    2.189,2,    0.415,2,    4.904,2, -999.000,9,-999.0000,9,  -999.00,9,-999.000,9,   -999.0,9,   -999.0,9,-999.0,  -999.0,-999.0000,-999.000,  -1.583,-999.000,-999.000
      74JC10_1,   A23,    27,  1,   2719,     19,2,19950406,0928,-62.7828, -30.6938, 4870,    156,    151.7,  -0.4090,  34.5452,2,  34.5392,2,    258.4,3, -0.4139,    229.6,2,    90.06,2,    30.92,2,     2.16,2,    2.488,2,    1.181,2,    0.194,2,    2.647,2, -999.000,9,-999.0000,9,  -999.00,9,-999.000,9,   -999.0,9,   -999.0,9,-999.0,  -999.0,-999.0000,-999.000,-999.000,-999.000,-999.000
      74JC10_1,   A23,    27,  1,   2718,     18,2,19950406,0928,-62.7828, -30.6938, 4870,    207,    201.8,   0.4288,  34.6619,2,  34.6588,2,    210.5,3,  0.4206,    201.9,2,   101.61,2,    32.13,2,     2.28,2,    0.844,2,    0.413,2,    0.061,2,    1.087,2, -999.000,9,-999.0000,9,  -999.00,9,-999.000,9,   -999.0,9,   -999.0,9,-999.0,  -999.0,-999.0000,-999.000,-999.000,-999.000,-999.000
      74JC10_1,   A23,    27,  1,   2717,     17,2,19950406,0928,-62.7828, -30.6938, 4870,    257,    251.6,   0.5690,  34.6807,2,  34.6800,2,    202.8,3,  0.5583,    193.7,2,   104.24,2,    32.31,2,     2.23,2,    0.457,2,    0.242,2,    0.029,2,    0.704,2, -999.000,9,-999.0000,9,  -999.00,9,-999.000,9,   -999.0,9,   -999.0,9,-999.0,  -999.0,-999.0000,-999.000,-999.000,-999.000,-999.000
      74JC10_1,   A23,    27,  1,   2716,     16,2,19950406,0928,-62.7828, -30.6938, 4870,    357,    350.5,   0.5771,  34.6884,2,  34.6885,2,    202.2,3,  0.5619,    194.6,3,   109.81,2,    32.38,2,     2.23,2,    0.239,2,    0.129,2,    0.000,2,    0.484,2, -999.000,9,-999.0000,9,  -999.00,9,-999.000,9,   -999.0,9,   -999.0,9,-999.0,  -999.0,-999.0000,-999.000,-999.000,-999.000,-999.000
      74JC10_1,   A23,    27,  1,   2715,     15,2,19950406,0928,-62.7828, -30.6938, 4870,    506,    498.2,   0.4620,  34.6861,2,  34.6871,2,    202.4,3,  0.4403,    193.0,2,   114.88,2,    32.60,2,     2.25,2,    0.127,2,    0.078,2,    0.000,2,    0.390,2, -999.000,9,-999.0000,9,  -999.00,9,-999.000,9,   -999.0,9,   -999.0,9,-999.0,  -999.0,-999.0000,-999.000,-999.000,-999.000,-999.000
      74JC10_1,   A23,    27,  1,   2714,     14,2,19950406,0928,-62.7828, -30.6938, 4870,    758,    747.8,   0.3037,  34.6815,2,  34.6818,2,    206.0,3,  0.2704,    196.8,2,   119.18,2,    32.70,2,     2.28,2,    0.086,2,    0.063,2,    0.000,2,    0.297,2, -999.000,9,-999.0000,9,  -999.00,9,-999.000,9,   -999.0,9,   -999.0,9,-999.0,  -999.0,-999.0000,-999.000,-999.000,-999.000,-999.000
      74JC10_1,   A23,    27,  1,   2713,     13,2,19950406,0928,-62.7828, -30.6938, 4870,   1009,    997.2,   0.1763,  34.6775,2,  34.6771,2,    212.4,3,  0.1308,    205.1,2,   120.54,2,    32.47,2,     2.24,2,    0.074,2,    0.047,2,    0.000,2,    0.297,2, -999.000,9,-999.0000,9,  -999.00,9,-999.000,9,   -999.0,9,   -999.0,9,-999.0,  -999.0,-999.0000,-999.000,-999.000,-999.000,-999.000
      74JC10_1,   A23,    27,  1,   2712,     12,2,19950406,0928,-62.7828, -30.6938, 4870,   1259,   1246.6,   0.0795,  34.6721,2,  34.6732,2,    217.8,3,  0.0209,    212.7,2,   121.23,2,    32.12,2,     2.23,2,    0.071,2,    0.052,2,    0.000,2,    0.297,2, -999.000,9,-999.0000,9,  -999.00,9,-999.000,9,   -999.0,9,   -999.0,9,-999.0,  -999.0,-999.0000,-999.000,-999.000,-999.000,-999.000
      74JC10_1,   A23,    27,  1,   2711,     11,2,19950406,0928,-62.7828, -30.6938, 4870,   1509,   1496.2,  -0.0092,  34.6696,2,  34.6694,2,    222.8,3, -0.0817,    217.7,2,   121.52,2,    32.17,2,     2.25,2, -999.000,9, -999.000,9, -999.000,9, -999.000,9, -999.000,9,-999.0000,9,  -999.00,9,-999.000,9,   -999.0,9,   -999.0,9,-999.0,  -999.0,-999.0000,-999.000,-999.000,-999.000,-999.000
      74JC10_1,   A23,    27,  1,   2710,     10,2,19950406,0928,-62.7828, -30.6938, 4870,   1759,   1746.4,  -0.0879,  34.6652,2,  34.6659,2,    227.5,3, -0.1752,    221.8,2,   121.13,2,    31.91,2,     2.20,2,    0.105,2,    0.072,2,    0.000,2,    0.380,2, -999.000,9,-999.0000,9,  -999.00,9,-999.000,9,   -999.0,9,   -999.0,9,-999.0,  -999.0,-999.0000,-999.000,-999.000,-999.000,-999.000
      74JC10_1,   A23,    27,  1,   2709,      9,2,19950406,0928,-62.7828, -30.6938, 4870,   2008,   1995.3,  -0.1587,  34.6637,2,  34.6635,2,    231.8,3, -0.2616,    227.7,2,   122.21,2,    31.95,2,     2.20,2,    0.107,2,    0.076,2,    0.000,2,    0.410,2, -999.000,9,-999.0000,9,  -999.00,9,-999.000,9,   -999.0,9,   -999.0,9,-999.0,  -999.0,-999.0000,-999.000,-999.000,-999.000,-999.000
      74JC10_1,   A23,    27,  1,   2708,      8,2,19950406,0928,-62.7828, -30.6938, 4870,   2510,   2498.4,  -0.2542,  34.6606,2,  34.6598,2,    238.1,3, -0.3917,    230.3,2,   125.82,2,    31.60,2,     2.18,2,    0.161,2,    0.090,2,    0.000,2,    0.501,2, -999.000,9,-999.0000,9,  -999.00,9,-999.000,9,   -999.0,9,   -999.0,9,-999.0,  -999.0,-999.0000,-999.000,-999.000,-999.000,-999.000
      74JC10_1,   A23,    27,  1,   2707,      7,2,19950406,0928,-62.7828, -30.6938, 4870,   3013,   3002.2,  -0.3144,  34.6574,2,  34.6572,2,    242.2,3, -0.4907,    234.2,2,   126.50,2,    31.57,2,     2.17,2,    0.170,2,    0.108,2,    0.000,2,    0.538,2, -999.000,9,-999.0000,9,  -999.00,9,-999.000,9,   -999.0,9,   -999.0,9,-999.0,  -999.0,-999.0000,-999.000,  -0.316,-999.000,-999.000
      74JC10_1,   A23,    27,  1,   2706,      6,2,19950406,0928,-62.7828, -30.6938, 4870,   3513,   3504.0,  -0.3852,  34.6521,2,  34.6527,2,    248.1,3, -0.6034,    240.2,2,   124.16,2,    31.33,2,     2.16,2,    0.360,2,    0.191,2,    0.005,2,    0.744,2, -999.000,9,-999.0000,9,  -999.00,9,-999.000,9,   -999.0,9,   -999.0,9,-999.0,  -999.0,-999.0000,-999.000,-999.000,-999.000,-999.000
      74JC10_1,   A23,    27,  1,   2705,      5,2,19950406,0928,-62.7828, -30.6938, 4870,   4017,   4008.0,  -0.4726,  34.6452,2,  34.6453,2,    255.9,3, -0.7356,    249.0,2,   114.69,2,    31.10,2,     2.13,2,    1.106,2,    0.522,2,    0.065,2,    1.268,2, -999.000,9,-999.0000,9,  -999.00,9,-999.000,9,   -999.0,9,   -999.0,9,-999.0,  -999.0,-999.0000,-999.000,-999.000,-999.000,-999.000
      74JC10_1,   A23,    27,  1,   2704,      4,2,19950406,0928,-62.7828, -30.6938, 4870,   4523,   4515.5,  -0.4775,  34.6439,2,  34.6425,2,    260.2,3, -0.7914,    252.7,2,   111.27,2,    30.86,2,     2.12,2,    1.299,2,    0.529,3,    0.083,2,    1.415,2, -999.000,9,-999.0000,9,  -999.00,9,-999.000,9,   -999.0,9,   -999.0,9,-999.0,  4524.0,-999.0000,-999.000,  -0.484,-999.000,-999.000
      74JC10_1,   A23,    27,  1,   2703,      3,2,19950406,0928,-62.7828, -30.6938, 4870,   4726,   4718.6,  -0.4663,  34.6436,2,  34.6429,2,    261.4,3, -0.8021,    252.5,2,   110.10,2,    30.88,2,     2.13,2,    1.282,2,    0.602,2,    0.077,2,    1.382,2, -999.000,9,-999.0000,9,  -999.00,9,-999.000,9,   -999.0,9,   -999.0,9,-999.0,  -999.0,-999.0000,-999.000,-999.000,-999.000,-999.000
      74JC10_1,   A23,    27,  1,   2702,      2,2,19950406,0928,-62.7828, -30.6938, 4870,   4923,   4916.5,  -0.4482,  34.6429,2,  34.6429,2,    259.2,3, -0.8060,    252.1,2,   109.91,2,    30.78,2,     2.12,2, -999.000,9, -999.000,9, -999.000,9, -999.000,9, -999.000,9,-999.0000,9,  -999.00,9,-999.000,9,   -999.0,9,   -999.0,9,-999.0,  -999.0,-999.0000,-999.000,-999.000,-999.000,-999.000
      74JC10_1,   A23,    27,  1,   2701,      1,2,19950406,0928,-62.7828, -30.6938, 4870,   4924,   4917.1,  -0.4483,  34.6411,2,  34.6429,2,    259.5,3, -0.8062,    252.1,2,   110.30,2,    30.85,2,     2.10,2,    1.258,2,    0.583,2,    0.074,2,    1.367,2, -999.000,9,-999.0000,9,  -999.00,9,-999.000,9,   -999.0,9,   -999.0,9,-999.0,  4909.0,-999.0000,-999.000,  -0.456,-999.000,-999.000