BOTTLE,20220810CCHSIOAMB
EXPOCODE,SECT_ID,STNNBR,CASTNO,SAMPNO,BTLNBR,BTLNBR_FLAG_W,DATE,TIME,LATITUDE,LONGITUDE,DEPTH,CTDRAW,CTDPRS,CTDTMP,CTDSAL,CTDSAL_FLAG_W,SALNTY,SALNTY_FLAG_W,CTDOXY,CTDOXY_FLAG_W,THETA,OXYGEN,OXYGEN_FLAG_W,SILCAT,SILCAT_FLAG_W,NO2+NO3,NO2+NO3_FLAG_W,PHSPHT,PHSPHT_FLAG_W,CFC-11,CFC-11_FLAG_W,CFC-12,CFC-12_FLAG_W,CFC113,CFC113_FLAG_W,CCL4,CCL4_FLAG_W,TRITUM,TRITUM_FLAG_W,HELIUM,HELIUM_FLAG_W,DELHE3,DELHE3_FLAG_W,NEON,NEON_FLAG_W,TCARBN,TCARBN_FLAG_W,PCO2,PCO2_FLAG_W,PCO2TMP,REVPRS,HELIER,TRITER,REVTMP,NEONER,DELHER
,,,,,,,,,,,,,DBAR,ITS-90,PSS-78,,PSS-78,,UMOL/KG,,DEG C,UMOL/KG,,UMOL/KG,,UMOL/KG,,UMOL/KG,,PMOL/KG,,PMOL/KG,,PMOL/KG,,PMOL/KG,,TU,,NMOL/KG,,PERCNT,,NMOL/KG,,UMOL/KG,,UATM,,DEG C,DBAR,NMOL/KG,TU,ITS-90,NMOL/KG,PERCNT
      74JC10_1,   A23,     8,  1,    816,     16,2,19950331,0403,-72.0685, -17.8988, 2581,     56,     53.7,  -1.7495,  34.1217,2,  34.1205,2,    348.4,3, -1.7505,    336.6,2,    57.63,2,    26.19,2,     1.82,2, -999.000,9, -999.000,9, -999.000,9, -999.000,9, -999.000,9,-999.0000,9,  -999.00,9,-999.000,9,   -999.0,9,   -999.0,9,-999.0,  -999.0,-999.0000,-999.000,-999.000,-999.000,-999.000
      74JC10_1,   A23,     8,  1,    817,     17,2,19950331,0403,-72.0685, -17.8988, 2581,     56,     53.7,  -1.7495,  34.1217,2,  34.1201,2,    348.4,3, -1.7505,    336.3,2,    58.20,2,    26.40,2,     1.79,2, -999.000,9, -999.000,9, -999.000,9, -999.000,9, -999.000,9,-999.0000,9,  -999.00,9,-999.000,9,   -999.0,9,   -999.0,9,-999.0,  -999.0,-999.0000,-999.000,-999.000,-999.000,-999.000
      74JC10_1,   A23,     8,  1,    815,     15,2,19950331,0403,-72.0685, -17.8988, 2581,    108,    105.3,  -1.7727,  34.3670,2,  34.3749,2,    310.8,3, -1.7749,    305.8,2,    63.84,2,    30.65,2,     2.05,2, -999.000,9, -999.000,9, -999.000,9, -999.000,9, -999.000,9,-999.0000,9,  -999.00,9,-999.000,9,   -999.0,9,   -999.0,9,-999.0,  -999.0,-999.0000,-999.000,-999.000,-999.000,-999.000
      74JC10_1,   A23,     8,  1,    814,     14,2,19950331,0403,-72.0685, -17.8988, 2581,    160,    156.0,  -1.6634,  34.3884,2,  34.3953,2,    305.6,3, -1.6668,    297.9,2,    66.13,2,    30.66,2,     2.04,2, -999.000,9, -999.000,9, -999.000,9, -999.000,9, -999.000,9,-999.0000,9,  -999.00,9,-999.000,9,   -999.0,9,   -999.0,9,-999.0,  -999.0,-999.0000,-999.000,-999.000,-999.000,-999.000
      74JC10_1,   A23,     8,  1,    813,     13,2,19950331,0403,-72.0685, -17.8988, 2581,    211,    206.7,  -1.4239,  34.4218,2,  34.4300,2,    291.2,3, -1.4289,    283.1,2,    70.62,2,    30.93,2,     2.07,2, -999.000,9, -999.000,9, -999.000,9, -999.000,9, -999.000,9,-999.0000,9,  -999.00,9,-999.000,9,   -999.0,9,   -999.0,9,-999.0,  -999.0,-999.0000,-999.000,-999.000,-999.000,-999.000
      74JC10_1,   A23,     8,  1,    811,     11,2,19950331,0403,-72.0685, -17.8988, 2581,    262,    257.2,  -0.9840,  34.4763,2,  34.4771,2,    274.0,3, -0.9915,    265.0,2,    75.34,2,    31.10,2,     2.08,2, -999.000,9, -999.000,9, -999.000,9, -999.000,9, -999.000,9,-999.0000,9,  -999.00,9,-999.000,9,   -999.0,9,   -999.0,9,-999.0,  -999.0,-999.0000,-999.000,-999.000,-999.000,-999.000
      74JC10_1,   A23,     8,  1,    809,      9,2,19950331,0403,-72.0685, -17.8988, 2581,    367,    360.0,  -0.2891,  34.5563,2,  34.5596,2,    244.9,3, -0.3020,    236.7,2,    85.35,2,    31.93,2,     2.16,2, -999.000,9, -999.000,9, -999.000,9, -999.000,9, -999.000,9,-999.0000,9,  -999.00,9,-999.000,9,   -999.0,9,   -999.0,9,-999.0,  -999.0,-999.0000,-999.000,-999.000,-999.000,-999.000
      74JC10_1,   A23,     8,  1,    810,     10,2,19950331,0403,-72.0685, -17.8988, 2581,    367,    360.0,  -0.2891,  34.5563,2,  34.5588,2,    244.9,3, -0.3020,    236.7,2,    85.35,2,    32.03,2,     2.16,2, -999.000,9, -999.000,9, -999.000,9, -999.000,9, -999.000,9,-999.0000,9,  -999.00,9,-999.000,9,   -999.0,9,   -999.0,9,-999.0,  -999.0,-999.0000,-999.000,-999.000,-999.000,-999.000
      74JC10_1,   A23,     8,  1,    807,      7,2,19950331,0403,-72.0685, -17.8988, 2581,    776,    767.4,   0.6608,  34.6892,2,  34.6893,2,    211.2,3,  0.6242,    205.2,2,   107.87,2,    32.60,2,     2.18,2, -999.000,9, -999.000,9, -999.000,9, -999.000,9, -999.000,9,-999.0000,9,  -999.00,9,-999.000,9,   -999.0,9,   -999.0,9,-999.0,  -999.0,-999.0000,-999.000,   0.656,-999.000,-999.000
      74JC10_1,   A23,     8,  1,    808,      8,2,19950331,0403,-72.0685, -17.8988, 2581,    776,    767.4,   0.6608,  34.6892,2,  34.6893,2,    211.2,3,  0.6242,    205.1,2,   107.03,2,    32.15,2,     2.16,2, -999.000,9, -999.000,9, -999.000,9, -999.000,9, -999.000,9,-999.0000,9,  -999.00,9,-999.000,9,   -999.0,9,   -999.0,9,-999.0,  -999.0,-999.0000,-999.000,-999.000,-999.000,-999.000
      74JC10_1,   A23,     8,  1,    806,      6,2,19950331,0403,-72.0685, -17.8988, 2581,   1034,   1023.7,   0.3831,  34.6785,2,  34.6793,2,    215.0,3,  0.3344,    210.4,2,   113.82,2,    32.46,2,     2.20,2, -999.000,9, -999.000,9, -999.000,9, -999.000,9, -999.000,9,-999.0000,9,  -999.00,9,-999.000,9,   -999.0,9,   -999.0,9,-999.0,  -999.0,-999.0000,-999.000,-999.000,-999.000,-999.000
      74JC10_1,   A23,     8,  1,    805,      5,2,19950331,0403,-72.0685, -17.8988, 2581,   1289,   1278.3,   0.2669,  34.6768,2,  34.6763,2,    219.5,3,  0.2045,    212.4,2,   116.58,2,    32.43,2,     2.21,2, -999.000,9, -999.000,9, -999.000,9, -999.000,9, -999.000,9,-999.0000,9,  -999.00,9,-999.000,9,   -999.0,9,   -999.0,9,-999.0,  -999.0,-999.0000,-999.000,-999.000,-999.000,-999.000
      74JC10_1,   A23,     8,  1,    803,      3,2,19950331,0403,-72.0685, -17.8988, 2581,   1794,   1783.4,   0.0923,  34.6712,2,  34.6704,2,    225.0,3,  0.0000,    217.6,2,   120.97,2,    32.51,2,     2.22,2, -999.000,9, -999.000,9, -999.000,9, -999.000,9, -999.000,9,-999.0000,9,  -999.00,9,-999.000,9,   -999.0,9,   -999.0,9,-999.0,  -999.0,-999.0000,-999.000,-999.000,-999.000,-999.000
      74JC10_1,   A23,     8,  1,    804,      4,2,19950331,0403,-72.0685, -17.8988, 2581,   1794,   1783.4,   0.0923,  34.6712,2,  34.6710,2,    225.0,3,  0.0000,    217.8,2,   120.51,2,    32.57,2,     2.22,2, -999.000,9, -999.000,9, -999.000,9, -999.000,9, -999.000,9,-999.0000,9,  -999.00,9,-999.000,9,   -999.0,9,   -999.0,9,-999.0,  1789.0,-999.0000,-999.000,   0.085,-999.000,-999.000
      74JC10_1,   A23,     8,  1,    802,      2,2,19950331,0403,-72.0685, -17.8988, 2581,   2059,   2049.3,   0.0282,  34.6704,2,  34.6688,2,    230.5,3, -0.0814,    220.3,2,   121.49,2,    32.53,2,     2.21,2, -999.000,9, -999.000,9, -999.000,9, -999.000,9, -999.000,9,-999.0000,9,  -999.00,9,-999.000,9,   -999.0,9,   -999.0,9,-999.0,  -999.0,-999.0000,-999.000,-999.000,-999.000,-999.000
      74JC10_1,   A23,     8,  1,    801,      1,2,19950331,0403,-72.0685, -17.8988, 2581,   2571,   2563.1,  -0.0907,  34.6668,2,  34.6655,2,    232.0,3, -0.2364,    227.3,2,   124.25,2,    32.46,2,     2.20,2, -999.000,9, -999.000,9, -999.000,9, -999.000,9, -999.000,9,-999.0000,9,  -999.00,9,-999.000,9,   -999.0,9,   -999.0,9,-999.0,  2544.0,-999.0000,-999.000,  -0.099,-999.000,-999.000
      74JC10_1,   A23,     9,  1,    918,     18,2,19950331,0806,-71.9557, -18.2188, 3058,     10,      7.9,  -1.7971,  34.1954,2,  34.1940,2,    329.4,3, -1.7972,   -999.0,5,    66.47,2,    27.87,2,     1.85,2,    6.351,2,    2.792,2,    0.579,2,    7.144,2, -999.000,9,-999.0000,9,  -999.00,9,-999.000,9,   -999.0,9,   -999.0,9,-999.0,  -999.0,-999.0000,-999.000,-999.000,-999.000,-999.000
      74JC10_1,   A23,     9,  1,    916,     16,2,19950331,0806,-71.9557, -18.2188, 3058,     55,     53.0,  -1.7883,  34.1974,2,  34.1995,2,    323.5,3, -1.7893,    332.4,2,    66.52,2,    27.82,2,     1.84,2,    6.322,2,    2.888,2,    0.563,2,    6.924,2, -999.000,9,   1.8300,2,    -1.14,2,   8.226,2,   -999.0,9,   -999.0,9,-999.0,  -999.0,  0.0070,-999.000,-999.000,   0.026,   0.300
      74JC10_1,   A23,     9,  1,    917,     17,2,19950331,0806,-71.9557, -18.2188, 3058,     55,     53.0,  -1.7883,  34.1974,2,  34.1973,2,    323.5,3, -1.7893,    331.6,2,    66.29,2,    27.82,2,     1.83,2,    6.282,2,    2.864,2,    0.586,2,    7.061,2, -999.000,9,-999.0000,9,  -999.00,9,-999.000,9,   -999.0,9,   -999.0,9,-999.0,  -999.0,-999.0000,-999.000,-999.000,-999.000,-999.000
      74JC10_1,   A23,     9,  1,    915,     15,2,19950331,0806,-71.9557, -18.2188, 3058,    160,    155.8,  -0.4367,  34.5470,2,  34.5337,2,    266.5,3, -0.4418,    239.2,2,    84.41,2,    32.01,2,     2.14,2,    2.650,2,    1.174,2,    0.223,2,    2.863,2,    0.071,2,-999.0000,9,  -999.00,9,-999.000,9,   -999.0,9,   -999.0,9,-999.0,  -999.0,-999.0000,   0.003,-999.000,-999.000,-999.000
      74JC10_1,   A23,     9,  1,    914,     14,2,19950331,0806,-71.9557, -18.2188, 3058,    211,    206.2,   0.3670,  34.6216,2,  34.6187,2,    235.0,3,  0.3588,    217.7,2,    90.72,2,    32.60,2,     2.17,2,    1.573,2,    0.662,2,    0.109,2,    1.792,2, -999.000,9,-999.0000,9,  -999.00,9,-999.000,9,   -999.0,9,   -999.0,9,-999.0,  -999.0,-999.0000,-999.000,-999.000,-999.000,-999.000
      74JC10_1,   A23,     9,  1,    913,     13,2,19950331,0806,-71.9557, -18.2188, 3058,    262,    256.9,   0.6625,  34.6548,2,  34.6549,2,    219.9,3,  0.6514,    206.8,2,    94.13,2,    32.10,2,     2.17,2,    1.098,2,    0.482,2,    0.068,2,    1.257,2, -999.000,9,   1.8430,2,     7.79,2,   8.038,2,   -999.0,9,   -999.0,9,-999.0,  -999.0,  0.0070,-999.000,-999.000,   0.025,   0.300
      74JC10_1,   A23,     9,  1,    911,     11,2,19950331,0806,-71.9557, -18.2188, 3058,    365,    358.2,   0.8696,  34.6867,2,  34.6873,2,    205.5,3,  0.8533,    203.0,2,    99.14,2,    32.31,2,     2.16,2,    0.582,2,    0.278,2,    0.034,2,    0.798,2,    0.025,2,-999.0000,9,  -999.00,9,-999.000,9,   -999.0,9,   -999.0,9,-999.0,  -999.0,-999.0000,   0.004,-999.000,-999.000,-999.000
      74JC10_1,   A23,     9,  1,    909,      9,2,19950331,0806,-71.9557, -18.2188, 3058,    520,    512.3,   0.7820,  34.6946,2,  34.6963,2,    200.5,3,  0.7582,    199.4,2,   105.12,2,    32.22,2,     2.16,2,    0.390,2,    0.190,2,    0.025,2,    0.629,2,    0.024,2,   1.8710,2,     8.41,2,   8.149,2,   -999.0,9,   -999.0,9,-999.0,  -999.0,  0.0070,   0.007,-999.000,   0.025,   0.300
      74JC10_1,   A23,     9,  1,    910,     10,2,19950331,0806,-71.9557, -18.2188, 3058,    520,    512.3,   0.7820,  34.6946,2,  34.6963,2,    200.5,3,  0.7582,    199.9,2,   104.89,2,    32.02,2,     2.15,2,    0.376,2,    0.178,2,    0.019,2,    0.612,2, -999.000,9,   1.8740,2,     8.56,2,   8.157,2,   -999.0,9,   -999.0,9,-999.0,  -999.0,  0.0070,-999.000,-999.000,   0.025,   0.300
      74JC10_1,   A23,     9,  1,    907,      7,2,19950331,0806,-71.9557, -18.2188, 3058,   1032,   1021.2,   0.4050,  34.6841,2,  34.6836,2,    204.3,3,  0.3563,    207.5,2,   114.66,2,    32.42,2,     2.19,2,    0.244,2,    0.121,2,    0.000,2,    0.463,2, -999.000,9,   1.8870,2,     7.73,2,   8.191,2,   -999.0,9,   -999.0,9,-999.0,  -999.0,  0.0070,-999.000,   0.401,   0.025,   0.300
      74JC10_1,   A23,     9,  1,    908,      8,2,19950331,0806,-71.9557, -18.2188, 3058,   1032,   1021.2,   0.4050,  34.6841,2,  34.6832,2,    204.3,3,  0.3563,    207.1,2,   116.15,2,    32.51,2,     2.18,2,    0.250,2,    0.154,3,    0.000,2,    0.486,2,    0.024,2,   1.8800,2,     8.11,2,   8.169,2,   -999.0,9,   -999.0,9,-999.0,  -999.0,  0.0070,   0.008,-999.000,   0.025,   0.300
      74JC10_1,   A23,     9,  1,    906,      6,2,19950331,0806,-71.9557, -18.2188, 3058,   1288,   1276.5,   0.2484,  34.6770,2,  34.6771,2,    210.5,3,  0.1863,    208.9,2,   119.85,2,    32.63,2,     2.19,2,    0.237,2,    0.122,2,    0.008,2,    0.479,2, -999.000,1,   1.8890,2,     7.42,2,   8.228,2,   -999.0,9,   -999.0,9,-999.0,  -999.0,  0.0070,-999.000,-999.000,   0.026,   0.300
      74JC10_1,   A23,     9,  1,    905,      5,2,19950331,0806,-71.9557, -18.2188, 3058,   1547,   1535.1,   0.1344,  34.6733,2,  34.6728,2,    216.1,3,  0.0577,    214.7,2,   119.38,2,    32.76,2,     2.19,2,    0.218,2,    0.114,2,    0.010,2,    0.478,2, -999.000,9,   1.8930,2,     7.76,2,   8.244,2,   -999.0,9,   -999.0,9,-999.0,  -999.0,  0.0070,-999.000,-999.000,   0.026,   0.300
      74JC10_1,   A23,     9,  1,    904,      4,2,19950331,0806,-71.9557, -18.2188, 3058,   1804,   1793.0,   0.0451,  34.6704,2,  34.6702,2,    223.1,3, -0.0472,    219.5,2,   120.60,2,    32.50,2,     2.19,2,    0.230,2,    0.119,2,    0.000,2,    0.498,2, -999.000,1,   5.6220,4,  -999.00,5,-999.000,5,   -999.0,9,   -999.0,9,-999.0,  1796.0,  0.0210,-999.000,   0.038,-999.000,-999.000
      74JC10_1,   A23,     9,  1,    903,      3,2,19950331,0806,-71.9557, -18.2188, 3058,   2060,   2049.0,  -0.0306,  34.6682,2,  34.6681,2,    227.5,3, -0.1392,    222.2,2,   121.02,2,    32.53,2,     2.18,2,    0.280,2,    0.143,2,    0.011,2,    0.561,2,    0.031,2,   1.8940,2,     6.83,2,   8.258,2,   -999.0,9,   -999.0,9,-999.0,  -999.0,  0.0070,   0.006,-999.000,   0.026,   0.300
      74JC10_1,   A23,     9,  1,    902,      2,2,19950331,0806,-71.9557, -18.2188, 3058,   2568,   2558.2,  -0.1333,  34.6642,2,  34.6639,2,    238.2,3, -0.2778,    227.9,2,   120.88,2,    32.23,2,     2.17,2,    0.402,2,    0.200,2,    0.017,2,    0.714,2, -999.000,9,-999.0000,9,  -999.00,9,-999.000,9,   -999.0,9,   -999.0,9,-999.0,  -999.0,-999.0000,-999.000,-999.000,-999.000,-999.000
      74JC10_1,   A23,     9,  1,    901,      1,2,19950331,0806,-71.9557, -18.2188, 3058,   3052,   3043.6,  -0.1780,  34.6616,2,  34.6618,2,    245.6,3, -0.3609,    235.1,2,   121.26,2,    32.09,2,     2.16,2,    0.521,2,    0.243,2,    0.025,2,    0.872,2,    0.038,2,   1.8860,2,     5.42,2,   8.226,2,   -999.0,9,   -999.0,9,-999.0,  3025.0,  0.0070,   0.013,  -0.185,   0.026,   0.300