BOTTLE,20220810CCHSIOAMB
EXPOCODE,SECT_ID,STNNBR,CASTNO,SAMPNO,BTLNBR,BTLNBR_FLAG_W,DATE,TIME,LATITUDE,LONGITUDE,DEPTH,CTDRAW,CTDPRS,CTDTMP,CTDSAL,CTDSAL_FLAG_W,SALNTY,SALNTY_FLAG_W,CTDOXY,CTDOXY_FLAG_W,THETA,OXYGEN,OXYGEN_FLAG_W,SILCAT,SILCAT_FLAG_W,NO2+NO3,NO2+NO3_FLAG_W,PHSPHT,PHSPHT_FLAG_W,CFC-11,CFC-11_FLAG_W,CFC-12,CFC-12_FLAG_W,CFC113,CFC113_FLAG_W,CCL4,CCL4_FLAG_W,TRITUM,TRITUM_FLAG_W,HELIUM,HELIUM_FLAG_W,DELHE3,DELHE3_FLAG_W,NEON,NEON_FLAG_W,TCARBN,TCARBN_FLAG_W,PCO2,PCO2_FLAG_W,PCO2TMP,REVPRS,HELIER,TRITER,REVTMP,NEONER,DELHER
,,,,,,,,,,,,,DBAR,ITS-90,PSS-78,,PSS-78,,UMOL/KG,,DEG C,UMOL/KG,,UMOL/KG,,UMOL/KG,,UMOL/KG,,PMOL/KG,,PMOL/KG,,PMOL/KG,,PMOL/KG,,TU,,NMOL/KG,,PERCNT,,NMOL/KG,,UMOL/KG,,UATM,,DEG C,DBAR,NMOL/KG,TU,ITS-90,NMOL/KG,PERCNT
      74JC10_1,   A23,    18,  1,   1821,     21,2,19950403,0900,-69.0565, -22.6300, 4754,     10,      8.0,  -1.8362,  33.6494,2,  33.6482,2,    348.3,3, -1.8363,    345.7,2,    61.75,2,    25.40,2,     1.52,2, -999.000,9, -999.000,9, -999.000,9, -999.000,9, -999.000,9,-999.0000,9,  -999.00,9,-999.000,9,   -999.0,9,   -999.0,9,-999.0,  -999.0,-999.0000,-999.000,-999.000,-999.000,-999.000
      74JC10_1,   A23,    18,  1,   1820,     20,2,19950403,0900,-69.0565, -22.6300, 4754,     57,     54.1,  -1.5235,  34.3959,2,  34.3970,2,    296.9,3, -1.5247,    286.1,2,    77.19,2,    30.01,2,     2.05,2,    4.208,2,    2.033,2,    0.431,2,    4.431,2, -999.000,9,-999.0000,9,  -999.00,9,-999.000,9,   -999.0,9,   -999.0,9,-999.0,  -999.0,-999.0000,-999.000,-999.000,-999.000,-999.000
      74JC10_1,   A23,    18,  1,   1819,     19,2,19950403,0900,-69.0565, -22.6300, 4754,    108,    104.8,  -1.0630,  34.4874,2,  34.4881,2,    263.9,3, -1.0658,    250.0,2,    83.60,2,    31.45,2,     2.10,2,    3.319,2,    1.575,2,    0.305,2,    3.526,2, -999.000,9,-999.0000,9,  -999.00,9,-999.000,9,   -999.0,9,   -999.0,9,-999.0,  -999.0,-999.0000,-999.000,-999.000,-999.000,-999.000
      74JC10_1,   A23,    18,  1,   1818,     18,2,19950403,0900,-69.0565, -22.6300, 4754,    160,    155.4,   0.3308,  34.6247,2,  34.6380,2,    222.4,3,  0.3247,    205.7,2,    99.27,2,    32.62,2,     2.19,2,    1.218,2,    0.565,2,    0.124,2,    1.305,2, -999.000,9,-999.0000,9,  -999.00,9,-999.000,9,   -999.0,9,   -999.0,9,-999.0,  -999.0,-999.0000,-999.000,-999.000,-999.000,-999.000
      74JC10_1,   A23,    18,  1,   1817,     17,2,19950403,0900,-69.0565, -22.6300, 4754,    211,    206.1,   0.8262,  34.6800,2,  34.6838,2,    203.1,3,  0.8172,    194.1,2,   102.94,2,    32.55,2,     2.18,2,    0.575,2,    0.262,2,    0.000,2,    0.742,2, -999.000,9,   1.8460,2,     8.95,2,   8.077,2,   -999.0,9,   -999.0,9,-999.0,  -999.0,  0.0070,-999.000,-999.000,   0.025,   0.300
      74JC10_1,   A23,    18,  1,   1816,     16,2,19950403,0900,-69.0565, -22.6300, 4754,    263,    257.1,   0.9252,  34.6948,2,  34.6960,2,    202.3,3,  0.9135,    194.0,2,   106.15,2,    32.59,2,     2.18,2,    0.400,2, -999.000,9,    0.008,2,    0.680,2, -999.000,9,-999.0000,9,  -999.00,9,-999.000,9,   -999.0,9,   -999.0,9,-999.0,  -999.0,-999.0000,-999.000,-999.000,-999.000,-999.000
      74JC10_1,   A23,    18,  1,   1815,     15,2,19950403,0900,-69.0565, -22.6300, 4754,    365,    358.4,   0.8338,  34.6976,2,  34.6979,2,    202.9,3,  0.8175,    196.7,2,   109.41,2,    32.55,2,     2.17,2,    0.331,2,    0.127,3,    0.008,2,    0.589,2, -999.000,9,-999.0000,9,  -999.00,9,-999.000,9,   -999.0,9,   -999.0,9,-999.0,  -999.0,-999.0000,-999.000,-999.000,-999.000,-999.000
      74JC10_1,   A23,    18,  1,   1814,     14,2,19950403,0900,-69.0565, -22.6300, 4754,    518,    510.0,   0.6714,  34.6941,2,  34.6942,2,    205.0,3,  0.6483,    199.5,2,   114.47,2,    32.68,2,     2.19,2,    0.268,2,    0.108,3,    0.008,2,    0.497,2, -999.000,9,   1.8600,2,     8.44,2,   8.117,2,   -999.0,9,   -999.0,9,-999.0,  -999.0,  0.0070,-999.000,-999.000,   0.025,   0.300
      74JC10_1,   A23,    18,  1,   1813,     13,2,19950403,0900,-69.0565, -22.6300, 4754,    778,    767.6,   0.4884,  34.6886,2,  34.6889,2,    206.3,3,  0.4529,    200.1,2,   120.06,2,    32.90,2,     2.21,2,    0.160,2,    0.062,3,    0.000,2,    0.423,2, -999.000,9,-999.0000,9,  -999.00,9,-999.000,9,   -999.0,9,   -999.0,9,-999.0,  -999.0,-999.0000,-999.000,-999.000,-999.000,-999.000
      74JC10_1,   A23,    18,  1,   1812,     12,2,19950403,0900,-69.0565, -22.6300, 4754,   1034,   1022.7,   0.3284,  34.6822,2,  34.6830,2,    208.6,3,  0.2802,    205.8,2,   123.06,2,    32.99,2,     2.21,2,    0.138,2,    0.025,4,    0.000,2,    0.379,2, -999.000,9,   1.8690,2,     8.37,2,   8.219,2,   -999.0,9,   -999.0,9,-999.0,  -999.0,  0.0070,-999.000,-999.000,   0.025,   0.300
      74JC10_1,   A23,    18,  1,   1811,     11,2,19950403,0900,-69.0565, -22.6300, 4754,   1291,   1279.2,   0.2043,  34.6782,2,  34.6761,2,    212.5,3,  0.1425,    213.9,2,   125.34,2,    33.08,2,     2.24,2,    0.167,2,    0.069,3,    0.004,2,    0.388,2, -999.000,9,-999.0000,9,  -999.00,9,-999.000,9,   -999.0,9,   -999.0,9,-999.0,  -999.0,-999.0000,-999.000,-999.000,-999.000,-999.000
      74JC10_1,   A23,    18,  1,   1810,     10,2,19950403,0900,-69.0565, -22.6300, 4754,   1548,   1535.5,   0.1040,  34.6742,2,  34.6736,2,    217.1,3,  0.0276,    212.3,2,   126.89,2,    33.04,2,     2.21,2,    0.124,2,    0.051,3,    0.000,2,    0.384,2,    0.016,2,-999.0000,9,  -999.00,9,-999.000,9,   -999.0,9,   -999.0,9,-999.0,  -999.0,-999.0000,   0.002,-999.000,-999.000,-999.000
      74JC10_1,   A23,    18,  1,   1809,      9,2,19950403,0900,-69.0565, -22.6300, 4754,   1805,   1792.2,   0.0187,  34.6712,2,  34.6702,2,    221.2,3, -0.0732,    215.8,2,   127.14,2,    32.84,2,     2.21,2,    0.144,2,    0.042,3,    0.000,2,    0.405,2, -999.000,9,-999.0000,9,  -999.00,9,-999.000,9,   -999.0,9,   -999.0,9,-999.0,  -999.0,-999.0000,-999.000,-999.000,-999.000,-999.000
      74JC10_1,   A23,    18,  1,   1808,      8,2,19950403,0900,-69.0565, -22.6300, 4754,   2060,   2047.9,  -0.0518,  34.6683,2,  34.6673,2,    226.0,3, -0.1600,    219.7,2,   127.36,2,    32.76,2,     2.20,2,    0.134,2,    0.055,3,    0.000,2,    0.431,2,    0.003,4,   1.8690,2,     7.30,2,   8.232,2,   -999.0,9,   -999.0,9,-999.0,  -999.0,  0.0070,   0.067,-999.000,   0.026,   0.300
      74JC10_1,   A23,    18,  1,   1807,      7,2,19950403,0900,-69.0565, -22.6300, 4754,   2575,   2563.6,  -0.1695,  34.6627,2,  34.6633,2,    233.6,3, -0.3137,    230.8,2,   126.58,2,    32.46,2,     2.17,2,    0.235,2,    0.110,2,    0.000,2,    0.600,2, -999.000,9,   1.8650,2,     6.61,2,   8.190,2,   -999.0,9,   -999.0,9,-999.0,  -999.0,  0.0070,-999.000,  -0.170,   0.025,   0.300
      74JC10_1,   A23,    18,  1,   1806,      6,2,19950403,0900,-69.0565, -22.6300, 4754,   3090,   3080.0,  -0.2399,  34.6597,2,  34.6610,2,    239.4,3, -0.4245,    231.4,2,   125.44,2,    32.29,2,     2.15,2,    0.266,2,    0.113,3,    0.000,2,    0.647,2,    0.021,2,   1.8680,2,     6.56,2,   8.259,2,   -999.0,9,   -999.0,9,-999.0,  -999.0,  0.0070,   0.002,-999.000,   0.026,   0.300
      74JC10_1,   A23,    18,  1,   1805,      5,2,19950403,0900,-69.0565, -22.6300, 4754,   3606,   3596.9,  -0.2856,  34.6573,2,  34.6570,2,    243.6,3, -0.5149,    236.0,2,   125.70,2,    32.19,2,     2.16,2,    0.314,2,    0.142,2,    0.031,2,    0.740,2, -999.000,9,   1.8930,2,     5.39,2,   8.314,2,   -999.0,9,   -999.0,9,-999.0,  -999.0,  0.0070,-999.000,-999.000,   0.026,   0.300
      74JC10_1,   A23,    18,  1,   1804,      4,2,19950403,0900,-69.0565, -22.6300, 4754,   4123,   4114.9,  -0.3142,  34.6561,2,  34.6543,2,    247.1,3, -0.5924,    238.9,2,   128.34,2,    32.17,2,     2.13,2,    0.295,2,    0.133,2,    0.000,2,    0.698,2,    0.024,2,   1.8670,2,     4.43,2,   8.204,2,   -999.0,9,   -999.0,9,-999.0,  4124.0,  0.0070,   0.002,  -0.319,   0.025,   0.300
      74JC10_1,   A23,    18,  1,   1803,      3,2,19950403,0900,-69.0565, -22.6300, 4754,   4640,   4633.0,  -0.3866,  34.6520,2,  34.6517,2,    248.8,3, -0.7159,    242.3,2,   129.06,2,    32.16,2,     2.13,2,    0.181,2,    0.101,2,    0.000,2,    0.649,2,    0.027,2,   1.8760,2,     4.76,2,   8.294,2,   -999.0,9,   -999.0,9,-999.0,  -999.0,  0.0070,   0.002,-999.000,   0.026,   0.300
      74JC10_1,   A23,    18,  1,   1801,      1,2,19950403,0900,-69.0565, -22.6300, 4754,   4807,   4800.4,  -0.4488,  34.6487,2,  34.6494,2,    250.2,3, -0.7940,    243.4,2,   138.01,2,    32.23,2,     2.13,2,    0.231,2,    0.117,2,    0.000,2,    0.690,2, -999.000,5,   1.8770,2,     4.41,2,   8.283,2,   -999.0,9,   -999.0,9,-999.0,  4793.0,  0.0070,-999.000,  -0.456,   0.026,   0.300
      74JC10_1,   A23,    18,  1,   1802,      2,2,19950403,0900,-69.0565, -22.6300, 4754,   4808,   4800.5,  -0.4488,  34.6483,2,  34.6488,2,    250.2,3, -0.7941,    242.0,2,   138.17,2,    32.31,2,     2.13,2,    0.234,2,    0.114,2,    0.000,2,    0.698,2, -999.000,9,-999.0000,9,  -999.00,9,-999.000,9,   -999.0,9,   -999.0,9,-999.0,  -999.0,-999.0000,-999.000,-999.000,-999.000,-999.000
      74JC10_1,   A23,    19,  1,   1921,     21,2,19950403,1726,-68.1543, -23.8340, 4854,     11,      9.5,  -1.6493,  34.1639,2,  34.1624,2,    330.1,3, -1.6495,    335.5,2,    63.76,2,    26.39,2,     1.81,2, -999.000,9, -999.000,9, -999.000,9, -999.000,9, -999.000,9,-999.0000,9,  -999.00,9,-999.000,9,   -999.0,9,   -999.0,9,-999.0,  -999.0,-999.0000,-999.000,-999.000,-999.000,-999.000
      74JC10_1,   A23,    19,  1,   1920,     20,2,19950403,1726,-68.1543, -23.8340, 4854,     58,     55.2,  -1.6133,  34.2617,2,  34.2931,2,    336.4,3, -1.6145,    311.2,2,    66.60,2,    27.55,2,     1.86,2, -999.000,9, -999.000,9, -999.000,9, -999.000,9, -999.000,9,-999.0000,9,  -999.00,9,-999.000,9,   -999.0,9,   -999.0,9,-999.0,  -999.0,-999.0000,-999.000,-999.000,-999.000,-999.000
      74JC10_1,   A23,    19,  1,   1919,     19,2,19950403,1726,-68.1543, -23.8340, 4854,    110,    106.3,  -1.2836,  34.4695,2,  34.4816,2,    271.5,3, -1.2863,    265.1,2,    75.92,2,    29.94,2,     2.04,2, -999.000,9, -999.000,9, -999.000,9, -999.000,9, -999.000,9,-999.0000,9,  -999.00,9,-999.000,9,   -999.0,9,   -999.0,9,-999.0,  -999.0,-999.0000,-999.000,-999.000,-999.000,-999.000
      74JC10_1,   A23,    19,  1,   1918,     18,2,19950403,1726,-68.1543, -23.8340, 4854,    161,    156.8,   0.6281,  34.6639,2,  34.6637,2,    214.7,3,  0.6216,    196.5,2,   100.63,2,    32.15,2,     2.20,2, -999.000,9, -999.000,9, -999.000,9, -999.000,9, -999.000,9,-999.0000,9,  -999.00,9,-999.000,9,   -999.0,9,   -999.0,9,-999.0,  -999.0,-999.0000,-999.000,-999.000,-999.000,-999.000
      74JC10_1,   A23,    19,  1,   1917,     17,2,19950403,1726,-68.1543, -23.8340, 4854,    212,    206.9,   0.7429,  34.6795,2,  34.6812,2,    200.6,3,  0.7340,    190.4,2,   105.03,2,    32.31,2,     2.22,2, -999.000,9, -999.000,9, -999.000,9, -999.000,9, -999.000,9,-999.0000,9,  -999.00,9,-999.000,9,   -999.0,9,   -999.0,9,-999.0,  -999.0,-999.0000,-999.000,-999.000,-999.000,-999.000
      74JC10_1,   A23,    19,  1,   1916,     16,2,19950403,1726,-68.1543, -23.8340, 4854,    263,    257.1,   0.8618,  34.6971,2,-999.0000,5,    199.3,3,  0.8503,    194.2,2,   107.56,2,    31.93,2,     2.46,3, -999.000,9, -999.000,9, -999.000,9, -999.000,9, -999.000,9,-999.0000,9,  -999.00,9,-999.000,9,   2231.9,6,    442.2,2,   4.0,  -999.0,-999.0000,-999.000,-999.000,-999.000,-999.000
      74JC10_1,   A23,    19,  1,   1915,     15,2,19950403,1726,-68.1543, -23.8340, 4854,    365,    358.4,   0.7421,  34.6963,2,  34.6960,2,    202.7,3,  0.7261,    195.2,2,   111.47,2,    32.19,2,     2.21,2, -999.000,9, -999.000,9, -999.000,9, -999.000,9, -999.000,9,-999.0000,9,  -999.00,9,-999.000,9,   -999.0,9,   -999.0,9,-999.0,  -999.0,-999.0000,-999.000,-999.000,-999.000,-999.000
      74JC10_1,   A23,    19,  1,   1914,     14,2,19950403,1726,-68.1543, -23.8340, 4854,    519,    511.0,   0.5867,  34.6928,2,  34.6922,2,    204.8,3,  0.5638,    198.1,2,   115.57,2,    32.36,2,     2.21,2, -999.000,9, -999.000,9, -999.000,9, -999.000,9, -999.000,9,-999.0000,9,  -999.00,9,-999.000,9,   2235.8,6,    503.4,2,   4.0,  -999.0,-999.0000,-999.000,-999.000,-999.000,-999.000
      74JC10_1,   A23,    19,  1,   1913,     13,2,19950403,1726,-68.1543, -23.8340, 4854,    778,    768.4,   0.3826,  34.6849,2,-999.0000,5,    207.4,3,  0.3478,    201.6,2,   120.84,2,    32.45,2,     2.23,2, -999.000,9, -999.000,9, -999.000,9, -999.000,9, -999.000,9,-999.0000,9,  -999.00,9,-999.000,9,   -999.0,9,   -999.0,9,-999.0,  -999.0,-999.0000,-999.000,-999.000,-999.000,-999.000
      74JC10_1,   A23,    19,  1,   1912,     12,2,19950403,1726,-68.1543, -23.8340, 4854,   1034,   1022.5,   0.2499,  34.6794,2,  34.6814,3,    211.2,3,  0.2024,    204.4,2,   123.96,2,    32.57,2,     2.26,2, -999.000,9, -999.000,9, -999.000,9, -999.000,9, -999.000,9,-999.0000,9,  -999.00,9,-999.000,9,   2235.7,6,    501.6,2,   4.0,  -999.0,-999.0000,-999.000,-999.000,-999.000,-999.000
      74JC10_1,   A23,    19,  1,   1911,     11,2,19950403,1726,-68.1543, -23.8340, 4854,   1286,   1273.7,   0.1424,  34.6759,2,  34.6808,3,    214.7,3,  0.0816,    208.8,2,   125.23,2,    32.53,2,     2.25,2, -999.000,9, -999.000,9, -999.000,9, -999.000,9, -999.000,9,-999.0000,9,  -999.00,9,-999.000,9,   -999.0,9,   -999.0,9,-999.0,  -999.0,-999.0000,-999.000,-999.000,-999.000,-999.000
      74JC10_1,   A23,    19,  1,   1910,     10,2,19950403,1726,-68.1543, -23.8340, 4854,   1547,   1534.5,   0.0414,  34.6717,2,  34.6712,2,    219.4,3, -0.0341,    214.2,2,   125.52,2,    32.40,2,     2.22,2, -999.000,9, -999.000,9, -999.000,9, -999.000,9, -999.000,9,-999.0000,9,  -999.00,9,-999.000,9,   -999.0,9,   -999.0,9,-999.0,  -999.0,-999.0000,-999.000,-999.000,-999.000,-999.000
      74JC10_1,   A23,    19,  1,   1909,      9,2,19950403,1726,-68.1543, -23.8340, 4854,   1804,   1791.4,  -0.0407,  34.6679,2,  34.6679,2,    224.1,3, -0.1316,    218.4,2,   124.84,2,    32.22,2,     2.21,2, -999.000,9, -999.000,9, -999.000,9, -999.000,9, -999.000,9,-999.0000,9,  -999.00,9,-999.000,9,   -999.0,9,   -999.0,9,-999.0,  -999.0,-999.0000,-999.000,-999.000,-999.000,-999.000
      74JC10_1,   A23,    19,  1,   1908,      8,2,19950403,1726,-68.1543, -23.8340, 4854,   2063,   2051.0,  -0.1094,  34.6656,2,-999.0000,5,    227.8,3, -0.2169,    222.8,2,   125.33,2,    32.12,2,     2.22,2, -999.000,9, -999.000,9, -999.000,9, -999.000,9, -999.000,9,-999.0000,9,  -999.00,9,-999.000,9,   2229.5,6,    495.1,2,   4.0,  -999.0,-999.0000,-999.000,-999.000,-999.000,-999.000
      74JC10_1,   A23,    19,  1,   1907,      7,2,19950403,1726,-68.1543, -23.8340, 4854,   2571,   2559.7,  -0.2096,  34.6622,2,  34.6620,2,    234.6,3, -0.3527,    229.0,2,   125.04,2,    31.90,2,     2.20,2, -999.000,9, -999.000,9, -999.000,9, -999.000,9, -999.000,9,-999.0000,9,  -999.00,9,-999.000,9,   -999.0,9,   -999.0,9,-999.0,  -999.0,-999.0000,-999.000,  -0.211,-999.000,-999.000
      74JC10_1,   A23,    19,  1,   1906,      6,2,19950403,1726,-68.1543, -23.8340, 4854,   3087,   3076.8,  -0.2773,  34.6587,2,  34.6590,2,    239.4,3, -0.4608,    234.4,2,   124.06,2,    31.83,2,     2.23,2, -999.000,9, -999.000,9, -999.000,9, -999.000,9, -999.000,9,-999.0000,9,  -999.00,9,-999.000,9,   2224.5,6,    467.4,2,   4.0,  -999.0,-999.0000,-999.000,-999.000,-999.000,-999.000
      74JC10_1,   A23,    19,  1,   1905,      5,2,19950403,1726,-68.1543, -23.8340, 4854,   3608,   3598.2,  -0.3231,  34.6558,2,  34.6555,2,    244.1,3, -0.5516,    235.7,2,   124.65,2,    31.83,2,     2.31,3, -999.000,9, -999.000,9, -999.000,9, -999.000,9, -999.000,9,-999.0000,9,  -999.00,9,-999.000,9,   -999.0,9,   -999.0,9,-999.0,  -999.0,-999.0000,-999.000,-999.000,-999.000,-999.000
      74JC10_1,   A23,    19,  1,   1904,      4,2,19950403,1726,-68.1543, -23.8340, 4854,   4121,   4111.9,  -0.3481,  34.6550,2,  34.6541,2,    247.2,3, -0.6251,    238.4,2,   125.62,2,    31.67,2,     2.17,2, -999.000,9, -999.000,9, -999.000,9, -999.000,9, -999.000,9,-999.0000,9,  -999.00,9,-999.000,9,   2223.1,6,    453.5,2,   4.0,  4124.0,-999.0000,-999.000,  -0.355,-999.000,-999.000
      74JC10_1,   A23,    19,  1,   1903,      3,2,19950403,1726,-68.1543, -23.8340, 4854,   4644,   4636.2,  -0.4213,  34.6522,2,  34.6506,2,    252.1,3, -0.7499,    242.0,2,   122.89,2,    31.62,2,     2.20,2, -999.000,9, -999.000,9, -999.000,9, -999.000,9, -999.000,9,-999.0000,9,  -999.00,9,-999.000,9,   2221.4,6,    441.7,2,   4.0,  -999.0,-999.0000,-999.000,-999.000,-999.000,-999.000
      74JC10_1,   A23,    19,  1,   1902,      2,2,19950403,1726,-68.1543, -23.8340, 4854,   4913,   4905.8,  -0.4698,  34.6478,2,  34.6470,2,    250.9,3, -0.8258,    243.3,2,   128.94,2,    31.75,2,     2.17,2, -999.000,9, -999.000,9, -999.000,9, -999.000,9, -999.000,9,-999.0000,9,  -999.00,9,-999.000,9,   2224.4,6,    438.7,2,   4.0,  -999.0,-999.0000,-999.000,-999.000,-999.000,-999.000
      74JC10_1,   A23,    19,  1,   1901,      1,2,19950403,1726,-68.1543, -23.8340, 4854,   4913,   4906.5,  -0.4701,  34.6479,2,  34.6470,2,    251.2,3, -0.8261,    245.2,2,   129.14,2,    31.85,2,     2.21,2, -999.000,9, -999.000,9, -999.000,9, -999.000,9, -999.000,9,-999.0000,9,  -999.00,9,-999.000,9,   -999.0,9,   -999.0,9,-999.0,  4899.0,-999.0000,-999.000,  -0.479,-999.000,-999.000