BOTTLE,20220810CCHSIOAMB
EXPOCODE,SECT_ID,STNNBR,CASTNO,SAMPNO,BTLNBR,BTLNBR_FLAG_W,DATE,TIME,LATITUDE,LONGITUDE,DEPTH,CTDRAW,CTDPRS,CTDTMP,CTDSAL,CTDSAL_FLAG_W,SALNTY,SALNTY_FLAG_W,CTDOXY,CTDOXY_FLAG_W,THETA,OXYGEN,OXYGEN_FLAG_W,SILCAT,SILCAT_FLAG_W,NO2+NO3,NO2+NO3_FLAG_W,PHSPHT,PHSPHT_FLAG_W,CFC-11,CFC-11_FLAG_W,CFC-12,CFC-12_FLAG_W,CFC113,CFC113_FLAG_W,CCL4,CCL4_FLAG_W,TRITUM,TRITUM_FLAG_W,HELIUM,HELIUM_FLAG_W,DELHE3,DELHE3_FLAG_W,NEON,NEON_FLAG_W,TCARBN,TCARBN_FLAG_W,PCO2,PCO2_FLAG_W,PCO2TMP,REVPRS,HELIER,TRITER,REVTMP,NEONER,DELHER
,,,,,,,,,,,,,DBAR,ITS-90,PSS-78,,PSS-78,,UMOL/KG,,DEG C,UMOL/KG,,UMOL/KG,,UMOL/KG,,UMOL/KG,,PMOL/KG,,PMOL/KG,,PMOL/KG,,PMOL/KG,,TU,,NMOL/KG,,PERCNT,,NMOL/KG,,UMOL/KG,,UATM,,DEG C,DBAR,NMOL/KG,TU,ITS-90,NMOL/KG,PERCNT
      74JC10_1,   A23,     6,  1,    614,     14,2,19950330,2009,-72.2748, -17.2265, 1557,      8,      6.6,  -1.8636,  34.1294,2,  34.1305,2,    357.2,3, -1.8637,    340.5,2,    54.83,2,    26.30,2,     1.75,2, -999.000,9, -999.000,9, -999.000,9, -999.000,9, -999.000,9,-999.0000,9,  -999.00,9,-999.000,9,   2117.4,6,    318.5,2,   4.0,  -999.0,-999.0000,-999.000,-999.000,-999.000,-999.000
      74JC10_1,   A23,     6,  1,    613,     13,2,19950330,2009,-72.2748, -17.2265, 1557,     55,     52.7,  -1.8529,  34.1362,2,  34.1352,2,    344.7,3, -1.8539,    341.2,2,    55.17,2,    26.58,2,     1.75,2, -999.000,9, -999.000,9, -999.000,9, -999.000,9, -999.000,9,-999.0000,9,  -999.00,9,-999.000,9,   -999.0,9,   -999.0,9,-999.0,  -999.0,-999.0000,-999.000,-999.000,-999.000,-999.000
      74JC10_1,   A23,     6,  1,    612,     12,2,19950330,2009,-72.2748, -17.2265, 1557,    106,    103.5,  -1.7710,  34.1679,2,  34.1770,2,    348.4,3, -1.7731,    334.1,2,    58.51,2,    27.26,2,     1.83,2, -999.000,9, -999.000,9, -999.000,9, -999.000,9, -999.000,9,-999.0000,9,  -999.00,9,-999.000,9,   2125.4,6,    335.9,2,   4.0,  -999.0,-999.0000,-999.000,-999.000,-999.000,-999.000
      74JC10_1,   A23,     6,  1,    611,     11,2,19950330,2009,-72.2748, -17.2265, 1557,    157,    154.1,  -1.7237,  34.2698,2,  34.2750,2,    329.7,3, -1.7269,    319.9,2,    61.17,2,    28.80,2,     1.92,2, -999.000,9, -999.000,9, -999.000,9, -999.000,9, -999.000,9,-999.0000,9,  -999.00,9,-999.000,9,   -999.0,9,   -999.0,9,-999.0,  -999.0,-999.0000,-999.000,-999.000,-999.000,-999.000
      74JC10_1,   A23,     6,  1,    610,     10,2,19950330,2009,-72.2748, -17.2265, 1557,    209,    205.0,  -1.7509,  34.3606,2,  34.3602,2,    314.7,3, -1.7553,    308.8,2,    63.49,2,    30.47,2,     2.05,2, -999.000,9, -999.000,9, -999.000,9, -999.000,9, -999.000,9,-999.0000,9,  -999.00,9,-999.000,9,   2149.7,6,    378.6,2,   4.0,  -999.0,-999.0000,-999.000,-999.000,-999.000,-999.000
      74JC10_1,   A23,     6,  1,    609,      9,2,19950330,2009,-72.2748, -17.2265, 1557,    260,    255.7,  -1.7475,  34.3790,2,  34.3776,2,    317.8,3, -1.7531,    305.6,2,    64.00,2,    30.36,2,     2.01,2, -999.000,9, -999.000,9, -999.000,9, -999.000,9, -999.000,9,-999.0000,9,  -999.00,9,-999.000,9,   -999.0,9,   -999.0,9,-999.0,  -999.0,-999.0000,-999.000,-999.000,-999.000,-999.000
      74JC10_1,   A23,     6,  1,    608,      8,2,19950330,2009,-72.2748, -17.2265, 1557,    363,    357.3,  -1.5199,  34.4153,2,  34.4161,2,    314.5,3, -1.5288,    291.9,2,    67.97,2,    30.69,2,     2.05,2, -999.000,9, -999.000,9, -999.000,9, -999.000,9, -999.000,9,-999.0000,9,  -999.00,9,-999.000,9,   2157.8,6,    388.5,2,   4.0,  -999.0,-999.0000,-999.000,-999.000,-999.000,-999.000
      74JC10_1,   A23,     6,  1,    607,      7,2,19950330,2009,-72.2748, -17.2265, 1557,    517,    511.1,  -0.3195,  34.5500,2,  34.5516,2,    267.3,3, -0.3384,    242.7,2,    82.80,2,    31.48,2,     2.11,2, -999.000,9, -999.000,9, -999.000,9, -999.000,9, -999.000,9,-999.0000,9,  -999.00,9,-999.000,9,   2176.8,6,    445.8,2,   4.0,  -999.0,-999.0000,-999.000,  -0.304,-999.000,-999.000
      74JC10_1,   A23,     6,  1,    606,      6,2,19950330,2009,-72.2748, -17.2265, 1557,    774,    767.2,   0.7083,  34.6794,2,  34.6791,2,    229.3,3,  0.6715,    241.9,2,    83.97,2,    31.66,2,     2.12,2, -999.000,9, -999.000,9, -999.000,9, -999.000,9, -999.000,9,-999.0000,9,  -999.00,9,-999.000,9,   -999.0,9,   -999.0,9,-999.0,  -999.0,-999.0000,-999.000,-999.000,-999.000,-999.000
      74JC10_1,   A23,     6,  1,    605,      5,2,19950330,2009,-72.2748, -17.2265, 1557,   1030,   1022.1,   0.4989,  34.6797,2,  34.6791,2,    217.5,3,  0.4494,    210.4,2,   110.26,2,    32.35,2,     2.21,2, -999.000,9, -999.000,9, -999.000,9, -999.000,9, -999.000,9,-999.0000,9,  -999.00,9,-999.000,9,   -999.0,9,   -999.0,9,-999.0,  -999.0,-999.0000,-999.000,-999.000,-999.000,-999.000
      74JC10_1,   A23,     6,  1,    604,      4,2,19950330,2009,-72.2748, -17.2265, 1557,   1030,   1022.2,   0.4983,  34.6798,2,  34.6793,2,    217.5,3,  0.4487,    211.3,2,   107.93,2,    32.03,2,     2.19,2, -999.000,9, -999.000,9, -999.000,9, -999.000,9, -999.000,9,-999.0000,9,  -999.00,9,-999.000,9,   2193.3,6,    474.9,2,   4.0,  1022.0,-999.0000,-999.000,   0.492,-999.000,-999.000
      74JC10_1,   A23,     6,  1,    603,      3,2,19950330,2009,-72.2748, -17.2265, 1557,   1285,   1278.1,   0.2631,  34.6755,2,  34.6789,2,    218.8,3,  0.2007,    212.7,2,   108.44,2,    32.04,2,     2.20,2, -999.000,9, -999.000,9, -999.000,9, -999.000,9, -999.000,9,-999.0000,9,  -999.00,9,-999.000,9,   2192.5,6,    471.8,2,   4.0,  -999.0,-999.0000,-999.000,-999.000,-999.000,-999.000
      74JC10_1,   A23,     6,  1,    601,      1,2,19950330,2009,-72.2748, -17.2265, 1557,   1540,   1532.8,   0.1555,  34.6728,2,  34.6716,2,    221.6,3,  0.0787,    218.1,2,   120.82,2,    32.78,2,     2.30,2, -999.000,9, -999.000,9, -999.000,9, -999.000,9, -999.000,9,-999.0000,9,  -999.00,9,-999.000,9,   2194.9,6,    473.8,2,   4.0,  1518.0,-999.0000,-999.000,   0.148,-999.000,-999.000
      74JC10_1,   A23,     6,  1,    602,      2,2,19950330,2009,-72.2748, -17.2265, 1557,   1540,   1533.4,   0.1544,  34.6727,2,  34.6741,2,    221.6,3,  0.0776,    214.2,2,   115.54,2,    32.23,2,     2.22,2, -999.000,9, -999.000,9, -999.000,9, -999.000,9, -999.000,9,-999.0000,9,  -999.00,9,-999.000,9,   -999.0,9,   -999.0,9,-999.0,  -999.0,-999.0000,-999.000,-999.000,-999.000,-999.000
      74JC10_1,   A23,     7,  1,    711,     11,2,19950330,2338,-72.1858, -17.4613, 2042,     11,      9.2,  -1.8636,  34.1147,2,  34.1142,2,    353.3,3, -1.8638,    342.9,2,    55.15,2,    25.85,2,     1.77,2,    6.762,2,    2.858,2,    0.621,2,    7.433,2, -999.000,9,-999.0000,9,  -999.00,9,-999.000,9,   -999.0,9,   -999.0,9,-999.0,  -999.0,-999.0000,-999.000,-999.000,-999.000,-999.000
      74JC10_1,   A23,     7,  1,    710,     10,2,19950330,2338,-72.1858, -17.4613, 2042,     57,     55.0,  -1.8465,  34.1368,2,  34.1440,2,    347.2,3, -1.8475,    337.9,2,    58.20,2,    26.46,2,     1.82,2,    6.451,2,    2.770,2,    0.586,2,    7.253,2, -999.000,9,   1.8640,3,    -2.51,3,   8.350,3,   -999.0,9,   -999.0,9,-999.0,  -999.0,  0.0070,-999.000,-999.000,   0.026,   0.300
      74JC10_1,   A23,     7,  1,    709,      9,2,19950330,2338,-72.1858, -17.4613, 2042,    109,    105.9,  -1.7521,  34.2970,2,  34.2932,2,    321.0,3, -1.7543,    314.1,2,    63.34,2,    29.60,2,     2.00,2,    5.521,2,    2.279,2,    0.486,2,    5.951,2, -999.000,9,-999.0000,9,  -999.00,9,-999.000,9,   -999.0,9,   -999.0,9,-999.0,  -999.0,-999.0000,-999.000,-999.000,-999.000,-999.000
      74JC10_1,   A23,     7,  1,    708,      8,2,19950330,2338,-72.1858, -17.4613, 2042,    160,    156.2,  -1.7729,  34.3809,2,  34.3800,2,    314.6,3, -1.7761,    305.5,2,    64.83,2,    30.58,2,     2.07,2,    5.346,2,    2.214,2,    0.467,2,    5.582,2, -999.000,9,   1.8600,2,    -0.01,2,   8.316,2,   -999.0,9,   -999.0,9,-999.0,  -999.0,  0.0070,-999.000,-999.000,   0.026,   0.300
      74JC10_1,   A23,     7,  1,    706,      6,2,19950330,2338,-72.1858, -17.4613, 2042,    211,    206.7,  -1.6751,  34.3963,2,  34.3949,2,    309.4,3, -1.6797,    298.0,2,    66.79,2,    30.67,2,     2.06,2,    5.077,2,    2.173,2,    0.446,2,    5.129,2,    0.105,2,   1.8680,2,     0.64,2,   8.350,2,   -999.0,9,   -999.0,9,-999.0,  -999.0,  0.0070,   0.013,-999.000,   0.026,   0.300
      74JC10_1,   A23,     7,  1,    707,      7,2,19950330,2338,-72.1858, -17.4613, 2042,    211,    206.7,  -1.6751,  34.3963,2,  34.3949,2,    309.4,3, -1.6797,    299.8,2,    66.51,2,    30.70,2,     2.07,2,    5.014,2,    2.152,2,    0.452,2,    5.278,2, -999.000,9,-999.0000,9,  -999.00,9,-999.000,9,   -999.0,9,   -999.0,9,-999.0,  -999.0,-999.0000,-999.000,  -1.687,-999.000,-999.000
      74JC10_1,   A23,     7,  1,    704,      4,2,19950330,2338,-72.1858, -17.4613, 2042,    365,    359.3,  -0.9384,  34.4864,2,  34.4832,2,    271.5,3, -0.9492,    264.5,2,    77.92,2,    31.38,2,     2.13,2,    3.711,2,    1.573,2,    0.317,2,    3.800,2,    0.089,2,   1.8380,2,     3.65,2,   8.190,2,   -999.0,9,   -999.0,9,-999.0,   357.0,  0.0070,   0.014,   0.961,   0.025,   0.300
      74JC10_1,   A23,     7,  1,    705,      5,2,19950330,2338,-72.1858, -17.4613, 2042,    365,    359.3,  -0.9384,  34.4864,2,  34.4834,2,    271.5,3, -0.9492,    263.8,2,    77.73,2,    31.37,2,     2.12,2,    3.570,2,    1.571,2,    0.312,2,    3.814,2, -999.000,9,-999.0000,9,  -999.00,9,-999.000,9,   -999.0,9,   -999.0,9,-999.0,  -999.0,-999.0000,-999.000,-999.000,-999.000,-999.000
      74JC10_1,   A23,     7,  1,    703,      3,2,19950330,2338,-72.1858, -17.4613, 2042,    777,    768.9,   0.6609,  34.6761,2,  34.6763,2,    215.6,3,  0.6243,    207.8,2,   103.25,2,    32.01,2,     2.18,2,    0.634,2,    0.273,2,    0.043,2,    0.833,2, -999.000,9,   1.8470,2,     8.20,2,   8.078,2,   -999.0,9,   -999.0,9,-999.0,  -999.0,  0.0070,-999.000,-999.000,   0.025,   0.300
      74JC10_1,   A23,     7,  1,    702,      2,2,19950330,2338,-72.1858, -17.4613, 2042,   1033,   1024.2,   0.4724,  34.6759,2,  34.6765,2,    219.8,3,  0.4230,    208.4,3,   103.53,2,    32.02,2,     2.18,2,    0.651,2,    0.286,2,    0.036,2,    0.857,2,    0.042,2,   1.8520,2,     8.46,2,   8.159,2,   -999.0,9,   -999.0,9,-999.0,  -999.0,  0.0070,   0.002,-999.000,   0.025,   0.300
      74JC10_1,   A23,     7,  1,    701,      1,2,19950330,2338,-72.1858, -17.4613, 2042,   1289,   1279.5,   0.2692,  34.6748,2,  34.6747,2,    221.7,3,  0.2068,    216.2,2,   117.04,2,    32.43,2,     2.21,2,    0.377,2,    0.167,2,    0.018,2,    0.622,2,    0.037,2,   1.8410,2,     8.27,2,   8.022,2,   -999.0,9,   -999.0,9,-999.0,  1265.0,  0.0070,   0.002,   0.262,   0.025,   0.300
      74JC10_1,   A23,     7,  1,    724,     24,2,19950330,2338,-72.1858, -17.4613, 2042,   1546,   1537.3,   0.1777,  34.6724,2,  34.6722,2,    223.2,3,  0.1003,   -999.0,5,   118.68,2,    32.45,2,     2.23,2,    0.366,2, -999.000,9,    0.008,2,    0.619,2,    0.052,2,   1.8900,2,     7.34,2,   8.272,2,   -999.0,9,   -999.0,9,-999.0,  -999.0,  0.0070,   0.079,-999.000,   0.026,   0.300
      74JC10_1,   A23,     7,  1,    723,     23,2,19950330,2338,-72.1858, -17.4613, 2042,   1802,   1793.2,   0.1088,  34.6708,2,  34.6700,2,    225.8,3,  0.0157,    220.1,2,   120.51,2,    32.68,2,     2.24,2,    0.347,2, -999.000,9,    0.011,2,    0.620,2,    0.028,2,   1.8750,2,     7.01,2,   8.194,2,   -999.0,9,   -999.0,9,-999.0,  -999.0,  0.0070,   0.008,-999.000,   0.025,   0.300
      74JC10_1,   A23,     7,  1,    714,     14,2,19950330,2338,-72.1858, -17.4613, 2042,   2029,   2021.2,   0.0852,  34.6686,2,  34.6700,2,    227.6,3, -0.0233,   -999.0,9,  -999.00,9,  -999.00,9,  -999.00,9,    0.364,2,    0.174,2,    0.013,2,    0.633,2, -999.000,9,-999.0000,9,  -999.00,9,-999.000,9,   -999.0,9,   -999.0,9,-999.0,  -999.0,-999.0000,-999.000,-999.000,-999.000,-999.000
      74JC10_1,   A23,     7,  1,    713,     13,2,19950330,2338,-72.1858, -17.4613, 2042,   2029,   2021.4,   0.0851,  34.6699,2,  34.6702,2,    227.6,3, -0.0235,    219.0,2,  -999.00,9,  -999.00,9,  -999.00,9,    0.359,2, -999.000,9,    0.000,2,    0.639,2, -999.000,9,   1.8770,2,     6.86,2,   8.226,2,   -999.0,9,   -999.0,9,-999.0,  -999.0,  0.0070,-999.000,-999.000,   0.026,   0.300
      74JC10_1,   A23,     7,  1,    717,     17,2,19950330,2338,-72.1858, -17.4613, 2042,   2029,   2021.5,   0.0850,  34.6695,2,  34.6712,2,    227.6,3, -0.0235,   -999.0,9,  -999.00,9,  -999.00,9,  -999.00,9, -999.000,9, -999.000,9, -999.000,9, -999.000,9, -999.000,9,-999.0000,9,  -999.00,9,-999.000,9,   -999.0,9,   -999.0,9,-999.0,  -999.0,-999.0000,-999.000,-999.000,-999.000,-999.000
      74JC10_1,   A23,     7,  1,    720,     20,2,19950330,2338,-72.1858, -17.4613, 2042,   2029,   2021.5,   0.0844,  34.6696,2,  34.6694,2,    227.6,3, -0.0241,   -999.0,9,  -999.00,9,  -999.00,9,  -999.00,9, -999.000,9, -999.000,9, -999.000,9, -999.000,9, -999.000,9,-999.0000,9,  -999.00,9,-999.000,9,   -999.0,9,   -999.0,9,-999.0,  -999.0,-999.0000,-999.000,-999.000,-999.000,-999.000
      74JC10_1,   A23,     7,  1,    721,     21,2,19950330,2338,-72.1858, -17.4613, 2042,   2029,   2021.8,   0.0847,  34.6697,2,  34.6692,2,    227.6,3, -0.0239,   -999.0,5,   120.69,2,    32.58,2,     2.25,2, -999.000,9, -999.000,9, -999.000,9, -999.000,9, -999.000,9,-999.0000,9,  -999.00,9,-999.000,9,   -999.0,9,   -999.0,9,-999.0,  -999.0,-999.0000,-999.000,-999.000,-999.000,-999.000
      74JC10_1,   A23,     7,  1,    722,     25,2,19950330,2338,-72.1858, -17.4613, 2042,   2029,   2021.8,   0.0847,  34.6697,2,  34.6694,2,    227.6,3, -0.0239,    219.3,2,   121.77,2,    32.55,2,     2.23,2, -999.000,9, -999.000,9, -999.000,9, -999.000,9, -999.000,9,-999.0000,9,  -999.00,9,-999.000,9,   -999.0,9,   -999.0,9,-999.0,  -999.0,-999.0000,-999.000,-999.000,-999.000,-999.000
      74JC10_1,   A23,     7,  1,    718,     18,2,19950330,2338,-72.1858, -17.4613, 2042,   2030,   2021.9,   0.0845,  34.6690,2,  34.6696,2,    227.6,3, -0.0240,   -999.0,9,  -999.00,9,  -999.00,9,  -999.00,9, -999.000,9, -999.000,9, -999.000,9, -999.000,9, -999.000,9,-999.0000,9,  -999.00,9,-999.000,9,   -999.0,9,   -999.0,9,-999.0,  -999.0,-999.0000,-999.000,-999.000,-999.000,-999.000
      74JC10_1,   A23,     7,  1,    719,     19,2,19950330,2338,-72.1858, -17.4613, 2042,   2030,   2021.9,   0.0847,  34.6699,2,  34.6690,2,    227.6,3, -0.0238,   -999.0,9,  -999.00,9,  -999.00,9,  -999.00,9, -999.000,9, -999.000,9, -999.000,9, -999.000,9, -999.000,9,-999.0000,9,  -999.00,9,-999.000,9,   -999.0,9,   -999.0,9,-999.0,  -999.0,-999.0000,-999.000,-999.000,-999.000,-999.000
      74JC10_1,   A23,     7,  1,    715,     15,2,19950330,2338,-72.1858, -17.4613, 2042,   2030,   2022.0,   0.0850,  34.6697,2,  34.6688,2,    227.6,3, -0.0235,   -999.0,9,  -999.00,9,  -999.00,9,  -999.00,9,    0.334,2,    0.141,2,    0.000,2,    0.616,2, -999.000,9,-999.0000,9,  -999.00,9,-999.000,9,   -999.0,9,   -999.0,9,-999.0,  -999.0,-999.0000,-999.000,-999.000,-999.000,-999.000
      74JC10_1,   A23,     7,  1,    716,     16,2,19950330,2338,-72.1858, -17.4613, 2042,   2030,   2022.5,   0.0850,  34.6691,2,  34.6702,2,    226.8,3, -0.0236,   -999.0,9,  -999.00,9,  -999.00,9,  -999.00,9, -999.000,9, -999.000,9, -999.000,9, -999.000,9, -999.000,9,-999.0000,9,  -999.00,9,-999.000,9,   -999.0,9,   -999.0,9,-999.0,  -999.0,-999.0000,-999.000,-999.000,-999.000,-999.000