BOTTLE,20220810CCHSIOAMB
EXPOCODE,SECT_ID,STNNBR,CASTNO,SAMPNO,BTLNBR,BTLNBR_FLAG_W,DATE,TIME,LATITUDE,LONGITUDE,DEPTH,CTDRAW,CTDPRS,CTDTMP,CTDSAL,CTDSAL_FLAG_W,SALNTY,SALNTY_FLAG_W,CTDOXY,CTDOXY_FLAG_W,THETA,OXYGEN,OXYGEN_FLAG_W,SILCAT,SILCAT_FLAG_W,NO2+NO3,NO2+NO3_FLAG_W,PHSPHT,PHSPHT_FLAG_W,CFC-11,CFC-11_FLAG_W,CFC-12,CFC-12_FLAG_W,CFC113,CFC113_FLAG_W,CCL4,CCL4_FLAG_W,TRITUM,TRITUM_FLAG_W,HELIUM,HELIUM_FLAG_W,DELHE3,DELHE3_FLAG_W,NEON,NEON_FLAG_W,TCARBN,TCARBN_FLAG_W,PCO2,PCO2_FLAG_W,PCO2TMP,REVPRS,HELIER,TRITER,REVTMP,NEONER,DELHER
,,,,,,,,,,,,,DBAR,ITS-90,PSS-78,,PSS-78,,UMOL/KG,,DEG C,UMOL/KG,,UMOL/KG,,UMOL/KG,,UMOL/KG,,PMOL/KG,,PMOL/KG,,PMOL/KG,,PMOL/KG,,TU,,NMOL/KG,,PERCNT,,NMOL/KG,,UMOL/KG,,UATM,,DEG C,DBAR,NMOL/KG,TU,ITS-90,NMOL/KG,PERCNT
      74JC10_1,   A23,    98,  1,   9824,     11,2,19950429,0504,-36.8627, -35.9925, 4878,      9,      2.8,  19.6468,  35.7816,2,  35.7815,2,    223.9,3, 19.6462,    222.1,2,  -999.00,5,  -999.00,5,  -999.00,5,    2.380,2,    1.316,2,    0.226,2,    2.433,2, -999.000,9,-999.0000,9,  -999.00,9,-999.000,9,   -999.0,9,   -999.0,9,-999.0,  -999.0,-999.0000,-999.000,-999.000,-999.000,-999.000
      74JC10_1,   A23,    98,  1,   9823,     23,2,19950429,0504,-36.8627, -35.9925, 4878,     60,     53.1,  19.6534,  35.7823,2,  35.7878,2,    229.2,3, 19.6437,    222.4,2,  -999.00,5,  -999.00,5,  -999.00,5,    2.457,2,    1.349,2,    0.242,2,    2.208,2, -999.000,9,-999.0000,9,  -999.00,9,-999.000,9,   -999.0,9,   -999.0,9,-999.0,  -999.0,-999.0000,-999.000,-999.000,-999.000,-999.000
      74JC10_1,   A23,    98,  1,   9822,     25,2,19950429,0504,-36.8627, -35.9925, 4878,    109,    102.1,  16.6468,  35.8067,2,  35.8015,2,    216.5,3, 16.6301,    208.0,2,     3.26,2,     2.70,2,     0.28,2,    2.710,2,    1.422,2,    0.202,2,    0.903,2, -999.000,9,-999.0000,9,  -999.00,9,-999.000,9,   -999.0,9,   -999.0,9,-999.0,  -999.0,-999.0000,-999.000,-999.000,-999.000,-999.000
      74JC10_1,   A23,    98,  1,   9821,     21,2,19950429,0504,-36.8627, -35.9925, 4878,    158,    150.4,  15.7285,  35.7097,2,  35.7049,2,    214.9,3, 15.7049,    212.6,2,     3.47,2,     4.28,2,     0.35,2,    2.806,2,    1.446,2,    0.165,2,    0.871,2, -999.000,9,-999.0000,9,  -999.00,9,-999.000,9,   -999.0,9,   -999.0,9,-999.0,  -999.0,-999.0000,-999.000,-999.000,-999.000,-999.000
      74JC10_1,   A23,    98,  1,   9820,     27,2,19950429,0504,-36.8627, -35.9925, 4878,    207,    199.3,  15.1770,  35.6274,2,  35.6287,2,    220.0,3, 15.1464,    212.2,2,     3.83,2,     5.41,2,     0.41,2,    2.455,2,    1.333,2,    0.118,2,    0.732,2, -999.000,9,-999.0000,9,  -999.00,9,-999.000,9,   -999.0,9,   -999.0,9,-999.0,  -999.0,-999.0000,-999.000,  15.195,-999.000,-999.000
      74JC10_1,   A23,    98,  1,   9819,     19,2,19950429,0504,-36.8627, -35.9925, 4878,    256,    248.2,  14.7901,  35.5803,2,  35.5559,2,    215.3,3, 14.7526,    192.9,2,     4.15,2,     6.54,2,     0.50,2,    2.799,2,    1.456,2,    0.110,2,    0.879,2, -999.000,9,-999.0000,9,  -999.00,9,-999.000,9,   -999.0,9,   -999.0,9,-999.0,  -999.0,-999.0000,-999.000,-999.000,-999.000,-999.000
      74JC10_1,   A23,    98,  1,   9818,     18,2,19950429,0504,-36.8627, -35.9925, 4878,    356,    346.6,  13.2195,  35.2882,2,  35.2737,2,    223.3,3, 13.1709,    211.1,2,     4.92,2,     9.97,2,     0.73,2,    2.765,2,    1.388,2,    0.106,2,    0.946,2, -999.000,9,-999.0000,9,  -999.00,9,-999.000,9,   -999.0,9,   -999.0,9,-999.0,  -999.0,-999.0000,-999.000,-999.000,-999.000,-999.000
      74JC10_1,   A23,    98,  1,   9817,     17,2,19950429,0504,-36.8627, -35.9925, 4878,    504,    494.5,   9.4366,  34.7017,2,  34.7258,2,    212.0,3,  9.3806,    205.1,2,     8.60,2,    19.04,2,     1.28,2,    2.391,2,    1.134,2,    0.078,2,    1.421,2, -999.000,9,-999.0000,9,  -999.00,9,-999.000,9,   -999.0,9,   -999.0,9,-999.0,  -999.0,-999.0000,-999.000,-999.000,-999.000,-999.000
      74JC10_1,   A23,    98,  1,   9816,     16,2,19950429,0504,-36.8627, -35.9925, 4878,    746,    735.3,   4.9260,  34.2513,2,  34.2499,2,    253.9,3,  4.8668,    247.6,2,    15.24,2,    26.06,2,     1.75,2,    2.999,2,    1.507,2,    0.127,2,    2.671,2, -999.000,9,-999.0000,9,  -999.00,9,-999.000,9,   -999.0,9,   -999.0,9,-999.0,  -999.0,-999.0000,-999.000,-999.000,-999.000,-999.000
      74JC10_1,   A23,    98,  1,   9815,     15,2,19950429,0504,-36.8627, -35.9925, 4878,    987,    975.1,   3.7198,  34.2333,2,  34.2350,2,    246.0,3,  3.6488,    238.3,2,    26.18,2,    29.28,2,     1.99,2,    2.277,2,    1.078,2,    0.127,2,    2.597,2, -999.000,9,-999.0000,9,  -999.00,9,-999.000,9,   -999.0,9,   -999.0,9,-999.0,  -999.0,-999.0000,-999.000,-999.000,-999.000,-999.000
      74JC10_1,   A23,    98,  1,   9814,     14,2,19950429,0504,-36.8627, -35.9925, 4878,   1242,   1229.2,   2.9714,  34.3207,2,  34.3225,2,    217.5,3,  2.8864,    210.6,2,    43.63,2,    31.91,2,     2.17,2,    1.280,2,    0.644,2,    0.058,2,    1.876,2, -999.000,9,-999.0000,9,  -999.00,9,-999.000,9,   -999.0,9,   -999.0,9,-999.0,  -999.0,-999.0000,-999.000,-999.000,-999.000,-999.000
      74JC10_1,   A23,    98,  1,   9813,     13,2,19950429,0504,-36.8627, -35.9925, 4878,   1492,   1479.0,   2.8060,  34.4808,2,  34.4803,2,    190.1,3,  2.7024,    184.7,2,    58.46,2,    32.77,2,     2.23,2,    0.392,2,    0.205,2,    0.000,2,    0.853,2, -999.000,9,-999.0000,9,  -999.00,9,-999.000,9,   -999.0,9,   -999.0,9,-999.0,  -999.0,-999.0000,-999.000,-999.000,-999.000,-999.000
      74JC10_1,   A23,    98,  1,   9812,     12,2,19950429,0504,-36.8627, -35.9925, 4878,   1742,   1728.5,   2.8387,  34.6221,2,  34.6211,2,    186.1,3,  2.7135,    182.0,2,    60.88,2,    31.45,2,     2.13,2,    0.122,2,    0.073,2,    0.000,2,    0.307,2, -999.000,9,-999.0000,9,  -999.00,9,-999.000,9,   -999.0,9,   -999.0,9,-999.0,  -999.0,-999.0000,-999.000,-999.000,-999.000,-999.000
      74JC10_1,   A23,    98,  1,   9811,     24,2,19950429,0504,-36.8627, -35.9925, 4878,   1990,   1976.9,   2.9048,  34.7363,2,  34.7390,2,    197.4,3,  2.7565,    190.9,2,    58.59,2,    29.05,2,     1.93,2, -999.000,9, -999.000,9, -999.000,9, -999.000,9, -999.000,9,-999.0000,9,  -999.00,9,-999.000,9,   -999.0,9,   -999.0,9,-999.0,  -999.0,-999.0000,-999.000,-999.000,-999.000,-999.000
      74JC10_1,   A23,    98,  1,   9810,     10,2,19950429,0504,-36.8627, -35.9925, 4878,   2333,   2319.9,   2.9508,  34.8287,2,  34.8287,2,    217.4,3,  2.7696,    210.1,2,    51.80,2,    26.05,2,     1.71,2,    0.022,2,    0.031,3,    0.000,2,    0.190,2, -999.000,9,-999.0000,9,  -999.00,9,-999.000,9,   -999.0,9,   -999.0,9,-999.0,  -999.0,-999.0000,-999.000,-999.000,-999.000,-999.000
      74JC10_1,   A23,    98,  1,   9809,      9,2,19950429,0504,-36.8627, -35.9925, 4878,   2684,   2672.0,   2.6661,  34.8501,2,  34.8503,2,    226.8,3,  2.4560,    220.2,2,    54.03,2,    25.06,2,     1.65,2,    0.027,2,    0.023,2,    0.000,2,    0.165,2, -999.000,9,-999.0000,9,  -999.00,9,-999.000,9,   -999.0,9,   -999.0,9,-999.0,  -999.0,-999.0000,-999.000,-999.000,-999.000,-999.000
      74JC10_1,   A23,    98,  1,   9808,      8,2,19950429,0504,-36.8627, -35.9925, 4878,   2985,   2973.5,   2.3858,  34.8439,2,  34.8440,2,    229.4,3,  2.1515,    222.1,2,    59.42,2,    25.06,2,     1.66,2,   -0.003,2,    0.004,2,    0.000,2,    0.102,2, -999.000,9,-999.0000,9,  -999.00,9,-999.000,9,   -999.0,9,   -999.0,9,-999.0,  -999.0,-999.0000,-999.000,-999.000,-999.000,-999.000
      74JC10_1,   A23,    98,  1,   9807,     26,2,19950429,0504,-36.8627, -35.9925, 4878,   3332,   3321.3,   1.6639,  34.7642,2,  34.7638,2,    211.4,3,  1.4114,    205.5,2,    90.19,2,    29.21,2,     1.96,2,    0.035,2,    0.020,2,    0.000,2,    0.139,2, -999.000,9,-999.0000,9,  -999.00,9,-999.000,9,   -999.0,9,   -999.0,9,-999.0,  -999.0,-999.0000,-999.000,   1.660,-999.000,-999.000
      74JC10_1,   A23,    98,  1,   9806,      6,2,19950429,0504,-36.8627, -35.9925, 4878,   3680,   3670.6,   1.1502,  34.7276,2,  34.7258,2,    212.1,3,  0.8754,    206.0,2,   106.58,2,    30.76,2,     2.08,2,    0.068,2,    0.032,2,    0.000,2,    0.217,2, -999.000,9,-999.0000,9,  -999.00,9,-999.000,9,   -999.0,9,   -999.0,9,-999.0,  -999.0,-999.0000,-999.000,-999.000,-999.000,-999.000
      74JC10_1,   A23,    98,  1,   9805,      5,2,19950429,0504,-36.8627, -35.9925, 4878,   3969,   3960.2,   0.7764,  34.7046,2,  34.7050,2,    215.9,3,  0.4821,    209.9,2,   114.30,2,    31.41,2,     2.15,2,    0.091,2,    0.043,2,    0.000,2,    0.288,2, -999.000,9,-999.0000,9,  -999.00,9,-999.000,9,   -999.0,9,   -999.0,9,-999.0,  -999.0,-999.0000,-999.000,-999.000,-999.000,-999.000
      74JC10_1,   A23,    98,  1,   9804,      4,2,19950429,0504,-36.8627, -35.9925, 4878,   4328,   4319.8,   0.3722,  34.6802,2,  34.6806,2,    221.1,3,  0.0520,    215.1,2,   122.20,2,    32.11,2,     2.20,2,    0.081,2,    0.055,2,    0.000,2,    0.300,2, -999.000,9,-999.0000,9,  -999.00,9,-999.000,9,   -999.0,9,   -999.0,9,-999.0,  4329.0,-999.0000,-999.000,   0.364,-999.000,-999.000
      74JC10_1,   A23,    98,  1,   9803,      3,2,19950429,0504,-36.8627, -35.9925, 4878,   4684,   4676.4,   0.2402,  34.6728,2,  34.6722,2,    225.1,3, -0.1145,    217.7,2,   125.62,2,    32.40,2,     2.23,2,    0.117,2,    0.061,2,    0.000,2,    0.373,2, -999.000,9,-999.0000,9,  -999.00,9,-999.000,9,   -999.0,9,   -999.0,9,-999.0,  -999.0,-999.0000,-999.000,-999.000,-999.000,-999.000
      74JC10_1,   A23,    98,  1,   9802,      2,2,19950429,0504,-36.8627, -35.9925, 4878,   4975,   4968.1,   0.2109,  34.6709,2,  34.6696,2,    225.8,3, -0.1756,    218.4,2,   126.99,2,    32.37,2,     2.21,2,    0.140,2,    0.055,2,    0.000,2,    0.369,2, -999.000,9,-999.0000,9,  -999.00,9,-999.000,9,   -999.0,9,   -999.0,9,-999.0,  -999.0,-999.0000,-999.000,-999.000,-999.000,-999.000
      74JC10_1,   A23,    98,  1,   9801,      1,2,19950429,0504,-36.8627, -35.9925, 4878,   4976,   4968.7,   0.2111,  34.6707,2,  34.6700,2,    225.8,3, -0.1755,    218.8,2,   128.06,2,    32.26,2,     2.20,2,    0.154,2,    0.073,2,    0.000,2,    0.376,2, -999.000,9,-999.0000,9,  -999.00,9,-999.000,9,   -999.0,9,   -999.0,9,-999.0,  4961.0,-999.0000,-999.000,   0.205,-999.000,-999.000
      74JC10_1,   A23,    99,  1,   9924,     11,2,19950429,1342,-35.8647, -35.9988, 4636,     11,      4.2,  19.0227,  35.5245,2,  35.4973,2,    229.3,3, 19.0220,    222.6,2,     3.16,2,  -999.00,5,     0.07,2,    2.409,2,    1.234,2,    0.221,2,    2.658,2, -999.000,9,-999.0000,9,  -999.00,9,-999.000,9,   -999.0,9,   -999.0,9,-999.0,  -999.0,-999.0000,-999.000,-999.000,-999.000,-999.000
      74JC10_1,   A23,    99,  1,   9923,     23,2,19950429,1342,-35.8647, -35.9988, 4636,     58,     51.6,  18.9605,  35.5168,2,  35.5225,2,    232.5,3, 18.9513,    224.5,2,     3.10,2,     0.00,2,     0.09,2,    2.443,2,    1.249,2,    0.230,2,    2.547,2, -999.000,9,-999.0000,9,  -999.00,9,-999.000,9,   -999.0,9,   -999.0,9,-999.0,  -999.0,-999.0000,-999.000,-999.000,-999.000,-999.000
      74JC10_1,   A23,    99,  1,   9922,     25,2,19950429,1342,-35.8647, -35.9988, 4636,    107,     99.8,  16.3337,  35.7521,2,  35.7582,2,    218.1,3, 16.3176,    209.3,3,     3.73,2,     2.79,2,     0.29,2,    2.660,2,    1.324,2,    0.172,2,    0.880,2, -999.000,9,-999.0000,9,  -999.00,9,-999.000,9,   -999.0,9,   -999.0,9,-999.0,  -999.0,-999.0000,-999.000,-999.000,-999.000,-999.000
      74JC10_1,   A23,    99,  1,   9921,     21,2,19950429,1342,-35.8647, -35.9988, 4636,    156,    149.0,  15.6449,  35.6971,2,  35.6828,2,    219.0,3, 15.6216,    214.0,2,     4.04,2,     4.35,2,     0.37,2,    2.720,2,    1.270,2,    0.155,2,    0.848,2, -999.000,9,-999.0000,9,  -999.00,9,-999.000,9,   -999.0,9,   -999.0,9,-999.0,  -999.0,-999.0000,-999.000,-999.000,-999.000,-999.000
      74JC10_1,   A23,    99,  1,   9920,     27,2,19950429,1342,-35.8647, -35.9988, 4636,    206,    198.3,  15.0959,  35.6344,2,  35.6297,2,    217.4,3, 15.0656,    212.9,2,     4.51,2,     5.70,2,     0.45,2,    2.700,2,    1.318,2,    0.133,2,    0.877,2, -999.000,9,-999.0000,9,  -999.00,9,-999.000,9,   -999.0,9,   -999.0,9,-999.0,  -999.0,-999.0000,-999.000,  15.155,-999.000,-999.000
      74JC10_1,   A23,    99,  1,   9919,     19,2,19950429,1342,-35.8647, -35.9988, 4636,    253,    245.1,  14.4230,  35.5117,2,  35.4945,2,    219.7,3, 14.3867,    213.1,2,     6.06,2,     7.13,2,     0.55,2,    2.764,2,    1.231,2,    0.123,2,    0.887,2, -999.000,9,-999.0000,9,  -999.00,9,-999.000,9,   -999.0,9,   -999.0,9,-999.0,  -999.0,-999.0000,-999.000,-999.000,-999.000,-999.000
      74JC10_1,   A23,    99,  1,   9918,     18,2,19950429,1342,-35.8647, -35.9988, 4636,    350,    341.4,  12.7111,  35.2053,2,  35.1833,2,    216.2,3, 12.6645,    210.0,2,     7.00,2,    11.07,2,     0.79,2,    2.814,2,    1.328,2,    0.115,2,    1.088,2, -999.000,9,-999.0000,9,  -999.00,9,-999.000,9,   -999.0,9,   -999.0,9,-999.0,  -999.0,-999.0000,-999.000,-999.000,-999.000,-999.000
      74JC10_1,   A23,    99,  1,   9917,     17,2,19950429,1342,-35.8647, -35.9988, 4636,    500,    490.7,   8.4254,  34.5722,2,  34.5628,2,    221.3,3,  8.3736,    217.0,2,    10.52,2,    20.30,2,     1.37,2,    2.860,2,    1.294,2,    0.140,2,    2.299,2, -999.000,9,-999.0000,9,  -999.00,9,-999.000,9,   -999.0,9,   -999.0,9,-999.0,  -999.0,-999.0000,-999.000,-999.000,-999.000,-999.000
      74JC10_1,   A23,    99,  1,   9916,     16,2,19950429,1342,-35.8647, -35.9988, 4636,    749,    738.0,   4.7438,  34.2313,2,  34.2291,2,    260.0,3,  4.6855,    254.0,2,    16.33,2,    25.72,2,     1.73,2,    3.557,2,    1.604,2,    0.229,2,    4.026,2, -999.000,9,-999.0000,9,  -999.00,9,-999.000,9,   -999.0,9,   -999.0,9,-999.0,  -999.0,-999.0000,-999.000,-999.000,-999.000,-999.000
      74JC10_1,   A23,    99,  1,   9915,     15,2,19950429,1342,-35.8647, -35.9988, 4636,    996,    984.2,   3.6277,  34.2373,2,  34.2368,2,    245.6,3,  3.5567,    236.2,2,    28.40,2,    29.37,2,     2.00,2,    2.309,2,    0.938,3,    0.132,2,    3.097,2, -999.000,9,-999.0000,9,  -999.00,9,-999.000,9,   -999.0,9,   -999.0,9,-999.0,  -999.0,-999.0000,-999.000,-999.000,-999.000,-999.000
      74JC10_1,   A23,    99,  1,   9914,     14,2,19950429,1342,-35.8647, -35.9988, 4636,   1245,   1231.8,   2.9852,  34.3302,2,  34.3303,2,    216.0,3,  2.8998,    208.0,2,    44.83,2,    31.83,2,     2.19,2,    1.236,2,    0.484,3,    0.062,2,    1.858,2, -999.000,9,-999.0000,9,  -999.00,9,-999.000,9,   -999.0,9,   -999.0,9,-999.0,  -999.0,-999.0000,-999.000,-999.000,-999.000,-999.000
      74JC10_1,   A23,    99,  1,   9913,     13,2,19950429,1342,-35.8647, -35.9988, 4636,   1491,   1478.1,   2.7967,  34.4803,2,  34.4830,2,    190.1,3,  2.6933,    183.7,3,    59.02,2,    32.64,2,     2.24,2,    0.374,2,    0.161,2,    0.006,2,    0.829,2, -999.000,9,-999.0000,9,  -999.00,9,-999.000,9,   -999.0,9,   -999.0,9,-999.0,  -999.0,-999.0000,-999.000,-999.000,-999.000,-999.000
      74JC10_1,   A23,    99,  1,   9912,     12,2,19950429,1342,-35.8647, -35.9988, 4636,   1739,   1726.1,   2.8417,  34.6293,2,  34.6295,2,    185.6,3,  2.7166,    180.9,2,    63.01,2,    31.32,2,     2.12,2,    0.146,2,    0.064,2,    0.015,2,    0.398,2, -999.000,9,-999.0000,9,  -999.00,9,-999.000,9,   -999.0,9,   -999.0,9,-999.0,  -999.0,-999.0000,-999.000,-999.000,-999.000,-999.000
      74JC10_1,   A23,    99,  1,   9911,     24,2,19950429,1342,-35.8647, -35.9988, 4636,   1988,   1974.4,   2.9154,  34.7333,2,  34.7333,2,    196.8,3,  2.7671,    190.3,2,    60.77,2,    29.41,2,     1.96,2,    0.080,2,    0.040,2,    0.006,2,    0.270,2, -999.000,9,-999.0000,9,  -999.00,9,-999.000,9,   -999.0,9,   -999.0,9,-999.0,  -999.0,-999.0000,-999.000,-999.000,-999.000,-999.000
      74JC10_1,   A23,    99,  1,   9910,     10,2,19950429,1342,-35.8647, -35.9988, 4636,   2335,   2322.6,   2.8762,  34.8246,2,  34.8239,2,    215.3,3,  2.6961,    209.1,2,    55.64,2,    26.19,2,     1.74,2,    0.036,2,    0.017,2,    0.010,2,    0.209,2, -999.000,9,-999.0000,9,  -999.00,9,-999.000,9,   -999.0,9,   -999.0,9,-999.0,  -999.0,-999.0000,-999.000,-999.000,-999.000,-999.000
      74JC10_1,   A23,    99,  1,   9909,      9,2,19950429,1342,-35.8647, -35.9988, 4636,   2683,   2671.1,   2.7536,  34.8683,2,  34.8705,2,    231.3,3,  2.5418,    225.3,2,    50.66,2,    24.05,2,     1.57,2,    0.004,2,    0.002,2,    0.010,2,    0.141,2, -999.000,9,-999.0000,9,  -999.00,9,-999.000,9,   -999.0,9,   -999.0,9,-999.0,  -999.0,-999.0000,-999.000,-999.000,-999.000,-999.000
      74JC10_1,   A23,    99,  1,   9908,      8,2,19950429,1342,-35.8647, -35.9988, 4636,   2980,   2969.4,   2.2681,  34.8199,2,  34.8206,2,    220.6,3,  2.0369,    214.7,2,    68.64,2,    26.43,2,     1.76,2,    0.025,2,    0.025,2,    0.000,2,    0.150,2, -999.000,9,-999.0000,9,  -999.00,9,-999.000,9,   -999.0,9,   -999.0,9,-999.0,  -999.0,-999.0000,-999.000,-999.000,-999.000,-999.000
      74JC10_1,   A23,    99,  1,   9907,     26,2,19950429,1342,-35.8647, -35.9988, 4636,   3329,   3318.8,   1.6236,  34.7612,2,  34.7610,2,    213.2,3,  1.3724,    205.4,2,    93.15,2,    29.19,2,     1.96,2,    0.017,2,    0.018,2,    0.007,2,    0.134,2, -999.000,9,-999.0000,9,  -999.00,9,-999.000,9,   -999.0,9,   -999.0,9,-999.0,  -999.0,-999.0000,-999.000,   1.630,-999.000,-999.000
      74JC10_1,   A23,    99,  1,   9906,      6,2,19950429,1342,-35.8647, -35.9988, 4636,   3678,   3668.4,   1.0860,  34.7232,2,  34.7223,2,    211.3,3,  0.8132,    204.9,2,   119.37,2,    30.82,2,     2.12,2,    0.060,2,    0.032,2,    0.000,2,    0.205,2, -999.000,9,-999.0000,9,  -999.00,9,-999.000,9,   -999.0,9,   -999.0,9,-999.0,  -999.0,-999.0000,-999.000,-999.000,-999.000,-999.000
      74JC10_1,   A23,    99,  1,   9905,      5,2,19950429,1342,-35.8647, -35.9988, 4636,   3978,   3969.5,   0.6398,  34.6952,2,  34.6969,2,    216.1,3,  0.3484,    210.2,2,   117.42,2,    31.56,2,     2.17,2,    0.076,2,    0.039,2,    0.000,2,    0.292,2, -999.000,9,-999.0000,9,  -999.00,9,-999.000,9,   -999.0,9,   -999.0,9,-999.0,  -999.0,-999.0000,-999.000,-999.000,-999.000,-999.000
      74JC10_1,   A23,    99,  1,   9904,      4,2,19950429,1342,-35.8647, -35.9988, 4636,   4277,   4269.0,   0.3138,  34.6788,2,  34.6779,2,    221.3,3,  0.0008,    215.1,2,   124.64,2,    32.03,2,     2.21,2,    0.087,2,    0.057,2,    0.000,2,    0.340,2, -999.000,9,-999.0000,9,  -999.00,9,-999.000,9,   -999.0,9,   -999.0,9,-999.0,  4281.0,-999.0000,-999.000,   0.308,-999.000,-999.000
      74JC10_1,   A23,    99,  1,   9903,      3,2,19950429,1342,-35.8647, -35.9988, 4636,   4478,   4469.7,   0.2253,  34.6732,2,  34.6732,2,    223.1,3, -0.1064,    216.5,2,   127.87,2,    32.10,2,     2.21,2,    0.096,2,    0.057,2,    0.000,2,    0.369,2, -999.000,9,-999.0000,9,  -999.00,9,-999.000,9,   -999.0,9,   -999.0,9,-999.0,  -999.0,-999.0000,-999.000,-999.000,-999.000,-999.000
      74JC10_1,   A23,    99,  1,   9902,      2,2,19950429,1342,-35.8647, -35.9988, 4636,   4718,   4710.2,   0.1893,  34.6708,2,  34.6702,2,    222.6,3, -0.1674,    212.5,4,  -999.00,5,    32.35,3,  -999.00,5,    0.112,2,    0.061,2,    0.000,2,    0.382,2, -999.000,9,-999.0000,9,  -999.00,9,-999.000,9,   -999.0,9,   -999.0,9,-999.0,  -999.0,-999.0000,-999.000,-999.000,-999.000,-999.000
      74JC10_1,   A23,    99,  1,   9901,      1,2,19950429,1342,-35.8647, -35.9988, 4636,   4719,   4711.8,   0.1893,  34.6712,2,  34.6702,2,    222.6,3, -0.1676,    216.9,2,  -999.00,5,    32.21,3,  -999.00,5,    0.134,2,    0.074,2,    0.000,2,    0.418,2, -999.000,9,-999.0000,9,  -999.00,9,-999.000,9,   -999.0,9,   -999.0,9,-999.0,  4700.0,-999.0000,-999.000,   0.184,-999.000,-999.000