BOTTLE,20220810CCHSIOAMB
EXPOCODE,SECT_ID,STNNBR,CASTNO,SAMPNO,BTLNBR,BTLNBR_FLAG_W,DATE,TIME,LATITUDE,LONGITUDE,DEPTH,CTDRAW,CTDPRS,CTDTMP,CTDSAL,CTDSAL_FLAG_W,SALNTY,SALNTY_FLAG_W,CTDOXY,CTDOXY_FLAG_W,THETA,OXYGEN,OXYGEN_FLAG_W,SILCAT,SILCAT_FLAG_W,NO2+NO3,NO2+NO3_FLAG_W,PHSPHT,PHSPHT_FLAG_W,CFC-11,CFC-11_FLAG_W,CFC-12,CFC-12_FLAG_W,CFC113,CFC113_FLAG_W,CCL4,CCL4_FLAG_W,TRITUM,TRITUM_FLAG_W,HELIUM,HELIUM_FLAG_W,DELHE3,DELHE3_FLAG_W,NEON,NEON_FLAG_W,TCARBN,TCARBN_FLAG_W,PCO2,PCO2_FLAG_W,PCO2TMP,REVPRS,HELIER,TRITER,REVTMP,NEONER,DELHER
,,,,,,,,,,,,,DBAR,ITS-90,PSS-78,,PSS-78,,UMOL/KG,,DEG C,UMOL/KG,,UMOL/KG,,UMOL/KG,,UMOL/KG,,PMOL/KG,,PMOL/KG,,PMOL/KG,,PMOL/KG,,TU,,NMOL/KG,,PERCNT,,NMOL/KG,,UMOL/KG,,UATM,,DEG C,DBAR,NMOL/KG,TU,ITS-90,NMOL/KG,PERCNT
      74JC10_1,   A23,    61,  1,   6120,     27,2,19950413,2351,-52.6310, -35.0005, 3828,      9,      6.2,   3.3553,  33.8257,2,  33.8253,2,    324.8,3,  3.3550,    315.3,2,    10.53,2,    20.80,2,     1.41,2, -999.000,9, -999.000,9, -999.000,9, -999.000,9, -999.000,9,-999.0000,9,  -999.00,9,-999.000,9,   -999.0,9,   -999.0,9,-999.0,  -999.0,-999.0000,-999.000,   3.354,-999.000,-999.000
      74JC10_1,   A23,    61,  1,   6121,     21,2,19950413,2351,-52.6310, -35.0005, 3828,      9,      6.4,   3.3582,  33.8253,2,  33.8253,2,    324.8,3,  3.3578,    315.6,2,    10.28,2,    20.78,2,     1.41,2, -999.000,9, -999.000,9, -999.000,9, -999.000,9, -999.000,9,-999.0000,9,  -999.00,9,-999.000,9,   -999.0,9,   -999.0,9,-999.0,  -999.0,-999.0000,-999.000,-999.000,-999.000,-999.000
      74JC10_1,   A23,    61,  1,   6119,     19,2,19950413,2351,-52.6310, -35.0005, 3828,     60,     57.2,   3.3422,  33.8257,2,  33.8253,2,    325.3,3,  3.3387,    315.7,2,    10.72,2,    20.96,2,     1.41,2, -999.000,9, -999.000,9, -999.000,9, -999.000,9, -999.000,9,-999.0000,9,  -999.00,9,-999.000,9,   -999.0,9,   -999.0,9,-999.0,  -999.0,-999.0000,-999.000,-999.000,-999.000,-999.000
      74JC10_1,   A23,    61,  1,   6118,     18,2,19950413,2351,-52.6310, -35.0005, 3828,    110,    106.6,   1.3421,  33.9387,2,  33.9643,2,    307.2,3,  1.3372,    299.8,2,    28.10,2,    26.98,2,     1.88,2, -999.000,9, -999.000,9, -999.000,9, -999.000,9, -999.000,9,-999.0000,9,  -999.00,9,-999.000,9,   -999.0,9,   -999.0,9,-999.0,  -999.0,-999.0000,-999.000,-999.000,-999.000,-999.000
      74JC10_1,   A23,    61,  1,   6117,     17,2,19950413,2351,-52.6310, -35.0005, 3828,    159,    154.9,   1.0839,  34.1770,2,  34.1852,2,    255.6,3,  1.0769,    248.6,2,    50.79,2,    32.07,2,     2.19,2, -999.000,9, -999.000,9, -999.000,9, -999.000,9, -999.000,9,-999.0000,9,  -999.00,9,-999.000,9,   -999.0,9,   -999.0,9,-999.0,  -999.0,-999.0000,-999.000,-999.000,-999.000,-999.000
      74JC10_1,   A23,    61,  1,   6116,     16,2,19950413,2351,-52.6310, -35.0005, 3828,    210,    204.9,   1.3392,  34.3102,2,  34.3178,2,    222.3,3,  1.3294,    221.0,2,    62.97,2,    33.43,2,     2.30,2, -999.000,9, -999.000,9, -999.000,9, -999.000,9, -999.000,9,-999.0000,9,  -999.00,9,-999.000,9,   -999.0,9,   -999.0,9,-999.0,  -999.0,-999.0000,-999.000,-999.000,-999.000,-999.000
      74JC10_1,   A23,    61,  1,   6115,     15,2,19950413,2351,-52.6310, -35.0005, 3828,    261,    254.9,   1.6907,  34.4133,2,  34.4194,2,    203.5,3,  1.6777,    195.0,2,    69.36,2,    33.97,2,     2.35,2, -999.000,9, -999.000,9, -999.000,9, -999.000,9, -999.000,9,-999.0000,9,  -999.00,9,-999.000,9,   -999.0,9,   -999.0,9,-999.0,  -999.0,-999.0000,-999.000,-999.000,-999.000,-999.000
      74JC10_1,   A23,    61,  1,   6114,     14,2,19950413,2351,-52.6310, -35.0005, 3828,    361,    353.3,   1.8754,  34.5310,2,  34.5317,2,    187.6,3,  1.8564,    179.1,2,    76.83,2,    33.87,2,     2.36,2, -999.000,9, -999.000,9, -999.000,9, -999.000,9, -999.000,9,-999.0000,9,  -999.00,9,-999.000,9,   -999.0,9,   -999.0,9,-999.0,  -999.0,-999.0000,-999.000,-999.000,-999.000,-999.000
      74JC10_1,   A23,    61,  1,   6113,     13,2,19950413,2351,-52.6310, -35.0005, 3828,    511,    502.5,   1.9251,  34.6041,2,  34.6046,2,    181.8,3,  1.8972,    174.5,2,    82.31,2,    33.40,2,     2.32,2, -999.000,9, -999.000,9, -999.000,9, -999.000,9, -999.000,9,-999.0000,9,  -999.00,9,-999.000,9,   -999.0,9,   -999.0,9,-999.0,  -999.0,-999.0000,-999.000,-999.000,-999.000,-999.000
      74JC10_1,   A23,    61,  1,   6112,     12,2,19950413,2351,-52.6310, -35.0005, 3828,    761,    751.2,   1.8449,  34.6835,2,  34.6842,2,    185.2,3,  1.8021,    178.0,2,    89.10,2,    32.19,2,     2.24,2, -999.000,9, -999.000,9, -999.000,9, -999.000,9, -999.000,9,-999.0000,9,  -999.00,9,-999.000,9,   -999.0,9,   -999.0,9,-999.0,  -999.0,-999.0000,-999.000,-999.000,-999.000,-999.000
      74JC10_1,   A23,    61,  1,   6111,     24,2,19950413,2351,-52.6310, -35.0005, 3828,   1011,    999.4,   1.6435,  34.7125,2,  34.7119,2,    192.0,3,  1.5860,    185.0,2,    94.62,2,    31.56,2,     2.18,2, -999.000,9, -999.000,9, -999.000,9, -999.000,9, -999.000,9,-999.0000,9,  -999.00,9,-999.000,9,   -999.0,9,   -999.0,9,-999.0,  -999.0,-999.0000,-999.000,-999.000,-999.000,-999.000
      74JC10_1,   A23,    61,  1,   6110,     10,2,19950413,2351,-52.6310, -35.0005, 3828,   1260,   1247.9,   1.4397,  34.7209,2,  34.7207,2,    198.4,3,  1.3674,    190.7,2,    99.75,2,    31.32,2,     2.17,2, -999.000,9, -999.000,9, -999.000,9, -999.000,9, -999.000,9,-999.0000,9,  -999.00,9,-999.000,9,   -999.0,9,   -999.0,9,-999.0,  -999.0,-999.0000,-999.000,-999.000,-999.000,-999.000
      74JC10_1,   A23,    61,  1,   6109,      9,2,19950413,2351,-52.6310, -35.0005, 3828,   1509,   1496.7,   1.2186,  34.7149,2,  34.7154,2,    201.6,3,  1.1313,    196.0,2,   105.22,2,    31.43,2,     2.17,2, -999.000,9, -999.000,9, -999.000,9, -999.000,9, -999.000,9,-999.0000,9,  -999.00,9,-999.000,9,   -999.0,9,   -999.0,9,-999.0,  -999.0,-999.0000,-999.000,-999.000,-999.000,-999.000
      74JC10_1,   A23,    61,  1,   6108,      8,2,19950413,2351,-52.6310, -35.0005, 3828,   1756,   1743.9,   1.0541,  34.7148,2,  34.7154,2,    205.1,3,  0.9512,    199.7,2,   109.22,2,    31.37,2,     2.18,2, -999.000,9, -999.000,9, -999.000,9, -999.000,9, -999.000,9,-999.0000,9,  -999.00,9,-999.000,9,   -999.0,9,   -999.0,9,-999.0,  -999.0,-999.0000,-999.000,-999.000,-999.000,-999.000
      74JC10_1,   A23,    61,  1,   6107,     26,2,19950413,2351,-52.6310, -35.0005, 3828,   2006,   1994.1,   0.8365,  34.7010,2,  34.7007,2,    208.2,3,  0.7181,    201.5,2,   112.44,2,    31.59,2,     2.21,2, -999.000,9, -999.000,9, -999.000,9, -999.000,9, -999.000,9,-999.0000,9,  -999.00,9,-999.000,9,   -999.0,9,   -999.0,9,-999.0,  -999.0,-999.0000,-999.000,   0.831,-999.000,-999.000
      74JC10_1,   A23,    61,  1,   6106,      6,2,19950413,2351,-52.6310, -35.0005, 3828,   2507,   2496.1,   0.5079,  34.6854,2,  34.6857,2,    214.6,3,  0.3559,    209.4,2,   117.71,2,    31.97,2,     2.24,2, -999.000,9, -999.000,9, -999.000,9, -999.000,9, -999.000,9,-999.0000,9,  -999.00,9,-999.000,9,   -999.0,9,   -999.0,9,-999.0,  -999.0,-999.0000,-999.000,-999.000,-999.000,-999.000
      74JC10_1,   A23,    61,  1,   6105,      5,2,19950413,2351,-52.6310, -35.0005, 3828,   3011,   3000.7,   0.3149,  34.6771,2,  34.6783,2,    220.2,3,  0.1244,    213.2,2,   121.52,2,    32.03,2,     2.25,2, -999.000,9, -999.000,9, -999.000,9, -999.000,9, -999.000,9,-999.0000,9,  -999.00,9,-999.000,9,   -999.0,9,   -999.0,9,-999.0,  -999.0,-999.0000,-999.000,-999.000,-999.000,-999.000
      74JC10_1,   A23,    61,  1,   6104,      4,2,19950413,2351,-52.6310, -35.0005, 3828,   3514,   3505.0,   0.1584,  34.6719,2,  34.6708,2,    225.4,3, -0.0740,    219.2,2,   124.16,2,    32.14,2,     2.25,2, -999.000,9, -999.000,9, -999.000,9, -999.000,9, -999.000,9,-999.0000,9,  -999.00,9,-999.000,9,   -999.0,9,   -999.0,9,-999.0,  3513.0,-999.0000,-999.000,   0.152,-999.000,-999.000
      74JC10_1,   A23,    61,  1,   6103,      3,2,19950413,2351,-52.6310, -35.0005, 3828,   3664,   3654.7,   0.1060,  34.6695,2,  34.6692,2,    227.5,3, -0.1392,    218.9,2,   128.35,2,    32.00,2,     2.25,2, -999.000,9, -999.000,9, -999.000,9, -999.000,9, -999.000,9,-999.0000,9,  -999.00,9,-999.000,9,   -999.0,9,   -999.0,9,-999.0,  -999.0,-999.0000,-999.000,-999.000,-999.000,-999.000
      74JC10_1,   A23,    61,  1,   6101,      1,2,19950413,2351,-52.6310, -35.0005, 3828,   3855,   3846.9,   0.0356,  34.6670,2,  34.6651,2,    228.1,3, -0.2263,    224.6,2,   128.65,2,    32.05,2,     2.24,2, -999.000,9, -999.000,9, -999.000,9, -999.000,9, -999.000,9,-999.0000,9,  -999.00,9,-999.000,9,   -999.0,9,   -999.0,9,-999.0,  3830.0,-999.0000,-999.000,   0.029,-999.000,-999.000
      74JC10_1,   A23,    61,  1,   6102,      2,2,19950413,2351,-52.6310, -35.0005, 3828,   3856,   3847.4,   0.0360,  34.6663,2,  34.6657,2,    228.8,3, -0.2259,    222.9,2,   128.74,2,    32.12,2,     2.25,2, -999.000,9, -999.000,9, -999.000,9, -999.000,9, -999.000,9,-999.0000,9,  -999.00,9,-999.000,9,   -999.0,9,   -999.0,9,-999.0,  -999.0,-999.0000,-999.000,-999.000,-999.000,-999.000
      74JC10_1,   A23,    62,  1,   6221,     21,2,19950414,0506,-52.1993, -35.1783, 4253,      9,      6.8,   3.4902,  33.8287,2,  33.8282,2,    321.2,3,  3.4898,    314.1,2,     9.51,2,    20.67,2,     1.38,2,    5.554,2,    2.748,2,    0.521,2,    6.658,2, -999.000,9,-999.0000,9,  -999.00,9,-999.000,9,   -999.0,9,   -999.0,9,-999.0,  -999.0,-999.0000,-999.000,-999.000,-999.000,-999.000
      74JC10_1,   A23,    62,  1,   6220,     27,2,19950414,0506,-52.1993, -35.1783, 4253,     10,      6.9,   3.4929,  33.8286,2,  33.8286,2,    321.2,3,  3.4924,    314.3,2,     9.66,2,    20.75,2,     1.39,2,    5.545,2,    2.760,2,    0.517,2,    6.582,2, -999.000,9,-999.0000,9,  -999.00,9,-999.000,9,   -999.0,9,   -999.0,9,-999.0,  -999.0,-999.0000,-999.000,   3.490,-999.000,-999.000
      74JC10_1,   A23,    62,  1,   6219,     19,2,19950414,0506,-52.1993, -35.1783, 4253,     61,     57.9,   3.4189,  33.8242,2,  33.8277,2,    325.6,3,  3.4153,    313.2,2,    10.77,2,    21.02,2,     1.42,2,    5.591,2,    2.669,2,    0.521,2,    6.405,2, -999.000,9,-999.0000,9,  -999.00,9,-999.000,9,   -999.0,9,   -999.0,9,-999.0,  -999.0,-999.0000,-999.000,-999.000,-999.000,-999.000
      74JC10_1,   A23,    62,  1,   6218,     18,2,19950414,0506,-52.1993, -35.1783, 4253,    111,    107.6,   0.6003,  33.9789,2,  33.9886,2,    314.3,3,  0.5960,    301.4,2,    31.25,2,    28.09,2,     1.95,2,    5.618,2,    2.767,2,    0.529,2,    6.558,2, -999.000,9,-999.0000,9,  -999.00,9,-999.000,9,   -999.0,9,   -999.0,9,-999.0,  -999.0,-999.0000,-999.000,-999.000,-999.000,-999.000
      74JC10_1,   A23,    62,  1,   6217,     17,2,19950414,0506,-52.1993, -35.1783, 4253,    161,    156.3,   0.9537,  34.1580,2,  34.1564,2,    269.1,3,  0.9468,    257.7,2,    47.50,2,    31.52,2,     2.15,2,    4.207,2,    2.014,2,    0.361,2,    4.716,2, -999.000,9,-999.0000,9,  -999.00,9,-999.000,9,   -999.0,9,   -999.0,9,-999.0,  -999.0,-999.0000,-999.000,-999.000,-999.000,-999.000
      74JC10_1,   A23,    62,  1,   6216,     16,2,19950414,0506,-52.1993, -35.1783, 4253,    211,    206.0,   1.2659,  34.2860,2,  34.2889,2,    230.7,3,  1.2563,    225.1,2,    59.72,2,    33.24,2,     2.29,2,    2.864,2,    1.335,2,    0.234,2,    3.349,2, -999.000,9,-999.0000,9,  -999.00,9,-999.000,9,   -999.0,9,   -999.0,9,-999.0,  -999.0,-999.0000,-999.000,-999.000,-999.000,-999.000
      74JC10_1,   A23,    62,  1,   6215,     15,2,19950414,0506,-52.1993, -35.1783, 4253,    261,    254.9,   1.5902,  34.3837,2,  34.3845,2,    208.4,3,  1.5774,    209.0,2,    66.46,2,    33.82,2,     2.34,2,    2.055,2,    0.924,2,    0.160,2,    2.342,2, -999.000,9,-999.0000,9,  -999.00,9,-999.000,9,   -999.0,9,   -999.0,9,-999.0,  -999.0,-999.0000,-999.000,-999.000,-999.000,-999.000
      74JC10_1,   A23,    62,  1,   6214,     14,2,19950414,0506,-52.1993, -35.1783, 4253,    361,    353.5,   1.7916,  34.4902,2,  34.4909,2,    192.5,3,  1.7728,    185.9,2,    74.26,2,    33.93,2,     2.37,2,    1.184,2,    0.545,2,    0.082,2,    1.497,2, -999.000,9,-999.0000,9,  -999.00,9,-999.000,9,   -999.0,9,   -999.0,9,-999.0,  -999.0,-999.0000,-999.000,-999.000,-999.000,-999.000
      74JC10_1,   A23,    62,  1,   6213,     13,2,19950414,0506,-52.1993, -35.1783, 4253,    505,    496.7,   1.8273,  34.5882,2,  34.5881,2,    185.3,3,  1.8001,    179.6,2,    81.59,2,    33.40,2,     2.31,2,    0.723,2,    0.349,2,    0.050,2,    0.962,2, -999.000,9,-999.0000,9,  -999.00,9,-999.000,9,   -999.0,9,   -999.0,9,-999.0,  -999.0,-999.0000,-999.000,-999.000,-999.000,-999.000
      74JC10_1,   A23,    62,  1,   6212,     12,2,19950414,0506,-52.1993, -35.1783, 4253,    758,    747.4,   1.7543,  34.6724,2,  34.6745,2,    186.1,3,  1.7123,    179.0,2,    89.19,2,    32.37,2,     2.24,2,    0.320,2,    0.161,2,    0.021,2,    0.479,2, -999.000,9,-999.0000,9,  -999.00,9,-999.000,9,   -999.0,9,   -999.0,9,-999.0,  -999.0,-999.0000,-999.000,-999.000,-999.000,-999.000
      74JC10_1,   A23,    62,  1,   6211,     24,2,19950414,0506,-52.1993, -35.1783, 4253,   1011,    999.8,   1.5710,  34.7058,2,  34.7068,2,    190.8,3,  1.5140,    186.4,2,    94.81,2,    31.70,2,     2.19,2,    0.216,2,    0.112,2,    0.009,2,    0.350,2, -999.000,9,-999.0000,9,  -999.00,9,-999.000,9,   -999.0,9,   -999.0,9,-999.0,  -999.0,-999.0000,-999.000,-999.000,-999.000,-999.000
      74JC10_1,   A23,    62,  1,   6210,     10,2,19950414,0506,-52.1993, -35.1783, 4253,   1257,   1245.0,   1.3479,  34.7114,2,  34.7127,2,    196.8,3,  1.2767,    190.5,2,   100.83,2,    31.61,2,     2.19,2,    0.167,2,    0.094,2,    0.000,2,    0.284,2, -999.000,9,-999.0000,9,  -999.00,9,-999.000,9,   -999.0,9,   -999.0,9,-999.0,  -999.0,-999.0000,-999.000,-999.000,-999.000,-999.000
      74JC10_1,   A23,    62,  1,   6209,      9,2,19950414,0506,-52.1993, -35.1783, 4253,   1501,   1488.2,   1.1606,  34.7107,2,  34.7111,2,    201.2,3,  1.0747,    194.8,2,   105.12,2,    31.68,2,     2.19,2,    0.176,2,    0.103,2,    0.009,2,    0.282,2, -999.000,9,-999.0000,9,  -999.00,9,-999.000,9,   -999.0,9,   -999.0,9,-999.0,  -999.0,-999.0000,-999.000,-999.000,-999.000,-999.000
      74JC10_1,   A23,    62,  1,   6208,      8,2,19950414,0506,-52.1993, -35.1783, 4253,   1757,   1744.7,   0.9537,  34.7043,2,  34.7050,2,    204.7,3,  0.8521,    199.3,2,   109.42,2,    31.73,2,     2.19,2,    0.197,2,    0.114,2,    0.000,2,    0.330,2, -999.000,9,-999.0000,9,  -999.00,9,-999.000,9,   -999.0,9,   -999.0,9,-999.0,  -999.0,-999.0000,-999.000,-999.000,-999.000,-999.000
      74JC10_1,   A23,    62,  1,   6207,     26,2,19950414,0506,-52.1993, -35.1783, 4253,   2004,   1991.4,   0.7850,  34.6984,2,  34.7001,2,    208.4,3,  0.6677,    203.0,2,   113.22,2,    31.75,2,     2.20,2, -999.000,9, -999.000,9, -999.000,9, -999.000,9, -999.000,9,-999.0000,9,  -999.00,9,-999.000,9,   -999.0,9,   -999.0,9,-999.0,  -999.0,-999.0000,-999.000,   0.779,-999.000,-999.000
      74JC10_1,   A23,    62,  1,   6206,      6,2,19950414,0506,-52.1993, -35.1783, 4253,   2490,   2478.3,   0.4914,  34.6855,2,  34.6857,2,    214.5,3,  0.3411,    208.5,2,   117.23,2,    32.12,2,     2.21,2,    0.264,2,    0.122,2,    0.000,2,    0.454,2, -999.000,9,-999.0000,9,  -999.00,9,-999.000,9,   -999.0,9,   -999.0,9,-999.0,  -999.0,-999.0000,-999.000,-999.000,-999.000,-999.000
      74JC10_1,   A23,    62,  1,   6205,      5,2,19950414,0506,-52.1993, -35.1783, 4253,   2990,   2979.5,   0.2977,  34.6787,2,  34.6779,2,    219.9,3,  0.1094,    214.3,2,   120.45,2,    32.15,2,     2.23,2,    0.252,2,    0.138,2,    0.001,2,    0.465,2, -999.000,9,-999.0000,9,  -999.00,9,-999.000,9,   -999.0,9,   -999.0,9,-999.0,  -999.0,-999.0000,-999.000,-999.000,-999.000,-999.000
      74JC10_1,   A23,    62,  1,   6204,      4,2,19950414,0506,-52.1993, -35.1783, 4253,   3495,   3486.0,   0.1699,  34.6738,2,  34.6718,2,    224.8,3, -0.0611,    217.5,2,   122.99,2,    32.21,2,     2.25,2,    0.222,2,    0.128,2,    0.001,2,    0.457,2, -999.000,9,-999.0000,9,  -999.00,9,-999.000,9,   -999.0,9,   -999.0,9,-999.0,  3493.0,-999.0000,-999.000,   0.160,-999.000,-999.000
      74JC10_1,   A23,    62,  1,   6203,      3,2,19950414,0506,-52.1993, -35.1783, 4253,   4012,   4003.6,   0.0819,  34.6697,2,  34.6673,2,    230.0,3, -0.1969,    222.4,2,   124.35,2,    32.20,2,     2.25,2,    0.249,2,    0.098,3,    0.000,2,    0.528,2, -999.000,9,-999.0000,9,  -999.00,9,-999.000,9,   -999.0,9,   -999.0,9,-999.0,  -999.0,-999.0000,-999.000,-999.000,-999.000,-999.000
      74JC10_1,   A23,    62,  1,   6201,      1,2,19950414,0506,-52.1993, -35.1783, 4253,   4290,   4282.4,  -0.0787,  34.6614,2,  34.6596,2,    235.8,3, -0.3811,    228.4,2,   130.60,2,    32.15,2,     2.25,2,    0.422,2,    0.227,2,    0.031,2,    0.665,2, -999.000,9,-999.0000,9,  -999.00,9,-999.000,9,   -999.0,9,   -999.0,9,-999.0,  4268.0,-999.0000,-999.000,  -0.107,-999.000,-999.000
      74JC10_1,   A23,    62,  1,   6202,      2,2,19950414,0506,-52.1993, -35.1783, 4253,   4290,   4282.4,  -0.0787,  34.6610,2,  34.6592,2,    235.8,3, -0.3811,    228.2,2,   129.53,2,    32.16,2,     2.23,2,    0.411,2,    0.214,2,    0.016,2,    0.703,2, -999.000,9,-999.0000,9,  -999.00,9,-999.000,9,   -999.0,9,   -999.0,9,-999.0,  -999.0,-999.0000,-999.000,-999.000,-999.000,-999.000