BOTTLE,20220810CCHSIOAMB
EXPOCODE,SECT_ID,STNNBR,CASTNO,SAMPNO,BTLNBR,BTLNBR_FLAG_W,DATE,TIME,LATITUDE,LONGITUDE,DEPTH,CTDRAW,CTDPRS,CTDTMP,CTDSAL,CTDSAL_FLAG_W,SALNTY,SALNTY_FLAG_W,CTDOXY,CTDOXY_FLAG_W,THETA,OXYGEN,OXYGEN_FLAG_W,SILCAT,SILCAT_FLAG_W,NO2+NO3,NO2+NO3_FLAG_W,PHSPHT,PHSPHT_FLAG_W,CFC-11,CFC-11_FLAG_W,CFC-12,CFC-12_FLAG_W,CFC113,CFC113_FLAG_W,CCL4,CCL4_FLAG_W,TRITUM,TRITUM_FLAG_W,HELIUM,HELIUM_FLAG_W,DELHE3,DELHE3_FLAG_W,NEON,NEON_FLAG_W,TCARBN,TCARBN_FLAG_W,PCO2,PCO2_FLAG_W,PCO2TMP,REVPRS,HELIER,TRITER,REVTMP,NEONER,DELHER
,,,,,,,,,,,,,DBAR,ITS-90,PSS-78,,PSS-78,,UMOL/KG,,DEG C,UMOL/KG,,UMOL/KG,,UMOL/KG,,UMOL/KG,,PMOL/KG,,PMOL/KG,,PMOL/KG,,PMOL/KG,,TU,,NMOL/KG,,PERCNT,,NMOL/KG,,UMOL/KG,,UATM,,DEG C,DBAR,NMOL/KG,TU,ITS-90,NMOL/KG,PERCNT
      74JC10_1,   A23,    42,  1,   4224,     11,2,19950409,1111,-58.2130, -30.8220, 4043,     21,     18.0,   1.3866,  34.0270,2,  34.0262,2,    326.6,3,  1.3858,    318.0,2,    36.17,2,    23.24,2,     1.52,2, -999.000,9, -999.000,9, -999.000,9, -999.000,9, -999.000,9,-999.0000,9,  -999.00,9,-999.000,9,   -999.0,9,   -999.0,9,-999.0,  -999.0,-999.0000,-999.000,-999.000,-999.000,-999.000
      74JC10_1,   A23,    42,  1,   4223,     23,2,19950409,1111,-58.2130, -30.8220, 4043,     21,     18.1,   1.3855,  34.0268,2,  34.0270,2,    326.6,3,  1.3847,    318.7,2,    36.03,2,    23.20,2,     1.53,2, -999.000,9, -999.000,9, -999.000,9, -999.000,9, -999.000,9,-999.0000,9,  -999.00,9,-999.000,9,   -999.0,9,   -999.0,9,-999.0,  -999.0,-999.0000,-999.000,-999.000,-999.000,-999.000
      74JC10_1,   A23,    42,  1,   4222,     25,2,19950409,1111,-58.2130, -30.8220, 4043,     62,     59.0,   1.3831,  34.0298,2,  34.0272,2,    326.9,3,  1.3804,    317.3,2,    36.27,2,    23.42,2,     1.58,2, -999.000,9, -999.000,9, -999.000,9, -999.000,9, -999.000,9,-999.0000,9,  -999.00,9,-999.000,9,   -999.0,9,   -999.0,9,-999.0,  -999.0,-999.0000,-999.000,-999.000,-999.000,-999.000
      74JC10_1,   A23,    42,  1,   4221,     21,2,19950409,1111,-58.2130, -30.8220, 4043,    112,    108.2,   0.7151,  34.2891,2,  34.2821,2,    267.8,3,  0.7106,    248.3,2,    63.00,2,    31.44,2,     2.09,2, -999.000,9, -999.000,9, -999.000,9, -999.000,9, -999.000,9,-999.0000,9,  -999.00,9,-999.000,9,   -999.0,9,   -999.0,9,-999.0,  -999.0,-999.0000,-999.000,-999.000,-999.000,-999.000
      74JC10_1,   A23,    42,  1,   4220,      7,2,19950409,1111,-58.2130, -30.8220, 4043,    160,    156.0,   1.2256,  34.4169,2,  34.4178,2,    220.4,3,  1.2183,    211.3,2,    71.70,2,    33.13,2,     2.25,2, -999.000,9, -999.000,9, -999.000,9, -999.000,9, -999.000,9,-999.0000,9,  -999.00,9,-999.000,9,   -999.0,9,   -999.0,9,-999.0,  -999.0,-999.0000,-999.000,   1.172,-999.000,-999.000
      74JC10_1,   A23,    42,  1,   4219,     19,2,19950409,1111,-58.2130, -30.8220, 4043,    210,    205.1,   1.1796,  34.4794,2,  34.4734,2,    214.4,3,  1.1701,    207.4,2,    76.63,2,    32.87,2,     2.22,2, -999.000,9, -999.000,9, -999.000,9, -999.000,9, -999.000,9,-999.0000,9,  -999.00,9,-999.000,9,   -999.0,9,   -999.0,9,-999.0,  -999.0,-999.0000,-999.000,-999.000,-999.000,-999.000
      74JC10_1,   A23,    42,  1,   4218,     18,2,19950409,1111,-58.2130, -30.8220, 4043,    259,    253.3,   1.0625,  34.5191,2,  34.5188,2,    215.9,3,  1.0508,    205.3,2,    80.40,2,    32.73,2,     2.21,2, -999.000,9, -999.000,9, -999.000,9, -999.000,9, -999.000,9,-999.0000,9,  -999.00,9,-999.000,9,   -999.0,9,   -999.0,9,-999.0,  -999.0,-999.0000,-999.000,-999.000,-999.000,-999.000
      74JC10_1,   A23,    42,  1,   4217,     17,2,19950409,1111,-58.2130, -30.8220, 4043,    362,    355.2,   1.3117,  34.6176,2,  34.6187,2,    201.6,3,  1.2942,    193.4,2,    85.61,2,    32.22,2,     2.15,2, -999.000,9, -999.000,9, -999.000,9, -999.000,9, -999.000,9,-999.0000,9,  -999.00,9,-999.000,9,   -999.0,9,   -999.0,9,-999.0,  -999.0,-999.0000,-999.000,-999.000,-999.000,-999.000
      74JC10_1,   A23,    42,  1,   4215,     15,2,19950409,1111,-58.2130, -30.8220, 4043,    512,    503.9,   1.2115,  34.6550,2,  34.6590,2,    200.8,3,  1.1864,    194.1,2,    92.08,2,    31.74,2,     2.13,2, -999.000,9, -999.000,9, -999.000,9, -999.000,9, -999.000,9,-999.0000,9,  -999.00,9,-999.000,9,   -999.0,9,   -999.0,9,-999.0,  -999.0,-999.0000,-999.000,-999.000,-999.000,-999.000
      74JC10_1,   A23,    42,  1,   4216,     16,2,19950409,1111,-58.2130, -30.8220, 4043,    512,    503.9,   1.2115,  34.6550,2,  34.6590,2,    200.8,3,  1.1864,    194.5,2,    91.41,2,    31.74,2,     2.14,2, -999.000,9, -999.000,9, -999.000,9, -999.000,9, -999.000,9,-999.0000,9,  -999.00,9,-999.000,9,   -999.0,9,   -999.0,9,-999.0,  -999.0,-999.0000,-999.000,-999.000,-999.000,-999.000
      74JC10_1,   A23,    42,  1,   4214,     14,2,19950409,1111,-58.2130, -30.8220, 4043,    758,    748.5,   1.1754,  34.6953,2,  34.6967,2,    201.2,3,  1.1368,    193.8,2,   100.35,2,    31.44,2,     2.11,2, -999.000,9, -999.000,9, -999.000,9, -999.000,9, -999.000,9,-999.0000,9,  -999.00,9,-999.000,9,   -999.0,9,   -999.0,9,-999.0,  -999.0,-999.0000,-999.000,-999.000,-999.000,-999.000
      74JC10_1,   A23,    42,  1,   4213,     13,2,19950409,1111,-58.2130, -30.8220, 4043,   1007,    995.5,   0.9225,  34.6962,2,  34.6971,2,    204.1,3,  0.8710,    198.6,2,   106.63,2,    31.34,2,     2.09,2, -999.000,9, -999.000,9, -999.000,9, -999.000,9, -999.000,9,-999.0000,9,  -999.00,9,-999.000,9,   -999.0,9,   -999.0,9,-999.0,  -999.0,-999.0000,-999.000,-999.000,-999.000,-999.000
      74JC10_1,   A23,    42,  1,   4212,     12,2,19950409,1111,-58.2130, -30.8220, 4043,   1253,   1241.3,   0.6339,  34.6844,2,  34.6855,2,    210.0,3,  0.5700,    203.8,2,   110.65,2,    31.70,2,     2.11,2, -999.000,9, -999.000,9, -999.000,9, -999.000,9, -999.000,9,-999.0000,9,  -999.00,9,-999.000,9,   -999.0,9,   -999.0,9,-999.0,  -999.0,-999.0000,-999.000,-999.000,-999.000,-999.000
      74JC10_1,   A23,    42,  1,   4211,     24,2,19950409,1111,-58.2130, -30.8220, 4043,   1507,   1494.3,   0.5378,  34.6855,2,  34.6865,2,    211.0,3,  0.4589,    205.6,2,   113.26,2,    31.67,2,     2.12,2, -999.000,9, -999.000,9, -999.000,9, -999.000,9, -999.000,9,-999.0000,9,  -999.00,9,-999.000,9,   -999.0,9,   -999.0,9,-999.0,  -999.0,-999.0000,-999.000,-999.000,-999.000,-999.000
      74JC10_1,   A23,    42,  1,   4210,     10,2,19950409,1111,-58.2130, -30.8220, 4043,   1763,   1750.6,   0.4078,  34.6798,2,  34.6800,2,    212.6,3,  0.3134,    207.6,2,   114.81,2,    31.72,2,     2.15,2, -999.000,9, -999.000,9, -999.000,9, -999.000,9, -999.000,9,-999.0000,9,  -999.00,9,-999.000,9,   -999.0,9,   -999.0,9,-999.0,  -999.0,-999.0000,-999.000,-999.000,-999.000,-999.000
      74JC10_1,   A23,    42,  1,   4209,      9,2,19950409,1111,-58.2130, -30.8220, 4043,   2015,   2002.5,   0.2919,  34.6753,2,  34.6767,2,    217.8,3,  0.1814,    211.1,2,   116.11,2,    31.87,2,     2.13,2, -999.000,9, -999.000,9, -999.000,9, -999.000,9, -999.000,9,-999.0000,9,  -999.00,9,-999.000,9,   -999.0,9,   -999.0,9,-999.0,  -999.0,-999.0000,-999.000,-999.000,-999.000,-999.000
      74JC10_1,   A23,    42,  1,   4208,      8,2,19950409,1111,-58.2130, -30.8220, 4043,   2511,   2499.9,   0.1069,  34.6690,2,  34.6694,2,    222.5,3, -0.0377,    216.6,2,   118.05,2,    31.94,2,     2.18,2, -999.000,9, -999.000,9, -999.000,9, -999.000,9, -999.000,9,-999.0000,9,  -999.00,9,-999.000,9,   -999.0,9,   -999.0,9,-999.0,  -999.0,-999.0000,-999.000,-999.000,-999.000,-999.000
      74JC10_1,   A23,    42,  1,   4207,     26,2,19950409,1111,-58.2130, -30.8220, 4043,   3013,   3002.6,  -0.0110,  34.6634,2,  34.6627,2,    228.4,3, -0.1943,    222.7,2,   118.67,2,    31.78,2,     2.15,2, -999.000,9, -999.000,9, -999.000,9, -999.000,9, -999.000,9,-999.0000,9,  -999.00,9,-999.000,9,   -999.0,9,   -999.0,9,-999.0,  -999.0,-999.0000,-999.000,  -0.014,-999.000,-999.000
      74JC10_1,   A23,    42,  1,   4206,      6,2,19950409,1111,-58.2130, -30.8220, 4043,   3514,   3504.7,  -0.0245,  34.6613,2,  34.6608,2,    231.9,3, -0.2521,    224.4,2,   120.37,2,    31.78,2,     2.15,2, -999.000,9, -999.000,9, -999.000,9, -999.000,9, -999.000,9,-999.0000,9,  -999.00,9,-999.000,9,   -999.0,9,   -999.0,9,-999.0,  -999.0,-999.0000,-999.000,-999.000,-999.000,-999.000
      74JC10_1,   A23,    42,  1,   4205,      5,2,19950409,1111,-58.2130, -30.8220, 4043,   3814,   3805.6,  -0.0082,  34.6612,2,  34.6596,2,    232.3,3, -0.2648,    224.6,2,   120.85,2,    32.06,2,     2.19,3,    0.525,2,    0.255,2,    0.035,2,    0.756,2, -999.000,9,-999.0000,9,  -999.00,9,-999.000,9,   -999.0,9,   -999.0,9,-999.0,  -999.0,-999.0000,-999.000,-999.000,-999.000,-999.000
      74JC10_1,   A23,    42,  1,   4204,      4,2,19950409,1111,-58.2130, -30.8220, 4043,   4039,   4030.2,  -0.0025,  34.6601,2,  34.6596,2,    233.1,3, -0.2815,    225.6,2,   122.06,2,    31.82,2,     2.14,2,    0.528,2,    0.269,2,    0.016,2,    0.740,2, -999.000,9,-999.0000,9,  -999.00,9,-999.000,9,   -999.0,9,   -999.0,9,-999.0,  4041.0,-999.0000,-999.000,  -0.010,-999.000,-999.000
      74JC10_1,   A23,    42,  1,   4202,      2,2,19950409,1111,-58.2130, -30.8220, 4043,   4041,   4032.8,  -0.0033,  34.6605,2,  34.6600,2,    233.2,3, -0.2825,    225.7,2,   121.39,2,    31.75,2,     2.15,2, -999.000,9, -999.000,9, -999.000,9, -999.000,9, -999.000,9,-999.0000,9,  -999.00,9,-999.000,9,   -999.0,9,   -999.0,9,-999.0,  -999.0,-999.0000,-999.000,-999.000,-999.000,-999.000
      74JC10_1,   A23,    42,  1,   4203,      3,2,19950409,1111,-58.2130, -30.8220, 4043,   4041,   4032.8,  -0.0033,  34.6605,2,  34.6600,2,    233.2,3, -0.2825,    223.2,2,   122.21,4,    31.93,2,     2.15,2,    0.526,2,    0.258,2,    0.024,2,    0.782,2, -999.000,9,-999.0000,9,  -999.00,9,-999.000,9,   -999.0,9,   -999.0,9,-999.0,  -999.0,-999.0000,-999.000,-999.000,-999.000,-999.000
      74JC10_1,   A23,    42,  1,   4201,      1,2,19950409,1111,-58.2130, -30.8220, 4043,   4042,   4033.7,  -0.0029,  34.6603,2,  34.6600,2,    233.1,3, -0.2822,    219.9,3,   120.27,4,    31.76,2,     2.15,2,    0.541,2,    0.262,2,    0.032,2,    0.765,2, -999.000,9,-999.0000,9,  -999.00,9,-999.000,9,   -999.0,9,   -999.0,9,-999.0,  4019.0,-999.0000,-999.000,  -0.009,-999.000,-999.000
      74JC10_1,   A23,    43,  1,   4318,     18,2,19950410,1230,-57.8015, -30.8327, 3606,     15,     12.6,   1.0350,  33.9835,2,  33.9826,2,    330.2,3,  1.0344,    324.3,2,    43.53,2,    25.38,3,     1.55,2,    5.432,2,    2.768,2,    0.537,2,    5.512,2,    0.142,2,   1.7880,2,    -1.03,2,   7.973,2,   -999.0,9,   -999.0,9,-999.0,  -999.0,  0.0070,   0.026,-999.000,   0.025,   0.300
      74JC10_1,   A23,    43,  1,   4319,     19,2,19950410,1230,-57.8015, -30.8327, 3606,     15,     12.7,   1.0368,  33.9838,2,  33.9845,2,    330.2,3,  1.0362,    323.0,2,    43.53,2,    22.49,2,     1.54,2,    5.373,2,    2.693,2,    0.518,2,    5.596,2, -999.000,9,-999.0000,9,  -999.00,9,-999.000,9,   -999.0,9,   -999.0,9,-999.0,  -999.0,-999.0000,-999.000,-999.000,-999.000,-999.000
      74JC10_1,   A23,    43,  1,   4317,     17,2,19950410,1230,-57.8015, -30.8327, 3606,     57,     54.5,   1.0944,  34.0027,2,  34.0017,2,    333.8,3,  1.0920,    321.0,2,    43.68,2,    22.73,2,     1.59,2,    5.312,2,    2.705,2,    0.537,2,    5.365,2,    0.124,2,   1.7880,2,    -0.99,2,   7.982,2,   -999.0,9,   -999.0,9,-999.0,  -999.0,  0.0070,   0.005,-999.000,   0.025,   0.300
      74JC10_1,   A23,    43,  1,   4316,     16,2,19950410,1230,-57.8015, -30.8327, 3606,    106,    102.4,   0.9470,  34.1036,2,  34.0946,2,    279.7,3,  0.9425,    306.0,2,    48.18,2,    24.92,2,     1.71,2,    4.989,2,    2.542,2,    0.491,2,    4.947,2, -999.000,9,-999.0000,9,  -999.00,9,-999.000,9,   -999.0,9,   -999.0,9,-999.0,  -999.0,-999.0000,-999.000,-999.000,-999.000,-999.000
      74JC10_1,   A23,    43,  1,   4315,     15,2,19950410,1230,-57.8015, -30.8327, 3606,    156,    152.0,   0.3723,  34.3786,2,  34.3739,2,    232.1,3,  0.3664,    244.2,2,    74.59,2,    32.05,2,     2.19,2,    3.307,2,    1.587,2,    0.302,2,    3.089,2,    0.070,2,   1.8080,2,     3.50,2,   8.037,2,   -999.0,9,   -999.0,9,-999.0,  -999.0,  0.0070,   0.015,-999.000,   0.025,   0.300
      74JC10_1,   A23,    43,  1,   4314,     14,2,19950410,1230,-57.8015, -30.8327, 3606,    205,    199.9,   1.0217,  34.4906,2,  34.4917,2,    219.2,3,  1.0126,    209.8,2,    80.03,2,    32.96,2,     2.25,2,    1.996,2,    0.972,2,    0.178,2,    1.991,2, -999.000,9,-999.0000,9,  -999.00,9,-999.000,9,   -999.0,9,   -999.0,9,-999.0,  -999.0,-999.0000,-999.000,-999.000,-999.000,-999.000
      74JC10_1,   A23,    43,  1,   4313,     13,2,19950410,1230,-57.8015, -30.8327, 3606,    257,    251.1,   1.0468,  34.5318,2,  34.5327,2,    215.2,3,  1.0352,    205.0,2,    83.58,2,    32.75,2,     2.25,2, -999.000,9, -999.000,9, -999.000,9, -999.000,9, -999.000,5,   1.8360,2,     6.28,2,   8.030,2,   -999.0,9,   -999.0,9,-999.0,  -999.0,  0.0070,-999.000,-999.000,   0.025,   0.300
      74JC10_1,   A23,    43,  1,   4312,     12,2,19950410,1230,-57.8015, -30.8327, 3606,    355,    347.7,   1.0730,  34.5976,2,  34.5981,2,    205.3,3,  1.0566,    201.2,2,    88.92,2,    32.10,2,     2.21,2,    1.309,2,    0.653,2,    0.107,2,    1.317,2, -999.000,9,-999.0000,9,  -999.00,9,-999.000,9,   -999.0,9,   -999.0,9,-999.0,  -999.0,-999.0000,-999.000,-999.000,-999.000,-999.000
      74JC10_1,   A23,    43,  1,   4311,     24,2,19950410,1230,-57.8015, -30.8327, 3606,    504,    496.0,   1.3125,  34.6708,2,  34.6718,2,    199.2,3,  1.2874,    192.7,2,    95.74,2,    31.69,2,     2.16,2,    0.608,2,    0.312,2,    0.041,2,    0.646,2,    0.060,2,   1.8380,2,     9.52,2,-999.000,9,   -999.0,9,   -999.0,9,-999.0,  -999.0,  0.0070,-999.000,-999.000,-999.000,   0.300
      74JC10_1,   A23,    43,  1,   4310,     10,2,19950410,1230,-57.8015, -30.8327, 3606,    757,    747.2,   1.1644,  34.7006,2,  34.7015,2,    202.9,3,  1.1259,    187.8,3,   104.05,2,    31.53,2,     2.14,2,    0.283,2,    0.145,2,    0.006,2,    0.343,2, -999.000,9,   1.8540,2,    10.18,2,   8.127,2,   -999.0,9,   -999.0,9,-999.0,  -999.0,  0.0070,-999.000,-999.000,   0.025,   0.300
      74JC10_1,   A23,    43,  1,   4309,      9,2,19950410,1230,-57.8015, -30.8327, 3606,   1005,    993.6,   0.8996,  34.6971,2,  34.6973,2,    207.1,3,  0.8484,    199.5,2,   109.03,2,    31.54,2,     2.16,2,    0.341,2,    0.176,2,    0.003,2,    0.400,2,    0.109,3,   1.8530,2,     9.42,2,   8.053,2,   -999.0,9,   -999.0,9,-999.0,  -999.0,  0.0070,   0.011,-999.000,   0.025,   0.300
      74JC10_1,   A23,    43,  1,   4308,      8,2,19950410,1230,-57.8015, -30.8327, 3606,   1258,   1245.7,   0.6682,  34.6890,2,  34.6889,2,    209.9,3,  0.6037,    202.3,2,   110.59,2,    31.62,2,     2.14,2,    0.351,2,    0.183,2,    0.019,2,    0.452,2,    0.035,2,   1.8840,2,     8.97,2,   8.146,2,   -999.0,9,   -999.0,9,-999.0,  -999.0,  0.0070,   0.006,-999.000,   0.025,   0.300
      74JC10_1,   A23,    43,  1,   4307,     26,2,19950410,1230,-57.8015, -30.8327, 3606,   1507,   1494.4,   0.5280,  34.6863,2,  34.6863,2,    212.2,3,  0.4492,    206.1,2,   113.22,2,    31.72,2,     2.17,2,    0.369,2,    0.190,2,    0.020,2,    0.457,2,    0.021,2,   1.8710,2,     9.49,2,-999.000,9,   -999.0,9,   -999.0,9,-999.0,  -999.0,  0.0070,-999.000,   0.521,-999.000,   0.300
      74JC10_1,   A23,    43,  1,   4306,      6,2,19950410,1230,-57.8015, -30.8327, 3606,   1759,   1746.7,   0.3879,  34.6792,2,  34.6806,2,    215.0,3,  0.2939,    209.1,2,   115.66,2,    31.83,2,     2.18,2,    0.355,2,    0.192,2,    0.011,2,    0.453,2, -999.000,9,-999.0000,9,  -999.00,9,-999.000,9,   -999.0,9,   -999.0,9,-999.0,  -999.0,-999.0000,-999.000,-999.000,-999.000,-999.000
      74JC10_1,   A23,    43,  1,   4305,      5,2,19950410,1230,-57.8015, -30.8327, 3606,   2007,   1995.0,   0.2678,  34.6755,2,  34.6753,2,    217.6,3,  0.1583,    211.4,2,   117.03,2,    32.04,2,     2.22,3,    0.346,2,    0.179,2,    0.025,2,    0.460,2, -999.000,1,-999.0000,9,  -999.00,9,-999.000,9,   -999.0,9,   -999.0,9,-999.0,  -999.0,-999.0000,-999.000,-999.000,-999.000,-999.000
      74JC10_1,   A23,    43,  1,   4304,      4,2,19950410,1230,-57.8015, -30.8327, 3606,   2506,   2494.5,   0.0772,  34.6673,2,  34.6669,2,    223.6,3, -0.0665,    218.6,2,   119.18,2,    32.15,2,     2.18,2,    0.395,2,    0.212,2,    0.010,2,    0.489,2,    0.034,2,   1.8640,2,     7.58,2,   8.162,2,   -999.0,9,   -999.0,9,-999.0,  2502.0,  0.0070,   0.011,   0.069,   0.025,   0.300
      74JC10_1,   A23,    43,  1,   4303,      3,2,19950410,1230,-57.8015, -30.8327, 3606,   3007,   2997.5,  -0.0369,  34.6621,2,  34.6612,2,    229.0,3, -0.2192,    223.3,2,   120.74,2,    31.96,2,     2.18,2,    0.425,2,    0.223,2,    0.021,2,    0.550,2,    0.044,2,   1.8750,2,     6.66,2,   8.205,2,   -999.0,9,   -999.0,9,-999.0,  -999.0,  0.0070,   0.010,-999.000,   0.025,   0.300
      74JC10_1,   A23,    43,  1,   4301,      1,2,19950410,1230,-57.8015, -30.8327, 3606,   3615,   3606.0,  -0.0491,  34.6602,2,  34.6602,2,    231.1,3, -0.2855,    227.0,3,   122.89,2,    31.82,2,     2.15,2,    0.515,2,    0.251,2,    0.010,2,    0.570,2,    0.027,2,   1.8670,2,     8.15,2,   8.200,2,   -999.0,9,   -999.0,9,-999.0,  3587.0,  0.0070,   0.038,  -0.056,   0.025,   0.300
      74JC10_1,   A23,    43,  1,   4302,      2,2,19950410,1230,-57.8015, -30.8327, 3606,   3616,   3607.0,  -0.0491,  34.6615,2,  34.6590,2,    231.1,3, -0.2857,    225.3,2,   122.50,2,    31.91,2,     2.16,2,    0.489,2,    0.260,2,    0.033,2,    0.585,2, -999.000,9,-999.0000,9,  -999.00,9,-999.000,9,   -999.0,9,   -999.0,9,-999.0,  -999.0,-999.0000,-999.000,-999.000,-999.000,-999.000