BOTTLE,20220810CCHSIOAMB
EXPOCODE,SECT_ID,STNNBR,CASTNO,SAMPNO,BTLNBR,BTLNBR_FLAG_W,DATE,TIME,LATITUDE,LONGITUDE,DEPTH,CTDRAW,CTDPRS,CTDTMP,CTDSAL,CTDSAL_FLAG_W,SALNTY,SALNTY_FLAG_W,CTDOXY,CTDOXY_FLAG_W,THETA,OXYGEN,OXYGEN_FLAG_W,SILCAT,SILCAT_FLAG_W,NO2+NO3,NO2+NO3_FLAG_W,PHSPHT,PHSPHT_FLAG_W,CFC-11,CFC-11_FLAG_W,CFC-12,CFC-12_FLAG_W,CFC113,CFC113_FLAG_W,CCL4,CCL4_FLAG_W,TRITUM,TRITUM_FLAG_W,HELIUM,HELIUM_FLAG_W,DELHE3,DELHE3_FLAG_W,NEON,NEON_FLAG_W,TCARBN,TCARBN_FLAG_W,PCO2,PCO2_FLAG_W,PCO2TMP,REVPRS,HELIER,TRITER,REVTMP,NEONER,DELHER
,,,,,,,,,,,,,DBAR,ITS-90,PSS-78,,PSS-78,,UMOL/KG,,DEG C,UMOL/KG,,UMOL/KG,,UMOL/KG,,UMOL/KG,,PMOL/KG,,PMOL/KG,,PMOL/KG,,PMOL/KG,,TU,,NMOL/KG,,PERCNT,,NMOL/KG,,UMOL/KG,,UATM,,DEG C,DBAR,NMOL/KG,TU,ITS-90,NMOL/KG,PERCNT
      74JC10_1,   A23,    47,  1,   4721,     21,2,19950411,1401,-56.3810, -32.8728, 3176,     10,      7.5,   1.6412,  34.0130,2,  34.0139,2,    329.3,3,  1.6409,    316.3,2,    42.04,2,    24.27,2,     1.67,2, -999.000,9, -999.000,9, -999.000,9, -999.000,9, -999.000,9,-999.0000,9,  -999.00,9,-999.000,9,   -999.0,9,   -999.0,9,-999.0,  -999.0,-999.0000,-999.000,-999.000,-999.000,-999.000
      74JC10_1,   A23,    47,  1,   4722,     25,2,19950411,1401,-56.3810, -32.8728, 3176,     11,      8.6,   1.6419,  34.0125,2,  34.0127,2,    328.6,3,  1.6415,    316.8,2,    41.86,2,    24.16,2,     1.67,2, -999.000,9, -999.000,9, -999.000,9, -999.000,9, -999.000,9,-999.0000,9,  -999.00,9,-999.000,9,   -999.0,9,   -999.0,9,-999.0,  -999.0,-999.0000,-999.000,-999.000,-999.000,-999.000
      74JC10_1,   A23,    47,  1,   4720,     27,2,19950411,1401,-56.3810, -32.8728, 3176,     57,     53.6,   1.5204,  34.0215,2,  34.0217,2,    322.7,3,  1.5179,    316.8,2,    44.24,2,    24.17,2,     1.68,2, -999.000,9, -999.000,9, -999.000,9, -999.000,9, -999.000,9,-999.0000,9,  -999.00,9,-999.000,9,   -999.0,9,   -999.0,9,-999.0,  -999.0,-999.0000,-999.000,   1.516,-999.000,-999.000
      74JC10_1,   A23,    47,  1,   4719,     19,2,19950411,1401,-56.3810, -32.8728, 3176,    109,    105.0,   1.2781,  34.0796,2,  34.0978,2,    317.6,3,  1.2733,    297.0,2,    51.47,2,    26.47,2,     1.81,2, -999.000,9, -999.000,9, -999.000,9, -999.000,9, -999.000,9,-999.0000,9,  -999.00,9,-999.000,9,   -999.0,9,   -999.0,9,-999.0,  -999.0,-999.0000,-999.000,-999.000,-999.000,-999.000
      74JC10_1,   A23,    47,  1,   4718,     18,2,19950411,1401,-56.3810, -32.8728, 3176,    159,    154.3,   0.8117,  34.3301,2,  34.3256,2,    246.7,3,  0.8051,    232.1,2,    66.69,2,    32.69,2,     2.24,2, -999.000,9, -999.000,9, -999.000,9, -999.000,9, -999.000,9,-999.0000,9,  -999.00,9,-999.000,9,   -999.0,9,   -999.0,9,-999.0,  -999.0,-999.0000,-999.000,-999.000,-999.000,-999.000
      74JC10_1,   A23,    47,  1,   4717,     17,2,19950411,1401,-56.3810, -32.8728, 3176,    208,    203.3,   1.2604,  34.4302,2,  34.4336,2,    216.4,3,  1.2508,    205.0,2,    73.35,2,    33.24,2,     2.30,2, -999.000,9, -999.000,9, -999.000,9, -999.000,9, -999.000,9,-999.0000,9,  -999.00,9,-999.000,9,   -999.0,9,   -999.0,9,-999.0,  -999.0,-999.0000,-999.000,-999.000,-999.000,-999.000
      74JC10_1,   A23,    47,  1,   4716,     16,2,19950411,1401,-56.3810, -32.8728, 3176,    257,    251.3,   1.1228,  34.4728,2,  34.4716,2,    205.4,3,  1.1111,    207.2,2,    77.22,2,    33.20,2,     2.28,2, -999.000,9, -999.000,9, -999.000,9, -999.000,9, -999.000,9,-999.0000,9,  -999.00,9,-999.000,9,   -999.0,9,   -999.0,9,-999.0,  -999.0,-999.0000,-999.000,-999.000,-999.000,-999.000
      74JC10_1,   A23,    47,  1,   4715,     15,2,19950411,1401,-56.3810, -32.8728, 3176,    357,    350.0,   1.6811,  34.5921,2,  34.5924,2,    186.5,3,  1.6628,    182.9,2,    81.44,2,    32.97,2,     2.26,2, -999.000,9, -999.000,9, -999.000,9, -999.000,9, -999.000,9,-999.0000,9,  -999.00,9,-999.000,9,   -999.0,9,   -999.0,9,-999.0,  -999.0,-999.0000,-999.000,-999.000,-999.000,-999.000
      74JC10_1,   A23,    47,  1,   4714,     14,2,19950411,1401,-56.3810, -32.8728, 3176,    505,    497.0,   1.5772,  34.6457,2,  34.6460,2,    189.3,3,  1.5511,    185.0,2,    86.41,2,    32.11,2,     2.23,2, -999.000,9, -999.000,9, -999.000,9, -999.000,9, -999.000,9,-999.0000,9,  -999.00,9,-999.000,9,   -999.0,9,   -999.0,9,-999.0,  -999.0,-999.0000,-999.000,-999.000,-999.000,-999.000
      74JC10_1,   A23,    47,  1,   4713,     13,2,19950411,1401,-56.3810, -32.8728, 3176,    607,    598.4,   1.5771,  34.6675,2,  34.6702,2,    191.7,3,  1.5450,    184.2,2,    89.19,2,    31.93,2,     2.21,2, -999.000,9, -999.000,9, -999.000,9, -999.000,9, -999.000,9,   1.8370,2,    10.61,2,   8.013,2,   -999.0,9,   -999.0,9,-999.0,  -999.0,  0.0070,-999.000,-999.000,   0.025,   0.300
      74JC10_1,   A23,    47,  1,   4712,     12,2,19950411,1401,-56.3810, -32.8728, 3176,    759,    749.3,   1.2553,  34.6648,2,  34.6645,2,    200.9,3,  1.2161,    194.6,2,    92.02,2,    31.61,2,     2.17,2, -999.000,9, -999.000,9, -999.000,9, -999.000,9, -999.000,9,-999.0000,9,  -999.00,9,-999.000,9,   -999.0,9,   -999.0,9,-999.0,  -999.0,-999.0000,-999.000,-999.000,-999.000,-999.000
      74JC10_1,   A23,    47,  1,   4711,     24,2,19950411,1401,-56.3810, -32.8728, 3176,    905,    894.0,   1.1321,  34.6793,2,  34.6800,2,    202.9,3,  1.0851,    197.0,2,    96.77,2,    31.42,2,     2.15,2, -999.000,9, -999.000,9, -999.000,9, -999.000,9, -999.000,9,-999.0000,9,  -999.00,9,-999.000,9,   -999.0,9,   -999.0,9,-999.0,  -999.0,-999.0000,-999.000,-999.000,-999.000,-999.000
      74JC10_1,   A23,    47,  1,   4709,      9,2,19950411,1401,-56.3810, -32.8728, 3176,   1006,    994.5,   1.1074,  34.6901,2,  34.6903,2,    202.6,3,  1.0545,    196.4,2,    99.95,2,    31.46,2,     2.15,2, -999.000,9, -999.000,9, -999.000,9, -999.000,9, -999.000,9,   1.7880,2,    10.18,2,   7.785,3,   -999.0,9,   -999.0,9,-999.0,  -999.0,  0.0070,-999.000,-999.000,   0.024,   0.300
      74JC10_1,   A23,    47,  1,   4710,     10,2,19950411,1401,-56.3810, -32.8728, 3176,   1006,    995.0,   1.1070,  34.6895,2,  34.6895,2,    202.6,3,  1.0541,    196.7,2,    99.46,2,    31.40,2,     2.20,2, -999.000,9, -999.000,9, -999.000,9, -999.000,9, -999.000,9,-999.0000,9,  -999.00,9,-999.000,9,   -999.0,9,   -999.0,9,-999.0,  -999.0,-999.0000,-999.000,-999.000,-999.000,-999.000
      74JC10_1,   A23,    47,  1,   4708,      8,2,19950411,1401,-56.3810, -32.8728, 3176,   1260,   1248.8,   0.7842,  34.6834,2,  34.6832,2,    205.1,3,  0.7184,    201.6,2,   105.61,2,    31.56,2,     2.16,2, -999.000,9, -999.000,9, -999.000,9, -999.000,9, -999.000,9,-999.0000,9,  -999.00,9,-999.000,9,   -999.0,9,   -999.0,9,-999.0,  -999.0,-999.0000,-999.000,-999.000,-999.000,-999.000
      74JC10_1,   A23,    47,  1,   4707,     26,2,19950411,1401,-56.3810, -32.8728, 3176,   1505,   1493.4,   0.6679,  34.6873,2,  34.6855,2,    207.9,3,  0.5874,    203.4,2,   109.22,2,    31.60,2,     2.19,2, -999.000,9, -999.000,9, -999.000,9, -999.000,9, -999.000,9,   1.8340,3,     8.64,3,-999.000,9,   -999.0,9,   -999.0,9,-999.0,  -999.0,  0.0070,-999.000,   0.662,-999.000,   0.300
      74JC10_1,   A23,    47,  1,   4706,      6,2,19950411,1401,-56.3810, -32.8728, 3176,   1761,   1749.6,   0.5481,  34.6874,2,  34.6879,2,    210.2,3,  0.4518,    206.7,2,   114.20,2,    31.47,2,     2.17,2, -999.000,9, -999.000,9, -999.000,9, -999.000,9, -999.000,9,-999.0000,9,  -999.00,9,-999.000,9,   -999.0,9,   -999.0,9,-999.0,  -999.0,-999.0000,-999.000,-999.000,-999.000,-999.000
      74JC10_1,   A23,    47,  1,   4705,      5,2,19950411,1401,-56.3810, -32.8728, 3176,   2005,   1994.0,   0.4627,  34.6856,2,  34.6850,2,    212.8,3,  0.3501,    208.0,2,   115.18,2,    31.70,2,     2.22,2,    0.351,2,    0.174,2,    0.026,2,    0.544,2,    0.043,2,   1.8620,2,     9.35,2,   8.185,2,   -999.0,9,   -999.0,9,-999.0,  -999.0,  0.0070,   0.005,-999.000,   0.025,   0.300
      74JC10_1,   A23,    47,  1,   4704,      4,2,19950411,1401,-56.3810, -32.8728, 3176,   2508,   2497.8,   0.2038,  34.6740,2,  34.6722,2,    222.4,3,  0.0575,    215.7,2,   117.81,2,    31.68,2,     2.18,2,    0.434,2,    0.224,2,    0.024,2,    0.667,2,    0.030,2,-999.0000,5,     6.99,3,-999.000,5,   -999.0,9,   -999.0,9,-999.0,  2504.0,-999.0000,   0.006,   0.198,-999.000,   0.300
      74JC10_1,   A23,    47,  1,   4703,      3,2,19950411,1401,-56.3810, -32.8728, 3176,   3009,   3000.4,   0.0556,  34.6658,2,  34.6649,2,    229.4,3, -0.1291,    221.0,2,   119.37,2,    31.83,2,     2.20,2, -999.000,9, -999.000,9, -999.000,9, -999.000,9, -999.000,9,-999.0000,9,  -999.00,9,-999.000,9,   -999.0,9,   -999.0,9,-999.0,  -999.0,-999.0000,-999.000,-999.000,-999.000,-999.000
      74JC10_1,   A23,    47,  1,   4701,      1,2,19950411,1401,-56.3810, -32.8728, 3176,   3179,   3170.4,   0.0124,  34.6646,2,  34.6631,2,    231.8,3, -0.1860,    223.7,2,   119.96,2,    31.72,2,     2.17,2,    0.507,2,    0.259,2,    0.015,2,    0.729,2,    0.077,2,-999.0000,9,  -999.00,9,-999.000,9,   -999.0,9,   -999.0,9,-999.0,  3152.0,-999.0000,   0.004,   0.007,-999.000,-999.000
      74JC10_1,   A23,    47,  1,   4702,      2,2,19950411,1401,-56.3810, -32.8728, 3176,   3180,   3171.3,   0.0120,  34.6645,2,  34.6627,2,    231.8,3, -0.1865,    221.8,2,   120.06,2,    31.77,2,     2.20,2, -999.000,9, -999.000,9, -999.000,9, -999.000,9, -999.000,9,-999.0000,9,  -999.00,9,-999.000,9,   -999.0,9,   -999.0,9,-999.0,  -999.0,-999.0000,-999.000,-999.000,-999.000,-999.000
      74JC10_1,   A23,    48,  1,   4818,     18,2,19950411,1913,-55.9903, -33.4195, 3092,     13,     10.6,   1.7815,  33.9697,2,-999.0000,9,    329.6,3,  1.7810,    320.5,2,    38.90,2,    23.80,2,     1.98,2,    5.802,2,    2.922,2,    0.564,2,    7.114,2, -999.000,9,-999.0000,9,  -999.00,9,-999.000,9,   -999.0,9,   -999.0,9,-999.0,  -999.0,-999.0000,-999.000,-999.000,-999.000,-999.000
      74JC10_1,   A23,    48,  1,   4819,     19,2,19950411,1913,-55.9903, -33.4195, 3092,     13,     10.7,   1.7751,  33.9722,2,-999.0000,9,    329.6,3,  1.7746,    318.6,2,    38.26,2,    23.45,2,     1.64,2,    5.770,2,    2.939,2,    0.535,2,    7.261,2,    0.121,2,   1.7800,2,    -1.69,2,   7.901,2,   2144.9,6,    344.5,2,   4.0,  -999.0,  0.0070,   0.004,-999.000,   0.024,   0.300
      74JC10_1,   A23,    48,  1,   4817,     17,2,19950411,1913,-55.9903, -33.4195, 3092,     59,     55.7,   1.7609,  33.9749,2,-999.0000,9,    329.7,3,  1.7582,    320.2,2,    38.16,2,    23.55,2,     1.69,2,    5.694,2,    2.906,2,    0.522,2,    7.135,2,    0.120,2,-999.0000,9,  -999.00,9,-999.000,9,   2147.0,6,    340.4,2,   4.0,  -999.0,-999.0000,   0.004,-999.000,-999.000,-999.000
      74JC10_1,   A23,    48,  1,   4816,     16,2,19950411,1913,-55.9903, -33.4195, 3092,    106,    102.7,   1.0985,  34.0571,2,  34.0893,2,    304.7,3,  1.0939,    292.1,2,    45.43,2,    27.45,2,     1.95,2,    5.101,2,    2.450,2,    0.462,2,    5.835,2, -999.000,9,-999.0000,9,  -999.00,9,-999.000,9,   -999.0,9,   -999.0,9,-999.0,  -999.0,-999.0000,-999.000,-999.000,-999.000,-999.000
      74JC10_1,   A23,    48,  1,   4815,     15,2,19950411,1913,-55.9903, -33.4195, 3092,    159,    154.3,   1.2698,  34.3078,2,  34.3129,2,    231.7,3,  1.2626,   -999.0,5,    61.63,2,    32.82,2,     2.36,2, -999.000,9, -999.000,9, -999.000,9, -999.000,9,    0.059,2,   1.8180,2,     3.40,2,   8.019,2,   2215.4,6,    504.2,2,   4.0,  -999.0,  0.0070,   0.004,-999.000,   0.025,   0.300
      74JC10_1,   A23,    48,  1,   4814,     14,2,19950411,1913,-55.9903, -33.4195, 3092,    209,    203.5,   1.4487,  34.4004,2,  34.4004,2,    208.7,3,  1.4388,    199.6,2,    69.37,2,    33.41,2,     2.32,2,    2.033,2,    0.913,2,    0.160,2,    2.515,2, -999.000,9,-999.0000,9,  -999.00,9,-999.000,9,   -999.0,9,   -999.0,9,-999.0,  -999.0,-999.0000,-999.000,-999.000,-999.000,-999.000
      74JC10_1,   A23,    48,  1,   4813,     13,2,19950411,1913,-55.9903, -33.4195, 3092,    257,    251.4,   1.3949,  34.4409,2,  34.4469,2,    201.1,3,  1.3826,    201.8,2,    75.37,2,    33.49,2,     2.33,2,    1.846,2,    0.861,2,    0.141,2,    2.262,2,    0.037,2,   1.8260,2,     5.97,2,   8.018,2,   -999.0,9,   -999.0,9,-999.0,  -999.0,  0.0070,   0.003,-999.000,   0.025,   0.300
      74JC10_1,   A23,    48,  1,   4812,     12,2,19950411,1913,-55.9903, -33.4195, 3092,    359,    352.0,   1.6000,  34.5499,2,  34.5498,2,    191.6,3,  1.5819,    189.5,2,    80.82,2,    33.17,2,     2.31,2,    1.114,2,    0.535,2,    0.086,2,    1.496,2, -999.000,9,   1.8260,2,     7.46,2,   7.986,2,   -999.0,9,   -999.0,9,-999.0,  -999.0,  0.0070,-999.000,-999.000,   0.025,   0.300
      74JC10_1,   A23,    48,  1,   4811,     24,2,19950411,1913,-55.9903, -33.4195, 3092,    509,    501.1,   1.8682,  34.6516,2,  34.6510,2,    181.6,3,  1.8406,    176.6,2,    87.01,2,    32.45,2,     2.33,2,    0.353,2,    0.179,2,    0.025,2,    0.593,2,    0.024,2,   1.8390,2,     9.80,2,-999.000,9,   2246.1,6,    539.3,2,   4.0,  -999.0,  0.0070,-999.000,-999.000,-999.000,   0.300
      74JC10_1,   A23,    48,  1,   4810,     10,2,19950411,1913,-55.9903, -33.4195, 3092,    759,    749.6,   1.6088,  34.6935,2,  34.6930,2,    191.9,3,  1.5674,    184.4,2,    95.35,2,    31.97,2,     2.25,2,    0.297,2,    0.154,2,    0.015,2,    0.470,2,    0.024,2,   1.8530,2,    12.08,2,   8.026,2,   -999.0,9,   -999.0,9,-999.0,  -999.0,  0.0070,   0.016,-999.000,   0.025,   0.300
      74JC10_1,   A23,    48,  1,   4809,      9,2,19950411,1913,-55.9903, -33.4195, 3092,   1008,    996.9,   1.3641,  34.7068,2,  34.7070,2,    198.0,3,  1.3090,    191.1,2,   101.80,2,    32.31,2,     2.35,2,    0.241,2,    0.134,2,    0.015,2,    0.402,2, -999.000,5,   1.8470,2,    10.28,2,   8.031,2,   -999.0,9,   -999.0,9,-999.0,  -999.0,  0.0070,-999.000,-999.000,   0.025,   0.300
      74JC10_1,   A23,    48,  1,   4808,      8,2,19950411,1913,-55.9903, -33.4195, 3092,   1259,   1247.1,   1.1099,  34.7056,2,  34.7070,2,    203.3,3,  1.0409,    195.6,2,   108.54,2,    31.67,2,     2.32,2,    0.241,2,    0.131,2,    0.008,2,    0.391,2,    0.011,2,   1.8710,2,     9.75,2,   8.143,2,   -999.0,9,   -999.0,9,-999.0,  -999.0,  0.0070,   0.002,-999.000,   0.025,   0.300
      74JC10_1,   A23,    48,  1,   4807,     26,2,19950411,1913,-55.9903, -33.4195, 3092,   1506,   1494.4,   0.8484,  34.6977,2,  34.6985,2,    207.5,3,  0.7657,    200.8,2,   113.32,2,    31.68,2,     2.19,2,    0.291,2,    0.150,2,    0.012,2,    0.441,2,    0.020,2,   1.8520,2,     9.69,2,-999.000,9,   -999.0,9,   -999.0,9,-999.0,  -999.0,  0.0070,-999.000,   0.851,-999.000,   0.300
      74JC10_1,   A23,    48,  1,   4806,      6,2,19950411,1913,-55.9903, -33.4195, 3092,   1759,   1747.4,   0.6478,  34.6899,2,  34.6905,2,    211.6,3,  0.5502,    204.9,2,   116.25,2,    31.74,2,     2.24,2,    0.342,2,    0.179,2,    0.024,2,    0.517,2,    0.021,2,   1.8680,2,     9.76,2,   8.158,2,   -999.0,9,   -999.0,9,-999.0,  -999.0,  0.0070,   0.020,-999.000,   0.025,   0.300
      74JC10_1,   A23,    48,  1,   4805,      5,2,19950411,1913,-55.9903, -33.4195, 3092,   2006,   1995.1,   0.5272,  34.6843,2,  34.6851,2,    213.9,3,  0.4136,    207.3,2,   117.42,2,    31.97,2,     2.23,2,    0.360,2,    0.185,2,    0.027,2,    0.562,2,    0.022,2,   1.8630,2,     9.08,2,   8.109,2,   2249.1,3,    465.6,2,   4.0,  -999.0,  0.0070,   0.003,-999.000,   0.025,   0.300
      74JC10_1,   A23,    48,  1,   4804,      4,2,19950411,1913,-55.9903, -33.4195, 3092,   2507,   2496.4,   0.2755,  34.6757,2,  34.6751,2,    221.6,3,  0.1279,    215.3,2,   119.67,2,    32.05,2,     2.21,2,    0.401,2,    0.218,2,    0.011,2,    0.626,2, -999.000,1,   1.8580,6,     8.05,6,   8.149,6,   -999.0,9,   -999.0,9,-999.0,  2504.0,  0.0070,-999.000,   0.269,   0.025,   0.300
      74JC10_1,   A23,    48,  1,   4803,      3,2,19950411,1913,-55.9903, -33.4195, 3092,   2809,   2799.8,   0.1175,  34.6685,2,  34.6684,2,    227.0,3, -0.0515,    220.2,2,   121.42,2,    32.05,2,     2.23,2,    0.496,2,    0.259,2,    0.047,2,    0.736,2,    0.028,2,   1.8750,2,     7.41,2,   8.188,2,   2245.7,6,    461.1,2,   4.0,  -999.0,  0.0070,   0.010,-999.000,   0.025,   0.300
      74JC10_1,   A23,    48,  1,   4802,      2,2,19950411,1913,-55.9903, -33.4195, 3092,   3095,   3086.7,   0.0635,  34.6669,2,  34.6651,2,    228.2,3, -0.1288,    221.6,2,   122.40,2,    31.86,2,     2.21,2, -999.000,9, -999.000,9, -999.000,9, -999.000,9, -999.000,9,-999.0000,9,  -999.00,9,-999.000,9,   -999.0,9,   -999.0,9,-999.0,  -999.0,-999.0000,-999.000,-999.000,-999.000,-999.000
      74JC10_1,   A23,    48,  1,   4801,      1,2,19950411,1913,-55.9903, -33.4195, 3092,   3096,   3087.5,   0.0640,  34.6663,2,  34.6651,2,    228.9,3, -0.1283,    223.4,2,   122.11,2,    31.96,2,     2.21,2,    0.488,2,    0.247,2,    0.012,2,    0.752,2,    0.024,2,   1.8640,2,     6.83,2,   8.191,2,   2245.5,6,    455.6,2,   4.0,  3068.0,  0.0070,   0.004,   0.051,   0.025,   0.300