BOTTLE,20220810CCHSIOAMB
EXPOCODE,SECT_ID,STNNBR,CASTNO,SAMPNO,BTLNBR,BTLNBR_FLAG_W,DATE,TIME,LATITUDE,LONGITUDE,DEPTH,CTDRAW,CTDPRS,CTDTMP,CTDSAL,CTDSAL_FLAG_W,SALNTY,SALNTY_FLAG_W,CTDOXY,CTDOXY_FLAG_W,THETA,OXYGEN,OXYGEN_FLAG_W,SILCAT,SILCAT_FLAG_W,NO2+NO3,NO2+NO3_FLAG_W,PHSPHT,PHSPHT_FLAG_W,CFC-11,CFC-11_FLAG_W,CFC-12,CFC-12_FLAG_W,CFC113,CFC113_FLAG_W,CCL4,CCL4_FLAG_W,TRITUM,TRITUM_FLAG_W,HELIUM,HELIUM_FLAG_W,DELHE3,DELHE3_FLAG_W,NEON,NEON_FLAG_W,TCARBN,TCARBN_FLAG_W,PCO2,PCO2_FLAG_W,PCO2TMP,REVPRS,HELIER,TRITER,REVTMP,NEONER,DELHER
,,,,,,,,,,,,,DBAR,ITS-90,PSS-78,,PSS-78,,UMOL/KG,,DEG C,UMOL/KG,,UMOL/KG,,UMOL/KG,,UMOL/KG,,PMOL/KG,,PMOL/KG,,PMOL/KG,,PMOL/KG,,TU,,NMOL/KG,,PERCNT,,NMOL/KG,,UMOL/KG,,UATM,,DEG C,DBAR,NMOL/KG,TU,ITS-90,NMOL/KG,PERCNT
      74JC10_1,   A23,   116,  1,  11623,     23,2,19950502,2216,-29.6118, -37.2673, 3675,     13,      6.6,  22.4382,  35.6690,2,  35.6692,2,    215.4,3, 22.4369,    211.3,2,     4.42,2,     0.00,2,     0.01,2, -999.000,9, -999.000,9, -999.000,9, -999.000,9, -999.000,9,-999.0000,9,  -999.00,9,-999.000,9,   -999.0,9,   -999.0,9,-999.0,  -999.0,-999.0000,-999.000,-999.000,-999.000,-999.000
      74JC10_1,   A23,   116,  1,  11622,     25,2,19950502,2216,-29.6118, -37.2673, 3675,     62,     54.8,  20.8619,  35.7407,2,  35.7242,2,    232.9,3, 20.8515,    224.5,2,     4.83,2,     0.00,2,     0.05,2, -999.000,9, -999.000,9, -999.000,9, -999.000,9, -999.000,9,-999.0000,9,  -999.00,9,-999.000,9,   -999.0,9,   -999.0,9,-999.0,  -999.0,-999.0000,-999.000,-999.000,-999.000,-999.000
      74JC10_1,   A23,   116,  1,  11621,     21,2,19950502,2216,-29.6118, -37.2673, 3675,    113,    105.6,  17.1433,  35.7258,2,  35.7235,2,    227.9,3, 17.1257,    218.9,2,     5.56,2,     0.45,2,     0.20,2, -999.000,9, -999.000,9, -999.000,9, -999.000,9, -999.000,9,-999.0000,9,  -999.00,9,-999.000,9,   -999.0,9,   -999.0,9,-999.0,  -999.0,-999.0000,-999.000,-999.000,-999.000,-999.000
      74JC10_1,   A23,   116,  1,  11620,     27,2,19950502,2216,-29.6118, -37.2673, 3675,    164,    156.1,  16.0720,  35.6729,2,  35.6510,2,    215.0,3, 16.0471,    208.1,2,     6.91,2,     3.36,2,     0.36,2, -999.000,9, -999.000,9, -999.000,9, -999.000,9, -999.000,9,-999.0000,9,  -999.00,9,-999.000,9,   -999.0,9,   -999.0,9,-999.0,  -999.0,-999.0000,-999.000,  16.061,-999.000,-999.000
      74JC10_1,   A23,   116,  1,  11619,     19,2,19950502,2216,-29.6118, -37.2673, 3675,    215,    206.7,  15.4110,  35.5979,2,  35.5983,2,    213.7,3, 15.3789,    207.7,2,     8.62,2,     4.72,2,     0.45,2, -999.000,9, -999.000,9, -999.000,9, -999.000,9, -999.000,9,-999.0000,9,  -999.00,9,-999.000,9,   -999.0,9,   -999.0,9,-999.0,  -999.0,-999.0000,-999.000,-999.000,-999.000,-999.000
      74JC10_1,   A23,   116,  1,  11618,     18,2,19950502,2216,-29.6118, -37.2673, 3675,    266,    257.5,  14.6161,  35.5114,2,  35.5101,2,    214.0,3, 14.5776,    209.2,2,     4.53,2,     6.51,2,     0.49,2, -999.000,9, -999.000,9, -999.000,9, -999.000,9, -999.000,9,-999.0000,9,  -999.00,9,-999.000,9,   -999.0,9,   -999.0,9,-999.0,  -999.0,-999.0000,-999.000,-999.000,-999.000,-999.000
      74JC10_1,   A23,   116,  1,  11617,     17,2,19950502,2216,-29.6118, -37.2673, 3675,    367,    357.9,  13.1752,  35.2989,2,  35.3021,2,    212.1,3, 13.1251,    208.9,2,     5.17,2,     9.71,2,     0.68,2, -999.000,9, -999.000,9, -999.000,9, -999.000,9, -999.000,9,-999.0000,9,  -999.00,9,-999.000,9,   -999.0,9,   -999.0,9,-999.0,  -999.0,-999.0000,-999.000,-999.000,-999.000,-999.000
      74JC10_1,   A23,   116,  1,  11616,     16,2,19950502,2216,-29.6118, -37.2673, 3675,    521,    511.7,   8.8275,  34.6768,2,  34.6755,2,    211.6,3,  8.7718,    206.3,2,     9.84,2,    20.23,2,     1.33,2, -999.000,9, -999.000,9, -999.000,9, -999.000,9, -999.000,9,-999.0000,9,  -999.00,9,-999.000,9,   -999.0,9,   -999.0,9,-999.0,  -999.0,-999.0000,-999.000,-999.000,-999.000,-999.000
      74JC10_1,   A23,   116,  1,  11615,     15,2,19950502,2216,-29.6118, -37.2673, 3675,    775,    764.1,   4.2459,  34.2959,2,  34.2948,2,    228.8,3,  4.1883,    220.9,2,    25.28,2,    29.10,2,     1.94,2, -999.000,9, -999.000,9, -999.000,9, -999.000,9, -999.000,9,-999.0000,9,  -999.00,9,-999.000,9,   -999.0,9,   -999.0,9,-999.0,  -999.0,-999.0000,-999.000,-999.000,-999.000,-999.000
      74JC10_1,   A23,   116,  1,  11614,     14,2,19950502,2216,-29.6118, -37.2673, 3675,   1029,   1017.2,   3.4996,  34.3439,2,  34.3462,2,    212.9,3,  3.4268,    205.7,2,    38.32,2,    31.06,2,     2.08,2, -999.000,9, -999.000,9, -999.000,9, -999.000,9, -999.000,9,-999.0000,9,  -999.00,9,-999.000,9,   -999.0,9,   -999.0,9,-999.0,  -999.0,-999.0000,-999.000,-999.000,-999.000,-999.000
      74JC10_1,   A23,   116,  1,  11613,     13,2,19950502,2216,-29.6118, -37.2673, 3675,   1287,   1274.8,   3.1289,  34.4267,2,  34.4267,2,    199.2,3,  3.0385,    193.6,2,    47.90,2,    31.83,2,     2.14,2, -999.000,9, -999.000,9, -999.000,9, -999.000,9, -999.000,9,-999.0000,9,  -999.00,9,-999.000,9,   -999.0,9,   -999.0,9,-999.0,  -999.0,-999.0000,-999.000,-999.000,-999.000,-999.000
      74JC10_1,   A23,   116,  1,  11612,     12,2,19950502,2216,-29.6118, -37.2673, 3675,   1545,   1532.1,   2.8723,  34.5872,2,  34.5883,2,    191.6,3,  2.7633,    182.5,2,    57.22,2,    31.00,2,     2.10,2, -999.000,9, -999.000,9, -999.000,9, -999.000,9, -999.000,9,-999.0000,9,  -999.00,9,-999.000,9,   -999.0,9,   -999.0,9,-999.0,  -999.0,-999.0000,-999.000,-999.000,-999.000,-999.000
      74JC10_1,   A23,   116,  1,  11611,     24,2,19950502,2216,-29.6118, -37.2673, 3675,   1801,   1787.6,   2.8156,  34.7237,2,  34.7237,2,    202.8,3,  2.6852,    197.8,2,    53.65,2,    28.07,2,     1.91,2, -999.000,9, -999.000,9, -999.000,9, -999.000,9, -999.000,9,-999.0000,9,  -999.00,9,-999.000,9,   -999.0,9,   -999.0,9,-999.0,  -999.0,-999.0000,-999.000,-999.000,-999.000,-999.000
      74JC10_1,   A23,   116,  1,  11610,     10,2,19950502,2216,-29.6118, -37.2673, 3675,   2057,   2044.3,   2.8248,  34.8063,2,  34.8049,2,    218.3,3,  2.6714,    213.1,2,    48.56,2,    25.75,2,     1.74,2, -999.000,9, -999.000,9, -999.000,9, -999.000,9, -999.000,9,-999.0000,9,  -999.00,9,-999.000,9,   -999.0,9,   -999.0,9,-999.0,  -999.0,-999.0000,-999.000,-999.000,-999.000,-999.000
      74JC10_1,   A23,   116,  1,  11609,      9,2,19950502,2216,-29.6118, -37.2673, 3675,   2311,   2298.7,   2.8236,  34.8547,2,  34.8540,2,    230.4,3,  2.6465,    225.2,2,    43.48,2,    23.89,2,     1.56,2, -999.000,9, -999.000,9, -999.000,9, -999.000,9, -999.000,9,-999.0000,9,  -999.00,9,-999.000,9,   -999.0,9,   -999.0,9,-999.0,  -999.0,-999.0000,-999.000,-999.000,-999.000,-999.000
      74JC10_1,   A23,   116,  1,  11608,      8,2,19950502,2216,-29.6118, -37.2673, 3675,   2570,   2558.0,   2.9254,  34.9046,2,  34.9071,2,    240.8,3,  2.7213,    238.9,2,    36.11,2,    21.71,2,     1.38,2, -999.000,9, -999.000,9, -999.000,9, -999.000,9, -999.000,9,-999.0000,9,  -999.00,9,-999.000,9,   -999.0,9,   -999.0,9,-999.0,  -999.0,-999.0000,-999.000,-999.000,-999.000,-999.000
      74JC10_1,   A23,   116,  1,  11607,     26,2,19950502,2216,-29.6118, -37.2673, 3675,   2827,   2815.6,   2.8163,  34.9131,2,  34.9144,2,    250.5,3,  2.5886,    242.5,2,    35.29,2,    21.19,2,     1.35,2, -999.000,9, -999.000,9, -999.000,9, -999.000,9, -999.000,9,-999.0000,9,  -999.00,9,-999.000,9,   -999.0,9,   -999.0,9,-999.0,  -999.0,-999.0000,-999.000,   2.819,-999.000,-999.000
      74JC10_1,   A23,   116,  1,  11606,      6,2,19950502,2216,-29.6118, -37.2673, 3675,   3083,   3072.3,   2.6308,  34.9041,2,  34.9032,2,    250.8,3,  2.3808,    243.4,2,    38.63,2,    21.82,2,     1.37,2, -999.000,9, -999.000,9, -999.000,9, -999.000,9, -999.000,9,-999.0000,9,  -999.00,9,-999.000,9,   -999.0,9,   -999.0,9,-999.0,  -999.0,-999.0000,-999.000,-999.000,-999.000,-999.000
      74JC10_1,   A23,   116,  1,  11605,      5,2,19950502,2216,-29.6118, -37.2673, 3675,   3341,   3331.1,   2.3586,  34.8860,2,  34.8855,2,    251.3,3,  2.0879,    243.2,2,    47.37,2,    22.15,2,     1.41,2, -999.000,9, -999.000,9, -999.000,9, -999.000,9, -999.000,9,-999.0000,9,  -999.00,9,-999.000,9,   -999.0,9,   -999.0,9,-999.0,  -999.0,-999.0000,-999.000,-999.000,-999.000,-999.000
      74JC10_1,   A23,   116,  1,  11604,      4,2,19950502,2216,-29.6118, -37.2673, 3675,   3546,   3536.9,   2.1354,  34.8649,2,  34.8644,2,    250.2,3,  1.8484,    240.5,2,    55.20,2,    23.09,2,     1.50,2, -999.000,9, -999.000,9, -999.000,9, -999.000,9, -999.000,9,-999.0000,9,  -999.00,9,-999.000,9,   -999.0,9,   -999.0,9,-999.0,  3544.0,-999.0000,-999.000,   2.129,-999.000,-999.000
      74JC10_1,   A23,   116,  1,  11601,      1,2,19950502,2216,-29.6118, -37.2673, 3675,   3731,   3722.1,   1.8238,  34.8346,2,  34.8338,2,    241.7,3,  1.5253,    238.2,2,  -999.00,9,  -999.00,9,  -999.00,9, -999.000,9, -999.000,9, -999.000,9, -999.000,9, -999.000,9,-999.0000,9,  -999.00,9,-999.000,9,   -999.0,9,   -999.0,9,-999.0,  3704.0,-999.0000,-999.000,   1.815,-999.000,-999.000
      74JC10_1,   A23,   116,  1,  11602,      2,2,19950502,2216,-29.6118, -37.2673, 3675,   3732,   3722.4,   1.8167,  34.8333,2,  34.8330,2,    241.7,3,  1.5183,    240.8,2,    67.97,2,    24.35,2,     1.55,2, -999.000,9, -999.000,9, -999.000,9, -999.000,9, -999.000,9,-999.0000,9,  -999.00,9,-999.000,9,   -999.0,9,   -999.0,9,-999.0,  -999.0,-999.0000,-999.000,-999.000,-999.000,-999.000
      74JC10_1,   A23,   116,  1,  11603,      3,2,19950502,2216,-29.6118, -37.2673, 3675,   3732,   3722.6,   1.8196,  34.8333,2,  34.8326,2,    241.7,3,  1.5211,    236.3,2,    70.21,2,    24.63,2,     1.59,2, -999.000,9, -999.000,9, -999.000,9, -999.000,9, -999.000,9,-999.0000,9,  -999.00,9,-999.000,9,   -999.0,9,   -999.0,9,-999.0,  -999.0,-999.0000,-999.000,-999.000,-999.000,-999.000
      74JC10_1,   A23,   117,  1,  11724,     11,2,19950503,0222,-29.4408, -37.4395, 4060,     13,      6.3,  22.1760,  35.6675,2,  35.6674,2,    212.5,3, 22.1747,    213.0,2,     2.91,2,    -0.03,2,     0.00,2,    2.241,2,    1.147,2,    0.219,2,    2.222,2, -999.000,9,-999.0000,9,  -999.00,9,   7.922,2,   -999.0,9,   -999.0,9,-999.0,  -999.0,-999.0000,-999.000,-999.000,   0.025,-999.000
      74JC10_1,   A23,   117,  1,  11723,     23,2,19950503,0222,-29.4408, -37.4395, 4060,     70,     62.9,  19.9978,  35.8564,2,  35.7809,2,    237.6,3, 19.9861,    226.2,2,     2.91,2,     0.41,2,     0.05,2,    2.595,2,    1.265,2,    0.298,2,    1.805,2, -999.000,9,-999.0000,9,  -999.00,9,-999.000,9,   -999.0,9,   -999.0,9,-999.0,  -999.0,-999.0000,-999.000,-999.000,-999.000,-999.000
      74JC10_1,   A23,   117,  1,  11722,     25,2,19950503,0222,-29.4408, -37.4395, 4060,    121,    113.7,  17.0316,  35.7707,2,  35.7550,2,    228.0,3, 17.0128,    216.6,2,     3.33,2,     1.15,2,     0.21,2,    2.727,2,    1.326,2,    0.195,2,    1.237,2, -999.000,9,-999.0000,9,  -999.00,9,-999.000,9,   -999.0,9,   -999.0,9,-999.0,  -999.0,-999.0000,-999.000,-999.000,-999.000,-999.000
      74JC10_1,   A23,   117,  1,  11721,     21,2,19950503,0222,-29.4408, -37.4395, 4060,    172,    164.6,  15.8554,  35.6707,2,  35.6678,2,    213.0,3, 15.8294,    208.7,2,     3.69,2,     3.59,2,     0.36,2,    2.812,2,    1.312,2,    0.118,2,    0.910,2, -999.000,9,-999.0000,9,  -999.00,9,-999.000,9,   -999.0,9,   -999.0,9,-999.0,  -999.0,-999.0000,-999.000,-999.000,-999.000,-999.000
      74JC10_1,   A23,   117,  1,  11720,     27,2,19950503,0222,-29.4408, -37.4395, 4060,    222,    214.4,  14.7342,  35.5435,2,  35.5387,2,    213.8,3, 14.7020,    211.3,2,     4.05,2,     5.53,2,     0.54,2,    2.820,2,    1.296,2,    0.091,2,    0.855,2, -999.000,9,-999.0000,9,  -999.00,9,-999.000,9,   -999.0,9,   -999.0,9,-999.0,  -999.0,-999.0000,-999.000,  14.780,-999.000,-999.000
      74JC10_1,   A23,   117,  1,  11719,     19,2,19950503,0222,-29.4408, -37.4395, 4060,    273,    265.0,  14.1014,  35.4676,2,  35.4549,2,    214.4,3, 14.0626,    210.2,2,     4.36,2,     6.97,2,     0.57,2,    2.839,2,    1.350,2,    0.087,2,    0.804,2, -999.000,9,-999.0000,9,  -999.00,9,-999.000,9,   -999.0,9,   -999.0,9,-999.0,  -999.0,-999.0000,-999.000,-999.000,-999.000,-999.000
      74JC10_1,   A23,   117,  1,  11718,     18,2,19950503,0222,-29.4408, -37.4395, 4060,    376,    367.0,  12.3775,  35.1828,2,  35.1744,2,    215.4,3, 12.3282,    206.4,2,     5.82,2,    11.19,2,     0.82,2,    2.609,2,    1.201,2,    0.056,2,    0.817,2, -999.000,9,-999.0000,9,  -999.00,9,-999.000,9,   -999.0,9,   -999.0,9,-999.0,  -999.0,-999.0000,-999.000,-999.000,-999.000,-999.000
      74JC10_1,   A23,   117,  1,  11717,     17,2,19950503,0222,-29.4408, -37.4395, 4060,    530,    519.9,   8.8972,  34.6830,2,  34.6726,2,    211.1,3,  8.8403,    203.5,2,    10.02,2,    24.64,2,     1.40,2,    2.225,2,    0.984,2,    0.057,2,    1.399,2, -999.000,9,-999.0000,9,  -999.00,9,-999.000,9,   -999.0,9,   -999.0,9,-999.0,  -999.0,-999.0000,-999.000,-999.000,-999.000,-999.000
      74JC10_1,   A23,   117,  1,  11716,     16,2,19950503,0222,-29.4408, -37.4395, 4060,    781,    770.1,   4.7299,  34.2910,2,  34.2919,2,    235.7,3,  4.6690,    228.5,2,    20.17,2,    27.63,2,     1.87,2,    2.031,2,    0.849,3,    0.075,2,    2.672,2, -999.000,9,   1.7740,2,     0.88,2,   7.742,2,   -999.0,9,   -999.0,9,-999.0,  -999.0,  0.0070,-999.000,-999.000,   0.024,   0.300
      74JC10_1,   A23,   117,  1,  11715,     15,2,19950503,0222,-29.4408, -37.4395, 4060,   1035,   1023.0,   3.5371,  34.3316,2,  34.3317,2,    214.0,3,  3.4635,    207.6,2,    36.64,2,    30.95,2,     2.12,2,    0.808,2,    0.348,2,    0.017,2,    1.587,2, -999.000,9,   1.7890,2,     4.06,2,   7.825,2,   -999.0,9,   -999.0,9,-999.0,  -999.0,  0.0070,-999.000,-999.000,   0.024,   0.300
      74JC10_1,   A23,   117,  1,  11714,     14,2,19950503,0222,-29.4408, -37.4395, 4060,   1284,   1271.1,   3.0550,  34.4529,2,  34.4514,2,    197.9,3,  2.9656,    191.1,2,    50.21,2,    31.88,2,     2.19,2,    0.264,2,    0.132,2,    0.000,2,    0.787,2, -999.000,9,   1.8060,2,     5.47,2,   7.874,2,   -999.0,9,   -999.0,9,-999.0,  -999.0,  0.0070,-999.000,-999.000,   0.024,   0.300
      74JC10_1,   A23,   117,  1,  11713,     13,2,19950503,0222,-29.4408, -37.4395, 4060,   1534,   1520.3,   2.8540,  34.6012,2,  34.6016,2,    191.7,3,  2.7462,    185.7,2,    56.90,2,    30.86,2,     2.11,2,    0.043,2,    0.013,2,    0.000,2,    0.289,2, -999.000,9,-999.0000,9,  -999.00,9,-999.000,9,   -999.0,9,   -999.0,9,-999.0,  -999.0,-999.0000,-999.000,-999.000,-999.000,-999.000
      74JC10_1,   A23,   117,  1,  11712,     12,2,19950503,0222,-29.4408, -37.4395, 4060,   1795,   1782.1,   2.8078,  34.7262,3,  34.7349,3,    203.3,3,  2.6781,    198.2,2,    53.94,2,    28.16,2,     1.88,2,    0.005,2,   -0.004,2,    0.000,2,    0.109,2, -999.000,9,-999.0000,9,  -999.00,9,-999.000,9,   -999.0,9,   -999.0,9,-999.0,  -999.0,-999.0000,-999.000,-999.000,-999.000,-999.000
      74JC10_1,   A23,   117,  1,  11711,     24,2,19950503,0222,-29.4408, -37.4395, 4060,   2050,   2037.5,   2.8152,  34.8091,2,  34.8092,2,    220.4,3,  2.6625,    214.6,2,    47.90,2,    25.54,2,     1.70,2,   -0.008,2,   -0.004,2,    0.000,2,    0.056,2, -999.000,9,   1.8170,2,     5.32,2,-999.000,9,   -999.0,9,   -999.0,9,-999.0,  -999.0,  0.0070,-999.000,-999.000,-999.000,   0.300
      74JC10_1,   A23,   117,  1,  11710,     10,2,19950503,0222,-29.4408, -37.4395, 4060,   2310,   2297.6,   2.8005,  34.8626,2,  34.8631,2,    234.2,3,  2.6239,    228.5,2,    42.29,2,    23.32,2,     1.53,2,   -0.006,2,   -0.004,2,    0.000,2,    0.032,2, -999.000,9,-999.0000,9,  -999.00,9,-999.000,9,   -999.0,9,   -999.0,9,-999.0,  -999.0,-999.0000,-999.000,-999.000,-999.000,-999.000
      74JC10_1,   A23,   117,  1,  11709,      9,2,19950503,0222,-29.4408, -37.4395, 4060,   2571,   2559.3,   2.8001,  34.8900,2,  34.8890,2,    242.8,3,  2.5983,    235.6,2,    39.28,2,    22.29,2,     1.45,2,   -0.008,2,   -0.002,2,    0.000,2,    0.039,2, -999.000,9,   1.8380,2,     3.45,2,   7.993,2,   -999.0,9,   -999.0,9,-999.0,  -999.0,  0.0070,-999.000,-999.000,   0.025,   0.300
      74JC10_1,   A23,   117,  1,  11708,      8,2,19950503,0222,-29.4408, -37.4395, 4060,   2832,   2820.2,   2.7521,  34.9021,2,  34.9008,2,    248.1,3,  2.5253,    240.0,2,    38.55,2,    21.69,2,     1.42,2,   -0.009,2,    0.004,2,    0.000,2,    0.042,2, -999.000,9,-999.0000,9,  -999.00,9,-999.000,9,   -999.0,9,   -999.0,9,-999.0,  -999.0,-999.0000,-999.000,-999.000,-999.000,-999.000
      74JC10_1,   A23,   117,  1,  11707,     26,2,19950503,0222,-29.4408, -37.4395, 4060,   3087,   3076.4,   2.6438,  34.9023,2,  34.9022,2,    251.0,3,  2.3931,    242.3,2,    39.90,2,    21.47,2,     1.40,2,   -0.007,2,    0.001,2,    0.000,2,    0.059,2, -999.000,9,-999.0000,9,  -999.00,9,-999.000,9,   -999.0,9,   -999.0,9,-999.0,  -999.0,-999.0000,-999.000,   2.639,-999.000,-999.000
      74JC10_1,   A23,   117,  1,  11706,      6,2,19950503,0222,-29.4408, -37.4395, 4060,   3347,   3336.7,   2.4438,  34.8927,2,  34.8922,2,    251.3,3,  2.1704,    244.0,2,    44.37,2,    21.66,2,     1.43,2,   -0.009,2,   -0.002,2,    0.000,2,    0.061,2, -999.000,9,-999.0000,9,  -999.00,9,-999.000,9,   -999.0,9,   -999.0,9,-999.0,  -999.0,-999.0000,-999.000,-999.000,-999.000,-999.000
      74JC10_1,   A23,   117,  1,  11705,      5,2,19950503,0222,-29.4408, -37.4395, 4060,   3604,   3594.6,   2.0329,  34.8561,2,  34.8554,2,    247.4,3,  1.7424,    239.3,2,    57.98,2,    23.65,2,     1.54,2,   -0.010,2,   -0.004,2,    0.000,2,    0.044,2, -999.000,9,   1.8460,2,     3.53,2,   8.034,2,   -999.0,9,   -999.0,9,-999.0,  -999.0,  0.0070,-999.000,-999.000,   0.025,   0.300
      74JC10_1,   A23,   117,  1,  11704,      4,2,19950503,0222,-29.4408, -37.4395, 4060,   3912,   3902.9,   1.5913,  34.8095,2,  34.8078,2,    238.8,3,  1.2796,    231.9,2,    75.71,2,    25.84,2,     1.72,2,    0.011,2,   -0.004,2,    0.000,2,    0.064,2, -999.000,9,-999.0000,9,  -999.00,9,-999.000,9,   -999.0,9,   -999.0,9,-999.0,  3913.0,-999.0000,-999.000,   1.586,-999.000,-999.000
      74JC10_1,   A23,   117,  1,  11703,      3,2,19950503,0222,-29.4408, -37.4395, 4060,   4127,   4118.1,   1.3572,  34.7833,2,  34.7811,2,    234.0,3,  1.0289,    227.1,2,    85.68,2,    27.16,2,     1.82,2,    0.005,2,   -0.004,2,    0.000,2,    0.057,2, -999.000,9,-999.0000,9,  -999.00,9,-999.000,9,   -999.0,9,   -999.0,9,-999.0,  -999.0,-999.0000,-999.000,-999.000,-999.000,-999.000
      74JC10_1,   A23,   117,  1,  11702,      2,2,19950503,0222,-29.4408, -37.4395, 4060,   4127,   4118.2,   1.3572,  34.7837,2,  34.7809,2,    234.0,3,  1.0289,    226.5,2,    85.42,2,    27.09,2,     1.81,2,    0.007,2,    0.002,2,    0.000,2,    0.059,2, -999.000,9,-999.0000,9,  -999.00,9,-999.000,9,   -999.0,9,   -999.0,9,-999.0,  -999.0,-999.0000,-999.000,-999.000,-999.000,-999.000
      74JC10_1,   A23,   117,  1,  11701,      1,2,19950503,0222,-29.4408, -37.4395, 4060,   4127,   4118.5,   1.3581,  34.7831,2,-999.0000,5,    234.0,3,  1.0298,   -999.0,9,    85.47,2,    26.72,2,     1.78,2, -999.000,9, -999.000,9, -999.000,9, -999.000,9, -999.000,9,-999.0000,9,  -999.00,9,-999.000,9,   -999.0,9,   -999.0,9,-999.0,  4102.0,-999.0000,-999.000,   1.355,-999.000,-999.000