BOTTLE,20220810CCHSIOAMB
EXPOCODE,SECT_ID,STNNBR,CASTNO,SAMPNO,BTLNBR,BTLNBR_FLAG_W,DATE,TIME,LATITUDE,LONGITUDE,DEPTH,CTDRAW,CTDPRS,CTDTMP,CTDSAL,CTDSAL_FLAG_W,SALNTY,SALNTY_FLAG_W,CTDOXY,CTDOXY_FLAG_W,OXYGEN,OXYGEN_FLAG_W,SILCAT,SILCAT_FLAG_W,NITRAT,NITRAT_FLAG_W,PHSPHT,PHSPHT_FLAG_W,CFC-11,CFC-11_FLAG_W,CFC-12,CFC-12_FLAG_W,TCARBN,TCARBN_FLAG_W,ALKALI,ALKALI_FLAG_W,PH_TOT,PH_TOT_FLAG_W,PH_TMP,DELC14,DELC14_FLAG_W,C14ERR,THETA
,,,,,,,,,,,METERS,,DBAR,ITS-90,PSS-78,,PSS-78,,UMOL/KG,,UMOL/KG,,UMOL/KG,,UMOL/KG,,UMOL/KG,,PMOL/KG,,PMOL/KG,,UMOL/KG,,UMOL/KG,,,,DEG C,/MILLE,,/MILLE,DEG C
  49K619940107,   P02,    40,  1,     24,     24,2,19940118,1740, 30.0015, 152.6878, 5952,  156.4000,     15.6,  18.7874,  34.8171,2,  34.8144,2,    233.9,3,    225.8,2,     3.30,2,     0.63,2,     0.18,2,    2.375,2,    1.477,2,   1984.0,2,   2282.0,2,   8.0400,2,    25.00,   -999.0,9,   -999.0,  18.7847
  49K619940107,   P02,    40,  1,     23,     23,2,19940118,1740, 30.0015, 152.6878, 5952,  556.7000,     55.4,  18.7966,  34.8173,2,  34.8152,2,    235.0,3,    230.0,2,     3.20,2,     0.54,2,     0.17,2,    2.341,2,    1.463,2,   1981.0,2,   2279.0,2,   8.0400,2,    25.00,   -999.0,9,   -999.0,  18.7868
  49K619940107,   P02,    40,  1,     22,     22,2,19940118,1740, 30.0015, 152.6878, 5952, 1063.7000,    105.7,  18.8040,  34.8172,2,  34.8146,2,    230.5,3,    228.3,2,     3.30,2,     0.58,2,     0.24,2,    2.342,2,    1.419,2,   1987.0,2,   2282.0,2,   8.0400,2,    25.00,   -999.0,9,   -999.0,  18.7853
  49K619940107,   P02,    40,  1,     21,     21,2,19940118,1740, 30.0015, 152.6878, 5952, 1596.3000,    158.6,  18.7456,  34.8146,2,  34.8139,2,    230.6,3,    228.0,2,     3.20,2,     0.58,2,     0.16,2,    2.346,2,    1.446,2,   1985.0,2,   2282.0,2,   8.0400,2,    25.00,   -999.0,9,   -999.0,  18.7176
  49K619940107,   P02,    40,  1,     20,     20,2,19940118,1740, 30.0015, 152.6878, 5952, 2067.3000,    205.4,  17.5519,  34.8180,2,  34.8174,2,    215.1,3,    227.1,2,     4.10,2,     2.44,2,     0.30,2,    2.443,2,    1.597,2,   2009.0,2,   2283.0,2,   8.0000,2,    25.00,   -999.0,9,   -999.0,  17.5173
  49K619940107,   P02,    40,  1,     19,     19,2,19940118,1740, 30.0015, 152.6878, 5952, 3069.2000,    305.0,  17.0477,  34.7818,3,  34.7931,2,    212.5,3,    215.3,2,     4.70,2,     3.25,2,     0.34,2,    2.376,2,    1.490,2,   2013.0,2,   2280.0,2,   7.9900,2,    25.00,   -999.0,9,   -999.0,  16.9972
  49K619940107,   P02,    40,  1,     18,     18,2,19940118,1740, 30.0015, 152.6878, 5952, 4083.1000,    405.9,  14.6722,  34.5972,3,  34.6063,2,    187.2,3,    215.1,2,    12.40,2,     9.60,2,     0.85,2,    2.074,2,    1.202,2,   2058.0,2,   2276.0,2,   7.8900,2,    25.00,   -999.0,9,   -999.0,  14.6114
  49K619940107,   P02,    40,  1,     17,     17,4,19940118,1740, 30.0015, 152.6878, 5952, 5087.4000,    505.8,  12.2820,  34.4392,2,-999.0000,9,    182.5,2,   -999.0,9,  -999.00,9,  -999.00,9,  -999.00,9, -999.000,9, -999.000,9,   -999.0,9,   -999.0,9,-999.0000,9,  -999.00,   -999.0,9,   -999.0,  12.2146
  49K619940107,   P02,    40,  1,     16,     16,2,19940118,1740, 30.0015, 152.6878, 5952, 6108.8000,    607.5,   8.3927,  34.2497,3,  34.2460,2,    138.1,2,   -999.0,9,    48.90,3,    24.87,6,     1.98,3,    1.157,2,    0.791,2,   2183.0,2,   2290.0,2,   7.6400,2,    25.00,   -999.0,9,   -999.0,   8.3285
  49K619940107,   P02,    40,  1,     15,     15,2,19940118,1740, 30.0015, 152.6878, 5952, 7144.0000,    710.6,   6.8424,  34.2460,3,  34.2514,2,    108.8,3,    111.6,2,    67.70,6,    30.06,6,     2.33,3,    0.705,2,    0.505,2,   2227.0,2,   2304.0,2,   7.5500,2,    25.00,   -999.0,9,   -999.0,   6.7750
  49K619940107,   P02,    40,  1,     14,     14,2,19940118,1740, 30.0015, 152.6878, 5952, 8115.8000,    807.5,   6.2001,  34.2491,2,  34.2500,2,     95.4,2,     95.7,2,    77.70,2,    32.65,2,     2.55,2,    0.539,2,    0.374,2,   2253.0,2,   2317.0,2,   7.5100,2,    25.00,   -999.0,9,   -999.0,   6.1269
  49K619940107,   P02,    40,  1,     13,     13,2,19940118,1740, 30.0015, 152.6878, 5952,10120.1000,   1007.3,   4.9353,  34.2865,2,  34.2855,2,     77.3,3,     74.7,2,    97.90,2,    36.35,2,     2.79,2,    0.326,2,    0.262,2,   2288.0,2,   2331.0,2,   7.4500,2,    25.00,   -999.0,9,   -999.0,   4.8522
  49K619940107,   P02,    40,  1,     12,     12,2,19940118,1740, 30.0015, 152.6878, 5952,12672.1000,   1262.1,   3.9040,  34.3593,3,  34.3562,2,     62.3,2,     61.6,2,   117.10,2,    39.28,2,     3.01,2,    0.132,2,    0.096,2,   2325.0,2,   2356.0,2,   7.4100,2,    25.00,   -999.0,9,   -999.0,   3.8073
  49K619940107,   P02,    40,  1,     11,     11,2,19940118,1740, 30.0015, 152.6878, 5952,15188.3000,   1513.5,   2.8879,  34.4353,3,  34.4318,2,     42.8,2,     41.5,2,   146.90,2,    42.05,2,     3.19,2,    0.041,2,    0.044,2,   2366.0,2,   2377.0,2,   7.3600,2,    25.00,   -999.0,9,   -999.0,   2.7806
  49K619940107,   P02,    40,  1,     10,     10,2,19940118,1740, 30.0015, 152.6878, 5952,17733.6000,   1768.0,   2.3894,  34.5157,2,  34.5143,2,     48.4,2,     47.1,2,   158.00,2,    42.22,2,     3.20,2,    0.021,2,    0.011,2,   2376.0,2,   2392.0,2,   7.3700,2,    25.00,   -999.0,9,   -999.0,   2.2671
  49K619940107,   P02,    40,  1,      9,      9,2,19940118,1740, 30.0015, 152.6878, 5952,20264.0000,   2021.2,   2.0435,  34.5796,2,  34.5785,2,     66.4,2,     67.1,2,   166.90,2,    40.96,2,     3.11,2,    0.007,2,    0.007,2,   2373.0,2,   2404.0,2,   7.4100,2,    25.00,   -999.0,9,   -999.0,   1.9048
  49K619940107,   P02,    40,  1,      8,      8,2,19940118,1740, 30.0015, 152.6878, 5952,25333.5000,   2528.9,   1.7068,  34.6409,2,  34.6398,2,    108.1,3,    103.3,2,   164.60,2,    38.80,2,     2.92,2,    0.000,2,    0.007,2,   2353.0,2,   2410.0,2,   7.4900,2,    25.00,   -999.0,9,   -999.0,   1.5294
  49K619940107,   P02,    40,  1,      7,      7,2,19940118,1740, 30.0015, 152.6878, 5952,30426.0000,   3039.2,   1.5683,  34.6640,2,  34.6628,2,    128.5,2,    128.8,2,   159.50,2,    37.45,2,     2.80,2,    0.003,2,    0.007,2,   2338.0,2,   2411.0,2,   7.5300,2,    25.00,   -999.0,9,   -999.0,   1.3463
  49K619940107,   P02,    40,  1,      6,      6,2,19940118,1740, 30.0015, 152.6878, 5952,35534.3000,   3551.3,   1.4916,  34.6774,2,  34.6752,2,    141.7,2,    142.4,2,   154.50,2,    37.03,2,     2.67,2,    0.000,2,    0.007,2,   2329.0,2,   2410.0,2,   7.5500,2,    25.00,   -999.0,9,   -999.0,   1.2204
  49K619940107,   P02,    40,  1,      5,      5,2,19940118,1740, 30.0015, 152.6878, 5952,40658.0000,   4064.8,   1.4659,  34.6850,2,  34.6830,2,    151.8,2,    152.3,2,   153.20,2,    35.94,2,     2.64,2,    0.000,2,    0.003,2,   2321.0,2,   2410.0,2,   7.5700,2,    25.00,   -999.0,9,   -999.0,   1.1408
  49K619940107,   P02,    40,  1,      4,      4,2,19940118,1740, 30.0015, 152.6878, 5952,45806.6000,   4580.5,   1.4735,  34.6894,2,  34.6987,3,    159.3,2,    159.0,4,  -999.00,9,  -999.00,9,  -999.00,9,    0.001,2,    0.001,2,   2318.0,2,   2410.0,2,   7.5700,2,    25.00,   -999.0,9,   -999.0,   1.0899
  49K619940107,   P02,    40,  1,      3,      3,2,19940118,1740, 30.0015, 152.6878, 5952,50942.7000,   5094.3,   1.4982,  34.6933,2,  34.6912,2,    166.8,2,    165.4,2,   145.40,2,    34.76,2,     2.56,2,    0.000,2,    0.000,2,   2310.0,2,   2404.0,2,   7.5800,2,    25.00,   -999.0,9,   -999.0,   1.0524
  49K619940107,   P02,    40,  1,      2,      2,2,19940118,1740, 30.0015, 152.6878, 5952,56115.0000,   5610.9,   1.5364,  34.6953,2,  34.6943,2,    171.8,2,    169.7,2,   140.80,2,    34.54,2,     2.53,3,    0.006,2,    0.003,2,   2306.0,2,   2401.0,2,   7.5900,2,    25.00,   -999.0,9,   -999.0,   1.0241
  49K619940107,   P02,    40,  1,      1,      1,2,19940118,1740, 30.0015, 152.6878, 5952,60499.1000,   6048.0,   1.5885,  34.6973,3,  34.6928,2,    171.3,2,    171.2,2,   142.50,4,    34.94,4,     2.49,4,    0.000,2,    0.000,2,   2304.0,2,   2401.0,2,   7.5900,2,    25.00,   -999.0,9,   -999.0,   1.0166
  49K619940107,   P02,    41,  1,     24,     24,2,19940119,0509, 29.9973, 154.2000, 5842,  231.7000,     23.2,  19.0937,  34.8357,2,  34.8337,2,    226.9,3,    230.0,2,     3.30,2,     0.00,2,     0.20,2,    2.247,2,    1.399,2,   1980.0,2,   2283.0,2,   8.0500,2,    25.00,    107.0,2,      7.0,  19.0896
  49K619940107,   P02,    41,  1,     23,     23,2,19940119,0509, 29.9973, 154.2000, 5842,  633.5000,     63.1,  19.0534,  34.8346,2,  34.8337,2,    224.5,3,    228.3,2,     3.30,2,     0.25,2,     0.22,2,    2.237,2,    1.362,2,   1983.0,2,   2282.0,2,   8.0400,2,    25.00,     86.5,2,      7.0,  19.0422
  49K619940107,   P02,    41,  1,     22,     22,2,19940119,0509, 29.9973, 154.2000, 5842, 1074.7000,    106.9,  19.0413,  34.8330,3,  34.8297,2,    223.9,2,    209.0,3,     3.30,3,     0.11,3,     0.22,3,    2.202,2,    1.368,2,   1983.0,2,   2300.0,3,   8.0400,2,    25.00,     91.4,2,      7.0,  19.0223
  49K619940107,   P02,    41,  1,     21,     21,2,19940119,0509, 29.9973, 154.2000, 5842, 1585.9000,    157.7,  19.0437,  34.8377,3,  34.8327,2,    224.7,3,    227.2,2,     3.30,2,     0.00,2,     0.24,2,    2.205,2,    1.364,2,   1985.0,2,   -999.0,9,   8.0400,2,    25.00,     67.6,2,      7.0,  19.0156
  49K619940107,   P02,    41,  1,     20,     20,2,19940119,0509, 29.9973, 154.2000, 5842, 2081.7000,    207.0,  17.7277,  34.8167,3,  34.8250,2,    208.1,2,    207.0,2,     4.50,2,     1.33,2,     0.40,2,    2.255,2,    1.391,2,   2013.0,2,   -999.0,9,   7.9900,2,    25.00,     99.2,2,      7.0,  17.6926
  49K619940107,   P02,    41,  1,     19,     19,2,19940119,0509, 29.9973, 154.2000, 5842, 3130.5000,    311.2,  15.8146,  34.6770,3,  34.7086,2,    195.2,2,    196.0,2,     8.00,2,     5.21,2,     0.65,2,    2.171,2,    1.265,2,   2041.0,2,   2278.0,2,   7.9300,2,    25.00,     94.8,2,      7.0,  15.7657
  49K619940107,   P02,    41,  1,     18,     18,2,19940119,0509, 29.9973, 154.2000, 5842, 4095.0000,    407.1,  12.7178,  34.4347,3,  34.4857,2,    182.3,2,    181.0,2,    18.10,2,    11.61,2,     1.10,2,    1.914,2,    1.102,2,   -999.0,9,   2277.0,2,   7.8300,2,    25.00,     47.0,2,      7.0,  12.6624
  49K619940107,   P02,    41,  1,     17,     17,2,19940119,0509, 29.9973, 154.2000, 5842, 5129.1000,    510.1,   9.7941,  34.2784,3,  34.2859,2,    162.3,2,    162.9,2,    35.20,3,    18.73,3,     1.62,6,    1.544,2,    0.901,2,   2145.0,2,   2285.0,2,   7.7100,2,    25.00,     -4.9,2,      7.0,   9.7352
  49K619940107,   P02,    41,  1,     16,     16,2,19940119,0509, 29.9973, 154.2000, 5842, 6133.9000,    610.1,   6.8668,  34.1131,3,  34.1193,2,    150.2,3,    144.5,2,    54.90,2,    24.82,2,     2.11,2,    1.442,2,    0.873,2,   2201.0,2,   2291.0,2,   7.5900,2,    25.00,   -105.6,2,      7.0,   6.8094
  49K619940107,   P02,    41,  1,     15,     15,2,19940119,0509, 29.9973, 154.2000, 5842, 7117.0000,    708.0,   5.2520,  34.0888,2,  34.0905,2,    107.7,3,    110.5,2,    75.00,6,    31.07,6,     2.55,6,    1.133,2,    0.649,2,   2256.0,2,   2307.0,2,   7.4800,2,    25.00,   -141.9,2,      7.0,   5.1936
  49K619940107,   P02,    41,  1,     14,     14,2,19940119,0509, 29.9973, 154.2000, 5842, 8127.1000,    808.7,   4.3947,  34.1588,3,  34.1548,2,     76.1,2,     77.2,2,    95.80,2,    35.30,2,     2.86,2,    0.620,2,    0.387,2,   2302.0,2,   2324.0,2,   7.4000,2,    25.00,   -168.9,2,      7.0,   4.3327
  49K619940107,   P02,    41,  1,     13,     13,2,19940119,0509, 29.9973, 154.2000, 5842,10153.7000,   1010.8,   3.5766,  34.3120,2,  34.3109,2,     46.2,2,     45.4,2,   123.30,2,    38.28,2,     3.10,2,    0.152,2,    0.132,2,   2349.0,2,   2355.0,2,   7.3600,2,    25.00,   -189.9,2,      7.0,   3.5037
  49K619940107,   P02,    41,  1,     12,     12,2,19940119,0509, 29.9973, 154.2000, 5842,12661.9000,   1261.2,   2.8419,  34.4343,2,  34.4322,2,     42.4,2,     43.2,2,   141.80,2,    40.14,2,     3.16,2,    0.054,2,    0.060,2,   2373.0,2,   2380.0,2,   7.3600,2,    25.00,   -214.1,2,      7.0,   2.7554
  49K619940107,   P02,    41,  1,     11,     11,4,19940119,0509, 29.9973, 154.2000, 5842,15208.4000,   1515.6,   2.3656,  34.5153,2,-999.0000,9,     45.3,2,   -999.0,9,  -999.00,9,  -999.00,9,  -999.00,9, -999.000,9, -999.000,9,   -999.0,9,   -999.0,9,-999.0000,9,  -999.00,   -999.0,9,   -999.0,   2.2640
  49K619940107,   P02,    41,  1,     10,     10,2,19940119,0509, 29.9973, 154.2000, 5842,17745.4000,   1769.3,   2.1167,  34.5672,2,  34.5660,2,     60.8,3,     58.1,2,   162.10,2,    42.13,3,     3.12,2,    0.009,2,    0.001,2,   2383.0,2,   2404.0,2,   7.4000,2,    25.00,   -261.4,2,      7.0,   1.9978
  49K619940107,   P02,    41,  1,      9,      9,2,19940119,0509, 29.9973, 154.2000, 5842,20285.2000,   2023.4,   1.9114,  34.6045,2,  34.6029,2,     81.7,2,     79.6,2,   162.50,2,    40.67,3,     3.04,2,    0.004,2,    0.000,2,   2378.0,2,   2407.0,2,   7.4400,2,    25.00,   -238.0,2,      7.0,   1.7744
  49K619940107,   P02,    41,  1,      8,      8,2,19940119,0509, 29.9973, 154.2000, 5842,25360.8000,   2531.7,   1.6593,  34.6458,2,  34.6449,2,    113.9,3,    110.9,2,   160.80,2,    38.76,3,     2.88,2,    0.000,2,    0.000,2,   2355.0,2,   2411.0,2,   7.5000,2,    25.00,   -224.6,2,      7.0,   1.4825
  49K619940107,   P02,    41,  1,      7,      7,2,19940119,0509, 29.9973, 154.2000, 5842,30442.9000,   3041.0,   1.5383,  34.6668,2,  34.6661,2,    133.4,2,    132.1,2,   152.90,2,    37.39,3,     2.74,2,    0.000,2,    0.005,2,   2345.0,2,   2412.0,2,   7.5400,2,    25.00,   -220.9,2,      7.0,   1.3167
  49K619940107,   P02,    41,  1,      6,      6,2,19940119,0509, 29.9973, 154.2000, 5842,35558.5000,   3553.8,   1.4830,  34.6781,2,  34.6763,2,    144.2,2,    145.7,2,   151.20,2,    36.62,3,     2.66,2,    0.000,2,    0.004,2,   2332.0,2,   2412.0,2,   7.5500,2,    25.00,   -208.3,2,      7.0,   1.2118
  49K619940107,   P02,    41,  1,      5,      5,2,19940119,0509, 29.9973, 154.2000, 5842,40661.5000,   4065.3,   1.4588,  34.6844,2,  34.6823,2,    153.0,2,    152.3,2,   147.50,2,    35.81,3,     2.64,2,    0.000,2,    0.004,2,   2329.0,2,   2408.0,2,   7.5700,2,    25.00,   -202.4,2,      7.0,   1.1339
  49K619940107,   P02,    41,  1,      4,      4,2,19940119,0509, 29.9973, 154.2000, 5842,45793.6000,   4579.3,   1.4646,  34.6897,2,  34.6882,2,    160.5,2,    160.7,2,   145.10,6,    35.35,3,     2.57,6,    0.000,2,    0.000,2,   2322.0,2,   2406.0,2,   7.5800,2,    25.00,   -192.4,2,      7.0,   1.0815
  49K619940107,   P02,    41,  1,      3,      3,2,19940119,0509, 29.9973, 154.2000, 5842,50946.5000,   5094.8,   1.4947,  34.6931,2,  34.6919,2,    167.0,2,    166.3,2,   141.90,2,    34.63,3,     2.54,2,    0.006,2,    0.000,2,   2318.0,2,   2408.0,2,   7.5800,2,    25.00,   -187.9,2,      7.0,   1.0489
  49K619940107,   P02,    41,  1,      2,      2,2,19940119,0509, 29.9973, 154.2000, 5842,56093.6000,   5608.9,   1.5394,  34.6953,2,  34.6936,2,    171.2,2,    172.2,2,   137.00,2,    34.36,3,     2.52,2,    0.001,2,    0.000,2,   2311.0,2,   2400.0,2,   7.5900,2,    25.00,   -186.2,2,      7.0,   1.0273
  49K619940107,   P02,    41,  1,      1,      1,2,19940119,0509, 29.9973, 154.2000, 5842,59418.5000,   5940.4,   1.5774,  34.6960,2,  34.6943,2,    172.6,2,    170.4,2,   138.70,6,    34.36,3,     2.51,6,    0.006,2,    0.000,2,   2309.0,2,   2401.0,2,   7.5900,2,    25.00,   -175.2,2,      7.0,   1.0203