BOTTLE,20220810CCHSIOAMB
EXPOCODE,SECT_ID,STNNBR,CASTNO,SAMPNO,BTLNBR,BTLNBR_FLAG_W,DATE,TIME,LATITUDE,LONGITUDE,DEPTH,CTDRAW,CTDPRS,CTDTMP,CTDSAL,CTDSAL_FLAG_W,SALNTY,SALNTY_FLAG_W,CTDOXY,CTDOXY_FLAG_W,OXYGEN,OXYGEN_FLAG_W,SILCAT,SILCAT_FLAG_W,NITRAT,NITRAT_FLAG_W,PHSPHT,PHSPHT_FLAG_W,CFC-11,CFC-11_FLAG_W,CFC-12,CFC-12_FLAG_W,TCARBN,TCARBN_FLAG_W,ALKALI,ALKALI_FLAG_W,PH_TOT,PH_TOT_FLAG_W,PH_TMP,DELC14,DELC14_FLAG_W,C14ERR,THETA
,,,,,,,,,,,METERS,,DBAR,ITS-90,PSS-78,,PSS-78,,UMOL/KG,,UMOL/KG,,UMOL/KG,,UMOL/KG,,UMOL/KG,,PMOL/KG,,PMOL/KG,,UMOL/KG,,UMOL/KG,,,,DEG C,/MILLE,,/MILLE,DEG C
  49K619940107,   P02,    74,  1,     24,     24,2,19940204,1055, 29.9985,-142.7538, 4757,  149.5000,     14.9,  18.3233,  34.9535,2,  34.9525,2,    230.7,3,    234.9,2,     2.90,2,     0.26,2,     0.17,2,    2.556,2,    1.317,2,   2029.0,2,   2298.0,2,   8.0100,2,    25.00,   -999.0,9,   -999.0,  18.3207
  49K619940107,   P02,    74,  1,     23,     23,2,19940204,1055, 29.9985,-142.7538, 4757,  543.5000,     54.1,  18.3132,  34.9561,3,  34.9531,2,    234.1,3,    236.5,2,     2.80,2,     0.29,2,     0.17,2,    2.538,2,    1.303,2,   2028.0,2,   2296.0,2,   8.0000,2,    25.00,   -999.0,9,   -999.0,  18.3038
  49K619940107,   P02,    74,  1,     22,     22,2,19940204,1055, 29.9985,-142.7538, 4757, 1051.2000,    104.5,  18.2745,  34.9520,2,  34.9508,2,    229.6,2,    229.6,2,     2.90,2,     0.34,2,     0.18,2,    2.527,2,    1.312,2,   -999.0,9,   2294.0,2,   8.0000,2,    25.00,   -999.0,9,   -999.0,  18.2564
  49K619940107,   P02,    74,  1,     21,     21,2,19940204,1055, 29.9985,-142.7538, 4757, 1652.5000,    164.2,  14.9930,  34.3772,3,  34.5834,2,    227.9,3,    223.7,2,     4.20,2,     2.44,2,     0.36,2,    2.749,2,    1.403,2,   2039.0,2,   2271.0,2,   7.9500,2,    25.00,   -999.0,9,   -999.0,  14.9682
  49K619940107,   P02,    74,  1,     20,     20,2,19940204,1055, 29.9985,-142.7538, 4757, 2055.0000,    204.2,  12.9974,  34.1690,3,  34.2543,2,    219.3,2,    219.4,2,     7.00,2,     6.27,2,     0.65,2,    3.034,2,    1.461,2,   2059.0,2,   2253.0,2,   7.8700,2,    25.00,   -999.0,9,   -999.0,  12.9695
  49K619940107,   P02,    74,  1,     19,     19,2,19940204,1055, 29.9985,-142.7538, 4757, 3065.3000,    304.6,   9.7389,  34.0342,3,  34.0592,2,    215.1,2,    216.1,2,    16.90,2,    15.10,2,     1.20,2,    3.046,2,    1.425,2,   -999.0,9,   2250.0,2,   7.7700,2,    25.00,   -999.0,9,   -999.0,   9.7044
  49K619940107,   P02,    74,  1,     18,     18,2,19940204,1055, 29.9985,-142.7538, 4757, 4118.1000,    409.3,   7.9333,  34.0197,3,  34.0270,2,    190.9,2,    191.0,2,    29.50,6,    21.18,6,     1.61,6,    2.339,2,    1.138,2,   2144.0,2,   2258.0,2,   7.6800,2,    25.00,   -999.0,9,   -999.0,   7.8921
  49K619940107,   P02,    74,  1,     17,     17,2,19940204,1055, 29.9985,-142.7538, 4757, 5132.3000,    510.3,   6.2331,  33.9901,2,  33.9927,2,    114.1,3,    124.5,2,    52.10,2,    31.01,2,     2.32,2,    1.104,2,    0.563,2,   2228.0,2,   2274.0,2,   7.5000,2,    25.00,   -999.0,9,   -999.0,   6.1880
  49K619940107,   P02,    74,  1,     16,     16,2,19940204,1055, 29.9985,-142.7538, 4757, 6110.2000,    607.6,   5.1096,  34.0472,2,  34.0460,2,     65.4,2,     64.2,2,    77.70,2,    38.00,2,     2.83,2,    0.327,2,    0.154,2,   2293.0,2,   2293.0,2,   7.3700,2,    25.00,   -999.0,9,   -999.0,   5.0606
  49K619940107,   P02,    74,  1,     15,     15,2,19940204,1055, 29.9985,-142.7538, 4757, 7113.6000,    707.6,   4.3806,  34.1416,3,  34.1291,2,     31.7,2,     33.5,2,    97.90,6,    41.54,6,     3.11,6,    0.010,2,    0.017,2,   -999.0,9,   2313.0,2,   7.3100,2,    25.00,   -999.0,9,   -999.0,   4.3270
  49K619940107,   P02,    74,  1,     14,     14,2,19940204,1055, 29.9985,-142.7538, 4757, 8096.4000,    805.5,   4.2299,  34.2691,2,  34.2680,2,     15.2,2,     15.6,2,   110.10,2,    42.97,2,     3.27,2,    0.007,2,    0.005,2,   2357.0,2,   2333.0,2,   7.2900,2,    25.00,   -999.0,9,   -999.0,   4.1690
  49K619940107,   P02,    74,  1,     13,     13,2,19940204,1055, 29.9985,-142.7538, 4757, 9179.3000,    913.5,   3.9328,  34.3588,3,  34.3500,2,     13.8,2,     14.2,2,   121.90,2,    43.34,2,     3.32,2,    0.004,2,    0.001,2,   2369.0,2,   2347.0,2,   7.3000,2,    25.00,   -999.0,9,   -999.0,   3.8650
  49K619940107,   P02,    74,  1,     12,     12,2,19940204,1055, 29.9985,-142.7538, 4757,10115.7000,   1006.9,   3.7133,  34.4140,2,  34.4148,2,     19.7,3,     15.7,2,   122.80,2,    43.42,2,     3.31,2,    0.002,2,    0.000,2,   2373.0,2,   2455.0,2,   7.3200,2,    25.00,   -999.0,9,   -999.0,   3.6394
  49K619940107,   P02,    74,  1,     11,     11,2,19940204,1055, 29.9985,-142.7538, 4757,12681.8000,   1263.0,   3.1277,  34.5091,2,  34.5104,2,     40.2,2,     42.3,2,   138.40,2,    42.52,2,     3.21,2,    0.009,2,    0.000,2,   2374.0,2,   2380.0,2,   7.3700,2,    25.00,   -999.0,9,   -999.0,   3.0381
  49K619940107,   P02,    74,  1,     10,     10,2,19940204,1055, 29.9985,-142.7538, 4757,15203.1000,   1515.0,   2.7049,  34.5561,2,  34.5579,2,     56.5,2,     55.5,2,   145.90,2,    41.62,2,     3.13,2,    0.009,2,    0.001,2,   2380.0,2,   2391.0,2,   7.4000,2,    25.00,   -999.0,9,   -999.0,   2.5993
  49K619940107,   P02,    74,  1,      9,      9,2,19940204,1055, 29.9985,-142.7538, 4757,17736.3000,   1768.3,   2.3068,  34.5927,2,  34.5919,2,     69.0,2,     70.5,2,   158.30,2,    41.12,2,     3.08,2,    0.001,2,    0.003,2,   2378.0,2,   2400.0,2,   7.4200,2,    25.00,   -999.0,9,   -999.0,   2.1853
  49K619940107,   P02,    74,  1,      8,      8,2,19940204,1055, 29.9985,-142.7538, 4757,20264.1000,   2021.2,   2.0440,  34.6147,2,  34.6155,2,     79.9,2,     81.7,2,   167.00,2,    40.29,2,     3.00,2,    0.004,2,    0.006,2,   2377.0,2,   2408.0,2,   7.4400,2,    25.00,   -999.0,9,   -999.0,   1.9051
  49K619940107,   P02,    74,  1,      7,      7,2,19940204,1055, 29.9985,-142.7538, 4757,22805.5000,   2275.7,   1.8347,  34.6349,2,  34.6351,2,     91.6,2,     93.3,2,   168.00,2,    38.58,2,     2.91,2,    0.000,2,    0.000,2,   2373.0,2,   2412.0,2,   7.4600,2,    25.00,   -999.0,9,   -999.0,   1.6774
  49K619940107,   P02,    74,  1,      6,      6,2,19940204,1055, 29.9985,-142.7538, 4757,25267.4000,   2522.3,   1.7097,  34.6481,2,  34.6483,2,    101.1,2,    102.1,2,   168.00,2,    37.67,2,     2.84,2,    0.000,2,    0.005,2,   2366.0,2,   2414.0,2,   7.4800,2,    25.00,   -999.0,9,   -999.0,   1.5328
  49K619940107,   P02,    74,  1,      5,      5,2,19940204,1055, 29.9985,-142.7538, 4757,30447.5000,   3041.4,   1.5446,  34.6667,2,  34.6660,2,    121.4,3,    126.1,2,   163.10,2,    36.36,2,     2.75,2,    0.000,2,    0.000,2,   2359.0,2,   2416.0,2,   7.5200,2,    25.00,   -999.0,9,   -999.0,   1.3229
  49K619940107,   P02,    74,  1,      4,      4,2,19940204,1055, 29.9985,-142.7538, 4757,35511.3000,   3549.0,   1.4827,  34.6780,2,  34.6786,2,    136.7,2,    138.0,2,   157.20,3,    34.76,6,     2.67,3,    0.000,2,    0.000,2,   2344.0,2,   2417.0,2,   7.5400,2,    25.00,   -999.0,9,   -999.0,   1.2119
  49K619940107,   P02,    74,  1,      3,      3,2,19940204,1055, 29.9985,-142.7538, 4757,40644.7000,   4063.5,   1.4815,  34.6842,2,  34.6845,2,    146.5,2,   -999.0,9,   151.20,2,    33.75,2,     2.61,3,    0.000,2,    0.005,2,   2340.0,2,   2418.0,2,   7.5600,2,    25.00,   -999.0,9,   -999.0,   1.1561
  49K619940107,   P02,    74,  1,      2,      2,2,19940204,1055, 29.9985,-142.7538, 4757,45773.1000,   4577.1,   1.5084,  34.6881,2,  34.6876,2,    153.4,2,    154.0,2,   144.40,2,    33.10,2,     2.57,3,    0.008,2,    0.000,2,   2337.0,2,   2414.0,2,   7.5700,2,    25.00,   -999.0,9,   -999.0,   1.1241
  49K619940107,   P02,    74,  1,      1,      1,2,19940204,1055, 29.9985,-142.7538, 4757,49304.3000,   4930.5,   1.5470,  34.6882,2,  34.6882,2,    155.0,2,    154.9,2,   143.30,6,    32.58,6,     2.57,3,    0.003,2,    0.002,2,   2336.0,2,   2419.0,2,   7.5700,2,    25.00,   -999.0,9,   -999.0,   1.1195
  49K619940107,   P02,    75,  1,     24,     24,2,19940204,2233, 29.9855,-140.6648, 4654,  194.6000,     19.5,  18.4437,  34.9964,2,  34.9950,2,    232.0,3,    234.9,2,     2.40,2,     0.34,2,     0.15,2,    2.319,2,    1.330,2,   2026.0,2,   2296.0,2,   8.0100,2,    25.00,   -999.0,9,   -999.0,  18.4403
  49K619940107,   P02,    75,  1,     23,     23,4,19940204,2233, 29.9855,-140.6648, 4654,  568.0000,     56.6,  18.4500,  34.9977,2,-999.0000,9,    237.2,2,   -999.0,9,  -999.00,9,  -999.00,9,  -999.00,9,    2.338,2,    1.331,2,   2033.0,2,   2292.0,2,   8.0100,2,    25.00,   -999.0,9,   -999.0,  18.4401
  49K619940107,   P02,    75,  1,     22,     22,2,19940204,2233, 29.9855,-140.6648, 4654, 1103.3000,    109.7,  18.4439,  34.9998,3,  34.9944,2,    232.5,2,    232.1,2,     2.50,2,     0.33,2,     0.16,2,    2.363,2,    1.307,2,   2029.0,2,   2292.0,2,   8.0000,2,    25.00,   -999.0,9,   -999.0,  18.4248
  49K619940107,   P02,    75,  1,     21,     21,2,19940204,2233, 29.9855,-140.6648, 4654, 1623.4000,    161.4,  15.5983,  34.4824,3,  34.6377,2,    216.0,3,    223.7,2,     3.30,2,     1.99,2,     0.31,2,    2.533,2,    1.401,2,   2034.0,2,   2270.0,2,   7.9600,2,    25.00,   -999.0,9,   -999.0,  15.5733
  49K619940107,   P02,    75,  1,     20,     20,2,19940204,2233, 29.9855,-140.6648, 4654, 2091.3000,    207.9,  12.8104,  34.2203,3,  34.1877,2,    209.3,3,    217.8,2,     6.50,2,     6.41,2,     0.66,2,    2.837,2,    1.551,2,   2054.0,2,   2240.0,2,   7.8700,2,    25.00,   -999.0,9,   -999.0,  12.7823
  49K619940107,   P02,    75,  1,     19,     19,2,19940204,2233, 29.9855,-140.6648, 4654, 3115.5000,    309.7,   9.2080,  34.0102,3,  34.0034,2,    208.0,3,    213.6,2,    18.60,2,    16.31,2,     1.29,2,    2.781,2,    1.415,2,   2112.0,2,   2244.0,2,   7.7400,2,    25.00,   -999.0,9,   -999.0,   9.1741
  49K619940107,   P02,    75,  1,     18,     18,2,19940204,2233, 29.9855,-140.6648, 4654, 4134.5000,    411.1,   7.6040,  34.0134,3,  34.0044,2,    174.6,2,    175.9,2,    32.80,6,    23.07,6,     1.74,6,    1.986,2,    1.071,2,   2158.0,2,   2255.0,2,   7.6400,2,    25.00,   -999.0,9,   -999.0,   7.5637
  49K619940107,   P02,    75,  1,     17,     17,2,19940204,2233, 29.9855,-140.6648, 4654, 5153.7000,    512.5,   6.0726,  33.9980,2,  34.0001,2,    110.8,2,   -999.0,9,    55.90,2,    32.25,2,     2.40,2,    0.967,2,    0.506,2,   2235.0,2,   2270.0,2,   7.4800,2,    25.00,   -999.0,9,   -999.0,   6.0279
  49K619940107,   P02,    75,  1,     16,     16,2,19940204,2233, 29.9855,-140.6648, 4654, 6094.3000,    606.2,   5.0750,  34.0676,3,  34.0642,2,     54.6,2,     55.8,2,    79.60,2,    38.67,2,     2.89,2,    0.320,2,    0.163,2,   2291.0,2,   2293.0,2,   7.3500,2,    25.00,   -999.0,9,   -999.0,   5.0263
  49K619940107,   P02,    75,  1,     15,     15,2,19940204,2233, 29.9855,-140.6648, 4654, 7121.4000,    708.5,   4.5489,  34.1766,3,  34.1697,2,     25.7,2,     27.8,2,    97.10,6,    41.93,6,     3.15,6,    0.104,2,    0.043,2,   2330.0,2,   2313.0,2,   7.3000,2,    25.00,   -999.0,9,   -999.0,   4.4942
  49K619940107,   P02,    75,  1,     14,     14,2,19940204,2233, 29.9855,-140.6648, 4654, 8118.0000,    807.8,   4.2715,  34.2843,3,  34.2761,2,     15.8,3,     18.1,2,   107.80,2,    43.21,2,     3.25,2,    0.063,2,    0.024,2,   2349.0,2,   2331.0,2,   7.2900,2,    25.00,   -999.0,9,   -999.0,   4.2102
  49K619940107,   P02,    75,  1,     13,     13,2,19940204,2233, 29.9855,-140.6648, 4654, 9138.0000,    909.5,   3.9730,  34.3711,2,  34.3722,2,     15.9,2,     17.6,2,   117.80,2,    43.35,2,     3.27,2,    0.048,2,    0.011,2,   2363.0,2,   2349.0,2,   7.3100,2,    25.00,   -999.0,9,   -999.0,   3.9052
  49K619940107,   P02,    75,  1,     12,     12,2,19940204,2233, 29.9855,-140.6648, 4654,10133.4000,   1008.8,   3.6774,  34.4371,3,  34.4337,2,     22.0,2,     21.8,2,   124.00,2,    43.55,2,     3.24,2,    0.004,2,    0.000,2,   2372.0,2,   2358.0,2,   7.3300,2,    25.00,   -999.0,9,   -999.0,   3.6036
  49K619940107,   P02,    75,  1,     11,     11,2,19940204,2233, 29.9855,-140.6648, 4654,12692.5000,   1264.2,   3.1852,  34.5185,2,  34.5184,2,     40.4,2,     39.9,2,   133.60,2,    42.62,2,     3.18,2,    0.000,2,    0.000,2,   2373.0,2,   2375.0,2,   7.3700,2,    25.00,   -999.0,9,   -999.0,   3.0949
  49K619940107,   P02,    75,  1,     10,     10,2,19940204,2233, 29.9855,-140.6648, 4654,15192.6000,   1514.0,   2.7046,  34.5617,2,  34.5634,2,     53.5,3,     58.4,2,   147.70,2,    42.17,2,     3.12,2,    0.000,2,    0.000,2,   2375.0,2,   2390.0,2,   7.4000,2,    25.00,   -999.0,9,   -999.0,   2.5990
  49K619940107,   P02,    75,  1,      9,      9,2,19940204,2233, 29.9855,-140.6648, 4654,17738.3000,   1768.6,   2.3360,  34.5929,2,  34.5917,2,     66.5,2,     66.3,2,   157.40,2,    41.45,2,     3.05,2,    0.005,2,    0.000,2,   2376.0,2,   2399.0,2,   7.4200,2,    25.00,   -999.0,9,   -999.0,   2.2141
  49K619940107,   P02,    75,  1,      8,      8,2,19940204,2233, 29.9855,-140.6648, 4654,20289.6000,   2023.9,   2.0437,  34.6168,2,  34.6190,2,     79.6,2,     80.8,2,   166.10,4,    40.91,4,     2.99,4,    0.000,2,    0.000,2,   2373.0,2,   2408.0,2,   7.4400,2,    25.00,   -999.0,9,   -999.0,   1.9046
  49K619940107,   P02,    75,  1,      7,      7,2,19940204,2233, 29.9855,-140.6648, 4654,22810.8000,   2276.3,   1.8472,  34.6349,2,  34.6354,2,     91.5,2,     91.7,2,   167.50,2,    39.44,2,     2.90,2,    0.000,2,    0.004,2,   2370.0,2,   2411.0,2,   7.4700,2,    25.00,   -999.0,9,   -999.0,   1.6896
  49K619940107,   P02,    75,  1,      6,      6,2,19940204,2233, 29.9855,-140.6648, 4654,25346.5000,   2530.3,   1.7174,  34.6476,2,  34.6484,2,    101.7,2,    102.9,2,   170.60,2,    38.98,2,     2.85,2,    0.002,2,    0.000,2,   2367.0,2,   2410.0,2,   7.4800,2,    25.00,   -999.0,9,   -999.0,   1.5397
  49K619940107,   P02,    75,  1,      5,      5,2,19940204,2233, 29.9855,-140.6648, 4654,30437.5000,   3040.5,   1.5470,  34.6664,2,  34.6677,2,    122.1,2,    122.7,2,   166.70,2,    37.76,2,     2.74,2,    0.002,2,    0.000,2,   2351.0,2,   2413.0,2,   7.5200,2,    25.00,   -999.0,9,   -999.0,   1.3253
  49K619940107,   P02,    75,  1,      4,      4,2,19940204,2233, 29.9855,-140.6648, 4654,35549.4000,   3552.9,   1.4979,  34.6764,2,  34.6774,2,    134.6,2,    136.3,2,   165.20,6,    36.90,6,     2.67,6,    0.002,2,    0.000,2,   2344.0,2,   2417.0,2,   7.5400,2,    25.00,   -999.0,9,   -999.0,   1.2264
  49K619940107,   P02,    75,  1,      3,      3,2,19940204,2233, 29.9855,-140.6648, 4654,40657.9000,   4064.9,   1.4977,  34.6824,2,  34.6831,2,    143.5,2,   -999.0,9,   162.60,2,    36.70,2,     2.62,2,    0.000,2,    0.003,2,   2343.0,2,   2418.0,2,   7.5600,2,    25.00,   -999.0,9,   -999.0,   1.1717
  49K619940107,   P02,    75,  1,      2,      2,2,19940204,2233, 29.9855,-140.6648, 4654,45788.3000,   4578.8,   1.5230,  34.6867,2,  34.6867,2,    150.3,2,    149.0,2,   159.00,2,    36.24,2,     2.58,2,    0.001,2,    0.000,2,   2334.0,2,   2423.0,2,   7.5600,2,    25.00,   -999.0,9,   -999.0,   1.1381
  49K619940107,   P02,    75,  1,      1,      1,2,19940204,2233, 29.9855,-140.6648, 4654,47932.8000,   4793.4,   1.5465,  34.6863,2,  34.6874,2,    152.0,2,    152.3,2,   156.80,6,    36.32,6,     2.59,6,    0.001,2,    0.000,2,   2336.0,2,   2419.0,2,   7.5700,2,    25.00,   -999.0,9,   -999.0,   1.1355