BOTTLE,20220810CCHSIOAMB
EXPOCODE,SECT_ID,STNNBR,CASTNO,SAMPNO,BTLNBR,BTLNBR_FLAG_W,DATE,TIME,LATITUDE,LONGITUDE,DEPTH,CTDRAW,CTDPRS,CTDTMP,CTDSAL,CTDSAL_FLAG_W,SALNTY,SALNTY_FLAG_W,CTDOXY,CTDOXY_FLAG_W,OXYGEN,OXYGEN_FLAG_W,SILCAT,SILCAT_FLAG_W,NITRAT,NITRAT_FLAG_W,PHSPHT,PHSPHT_FLAG_W,CFC-11,CFC-11_FLAG_W,CFC-12,CFC-12_FLAG_W,TCARBN,TCARBN_FLAG_W,ALKALI,ALKALI_FLAG_W,PH_TOT,PH_TOT_FLAG_W,PH_TMP,DELC14,DELC14_FLAG_W,C14ERR,THETA
,,,,,,,,,,,METERS,,DBAR,ITS-90,PSS-78,,PSS-78,,UMOL/KG,,UMOL/KG,,UMOL/KG,,UMOL/KG,,UMOL/KG,,PMOL/KG,,PMOL/KG,,UMOL/KG,,UMOL/KG,,,,DEG C,/MILLE,,/MILLE,DEG C
  49K619940107,   P02,    21,  1,     24,     24,2,19940112,1648, 30.0020, 138.0752, 3985,  171.4000,     16.5,  20.8500,  34.8975,3,  34.8822,2,    211.8,2,    220.2,3,     2.10,4,     1.85,3,     0.21,4,    2.266,2,    1.180,2,   1969.0,2,   2294.0,2,   8.0600,2,    25.00,   -999.0,9,   -999.0,  20.8469
  49K619940107,   P02,    21,  1,     23,     23,2,19940112,1648, 30.0020, 138.0752, 3985,  555.5000,     54.6,  20.8507,  34.8978,3,  34.8689,2,    215.3,2,    222.7,3,  -999.00,9,  -999.00,9,  -999.00,9,    2.366,2,    1.173,2,   1965.0,2,   -999.0,9,   8.0600,2,    25.00,   -999.0,9,   -999.0,  20.8403
  49K619940107,   P02,    21,  1,     22,     22,2,19940112,1648, 30.0020, 138.0752, 3985,  814.6000,     80.4,  20.8493,  34.8975,3,  34.8839,2,    217.3,2,    218.1,3,     2.10,4,     2.06,3,     0.21,4,    2.083,3,    1.236,3,   1967.0,2,   2294.0,2,   8.0600,2,    25.00,   -999.0,9,   -999.0,  20.8340
  49K619940107,   P02,    21,  1,     21,     21,2,19940112,1648, 30.0020, 138.0752, 3985, 1066.8000,    105.4,  20.8098,  34.8892,3,  34.8838,2,    216.2,2,    217.3,3,     1.90,4,     2.48,3,     0.21,4,    2.291,2,    1.173,2,   1971.0,2,   2290.0,2,   8.0600,2,    25.00,   -999.0,9,   -999.0,  20.7898
  49K619940107,   P02,    21,  1,     20,     20,2,19940112,1648, 30.0020, 138.0752, 3985, 1555.3000,    153.9,  20.6706,  34.8952,3,  34.8684,2,    215.3,2,    218.6,3,     2.10,2,     2.90,3,     0.20,2,    2.805,3,    1.181,2,   1969.0,2,   2291.0,2,   8.0600,2,    25.00,   -999.0,9,   -999.0,  20.6415
  49K619940107,   P02,    21,  1,     19,     19,4,19940112,1648, 30.0020, 138.0752, 3985, 2069.5000,    205.0,  19.1388,  34.8562,2,-999.0000,9,    198.7,2,   -999.0,9,  -999.00,9,  -999.00,9,  -999.00,9, -999.000,9, -999.000,9,   -999.0,9,   -999.0,9,-999.0000,9,  -999.00,   -999.0,9,   -999.0,  19.1021
  49K619940107,   P02,    21,  1,     18,     18,2,19940112,1648, 30.0020, 138.0752, 3985, 2563.0000,    254.1,  18.1160,  34.8284,3,  34.8321,2,    203.7,2,    205.7,3,     3.70,2,     4.80,3,     0.40,2,    2.236,2,    1.275,2,   2007.0,2,   2290.0,2,   7.9900,2,    25.00,   -999.0,9,   -999.0,  18.0722
  49K619940107,   P02,    21,  1,     17,     17,2,19940112,1648, 30.0020, 138.0752, 3985, 3071.1000,    304.6,  17.4735,  34.8008,2,  34.8014,2,    207.0,2,    202.6,3,     4.50,2,     6.03,3,     0.46,2,    2.293,2,    1.265,2,   2018.0,2,   2288.0,2,   7.9700,2,    25.00,   -999.0,9,   -999.0,  17.4222
  49K619940107,   P02,    21,  1,     16,     16,2,19940112,1648, 30.0020, 138.0752, 3985, 4110.4000,    408.0,  15.8508,  34.6851,3,  34.6955,2,    193.7,2,    190.4,3,     7.20,2,     9.20,3,     0.68,2, -999.000,9, -999.000,9,   2042.0,2,   2284.0,2,   7.9200,2,    25.00,   -999.0,9,   -999.0,  15.7864
  49K619940107,   P02,    21,  1,     15,     15,2,19940112,1648, 30.0020, 138.0752, 3985, 5075.3000,    504.0,  12.9618,  34.4773,3,  34.4836,2,    181.7,2,    177.9,3,    17.20,6,    13.34,3,     1.11,6,    1.768,2,    1.005,2,   2091.0,2,   2279.0,2,   7.8200,2,    25.00,   -999.0,9,   -999.0,  12.8922
  49K619940107,   P02,    21,  1,     14,     14,2,19940112,1648, 30.0020, 138.0752, 3985, 6099.5000,    606.0,  10.3205,  34.3185,3,  34.3249,2,    159.9,2,    161.0,3,    31.10,2,    19.01,3,     1.56,2,    1.396,2,    0.793,2,   2135.0,2,   2282.0,2,   7.7200,2,    25.00,   -999.0,9,   -999.0,  10.2479
  49K619940107,   P02,    21,  1,     13,     13,2,19940112,1648, 30.0020, 138.0752, 3985, 7093.0000,    704.9,   7.9856,  34.1920,3,  34.2202,2,    141.2,2,    149.1,3,    47.20,2,    25.13,3,     1.94,2,    1.226,2,    0.700,2,   2177.0,2,   2292.0,2,   7.6300,2,    25.00,   -999.0,9,   -999.0,   7.9128
  49K619940107,   P02,    21,  1,     12,     12,2,19940112,1648, 30.0020, 138.0752, 3985, 8090.5000,    804.3,   6.1426,  34.1765,3,  34.1949,2,    104.4,2,    109.2,3,    69.20,2,    31.53,3,     2.40,2,    0.701,2,    0.433,2,   2240.0,2,   2314.0,2,   7.5200,2,    25.00,   -999.0,9,   -999.0,   6.0701
  49K619940107,   P02,    21,  1,     11,     11,2,19940112,1648, 30.0020, 138.0752, 3985, 9111.6000,    906.1,   4.9718,  34.2438,2,  34.2419,2,     81.3,2,     78.5,3,    90.70,2,    35.29,3,     2.74,2,    0.395,2,    0.232,2,   2288.0,2,   2327.0,2,   7.4400,2,    25.00,   -999.0,9,   -999.0,   4.8975
  49K619940107,   P02,    21,  1,     10,     10,2,19940112,1648, 30.0020, 138.0752, 3985,10119.3000,   1006.7,   4.2532,  34.3315,2,  34.3317,2,     67.3,2,   -999.0,9,   108.50,2,    38.87,3,     2.89,2,    0.150,2,    0.095,2,   2316.0,2,   2352.0,2,   7.4100,2,    25.00,   -999.0,9,   -999.0,   4.1753
  49K619940107,   P02,    21,  1,      9,      9,2,19940112,1648, 30.0020, 138.0752, 3985,12636.0000,   1257.9,   3.1455,  34.4581,2,  34.4571,2,     65.7,2,     73.3,3,   131.50,6,    39.43,3,     2.98,6,    0.033,2,    0.005,2,   2343.0,2,   2380.0,2,   7.4100,2,    25.00,   -999.0,9,   -999.0,   3.0562
  49K619940107,   P02,    21,  1,      8,      8,4,19940112,1648, 30.0020, 138.0752, 3985,15180.4000,   1512.1,   2.5903,  34.5173,2,-999.0000,9,     73.2,2,   -999.0,9,  -999.00,9,  -999.00,9,  -999.00,9,    0.007,4,    0.016,4,   2356.0,2,   2386.0,2,   7.4200,2,    25.00,   -999.0,9,   -999.0,   2.4863
  49K619940107,   P02,    21,  1,      7,      7,2,19940112,1648, 30.0020, 138.0752, 3985,17704.2000,   1764.4,   2.2629,  34.5653,3,  34.5152,2,     90.6,2,   -999.0,9,  -999.00,9,  -999.00,9,  -999.00,9, -999.000,9, -999.000,9,   -999.0,9,   -999.0,9,-999.0000,9,  -999.00,   -999.0,9,   -999.0,   2.1426
  49K619940107,   P02,    21,  1,      6,      6,2,19940112,1648, 30.0020, 138.0752, 3985,20244.2000,   2018.6,   1.9983,  34.6022,2,  34.6000,2,    103.8,2,    105.6,3,   149.70,2,    38.50,3,     2.86,2,    0.005,2,    0.002,2,   2350.0,2,   2404.0,2,   7.4800,2,    25.00,   -999.0,9,   -999.0,   1.8604
  49K619940107,   P02,    21,  1,      5,      5,2,19940112,1648, 30.0020, 138.0752, 3985,22785.7000,   2273.1,   1.8532,  34.6269,2,  34.6241,2,    119.2,2,    122.7,3,   145.10,2,    37.53,3,     2.67,2,    0.007,2,    0.002,2,   2343.0,2,   2406.0,2,   7.5100,2,    25.00,   -999.0,9,   -999.0,   1.6958
  49K619940107,   P02,    21,  1,      4,      4,4,19940112,1648, 30.0020, 138.0752, 3985,25345.0000,   2529.4,   1.7225,  34.6466,2,-999.0000,9,    130.3,2,   -999.0,9,  -999.00,9,  -999.00,9,  -999.00,9, -999.000,9, -999.000,9,   -999.0,9,   -999.0,9,-999.0000,9,  -999.00,   -999.0,9,   -999.0,   1.5448
  49K619940107,   P02,    21,  1,      3,      3,2,19940112,1648, 30.0020, 138.0752, 3985,30437.6000,   3039.8,   1.5978,  34.6668,2,  34.6650,2,    143.6,2,    143.7,3,   142.40,2,    32.81,3,     2.67,2,    0.000,2,    0.001,2,   2334.0,2,   2414.0,2,   7.5500,2,    25.00,   -999.0,9,   -999.0,   1.3750
  49K619940107,   P02,    21,  1,      2,      2,2,19940112,1648, 30.0020, 138.0752, 3985,35569.3000,   3554.2,   1.5304,  34.6801,2,  34.6783,2,    152.4,2,    154.5,3,   141.10,2,    30.57,3,     2.61,2,    0.003,2,    0.000,2,   2329.0,2,   2412.0,2,   7.5700,2,    25.00,   -999.0,9,   -999.0,   1.2579
  49K619940107,   P02,    21,  1,      1,      1,4,19940112,1648, 30.0020, 138.0752, 3985,40379.0000,   4036.3,   1.5355,  34.6849,2,-999.0000,9,    156.5,2,   -999.0,9,  -999.00,9,  -999.00,9,  -999.00,9, -999.000,9, -999.000,9,   -999.0,9,   -999.0,9,-999.0000,9,  -999.00,   -999.0,9,   -999.0,   1.2116
  49K619940107,   P02,    23,  1,     24,     24,2,19940113,0213, 30.0017, 139.2610, 2628,  194.1000,     18.8,  20.4268,  34.8856,2,  34.8834,2,    223.6,2,    226.0,3,     1.10,2,     2.14,2,     0.21,2,    2.273,2,    1.275,2,   1981.0,2,   2286.0,2,   8.0600,2,    25.00,   -999.0,9,   -999.0,  20.4233
  49K619940107,   P02,    23,  1,     23,     23,2,19940113,0213, 30.0017, 139.2610, 2628,  362.4000,     35.5,  20.4349,  34.8909,3,  34.8865,2,    218.0,2,    224.4,3,     1.10,2,     2.17,2,     0.21,2,    2.380,2,    1.310,2,   1976.0,2,   2288.0,2,   8.0600,2,    25.00,   -999.0,9,   -999.0,  20.4283
  49K619940107,   P02,    23,  1,     22,     22,4,19940113,0213, 30.0017, 139.2610, 2628,  600.2000,     59.1,  20.3859,  34.9074,2,-999.0000,9,    222.1,2,   -999.0,9,  -999.00,9,  -999.00,9,  -999.00,9, -999.000,9, -999.000,9,   -999.0,9,   -999.0,9,-999.0000,9,  -999.00,   -999.0,9,   -999.0,  20.3749
  49K619940107,   P02,    23,  1,     21,     21,2,19940113,0213, 30.0017, 139.2610, 2628,  819.7000,     80.9,  20.2872,  34.9099,2,  34.9093,2,    222.9,2,    220.6,3,     1.10,2,     1.82,2,     0.19,2,    2.456,2,    1.275,2,   1983.0,2,   2293.0,2,   8.0500,2,    25.00,   -999.0,9,   -999.0,  20.2721
  49K619940107,   P02,    23,  1,     20,     20,2,19940113,0213, 30.0017, 139.2610, 2628, 1085.4000,    107.3,  20.2174,  34.9070,2,  34.9051,2,    219.3,2,   -999.0,9,     1.10,2,     1.96,2,     0.20,2,    2.514,2,    1.282,2,   1981.0,2,   2286.0,2,   8.0500,2,    25.00,   -999.0,9,   -999.0,  20.1974
  49K619940107,   P02,    23,  1,     19,     19,2,19940113,0213, 30.0017, 139.2610, 2628, 1315.5000,    130.1,  19.5799,  34.8739,3,  34.8877,2,    217.7,2,    231.6,3,     2.40,2,     1.79,2,     0.23,2,    2.459,2,    1.275,2,   1988.0,2,   2285.0,2,   8.0300,2,    25.00,   -999.0,9,   -999.0,  19.5562
  49K619940107,   P02,    23,  1,     18,     18,2,19940113,0213, 30.0017, 139.2610, 2628, 1581.5000,    156.6,  18.3641,  34.8302,3,  34.8550,2,    206.6,2,    219.9,3,  -999.00,9,  -999.00,9,  -999.00,9,    2.365,2,    1.418,2,   2008.0,2,   2287.0,2,   8.0000,2,    25.00,   -999.0,9,   -999.0,  18.3369
  49K619940107,   P02,    23,  1,     17,     17,2,19940113,0213, 30.0017, 139.2610, 2628, 2094.2000,    207.5,  17.6989,  34.8038,3,  34.8128,2,    207.3,2,    211.8,3,     3.40,3,     3.73,3,     0.43,6,    2.358,2,    1.329,2,   2019.0,2,   2279.0,2,   7.9800,2,    25.00,   -999.0,9,   -999.0,  17.6637
  49K619940107,   P02,    23,  1,     16,     16,4,19940113,0213, 30.0017, 139.2610, 2628, 2581.9000,    256.0,  17.2269,  34.7816,2,-999.0000,9,    201.0,2,   -999.0,9,  -999.00,9,  -999.00,9,  -999.00,9, -999.000,9, -999.000,9,   -999.0,9,   -999.0,9,-999.0000,9,  -999.00,   -999.0,9,   -999.0,  17.1843
  49K619940107,   P02,    23,  1,     15,     15,2,19940113,0213, 30.0017, 139.2610, 2628, 3095.4000,    307.0,  16.3033,  34.7150,3,  34.7331,2,    198.3,2,    197.5,3,     7.10,3,     6.26,3,     0.62,6,    2.220,2,    1.252,2,   2043.0,2,   2279.0,2,   7.9300,2,    25.00,   -999.0,9,   -999.0,  16.2540
  49K619940107,   P02,    23,  1,     14,     14,2,19940113,0213, 30.0017, 139.2610, 2628, 4104.9000,    407.4,  14.5195,  34.5816,3,  34.5970,2,    189.1,2,    199.5,3,    11.50,2,     9.79,2,     0.87,2,    2.032,2,    1.139,2,   2069.0,2,   2274.0,2,   7.8800,2,    25.00,   -999.0,9,   -999.0,  14.4589
  49K619940107,   P02,    23,  1,     13,     13,2,19940113,0213, 30.0017, 139.2610, 2628, 5087.5000,    505.2,  12.6368,  34.4518,2,  34.4506,2,    182.0,2,    188.6,3,    19.10,2,    13.76,2,     1.13,2,    1.912,2,    1.079,2,   2098.0,2,   2272.0,2,   7.8100,2,    25.00,   -999.0,9,   -999.0,  12.5682
  49K619940107,   P02,    23,  1,     12,     12,2,19940113,0213, 30.0017, 139.2610, 2628, 6087.6000,    604.8,  10.1704,  34.3132,3,  34.2927,2,    163.6,2,    173.9,3,  -999.00,9,  -999.00,9,  -999.00,9,    1.607,2,    0.921,2,   2139.0,2,   2276.0,2,   7.7200,2,    25.00,   -999.0,9,   -999.0,  10.0986
  49K619940107,   P02,    23,  1,     11,     11,2,19940113,0213, 30.0017, 139.2610, 2628, 7094.3000,    705.1,   7.3945,  34.1340,3,  34.1497,2,    128.8,2,   -999.0,9,    53.70,2,    24.81,2,     2.04,2,    1.338,2,    0.755,2,   2196.0,2,   2284.0,2,   7.6000,2,    25.00,   -999.0,9,   -999.0,   7.3249
  49K619940107,   P02,    23,  1,     10,     10,2,19940113,0213, 30.0017, 139.2610, 2628, 8102.0000,    805.5,   5.7537,  34.1689,3,  34.1645,2,     99.9,2,    134.1,3,    78.50,2,    31.49,2,     2.50,2,    0.729,2,    0.445,2,   2257.0,2,   2306.0,2,   7.4900,2,    25.00,   -999.0,9,   -999.0,   5.6835
  49K619940107,   P02,    23,  1,      9,      9,2,19940113,0213, 30.0017, 139.2610, 2628, 9106.5000,    905.6,   4.7737,  34.2382,2,  34.2375,2,     74.0,2,     86.5,3,    96.70,2,    34.56,2,     2.78,2,    0.350,2,    0.223,2,   2295.0,2,   2326.0,2,   7.4300,2,    25.00,   -999.0,9,   -999.0,   4.7008
  49K619940107,   P02,    23,  1,      8,      8,2,19940113,0213, 30.0017, 139.2610, 2628,10116.7000,   1006.4,   4.0260,  34.2902,2,  34.2882,2,     60.6,2,     73.6,3,   118.00,2,    38.14,2,     2.94,2,    0.209,2,    0.154,2,   2323.0,2,   2344.0,2,   7.3900,2,    25.00,   -999.0,9,   -999.0,   3.9500
  49K619940107,   P02,    23,  1,      7,      7,2,19940113,0213, 30.0017, 139.2610, 2628,11130.9000,   1107.6,   3.6455,  34.3443,2,  34.3469,2,     53.5,2,     65.6,3,   126.60,2,    38.51,2,     3.02,2,    0.121,2,    0.088,2,   2343.0,2,   2354.0,2,   7.3800,2,    25.00,   -999.0,9,   -999.0,   3.5641
  49K619940107,   P02,    23,  1,      6,      6,2,19940113,0213, 30.0017, 139.2610, 2628,12640.1000,   1258.3,   3.2824,  34.4216,2,  34.4210,2,     59.6,2,     66.4,3,   131.80,2,    38.77,2,     3.11,2,    0.060,2,    0.039,2,   2344.0,2,   2368.0,2,   7.3900,2,    25.00,   -999.0,9,   -999.0,   3.1919
  49K619940107,   P02,    23,  1,      5,      5,2,19940113,0213, 30.0017, 139.2610, 2628,15154.2000,   1509.5,   2.6546,  34.5040,2,  34.5033,2,     68.1,2,     81.5,3,   144.40,2,    39.20,2,     3.01,2,    0.021,2,    0.013,2,   2359.0,2,   2385.0,2,   7.4100,2,    25.00,   -999.0,9,   -999.0,   2.5501
  49K619940107,   P02,    23,  1,      4,      4,4,19940113,0213, 30.0017, 139.2610, 2628,17700.7000,   1764.1,   2.2280,  34.5702,2,-999.0000,9,     88.8,2,   -999.0,9,   147.70,3,    38.35,3,     2.87,4,    0.042,4,    0.026,4,   2348.0,2,   2388.0,2,   7.4400,2,    25.00,   -999.0,9,   -999.0,   2.1080
  49K619940107,   P02,    23,  1,      3,      3,2,19940113,0213, 30.0017, 139.2610, 2628,20252.1000,   2019.4,   1.9216,  34.6109,2,  34.6117,2,    105.9,2,    127.3,3,   151.00,2,    37.51,2,     2.85,2,    0.003,2,    0.000,2,   2348.0,2,   2397.0,2,   7.4800,2,    25.00,   -999.0,9,   -999.0,   1.7848
  49K619940107,   P02,    23,  1,      2,      2,2,19940113,0213, 30.0017, 139.2610, 2628,25337.4000,   2528.7,   1.6846,  34.6499,2,  34.6477,2,    128.5,2,    143.8,3,   149.40,2,    36.40,2,     2.74,2,    0.000,2,    0.001,2,   2340.0,2,   2409.0,2,   7.5200,2,    25.00,   -999.0,9,   -999.0,   1.5076
  49K619940107,   P02,    23,  1,      1,      1,4,19940113,0213, 30.0017, 139.2610, 2628,26527.2000,   2647.9,   1.6650,  34.6538,2,-999.0000,9,    132.8,2,   -999.0,9,   151.00,4,    36.96,4,     2.74,4,    0.003,2,    0.005,2,   2336.0,2,   2403.0,2,   7.5300,2,    25.00,   -999.0,9,   -999.0,   1.4776