BOTTLE,20220810CCHSIOAMB
EXPOCODE,SECT_ID,STNNBR,CASTNO,SAMPNO,BTLNBR,BTLNBR_FLAG_W,DATE,TIME,LATITUDE,LONGITUDE,DEPTH,CTDRAW,CTDPRS,CTDTMP,CTDSAL,CTDSAL_FLAG_W,SALNTY,SALNTY_FLAG_W,CTDOXY,CTDOXY_FLAG_W,OXYGEN,OXYGEN_FLAG_W,SILCAT,SILCAT_FLAG_W,NITRAT,NITRAT_FLAG_W,PHSPHT,PHSPHT_FLAG_W,CFC-11,CFC-11_FLAG_W,CFC-12,CFC-12_FLAG_W,TCARBN,TCARBN_FLAG_W,ALKALI,ALKALI_FLAG_W,PH_TOT,PH_TOT_FLAG_W,PH_TMP,DELC14,DELC14_FLAG_W,C14ERR,THETA
,,,,,,,,,,,METERS,,DBAR,ITS-90,PSS-78,,PSS-78,,UMOL/KG,,UMOL/KG,,UMOL/KG,,UMOL/KG,,UMOL/KG,,PMOL/KG,,PMOL/KG,,UMOL/KG,,UMOL/KG,,,,DEG C,/MILLE,,/MILLE,DEG C
  49K619940107,   P02,    66,  1,     24,     24,2,19940131,0823, 30.0063,-161.9078, 5622,  285.4000,     28.3,  16.6591,  34.6905,2,  34.6877,2,    247.7,3,    244.9,2,     5.40,2,     0.00,2,     0.21,2,    2.823,2,    1.494,2,   -999.0,9,   -999.0,9,   8.0000,2,    25.00,   -999.0,9,   -999.0,  16.6545
  49K619940107,   P02,    66,  1,     23,     23,4,19940131,0823, 30.0063,-161.9078, 5622,  555.8000,     55.2,  16.6497,  34.6889,2,-999.0000,9,    245.0,2,   -999.0,9,  -999.00,9,  -999.00,9,  -999.00,9, -999.000,9, -999.000,9,   -999.0,9,   -999.0,9,-999.0000,9,  -999.00,   -999.0,9,   -999.0,  16.6408
  49K619940107,   P02,    66,  1,     22,     22,2,19940131,0823, 30.0063,-161.9078, 5622,  588.9000,     58.5,  16.6464,  34.6890,2,  34.6890,2,    245.2,3,    242.4,2,     5.30,2,     0.00,2,     0.22,2,    2.788,2,    1.477,2,   2012.0,2,   2269.0,2,   8.0000,2,    25.00,   -999.0,9,   -999.0,  16.6369
  49K619940107,   P02,    66,  1,     21,     21,2,19940131,0823, 30.0063,-161.9078, 5622, 1080.7000,    107.3,  16.6128,  34.6939,3,  34.6900,2,    241.3,2,    242.4,2,     5.30,2,     0.00,2,     0.23,2,    2.782,2,    1.464,2,   2007.0,2,   2269.0,2,   8.0000,2,    25.00,   -999.0,9,   -999.0,  16.5954
  49K619940107,   P02,    66,  1,     20,     20,2,19940131,0823, 30.0063,-161.9078, 5622, 2129.8000,    211.5,  12.8617,  34.4058,3,  34.4385,2,    228.9,3,    222.7,2,    10.00,2,     6.21,2,     0.70,2,    3.059,2,    1.602,2,   2060.0,2,   2257.0,2,   7.8900,2,    25.00,   -999.0,9,   -999.0,  12.8330
  49K619940107,   P02,    66,  1,     19,     19,2,19940131,0823, 30.0063,-161.9078, 5622, 3150.5000,    313.0,  11.0175,  34.2542,3,  34.2695,2,    224.1,2,    222.9,2,    15.00,2,    10.25,2,     0.97,2,    3.071,2,    1.519,2,   2086.0,2,   2254.0,2,   7.8300,2,    25.00,   -999.0,9,   -999.0,  10.9790
  49K619940107,   P02,    66,  1,     18,     18,2,19940131,0823, 30.0063,-161.9078, 5622, 4095.9000,    407.0,   9.1536,  34.1260,3,  34.1395,2,    197.5,3,    202.8,2,    23.60,6,    16.13,6,     1.38,6,    2.565,2,    1.323,2,   2120.0,2,   2253.0,2,   7.7500,2,    25.00,   -999.0,9,   -999.0,   9.1089
  49K619940107,   P02,    66,  1,     17,     17,2,19940131,0823, 30.0063,-161.9078, 5622, 5128.2000,    509.8,   7.2978,  34.0362,2,  34.0352,2,    170.1,2,    169.0,2,    39.20,2,    23.34,2,     1.84,2,    1.776,2,    0.943,2,   2166.0,2,   2261.0,2,   7.6400,2,    25.00,   -999.0,9,   -999.0,   7.2486
  49K619940107,   P02,    66,  1,     16,     16,2,19940131,0823, 30.0063,-161.9078, 5622, 6133.1000,    609.8,   5.6682,  34.0032,2,  34.0046,2,    113.4,3,    106.9,2,    62.90,2,    33.04,2,     2.50,2,    0.615,2,    0.387,2,   2245.0,2,   2278.0,2,   7.4700,2,    25.00,   -999.0,9,   -999.0,   5.6165
  49K619940107,   P02,    66,  1,     15,     15,2,19940131,0823, 30.0063,-161.9078, 5622, 7109.2000,    707.0,   4.6497,  34.0733,3,  34.0591,2,     63.9,2,     62.3,2,    84.20,6,    36.43,3,     2.86,6,    0.157,2,    0.126,2,   2293.0,2,   2295.0,2,   7.3700,2,    25.00,   -999.0,9,   -999.0,   4.5947
  49K619940107,   P02,    66,  1,     14,     14,2,19940131,0823, 30.0063,-161.9078, 5622, 8131.5000,    808.9,   4.2166,  34.1572,2,  34.1569,2,     29.4,2,     28.9,2,   100.50,2,    40.51,2,     3.10,2,    0.022,2,    0.026,2,   2331.0,2,   2314.0,2,   7.3000,2,    25.00,   -999.0,9,   -999.0,   4.1557
  49K619940107,   P02,    66,  1,     13,     13,2,19940131,0823, 30.0063,-161.9078, 5622,10217.0000,   1016.9,   3.5853,  34.3462,3,  34.3297,2,     15.0,3,     12.5,2,   125.20,2,    42.16,2,     3.28,2,    0.004,2,    0.000,2,   2365.0,2,   2344.0,2,   7.3000,2,    25.00,   -999.0,9,   -999.0,   3.5118
  49K619940107,   P02,    66,  1,     12,     12,2,19940131,0823, 30.0063,-161.9078, 5622,12713.8000,   1266.1,   3.0627,  34.4873,2,  34.4854,2,     30.9,2,     29.9,2,   139.40,2,    41.19,2,     3.22,2,    0.018,4,    0.000,4,   2373.0,2,   2373.0,2,   7.3500,2,    25.00,   -999.0,9,   -999.0,   2.9735
  49K619940107,   P02,    66,  1,     11,     11,2,19940131,0823, 30.0063,-161.9078, 5622,15256.8000,   1520.2,   2.5855,  34.5541,3,  34.5504,2,     53.8,2,     54.0,2,   152.80,2,    39.93,2,     3.08,2,    0.004,2,    0.000,2,   2364.0,3,   2385.0,2,   7.3900,2,    25.00,   -999.0,9,   -999.0,   2.4809
  49K619940107,   P02,    66,  1,     10,     10,2,19940131,0823, 30.0063,-161.9078, 5622,17760.9000,   1770.6,   2.2459,  34.5871,2,  34.5878,2,     67.7,2,     67.4,2,   161.10,2,    39.08,2,     3.02,2,    0.005,2,    0.000,2,   2374.0,2,   2398.0,2,   7.4200,2,    25.00,   -999.0,9,   -999.0,   2.1251
  49K619940107,   P02,    66,  1,      9,      9,2,19940131,0823, 30.0063,-161.9078, 5622,20295.3000,   2024.2,   1.9935,  34.6130,2,  34.6138,2,     80.9,2,     81.3,2,   167.20,2,    38.38,3,     2.95,2,    0.002,2,    0.000,2,   2361.0,2,   2401.0,2,   7.4500,2,    25.00,   -999.0,9,   -999.0,   1.8552
  49K619940107,   P02,    66,  1,      8,      8,2,19940131,0823, 30.0063,-161.9078, 5622,25367.1000,   2532.1,   1.7050,  34.6449,2,  34.6438,2,    104.3,2,    103.3,2,   170.70,2,    37.67,2,     2.85,2,    0.000,2,    0.000,2,   2370.0,3,   2407.0,2,   7.4800,2,    25.00,   -999.0,9,   -999.0,   1.5274
  49K619940107,   P02,    66,  1,      7,      7,2,19940131,0823, 30.0063,-161.9078, 5622,30481.0000,   3044.7,   1.5614,  34.6639,2,  34.6636,2,    122.7,2,    122.2,2,   167.10,2,    36.80,2,     2.75,2,    0.002,2,    0.000,2,   2346.0,2,   2409.0,2,   7.5200,2,    25.00,   -999.0,9,   -999.0,   1.3390
  49K619940107,   P02,    66,  1,      6,      6,2,19940131,0823, 30.0063,-161.9078, 5622,35568.9000,   3554.7,   1.4920,  34.6768,2,  34.6766,2,    137.6,2,    137.3,2,   159.80,2,    35.09,2,     2.66,2,    0.000,2,    0.000,2,   2335.0,2,   2409.0,2,   7.5400,2,    25.00,   -999.0,9,   -999.0,   1.2204
  49K619940107,   P02,    66,  1,      5,      5,2,19940131,0823, 30.0063,-161.9078, 5622,40661.8000,   4065.1,   1.4775,  34.6836,2,  34.6823,2,    148.0,3,    143.0,2,   159.60,2,    33.38,2,     2.61,2,    0.000,2,    0.001,2,   2329.0,2,   2408.0,2,   7.5600,2,    25.00,   -999.0,9,   -999.0,   1.1521
  49K619940107,   P02,    66,  1,      4,      4,2,19940131,0823, 30.0063,-161.9078, 5622,45802.5000,   4580.0,   1.4999,  34.6862,2,  34.6874,2,    153.8,3,    148.8,2,   158.10,6,    34.60,3,     2.59,6,    0.002,2,    0.003,2,   2324.0,2,   2407.0,2,   7.5700,2,    25.00,   -999.0,9,   -999.0,   1.1156
  49K619940107,   P02,    66,  1,      3,      3,2,19940131,0823, 30.0063,-161.9078, 5622,50948.5000,   5094.8,   1.5344,  34.6891,2,  34.6896,2,    159.3,2,    158.0,2,   156.20,2,    33.04,2,     2.56,2,    0.000,2,    0.000,2,   2320.0,2,   2405.0,2,   7.5800,2,    25.00,   -999.0,9,   -999.0,   1.0873
  49K619940107,   P02,    66,  1,      2,      2,2,19940131,0823, 30.0063,-161.9078, 5622,56122.6000,   5611.6,   1.5799,  34.6919,2,  34.6913,2,    164.4,3,    161.4,2,   148.50,2,    34.41,2,     2.54,2,    0.004,2,    0.000,2,   2316.0,2,   2402.0,2,   7.5900,2,    25.00,   -999.0,9,   -999.0,   1.0659
  49K619940107,   P02,    66,  1,      1,      1,2,19940131,0823, 30.0063,-161.9078, 5622,57115.0000,   5710.6,   1.5897,  34.6929,2,  34.6923,2,    165.1,3,    162.6,2,   147.30,6,    34.57,3,     2.53,6,    0.000,2,    0.000,2,   2311.0,2,   2400.0,2,   7.5900,2,    25.00,   -999.0,9,   -999.0,   1.0625
  49K619940107,   P02,    67,  1,     24,     24,2,19940131,2332, 29.9948,-159.1570, 5770,  277.4000,     27.5,  16.5807,  34.7223,3,  34.7174,2,    238.4,3,    242.4,2,     5.10,2,     0.00,2,     0.20,2,    2.728,2,    1.471,2,   -999.0,9,   -999.0,9,   8.0000,2,    25.00,   -999.0,9,   -999.0,  16.5763
  49K619940107,   P02,    67,  1,     23,     23,4,19940131,2332, 29.9948,-159.1570, 5770,  628.9000,     62.4,  16.5690,  34.7212,2,-999.0000,9,    243.2,2,   -999.0,9,  -999.00,9,  -999.00,9,  -999.00,9, -999.000,9, -999.000,9,   -999.0,9,   -999.0,9,-999.0000,9,  -999.00,   -999.0,9,   -999.0,  16.5589
  49K619940107,   P02,    67,  1,     22,     22,2,19940131,2332, 29.9948,-159.1570, 5770, 1164.5000,    115.6,  16.5306,  34.7202,3,  34.7161,2,    243.1,3,    240.5,2,     5.20,2,     0.00,2,     0.21,2,    2.730,2,    1.487,2,   2000.0,2,   2266.0,2,   8.0000,2,    25.00,   -999.0,9,   -999.0,  16.5120
  49K619940107,   P02,    67,  1,     21,     21,2,19940131,2332, 29.9948,-159.1570, 5770, 1801.5000,    178.9,  13.6579,  34.4852,3,  34.5314,2,    224.2,2,    225.3,2,     7.50,2,     5.62,2,     0.56,2,    2.948,2,    1.549,2,   2039.0,2,   2254.0,2,   7.9200,2,    25.00,   -999.0,9,   -999.0,  13.6326
  49K619940107,   P02,    67,  1,     20,     20,2,19940131,2332, 29.9948,-159.1570, 5770, 2223.1000,    220.8,  12.9335,  34.3991,3,  34.4287,2,    224.0,2,    223.6,2,     9.30,2,     7.46,2,     0.68,2,    3.006,2,    1.570,2,   2052.0,2,   2249.0,2,   7.8900,2,    25.00,   -999.0,9,   -999.0,  12.9034
  49K619940107,   P02,    67,  1,     19,     19,2,19940131,2332, 29.9948,-159.1570, 5770, 3163.2000,    314.3,  11.1758,  34.2613,3,  34.2831,2,    219.4,3,    223.7,2,    14.00,2,    11.13,2,     0.93,2,    3.049,2,    1.561,2,   2080.0,2,   2248.0,2,   7.8300,2,    25.00,   -999.0,9,   -999.0,  11.1368
  49K619940107,   P02,    67,  1,     18,     18,2,19940131,2332, 29.9948,-159.1570, 5770, 4185.5000,    415.9,   9.5626,  34.1603,3,  34.1703,2,    196.2,3,    209.5,2,    21.20,3,    16.00,6,     1.26,6,    2.756,2,    1.408,2,   2100.0,2,   2250.0,2,   7.7700,2,    25.00,   -999.0,9,   -999.0,   9.5156
  49K619940107,   P02,    67,  1,     17,     17,2,19940131,2332, 29.9948,-159.1570, 5770, 5189.7000,    515.9,   7.5552,  34.0384,3,  34.0557,2,    163.1,3,    181.0,2,    33.90,2,    22.14,2,     1.69,2,    2.003,2,    1.053,2,   2149.0,2,   2256.0,2,   7.6700,2,    25.00,   -999.0,9,   -999.0,   7.5044
  49K619940107,   P02,    67,  1,     16,     16,2,19940131,2332, 29.9948,-159.1570, 5770, 6106.8000,    607.2,   5.7903,  34.0049,2,  34.0036,2,    127.5,2,    126.1,2,    58.70,2,    31.61,2,     2.33,2,    0.950,2,    0.570,2,   2218.0,2,   2273.0,2,   7.5100,2,    25.00,   -999.0,9,   -999.0,   5.7382
  49K619940107,   P02,    67,  1,     15,     15,2,19940131,2332, 29.9948,-159.1570, 5770, 7146.5000,    710.8,   4.6723,  34.0709,3,  34.0618,2,     66.5,2,     64.8,2,    86.00,6,    38.49,3,     2.82,6,    0.180,2,    0.145,2,   2284.0,2,   2294.0,2,   7.3700,2,    25.00,   -999.0,9,   -999.0,   4.6169
  49K619940107,   P02,    67,  1,     14,     14,2,19940131,2332, 29.9948,-159.1570, 5770, 8135.5000,    809.3,   4.1485,  34.1762,3,  34.1653,2,     31.8,3,     28.9,2,   105.10,2,    40.88,2,     3.11,2,    0.025,2,    0.016,2,   2336.0,2,   2315.0,2,   7.3000,2,    25.00,   -999.0,9,   -999.0,   4.0879
  49K619940107,   P02,    67,  1,     13,     13,2,19940131,2332, 29.9948,-159.1570, 5770,10144.6000,   1009.7,   3.5804,  34.3445,3,  34.3387,2,     13.0,2,     13.3,2,   129.90,2,    43.85,2,     3.33,2,    0.004,2,    0.002,2,   2369.0,2,   2347.0,2,   7.3000,2,    25.00,   -999.0,9,   -999.0,   3.5075
  49K619940107,   P02,    67,  1,     12,     12,3,19940131,2332, 29.9948,-159.1570, 5770,12676.3000,   1262.4,   3.0698,  34.4878,2,-999.0000,9,     34.6,2,   -999.0,9,  -999.00,9,  -999.00,9,  -999.00,9,    0.000,4,    0.012,4,   2375.0,3,   2350.0,3,   7.3000,3,    25.00,   -999.0,9,   -999.0,   2.9808
  49K619940107,   P02,    67,  1,     11,     11,2,19940131,2332, 29.9948,-159.1570, 5770,15200.6000,   1514.6,   2.5488,  34.5553,2,  34.5554,2,     51.8,2,     51.5,2,   159.50,2,    41.72,2,     3.09,2,    0.000,2,    0.002,2,   2383.0,2,   2391.0,2,   7.3900,2,    25.00,   -999.0,9,   -999.0,   2.4450
  49K619940107,   P02,    67,  1,     10,     10,2,19940131,2332, 29.9948,-159.1570, 5770,17764.4000,   1771.0,   2.1924,  34.5936,2,  34.5931,2,     72.2,2,     71.6,2,   165.70,2,    41.29,2,     2.99,2,    0.002,2,    0.000,2,   2377.0,2,   2398.0,2,   7.4300,2,    25.00,   -999.0,9,   -999.0,   2.0722
  49K619940107,   P02,    67,  1,      9,      9,2,19940131,2332, 29.9948,-159.1570, 5770,20302.3000,   2024.9,   1.9596,  34.6169,2,  34.6172,2,     84.8,2,     84.6,2,   169.00,2,    39.28,2,     2.92,2,    0.000,2,    0.000,2,   2376.0,2,   2404.0,2,   7.4500,2,    25.00,   -999.0,9,   -999.0,   1.8217
  49K619940107,   P02,    67,  1,      8,      8,2,19940131,2332, 29.9948,-159.1570, 5770,25365.5000,   2532.0,   1.6964,  34.6455,2,  34.6445,2,    105.8,2,    105.9,2,   174.70,2,    38.35,2,     2.81,2,    0.002,2,    0.002,2,   2368.0,2,   2410.0,2,   7.4900,2,    25.00,   -999.0,9,   -999.0,   1.5189
  49K619940107,   P02,    67,  1,      7,      7,2,19940131,2332, 29.9948,-159.1570, 5770,30493.2000,   3045.9,   1.5564,  34.6638,2,  34.6649,2,    123.1,2,    122.2,2,   168.10,2,    37.73,2,     2.72,2,    0.000,2,    0.000,2,   2360.0,2,   2411.0,2,   7.5200,2,    25.00,   -999.0,9,   -999.0,   1.3340
  49K619940107,   P02,    67,  1,      6,      6,2,19940131,2332, 29.9948,-159.1570, 5770,35563.3000,   3554.1,   1.4949,  34.6763,2,  34.6759,2,    136.9,2,    138.1,2,   169.30,2,    35.38,2,     2.63,2,    0.000,2,    0.000,2,   2352.0,2,   2411.0,2,   7.5500,2,    25.00,   -999.0,9,   -999.0,   1.2233
  49K619940107,   P02,    67,  1,      5,      5,2,19940131,2332, 29.9948,-159.1570, 5770,40671.9000,   4066.1,   1.4788,  34.6834,2,  34.6833,2,    147.5,2,    147.3,2,   165.20,2,    35.72,2,     2.59,2,    0.005,2,    0.004,2,   2345.0,2,   2410.0,2,   7.5700,2,    25.00,   -999.0,9,   -999.0,   1.1532
  49K619940107,   P02,    67,  1,      4,      4,2,19940131,2332, 29.9948,-159.1570, 5770,45770.8000,   4576.8,   1.4953,  34.6874,2,  34.6880,2,    153.5,2,    153.8,2,   159.90,3,    34.46,6,     2.55,6,    0.001,2,    0.001,2,   2340.0,2,   2408.0,2,   7.5800,2,    25.00,   -999.0,9,   -999.0,   1.1115
  49K619940107,   P02,    67,  1,      3,      3,2,19940131,2332, 29.9948,-159.1570, 5770,50945.7000,   5094.5,   1.5327,  34.6897,2,  34.6903,2,    159.6,2,    160.4,2,   154.30,2,    34.67,2,     2.52,2,    0.001,2,    0.000,2,   2338.0,2,   2408.0,2,   7.5800,2,    25.00,   -999.0,9,   -999.0,   1.0857
  49K619940107,   P02,    67,  1,      2,      2,2,19940131,2332, 29.9948,-159.1570, 5770,56105.5000,   5609.9,   1.5905,  34.6911,2,  34.6909,2,    162.4,2,    163.1,2,   154.80,2,    33.39,2,     2.51,2,    0.001,2,    0.000,2,   2334.0,2,   2405.0,2,   7.5800,2,    25.00,   -999.0,9,   -999.0,   1.0764
  49K619940107,   P02,    67,  1,      1,      1,2,19940131,2332, 29.9948,-159.1570, 5770,58621.2000,   5860.8,   1.6220,  34.6922,2,  34.6915,2,    163.9,2,    161.8,2,   151.40,6,    33.64,6,     2.51,6,    0.001,2,    0.000,2,   2334.0,2,   2409.0,2,   7.5800,2,    25.00,   -999.0,9,   -999.0,   1.0738