BOTTLE,20220810CCHSIOAMB
EXPOCODE,SECT_ID,STNNBR,CASTNO,SAMPNO,BTLNBR,BTLNBR_FLAG_W,DATE,TIME,LATITUDE,LONGITUDE,DEPTH,CTDRAW,CTDPRS,CTDTMP,CTDSAL,CTDSAL_FLAG_W,SALNTY,SALNTY_FLAG_W,CTDOXY,CTDOXY_FLAG_W,OXYGEN,OXYGEN_FLAG_W,SILCAT,SILCAT_FLAG_W,NITRAT,NITRAT_FLAG_W,PHSPHT,PHSPHT_FLAG_W,CFC-11,CFC-11_FLAG_W,CFC-12,CFC-12_FLAG_W,TCARBN,TCARBN_FLAG_W,ALKALI,ALKALI_FLAG_W,PH_TOT,PH_TOT_FLAG_W,PH_TMP,DELC14,DELC14_FLAG_W,C14ERR,THETA
,,,,,,,,,,,METERS,,DBAR,ITS-90,PSS-78,,PSS-78,,UMOL/KG,,UMOL/KG,,UMOL/KG,,UMOL/KG,,UMOL/KG,,PMOL/KG,,PMOL/KG,,UMOL/KG,,UMOL/KG,,,,DEG C,/MILLE,,/MILLE,DEG C
  49K619940107,   P02,    68,  1,     24,     24,2,19940201,1324, 29.9777,-156.4178, 5810,  171.5000,     17.2,  18.5456,  35.1559,2,  35.1557,2,    216.7,3,    233.3,2,     3.00,2,     0.00,2,     0.18,2, -999.000,9, -999.000,9,   -999.0,9,   -999.0,9,   8.0300,2,    25.00,   -999.0,9,   -999.0,  18.5426
  49K619940107,   P02,    68,  1,     23,     23,2,19940201,1324, 29.9777,-156.4178, 5810,  598.9000,     59.7,  18.2517,  35.1014,3,  35.1231,2,    225.5,3,    232.4,2,     3.20,2,     0.00,2,     0.19,2, -999.000,9, -999.000,9,   -999.0,9,   -999.0,9,   8.0300,2,    25.00,   -999.0,9,   -999.0,  18.2414
  49K619940107,   P02,    68,  1,     22,     22,2,19940201,1324, 29.9777,-156.4178, 5810, 1073.7000,    106.8,  18.0552,  35.0730,2,  35.0757,2,    227.9,3,    234.6,2,     3.30,2,     0.00,2,     0.20,2, -999.000,9, -999.000,9,   2013.0,2,   2293.0,2,   8.0200,2,    25.00,   -999.0,9,   -999.0,  18.0368
  49K619940107,   P02,    68,  1,     21,     21,2,19940201,1324, 29.9777,-156.4178, 5810, 1595.1000,    158.6,  15.3934,  34.6228,3,  34.9583,2,    249.1,3,    231.3,2,     3.80,3,     0.65,3,     0.26,3, -999.000,9, -999.000,9,   2015.0,2,   2285.0,2,   8.0000,2,    25.00,   -999.0,9,   -999.0,  15.3690
  49K619940107,   P02,    68,  1,     20,     20,2,19940201,1324, 29.9777,-156.4178, 5810, 1993.7000,    198.2,  14.0456,  34.4807,3,  34.4985,2,    224.6,3,    209.4,2,     7.50,2,     7.12,2,     0.70,2, -999.000,9, -999.000,9,   2054.0,2,   2256.0,2,   7.8900,2,    25.00,   -999.0,9,   -999.0,  14.0170
  49K619940107,   P02,    68,  1,     19,     19,2,19940201,1324, 29.9777,-156.4178, 5810, 3077.8000,    306.0,  11.1997,  34.2225,3,  34.2657,2,    224.5,3,    219.5,2,    13.30,2,    11.40,2,     0.99,2, -999.000,9, -999.000,9,   2081.0,2,   2249.0,2,   7.8300,2,    25.00,   -999.0,9,   -999.0,  11.1617
  49K619940107,   P02,    68,  1,     18,     18,2,19940201,1324, 29.9777,-156.4178, 5810, 4095.1000,    407.2,   9.3362,  34.1327,3,  34.1430,2,    212.7,3,    203.6,2,    21.90,3,    16.88,6,     1.36,6, -999.000,9, -999.000,9,   2117.0,2,   2254.0,2,   7.7500,2,    25.00,   -999.0,9,   -999.0,   9.2909
  49K619940107,   P02,    68,  1,     17,     17,2,19940201,1324, 29.9777,-156.4178, 5810, 5147.2000,    511.9,   7.1651,  34.0308,2,  34.0327,2,    179.3,3,    172.7,2,    37.10,2,    23.62,2,     1.82,2, -999.000,9, -999.000,9,   2164.0,2,   2262.0,2,   7.6400,2,    25.00,   -999.0,9,   -999.0,   7.1162
  49K619940107,   P02,    68,  1,     16,     16,2,19940201,1324, 29.9777,-156.4178, 5810, 6101.9000,    606.9,   5.7998,  34.0011,2,  34.0020,2,    131.5,3,    121.9,2,    60.90,2,    30.89,2,     2.36,2, -999.000,9, -999.000,9,   2232.0,2,   2277.0,2,   7.5000,2,    25.00,   -999.0,9,   -999.0,   5.7477
  49K619940107,   P02,    68,  1,     15,     15,2,19940201,1324, 29.9777,-156.4178, 5810, 7103.9000,    706.7,   4.8070,  34.0581,3,  34.0507,2,     78.5,3,     69.7,2,    83.20,6,    37.21,6,     2.80,6, -999.000,9, -999.000,9,   2284.0,2,   2295.0,2,   7.3800,2,    25.00,   -999.0,9,   -999.0,   4.7512
  49K619940107,   P02,    68,  1,     14,     14,2,19940201,1324, 29.9777,-156.4178, 5810, 8118.1000,    807.8,   4.2182,  34.1726,3,  34.1694,2,     37.2,3,     30.5,2,   103.70,2,    41.12,2,     3.10,2, -999.000,9, -999.000,9,   2334.0,2,   2425.0,2,   7.3100,2,    25.00,   -999.0,9,   -999.0,   4.1573
  49K619940107,   P02,    68,  1,     13,     13,2,19940201,1324, 29.9777,-156.4178, 5810,10143.8000,   1009.8,   3.6108,  34.3583,2,  34.3564,2,     16.5,2,     18.4,2,   126.30,2,    42.79,2,     3.24,2, -999.000,9, -999.000,9,   2367.0,2,   2352.0,2,   7.3100,2,    25.00,   -999.0,9,   -999.0,   3.5376
  49K619940107,   P02,    68,  1,     12,     12,2,19940201,1324, 29.9777,-156.4178, 5810,12658.8000,   1260.9,   3.0729,  34.4931,2,  34.4941,2,     35.5,3,     39.0,2,   139.10,2,    41.91,2,     3.16,2, -999.000,9, -999.000,9,   2371.0,2,   2373.0,2,   7.3600,2,    25.00,   -999.0,9,   -999.0,   2.9840
  49K619940107,   P02,    68,  1,     11,     11,2,19940201,1324, 29.9777,-156.4178, 5810,15213.4000,   1516.1,   2.5795,  34.5600,3,  34.5553,2,     57.1,2,     59.0,2,   147.60,2,    40.90,2,     3.06,2, -999.000,9, -999.000,9,   2372.0,2,   2390.0,2,   7.4100,2,    25.00,   -999.0,9,   -999.0,   2.4752
  49K619940107,   P02,    68,  1,     10,     10,2,19940201,1324, 29.9777,-156.4178, 5810,17728.1000,   1767.5,   2.2457,  34.5913,2,  34.5913,2,     72.5,2,     73.3,2,   156.80,2,    40.16,2,     2.99,2, -999.000,9, -999.000,9,   2372.0,2,   2398.0,2,   7.4300,2,    25.00,   -999.0,9,   -999.0,   2.1251
  49K619940107,   P02,    68,  1,      9,      9,2,19940201,1324, 29.9777,-156.4178, 5810,20257.8000,   2020.7,   1.9754,  34.6160,2,  34.6174,2,     83.2,3,     87.1,2,   163.40,2,    39.46,2,     2.93,2, -999.000,9, -999.000,9,   2372.0,2,   2405.0,2,   7.4500,2,    25.00,   -999.0,9,   -999.0,   1.8376
  49K619940107,   P02,    68,  1,      8,      8,2,19940201,1324, 29.9777,-156.4178, 5810,25343.7000,   2530.0,   1.6949,  34.6467,2,  34.6475,2,    103.8,3,    108.4,2,   166.90,2,    38.25,2,     2.83,2, -999.000,9, -999.000,9,   2365.0,2,   2410.0,2,   7.4900,2,    25.00,   -999.0,9,   -999.0,   1.5176
  49K619940107,   P02,    68,  1,      7,      7,2,19940201,1324, 29.9777,-156.4178, 5810,30429.4000,   3039.7,   1.5563,  34.6643,2,  34.6656,2,    120.5,3,    124.7,2,   164.50,2,    36.22,2,     2.71,2, -999.000,9, -999.000,9,   2352.0,2,   2413.0,2,   7.5300,2,    25.00,   -999.0,9,   -999.0,   1.3345
  49K619940107,   P02,    68,  1,      6,      6,2,19940201,1324, 29.9777,-156.4178, 5810,35540.1000,   3552.0,   1.4914,  34.6761,2,  34.6770,2,    135.3,3,    138.1,2,   163.70,2,    35.96,2,     2.65,2, -999.000,9, -999.000,9,   2343.0,2,   2411.0,2,   7.5500,2,    25.00,   -999.0,9,   -999.0,   1.2201
  49K619940107,   P02,    68,  1,      5,      5,2,19940201,1324, 29.9777,-156.4178, 5810,40669.6000,   4066.1,   1.4826,  34.6818,2,  34.6825,2,    145.2,3,    149.0,2,   158.30,2,    35.38,2,     2.62,2, -999.000,9, -999.000,9,   2335.0,2,   2411.0,2,   7.5700,2,    25.00,   -999.0,9,   -999.0,   1.1569
  49K619940107,   P02,    68,  1,      4,      4,2,19940201,1324, 29.9777,-156.4178, 5810,45803.9000,   4580.3,   1.4934,  34.6855,2,  34.6876,2,    153.8,2,    155.4,2,   153.80,6,    34.76,6,     2.58,6, -999.000,9, -999.000,9,   2329.0,2,   2409.0,2,   7.5800,2,    25.00,   -999.0,9,   -999.0,   1.1092
  49K619940107,   P02,    68,  1,      3,      3,2,19940201,1324, 29.9777,-156.4178, 5810,50941.8000,   5094.3,   1.5305,  34.6885,2,  34.6900,2,    158.5,2,    159.6,2,   150.20,2,    34.58,2,     2.55,2, -999.000,9, -999.000,9,   2325.0,2,   2407.0,2,   7.5800,2,    25.00,   -999.0,9,   -999.0,   1.0836
  49K619940107,   P02,    68,  1,      2,      2,2,19940201,1324, 29.9777,-156.4178, 5810,56091.4000,   5608.7,   1.5858,  34.6893,2,  34.6913,2,    162.9,2,    163.1,2,   148.80,2,    34.03,2,     2.53,2, -999.000,9, -999.000,9,   2321.0,2,   2404.0,2,   7.5800,2,    25.00,   -999.0,9,   -999.0,   1.0720
  49K619940107,   P02,    68,  1,      1,      1,2,19940201,1324, 29.9777,-156.4178, 5810,59671.5000,   5965.6,   1.6288,  34.6923,2,  34.6917,2,    164.5,2,    164.4,2,   149.10,3,    34.31,6,     2.53,6, -999.000,9, -999.000,9,   2319.0,2,   2401.0,2,   7.5800,2,    25.00,   -999.0,9,   -999.0,   1.0664
  49K619940107,   P02,    69,  1,     24,     24,2,19940202,0318, 30.0018,-153.6663, 5451,  207.6000,     20.7,  18.2515,  35.0260,3,  35.0420,2,    234.3,2,    235.8,2,     3.20,2,     0.00,2,     0.19,2, -999.000,9, -999.000,9,   2019.0,2,   2296.0,2,   8.0300,2,    25.00,   -999.0,9,   -999.0,  18.2479
  49K619940107,   P02,    69,  1,     23,     23,2,19940202,0318, 30.0018,-153.6663, 5451,  544.4000,     54.1,  18.2114,  35.0220,2,  35.0243,2,    229.6,3,    234.0,2,     3.20,2,     0.00,2,     0.19,2, -999.000,9, -999.000,9,   2019.0,2,   2295.0,2,   8.0300,2,    25.00,   -999.0,9,   -999.0,  18.2021
  49K619940107,   P02,    69,  1,     22,     22,2,19940202,0318, 30.0018,-153.6663, 5451, 1097.0000,    109.0,  16.1633,  34.7319,3,  34.9581,2,    218.5,3,    229.5,2,     3.40,4,     0.50,4,     0.25,4, -999.000,9, -999.000,9,   2023.0,3,   2292.0,3,   8.0100,3,    25.00,   -999.0,9,   -999.0,  16.1460
  49K619940107,   P02,    69,  1,     21,     21,2,19940202,0318, 30.0018,-153.6663, 5451, 1639.8000,    162.9,  13.7728,  34.4152,3,  34.5006,2,    203.5,2,    205.0,2,     6.80,2,     6.61,2,     0.72,2, -999.000,9, -999.000,9,   2059.0,2,   2263.0,2,   7.8900,2,    25.00,   -999.0,9,   -999.0,  13.7496
  49K619940107,   P02,    69,  1,     20,     20,2,19940202,0318, 30.0018,-153.6663, 5451, 2117.9000,    210.5,  12.6826,  34.3827,3,  34.3614,2,    213.3,2,    211.9,2,     9.20,2,     8.94,2,     0.88,2, -999.000,9, -999.000,9,   2065.0,2,   2257.0,2,   7.8600,2,    25.00,   -999.0,9,   -999.0,  12.6543
  49K619940107,   P02,    69,  1,     19,     19,2,19940202,0318, 30.0018,-153.6663, 5451, 3078.0000,    305.9,  10.8704,  34.2307,3,  34.2274,2,    215.2,2,    215.2,2,    15.10,2,    13.14,2,     1.17,2, -999.000,9, -999.000,9,   2093.0,2,   2253.0,2,   7.8100,2,    25.00,   -999.0,9,   -999.0,  10.8331
  49K619940107,   P02,    69,  1,     18,     18,2,19940202,0318, 30.0018,-153.6663, 5451, 4102.2000,    407.8,   8.6300,  34.0938,3,  34.1054,2,    197.8,3,    201.9,2,    25.10,6,    18.68,3,     1.60,3, -999.000,9, -999.000,9,   2129.0,2,   2258.0,2,   7.7400,2,    25.00,   -999.0,9,   -999.0,   8.5868
  49K619940107,   P02,    69,  1,     17,     17,2,19940202,0318, 30.0018,-153.6663, 5451, 5119.0000,    508.9,   6.7937,  34.0005,3,  34.0084,2,    148.6,3,    156.1,2,    42.50,2,    26.68,2,     2.12,2, -999.000,9, -999.000,9,   2188.0,2,   2268.0,2,   7.6000,2,    25.00,   -999.0,9,   -999.0,   6.7465
  49K619940107,   P02,    69,  1,     16,     16,2,19940202,0318, 30.0018,-153.6663, 5451, 6102.0000,    606.8,   5.3585,  34.0055,3,  34.0100,2,     93.6,2,     93.5,2,    70.10,2,    34.76,2,     2.71,2, -999.000,9, -999.000,9,   2263.0,2,   2288.0,2,   7.4400,2,    25.00,   -999.0,9,   -999.0,   5.3085
  49K619940107,   P02,    69,  1,     15,     15,2,19940202,0318, 30.0018,-153.6663, 5451, 7158.2000,    712.0,   4.4226,  34.1055,3,  34.0922,2,     44.5,2,     45.8,2,    92.20,6,    40.36,6,     3.08,6, -999.000,9, -999.000,9,   2312.0,2,   2309.0,2,   7.3300,2,    25.00,   -999.0,9,   -999.0,   4.3684
  49K619940107,   P02,    69,  1,     14,     14,2,19940202,0318, 30.0018,-153.6663, 5451, 8100.4000,    805.9,   4.0579,  34.2100,3,  34.2069,2,     21.5,2,     21.4,2,   111.50,2,    42.83,2,     3.13,3, -999.000,9, -999.000,9,   2349.0,2,   2328.0,2,   7.2900,2,    25.00,   -999.0,9,   -999.0,   3.9981
  49K619940107,   P02,    69,  1,     13,     13,2,19940202,0318, 30.0018,-153.6663, 5451, 9131.5000,    908.7,   3.8026,  34.3142,2,  34.3137,2,     13.8,2,     13.3,2,   121.80,2,    43.42,2,     3.20,3, -999.000,9, -999.000,9,   2364.0,2,   2346.0,2,   7.3000,2,    25.00,   -999.0,9,   -999.0,   3.7361
  49K619940107,   P02,    69,  1,     12,     12,2,19940202,0318, 30.0018,-153.6663, 5451,10127.6000,   1008.1,   3.5753,  34.3814,2,  34.3810,2,     14.9,3,     12.3,2,   129.10,2,    43.58,2,     3.27,3, -999.000,9, -999.000,9,   2377.0,2,   2357.0,2,   7.3100,2,    25.00,   -999.0,9,   -999.0,   3.5025
  49K619940107,   P02,    69,  1,     11,     11,4,19940202,0318, 30.0018,-153.6663, 5451,12662.1000,   1261.1,   3.0358,  34.5017,2,-999.0000,9,     35.6,2,   -999.0,9,  -999.00,9,  -999.00,9,  -999.00,9, -999.000,9, -999.000,9,   -999.0,9,   -999.0,9,-999.0000,9,  -999.00,   -999.0,9,   -999.0,   2.9473
  49K619940107,   P02,    69,  1,     10,     10,2,19940202,0318, 30.0018,-153.6663, 5451,15198.8000,   1514.5,   2.6450,  34.5493,2,  34.5502,2,     53.0,3,     48.8,2,   153.40,2,    42.15,2,     3.09,3, -999.000,9, -999.000,9,   2379.0,2,   2391.0,2,   7.3900,2,    25.00,   -999.0,9,   -999.0,   2.5401
  49K619940107,   P02,    69,  1,      9,      9,2,19940202,0318, 30.0018,-153.6663, 5451,17745.0000,   1769.1,   2.2676,  34.5870,2,  34.5865,2,     68.9,3,     64.7,2,   157.40,2,    41.26,2,     3.02,3, -999.000,9, -999.000,9,   2380.0,2,   2402.0,2,   7.4200,2,    25.00,   -999.0,9,   -999.0,   2.1466
  49K619940107,   P02,    69,  1,      8,      8,2,19940202,0318, 30.0018,-153.6663, 5451,20267.0000,   2021.5,   1.9962,  34.6139,3,  34.6172,2,     80.1,2,     78.3,2,   162.90,2,    40.23,2,     2.96,3, -999.000,9, -999.000,9,   2378.0,2,   2409.0,2,   7.4400,2,    25.00,   -999.0,9,   -999.0,   1.8580
  49K619940107,   P02,    69,  1,      7,      7,2,19940202,0318, 30.0018,-153.6663, 5451,25349.2000,   2530.5,   1.7002,  34.6471,2,  34.6489,2,    101.9,2,    101.6,2,   171.80,2,    38.84,2,     2.85,3, -999.000,9, -999.000,9,   2370.0,2,   2414.0,2,   7.4900,2,    25.00,   -999.0,9,   -999.0,   1.5228
  49K619940107,   P02,    69,  1,      6,      6,2,19940202,0318, 30.0018,-153.6663, 5451,30440.1000,   3040.7,   1.5447,  34.6663,2,  34.6676,2,    122.0,2,    123.1,2,   169.00,2,    37.37,2,     2.74,3, -999.000,9, -999.000,9,   2355.0,2,   2414.0,2,   7.5200,2,    25.00,   -999.0,9,   -999.0,   1.3230
  49K619940107,   P02,    69,  1,      5,      5,2,19940202,0318, 30.0018,-153.6663, 5451,35542.2000,   3552.1,   1.4844,  34.6785,2,  34.6787,2,    136.8,2,    137.9,2,   163.30,2,    36.28,2,     2.67,3, -999.000,9, -999.000,9,   2346.0,2,   2415.0,2,   7.5500,2,    25.00,   -999.0,9,   -999.0,   1.2133
  49K619940107,   P02,    69,  1,      4,      4,2,19940202,0318, 30.0018,-153.6663, 5451,40653.8000,   4064.4,   1.4784,  34.6845,2,  34.6838,2,    146.4,2,    148.0,2,   159.10,6,    35.65,6,     2.64,3, -999.000,9, -999.000,9,   2338.0,2,   2412.0,2,   7.5600,2,    25.00,   -999.0,9,   -999.0,   1.1530
  49K619940107,   P02,    69,  1,      3,      3,2,19940202,0318, 30.0018,-153.6663, 5451,45803.5000,   4580.2,   1.4954,  34.6884,2,  34.6880,2,    154.1,2,    155.5,2,   155.00,2,    35.30,2,     2.58,3, -999.000,9, -999.000,9,   2331.0,2,   2409.0,2,   7.5800,2,    25.00,   -999.0,9,   -999.0,   1.1112
  49K619940107,   P02,    69,  1,      2,      2,2,19940202,0318, 30.0018,-153.6663, 5451,50941.0000,   5094.1,   1.5287,  34.6904,2,  34.6905,2,    160.2,2,    159.7,2,   149.30,2,    35.09,2,     2.56,3, -999.000,9, -999.000,9,   2326.0,2,   2407.0,2,   7.5800,2,    25.00,   -999.0,9,   -999.0,   1.0819
  49K619940107,   P02,    69,  1,      1,      1,2,19940202,0318, 30.0018,-153.6663, 5451,55585.7000,   5558.1,   1.5753,  34.6921,2,  34.6914,2,    161.7,2,    161.8,2,   149.10,3,    34.89,6,     2.55,3, -999.000,9, -999.000,9,   2329.0,2,   2404.0,2,   7.5800,2,    25.00,   -999.0,9,   -999.0,   1.0684