BOTTLE,20220810CCHSIOAMB
EXPOCODE,SECT_ID,STNNBR,CASTNO,SAMPNO,BTLNBR,BTLNBR_FLAG_W,DATE,TIME,LATITUDE,LONGITUDE,DEPTH,CTDRAW,CTDPRS,CTDTMP,CTDSAL,CTDSAL_FLAG_W,SALNTY,SALNTY_FLAG_W,CTDOXY,CTDOXY_FLAG_W,OXYGEN,OXYGEN_FLAG_W,SILCAT,SILCAT_FLAG_W,NITRAT,NITRAT_FLAG_W,PHSPHT,PHSPHT_FLAG_W,CFC-11,CFC-11_FLAG_W,CFC-12,CFC-12_FLAG_W,TCARBN,TCARBN_FLAG_W,ALKALI,ALKALI_FLAG_W,PH_TOT,PH_TOT_FLAG_W,PH_TMP,DELC14,DELC14_FLAG_W,C14ERR,THETA
,,,,,,,,,,,METERS,,DBAR,ITS-90,PSS-78,,PSS-78,,UMOL/KG,,UMOL/KG,,UMOL/KG,,UMOL/KG,,UMOL/KG,,PMOL/KG,,PMOL/KG,,UMOL/KG,,UMOL/KG,,,,DEG C,/MILLE,,/MILLE,DEG C
  49K619940107,   P02,    76,  1,     24,     24,4,19940205,0800, 29.9883,-138.9178, 4543,  178.7000,     17.7,  18.1108,  34.9225,2,-999.0000,9,    232.9,2,   -999.0,9,  -999.00,9,  -999.00,9,  -999.00,9, -999.000,9, -999.000,9,   -999.0,9,   -999.0,9,-999.0000,9,  -999.00,   -999.0,9,   -999.0,  18.1078
  49K619940107,   P02,    76,  1,     23,     23,2,19940205,0800, 29.9883,-138.9178, 4543,  565.0000,     56.1,  18.1186,  34.9234,2,  34.9234,2,    240.8,3,    234.8,2,     2.80,2,     0.00,2,     0.16,2,    2.446,2,    1.294,2,   2017.0,2,   2297.0,2,   8.0000,2,    25.00,   -999.0,9,   -999.0,  18.1090
  49K619940107,   P02,    76,  1,     22,     22,2,19940205,0800, 29.9883,-138.9178, 4543, 1053.8000,    104.6,  18.1169,  34.9227,2,  34.9228,2,    242.9,3,    235.5,2,     2.80,2,     0.00,2,     0.16,2,    2.406,2,    1.322,2,   2015.0,2,   2297.0,2,   8.0000,2,    25.00,   -999.0,9,   -999.0,  18.0989
  49K619940107,   P02,    76,  1,     21,     21,2,19940205,0800, 29.9883,-138.9178, 4543, 1624.8000,    161.4,  16.2482,  34.5495,3,  34.8681,2,    242.8,3,    232.2,2,     2.90,2,     0.13,2,     0.19,2,    2.493,2,    1.303,2,   2017.0,2,   2294.0,2,   7.9900,2,    25.00,   -999.0,9,   -999.0,  16.2224
  49K619940107,   P02,    76,  1,     20,     20,2,19940205,0800, 29.9883,-138.9178, 4543, 2121.4000,    210.7,  12.9082,  34.2196,3,  34.2058,2,    226.3,3,    217.8,2,     6.80,2,     5.56,2,     0.64,2,    2.971,2,    1.494,2,   2046.0,2,   2252.0,2,   7.7900,3,    25.00,   -999.0,9,   -999.0,  12.8796
  49K619940107,   P02,    76,  1,     19,     19,2,19940205,0800, 29.9883,-138.9178, 4543, 3079.6000,    306.0,   9.3105,  33.9946,3,  34.0112,2,    215.2,3,    210.2,2,    18.20,2,    15.48,2,     1.27,2,    2.905,2,    1.409,2,   2097.0,2,   2248.0,2,   7.7500,2,    25.00,   -999.0,9,   -999.0,   9.2768
  49K619940107,   P02,    76,  1,     18,     18,2,19940205,0800, 29.9883,-138.9178, 4543, 4088.4000,    406.3,   7.6463,  34.0149,3,  34.0076,2,    174.2,2,    173.5,2,    33.50,6,    22.75,6,     1.76,6,    2.047,2,    0.975,2,   2154.0,2,   2258.0,2,   7.6500,2,    25.00,   -999.0,9,   -999.0,   7.6063
  49K619940107,   P02,    76,  1,     17,     17,2,19940205,0800, 29.9883,-138.9178, 4543, 5125.4000,    509.5,   6.0743,  33.9951,2,  33.9945,2,    109.2,3,    113.6,2,    56.20,2,    30.94,2,     2.40,2,    0.987,2,    0.482,2,   2219.0,2,   2273.0,2,   7.4900,2,    25.00,   -999.0,9,   -999.0,   6.0299
  49K619940107,   P02,    76,  1,     16,     16,2,19940205,0800, 29.9883,-138.9178, 4543, 6104.7000,    607.0,   5.1504,  34.0587,3,  34.0550,2,     64.2,3,     58.4,2,    78.30,2,    37.86,2,     2.87,2,    0.289,2,    0.154,2,   2281.0,2,   2294.0,2,   7.3600,2,    25.00,   -999.0,9,   -999.0,   5.1013
  49K619940107,   P02,    76,  1,     15,     15,2,19940205,0800, 29.9883,-138.9178, 4543, 7106.2000,    706.7,   4.6227,  34.1669,3,  34.1558,2,     29.4,2,     27.8,2,    95.00,6,    40.97,6,     3.12,6,    0.059,2,    0.046,2,   2328.0,2,   2313.0,2,   7.3000,2,    25.00,   -999.0,9,   -999.0,   4.5678
  49K619940107,   P02,    76,  1,     14,     14,2,19940205,0800, 29.9883,-138.9178, 4543, 8102.7000,    806.1,   4.2409,  34.2810,3,  34.2764,2,     15.6,3,     13.1,2,   109.20,2,    42.43,2,     3.32,2,    0.019,2,    0.000,2,   2346.0,2,   2333.0,2,   7.2900,2,    25.00,   -999.0,9,   -999.0,   4.1799
  49K619940107,   P02,    76,  1,     13,     13,2,19940205,0800, 29.9883,-138.9178, 4543, 9140.4000,    909.5,   3.9814,  34.3653,3,  34.3686,2,     14.3,2,     13.3,2,   117.90,2,    43.07,2,     3.29,2,    0.012,2,    0.001,2,   2357.0,2,   2347.0,2,   7.3000,2,    25.00,   -999.0,9,   -999.0,   3.9135
  49K619940107,   P02,    76,  1,     12,     12,2,19940205,0800, 29.9883,-138.9178, 4543,10128.9000,   1008.1,   3.6949,  34.4331,2,  34.4326,2,     20.0,2,     19.9,2,   125.80,2,    42.77,2,     3.28,2,    0.014,2,    0.004,2,   2355.0,3,   2361.0,2,   7.3200,2,    25.00,   -999.0,9,   -999.0,   3.6211
  49K619940107,   P02,    76,  1,     11,     11,2,19940205,0800, 29.9883,-138.9178, 4543,12663.7000,   1261.1,   3.2132,  34.5156,2,  34.5180,2,     40.4,2,     40.7,2,   134.80,2,    42.02,2,     3.19,2,    0.009,2,    0.000,2,   2363.0,2,   2376.0,2,   7.3700,2,    25.00,   -999.0,9,   -999.0,   3.1229
  49K619940107,   P02,    76,  1,     10,     10,2,19940205,0800, 29.9883,-138.9178, 4543,15224.2000,   1517.0,   2.7301,  34.5592,2,  34.5589,2,     53.6,2,     53.8,2,   145.90,2,    41.06,2,     3.13,2,    0.002,2,    0.000,2,   2369.0,2,   2391.0,2,   7.3900,2,    25.00,   -999.0,9,   -999.0,   2.6240
  49K619940107,   P02,    76,  1,      9,      9,2,19940205,0800, 29.9883,-138.9178, 4543,17733.1000,   1767.8,   2.3537,  34.5901,2,  34.5927,2,     67.0,2,     66.3,2,   156.60,2,    40.58,2,     3.06,2,    0.000,2,    0.003,2,   2370.0,2,   2400.0,2,   7.4100,2,    25.00,   -999.0,9,   -999.0,   2.2316
  49K619940107,   P02,    76,  1,      8,      8,2,19940205,0800, 29.9883,-138.9178, 4543,20270.7000,   2021.8,   2.0490,  34.6168,2,  34.6178,2,     79.6,2,     80.8,2,   165.10,2,    39.97,2,     3.00,2,    0.005,2,    0.000,2,   2370.0,2,   2409.0,2,   7.4400,2,    25.00,   -999.0,9,   -999.0,   1.9100
  49K619940107,   P02,    76,  1,      7,      7,2,19940205,0800, 29.9883,-138.9178, 4543,22803.3000,   2275.3,   1.8495,  34.6347,2,  34.6361,2,     91.3,2,     93.3,2,   167.90,3,    39.53,2,     2.93,2,    0.003,2,    0.004,2,   2367.0,2,   2413.0,2,   7.4600,2,    25.00,   -999.0,9,   -999.0,   1.6920
  49K619940107,   P02,    76,  1,      6,      6,2,19940205,0800, 29.9883,-138.9178, 4543,25341.7000,   2529.6,   1.7544,  34.6442,2,  34.6455,2,    100.3,3,     97.9,2,   169.10,2,    38.53,2,     2.86,2,    0.000,2,    0.005,2,   2359.0,2,   2415.0,2,   7.4700,2,    25.00,   -999.0,9,   -999.0,   1.5760
  49K619940107,   P02,    76,  1,      5,      5,2,19940205,0800, 29.9883,-138.9178, 4543,30440.4000,   3040.6,   1.5760,  34.6650,2,  34.6650,2,    119.2,3,    121.8,2,   169.50,2,    37.47,2,     2.74,2,    0.000,2,    0.002,2,   2351.0,2,   2415.0,2,   7.5200,2,    25.00,   -999.0,9,   -999.0,   1.3536
  49K619940107,   P02,    76,  1,      4,      4,2,19940205,0800, 29.9883,-138.9178, 4543,35541.7000,   3552.0,   1.5269,  34.6742,2,  34.6754,2,    132.8,2,   -999.0,9,   165.30,6,    36.71,6,     2.69,6,    0.000,2,    0.000,2,   2342.0,2,   2415.0,2,   7.5300,2,    25.00,   -999.0,9,   -999.0,   1.2547
  49K619940107,   P02,    76,  1,      3,      3,2,19940205,0800, 29.9883,-138.9178, 4543,40601.3000,   4059.0,   1.5040,  34.6826,2,  34.6832,2,    142.4,2,    142.2,2,   162.40,2,    36.12,2,     2.63,2,    0.000,2,    0.001,2,   2332.0,2,   2415.0,2,   7.5500,2,    25.00,   -999.0,9,   -999.0,   1.1785
  49K619940107,   P02,    76,  1,      2,      2,2,19940205,0800, 29.9883,-138.9178, 4543,44763.8000,   4476.0,   1.5300,  34.6852,2,  34.6858,2,    147.8,2,    147.3,2,   159.70,2,    35.51,2,     2.59,2,    0.000,2,    0.000,2,   2330.0,2,   2414.0,2,   7.5600,2,    25.00,   -999.0,9,   -999.0,   1.1568
  49K619940107,   P02,    76,  1,      1,      1,2,19940205,0800, 29.9883,-138.9178, 4543,46257.9000,   4625.6,   1.5460,  34.6852,2,  34.6869,2,    148.7,2,   -999.0,9,   158.20,6,    35.40,6,     2.59,6,    0.000,2,    0.000,2,   2329.0,2,   -999.0,9,   7.5600,2,    25.00,   -999.0,9,   -999.0,   1.1549
  49K619940107,   P02,    77,  1,     24,     24,2,19940205,1730, 29.9942,-137.1593, 4566,  234.3000,     23.5,  18.8548,  35.1403,2,  35.1430,2,    235.0,3,    228.3,2,     2.60,2,     0.04,2,     0.18,2,    2.357,2,    1.420,2,   2030.0,2,   2305.0,2,   8.0200,2,    25.00,   -999.0,9,   -999.0,  18.8506
  49K619940107,   P02,    77,  1,     23,     23,2,19940205,1730, 29.9942,-137.1593, 4566,  545.3000,     54.3,  18.8536,  35.1391,2,  35.1414,2,    229.2,2,    230.8,2,     2.60,2,     0.06,2,     0.17,2,    2.354,2,    1.406,2,   2034.0,2,   2305.0,2,   8.0200,2,    25.00,   -999.0,9,   -999.0,  18.8440
  49K619940107,   P02,    77,  1,     22,     22,2,19940205,1730, 29.9942,-137.1593, 4566, 1056.8000,    105.1,  18.8621,  35.1405,2,  35.1424,2,    229.1,3,    232.9,2,     2.50,2,     0.01,2,     0.19,2,    2.362,2,    1.374,2,   2028.0,2,   2303.0,2,   8.0200,2,    25.00,   -999.0,9,   -999.0,  18.8435
  49K619940107,   P02,    77,  1,     21,     21,2,19940205,1730, 29.9942,-137.1593, 4566, 1625.4000,    161.6,  17.2742,  34.8765,3,  35.0963,2,    223.3,3,    226.3,2,     2.90,2,     0.62,2,     0.21,2,    2.420,2,    1.374,2,   2031.0,2,   2300.0,2,   8.0100,2,    25.00,   -999.0,9,   -999.0,  17.2472
  49K619940107,   P02,    77,  1,     20,     20,2,19940205,1730, 29.9942,-137.1593, 4566, 2140.5000,    212.8,  13.6037,  34.3210,3,  34.4526,2,    219.7,3,    212.7,2,     5.70,2,     4.82,2,     0.55,2,    2.824,2,    1.711,2,   2052.0,2,   2256.0,2,   7.9000,2,    25.00,   -999.0,9,   -999.0,  13.5737
  49K619940107,   P02,    77,  1,     19,     19,2,19940205,1730, 29.9942,-137.1593, 4566, 3100.0000,    308.2,   9.8239,  34.0354,3,  34.0156,2,    214.9,3,    211.9,2,    16.10,2,    15.00,2,     1.20,2,    2.927,2,    1.571,2,   2100.0,2,   2240.0,2,   7.7600,2,    25.00,   -999.0,9,   -999.0,   9.7888
  49K619940107,   P02,    77,  1,     18,     18,2,19940205,1730, 29.9942,-137.1593, 4566, 4096.5000,    407.3,   7.9185,  34.0033,2,  34.0019,2,    176.7,3,    179.3,2,    31.10,6,    22.83,6,     1.72,6,    2.110,2,    1.171,2,   2154.0,2,   2251.0,2,   7.6500,2,    25.00,   -999.0,9,   -999.0,   7.8776
  49K619940107,   P02,    77,  1,     17,     17,2,19940205,1730, 29.9942,-137.1593, 4566, 5157.2000,    512.8,   6.0350,  34.0060,3,  34.0007,2,    107.7,3,    113.6,2,    54.90,2,    32.59,2,     2.39,2,    0.934,2,    0.567,2,   2232.0,2,   2272.0,2,   7.4900,2,    25.00,   -999.0,9,   -999.0,   5.9904
  49K619940107,   P02,    77,  1,     16,     16,2,19940205,1730, 29.9942,-137.1593, 4566, 6069.0000,    603.6,   5.2092,  34.0649,2,  34.0644,2,     56.1,3,     62.5,2,    78.10,2,    38.50,2,     2.85,2,    0.308,2,    0.180,2,   2291.0,2,   2290.0,2,   7.3700,2,    25.00,   -999.0,9,   -999.0,   5.1601
  49K619940107,   P02,    77,  1,     15,     15,2,19940205,1730, 29.9942,-137.1593, 4566, 7112.0000,    707.5,   4.6419,  34.1736,3,  34.1685,2,     25.8,3,     32.7,2,    93.70,6,    41.86,6,     3.13,6,    0.071,2,    0.066,2,   2329.0,2,   2309.0,2,   7.3100,2,    25.00,   -999.0,9,   -999.0,   4.5868
  49K619940107,   P02,    77,  1,     14,     14,2,19940205,1730, 29.9942,-137.1593, 4566, 8100.9000,    806.1,   4.2555,  34.2722,3,  34.2689,2,     16.4,2,     17.3,2,   107.60,2,    43.49,2,     3.25,2,    0.025,2,    0.021,2,   2353.0,2,   2330.0,2,   7.3000,2,    25.00,   -999.0,9,   -999.0,   4.1944
  49K619940107,   P02,    77,  1,     13,     13,2,19940205,1730, 29.9942,-137.1593, 4566, 9137.4000,    909.4,   3.9843,  34.3546,2,  34.3562,2,     16.4,2,     17.6,2,   116.20,2,    44.01,2,     3.29,2,    0.011,2,    0.007,2,   2363.0,2,   2344.0,2,   7.3100,2,    25.00,   -999.0,9,   -999.0,   3.9164
  49K619940107,   P02,    77,  1,     12,     12,2,19940205,1730, 29.9942,-137.1593, 4566,10153.2000,   1010.7,   3.6773,  34.4262,3,  34.4230,2,     22.0,2,     22.3,2,   124.60,2,    44.13,2,     3.30,2,    0.012,2,    0.013,2,   2371.0,2,   2354.0,3,   7.3300,2,    25.00,   -999.0,9,   -999.0,   3.6034
  49K619940107,   P02,    77,  1,     11,     11,2,19940205,1730, 29.9942,-137.1593, 4566,12664.4000,   1261.4,   3.1433,  34.5119,2,  34.5137,2,     42.2,3,     39.0,2,   136.50,2,    43.17,2,     3.21,2,    0.007,2,    0.003,2,   2373.0,2,   2377.0,2,   7.3700,2,    25.00,   -999.0,9,   -999.0,   3.0537
  49K619940107,   P02,    77,  1,     10,     10,2,19940205,1730, 29.9942,-137.1593, 4566,15165.6000,   1511.3,   2.6845,  34.5605,2,  34.5620,2,     56.1,3,     53.8,2,   145.30,2,    41.63,2,     3.15,2,    0.007,2,    0.000,2,   2376.0,2,   2390.0,2,   7.4000,2,    25.00,   -999.0,9,   -999.0,   2.5794
  49K619940107,   P02,    77,  1,      9,      9,2,19940205,1730, 29.9942,-137.1593, 4566,17745.3000,   1769.3,   2.3206,  34.5933,2,  34.5950,2,     69.3,3,     66.3,2,   159.10,2,    41.31,2,     3.07,2,    0.000,2,    0.009,2,   2378.0,2,   2401.0,2,   7.4300,2,    25.00,   -999.0,9,   -999.0,   2.1988
  49K619940107,   P02,    77,  1,      8,      8,2,19940205,1730, 29.9942,-137.1593, 4566,20273.3000,   2022.2,   2.0416,  34.6172,2,  34.6197,2,     81.5,2,     82.5,2,   163.40,4,    40.54,4,     3.04,4,    0.001,2,    0.000,2,   2376.0,2,   2406.0,2,   7.4500,2,    25.00,   -999.0,9,   -999.0,   1.9027
  49K619940107,   P02,    77,  1,      7,      7,2,19940205,1730, 29.9942,-137.1593, 4566,22814.6000,   2276.7,   1.8552,  34.6344,2,  34.6370,2,     91.8,3,     94.1,2,   168.30,2,    39.43,2,     2.95,2,    0.000,2,    0.003,2,   2372.0,2,   2411.0,2,   7.4700,2,    25.00,   -999.0,9,   -999.0,   1.6974
  49K619940107,   P02,    77,  1,      6,      6,2,19940205,1730, 29.9942,-137.1593, 4566,25335.0000,   2529.1,   1.7490,  34.6451,2,  34.6466,2,    102.2,3,     99.6,2,   169.00,2,    37.90,2,     2.90,2,    0.000,2,    0.003,2,   2366.0,2,   2413.0,2,   7.4800,2,    25.00,   -999.0,9,   -999.0,   1.5708
  49K619940107,   P02,    77,  1,      5,      5,2,19940205,1730, 29.9942,-137.1593, 4566,30445.2000,   3041.3,   1.5642,  34.6652,2,  34.6667,2,    122.0,2,    121.0,2,   169.40,2,    37.97,2,     2.80,2,    0.000,2,    0.005,2,   2357.0,2,   2415.0,2,   7.5300,2,    25.00,   -999.0,9,   -999.0,   1.3420
  49K619940107,   P02,    77,  1,      4,      4,2,19940205,1730, 29.9942,-137.1593, 4566,35526.3000,   3550.6,   1.5223,  34.6746,2,  34.6763,2,    134.1,2,    132.1,2,   165.70,6,    37.42,6,     2.73,6,    0.001,2,    0.003,2,   2351.0,2,   2414.0,2,   7.5400,2,    25.00,   -999.0,9,   -999.0,   1.2504
  49K619940107,   P02,    77,  1,      3,      3,2,19940205,1730, 29.9942,-137.1593, 4566,40665.7000,   4065.7,   1.5087,  34.6826,2,  34.6829,2,    142.3,2,    142.2,2,   164.20,2,    36.79,2,     2.69,2,    0.000,2,    0.000,2,   2342.0,2,   2416.0,2,   7.5600,2,    25.00,   -999.0,9,   -999.0,   1.1823
  49K619940107,   P02,    77,  1,      2,      2,2,19940205,1730, 29.9942,-137.1593, 4566,45800.8000,   4580.0,   1.5564,  34.6839,2,  34.6847,2,    144.8,2,    143.2,2,   161.80,2,    36.97,2,     2.67,2,    0.000,2,    0.004,2,   2341.0,2,   2416.0,2,   7.5600,2,    25.00,   -999.0,9,   -999.0,   1.1703
  49K619940107,   P02,    77,  1,      1,      1,2,19940205,1730, 29.9942,-137.1593, 4566,46233.1000,   4623.3,   1.5604,  34.6843,2,  34.6847,2,    145.9,3,    143.7,2,   162.50,6,    36.88,6,     2.68,6,    0.000,2,    0.000,2,   2343.0,2,   2424.0,3,   7.5600,2,    25.00,   -999.0,9,   -999.0,   1.1691