BOTTLE,20220810CCHSIOAMB
EXPOCODE,SECT_ID,STNNBR,CASTNO,SAMPNO,BTLNBR,BTLNBR_FLAG_W,DATE,TIME,LATITUDE,LONGITUDE,DEPTH,CTDRAW,CTDPRS,CTDTMP,CTDSAL,CTDSAL_FLAG_W,SALNTY,SALNTY_FLAG_W,CTDOXY,CTDOXY_FLAG_W,OXYGEN,OXYGEN_FLAG_W,SILCAT,SILCAT_FLAG_W,NITRAT,NITRAT_FLAG_W,PHSPHT,PHSPHT_FLAG_W,CFC-11,CFC-11_FLAG_W,CFC-12,CFC-12_FLAG_W,TCARBN,TCARBN_FLAG_W,ALKALI,ALKALI_FLAG_W,PH_TOT,PH_TOT_FLAG_W,PH_TMP,DELC14,DELC14_FLAG_W,C14ERR,THETA
,,,,,,,,,,,METERS,,DBAR,ITS-90,PSS-78,,PSS-78,,UMOL/KG,,UMOL/KG,,UMOL/KG,,UMOL/KG,,UMOL/KG,,PMOL/KG,,PMOL/KG,,UMOL/KG,,UMOL/KG,,,,DEG C,/MILLE,,/MILLE,DEG C
  49K619940107,   P02,    17,  1,     23,     22,2,19940111,1939, 29.9957, 135.7322, 4322,  182.1000,     18.0,  20.8086,  34.8563,3,-999.0000,5,    232.5,2,    222.3,3,     1.90,3,     0.00,3,     0.16,3,    2.137,2,    1.224,2,   -999.0,9,   -999.0,9,-999.0000,9,  -999.00,   -999.0,9,   -999.0,-999.0000
  49K619940107,   P02,    17,  1,     22,     21,2,19940111,1939, 29.9957, 135.7322, 4322,  664.7000,     65.9,  20.4019,  34.8156,2,  34.8149,2,    226.3,2,    227.2,3,     2.10,3,     0.00,3,     0.20,3,    5.549,4,    2.549,4,   -999.0,9,   -999.0,9,-999.0000,9,  -999.00,   -999.0,9,   -999.0,  20.3896
  49K619940107,   P02,    17,  1,     21,     20,2,19940111,1939, 29.9957, 135.7322, 4322, 1130.2000,    112.1,  20.3947,  34.8202,3,  34.8166,2,    221.1,2,    226.2,3,     1.90,3,     0.00,3,     0.16,3,    2.655,2,    1.253,2,   -999.0,9,   -999.0,9,-999.0000,9,  -999.00,   -999.0,9,   -999.0,  20.3737
  49K619940107,   P02,    17,  1,     20,     19,2,19940111,1939, 29.9957, 135.7322, 4322, 1646.0000,    163.4,  18.7168,  34.8584,3,  34.8542,2,    207.0,2,   -999.0,9,     3.00,3,     2.40,3,     0.33,3,    2.262,2,    1.269,2,   -999.0,9,   -999.0,9,-999.0000,9,  -999.00,   -999.0,9,   -999.0,  18.6880
  49K619940107,   P02,    17,  1,     19,     18,2,19940111,1939, 29.9957, 135.7322, 4322, 2107.5000,    209.2,  18.0057,  34.8285,2,  34.8314,2,    202.9,2,   -999.0,9,     3.90,3,     3.43,3,     0.40,3,    2.395,2,    1.300,2,   -999.0,9,   -999.0,9,-999.0000,9,  -999.00,   -999.0,9,   -999.0,  17.9698
  49K619940107,   P02,    17,  1,     18,     17,2,19940111,1939, 29.9957, 135.7322, 4322, 3109.3000,    308.8,  16.7884,  34.7591,3,  34.7687,2,    196.6,2,    205.1,3,     5.40,3,     5.40,3,     0.53,3,    2.380,2,    1.270,2,   -999.0,9,   -999.0,9,-999.0000,9,  -999.00,   -999.0,9,   -999.0,  16.7378
  49K619940107,   P02,    17,  1,     17,     16,2,19940111,1939, 29.9957, 135.7322, 4322, 4076.4000,    405.0,  14.9491,  34.6180,3,  34.6253,2,    182.8,2,    187.1,3,    10.90,3,     9.80,3,     0.83,3,    2.145,2,    1.139,2,   -999.0,9,   -999.0,9,-999.0000,9,  -999.00,   -999.0,9,   -999.0,  14.8877
  49K619940107,   P02,    17,  1,     16,     15,2,19940111,1939, 29.9957, 135.7322, 4322, 5071.7000,    504.0,  12.1367,  34.4265,3,  34.4377,2,    176.5,2,    186.0,3,    21.10,3,    15.34,3,     1.23,3,    1.884,2,    0.987,2,   -999.0,9,   -999.0,9,-999.0000,9,  -999.00,   -999.0,9,   -999.0,  12.0700
  49K619940107,   P02,    17,  1,     15,     14,4,19940111,1939, 29.9957, 135.7322, 4322, 6089.2000,    605.3,   9.3549,  34.2489,2,-999.0000,9,    158.1,2,   -999.0,9,    37.80,3,    21.36,3,     1.68,3,    1.426,2,    0.786,2,   -999.0,9,   -999.0,9,-999.0000,9,  -999.00,   -999.0,9,   -999.0,   9.2867
  49K619940107,   P02,    17,  1,     14,     13,4,19940111,1939, 29.9957, 135.7322, 4322, 7116.1000,    707.6,   6.7602,  34.1505,2,-999.0000,9,    129.0,2,   -999.0,9,    68.50,3,    31.57,3,     1.97,3,    1.339,2,    0.786,2,   -999.0,9,   -999.0,9,-999.0000,9,  -999.00,   -999.0,9,   -999.0,   6.6937
  49K619940107,   P02,    17,  1,     13,     12,4,19940111,1939, 29.9957, 135.7322, 4322, 8068.0000,    802.5,   5.5005,  34.2067,2,-999.0000,9,     92.6,2,   -999.0,9,    99.10,2,    36.71,2,     2.72,2,    0.303,2,    0.216,2,   -999.0,9,   -999.0,9,-999.0000,9,  -999.00,   -999.0,9,   -999.0,   5.4321
  49K619940107,   P02,    17,  1,     12,     11,2,19940111,1939, 29.9957, 135.7322, 4322, 9073.2000,    902.7,   4.6463,  34.2504,2,  34.2526,2,     73.2,2,     76.9,3,   110.70,2,    37.70,2,     2.78,2,    0.132,2,    0.097,2,   -999.0,9,   -999.0,9,-999.0000,9,  -999.00,   -999.0,9,   -999.0,   4.5745
  49K619940107,   P02,    17,  1,     11,     10,2,19940111,1939, 29.9957, 135.7322, 4322,10139.7000,   1009.1,   4.0869,  34.3433,3,  34.3475,2,     65.2,2,     69.7,3,   116.70,3,    38.55,3,     2.85,3,    0.135,2,    0.099,2,   -999.0,9,   -999.0,9,-999.0000,9,  -999.00,   -999.0,9,   -999.0,   4.0101
  49K619940107,   P02,    17,  1,     10,      9,4,19940111,1939, 29.9957, 135.7322, 4322,12644.0000,   1259.1,   3.1737,  34.4540,2,-999.0000,9,     68.5,2,   -999.0,9,   140.20,2,    39.39,2,     2.99,3,    0.011,2,    0.005,2,   -999.0,9,   -999.0,9,-999.0000,9,  -999.00,   -999.0,9,   -999.0,   3.0841
  49K619940107,   P02,    17,  1,      9,      8,2,19940111,1939, 29.9957, 135.7322, 4322,15164.5000,   1510.9,   2.6115,  34.5232,2,  34.5259,2,     80.5,2,     83.2,3,   148.30,2,    39.15,2,     2.95,3,    0.000,2,    0.005,2,   -999.0,9,   -999.0,9,-999.0000,9,  -999.00,   -999.0,9,   -999.0,   2.5074
  49K619940107,   P02,    17,  1,      8,      7,2,19940111,1939, 29.9957, 135.7322, 4322,17723.5000,   1766.8,   2.2657,  34.5655,2,  34.5661,2,     91.9,2,     98.5,3,   148.80,3,    37.92,6,     2.89,3, -999.000,9, -999.000,9,   -999.0,9,   -999.0,9,-999.0000,9,  -999.00,   -999.0,9,   -999.0,   2.1450
  49K619940107,   P02,    17,  1,      7,      6,2,19940111,1939, 29.9957, 135.7322, 4322,20262.9000,   2020.9,   2.0120,  34.6025,2,  34.6034,2,    108.9,2,    111.9,3,   146.60,2,    37.34,2,     2.84,3,    0.000,2,    0.000,2,   -999.0,9,   -999.0,9,-999.0000,9,  -999.00,   -999.0,9,   -999.0,   1.8737
  49K619940107,   P02,    17,  1,      6,      5,2,19940111,1939, 29.9957, 135.7322, 4322,22797.3000,   2274.6,   1.8584,  34.6267,3,  34.6226,2,    119.4,2,    124.7,3,   145.70,4,    36.18,4,     2.76,4,    0.000,2,    0.000,2,   -999.0,9,   -999.0,9,-999.0000,9,  -999.00,   -999.0,9,   -999.0,   1.7008
  49K619940107,   P02,    17,  1,      5,      4,4,19940111,1939, 29.9957, 135.7322, 4322,25332.2000,   2528.5,   1.7301,  34.6457,2,-999.0000,9,    129.5,2,   -999.0,9,   142.70,3,    34.53,6,     2.70,3, -999.000,9, -999.000,9,   -999.0,9,   -999.0,9,-999.0000,9,  -999.00,   -999.0,9,   -999.0,   1.5523
  49K619940107,   P02,    17,  1,      4,      3,2,19940111,1939, 29.9957, 135.7322, 4322,30450.9000,   3041.5,   1.5559,  34.6700,3,  34.6667,2,    146.9,2,    151.4,3,   144.40,2,    35.14,2,     2.65,3,    0.000,2,    0.000,2,   -999.0,9,   -999.0,9,-999.0000,9,  -999.00,   -999.0,9,   -999.0,   1.3339
  49K619940107,   P02,    17,  1,      3,      2,2,19940111,1939, 29.9957, 135.7322, 4322,35553.0000,   3553.0,   1.5190,  34.6807,2,  34.6796,2,    153.9,2,    164.3,3,   138.70,2,    34.84,2,     2.60,3, -999.000,9, -999.000,9,   -999.0,9,   -999.0,9,-999.0000,9,  -999.00,   -999.0,9,   -999.0,   1.2469
  49K619940107,   P02,    17,  1,      2,      1,2,19940111,1939, 29.9957, 135.7322, 4322,40675.6000,   4066.4,   1.5435,  34.6834,2,  34.6838,2,    155.8,2,    164.4,3,   140.30,3,    34.74,6,     2.59,3,    0.000,2,    0.004,2,   -999.0,9,   -999.0,9,-999.0000,9,  -999.00,   -999.0,9,   -999.0,   1.2160
  49K619940107,   P02,    19,  1,     24,     24,4,19940112,0708, 30.0002, 136.9010, 4155,  292.0000,     28.7,  21.3466,  34.8740,2,-999.0000,9,    231.3,2,   -999.0,9,  -999.00,9,  -999.00,9,  -999.00,9, -999.000,9, -999.000,9,   -999.0,9,   -999.0,9,-999.0000,9,  -999.00,   -999.0,9,   -999.0,  21.3411
  49K619940107,   P02,    19,  1,     23,     23,2,19940112,0708, 30.0002, 136.9010, 4155,  706.8000,     69.9,  21.0211,  34.8616,2,  34.8642,2,    213.4,2,    217.8,3,  -999.00,9,  -999.00,9,  -999.00,9,    2.670,3,    1.170,3,   1964.0,3,   2285.0,2,   8.0700,2,    25.00,   -999.0,9,   -999.0,  21.0077
  49K619940107,   P02,    19,  1,     22,     22,2,19940112,0708, 30.0002, 136.9010, 4155, 1226.5000,    121.5,  20.8425,  34.8565,2,  34.8563,2,    218.3,2,    223.2,3,  -999.00,9,  -999.00,9,  -999.00,9,    2.070,3,    1.247,2,   1964.0,3,   2284.0,2,   8.0600,2,    25.00,   -999.0,9,   -999.0,  20.8194
  49K619940107,   P02,    19,  1,     21,     21,2,19940112,0708, 30.0002, 136.9010, 4155, 1617.1000,    160.3,  20.7537,  34.8637,3,  34.8518,2,    218.4,2,    223.9,3,  -999.00,9,  -999.00,9,  -999.00,9,    2.532,2,    1.242,2,   1970.0,3,   2289.0,2,   8.0700,2,    25.00,   -999.0,9,   -999.0,  20.7233
  49K619940107,   P02,    19,  1,     20,     20,2,19940112,0708, 30.0002, 136.9010, 4155, 2091.3000,    207.4,  19.1276,  34.8707,3,  34.8579,2,    200.0,2,    202.6,3,     3.20,2,     4.71,2,     0.35,2,    2.523,2,    1.252,2,   2003.0,3,   2286.0,2,   8.0000,2,    25.00,   -999.0,9,   -999.0,  19.0905
  49K619940107,   P02,    19,  1,     19,     19,2,19940112,0708, 30.0002, 136.9010, 4155, 2600.9000,    258.1,  17.9522,  34.8472,3,  34.8417,2,    208.6,2,    211.4,3,     3.40,2,     5.03,2,     0.36,2,    2.291,2,    1.288,2,   2008.0,2,   2281.0,2,   8.0000,2,    25.00,   -999.0,9,   -999.0,  17.9079
  49K619940107,   P02,    19,  1,     18,     18,2,19940112,0708, 30.0002, 136.9010, 4155, 3064.0000,    304.1,  17.4183,  34.8047,3,  34.8089,2,    208.7,2,    218.2,3,     3.80,2,     5.58,2,     0.41,2,    2.362,2,    1.321,2,   2012.0,2,   2279.0,2,   7.9900,2,    25.00,   -999.0,9,   -999.0,  17.3672
  49K619940107,   P02,    19,  1,     17,     17,2,19940112,0708, 30.0002, 136.9010, 4155, 4116.0000,    408.7,  15.8407,  34.6871,3,  34.7141,2,    196.4,2,    201.8,3,     7.20,2,     8.62,2,     0.64,2,    2.232,2,    1.233,2,   2039.0,2,   2275.0,2,   7.9300,2,    25.00,   -999.0,9,   -999.0,  15.7762
  49K619940107,   P02,    19,  1,     16,     16,2,19940112,0708, 30.0002, 136.9010, 4155, 5114.6000,    508.1,  13.3789,  34.4987,3,  34.5138,2,    191.1,2,    188.7,3,    13.80,2,    12.92,2,     0.97,2,    1.976,2,    1.074,2,   2073.0,2,   2270.0,2,   7.8600,2,    25.00,   -999.0,9,   -999.0,  13.3072
  49K619940107,   P02,    19,  1,     15,     15,2,19940112,0708, 30.0002, 136.9010, 4155, 6130.0000,    609.2,  10.3804,  34.3075,3,  34.3292,2,    173.9,2,    174.5,3,    28.30,3,    19.29,6,     1.46,6,    1.567,2,    0.896,2,   2125.0,2,   2275.0,2,   7.7500,2,    25.00,   -999.0,9,   -999.0,  10.3071
  49K619940107,   P02,    19,  1,     14,     14,2,19940112,0708, 30.0002, 136.9010, 4155, 7111.7000,    707.0,   8.1214,  34.1835,3,  34.1979,2,    151.8,2,    154.3,3,    45.60,2,    25.45,2,     1.93,2,    1.211,2,    0.689,2,   2182.0,2,   2288.0,2,   7.6300,2,    25.00,   -999.0,9,   -999.0,   8.0477
  49K619940107,   P02,    19,  1,     13,     13,4,19940112,0708, 30.0002, 136.9010, 4155, 8154.4000,    810.9,   6.1655,  34.1761,2,-999.0000,9,    116.4,2,   -999.0,9,  -999.00,9,  -999.00,9,  -999.00,9,    1.224,2,    0.710,2,   2176.0,3,   2284.0,3,   7.6300,3,    25.00,   -999.0,9,   -999.0,   6.0923
  49K619940107,   P02,    19,  1,     12,     12,2,19940112,0708, 30.0002, 136.9010, 4155, 9167.6000,    911.9,   5.1901,  34.2398,3,  34.2365,2,     86.4,2,     91.0,3,    86.00,2,    36.03,2,     2.68,2,    0.359,2,    0.240,2,   2275.0,2,   2323.0,2,   7.4600,2,    25.00,   -999.0,9,   -999.0,   5.1138
  49K619940107,   P02,    19,  1,     11,     11,2,19940112,0708, 30.0002, 136.9010, 4155,10142.1000,   1009.1,   4.4332,  34.2962,2,  34.2979,2,     70.5,2,     69.2,3,   101.80,2,    39.60,2,     2.83,2,    0.216,2,    0.133,2,   2303.0,2,   2338.0,2,   7.4200,2,    25.00,   -999.0,9,   -999.0,   4.3538
  49K619940107,   P02,    19,  1,     10,     10,2,19940112,0708, 30.0002, 136.9010, 4155,12668.9000,   1261.4,   3.3068,  34.4293,3,  34.4327,2,     62.7,2,   -999.0,9,   128.10,2,    40.09,2,     2.99,2,    0.312,4,    0.027,4,   2338.0,2,   2367.0,2,   7.4100,2,    25.00,   -999.0,9,   -999.0,   3.2157
  49K619940107,   P02,    19,  1,      9,      9,2,19940112,0708, 30.0002, 136.9010, 4155,15231.5000,   1517.4,   2.7436,  34.5053,2,  34.5032,2,     74.7,2,     81.6,3,   137.50,2,    40.21,3,     2.96,2,    0.016,2,    0.000,2,   2345.0,2,   2385.0,2,   7.4300,2,    25.00,   -999.0,9,   -999.0,   2.6375
  49K619940107,   P02,    19,  1,      8,      8,2,19940112,0708, 30.0002, 136.9010, 4155,17749.2000,   1769.2,   2.3661,  34.5539,2,  34.5526,2,     87.9,2,    100.2,3,   138.00,2,    40.32,2,     2.92,2,    0.012,2,    0.000,2,   2348.0,2,   2393.0,2,   7.4500,2,    25.00,   -999.0,9,   -999.0,   2.2439
  49K619940107,   P02,    19,  1,      7,      7,2,19940112,0708, 30.0002, 136.9010, 4155,20279.0000,   2022.3,   2.0820,  34.5908,2,  34.5886,2,     97.5,2,    106.1,3,   149.00,2,    39.49,3,     2.89,2,    0.000,2,    0.000,2,   2349.0,2,   2399.0,2,   7.4700,2,    25.00,   -999.0,9,   -999.0,   1.9426
  49K619940107,   P02,    19,  1,      6,      6,2,19940112,0708, 30.0002, 136.9010, 4155,22791.0000,   2273.8,   1.8734,  34.6247,3,  34.6183,2,    119.5,2,   -999.0,9,  -999.00,9,  -999.00,9,  -999.00,9,    0.000,2,    0.000,2,   2337.0,2,   2402.0,2,   7.5000,2,    25.00,   -999.0,9,   -999.0,   1.7156
  49K619940107,   P02,    19,  1,      5,      5,4,19940112,0708, 30.0002, 136.9010, 4155,25331.3000,   2528.3,   1.7335,  34.6448,2,-999.0000,9,    129.5,2,   -999.0,9,   145.30,4,    37.77,4,     2.72,4,    0.000,2,    0.002,2,   2334.0,2,   2417.0,3,   7.5300,2,    25.00,   -999.0,9,   -999.0,   1.5557
  49K619940107,   P02,    19,  1,      4,      4,4,19940112,0708, 30.0002, 136.9010, 4155,30407.4000,   3037.0,   1.5863,  34.6670,2,-999.0000,9,    145.3,2,   -999.0,9,   143.40,4,    31.83,4,     2.67,4, -999.000,9, -999.000,9,   2333.0,2,   2396.0,3,   7.5000,3,    25.00,   -999.0,9,   -999.0,   1.3641
  49K619940107,   P02,    19,  1,      3,      3,2,19940112,0708, 30.0002, 136.9010, 4155,35564.6000,   3553.9,   1.5255,  34.6799,3,  34.6765,2,    152.9,2,   -999.0,9,   140.80,2,    31.13,2,     2.62,2,    0.001,2,    0.000,2,   2323.0,2,   2426.0,3,   7.5600,2,    25.00,   -999.0,9,   -999.0,   1.2532
  49K619940107,   P02,    19,  1,      2,      2,2,19940112,0708, 30.0002, 136.9010, 4155,40674.1000,   4066.0,   1.5404,  34.6844,2,  34.6823,2,    156.3,2,   -999.0,9,   141.10,2,    30.42,2,     2.60,2, -999.000,9, -999.000,9,   2324.0,2,   2411.0,2,   7.5700,2,    25.00,   -999.0,9,   -999.0,   1.2131
  49K619940107,   P02,    19,  1,      1,      1,4,19940112,0708, 30.0002, 136.9010, 4155,41979.2000,   4196.8,   1.5484,  34.6850,2,-999.0000,9,    158.0,2,   -999.0,9,   139.50,4,    30.38,4,     2.61,4,    0.012,2,    0.000,2,   2320.0,2,   -999.0,9,-999.0000,9,  -999.00,   -999.0,9,   -999.0,   1.2063