BOTTLE,20220810CCHSIOAMB
EXPOCODE,SECT_ID,STNNBR,CASTNO,SAMPNO,BTLNBR,BTLNBR_FLAG_W,DATE,TIME,LATITUDE,LONGITUDE,DEPTH,CTDRAW,CTDPRS,CTDTMP,CTDSAL,CTDSAL_FLAG_W,SALNTY,SALNTY_FLAG_W,CTDOXY,CTDOXY_FLAG_W,OXYGEN,OXYGEN_FLAG_W,SILCAT,SILCAT_FLAG_W,NITRAT,NITRAT_FLAG_W,PHSPHT,PHSPHT_FLAG_W,CFC-11,CFC-11_FLAG_W,CFC-12,CFC-12_FLAG_W,TCARBN,TCARBN_FLAG_W,ALKALI,ALKALI_FLAG_W,PH_TOT,PH_TOT_FLAG_W,PH_TMP,DELC14,DELC14_FLAG_W,C14ERR,THETA
,,,,,,,,,,,METERS,,DBAR,ITS-90,PSS-78,,PSS-78,,UMOL/KG,,UMOL/KG,,UMOL/KG,,UMOL/KG,,UMOL/KG,,PMOL/KG,,PMOL/KG,,UMOL/KG,,UMOL/KG,,,,DEG C,/MILLE,,/MILLE,DEG C
  49K619940107,   P02,    51,  1,     24,     24,2,19940123,0703, 30.0085, 168.8285, 5752,  266.6000,     26.8,  19.7824,  35.0123,3,  35.0749,2,    240.3,3,    229.2,2,     2.80,2,     0.00,2,     0.18,2,    2.418,2,    1.298,2,   -999.0,9,   -999.0,9,-999.0000,9,  -999.00,   -999.0,9,   -999.0,  19.7775
  49K619940107,   P02,    51,  1,     23,     23,2,19940123,0703, 30.0085, 168.8285, 5752,  609.6000,     60.8,  19.3673,  34.9749,3,  34.9821,2,    223.8,3,    229.2,2,     2.80,2,     0.00,2,     0.18,2,    2.364,2,    1.337,2,   2003.0,2,   2297.0,2,   8.0500,2,    25.00,   -999.0,9,   -999.0,  19.3563
  49K619940107,   P02,    51,  1,     22,     22,2,19940123,0703, 30.0085, 168.8285, 5752, 1163.1000,    115.8,  19.1621,  34.9684,3,  34.9809,2,    224.2,3,    227.1,2,     2.90,2,     0.42,2,     0.21,2,    2.413,2,    1.367,2,   1999.0,2,   2290.0,2,   8.0400,2,    25.00,   -999.0,9,   -999.0,  19.1414
  49K619940107,   P02,    51,  1,     21,     21,2,19940123,0703, 30.0085, 168.8285, 5752, 1605.7000,    159.8,  17.2566,  34.7952,3,  34.8064,2,    211.5,3,    214.4,2,     4.00,2,     3.80,2,     0.40,2,    2.526,2,    1.384,2,   2018.0,2,   2278.0,2,   7.9900,2,    25.00,   -999.0,9,   -999.0,  17.2300
  49K619940107,   P02,    51,  1,     20,     20,2,19940123,0703, 30.0085, 168.8285, 5752, 2091.9000,    208.1,  16.8431,  34.7750,2,  34.7780,2,    216.6,2,    217.8,2,     4.60,2,     6.54,2,     0.45,2,    2.550,2,    1.396,2,   2022.0,2,   2283.0,2,   7.9700,2,    25.00,   -999.0,9,   -999.0,  16.8090
  49K619940107,   P02,    51,  1,     19,     19,2,19940123,0703, 30.0085, 168.8285, 5752, 3126.9000,    311.0,  15.4317,  34.6530,3,  34.6619,2,    206.1,3,    209.5,2,     7.40,6,     9.38,6,     0.64,6,    2.554,2,    1.406,2,   2045.0,2,   2272.0,2,   7.9300,2,    25.00,   -999.0,9,   -999.0,  15.3836
  49K619940107,   P02,    51,  1,     18,     18,2,19940123,0703, 30.0085, 168.8285, 5752, 4162.5000,    414.0,  12.9854,  34.4564,3,  34.4611,2,    208.7,2,    208.7,2,    12.30,6,    13.02,6,     0.89,6,    2.655,2,    1.371,2,   2067.0,2,   2267.0,2,   7.8700,2,    25.00,   -999.0,9,   -999.0,  12.9283
  49K619940107,   P02,    51,  1,     17,     17,2,19940123,0703, 30.0085, 168.8285, 5752, 5137.1000,    510.9,  10.7072,  34.3126,3,  34.2908,2,    207.5,2,    208.9,2,    19.30,2,    16.92,2,     1.18,2,    2.723,2,    1.408,2,   2101.0,2,   2264.0,2,   7.8100,2,    25.00,   -999.0,9,   -999.0,  10.6449
  49K619940107,   P02,    51,  1,     16,     16,2,19940123,0703, 30.0085, 168.8285, 5752, 6158.3000,    612.6,   8.1888,  34.1034,3,  34.1212,2,    179.0,3,    183.0,2,    33.50,2,    23.75,2,     1.64,2,    2.231,2,    1.182,2,   2148.0,2,   2266.0,2,   7.6900,2,    25.00,   -999.0,9,   -999.0,   8.1251
  49K619940107,   P02,    51,  1,     15,     15,2,19940123,0703, 30.0085, 168.8285, 5752, 7133.3000,    709.7,   6.0469,  34.0408,3,  34.0275,2,    141.5,3,    137.9,2,    58.30,6,    31.96,6,     2.26,6,    1.461,2,    0.810,2,   2215.0,2,   2279.0,2,   7.5500,2,    25.00,   -999.0,9,   -999.0,   5.9841
  49K619940107,   P02,    51,  1,     14,     14,2,19940123,0703, 30.0085, 168.8285, 5752, 8147.8000,    810.9,   4.9163,  34.0736,3,  34.0633,2,    105.2,3,     98.5,2,    80.30,2,    37.83,2,     2.71,2,    0.822,2,    0.524,2,   2270.0,2,   2297.0,2,   7.4400,2,    25.00,   -999.0,9,   -999.0,   4.8509
  49K619940107,   P02,    51,  1,     13,     13,2,19940123,0703, 30.0085, 168.8285, 5752,10153.8000,   1010.9,   3.8395,  34.2435,2,  34.2419,2,     44.1,2,     42.0,2,   115.60,2,    43.69,2,     3.11,2,    0.150,2,    0.121,2,   2339.0,2,   2333.0,2,   7.3500,2,    25.00,   -999.0,9,   -999.0,   3.7646
  49K619940107,   P02,    51,  1,     12,     12,2,19940123,0703, 30.0085, 168.8285, 5752,12694.5000,   1264.5,   3.0769,  34.4072,2,  34.4057,2,     28.9,3,     26.5,2,   141.50,2,    45.58,2,     3.24,2,    0.016,2,    0.023,2,   2376.0,2,   2367.0,2,   7.3400,2,    25.00,   -999.0,9,   -999.0,   2.9879
  49K619940107,   P02,    51,  1,     11,     11,2,19940123,0703, 30.0085, 168.8285, 5752,15207.1000,   1515.6,   2.5686,  34.5044,2,  34.5024,2,     38.9,2,     39.0,2,   154.70,6,    44.92,6,     3.22,6,    0.014,2,    0.006,2,   2383.0,2,   2384.0,2,   7.3600,2,    25.00,   -999.0,9,   -999.0,   2.4647
  49K619940107,   P02,    51,  1,     10,     10,2,19940123,0703, 30.0085, 168.8285, 5752,17735.9000,   1768.4,   2.1970,  34.5615,2,  34.5604,2,     58.1,2,     56.4,2,   163.90,6,    43.45,6,     3.16,6,    0.011,2,    0.000,2,   2384.0,2,   2393.0,2,   7.3900,2,    25.00,   -999.0,9,   -999.0,   2.0771
  49K619940107,   P02,    51,  1,      9,      9,2,19940123,0703, 30.0085, 168.8285, 5752,20289.4000,   2023.9,   1.9597,  34.5975,2,  34.5972,2,     75.9,2,     75.5,2,   165.60,3,    42.57,6,     3.07,6,    0.003,2,    0.004,2,   2375.0,2,   2400.0,2,   7.4300,2,    25.00,   -999.0,9,   -999.0,   1.8220
  49K619940107,   P02,    51,  1,      8,      8,2,19940123,0703, 30.0085, 168.8285, 5752,25354.4000,   2531.2,   1.6678,  34.6410,2,  34.6411,2,    107.3,3,    105.0,2,   167.00,2,    40.82,2,     2.94,2,    0.003,2,    0.004,2,   2357.0,2,   2404.0,2,   7.4900,2,    25.00,   -999.0,9,   -999.0,   1.4909
  49K619940107,   P02,    51,  1,      7,      7,4,19940123,0703, 30.0085, 168.8285, 5752,30464.9000,   3043.3,   1.5331,  34.6642,2,-999.0000,9,    127.8,2,   -999.0,9,  -999.00,9,  -999.00,9,  -999.00,9,    0.229,4,    0.151,4,   2326.0,4,   2390.0,4,   7.5400,4,    25.00,   -999.0,9,   -999.0,   1.3114
  49K619940107,   P02,    51,  1,      6,      6,2,19940123,0703, 30.0085, 168.8285, 5752,35550.3000,   3553.1,   1.4718,  34.6767,2,  34.6761,2,    142.1,2,    143.2,2,   158.40,2,    37.41,2,     2.72,2,    0.000,2,    0.000,2,   2334.0,2,   2405.0,2,   7.5500,2,    25.00,   -999.0,9,   -999.0,   1.2009
  49K619940107,   P02,    51,  1,      5,      5,2,19940123,0703, 30.0085, 168.8285, 5752,40661.2000,   4065.3,   1.4534,  34.6839,2,  34.6837,2,    152.9,2,    152.3,2,   156.00,2,    38.39,2,     2.70,2,    0.000,2,    0.000,2,   2325.0,2,   2403.0,2,   7.5700,2,    25.00,   -999.0,9,   -999.0,   1.1286
  49K619940107,   P02,    51,  1,      4,      4,2,19940123,0703, 30.0085, 168.8285, 5752,45793.6000,   4579.4,   1.4521,  34.6905,2,  34.6901,2,    162.1,2,    163.2,2,   147.80,6,    37.40,3,     2.64,3,    0.000,2,    0.004,2,   2318.0,2,   2401.0,2,   7.5800,2,    25.00,   -999.0,9,   -999.0,   1.0693
  49K619940107,   P02,    51,  1,      3,      3,2,19940123,0703, 30.0085, 168.8285, 5752,50945.8000,   5094.8,   1.4649,  34.6940,2,  34.6932,2,    171.4,2,    169.6,2,   140.90,2,    37.37,2,     2.60,2,    0.000,2,    0.006,2,   -999.0,9,   2394.0,2,   7.5900,2,    25.00,   -999.0,9,   -999.0,   1.0202
  49K619940107,   P02,    51,  1,      2,      2,2,19940123,0703, 30.0085, 168.8285, 5752,56103.3000,   5610.0,   1.4929,  34.6973,2,  34.6968,2,    178.7,3,    176.3,2,   133.40,2,    36.99,2,     2.57,2,    0.006,2,    0.000,2,   2301.0,2,   2388.0,2,   7.5900,2,    25.00,   -999.0,9,   -999.0,   0.9823
  49K619940107,   P02,    51,  1,      1,      1,2,19940123,0703, 30.0085, 168.8285, 5752,58494.9000,   5848.5,   1.5094,  34.6994,2,  34.6979,2,    181.7,3,    179.0,2,   134.60,3,    36.29,3,     2.55,6,    0.002,2,    0.002,2,   2297.0,2,   2388.0,2,   7.5900,2,    25.00,   -999.0,9,   -999.0,   0.9671
  49K619940107,   P02,    52,  1,     24,     24,2,19940123,1911, 30.0025, 170.5885, 5545,  162.5000,     16.6,  19.5407,  34.9434,3,  34.9607,2,    233.7,3,    230.8,2,     2.90,2,     2.29,2,     0.22,2,    2.327,2,    1.344,2,   -999.0,9,   -999.0,9,   8.0500,2,    25.00,   -999.0,9,   -999.0,  19.5377
  49K619940107,   P02,    52,  1,     23,     23,3,19940123,1911, 30.0025, 170.5885, 5545,  598.5000,     59.9,  19.1645,  34.9692,2,-999.0000,9,    233.1,3,    226.7,2,     3.10,4,     3.02,4,     0.25,4,    2.315,2,    1.312,2,   1999.0,2,   2288.0,2,   8.0400,2,    25.00,   -999.0,9,   -999.0,  19.1538
  49K619940107,   P02,    52,  1,     22,     22,2,19940123,1911, 30.0025, 170.5885, 5545, 1134.8000,    113.2,  18.7456,  34.9380,3,  34.9548,2,    230.0,2,    228.8,2,     3.10,2,     3.02,2,     0.26,2,    2.297,2,    1.346,2,   2001.0,2,   2288.0,2,   8.0400,2,    25.00,   -999.0,9,   -999.0,  18.7256
  49K619940107,   P02,    52,  1,     21,     21,4,19940123,1911, 30.0025, 170.5885, 5545, 1649.9000,    164.3,  17.2816,  34.8177,2,-999.0000,9,    221.9,2,   -999.0,9,  -999.00,9,  -999.00,9,  -999.00,9,    2.324,2,    1.362,2,   2000.0,3,   2285.0,2,   8.0400,3,    25.00,   -999.0,9,   -999.0,  17.2542
  49K619940107,   P02,    52,  1,     20,     20,2,19940123,1911, 30.0025, 170.5885, 5545, 2075.1000,    206.6,  16.8134,  34.7753,2,  34.7774,2,    217.3,2,    217.8,2,     4.50,2,     6.21,2,     0.49,2,    2.487,2,    1.410,2,   2020.0,2,   2274.0,2,   7.9800,2,    25.00,   -999.0,9,   -999.0,  16.7796
  49K619940107,   P02,    52,  1,     19,     19,2,19940123,1911, 30.0025, 170.5885, 5545, 3140.6000,    312.5,  15.2597,  34.6411,3,  34.6708,2,    213.1,2,    212.0,2,     7.30,6,     8.49,6,     0.68,3,    2.473,2,    1.400,2,   2040.0,2,   2270.0,2,   7.9400,2,    25.00,   -999.0,9,   -999.0,  15.2118
  49K619940107,   P02,    52,  1,     18,     18,2,19940123,1911, 30.0025, 170.5885, 5545, 4080.5000,    406.0,  13.0346,  34.4506,3,  34.4594,2,    216.3,3,    212.9,2,    12.40,3,    12.21,6,     0.93,6,    2.657,2,    1.446,2,   2064.0,2,   2264.0,2,   7.8800,2,    25.00,   -999.0,9,   -999.0,  12.9785
  49K619940107,   P02,    52,  1,     17,     17,2,19940123,1911, 30.0025, 170.5885, 5545, 5098.6000,    507.3,  10.9966,  34.2908,3,  34.2992,2,    214.0,3,    210.6,2,    18.80,2,    16.27,2,     1.23,2,    2.594,2,    1.414,2,   2094.0,2,   2263.0,2,   7.8100,2,    25.00,   -999.0,9,   -999.0,  10.9337
  49K619940107,   P02,    52,  1,     16,     16,2,19940123,1911, 30.0025, 170.5885, 5545, 6124.4000,    609.4,   8.5724,  34.1465,3,  34.1337,2,    187.9,2,    188.0,2,    31.80,2,    22.44,2,     1.70,2,    2.314,2,    1.201,2,   2142.0,2,   2266.0,2,   7.7100,2,    25.00,   -999.0,9,   -999.0,   8.5073
  49K619940107,   P02,    52,  1,     15,     15,2,19940123,1911, 30.0025, 170.5885, 5545, 7109.1000,    707.5,   6.6057,  34.0269,2,  34.0275,2,    153.1,3,    160.9,2,    50.30,3,    29.39,6,     2.22,6,    1.642,2,    0.884,2,   2195.0,2,   2274.0,2,   7.5900,2,    25.00,   -999.0,9,   -999.0,   6.5401
  49K619940107,   P02,    52,  1,     14,     14,2,19940123,1911, 30.0025, 170.5885, 5545, 8111.4000,    807.4,   5.2105,  34.0396,2,  34.0421,2,    109.6,2,    110.1,2,    74.30,2,    35.66,2,     2.68,2,    1.025,2,    0.579,2,   2254.0,2,   2292.0,2,   7.4700,2,    25.00,   -999.0,9,   -999.0,   5.1437
  49K619940107,   P02,    52,  1,     13,     13,2,19940123,1911, 30.0025, 170.5885, 5545,10175.7000,   1013.3,   3.9446,  34.2294,3,  34.2188,2,     47.3,2,     46.3,2,   110.20,2,    42.91,2,     3.20,2,    0.157,2,    0.111,2,   2331.0,2,   2327.0,2,   7.3600,2,    25.00,   -999.0,9,   -999.0,   3.8687
  49K619940107,   P02,    52,  1,     12,     12,2,19940123,1911, 30.0025, 170.5885, 5545,12683.6000,   1263.6,   3.1612,  34.3966,3,  34.3910,2,     29.3,2,     28.2,2,   139.20,2,    45.12,2,     3.27,3,    0.019,2,    0.011,2,   2372.0,2,   2365.0,2,   7.3300,2,    25.00,   -999.0,9,   -999.0,   3.0715
  49K619940107,   P02,    52,  1,     11,     11,2,19940123,1911, 30.0025, 170.5885, 5545,15191.5000,   1514.2,   2.6594,  34.4885,3,  34.4845,2,     33.7,2,     33.2,2,   155.00,2,    45.41,2,     3.24,3,    0.001,2,    0.000,2,   2387.0,2,   2382.0,2,   7.3500,2,    25.00,   -999.0,9,   -999.0,   2.5546
  49K619940107,   P02,    52,  1,     10,     10,2,19940123,1911, 30.0025, 170.5885, 5545,17737.4000,   1768.8,   2.2734,  34.5532,2,  34.5519,2,     51.3,2,     49.6,2,   164.30,2,    44.57,2,     3.18,3,    0.000,2,    0.000,2,   2386.0,2,   2395.0,2,   7.3800,2,    25.00,   -999.0,9,   -999.0,   2.1525
  49K619940107,   P02,    52,  1,      9,      9,2,19940123,1911, 30.0025, 170.5885, 5545,20276.9000,   2022.9,   1.9904,  34.5964,2,  34.5938,2,     71.1,2,     71.3,2,   168.60,2,    43.40,2,     3.09,3,    0.002,2,    0.000,2,   2376.0,2,   2402.0,2,   7.4200,2,    25.00,   -999.0,9,   -999.0,   1.8523
  49K619940107,   P02,    52,  1,      8,      8,2,19940123,1911, 30.0025, 170.5885, 5545,25337.2000,   2529.6,   1.6897,  34.6384,3,  34.6343,2,    102.5,2,    102.5,2,   165.50,2,    40.71,2,     2.95,3,    0.000,2,    0.003,2,   2372.0,3,   2408.0,2,   7.4800,2,    25.00,   -999.0,9,   -999.0,   1.5126
  49K619940107,   P02,    52,  1,      7,      7,2,19940123,1911, 30.0025, 170.5885, 5545,30448.7000,   3041.9,   1.5370,  34.6635,2,  34.6617,2,    124.4,2,    126.4,2,   162.00,2,    39.31,2,     2.79,3,    0.000,2,    0.000,2,   2345.0,2,   2408.0,2,   7.5200,2,    25.00,   -999.0,9,   -999.0,   1.3154
  49K619940107,   P02,    52,  1,      6,      6,2,19940123,1911, 30.0025, 170.5885, 5545,35546.9000,   3553.0,   1.4779,  34.6756,2,  34.6748,2,    140.8,2,    142.4,2,   156.80,2,    38.92,2,     2.73,3,    0.000,2,    0.000,2,   2338.0,2,   2407.0,2,   7.5500,2,    25.00,   -999.0,9,   -999.0,   1.2069
  49K619940107,   P02,    52,  1,      5,      5,2,19940123,1911, 30.0025, 170.5885, 5545,40666.8000,   4066.1,   1.4565,  34.6839,2,  34.6825,2,    151.8,2,    151.5,2,   154.80,2,    38.31,2,     2.72,3,    0.003,2,    0.004,2,   2330.0,2,   2408.0,2,   7.5700,2,    25.00,   -999.0,9,   -999.0,   1.1316
  49K619940107,   P02,    52,  1,      4,      4,2,19940123,1911, 30.0025, 170.5885, 5545,45772.5000,   4577.5,   1.4582,  34.6897,2,  34.6886,2,    161.3,2,    160.7,2,   148.70,6,    37.39,6,     2.66,3,    0.004,2,    0.000,2,   2320.0,2,   2404.0,2,   7.5800,2,    25.00,   -999.0,9,   -999.0,   1.0755
  49K619940107,   P02,    52,  1,      3,      3,2,19940123,1911, 30.0025, 170.5885, 5545,50961.5000,   5096.6,   1.4660,  34.6946,3,  34.6911,2,    171.5,2,    171.2,2,   141.20,2,    36.69,2,     2.62,3,    0.000,2,    0.006,2,   2310.0,2,   2397.0,2,   7.5900,2,    25.00,   -999.0,9,   -999.0,   1.0210
  49K619940107,   P02,    52,  1,      2,      2,2,19940123,1911, 30.0025, 170.5885, 5545,56105.0000,   5610.3,   1.5013,  34.6971,2,  34.6954,2,    177.9,3,    175.5,2,   137.60,2,    36.64,2,     2.59,3,    0.000,2,    0.005,2,   2302.0,2,   2394.0,2,   7.5900,2,    25.00,   -999.0,9,   -999.0,   0.9904
  49K619940107,   P02,    52,  1,      1,      1,2,19940123,1911, 30.0025, 170.5885, 5545,56422.5000,   5642.0,   1.5058,  34.6976,2,  34.6967,2,    177.2,3,    174.7,2,   137.50,6,    36.48,3,     2.59,3,    0.000,2,    0.000,2,   2302.0,2,   2395.0,2,   7.5900,2,    25.00,   -999.0,9,   -999.0,   0.9906