BOTTLE,20220810CCHSIOAMB
EXPOCODE,SECT_ID,STNNBR,CASTNO,SAMPNO,BTLNBR,BTLNBR_FLAG_W,DATE,TIME,LATITUDE,LONGITUDE,DEPTH,CTDRAW,CTDPRS,CTDTMP,CTDSAL,CTDSAL_FLAG_W,SALNTY,SALNTY_FLAG_W,CTDOXY,CTDOXY_FLAG_W,OXYGEN,OXYGEN_FLAG_W,SILCAT,SILCAT_FLAG_W,NITRAT,NITRAT_FLAG_W,PHSPHT,PHSPHT_FLAG_W,CFC-11,CFC-11_FLAG_W,CFC-12,CFC-12_FLAG_W,TCARBN,TCARBN_FLAG_W,ALKALI,ALKALI_FLAG_W,PH_TOT,PH_TOT_FLAG_W,PH_TMP,DELC14,DELC14_FLAG_W,C14ERR,THETA
,,,,,,,,,,,METERS,,DBAR,ITS-90,PSS-78,,PSS-78,,UMOL/KG,,UMOL/KG,,UMOL/KG,,UMOL/KG,,UMOL/KG,,PMOL/KG,,PMOL/KG,,UMOL/KG,,UMOL/KG,,,,DEG C,/MILLE,,/MILLE,DEG C
  49K619940107,   P02,    80,  1,     24,     24,3,19940206,2302, 29.9893,-131.6663, 4562,  562.6000,     56.2,  18.2760,  34.4778,2,-999.0000,5,    235.0,2,   -392.2,4,  -999.00,9,  -999.00,9,  -999.00,9, -999.000,9, -999.000,9,   -999.0,9,   -999.0,9,-999.0000,9,  -999.00,   -999.0,9,   -999.0,  18.2663
  49K619940107,   P02,    80,  1,     23,     23,4,19940206,2302, 29.9893,-131.6663, 4562,  887.2000,     88.4,  18.2557,  34.5705,2,-999.0000,5,    236.5,2,   -392.2,4,     2.30,2,     0.20,2,     0.26,2,    2.402,2,    1.363,2,   2021.0,2,   2281.0,2,   7.9900,2,    25.00,   -999.0,9,   -999.0,  18.2404
  49K619940107,   P02,    80,  1,     22,     22,4,19940206,2302, 29.9893,-131.6663, 4562, 1197.5000,    119.2,  17.0414,  34.4973,2,-999.0000,5,    233.8,2,   -392.1,4,  -999.00,9,  -999.00,9,  -999.00,9,    2.392,2,    1.330,2,   2016.0,2,   2283.0,2,   8.0000,2,    25.00,   -999.0,9,   -999.0,  17.0218
  49K619940107,   P02,    80,  1,     21,     21,2,19940206,2302, 29.9893,-131.6663, 4562, 1627.7000,    161.9,  14.3894,  34.1284,3,  34.2161,2,    221.5,3,    218.6,2,     4.20,2,     3.51,2,     0.51,2,    2.773,2,    1.481,2,   2037.0,2,   2257.0,2,   7.9100,2,    25.00,   -999.0,9,   -999.0,  14.3658
  49K619940107,   P02,    80,  1,     20,     20,2,19940206,2302, 29.9893,-131.6663, 4562, 2222.2000,    221.0,  10.2401,  33.8137,3,  33.8443,2,    212.5,2,    211.9,2,     9.50,2,    10.19,2,     0.95,2,    3.080,2,    1.561,2,   2072.0,2,   2237.0,2,   7.8100,2,    25.00,   -999.0,9,   -999.0,  10.2144
  49K619940107,   P02,    80,  1,     19,     19,2,19940206,2302, 29.9893,-131.6663, 4562, 3146.1000,    312.9,   8.4985,  33.9906,3,  33.9690,2,    191.2,2,    192.5,2,    24.30,2,    19.88,2,     1.55,2,    2.508,2,    1.293,2,   2130.0,2,    230.0,2,   7.6900,2,    25.00,   -999.0,9,   -999.0,   8.4659
  49K619940107,   P02,    80,  1,     18,     18,2,19940206,2302, 29.9893,-131.6663, 4562, 4251.7000,    422.8,   6.5170,  34.0188,3,  34.0006,2,    118.8,3,    130.7,2,    45.90,6,    29.75,6,     2.21,6,    1.273,2,    0.685,2,   2202.0,2,   2266.0,2,   7.5300,2,    25.00,   -999.0,9,   -999.0,   6.4790
  49K619940107,   P02,    80,  1,     17,     17,2,19940206,2302, 29.9893,-131.6663, 4562, 5257.0000,    522.9,   5.6221,  34.0893,3,  34.0632,2,     52.5,3,     65.1,2,    68.40,2,    37.38,2,     2.79,2,    0.402,2,    0.218,2,   2265.0,3,   2288.0,2,   7.3900,2,    25.00,   -999.0,9,   -999.0,   5.5782
  49K619940107,   P02,    80,  1,     16,     16,2,19940206,2302, 29.9893,-131.6663, 4562, 6160.0000,    612.8,   4.9702,  34.1766,3,  34.1589,2,     27.3,2,     29.1,2,    87.60,2,    41.28,2,     3.13,2,    0.084,2,    0.040,2,   2324.0,3,   2308.0,2,   7.3100,2,    25.00,   -999.0,9,   -999.0,   4.9214
  49K619940107,   P02,    80,  1,     15,     15,2,19940206,2302, 29.9893,-131.6663, 4562, 7160.1000,    712.4,   4.6661,  34.2808,2,  34.2801,2,     14.7,2,     14.6,2,    98.10,3,    42.14,6,     3.27,6,    0.012,2,    0.008,2,   2342.0,2,   2328.0,2,   7.3000,2,    25.00,   -999.0,9,   -999.0,   4.6103
  49K619940107,   P02,    80,  1,     14,     14,2,19940206,2302, 29.9893,-131.6663, 4562, 8170.9000,    813.2,   4.2842,  34.3662,3,  34.3547,2,     14.3,2,     14.7,2,   108.00,3,    43.23,2,     3.32,2,    0.007,2,    0.007,2,   2356.0,2,   2341.0,2,   7.3000,2,    25.00,   -999.0,9,   -999.0,   4.2222
  49K619940107,   P02,    80,  1,     13,     13,2,19940206,2302, 29.9893,-131.6663, 4562, 9219.9000,    917.7,   4.0360,  34.4174,3,  34.4128,2,     19.8,2,     20.1,2,   113.50,3,    43.13,2,     3.30,2,    0.006,2,    0.002,2,   2363.0,2,   2348.0,3,   7.3300,2,    25.00,   -999.0,9,   -999.0,   3.9670
  49K619940107,   P02,    80,  1,     12,     12,2,19940206,2302, 29.9893,-131.6663, 4562,10154.6000,   1011.0,   3.8128,  34.4551,2,  34.4522,2,     25.1,2,     24.0,2,   120.80,3,    43.26,2,     3.29,2,    0.006,2,    0.000,2,   2364.0,2,   2361.0,2,   7.3400,2,    25.00,   -999.0,9,   -999.0,   3.7378
  49K619940107,   P02,    80,  1,     11,     11,2,19940206,2302, 29.9893,-131.6663, 4562,12689.4000,   1264.0,   3.2540,  34.5180,3,  34.5225,2,     41.7,2,     40.7,2,   132.10,3,    42.64,2,     3.21,2,    0.004,2,    0.005,2,   2368.0,2,   2376.0,2,   7.3700,2,    25.00,   -999.0,9,   -999.0,   3.1630
  49K619940107,   P02,    80,  1,     10,     10,2,19940206,2302, 29.9893,-131.6663, 4562,15219.7000,   1516.8,   2.7941,  34.5596,2,  34.5607,2,     53.3,3,     50.5,2,   145.00,3,    42.22,2,     3.16,2,    0.001,2,    0.002,2,   2376.0,2,   2390.0,2,   7.3900,2,    25.00,   -999.0,9,   -999.0,   2.6873
  49K619940107,   P02,    80,  1,      9,      9,2,19940206,2302, 29.9893,-131.6663, 4562,17772.2000,   1772.1,   2.4409,  34.5898,2,  34.5909,2,     64.7,2,     63.8,2,   157.10,3,    41.03,2,     3.10,2,    0.001,2,    0.002,2,   2378.0,2,   2400.0,2,   7.4100,2,    25.00,   -999.0,9,   -999.0,   2.3173
  49K619940107,   P02,    80,  1,      8,      8,2,19940206,2302, 29.9893,-131.6663, 4562,20274.0000,   2022.4,   2.1382,  34.6166,2,  34.6174,2,     79.1,2,     77.5,2,   161.60,3,    40.63,2,     3.09,2,    0.000,2,    0.000,2,   2381.0,2,   -999.0,9,   7.4300,2,    25.00,   -999.0,9,   -999.0,   1.9978
  49K619940107,   P02,    80,  1,      7,      7,2,19940206,2302, 29.9893,-131.6663, 4562,22792.5000,   2274.5,   1.9321,  34.6328,2,  34.6353,2,     90.7,2,     89.2,2,   167.30,3,    39.84,2,     2.96,2,    0.000,2,    0.000,2,   2372.0,3,   2411.0,2,   7.4600,2,    25.00,   -999.0,9,   -999.0,   1.7732
  49K619940107,   P02,    80,  1,      6,      6,2,19940206,2302, 29.9893,-131.6663, 4562,25352.5000,   2531.0,   1.7650,  34.6467,2,  34.6477,2,    100.8,2,    102.1,2,   171.00,3,    38.63,2,     2.88,2,    0.000,2,    0.000,2,   2369.0,2,   2415.0,2,   7.4800,2,    25.00,   -999.0,9,   -999.0,   1.5863
  49K619940107,   P02,    80,  1,      5,      5,2,19940206,2302, 29.9893,-131.6663, 4562,30447.9000,   3041.6,   1.5799,  34.6653,2,  34.6658,2,    118.7,2,    120.2,2,   171.20,3,    37.83,2,     2.79,2,    0.000,2,    0.000,2,   2362.0,2,   2419.0,2,   7.5100,2,    25.00,   -999.0,9,   -999.0,   1.3574
  49K619940107,   P02,    80,  1,      4,      4,2,19940206,2302, 29.9893,-131.6663, 4562,35531.9000,   3551.3,   1.4935,  34.6779,2,  34.6789,2,    132.9,3,    135.4,2,   168.60,3,    36.95,6,     2.73,6,    0.000,2,    0.002,2,   2350.0,2,   2419.0,2,   7.5400,2,    25.00,   -999.0,9,   -999.0,   1.2222
  49K619940107,   P02,    80,  1,      3,      3,2,19940206,2302, 29.9893,-131.6663, 4562,40647.0000,   4063.9,   1.4979,  34.6837,2,  34.6850,2,    143.1,2,    142.2,2,   166.20,3,    36.30,2,     2.67,2,    0.000,2,    0.007,2,   2341.0,2,   2418.0,2,   7.5600,2,    25.00,   -999.0,9,   -999.0,   1.1720
  49K619940107,   P02,    80,  1,      2,      2,2,19940206,2302, 29.9893,-131.6663, 4562,44754.8000,   4475.4,   1.5365,  34.6849,2,  34.6856,2,    145.8,2,    147.3,2,   165.30,3,    36.49,2,     2.66,2,    0.003,2,    0.000,2,   2336.0,2,   2419.0,2,   7.5600,2,    25.00,   -999.0,9,   -999.0,   1.1632
  49K619940107,   P02,    80,  1,      1,      1,2,19940206,2302, 29.9893,-131.6663, 4562,46112.6000,   4611.3,   1.5529,  34.6852,2,  34.6863,2,    146.1,2,    147.2,2,   164.80,3,    36.71,6,     2.67,6,    0.003,2,    0.000,2,   2348.0,2,   2419.0,2,   7.5600,2,    25.00,   -999.0,9,   -999.0,   1.1633
  49K619940107,   P02,    82,  1,     23,     23,4,19940207,2251, 29.9835,-129.8327, 4931,  838.5000,     83.4,  17.9466,  34.1204,2,-999.0000,9,    240.7,2,   -999.0,9,  -999.00,9,  -999.00,9,  -999.00,9, -999.000,9, -999.000,9,   -999.0,9,   -999.0,9,-999.0000,9,  -999.00,   -999.0,9,   -999.0,  17.9324
  49K619940107,   P02,    82,  1,     22,     22,4,19940207,2251, 29.9835,-129.8327, 4931, 1078.0000,    107.2,  18.5001,  34.3246,2,-999.0000,9,    239.1,2,   -999.0,9,  -999.00,9,  -999.00,9,  -999.00,9, -999.000,9, -999.000,9,   -999.0,9,   -999.0,9,-999.0000,9,  -999.00,   -999.0,9,   -999.0,  18.4814
  49K619940107,   P02,    82,  1,     21,     21,2,19940207,2251, 29.9835,-129.8327, 4931, 1689.3000,    168.0,  14.3078,  33.9048,3,  34.2269,2,    224.5,2,    224.6,2,     3.40,2,     2.02,2,     0.43,2,    2.722,2,    1.463,2,   2025.0,2,   2257.0,2,   7.9400,2,    25.00,   -999.0,9,   -999.0,  14.2833
  49K619940107,   P02,    82,  1,     20,     20,2,19940207,2251, 29.9835,-129.8327, 4931, 2114.1000,    210.2,   9.9857,  33.6531,3,  33.7845,2,    202.7,3,    211.9,2,     9.70,2,    10.02,2,     0.97,2,    3.174,2,    1.578,2,   2062.0,2,   2229.0,2,   7.8100,2,    25.00,   -999.0,9,   -999.0,   9.9617
  49K619940107,   P02,    82,  1,     19,     19,2,19940207,2251, 29.9835,-129.8327, 4931, 3074.2000,    305.6,   8.0564,  33.9476,3,  33.9536,2,    141.3,3,    161.4,2,    29.80,2,    23.66,2,     1.82,2,    2.255,2,    1.156,2,   2153.0,2,   2250.0,2,   7.6200,2,    25.00,   -999.0,9,   -999.0,   8.0256
  49K619940107,   P02,    82,  1,     18,     18,2,19940207,2251, 29.9835,-129.8327, 4931, 4214.1000,    419.0,   6.3633,  34.0422,3,  34.0369,2,     97.0,3,     88.7,2,    55.00,6,    33.24,6,     2.53,6,    0.856,2,    0.458,2,   2238.0,2,   2269.0,2,   7.4500,2,    25.00,   -999.0,9,   -999.0,   6.3261
  49K619940107,   P02,    82,  1,     17,     17,2,19940207,2251, 29.9835,-129.8327, 4931, 5219.3000,    519.0,   5.6816,  34.1070,3,  34.0969,2,     48.1,2,     50.0,2,    71.30,2,    37.59,2,     2.88,2,    0.314,2,    0.185,2,   2287.0,2,   2288.0,2,   7.3600,2,    25.00,   -999.0,9,   -999.0,   5.6378
  49K619940107,   P02,    82,  1,     16,     16,2,19940207,2251, 29.9835,-129.8327, 4931, 6177.5000,    614.4,   5.2251,  34.2368,3,  34.2172,2,     21.6,2,     20.7,2,    86.50,2,    40.21,2,     3.18,2,    0.068,2,    0.039,2,   2318.0,2,   2306.0,2,   7.3100,2,    25.00,   -999.0,9,   -999.0,   5.1748
  49K619940107,   P02,    82,  1,     15,     15,2,19940207,2251, 29.9835,-129.8327, 4931, 7184.8000,    714.8,   4.8230,  34.3157,3,  34.3121,2,     13.2,2,     12.2,2,    96.70,6,    41.32,6,     3.25,6,    0.023,2,    0.014,2,   2333.0,2,   2342.0,3,   7.3000,2,    25.00,   -999.0,9,   -999.0,   4.7661
  49K619940107,   P02,    82,  1,     14,     14,2,19940207,2251, 29.9835,-129.8327, 4931, 8117.3000,    807.7,   4.5050,  34.3807,2,  34.3822,2,     13.6,2,     13.1,2,   106.30,2,    43.43,2,     3.27,2,    0.015,2,    0.018,2,   2354.0,2,   2342.0,2,   7.3100,2,    25.00,   -999.0,9,   -999.0,   4.4421
  49K619940107,   P02,    82,  1,     13,     13,2,19940207,2251, 29.9835,-129.8327, 4931, 9179.1000,    913.6,   4.1776,  34.4347,3,  34.4307,2,     19.1,3,     16.7,2,   111.80,2,    44.16,2,     3.27,2,    0.012,2,    0.009,2,   2362.0,2,   2354.0,2,   7.3300,2,    25.00,   -999.0,9,   -999.0,   4.1079
  49K619940107,   P02,    82,  1,     12,     12,2,19940207,2251, 29.9835,-129.8327, 4931,10134.3000,   1008.9,   3.8562,  34.4645,2,  34.4655,2,     25.6,2,     27.1,2,   119.90,2,    44.16,2,     3.24,2,    0.009,2,    0.002,2,   2367.0,2,   2361.0,2,   7.3400,2,    25.00,   -999.0,9,   -999.0,   3.7810
  49K619940107,   P02,    82,  1,     11,     11,2,19940207,2251, 29.9835,-129.8327, 4931,12661.3000,   1261.1,   3.3135,  34.5232,3,  34.5150,2,     43.6,2,     42.3,2,   131.30,2,    43.29,2,     3.15,2,    0.029,4,    0.015,4,   2369.0,2,   2374.0,2,   7.3800,2,    25.00,   -999.0,9,   -999.0,   3.2222
  49K619940107,   P02,    82,  1,     10,     10,2,19940207,2251, 29.9835,-129.8327, 4931,15230.3000,   1517.8,   2.8337,  34.5610,2,  34.5629,2,     54.2,2,     54.7,2,   143.70,2,    43.13,2,     3.13,2,    0.001,2,    0.000,2,   2379.0,2,   2389.0,2,   7.4000,2,    25.00,   -999.0,9,   -999.0,   2.7263
  49K619940107,   P02,    82,  1,      9,      9,2,19940207,2251, 29.9835,-129.8327, 4931,17759.5000,   1770.7,   2.4433,  34.5921,2,  34.5940,2,     67.2,2,     68.0,2,   155.80,2,    42.16,2,     3.05,2,    0.002,2,    0.000,2,   2380.0,2,   2398.0,2,   7.4200,2,    25.00,   -999.0,9,   -999.0,   2.3198
  49K619940107,   P02,    82,  1,      8,      8,2,19940207,2251, 29.9835,-129.8327, 4931,20269.6000,   2021.9,   2.1643,  34.6161,2,  34.6182,2,     79.9,2,     80.0,2,   160.00,2,    41.69,2,     2.98,2,    0.003,2,    0.000,2,   2379.0,2,   2406.0,2,   7.4400,2,    25.00,   -999.0,9,   -999.0,   2.0235
  49K619940107,   P02,    82,  1,      7,      7,2,19940207,2251, 29.9835,-129.8327, 4931,22830.7000,   2278.3,   1.9435,  34.6329,3,  34.6365,2,     91.9,2,     92.5,2,   167.80,2,    41.01,2,     2.91,2,    0.003,2,    0.004,2,   2378.0,2,   2411.0,2,   7.4700,2,    25.00,   -999.0,9,   -999.0,   1.7841
  49K619940107,   P02,    82,  1,      6,      6,2,19940207,2251, 29.9835,-129.8327, 4931,25372.7000,   2532.9,   1.7843,  34.6468,2,  34.6479,2,    101.6,2,    101.3,2,   170.00,2,    40.03,2,     2.86,2,    0.000,2,    0.000,2,   2374.0,2,   2415.0,2,   7.4800,2,    25.00,   -999.0,9,   -999.0,   1.6051
  49K619940107,   P02,    82,  1,      5,      5,2,19940207,2251, 29.9835,-129.8327, 4931,30463.0000,   3043.0,   1.5866,  34.6635,2,  34.6707,3,    118.7,2,    117.6,2,   170.90,3,    39.68,3,     2.76,3,    0.000,2,    0.000,2,   2353.0,3,   2418.0,2,   7.5100,2,    25.00,   -999.0,9,   -999.0,   1.3638
  49K619940107,   P02,    82,  1,      4,      4,2,19940207,2251, 29.9835,-129.8327, 4931,35564.2000,   3554.4,   1.5043,  34.6766,2,  34.6777,2,    134.5,2,    133.0,2,   168.60,6,    38.54,6,     2.69,6,    0.000,2,    0.000,2,   2375.0,3,   2418.0,2,   7.5400,2,    25.00,   -999.0,9,   -999.0,   1.2324
  49K619940107,   P02,    82,  1,      3,      3,2,19940207,2251, 29.9835,-129.8327, 4931,40674.1000,   4066.5,   1.5070,  34.6828,2,  34.6832,2,    141.8,2,    141.4,2,   169.50,2,    38.33,2,     2.64,2,    0.000,2,    0.000,2,   2349.0,2,   2419.0,2,   7.5600,2,    25.00,   -999.0,9,   -999.0,   1.1806
  49K619940107,   P02,    82,  1,      2,      2,2,19940207,2251, 29.9835,-129.8327, 4931,45803.7000,   4580.3,   1.5569,  34.6840,2,  34.6845,2,    144.7,3,    142.4,2,   168.20,2,    38.27,2,     2.63,2,    0.003,2,    0.000,2,   2352.0,2,   2416.0,2,   7.5600,2,    25.00,   -999.0,9,   -999.0,   1.1708
  49K619940107,   P02,    82,  1,      1,      1,2,19940207,2251, 29.9835,-129.8327, 4931,50006.7000,   5000.8,   1.6070,  34.6848,2,  34.6873,2,    143.9,2,    144.6,2,   165.70,6,    38.18,6,     2.63,6,    0.001,2,    0.002,2,   2361.0,2,   2416.0,2,   7.5600,2,    25.00,   -999.0,9,   -999.0,   1.1690