BOTTLE,20220810CCHSIOAMB
EXPOCODE,SECT_ID,STNNBR,CASTNO,SAMPNO,BTLNBR,BTLNBR_FLAG_W,DATE,TIME,LATITUDE,LONGITUDE,DEPTH,CTDRAW,CTDPRS,CTDTMP,CTDSAL,CTDSAL_FLAG_W,SALNTY,SALNTY_FLAG_W,CTDOXY,CTDOXY_FLAG_W,OXYGEN,OXYGEN_FLAG_W,SILCAT,SILCAT_FLAG_W,NITRAT,NITRAT_FLAG_W,PHSPHT,PHSPHT_FLAG_W,CFC-11,CFC-11_FLAG_W,CFC-12,CFC-12_FLAG_W,TCARBN,TCARBN_FLAG_W,ALKALI,ALKALI_FLAG_W,PH_TOT,PH_TOT_FLAG_W,PH_TMP,DELC14,DELC14_FLAG_W,C14ERR,THETA
,,,,,,,,,,,METERS,,DBAR,ITS-90,PSS-78,,PSS-78,,UMOL/KG,,UMOL/KG,,UMOL/KG,,UMOL/KG,,UMOL/KG,,PMOL/KG,,PMOL/KG,,UMOL/KG,,UMOL/KG,,,,DEG C,/MILLE,,/MILLE,DEG C
  49K619940107,   P02,    42,  1,     24,     24,2,19940119,1705, 30.0020, 156.0092, 5804,  211.9000,     21.8,  21.1999,  34.9273,2,  34.9265,2,    220.8,2,    220.1,2,     2.60,2,     0.62,2,     0.15,2,    4.260,4,    2.626,4,   -999.0,9,   -999.0,9,   8.0700,2,    25.00,   -999.0,9,   -999.0,  21.1957
  49K619940107,   P02,    42,  1,     23,     23,2,19940119,1705, 30.0020, 156.0092, 5804,  664.9000,     66.8,  21.2061,  34.9306,3,  34.9275,2,    224.3,3,    219.3,2,     2.60,2,     0.41,2,     0.15,2,    2.134,2,    1.239,2,   1975.0,2,   2281.0,2,   8.0700,2,    25.00,   -999.0,9,   -999.0,  21.1933
  49K619940107,   P02,    42,  1,     22,     22,4,19940119,1705, 30.0020, 156.0092, 5804, 1090.1000,    109.0,  21.1828,  34.9263,2,-999.0000,9,    221.2,2,   -999.0,9,  -999.00,9,  -999.00,9,  -999.00,9, -999.000,9, -999.000,9,   -999.0,9,   -999.0,9,-999.0000,9,  -999.00,   -999.0,9,   -999.0,  21.1618
  49K619940107,   P02,    42,  1,     21,     21,2,19940119,1705, 30.0020, 156.0092, 5804, 1542.4000,    154.0,  19.1035,  34.8499,2,  34.8501,2,    203.2,2,    204.3,2,     3.90,2,     2.55,2,     0.33,2,    2.269,2,    1.322,2,   2008.0,2,   2277.0,2,   8.0100,2,    25.00,   -999.0,9,   -999.0,  19.0760
  49K619940107,   P02,    42,  1,     20,     20,2,19940119,1705, 30.0020, 156.0092, 5804, 2101.0000,    209.5,  17.9453,  34.8398,3,  34.8286,2,    209.4,3,    206.1,2,     4.30,2,     3.42,2,     0.39,2,    2.375,2,    1.352,2,   2018.0,2,   2274.0,2,   7.9900,2,    25.00,   -999.0,9,   -999.0,  17.9094
  49K619940107,   P02,    42,  1,     19,     19,2,19940119,1705, 30.0020, 156.0092, 5804, 3081.5000,    306.9,  16.7251,  34.7616,2,  34.7645,2,    205.0,2,    205.3,2,     5.70,2,     5.18,2,     0.51,2,    2.404,2,    1.385,2,   2029.0,2,   2271.0,2,   7.9600,2,    25.00,   -999.0,9,   -999.0,  16.6750
  49K619940107,   P02,    42,  1,     18,     18,2,19940119,1705, 30.0020, 156.0092, 5804, 4077.2000,    406.0,  14.7964,  34.6118,3,  34.6039,2,    202.2,3,    197.8,2,     9.60,2,     8.65,2,     0.76,2,    2.320,2,    1.303,2,   2054.0,2,   2265.0,2,   7.9000,2,    25.00,   -999.0,9,   -999.0,  14.7353
  49K619940107,   P02,    42,  1,     17,     17,2,19940119,1705, 30.0020, 156.0092, 5804, 5085.1000,    506.3,  12.3887,  34.4079,3,  34.4130,2,    195.7,2,    196.4,2,    16.40,2,    12.63,2,     1.07,2,    2.247,2,    1.358,2,   2084.0,2,   2262.0,2,   7.8300,2,    25.00,   -999.0,9,   -999.0,  12.3208
  49K619940107,   P02,    42,  1,     16,     16,2,19940119,1705, 30.0020, 156.0092, 5804, 6072.3000,    604.6,   9.7966,  34.2244,3,  34.2281,2,    177.6,3,    183.8,2,    28.30,6,    18.25,3,     1.47,6,    2.074,2,    1.200,2,   2126.0,2,   2263.0,2,   7.7400,2,    25.00,   -999.0,9,   -999.0,   9.7265
  49K619940107,   P02,    42,  1,     15,     15,2,19940119,1705, 30.0020, 156.0092, 5804, 7114.4000,    708.4,   6.5835,  34.0434,3,  34.0401,2,    147.0,3,    150.2,2,    52.00,6,    27.17,6,     2.12,6,    1.581,2,    0.891,2,   2197.0,2,   2276.0,2,   7.5800,2,    25.00,   -999.0,9,   -999.0,   6.5180
  49K619940107,   P02,    42,  1,     14,     14,2,19940119,1705, 30.0020, 156.0092, 5804, 8123.0000,    808.9,   5.0265,  34.0630,2,  34.0659,2,     98.7,2,     98.2,2,    78.20,2,    34.44,2,     2.61,2,    0.862,2,    0.472,2,   2266.0,2,   2294.0,2,   7.4500,2,    25.00,   -999.0,9,   -999.0,   4.9606
  49K619940107,   P02,    42,  1,     13,     13,2,19940119,1705, 30.0020, 156.0092, 5804,10130.9000,   1009.1,   3.9284,  34.2469,2,  34.2471,2,     50.7,2,     49.6,2,   111.10,2,    40.02,2,     2.98,2,    0.253,2,    0.175,2,   2328.0,2,   2332.0,2,   7.3600,2,    25.00,   -999.0,9,   -999.0,   3.8530
  49K619940107,   P02,    42,  1,     12,     12,2,19940119,1705, 30.0020, 156.0092, 5804,12670.4000,   1262.6,   3.0648,  34.4046,2,  34.4020,2,     35.7,2,     35.7,2,   138.20,2,    41.98,2,     3.08,2,    0.037,2,    0.020,2,   2369.0,2,   2362.0,2,   7.3400,2,    25.00,   -999.0,9,   -999.0,   2.9761
  49K619940107,   P02,    42,  1,     11,     11,2,19940119,1705, 30.0020, 156.0092, 5804,15201.8000,   1515.5,   2.5440,  34.4966,3,  34.4917,2,     43.6,3,     39.9,2,   151.70,2,    42.29,2,     3.07,2,    0.011,2,    0.008,2,   2381.0,2,   2385.0,2,   7.3600,2,    25.00,   -999.0,9,   -999.0,   2.4404
  49K619940107,   P02,    42,  1,     10,     10,2,19940119,1705, 30.0020, 156.0092, 5804,17724.1000,   1767.7,   2.2154,  34.5578,2,  34.5565,2,     59.1,3,     56.4,2,   158.60,2,    42.05,2,     3.03,2,    0.004,2,    0.000,2,   2380.0,2,   2392.0,2,   7.3900,2,    25.00,   -999.0,9,   -999.0,   2.0953
  49K619940107,   P02,    42,  1,      9,      9,2,19940119,1705, 30.0020, 156.0092, 5804,20242.9000,   2019.8,   1.9776,  34.5947,2,  34.5948,2,     75.4,3,     73.2,2,   161.80,2,    40.39,2,     2.94,2,    0.000,2,    0.000,2,   2376.0,2,   2398.0,2,   7.4200,2,    25.00,   -999.0,9,   -999.0,   1.8399
  49K619940107,   P02,    42,  1,      8,      8,2,19940119,1705, 30.0020, 156.0092, 5804,25347.7000,   2531.0,   1.6899,  34.6443,2,  34.6457,2,    112.2,2,    110.9,2,   157.00,2,    38.71,2,     2.78,2,    0.000,2,    0.000,2,   2354.0,2,   2402.0,2,   7.4900,2,    25.00,   -999.0,9,   -999.0,   1.5126
  49K619940107,   P02,    42,  1,      7,      7,2,19940119,1705, 30.0020, 156.0092, 5804,30438.9000,   3041.2,   1.5579,  34.6643,2,  34.6635,2,    129.8,2,    128.8,2,   154.40,2,    37.32,2,     2.69,2,    0.005,2,    0.000,2,   2344.0,2,   2406.0,2,   7.5300,2,    25.00,   -999.0,9,   -999.0,   1.3359
  49K619940107,   P02,    42,  1,      6,      6,2,19940119,1705, 30.0020, 156.0092, 5804,35523.7000,   3550.9,   1.4827,  34.6772,2,  34.6758,2,    142.8,2,    142.4,2,   153.60,2,    36.22,2,     2.62,2,    0.002,2,    0.004,2,   2336.0,2,   2410.0,2,   7.5400,2,    25.00,   -999.0,9,   -999.0,   1.2118
  49K619940107,   P02,    42,  1,      5,      5,2,19940119,1705, 30.0020, 156.0092, 5804,40664.9000,   4066.2,   1.4590,  34.6848,2,  34.6832,2,    153.0,2,    154.9,2,   151.10,2,    35.68,2,     2.58,2,    0.000,2,    0.001,2,   2330.0,2,   2406.0,2,   7.5700,2,    25.00,   -999.0,9,   -999.0,   1.1340
  49K619940107,   P02,    42,  1,      4,      4,2,19940119,1705, 30.0020, 156.0092, 5804,45737.2000,   4574.2,   1.4734,  34.6895,2,  34.6881,2,    157.6,2,    157.4,2,   147.60,6,    34.91,6,     2.55,6,    0.000,2,    0.000,2,   2324.0,2,   2400.0,2,   7.5600,4,    25.00,   -999.0,9,   -999.0,   1.0906
  49K619940107,   P02,    42,  1,      3,      3,2,19940119,1705, 30.0020, 156.0092, 5804,50957.5000,   5096.5,   1.4871,  34.6932,2,  34.6926,2,    167.9,2,    168.7,2,   141.80,2,    34.50,2,     2.51,2,    0.000,2,    0.000,2,   2316.0,2,   2397.0,2,   7.5700,4,    25.00,   -999.0,9,   -999.0,   1.0414
  49K619940107,   P02,    42,  1,      2,      2,2,19940119,1705, 30.0020, 156.0092, 5804,56093.6000,   5609.5,   1.5277,  34.6965,2,  34.6955,2,    172.2,2,    171.4,2,   139.10,2,    34.17,2,     2.49,2,    0.004,2,    0.000,2,   2313.0,2,   2395.0,2,   7.5800,2,    25.00,   -999.0,9,   -999.0,   1.0159
  49K619940107,   P02,    42,  1,      1,      1,2,19940119,1705, 30.0020, 156.0092, 5804,58960.9000,   5895.4,   1.5543,  34.6974,2,  34.6965,2,    174.7,3,    172.2,2,   138.90,6,    33.78,6,     2.47,6,    0.000,2,    0.000,2,   2313.0,2,   2396.0,2,   7.5900,2,    25.00,   -999.0,9,   -999.0,   1.0041
  49K619940107,   P02,    43,  1,     24,     24,2,19940120,0419, 30.0025, 157.8347, 5740,  247.9000,     25.4,  20.9681,  35.0298,3,  35.0176,2,    216.6,3,    221.7,2,     2.70,2,     0.00,2,     0.12,2,    2.211,2,    1.230,2,   -999.0,9,   -999.0,9,-999.0000,9,  -999.00,   -999.0,9,   -999.0,  20.9633
  49K619940107,   P02,    43,  1,     23,     23,2,19940120,0419, 30.0025, 157.8347, 5740,  614.1000,     61.8,  20.8654,  35.0319,3,  35.0258,2,    222.2,2,    221.0,2,     2.70,2,     0.00,2,     0.12,2,    2.164,2,    1.221,2,   1979.0,2,   -999.0,9,   8.0600,2,    25.00,   -999.0,9,   -999.0,  20.8536
  49K619940107,   P02,    43,  1,     22,     22,4,19940120,0419, 30.0025, 157.8347, 5740, 1144.6000,    114.5,  19.0988,  34.8870,2,-999.0000,9,    225.1,2,   -999.0,9,     2.80,4,     0.00,4,     0.14,4,    2.198,2,    1.256,2,   1982.0,2,   -999.0,9,   8.0600,2,    25.00,   -999.0,9,   -999.0,  19.0783
  49K619940107,   P02,    43,  1,     21,     21,2,19940120,0419, 30.0025, 157.8347, 5740, 1593.7000,    159.1,  17.7982,  34.8294,3,  34.8373,2,    210.7,2,    211.0,2,     4.20,2,     2.30,2,     0.34,2,    2.400,2,    1.337,2,   2007.0,2,   -999.0,9,   7.9900,2,    25.00,   -999.0,9,   -999.0,  17.7711
  49K619940107,   P02,    43,  1,     20,     20,2,19940120,0419, 30.0025, 157.8347, 5740, 2092.6000,    208.6,  17.2562,  34.7989,2,  34.7998,2,    212.1,3,    209.5,2,     4.80,2,     3.57,2,     0.42,2,    2.425,2,    1.355,2,   2016.0,2,   -999.0,9,   7.9800,2,    25.00,   -999.0,9,   -999.0,  17.2214
  49K619940107,   P02,    43,  1,     19,     19,2,19940120,0419, 30.0025, 157.8347, 5740, 3074.1000,    306.2,  16.1625,  34.7138,3,  34.7207,2,    208.2,3,    201.1,2,     7.30,2,     5.95,2,     0.59,2,    2.338,2,    1.266,2,   2033.0,2,   -999.0,9,   7.9400,2,    25.00,   -999.0,9,   -999.0,  16.1136
  49K619940107,   P02,    43,  1,     18,     18,2,19940120,0419, 30.0025, 157.8347, 5740, 4111.8000,    409.4,  14.3483,  34.5609,3,  34.5675,2,    202.8,3,    199.5,2,    11.30,2,     8.80,2,     0.79,2,    2.344,2,    1.275,2,   2053.0,2,   -999.0,9,   7.8900,2,    25.00,   -999.0,9,   -999.0,  14.2879
  49K619940107,   P02,    43,  1,     17,     17,2,19940120,0419, 30.0025, 157.8347, 5740, 5130.8000,    510.8,  12.0510,  34.3917,3,  34.4161,2,    193.2,3,    201.4,2,    16.40,2,    12.10,2,     1.04,2,    2.287,2,    1.219,2,   2075.0,2,   -999.0,9,   7.8400,2,    25.00,   -999.0,9,   -999.0,  11.9837
  49K619940107,   P02,    43,  1,     16,     16,2,19940120,0419, 30.0025, 157.8347, 5740, 6110.8000,    608.4,   9.6507,  34.2332,3,  34.2261,2,    182.9,2,    184.7,2,    28.80,2,    18.11,2,     1.47,2,    2.060,2,    1.086,2,   2125.0,2,   -999.0,9,   7.7400,2,    25.00,   -999.0,9,   -999.0,   9.5808
  49K619940107,   P02,    43,  1,     15,     15,2,19940120,0419, 30.0025, 157.8347, 5740, 7099.5000,    706.9,   6.8064,  34.0572,3,  34.0461,2,    160.9,3,    156.8,2,    50.50,3,    25.89,6,     2.04,6,    1.717,2,    0.894,2,   2188.0,2,   -999.0,9,   7.6000,2,    25.00,   -999.0,9,   -999.0,   6.7398
  49K619940107,   P02,    43,  1,     14,     14,2,19940120,0419, 30.0025, 157.8347, 5740, 8186.6000,    815.2,   5.0444,  34.0588,2,  34.0575,2,    114.6,3,    104.1,2,    78.10,2,    33.84,2,     2.55,2,    0.895,2,    0.517,2,   2258.0,2,   -999.0,9,   7.4600,2,    25.00,   -999.0,9,   -999.0,   4.9779
  49K619940107,   P02,    43,  1,     13,     13,2,19940120,0419, 30.0025, 157.8347, 5740,10164.2000,   1012.4,   4.0135,  34.2333,3,  34.2210,2,     54.0,2,     52.2,2,   110.90,2,    39.93,2,     2.92,2,    0.250,2,    0.173,2,   2325.0,2,   -999.0,9,   7.3700,2,    25.00,   -999.0,9,   -999.0,   3.9372
  49K619940107,   P02,    43,  1,     12,     12,2,19940120,0419, 30.0025, 157.8347, 5740,12713.3000,   1266.9,   3.1430,  34.3966,3,  34.3763,2,     35.5,2,   -999.0,9,   138.50,2,    42.14,2,     3.07,2,    0.046,2,    0.013,2,   2367.0,2,   -999.0,9,   7.3400,2,    25.00,   -999.0,9,   -999.0,   3.0532
  49K619940107,   P02,    43,  1,     11,     11,2,19940120,0419, 30.0025, 157.8347, 5740,15202.1000,   1515.6,   2.5616,  34.4802,2,  34.4809,2,     38.7,3,     36.5,2,   153.10,3,    42.72,2,     3.08,2,    0.014,2,    0.000,2,   2381.0,2,   -999.0,9,   7.3500,2,    25.00,   -999.0,9,   -999.0,   2.4578
  49K619940107,   P02,    43,  1,     10,     10,2,19940120,0419, 30.0025, 157.8347, 5740,17772.2000,   1772.6,   2.1414,  34.5454,2,  34.5432,2,     54.1,2,     54.7,2,   158.10,3,    41.27,2,     3.01,2,    0.011,2,    0.006,2,   2381.0,2,   -999.0,9,   7.3800,2,    25.00,   -999.0,9,   -999.0,   2.0220
  49K619940107,   P02,    43,  1,      9,      9,2,19940120,0419, 30.0025, 157.8347, 5740,20290.4000,   2024.5,   1.9697,  34.5841,2,  34.5818,2,     69.8,2,     70.5,2,   161.60,3,    40.81,2,     2.96,2,    0.007,2,    0.001,2,   2375.0,2,   -999.0,9,   7.4200,2,    25.00,   -999.0,9,   -999.0,   1.8318
  49K619940107,   P02,    43,  1,      8,      8,2,19940120,0419, 30.0025, 157.8347, 5740,25404.1000,   2536.7,   1.7247,  34.6376,2,  34.6378,2,    105.1,2,    105.0,2,   158.20,3,    38.89,2,     2.80,2,    0.001,2,    0.002,2,   2359.0,2,   -999.0,9,   7.4800,2,    25.00,   -999.0,9,   -999.0,   1.5463
  49K619940107,   P02,    43,  1,      7,      7,2,19940120,0419, 30.0025, 157.8347, 5740,30472.7000,   3044.6,   1.5644,  34.6620,2,  34.6613,2,    124.8,2,    123.9,2,   156.80,3,    37.34,2,     2.71,2,    0.004,2,    0.000,2,   2344.0,2,   -999.0,9,   7.5200,2,    25.00,   -999.0,9,   -999.0,   1.3419
  49K619940107,   P02,    43,  1,      6,      6,2,19940120,0419, 30.0025, 157.8347, 5740,35548.6000,   3553.4,   1.4871,  34.6767,2,  34.6768,2,    140.5,2,    140.7,2,   153.60,3,    35.66,2,     2.62,2,    0.000,2,    0.000,2,   2337.0,2,   -999.0,9,   7.5500,2,    25.00,   -999.0,9,   -999.0,   1.2158
  49K619940107,   P02,    43,  1,      5,      5,2,19940120,0419, 30.0025, 157.8347, 5740,40678.1000,   4067.5,   1.4654,  34.6848,2,  34.6839,2,    151.1,2,    150.7,2,   151.30,3,    35.37,2,     2.58,2,    0.000,2,    0.000,2,   2328.0,2,   -999.0,9,   7.5700,2,    25.00,   -999.0,9,   -999.0,   1.1400
  49K619940107,   P02,    43,  1,      4,      4,2,19940120,0419, 30.0025, 157.8347, 5740,45778.4000,   4578.4,   1.4682,  34.6898,2,  34.6897,2,    158.9,2,    159.9,2,   148.00,3,    34.68,6,     2.54,6,    0.001,2,    0.002,2,   2323.0,2,   -999.0,9,   7.5800,2,    25.00,   -999.0,9,   -999.0,   1.0850
  49K619940107,   P02,    43,  1,      3,      3,2,19940120,0419, 30.0025, 157.8347, 5740,50960.6000,   5096.8,   1.4914,  34.6934,2,  34.6921,2,    166.7,2,    167.1,2,   141.70,2,    34.35,2,     2.51,2,    0.000,2,    0.003,2,   2315.0,2,   -999.0,9,   7.5900,2,    25.00,   -999.0,9,   -999.0,   1.0455
  49K619940107,   P02,    43,  1,      2,      2,2,19940120,0419, 30.0025, 157.8347, 5740,56087.7000,   5608.9,   1.5264,  34.6968,2,  34.6946,2,    172.7,2,    172.2,2,   140.30,2,    33.92,2,     2.50,2,    0.000,2,    0.003,2,   2309.0,2,   -999.0,9,   7.5900,2,    25.00,   -999.0,9,   -999.0,   1.0147
  49K619940107,   P02,    43,  1,      1,      1,2,19940120,0419, 30.0025, 157.8347, 5740,58427.1000,   5842.2,   1.5483,  34.6972,2,  34.6961,2,    174.6,2,    173.9,2,   139.70,3,    34.05,6,     2.48,6,    0.000,2,    0.000,2,   2306.0,2,   -999.0,9,   7.6100,2,    25.00,   -999.0,9,   -999.0,   1.0054