BOTTLE,20220810CCHSIOAMB
EXPOCODE,SECT_ID,STNNBR,CASTNO,SAMPNO,BTLNBR,BTLNBR_FLAG_W,DATE,TIME,LATITUDE,LONGITUDE,DEPTH,CTDRAW,CTDPRS,CTDTMP,CTDSAL,CTDSAL_FLAG_W,SALNTY,SALNTY_FLAG_W,CTDOXY,CTDOXY_FLAG_W,OXYGEN,OXYGEN_FLAG_W,SILCAT,SILCAT_FLAG_W,NITRAT,NITRAT_FLAG_W,PHSPHT,PHSPHT_FLAG_W,CFC-11,CFC-11_FLAG_W,CFC-12,CFC-12_FLAG_W,TCARBN,TCARBN_FLAG_W,ALKALI,ALKALI_FLAG_W,PH_TOT,PH_TOT_FLAG_W,PH_TMP,DELC14,DELC14_FLAG_W,C14ERR,THETA
,,,,,,,,,,,METERS,,DBAR,ITS-90,PSS-78,,PSS-78,,UMOL/KG,,UMOL/KG,,UMOL/KG,,UMOL/KG,,UMOL/KG,,PMOL/KG,,PMOL/KG,,UMOL/KG,,UMOL/KG,,,,DEG C,/MILLE,,/MILLE,DEG C
  49K619940107,   P02,    44,  1,     24,     24,2,19940120,1454, 29.9955, 159.3087, 5735,  148.5000,     15.3,  20.0593,  34.8797,2,  34.8776,2,    238.2,3,    226.7,2,     2.00,2,     0.96,2,     0.20,2,    2.233,2,    1.304,2,   -999.0,9,   -999.0,9,   8.0600,2,    25.00,   -999.0,9,   -999.0,  20.0565
  49K619940107,   P02,    44,  1,     23,     23,2,19940120,1454, 29.9955, 159.3087, 5735,  563.3000,     56.5,  20.0681,  34.8801,2,  34.8776,2,    232.2,3,    225.5,2,     2.00,2,     1.02,2,     0.20,2,    2.226,2,    1.306,2,   1982.0,2,   2284.0,2,   8.0600,2,    25.00,   -999.0,9,   -999.0,  20.0577
  49K619940107,   P02,    44,  1,     22,     22,2,19940120,1454, 29.9955, 159.3087, 5735, 1075.8000,    107.4,  20.0039,  34.8682,2,  34.8707,2,    226.9,3,    223.8,2,     2.10,4,     1.35,4,     0.21,4,    2.230,2,    1.294,2,   1984.0,2,   2281.0,2,   8.0500,2,    25.00,   -999.0,9,   -999.0,  19.9841
  49K619940107,   P02,    44,  1,     21,     21,2,19940120,1454, 29.9955, 159.3087, 5735, 1596.3000,    159.1,  19.0339,  34.7825,3,  34.8414,2,    230.5,3,    212.8,2,     2.60,2,     2.13,2,     0.30,2,    2.258,2,    1.291,2,   1998.0,2,   2281.0,2,   8.0200,2,    25.00,   -999.0,9,   -999.0,  19.0055
  49K619940107,   P02,    44,  1,     20,     20,2,19940120,1454, 29.9955, 159.3087, 5735, 2098.2000,    209.0,  17.6273,  34.8136,2,  34.8152,2,    205.6,3,    202.8,2,     4.00,2,     4.22,2,     0.45,2,    2.334,2,    1.317,2,   2024.0,2,   2274.0,2,   7.9800,2,    25.00,   -999.0,9,   -999.0,  17.5920
  49K619940107,   P02,    44,  1,     19,     19,2,19940120,1454, 29.9955, 159.3087, 5735, 3068.9000,    305.5,  16.2718,  34.7160,2,  34.7185,2,    197.2,3,    194.3,2,     7.20,2,     7.14,2,     0.65,2,    2.251,2,    1.275,2,   2043.0,2,   2272.0,2,   7.9300,2,    25.00,   -999.0,9,   -999.0,  16.2228
  49K619940107,   P02,    44,  1,     18,     18,2,19940120,1454, 29.9955, 159.3087, 5735, 4102.3000,    408.3,  14.0862,  34.5507,3,  34.5538,2,    183.1,2,    181.8,2,    14.90,2,    11.80,2,     0.98,2,    1.994,2,    1.112,2,   2078.0,2,   2268.0,2,   7.8600,2,    25.00,   -999.0,9,   -999.0,  14.0268
  49K619940107,   P02,    44,  1,     17,     17,2,19940120,1454, 29.9955, 159.3087, 5735, 5116.8000,    509.2,  11.4833,  34.3476,3,  34.3512,2,    207.4,2,    207.2,2,    17.60,6,    13.66,3,     1.10,6,    2.562,2,    1.380,2,   2086.0,2,   2261.0,2,   7.8300,2,    25.00,   -999.0,9,   -999.0,  11.4183
  49K619940107,   P02,    44,  1,     16,     16,2,19940120,1454, 29.9955, 159.3087, 5735, 6120.5000,    609.2,   8.9701,  34.1580,3,  34.1692,2,    189.7,2,    190.5,2,    30.60,2,    19.52,2,     1.52,2,    2.351,2,    1.274,2,   2129.0,2,   2266.0,2,   7.7300,2,    25.00,   -999.0,9,   -999.0,   8.9032
  49K619940107,   P02,    44,  1,     15,     15,2,19940120,1454, 29.9955, 159.3087, 5735, 7109.5000,    707.7,   6.4198,  34.0314,3,  34.0236,2,    155.2,2,    156.8,2,    52.80,6,    27.65,6,     2.10,6,    1.912,2,    1.035,2,   2189.0,2,   2275.0,2,   7.5900,2,    25.00,   -999.0,9,   -999.0,   6.3552
  49K619940107,   P02,    44,  1,     14,     14,2,19940120,1454, 29.9955, 159.3087, 5735, 8138.3000,    810.2,   5.0107,  34.0401,3,  34.0340,2,    114.3,3,    111.6,2,    77.20,2,    34.33,2,     2.57,2,    1.232,2,    0.687,2,   2261.0,2,   2291.0,2,   7.4700,2,    25.00,   -999.0,9,   -999.0,   4.9449
  49K619940107,   P02,    44,  1,     13,     13,2,19940120,1454, 29.9955, 159.3087, 5735,10154.9000,   1011.3,   3.9493,  34.2426,3,  34.2353,2,     47.0,2,     48.0,2,   111.80,2,    40.89,2,     3.03,2,    0.206,2,    0.145,2,   2331.0,2,   2331.0,2,   7.3600,2,    25.00,   -999.0,9,   -999.0,   3.8735
  49K619940107,   P02,    44,  1,     12,     12,2,19940120,1454, 29.9955, 159.3087, 5735,12667.2000,   1262.1,   3.1455,  34.3919,3,  34.3968,2,     33.6,2,     32.4,2,   135.40,2,    42.75,2,     3.18,2,    0.028,2,    0.024,2,   2371.0,2,   2364.0,2,   7.3400,2,    25.00,   -999.0,9,   -999.0,   3.0560
  49K619940107,   P02,    44,  1,     11,     11,2,19940120,1454, 29.9955, 159.3087, 5735,15204.6000,   1515.6,   2.5765,  34.4886,2,  34.4890,2,     38.4,2,     38.2,2,   154.60,2,    43.53,2,     3.17,2,    0.008,2,    0.000,2,   2380.0,2,   2382.0,2,   7.3500,2,    25.00,   -999.0,9,   -999.0,   2.4725
  49K619940107,   P02,    44,  1,     10,     10,2,19940120,1454, 29.9955, 159.3087, 5735,17730.7000,   1768.2,   2.2456,  34.5530,2,  34.5523,2,     52.2,2,     53.9,2,   157.70,2,    43.06,2,     3.10,2,    0.006,2,    0.009,2,   2381.0,2,   2394.0,2,   7.3900,2,    25.00,   -999.0,9,   -999.0,   2.1251
  49K619940107,   P02,    44,  1,      9,      9,2,19940120,1454, 29.9955, 159.3087, 5735,20259.2000,   2021.2,   1.9922,  34.5925,2,  34.5913,2,     71.1,2,     69.7,2,   161.30,2,    41.49,2,     3.03,2,    0.002,2,    0.006,2,   2376.0,2,   2402.0,2,   7.4200,2,    25.00,   -999.0,9,   -999.0,   1.8542
  49K619940107,   P02,    44,  1,      8,      8,2,19940120,1454, 29.9955, 159.3087, 5735,25351.9000,   2531.2,   1.6951,  34.6420,2,  34.6406,2,    105.8,2,    106.7,2,   159.30,2,    39.46,2,     2.86,2,    0.000,2,    0.000,2,   2356.0,2,   2406.0,2,   7.4900,2,    25.00,   -999.0,9,   -999.0,   1.5177
  49K619940107,   P02,    44,  1,      7,      7,2,19940120,1454, 29.9955, 159.3087, 5735,30447.0000,   3041.8,   1.5556,  34.6637,2,  34.6623,2,    125.1,2,    124.7,2,   159.20,2,    37.88,2,     2.75,2,    0.003,2,    0.003,2,   2344.0,2,   2406.0,2,   7.5200,2,    25.00,   -999.0,9,   -999.0,   1.3336
  49K619940107,   P02,    44,  1,      6,      6,2,19940120,1454, 29.9955, 159.3087, 5735,35521.0000,   3550.5,   1.4964,  34.6762,2,  34.6748,2,    139.1,2,    139.0,2,   153.60,2,    37.41,2,     2.70,2,    0.000,2,    0.000,2,   2338.0,2,   2406.0,2,   7.5400,2,    25.00,   -999.0,9,   -999.0,   1.2252
  49K619940107,   P02,    44,  1,      5,      5,2,19940120,1454, 29.9955, 159.3087, 5735,40649.0000,   4064.4,   1.4642,  34.6845,2,  34.6839,2,    150.4,2,    150.7,2,   151.60,2,    36.15,2,     2.63,2,    0.000,2,    0.000,2,   2328.0,2,   2405.0,2,   7.5600,2,    25.00,   -999.0,9,   -999.0,   1.1392
  49K619940107,   P02,    44,  1,      4,      4,2,19940120,1454, 29.9955, 159.3087, 5735,45788.2000,   4579.1,   1.4764,  34.6893,2,  34.6884,2,    157.8,2,    156.6,2,   148.60,3,    36.10,6,     2.60,3,    0.005,2,    0.003,2,   2323.0,2,   2405.0,2,   7.5700,2,    25.00,   -999.0,9,   -999.0,   1.0929
  49K619940107,   P02,    44,  1,      3,      3,2,19940120,1454, 29.9955, 159.3087, 5735,50954.0000,   5095.9,   1.4929,  34.6933,2,  34.6923,2,    166.1,2,    167.1,2,   144.00,2,    35.89,2,     2.56,2,    0.000,2,    0.001,2,   2313.0,2,   2401.0,2,   7.5800,2,    25.00,   -999.0,9,   -999.0,   1.0471
  49K619940107,   P02,    44,  1,      2,      2,2,19940120,1454, 29.9955, 159.3087, 5735,56105.7000,   5610.5,   1.5204,  34.6965,2,  34.6957,2,    173.4,2,    173.9,2,   137.80,2,    35.57,2,     2.52,2,    0.000,2,    0.001,2,   2308.0,2,   2396.0,2,   7.5800,2,    25.00,   -999.0,9,   -999.0,   1.0087
  49K619940107,   P02,    44,  1,      1,      1,2,19940120,1454, 29.9955, 159.3087, 5735,58313.4000,   5830.7,   1.5407,  34.6985,2,  34.6963,2,    175.4,3,    170.4,2,   137.70,3,    35.09,6,     2.51,6,    0.000,2,    0.001,2,   2305.0,2,   2394.0,2,   7.5900,2,    25.00,   -999.0,9,   -999.0,   0.9996
  49K619940107,   P02,    45,  1,     24,     24,2,19940121,0243, 29.9880, 161.0778, 5912,  261.3000,     26.5,  19.2516,  34.9421,2,  34.9406,2,    215.7,3,    231.7,2,     2.90,2,     0.41,2,     0.20,2,    2.324,2,    1.312,2,   -999.0,9,   -999.0,9,   8.0400,2,    25.00,   -999.0,9,   -999.0,  19.2468
  49K619940107,   P02,    45,  1,     23,     23,2,19940121,0243, 29.9880, 161.0778, 5912,  738.6000,     73.9,  19.2297,  34.9413,3,  34.9375,2,    224.1,3,    230.0,2,     2.90,2,     0.64,2,     0.20,2,    2.281,2,    1.267,2,   1990.0,2,   2310.0,2,   8.0400,2,    25.00,   -999.0,9,   -999.0,  19.2164
  49K619940107,   P02,    45,  1,     22,     22,2,19940121,0243, 29.9880, 161.0778, 5912, 1222.9000,    122.0,  19.2093,  34.9401,2,  34.9415,2,    225.4,3,    228.0,2,     2.90,4,     1.18,4,     0.21,4,    2.294,2,    1.291,2,   1994.0,2,   2306.0,2,   8.0300,2,    25.00,   -999.0,9,   -999.0,  19.1874
  49K619940107,   P02,    45,  1,     21,     21,4,19940121,0243, 29.9880, 161.0778, 5912, 1623.8000,    161.9,  17.5554,  34.8144,2,-999.0000,9,    219.0,2,   -999.0,9,  -999.00,9,  -999.00,9,  -999.00,9,    2.301,2,    1.293,2,   1996.0,2,   2297.0,2,   8.0400,2,    25.00,   -999.0,9,   -999.0,  17.5281
  49K619940107,   P02,    45,  1,     20,     20,2,19940121,0243, 29.9880, 161.0778, 5912, 2180.0000,    217.1,  17.0132,  34.7903,2,  34.7931,2,    213.6,2,    214.5,2,     4.50,2,     3.76,2,     0.42,2,    2.458,2,    1.329,2,   2018.0,2,   2286.0,2,   7.9800,2,    25.00,   -999.0,9,   -999.0,  16.9774
  49K619940107,   P02,    45,  1,     19,     19,2,19940121,0243, 29.9880, 161.0778, 5912, 3196.9000,    318.2,  15.9416,  34.7102,3,  34.7241,2,    197.0,3,    205.2,2,     6.30,3,     5.71,3,     0.59,6,    2.373,2,    1.275,2,   2034.0,2,   2283.0,2,   7.9500,2,    25.00,   -999.0,9,   -999.0,  15.8913
  49K619940107,   P02,    45,  1,     18,     18,2,19940121,0243, 29.9880, 161.0778, 5912, 4161.8000,    414.2,  14.2126,  34.5506,3,  34.5650,2,    199.3,2,    199.5,2,    11.80,3,     9.21,6,     0.84,6,    2.305,2,    1.221,2,   2060.0,2,   2279.0,2,   7.8900,2,    25.00,   -999.0,9,   -999.0,  14.1519
  49K619940107,   P02,    45,  1,     17,     17,2,19940121,0243, 29.9880, 161.0778, 5912, 5160.5000,    513.6,  11.8123,  34.3795,3,  34.3957,2,    202.3,3,    218.1,2,    14.60,2,    10.59,2,     0.96,2,    2.703,2,    1.401,2,   2076.0,2,   2274.0,2,   7.8600,2,    25.00,   -999.0,9,   -999.0,  11.7455
  49K619940107,   P02,    45,  1,     16,     16,2,19940121,0243, 29.9880, 161.0778, 5912, 6155.1000,    612.6,   9.0227,  34.1634,3,  34.1763,2,    172.6,3,    186.3,2,    29.60,2,    18.41,2,     1.55,2,    2.120,2,    1.076,2,   2127.0,2,   2277.0,2,   7.7300,2,    25.00,   -999.0,9,   -999.0,   8.9552
  49K619940107,   P02,    45,  1,     15,     15,2,19940121,0243, 29.9880, 161.0778, 5912, 7168.4000,    713.5,   6.3764,  34.0283,2,  34.0297,2,    141.1,3,    158.5,2,    50.40,6,    26.71,6,     2.09,6,    1.831,2,    0.948,2,   2194.0,2,   2286.0,2,   7.6100,2,    25.00,   -999.0,9,   -999.0,   6.3115
  49K619940107,   P02,    45,  1,     14,     14,2,19940121,0243, 29.9880, 161.0778, 5912, 8162.0000,    812.6,   4.8969,  34.0568,3,  34.0503,2,     97.2,3,    104.9,2,    77.60,2,    34.64,2,     2.64,2,    1.095,2,    0.586,2,   2265.0,2,   2308.0,2,   7.4600,2,    25.00,   -999.0,9,   -999.0,   4.8315
  49K619940107,   P02,    45,  1,     13,     13,2,19940121,0243, 29.9880, 161.0778, 5912,10193.2000,   1015.1,   3.8545,  34.2516,3,  34.2414,2,     49.0,2,     50.5,2,   112.20,2,    40.58,2,     3.04,2,    0.209,2,    0.131,2,   2330.0,2,   2340.0,2,   7.3600,2,    25.00,   -999.0,9,   -999.0,   3.7792
  49K619940107,   P02,    45,  1,     12,     12,2,19940121,0243, 29.9880, 161.0778, 5912,12718.6000,   1267.2,   3.0308,  34.4010,3,  34.3876,2,     38.2,2,     36.6,2,   138.50,2,    43.00,2,     3.16,2,    0.049,2,    0.040,2,   2364.0,2,   2370.0,2,   7.3400,2,    25.00,   -999.0,9,   -999.0,   2.9421
  49K619940107,   P02,    45,  1,     11,     11,2,19940121,0243, 29.9880, 161.0778, 5912,15210.2000,   1516.2,   2.5534,  34.5043,2,  34.5017,2,     40.9,2,     40.7,2,   149.70,2,    42.44,2,     3.17,2,    0.006,2,    0.002,2,   2381.0,2,   2389.0,2,   7.3600,2,    25.00,   -999.0,9,   -999.0,   2.4496
  49K619940107,   P02,    45,  1,     10,     10,2,19940121,0243, 29.9880, 161.0778, 5912,17760.1000,   1771.1,   2.2122,  34.5578,2,  34.5566,2,     56.1,2,     55.5,2,   159.40,2,    42.05,2,     3.10,2,    0.004,2,    0.000,2,   2381.0,2,   2400.0,2,   7.3900,2,    25.00,   -999.0,9,   -999.0,   2.0919
  49K619940107,   P02,    45,  1,      9,      9,2,19940121,0243, 29.9880, 161.0778, 5912,20270.0000,   2022.3,   1.9708,  34.5970,2,  34.5957,2,     73.2,3,     75.5,2,   162.50,2,    41.64,2,     2.99,2,    0.002,2,    0.000,2,   2373.0,2,   2406.0,2,   7.4300,2,    25.00,   -999.0,9,   -999.0,   1.8330
  49K619940107,   P02,    45,  1,      8,      8,2,19940121,0243, 29.9880, 161.0778, 5912,25379.0000,   2533.9,   1.7048,  34.6429,2,  34.6447,2,    109.9,2,    110.6,2,   152.20,2,    38.31,2,     2.82,2,    0.000,2,    0.000,2,   2350.0,2,   2410.0,2,   7.4900,2,    25.00,   -999.0,9,   -999.0,   1.5270
  49K619940107,   P02,    45,  1,      7,      7,2,19940121,0243, 29.9880, 161.0778, 5912,30460.1000,   3043.2,   1.5749,  34.6644,2,  34.6644,2,    130.7,2,    129.7,2,   152.60,2,    37.95,2,     2.74,2,    0.000,2,    0.001,2,   2341.0,2,   2412.0,2,   7.5300,2,    25.00,   -999.0,9,   -999.0,   1.3523
  49K619940107,   P02,    45,  1,      6,      6,2,19940121,0243, 29.9880, 161.0778, 5912,35553.9000,   3553.8,   1.5112,  34.6764,3,  34.6733,2,    142.1,2,    143.2,2,   149.20,2,    36.47,2,     2.68,2,    0.000,2,    0.001,2,   2335.0,2,   2412.0,2,   7.5400,2,    25.00,   -999.0,9,   -999.0,   1.2393
  49K619940107,   P02,    45,  1,      5,      5,2,19940121,0243, 29.9880, 161.0778, 5912,40673.6000,   4066.9,   1.4834,  34.6835,2,  34.6810,2,    150.7,2,    149.8,2,   149.60,2,    36.12,2,     2.63,2,    0.000,2,    0.004,2,   2327.0,2,   2408.0,2,   7.5600,2,    25.00,   -999.0,9,   -999.0,   1.1576
  49K619940107,   P02,    45,  1,      4,      4,2,19940121,0243, 29.9880, 161.0778, 5912,45797.1000,   4580.0,   1.4776,  34.6889,3,  34.6854,2,    159.3,2,    159.0,2,   143.00,6,    35.65,6,     2.59,6,    0.000,2,    0.004,2,   2318.0,2,   2406.0,2,   7.5700,2,    25.00,   -999.0,9,   -999.0,   1.0940
  49K619940107,   P02,    45,  1,      3,      3,2,19940121,0243, 29.9880, 161.0778, 5912,50950.5000,   5095.6,   1.4970,  34.6928,2,  34.6902,2,    167.1,2,    166.3,2,   136.30,2,    34.28,2,     2.55,2,    0.002,2,    0.000,2,   2309.0,2,   2401.0,2,   7.5800,2,    25.00,   -999.0,9,   -999.0,   1.0511
  49K619940107,   P02,    45,  1,      2,      2,2,19940121,0243, 29.9880, 161.0778, 5912,56094.7000,   5609.4,   1.5242,  34.6965,3,  34.6926,2,    173.1,2,    174.7,2,   138.70,2,    34.17,2,     2.52,2,    0.002,2,    0.000,2,   2307.0,2,   2399.0,2,   7.5900,2,    25.00,   -999.0,9,   -999.0,   1.0126
  49K619940107,   P02,    45,  1,      1,      1,2,19940121,0243, 29.9880, 161.0778, 5912,60132.9000,   6012.0,   1.5655,  34.6976,2,  34.6958,2,    176.2,3,    173.9,2,   135.20,6,    33.62,6,     2.51,6,    0.001,2,    0.000,2,   2306.0,2,   2397.0,2,   7.5900,2,    25.00,   -999.0,9,   -999.0,   0.9993