BOTTLE,20220810CCHSIOAMB
EXPOCODE,SECT_ID,STNNBR,CASTNO,SAMPNO,BTLNBR,BTLNBR_FLAG_W,DATE,TIME,LATITUDE,LONGITUDE,DEPTH,CTDRAW,CTDPRS,CTDTMP,CTDSAL,CTDSAL_FLAG_W,SALNTY,SALNTY_FLAG_W,CTDOXY,CTDOXY_FLAG_W,OXYGEN,OXYGEN_FLAG_W,SILCAT,SILCAT_FLAG_W,NITRAT,NITRAT_FLAG_W,PHSPHT,PHSPHT_FLAG_W,CFC-11,CFC-11_FLAG_W,CFC-12,CFC-12_FLAG_W,TCARBN,TCARBN_FLAG_W,ALKALI,ALKALI_FLAG_W,PH_TOT,PH_TOT_FLAG_W,PH_TMP,DELC14,DELC14_FLAG_W,C14ERR,THETA
,,,,,,,,,,,METERS,,DBAR,ITS-90,PSS-78,,PSS-78,,UMOL/KG,,UMOL/KG,,UMOL/KG,,UMOL/KG,,UMOL/KG,,PMOL/KG,,PMOL/KG,,UMOL/KG,,UMOL/KG,,,,DEG C,/MILLE,,/MILLE,DEG C
  49K619940107,   P02,    90,  1,     24,     24,2,19940209,1220, 29.9897,-123.0975, 4235,  294.2000,     29.0,  16.1682,  33.4109,3,  33.4179,2,    246.3,2,    248.4,2,     3.00,4,     0.00,4,     0.41,4,    2.881,2,    1.540,2,   1976.0,2,   2230.0,2,   7.9700,2,    25.00,   -999.0,9,   -999.0,  16.1637
  49K619940107,   P02,    90,  1,     23,     23,2,19940209,1220, 29.9897,-123.0975, 4235,  507.8000,     50.2,  16.1703,  33.4108,3,  33.4152,2,    246.3,2,    248.2,2,     2.90,2,     0.00,2,     0.41,2,    2.867,2,    1.573,2,   1980.0,2,   2228.0,2,   7.9600,2,    25.00,   -999.0,9,   -999.0,  16.1624
  49K619940107,   P02,    90,  1,     22,     22,2,19940209,1220, 29.9897,-123.0975, 4235,  761.7000,     75.4,  16.1636,  33.4110,3,  33.4160,2,    246.0,2,   -999.0,9,     2.80,2,     0.00,2,     0.40,2,    2.878,2,    1.555,2,   1981.0,2,   2227.0,2,   7.9600,2,    25.00,   -999.0,9,   -999.0,  16.1518
  49K619940107,   P02,    90,  1,     21,     21,2,19940209,1220, 29.9897,-123.0975, 4235, 1006.1000,     99.7,  15.7181,  33.3733,3,  33.3694,2,    249.5,2,    248.5,2,     2.80,2,     0.00,2,     0.43,2,    2.932,2,    1.576,2,   1976.0,2,   2224.0,2,   7.9500,2,    25.00,   -999.0,9,   -999.0,  15.7028
  49K619940107,   P02,    90,  1,     20,     20,2,19940209,1220, 29.9897,-123.0975, 4235, 1228.0000,    121.7,  14.0535,  33.4899,3,  33.5488,2,    241.2,3,    236.3,2,     4.10,2,     2.04,2,     0.57,2,    3.179,2,    1.644,2,   2006.0,2,   2225.0,2,   7.8900,2,    25.00,   -999.0,9,   -999.0,  14.0361
  49K619940107,   P02,    90,  1,     19,     19,2,19940209,1220, 29.9897,-123.0975, 4235, 1481.0000,    146.9,  11.8382,  33.3999,3,  33.3862,2,    221.0,3,    224.7,2,     7.60,2,     7.66,2,     0.94,2,    3.450,2,    1.747,2,   2037.0,2,   2209.0,2,   7.8200,2,    25.00,   -999.0,9,   -999.0,  11.8196
  49K619940107,   P02,    90,  1,     18,     18,2,19940209,1220, 29.9897,-123.0975, 4235, 1994.4000,    197.9,   9.1498,  33.5878,2,  33.5852,2,    189.1,2,   -999.0,9,    18.20,6,    18.72,6,     1.57,6,    3.295,2,    1.628,2,   2101.0,2,   2222.0,2,   7.6700,2,    25.00,   -999.0,9,   -999.0,   9.1285
  49K619940107,   P02,    90,  1,     17,     17,2,19940209,1220, 29.9897,-123.0975, 4235, 2502.4000,    248.4,   8.1747,  33.9126,3,  33.8857,2,    145.9,3,    142.9,2,    29.70,2,    25.44,2,     1.98,2,    2.362,2,    1.206,2,   2156.0,2,   2243.0,2,   7.5700,2,    25.00,   -999.0,9,   -999.0,   8.1496
  49K619940107,   P02,    90,  1,     16,     16,2,19940209,1220, 29.9897,-123.0975, 4235, 3007.8000,    298.6,   7.5263,  34.0130,3,  34.0063,2,    119.4,3,    116.9,2,    38.70,2,    29.41,2,     2.25,2,    1.621,2,    0.841,2,   2192.0,2,   2257.0,2,   7.5100,2,    25.00,   -999.0,9,   -999.0,   7.4974
  49K619940107,   P02,    90,  1,     15,     15,2,19940209,1220, 29.9897,-123.0975, 4235, 4000.7000,    397.4,   6.4617,  34.0681,2,  34.0700,2,     64.7,3,     67.2,2,    55.60,6,    35.69,6,     2.71,6,    0.669,2,    0.384,2,   2243.0,2,   2273.0,2,   7.3900,2,    25.00,   -999.0,9,   -999.0,   6.4261
  49K619940107,   P02,    90,  1,     14,     14,2,19940209,1220, 29.9897,-123.0975, 4235, 5008.3000,    497.6,   5.7455,  34.1710,2,  34.1730,2,     31.1,2,     32.2,2,    71.50,2,    39.61,2,     3.06,2,    0.143,2,    0.080,2,   2285.0,2,   2296.0,2,   7.3200,2,    25.00,   -999.0,9,   -999.0,   5.7033
  49K619940107,   P02,    90,  1,     13,     13,2,19940209,1220, 29.9897,-123.0975, 4235, 6004.3000,    596.8,   5.2751,  34.2659,2,  34.2668,2,     16.6,2,     16.7,2,    90.70,3,    41.26,2,     3.21,2,    0.027,2,    0.039,2,   2309.0,2,   2309.0,2,   7.3100,2,    25.00,   -999.0,9,   -999.0,   5.2261
  49K619940107,   P02,    90,  1,     12,     12,2,19940209,1220, 29.9897,-123.0975, 4235, 6997.2000,    695.7,   4.8649,  34.3446,2,  34.3460,2,     12.7,2,   -999.0,9,    98.40,3,    42.72,2,     3.28,2,    0.012,2,    0.023,2,   2325.0,2,   2332.0,2,   7.3100,2,    25.00,   -999.0,9,   -999.0,   4.8094
  49K619940107,   P02,    90,  1,     11,     11,2,19940209,1220, 29.9897,-123.0975, 4235, 7996.8000,    795.3,   4.5660,  34.4122,3,  34.4039,2,     14.4,3,     18.2,2,   105.90,3,    42.57,2,     3.28,2,    0.008,2,    0.007,2,   2330.0,2,   2339.0,2,   7.3300,2,    25.00,   -999.0,9,   -999.0,   4.5037
  49K619940107,   P02,    90,  1,     10,     10,2,19940209,1220, 29.9897,-123.0975, 4235,10020.2000,    997.1,   4.0155,  34.4783,2,  34.4804,2,     24.0,3,     27.7,2,   119.20,3,    43.01,2,     3.30,2,    0.008,2,    0.007,2,   2348.0,2,   2358.0,2,   7.3400,2,    25.00,   -999.0,9,   -999.0,   3.9400
  49K619940107,   P02,    90,  1,      9,      9,2,19940209,1220, 29.9897,-123.0975, 4235,12497.0000,   1244.3,   3.3325,  34.5301,2,  34.5315,2,     37.1,2,     37.3,2,   133.80,3,    43.18,2,     3.25,2,    0.008,2,    0.007,2,   2374.0,2,   2377.0,2,   7.3600,2,    25.00,   -999.0,9,   -999.0,   3.2424
  49K619940107,   P02,    90,  1,      8,      8,2,19940209,1220, 29.9897,-123.0975, 4235,15001.5000,   1494.5,   2.7672,  34.5684,3,  34.5715,2,     51.4,3,     54.9,2,   145.80,3,    42.55,2,     3.17,2,    0.008,2,    0.007,2,   2370.0,2,   2389.0,2,   7.3900,2,    25.00,   -999.0,9,   -999.0,   2.6625
  49K619940107,   P02,    90,  1,      7,      7,2,19940209,1220, 29.9897,-123.0975, 4235,17503.0000,   1744.6,   2.3606,  34.5991,2,  34.5999,2,     67.1,2,     66.8,2,   154.30,3,    41.22,2,     3.07,2,    0.004,2,    0.007,2,   2369.0,2,   2404.0,2,   7.4200,2,    25.00,   -999.0,9,   -999.0,   2.2403
  49K619940107,   P02,    90,  1,      6,      6,2,19940209,1220, 29.9897,-123.0975, 4235,20006.0000,   1995.1,   2.1053,  34.6223,2,  34.6241,2,     83.4,2,     82.7,2,   162.80,3,    40.65,2,     2.99,2,    0.000,2,    0.000,2,   2359.0,2,   2408.0,2,   7.4400,2,    25.00,   -999.0,9,   -999.0,   1.9677
  49K619940107,   P02,    90,  1,      5,      5,2,19940209,1220, 29.9897,-123.0975, 4235,25008.9000,   2496.1,   1.8005,  34.6525,2,  34.6536,2,    106.9,2,    107.1,2,   165.50,3,    39.23,2,     2.87,2,    0.000,2,    0.003,2,   2358.0,2,   2415.0,2,   7.4900,2,    25.00,   -999.0,9,   -999.0,   1.6242
  49K619940107,   P02,    90,  1,      4,      4,2,19940209,1220, 29.9897,-123.0975, 4235,30018.6000,   2998.1,   1.6251,  34.6666,2,  34.6688,2,    120.2,3,    123.8,2,   170.20,3,    38.29,6,     2.79,6,    0.000,2,    0.000,2,   2341.0,2,   2416.0,2,   7.5100,2,    25.00,   -999.0,9,   -999.0,   1.4057
  49K619940107,   P02,    90,  1,      3,      3,2,19940209,1220, 29.9897,-123.0975, 4235,35067.0000,   3504.2,   1.5401,  34.6753,2,  34.6755,2,    129.8,2,    130.6,2,   170.90,3,    37.49,2,     2.73,2,    0.000,2,    0.006,2,   2345.0,2,   2411.0,2,   7.5300,2,    25.00,   -999.0,9,   -999.0,   1.2725
  49K619940107,   P02,    90,  1,      2,      2,2,19940209,1220, 29.9897,-123.0975, 4235,39992.7000,   3997.9,   1.5367,  34.6803,2,  34.6811,2,    136.8,2,    137.4,2,   169.40,3,    37.64,2,     2.70,2,    0.003,2,    0.000,2,   2333.0,2,   2416.0,2,   7.5400,2,    25.00,   -999.0,9,   -999.0,   1.2170
  49K619940107,   P02,    90,  1,      1,      1,2,19940209,1220, 29.9897,-123.0975, 4235,42173.8000,   4216.4,   1.5469,  34.6815,2,  34.6829,2,    138.9,3,    141.1,2,   169.10,3,    36.98,6,     2.69,6,    0.006,2,    0.000,2,   2333.0,2,   2416.0,2,   7.5500,2,    25.00,   -999.0,9,   -999.0,   1.2027
  49K619940107,   P02,    85,  1,     24,     24,4,19940210,0011, 31.0060,-121.2073, 3895,  309.2000,     30.7,  17.0882,  33.5464,2,-999.0000,9,    244.3,2,   -999.0,9,  -999.00,9,  -999.00,9,  -999.00,9, -999.000,9, -999.000,9,   -999.0,9,   -999.0,9,-999.0000,9,  -999.00,   -999.0,9,   -999.0,  17.0832
  49K619940107,   P02,    85,  1,     23,     23,4,19940210,0011, 31.0060,-121.2073, 3895,  489.6000,     48.6,  17.0603,  33.5461,2,-999.0000,9,    243.9,2,   -999.0,9,  -999.00,9,  -999.00,9,  -999.00,9, -999.000,9, -999.000,9,   -999.0,9,   -999.0,9,-999.0000,9,  -999.00,   -999.0,9,   -999.0,  17.0524
  49K619940107,   P02,    85,  1,     22,     22,2,19940210,0011, 31.0060,-121.2073, 3895,  750.2000,     74.5,  16.4986,  33.5354,3,  33.4980,2,    245.3,2,    244.9,2,     2.90,2,     0.00,2,     0.40,2,    2.717,2,    1.437,2,   2000.0,2,   2242.0,2,   7.9600,2,    25.00,   -999.0,9,   -999.0,  16.4867
  49K619940107,   P02,    85,  1,     21,     21,2,19940210,0011, 31.0060,-121.2073, 3895, 1013.2000,    100.6,  14.6005,  33.6477,3,  33.7123,2,    239.0,3,    228.0,2,     4.30,2,     2.35,2,     0.57,2,    2.997,2,    1.504,2,   2033.0,2,   2240.0,2,   7.9000,2,    25.00,   -999.0,9,   -999.0,  14.5858
  49K619940107,   P02,    85,  1,     20,     20,2,19940210,0011, 31.0060,-121.2073, 3895, 1252.0000,    124.3,  11.7910,  33.5010,3,  33.4942,2,    216.5,3,    212.8,2,     8.30,2,     8.19,2,     0.96,2,    3.248,2,    1.539,2,   2060.0,2,   2227.0,2,   7.8100,2,    25.00,   -999.0,9,   -999.0,  11.7753
  49K619940107,   P02,    85,  1,     19,     19,2,19940210,0011, 31.0060,-121.2073, 3895, 1505.6000,    149.5,  10.2341,  33.5291,3,  33.5141,2,    184.6,3,    195.2,2,    13.70,2,    14.11,2,     1.31,2,    3.208,2,    1.509,2,   2094.0,2,   2226.0,2,   7.7300,2,    25.00,   -999.0,9,   -999.0,  10.2169
  49K619940107,   P02,    85,  1,     18,     18,2,19940210,0011, 31.0060,-121.2073, 3895, 2017.6000,    200.4,   8.7858,  33.8672,3,  33.8295,2,    159.5,3,    162.6,2,    24.50,6,    21.55,6,     1.74,6,    2.447,2,    1.200,2,   2152.0,2,   2243.0,2,   7.6300,2,    25.00,   -999.0,9,   -999.0,   8.7647
  49K619940107,   P02,    85,  1,     17,     17,2,19940210,0011, 31.0060,-121.2073, 3895, 2496.7000,    248.0,   8.0484,  33.9958,2,  33.9969,2,    135.1,3,    130.8,2,    34.80,2,    26.14,2,     2.05,2,    1.718,2,    0.856,2,   2190.0,2,   2262.0,2,   7.5500,2,    25.00,   -999.0,9,   -999.0,   8.0235
  49K619940107,   P02,    85,  1,     16,     16,2,19940210,0011, 31.0060,-121.2073, 3895, 3016.6000,    299.7,   7.7524,  34.1104,3,  34.1063,2,    106.0,3,     95.2,2,    43.70,2,    29.11,2,     2.35,2,    0.975,2,    0.516,2,   2226.0,2,   2271.0,2,   7.4800,2,    25.00,   -999.0,9,   -999.0,   7.7228
  49K619940107,   P02,    85,  1,     15,     15,2,19940210,0011, 31.0060,-121.2073, 3895, 4031.0000,    400.6,   6.3970,  34.1432,2,  34.1447,2,     57.6,3,     50.0,2,    63.80,6,    35.38,6,     2.82,6,    0.302,2,    0.177,2,   2280.0,2,   2289.0,2,   7.3700,2,    25.00,   -999.0,9,   -999.0,   6.3613
  49K619940107,   P02,    85,  1,     14,     14,2,19940210,0011, 31.0060,-121.2073, 3895, 5024.5000,    499.4,   5.6949,  34.1870,3,  34.1916,2,     31.4,3,     28.8,2,    77.50,2,    38.54,2,     3.05,2,    0.113,2,    0.077,2,   2313.0,2,   2302.0,2,   7.3200,2,    25.00,   -999.0,9,   -999.0,   5.6527
  49K619940107,   P02,    85,  1,     13,     13,2,19940210,0011, 31.0060,-121.2073, 3895, 6035.2000,    600.1,   5.1357,  34.2606,3,  34.2667,2,     17.3,2,     17.6,2,    89.00,2,    39.72,2,     3.19,2,    0.034,2,    0.023,2,   2337.0,2,   2320.0,2,   7.3100,2,    25.00,   -999.0,9,   -999.0,   5.0870
  49K619940107,   P02,    85,  1,     12,     12,2,19940210,0011, 31.0060,-121.2073, 3895, 7060.2000,    702.2,   4.9568,  34.3586,3,  34.3636,2,     11.9,2,   -999.0,9,    96.40,2,    40.72,2,     3.25,2,    0.017,2,    0.012,2,   2348.0,2,   2334.0,2,   7.3200,2,    25.00,   -999.0,9,   -999.0,   4.9002
  49K619940107,   P02,    85,  1,     11,     11,2,19940210,0011, 31.0060,-121.2073, 3895, 8063.8000,    802.2,   4.5522,  34.3964,3,  34.3907,2,     13.1,2,     13.2,2,   104.10,2,    41.10,2,     3.26,2,    0.011,2,    0.010,2,   2354.0,2,   2342.0,2,   7.3200,2,    25.00,   -999.0,9,   -999.0,   4.4894
  49K619940107,   P02,    85,  1,     10,     10,2,19940210,0011, 31.0060,-121.2073, 3895,10088.5000,   1004.1,   3.9421,  34.4758,2,  34.4759,2,     23.8,2,     21.8,2,   117.60,2,    41.55,2,     3.25,2,    0.006,2,    0.008,2,   2365.0,2,   2360.0,2,   7.3400,2,    25.00,   -999.0,9,   -999.0,   3.8666
  49K619940107,   P02,    85,  1,      9,      9,2,19940210,0011, 31.0060,-121.2073, 3895,12628.2000,   1257.6,   3.3022,  34.5335,2,  34.5348,2,     36.8,2,     36.4,2,   132.90,2,    41.12,2,     3.25,2,    0.006,2,    0.000,2,   2376.0,2,   2380.0,2,   7.3800,2,    25.00,   -999.0,9,   -999.0,   3.2113
  49K619940107,   P02,    85,  1,      8,      8,2,19940210,0011, 31.0060,-121.2073, 3895,15194.0000,   1513.9,   2.8041,  34.5709,2,  34.5719,2,     51.6,2,     52.5,2,   144.30,2,    40.75,2,     3.13,2,    0.006,2,    0.000,2,   2383.0,2,   2392.0,2,   7.3900,2,    25.00,   -999.0,9,   -999.0,   2.6974
  49K619940107,   P02,    85,  1,      7,      7,2,19940210,0011, 31.0060,-121.2073, 3895,17709.5000,   1765.5,   2.3535,  34.6003,2,  34.6024,2,     66.4,2,     67.7,2,   154.70,2,    39.10,2,     3.03,2,    0.006,2,    0.000,2,   2385.0,2,   2404.0,2,   7.4200,2,    25.00,   -999.0,9,   -999.0,   2.2316
  49K619940107,   P02,    85,  1,      6,      6,2,19940210,0011, 31.0060,-121.2073, 3895,20259.3000,   2020.6,   2.0800,  34.6244,3,  34.6276,2,     85.0,2,     84.4,2,   162.50,2,    38.68,2,     2.95,2,    0.001,2,    0.002,2,   2382.0,2,   2410.0,2,   7.4500,2,    25.00,   -999.0,9,   -999.0,   1.9406
  49K619940107,   P02,    85,  1,      5,      5,2,19940210,0011, 31.0060,-121.2073, 3895,22800.1000,   2275.0,   1.8943,  34.6428,2,  34.6431,2,     95.7,2,     96.4,2,   165.00,2,    37.86,2,     2.87,2,    0.006,2,    0.000,2,   2385.0,3,   2417.0,2,   7.4800,2,    25.00,   -999.0,9,   -999.0,   1.7360
  49K619940107,   P02,    85,  1,      4,      4,2,19940210,0011, 31.0060,-121.2073, 3895,25332.5000,   2528.7,   1.7797,  34.6531,2,  34.6544,2,    104.6,2,    103.9,2,   164.30,6,    37.05,6,     2.82,6,    0.000,2,    0.001,2,   2378.0,3,   2419.0,2,   7.5000,2,    25.00,   -999.0,9,   -999.0,   1.6009
  49K619940107,   P02,    85,  1,      3,      3,2,19940210,0011, 31.0060,-121.2073, 3895,30403.4000,   3036.9,   1.6297,  34.6662,2,  34.6674,2,    120.2,2,    118.2,2,   166.50,2,    36.31,2,     2.74,2,    0.000,2,    0.000,2,   2374.0,3,   2422.0,2,   7.5200,2,    25.00,   -999.0,9,   -999.0,   1.4065
  49K619940107,   P02,    85,  1,      2,      2,2,19940210,0011, 31.0060,-121.2073, 3895,35505.1000,   3548.3,   1.5595,  34.6747,2,  34.6756,2,    128.8,2,    126.6,2,   170.40,2,    35.22,2,     2.69,2,    0.000,2,    0.002,2,   2375.0,3,   2424.0,2,   7.5400,2,    25.00,   -999.0,9,   -999.0,   1.2869
  49K619940107,   P02,    85,  1,      1,      1,2,19940210,0011, 31.0060,-121.2073, 3895,39456.6000,   3944.3,   1.5588,  34.6792,2,  34.6790,2,    133.1,2,    134.2,2,   169.00,6,    35.42,6,     2.67,6,    0.000,2,    0.002,2,   2373.0,3,   2424.0,2,   7.5600,2,    25.00,   -999.0,9,   -999.0,   1.2443