BOTTLE,20220810CCHSIOAMB
EXPOCODE,SECT_ID,STNNBR,CASTNO,SAMPNO,BTLNBR,BTLNBR_FLAG_W,DATE,TIME,LATITUDE,LONGITUDE,DEPTH,CTDRAW,CTDPRS,CTDTMP,CTDSAL,CTDSAL_FLAG_W,SALNTY,SALNTY_FLAG_W,CTDOXY,CTDOXY_FLAG_W,OXYGEN,OXYGEN_FLAG_W,SILCAT,SILCAT_FLAG_W,NITRAT,NITRAT_FLAG_W,PHSPHT,PHSPHT_FLAG_W,CFC-11,CFC-11_FLAG_W,CFC-12,CFC-12_FLAG_W,TCARBN,TCARBN_FLAG_W,ALKALI,ALKALI_FLAG_W,PH_TOT,PH_TOT_FLAG_W,PH_TMP,DELC14,DELC14_FLAG_W,C14ERR,THETA
,,,,,,,,,,,METERS,,DBAR,ITS-90,PSS-78,,PSS-78,,UMOL/KG,,UMOL/KG,,UMOL/KG,,UMOL/KG,,UMOL/KG,,PMOL/KG,,PMOL/KG,,UMOL/KG,,UMOL/KG,,,,DEG C,/MILLE,,/MILLE,DEG C
  49K619940107,   P02,    55,  1,     24,     24,2,19940125,0423, 29.9862, 175.8482, 5247,  227.7000,     22.8,  18.5129,  34.7704,3,  34.7664,2,    233.6,3,    240.0,2,     3.30,2,     0.43,2,     0.21,2,    2.539,2,    1.369,2,   -999.0,9,   -999.0,9,   8.0400,2,    25.00,     77.9,2,      7.0,  18.5089
  49K619940107,   P02,    55,  1,     23,     23,2,19940125,0423, 29.9862, 175.8482, 5247,  651.0000,     64.8,  17.6328,  34.7750,3,  34.8323,2,    227.2,3,    234.8,2,     3.30,2,     1.65,2,     0.23,2,    2.488,2,    1.374,2,   1994.0,2,   2278.0,2,   8.0300,2,    25.00,    106.9,2,      7.0,  17.6219
  49K619940107,   P02,    55,  1,     22,     22,2,19940125,0423, 29.9862, 175.8482, 5247, 1119.4000,    111.3,  16.8373,  34.7035,3,  34.6986,2,    230.3,3,    224.5,2,     4.60,2,     3.90,2,     0.38,2,    2.419,2,    1.365,2,   2013.0,2,   2269.0,2,   7.9900,2,    25.00,     96.5,2,      7.0,  16.8191
  49K619940107,   P02,    55,  1,     21,     21,2,19940125,0423, 29.9862, 175.8482, 5247, 1622.4000,    161.3,  16.4136,  34.6695,3,  34.6747,2,    217.6,2,    218.6,2,     5.40,4,     4.59,4,     0.45,4,    2.411,2,    1.341,2,   2016.0,2,   2268.0,2,   7.9700,2,    25.00,     85.2,2,      7.0,  16.3877
  49K619940107,   P02,    55,  1,     20,     20,2,19940125,0423, 29.9862, 175.8482, 5247, 2103.6000,    209.1,  15.5391,  34.6164,3,  34.6459,2,    230.4,3,    222.8,2,     6.70,2,     5.87,2,     0.50,2,    2.495,2,    1.367,2,   2026.0,2,   2267.0,2,   7.9500,2,    25.00,     82.2,2,      7.0,  15.5067
  49K619940107,   P02,    55,  1,     19,     19,2,19940125,0423, 29.9862, 175.8482, 5247, 3144.4000,    312.6,  13.0286,  34.4564,3,  34.4891,2,    208.4,3,    205.2,2,    13.40,6,    11.02,6,     0.88,6,    2.406,2,    1.303,2,   2069.0,2,   2265.0,2,   7.8700,2,    25.00,     38.1,2,      7.0,  12.9856
  49K619940107,   P02,    55,  1,     18,     18,2,19940125,0423, 29.9862, 175.8482, 5247, 4113.7000,    409.0,  10.9940,  34.3054,3,  34.3196,2,    212.6,2,    212.2,2,    18.50,2,    13.91,2,     1.07,2,    2.655,2,    1.406,2,   2088.0,2,   2259.0,2,   7.8200,2,    25.00,     50.7,2,      7.0,  10.9435
  49K619940107,   P02,    55,  1,     17,     17,2,19940125,0423, 29.9862, 175.8482, 5247, 5112.6000,    508.4,   8.6252,  34.1173,3,  34.1279,2,    189.6,2,    190.5,2,    30.50,2,    20.72,2,     1.54,2,    2.333,2,    1.232,2,   2124.0,2,   2263.0,2,   7.7100,2,    25.00,     16.4,2,      7.0,   8.5710
  49K619940107,   P02,    55,  1,     16,     16,2,19940125,0423, 29.9862, 175.8482, 5247, 6126.7000,    609.4,   6.1859,  34.0183,3,  34.0132,2,    153.1,3,    149.5,2,    54.20,2,    28.06,2,     2.14,2,    1.628,2,    0.878,2,   2206.0,2,   2275.0,2,   7.5600,2,    25.00,    -51.9,2,      7.0,   6.1318
  49K619940107,   P02,    55,  1,     15,     15,2,19940125,0423, 29.9862, 175.8482, 5247, 7102.2000,    706.5,   5.1588,  34.0348,2,  34.0352,2,    107.6,2,    109.2,2,    73.70,6,    34.26,6,     2.52,6,    1.005,2,    0.589,2,   2250.0,2,   2290.0,2,   7.4700,2,    25.00,   -101.8,2,      7.0,   5.1011
  49K619940107,   P02,    55,  1,     14,     14,2,19940125,0423, 29.9862, 175.8482, 5247, 8129.1000,    808.9,   4.3964,  34.1333,3,  34.1264,2,     71.2,3,     74.4,2,    95.50,2,    38.05,2,     2.83,2,    0.535,2,    0.332,2,   2299.0,2,   2312.0,2,   7.3900,2,    25.00,   -136.4,2,      7.0,   4.3344
  49K619940107,   P02,    55,  1,     13,     13,2,19940125,0423, 29.9862, 175.8482, 5247, 9150.1000,    910.7,   3.9667,  34.2276,2,  34.2247,2,     52.7,2,     53.8,2,   113.00,2,    40.78,2,     2.97,2,    0.247,2,    0.161,2,   2328.0,2,   2323.0,2,   7.3600,2,    25.00,   -185.0,2,      7.0,   3.8991
  49K619940107,   P02,    55,  1,     12,     12,2,19940125,0423, 29.9862, 175.8482, 5247,10158.1000,   1011.2,   3.5405,  34.3045,3,  34.2987,2,     42.3,2,     42.4,2,   123.30,2,    41.71,2,     3.05,2,    0.119,2,    0.091,2,   2345.0,2,   2345.0,2,   7.3500,2,    25.00,   -205.4,2,      7.0,   3.4678
  49K619940107,   P02,    55,  1,     11,     11,2,19940125,0423, 29.9862, 175.8482, 5247,12687.0000,   1263.7,   2.7859,  34.4418,2,  34.4397,2,     29.7,2,     29.9,2,   148.80,2,    43.55,2,     3.18,2,    0.016,2,    0.004,2,   2625.0,4,   2374.0,2,   7.3300,2,    25.00,   -221.2,2,      7.0,   2.6997
  49K619940107,   P02,    55,  1,     10,     10,2,19940125,0423, 29.9862, 175.8482, 5247,15230.0000,   1517.7,   2.4532,  34.5282,3,  34.5248,2,     41.2,2,     40.4,2,   160.20,2,    43.24,2,     3.13,2,    0.002,2,    0.019,2,   -999.0,9,   2387.0,2,   7.3600,2,    25.00,   -234.7,2,      7.0,   2.3504
  49K619940107,   P02,    55,  1,      9,      9,2,19940125,0423, 29.9862, 175.8482, 5247,17728.5000,   1767.6,   2.0911,  34.5789,2,  34.5775,2,     59.6,2,     59.7,2,   168.60,2,    41.73,2,     3.00,2,    0.002,2,    0.002,2,   2383.0,2,   2397.0,2,   7.4000,2,    25.00,   -245.8,2,      7.0,   1.9726
  49K619940107,   P02,    55,  1,      8,      8,2,19940125,0423, 29.9862, 175.8482, 5247,20273.0000,   2022.2,   1.8749,  34.6123,2,  34.6110,2,     78.7,3,     82.5,2,   167.50,2,    40.51,2,     2.95,2,    0.000,2,    0.000,2,   2373.0,2,   2403.0,2,   7.4400,2,    25.00,   -252.3,2,      7.0,   1.7386
  49K619940107,   P02,    55,  1,      7,      7,2,19940125,0423, 29.9862, 175.8482, 5247,25347.0000,   2530.3,   1.6198,  34.6480,2,  34.6477,2,    108.9,2,    109.7,2,   164.40,2,    38.21,2,     2.79,2,    0.001,2,    0.004,2,   2356.0,2,   2406.0,2,   7.5000,2,    25.00,   -233.1,2,      7.0,   1.4439
  49K619940107,   P02,    55,  1,      6,      6,2,19940125,0423, 29.9862, 175.8482, 5247,30449.3000,   3041.7,   1.4999,  34.6680,2,  34.6681,2,    130.3,2,    130.6,2,   162.20,2,    37.14,2,     2.68,2,    0.001,2,    0.001,2,   2342.0,2,   2406.0,2,   7.5300,2,    25.00,   -255.3,2,      7.0,   1.2791
  49K619940107,   P02,    55,  1,      5,      5,2,19940125,0423, 29.9862, 175.8482, 5247,35554.4000,   3553.4,   1.4512,  34.6789,2,  34.6788,2,    142.9,2,    142.2,2,   156.90,2,    36.31,2,     2.62,2,    0.004,2,    0.000,2,   2331.0,2,   2406.0,2,   7.5600,2,    25.00,   -216.0,2,      7.0,   1.1808
  49K619940107,   P02,    55,  1,      4,      4,2,19940125,0423, 29.9862, 175.8482, 5247,40657.1000,   4064.8,   1.4445,  34.6861,2,  34.6851,2,    152.2,2,    153.3,2,   154.00,6,    36.07,6,     2.57,6,    0.000,2,    0.000,2,   2326.0,2,   2404.0,2,   7.5800,2,    25.00,   -208.5,2,      7.0,   1.1200
  49K619940107,   P02,    55,  1,      3,      3,2,19940125,0423, 29.9862, 175.8482, 5247,45773.8000,   4577.3,   1.4491,  34.6908,2,  34.6905,2,    162.1,2,    162.1,2,   148.00,2,    34.92,2,     2.52,2,    0.000,2,    0.001,2,   2317.0,2,   2399.0,2,   7.5900,2,    25.00,   -206.5,2,      7.0,   1.0667
  49K619940107,   P02,    55,  1,      2,      2,2,19940125,0423, 29.9862, 175.8482, 5247,50941.5000,   5094.3,   1.4684,  34.6945,2,  34.6940,2,    170.3,2,    169.7,2,   142.60,2,    34.58,2,     2.48,2,    0.000,2,    0.001,2,   2312.0,2,   2394.0,2,   7.5800,2,    25.00,   -157.6,3,      7.0,   1.0236
  49K619940107,   P02,    55,  1,      1,      1,2,19940125,0423, 29.9862, 175.8482, 5247,53166.5000,   5316.6,   1.4662,  34.6980,2,  34.6962,2,    175.9,2,    175.6,2,   138.90,6,    34.41,6,     2.43,6,    0.004,2,    0.005,2,   2302.0,2,   2387.0,2,   7.6100,2,    25.00,   -182.9,2,      7.0,   0.9939
  49K619940107,   P02,    56,  1,     24,     24,2,19940125,1528, 30.0020, 177.5898, 5341,  271.7000,     27.2,  19.1099,  34.9686,2,  34.9678,2,    226.4,3,    235.8,2,     3.20,2,     0.22,2,     0.17,2,    2.398,2,    1.357,2,   -999.0,9,   -999.0,9,   8.0400,2,    25.00,   -999.0,9,   -999.0,  19.1050
  49K619940107,   P02,    56,  1,     23,     23,2,19940125,1528, 30.0020, 177.5898, 5341,  454.5000,     45.3,  18.8178,  34.9424,3,  34.9379,2,    222.4,3,    234.1,2,     3.30,2,     0.12,2,     0.18,2,    2.367,2,    1.349,2,   1996.0,2,   2286.0,2,   8.0300,2,    25.00,   -999.0,9,   -999.0,  18.8098
  49K619940107,   P02,    56,  1,     22,     22,2,19940125,1528, 30.0020, 177.5898, 5341, 1191.4000,    118.5,  18.1724,  34.8146,3,  34.8740,2,    225.7,3,    231.3,2,     3.40,2,     1.39,2,     0.22,2,    2.407,2,    1.356,2,   1993.0,2,   2282.0,2,   8.0200,2,    25.00,   -999.0,9,   -999.0,  18.1520
  49K619940107,   P02,    56,  1,     21,     21,4,19940125,1528, 30.0020, 177.5898, 5341, 1547.2000,    153.8,  16.8577,  34.7750,2,-999.0000,9,    214.6,2,   -999.0,9,  -999.00,9,  -999.00,9,  -999.00,9,    2.417,2,    1.379,2,   1992.0,2,   2278.0,2,   8.0200,2,    25.00,   -999.0,9,   -999.0,  16.8325
  49K619940107,   P02,    56,  1,     20,     20,2,19940125,1528, 30.0020, 177.5898, 5341, 2130.5000,    211.8,  16.0921,  34.7007,3,  34.7409,2,    215.0,2,    214.4,2,     6.30,2,     4.50,2,     0.48,2,    2.551,2,    1.415,2,   2026.0,2,   2269.0,2,   7.9500,2,    25.00,   -999.0,9,   -999.0,  16.0585
  49K619940107,   P02,    56,  1,     19,     19,2,19940125,1528, 30.0020, 177.5898, 5341, 3170.5000,    315.2,  14.1944,  34.5470,3,  34.5623,2,    206.1,3,    209.4,2,    10.50,2,     8.36,2,     0.73,2,    2.509,2,    1.364,2,   2051.0,2,   2266.0,2,   7.8900,2,    25.00,   -999.0,9,   -999.0,  14.1484
  49K619940107,   P02,    56,  1,     18,     18,2,19940125,1528, 30.0020, 177.5898, 5341, 4087.9000,    406.4,  12.1661,  34.3786,3,  34.3874,2,    217.1,2,    217.9,2,    14.20,6,    10.71,6,     0.91,6,    2.740,2,    1.468,2,   2069.0,2,   2258.0,2,   7.8500,2,    25.00,   -999.0,9,   -999.0,  12.1125
  49K619940107,   P02,    56,  1,     17,     17,2,19940125,1528, 30.0020, 177.5898, 5341, 5138.5000,    511.0,   9.8099,  34.1816,3,  34.2149,2,    199.9,2,    198.0,2,    23.70,2,    16.70,2,     1.32,2,    2.313,2,    1.233,2,   2112.0,2,   2265.0,2,   7.7600,2,    25.00,   -999.0,9,   -999.0,   9.7509
  49K619940107,   P02,    56,  1,     16,     16,2,19940125,1528, 30.0020, 177.5898, 5341, 6082.3000,    605.0,   7.6397,  34.0729,3,  34.0767,2,    174.6,2,    174.9,2,    39.30,2,    22.68,2,     1.79,2,    1.997,2,    1.042,2,   2160.0,2,   2268.0,2,   7.6500,2,    25.00,   -999.0,9,   -999.0,   7.5793
  49K619940107,   P02,    56,  1,     15,     15,2,19940125,1528, 30.0020, 177.5898, 5341, 7103.1000,    706.6,   5.7829,  34.0463,3,  34.0395,2,    125.0,3,    129.7,2,    62.60,6,    30.43,6,     2.32,3,    1.111,2,    0.666,2,   2225.0,2,   2279.0,2,   7.5200,2,    25.00,   -999.0,9,   -999.0,   5.7218
  49K619940107,   P02,    56,  1,     14,     14,2,19940125,1528, 30.0020, 177.5898, 5341, 8151.0000,    811.1,   4.7815,  34.1091,3,  34.1058,2,     77.6,2,     78.6,2,    87.80,2,    36.53,2,     2.76,2,    0.442,2,    0.297,2,   2283.0,2,   2300.0,2,   7.4100,2,    25.00,   -999.0,9,   -999.0,   4.7169
  49K619940107,   P02,    56,  1,     13,     13,2,19940125,1528, 30.0020, 177.5898, 5341, 9136.3000,    909.3,   4.2221,  34.1898,2,  34.1876,2,     52.2,2,     52.2,2,   103.70,2,    39.86,2,     3.05,2,    0.190,2,    0.129,2,   2318.0,2,   2316.0,2,   7.3600,2,    25.00,   -999.0,9,   -999.0,   4.1528
  49K619940107,   P02,    56,  1,     12,     12,2,19940125,1528, 30.0020, 177.5898, 5341,10135.3000,   1009.0,   3.7622,  34.2735,3,  34.2767,2,     36.1,2,     35.7,2,   119.50,2,    42.04,2,     3.20,2,    0.071,2,    0.051,2,   2339.0,2,   2336.0,2,   7.3300,2,    25.00,   -999.0,9,   -999.0,   3.6880
  49K619940107,   P02,    56,  1,     11,     11,2,19940125,1528, 30.0020, 177.5898, 5341,12648.9000,   1259.9,   3.0165,  34.4272,2,  34.4251,2,     27.3,2,     29.0,2,   141.70,2,    43.23,2,     3.24,2,    0.012,2,    0.016,2,   2372.0,2,   2361.0,2,   7.3300,2,    25.00,   -999.0,9,   -999.0,   2.9284
  49K619940107,   P02,    56,  1,     10,     10,2,19940125,1528, 30.0020, 177.5898, 5341,15186.8000,   1513.4,   2.5204,  34.5195,2,  34.5192,2,     39.8,2,     41.2,2,   158.80,2,    42.72,2,     3.19,2,    0.003,2,    0.005,2,   2382.0,2,   2378.0,2,   7.3600,2,    25.00,   -999.0,9,   -999.0,   2.4171
  49K619940107,   P02,    56,  1,      9,      9,2,19940125,1528, 30.0020, 177.5898, 5341,17710.6000,   1765.8,   2.1752,  34.5708,2,  34.5700,2,     57.5,2,     58.8,2,   166.60,2,    41.69,3,     3.18,2,    0.004,2,    0.000,2,   2375.0,2,   2388.0,2,   7.3900,2,    25.00,   -999.0,9,   -999.0,   2.0558
  49K619940107,   P02,    56,  1,      8,      8,2,19940125,1528, 30.0020, 177.5898, 5341,20257.3000,   2020.6,   1.9272,  34.6059,2,  34.6058,2,     76.9,2,     78.3,2,   167.60,2,    40.94,2,     3.08,2,    0.002,2,    0.001,2,   2375.0,2,   2398.0,2,   7.4200,2,    25.00,   -999.0,9,   -999.0,   1.7902
  49K619940107,   P02,    56,  1,      7,      7,2,19940125,1528, 30.0020, 177.5898, 5341,25326.5000,   2528.3,   1.6467,  34.6456,2,  34.6447,2,    107.2,2,    109.0,2,   167.20,2,    37.82,2,     2.87,2,    0.001,2,    0.002,2,   2360.0,2,   2400.0,2,   7.4900,2,    25.00,   -999.0,9,   -999.0,   1.4705
  49K619940107,   P02,    56,  1,      6,      6,2,19940125,1528, 30.0020, 177.5898, 5341,30417.0000,   3038.4,   1.5180,  34.6662,2,  34.6663,2,    128.6,2,    129.8,2,   161.10,2,    36.69,2,     2.80,2,    0.002,2,    0.004,2,   2356.0,3,   2400.0,2,   7.5200,2,    25.00,   -999.0,9,   -999.0,   1.2971
  49K619940107,   P02,    56,  1,      5,      5,2,19940125,1528, 30.0020, 177.5898, 5341,35519.6000,   3549.9,   1.4656,  34.6780,2,  34.6781,2,    141.9,2,    142.9,2,   156.80,2,    36.21,2,     2.72,2,    0.000,2,    0.000,2,   2339.0,2,   2400.0,2,   7.5500,2,    25.00,   -999.0,9,   -999.0,   1.1952
  49K619940107,   P02,    56,  1,      4,      4,2,19940125,1528, 30.0020, 177.5898, 5341,40663.3000,   4065.5,   1.4608,  34.6844,2,  34.6847,2,    150.3,2,    151.6,2,   154.20,6,    35.35,6,     2.65,6,    0.000,2,    0.004,2,   2332.0,2,   2399.0,2,   7.5600,2,    25.00,   -999.0,9,   -999.0,   1.1358
  49K619940107,   P02,    56,  1,      3,      3,2,19940125,1528, 30.0020, 177.5898, 5341,45787.0000,   4578.6,   1.4685,  34.6893,2,  34.6901,2,    159.1,2,    161.3,2,   150.20,2,    34.44,2,     2.60,2,    0.000,2,    0.000,2,   2327.0,2,   2393.0,2,   7.5700,2,    25.00,   -999.0,9,   -999.0,   1.0853
  49K619940107,   P02,    56,  1,      2,      2,2,19940125,1528, 30.0020, 177.5898, 5341,50971.3000,   5097.3,   1.4887,  34.6936,2,  34.6929,2,    167.1,2,   -999.0,9,   142.30,2,    34.51,2,     2.55,2,    0.002,2,    0.001,2,   2324.0,2,   2389.0,2,   7.5800,2,    25.00,   -999.0,9,   -999.0,   1.0428
  49K619940107,   P02,    56,  1,      1,      1,2,19940125,1528, 30.0020, 177.5898, 5341,54190.7000,   5418.9,   1.5052,  34.6957,2,  34.6952,2,    172.8,2,    171.3,2,   141.90,6,    34.02,6,     2.50,6,    0.001,2,    0.000,2,   2315.0,2,   2385.0,2,   7.5800,2,    25.00,   -999.0,9,   -999.0,   1.0186