BOTTLE,20220810CCHSIOAMB
EXPOCODE,SECT_ID,STNNBR,CASTNO,SAMPNO,BTLNBR,BTLNBR_FLAG_W,DATE,TIME,LATITUDE,LONGITUDE,DEPTH,CTDRAW,CTDPRS,CTDTMP,CTDSAL,CTDSAL_FLAG_W,SALNTY,SALNTY_FLAG_W,CTDOXY,CTDOXY_FLAG_W,OXYGEN,OXYGEN_FLAG_W,SILCAT,SILCAT_FLAG_W,NITRAT,NITRAT_FLAG_W,PHSPHT,PHSPHT_FLAG_W,CFC-11,CFC-11_FLAG_W,CFC-12,CFC-12_FLAG_W,TCARBN,TCARBN_FLAG_W,ALKALI,ALKALI_FLAG_W,PH_TOT,PH_TOT_FLAG_W,PH_TMP,DELC14,DELC14_FLAG_W,C14ERR,THETA
,,,,,,,,,,,METERS,,DBAR,ITS-90,PSS-78,,PSS-78,,UMOL/KG,,UMOL/KG,,UMOL/KG,,UMOL/KG,,UMOL/KG,,PMOL/KG,,PMOL/KG,,UMOL/KG,,UMOL/KG,,,,DEG C,/MILLE,,/MILLE,DEG C
  49K619940107,   P02,    57,  1,     24,     24,2,19940126,0144, 29.9907, 179.3363, 4738,  265.6000,     26.5,  17.4274,  34.6684,3,  34.6631,2,    244.4,2,    244.9,2,     4.20,2,     0.00,2,     0.18,2,    2.647,2,    1.455,2,   -999.0,9,   -999.0,9,   8.0200,2,    25.00,   -999.0,9,   -999.0,  17.4230
  49K619940107,   P02,    57,  1,     23,     23,2,19940126,0144, 29.9907, 179.3363, 4738,  726.8000,     72.3,  17.4444,  34.6856,3,  34.6714,2,    227.2,3,    238.2,2,     4.20,4,     0.05,4,     0.21,4,    2.569,2,    1.407,2,   1996.0,2,   2271.0,2,   8.0200,2,    25.00,   -999.0,9,   -999.0,  17.4323
  49K619940107,   P02,    57,  1,     22,     22,2,19940126,0144, 29.9907, 179.3363, 4738, 1132.2000,    112.5,  17.2046,  34.7146,3,  34.6826,2,    228.8,3,    237.1,2,     4.10,2,     0.32,2,     0.22,2,    2.553,2,    1.425,2,   1995.0,2,   2271.0,2,   8.0200,2,    25.00,   -999.0,9,   -999.0,  17.1860
  49K619940107,   P02,    57,  1,     21,     21,2,19940126,0144, 29.9907, 179.3363, 4738, 1615.5000,    160.5,  13.7196,  34.4917,3,  34.5304,2,    216.7,3,    214.3,2,    10.30,4,     7.67,4,     0.70,4,    2.720,2,    1.457,2,   2050.0,2,   2268.0,2,   7.9000,2,    25.00,   -999.0,9,   -999.0,  13.6968
  49K619940107,   P02,    57,  1,     20,     20,2,19940126,0144, 29.9907, 179.3363, 4738, 2101.5000,    208.8,  12.7372,  34.4271,3,  34.4367,2,    222.5,2,    221.0,2,    12.70,2,     9.14,2,     0.80,2,    2.838,2,    1.508,2,   2063.0,2,   2265.0,2,   7.8800,2,    25.00,   -999.0,9,   -999.0,  12.7090
  49K619940107,   P02,    57,  1,     19,     19,2,19940126,0144, 29.9907, 179.3363, 4738, 3155.7000,    313.6,  11.2119,  34.3225,3,  34.3339,2,    220.9,2,    222.8,2,    16.90,2,    11.70,2,     0.97,2,    2.908,2,    1.525,2,   2080.0,2,   2261.0,2,   7.8400,2,    25.00,   -999.0,9,   -999.0,  11.1728
  49K619940107,   P02,    57,  1,     18,     18,2,19940126,0144, 29.9907, 179.3363, 4738, 4160.2000,    413.5,   8.9384,  34.1329,3,  34.1530,2,    198.3,3,    203.6,2,    28.30,6,    17.61,6,     1.38,6,    2.672,2,    1.405,2,   2122.0,2,   2263.0,2,   7.7500,2,    25.00,   -999.0,9,   -999.0,   8.8936
  49K619940107,   P02,    57,  1,     17,     17,2,19940126,0144, 29.9907, 179.3363, 4738, 5151.9000,    512.2,   6.4931,  34.0264,2,  34.0263,2,    160.6,2,    158.7,2,    50.20,2,    26.44,2,     2.01,2,    1.889,2,    1.001,2,   2191.0,2,   2272.0,2,   7.6100,2,    25.00,   -999.0,9,   -999.0,   6.4468
  49K619940107,   P02,    57,  1,     16,     16,2,19940126,0144, 29.9907, 179.3363, 4738, 6198.2000,    616.4,   5.0166,  34.0474,3,  34.0312,2,    110.2,2,    111.9,2,    73.40,2,    32.89,2,     2.47,2,    1.097,2,    0.621,2,   2254.0,2,   2292.0,2,   7.4700,2,    25.00,   -999.0,9,   -999.0,   4.9674
  49K619940107,   P02,    57,  1,     15,     15,2,19940126,0144, 29.9907, 179.3363, 4738, 7124.5000,    708.7,   4.4254,  34.1259,2,  34.1246,2,     73.6,3,     71.3,2,    95.90,6,    37.63,6,     2.80,6,    0.481,2,    0.317,2,   2299.0,2,   2308.0,2,   7.3900,2,    25.00,   -999.0,9,   -999.0,   4.3714
  49K619940107,   P02,    57,  1,     14,     14,2,19940126,0144, 29.9907, 179.3363, 4738, 8148.0000,    810.7,   3.8865,  34.2195,3,  34.2134,2,     47.0,2,     45.4,2,   110.90,2,    40.34,2,     2.99,2,    0.183,2,    0.134,2,   2335.0,2,   2327.0,2,   7.3400,2,    25.00,   -999.0,9,   -999.0,   3.8274
  49K619940107,   P02,    57,  1,     13,     13,2,19940126,0144, 29.9907, 179.3363, 4738, 9117.6000,    907.3,   3.6107,  34.2832,2,  34.2813,2,     32.6,2,     32.7,2,   124.30,2,    41.54,2,     3.10,2,    0.060,2,    0.043,2,   2354.0,2,   2092.0,4,   7.3300,2,    25.00,   -999.0,9,   -999.0,   3.5458
  49K619940107,   P02,    57,  1,     12,     12,2,19940126,0144, 29.9907, 179.3363, 4738,10151.0000,   1010.4,   3.3409,  34.3532,3,  34.3476,2,     23.6,3,     26.5,2,   132.60,2,    42.88,2,     3.16,2,    0.025,2,    0.019,2,   2378.0,3,   2344.0,2,   7.3200,2,    25.00,   -999.0,9,   -999.0,   3.2698
  49K619940107,   P02,    57,  1,     11,     11,4,19940126,0144, 29.9907, 179.3363, 4738,12689.3000,   1263.8,   2.7242,  34.4665,2,-999.0000,9,     29.0,2,   -999.0,9,  -999.00,9,  -999.00,9,  -999.00,9, -999.000,9, -999.000,9,   -999.0,9,   -999.0,9,-999.0000,9,  -999.00,   -999.0,9,   -999.0,   2.6386
  49K619940107,   P02,    57,  1,     10,     10,2,19940126,0144, 29.9907, 179.3363, 4738,15205.2000,   1515.2,   2.3537,  34.5335,2,  34.5332,2,     40.2,2,     42.0,2,   162.40,2,    42.31,2,     3.11,2,    0.004,2,    0.000,2,   2394.0,3,   2354.0,3,   7.3600,2,    25.00,   -999.0,9,   -999.0,   2.2522
  49K619940107,   P02,    57,  1,      9,      9,2,19940126,0144, 29.9907, 179.3363, 4738,17729.4000,   1767.6,   2.0537,  34.5848,2,  34.5831,2,     61.6,2,     61.3,2,   168.60,2,    41.65,2,     3.01,2,    0.000,2,    0.000,2,   2389.0,3,   2391.0,2,   7.4000,2,    25.00,   -999.0,9,   -999.0,   1.9357
  49K619940107,   P02,    57,  1,      8,      8,2,19940126,0144, 29.9907, 179.3363, 4738,20266.8000,   2021.5,   1.8733,  34.6115,2,  34.6122,2,     82.1,3,     77.5,2,   167.00,2,    40.53,2,     2.94,2,    0.001,2,    0.000,2,   2387.0,3,   2401.0,2,   7.4300,2,    25.00,   -999.0,9,   -999.0,   1.7370
  49K619940107,   P02,    57,  1,      7,      7,2,19940126,0144, 29.9907, 179.3363, 4738,22814.7000,   2276.6,   1.7232,  34.6334,2,  34.6346,2,     96.2,2,     95.8,2,   168.00,2,    38.90,2,     2.84,2,    0.007,2,    0.000,2,   2370.0,2,   2403.0,2,   7.4700,2,    25.00,   -999.0,9,   -999.0,   1.5677
  49K619940107,   P02,    57,  1,      6,      6,2,19940126,0144, 29.9907, 179.3363, 4738,25332.5000,   2528.8,   1.6114,  34.6490,2,  34.6502,2,    110.3,2,    109.6,2,   163.70,2,    36.84,2,     2.78,2,    0.000,2,    0.000,2,   2363.0,2,   2404.0,2,   7.4900,2,    25.00,   -999.0,9,   -999.0,   1.4358
  49K619940107,   P02,    57,  1,      5,      5,2,19940126,0144, 29.9907, 179.3363, 4738,30434.0000,   3040.0,   1.4894,  34.6692,2,  34.6698,2,    131.6,2,    132.8,2,   160.00,2,    36.55,2,     2.67,2,    0.000,2,    0.003,2,   2347.0,2,   2408.0,2,   7.5400,2,    25.00,   -999.0,9,   -999.0,   1.2690
  49K619940107,   P02,    57,  1,      4,      4,2,19940126,0144, 29.9907, 179.3363, 4738,35538.0000,   3551.7,   1.4496,  34.6796,2,  34.6801,2,    143.7,2,    143.3,2,   159.50,6,    34.59,6,     2.57,6,    0.000,2,    0.000,2,   2342.0,2,   2407.0,2,   7.5500,2,    25.00,   -999.0,9,   -999.0,   1.1794
  49K619940107,   P02,    57,  1,      3,      3,2,19940126,0144, 29.9907, 179.3363, 4738,40671.1000,   4066.1,   1.4512,  34.6859,2,  34.6858,2,    151.4,2,    152.2,2,   157.60,2,    35.40,2,     2.55,2,    0.000,2,    0.002,2,   2334.0,2,   2403.0,2,   7.5700,2,    25.00,   -999.0,9,   -999.0,   1.1264
  49K619940107,   P02,    57,  1,      2,      2,2,19940126,0144, 29.9907, 179.3363, 4738,45791.3000,   4579.0,   1.4584,  34.6901,2,  34.6905,2,    160.6,2,    160.6,2,   150.20,2,    34.54,2,     2.51,2,    0.005,2,    0.000,2,   2332.0,2,   2401.0,2,   7.5800,2,    25.00,   -999.0,9,   -999.0,   1.0755
  49K619940107,   P02,    57,  1,      1,      1,2,19940126,0144, 29.9907, 179.3363, 4738,48099.8000,   4810.0,   1.4679,  34.6925,2,  34.6913,2,    163.8,2,    164.4,2,   147.30,6,    34.37,3,     2.50,6,    0.000,2,    0.004,2,   2314.0,3,   2400.0,2,   7.5800,2,    25.00,   -999.0,9,   -999.0,   1.0575
  49K619940107,   P02,    58,  1,     24,     24,2,19940126,1254, 29.9935,-178.9198, 5402,  298.2000,     29.8,  18.4397,  34.9096,2,  34.9107,2,    238.8,3,    235.8,2,     3.50,2,     0.74,2,     0.12,2,    2.505,2,    1.384,2,   -999.0,9,   -999.0,9,   8.0300,2,    25.00,   -999.0,9,   -999.0,  18.4345
  49K619940107,   P02,    58,  1,     23,     23,2,19940126,1254, 29.9935,-178.9198, 5402,  697.7000,     69.5,  18.2862,  34.8844,3,  34.8995,2,    232.6,3,    234.9,2,     3.60,2,     1.26,2,     0.14,2,    2.463,2,    1.355,2,   1999.0,2,   2286.0,2,   8.0300,2,    25.00,   -999.0,9,   -999.0,  18.2742
  49K619940107,   P02,    58,  1,     22,     22,2,19940126,1254, 29.9935,-178.9198, 5402, 1174.3000,    116.8,  18.1303,  34.8727,3,  34.8616,2,    229.8,3,    232.1,2,     3.70,2,     1.91,2,     0.15,2,    2.468,2,    1.357,2,   1998.0,2,   2279.0,2,   8.0200,2,    25.00,   -999.0,9,   -999.0,  18.1102
  49K619940107,   P02,    58,  1,     21,     21,4,19940126,1254, 29.9935,-178.9198, 5402, 1570.2000,    156.1,  17.0173,  34.7738,2,-999.0000,9,    226.4,2,   -999.0,9,  -999.00,9,  -999.00,9,  -999.00,9,    2.476,2,    1.370,2,   1998.0,2,   2276.0,2,   8.0200,2,    25.00,   -999.0,9,   -999.0,  16.9916
  49K619940107,   P02,    58,  1,     20,     20,2,19940126,1254, 29.9935,-178.9198, 5402, 2096.8000,    208.5,  16.1815,  34.7258,3,  34.7301,2,    215.4,3,    218.6,2,     5.30,2,     4.95,2,     0.36,2,    2.675,2,    1.424,2,   2026.0,2,   2274.0,2,   7.9500,2,    25.00,   -999.0,9,   -999.0,  16.1483
  49K619940107,   P02,    58,  1,     19,     19,2,19940126,1254, 29.9935,-178.9198, 5402, 3142.2000,    312.4,  13.8760,  34.5196,3,  34.5398,2,    228.1,3,    223.7,2,     8.70,2,     7.89,2,     0.53,2,    2.798,2,    1.477,2,   2047.0,2,   2267.0,2,   7.9100,2,    25.00,   -999.0,9,   -999.0,  13.8311
  49K619940107,   P02,    58,  1,     18,     18,2,19940126,1254, 29.9935,-178.9198, 5402, 4091.8000,    406.8,  11.9612,  34.3699,3,  34.3731,2,    227.6,3,    222.9,2,    14.70,6,    11.70,6,     0.90,3,    2.902,2,    1.495,2,   2071.0,2,   2264.0,2,   7.8500,2,    25.00,   -999.0,9,   -999.0,  11.9081
  49K619940107,   P02,    58,  1,     17,     17,2,19940126,1254, 29.9935,-178.9198, 5402, 5166.8000,    513.8,   9.5265,  34.1453,3,  34.2220,2,    196.3,3,    207.2,2,    23.90,3,    16.98,3,     1.34,3,    2.713,2,    1.393,2,   2109.0,2,   2265.0,2,   7.7600,2,    25.00,   -999.0,9,   -999.0,   9.4683
  49K619940107,   P02,    58,  1,     16,     16,4,19940126,1254, 29.9935,-178.9198, 5402, 6153.0000,    612.0,   7.2045,  34.0352,2,-999.0000,9,    159.4,2,   -999.0,9,  -999.00,9,  -999.00,9,  -999.00,9, -999.000,9, -999.000,9,   -999.0,9,   -999.0,9,-999.0000,9,  -999.00,   -999.0,9,   -999.0,   7.1454
  49K619940107,   P02,    58,  1,     15,     15,2,19940126,1254, 29.9935,-178.9198, 5402, 7094.0000,    705.7,   5.7986,  34.0394,3,  34.0333,2,    126.5,2,    125.6,2,    63.70,6,    32.84,6,     2.33,6,    1.122,2,    0.634,2,   2227.0,2,   2287.0,2,   7.5100,2,    25.00,   -999.0,9,   -999.0,   5.7375
  49K619940107,   P02,    58,  1,     14,     14,2,19940126,1254, 29.9935,-178.9198, 5402, 8156.5000,    811.6,   4.6787,  34.1127,3,  34.1023,2,     79.5,2,     77.8,2,    89.40,2,    39.29,2,     2.73,2,    0.457,2,    0.294,2,   2287.0,2,   2306.0,2,   7.4000,2,    25.00,   -999.0,9,   -999.0,   4.6147
  49K619940107,   P02,    58,  1,     13,     13,2,19940126,1254, 29.9935,-178.9198, 5402, 9131.3000,    908.8,   4.0787,  34.2149,3,  34.2099,2,     52.5,3,     44.6,2,   109.20,2,    42.03,2,     2.99,2,    0.124,2,    0.076,2,   2328.0,2,   2331.0,2,   7.3400,2,    25.00,   -999.0,9,   -999.0,   4.0104
  49K619940107,   P02,    58,  1,     12,     12,2,19940126,1254, 29.9935,-178.9198, 5402,10160.3000,   1011.5,   3.6771,  34.3017,3,  34.2923,2,     32.8,2,     32.4,2,   124.00,2,    44.22,2,     3.04,2,    0.054,2,    0.032,2,   2353.0,2,   2348.0,2,   7.3200,2,    25.00,   -999.0,9,   -999.0,   3.6034
  49K619940107,   P02,    58,  1,     11,     11,2,19940126,1254, 29.9935,-178.9198, 5402,12688.5000,   1263.8,   3.0693,  34.4376,2,  34.4356,2,     30.1,2,     31.5,2,   142.00,2,    44.84,2,     3.13,2,    0.004,2,    0.000,2,   2375.0,2,   2374.0,2,   7.3300,2,    25.00,   -999.0,9,   -999.0,   2.9804
  49K619940107,   P02,    58,  1,     10,     10,2,19940126,1254, 29.9935,-178.9198, 5402,15216.5000,   1516.4,   2.6081,  34.5196,2,  34.5175,2,     45.0,2,     44.6,2,   156.10,2,    44.16,2,     3.05,2,    0.000,2,    0.000,2,   2380.0,2,   2389.0,2,   7.3700,2,    25.00,   -999.0,9,   -999.0,   2.5036
  49K619940107,   P02,    58,  1,      9,      9,2,19940126,1254, 29.9935,-178.9198, 5402,17734.6000,   1768.2,   2.2297,  34.5712,2,  34.5717,2,     61.7,2,     61.3,2,   161.70,2,    43.41,2,     3.00,2,    0.000,2,    0.000,2,   2374.0,2,   2399.0,2,   7.4000,2,    25.00,   -999.0,9,   -999.0,   2.1093
  49K619940107,   P02,    58,  1,      8,      8,2,19940126,1254, 29.9935,-178.9198, 5402,20277.8000,   2022.7,   1.9786,  34.6030,2,  34.6033,2,     76.7,2,     77.5,2,   167.70,2,    42.98,2,     2.94,2,    0.000,2,    0.000,2,   2370.0,2,   2405.0,2,   7.4200,2,    25.00,   -999.0,9,   -999.0,   1.8407
  49K619940107,   P02,    58,  1,      7,      7,4,19940126,1254, 29.9935,-178.9198, 5402,25382.4000,   2533.9,   1.6625,  34.6450,2,-999.0000,9,    105.5,2,   -999.0,9,  -999.00,9,  -999.00,9,  -999.00,9, -999.000,9, -999.000,9,   -999.0,9,   -999.0,9,-999.0000,9,  -999.00,   -999.0,9,   -999.0,   1.4855
  49K619940107,   P02,    58,  1,      6,      6,2,19940126,1254, 29.9935,-178.9198, 5402,30423.5000,   3039.1,   1.5263,  34.6657,2,  34.6668,2,    127.4,2,    127.2,2,   164.90,2,    38.93,2,     2.71,2,    0.044,4,    0.014,4,   2350.0,2,   2411.0,2,   7.5200,2,    25.00,   -999.0,9,   -999.0,   1.3052
  49K619940107,   P02,    58,  1,      5,      5,2,19940126,1254, 29.9935,-178.9198, 5402,35553.3000,   3553.3,   1.4597,  34.6790,2,  34.6795,2,    141.6,2,    143.1,2,   160.00,2,    36.71,2,     2.68,2,    0.000,2,    0.005,2,   2336.0,2,   2411.0,2,   7.5500,2,    25.00,   -999.0,9,   -999.0,   1.1891
  49K619940107,   P02,    58,  1,      4,      4,2,19940126,1254, 29.9935,-178.9198, 5402,40661.5000,   4065.3,   1.4575,  34.6856,2,  34.6856,2,    151.0,2,   -999.0,9,   158.10,6,    37.31,6,     2.63,3,    0.002,2,    0.003,2,   2330.0,2,   2411.0,2,   7.5600,2,    25.00,   -999.0,9,   -999.0,   1.1326
  49K619940107,   P02,    58,  1,      3,      3,2,19940126,1254, 29.9935,-178.9198, 5402,45797.9000,   4579.7,   1.4684,  34.6893,2,  34.6900,2,    159.1,2,    158.0,2,   152.20,2,    37.57,2,     2.55,2,    0.000,2,    0.000,2,   2326.0,2,   2407.0,2,   7.5700,2,    25.00,   -999.0,9,   -999.0,   1.0851
  49K619940107,   P02,    58,  1,      2,      2,4,19940126,1254, 29.9935,-178.9198, 5402,50964.3000,   5096.6,   1.5099,  34.6922,2,-999.0000,9,    163.3,2,   -999.0,9,  -999.00,9,  -999.00,9,  -999.00,9, -999.000,9, -999.000,9,   -999.0,9,   -999.0,9,-999.0000,9,  -999.00,   -999.0,9,   -999.0,   1.0634
  49K619940107,   P02,    58,  1,      1,      1,2,19940126,1254, 29.9935,-178.9198, 5402,54812.2000,   5481.0,   1.5206,  34.6954,2,  34.6955,2,    170.5,2,    168.7,2,   144.00,6,    37.18,6,     2.54,6,    0.005,2,    0.000,2,   2305.0,2,   2395.0,2,   7.5900,2,    25.00,   -999.0,9,   -999.0,   1.0256