BOTTLE,20220810CCHSIOAMB
EXPOCODE,SECT_ID,STNNBR,CASTNO,SAMPNO,BTLNBR,BTLNBR_FLAG_W,DATE,TIME,LATITUDE,LONGITUDE,DEPTH,CTDRAW,CTDPRS,CTDTMP,CTDSAL,CTDSAL_FLAG_W,SALNTY,SALNTY_FLAG_W,CTDOXY,CTDOXY_FLAG_W,OXYGEN,OXYGEN_FLAG_W,SILCAT,SILCAT_FLAG_W,NITRAT,NITRAT_FLAG_W,PHSPHT,PHSPHT_FLAG_W,CFC-11,CFC-11_FLAG_W,CFC-12,CFC-12_FLAG_W,TCARBN,TCARBN_FLAG_W,ALKALI,ALKALI_FLAG_W,PH_TOT,PH_TOT_FLAG_W,PH_TMP,DELC14,DELC14_FLAG_W,C14ERR,THETA
,,,,,,,,,,,METERS,,DBAR,ITS-90,PSS-78,,PSS-78,,UMOL/KG,,UMOL/KG,,UMOL/KG,,UMOL/KG,,UMOL/KG,,PMOL/KG,,PMOL/KG,,UMOL/KG,,UMOL/KG,,,,DEG C,/MILLE,,/MILLE,DEG C
  49K619940107,   P02,    36,  1,     24,     24,4,19940117,0027, 30.0145, 147.4117, 6217,  158.0000,     16.0,  21.3863,  34.9985,2,-999.0000,9,    227.8,2,   -999.0,9,  -999.00,9,  -999.00,9,  -999.00,9, -999.000,9, -999.000,9,   -999.0,9,   -999.0,9,-999.0000,9,  -999.00,   -999.0,9,   -999.0,  21.3832
  49K619940107,   P02,    36,  1,     23,     23,4,19940117,0027, 30.0145, 147.4117, 6217,  580.1000,     57.9,  21.3816,  34.9983,2,-999.0000,9,    226.1,2,   -999.0,9,  -999.00,9,  -999.00,9,  -999.00,9, -999.000,9, -999.000,9,   -999.0,9,   -999.0,9,-999.0000,9,  -999.00,   -999.0,9,   -999.0,  21.3704
  49K619940107,   P02,    36,  1,     22,     22,2,19940117,0027, 30.0145, 147.4117, 6217, 1073.6000,    106.9,  21.3613,  34.9949,3,  34.9902,2,    220.0,3,    222.3,2,     2.20,4,     0.00,4,     0.19,4,    2.047,2,    1.277,2,   1979.0,2,   2317.0,2,   8.0100,2,    25.00,   -999.0,9,   -999.0,  21.3406
  49K619940107,   P02,    36,  1,     21,     21,4,19940117,0027, 30.0145, 147.4117, 6217, 1577.6000,    157.0,  18.3442,  34.8651,2,-999.0000,9,    205.5,2,   -999.0,9,  -999.00,9,  -999.00,9,  -999.00,9, -999.000,9, -999.000,9,   -999.0,9,   -999.0,9,-999.0000,9,  -999.00,   -999.0,9,   -999.0,  18.3169
  49K619940107,   P02,    36,  1,     20,     20,4,19940117,0027, 30.0145, 147.4117, 6217, 2092.3000,    208.1,  17.5662,  34.8049,2,-999.0000,9,    210.0,2,   -999.0,9,  -999.00,9,  -999.00,9,  -999.00,9, -999.000,9, -999.000,9,   -999.0,9,   -999.0,9,-999.0000,9,  -999.00,   -999.0,9,   -999.0,  17.5311
  49K619940107,   P02,    36,  1,     19,     19,2,19940117,0027, 30.0145, 147.4117, 6217, 3084.8000,    306.8,  16.3695,  34.7312,3,  34.7587,2,    210.0,3,    206.3,2,     5.40,2,     4.81,2,     0.47,2,    2.379,2,    1.367,2,   2031.0,2,   2267.0,2,   7.9600,2,    25.00,   -999.0,9,   -999.0,  16.3201
  49K619940107,   P02,    36,  1,     18,     18,2,19940117,0027, 30.0145, 147.4117, 6217, 4118.8000,    409.6,  14.2193,  34.5537,3,  34.5680,2,    194.3,3,    190.6,2,    11.10,2,     9.43,2,     0.81,2,    2.229,2,    1.240,2,   2063.0,2,   2261.0,2,   7.8800,2,    25.00,   -999.0,9,   -999.0,  14.1593
  49K619940107,   P02,    36,  1,     17,     17,2,19940117,0027, 30.0145, 147.4117, 6217, 5088.8000,    506.1,  11.5605,  34.3936,2,  34.3962,2,    192.4,2,    192.5,2,    20.90,2,    14.44,6,     1.17,6,    2.049,2,    1.213,2,   2099.0,2,   2260.0,2,   7.8100,2,    25.00,   -999.0,9,   -999.0,  11.4956
  49K619940107,   P02,    36,  1,     16,     16,4,19940117,0027, 30.0145, 147.4117, 6217, 6110.3000,    607.8,   8.1382,  34.1113,2,-999.0000,9,    181.0,2,   -999.0,9,  -999.00,9,  -999.00,9,  -999.00,9,    2.058,2,    1.179,2,   2096.0,3,   2260.0,3,   7.8100,3,    25.00,   -999.0,9,   -999.0,   8.0752
  49K619940107,   P02,    36,  1,     15,     15,2,19940117,0027, 30.0145, 147.4117, 6217, 7104.5000,    706.9,   5.8544,  33.9939,3,  34.0042,2,    143.6,3,    145.9,2,    60.80,6,    29.19,6,     2.27,6,    1.771,2,    0.982,2,   2211.0,2,   2273.0,2,   7.5500,2,    25.00,   -999.0,9,   -999.0,   5.7930
  49K619940107,   P02,    36,  1,     14,     14,2,19940117,0027, 30.0145, 147.4117, 6217, 8090.7000,    805.2,   4.6631,  34.0238,3,  34.0168,2,    109.6,2,    110.9,2,    81.20,2,    34.23,2,     2.62,2,    1.395,2,    0.826,2,   2259.0,2,   2286.0,2,   7.4500,2,    25.00,   -999.0,9,   -999.0,   4.5999
  49K619940107,   P02,    36,  1,     13,     13,2,19940117,0027, 30.0145, 147.4117, 6217,10117.0000,   1007.2,   3.8873,  34.2593,2,  34.2602,2,     47.3,3,     50.1,2,   115.50,2,    39.86,2,     2.98,2,    0.209,2,    0.141,2,   2328.0,2,   2328.0,2,   7.3700,2,    25.00,   -999.0,9,   -999.0,   3.8123
  49K619940107,   P02,    36,  1,     12,     12,2,19940117,0027, 30.0145, 147.4117, 6217,12631.4000,   1258.2,   3.0450,  34.4033,2,  34.4009,2,     35.6,2,     37.1,2,   140.10,2,    42.12,2,     3.13,2,    0.035,2,    0.025,2,   2369.0,2,   2358.0,2,   7.3500,2,    25.00,   -999.0,9,   -999.0,   2.9568
  49K619940107,   P02,    36,  1,     11,     11,2,19940117,0027, 30.0145, 147.4117, 6217,15170.7000,   1511.9,   2.5647,  34.5046,3,  34.5094,2,     46.2,2,     47.0,2,   151.20,2,    41.92,2,     3.09,3,    0.013,2,    0.024,2,   2377.0,2,   2377.0,2,   7.3800,2,    25.00,   -999.0,9,   -999.0,   2.4611
  49K619940107,   P02,    36,  1,     10,     10,2,19940117,0027, 30.0145, 147.4117, 6217,17699.9000,   1764.8,   2.2016,  34.5618,2,  34.5626,2,     60.7,3,     63.5,2,   157.60,2,    40.73,2,     3.02,2,    0.008,2,    0.001,2,   2570.0,4,   2385.0,3,   7.4200,3,    25.00,   -999.0,9,   -999.0,   2.0819
  49K619940107,   P02,    36,  1,      9,      9,2,19940117,0027, 30.0145, 147.4117, 6217,20231.6000,   2018.1,   1.9842,  34.5961,2,  34.5959,2,     78.8,2,     76.6,2,   161.60,2,    40.10,2,     2.95,2,    0.006,2,    0.004,2,   2367.0,2,   2394.0,2,   7.4300,2,    25.00,   -999.0,9,   -999.0,   1.8466
  49K619940107,   P02,    36,  1,      8,      8,2,19940117,0027, 30.0145, 147.4117, 6217,25352.9000,   2531.0,   1.7226,  34.6402,2,  34.6389,2,    108.6,2,    107.6,2,   157.70,2,    38.30,2,     2.85,2,    0.003,2,    0.010,2,   2353.0,2,   2398.0,2,   7.4900,2,    25.00,   -999.0,9,   -999.0,   1.5447
  49K619940107,   P02,    36,  1,      7,      7,2,19940117,0027, 30.0145, 147.4117, 6217,30412.4000,   3038.1,   1.5814,  34.6637,2,  34.6640,2,    130.3,2,    130.4,2,   154.90,3,    36.88,6,     2.84,3,    0.001,2,    0.004,2,   2338.0,2,   2400.0,2,   7.5300,2,    25.00,   -999.0,9,   -999.0,   1.3592
  49K619940107,   P02,    36,  1,      6,      6,2,19940117,0027, 30.0145, 147.4117, 6217,35511.0000,   3549.2,   1.5275,  34.6746,2,  34.6748,2,    141.7,2,    141.4,2,   152.40,2,    35.92,2,     2.74,2,    0.001,2,    0.000,2,   2332.0,2,   2400.0,2,   7.5500,2,    25.00,   -999.0,9,   -999.0,   1.2556
  49K619940107,   P02,    36,  1,      5,      5,2,19940117,0027, 30.0145, 147.4117, 6217,40684.5000,   4067.7,   1.4994,  34.6818,2,  34.6830,2,    149.6,2,    149.6,2,   150.60,2,    34.80,2,     2.59,2,    0.000,2,    0.004,2,   2326.0,2,   2404.0,4,   7.5600,2,    25.00,   -999.0,9,   -999.0,   1.1731
  49K619940107,   P02,    36,  1,      4,      4,2,19940117,0027, 30.0145, 147.4117, 6217,45816.5000,   4581.7,   1.5014,  34.6875,3,  34.6908,2,    156.6,2,    156.3,2,   148.30,2,    33.87,2,     2.51,2,    0.000,2,    0.002,2,   2320.0,2,   2397.0,2,   7.5700,2,    25.00,   -999.0,9,   -999.0,   1.1168
  49K619940107,   P02,    36,  1,      3,      3,2,19940117,0027, 30.0145, 147.4117, 6217,50922.1000,   5092.5,   1.5194,  34.6915,2,  34.6929,2,    163.1,2,    162.6,2,   143.10,2,    33.88,2,     2.53,2,    0.000,2,    0.000,2,   2315.0,2,   2394.0,2,   7.5800,2,    25.00,   -999.0,9,   -999.0,   1.0731
  49K619940107,   P02,    36,  1,      2,      2,2,19940117,0027, 30.0145, 147.4117, 6217,56122.5000,   5611.9,   1.5578,  34.6944,2,  34.6918,2,    168.1,2,    166.9,2,   134.00,2,    33.60,2,     2.47,2,    0.003,2,    0.007,2,   2314.0,2,   2394.0,2,   7.5800,2,    25.00,   -999.0,9,   -999.0,   1.0446
  49K619940107,   P02,    36,  1,      1,      1,2,19940117,0027, 30.0145, 147.4117, 6217,61293.2000,   6127.2,   1.6122,  34.6967,2,  34.6957,2,    171.0,2,    170.1,2,   139.10,3,    33.67,6,     2.44,3,    0.000,2,    0.000,2,   2311.0,2,   2389.0,2,   7.5900,2,    25.00,   -999.0,9,   -999.0,   1.0287
  49K619940107,   P02,    37,  1,     24,     24,2,19940117,0920, 30.0052, 148.5892, 6120,  300.5000,     30.2,  20.9283,  34.9886,3,  35.0111,2,    227.6,3,    221.8,2,     2.00,2,     0.00,2,     0.16,2,    3.843,3,    1.217,2,   1972.0,2,   2288.0,2,   8.0700,2,    25.00,   -999.0,9,   -999.0,  20.9225
  49K619940107,   P02,    37,  1,     23,     23,2,19940117,0920, 30.0052, 148.5892, 6120,  686.1000,     68.5,  20.4615,  34.9360,3,  34.9550,2,    229.3,3,    222.6,2,     2.20,2,     0.00,2,     0.15,2,    2.155,2,    1.237,2,   1974.0,2,   2286.0,2,   8.0700,2,    25.00,   -999.0,9,   -999.0,  20.4487
  49K619940107,   P02,    37,  1,     22,     22,2,19940117,0920, 30.0052, 148.5892, 6120, 1135.1000,    113.1,  20.1587,  34.9000,3,  34.8960,2,    227.0,3,    223.8,2,     2.10,2,     0.00,2,     0.20,2,    2.200,2,    1.279,2,   1975.0,2,   2282.0,2,   8.0600,2,    25.00,   -999.0,9,   -999.0,  20.1377
  49K619940107,   P02,    37,  1,     21,     21,2,19940117,0920, 30.0052, 148.5892, 6120, 1647.4000,    164.0,  18.3015,  34.8463,3,  34.8516,2,    204.9,2,    206.8,2,     3.30,2,     1.24,2,     0.35,2,    2.302,2,    1.297,2,   2006.0,2,   2279.0,2,   8.0100,2,    25.00,   -999.0,9,   -999.0,  18.2731
  49K619940107,   P02,    37,  1,     20,     20,2,19940117,0920, 30.0052, 148.5892, 6120, 2111.6000,    210.1,  17.6044,  34.8160,3,  34.8210,2,    211.2,2,    209.5,2,     3.70,2,     1.95,2,     0.40,2,    2.390,2,    1.358,2,   2012.0,2,   2277.0,2,   7.9900,2,    25.00,   -999.0,9,   -999.0,  17.5689
  49K619940107,   P02,    37,  1,     19,     19,2,19940117,0920, 30.0052, 148.5892, 6120, 3143.9000,    312.7,  16.7092,  34.7598,3,  34.7666,2,    202.8,3,    205.3,2,     5.40,2,     3.61,2,     0.53,2,    2.368,2,    1.328,2,   2026.0,2,   2275.0,2,   7.9700,2,    25.00,   -999.0,9,   -999.0,  16.6581
  49K619940107,   P02,    37,  1,     18,     18,2,19940117,0920, 30.0052, 148.5892, 6120, 4153.9000,    413.2,  15.0063,  34.6304,3,  34.6387,2,    187.1,3,    191.9,2,    10.00,2,     7.54,2,     0.78,2,    2.212,2,    1.242,2,   2054.0,2,   2272.0,2,   7.9100,2,    25.00,   -999.0,9,   -999.0,  14.9435
  49K619940107,   P02,    37,  1,     17,     17,2,19940117,0920, 30.0052, 148.5892, 6120, 5166.9000,    514.0,  12.4162,  34.4524,3,  34.4694,2,    180.1,3,    185.5,2,    17.30,3,    12.00,3,     1.09,3,    2.018,2,    1.120,2,   2087.0,2,   2271.0,2,   7.8400,2,    25.00,   -999.0,9,   -999.0,  12.3471
  49K619940107,   P02,    37,  1,     16,     16,2,19940117,0920, 30.0052, 148.5892, 6120, 6123.9000,    609.3,   9.1263,  34.2203,3,  34.1995,2,    188.0,3,    183.9,2,    31.20,2,    17.07,2,     1.50,2,    2.132,2,    1.188,2,   2133.0,2,   2275.0,2,   7.7400,2,    25.00,   -999.0,9,   -999.0,   9.0587
  49K619940107,   P02,    37,  1,     15,     15,2,19940117,0920, 30.0052, 148.5892, 6120, 7140.1000,    710.5,   6.1736,  34.0032,3,  34.0137,2,    155.4,2,    156.6,2,    53.30,3,    25.61,6,     2.11,3,    1.872,2,    1.000,2,   2199.0,2,   2282.0,2,   7.5900,2,    25.00,   -999.0,9,   -999.0,   6.1101
  49K619940107,   P02,    37,  1,     14,     14,2,19940117,0920, 30.0052, 148.5892, 6120, 8133.8000,    809.6,   4.9805,  33.9603,3,  34.0257,2,    117.9,2,    116.7,2,    74.20,4,    31.55,4,     2.43,4,    1.395,2,    0.735,2,   2250.0,2,   2297.0,2,   7.4800,2,    25.00,   -999.0,9,   -999.0,   4.9149
  49K619940107,   P02,    37,  1,     13,     13,2,19940117,0920, 30.0052, 148.5892, 6120,10188.7000,   1014.5,   3.9384,  34.2510,3,  34.2465,2,     53.9,2,     54.7,2,   110.80,2,    39.30,3,     2.93,2,    0.277,2,    0.175,2,   2327.0,2,   2333.0,2,   7.3700,2,    25.00,   -999.0,9,   -999.0,   3.8624
  49K619940107,   P02,    37,  1,     12,     12,2,19940117,0920, 30.0052, 148.5892, 6120,12671.5000,   1262.3,   3.0848,  34.3968,2,  34.3951,2,     35.1,2,     34.9,2,   136.70,2,    41.44,3,     3.13,2,    0.031,2,    0.018,2,   2368.0,2,   2366.0,2,   7.3500,2,    25.00,   -999.0,9,   -999.0,   2.9959
  49K619940107,   P02,    37,  1,     11,     11,2,19940117,0920, 30.0052, 148.5892, 6120,15203.6000,   1515.3,   2.5518,  34.4854,2,  34.4839,2,     41.3,2,     41.5,2,   150.90,2,    41.77,3,     3.13,2,    0.020,2,    0.018,2,   2381.0,2,   2381.0,2,   7.3600,2,    25.00,   -999.0,9,   -999.0,   2.4481
  49K619940107,   P02,    37,  1,     10,     10,2,19940117,0920, 30.0052, 148.5892, 6120,17742.4000,   1769.2,   2.2234,  34.5470,2,  34.5457,2,     53.6,2,     53.0,2,   158.40,2,    40.93,3,     3.06,2,    0.015,2,    0.000,2,   2382.0,2,   2394.0,2,   7.3900,2,    25.00,   -999.0,9,   -999.0,   2.1031
  49K619940107,   P02,    37,  1,      9,      9,2,19940117,0920, 30.0052, 148.5892, 6120,20272.3000,   2022.3,   1.9669,  34.5941,2,  34.5955,2,     75.5,2,     74.6,2,   161.20,3,    39.81,3,     2.96,2,    0.001,2,    0.000,2,   2374.0,2,   2403.0,2,   7.4300,2,    25.00,   -999.0,9,   -999.0,   1.8292
  49K619940107,   P02,    37,  1,      8,      8,2,19940117,0920, 30.0052, 148.5892, 6120,25356.4000,   2531.5,   1.7047,  34.6443,2,  34.6444,2,    114.8,2,    114.2,2,   155.80,2,    37.82,3,     2.78,2,    0.000,2,    0.008,2,   2352.0,2,   2404.0,2,   7.5000,2,    25.00,   -999.0,9,   -999.0,   1.5271
  49K619940107,   P02,    37,  1,      7,      7,2,19940117,0920, 30.0052, 148.5892, 6120,30450.1000,   3042.0,   1.5820,  34.6631,2,  34.6639,2,    131.0,2,    130.5,2,   150.60,2,    36.57,3,     2.70,2,    0.001,2,    0.000,2,   2344.0,2,   2408.0,2,   7.5300,2,    25.00,   -999.0,9,   -999.0,   1.3594
  49K619940107,   P02,    37,  1,      6,      6,2,19940117,0920, 30.0052, 148.5892, 6120,35555.6000,   3553.7,   1.5195,  34.6750,2,  34.6749,2,    141.4,2,    141.5,2,   149.50,2,    35.53,3,     2.65,2,    0.001,2,    0.005,2,   2336.0,2,   2408.0,2,   7.5500,2,    25.00,   -999.0,9,   -999.0,   1.2473
  49K619940107,   P02,    37,  1,      5,      5,2,19940117,0920, 30.0052, 148.5892, 6120,40660.4000,   4065.4,   1.4904,  34.6837,2,  34.6840,2,    151.6,3,    154.9,2,   144.50,2,    34.73,3,     2.61,2,    0.000,2,    0.000,2,   -999.0,9,   2406.0,2,   7.5700,2,    25.00,   -999.0,9,   -999.0,   1.1646
  49K619940107,   P02,    37,  1,      4,      4,2,19940117,0920, 30.0052, 148.5892, 6120,45791.0000,   4579.2,   1.4923,  34.6884,2,  34.6889,2,    158.5,2,    159.9,2,   141.20,3,    34.09,3,     2.54,6,    0.003,2,    0.000,2,   2323.0,2,   2406.0,2,   7.5700,2,    25.00,   -999.0,9,   -999.0,   1.1083
  49K619940107,   P02,    37,  1,      3,      3,2,19940117,0920, 30.0052, 148.5892, 6120,50922.1000,   5092.6,   1.5153,  34.6918,2,  34.6923,2,    164.3,2,    165.4,2,   139.20,2,    33.86,3,     2.50,2,    0.000,2,    0.002,2,   2320.0,2,   2402.0,2,   7.5800,2,    25.00,   -999.0,9,   -999.0,   1.0691
  49K619940107,   P02,    37,  1,      2,      2,2,19940117,0920, 30.0052, 148.5892, 6120,56105.6000,   5610.3,   1.5578,  34.6949,2,  34.6946,2,    168.5,2,    168.9,2,   138.00,2,    33.49,3,     2.52,2,    0.002,2,    0.001,2,   2309.0,2,   2400.0,2,   7.5800,2,    25.00,   -999.0,9,   -999.0,   1.0448
  49K619940107,   P02,    37,  1,      1,      1,3,19940117,0920, 30.0052, 148.5892, 6120,61320.9000,   6130.1,   1.6114,  34.6965,3,  34.6888,2,    171.9,2,   -999.0,9,  -999.00,9,  -999.00,9,  -999.00,9,    0.001,2,    0.001,2,   2310.0,2,   2398.0,2,   7.5900,2,    25.00,   -999.0,9,   -999.0,   1.0276