BOTTLE,20220810CCHSIOAMB
EXPOCODE,SECT_ID,STNNBR,CASTNO,SAMPNO,BTLNBR,BTLNBR_FLAG_W,DATE,TIME,LATITUDE,LONGITUDE,DEPTH,CTDRAW,CTDPRS,CTDTMP,CTDSAL,CTDSAL_FLAG_W,SALNTY,SALNTY_FLAG_W,CTDOXY,CTDOXY_FLAG_W,OXYGEN,OXYGEN_FLAG_W,SILCAT,SILCAT_FLAG_W,NITRAT,NITRAT_FLAG_W,PHSPHT,PHSPHT_FLAG_W,CFC-11,CFC-11_FLAG_W,CFC-12,CFC-12_FLAG_W,TCARBN,TCARBN_FLAG_W,ALKALI,ALKALI_FLAG_W,PH_TOT,PH_TOT_FLAG_W,PH_TMP,DELC14,DELC14_FLAG_W,C14ERR,THETA
,,,,,,,,,,,METERS,,DBAR,ITS-90,PSS-78,,PSS-78,,UMOL/KG,,UMOL/KG,,UMOL/KG,,UMOL/KG,,UMOL/KG,,PMOL/KG,,PMOL/KG,,UMOL/KG,,UMOL/KG,,,,DEG C,/MILLE,,/MILLE,DEG C
  49K619940107,   P02,    49,  1,     24,     24,2,19940122,1123, 29.9993, 165.8807, 5882,  219.2000,     22.1,  19.2172,  34.9831,3,  34.9748,2,    227.1,3,    230.8,2,     2.80,2,     0.00,2,     0.19,2,    2.484,2,    1.339,2,   -999.0,9,   -999.0,9,   8.0400,2,    25.00,   -999.0,9,   -999.0,  19.2132
  49K619940107,   P02,    49,  1,     23,     23,4,19940122,1123, 29.9993, 165.8807, 5882,  605.8000,     60.4,  19.1493,  34.9835,2,-999.0000,9,    224.3,2,   -999.0,9,  -999.00,9,  -999.00,9,  -999.00,9, -999.000,9, -999.000,9,   -999.0,9,   -999.0,9,-999.0000,9,  -999.00,   -999.0,9,   -999.0,  19.1385
  49K619940107,   P02,    49,  1,     22,     22,2,19940122,1123, 29.9993, 165.8807, 5882, 1116.0000,    111.1,  18.8822,  34.9605,3,  34.9560,2,    224.9,3,    228.0,2,     3.00,2,     0.02,2,     0.21,2,    2.453,2,    1.353,2,   1998.0,2,   2293.0,2,   8.0400,2,    25.00,   -999.0,9,   -999.0,  18.8625
  49K619940107,   P02,    49,  1,     21,     21,4,19940122,1123, 29.9993, 165.8807, 5882, 1586.4000,    157.8,  16.8909,  34.7738,2,-999.0000,9,    214.5,2,   -999.0,9,  -999.00,9,  -999.00,9,  -999.00,9,    2.452,2,    1.340,2,   1997.0,2,   2292.0,2,   8.0400,2,    25.00,   -999.0,9,   -999.0,  16.8650
  49K619940107,   P02,    49,  1,     20,     20,2,19940122,1123, 29.9993, 165.8807, 5882, 2135.6000,    212.4,  15.7581,  34.6754,3,  34.7019,2,    211.4,3,    205.2,2,     7.00,2,     5.72,2,     0.61,2,    2.529,2,    1.369,2,   2043.0,2,   2277.0,2,   7.9400,2,    25.00,   -999.0,9,   -999.0,  15.7249
  49K619940107,   P02,    49,  1,     19,     19,2,19940122,1123, 29.9993, 165.8807, 5882, 3150.6000,    313.3,  13.0914,  34.4716,3,  34.4931,2,    216.0,3,    208.9,2,    12.20,2,     9.19,2,     0.87,2,    2.675,2,    1.388,2,   2067.0,2,   2270.0,2,   7.8800,2,    25.00,   -999.0,9,   -999.0,  13.0481
  49K619940107,   P02,    49,  1,     18,     18,2,19940122,1123, 29.9993, 165.8807, 5882, 4124.9000,    410.2,  11.2698,  34.3237,3,  34.3504,2,    223.7,3,    216.3,2,    16.70,6,    11.64,6,     1.05,6,    2.891,2,    1.477,2,   2086.0,2,   2267.0,2,   7.8400,2,    25.00,   -999.0,9,   -999.0,  11.2183
  49K619940107,   P02,    49,  1,     17,     17,2,19940122,1123, 29.9993, 165.8807, 5882, 5108.4000,    508.1,   8.4579,  34.1346,3,  34.1310,2,    204.8,3,    193.0,2,    30.90,2,    18.82,2,     1.57,2,    2.610,2,    1.344,2,   2138.0,2,   2269.0,2,   7.7200,2,    25.00,   -999.0,9,   -999.0,   8.4044
  49K619940107,   P02,    49,  1,     16,     16,2,19940122,1123, 29.9993, 165.8807, 5882, 6108.5000,    607.7,   6.6497,  34.0278,2,  34.0273,2,    163.2,3,    157.9,2,    49.60,2,    26.02,2,     2.09,2,    1.968,2,    1.028,2,   2193.0,2,   2278.0,2,   7.6000,2,    25.00,   -999.0,9,   -999.0,   6.5936
  49K619940107,   P02,    49,  1,     15,     15,2,19940122,1123, 29.9993, 165.8807, 5882, 7137.4000,    710.2,   4.8498,  34.0308,3,  34.0246,2,    117.4,2,    115.7,2,    75.40,6,    32.61,6,     2.59,6,    1.423,2,    0.762,2,   2255.0,2,   2296.0,2,   7.4700,2,    25.00,   -999.0,9,   -999.0,   4.7935
  49K619940107,   P02,    49,  1,     14,     14,2,19940122,1123, 29.9993, 165.8807, 5882, 8144.8000,    810.6,   4.3699,  34.1530,3,  34.1327,2,     73.7,3,     76.1,2,    95.20,2,    36.67,2,     2.85,2,    0.670,2,    0.397,2,   2296.0,2,   2315.0,2,   7.4000,2,    25.00,   -133.4,2,      7.0,   4.3079
  49K619940107,   P02,    49,  1,     13,     13,2,19940122,1123, 29.9993, 165.8807, 5882,10176.8000,   1013.2,   3.5382,  34.3081,3,  34.3014,2,     44.0,2,     43.7,2,   124.10,2,    40.09,2,     3.12,2,    0.135,2,    0.099,2,   2337.0,2,   2348.0,3,   7.3600,2,    25.00,   -176.9,2,      7.0,   3.4654
  49K619940107,   P02,    49,  1,     12,     12,2,19940122,1123, 29.9993, 165.8807, 5882,12717.6000,   1266.8,   2.8415,  34.4323,3,  34.4252,2,     39.3,2,     37.4,2,   144.90,2,    41.32,2,     3.17,2,    0.036,2,    0.018,2,   2378.0,2,   2373.0,2,   7.3500,2,    25.00,   -204.0,2,      7.0,   2.7546
  49K619940107,   P02,    49,  1,     11,     11,2,19940122,1123, 29.9993, 165.8807, 5882,15234.3000,   1518.3,   2.4165,  34.5074,2,  34.5062,2,     39.2,2,     38.2,2,   161.60,2,    41.78,2,     3.18,2,    0.010,2,    0.008,2,   2389.0,2,   2387.0,2,   7.3600,2,    25.00,   -225.5,2,      7.0,   2.3141
  49K619940107,   P02,    49,  1,     10,     10,2,19940122,1123, 29.9993, 165.8807, 5882,17745.0000,   1769.3,   2.1123,  34.5651,2,  34.5629,2,     56.1,2,     55.5,2,   165.80,2,    40.74,2,     3.10,2,    0.007,2,    0.006,2,   2383.0,2,   2392.0,2,   7.3900,2,    25.00,   -999.0,9,   -999.0,   1.9935
  49K619940107,   P02,    49,  1,      9,      9,2,19940122,1123, 29.9993, 165.8807, 5882,20288.5000,   2023.8,   1.8977,  34.6034,2,  34.6015,2,     75.9,2,     75.5,2,   167.20,2,    39.39,2,     3.01,2,    0.002,2,    0.002,2,   2376.0,2,   2403.0,2,   7.4300,2,    25.00,   -999.0,9,   -999.0,   1.7609
  49K619940107,   P02,    49,  1,      8,      8,2,19940122,1123, 29.9993, 165.8807, 5882,25389.3000,   2534.7,   1.6586,  34.6472,2,  34.6462,2,    111.8,2,    111.7,2,   161.70,2,    37.23,2,     2.84,2,    0.000,2,    0.000,2,   2372.0,3,   2405.0,2,   7.4900,2,    25.00,   -999.0,9,   -999.0,   1.4816
  49K619940107,   P02,    49,  1,      7,      7,2,19940122,1123, 29.9993, 165.8807, 5882,30473.5000,   3044.2,   1.5399,  34.6673,2,  34.6656,2,    130.4,2,    130.5,2,   157.50,2,    36.00,2,     2.73,2,    0.002,2,    0.006,2,   2344.0,2,   2406.0,2,   7.5300,2,    25.00,   -999.0,9,   -999.0,   1.3180
  49K619940107,   P02,    49,  1,      6,      6,2,19940122,1123, 29.9993, 165.8807, 5882,35580.9000,   3556.2,   1.4824,  34.6780,2,  34.6765,2,    142.5,3,    144.8,2,   151.90,2,    35.09,2,     2.67,2,    0.003,2,    0.004,2,   2334.0,2,   2405.0,2,   7.5500,2,    25.00,   -999.0,9,   -999.0,   1.2109
  49K619940107,   P02,    49,  1,      5,      5,2,19940122,1123, 29.9993, 165.8807, 5882,40682.5000,   4067.5,   1.4624,  34.6855,2,  34.6837,2,    152.3,3,    154.9,2,   149.40,2,    34.35,2,     2.61,2,    0.000,2,    0.000,2,   2326.0,2,   2401.0,2,   7.5700,2,    25.00,   -999.0,9,   -999.0,   1.1371
  49K619940107,   P02,    49,  1,      4,      4,2,19940122,1123, 29.9993, 165.8807, 5882,45810.8000,   4581.1,   1.4644,  34.6902,2,  34.6885,2,    160.1,3,    164.0,2,   145.50,6,    33.73,6,     2.58,6,    0.001,2,    0.000,2,   2322.0,2,   2400.0,2,   7.5800,2,    25.00,   -999.0,9,   -999.0,   1.0811
  49K619940107,   P02,    49,  1,      3,      3,2,19940122,1123, 29.9993, 165.8807, 5882,50942.5000,   5094.5,   1.4828,  34.6948,2,  34.6933,2,    168.3,2,    167.9,2,   140.10,2,    33.22,2,     2.54,2,    0.000,2,    0.000,2,   2312.0,2,   2397.0,2,   7.5900,2,    25.00,   -999.0,9,   -999.0,   1.0375
  49K619940107,   P02,    49,  1,      2,      2,2,19940122,1123, 29.9993, 165.8807, 5882,56087.1000,   5608.3,   1.5145,  34.6973,2,  34.6961,2,    173.7,2,    172.2,2,   138.40,2,    32.87,2,     2.51,2,    0.000,2,    0.000,2,   2307.0,2,   2394.0,2,   7.5900,2,    25.00,   -999.0,9,   -999.0,   1.0033
  49K619940107,   P02,    49,  1,      1,      1,2,19940122,1123, 29.9993, 165.8807, 5882,59625.4000,   5961.1,   1.5513,  34.6979,2,  34.6987,2,    176.5,2,    176.5,2,   135.30,6,    32.61,6,     2.50,6,    0.002,2,    0.001,2,   2303.0,2,   2391.0,2,   7.5900,2,    25.00,   -999.0,9,   -999.0,   0.9924
  49K619940107,   P02,    50,  1,     24,     24,2,19940122,2228, 30.0137, 167.6723, 5981,  246.0000,     24.9,  19.9754,  35.0803,3,  35.0731,2,    224.6,3,    228.3,2,     2.60,2,     0.00,3,     0.20,3,    2.236,2,    1.309,2,   -999.0,9,   -999.0,9,-999.0000,9,  -999.00,   -999.0,9,   -999.0,  19.9708
  49K619940107,   P02,    50,  1,     23,     23,2,19940122,2228, 30.0137, 167.6723, 5981,  679.6000,     68.0,  19.6211,  35.0550,3,  35.0464,2,    223.7,3,   -392.2,4,     2.60,2,     0.00,3,     0.27,3,    2.209,2,    1.294,2,   1994.0,2,   2287.0,2,   8.0600,2,    25.00,   -999.0,9,   -999.0,  19.6087
  49K619940107,   P02,    50,  1,     22,     22,2,19940122,2228, 30.0137, 167.6723, 5981, 1123.3000,    112.0,  19.5075,  35.0526,2,  35.0533,2,    222.7,3,    226.3,2,     2.70,2,     0.00,3,     0.19,3,    2.241,2,    1.314,2,   1997.0,2,   2289.0,2,   8.0500,2,    25.00,   -999.0,9,   -999.0,  19.4872
  49K619940107,   P02,    50,  1,     21,     21,2,19940122,2228, 30.0137, 167.6723, 5981, 1616.7000,    161.0,  17.7828,  34.8517,3,  34.8931,2,    207.7,3,    218.6,2,     3.60,2,     0.00,3,     0.33,3,    2.358,2,    1.347,2,   2006.0,2,   2277.0,2,   8.0100,2,    25.00,   -999.0,9,   -999.0,  17.7554
  49K619940107,   P02,    50,  1,     20,     20,2,19940122,2228, 30.0137, 167.6723, 5981, 2072.2000,    206.3,  16.6269,  34.7568,3,  34.7599,2,    211.2,3,    216.9,2,     5.00,2,     1.81,3,     0.49,3,    2.486,2,    1.403,2,   2022.0,2,   2269.0,2,   7.9700,2,    25.00,   -999.0,9,   -999.0,  16.5934
  49K619940107,   P02,    50,  1,     19,     19,2,19940122,2228, 30.0137, 167.6723, 5981, 3092.3000,    307.7,  14.6530,  34.5786,3,  34.5932,2,    206.2,2,    207.8,2,     8.80,6,     5.23,3,     0.75,3,    2.428,2,    1.373,2,   2051.0,2,   2263.0,2,   7.9100,2,    25.00,   -999.0,9,   -999.0,  14.6071
  49K619940107,   P02,    50,  1,     18,     18,2,19940122,2228, 30.0137, 167.6723, 5981, 4082.1000,    406.2,  12.5053,  34.4097,3,  34.4216,2,    214.5,3,    210.4,2,    13.80,6,     8.30,3,     1.00,3,    2.544,2,    1.399,2,   2071.0,2,   2260.0,2,   7.8600,2,    25.00,   -999.0,9,   -999.0,  12.4507
  49K619940107,   P02,    50,  1,     17,     17,2,19940122,2228, 30.0137, 167.6723, 5981, 5109.2000,    508.4,  10.2705,  34.2437,3,  34.2564,2,    199.7,2,    201.4,2,    21.70,2,    12.57,3,     1.35,3,    2.405,2,    1.267,2,   2106.0,2,   2259.0,2,   7.7800,2,    25.00,   -999.0,9,   -999.0,  10.2101
  49K619940107,   P02,    50,  1,     16,     16,4,19940122,2228, 30.0137, 167.6723, 5981, 6123.8000,    609.4,   7.8036,  34.0804,2,-999.0000,9,    179.5,2,   -999.0,9,  -999.00,9,  -999.00,9,  -999.00,9, -999.000,9, -999.000,9,   -999.0,9,   -999.0,9,-999.0000,9,  -999.00,   -999.0,9,   -999.0,   7.7420
  49K619940107,   P02,    50,  1,     15,     15,2,19940122,2228, 30.0137, 167.6723, 5981, 7119.0000,    708.5,   5.6075,  34.0174,3,  34.0274,2,    133.7,3,    129.7,2,    62.90,6,    28.17,3,     2.50,3,    1.278,2,    0.724,2,   2227.0,2,   2282.0,2,   7.5200,2,    25.00,   -999.0,9,   -999.0,   5.5472
  49K619940107,   P02,    50,  1,     14,     14,2,19940122,2228, 30.0137, 167.6723, 5981, 8158.6000,    812.1,   4.8233,  34.0962,2,  34.0978,2,     89.8,3,     83.6,2,    84.40,2,    33.84,3,     2.89,3,    0.564,2,    0.360,2,   2284.0,2,   2302.0,2,   7.4200,2,    25.00,   -999.0,9,   -999.0,   4.7584
  49K619940107,   P02,    50,  1,     13,     13,2,19940122,2228, 30.0137, 167.6723, 5981,10117.8000,   1007.5,   3.7689,  34.2661,2,  34.2648,2,     42.1,2,     42.0,2,   118.20,2,    40.48,3,     3.23,3,    0.114,2,    0.091,2,   2340.0,2,   2355.0,3,   7.3500,2,    25.00,   -999.0,9,   -999.0,   3.6948
  49K619940107,   P02,    50,  1,     12,     12,2,19940122,2228, 30.0137, 167.6723, 5981,12662.0000,   1261.5,   3.0198,  34.4169,2,  34.4142,2,     31.1,2,     29.0,2,   157.50,2,    41.87,3,     3.30,3,    0.022,2,    0.047,2,   2379.0,2,   2369.0,2,   7.3400,2,    25.00,   -999.0,9,   -999.0,   2.9316
  49K619940107,   P02,    50,  1,     11,     11,2,19940122,2228, 30.0137, 167.6723, 5981,15219.3000,   1517.0,   2.4792,  34.5032,3,  34.4982,2,     39.2,2,     38.2,2,   162.40,3,    42.10,3,     3.32,3,    0.014,2,    0.002,2,   2389.0,2,   2385.0,2,   7.3600,2,    25.00,   -999.0,9,   -999.0,   2.3762
  49K619940107,   P02,    50,  1,     10,     10,2,19940122,2228, 30.0137, 167.6723, 5981,17731.4000,   1768.2,   2.1407,  34.5597,3,  34.5562,2,     58.1,3,     55.5,2,   167.40,2,    41.30,3,     3.21,3,    0.003,2,    0.006,2,   2385.0,2,   2394.0,2,   7.3900,2,    25.00,   -999.0,9,   -999.0,   2.0216
  49K619940107,   P02,    50,  1,      9,      9,2,19940122,2228, 30.0137, 167.6723, 5981,20254.4000,   2020.6,   1.9126,  34.6046,2,  34.6021,2,     81.8,2,     79.6,2,   164.60,2,    40.05,3,     3.08,3,    0.003,2,    0.000,2,   2377.0,2,   2401.0,2,   7.4400,2,    25.00,   -999.0,9,   -999.0,   1.7758
  49K619940107,   P02,    50,  1,      8,      8,2,19940122,2228, 30.0137, 167.6723, 5981,25349.9000,   2530.9,   1.6406,  34.6465,2,  34.6448,2,    111.4,3,    114.2,2,   163.10,2,    37.67,3,     2.93,3,    0.001,2,    0.002,2,   2361.0,2,   2405.0,2,   7.4900,2,    25.00,   -999.0,9,   -999.0,   1.4643
  49K619940107,   P02,    50,  1,      7,      7,2,19940122,2228, 30.0137, 167.6723, 5981,30440.4000,   3041.1,   1.5354,  34.6662,2,  34.6653,2,    131.2,2,    130.5,2,   157.80,2,    36.12,3,     2.77,3,    0.002,2,    0.002,2,   2344.0,2,   2407.0,2,   7.5300,2,    25.00,   -999.0,9,   -999.0,   1.3139
  49K619940107,   P02,    50,  1,      6,      6,2,19940122,2228, 30.0137, 167.6723, 5981,35521.7000,   3550.4,   1.4824,  34.6777,2,  34.6762,2,    143.1,2,    143.2,2,   153.80,2,    35.49,3,     2.70,3,    0.001,2,    0.000,2,   2340.0,2,   2406.0,2,   7.5500,2,    25.00,   -999.0,9,   -999.0,   1.2115
  49K619940107,   P02,    50,  1,      5,      5,2,19940122,2228, 30.0137, 167.6723, 5981,40678.7000,   4067.3,   1.4589,  34.6845,2,  34.6840,2,    152.6,2,    153.2,2,   151.60,2,    34.64,3,     2.65,3,    0.000,2,    0.000,2,   2332.0,2,   2404.0,2,   7.5700,2,    25.00,   -999.0,9,   -999.0,   1.1338
  49K619940107,   P02,    50,  1,      4,      4,2,19940122,2228, 30.0137, 167.6723, 5981,45800.3000,   4580.3,   1.4600,  34.6903,2,  34.6887,2,    161.3,2,    161.5,2,   146.60,6,    34.00,3,     2.59,3,    0.000,2,    0.001,2,   2325.0,2,   2402.0,2,   7.5800,2,    25.00,   -999.0,9,   -999.0,   1.0769
  49K619940107,   P02,    50,  1,      3,      3,2,19940122,2228, 30.0137, 167.6723, 5981,50948.0000,   5095.2,   1.4670,  34.6940,2,  34.6932,2,    170.4,3,    166.3,2,   141.70,2,    33.49,3,     2.54,3,    0.000,2,    0.000,2,   2318.0,2,   2395.0,2,   7.5900,2,    25.00,   -999.0,9,   -999.0,   1.0221
  49K619940107,   P02,    50,  1,      2,      2,2,19940122,2228, 30.0137, 167.6723, 5981,56101.3000,   5610.0,   1.4932,  34.6982,2,  34.6961,2,    177.5,2,    176.3,2,   135.40,2,    33.29,3,     2.49,3,    0.000,2,    0.000,2,   2308.0,2,   2394.0,2,   7.5900,2,    25.00,   -999.0,9,   -999.0,   0.9826
  49K619940107,   P02,    50,  1,      1,      1,2,19940122,2228, 30.0137, 167.6723, 5981,60848.6000,   6083.2,   1.5390,  34.7004,2,  34.6977,2,    180.1,2,    179.0,2,   132.80,6,    33.19,3,     2.46,3,    0.001,2,    0.000,2,   2300.0,2,   2388.0,2,   7.6000,2,    25.00,   -999.0,9,   -999.0,   0.9643