BOTTLE,20220810CCHSIOAMB
EXPOCODE,SECT_ID,STNNBR,CASTNO,SAMPNO,BTLNBR,BTLNBR_FLAG_W,DATE,TIME,LATITUDE,LONGITUDE,DEPTH,CTDRAW,CTDPRS,CTDTMP,CTDSAL,CTDSAL_FLAG_W,SALNTY,SALNTY_FLAG_W,CTDOXY,CTDOXY_FLAG_W,OXYGEN,OXYGEN_FLAG_W,SILCAT,SILCAT_FLAG_W,NITRAT,NITRAT_FLAG_W,PHSPHT,PHSPHT_FLAG_W,CFC-11,CFC-11_FLAG_W,CFC-12,CFC-12_FLAG_W,TCARBN,TCARBN_FLAG_W,ALKALI,ALKALI_FLAG_W,PH_TOT,PH_TOT_FLAG_W,PH_TMP,DELC14,DELC14_FLAG_W,C14ERR,THETA
,,,,,,,,,,,METERS,,DBAR,ITS-90,PSS-78,,PSS-78,,UMOL/KG,,UMOL/KG,,UMOL/KG,,UMOL/KG,,UMOL/KG,,PMOL/KG,,PMOL/KG,,UMOL/KG,,UMOL/KG,,,,DEG C,/MILLE,,/MILLE,DEG C
  49K619940107,   P02,    72,  1,     24,     24,2,19940203,1506, 29.9962,-146.6682, 5019,  232.0000,     23.0,  18.4315,  35.0420,2,  35.0437,2,    242.9,3,    235.8,2,     3.20,2,     0.16,2,     0.13,2,    2.669,2,    1.334,2,   2018.0,2,   2290.0,2,   8.0200,2,    25.00,   -999.0,9,   -999.0,  18.4275
  49K619940107,   P02,    72,  1,     23,     23,4,19940203,1506, 29.9962,-146.6682, 5019,  589.4000,     58.5,  18.4218,  35.0450,2,-999.0000,9,    231.0,2,   -999.0,9,  -999.00,9,  -999.00,9,  -999.00,9,    2.631,2,    1.343,2,   2019.0,2,   2290.0,2,   8.0200,2,    25.00,   -999.0,9,   -999.0,  18.4116
  49K619940107,   P02,    72,  1,     22,     22,2,19940203,1506, 29.9962,-146.6682, 5019, 1130.8000,    112.3,  18.4865,  35.0824,3,  35.0715,2,    225.8,3,    234.6,2,     3.10,2,     0.15,2,     0.14,2,    2.562,2,    1.325,2,   2018.0,2,   2294.0,2,   8.0200,2,    25.00,   -999.0,9,   -999.0,  18.4669
  49K619940107,   P02,    72,  1,     21,     21,2,19940203,1506, 29.9962,-146.6682, 5019, 1694.0000,    168.2,  14.6873,  34.5370,3,  34.6450,2,    212.2,3,    219.5,2,     5.20,2,     3.13,2,     0.40,2,    2.732,2,    1.413,2,   2041.0,2,   2262.0,2,   7.9400,2,    25.00,   -999.0,9,   -999.0,  14.6623
  49K619940107,   P02,    72,  1,     20,     20,2,19940203,1506, 29.9962,-146.6682, 5019, 2149.0000,    213.4,  12.9805,  34.3564,3,  34.3898,2,    211.8,3,    215.2,2,     8.30,2,     7.69,2,     0.69,2,    2.871,2,    1.470,2,   2065.0,2,   2251.0,2,   7.8700,2,    25.00,   -999.0,9,   -999.0,  12.9513
  49K619940107,   P02,    72,  1,     19,     19,2,19940203,1506, 29.9962,-146.6682, 5019, 3123.5000,    310.3,  10.3647,  34.1685,3,  34.1720,2,    212.4,3,    216.1,2,    15.90,2,    13.53,2,     1.08,2,    2.903,2,    1.419,2,   2098.0,2,   2245.0,2,   7.8000,2,    25.00,   -999.0,9,   -999.0,  10.3280
  49K619940107,   P02,    72,  1,     18,     18,2,19940203,1506, 29.9962,-146.6682, 5019, 4146.6000,    412.1,   8.4397,  34.0681,3,  34.0773,2,    200.6,3,    204.0,2,    25.30,6,    18.43,6,     1.41,6,    2.496,2,    1.260,2,   2129.0,2,   2250.0,2,   7.7300,2,    25.00,   -999.0,9,   -999.0,   8.3966
  49K619940107,   P02,    72,  1,     17,     17,2,19940203,1506, 29.9962,-146.6682, 5019, 5153.0000,    512.2,   6.9759,  33.9996,3,  34.0095,2,    144.6,3,    165.0,2,    40.60,2,    25.12,2,     1.88,2,    1.692,2,    0.883,2,   2180.0,2,   2259.0,2,   7.6100,2,    25.00,   -999.0,9,   -999.0,   6.9277
  49K619940107,   P02,    72,  1,     16,     16,2,19940203,1506, 29.9962,-146.6682, 5019, 6085.2000,    605.0,   5.3020,  34.0084,2,  34.0056,2,     91.0,3,     93.5,2,    70.80,2,    34.55,2,     2.58,2,    0.543,2,    0.292,2,   2265.0,2,   2279.0,2,   7.4300,2,    25.00,   -999.0,9,   -999.0,   5.2524
  49K619940107,   P02,    72,  1,     15,     15,2,19940203,1506, 29.9962,-146.6682, 5019, 7163.7000,    712.5,   4.4230,  34.1231,3,  34.1008,2,     41.0,2,     41.7,2,    93.90,6,    40.20,6,     2.99,6,    0.076,2,    0.080,2,   2317.0,2,   2302.0,2,   7.3200,2,    25.00,   -999.0,9,   -999.0,   4.3688
  49K619940107,   P02,    72,  1,     14,     14,2,19940203,1506, 29.9962,-146.6682, 5019, 8146.3000,    810.4,   4.0949,  34.2158,3,  34.2059,2,     20.0,2,     21.4,2,   109.80,2,    42.28,2,     3.18,2,    0.000,2,    0.001,2,   2331.0,4,   2324.0,2,   7.3000,2,    25.00,   -999.0,9,   -999.0,   4.0345
  49K619940107,   P02,    72,  1,     13,     13,2,19940203,1506, 29.9962,-146.6682, 5019, 9163.2000,    911.8,   3.8098,  34.3275,3,  34.3207,2,     14.2,2,     13.3,2,   119.70,2,    42.98,2,     3.23,2,    0.000,2,    0.002,2,   -999.0,9,   2345.0,2,   7.3000,2,    25.00,   -999.0,9,   -999.0,   3.7430
  49K619940107,   P02,    72,  1,     12,     12,2,19940203,1506, 29.9962,-146.6682, 5019,10156.8000,   1010.9,   3.5815,  34.4016,2,  34.3992,2,     17.1,2,     17.3,2,   129.70,2,    43.17,2,     3.24,2,    0.000,2,    0.003,2,   2374.0,2,   2356.0,2,   7.3100,2,    25.00,   -999.0,9,   -999.0,   3.5084
  49K619940107,   P02,    72,  1,     11,     11,2,19940203,1506, 29.9962,-146.6682, 5019,12689.7000,   1263.7,   3.0413,  34.5119,2,  34.5109,2,     40.3,2,     40.7,2,   141.10,2,    42.07,2,     3.13,2,    0.000,2,    0.000,2,   2377.0,2,   2376.0,2,   7.3700,2,    25.00,   -999.0,9,   -999.0,   2.9525
  49K619940107,   P02,    72,  1,     10,     10,2,19940203,1506, 29.9962,-146.6682, 5019,15182.4000,   1512.8,   2.6181,  34.5605,2,  34.5614,2,     57.9,2,     59.8,2,   151.60,2,    41.25,2,     3.05,2,    0.000,2,    0.001,2,   2375.0,2,   2387.0,2,   7.4000,2,    25.00,   -999.0,9,   -999.0,   2.5136
  49K619940107,   P02,    72,  1,      9,      9,2,19940203,1506, 29.9962,-146.6682, 5019,17712.3000,   1765.8,   2.3034,  34.5909,2,  34.5913,2,     69.1,2,     69.7,2,   159.10,2,    40.75,2,     2.99,2,    0.000,2,    0.001,2,   2378.0,2,   2397.0,2,   7.4200,2,    25.00,   -999.0,9,   -999.0,   2.1822
  49K619940107,   P02,    72,  1,      8,      8,2,19940203,1506, 29.9962,-146.6682, 5019,20237.6000,   2018.4,   2.0102,  34.6174,2,  34.6174,2,     81.0,3,     83.3,2,   168.20,2,    40.07,2,     2.94,2,    0.005,2,    0.005,2,   2377.0,2,   2404.0,2,   7.4400,2,    25.00,   -999.0,9,   -999.0,   1.8721
  49K619940107,   P02,    72,  1,      7,      7,2,19940203,1506, 29.9962,-146.6682, 5019,25340.2000,   2529.5,   1.7044,  34.6469,2,  34.6474,2,    101.0,3,    103.2,2,   172.90,2,    38.49,2,     2.82,2,    0.005,2,    0.001,2,   2368.0,2,   2411.0,2,   7.4800,2,    25.00,   -999.0,9,   -999.0,   1.5270
  49K619940107,   P02,    72,  1,      6,      6,2,19940203,1506, 29.9962,-146.6682, 5019,30408.0000,   3037.3,   1.5464,  34.6661,2,  34.6667,2,    120.8,3,    124.8,2,   169.60,2,    37.55,2,     2.71,2,    0.000,2,    0.000,2,   2357.0,2,   2413.0,2,   7.5100,2,    25.00,   -999.0,9,   -999.0,   1.3250
  49K619940107,   P02,    72,  1,      5,      5,2,19940203,1506, 29.9962,-146.6682, 5019,35538.5000,   3551.6,   1.4854,  34.6777,2,  34.6785,2,    137.6,3,    141.4,2,   162.40,2,    36.59,2,     2.63,2,    0.000,2,    0.000,2,   2343.0,2,   2411.0,2,   7.5500,2,    25.00,   -999.0,9,   -999.0,   1.2143
  49K619940107,   P02,    72,  1,      4,      4,2,19940203,1506, 29.9962,-146.6682, 5019,40648.2000,   4063.7,   1.4786,  34.6845,2,  34.6849,2,    146.7,2,    148.8,2,   162.10,6,    35.93,6,     2.58,6,    0.000,2,    0.001,2,   2337.0,2,   2411.0,2,   7.5600,2,    25.00,   -999.0,9,   -999.0,   1.1533
  49K619940107,   P02,    72,  1,      3,      3,2,19940203,1506, 29.9962,-146.6682, 5019,45790.5000,   4578.8,   1.4978,  34.6882,2,  34.6894,2,    155.0,2,    157.1,2,   155.40,2,    35.33,2,     2.53,2,    0.000,2,    0.003,2,   2326.0,2,   2409.0,2,   7.5700,2,    25.00,   -999.0,9,   -999.0,   1.1137
  49K619940107,   P02,    72,  1,      2,      2,2,19940203,1506, 29.9962,-146.6682, 5019,49939.5000,   4993.9,   1.5255,  34.6899,2,  34.6908,2,    160.2,2,    158.9,2,   150.20,2,    35.13,2,     2.52,2,    0.000,2,    0.003,2,   2330.0,2,   2352.0,4,   7.5700,2,    25.00,   -999.0,9,   -999.0,   1.0910
  49K619940107,   P02,    72,  1,      1,      1,2,19940203,1506, 29.9962,-146.6682, 5019,50952.3000,   5095.2,   1.5344,  34.6905,2,  34.6906,2,    160.5,2,    159.2,2,   150.20,6,    35.19,6,     2.51,6,    0.009,2,    0.001,2,   2326.0,2,   2407.0,2,   7.5800,2,    25.00,   -999.0,9,   -999.0,   1.0872
  49K619940107,   P02,    73,  1,     24,     24,2,19940204,0122, 29.9988,-144.5797, 4510,  187.3000,     18.7,  19.0241,  35.1873,2,  35.1880,2,    211.6,3,    231.6,2,     3.00,2,     0.00,2,     0.14,2,    2.515,2,    1.315,2,   2010.0,2,   2307.0,2,   8.0300,2,    25.00,     95.7,2,      7.0,  19.0208
  49K619940107,   P02,    73,  1,     23,     23,2,19940204,0122, 29.9988,-144.5797, 4510,  600.9000,     59.8,  18.9935,  35.1882,2,  35.1889,2,    224.1,3,    229.9,2,     2.90,2,     0.00,2,     0.14,2,    2.528,2,    1.324,2,   2010.0,2,   2306.0,2,   8.0300,2,    25.00,     78.0,2,      7.0,  18.9829
  49K619940107,   P02,    73,  1,     22,     22,2,19940204,0122, 29.9988,-144.5797, 4510, 1058.4000,    105.2,  18.9731,  35.1857,2,  35.1838,2,    225.9,3,    230.5,2,     2.90,2,     0.00,2,     0.15,2,    2.530,2,    1.349,2,   2012.0,2,   2307.0,2,   8.0300,2,    25.00,     89.0,2,      7.0,  18.9544
  49K619940107,   P02,    73,  1,     21,     21,2,19940204,0122, 29.9988,-144.5797, 4510, 1676.2000,    166.6,  15.4117,  34.5954,3,  34.7101,2,    215.3,2,    215.2,2,     4.70,2,     2.49,2,     0.31,2,    2.830,2,    1.421,2,   2029.0,2,   2275.0,2,   7.9500,2,    25.00,     70.8,2,      7.0,  15.3861
  49K619940107,   P02,    73,  1,     20,     20,2,19940204,0122, 29.9988,-144.5797, 4510, 2124.0000,    211.1,  13.6077,  34.3996,3,  34.4447,2,    216.5,3,    213.5,2,     7.20,2,     6.12,2,     0.60,2,    3.015,2,    1.519,2,   2045.0,2,   -999.0,9,   7.8900,2,    25.00,     73.6,2,      7.0,  13.5779
  49K619940107,   P02,    73,  1,     19,     19,2,19940204,0122, 29.9988,-144.5797, 4510, 3086.8000,    306.8,  10.4023,  34.1368,3,  34.1490,2,    214.5,3,    211.9,2,    15.50,2,    13.62,2,     1.11,2,    2.900,2,    1.405,2,   2086.0,2,   2250.0,2,   7.7900,2,    25.00,     69.2,2,      7.0,  10.3660
  49K619940107,   P02,    73,  1,     18,     18,2,19940204,0122, 29.9988,-144.5797, 4510, 4181.2000,    415.6,   8.4829,  34.0638,3,  34.0718,2,    197.1,2,    195.2,2,    25.80,3,    19.08,6,     1.48,6,    2.392,2,    1.161,2,   2124.0,2,   2256.0,2,   7.7100,2,    25.00,     51.8,2,      7.0,   8.4393
  49K619940107,   P02,    73,  1,     17,     17,2,19940204,0122, 29.9988,-144.5797, 4510, 5127.1000,    509.8,   6.6940,  33.9932,3,  33.9986,2,    149.8,2,    148.8,2,    45.90,2,    27.37,2,     2.05,2,    1.481,2,    0.761,2,   2186.0,2,   2270.0,2,   7.5800,2,    25.00,    -22.0,2,      7.0,   6.6471
  49K619940107,   P02,    73,  1,     16,     16,2,19940204,0122, 29.9988,-144.5797, 4510, 6101.0000,    606.7,   5.3218,  34.0045,2,  34.0074,2,     88.7,2,     88.5,2,    70.30,2,    35.12,2,     2.62,2,    0.552,2,    0.275,2,   2257.0,2,   2286.0,2,-999.0000,9,  -999.00,    -94.1,2,      7.0,   5.2720
  49K619940107,   P02,    73,  1,     15,     15,2,19940204,0122, 29.9988,-144.5797, 4510, 7143.4000,    710.6,   4.5964,  34.1223,3,  34.1188,2,     38.5,2,     38.4,2,    93.60,6,    40.78,6,     3.04,6,    0.098,2,    0.051,2,   2313.0,2,   2309.0,2,   7.3200,2,    25.00,   -159.6,2,      7.0,   4.5413
  49K619940107,   P02,    73,  1,     14,     14,2,19940204,0122, 29.9988,-144.5797, 4510, 8130.2000,    808.9,   4.2825,  34.2206,3,  34.2165,2,     19.1,2,     18.9,2,   106.10,2,    42.39,2,     3.19,2,    0.034,2,    0.021,2,   2342.0,2,   2325.0,2,   7.2900,2,    25.00,   -162.6,2,      7.0,   4.2211
  49K619940107,   P02,    73,  1,     13,     13,2,19940204,0122, 29.9988,-144.5797, 4510, 9165.5000,    912.1,   4.0520,  34.3311,3,  34.3224,2,     13.4,2,     12.5,2,   115.80,2,    43.04,2,     3.29,2,    0.016,2,    0.003,2,   2356.0,2,   2343.0,2,   7.3000,2,    25.00,   -171.3,2,      7.0,   3.9835
  49K619940107,   P02,    73,  1,     12,     12,2,19940204,0122, 29.9988,-144.5797, 4510,10153.5000,   1010.7,   3.7240,  34.3894,3,  34.3846,2,     16.3,3,     14.0,2,   125.90,2,    43.25,2,     3.28,2,    0.000,2,    0.002,2,   2369.0,2,   2356.0,2,   7.3100,2,    25.00,   -190.4,2,      7.0,   3.6498
  49K619940107,   P02,    73,  1,     11,     11,2,19940204,0122, 29.9988,-144.5797, 4510,12679.1000,   1262.8,   3.1757,  34.4955,2,  34.4927,2,     35.4,3,     33.2,2,   136.90,2,    42.51,2,     3.21,2,    0.000,2,    0.000,2,   2369.0,2,   2376.0,2,   7.3500,2,    25.00,   -220.2,2,      7.0,   3.0857
  49K619940107,   P02,    73,  1,     10,     10,2,19940204,0122, 29.9988,-144.5797, 4510,15192.1000,   1513.9,   2.7152,  34.5504,2,  34.5525,2,     53.8,3,     50.5,2,   151.30,2,    41.36,2,     3.12,2,    0.004,2,    0.000,2,   2374.0,2,   2390.0,2,   7.3900,2,    25.00,   -246.6,2,      7.0,   2.6096
  49K619940107,   P02,    73,  1,      9,      9,2,19940204,0122, 29.9988,-144.5797, 4510,17757.8000,   1770.4,   2.3137,  34.5906,2,  34.5912,2,     67.0,3,     64.7,2,   161.00,2,    40.53,2,     3.05,2,    0.000,2,    0.001,2,   2375.0,2,   2402.0,2,   7.4200,2,    25.00,   -240.9,2,      7.0,   2.1920
  49K619940107,   P02,    73,  1,      8,      8,2,19940204,0122, 29.9988,-144.5797, 4510,20261.0000,   2020.9,   2.0639,  34.6129,2,  34.6141,2,     79.7,3,     76.7,2,   165.60,2,    39.64,2,     2.97,2,    0.000,2,    0.003,2,   2374.0,2,   2408.0,2,   7.4400,2,    25.00,   -249.0,2,      7.0,   1.9248
  49K619940107,   P02,    73,  1,      7,      7,2,19940204,0122, 29.9988,-144.5797, 4510,22812.7000,   2276.4,   1.8613,  34.6313,2,  34.6343,2,     90.1,3,     87.5,2,   168.40,2,    38.65,2,     2.92,2,    0.004,2,    0.002,2,   2373.0,2,   2413.0,2,-999.0000,9,  -999.00,   -245.1,2,      7.0,   1.7035
  49K619940107,   P02,    73,  1,      6,      6,2,19940204,0122, 29.9988,-144.5797, 4510,25348.3000,   2530.4,   1.7078,  34.6477,2,  34.6484,2,    102.2,2,    101.3,2,   171.20,2,    38.15,2,     2.86,2,    0.000,2,    0.001,2,   2367.0,2,   2416.0,2,   7.4800,2,    25.00,   -247.4,2,      7.0,   1.5302
  49K619940107,   P02,    73,  1,      5,      5,2,19940204,0122, 29.9988,-144.5797, 4510,30432.8000,   3039.9,   1.5349,  34.6673,2,  34.6680,2,    121.0,2,    121.0,2,   171.80,2,    36.92,2,     2.75,2,    0.000,2,    0.000,2,   2358.0,2,   2418.0,2,   7.5200,2,    25.00,   -267.9,2,      7.0,   1.3135
  49K619940107,   P02,    73,  1,      4,      4,2,19940204,0122, 29.9988,-144.5797, 4510,35531.3000,   3551.0,   1.4722,  34.6788,2,  34.6798,2,    137.7,2,    137.1,2,   167.70,6,    35.95,6,     2.67,6,    0.002,2,    0.000,2,   2345.0,2,   2418.0,2,   7.5500,2,    25.00,   -231.2,2,      7.0,   1.2015
  49K619940107,   P02,    73,  1,      3,      3,2,19940204,0122, 29.9988,-144.5797, 4510,40666.4000,   4065.7,   1.4683,  34.6857,2,  34.6859,2,    148.2,2,    148.0,2,   160.90,2,    35.43,2,     2.61,2,    0.000,2,    0.000,2,   2339.0,2,   2416.0,2,   7.5700,2,    25.00,   -227.1,2,      7.0,   1.1430
  49K619940107,   P02,    73,  1,      2,      2,2,19940204,0122, 29.9988,-144.5797, 4510,45808.5000,   4580.7,   1.5013,  34.6881,2,  34.6882,2,    154.4,2,    152.3,2,   154.80,2,    35.03,2,     2.57,2,    0.000,2,    0.000,2,   2332.0,2,   2415.0,2,   7.5700,2,    25.00,   -219.0,2,      7.0,   1.1168
  49K619940107,   P02,    73,  1,      1,      1,2,19940204,0122, 29.9988,-144.5797, 4510,47102.7000,   4710.2,   1.5104,  34.6890,2,  34.6890,2,    155.9,2,    154.0,2,   154.90,6,    35.35,6,     2.56,6,    0.003,2,    0.004,2,   2330.0,2,   2415.0,2,   7.5800,2,    25.00,   -212.6,2,      7.0,   1.1105