BOTTLE,20220810CCHSIOAMB
EXPOCODE,SECT_ID,STNNBR,CASTNO,SAMPNO,BTLNBR,BTLNBR_FLAG_W,DATE,TIME,LATITUDE,LONGITUDE,DEPTH,CTDRAW,CTDPRS,CTDTMP,CTDSAL,CTDSAL_FLAG_W,SALNTY,SALNTY_FLAG_W,CTDOXY,CTDOXY_FLAG_W,OXYGEN,OXYGEN_FLAG_W,SILCAT,SILCAT_FLAG_W,NITRAT,NITRAT_FLAG_W,PHSPHT,PHSPHT_FLAG_W,CFC-11,CFC-11_FLAG_W,CFC-12,CFC-12_FLAG_W,TCARBN,TCARBN_FLAG_W,ALKALI,ALKALI_FLAG_W,PH_TOT,PH_TOT_FLAG_W,PH_TMP,DELC14,DELC14_FLAG_W,C14ERR,THETA
,,,,,,,,,,,METERS,,DBAR,ITS-90,PSS-78,,PSS-78,,UMOL/KG,,UMOL/KG,,UMOL/KG,,UMOL/KG,,UMOL/KG,,PMOL/KG,,PMOL/KG,,UMOL/KG,,UMOL/KG,,,,DEG C,/MILLE,,/MILLE,DEG C
  49K619940107,   P02,    10,  2,     24,     24,2,19940109,1137, 31.0040, 134.0545, 4447, 1345.4000,    133.5,  20.1947,  34.8483,3,  34.8306,2,    198.8,2,    247.4,3,  -999.00,9,  -999.00,9,  -999.00,9,    2.135,2,    1.223,2,   -999.0,9,   -999.0,9,-999.0000,9,  -999.00,   -999.0,9,   -999.0,  20.1699
  49K619940107,   P02,    10,  2,     23,     23,2,19940109,1137, 31.0040, 134.0545, 4447, 1582.2000,    157.0,  19.0187,  34.8738,3,  34.8633,2,    202.8,2,    231.7,3,     3.50,2,     9.01,3,     0.26,3,    2.252,2,    1.249,2,   -999.0,9,   -999.0,9,-999.0000,9,  -999.00,   -999.0,9,   -999.0,  18.9907
  49K619940107,   P02,    10,  2,     22,     22,2,19940109,1137, 31.0040, 134.0545, 4447, 2076.3000,    206.1,  17.9167,  34.8524,3,  34.8398,2,    202.2,2,    238.0,3,     3.90,2,     9.94,3,     0.33,3,    2.323,2,    1.286,2,   -999.0,9,   -999.0,9,-999.0000,9,  -999.00,   -999.0,9,   -999.0,  17.8814
  49K619940107,   P02,    10,  2,     21,     21,2,19940109,1137, 31.0040, 134.0545, 4447, 3240.0000,    321.8,  16.3321,  34.7228,3,  34.7493,2,    198.9,2,    218.8,3,     6.40,2,    12.80,3,     0.53,3,    2.251,2,    1.226,2,   -999.0,9,   -999.0,9,-999.0000,9,  -999.00,   -999.0,9,   -999.0,  16.2804
  49K619940107,   P02,    10,  2,     20,     20,2,19940109,1137, 31.0040, 134.0545, 4447, 4090.5000,    406.4,  14.8467,  34.6074,3,  34.6399,2,    187.8,2,    198.3,3,    11.60,2,    16.42,3,     0.78,3,    2.021,2,    1.083,2,   -999.0,9,   -999.0,9,-999.0000,9,  -999.00,   -999.0,9,   -999.0,  14.7854
  49K619940107,   P02,    10,  2,     19,     19,2,19940109,1137, 31.0040, 134.0545, 4447, 5112.3000,    508.1,  12.0767,  34.4167,3,  34.4425,2,    178.8,2,    198.8,3,    25.10,2,    20.97,3,     1.13,3,    1.722,2,    0.964,2,   -999.0,9,   -999.0,9,-999.0000,9,  -999.00,   -999.0,9,   -999.0,  12.0097
  49K619940107,   P02,    10,  2,     18,     18,2,19940109,1137, 31.0040, 134.0545, 4447, 6178.3000,    614.2,   9.4719,  34.2622,3,  34.2685,2,    164.9,2,    177.2,3,    37.50,2,    26.62,3,     1.55,3,    1.513,2,    0.822,2,   -999.0,9,   -999.0,9,-999.0000,9,  -999.00,   -999.0,9,   -999.0,   9.4021
  49K619940107,   P02,    10,  2,     17,     17,2,19940109,1137, 31.0040, 134.0545, 4447, 7124.0000,    708.4,   7.7612,  34.2062,2,  34.2058,2,    138.0,2,    171.7,3,    53.70,6,    32.34,6,     1.99,6,    1.010,2,    0.668,2,   -999.0,9,   -999.0,9,-999.0000,9,  -999.00,   -999.0,9,   -999.0,   7.6892
  49K619940107,   P02,    10,  2,     16,     16,2,19940109,1137, 31.0040, 134.0545, 4447, 8128.1000,    808.5,   6.0545,  34.2214,3,  34.2152,2,    103.8,2,    125.7,3,    76.20,2,    37.97,3,     2.40,3,    0.590,2,    0.372,2,   -999.0,9,   -999.0,9,-999.0000,9,  -999.00,   -999.0,9,   -999.0,   5.9821
  49K619940107,   P02,    10,  2,     15,     15,2,19940109,1137, 31.0040, 134.0545, 4447, 9136.2000,    909.0,   4.8785,  34.2766,2,  34.2767,2,     79.7,2,     94.5,3,    97.70,2,    42.00,3,     2.71,3,    0.283,2,    0.180,2,   -999.0,9,   -999.0,9,-999.0000,9,  -999.00,   -999.0,9,   -999.0,   4.8045
  49K619940107,   P02,    10,  2,     14,     14,2,19940109,1137, 31.0040, 134.0545, 4447,10129.6000,   1008.1,   4.0113,  34.3482,2,  34.3460,2,     67.3,2,     82.5,3,   115.60,2,    43.75,3,     2.88,3,    0.123,2,    0.073,2,   -999.0,9,   -999.0,9,-999.0000,9,  -999.00,   -999.0,9,   -999.0,   3.9351
  49K619940107,   P02,    10,  2,     13,     13,2,19940109,1137, 31.0040, 134.0545, 4447,12703.5000,   1265.0,   3.2277,  34.4477,3,  34.4375,2,     68.2,2,   -999.0,9,  -999.00,9,  -999.00,9,  -999.00,9, -999.000,9, -999.000,9,   -999.0,9,   -999.0,9,-999.0000,9,  -999.00,   -999.0,9,   -999.0,   3.1371
  49K619940107,   P02,    10,  2,     12,     12,2,19940109,1137, 31.0040, 134.0545, 4447,15212.9000,   1515.7,   2.6699,  34.5164,2,  34.5171,2,     78.9,2,   -999.0,9,   141.90,2,    44.68,3,     2.89,3,    0.007,2,    0.000,2,   -999.0,9,   -999.0,9,-999.0000,9,  -999.00,   -999.0,9,   -999.0,   2.5647
  49K619940107,   P02,    10,  2,     11,     11,4,19940109,1137, 31.0040, 134.0545, 4447,17755.7000,   1770.0,   2.3344,  34.5585,2,-999.0000,9,     92.6,2,   -999.0,9,  -999.00,9,  -999.00,9,  -999.00,9, -999.000,9, -999.000,9,   -999.0,9,   -999.0,9,-999.0000,9,  -999.00,   -999.0,9,   -999.0,   2.2125
  49K619940107,   P02,    10,  2,     10,     10,2,19940109,1137, 31.0040, 134.0545, 4447,20284.5000,   2023.0,   2.0502,  34.5968,2,  34.5978,2,    107.8,2,   -999.0,9,   148.60,2,    43.72,3,     2.79,3,    0.000,2,    0.000,2,   -999.0,9,   -999.0,9,-999.0000,9,  -999.00,   -999.0,9,   -999.0,   1.9111
  49K619940107,   P02,    10,  2,      9,      9,2,19940109,1137, 31.0040, 134.0545, 4447,22822.3000,   2277.1,   1.8608,  34.6245,2,  34.6262,2,    120.7,2,    145.1,3,   147.70,2,    42.96,3,     2.73,3, -999.000,9, -999.000,9,   -999.0,9,   -999.0,9,-999.0000,9,  -999.00,   -999.0,9,   -999.0,   1.7029
  49K619940107,   P02,    10,  2,      8,      8,2,19940109,1137, 31.0040, 134.0545, 4447,25363.6000,   2531.7,   1.7291,  34.6449,2,  34.6441,2,    131.5,2,    151.6,3,   148.10,2,    41.89,3,     2.64,3,    0.000,2,    0.000,2,   -999.0,9,   -999.0,9,-999.0000,9,  -999.00,   -999.0,9,   -999.0,   1.5510
  49K619940107,   P02,    10,  2,      7,      7,2,19940109,1137, 31.0040, 134.0545, 4447,27882.7000,   2784.1,   1.6383,  34.6579,2,  34.6589,2,    139.5,2,   -999.0,9,   146.10,2,    41.45,3,     2.61,3, -999.000,9, -999.000,9,   -999.0,9,   -999.0,9,-999.0000,9,  -999.00,   -999.0,9,   -999.0,   1.4389
  49K619940107,   P02,    10,  2,      6,      6,2,19940109,1137, 31.0040, 134.0545, 4447,30451.7000,   3041.6,   1.5586,  34.6692,2,  34.6691,2,    146.6,2,    168.8,3,   147.10,2,    40.91,3,     2.58,3,    0.000,2,    0.000,2,   -999.0,9,   -999.0,9,-999.0000,9,  -999.00,   -999.0,9,   -999.0,   1.3365
  49K619940107,   P02,    10,  2,      5,      5,2,19940109,1137, 31.0040, 134.0545, 4447,32997.6000,   3296.8,   1.5224,  34.6756,2,  34.6765,2,    151.4,2,    173.2,3,   145.10,4,    40.88,4,     2.55,4, -999.000,9, -999.000,9,   -999.0,9,   -999.0,9,-999.0000,9,  -999.00,   -999.0,9,   -999.0,   1.2762
  49K619940107,   P02,    10,  2,      4,      4,4,19940109,1137, 31.0040, 134.0545, 4447,35556.7000,   3553.4,   1.5217,  34.6789,2,-999.0000,9,    152.2,2,   -999.0,9,   143.10,4,    40.77,4,     2.55,4,    0.000,2,    0.000,2,   -999.0,9,   -999.0,9,-999.0000,9,  -999.00,   -999.0,9,   -999.0,   1.2495
  49K619940107,   P02,    10,  2,      3,      3,4,19940109,1137, 31.0040, 134.0545, 4447,38115.4000,   3809.8,   1.5308,  34.6808,2,-999.0000,9,    154.8,2,   -999.0,9,   143.30,4,    40.45,4,     2.54,4, -999.000,9, -999.000,9,   -999.0,9,   -999.0,9,-999.0000,9,  -999.00,   -999.0,9,   -999.0,   1.2315
  49K619940107,   P02,    10,  2,      2,      2,2,19940109,1137, 31.0040, 134.0545, 4447,40665.6000,   4065.4,   1.5489,  34.6818,2,  34.6816,2,    155.5,2,   -999.0,9,   143.40,2,    40.69,3,     2.53,3,    0.006,2,    0.001,2,   -999.0,9,   -999.0,9,-999.0000,9,  -999.00,   -999.0,9,   -999.0,   1.2214
  49K619940107,   P02,    10,  2,      1,      1,2,19940109,1137, 31.0040, 134.0545, 4447,45275.2000,   4527.1,   1.5874,  34.6834,2,  34.6837,2,    155.2,2,    182.1,3,   145.40,6,    40.53,3,     2.52,3,    0.004,2,    0.005,2,   -999.0,9,   -999.0,9,-999.0000,9,  -999.00,   -999.0,9,   -999.0,   1.2065
  49K619940107,   P02,    15,  1,     24,     24,2,19940111,1022, 30.0112, 134.5912, 4580,  221.2000,     21.5,  20.2031,  34.7906,2,  34.7900,2,    229.7,2,    245.8,3,     2.50,2,     0.98,3,     0.16,3,    2.852,3,    1.292,2,   1968.0,2,   2272.0,2,   8.0600,2,    25.00,    129.6,2,      7.0,  20.1991
  49K619940107,   P02,    15,  1,     23,     23,2,19940111,1022, 30.0112, 134.5912, 4580,  614.7000,     60.5,  20.2117,  34.7910,2,  34.7903,2,    226.0,2,    242.4,3,     2.90,2,     1.00,3,     0.16,3,    3.013,3,    1.271,3,   1969.0,2,   2270.0,2,   8.0600,2,    25.00,    107.8,2,      7.0,  20.2005
  49K619940107,   P02,    15,  1,     22,     22,2,19940111,1022, 30.0112, 134.5912, 4580, 1026.5000,    101.4,  20.1617,  34.8040,3,  34.7926,2,    224.4,2,    239.8,3,     3.00,2,     1.07,3,     0.15,3,    2.157,3,    1.289,2,   1969.0,2,   2266.0,2,   8.0600,2,    25.00,     90.7,2,      7.0,  20.1429
  49K619940107,   P02,    15,  1,     21,     21,2,19940111,1022, 30.0112, 134.5912, 4580, 1624.6000,    160.8,  18.0582,  34.8317,3,  34.8359,2,    204.1,2,    224.6,3,  -999.00,9,  -999.00,9,     0.39,3,    2.882,3,    1.310,3,   2011.0,2,   2273.0,2,   7.9900,2,    25.00,    107.7,2,      7.0,  18.0306
  49K619940107,   P02,    15,  1,     20,     20,2,19940111,1022, 30.0112, 134.5912, 4580, 2107.0000,    208.8,  17.3553,  34.7960,2,  34.7934,2,    209.5,2,    229.4,3,     5.00,2,     5.63,3,     0.53,3,    2.576,2,    1.283,2,   2022.0,2,   2271.0,2,   7.9600,2,    25.00,    112.5,2,      7.0,  17.3204
  49K619940107,   P02,    15,  1,     19,     19,4,19940111,1022, 30.0112, 134.5912, 4580, 3136.4000,    311.1,  15.3641,  34.6508,2,-999.0000,9,    190.0,2,   -999.0,9,  -999.00,9,  -999.00,9,  -999.00,9, -999.000,9, -999.000,9,   -999.0,9,   -999.0,9,-999.0000,9,  -999.00,   -999.0,9,   -999.0,  15.3162
  49K619940107,   P02,    15,  1,     18,     18,2,19940111,1022, 30.0112, 134.5912, 4580, 4125.6000,    409.5,  12.5852,  34.4585,3,  34.4869,2,    184.3,2,    202.3,3,    18.10,2,    14.88,3,     1.07,3, -999.000,9, -999.000,9,   2089.0,2,   2263.0,2,   7.8300,2,    25.00,     46.9,2,      7.0,  12.5299
  49K619940107,   P02,    15,  1,     17,     17,2,19940111,1022, 30.0112, 134.5912, 4580, 5131.5000,    509.6,   9.9507,  34.2880,3,  34.2988,2,    170.4,2,   -999.0,9,    23.00,3,    21.74,3,     1.55,3,    1.433,2,    0.836,2,   2141.0,2,   2269.0,2,   7.7200,2,    25.00,      5.7,2,      7.0,   9.8913
  49K619940107,   P02,    15,  1,     16,     16,2,19940111,1022, 30.0112, 134.5912, 4580, 6125.1000,    608.5,   7.7036,  34.1999,3,  34.2058,2,    149.5,2,    160.9,3,    50.80,2,    28.51,3,     1.98,3,    1.040,2,    0.638,2,   2192.0,2,   2279.0,2,   7.6100,2,    25.00,    -50.4,2,      7.0,   7.6424
  49K619940107,   P02,    15,  1,     15,     15,2,19940111,1022, 30.0112, 134.5912, 4580, 7145.7000,    710.2,   6.3781,  34.2322,3,  34.2364,2,    112.9,2,    132.9,3,    71.20,3,    34.62,3,     2.35,3,    0.647,2,    0.407,2,   2243.0,2,   2298.0,2,   7.5200,2,    25.00,   -106.1,2,      7.0,   6.3133
  49K619940107,   P02,    15,  1,     14,     14,2,19940111,1022, 30.0112, 134.5912, 4580, 8162.6000,    811.5,   4.9165,  34.2728,3,  34.2684,2,     86.8,2,    103.3,3,    92.50,2,    39.10,3,     2.68,3,    0.321,2,    0.272,2,   2288.0,2,   2317.0,2,   7.4400,2,    25.00,   -135.4,2,      7.0,   4.8508
  49K619940107,   P02,    15,  1,     13,     13,2,19940111,1022, 30.0112, 134.5912, 4580, 9108.0000,    905.8,   4.3431,  34.3221,3,  34.3151,2,     71.8,2,     81.1,3,   106.10,2,    40.45,3,     2.82,3,    0.203,2,    0.178,2,   2308.0,2,   2330.0,2,   7.4300,2,    25.00,   -139.9,2,      7.0,   4.2731
  49K619940107,   P02,    15,  1,     12,     12,2,19940111,1022, 30.0112, 134.5912, 4580,10117.7000,   1006.5,   3.8450,  34.3703,3,  34.3663,2,     63.8,2,   -999.0,9,   115.50,2,    42.69,3,     2.93,3,    0.099,2,    0.068,2,   2329.0,2,   2345.0,2,   7.4100,2,    25.00,   -175.7,2,      7.0,   3.7702
  49K619940107,   P02,    15,  1,     11,     11,2,19940111,1022, 30.0112, 134.5912, 4580,12654.0000,   1259.7,   3.0296,  34.4726,2,  34.4707,2,     70.2,2,     82.7,3,   133.10,2,    43.59,3,     2.98,3,    0.024,2,    0.009,2,   2347.0,2,   2378.0,2,   7.4200,2,    25.00,   -199.5,2,      7.0,   2.9413
  49K619940107,   P02,    15,  1,     10,     10,2,19940111,1022, 30.0112, 134.5912, 4580,15200.0000,   1514.0,   2.4825,  34.5396,2,  34.5377,2,     85.4,2,    103.0,3,   139.90,2,    43.20,3,     2.93,3,    0.007,2,    0.005,2,   2350.0,2,   2380.0,2,   7.4400,2,    25.00,   -218.9,2,      7.0,   2.3796
  49K619940107,   P02,    15,  1,      9,      9,2,19940111,1022, 30.0112, 134.5912, 4580,17747.5000,   1768.8,   2.1661,  34.5809,2,  34.5826,2,    100.1,2,    121.2,3,   141.70,3,    42.81,3,     2.86,3,    0.004,2,    0.001,2,   2345.0,2,   2387.0,2,   7.4700,2,    25.00,   -223.3,2,      7.0,   2.0465
  49K619940107,   P02,    15,  1,      8,      8,2,19940111,1022, 30.0112, 134.5912, 4580,20272.9000,   2021.5,   1.9237,  34.6163,2,  34.6156,2,    116.6,2,   -999.0,9,   143.50,2,    42.29,3,     2.79,3,    0.004,2,    0.000,2,   2342.0,2,   2390.0,2,   7.5000,2,    25.00,   -233.9,2,      7.0,   1.7867
  49K619940107,   P02,    15,  1,      7,      7,2,19940111,1022, 30.0112, 134.5912, 4580,22820.0000,   2276.5,   1.7851,  34.6359,2,  34.6356,2,    127.2,2,   -999.0,9,   145.10,2,    41.77,3,     2.74,3,    0.000,2,    0.000,2,   2340.0,2,   2393.0,2,   7.5100,2,    25.00,   -229.5,2,      7.0,   1.6286
  49K619940107,   P02,    15,  1,      6,      6,2,19940111,1022, 30.0112, 134.5912, 4580,25357.4000,   2530.7,   1.6688,  34.6527,2,  34.6510,2,    135.6,2,   -999.0,9,   144.20,2,    41.13,3,     2.69,3,    0.000,2,    0.000,2,   2334.0,2,   2394.0,2,   7.5300,2,    25.00,   -217.5,2,      7.0,   1.4919
  49K619940107,   P02,    15,  1,      5,      5,2,19940111,1022, 30.0112, 134.5912, 4580,30442.1000,   3040.3,   1.5312,  34.6735,2,  34.6737,2,    148.7,2,    174.9,3,   146.30,2,    40.07,3,     2.63,3,    0.000,2,    0.002,2,   2328.0,2,   2398.0,2,   7.5600,2,    25.00,   -223.6,2,      7.0,   1.3098
  49K619940107,   P02,    15,  1,      4,      4,4,19940111,1022, 30.0112, 134.5912, 4580,35569.5000,   3554.2,   1.5108,  34.6816,2,-999.0000,9,    154.7,2,   -999.0,9,   147.90,4,    39.78,4,     2.60,4, -999.000,9, -999.000,9,   2326.0,2,   2410.0,2,   7.5700,2,    25.00,   -999.0,9,   -999.0,   1.2388
  49K619940107,   P02,    15,  1,      3,      3,4,19940111,1022, 30.0112, 134.5912, 4580,40699.8000,   4068.4,   1.5409,  34.6841,2,-999.0000,9,    156.0,2,   -999.0,9,   146.80,4,    39.64,4,     2.58,4,    0.001,2,    0.000,2,   2322.0,2,   2412.0,2,   7.5700,2,    25.00,   -191.1,2,      7.0,   1.2133
  49K619940107,   P02,    15,  1,      2,      2,2,19940111,1022, 30.0112, 134.5912, 4580,45820.6000,   4581.3,   1.5804,  34.6861,3,  34.6822,2,    157.9,2,    179.2,3,   146.00,2,    38.80,3,     2.56,3, -999.000,9, -999.000,9,   2323.0,2,   2409.0,2,   7.5700,2,    25.00,   -218.2,2,      7.0,   1.1934
  49K619940107,   P02,    15,  1,      1,      1,2,19940111,1022, 30.0112, 134.5912, 4580,46622.3000,   4661.5,   1.5894,  34.6860,2,  34.6844,2,    158.1,2,   -999.0,9,   146.60,3,    38.33,3,     2.57,3,    0.001,2,    0.001,2,   2316.0,2,   2407.0,2,   7.5700,2,    25.00,   -218.1,2,      7.0,   1.1927