BOTTLE,20220810CCHSIOAMB
EXPOCODE,SECT_ID,STNNBR,CASTNO,SAMPNO,BTLNBR,BTLNBR_FLAG_W,DATE,TIME,LATITUDE,LONGITUDE,DEPTH,CTDRAW,CTDPRS,CTDTMP,CTDSAL,CTDSAL_FLAG_W,SALNTY,SALNTY_FLAG_W,CTDOXY,CTDOXY_FLAG_W,OXYGEN,OXYGEN_FLAG_W,SILCAT,SILCAT_FLAG_W,NITRAT,NITRAT_FLAG_W,PHSPHT,PHSPHT_FLAG_W,CFC-11,CFC-11_FLAG_W,CFC-12,CFC-12_FLAG_W,TCARBN,TCARBN_FLAG_W,ALKALI,ALKALI_FLAG_W,PH_TOT,PH_TOT_FLAG_W,PH_TMP,DELC14,DELC14_FLAG_W,C14ERR,THETA
,,,,,,,,,,,METERS,,DBAR,ITS-90,PSS-78,,PSS-78,,UMOL/KG,,UMOL/KG,,UMOL/KG,,UMOL/KG,,UMOL/KG,,PMOL/KG,,PMOL/KG,,UMOL/KG,,UMOL/KG,,,,DEG C,/MILLE,,/MILLE,DEG C
  49K619940107,   P02,    53,  1,     24,     24,2,19940124,0547, 30.0048, 172.3277, 5382,  297.1000,     29.6,  19.0656,  34.9173,3,  34.9101,2,    213.2,3,    235.0,2,     2.90,2,     0.00,2,     0.19,2,    2.416,2,    1.349,2,   -999.0,9,   -999.0,9,   8.0400,2,    25.00,   -999.0,9,   -999.0,  19.0603
  49K619940107,   P02,    53,  1,     23,     23,4,19940124,0547, 30.0048, 172.3277, 5382,  709.6000,     70.5,  18.4350,  34.8298,2,-999.0000,9,    231.0,2,   -999.0,9,  -999.00,9,  -999.00,9,  -999.00,9,    2.410,2,    1.386,2,   -999.0,9,   -999.0,9,   8.0400,2,    25.00,   -999.0,9,   -999.0,  18.4227
  49K619940107,   P02,    53,  1,     22,     22,2,19940124,0547, 30.0048, 172.3277, 5382, 1178.9000,    117.2,  18.4619,  34.9024,3,  34.8480,2,    234.0,3,    230.5,2,     3.00,3,     2.35,3,     0.25,3,    2.427,2,    1.416,2,   1998.0,2,   2286.0,2,   8.0300,2,    25.00,   -999.0,9,   -999.0,  18.4415
  49K619940107,   P02,    53,  1,     21,     21,2,19940124,0547, 30.0048, 172.3277, 5382, 1562.5000,    155.3,  17.4841,  34.8110,3,  34.8795,2,    240.9,3,    227.1,2,     3.20,3,     2.23,3,     0.30,3,    2.429,2,    1.389,2,   2003.0,2,   2288.0,2,   8.0100,2,    25.00,   -999.0,9,   -999.0,  17.4580
  49K619940107,   P02,    53,  1,     20,     20,2,19940124,0547, 30.0048, 172.3277, 5382, 2072.4000,    205.9,  16.8837,  34.7812,2,  34.7807,2,    222.3,2,    220.3,2,     4.40,2,     3.91,2,     0.45,2,    2.535,2,    1.418,2,   2022.0,2,   2286.0,2,-999.0000,9,  -999.00,   -999.0,9,   -999.0,  16.8499
  49K619940107,   P02,    53,  1,     19,     19,2,19940124,0547, 30.0048, 172.3277, 5382, 3067.8000,    304.9,  15.8886,  34.6879,3,  34.6991,2,    216.7,2,    215.3,2,     6.00,2,     5.29,2,     0.56,2,    2.547,2,    1.384,2,   2040.0,2,   2275.0,2,   7.9500,2,    25.00,   -999.0,9,   -999.0,  15.8405
  49K619940107,   P02,    53,  1,     18,     18,2,19940124,0547, 30.0048, 172.3277, 5382, 4070.7000,    404.6,  13.6953,  34.4999,3,  34.5039,2,    210.7,2,    209.5,2,    11.10,6,     9.12,6,     0.84,6,    2.594,2,    1.367,2,   2060.0,2,   2272.0,2,   7.8800,2,    25.00,   -999.0,9,   -999.0,  13.6375
  49K619940107,   P02,    53,  1,     17,     17,2,19940124,0547, 30.0048, 172.3277, 5382, 5190.1000,    516.0,  11.5442,  34.3438,2,  34.3431,2,    215.3,2,    214.8,2,    16.00,2,    12.11,2,     1.06,2,    2.753,2,    1.447,2,   2079.0,2,   2274.0,3,   7.8300,2,    25.00,   -999.0,9,   -999.0,  11.4781
  49K619940107,   P02,    53,  1,     16,     16,2,19940124,0547, 30.0048, 172.3277, 5382, 6148.2000,    611.4,   8.9506,  34.1346,3,  34.1537,2,    188.1,3,    193.9,2,    28.30,2,    18.52,2,     1.54,2,    2.334,2,    1.231,2,   2130.0,2,   2266.0,2,   7.7200,2,    25.00,   -999.0,9,   -999.0,   8.8836
  49K619940107,   P02,    53,  1,     15,     15,2,19940124,0547, 30.0048, 172.3277, 5382, 7106.0000,    706.8,   6.8027,  34.0321,2,  34.0348,2,    158.3,2,    156.8,2,    48.50,6,    26.30,3,     2.10,6,    1.747,2,    0.935,2,   2187.0,2,   2279.0,2,   7.5900,2,    25.00,   -999.0,9,   -999.0,   6.7362
  49K619940107,   P02,    53,  1,     14,     14,2,19940124,0547, 30.0048, 172.3277, 5382, 8160.0000,    811.9,   5.2274,  34.0488,3,  34.0428,2,    102.1,3,    106.8,2,    72.30,2,    33.49,2,     2.63,2,    0.874,2,    0.526,2,   2257.0,2,   2297.0,2,   7.4600,2,    25.00,   -999.0,9,   -999.0,   5.1601
  49K619940107,   P02,    53,  1,     13,     13,2,19940124,0547, 30.0048, 172.3277, 5382, 9123.5000,    907.9,   4.4759,  34.1402,3,  34.1339,2,     67.1,2,     67.7,2,    93.10,2,    37.94,2,     2.97,2,    0.333,2,    0.224,2,   2304.0,2,   2317.0,2,   7.3800,2,    25.00,   -999.0,9,   -999.0,   4.4051
  49K619940107,   P02,    53,  1,     12,     12,2,19940124,0547, 30.0048, 172.3277, 5382,10150.6000,   1010.4,   3.9789,  34.2297,3,  34.2233,2,     44.4,3,     40.7,2,   109.90,2,    40.86,2,     3.16,2,    0.127,2,    0.110,2,   2340.0,2,   2331.0,2,   7.3400,2,    25.00,   -999.0,9,   -999.0,   3.9030
  49K619940107,   P02,    53,  1,     11,     11,2,19940124,0547, 30.0048, 172.3277, 5382,12653.3000,   1260.2,   3.1896,  34.4051,3,  34.3995,2,     30.2,2,     28.2,2,   134.30,2,    42.43,2,     3.30,2,    0.007,2,    0.015,2,   2369.0,2,   2367.0,2,   7.3300,2,    25.00,   -999.0,9,   -999.0,   3.0998
  49K619940107,   P02,    53,  1,     10,     10,2,19940124,0547, 30.0048, 172.3277, 5382,15194.5000,   1514.1,   2.6637,  34.4981,2,  34.4968,2,     38.6,2,     37.8,2,   149.90,2,    42.42,2,     3.27,2,    0.001,2,    0.005,2,   2380.0,2,   2390.0,2,   7.3600,2,    25.00,   -999.0,9,   -999.0,   2.5588
  49K619940107,   P02,    53,  1,      9,      9,2,19940124,0547, 30.0048, 172.3277, 5382,17746.1000,   1769.2,   2.2234,  34.5616,2,  34.5604,2,     54.9,2,     54.7,2,   164.20,2,    41.86,2,     3.20,2,    0.000,2,    0.005,2,   2407.0,3,   2400.0,2,   7.3900,2,    25.00,   -999.0,9,   -999.0,   2.1031
  49K619940107,   P02,    53,  1,      8,      8,2,19940124,0547, 30.0048, 172.3277, 5382,20291.7000,   2024.0,   1.9693,  34.5996,2,  34.5977,2,     73.8,2,     72.5,2,   164.10,2,    40.71,2,     3.13,2,    0.003,2,    0.000,2,   -999.0,9,   2408.0,2,   7.4200,2,    25.00,   -999.0,9,   -999.0,   1.8314
  49K619940107,   P02,    53,  1,      7,      7,2,19940124,0547, 30.0048, 172.3277, 5382,25383.0000,   2533.8,   1.6761,  34.6408,2,-999.0000,9,    103.8,2,    104.0,2,   162.30,3,    38.12,3,     2.96,3,    0.002,2,    0.004,2,   2359.0,2,   2411.0,2,   7.4800,2,    25.00,   -999.0,9,   -999.0,   1.4989
  49K619940107,   P02,    53,  1,      6,      6,2,19940124,0547, 30.0048, 172.3277, 5382,30456.4000,   3042.3,   1.5350,  34.6636,2,  34.6617,2,    126.8,2,    127.2,2,   160.30,2,    36.23,2,     2.80,2,    0.000,2,    0.000,2,   2348.0,2,   2413.0,2,   7.5200,2,    25.00,   -999.0,9,   -999.0,   1.3134
  49K619940107,   P02,    53,  1,      5,      5,2,19940124,0547, 30.0048, 172.3277, 5382,35557.8000,   3553.7,   1.4718,  34.6765,2,  34.6754,2,    141.6,3,    143.9,2,   157.60,2,    35.88,2,     2.74,2,    0.003,2,    0.000,2,   2336.0,2,   2412.0,2,   7.5500,2,    25.00,   -999.0,9,   -999.0,   1.2009
  49K619940107,   P02,    53,  1,      4,      4,2,19940124,0547, 30.0048, 172.3277, 5382,40661.5000,   4065.2,   1.4565,  34.6843,2,  34.6827,2,    151.8,2,    151.6,2,   153.40,6,    34.79,6,     2.73,6,    0.001,2,    0.000,2,   2328.0,2,   2413.0,2,   7.5700,2,    25.00,   -999.0,9,   -999.0,   1.1317
  49K619940107,   P02,    53,  1,      3,      3,2,19940124,0547, 30.0048, 172.3277, 5382,45782.9000,   4578.1,   1.4586,  34.6901,2,  34.6884,2,    160.9,2,    159.6,2,   148.50,2,    34.53,2,     2.68,2,    0.000,2,    0.008,2,   2321.0,2,   2409.0,2,   7.5800,2,    25.00,   -999.0,9,   -999.0,   1.0758
  49K619940107,   P02,    53,  1,      2,      2,2,19940124,0547, 30.0048, 172.3277, 5382,50975.1000,   5097.6,   1.4707,  34.6946,2,  34.6919,2,    170.8,2,    168.9,2,   141.50,2,    33.77,2,     2.63,2,    0.004,2,    0.000,2,   2311.0,2,   2404.0,2,   7.5900,2,    25.00,   -999.0,9,   -999.0,   1.0254
  49K619940107,   P02,    53,  1,      1,      1,2,19940124,0547, 30.0048, 172.3277, 5382,54795.1000,   5479.2,   1.4993,  34.6965,2,  34.6953,2,    174.4,2,    173.9,2,   140.40,6,    33.51,6,     2.61,6,    0.000,2,    0.008,2,   2307.0,2,   2401.0,2,   7.6000,2,    25.00,   -999.0,9,   -999.0,   1.0053
  49K619940107,   P02,    54,  1,     24,     24,2,19940124,1723, 30.0117, 174.0823, 5451,  166.9000,     16.8,  18.3152,  34.7777,3,  34.8304,2,    233.6,3,    240.0,2,     3.40,2,     0.06,2,     0.20,2,    2.437,2,    1.381,2,   -999.0,9,   -999.0,9,   8.0400,2,    25.00,   -999.0,9,   -999.0,  18.3123
  49K619940107,   P02,    54,  1,     23,     23,2,19940124,1723, 30.0117, 174.0823, 5451,  588.8000,     58.7,  18.0128,  34.7561,2,  34.7546,2,    230.2,2,    231.6,2,     3.80,3,     3.64,3,     0.29,3,    2.464,2,    1.368,2,   1993.0,2,   2271.0,2,   8.0200,2,    25.00,   -999.0,9,   -999.0,  18.0028
  49K619940107,   P02,    54,  1,     22,     22,2,19940124,1723, 30.0117, 174.0823, 5451, 1082.5000,    107.7,  18.0018,  34.7580,2,  34.7571,2,    228.5,3,    232.1,2,     3.80,2,     3.67,2,     0.29,2,    2.418,2,    1.374,2,   1997.0,2,   2271.0,2,   8.0200,2,    25.00,   -999.0,9,   -999.0,  17.9834
  49K619940107,   P02,    54,  1,     21,     21,2,19940124,1723, 30.0117, 174.0823, 5451, 1555.1000,    154.6,  17.7558,  34.7316,2,  34.7318,2,    234.8,3,    231.4,2,     4.00,3,     3.76,3,     0.32,3,    2.414,2,    1.398,2,   1993.0,2,   2271.0,2,   8.0200,2,    25.00,   -999.0,9,   -999.0,  17.7296
  49K619940107,   P02,    54,  1,     20,     20,4,19940124,1723, 30.0117, 174.0823, 5451, 2065.1000,    205.3,  17.1057,  34.7018,2,-999.0000,9,    216.3,2,   -999.0,9,  -999.00,9,  -999.00,9,  -999.00,9,    2.465,2,    1.371,2,   2011.0,2,   2269.0,2,   7.9900,2,    25.00,   -999.0,9,   -999.0,  17.0717
  49K619940107,   P02,    54,  1,     19,     19,2,19940124,1723, 30.0117, 174.0823, 5451, 3073.2000,    305.5,  15.8346,  34.6909,2,  34.6936,2,    209.5,2,    209.3,2,     7.40,6,     6.22,6,     0.60,6,    2.438,2,    1.343,2,   2036.0,2,   2262.0,2,   7.9400,2,    25.00,   -999.0,9,   -999.0,  15.7866
  49K619940107,   P02,    54,  1,     18,     18,2,19940124,1723, 30.0117, 174.0823, 5451, 4068.6000,    404.5,  13.2227,  34.4702,3,  34.4839,2,    203.2,3,    210.4,2,    13.00,6,     9.95,6,     0.86,6,    2.604,2,    1.401,2,   2062.0,2,   2264.0,2,   7.8700,2,    25.00,   -999.0,9,   -999.0,  13.1663
  49K619940107,   P02,    54,  1,     17,     17,2,19940124,1723, 30.0117, 174.0823, 5451, 5087.0000,    505.9,  11.1987,  34.3212,3,  34.3328,2,    201.0,3,    211.4,2,    19.90,2,    13.15,2,     1.15,2,    2.581,2,    1.370,2,   2093.0,2,   2267.0,2,   7.8200,2,    25.00,   -999.0,9,   -999.0,  11.1352
  49K619940107,   P02,    54,  1,     16,     16,2,19940124,1723, 30.0117, 174.0823, 5451, 6104.9000,    607.2,   8.9142,  34.1453,3,  34.1510,2,    178.6,3,    193.9,2,    31.20,2,    19.05,2,     1.53,2,    2.437,2,    1.277,2,   2133.0,2,   2261.0,2,   7.7200,2,    25.00,   -999.0,9,   -999.0,   8.8478
  49K619940107,   P02,    54,  1,     15,     15,2,19940124,1723, 30.0117, 174.0823, 5451, 7093.9000,    705.7,   6.2062,  34.0248,3,  34.0285,2,    142.1,2,    142.5,2,    57.10,6,    29.23,6,     2.24,6,    1.464,2,    0.793,2,   2208.0,2,   2281.0,2,   7.5500,2,    25.00,   -999.0,9,   -999.0,   6.1430
  49K619940107,   P02,    54,  1,     14,     14,2,19940124,1723, 30.0117, 174.0823, 5451, 8097.0000,    805.7,   4.9857,  34.0836,3,  34.0640,2,     91.5,2,   -999.0,9,    79.20,2,    35.45,2,     2.65,2,    0.700,2,    0.419,2,   2266.0,2,   2296.0,2,   7.4300,2,    25.00,   -999.0,9,   -999.0,   4.9204
  49K619940107,   P02,    54,  1,     13,     13,2,19940124,1723, 30.0117, 174.0823, 5451, 9118.2000,    907.5,   4.3060,  34.1723,2,  34.1710,2,     55.1,2,     54.7,2,   100.20,2,    40.18,2,     2.99,2,    0.214,2,    0.143,2,   2316.0,2,   2318.0,2,   7.3600,2,    25.00,   -999.0,9,   -999.0,   4.2363
  49K619940107,   P02,    54,  1,     12,     12,2,19940124,1723, 30.0117, 174.0823, 5451,10118.7000,   1007.3,   3.7521,  34.2784,3,  34.2683,2,     37.6,3,     34.9,2,   117.20,2,    42.39,2,     3.13,2,    0.083,2,    0.064,2,   2348.0,2,   2338.0,2,   7.3300,2,    25.00,   -999.0,9,   -999.0,   3.6781
  49K619940107,   P02,    54,  1,     11,     11,2,19940124,1723, 30.0117, 174.0823, 5451,12654.8000,   1260.5,   3.0931,  34.4194,2,  34.4168,2,     28.8,2,     30.5,2,   139.50,2,    43.36,2,     3.23,2,    0.011,2,    0.001,2,   2376.0,2,   2368.0,2,   7.3300,2,    25.00,   -999.0,9,   -999.0,   3.0042
  49K619940107,   P02,    54,  1,     10,     10,2,19940124,1723, 30.0117, 174.0823, 5451,15171.1000,   1511.9,   2.6003,  34.4988,2,  34.5000,2,     35.5,3,     37.8,2,   154.60,2,    43.80,2,     3.21,2,    0.010,2,    0.001,2,   2387.0,2,   2385.0,2,   7.3500,2,    25.00,   -999.0,9,   -999.0,   2.4963
  49K619940107,   P02,    54,  1,      9,      9,2,19940124,1723, 30.0117, 174.0823, 5451,17715.7000,   1766.3,   2.2048,  34.5617,2,  34.5623,2,     54.1,2,     53.8,2,   164.00,2,    42.61,2,     3.13,2,    0.008,2,    0.000,2,   2387.0,2,   2400.0,2,   7.3800,2,    25.00,   -999.0,9,   -999.0,   2.0850
  49K619940107,   P02,    54,  1,      8,      8,2,19940124,1723, 30.0117, 174.0823, 5451,20240.9000,   2019.0,   1.9471,  34.6001,2,  34.6002,2,     73.1,3,     75.8,2,   164.00,2,    40.77,2,     3.03,2,    0.002,2,    0.000,2,   2380.0,2,   2404.0,2,   7.4200,2,    25.00,   -999.0,9,   -999.0,   1.8100
  49K619940107,   P02,    54,  1,      7,      7,2,19940124,1723, 30.0117, 174.0823, 5451,25345.3000,   2530.2,   1.6536,  34.6428,2,  34.6428,2,    104.6,3,    107.3,2,   162.80,2,    38.94,2,     2.87,2,    0.008,2,    0.000,2,   2363.0,2,   2407.0,2,   7.4900,2,    25.00,   -999.0,9,   -999.0,   1.4771
  49K619940107,   P02,    54,  1,      6,      6,2,19940124,1723, 30.0117, 174.0823, 5451,30430.8000,   3039.8,   1.5247,  34.6646,2,  34.6619,2,    127.7,2,    128.1,2,   159.10,2,    37.25,2,     2.76,2,    0.000,2,    0.000,2,   2345.0,2,   2410.0,2,   7.5200,2,    25.00,   -999.0,9,   -999.0,   1.3036
  49K619940107,   P02,    54,  1,      5,      5,2,19940124,1723, 30.0117, 174.0823, 5451,35527.2000,   3550.7,   1.4659,  34.6779,2,  34.6758,2,    141.4,3,    144.7,2,   156.90,2,    36.31,2,     2.65,2,    0.007,2,    0.000,2,   2340.0,2,   2412.0,2,   7.5500,2,    25.00,   -999.0,9,   -999.0,   1.1954
  49K619940107,   P02,    54,  1,      4,      4,2,19940124,1723, 30.0117, 174.0823, 5451,40646.0000,   4063.7,   1.4550,  34.6846,2,  34.6843,2,    151.8,3,    154.9,2,   154.10,6,    35.48,6,     2.65,6,    0.005,2,    0.000,2,   2325.0,2,   2406.0,2,   7.5700,2,    25.00,   -999.0,9,   -999.0,   1.1304
  49K619940107,   P02,    54,  1,      3,      3,2,19940124,1723, 30.0117, 174.0823, 5451,45799.8000,   4579.9,   1.4415,  34.6917,2,  34.6913,2,    163.3,2,    163.7,2,   144.60,2,    34.58,2,     2.59,2,    0.001,2,    0.000,2,   2316.0,2,   2402.0,2,   7.5800,2,    25.00,   -999.0,9,   -999.0,   1.0590
  49K619940107,   P02,    54,  1,      2,      2,2,19940124,1723, 30.0117, 174.0823, 5451,50960.7000,   5096.2,   1.4838,  34.6931,2,  34.6935,2,    168.9,2,    169.7,2,   144.80,2,    34.10,2,     2.55,2,    0.000,2,    0.000,2,   2316.0,2,   2401.0,2,   7.5900,2,    25.00,   -999.0,9,   -999.0,   1.0382
  49K619940107,   P02,    54,  1,      1,      1,2,19940124,1723, 30.0117, 174.0823, 5451,55328.5000,   5532.5,   1.4951,  34.6970,2,  34.6965,2,    175.2,2,    174.7,2,   141.00,6,    33.87,6,     2.50,6,    0.000,2,    0.000,2,   2311.0,2,   2401.0,2,   7.5900,2,    25.00,   -999.0,9,   -999.0,   0.9944