BOTTLE,20220810CCHSIOAMB
EXPOCODE,SECT_ID,STNNBR,CASTNO,SAMPNO,BTLNBR,BTLNBR_FLAG_W,DATE,TIME,LATITUDE,LONGITUDE,DEPTH,CTDRAW,CTDPRS,CTDTMP,CTDSAL,CTDSAL_FLAG_W,SALNTY,SALNTY_FLAG_W,CTDOXY,CTDOXY_FLAG_W,OXYGEN,OXYGEN_FLAG_W,SILCAT,SILCAT_FLAG_W,NITRAT,NITRAT_FLAG_W,PHSPHT,PHSPHT_FLAG_W,CFC-11,CFC-11_FLAG_W,CFC-12,CFC-12_FLAG_W,TCARBN,TCARBN_FLAG_W,ALKALI,ALKALI_FLAG_W,PH_TOT,PH_TOT_FLAG_W,PH_TMP,DELC14,DELC14_FLAG_W,C14ERR,THETA
,,,,,,,,,,,METERS,,DBAR,ITS-90,PSS-78,,PSS-78,,UMOL/KG,,UMOL/KG,,UMOL/KG,,UMOL/KG,,UMOL/KG,,PMOL/KG,,PMOL/KG,,UMOL/KG,,UMOL/KG,,,,DEG C,/MILLE,,/MILLE,DEG C
  49K619940107,   P02,    62,  1,     24,     24,4,19940128,1617, 30.0052,-171.9193, 5386,  442.8000,     44.0,  17.3584,  34.8049,2,-999.0000,9,    240.5,2,   -999.0,9,  -999.00,9,  -999.00,9,  -999.00,9, -999.000,9, -999.000,9,   -999.0,9,   -999.0,9,-999.0000,9,  -999.00,   -999.0,9,   -999.0,  17.3511
  49K619940107,   P02,    62,  1,     23,     23,4,19940128,1617, 30.0052,-171.9193, 5386,  588.4000,     58.4,  17.3622,  34.8041,2,-999.0000,9,    240.1,2,   -999.0,9,  -999.00,9,  -999.00,9,  -999.00,9, -999.000,9, -999.000,9,   -999.0,9,   -999.0,9,-999.0000,9,  -999.00,   -999.0,9,   -999.0,  17.3525
  49K619940107,   P02,    62,  1,     22,     22,4,19940128,1617, 30.0052,-171.9193, 5386, 1006.6000,     99.9,  17.3617,  34.8064,2,-999.0000,9,    242.2,2,   -999.0,9,  -999.00,9,  -999.00,9,  -999.00,9, -999.000,9, -999.000,9,   -999.0,9,   -999.0,9,-999.0000,9,  -999.00,   -999.0,9,   -999.0,  17.3450
  49K619940107,   P02,    62,  1,     21,     21,4,19940128,1617, 30.0052,-171.9193, 5386, 1594.3000,    158.3,  14.1545,  34.5246,2,-999.0000,9,    224.0,2,   -999.0,9,  -999.00,9,  -999.00,9,  -999.00,9, -999.000,9, -999.000,9,   -999.0,9,   -999.0,9,-999.0000,9,  -999.00,   -999.0,9,   -999.0,  14.1316
  49K619940107,   P02,    62,  1,     20,     20,2,19940128,1617, 30.0052,-171.9193, 5386, 2131.7000,    211.7,  13.3198,  34.4703,3,  34.4802,2,    222.5,3,    211.9,2,    10.50,2,     6.51,3,     0.78,2,    2.923,2,    1.478,2,   2057.0,2,   2266.0,2,   7.8900,2,    25.00,   -999.0,9,   -999.0,  13.2903
  49K619940107,   P02,    62,  1,     19,     19,2,19940128,1617, 30.0052,-171.9193, 5386, 3110.8000,    309.1,  11.2872,  34.3156,3,  34.3236,2,    227.4,3,    220.3,2,    15.70,2,     9.07,2,     0.99,2,    2.956,2,    1.474,2,   2084.0,2,   2263.0,2,   7.8300,2,    25.00,   -999.0,9,   -999.0,  11.2485
  49K619940107,   P02,    62,  1,     18,     18,2,19940128,1617, 30.0052,-171.9193, 5386, 4099.6000,    407.4,   9.3061,  34.1544,3,  34.1684,2,    216.4,3,    202.8,2,    25.90,6,    18.47,3,     1.41,6,    2.664,2,    1.347,2,   2122.0,2,   2266.0,2,   7.7500,2,    25.00,   -999.0,9,   -999.0,   9.2609
  49K619940107,   P02,    62,  1,     17,     17,2,19940128,1617, 30.0052,-171.9193, 5386, 5092.3000,    506.2,   7.1104,  34.0402,2,  34.0416,2,    183.6,3,    165.4,2,    43.20,2,    26.03,2,     1.94,2,    1.959,2,    1.038,2,   2179.0,2,   2273.0,2,   7.6200,2,    25.00,   -999.0,9,   -999.0,   7.0623
  49K619940107,   P02,    62,  1,     16,     16,2,19940128,1617, 30.0052,-171.9193, 5386, 6134.8000,    610.0,   5.4676,  34.0223,3,  34.0132,2,    133.7,3,    121.9,2,    64.70,2,    32.79,2,     2.44,2,    1.204,2,    0.634,2,   2236.0,2,   2287.0,2,   7.5000,2,    25.00,   -999.0,9,   -999.0,   5.4168
  49K619940107,   P02,    62,  1,     15,     15,2,19940128,1617, 30.0052,-171.9193, 5386, 7126.4000,    708.8,   4.5702,  34.1094,3,  34.1046,2,     88.3,3,     74.6,2,    90.00,6,    38.50,3,     2.85,6,    0.494,2,    0.299,2,   2292.0,2,   2310.0,2,   7.4000,2,    25.00,   -999.0,9,   -999.0,   4.5155
  49K619940107,   P02,    62,  1,     14,     14,2,19940128,1617, 30.0052,-171.9193, 5386, 8130.0000,    808.8,   4.1071,  34.1898,3,  34.1855,2,     57.4,3,     51.2,2,   104.70,2,    41.34,2,     3.04,2,    0.229,2,    0.178,2,   2322.0,2,   2327.0,2,   7.3500,2,    25.00,   -999.0,9,   -999.0,   4.0468
  49K619940107,   P02,    62,  1,     13,     13,2,19940128,1617, 30.0052,-171.9193, 5386, 9161.2000,    911.6,   3.7252,  34.2699,2,  34.2682,2,     33.9,3,     29.3,2,   119.10,2,    43.06,2,     3.12,2,    0.065,2,    0.044,2,   2342.0,2,   2344.0,2,   7.3300,2,    25.00,   -999.0,9,   -999.0,   3.6591
  49K619940107,   P02,    62,  1,     12,     12,2,19940128,1617, 30.0052,-171.9193, 5386,10118.4000,   1007.1,   3.4410,  34.3368,3,  34.3316,2,     24.1,3,     21.5,2,   128.50,2,    43.87,2,     3.27,2,    0.026,2,    0.033,2,   2362.0,2,   2352.0,2,   7.3200,2,    25.00,   -999.0,9,   -999.0,   3.3694
  49K619940107,   P02,    62,  1,     11,     11,2,19940128,1617, 30.0052,-171.9193, 5386,12667.2000,   1261.5,   2.9034,  34.4716,3,  34.4660,2,     31.3,2,     32.3,2,   144.70,2,    43.08,2,     3.25,2,    0.013,2,    0.008,2,   2376.0,2,   2378.0,2,   7.3400,2,    25.00,   -999.0,9,   -999.0,   2.8162
  49K619940107,   P02,    62,  1,     10,     10,2,19940128,1617, 30.0052,-171.9193, 5386,15188.6000,   1513.4,   2.4995,  34.5432,2,  34.5419,2,     46.5,2,     48.1,2,   156.90,2,    42.09,2,     3.20,2,    0.000,2,    0.000,2,   2373.0,3,   2392.0,2,   7.3800,2,    25.00,   -999.0,9,   -999.0,   2.3964
  49K619940107,   P02,    62,  1,      9,      9,2,19940128,1617, 30.0052,-171.9193, 5386,17702.8000,   1764.8,   2.1583,  34.5839,2,  34.5840,2,     67.0,2,     65.5,2,   164.30,2,    41.02,2,     3.10,2,    0.004,2,    0.000,2,   2376.0,2,   2400.0,2,   7.4100,2,    25.00,   -999.0,9,   -999.0,   2.0391
  49K619940107,   P02,    62,  1,      8,      8,2,19940128,1617, 30.0052,-171.9193, 5386,20258.6000,   2020.5,   1.9330,  34.6116,2,  34.6119,2,     84.6,3,     81.7,2,   166.90,2,    40.14,2,     3.02,2,    0.001,2,    0.004,2,   2370.0,2,   2405.0,2,   7.4500,2,    25.00,   -999.0,9,   -999.0,   1.7959
  49K619940107,   P02,    62,  1,      7,      7,2,19940128,1617, 30.0052,-171.9193, 5386,25337.0000,   2529.1,   1.6533,  34.6474,2,  34.6478,2,    113.0,3,    109.8,2,   165.50,2,    39.35,2,     2.89,2,    0.004,2,    0.000,2,   2354.0,2,   2410.0,2,   7.5000,2,    25.00,   -999.0,9,   -999.0,   1.4769
  49K619940107,   P02,    62,  1,      6,      6,2,19940128,1617, 30.0052,-171.9193, 5386,30466.1000,   3043.2,   1.5294,  34.6666,2,  34.6668,2,    130.2,2,    131.5,2,   161.90,2,    38.08,2,     2.79,2,    0.000,2,    0.000,2,   2343.0,2,   2409.0,2,   7.5300,2,    25.00,   -999.0,9,   -999.0,   1.3078
  49K619940107,   P02,    62,  1,      5,      5,2,19940128,1617, 30.0052,-171.9193, 5386,35511.0000,   3548.9,   1.4721,  34.6774,2,  34.6770,2,    142.1,2,    143.1,2,   161.30,2,    37.38,2,     2.72,2,    0.000,2,    0.002,2,   2332.0,2,   2409.0,2,   7.5500,2,    25.00,   -999.0,9,   -999.0,   1.2016
  49K619940107,   P02,    62,  1,      4,      4,2,19940128,1617, 30.0052,-171.9193, 5386,40697.5000,   4068.7,   1.4596,  34.6848,2,  34.6848,2,    151.4,2,    151.3,2,   157.80,3,    36.33,3,     2.67,6,    0.000,2,    0.006,2,   2328.0,2,   2409.0,2,   7.5700,2,    25.00,   -999.0,9,   -999.0,   1.1343
  49K619940107,   P02,    62,  1,      3,      3,2,19940128,1617, 30.0052,-171.9193, 5386,45775.7000,   4577.3,   1.4772,  34.6892,2,  34.6889,2,    158.6,2,    157.1,2,   155.50,2,    36.16,2,     2.63,2,    0.000,2,    0.000,2,   2324.0,2,   2409.0,2,   7.5800,2,    25.00,   -999.0,9,   -999.0,   1.0939
  49K619940107,   P02,    62,  1,      2,      2,2,19940128,1617, 30.0052,-171.9193, 5386,50923.8000,   5092.3,   1.4935,  34.6929,2,  34.6922,2,    165.3,2,    165.6,2,   146.10,2,    35.00,2,     2.59,2,    0.000,2,    0.000,2,   2317.0,2,   2400.0,2,   7.5800,2,    25.00,   -999.0,9,   -999.0,   1.0481
  49K619940107,   P02,    62,  1,      1,      1,2,19940128,1617, 30.0052,-171.9193, 5386,54727.9000,   5472.4,   1.5316,  34.6943,2,  34.6932,2,    170.2,3,    167.0,2,   145.40,3,    35.29,3,     2.58,6,    0.009,2,    0.000,2,   2310.0,2,   2399.0,2,   7.5800,2,    25.00,   -999.0,9,   -999.0,   1.0373
  49K619940107,   P02,    63,  1,     24,     24,4,19940129,0630, 29.9920,-170.1510, 5342, 1018.4000,    101.2,  17.8925,  34.9108,2,-999.0000,9,    238.3,2,   -999.0,9,  -999.00,9,  -999.00,9,  -999.00,9, -999.000,9, -999.000,9,   -999.0,9,   -999.0,9,-999.0000,9,  -999.00,   -999.0,9,   -999.0,  17.8752
  49K619940107,   P02,    63,  1,     23,     23,2,19940129,0630, 29.9920,-170.1510, 5342, 1194.1000,    118.7,  17.6462,  34.8557,3,  34.8604,2,    237.0,2,   -999.0,9,  -999.00,9,  -999.00,9,  -999.00,9, -999.000,9, -999.000,9,   -999.0,9,   -999.0,9,-999.0000,9,  -999.00,   -999.0,9,   -999.0,  17.6261
  49K619940107,   P02,    63,  1,     22,     22,4,19940129,0630, 29.9920,-170.1510, 5342, 1427.5000,    141.9,  16.2792,  34.7156,2,-999.0000,9,    226.9,2,   -999.0,9,     4.20,3,     1.32,3,     0.26,3,    2.572,2,    1.423,2,   2006.0,2,   2281.0,2,   8.0100,2,    25.00,   -999.0,9,   -999.0,  16.2566
  49K619940107,   P02,    63,  1,     21,     21,2,19940129,0630, 29.9920,-170.1510, 5342, 1680.5000,    167.0,  15.5047,  34.6680,3,  34.6998,2,    217.2,2,    216.1,2,     6.20,2,     5.52,2,     0.52,2,    2.633,2,    1.440,2,   2032.0,2,   2273.0,2,   7.9600,2,    25.00,   -999.0,9,   -999.0,  15.4789
  49K619940107,   P02,    63,  1,     20,     20,2,19940129,0630, 29.9920,-170.1510, 5342, 2215.5000,    220.2,  14.2225,  34.5275,3,  34.5763,2,    221.3,3,    218.6,2,     8.10,2,     7.03,2,     0.63,2,    2.818,2,    1.484,2,   2042.0,2,   2263.0,2,   7.9200,2,    25.00,   -999.0,9,   -999.0,  14.1904
  49K619940107,   P02,    63,  1,     19,     19,2,19940129,0630, 29.9920,-170.1510, 5342, 3218.4000,    319.9,  12.2854,  34.3935,3,  34.3992,2,    223.5,2,    222.0,2,    13.20,2,    10.72,2,     0.88,2,    2.907,2,    1.534,2,   2068.0,2,   2257.0,2,   7.8700,2,    25.00,   -999.0,9,   -999.0,  12.2431
  49K619940107,   P02,    63,  1,     18,     18,2,19940129,0630, 29.9920,-170.1510, 5342, 4215.8000,    419.1,  10.2808,  34.2663,3,  34.3020,2,    214.2,2,    215.4,2,    19.00,6,    14.03,6,     1.12,6,    2.830,2,    1.495,2,   2091.0,2,   2262.0,2,   7.8200,2,    25.00,   -999.0,9,   -999.0,  10.2312
  49K619940107,   P02,    63,  1,     17,     17,2,19940129,0630, 29.9920,-170.1510, 5342, 5152.9000,    512.3,   8.2696,  34.0964,3,  34.1175,2,    186.6,3,    189.2,2,    33.20,2,    21.64,2,     1.63,2,    2.324,2,    1.209,2,   2142.0,2,   2261.0,2,   7.7100,2,    25.00,   -999.0,9,   -999.0,   8.2163
  49K619940107,   P02,    63,  1,     16,     16,2,19940129,0630, 29.9920,-170.1510, 5342, 6166.3000,    613.2,   6.3394,  34.0185,3,  34.0224,2,    144.0,3,    150.4,2,    53.20,2,    29.00,2,     2.18,2,    1.646,2,    0.885,2,   2202.0,2,   2273.0,2,   7.5800,2,    25.00,   -999.0,9,   -999.0,   6.2842
  49K619940107,   P02,    63,  1,     15,     15,2,19940129,0630, 29.9920,-170.1510, 5342, 7176.5000,    713.9,   5.1317,  34.0496,3,  34.0422,2,    104.9,2,    106.7,2,    76.10,6,    34.56,3,     2.61,6,    0.957,2,    0.544,2,   2255.0,2,   2294.0,2,   7.4600,2,    25.00,   -999.0,9,   -999.0,   5.0735
  49K619940107,   P02,    63,  1,     14,     14,2,19940129,0630, 29.9920,-170.1510, 5342, 8163.6000,    812.2,   4.3777,  34.1454,3,  34.1274,2,     56.8,2,     58.7,2,    96.70,2,    40.36,2,     2.98,2,    0.229,2,    0.151,2,   2310.0,2,   2315.0,2,   7.3700,2,    25.00,   -999.0,9,   -999.0,   4.3155
  49K619940107,   P02,    63,  1,     13,     13,2,19940129,0630, 29.9920,-170.1510, 5342, 9171.9000,    912.8,   3.9355,  34.2258,3,  34.2162,2,     30.7,3,     34.1,2,   114.80,2,    42.01,2,     3.16,2,    0.066,2,    0.046,2,   2338.0,2,   2330.0,2,   7.3300,2,    25.00,   -999.0,9,   -999.0,   3.8679
  49K619940107,   P02,    63,  1,     12,     12,2,19940129,0630, 29.9920,-170.1510, 5342,10171.2000,   1012.4,   3.6483,  34.2965,3,  34.2905,2,     23.4,2,     22.3,2,   124.30,2,    43.05,2,     3.25,2,    0.030,2,    0.013,2,   2360.0,2,   2344.0,2,   7.3200,2,    25.00,   -999.0,9,   -999.0,   3.5747
  49K619940107,   P02,    63,  1,     11,     11,2,19940129,0630, 29.9920,-170.1510, 5342,12685.3000,   1263.4,   3.0014,  34.4406,2,  34.4390,2,     25.6,3,     23.2,2,   144.70,2,    44.53,2,     3.28,2,    0.017,2,    0.000,2,   2383.0,2,   2375.0,2,   7.3200,2,    25.00,   -999.0,9,   -999.0,   2.9131
  49K619940107,   P02,    63,  1,     10,     10,2,19940129,0630, 29.9920,-170.1510, 5342,15242.2000,   1518.9,   2.5530,  34.5334,3,  34.5271,2,     44.2,2,     42.0,2,   156.40,2,    43.85,2,     3.20,2,    0.008,2,    0.001,2,   2388.0,2,   2388.0,2,   7.3700,2,    25.00,   -999.0,9,   -999.0,   2.4489
  49K619940107,   P02,    63,  1,      9,      9,2,19940129,0630, 29.9920,-170.1510, 5342,17759.6000,   1770.6,   2.1922,  34.5804,2,  34.5786,2,     61.8,2,     59.7,2,   166.40,2,    42.87,2,     3.12,2,    0.008,2,    0.000,2,   2381.0,2,   2400.0,2,   7.4000,2,    25.00,   -999.0,9,   -999.0,   2.0721
  49K619940107,   P02,    63,  1,      8,      8,2,19940129,0630, 29.9920,-170.1510, 5342,20311.3000,   2025.9,   1.9304,  34.6117,2,  34.6120,2,     81.3,2,     80.9,2,   169.10,2,    40.70,2,     3.03,2,    0.005,2,    0.000,2,   2377.0,2,   2407.0,2,   7.4400,2,    25.00,   -999.0,9,   -999.0,   1.7929
  49K619940107,   P02,    63,  1,      7,      7,2,19940129,0630, 29.9920,-170.1510, 5342,25363.2000,   2531.9,   1.6621,  34.6476,2,  34.6469,2,    106.1,2,    104.9,2,   171.90,2,    40.07,2,     2.91,2,    0.000,2,    0.000,2,   2369.0,2,   2410.0,2,   7.4900,2,    25.00,   -999.0,9,   -999.0,   1.4853
  49K619940107,   P02,    63,  1,      6,      6,2,19940129,0630, 29.9920,-170.1510, 5342,30462.8000,   3042.9,   1.5243,  34.6673,2,  34.6650,2,    126.8,2,    126.4,2,   169.90,2,    38.34,2,     2.79,2,    0.000,2,    0.000,2,   2360.0,2,   2412.0,2,   7.5200,2,    25.00,   -999.0,9,   -999.0,   1.3029
  49K619940107,   P02,    63,  1,      5,      5,2,19940129,0630, 29.9920,-170.1510, 5342,35583.1000,   3556.2,   1.4652,  34.6787,2,  34.6775,2,    142.0,2,    143.1,2,   161.70,2,    37.57,2,     2.71,2,    0.000,2,    0.000,2,   2344.0,2,   2412.0,2,   7.5500,2,    25.00,   -999.0,9,   -999.0,   1.1942
  49K619940107,   P02,    63,  1,      4,      4,2,19940129,0630, 29.9920,-170.1510, 5342,40664.7000,   4065.5,   1.4594,  34.6848,2,  34.6844,2,    150.3,2,    150.4,2,   159.70,6,    36.62,6,     2.67,6,    0.000,2,    0.000,2,   2336.0,2,   2410.0,2,   7.5700,2,    25.00,   -999.0,9,   -999.0,   1.1344
  49K619940107,   P02,    63,  1,      3,      3,2,19940129,0630, 29.9920,-170.1510, 5342,45819.8000,   4581.8,   1.4921,  34.6876,2,  34.6872,2,    154.4,2,    153.0,2,   158.30,2,    36.18,2,     2.65,2,    0.000,2,    0.005,2,   2335.0,2,   2409.0,2,   7.5700,2,    25.00,   -999.0,9,   -999.0,   1.1078
  49K619940107,   P02,    63,  1,      2,      2,2,19940129,0630, 29.9920,-170.1510, 5342,50938.5000,   5093.9,   1.5279,  34.6902,2,  34.6889,2,    160.5,3,    158.1,2,   150.90,2,    35.73,2,     2.62,2,    0.000,2,    0.003,2,   2332.0,2,   2405.0,2,   7.5800,2,    25.00,   -999.0,9,   -999.0,   1.0811
  49K619940107,   P02,    63,  1,      1,      1,2,19940129,0630, 29.9920,-170.1510, 5342,54379.8000,   5437.7,   1.5426,  34.6932,2,  34.6913,2,    165.1,2,    165.3,2,   147.00,6,    35.84,6,     2.58,6,    0.005,2,    0.000,2,   2329.0,2,   2401.0,2,   7.5800,2,    25.00,   -999.0,9,   -999.0,   1.0523