BOTTLE,20220810CCHSIOAMB
EXPOCODE,SECT_ID,STNNBR,CASTNO,SAMPNO,BTLNBR,BTLNBR_FLAG_W,DATE,TIME,LATITUDE,LONGITUDE,DEPTH,CTDRAW,CTDPRS,CTDTMP,CTDSAL,CTDSAL_FLAG_W,SALNTY,SALNTY_FLAG_W,CTDOXY,CTDOXY_FLAG_W,OXYGEN,OXYGEN_FLAG_W,SILCAT,SILCAT_FLAG_W,NITRAT,NITRAT_FLAG_W,PHSPHT,PHSPHT_FLAG_W,CFC-11,CFC-11_FLAG_W,CFC-12,CFC-12_FLAG_W,TCARBN,TCARBN_FLAG_W,ALKALI,ALKALI_FLAG_W,PH_TOT,PH_TOT_FLAG_W,PH_TMP,DELC14,DELC14_FLAG_W,C14ERR,THETA
,,,,,,,,,,,METERS,,DBAR,ITS-90,PSS-78,,PSS-78,,UMOL/KG,,UMOL/KG,,UMOL/KG,,UMOL/KG,,UMOL/KG,,PMOL/KG,,PMOL/KG,,UMOL/KG,,UMOL/KG,,,,DEG C,/MILLE,,/MILLE,DEG C
  49K619940107,   P02,    83,  1,     24,     24,4,19940208,1312, 29.9902,-127.7452, 4490,  406.2000,     40.3,  18.0727,  34.2058,2,-999.0000,9,    240.6,2,   -999.0,9,  -999.00,9,  -999.00,9,  -999.00,9, -999.000,9, -999.000,9,   -999.0,9,   -999.0,9,-999.0000,9,  -999.00,   -999.0,9,   -999.0,  18.0658
  49K619940107,   P02,    83,  1,     23,     23,2,19940208,1312, 29.9902,-127.7452, 4490,  576.1000,     57.2,  18.0815,  34.2095,2,  34.2094,2,    237.5,2,    236.6,2,     3.00,2,     0.16,2,     0.31,2,    2.512,2,    1.408,2,   1998.0,2,   2271.0,2,   7.9900,2,    25.00,   -999.0,9,   -999.0,  18.0717
  49K619940107,   P02,    83,  1,     22,     22,2,19940208,1312, 29.9902,-127.7452, 4490,  842.7000,     83.7,  18.1021,  34.2199,3,  34.1899,2,    232.8,3,    237.8,2,     3.00,2,     0.18,2,     0.31,2,    2.556,2,    1.420,2,   2020.0,2,   2271.0,2,   7.9900,2,    25.00,   -999.0,9,   -999.0,  18.0878
  49K619940107,   P02,    83,  1,     21,     21,2,19940208,1312, 29.9902,-127.7452, 4490, 1095.4000,    108.8,  16.9261,  34.2094,3,  34.3588,2,    238.5,3,    232.3,2,     3.10,2,     0.32,2,     0.32,2,    2.498,2,    1.415,2,   2003.0,2,   2283.0,2,   7.9900,2,    25.00,   -999.0,9,   -999.0,  16.9083
  49K619940107,   P02,    83,  1,     20,     20,2,19940208,1312, 29.9902,-127.7452, 4490, 1328.6000,    131.9,  15.8299,  34.1937,3,  34.1890,2,    227.3,2,    226.2,2,     3.90,2,     1.78,2,     0.42,2,    2.763,2,    1.500,2,   2023.0,2,   2258.0,2,   7.9400,2,    25.00,   -999.0,9,   -999.0,  15.8093
  49K619940107,   P02,    83,  1,     19,     19,2,19940208,1312, 29.9902,-127.7452, 4490, 1577.5000,    156.7,  12.9145,  33.7399,3,  33.8404,2,    224.9,3,    219.6,2,     6.20,2,     5.06,2,     0.68,2,    3.072,2,    1.632,2,   2035.0,2,   2238.0,2,   7.8800,2,    25.00,   -999.0,9,   -999.0,  12.8933
  49K619940107,   P02,    83,  1,     18,     18,2,19940208,1312, 29.9902,-127.7452, 4490, 2082.9000,    206.9,   9.9427,  33.6213,3,  33.6429,2,    211.4,2,    209.6,2,    12.90,6,    12.78,6,     1.18,6,    3.340,2,    1.710,2,   2076.0,2,   2222.0,2,   7.7600,2,    25.00,   -999.0,9,   -999.0,   9.9192
  49K619940107,   P02,    83,  1,     17,     17,2,19940208,1312, 29.9902,-127.7452, 4490, 2535.4000,    251.8,   8.5425,  33.8121,3,  33.7909,2,    178.5,2,    179.8,2,    23.00,2,    20.30,2,     1.66,2,    2.820,2,    1.446,2,   2141.0,2,   2236.0,2,   7.6500,2,    25.00,   -999.0,9,   -999.0,   8.5164
  49K619940107,   P02,    83,  1,     16,     16,2,19940208,1312, 29.9902,-127.7452, 4490, 3080.9000,    306.1,   7.8274,  33.9760,3,  33.9640,2,    154.2,2,    152.1,2,    32.70,2,    24.74,2,     1.92,2,    2.080,2,    1.104,2,   2165.0,2,   2253.0,2,   7.5900,2,    25.00,   -999.0,9,   -999.0,   7.7971
  49K619940107,   P02,    83,  1,     15,     15,2,19940208,1312, 29.9902,-127.7452, 4490, 4128.6000,    410.3,   6.5579,  34.0373,2,  34.0349,2,     85.0,3,     97.7,2,    51.20,2,    32.34,2,     2.47,2,    0.920,2,    0.547,2,   2231.0,2,   2270.0,2,   7.4500,2,    25.00,   -999.0,9,   -999.0,   6.5209
  49K619940107,   P02,    83,  1,     14,     14,2,19940208,1312, 29.9902,-127.7452, 4490, 5057.2000,    502.7,   5.8426,  34.0976,2,  34.0993,2,     48.1,3,     50.4,2,    68.70,2,    37.80,2,     2.88,2,    0.305,2,    0.213,2,   2284.0,2,   2290.0,2,   7.3500,2,    25.00,   -999.0,9,   -999.0,   5.7996
  49K619940107,   P02,    83,  1,     13,     13,2,19940208,1312, 29.9902,-127.7452, 4490, 6057.7000,    602.3,   5.1468,  34.2103,3,  34.2034,2,     22.8,2,     22.6,2,    85.50,2,    41.05,2,     3.17,2,    0.050,2,    0.050,2,   2325.0,2,   2307.0,2,   7.3100,2,    25.00,   -999.0,9,   -999.0,   5.0980
  49K619940107,   P02,    83,  1,     12,     12,2,19940208,1312, 29.9902,-127.7452, 4490, 7121.9000,    708.3,   4.7603,  34.3026,3,  34.2968,2,     13.8,2,     15.7,2,    97.30,2,    41.87,2,     3.27,2,    0.014,2,    0.011,2,   2347.0,2,   2327.0,2,   7.3000,2,    25.00,   -999.0,9,   -999.0,   4.7043
  49K619940107,   P02,    83,  1,     11,     11,2,19940208,1312, 29.9902,-127.7452, 4490, 8132.7000,    809.0,   4.4023,  34.3747,3,  34.3597,2,     15.0,2,     14.8,2,   106.40,2,    41.90,2,     3.28,2,    0.014,2,    0.005,2,   2357.0,2,   2339.0,2,   7.3200,2,    25.00,   -999.0,9,   -999.0,   4.3399
  49K619940107,   P02,    83,  1,     10,     10,2,19940208,1312, 29.9902,-127.7452, 4490,10112.4000,   1006.5,   3.8109,  34.4656,2,  34.4675,2,     27.5,2,     27.7,2,   121.10,2,    43.35,2,     3.27,2,    0.000,2,    0.002,2,   2369.0,2,   2360.0,2,   7.3400,2,    25.00,   -999.0,9,   -999.0,   3.7362
  49K619940107,   P02,    83,  1,      9,      9,3,19940208,1312, 29.9902,-127.7452, 4490,12643.5000,   1259.1,   3.2172,  34.5289,2,  34.5270,2,     39.1,2,     38.9,4,  -999.00,9,  -999.00,9,  -999.00,9,    0.011,4,    0.014,4,   2380.0,2,   -999.0,9,   7.3700,2,    25.00,   -999.0,9,   -999.0,   3.1270
  49K619940107,   P02,    83,  1,      8,      8,2,19940208,1312, 29.9902,-127.7452, 4490,15205.3000,   1515.1,   2.8096,  34.5619,2,  34.5637,2,     51.7,3,     54.9,2,   144.80,2,    41.84,2,     3.18,2,    0.000,2,    0.001,2,   2395.0,3,   2390.0,2,   7.3800,2,    25.00,   -999.0,9,   -999.0,   2.7027
  49K619940107,   P02,    83,  1,      7,      7,2,19940208,1312, 29.9902,-127.7452, 4490,20272.1000,   2021.9,   2.1016,  34.6222,2,  34.6226,2,     80.8,2,     82.5,2,   162.70,2,    40.27,2,     3.02,2,    0.000,2,    0.000,2,   2383.0,2,   2408.0,2,   7.4400,2,    25.00,   -999.0,9,   -999.0,   1.9618
  49K619940107,   P02,    83,  1,      6,      6,2,19940208,1312, 29.9902,-127.7452, 4490,25358.8000,   2531.3,   1.7711,  34.6487,2,  34.6507,2,    103.7,2,   -999.0,9,   171.40,2,    38.85,2,     2.89,2,    0.000,2,    0.000,2,   2376.0,2,   2416.0,2,   7.4800,2,    25.00,   -999.0,9,   -999.0,   1.5922
  49K619940107,   P02,    83,  1,      5,      5,2,19940208,1312, 29.9902,-127.7452, 4490,30442.1000,   3040.8,   1.5715,  34.6673,2,  34.6685,2,    121.2,2,    121.8,2,   174.00,2,    37.95,2,     2.79,2,    0.000,2,    0.000,2,   2369.0,2,   2423.0,2,   7.5200,2,    25.00,   -999.0,9,   -999.0,   1.3492
  49K619940107,   P02,    83,  1,      4,      4,2,19940208,1312, 29.9902,-127.7452, 4490,35551.5000,   3552.9,   1.5099,  34.6769,2,  34.6783,2,    132.6,2,    134.6,2,   171.20,6,    37.39,6,     2.73,6,    0.002,2,    0.000,2,   2362.0,2,   2422.0,2,   7.5400,2,    25.00,   -999.0,9,   -999.0,   1.2381
  49K619940107,   P02,    83,  1,      3,      3,2,19940208,1312, 29.9902,-127.7452, 4490,40677.2000,   4066.6,   1.5166,  34.6824,2,  34.6830,2,    140.6,3,    143.1,2,   168.70,2,    36.99,2,     2.68,2,    0.000,2,    0.000,2,   2355.0,2,   2420.0,2,   7.5500,2,    25.00,   -999.0,9,   -999.0,   1.1899
  49K619940107,   P02,    83,  1,      2,      2,2,19940208,1312, 29.9902,-127.7452, 4490,43735.6000,   4373.0,   1.5396,  34.6841,2,  34.6843,2,    142.7,3,    145.7,2,   170.90,2,    36.80,2,     2.68,2,    0.002,2,    0.001,2,   2354.0,2,   2420.0,2,   7.5500,2,    25.00,   -999.0,9,   -999.0,   1.1779
  49K619940107,   P02,    83,  1,      1,      1,2,19940208,1312, 29.9902,-127.7452, 4490,45573.6000,   4557.1,   1.5594,  34.6838,2,  34.6855,2,    144.0,2,    144.6,2,   167.30,3,    36.60,6,     2.67,6,    0.001,2,    0.001,2,   2353.0,2,   2419.0,2,   7.5500,2,    25.00,   -999.0,9,   -999.0,   1.1759
  49K619940107,   P02,    84,  1,     24,     24,2,19940209,0024, 29.9870,-125.4175, 4457,  451.4000,     44.9,  17.2320,  33.7192,2,  33.7221,2,    239.0,3,    242.6,2,     2.20,2,     0.42,2,     0.35,2,    2.636,2,    1.312,2,   1997.0,2,   2239.0,2,   7.9700,2,    25.00,     45.8,2,      7.0,  17.2246
  49K619940107,   P02,    84,  1,     23,     23,2,19940209,0024, 29.9870,-125.4175, 4457,  704.9000,     70.1,  17.2345,  33.7189,2,  33.7212,2,    248.7,3,    243.3,2,     2.90,3,     0.18,3,     0.36,3,    2.635,2,    1.328,2,   2002.0,2,   2240.0,2,   7.9700,2,    25.00,     76.0,2,      7.0,  17.2230
  49K619940107,   P02,    84,  1,     22,     22,4,19940209,0024, 29.9870,-125.4175, 4457,  783.2000,     77.9,  17.2349,  33.7194,2,-999.0000,9,    248.9,2,   -999.0,9,  -999.00,9,  -999.00,9,  -999.00,9,    2.605,2,    1.359,2,   2000.0,2,   2240.0,2,   7.9700,2,    25.00,     82.7,2,      7.0,  17.2221
  49K619940107,   P02,    84,  1,     21,     21,2,19940209,0024, 29.9870,-125.4175, 4457, 1212.4000,    120.5,  15.9993,  33.6795,3,  33.7227,2,    238.8,3,    241.7,2,     2.20,2,     0.33,2,     0.35,2,    2.625,2,    1.349,2,   1998.0,2,   2238.0,2,   7.9700,2,    25.00,     69.0,2,      7.0,  15.9805
  49K619940107,   P02,    84,  1,     20,     20,2,19940209,0024, 29.9870,-125.4175, 4457, 1357.0000,    134.8,  15.2286,  33.7699,3,  33.7124,2,    234.1,3,    240.5,2,     2.80,2,     1.60,2,     0.40,2,    2.849,2,    1.442,2,   2004.0,2,   2229.0,2,   7.9300,2,    25.00,     93.7,2,      7.0,  15.2082
  49K619940107,   P02,    84,  1,     19,     19,2,19940209,0024, 29.9870,-125.4175, 4457, 1587.4000,    157.7,  12.3430,  33.5663,3,  33.6581,2,    216.6,3,    223.0,2,     5.70,2,     5.49,2,     0.70,2,    3.045,2,    1.508,2,   2033.0,2,   2221.0,2,   7.8600,2,    25.00,     82.6,2,      7.0,  12.3224
  49K619940107,   P02,    84,  1,     18,     18,2,19940209,0024, 29.9870,-125.4175, 4457, 2097.9000,    208.5,   9.2907,  33.6696,2,  33.6725,2,    192.6,2,   -999.0,9,    18.40,6,    18.20,6,     1.47,6,    2.905,2,    1.398,2,   2109.0,2,   2222.0,2,   7.6800,2,    25.00,     46.4,2,      7.0,   9.2680
  49K619940107,   P02,    84,  1,     17,     17,2,19940209,0024, 29.9870,-125.4175, 4457, 2697.5000,    268.1,   8.3082,  33.9287,3,  33.8601,2,    159.7,3,    163.0,2,    27.40,2,    23.54,2,     1.78,2,    2.348,2,    1.161,2,   2148.0,2,   2235.0,2,   7.6200,2,    25.00,     31.3,2,      7.0,   8.2808
  49K619940107,   P02,    84,  1,     16,     16,2,19940209,0024, 29.9870,-125.4175, 4457, 3095.5000,    307.6,   7.6610,  34.0087,3,  34.0001,2,    145.7,3,    132.0,2,    38.00,2,    27.50,2,     2.04,2,    1.679,2,    0.823,2,   2184.0,2,   2250.0,2,   7.5500,2,    25.00,     -1.4,2,      7.0,   7.6309
  49K619940107,   P02,    84,  1,     15,     15,2,19940209,0024, 29.9870,-125.4175, 4457, 4079.6000,    405.5,   6.3749,  34.1017,2,  34.1000,2,     79.5,3,     64.8,2,    63.60,6,    36.49,6,     2.73,6,    0.456,2,    0.241,2,   2261.0,2,   2275.0,2,   7.3800,2,    25.00,    -95.8,2,      7.0,   6.3388
  49K619940107,   P02,    84,  1,     14,     14,2,19940209,0024, 29.9870,-125.4175, 4457, 5167.2000,    513.7,   5.5414,  34.1860,3,  34.1771,2,     34.7,3,     31.4,2,    81.90,2,    40.02,2,     3.03,2,    0.123,2,    0.064,2,   2304.0,2,   2296.0,2,   7.3200,2,    25.00,   -126.5,2,      7.0,   5.4985
  49K619940107,   P02,    84,  1,     13,     13,2,19940209,0024, 29.9870,-125.4175, 4457, 6086.7000,    605.3,   5.1558,  34.2515,2,  34.2535,2,     18.9,3,     21.8,2,    92.40,2,    42.13,2,     3.15,2,    0.033,2,    0.010,2,   2325.0,2,   2310.0,2,   7.3100,2,    25.00,   -156.7,2,      7.0,   5.1066
  49K619940107,   P02,    84,  1,     12,     12,2,19940209,0024, 29.9870,-125.4175, 4457, 7212.9000,    717.5,   4.7153,  34.3344,3,  34.3264,2,     12.7,2,   -999.0,9,   100.30,2,    43.12,2,     3.22,2,    0.020,2,    0.000,2,   2339.0,2,   2321.0,2,   7.3100,2,    25.00,   -187.1,2,      7.0,   4.6588
  49K619940107,   P02,    84,  1,     11,     11,2,19940209,0024, 29.9870,-125.4175, 4457, 8110.2000,    806.9,   4.4456,  34.3858,3,  34.3827,2,     13.6,2,     13.2,2,   107.60,2,    43.59,2,     3.22,2,    0.025,2,    0.007,2,   2346.0,2,   2336.0,2,   7.3200,2,    25.00,   -188.7,2,      7.0,   4.3831
  49K619940107,   P02,    84,  1,     10,     10,2,19940209,0024, 29.9870,-125.4175, 4457,10189.3000,   1014.2,   3.9468,  34.4679,3,  34.4619,2,     25.6,3,     21.8,2,   120.70,2,    44.19,2,     3.22,2,    0.009,2,    0.000,2,   2356.0,2,   2355.0,2,   7.3400,2,    25.00,   -224.1,2,      7.0,   3.8704
  49K619940107,   P02,    84,  1,      9,      9,2,19940209,0024, 29.9870,-125.4175, 4457,12671.0000,   1262.0,   3.3306,  34.5250,2,  34.5259,2,     39.1,3,     36.4,2,   134.60,2,    43.93,2,     3.17,2,    0.001,2,    0.000,2,   2365.0,2,   2374.0,2,   7.3700,2,    25.00,   -233.5,2,      7.0,   3.2391
  49K619940107,   P02,    84,  1,      8,      8,2,19940209,0024, 29.9870,-125.4175, 4457,15196.8000,   1514.3,   2.8353,  34.5626,3,  34.5664,2,     51.3,2,     50.1,2,   147.30,2,    43.46,2,     3.12,2,    0.000,2,    0.000,2,   2371.0,2,   2385.0,2,   7.3900,2,    25.00,   -233.5,2,      7.0,   2.7282
  49K619940107,   P02,    84,  1,      7,      7,2,19940209,0024, 29.9870,-125.4175, 4457,20253.1000,   2020.1,   2.1203,  34.6209,2,  34.6235,2,     80.7,2,     80.0,2,   163.20,2,    41.09,2,     2.97,2,    0.000,2,    0.000,2,   2368.0,2,   2405.0,2,   7.4500,2,    25.00,   -257.6,2,      7.0,   1.9803
  49K619940107,   P02,    84,  1,      6,      6,2,19940209,0024, 29.9870,-125.4175, 4457,25340.9000,   2529.6,   1.7942,  34.6485,2,  34.6503,2,    101.6,2,    103.0,2,   168.00,2,    39.98,2,     2.83,2,    0.000,2,    0.001,2,   2361.0,2,   2411.0,2,   7.4900,2,    25.00,   -245.3,2,      7.0,   1.6151
  49K619940107,   P02,    84,  1,      5,      5,2,19940209,0024, 29.9870,-125.4175, 4457,30415.2000,   3038.2,   1.6041,  34.6650,2,  34.6660,2,    118.9,2,    119.3,2,   174.00,2,    39.00,2,     2.74,2,    0.000,2,    0.000,2,   2353.0,2,   2415.0,2,   7.5200,2,    25.00,   -242.3,2,      7.0,   1.3813
  49K619940107,   P02,    84,  1,      4,      4,2,19940209,0024, 29.9870,-125.4175, 4457,35521.3000,   3550.0,   1.5151,  34.6763,2,  34.6780,2,    133.7,2,    132.1,2,   171.20,6,    38.18,6,     2.68,6,    0.000,2,    0.001,2,   2345.0,2,   2417.0,2,   7.5400,2,    25.00,   -238.3,2,      7.0,   1.2434
  49K619940107,   P02,    84,  1,      3,      3,2,19940209,0024, 29.9870,-125.4175, 4457,40667.7000,   4065.8,   1.5198,  34.6819,2,  34.6825,2,    139.5,2,    138.9,2,   171.00,2,    37.80,2,     2.65,2,    0.001,2,    0.001,2,   2342.0,2,   2417.0,2,   7.5500,2,    25.00,   -250.6,2,      7.0,   1.1931
  49K619940107,   P02,    84,  1,      2,      2,2,19940209,0024, 29.9870,-125.4175, 4457,43723.3000,   4371.9,   1.5432,  34.6836,2,  34.6839,2,    142.2,2,    140.7,2,   169.10,2,    37.31,2,     2.64,2,    0.000,2,    0.002,2,   2336.0,2,   2418.0,2,   7.5500,3,    25.00,   -238.0,2,      7.0,   1.1815
  49K619940107,   P02,    84,  1,      1,      1,2,19940209,0024, 29.9870,-125.4175, 4457,45113.3000,   4511.1,   1.5574,  34.6838,2,  34.6851,2,    143.1,2,    142.0,2,   170.50,6,    37.65,6,     2.64,6,    0.005,2,    0.000,2,   2335.0,2,   2467.0,4,   7.4600,3,    25.00,   -244.4,2,      7.0,   1.1793