BOTTLE,20220810CCHSIOAMB
EXPOCODE,SECT_ID,STNNBR,CASTNO,SAMPNO,BTLNBR,BTLNBR_FLAG_W,DATE,TIME,LATITUDE,LONGITUDE,DEPTH,CTDRAW,CTDPRS,CTDTMP,CTDSAL,CTDSAL_FLAG_W,SALNTY,SALNTY_FLAG_W,CTDOXY,CTDOXY_FLAG_W,OXYGEN,OXYGEN_FLAG_W,SILCAT,SILCAT_FLAG_W,NITRAT,NITRAT_FLAG_W,PHSPHT,PHSPHT_FLAG_W,CFC-11,CFC-11_FLAG_W,CFC-12,CFC-12_FLAG_W,TCARBN,TCARBN_FLAG_W,ALKALI,ALKALI_FLAG_W,PH_TOT,PH_TOT_FLAG_W,PH_TMP,DELC14,DELC14_FLAG_W,C14ERR,THETA
,,,,,,,,,,,METERS,,DBAR,ITS-90,PSS-78,,PSS-78,,UMOL/KG,,UMOL/KG,,UMOL/KG,,UMOL/KG,,UMOL/KG,,PMOL/KG,,PMOL/KG,,UMOL/KG,,UMOL/KG,,,,DEG C,/MILLE,,/MILLE,DEG C
  49K619940107,   P02,    34,  1,     24,     24,4,19940116,0628, 30.0012, 145.0877, 5936,  330.4000,     32.6,  20.3096,  34.9275,2,-999.0000,9,    224.7,2,   -999.0,9,  -999.00,9,  -999.00,9,  -999.00,9, -999.000,9, -999.000,9,   -999.0,9,   -999.0,9,-999.0000,9,  -999.00,   -999.0,9,   -999.0,  20.3035
  49K619940107,   P02,    34,  1,     23,     23,4,19940116,0628, 30.0012, 145.0877, 5936,  678.8000,     67.2,  20.3152,  34.9267,2,-999.0000,9,    225.1,2,   -999.0,9,  -999.00,9,  -999.00,9,  -999.00,9, -999.000,9, -999.000,9,   -999.0,9,   -999.0,9,-999.0000,9,  -999.00,   -999.0,9,   -999.0,  20.3027
  49K619940107,   P02,    34,  1,     22,     22,2,19940116,0628, 30.0012, 145.0877, 5936, 1203.4000,    119.3,  20.3216,  34.9277,2,  34.9248,2,    225.1,2,    222.2,3,     2.20,2,     0.13,2,     0.15,2,    2.092,2,    1.272,2,   1979.0,2,   2279.0,2,   8.0600,2,    25.00,    132.3,2,      7.0,  20.2993
  49K619940107,   P02,    34,  1,     21,     21,4,19940116,0628, 30.0012, 145.0877, 5936, 1590.1000,    157.7,  20.3212,  34.9305,2,-999.0000,9,    225.4,2,   -999.0,9,  -999.00,9,  -999.00,9,  -999.00,9, -999.000,9, -999.000,9,   -999.0,9,   -999.0,9,-999.0000,9,  -999.00,   -999.0,9,   -999.0,  20.2917
  49K619940107,   P02,    34,  1,     20,     20,4,19940116,0628, 30.0012, 145.0877, 5936, 2121.5000,    210.5,  17.9967,  34.8516,2,-999.0000,9,    213.0,2,   -999.0,9,  -999.00,9,  -999.00,9,  -999.00,9, -999.000,9, -999.000,9,   -999.0,9,   -999.0,9,-999.0000,9,  -999.00,    124.1,2,      7.0,  17.9606
  49K619940107,   P02,    34,  1,     19,     19,2,19940116,0628, 30.0012, 145.0877, 5936, 3169.4000,    314.7,  16.8733,  34.7698,3,  34.7892,2,    209.2,2,    215.6,3,     4.50,2,     4.21,2,     0.43,2,    2.314,2,    1.391,2,   2019.0,2,   2270.0,2,   7.9700,2,    25.00,   -999.0,9,   -999.0,  16.8215
  49K619940107,   P02,    34,  1,     18,     18,2,19940116,0628, 30.0012, 145.0877, 5936, 4148.5000,    412.1,  15.3669,  34.6438,3,  34.6722,2,    195.3,2,    200.7,3,     8.60,2,     7.90,2,     0.67,2,    2.123,2,    1.191,2,   2047.0,2,   2265.0,2,   7.9100,2,    25.00,    115.3,2,      7.0,  15.3032
  49K619940107,   P02,    34,  1,     17,     17,2,19940116,0628, 30.0012, 145.0877, 5936, 5144.6000,    511.2,  12.2251,  34.4016,3,  34.4457,2,    189.1,2,    190.0,3,    17.30,6,    13.03,2,     1.05,6,    1.930,2,    1.083,2,   2086.0,2,   2262.0,2,   7.8300,2,    25.00,     66.9,2,      7.0,  12.1571
  49K619940107,   P02,    34,  1,     16,     16,4,19940116,0628, 30.0012, 145.0877, 5936, 6217.0000,    618.0,   9.2762,  34.1586,2,-999.0000,9,    177.0,2,   -999.0,9,  -999.00,9,  -999.00,9,  -999.00,9,    1.924,2,    1.083,2,   2086.0,3,   2261.0,3,   7.8300,3,    25.00,   -999.0,9,   -999.0,   9.2069
  49K619940107,   P02,    34,  1,     15,     15,4,19940116,0628, 30.0012, 145.0877, 5936, 7148.6000,    710.8,   6.8723,  34.0481,2,-999.0000,9,    158.7,2,   -999.0,9,  -999.00,9,  -999.00,9,  -999.00,9, -999.000,9, -999.000,9,   -999.0,9,   -999.0,9,-999.0000,9,  -999.00,   -999.0,9,   -999.0,   6.8050
  49K619940107,   P02,    34,  1,     14,     14,4,19940116,0628, 30.0012, 145.0877, 5936, 8105.1000,    806.1,   5.1381,  33.9791,2,-999.0000,9,    128.2,2,   -999.0,9,  -999.00,9,  -999.00,9,  -999.00,9,    1.564,2,    0.932,2,   2239.0,2,   2285.0,2,   7.4900,2,    25.00,    -81.5,2,      7.0,   5.0719
  49K619940107,   P02,    34,  1,     13,     13,4,19940116,0628, 30.0012, 145.0877, 5936,10183.5000,   1013.4,   4.0173,  34.2282,2,-999.0000,9,     57.7,2,   -999.0,9,   106.30,2,    39.16,2,     2.88,2,    0.346,2,    0.216,2,   2319.0,2,   2326.0,2,   7.3700,2,    25.00,   -166.7,2,      7.0,   3.9408
  49K619940107,   P02,    34,  1,     12,     12,2,19940116,0628, 30.0012, 145.0877, 5936,12721.8000,   1266.7,   3.1249,  34.3947,3,  34.3879,2,     37.3,2,     38.8,3,   137.80,2,    42.14,2,     3.05,2,    0.035,2,    0.020,2,   2361.0,2,   2359.0,2,   7.3400,2,    25.00,   -197.4,2,      7.0,   3.0353
  49K619940107,   P02,    34,  1,     11,     11,2,19940116,0628, 30.0012, 145.0877, 5936,15238.7000,   1518.2,   2.5972,  34.4922,3,  34.4890,2,     44.0,2,     55.3,3,   150.70,2,    42.45,2,     3.02,2,    0.008,2,    0.000,2,   2373.0,2,   2380.0,2,   7.3600,2,    25.00,   -222.5,2,      7.0,   2.4927
  49K619940107,   P02,    34,  1,     10,     10,2,19940116,0628, 30.0012, 145.0877, 5936,17776.3000,   1772.0,   2.2449,  34.5583,3,  34.5536,2,     61.4,2,     66.9,3,   155.30,2,    41.21,2,     2.96,2,    0.003,2,    0.000,2,   2372.0,2,   2391.0,2,   7.4000,2,    25.00,   -240.4,2,      7.0,   2.1241
  49K619940107,   P02,    34,  1,      9,      9,2,19940116,0628, 30.0012, 145.0877, 5936,20308.9000,   2025.4,   1.9994,  34.5937,2,  34.5923,2,     78.4,2,     78.3,3,   160.00,2,    39.80,2,     2.86,2,    0.005,2,    0.000,2,   2367.0,2,   2397.0,2,   7.4100,2,    25.00,   -228.0,2,      7.0,   1.8609
  49K619940107,   P02,    34,  1,      8,      8,2,19940116,0628, 30.0012, 145.0877, 5936,25387.5000,   2534.0,   1.7034,  34.6424,3,  34.6393,2,    110.8,2,    124.2,3,   154.50,2,    37.79,2,     2.71,2,    0.005,2,    0.000,2,   2345.0,3,   2402.0,2,   7.4900,2,    25.00,   -219.5,2,      7.0,   1.5256
  49K619940107,   P02,    34,  1,      7,      7,2,19940116,0628, 30.0012, 145.0877, 5936,30464.4000,   3042.8,   1.5686,  34.6650,2,  34.6645,2,    132.7,2,    141.1,3,   154.80,2,    36.63,2,     2.60,2,    0.000,2,    0.003,2,   2330.0,3,   2403.0,2,   7.5300,2,    25.00,   -220.4,2,      7.0,   1.3462
  49K619940107,   P02,    34,  1,      6,      6,2,19940116,0628, 30.0012, 145.0877, 5936,35557.7000,   3553.4,   1.5020,  34.6765,2,  34.6767,2,    143.4,2,    151.4,3,   152.30,2,    35.75,2,     2.57,2,    0.000,2,    0.000,2,   2330.0,2,   2402.0,2,   7.5500,2,    25.00,   -204.5,2,      7.0,   1.2303
  49K619940107,   P02,    34,  1,      5,      5,2,19940116,0628, 30.0012, 145.0877, 5936,40659.6000,   4064.7,   1.4807,  34.6842,2,  34.6844,2,    151.7,2,    158.9,3,   149.10,2,    35.15,2,     2.52,2,    0.000,2,    0.000,2,   2324.0,2,   2409.0,3,   7.5400,3,    25.00,   -205.5,2,      7.0,   1.1552
  49K619940107,   P02,    34,  1,      4,      4,2,19940116,0628, 30.0012, 145.0877, 5936,45795.9000,   4579.1,   1.4800,  34.6892,2,  34.6903,2,    160.8,2,    161.3,3,   147.90,6,    34.57,6,     2.47,6,    0.000,2,    0.004,2,   2319.0,2,   2410.0,3,   7.5700,2,    25.00,   -196.4,2,      7.0,   1.0964
  49K619940107,   P02,    34,  1,      3,      3,2,19940116,0628, 30.0012, 145.0877, 5936,50942.9000,   5094.0,   1.5094,  34.6931,2,  34.6927,2,    165.2,2,    167.6,3,   145.00,2,    34.14,2,     2.47,2,    0.003,2,    0.000,2,   2316.0,2,   2402.0,3,   7.5700,2,    25.00,   -197.5,2,      7.0,   1.0632
  49K619940107,   P02,    34,  1,      2,      2,2,19940116,0628, 30.0012, 145.0877, 5936,56096.5000,   5608.8,   1.5615,  34.6940,2,  34.6921,2,    167.8,2,    173.5,3,   141.80,2,    33.66,2,     2.45,2,    0.005,2,    0.004,2,   2311.0,2,   2394.0,2,   7.5700,2,    25.00,   -198.4,2,      7.0,   1.0486
  49K619940107,   P02,    34,  1,      1,      1,2,19940116,0628, 30.0012, 145.0877, 5936,60466.4000,   6044.4,   1.6059,  34.6962,2,  34.6945,2,    171.9,2,    179.5,3,   140.20,6,    33.54,6,     2.45,6,    0.006,2,    0.002,2,   2307.0,2,   2399.0,3,   7.5700,2,    25.00,   -174.4,2,      7.0,   1.0338
  49K619940107,   P02,    35,  1,     24,     24,4,19940116,1541, 29.9967, 146.2455, 6050,  139.5000,     13.8,  19.9616,  34.9145,2,-999.0000,9,    228.0,2,   -999.0,9,  -999.00,9,  -999.00,9,  -999.00,9, -999.000,9, -999.000,9,   -999.0,9,   -999.0,9,-999.0000,9,  -999.00,   -999.0,9,   -999.0,  19.9591
  49K619940107,   P02,    35,  1,     23,     23,4,19940116,1541, 29.9967, 146.2455, 6050,  523.8000,     52.0,  19.7112,  34.8851,2,-999.0000,9,    230.8,2,   -999.0,9,  -999.00,9,  -999.00,9,  -999.00,9, -999.000,9, -999.000,9,   1981.0,2,   -999.0,9,-999.0000,9,  -999.00,   -999.0,9,   -999.0,  19.7017
  49K619940107,   P02,    35,  1,     22,     22,2,19940116,1541, 29.9967, 146.2455, 6050, 1068.5000,    106.1,  19.6797,  34.8813,2,  34.8784,2,    226.4,2,    227.2,3,  -999.00,9,  -999.00,9,  -999.00,9,    2.193,2,    1.276,2,   -999.0,9,   2279.0,2,   8.0500,2,    25.00,   -999.0,9,   -999.0,  19.6603
  49K619940107,   P02,    35,  1,     21,     21,2,19940116,1541, 29.9967, 146.2455, 6050, 1511.6000,    150.1,  18.3400,  34.8407,2,  34.8396,2,    212.7,2,    213.0,3,     3.90,2,     2.80,2,     0.46,2,    2.272,2,    1.317,2,   2003.0,2,   2275.0,2,   7.9900,2,    25.00,   -999.0,9,   -999.0,  18.3139
  49K619940107,   P02,    35,  1,     20,     20,4,19940116,1541, 29.9967, 146.2455, 6050, 2061.0000,    204.7,  17.6536,  34.8211,2,-999.0000,9,    217.2,2,   -999.0,9,  -999.00,9,  -999.00,9,  -999.00,9, -999.000,9, -999.000,9,   -999.0,9,   -999.0,9,-999.0000,9,  -999.00,   -999.0,9,   -999.0,  17.6190
  49K619940107,   P02,    35,  1,     19,     19,2,19940116,1541, 29.9967, 146.2455, 6050, 3071.1000,    305.1,  16.5940,  34.7529,2,  34.7513,2,    204.5,2,    194.9,3,    12.50,2,     9.96,2,     0.83,2,    2.309,2,    1.284,2,   2026.0,2,   2271.0,2,   7.9500,2,    25.00,   -999.0,9,   -999.0,  16.5444
  49K619940107,   P02,    35,  1,     18,     18,2,19940116,1541, 29.9967, 146.2455, 6050, 4073.9000,    404.8,  14.3286,  34.5753,3,  34.5976,2,    189.3,2,    190.9,3,    19.10,2,    13.74,2,     1.11,2,    2.052,2,    1.135,2,   2061.0,2,   2267.0,2,   7.8800,2,    25.00,   -999.0,9,   -999.0,  14.2690
  49K619940107,   P02,    35,  1,     17,     17,2,19940116,1541, 29.9967, 146.2455, 6050, 5065.6000,    503.5,  11.6162,  34.3739,3,  34.3885,2,    188.4,2,   -999.0,9,    29.50,4,    18.36,3,     1.46,3,    2.069,2,    1.134,2,   2066.0,2,   2266.0,2,   7.8700,2,    25.00,   -999.0,9,   -999.0,  11.5515
  49K619940107,   P02,    35,  1,     16,     16,4,19940116,1541, 29.9967, 146.2455, 6050, 6069.6000,    603.5,   8.5088,  34.1472,2,-999.0000,9,    176.5,2,   -999.0,9,  -999.00,9,  -999.00,9,  -999.00,9,    2.062,2,    1.118,2,   2100.0,2,   2267.0,2,   7.8000,2,    25.00,   -999.0,9,   -999.0,   8.4446
  49K619940107,   P02,    35,  1,     15,     15,2,19940116,1541, 29.9967, 146.2455, 6050, 7103.3000,    706.5,   5.8960,  34.0160,3,  34.0030,2,    159.4,2,    157.4,3,    58.20,6,    28.06,6,     2.14,6,    1.890,2,    0.986,2,   2205.0,2,   2280.0,2,   7.5600,2,    25.00,   -999.0,9,   -999.0,   5.8344
  49K619940107,   P02,    35,  1,     14,     14,2,19940116,1541, 29.9967, 146.2455, 6050, 8115.7000,    807.4,   4.8428,  34.0526,2,  34.0546,2,    103.2,2,    119.2,3,    81.60,2,    33.58,2,     2.52,2,    1.189,2,    0.640,2,   2259.0,2,   2298.0,2,   7.4500,2,    25.00,   -999.0,9,   -999.0,   4.7782
  49K619940107,   P02,    35,  1,     13,     13,4,19940116,1541, 29.9967, 146.2455, 6050,10135.9000,   1008.8,   3.8355,  34.2674,2,-999.0000,9,     50.3,2,   -999.0,9,  -999.00,9,  -999.00,9,  -999.00,9,    0.218,2,    0.135,2,   2329.0,3,   2336.0,3,   7.3600,3,    25.00,   -999.0,9,   -999.0,   3.7608
  49K619940107,   P02,    35,  1,     12,     12,2,19940116,1541, 29.9967, 146.2455, 6050,12652.9000,   1260.1,   3.0277,  34.4123,2,  34.4128,2,     36.5,2,   -999.0,9,   139.80,2,    42.22,2,     3.08,2,    0.030,2,    0.014,2,   2367.0,2,   2367.0,2,   7.3400,2,    25.00,   -999.0,9,   -999.0,   2.9395
  49K619940107,   P02,    35,  1,     11,     11,2,19940116,1541, 29.9967, 146.2455, 6050,15182.5000,   1512.8,   2.5235,  34.5015,2,  34.5008,2,     44.5,2,     50.3,3,   155.60,2,    41.86,2,     3.05,2,    0.015,2,    0.013,2,   2373.0,2,   2385.0,2,   7.3600,2,    25.00,   -999.0,9,   -999.0,   2.4203
  49K619940107,   P02,    35,  1,     10,     10,2,19940116,1541, 29.9967, 146.2455, 6050,17691.4000,   1763.7,   2.2018,  34.5607,2,  34.5614,2,     62.6,2,   -999.0,9,   161.20,2,    41.10,2,     2.98,2,    0.008,2,    0.000,2,   2373.0,2,   2393.0,2,   7.4000,2,    25.00,   -999.0,9,   -999.0,   2.0822
  49K619940107,   P02,    35,  1,      9,      9,2,19940116,1541, 29.9967, 146.2455, 6050,20251.3000,   2019.8,   1.9913,  34.5979,2,  34.5983,2,     79.3,2,     86.5,3,   161.10,2,    39.95,2,     2.90,2,    0.005,2,    0.000,2,   2365.0,2,   2400.0,2,   7.4400,2,    25.00,   -999.0,9,   -999.0,   1.8534
  49K619940107,   P02,    35,  1,      8,      8,3,19940116,1541, 29.9967, 146.2455, 6050,25318.0000,   2527.2,   1.7232,  34.6410,2,  34.6383,2,    112.6,2,    122.5,3,  -999.00,9,  -999.00,9,  -999.00,9,    0.011,4,    0.006,4,   2344.0,3,   2400.0,3,   7.5000,3,    25.00,   -999.0,9,   -999.0,   1.5457
  49K619940107,   P02,    35,  1,      7,      7,2,19940116,1541, 29.9967, 146.2455, 6050,30432.7000,   3039.8,   1.5891,  34.6637,2,  34.6642,2,    131.6,2,    137.0,3,   154.30,3,    36.89,6,     2.63,6,    0.000,2,    0.001,2,   2340.0,2,   2405.0,2,   7.5300,2,    25.00,   -999.0,9,   -999.0,   1.3665
  49K619940107,   P02,    35,  1,      6,      6,2,19940116,1541, 29.9967, 146.2455, 6050,35521.2000,   3549.9,   1.5237,  34.6750,3,  34.6716,2,    143.1,2,    147.2,3,   149.90,2,    35.92,2,     2.57,2,    0.005,2,    0.000,2,   2331.0,2,   2403.0,2,-999.0000,9,  -999.00,   -999.0,9,   -999.0,   1.2518
  49K619940107,   P02,    35,  1,      5,      5,3,19940116,1541, 29.9967, 146.2455, 6050,40674.8000,   4066.4,   1.4936,  34.6836,3,  34.6774,2,    150.6,2,    164.8,3,  -999.00,9,  -999.00,9,  -999.00,9,    0.000,2,    0.000,2,   2328.0,2,   2401.0,2,   7.5600,2,    25.00,   -999.0,9,   -999.0,   1.1676
  49K619940107,   P02,    35,  1,      4,      4,2,19940116,1541, 29.9967, 146.2455, 6050,45775.6000,   4577.3,   1.4919,  34.6883,2,  34.6881,2,    157.6,2,    172.8,3,   147.40,6,    34.94,6,     2.50,6,    0.000,2,    0.001,2,   2324.0,2,   2401.0,2,   7.5700,2,    25.00,   -999.0,9,   -999.0,   1.1081
  49K619940107,   P02,    35,  1,      3,      3,2,19940116,1541, 29.9967, 146.2455, 6050,50938.2000,   5093.8,   1.5144,  34.6922,2,  34.6924,2,    163.9,2,    170.0,3,   145.90,2,    34.71,2,     2.46,2,    0.000,2,    0.004,2,   2313.0,2,   2401.0,3,   7.5800,2,    25.00,   -999.0,9,   -999.0,   1.0681
  49K619940107,   P02,    35,  1,      2,      2,2,19940116,1541, 29.9967, 146.2455, 6050,56114.8000,   5610.8,   1.5575,  34.6951,2,  34.6927,2,    168.4,2,    169.3,3,   138.70,2,    34.33,2,     2.48,2,    0.002,2,    0.000,2,   -999.0,9,   2395.0,2,   7.5800,2,    25.00,   -999.0,9,   -999.0,   1.0445
  49K619940107,   P02,    35,  1,      1,      1,2,19940116,1541, 29.9967, 146.2455, 6050,61299.7000,   6127.6,   1.6111,  34.6965,2,  34.6971,2,    172.6,2,    180.4,3,   140.60,6,    34.17,6,     2.46,3,    0.003,2,    0.002,2,   2311.0,2,   2391.0,2,   7.5900,2,    25.00,   -999.0,9,   -999.0,   1.0275