BOTTLE,20220810CCHSIOAMB
EXPOCODE,SECT_ID,STNNBR,CASTNO,SAMPNO,BTLNBR,BTLNBR_FLAG_W,DATE,TIME,LATITUDE,LONGITUDE,DEPTH,CTDRAW,CTDPRS,CTDTMP,CTDSAL,CTDSAL_FLAG_W,SALNTY,SALNTY_FLAG_W,CTDOXY,CTDOXY_FLAG_W,OXYGEN,OXYGEN_FLAG_W,SILCAT,SILCAT_FLAG_W,NITRAT,NITRAT_FLAG_W,PHSPHT,PHSPHT_FLAG_W,CFC-11,CFC-11_FLAG_W,CFC-12,CFC-12_FLAG_W,TCARBN,TCARBN_FLAG_W,ALKALI,ALKALI_FLAG_W,PH_TOT,PH_TOT_FLAG_W,PH_TMP,DELC14,DELC14_FLAG_W,C14ERR,THETA
,,,,,,,,,,,METERS,,DBAR,ITS-90,PSS-78,,PSS-78,,UMOL/KG,,UMOL/KG,,UMOL/KG,,UMOL/KG,,UMOL/KG,,PMOL/KG,,PMOL/KG,,UMOL/KG,,UMOL/KG,,,,DEG C,/MILLE,,/MILLE,DEG C
  49K619940107,   P02,    78,  1,     23,     23,4,19940206,0255, 29.9945,-135.3237, 4347,  176.2000,     17.7,  18.3267,  34.6994,2,-999.0000,9,    233.8,2,   -999.0,9,  -999.00,9,  -999.00,9,  -999.00,9,    2.414,2,    1.446,2,   2019.0,2,   2291.0,2,   8.0000,2,    25.00,   -999.0,9,   -999.0,  18.3236
  49K619940107,   P02,    78,  1,     22,     22,2,19940206,0255, 29.9945,-135.3237, 4347,  585.5000,     58.3,  18.2706,  34.6850,3,  34.6958,2,    234.5,2,    233.9,2,     2.50,2,     0.00,2,     0.19,2,    2.416,2,    1.446,2,   2020.0,2,   2286.0,2,   8.0000,2,    25.00,   -999.0,9,   -999.0,  18.2605
  49K619940107,   P02,    78,  1,     21,     21,2,19940206,0255, 29.9945,-135.3237, 4347, 1101.0000,    109.5,  18.0487,  34.6871,3,  34.6612,2,    237.2,3,    233.1,2,     2.70,2,     0.06,2,     0.19,2,    2.466,2,    1.451,2,   2019.0,2,   2286.0,2,   9.0000,2,    25.00,   -999.0,9,   -999.0,  18.0299
  49K619940107,   P02,    78,  1,     20,     20,2,19940206,0255, 29.9945,-135.3237, 4347, 1596.0000,    158.7,  16.1339,  34.3998,3,  34.4985,2,    233.4,3,    225.3,2,     3.50,2,     1.34,2,     0.29,2,    2.646,2,    1.545,2,   2032.0,2,   2267.0,2,   7.9500,2,    25.00,   -999.0,9,   -999.0,  16.1088
  49K619940107,   P02,    78,  1,     19,     19,2,19940206,0255, 29.9945,-135.3237, 4347, 2067.6000,    205.6,  12.6500,  34.1193,3,  34.1117,2,    223.0,3,    218.7,2,     6.60,2,     5.83,2,     0.64,2,    3.011,2,    1.628,2,   2048.0,2,   2249.0,2,   7.8700,2,    25.00,   -999.0,9,   -999.0,  12.6225
  49K619940107,   P02,    78,  1,     18,     18,2,19940206,0255, 29.9945,-135.3237, 4347, 2608.3000,    259.3,   9.8571,  33.9076,3,  33.8961,2,    213.9,3,    211.3,2,    13.80,3,    13.19,6,     1.12,6,    3.182,2,    1.688,2,   2086.0,2,   2238.0,2,   7.7700,2,    25.00,   -999.0,9,   -999.0,   9.8276
  49K619940107,   P02,    78,  1,     17,     17,2,19940206,0255, 29.9945,-135.3237, 4347, 3057.6000,    304.0,   8.6636,  33.9521,2,  33.9527,2,    204.9,2,    204.0,2,    21.90,2,    17.99,2,     1.41,2,    2.857,2,    1.537,2,   2114.0,2,   2249.0,2,   7.7100,2,    25.00,   -999.0,9,   -999.0,   8.6316
  49K619940107,   P02,    78,  1,     16,     16,2,19940206,0255, 29.9945,-135.3237, 4347, 4076.4000,    405.3,   7.1127,  33.9944,3,  33.9872,2,    146.7,3,    156.3,2,    39.30,2,    26.23,2,     1.93,2,    1.829,2,    1.009,2,   2180.0,2,   2261.0,2,   7.5900,2,    25.00,   -999.0,9,   -999.0,   7.0745
  49K619940107,   P02,    78,  1,     15,     15,2,19940206,0255, 29.9945,-135.3237, 4347, 5082.8000,    505.4,   5.7413,  34.0212,3,  34.0167,2,     78.8,3,     84.5,2,    64.20,6,    35.19,6,     2.60,6,    0.635,2,    0.434,2,   2252.0,2,   2282.0,2,   7.4200,2,    25.00,   -999.0,9,   -999.0,   5.6985
  49K619940107,   P02,    78,  1,     14,     14,2,19940206,0255, 29.9945,-135.3237, 4347, 6094.3000,    606.2,   5.0385,  34.1397,3,  34.1248,2,     39.1,3,     43.8,2,    86.40,2,    40.12,2,     3.01,2,    0.128,2,    0.112,2,   2311.0,2,   2305.0,2,   7.3200,2,    25.00,   -999.0,9,   -999.0,   4.9899
  49K619940107,   P02,    78,  1,     13,     13,2,19940206,0255, 29.9945,-135.3237, 4347, 7088.8000,    705.2,   4.6105,  34.2323,3,  34.2375,2,     20.3,2,     20.9,2,    98.00,2,    42.15,2,     3.19,2,    0.021,2,    0.025,2,   2334.0,2,   2325.0,2,   7.3000,2,    25.00,   -999.0,9,   -999.0,   4.5557
  49K619940107,   P02,    78,  1,     12,     12,2,19940206,0255, 29.9945,-135.3237, 4347, 8130.1000,    809.0,   4.2847,  34.3443,3,  34.3346,2,     15.4,2,     14.0,2,   108.30,2,    43.11,2,     3.25,2,    0.009,2,    0.016,2,   2344.0,2,   2337.0,2,   7.3100,2,    25.00,   -999.0,9,   -999.0,   4.2231
  49K619940107,   P02,    78,  1,     11,     11,2,19940206,0255, 29.9945,-135.3237, 4347, 9129.9000,    908.7,   4.0272,  34.4010,2,  34.4018,2,     17.9,2,     18.2,2,   117.00,2,    43.18,2,     3.25,2,    0.006,2,    0.026,2,   2356.0,2,   2350.0,2,   7.3200,2,    25.00,   -999.0,9,   -999.0,   3.9590
  49K619940107,   P02,    78,  1,     10,     10,2,19940206,0255, 29.9945,-135.3237, 4347,10167.5000,   1012.2,   3.7893,  34.4524,2,  34.4526,2,     25.6,2,     24.3,2,   122.00,2,    43.12,2,     3.23,2,    0.000,2,    0.000,2,   2361.0,2,   2361.0,2,   7.3400,2,    25.00,   -999.0,9,   -999.0,   3.7143
  49K619940107,   P02,    78,  1,      9,      9,2,19940206,0255, 29.9945,-135.3237, 4347,12663.6000,   1261.3,   3.2092,  34.5223,2,  34.5241,2,     42.4,2,     42.2,2,   134.90,2,    42.33,2,     3.15,2,    0.007,2,    0.004,2,   2367.0,2,   2379.0,2,   7.3800,2,    25.00,   -999.0,9,   -999.0,   3.1189
  49K619940107,   P02,    78,  1,      8,      8,2,19940206,0255, 29.9945,-135.3237, 4347,15222.0000,   1516.9,   2.8082,  34.5577,2,  34.5579,2,     55.0,3,     51.6,2,   140.20,2,    42.10,2,     3.10,2,    0.000,2,    0.006,2,   2371.0,2,   2390.0,2,   7.3900,2,    25.00,   -999.0,9,   -999.0,   2.7012
  49K619940107,   P02,    78,  1,      7,      7,2,19940206,0255, 29.9945,-135.3237, 4347,17722.2000,   1766.9,   2.4288,  34.5867,2,  34.5889,2,     64.9,3,     62.7,2,   156.20,2,    41.65,2,     3.05,2,    0.000,2,    0.007,2,   2375.0,2,   2399.0,2,   7.4200,2,    25.00,   -999.0,9,   -999.0,   2.3058
  49K619940107,   P02,    78,  1,      6,      6,2,19940206,0255, 29.9945,-135.3237, 4347,20254.5000,   2020.3,   2.1381,  34.6112,2,  34.6127,2,     77.0,2,     77.6,2,   163.10,2,    40.59,2,     2.98,2,    0.000,2,    0.003,2,   2377.0,2,   2406.0,2,   7.4300,2,    25.00,   -999.0,9,   -999.0,   1.9979
  49K619940107,   P02,    78,  1,      5,      5,2,19940206,0255, 29.9945,-135.3237, 4347,25337.6000,   2529.4,   1.7740,  34.6428,2,  34.6441,2,    100.7,2,     98.9,2,   170.50,2,    39.02,2,     2.86,2,    0.000,2,    0.010,2,   2365.0,2,   2415.0,2,   7.4800,2,    25.00,   -999.0,9,   -999.0,   1.5953
  49K619940107,   P02,    78,  1,      4,      4,2,19940206,0255, 29.9945,-135.3237, 4347,30412.9000,   3038.0,   1.5719,  34.6642,2,  34.6661,2,    120.4,2,    118.8,2,   172.80,6,    38.20,6,     2.76,6,    0.000,2,    0.002,2,   2355.0,2,   2417.0,2,   7.5200,2,    25.00,   -999.0,9,   -999.0,   1.3499
  49K619940107,   P02,    78,  1,      3,      3,2,19940206,0255, 29.9945,-135.3237, 4347,35547.4000,   3552.7,   1.4788,  34.6792,2,  34.6800,2,    137.7,3,    134.8,2,   170.50,2,    37.41,2,     2.67,2,    0.000,2,    0.000,2,   2344.0,2,   2416.0,2,   7.5500,2,    25.00,   -999.0,9,   -999.0,   1.2078
  49K619940107,   P02,    78,  1,      2,      2,2,19940206,0255, 29.9945,-135.3237, 4347,40641.0000,   4063.2,   1.4916,  34.6846,2,  34.6855,2,    145.2,2,    145.7,2,   163.70,2,    37.02,2,     2.62,2,    0.000,2,    0.002,2,   2339.0,2,   2418.0,2,   7.5600,2,    25.00,   -999.0,9,   -999.0,   1.1660
  49K619940107,   P02,    78,  1,      1,      1,2,19940206,0255, 29.9945,-135.3237, 4347,44378.2000,   4437.6,   1.5310,  34.6852,2,  34.6865,2,    147.4,2,    145.4,2,   162.40,6,    37.05,6,     2.62,6,    0.001,2,    0.002,2,   2336.0,2,   2418.0,2,   7.5700,2,    25.00,   -999.0,9,   -999.0,   1.1622
  49K619940107,   P02,    79,  1,     24,     24,2,19940206,1245, 29.9883,-133.4903, 4590,  192.7000,     19.1,  17.5646,  34.2973,2,  34.2980,2,    241.5,3,    239.2,2,     2.80,2,     0.00,2,     0.25,2,    2.598,2,    1.399,2,   -999.0,9,   2264.0,2,   7.9900,2,    25.00,   -999.0,9,   -999.0,  17.5614
  49K619940107,   P02,    79,  1,     23,     23,2,19940206,1245, 29.9883,-133.4903, 4590,  580.3000,     57.6,  17.5353,  34.3099,3,  34.2989,2,    234.9,3,    239.9,2,     2.70,2,     0.00,2,     0.24,2,    2.609,2,    1.427,2,   -999.0,9,   2264.0,2,   7.9900,2,    25.00,   -999.0,9,   -999.0,  17.5257
  49K619940107,   P02,    79,  1,     22,     22,2,19940206,1245, 29.9883,-133.4903, 4590, 1085.3000,    107.8,  16.8366,  34.3050,3,  34.2932,2,    234.2,2,    234.7,2,     3.10,2,     0.35,2,     0.26,2,    2.698,2,    1.492,2,   -999.0,9,   2258.0,2,   7.9800,2,    25.00,   -999.0,9,   -999.0,  16.8191
  49K619940107,   P02,    79,  1,     21,     21,2,19940206,1245, 29.9883,-133.4903, 4590, 1650.6000,    163.9,  13.8646,  34.0006,3,  34.1743,2,    224.1,2,    223.7,2,     4.50,2,     2.58,2,     0.44,2,    2.924,2,    1.556,2,   -999.0,9,   2243.0,2,   7.9200,2,    25.00,   -999.0,9,   -999.0,  13.8413
  49K619940107,   P02,    79,  1,     20,     20,2,19940206,1245, 29.9883,-133.4903, 4590, 2178.9000,    216.4,   9.5109,  33.6603,3,  33.7546,2,    204.6,3,    209.4,2,    10.90,4,    10.92,4,     1.02,4,    3.260,2,    1.640,2,   -999.0,9,   2223.0,2,   7.7900,2,    25.00,   -999.0,9,   -999.0,   9.4869
  49K619940107,   P02,    79,  1,     19,     19,2,19940206,1245, 29.9883,-133.4903, 4590, 3097.7000,    307.8,   7.9898,  33.9557,2,  33.9569,2,    153.5,3,    162.2,2,    31.20,2,    24.15,2,     1.83,2,    2.151,2,    1.118,2,   -999.0,9,   2243.0,2,   7.6100,2,    25.00,   -999.0,9,   -999.0,   7.9589
  49K619940107,   P02,    79,  1,     18,     18,2,19940206,1245, 29.9883,-133.4903, 4590, 4154.2000,    412.8,   6.6344,  34.0116,2,  34.0114,2,     97.7,3,    108.8,2,    47.70,3,    29.31,3,     2.34,2,    1.136,2,    0.648,2,   -999.0,9,   2260.0,2,   7.4900,2,    25.00,   -999.0,9,   -999.0,   6.5969
  49K619940107,   P02,    79,  1,     17,     17,2,19940206,1245, 29.9883,-133.4903, 4590, 5160.4000,    513.0,   5.8008,  34.0914,3,  34.0848,2,     49.6,3,     56.7,2,    67.60,2,    37.34,2,     2.82,2,    0.348,2,    0.241,2,   -999.0,9,   2280.0,2,   7.3700,2,    25.00,   -999.0,9,   -999.0,   5.7571
  49K619940107,   P02,    79,  1,     16,     16,2,19940206,1245, 29.9883,-133.4903, 4590, 6133.1000,    609.8,   4.9237,  34.1356,2,  34.1350,2,     29.9,3,     34.1,2,    86.70,2,    40.41,2,     3.05,2,    0.104,2,    0.079,2,   -999.0,9,   2298.0,2,   7.3100,2,    25.00,   -999.0,9,   -999.0,   4.8753
  49K619940107,   P02,    79,  1,     15,     15,2,19940206,1245, 29.9883,-133.4903, 4590, 7138.3000,    709.9,   4.5626,  34.2579,3,  34.2450,2,     15.3,3,     17.9,2,    99.50,6,    42.19,6,     3.20,6,    0.024,2,    0.002,2,   -999.0,9,   2318.0,2,   7.2900,2,    25.00,   -999.0,9,   -999.0,   4.5076
  49K619940107,   P02,    79,  1,     14,     14,2,19940206,1245, 29.9883,-133.4903, 4590, 8147.8000,    810.6,   4.1972,  34.3616,3,  34.3512,2,     15.1,2,     14.7,2,   109.60,2,    42.90,2,     3.25,2,    0.009,2,    0.005,2,   2365.0,2,   2339.0,2,   7.3000,2,    25.00,   -999.0,9,   -999.0,   4.1360
  49K619940107,   P02,    79,  1,     13,     13,2,19940206,1245, 29.9883,-133.4903, 4590, 9151.2000,    910.6,   3.9701,  34.4176,3,  34.4126,2,     20.9,2,     19.3,2,   115.20,2,    42.46,2,     3.25,2,    0.006,2,    0.000,2,   2364.0,2,   2348.0,2,   7.3200,2,    25.00,   -999.0,9,   -999.0,   3.9022
  49K619940107,   P02,    79,  1,     12,     12,2,19940206,1245, 29.9883,-133.4903, 4590,10113.8000,   1006.6,   3.7424,  34.4543,2,  34.4558,2,     28.2,3,     25.7,2,   121.80,2,    42.96,2,     3.21,2,    0.005,2,    0.000,2,   2371.0,2,   2356.0,2,   7.3400,2,    25.00,   -999.0,9,   -999.0,   3.6683
  49K619940107,   P02,    79,  1,     11,     11,2,19940206,1245, 29.9883,-133.4903, 4590,12686.3000,   1263.4,   3.2254,  34.5257,2,  34.5261,2,     43.2,2,     43.2,2,   133.00,2,    42.78,2,     3.15,2,    0.001,2,    0.000,2,   -999.0,9,   2375.0,2,   7.3800,2,    25.00,   -999.0,9,   -999.0,   3.1348
  49K619940107,   P02,    79,  1,     10,     10,2,19940206,1245, 29.9883,-133.4903, 4590,15234.5000,   1518.0,   2.7707,  34.5630,2,  34.5635,2,     54.4,3,     52.2,2,   146.20,2,    41.97,2,     3.10,2,    0.000,2,    0.000,2,   2380.0,2,   2388.0,2,   7.3900,2,    25.00,   -999.0,9,   -999.0,   2.6640
  49K619940107,   P02,    79,  1,      9,      9,2,19940206,1245, 29.9883,-133.4903, 4590,17728.6000,   1767.4,   2.3843,  34.5925,2,  34.5918,2,     65.9,2,     63.8,2,   158.40,2,    41.05,2,     3.04,2,    0.002,2,    0.000,2,   2372.0,3,   2394.0,3,   7.4100,3,    25.00,   -999.0,9,   -999.0,   2.2618
  49K619940107,   P02,    79,  1,      8,      8,2,19940206,1245, 29.9883,-133.4903, 4590,20237.4000,   2018.4,   2.0923,  34.6175,2,  34.6184,2,     80.1,3,     77.5,2,   163.20,2,    40.33,2,     2.96,2,    0.000,2,    0.001,2,   2381.0,2,   2406.0,2,   7.4400,2,    25.00,   -999.0,9,   -999.0,   1.9529
  49K619940107,   P02,    79,  1,      7,      7,2,19940206,1245, 29.9883,-133.4903, 4590,22769.7000,   2272.0,   1.8883,  34.6348,2,  34.6371,2,     92.1,2,     90.0,2,   166.80,2,    38.93,2,     2.88,2,    0.000,2,    0.000,2,   2387.0,2,   2413.0,2,   7.4600,2,    25.00,   -999.0,9,   -999.0,   1.7304
  49K619940107,   P02,    79,  1,      6,      6,2,19940206,1245, 29.9883,-133.4903, 4590,25323.5000,   2527.8,   1.7478,  34.6481,2,  34.6491,2,    102.2,2,    101.3,2,   172.10,2,    38.48,2,     2.83,2,    0.000,2,    0.000,2,   2377.0,2,   2419.0,2,   7.4800,2,    25.00,   -999.0,9,   -999.0,   1.5697
  49K619940107,   P02,    79,  1,      5,      5,2,19940206,1245, 29.9883,-133.4903, 4590,30447.5000,   3041.3,   1.5575,  34.6672,2,  34.6674,2,    118.8,2,    120.2,2,   171.50,2,    37.54,2,     2.73,2,    0.000,2,    0.000,2,   2373.0,3,   2420.0,2,   7.5200,2,    25.00,   -999.0,9,   -999.0,   1.3355
  49K619940107,   P02,    79,  1,      4,      4,2,19940206,1245, 29.9883,-133.4903, 4590,35507.5000,   3548.5,   1.4846,  34.6787,2,  34.6796,2,    136.2,2,    135.4,2,   168.50,6,    36.46,6,     2.67,3,    0.000,2,    0.002,2,   -999.0,9,   2421.0,2,   7.5500,2,    25.00,   -999.0,9,   -999.0,   1.2138
  49K619940107,   P02,    79,  1,      3,      3,2,19940206,1245, 29.9883,-133.4903, 4590,40652.4000,   4064.2,   1.4936,  34.6846,2,  34.6852,2,    144.6,2,    143.1,2,   163.00,2,    35.58,2,     2.61,2,    0.001,2,    0.001,2,   2344.0,2,   2417.0,2,   7.5600,2,    25.00,   -999.0,9,   -999.0,   1.1678
  49K619940107,   P02,    79,  1,      2,      2,2,19940206,1245, 29.9883,-133.4903, 4590,45800.9000,   4579.8,   1.5480,  34.6843,2,  34.6856,2,    146.0,2,    144.8,2,   162.50,2,    35.25,2,     2.59,2,    0.004,2,    0.000,2,   -999.0,9,   2418.0,2,   7.5600,2,    25.00,   -999.0,9,   -999.0,   1.1622
  49K619940107,   P02,    79,  1,      1,      1,2,19940206,1245, 29.9883,-133.4903, 4590,46664.0000,   4666.2,   1.5580,  34.6856,2,  34.6862,2,    146.1,2,    144.6,2,   164.00,3,    35.55,6,     2.61,6,    0.000,2,    0.002,2,   2349.0,2,   2415.0,2,   7.5700,2,    25.00,   -999.0,9,   -999.0,   1.1617