BOTTLE,20220810CCHSIOAMB
EXPOCODE,SECT_ID,STNNBR,CASTNO,SAMPNO,BTLNBR,BTLNBR_FLAG_W,DATE,TIME,LATITUDE,LONGITUDE,DEPTH,CTDRAW,CTDPRS,CTDTMP,CTDSAL,CTDSAL_FLAG_W,SALNTY,SALNTY_FLAG_W,CTDOXY,CTDOXY_FLAG_W,OXYGEN,OXYGEN_FLAG_W,SILCAT,SILCAT_FLAG_W,NITRAT,NITRAT_FLAG_W,PHSPHT,PHSPHT_FLAG_W,CFC-11,CFC-11_FLAG_W,CFC-12,CFC-12_FLAG_W,TCARBN,TCARBN_FLAG_W,ALKALI,ALKALI_FLAG_W,PH_TOT,PH_TOT_FLAG_W,PH_TMP,DELC14,DELC14_FLAG_W,C14ERR,THETA
,,,,,,,,,,,METERS,,DBAR,ITS-90,PSS-78,,PSS-78,,UMOL/KG,,UMOL/KG,,UMOL/KG,,UMOL/KG,,UMOL/KG,,PMOL/KG,,PMOL/KG,,UMOL/KG,,UMOL/KG,,,,DEG C,/MILLE,,/MILLE,DEG C
  49K619940107,   P02,    70,  1,     24,     24,2,19940202,1513, 29.9993,-151.3217, 5024,  180.8000,     17.9,  18.0392,  34.9538,2,  34.9531,2,    236.7,2,    238.2,2,     3.20,2,     0.00,2,     0.17,2, -999.000,9, -999.000,9,   2007.0,2,   2294.0,2,   8.0200,2,    25.00,   -999.0,9,   -999.0,  18.0361
  49K619940107,   P02,    70,  1,     23,     23,4,19940202,1513, 29.9993,-151.3217, 5024,  560.8000,     55.7,  18.0077,  34.9503,2,-999.0000,9,    228.6,2,   -999.0,9,  -999.00,9,  -999.00,9,  -999.00,9, -999.000,9, -999.000,9,   2006.0,2,   2296.0,3,   8.0200,3,    25.00,   -999.0,9,   -999.0,  17.9982
  49K619940107,   P02,    70,  1,     22,     22,2,19940202,1513, 29.9993,-151.3217, 5024, 1218.5000,    121.0,  15.6489,  34.6735,3,  34.9004,2,    235.9,2,    237.9,2,     3.40,4,     0.00,4,     0.19,4, -999.000,9, -999.000,9,   2009.0,2,   2292.0,3,   8.0100,3,    25.00,   -999.0,9,   -999.0,  15.6301
  49K619940107,   P02,    70,  1,     21,     21,2,19940202,1513, 29.9993,-151.3217, 5024, 1691.2000,    168.0,  13.7361,  34.4067,3,  34.4587,2,    227.8,2,    227.0,2,     5.90,2,     4.25,2,     0.52,2, -999.000,9, -999.000,9,   2036.0,2,   2264.0,2,   7.9100,2,    25.00,   -999.0,9,   -999.0,  13.7123
  49K619940107,   P02,    70,  1,     20,     20,2,19940202,1513, 29.9993,-151.3217, 5024, 2181.8000,    216.7,  12.6446,  34.3409,3,  34.3827,2,    217.9,3,    220.2,2,     8.70,2,     7.91,2,     0.74,2, -999.000,9, -999.000,9,   2055.0,2,   2263.0,2,   7.8700,2,    25.00,   -999.0,9,   -999.0,  12.6155
  49K619940107,   P02,    70,  1,     19,     19,2,19940202,1513, 29.9993,-151.3217, 5024, 3112.5000,    309.2,  11.0961,  34.2423,3,  34.2593,2,    218.4,2,    217.1,2,    14.00,2,    12.09,2,     1.02,2, -999.000,9, -999.000,9,   2078.0,2,   2266.0,3,   7.8200,2,    25.00,   -999.0,9,   -999.0,  11.0579
  49K619940107,   P02,    70,  1,     18,     18,2,19940202,1513, 29.9993,-151.3217, 5024, 4228.4000,    420.2,   8.9757,  34.0938,3,  34.1175,2,    196.9,3,    205.3,2,    23.00,6,    17.58,6,     1.39,6, -999.000,9, -999.000,9,   2114.0,2,   2262.0,2,   7.7400,2,    25.00,   -999.0,9,   -999.0,   8.9301
  49K619940107,   P02,    70,  1,     17,     17,2,19940202,1513, 29.9993,-151.3217, 5024, 5213.2000,    518.2,   7.0925,  34.0124,3,  34.0224,2,    158.0,3,    173.5,2,    37.70,2,    24.14,2,     1.84,2, -999.000,9, -999.000,9,   2163.0,2,   2271.0,2,   7.6400,2,    25.00,   -999.0,9,   -999.0,   7.0433
  49K619940107,   P02,    70,  1,     16,     16,2,19940202,1513, 29.9993,-151.3217, 5024, 6078.4000,    604.4,   5.8873,  33.9930,2,  33.9930,2,     99.4,3,    118.6,2,    60.20,2,    31.67,2,     2.40,2, -999.000,9, -999.000,9,   -999.0,9,   2284.0,2,   7.4500,2,    25.00,   -999.0,9,   -999.0,   5.8351
  49K619940107,   P02,    70,  1,     15,     15,2,19940202,1513, 29.9993,-151.3217, 5024, 7174.5000,    713.6,   4.5986,  34.0731,3,  34.0579,2,     49.4,3,     63.1,2,    87.30,6,    38.71,6,     2.92,6, -999.000,9, -999.000,9,   2292.0,2,   2304.0,2,   7.3600,2,    25.00,   -999.0,9,   -999.0,   4.5434
  49K619940107,   P02,    70,  1,     14,     14,2,19940202,1513, 29.9993,-151.3217, 5024, 8102.3000,    806.0,   4.2066,  34.1614,2,  34.1599,2,     22.8,3,     29.7,2,   103.90,2,    41.56,2,     3.16,2, -999.000,9, -999.000,9,   2335.0,2,   2325.0,2,   7.3000,2,    25.00,   -999.0,9,   -999.0,   4.1460
  49K619940107,   P02,    70,  1,     13,     13,2,19940202,1513, 29.9993,-151.3217, 5024, 9126.8000,    908.2,   3.8573,  34.2832,3,  34.2772,2,     15.0,2,     14.2,2,   117.90,2,    43.05,2,     3.27,2, -999.000,9, -999.000,9,   2359.0,2,   2345.0,2,   7.2900,2,    25.00,   -999.0,9,   -999.0,   3.7906
  49K619940107,   P02,    70,  1,     12,     12,2,19940202,1513, 29.9993,-151.3217, 5024,10192.6000,   1014.5,   3.6224,  34.3624,3,  34.3566,2,     15.0,2,   -999.0,9,   125.00,2,    43.45,2,     3.30,2, -999.000,9, -999.000,9,   2369.0,2,   2358.0,2,   7.3000,2,    25.00,   -999.0,9,   -999.0,   3.5487
  49K619940107,   P02,    70,  1,     11,     11,2,19940202,1513, 29.9993,-151.3217, 5024,12668.5000,   1261.6,   3.0759,  34.4899,2,  34.4899,2,     31.4,2,     33.2,2,   138.10,2,    42.82,2,     3.23,2, -999.000,9, -999.000,9,   2378.0,2,   2382.0,2,   7.3500,2,    25.00,   -999.0,9,   -999.0,   2.9869
  49K619940107,   P02,    70,  1,     10,     10,2,19940202,1513, 29.9993,-151.3217, 5024,15183.6000,   1512.9,   2.6310,  34.5515,2,  34.5532,2,     52.6,2,     53.8,2,   145.50,2,    41.59,2,     3.12,2, -999.000,9, -999.000,9,   2375.0,2,   2396.0,2,   7.3900,2,    25.00,   -999.0,9,   -999.0,   2.5264
  49K619940107,   P02,    70,  1,      9,      9,2,19940202,1513, 29.9993,-151.3217, 5024,17732.4000,   1767.8,   2.2757,  34.5870,2,  34.5879,2,     69.0,2,     69.7,2,   154.30,2,    40.63,2,     3.06,2, -999.000,9, -999.000,9,   2376.0,2,   2403.0,2,   7.4200,2,    25.00,   -999.0,9,   -999.0,   2.1547
  49K619940107,   P02,    70,  1,      8,      8,2,19940202,1513, 29.9993,-151.3217, 5024,20249.7000,   2019.7,   1.9920,  34.6164,2,  34.6172,2,     80.3,2,     80.8,2,   164.30,2,    40.06,2,     2.99,2, -999.000,9, -999.000,9,   2376.0,2,   2411.0,2,   7.4400,2,    25.00,   -999.0,9,   -999.0,   1.8541
  49K619940107,   P02,    70,  1,      7,      7,2,19940202,1513, 29.9993,-151.3217, 5024,25352.5000,   2530.7,   1.7088,  34.6477,2,  34.6488,2,    102.5,3,    104.9,2,   165.70,2,    38.01,2,     2.87,2, -999.000,9, -999.000,9,   2367.0,2,   2419.0,2,-999.0000,9,  -999.00,   -999.0,9,   -999.0,   1.5312
  49K619940107,   P02,    70,  1,      6,      6,2,19940202,1513, 29.9993,-151.3217, 5024,30450.3000,   3041.6,   1.5570,  34.6651,2,  34.6659,2,    120.2,2,    122.2,2,   168.30,2,    37.31,2,     2.78,2, -999.000,9, -999.000,9,   2360.0,2,   2420.0,2,   7.4900,4,    25.00,   -999.0,9,   -999.0,   1.3350
  49K619940107,   P02,    70,  1,      5,      5,2,19940202,1513, 29.9993,-151.3217, 5024,35540.7000,   3551.9,   1.4932,  34.6767,2,  34.6767,2,    133.1,3,    136.2,2,   161.00,2,    36.07,2,     2.70,2, -999.000,9, -999.000,9,   2349.0,2,   2419.0,2,   7.5400,2,    25.00,   -999.0,9,   -999.0,   1.2219
  49K619940107,   P02,    70,  1,      4,      4,2,19940202,1513, 29.9993,-151.3217, 5024,40637.1000,   4062.6,   1.4767,  34.6843,2,  34.6834,2,    144.7,2,    145.8,2,   159.90,6,    35.69,6,     2.65,6, -999.000,9, -999.000,9,   2341.0,2,   2419.0,2,   7.5700,2,    25.00,   -999.0,9,   -999.0,   1.1516
  49K619940107,   P02,    70,  1,      3,      3,2,19940202,1513, 29.9993,-151.3217, 5024,45794.1000,   4579.1,   1.4989,  34.6876,2,  34.6886,2,    152.3,2,    153.8,2,   151.80,2,    35.43,2,     2.60,2, -999.000,9, -999.000,9,   2335.0,2,   2420.0,3,   7.5700,2,    25.00,   -999.0,9,   -999.0,   1.1147
  49K619940107,   P02,    70,  1,      2,      2,2,19940202,1513, 29.9993,-151.3217, 5024,50929.4000,   5092.9,   1.5368,  34.6900,2,  34.6908,2,    158.8,2,    158.9,2,   148.80,2,    34.98,2,     2.57,2, -999.000,9, -999.000,9,   2332.0,2,   2412.0,2,   7.5800,2,    25.00,   -999.0,9,   -999.0,   1.0898
  49K619940107,   P02,    70,  1,      1,      1,2,19940202,1513, 29.9993,-151.3217, 5024,52353.4000,   5235.2,   1.5526,  34.6906,2,  34.6912,2,    160.6,2,    161.8,2,   147.70,6,    34.86,6,     2.58,6, -999.000,9, -999.000,9,   2330.0,2,   2415.0,2,   7.5800,2,    25.00,   -999.0,9,   -999.0,   1.0875
  49K619940107,   P02,    71,  1,     24,     24,2,19940203,0313, 29.9902,-149.0013, 5661,  326.2000,     32.6,  17.8540,  34.8664,2,  34.8644,2,    240.1,2,    238.3,2,     2.90,2,     0.00,2,     0.16,2,    2.812,2,    1.446,2,   2002.0,2,   2287.0,2,   8.0100,2,    25.00,   -999.0,9,   -999.0,  17.8485
  49K619940107,   P02,    71,  1,     23,     23,2,19940203,0313, 29.9902,-149.0013, 5661,  783.7000,     78.0,  17.8714,  34.8874,3,  34.8725,2,    241.8,3,    236.5,2,     2.90,2,     0.00,2,     0.16,2,    2.899,2,    1.380,2,   2017.0,2,   2287.0,2,   8.0100,2,    25.00,   -999.0,9,   -999.0,  17.8581
  49K619940107,   P02,    71,  1,     22,     22,2,19940203,0313, 29.9902,-149.0013, 5661, 1321.0000,    131.4,  17.8792,  34.9520,3,  34.8884,2,    229.2,3,    236.3,2,     2.90,2,     0.07,2,     0.17,2,    2.611,2,    1.403,2,   2013.0,2,   2286.0,2,   8.0200,2,    25.00,   -999.0,9,   -999.0,  17.8568
  49K619940107,   P02,    71,  1,     21,     21,2,19940203,0313, 29.9902,-149.0013, 5661, 1676.8000,    166.7,  14.2546,  34.3523,3,  34.4063,2,    222.5,3,    232.2,2,     4.00,2,     1.53,2,     0.35,2,    2.944,2,    1.539,2,   2026.0,2,   2259.0,2,   7.9400,2,    25.00,   -999.0,9,   -999.0,  14.2304
  49K619940107,   P02,    71,  1,     20,     20,2,19940203,0313, 29.9902,-149.0013, 5661, 2117.2000,    210.5,  12.0310,  34.1836,3,  34.2379,2,    218.2,3,    221.0,2,     8.20,2,     8.22,2,     0.76,2,    3.124,2,    1.619,2,   2061.0,2,   2250.0,2,   7.8600,2,    25.00,   -999.0,9,   -999.0,  12.0037
  49K619940107,   P02,    71,  1,     19,     19,2,19940203,0313, 29.9902,-149.0013, 5661, 3293.9000,    327.5,   9.6717,  34.0949,3,  34.1216,2,    218.5,2,    217.8,2,    15.90,2,    14.58,2,     1.16,2,    3.029,2,    1.549,2,   2095.0,2,   2252.0,2,   7.7800,2,    25.00,   -999.0,9,   -999.0,   9.6346
  49K619940107,   P02,    71,  1,     18,     18,2,19940203,0313, 29.9902,-149.0013, 5661, 4140.1000,    411.6,   8.1571,  34.0488,3,  34.0369,2,    200.4,2,    199.4,2,    26.30,6,    20.31,6,     1.54,6,    2.582,2,    1.275,2,   2132.0,2,   2259.0,2,   7.7000,2,    25.00,   -999.0,9,   -999.0,   8.1150
  49K619940107,   P02,    71,  1,     17,     17,2,19940203,0313, 29.9902,-149.0013, 5661, 5230.2000,    520.1,   6.3891,  33.9826,3,  33.9881,2,    136.2,3,    148.7,2,    44.00,2,    27.95,2,     2.08,2,    1.574,2,    0.821,2,   2190.0,2,   2268.0,2,   7.5800,2,    25.00,   -999.0,9,   -999.0,   6.3425
  49K619940107,   P02,    71,  1,     16,     16,2,19940203,0313, 29.9902,-149.0013, 5661, 6213.1000,    618.0,   5.0022,  34.0151,3,  34.0044,2,     84.4,3,     87.6,2,    70.30,2,    36.30,2,     2.69,2,    0.503,2,    0.288,2,   2264.0,2,   2291.0,2,   7.4100,2,    25.00,   -999.0,9,   -999.0,   4.9529
  49K619940107,   P02,    71,  1,     15,     15,2,19940203,0313, 29.9902,-149.0013, 5661, 7142.6000,    710.6,   4.3833,  34.0935,3,  34.0875,2,     48.5,3,     45.8,2,    91.70,6,    41.29,6,     3.03,6,    0.130,2,    0.078,2,   2312.0,2,   2310.0,2,   7.3300,2,    25.00,   -999.0,9,   -999.0,   4.3295
  49K619940107,   P02,    71,  1,     14,     14,2,19940203,0313, 29.9902,-149.0013, 5661, 8162.6000,    812.2,   4.0373,  34.1979,3,  34.1908,2,     22.2,2,     21.4,2,   107.80,2,    43.39,2,     3.19,2,    0.019,4,    0.002,4,   2344.0,2,   2330.0,2,   7.2900,2,    25.00,   -999.0,9,   -999.0,   3.9772
  49K619940107,   P02,    71,  1,     13,     13,2,19940203,0313, 29.9902,-149.0013, 5661,10176.8000,   1013.1,   3.5393,  34.3872,2,  34.3861,2,     14.3,2,     12.5,2,   128.70,2,    44.37,2,     3.30,2,    0.000,2,    0.005,2,   2372.0,2,   2362.0,2,   7.3000,2,    25.00,   -999.0,9,   -999.0,   3.4663
  49K619940107,   P02,    71,  1,     12,     12,2,19940203,0313, 29.9902,-149.0013, 5661,12718.7000,   1266.8,   3.0356,  34.5001,2,  34.4986,2,     35.8,3,     30.7,2,   139.30,2,    43.59,2,     3.22,2,    0.016,3,    0.000,2,   2376.0,2,   2379.0,2,   7.3500,2,    25.00,   -999.0,9,   -999.0,   2.9466
  49K619940107,   P02,    71,  1,     11,     11,2,19940203,0313, 29.9902,-149.0013, 5661,15199.8000,   1514.7,   2.5813,  34.5602,2,  34.5611,2,     55.7,2,     54.8,2,   149.10,2,    42.32,2,     3.11,2,    0.000,2,    0.003,2,   2370.0,2,   2394.0,2,   7.4000,2,    25.00,   -999.0,9,   -999.0,   2.4771
  49K619940107,   P02,    71,  1,     10,     10,2,19940203,0313, 29.9902,-149.0013, 5661,17784.7000,   1773.2,   2.2145,  34.5946,2,  34.5948,2,     70.7,2,     69.9,2,   160.00,2,    41.71,2,     3.05,2,    0.000,2,    0.000,2,   2371.0,2,   2403.0,2,   7.4300,2,    25.00,   -999.0,9,   -999.0,   2.0939
  49K619940107,   P02,    71,  1,      9,      9,2,19940203,0313, 29.9902,-149.0013, 5661,20336.2000,   2028.5,   1.9671,  34.6194,2,  34.6192,2,     81.9,2,     82.1,2,   167.20,2,    40.95,2,     2.98,2,    0.000,2,    0.000,2,   2372.0,2,   2410.0,2,   7.4500,2,    25.00,   -999.0,9,   -999.0,   1.8288
  49K619940107,   P02,    71,  1,      8,      8,2,19940203,0313, 29.9902,-149.0013, 5661,25371.7000,   2532.8,   1.6925,  34.6480,2,  34.6461,2,     99.8,2,    100.9,2,   170.60,2,    39.63,2,     2.90,2,    0.000,2,    0.000,2,   2362.0,2,   2416.0,2,   7.4800,2,    25.00,   -999.0,9,   -999.0,   1.5150
  49K619940107,   P02,    71,  1,      7,      7,2,19940203,0313, 29.9902,-149.0013, 5661,30464.8000,   3043.2,   1.5304,  34.6672,2,  34.6689,2,    123.1,2,    122.2,2,   165.70,2,    37.76,2,     2.74,2,    0.000,2,    0.003,2,   2352.0,2,   2418.0,2,   7.5200,2,    25.00,   -999.0,9,   -999.0,   1.3088
  49K619940107,   P02,    71,  1,      6,      6,2,19940203,0313, 29.9902,-149.0013, 5661,35555.3000,   3553.5,   1.4714,  34.6792,2,  34.6805,2,    138.1,2,    139.8,2,   162.90,2,    36.85,2,     2.67,2,    0.000,2,    0.003,2,   2341.0,2,   2417.0,2,   7.5500,2,    25.00,   -999.0,9,   -999.0,   1.2005
  49K619940107,   P02,    71,  1,      5,      5,2,19940203,0313, 29.9902,-149.0013, 5661,40676.3000,   4066.8,   1.4670,  34.6849,2,  34.6858,2,    148.7,2,    149.8,2,   155.00,2,    36.07,2,     2.62,2,    0.000,2,    0.003,2,   2330.0,2,   2416.0,2,   7.5700,2,    25.00,   -999.0,9,   -999.0,   1.1417
  49K619940107,   P02,    71,  1,      4,      4,2,19940203,0313, 29.9902,-149.0013, 5661,45807.7000,   4580.7,   1.4827,  34.6892,2,  34.6893,2,    157.3,2,    156.3,2,   151.00,6,    35.55,6,     2.57,6,    0.013,3,    0.003,2,   2323.0,2,   2412.0,2,   7.5800,2,    25.00,   -999.0,9,   -999.0,   1.0988
  49K619940107,   P02,    71,  1,      3,      3,2,19940203,0313, 29.9902,-149.0013, 5661,50927.8000,   5092.9,   1.5179,  34.6914,2,  34.6916,2,    162.6,2,    161.3,2,   144.70,2,    35.17,2,     2.55,2,    0.007,2,    0.000,2,   2315.0,2,   2408.0,2,   7.5800,2,    25.00,   -999.0,9,   -999.0,   1.0716
  49K619940107,   P02,    71,  1,      2,      2,2,19940203,0313, 29.9902,-149.0013, 5661,56079.1000,   5607.4,   1.5769,  34.6917,2,  34.6922,2,    164.9,2,    163.1,2,   145.10,2,    35.22,2,     2.54,2,    0.008,2,    0.000,2,   2314.0,2,   2408.0,2,   7.5800,2,    25.00,   -999.0,9,   -999.0,   1.0636
  49K619940107,   P02,    71,  1,      1,      1,2,19940203,0313, 29.9902,-149.0013, 5661,58240.5000,   5823.0,   1.6055,  34.6927,2,  34.6923,2,    166.2,3,    163.5,2,   144.80,6,    35.22,6,     2.53,6,    0.000,2,    0.000,2,   2313.0,2,   2410.0,2,   7.5800,2,    25.00,   -999.0,9,   -999.0,   1.0629