BOTTLE,20220810CCHSIOAMB
EXPOCODE,SECT_ID,STNNBR,CASTNO,SAMPNO,BTLNBR,BTLNBR_FLAG_W,DATE,TIME,LATITUDE,LONGITUDE,DEPTH,CTDRAW,CTDPRS,CTDTMP,CTDSAL,CTDSAL_FLAG_W,SALNTY,SALNTY_FLAG_W,CTDOXY,CTDOXY_FLAG_W,OXYGEN,OXYGEN_FLAG_W,SILCAT,SILCAT_FLAG_W,NITRAT,NITRAT_FLAG_W,PHSPHT,PHSPHT_FLAG_W,CFC-11,CFC-11_FLAG_W,CFC-12,CFC-12_FLAG_W,TCARBN,TCARBN_FLAG_W,ALKALI,ALKALI_FLAG_W,PH_TOT,PH_TOT_FLAG_W,PH_TMP,DELC14,DELC14_FLAG_W,C14ERR,THETA
,,,,,,,,,,,METERS,,DBAR,ITS-90,PSS-78,,PSS-78,,UMOL/KG,,UMOL/KG,,UMOL/KG,,UMOL/KG,,UMOL/KG,,PMOL/KG,,PMOL/KG,,UMOL/KG,,UMOL/KG,,,,DEG C,/MILLE,,/MILLE,DEG C
  49K619940107,   P02,    25,  1,     24,     24,2,19940113,1118, 30.0103, 140.4253, 2400,  182.0000,     17.8,  21.1212,  34.9433,3,  34.9374,2,    225.2,2,    225.2,3,     0.90,4,     0.07,4,     0.15,4,    2.178,2,    1.243,2,   -999.0,9,   -999.0,9,-999.0000,9,  -999.00,   -999.0,9,   -999.0,  21.1178
  49K619940107,   P02,    25,  1,     23,     23,2,19940113,1118, 30.0103, 140.4253, 2400,  380.8000,     37.5,  21.1117,  34.9387,2,  34.9403,2,    216.4,2,    222.7,3,     1.00,2,     0.00,2,     0.15,2,    2.240,2,    1.211,2,   1972.0,2,   2294.0,2,   8.0700,2,    25.00,   -999.0,9,   -999.0,  21.1045
  49K619940107,   P02,    25,  1,     22,     22,4,19940113,1118, 30.0103, 140.4253, 2400,  611.0000,     60.4,  21.1122,  34.9376,2,-999.0000,9,    223.2,2,   -999.0,9,  -999.00,9,  -999.00,9,  -999.00,9, -999.000,9, -999.000,9,   -999.0,9,   -999.0,9,-999.0000,9,  -999.00,   -999.0,9,   -999.0,  21.1006
  49K619940107,   P02,    25,  1,     21,     21,2,19940113,1118, 30.0103, 140.4253, 2400,  844.4000,     83.5,  21.1052,  34.9344,3,  34.9148,2,    221.0,2,   -999.0,9,     0.80,4,     0.00,4,     0.15,4,    2.235,2,    1.241,2,   1967.0,2,   2287.0,2,   8.0700,2,    25.00,   -999.0,9,   -999.0,  21.0892
  49K619940107,   P02,    25,  1,     20,     20,2,19940113,1118, 30.0103, 140.4253, 2400, 1083.0000,    107.2,  20.5731,  34.9161,3,  34.9298,2,    219.2,2,    222.0,3,     0.80,4,     0.04,4,     0.15,4,    2.225,2,    1.227,2,   1967.0,2,   2285.0,2,   8.0700,2,    25.00,   -999.0,9,   -999.0,  20.5529
  49K619940107,   P02,    25,  1,     19,     19,2,19940113,1118, 30.0103, 140.4253, 2400, 1322.5000,    131.0,  19.2618,  34.8677,3,  34.8763,2,    207.4,2,   -999.0,9,     1.60,2,     1.72,2,     0.26,2,    2.211,2,    1.265,2,   1994.0,2,   2281.0,2,   8.0200,2,    25.00,   -999.0,9,   -999.0,  19.2383
  49K619940107,   P02,    25,  1,     18,     18,2,19940113,1118, 30.0103, 140.4253, 2400, 1576.5000,    156.3,  18.5793,  34.8555,3,  34.8654,2,    200.0,2,    209.0,3,     1.90,2,     2.79,2,     0.30,2,    2.328,2,    1.368,2,   2004.0,2,   2281.0,2,   8.0100,2,    25.00,   -999.0,9,   -999.0,  18.5519
  49K619940107,   P02,    25,  1,     17,     17,2,19940113,1118, 30.0103, 140.4253, 2400, 2077.7000,    206.1,  17.8882,  34.8354,3,  34.8319,2,    207.6,2,    207.6,3,     2.70,2,     3.48,2,     0.36,2,    2.361,2,    1.368,2,   2008.0,2,   2279.0,2,   7.9900,2,    25.00,   -999.0,9,   -999.0,  17.8530
  49K619940107,   P02,    25,  1,     16,     16,2,19940113,1118, 30.0103, 140.4253, 2400, 2579.6000,    255.9,  17.2795,  34.7983,3,  34.8015,2,    210.0,2,    212.7,3,     3.10,3,     4.35,6,     0.42,6,    2.337,2,    1.342,2,   2013.0,2,   2276.0,2,   7.9800,2,    25.00,   -999.0,9,   -999.0,  17.2368
  49K619940107,   P02,    25,  1,     15,     15,2,19940113,1118, 30.0103, 140.4253, 2400, 3085.4000,    306.2,  16.7141,  34.7569,3,  34.7637,2,    205.9,2,    204.1,3,     4.30,6,     4.56,6,     0.51,6,    2.295,2,    1.313,2,   2022.0,2,   2275.0,2,   7.9600,2,    25.00,   -999.0,9,   -999.0,  16.6641
  49K619940107,   P02,    25,  1,     14,     14,2,19940113,1118, 30.0103, 140.4253, 2400, 4083.5000,    405.5,  14.9674,  34.6195,3,  34.6288,2,    197.6,2,    192.8,3,     9.10,2,     9.03,2,     0.77,2,    2.123,2,    1.228,2,   2050.0,2,   2271.0,2,   7.9100,2,    25.00,   -999.0,9,   -999.0,  14.9059
  49K619940107,   P02,    25,  1,     13,     13,2,19940113,1118, 30.0103, 140.4253, 2400, 5083.6000,    505.0,  12.3099,  34.4314,3,  34.4357,2,    187.1,2,    179.3,3,    20.20,2,    14.23,2,     1.17,2,    1.879,2,    1.067,2,   2095.0,2,   2268.0,2,   7.8100,2,    25.00,   -999.0,9,   -999.0,  12.2425
  49K619940107,   P02,    25,  1,     12,     12,2,19940113,1118, 30.0103, 140.4253, 2400, 6093.5000,    605.6,  10.1005,  34.2804,2,  34.2819,2,    173.6,2,    174.7,3,    30.90,2,    18.69,2,     1.49,2,    1.724,2,    0.973,2,   -999.0,9,   2270.0,2,   7.7400,2,    25.00,   -999.0,9,   -999.0,  10.0289
  49K619940107,   P02,    25,  1,     11,     11,4,19940113,1118, 30.0103, 140.4253, 2400, 7111.5000,    707.0,   7.6149,  34.1634,2,-999.0000,9,    140.2,2,   -999.0,9,  -999.00,9,  -999.00,9,  -999.00,9, -999.000,9, -999.000,9,   -999.0,9,   -999.0,9,-999.0000,9,  -999.00,   -999.0,9,   -999.0,   7.5439
  49K619940107,   P02,    25,  1,     10,     10,2,19940113,1118, 30.0103, 140.4253, 2400, 8115.0000,    807.0,   5.7171,  34.0874,3,  34.0997,2,    113.8,2,    116.5,3,    73.80,2,    31.63,2,     2.43,2,    1.017,2,    0.606,2,   2237.0,2,   2294.0,2,   7.5100,2,    25.00,   -999.0,9,   -999.0,   5.6471
  49K619940107,   P02,    25,  1,      9,      9,2,19940113,1118, 30.0103, 140.4253, 2400, 9109.9000,    906.2,   4.5979,  34.1527,3,  34.1487,2,     75.0,2,     78.3,3,    98.00,2,    36.81,2,     2.79,2,    0.541,2,    0.340,2,   2293.0,2,   2314.0,2,   7.4200,2,    25.00,   -999.0,9,   -999.0,   4.5263
  49K619940107,   P02,    25,  1,      8,      8,2,19940113,1118, 30.0103, 140.4253, 2400,10118.7000,   1006.8,   4.1888,  34.2668,3,  34.2627,2,     63.4,2,   -999.0,9,   127.20,2,    40.81,2,     3.07,2,    0.259,2,    0.175,2,   2310.0,2,   2333.0,2,   7.4000,2,    25.00,   -999.0,9,   -999.0,   4.1115
  49K619940107,   P02,    25,  1,      7,      7,2,19940113,1118, 30.0103, 140.4253, 2400,11160.5000,   1110.8,   3.5893,  34.3238,3,  34.3184,2,     47.5,2,     48.3,3,   132.00,3,    41.16,3,     3.08,3,    0.102,2,    0.083,2,   2341.0,2,   2348.0,2,   7.3600,2,    25.00,   -999.0,9,   -999.0,   3.5082
  49K619940107,   P02,    25,  1,      6,      6,2,19940113,1118, 30.0103, 140.4253, 2400,12643.9000,   1258.9,   3.1441,  34.4082,2,  34.4056,2,     44.5,2,     53.9,3,   136.80,2,    41.50,2,     3.09,2,    0.045,2,    0.032,2,   2357.0,2,   2364.0,2,   7.3600,2,    25.00,   -999.0,9,   -999.0,   3.0549
  49K619940107,   P02,    25,  1,      5,      5,2,19940113,1118, 30.0103, 140.4253, 2400,14175.4000,   1411.9,   2.7854,  34.4765,2,  34.4769,2,     57.0,2,     66.3,3,   144.60,2,    40.28,2,     3.04,2,    0.036,2,    0.022,2,   2365.0,2,   2375.0,2,   7.3900,3,    25.00,   -999.0,9,   -999.0,   2.6874
  49K619940107,   P02,    25,  1,      4,      4,4,19940113,1118, 30.0103, 140.4253, 2400,15175.9000,   1511.8,   2.6280,  34.4994,2,-999.0000,9,     60.4,2,   -999.0,9,   148.20,3,    40.34,3,     3.07,3,    0.031,4,    0.037,4,   2363.0,2,   2376.0,3,   7.4100,3,    25.00,   -999.0,9,   -999.0,   2.5237
  49K619940107,   P02,    25,  1,      3,      3,2,19940113,1118, 30.0103, 140.4253, 2400,17694.7000,   1763.7,   2.3067,  34.5488,2,  34.5486,2,     73.7,2,     77.1,3,   151.60,2,    40.40,2,     2.99,2,    0.005,2,    0.008,2,   2356.0,2,   2390.0,2,   7.4200,2,    25.00,   -999.0,9,   -999.0,   2.1857
  49K619940107,   P02,    25,  1,      2,      2,2,19940113,1118, 30.0103, 140.4253, 2400,20230.6000,   2017.4,   1.9091,  34.6074,2,  34.6078,2,     98.6,2,    101.9,3,   155.30,2,    39.15,2,     2.88,2,    0.000,2,    0.000,2,   2355.0,2,   2398.0,2,   7.4700,2,    25.00,   -999.0,9,   -999.0,   1.7727
  49K619940107,   P02,    25,  1,      1,      1,4,19940113,1118, 30.0103, 140.4253, 2400,24182.9000,   2413.2,   1.7308,  34.6383,2,-999.0000,9,    114.5,2,   -999.0,9,  -999.00,9,  -999.00,9,  -999.00,9, -999.000,9, -999.000,9,   -999.0,9,   -999.0,9,-999.0000,9,  -999.00,   -999.0,9,   -999.0,   1.5633
  49K619940107,   P02,    27,  1,     24,     24,2,19940114,0515, 29.9933, 141.6070, 4140, 1118.0000,    110.7,  20.1688,  34.9363,3,  34.9541,2,    222.5,2,    221.0,3,     2.10,2,     2.13,2,     0.20,2,    2.206,2,    1.276,2,   1989.0,2,   2278.0,2,   8.0400,2,    25.00,   -999.0,9,   -999.0,  20.1482
  49K619940107,   P02,    27,  1,     23,     23,2,19940114,0515, 29.9933, 141.6070, 4140, 2125.8000,    210.8,  17.6815,  34.8303,2,  34.8308,2,    217.2,2,    223.4,3,     3.10,2,     4.04,2,     0.36,2,    2.435,2,    1.290,2,   2010.0,2,   2261.0,2,   7.9900,2,    25.00,   -999.0,9,   -999.0,  17.6458
  49K619940107,   P02,    27,  1,     22,     22,4,19940114,0515, 29.9933, 141.6070, 4140, 3123.6000,    310.0,  16.7143,  34.7613,2,-999.0000,9,    212.2,2,   -999.0,9,  -999.00,9,  -999.00,9,  -999.00,9, -999.000,9, -999.000,9,   -999.0,9,   -999.0,9,-999.0000,9,  -999.00,   -999.0,9,   -999.0,  16.6637
  49K619940107,   P02,    27,  1,     21,     21,2,19940114,0515, 29.9933, 141.6070, 4140, 3174.2000,    315.1,  16.6932,  34.7586,3,  34.7664,2,    212.4,2,    213.8,3,     4.80,2,     6.17,2,     0.48,2,    2.380,2,    1.284,2,   2023.0,2,   2265.0,2,   7.9600,2,    25.00,   -999.0,9,   -999.0,  16.6418
  49K619940107,   P02,    27,  1,     20,     20,4,19940114,0515, 29.9933, 141.6070, 4140, 4163.5000,    413.5,  15.0256,  34.6187,2,-999.0000,9,    203.8,2,   -999.0,9,  -999.00,9,  -999.00,9,  -999.00,9, -999.000,9, -999.000,9,   -999.0,9,   -999.0,9,-999.0000,9,  -999.00,   -999.0,9,   -999.0,  14.9627
  49K619940107,   P02,    27,  1,     19,     19,4,19940114,0515, 29.9933, 141.6070, 4140, 5116.4000,    508.3,  12.8958,  34.4477,2,-999.0000,9,    192.3,2,   -999.0,9,  -999.00,9,  -999.00,9,  -999.00,9, -999.000,9, -999.000,9,   -999.0,9,   -999.0,9,-999.0000,9,  -999.00,   -999.0,9,   -999.0,  12.8258
  49K619940107,   P02,    27,  1,     18,     18,2,19940114,0515, 29.9933, 141.6070, 4140, 5147.7000,    511.4,  12.7357,  34.4571,3,  34.4937,2,    193.0,2,    199.7,3,    15.50,2,    13.94,2,     1.01,2,    1.984,2,    1.077,2,   2078.0,2,   2253.0,2,   7.8400,2,    25.00,   -999.0,9,   -999.0,  12.6658
  49K619940107,   P02,    27,  1,     17,     17,2,19940114,0515, 29.9933, 141.6070, 4140, 6239.4000,    620.1,  10.6940,  34.3159,3,  34.3514,2,    176.2,2,    197.5,3,    25.20,6,    18.32,6,     1.32,6,    1.743,2,    0.930,2,   -999.0,9,   -999.0,9,   7.7700,2,    25.00,   -999.0,9,   -999.0,  10.6180
  49K619940107,   P02,    27,  1,     16,     16,4,19940114,0515, 29.9933, 141.6070, 4140, 7115.2000,    707.3,   7.5309,  34.1068,2,-999.0000,9,    159.9,2,   -999.0,9,  -999.00,9,  -999.00,9,  -999.00,9, -999.000,9, -999.000,9,   -999.0,9,   -999.0,9,-999.0000,9,  -999.00,   -999.0,9,   -999.0,   7.4604
  49K619940107,   P02,    27,  1,     15,     15,2,19940114,0515, 29.9933, 141.6070, 4140, 7187.1000,    714.5,   7.3091,  34.0775,3,  34.1160,2,    161.0,2,    172.9,3,    44.90,3,    24.93,6,     1.86,6,    1.632,2,    0.877,2,   2171.0,2,   2259.0,2,   7.6500,2,    25.00,   -999.0,9,   -999.0,   7.2390
  49K619940107,   P02,    27,  1,     14,     14,2,19940114,0515, 29.9933, 141.6070, 4140, 8203.0000,    815.8,   5.5552,  34.0329,2,  34.0352,2,    118.9,2,    137.6,3,    66.40,2,    31.05,2,     2.33,2,    1.354,2,    0.735,2,   2203.0,2,   2273.0,2,   7.5300,2,    25.00,   -999.0,9,   -999.0,   5.4855
  49K619940107,   P02,    27,  1,     13,     13,4,19940114,0515, 29.9933, 141.6070, 4140,10118.0000,   1006.7,   4.1415,  34.2155,2,-999.0000,9,     57.3,2,   -999.0,9,  -999.00,9,  -999.00,9,  -999.00,9, -999.000,9, -999.000,9,   -999.0,9,   -999.0,9,-999.0000,9,  -999.00,   -999.0,9,   -999.0,   4.0647
  49K619940107,   P02,    27,  1,     12,     12,2,19940114,0515, 29.9933, 141.6070, 4140,10198.4000,   1014.8,   4.1288,  34.2179,3,  34.2090,2,     57.3,2,     64.5,3,   107.00,2,    39.46,2,     2.92,2,    0.271,2,    0.152,2,   2317.0,2,   2314.0,2,   7.3800,2,    25.00,   -999.0,9,   -999.0,   4.0514
  49K619940107,   P02,    27,  1,     11,     11,2,19940114,0515, 29.9933, 141.6070, 4140,15270.8000,   1521.3,   2.6135,  34.4815,2,  34.4813,2,     42.2,2,     46.3,3,   152.00,2,    42.95,2,     3.13,2,    0.046,2,    0.010,2,   2376.0,2,   2339.0,2,   7.3600,2,    25.00,   -999.0,9,   -999.0,   2.5086
  49K619940107,   P02,    27,  1,      4,      4,4,19940114,0515, 29.9933, 141.6070, 4140,19991.7000,   1993.5,   3.0405,  34.1788,2,-999.0000,9,     72.1,2,   -999.0,9,  -999.00,9,  -999.00,9,  -999.00,9, -999.000,9, -999.000,9,   -999.0,9,   -999.0,9,-999.0000,9,  -999.00,   -999.0,9,   -999.0,   2.8904
  49K619940107,   P02,    27,  1,     10,     10,4,19940114,0515, 29.9933, 141.6070, 4140,20276.2000,   2022.0,   1.9980,  34.5908,2,-999.0000,9,     75.6,2,   -999.0,9,  -999.00,9,  -999.00,9,  -999.00,9, -999.000,9, -999.000,9,   -999.0,9,   -999.0,9,-999.0000,9,  -999.00,   -999.0,9,   -999.0,   1.8599
  49K619940107,   P02,    27,  1,      9,      9,2,19940114,0515, 29.9933, 141.6070, 4140,20306.7000,   2025.1,   1.9933,  34.5919,2,  34.5915,2,     75.6,2,   -999.0,9,   162.10,6,    39.97,3,     2.98,6,    0.000,2,    0.000,2,   2369.0,2,   2391.0,2,   7.4200,2,    25.00,   -999.0,9,   -999.0,   1.8550
  49K619940107,   P02,    27,  1,      8,      8,2,19940114,0515, 29.9933, 141.6070, 4140,25396.5000,   2534.8,   1.7094,  34.6416,2,  34.6398,2,    115.1,2,   -999.0,9,   155.10,2,    36.88,2,     2.80,2,    0.000,2,    0.000,2,   2346.0,2,   2395.0,2,   7.4900,2,    25.00,   -999.0,9,   -999.0,   1.5314
  49K619940107,   P02,    27,  1,      7,      7,4,19940114,0515, 29.9933, 141.6070, 4140,30439.4000,   3040.2,   1.5708,  34.6634,2,-999.0000,9,    130.6,2,   -999.0,9,  -999.00,9,  -999.00,9,  -999.00,9, -999.000,9, -999.000,9,   -999.0,9,   -999.0,9,-999.0000,9,  -999.00,   -999.0,9,   -999.0,   1.3486
  49K619940107,   P02,    27,  1,      6,      6,2,19940114,0515, 29.9933, 141.6070, 4140,30464.8000,   3042.7,   1.5698,  34.6635,3,  34.6605,2,    130.7,2,   -999.0,9,   155.10,2,    37.89,2,     2.71,2,    0.001,2,    0.000,2,   2340.0,2,   2398.0,2,   7.5200,2,    25.00,   -999.0,9,   -999.0,   1.3474
  49K619940107,   P02,    27,  1,      5,      5,2,19940114,0515, 29.9933, 141.6070, 4140,35580.5000,   3555.5,   1.4774,  34.6783,2,  34.6781,2,    144.6,2,    139.7,3,   154.20,4,    37.25,4,     2.66,4,    0.000,2,    0.002,2,   2331.0,2,   2398.0,2,   7.5400,2,    25.00,   -999.0,9,   -999.0,   1.2061
  49K619940107,   P02,    27,  1,      3,      3,2,19940114,0515, 29.9933, 141.6070, 4140,40685.7000,   4067.2,   1.4624,  34.6856,2,  34.6845,2,    153.7,2,    157.7,3,   152.70,2,    35.93,2,     2.59,2,    0.000,2,    0.002,2,   2325.0,2,   2398.0,2,   7.5600,2,    25.00,   -999.0,9,   -999.0,   1.1372
  49K619940107,   P02,    27,  1,      2,      2,2,19940114,0515, 29.9933, 141.6070, 4140,41878.7000,   4186.7,   1.4599,  34.6874,2,  34.6871,2,    154.8,2,    160.3,3,   150.30,3,    36.34,6,     2.58,6,    0.000,2,    0.002,2,   2321.0,2,   2398.0,2,   7.5600,2,    25.00,   -999.0,9,   -999.0,   1.1215
  49K619940107,   P02,    27,  1,      1,      1,4,19940114,0515, 29.9933, 141.6070, 4140,41988.0000,   4197.7,   1.4585,  34.6879,2,-999.0000,9,    154.7,2,   -999.0,9,  -999.00,9,  -999.00,9,  -999.00,9, -999.000,9, -999.000,9,   -999.0,9,   -999.0,9,-999.0000,9,  -999.00,   -999.0,9,   -999.0,   1.1189