BOTTLE,20220810CCHSIOAMB
EXPOCODE,SECT_ID,STNNBR,CASTNO,SAMPNO,BTLNBR,BTLNBR_FLAG_W,DATE,TIME,LATITUDE,LONGITUDE,DEPTH,CTDRAW,CTDPRS,CTDTMP,CTDSAL,CTDSAL_FLAG_W,SALNTY,SALNTY_FLAG_W,CTDOXY,CTDOXY_FLAG_W,OXYGEN,OXYGEN_FLAG_W,SILCAT,SILCAT_FLAG_W,NITRAT,NITRAT_FLAG_W,PHSPHT,PHSPHT_FLAG_W,CFC-11,CFC-11_FLAG_W,CFC-12,CFC-12_FLAG_W,TCARBN,TCARBN_FLAG_W,ALKALI,ALKALI_FLAG_W,PH_TOT,PH_TOT_FLAG_W,PH_TMP,DELC14,DELC14_FLAG_W,C14ERR,THETA
,,,,,,,,,,,METERS,,DBAR,ITS-90,PSS-78,,PSS-78,,UMOL/KG,,UMOL/KG,,UMOL/KG,,UMOL/KG,,UMOL/KG,,PMOL/KG,,PMOL/KG,,UMOL/KG,,UMOL/KG,,,,DEG C,/MILLE,,/MILLE,DEG C
  49K619940107,   P02,    46,  1,     24,     24,4,19940121,1413, 29.9958, 162.8877, 6015,  213.7000,     21.6,  19.9022,  35.0213,2,-999.0000,9,    219.6,2,   -999.0,9,  -999.00,9,  -999.00,9,  -999.00,9, -999.000,9, -999.000,9,   -999.0,9,   -999.0,9,-999.0000,9,  -999.00,   -999.0,9,   -999.0,  19.8982
  49K619940107,   P02,    46,  1,     23,     23,4,19940121,1413, 29.9958, 162.8877, 6015,  621.3000,     62.1,  19.8368,  35.0267,2,-999.0000,9,    224.0,2,   -999.0,9,  -999.00,9,  -999.00,9,  -999.00,9, -999.000,9, -999.000,9,   -999.0,9,   -999.0,9,-999.0000,9,  -999.00,   -999.0,9,   -999.0,  19.8254
  49K619940107,   P02,    46,  1,     22,     22,4,19940121,1413, 29.9958, 162.8877, 6015, 1045.7000,    104.2,  19.7341,  34.9986,2,-999.0000,9,    218.4,2,   -999.0,9,  -999.00,9,  -999.00,9,  -999.00,9, -999.000,9, -999.000,9,   -999.0,9,   -999.0,9,-999.0000,9,  -999.00,   -999.0,9,   -999.0,  19.7150
  49K619940107,   P02,    46,  1,     21,     21,4,19940121,1413, 29.9958, 162.8877, 6015, 1574.4000,    156.7,  18.6000,  34.8873,2,-999.0000,9,    217.2,2,   -999.0,9,  -999.00,9,  -999.00,9,  -999.00,9, -999.000,9, -999.000,9,   -999.0,9,   -999.0,9,-999.0000,9,  -999.00,   -999.0,9,   -999.0,  18.5725
  49K619940107,   P02,    46,  1,     20,     20,2,19940121,1413, 29.9958, 162.8877, 6015, 2061.0000,    205.1,  17.0726,  34.7953,2,  34.7952,2,    211.0,3,    206.9,2,     4.70,2,     4.32,2,     0.43,2,    2.429,2,    1.381,2,   2024.0,2,   2279.0,2,   7.9700,2,    25.00,   -999.0,9,   -999.0,  17.0387
  49K619940107,   P02,    46,  1,     19,     19,2,19940121,1413, 29.9958, 162.8877, 6015, 3081.3000,    306.5,  15.5121,  34.6592,3,  34.6672,2,    203.9,2,    205.2,2,     7.90,6,     7.14,3,     0.67,3,    2.341,2,    1.351,2,   2041.0,2,   2272.0,2,   7.9300,2,    25.00,   -999.0,9,   -999.0,  15.4646
  49K619940107,   P02,    46,  1,     18,     18,2,19940121,1413, 29.9958, 162.8877, 6015, 4081.6000,    406.0,  13.1585,  34.4633,2,  34.4648,2,    210.5,3,    207.0,2,    13.40,6,    10.54,6,     0.91,6,    2.467,2,    1.386,2,   2066.0,2,   2263.0,2,   7.8700,2,    25.00,   -999.0,9,   -999.0,  13.1021
  49K619940107,   P02,    46,  1,     17,     17,2,19940121,1413, 29.9958, 162.8877, 6015, 5093.2000,    506.7,  11.0085,  34.2987,3,  34.3213,2,    204.5,3,    202.2,2,    20.10,2,    14.29,2,     1.18,2,    2.456,2,    1.337,2,   2091.0,2,   2262.0,2,   7.8100,2,    25.00,   -999.0,9,   -999.0,  10.9456
  49K619940107,   P02,    46,  1,     16,     16,4,19940121,1413, 29.9958, 162.8877, 6015, 6099.8000,    606.9,   7.7795,  34.0794,2,-999.0000,9,    174.0,2,   -999.0,9,  -999.00,9,  -999.00,9,  -999.00,9, -999.000,9, -999.000,9,   -999.0,9,   -999.0,9,-999.0000,9,  -999.00,   -999.0,9,   -999.0,   7.7183
  49K619940107,   P02,    46,  1,     15,     15,4,19940121,1413, 29.9958, 162.8877, 6015, 7097.1000,    706.2,   5.8774,  34.0138,2,-999.0000,9,    132.6,2,   -999.0,9,  -999.00,9,  -999.00,9,  -999.00,9, -999.000,9, -999.000,9,   -999.0,9,   -999.0,9,-999.0000,9,  -999.00,   -999.0,9,   -999.0,   5.8159
  49K619940107,   P02,    46,  1,     14,     14,2,19940121,1413, 29.9958, 162.8877, 6015, 8137.9000,    810.0,   4.7260,  34.0789,2,  34.0789,2,     89.5,2,     89.8,2,    86.90,2,    36.02,2,     2.75,2,    0.813,2,    0.479,2,   2278.0,2,   2301.0,2,   7.4300,2,    25.00,   -999.0,9,   -999.0,   4.6619
  49K619940107,   P02,    46,  1,     13,     13,2,19940121,1413, 29.9958, 162.8877, 6015,10124.1000,   1008.0,   3.7323,  34.2732,2,  34.2737,2,     45.5,3,     42.0,2,   120.50,2,    41.06,2,     3.09,2,    0.137,2,    0.096,2,   2342.0,2,   2345.0,2,   7.3500,2,    25.00,   -999.0,9,   -999.0,   3.6584
  49K619940107,   P02,    46,  1,     12,     12,2,19940121,1413, 29.9958, 162.8877, 6015,12667.5000,   1261.9,   2.9948,  34.4281,2,  34.4265,2,     32.2,2,     32.4,2,   143.60,2,    42.99,2,     3.21,2,    0.037,2,    0.007,2,   2375.0,2,   2371.0,2,   7.3400,2,    25.00,   -999.0,9,   -999.0,   2.9067
  49K619940107,   P02,    46,  1,     11,     11,2,19940121,1413, 29.9958, 162.8877, 6015,15189.5000,   1513.9,   2.5271,  34.5123,2,  34.5102,2,     42.3,2,     43.2,2,   155.50,2,    42.70,2,     3.16,2,    0.004,2,    0.006,2,   2380.0,2,   2386.0,2,   7.3700,2,    25.00,   -999.0,9,   -999.0,   2.4238
  49K619940107,   P02,    46,  1,     10,     10,2,19940121,1413, 29.9958, 162.8877, 6015,17699.4000,   1764.9,   2.1697,  34.5614,2,  34.5589,2,     56.7,2,     55.5,2,   162.90,2,    42.40,2,     3.12,2,    0.007,2,    0.000,2,   2381.0,2,   2398.0,2,   7.3900,2,    25.00,   -999.0,9,   -999.0,   2.0505
  49K619940107,   P02,    46,  1,      9,      9,2,19940121,1413, 29.9958, 162.8877, 6015,20242.7000,   2019.4,   1.9387,  34.6064,2,  34.6065,2,     80.9,3,     84.6,2,   160.60,2,    40.68,2,     2.99,2,    0.000,2,    0.000,2,   2373.0,2,   2401.0,2,   7.4400,2,    25.00,   -999.0,9,   -999.0,   1.8016
  49K619940107,   P02,    46,  1,      8,      8,2,19940121,1413, 29.9958, 162.8877, 6015,25335.1000,   2529.3,   1.6975,  34.6479,2,  34.6478,2,    116.4,3,    119.2,2,   153.90,2,    38.39,2,     2.82,2,    0.000,2,    0.002,2,   2348.0,2,   2403.0,2,   7.5000,2,    25.00,   -999.0,9,   -999.0,   1.5202
  49K619940107,   P02,    46,  1,      7,      7,2,19940121,1413, 29.9958, 162.8877, 6015,30437.5000,   3040.7,   1.5657,  34.6649,2,  34.6650,2,    130.3,2,    130.5,2,   152.70,2,    37.20,2,     2.76,2,    0.000,2,    0.002,2,   2344.0,2,   2405.0,2,   7.5300,2,    25.00,   -999.0,9,   -999.0,   1.3436
  49K619940107,   P02,    46,  1,      6,      6,2,19940121,1413, 29.9958, 162.8877, 6015,35540.2000,   3552.2,   1.5108,  34.6754,2,  34.6754,2,    141.4,3,    144.8,2,   152.10,2,    36.51,2,     2.71,2,    0.000,2,    0.002,2,   2336.0,2,   2405.0,2,   7.5500,2,    25.00,   -999.0,9,   -999.0,   1.2390
  49K619940107,   P02,    46,  1,      5,      5,2,19940121,1413, 29.9958, 162.8877, 6015,40674.9000,   4066.8,   1.4835,  34.6831,2,  34.6823,2,    150.0,2,    149.8,2,   150.30,2,    36.11,2,     2.65,2,    0.000,2,    0.002,2,   2331.0,2,   2404.0,2,   7.5600,2,    25.00,   -999.0,9,   -999.0,   1.1577
  49K619940107,   P02,    46,  1,      4,      4,2,19940121,1413, 29.9958, 162.8877, 6015,45811.2000,   4581.2,   1.4802,  34.6890,2,  34.6884,2,    158.2,2,    158.2,2,   147.40,3,    35.69,6,     2.61,6,    0.003,2,    0.000,2,   2321.0,2,   2402.0,2,   7.5700,2,    25.00,   -999.0,9,   -999.0,   1.0964
  49K619940107,   P02,    46,  1,      3,      3,2,19940121,1413, 29.9958, 162.8877, 6015,50970.9000,   5097.4,   1.4944,  34.6937,2,  34.6931,2,    167.1,2,    165.4,2,   142.80,2,    35.40,2,     2.57,2,    0.002,2,    0.002,2,   2317.0,2,   2396.0,2,   7.5800,2,    25.00,   -999.0,9,   -999.0,   1.0483
  49K619940107,   P02,    46,  1,      2,      2,2,19940121,1413, 29.9958, 162.8877, 6015,56107.1000,   5610.4,   1.5284,  34.6961,2,  34.6965,2,    172.4,2,    171.3,2,   138.20,2,    34.83,2,     2.53,2,    0.000,2,    0.000,2,   2311.0,2,   2393.0,2,   7.5900,2,    25.00,   -999.0,9,   -999.0,   1.0165
  49K619940107,   P02,    46,  1,      1,      1,2,19940121,1413, 29.9958, 162.8877, 6015,61122.2000,   6110.3,   1.5791,  34.6985,2,  34.6980,2,    175.7,3,    172.3,2,   138.80,6,    35.07,6,     2.52,6,    0.000,2,    0.003,2,   2311.0,2,   2392.0,2,   7.5900,2,    25.00,   -999.0,9,   -999.0,   0.9991
  49K619940107,   P02,    47,  2,      5,      5,2,19940121,1637, 30.0088, 162.8737, 5932,   87.3000,      8.8,  19.9198,  35.0238,2,  35.0221,2,    221.6,2,   -999.0,9,     2.50,2,     0.26,2,     0.19,2,    2.175,2,    1.315,2,   1986.0,2,   2292.0,2,   8.0600,2,    25.00,   -999.0,9,   -999.0,  19.9182
  49K619940107,   P02,    47,  2,      4,      4,4,19940121,1637, 30.0088, 162.8737, 5932,  511.3000,     50.9,  19.8249,  35.0229,2,-999.0000,9,    229.1,2,   -999.0,9,  -999.00,9,  -999.00,9,  -999.00,9, -999.000,5, -999.000,5,   -999.0,9,   -999.0,9,-999.0000,9,  -999.00,   -999.0,9,   -999.0,  19.8156
  49K619940107,   P02,    47,  2,      3,      3,2,19940121,1637, 30.0088, 162.8737, 5932, 1000.5000,     99.4,  19.5615,  34.9468,3,  34.9400,2,    223.5,2,   -999.0,9,     2.50,3,     1.22,3,     0.21,3,    2.183,2,    1.468,3,   1988.0,2,   2287.0,2,   8.0500,2,    25.00,   -999.0,9,   -999.0,  19.5434
  49K619940107,   P02,    47,  2,      1,      1,4,19940121,1637, 30.0088, 162.8737, 5932, 1497.5000,    148.8,  18.9781,  34.9064,2,-999.0000,9,    222.6,2,   -999.0,9,  -999.00,9,  -999.00,9,  -999.00,9,    2.227,2,    1.347,2,   2002.0,2,   2290.0,2,   8.0200,2,    25.00,   -999.0,9,   -999.0,  18.9516
  49K619940107,   P02,    47,  2,      2,      2,2,19940121,1637, 30.0088, 162.8737, 5932, 1499.5000,    149.0,  18.9857,  34.9024,3,  34.8990,2,    222.6,2,   -999.0,9,     3.60,3,     1.90,2,     0.26,2,    2.331,2,    1.323,2,   2003.0,2,   2283.0,2,   8.0200,2,    25.00,   -999.0,9,   -999.0,  18.9592
  49K619940107,   P02,    48,  1,     24,     24,2,19940122,0015, 29.9985, 164.0753, 5954,  243.7000,     24.5,  19.2005,  34.9098,2,  34.9086,2,    230.6,2,    232.5,2,     2.80,2,     0.35,2,     0.18,2,    2.335,2,    1.306,2,   -999.0,9,   -999.0,9,-999.0000,9,  -999.00,   -999.0,9,   -999.0,  19.1961
  49K619940107,   P02,    48,  1,     23,     23,2,19940122,0015, 29.9985, 164.0753, 5954,  675.5000,     67.4,  19.1872,  34.9252,3,  34.9159,2,    227.2,2,    227.5,2,     2.70,4,     0.74,4,     0.20,4,    2.330,2,    1.328,2,   1992.0,2,   2281.0,2,   8.0500,2,    25.00,   -999.0,9,   -999.0,  19.1751
  49K619940107,   P02,    48,  1,     22,     22,2,19940122,0015, 29.9985, 164.0753, 5954, 1136.0000,    113.1,  19.1572,  34.9266,3,  34.9227,2,    229.1,2,    227.1,2,     2.80,2,     0.73,2,     0.20,2,    2.320,2,    1.330,2,   1991.0,2,   2283.0,2,   8.0500,2,    25.00,   -999.0,9,   -999.0,  19.1370
  49K619940107,   P02,    48,  1,     21,     21,4,19940122,0015, 29.9985, 164.0753, 5954, 1576.9000,    156.9,  18.1941,  34.8504,2,-999.0000,9,    209.7,2,   -999.0,9,  -999.00,9,  -999.00,9,  -999.00,9,    2.277,2,    1.304,2,   1992.0,2,   2283.0,2,   8.0500,2,    25.00,   -999.0,9,   -999.0,  18.1670
  49K619940107,   P02,    48,  1,     20,     20,2,19940122,0015, 29.9985, 164.0753, 5954, 2126.0000,    211.5,  17.2982,  34.8080,3,  34.8125,2,    212.7,2,    214.3,2,     4.10,2,     3.28,2,     0.40,2,    2.492,2,    1.360,2,   2017.0,2,   2273.0,2,   7.9900,2,    25.00,   -999.0,9,   -999.0,  17.2629
  49K619940107,   P02,    48,  1,     19,     19,4,19940122,0015, 29.9985, 164.0753, 5954, 3184.4000,    316.7,  16.5083,  34.7503,2,-999.0000,9,    203.8,2,   -999.0,9,  -999.00,9,  -999.00,9,  -999.00,9, -999.000,9, -999.000,9,   -999.0,9,   -999.0,9,-999.0000,9,  -999.00,   -999.0,9,   -999.0,  16.4570
  49K619940107,   P02,    48,  1,     18,     18,2,19940122,0015, 29.9985, 164.0753, 5954, 4143.8000,    412.1,  13.6451,  34.4924,3,  34.5253,2,    199.7,2,    198.6,2,    12.50,6,     9.47,6,     0.87,6,    2.304,2,    1.227,2,   2059.0,2,   2266.0,2,   7.8800,2,    25.00,   -999.0,9,   -999.0,  13.5864
  49K619940107,   P02,    48,  1,     17,     17,2,19940122,0015, 29.9985, 164.0753, 5954, 5194.5000,    516.7,  11.4066,  34.3623,3,  34.3688,2,    218.7,3,    198.9,2,    19.90,6,    13.06,6,     1.15,6,    2.351,2,    1.231,2,   2096.0,2,   2265.0,2,   7.8200,2,    25.00,   -999.0,9,   -999.0,  11.3409
  49K619940107,   P02,    48,  1,     16,     16,2,19940122,0015, 29.9985, 164.0753, 5954, 6165.0000,    613.3,   8.7293,  34.1304,3,  34.1565,2,    185.3,3,    203.9,2,    28.50,2,    16.45,2,     1.44,2,    2.559,2,    1.363,2,   2130.0,2,   2265.0,2,   7.7400,2,    25.00,   -999.0,9,   -999.0,   8.6630
  49K619940107,   P02,    48,  1,     15,     15,2,19940122,0015, 29.9985, 164.0753, 5954, 7121.7000,    708.6,   6.4581,  34.0307,3,  34.0234,2,    144.8,3,    158.5,2,    52.70,6,    25.11,6,     2.10,6,    1.888,2,    0.979,2,   -999.0,9,   2275.0,2,   7.5900,2,    25.00,   -999.0,9,   -999.0,   6.3932
  49K619940107,   P02,    48,  1,     14,     14,2,19940122,0015, 29.9985, 164.0753, 5954, 8161.8000,    812.2,   4.8231,  34.0623,3,  34.0469,2,     97.8,3,    105.0,2,    79.10,2,    31.98,2,     2.60,2,    1.116,2,    0.630,2,   2220.0,2,   2298.0,2,   7.4600,2,    25.00,   -999.0,9,   -999.0,   4.7582
  49K619940107,   P02,    48,  1,     13,     13,2,19940122,0015, 29.9985, 164.0753, 5954,10148.1000,   1010.3,   3.8584,  34.2519,3,  34.2391,2,     47.0,3,     50.5,2,   113.70,2,    38.21,2,     3.06,2,    0.183,2,    0.117,2,   2334.0,2,   2336.0,2,   7.3600,2,    25.00,   -999.0,9,   -999.0,   3.7834
  49K619940107,   P02,    48,  1,     12,     12,2,19940122,0015, 29.9985, 164.0753, 5954,12709.7000,   1266.0,   3.0170,  34.4000,2,  34.3986,2,     32.6,2,     32.4,2,   141.10,2,    40.16,2,     3.19,2,    0.035,2,    0.049,2,   2375.0,2,   2370.0,2,   7.3400,2,    25.00,   -999.0,9,   -999.0,   2.9285
  49K619940107,   P02,    48,  1,     11,     11,2,19940122,0015, 29.9985, 164.0753, 5954,15242.1000,   1519.1,   2.4946,  34.4946,2,-999.0000,9,     40.3,2,     38.2,2,   156.40,2,    40.17,2,     3.18,2,    0.009,2,    0.000,2,   2387.0,2,   2386.0,2,   7.3600,2,    25.00,   -999.0,9,   -999.0,   2.3913
  49K619940107,   P02,    48,  1,     10,     10,2,19940122,0015, 29.9985, 164.0753, 5954,17720.1000,   1766.8,   2.1815,  34.5595,2,  34.5571,2,     55.2,2,     55.5,2,   161.80,2,    39.53,2,     3.11,2,    0.006,2,    0.003,2,   2384.0,2,   2397.0,2,   7.3900,2,    25.00,   -999.0,9,   -999.0,   2.0619
  49K619940107,   P02,    48,  1,      9,      9,2,19940122,0015, 29.9985, 164.0753, 5954,20292.2000,   2024.2,   1.9398,  34.6003,2,  34.6001,2,     77.7,2,     76.3,2,   157.70,2,    38.22,2,     3.05,2,    0.002,2,    0.002,2,   2376.0,2,   2404.0,2,   7.4300,2,    25.00,   -999.0,9,   -999.0,   1.8023
  49K619940107,   P02,    48,  1,      8,      8,2,19940122,0015, 29.9985, 164.0753, 5954,25379.6000,   2533.7,   1.6862,  34.6457,2,  34.6467,2,    113.9,2,    115.0,2,   156.10,2,    36.03,2,     2.84,2,    0.000,2,    0.002,2,   2361.0,3,   2405.0,2,   7.5000,2,    25.00,   -999.0,9,   -999.0,   1.5088
  49K619940107,   P02,    48,  1,      7,      7,3,19940122,0015, 29.9985, 164.0753, 5954,30475.7000,   3044.4,   1.5654,  34.6647,3,  34.6587,2,    130.5,2,    129.7,2,  -999.00,9,  -999.00,9,  -999.00,9,    0.021,4,    0.015,4,   2341.0,2,   2406.0,2,   7.5300,2,    25.00,   -999.0,9,   -999.0,   1.3430
  49K619940107,   P02,    48,  1,      6,      6,2,19940122,0015, 29.9985, 164.0753, 5954,35574.3000,   3555.5,   1.5058,  34.6764,2,  34.6750,2,    142.2,2,    143.2,2,   151.80,2,    34.66,2,     2.67,2,    0.002,2,    0.002,2,   2337.0,2,   2408.0,2,   7.5500,2,    25.00,   -999.0,9,   -999.0,   1.2338
  49K619940107,   P02,    48,  1,      5,      5,2,19940122,0015, 29.9985, 164.0753, 5954,40661.9000,   4065.4,   1.4795,  34.6830,2,  34.6815,2,    149.7,2,    149.8,2,   150.30,2,    33.90,2,     2.63,2,    0.000,2,    0.001,2,   2334.0,2,   2407.0,2,   7.5600,2,    25.00,   -999.0,9,   -999.0,   1.1540
  49K619940107,   P02,    48,  1,      4,      4,2,19940122,0015, 29.9985, 164.0753, 5954,45787.2000,   4578.7,   1.4784,  34.6885,3,  34.6851,2,    158.9,2,    159.0,2,   147.40,6,    33.66,6,     2.58,6,    0.000,2,    0.000,2,   2328.0,2,   2409.0,2,   7.5700,2,    25.00,   -999.0,9,   -999.0,   1.0949
  49K619940107,   P02,    48,  1,      3,      3,2,19940122,0015, 29.9985, 164.0753, 5954,50957.9000,   5096.0,   1.4899,  34.6940,3,  34.6907,2,    167.8,2,    167.1,2,   142.50,2,    33.13,2,     2.52,2,    0.000,2,    0.000,2,   2318.0,2,   2401.0,2,   7.5800,2,    25.00,   -999.0,9,   -999.0,   1.0442
  49K619940107,   P02,    48,  1,      2,      2,2,19940122,0015, 29.9985, 164.0753, 5954,56112.0000,   5610.8,   1.5210,  34.6969,2,  34.6945,2,    174.6,3,    172.2,2,   136.00,2,    32.87,2,     2.49,2,    0.001,2,    0.000,2,   2320.0,2,   2394.0,2,   7.5900,2,    25.00,   -999.0,9,   -999.0,   1.0093
  49K619940107,   P02,    48,  1,      1,      1,2,19940122,0015, 29.9985, 164.0753, 5954,60579.1000,   6056.1,   1.5696,  34.6983,2,  34.6988,2,    174.5,2,    174.7,2,   135.90,6,    32.59,6,     2.47,6,    0.002,2,    0.003,2,   2298.0,2,   2391.0,2,   7.5900,2,    25.00,   -999.0,9,   -999.0,   0.9973