BOTTLE,20220810CCHSIOAMB
EXPOCODE,SECT_ID,STNNBR,CASTNO,SAMPNO,BTLNBR,BTLNBR_FLAG_W,DATE,TIME,LATITUDE,LONGITUDE,DEPTH,CTDRAW,CTDPRS,CTDTMP,CTDSAL,CTDSAL_FLAG_W,SALNTY,SALNTY_FLAG_W,CTDOXY,CTDOXY_FLAG_W,OXYGEN,OXYGEN_FLAG_W,SILCAT,SILCAT_FLAG_W,NITRAT,NITRAT_FLAG_W,PHSPHT,PHSPHT_FLAG_W,CFC-11,CFC-11_FLAG_W,CFC-12,CFC-12_FLAG_W,TCARBN,TCARBN_FLAG_W,ALKALI,ALKALI_FLAG_W,PH_TOT,PH_TOT_FLAG_W,PH_TMP,DELC14,DELC14_FLAG_W,C14ERR,THETA
,,,,,,,,,,,METERS,,DBAR,ITS-90,PSS-78,,PSS-78,,UMOL/KG,,UMOL/KG,,UMOL/KG,,UMOL/KG,,UMOL/KG,,PMOL/KG,,PMOL/KG,,UMOL/KG,,UMOL/KG,,,,DEG C,/MILLE,,/MILLE,DEG C
  49K619940107,   P02,    59,  1,     24,     24,2,19940127,0014, 29.9833,-177.1605, 5358,  255.8000,     25.4,  17.2419,  34.7970,3,  34.7930,2,    246.5,2,    244.9,2,     4.20,2,     0.32,2,     0.23,2,    2.719,2,    1.473,2,   -999.0,9,   -999.0,9,   8.0200,2,    25.00,   -999.0,9,   -999.0,  17.2377
  49K619940107,   P02,    59,  1,     23,     23,4,19940127,0014, 29.9833,-177.1605, 5358,  662.1000,     65.7,  17.0668,  34.7973,2,-999.0000,9,    244.5,2,   -999.0,9,  -999.00,9,  -999.00,9,  -999.00,9,    2.692,2,    1.435,2,   -999.0,9,   -999.0,9,   8.0200,2,    25.00,   -999.0,9,   -999.0,  17.0560
  49K619940107,   P02,    59,  1,     22,     22,2,19940127,0014, 29.9833,-177.1605, 5358, 1115.9000,    110.8,  17.0461,  34.7993,2,  34.7973,2,    237.8,2,    238.0,2,     4.60,2,     1.23,2,     0.27,2,    2.669,2,    1.467,2,   2007.0,2,   2279.0,2,   8.0000,2,    25.00,   -999.0,9,   -999.0,  17.0278
  49K619940107,   P02,    59,  1,     21,     21,4,19940127,0014, 29.9833,-177.1605, 5358, 1600.1000,    158.9,  16.6999,  34.7717,2,-999.0000,9,    225.7,2,   -999.0,9,  -999.00,9,  -999.00,9,  -999.00,9,    2.660,2,    1.458,2,   2004.0,2,   2280.0,2,   8.0100,2,    25.00,   -999.0,9,   -999.0,  16.6741
  49K619940107,   P02,    59,  1,     20,     20,4,19940127,0014, 29.9833,-177.1605, 5358, 2107.8000,    209.3,  14.8985,  34.5907,2,-999.0000,9,    220.5,2,   -999.0,9,  -999.00,9,  -999.00,9,  -999.00,9, -999.000,9, -999.000,9,   -999.0,9,   -999.0,9,-999.0000,9,  -999.00,   -999.0,9,   -999.0,  14.8670
  49K619940107,   P02,    59,  1,     19,     19,2,19940127,0014, 29.9833,-177.1605, 5358, 3111.7000,    309.1,  13.0401,  34.4482,3,  34.4709,2,    220.9,3,    217.8,2,    11.90,2,     9.52,2,     0.81,2,    2.774,2,    1.451,2,   2058.0,2,   2270.0,2,   7.8800,2,    25.00,   -999.0,9,   -999.0,  12.9975
  49K619940107,   P02,    59,  1,     18,     18,2,19940127,0014, 29.9833,-177.1605, 5358, 4167.4000,    414.1,  11.0844,  34.3055,3,  34.3313,2,    212.9,3,    210.3,2,    18.90,6,    13.61,6,     1.08,6,    2.698,2,    1.410,2,   2088.0,2,   2267.0,2,   7.8200,2,    25.00,   -999.0,9,   -999.0,  11.0330
  49K619940107,   P02,    59,  1,     17,     17,2,19940127,0014, 29.9833,-177.1605, 5358, 5153.9000,    512.3,   8.6022,  34.1241,3,  34.1548,2,    191.4,3,    193.8,2,    28.80,2,    19.50,2,     1.48,2,    2.444,2,    1.268,2,   2131.0,2,   2270.0,2,   7.7300,2,    25.00,   -999.0,9,   -999.0,   8.5477
  49K619940107,   P02,    59,  1,     16,     16,2,19940127,0014, 29.9833,-177.1605, 5358, 6152.9000,    611.8,   6.4722,  34.0232,3,  34.0311,2,    161.4,2,    162.1,2,    48.40,2,    26.61,2,     2.01,2,    1.959,2,    1.043,2,   2190.0,2,   2276.0,2,   7.6000,2,    25.00,   -999.0,9,   -999.0,   6.4165
  49K619940107,   P02,    59,  1,     15,     15,2,19940127,0014, 29.9833,-177.1605, 5358, 7141.3000,    710.2,   5.0967,  34.0504,3,  34.0444,2,    107.8,3,    105.0,2,    76.00,6,    34.21,6,     2.60,3,    0.961,2,    0.559,2,   2258.0,2,   2297.0,2,   7.4600,2,    25.00,   -999.0,9,   -999.0,   5.0390
  49K619940107,   P02,    59,  1,     14,     14,2,19940127,0014, 29.9833,-177.1605, 5358, 8147.4000,    810.5,   4.4344,  34.1366,3,  34.1322,2,     64.2,2,     66.1,2,    95.70,2,    39.12,2,     2.87,2,    0.367,2,    0.265,2,   2300.0,2,   2320.0,2,   7.3800,2,    25.00,   -999.0,9,   -999.0,   4.3720
  49K619940107,   P02,    59,  1,     13,     13,2,19940127,0014, 29.9833,-177.1605, 5358, 9180.8000,    913.5,   3.8853,  34.2295,3,  34.2191,2,     41.1,2,     41.2,2,   111.80,2,    41.16,2,     3.07,2,    0.134,2,    0.086,2,   2327.0,2,   2335.0,2,   7.3400,2,    25.00,   -999.0,9,   -999.0,   3.8180
  49K619940107,   P02,    59,  1,     12,     12,2,19940127,0014, 29.9833,-177.1605, 5358,10181.7000,   1013.4,   3.5142,  34.3050,3,  34.2968,2,     29.5,2,     28.2,2,   126.60,2,    43.68,2,     3.17,2,    0.055,2,    0.044,2,   2365.0,2,   2352.0,2,   7.3200,2,    25.00,   -999.0,9,   -999.0,   3.4416
  49K619940107,   P02,    59,  1,     11,     11,2,19940127,0014, 29.9833,-177.1605, 5358,12698.1000,   1264.6,   2.8876,  34.4400,3,  34.4361,2,     26.2,3,     23.2,2,   149.20,2,    44.84,2,     3.22,2,    0.007,2,    0.012,2,   2385.0,2,   2377.0,2,   7.3200,2,    25.00,   -999.0,9,   -999.0,   2.8004
  49K619940107,   P02,    59,  1,     10,     10,2,19940127,0014, 29.9833,-177.1605, 5358,15250.8000,   1519.6,   2.4804,  34.5378,3,  34.5334,2,     46.5,2,     46.3,2,   155.60,2,    43.39,2,     3.15,2,    0.000,2,    0.000,2,   2383.0,2,   2394.0,2,   7.3700,2,    25.00,   -999.0,9,   -999.0,   2.3771
  49K619940107,   P02,    59,  1,      9,      9,2,19940127,0014, 29.9833,-177.1605, 5358,17736.7000,   1768.2,   2.1390,  34.5809,2,  34.5797,2,     65.5,3,     63.0,2,   167.20,2,    42.82,2,     3.06,2,    0.002,2,    0.008,2,   2383.0,2,   2399.0,2,   7.4000,2,    25.00,   -999.0,9,   -999.0,   2.0198
  49K619940107,   P02,    59,  1,      8,      8,2,19940127,0014, 29.9833,-177.1605, 5358,20267.9000,   2021.5,   1.9166,  34.6114,2,  34.6100,2,     85.0,3,     82.5,2,   167.80,2,    41.51,2,     2.97,2,    0.000,2,    0.003,2,   2380.0,2,   2407.0,2,   7.4400,2,    25.00,   -999.0,9,   -999.0,   1.7797
  49K619940107,   P02,    59,  1,      7,      7,3,19940127,0014, 29.9833,-177.1605, 5358,25364.6000,   2531.9,   1.6617,  34.6457,3,  34.6397,2,    108.9,2,   -999.0,9,  -999.00,9,  -999.00,9,  -999.00,9, -999.000,9, -999.000,9,   -999.0,9,   -999.0,9,-999.0000,9,  -999.00,   -999.0,9,   -999.0,   1.4849
  49K619940107,   P02,    59,  1,      6,      6,2,19940127,0014, 29.9833,-177.1605, 5358,30451.4000,   3041.7,   1.5235,  34.6666,2,  34.6672,2,    129.1,2,    130.6,2,   163.40,2,    38.38,2,     2.72,2,    0.001,2,    0.003,2,   2350.0,2,   2412.0,2,   7.5200,2,    25.00,   -999.0,9,   -999.0,   1.3022
  49K619940107,   P02,    59,  1,      5,      5,2,19940127,0014, 29.9833,-177.1605, 5358,35550.0000,   3552.8,   1.4645,  34.6785,2,  34.6788,2,    143.0,2,    143.1,2,   160.50,2,    37.84,2,     2.66,2,    0.003,2,    0.000,2,   2341.0,2,   2412.0,2,   7.5500,2,    25.00,   -999.0,9,   -999.0,   1.1938
  49K619940107,   P02,    59,  1,      4,      4,2,19940127,0014, 29.9833,-177.1605, 5358,40668.4000,   4065.8,   1.4604,  34.6847,2,  34.6866,2,    150.3,2,    150.4,2,   158.90,3,    36.63,6,     2.63,6,    0.000,2,    0.000,2,   2337.0,2,   2415.0,2,   7.5600,2,    25.00,   -999.0,9,   -999.0,   1.1354
  49K619940107,   P02,    59,  1,      3,      3,2,19940127,0014, 29.9833,-177.1605, 5358,45786.7000,   4578.4,   1.4824,  34.6882,2,  34.6886,2,    156.7,2,    156.3,2,   155.60,2,    36.35,2,     2.60,2,    0.000,2,    0.000,2,   2330.0,2,   2410.0,2,   7.5700,2,    25.00,   -999.0,9,   -999.0,   1.0988
  49K619940107,   P02,    59,  1,      2,      2,2,19940127,0014, 29.9833,-177.1605, 5358,50961.6000,   5096.1,   1.5093,  34.6919,2,  34.6915,2,    163.8,2,    164.7,2,   150.10,2,    35.57,2,     2.56,2,    0.003,2,    0.000,2,   2327.0,2,   2405.0,2,   7.5700,2,    25.00,   -999.0,9,   -999.0,   1.0629
  49K619940107,   P02,    59,  1,      1,      1,2,19940127,0014, 29.9833,-177.1605, 5358,54422.5000,   5441.9,   1.5291,  34.6941,2,  34.6943,2,    169.1,2,    167.0,2,   143.30,6,    35.88,6,     2.52,6,    0.000,2,    0.000,2,   2320.0,2,   2402.0,2,   7.5800,2,    25.00,   -999.0,9,   -999.0,   1.0387
  49K619940107,   P02,    61,  1,     23,     23,4,19940128,0229, 29.9710,-174.2327, 5104,  655.8000,     65.1,  18.1685,  34.9375,2,-999.0000,9,    235.2,2,   -999.0,9,  -999.00,9,  -999.00,9,  -999.00,9, -999.000,9, -999.000,9,   -999.0,9,   -999.0,9,-999.0000,9,  -999.00,   -999.0,9,   -999.0,  18.1573
  49K619940107,   P02,    61,  1,     22,     22,4,19940128,0229, 29.9710,-174.2327, 5104, 1101.5000,    109.4,  18.1308,  34.9255,2,-999.0000,9,    236.6,2,   -999.0,9,  -999.00,9,  -999.00,9,  -999.00,9, -999.000,9, -999.000,9,   -999.0,9,   -999.0,9,-999.0000,9,  -999.00,   -999.0,9,   -999.0,  18.1120
  49K619940107,   P02,    61,  1,     21,     21,4,19940128,0229, 29.9710,-174.2327, 5104, 1587.2000,    157.6,  16.1776,  34.7075,2,-999.0000,9,    236.5,2,   -999.0,9,  -999.00,9,  -999.00,9,  -999.00,9, -999.000,9, -999.000,9,   -999.0,9,   -999.0,9,-999.0000,9,  -999.00,   -999.0,9,   -999.0,  16.1525
  49K619940107,   P02,    61,  1,     20,     20,2,19940128,0229, 29.9710,-174.2327, 5104, 2113.9000,    210.0,  15.0018,  34.6024,3,  34.6295,2,    222.4,3,    219.4,2,     7.10,2,     6.00,2,     0.57,2,    2.781,2,    1.468,2,   2045.0,2,   2268.0,2,   7.9300,2,    25.00,   -999.0,9,   -999.0,  14.9701
  49K619940107,   P02,    61,  1,     19,     19,2,19940128,0229, 29.9710,-174.2327, 5104, 3111.2000,    309.1,  12.9880,  34.4392,3,  34.4557,2,    221.3,2,    220.9,2,    11.50,2,     9.17,2,     0.81,2,    2.778,2,    1.449,2,   2071.0,2,   2262.0,2,   7.8700,2,    25.00,   -999.0,9,   -999.0,  12.9456
  49K619940107,   P02,    61,  1,     18,     18,2,19940128,0229, 29.9710,-174.2327, 5104, 4098.0000,    407.2,  10.9279,  34.2760,3,  34.3046,2,    219.2,3,    211.2,2,    17.50,6,    13.37,6,     1.10,6,    2.732,2,    1.437,2,   2098.0,2,   2263.0,2,   7.8200,2,    25.00,   -999.0,9,   -999.0,  10.8778
  49K619940107,   P02,    61,  1,     17,     17,2,19940128,0229, 29.9710,-174.2327, 5104, 5078.7000,    504.8,   8.7092,  34.1255,3,  34.1397,2,    197.0,3,    188.0,2,    30.10,2,    19.65,2,     1.58,2,    2.236,2,    1.180,2,   2143.0,2,   2269.0,2,   7.7100,2,    25.00,   -999.0,9,   -999.0,   8.6551
  49K619940107,   P02,    61,  1,     16,     16,2,19940128,0229, 29.9710,-174.2327, 5104, 6133.7000,    609.9,   6.7127,  34.0448,2,  34.0474,2,    163.7,3,    147.9,2,    51.50,2,    28.20,2,     2.10,2,    1.488,2,    0.791,2,   2208.0,2,   2275.0,2,   7.5800,2,    25.00,   -999.0,9,   -999.0,   6.6561
  49K619940107,   P02,    61,  1,     15,     15,2,19940128,0229, 29.9710,-174.2327, 5104, 7117.3000,    707.9,   5.4407,  34.0592,3,  34.0557,2,    114.0,3,    109.2,2,    71.40,6,    33.15,6,     2.55,6,    0.873,2,    0.515,2,   2250.0,2,   2293.0,2,   7.4700,2,    25.00,   -999.0,9,   -999.0,   5.3813
  49K619940107,   P02,    61,  1,     14,     14,2,19940128,0229, 29.9710,-174.2327, 5104, 8182.7000,    814.0,   4.5261,  34.1359,2,  34.1379,2,     64.8,2,     64.5,2,    94.90,2,    39.30,2,     2.94,2,    0.260,2,    0.166,2,   2311.0,2,   2315.0,2,   7.3700,2,    25.00,   -999.0,9,   -999.0,   4.4628
  49K619940107,   P02,    61,  1,     13,     13,2,19940128,0229, 29.9710,-174.2327, 5104, 9149.4000,    910.4,   4.0036,  34.2243,2,  34.2234,2,     41.4,2,     40.3,2,   111.70,2,    41.78,2,     3.12,2,    0.086,2,    0.066,2,   2341.0,2,   2332.0,2,   7.3400,2,    25.00,   -999.0,9,   -999.0,   3.9357
  49K619940107,   P02,    61,  1,     12,     12,2,19940128,0229, 29.9710,-174.2327, 5104,10128.5000,   1008.1,   3.6163,  34.3141,3,  34.3080,2,     29.8,2,     28.2,2,   125.30,2,    42.72,2,     3.23,2,    0.038,2,    0.023,2,   2366.0,2,   2350.0,2,   7.3200,2,    25.00,   -999.0,9,   -999.0,   3.5433
  49K619940107,   P02,    61,  1,     11,     11,2,19940128,0229, 29.9710,-174.2327, 5104,12660.6000,   1260.8,   3.0159,  34.4573,2,  34.4562,2,     29.8,2,     30.7,2,   142.30,2,    43.69,2,     3.26,2,    0.011,2,    0.014,2,   2378.0,2,   2376.0,2,   7.3400,2,    25.00,   -999.0,9,   -999.0,   2.9277
  49K619940107,   P02,    61,  1,     10,     10,2,19940128,0229, 29.9710,-174.2327, 5104,15198.2000,   1514.4,   2.5778,  34.5314,2,  34.5322,2,     43.9,3,     47.1,2,   155.90,2,    42.81,2,     3.19,2,    0.000,2,    0.000,2,   2385.0,2,   2390.0,2,   7.3700,2,    25.00,   -999.0,9,   -999.0,   2.4738
  49K619940107,   P02,    61,  1,      9,      9,2,19940128,0229, 29.9710,-174.2327, 5104,17644.5000,   1759.0,   2.1840,  34.5812,2,  34.5829,2,     63.6,3,     68.0,2,   163.30,2,    40.91,2,     3.09,2,    0.000,2,    0.000,2,   2383.0,2,   2401.0,2,   7.4200,2,    25.00,   -999.0,9,   -999.0,   2.0650
  49K619940107,   P02,    61,  1,      8,      8,2,19940128,0229, 29.9710,-174.2327, 5104,20236.6000,   2018.3,   1.9132,  34.6123,2,  34.6143,2,     80.9,3,     84.2,2,   167.10,2,    39.53,2,     2.95,2,    0.000,2,    0.000,2,   2372.0,2,   2409.0,2,   7.4500,2,    25.00,   -999.0,9,   -999.0,   1.7766
  49K619940107,   P02,    61,  1,      7,      7,4,19940128,0229, 29.9710,-174.2327, 5104,25369.1000,   2532.3,   1.6490,  34.6487,2,-999.0000,9,    112.8,2,   -999.0,9,  -999.00,9,  -999.00,9,  -999.00,9,    0.003,2,    0.000,2,   2352.0,2,   2412.0,2,   7.5000,2,    25.00,   -999.0,9,   -999.0,   1.4724
  49K619940107,   P02,    61,  1,      6,      6,2,19940128,0229, 29.9710,-174.2327, 5104,30453.8000,   3041.9,   1.5384,  34.6660,2,  34.6667,2,    129.3,2,    130.6,2,   160.80,2,    37.67,2,     2.78,2,    0.003,2,    0.000,2,   2350.0,2,   2412.0,2,   7.5100,2,    25.00,   -999.0,9,   -999.0,   1.3168
  49K619940107,   P02,    61,  1,      5,      5,2,19940128,0229, 29.9710,-174.2327, 5104,35547.3000,   3552.5,   1.4773,  34.6773,2,  34.6772,2,    142.6,2,    143.1,2,   158.00,2,    37.46,2,     2.72,2,    0.001,2,    0.000,2,   2339.0,2,   2412.0,2,   7.5500,2,    25.00,   -999.0,9,   -999.0,   1.2063
  49K619940107,   P02,    61,  1,      4,      4,2,19940128,0229, 29.9710,-174.2327, 5104,40663.2000,   4065.2,   1.4654,  34.6846,2,  34.6847,2,    150.3,2,    152.1,2,   158.60,6,    36.40,6,     2.67,6,    0.000,2,    0.005,2,   2332.0,2,   2414.0,2,   7.5800,2,    25.00,   -999.0,9,   -999.0,   1.1403
  49K619940107,   P02,    61,  1,      3,      3,2,19940128,0229, 29.9710,-174.2327, 5104,45797.5000,   4579.5,   1.4843,  34.6882,2,  34.6885,2,    157.4,2,    156.3,2,   156.40,2,    35.98,2,     2.63,2,    0.001,2,    0.001,2,   2331.0,2,   2409.0,2,   7.5700,2,    25.00,   -999.0,9,   -999.0,   1.1005
  49K619940107,   P02,    61,  1,      2,      2,2,19940128,0229, 29.9710,-174.2327, 5104,50905.2000,   5090.5,   1.5035,  34.6921,2,  34.6928,2,    165.9,2,    165.6,2,   148.80,2,    35.77,2,     2.59,2,    0.000,2,    0.000,2,   2322.0,2,   2403.0,2,   7.5800,2,    25.00,   -999.0,9,   -999.0,   1.0580
  49K619940107,   P02,    61,  1,      1,      1,2,19940128,0229, 29.9710,-174.2327, 5104,51875.5000,   5187.4,   1.4959,  34.6941,2,  34.6929,2,    168.7,2,    168.7,2,   146.40,6,    35.06,3,     2.57,6,    0.004,2,    0.000,2,   2313.0,2,   2403.0,2,   7.5900,2,    25.00,   -999.0,9,   -999.0,   1.0387