BOTTLE,20220810CCHSIOAMB
EXPOCODE,SECT_ID,STNNBR,CASTNO,SAMPNO,BTLNBR,BTLNBR_FLAG_W,DATE,TIME,LATITUDE,LONGITUDE,DEPTH,CTDRAW,CTDPRS,CTDTMP,CTDSAL,CTDSAL_FLAG_W,SALNTY,SALNTY_FLAG_W,CTDOXY,CTDOXY_FLAG_W,OXYGEN,OXYGEN_FLAG_W,SILCAT,SILCAT_FLAG_W,NITRAT,NITRAT_FLAG_W,PHSPHT,PHSPHT_FLAG_W,CFC-11,CFC-11_FLAG_W,CFC-12,CFC-12_FLAG_W,TCARBN,TCARBN_FLAG_W,ALKALI,ALKALI_FLAG_W,PH_TOT,PH_TOT_FLAG_W,PH_TMP,DELC14,DELC14_FLAG_W,C14ERR,THETA
,,,,,,,,,,,METERS,,DBAR,ITS-90,PSS-78,,PSS-78,,UMOL/KG,,UMOL/KG,,UMOL/KG,,UMOL/KG,,UMOL/KG,,PMOL/KG,,PMOL/KG,,UMOL/KG,,UMOL/KG,,,,DEG C,/MILLE,,/MILLE,DEG C
  49K619940107,   P02,    38,  1,     24,     24,2,19940117,1810, 30.0105, 149.7540, 6081,  234.6000,     23.8,  20.7311,  34.9654,2,  34.9656,2,    216.0,3,    222.6,2,     2.00,2,     0.23,2,     0.15,2,    2.143,2,    1.269,2,   1980.0,2,   2282.0,2,   8.0700,2,    25.00,   -999.0,9,   -999.0,  20.7266
  49K619940107,   P02,    38,  1,     23,     23,2,19940117,1810, 30.0105, 149.7540, 6081,  704.6000,     70.5,  20.7274,  34.9611,2,  34.9623,2,    217.6,3,    221.8,2,     2.00,2,     0.20,2,     0.17,2,    2.088,2,    1.302,2,   1979.0,2,   2282.0,2,   8.0700,2,    25.00,   -999.0,9,   -999.0,  20.7141
  49K619940107,   P02,    38,  1,     22,     22,4,19940117,1810, 30.0105, 149.7540, 6081, 1116.0000,    111.3,  20.6776,  34.9564,2,-999.0000,9,    220.4,2,   -999.0,9,  -999.00,9,  -999.00,9,  -999.00,9, -999.000,9, -999.000,9,   -999.0,9,   -999.0,9,-999.0000,9,  -999.00,   -999.0,9,   -999.0,  20.6566
  49K619940107,   P02,    38,  1,     21,     21,2,19940117,1810, 30.0105, 149.7540, 6081, 1654.6000,    164.8,  18.5438,  34.8548,3,  34.9094,2,    203.5,3,    213.6,2,     2.50,2,     0.91,2,     0.22,2,    2.260,2,    1.282,2,   1997.0,2,   2284.0,2,   8.0400,2,    25.00,   -999.0,9,   -999.0,  18.5149
  49K619940107,   P02,    38,  1,     20,     20,2,19940117,1810, 30.0105, 149.7540, 6081, 2218.5000,    220.8,  17.5593,  34.8225,2,  34.8252,2,    206.5,3,    209.5,2,     3.50,2,     3.36,2,     0.38,2,    2.397,2,    1.364,2,   2016.0,2,   2278.0,2,   7.9900,2,    25.00,   -999.0,9,   -999.0,  17.5220
  49K619940107,   P02,    38,  1,     19,     19,2,19940117,1810, 30.0105, 149.7540, 6081, 3149.6000,    313.4,  16.8002,  34.7643,3,  34.7749,2,    201.7,3,    208.7,2,     4.50,2,     4.67,2,     0.48,2,    2.367,2,    1.377,2,   2025.0,2,   2271.0,2,   7.9700,2,    25.00,   -999.0,9,   -999.0,  16.7488
  49K619940107,   P02,    38,  1,     18,     18,2,19940117,1810, 30.0105, 149.7540, 6081, 4154.5000,    413.4,  14.8871,  34.6152,3,  34.6237,2,    190.6,2,    190.3,2,    10.60,2,     9.48,2,     0.79,2,    2.202,2,    1.178,2,   2060.0,2,   2273.0,2,   7.8900,2,    25.00,   -999.0,9,   -999.0,  14.8246
  49K619940107,   P02,    38,  1,     17,     17,2,19940117,1810, 30.0105, 149.7540, 6081, 5170.7000,    514.5,  12.3026,  34.4112,3,  34.4399,2,    185.1,2,    187.2,2,    18.20,6,    13.66,3,     1.13,3,    2.060,2,    1.148,2,   2093.0,2,   2267.0,2,   7.8200,2,    25.00,   -999.0,9,   -999.0,  12.2339
  49K619940107,   P02,    38,  1,     16,     16,2,19940117,1810, 30.0105, 149.7540, 6081, 6117.8000,    608.8,   9.2988,  34.2062,3,  34.2152,2,    181.4,2,    180.5,2,    29.60,2,    18.81,2,     1.52,2,    1.981,2,    1.063,2,   2136.0,2,   2263.0,2,   7.7200,2,    25.00,   -999.0,9,   -999.0,   9.2305
  49K619940107,   P02,    38,  1,     15,     15,2,19940117,1810, 30.0105, 149.7540, 6081, 7108.5000,    707.5,   6.8917,  34.0522,2,  34.4399,3,    156.6,2,    158.5,2,    49.90,6,    25.36,6,     2.01,6,    1.841,2,    0.986,2,   2188.0,2,   2274.0,2,   7.6000,2,    25.00,   -999.0,9,   -999.0,   6.8246
  49K619940107,   P02,    38,  1,     14,     14,2,19940117,1810, 30.0105, 149.7540, 6081, 8088.9000,    805.2,   5.3215,  34.0216,3,  34.0253,2,    109.7,3,    123.4,2,    70.00,2,    31.27,2,     2.39,2,    1.396,2,    0.773,2,   2246.0,2,   2284.0,2,   7.4900,2,    25.00,   -999.0,9,   -999.0,   5.2542
  49K619940107,   P02,    38,  1,     13,     13,2,19940117,1810, 30.0105, 149.7540, 6081,10116.5000,   1007.4,   4.0712,  34.2262,3,  34.2188,2,     49.4,3,     54.7,2,   105.70,2,    38.73,2,     2.94,2,    0.269,2,    0.212,2,   2322.0,2,   2326.0,2,   7.3700,2,    25.00,   -999.0,9,   -999.0,   3.9948
  49K619940107,   P02,    38,  1,     12,     12,2,19940117,1810, 30.0105, 149.7540, 6081,12637.9000,   1259.1,   3.1430,  34.3858,2,  34.3852,2,     37.9,3,     44.9,2,   135.70,2,    40.77,2,     3.01,2,    0.068,2,    0.060,2,   2367.0,2,   2359.0,2,   7.3500,2,    25.00,   -999.0,9,   -999.0,   3.0538
  49K619940107,   P02,    38,  1,     11,     11,2,19940117,1810, 30.0105, 149.7540, 6081,15184.7000,   1513.5,   2.5990,  34.4745,2,  34.4746,2,     37.9,2,     37.3,2,   150.20,2,    41.62,2,     3.08,2,    0.011,2,    0.019,2,   2383.0,2,   2378.0,2,   7.3500,2,    25.00,   -999.0,9,   -999.0,   2.4949
  49K619940107,   P02,    38,  1,     10,     10,2,19940117,1810, 30.0105, 149.7540, 6081,17691.9000,   1764.2,   2.2361,  34.5443,2,  34.5444,2,     49.5,2,     50.5,2,   158.50,2,    41.13,2,     2.99,2,    0.015,2,    0.000,2,   2383.0,2,   2391.0,2,   7.3800,2,    25.00,   -999.0,9,   -999.0,   2.1161
  49K619940107,   P02,    38,  1,      9,      9,2,19940117,1810, 30.0105, 149.7540, 6081,20244.8000,   2019.7,   1.9929,  34.5888,2,  34.5888,2,     69.6,2,     69.7,2,   160.80,2,    39.52,2,     2.96,2,    0.005,2,    0.000,2,   2377.0,2,   2402.0,2,   7.4200,2,    25.00,   -999.0,9,   -999.0,   1.8550
  49K619940107,   P02,    38,  1,      8,      8,2,19940117,1810, 30.0105, 149.7540, 6081,25341.8000,   2530.1,   1.6890,  34.6444,2,  34.6425,2,    110.5,2,    110.9,2,   159.50,2,    37.34,2,     2.84,2,    0.007,2,    0.000,2,   2354.0,2,   2405.0,2,   7.4900,2,    25.00,   -999.0,9,   -999.0,   1.5118
  49K619940107,   P02,    38,  1,      7,      7,2,19940117,1810, 30.0105, 149.7540, 6081,30428.4000,   3039.9,   1.5588,  34.6652,2,  34.6651,2,    130.9,2,    131.3,2,   151.80,2,    35.96,2,     2.68,2,    0.008,2,    0.000,2,   2341.0,2,   2411.0,2,   7.5200,2,    25.00,   -999.0,9,   -999.0,   1.3369
  49K619940107,   P02,    38,  1,      6,      6,2,19940117,1810, 30.0105, 149.7540, 6081,35543.4000,   3552.6,   1.5060,  34.6762,2,  34.6757,2,    141.2,2,    143.2,2,   147.90,2,    35.14,2,     2.63,2,    0.002,2,    0.009,2,   2335.0,2,   2408.0,2,   7.5400,2,    25.00,   -999.0,9,   -999.0,   1.2343
  49K619940107,   P02,    38,  1,      5,      5,2,19940117,1810, 30.0105, 149.7540, 6081,40631.3000,   4062.6,   1.4814,  34.6835,2,-999.0000,9,    150.6,2,    152.4,2,   148.50,2,    34.65,2,     2.59,2,    0.000,2,    0.005,2,   2325.0,2,   2403.0,2,   7.5600,2,    25.00,   -999.0,9,   -999.0,   1.1561
  49K619940107,   P02,    38,  1,      4,      4,2,19940117,1810, 30.0105, 149.7540, 6081,45790.5000,   4579.3,   1.4846,  34.6892,2,  34.6901,2,    158.0,2,    159.0,2,   144.10,3,    34.21,2,     2.57,3,    0.000,2,    0.000,2,   2321.0,2,   2401.0,2,   7.5700,2,    25.00,   -999.0,9,   -999.0,   1.1008
  49K619940107,   P02,    38,  1,      3,      3,2,19940117,1810, 30.0105, 149.7540, 6081,50947.2000,   5095.2,   1.5110,  34.6920,2,  34.6919,2,    163.9,2,    164.6,2,   139.60,2,    33.85,2,     2.53,3,    0.000,2,    0.000,2,   2314.0,2,   2400.0,2,   7.5800,2,    25.00,   -999.0,9,   -999.0,   1.0646
  49K619940107,   P02,    38,  1,      2,      2,2,19940117,1810, 30.0105, 149.7540, 6081,56123.7000,   5612.2,   1.5538,  34.6948,2,  34.6944,2,    169.1,2,    168.0,2,   137.70,2,    33.39,2,     2.53,3,    0.003,2,    0.000,2,   2311.0,2,   2413.0,3,   7.5800,2,    25.00,   -999.0,9,   -999.0,   1.0407
  49K619940107,   P02,    38,  1,      1,      1,2,19940117,1810, 30.0105, 149.7540, 6081,61298.7000,   6128.0,   1.6088,  34.6964,2,  34.6954,2,    171.9,2,    171.3,2,   134.80,3,    33.49,6,     2.52,3,    0.000,2,    0.002,2,   2306.0,2,   2409.0,3,   7.5900,2,    25.00,   -999.0,9,   -999.0,   1.0253
  49K619940107,   P02,    39,  1,     24,     24,2,19940118,0358, 30.0098, 150.9183, 5988,  319.4000,     32.0,  19.4172,  34.8021,2,  34.8039,2,    216.8,3,    228.4,2,     2.70,2,     1.44,2,     0.19,2,    2.236,2,    1.330,2,   1978.0,2,   2273.0,2,   8.0500,2,    25.00,   -999.0,9,   -999.0,  19.4114
  49K619940107,   P02,    39,  1,     23,     23,2,19940118,0358, 30.0098, 150.9183, 5988,  746.5000,     74.4,  19.4160,  34.8033,2,  34.8005,2,    225.4,2,    227.5,2,     2.70,2,     1.60,2,     0.20,2,    2.190,2,    1.313,2,   1981.0,2,   2275.0,2,   8.0500,2,    25.00,   -999.0,9,   -999.0,  19.4026
  49K619940107,   P02,    39,  1,     22,     22,4,19940118,0358, 30.0098, 150.9183, 5988, 1154.5000,    114.9,  19.4015,  34.8021,2,-999.0000,9,    221.4,2,   -999.0,9,  -999.00,9,  -999.00,9,  -999.00,9, -999.000,9, -999.000,9,   -999.0,9,   -999.0,9,-999.0000,9,  -999.00,   -999.0,9,   -999.0,  19.3808
  49K619940107,   P02,    39,  1,     21,     21,2,19940118,0358, 30.0098, 150.9183, 5988, 1610.9000,    160.3,  19.3931,  34.8030,2,-999.0000,9,    225.4,2,    227.2,2,     2.70,2,     1.83,2,     0.20,2,    2.209,2,    1.437,2,   1978.0,2,   2274.0,2,   8.0400,2,    25.00,   -999.0,9,   -999.0,  19.3641
  49K619940107,   P02,    39,  1,     20,     20,2,19940118,0358, 30.0098, 150.9183, 5988, 2253.6000,    224.1,  18.4920,  34.8221,3,  34.8114,2,    204.3,3,    222.9,2,     3.00,2,     2.15,2,     0.22,2,    2.214,2,    1.269,2,   1984.0,2,   2274.0,2,   8.0300,2,    25.00,   -999.0,9,   -999.0,  18.4528
  49K619940107,   P02,    39,  1,     19,     19,2,19940118,0358, 30.0098, 150.9183, 5988, 3133.9000,    311.7,  17.3279,  34.8025,2,  34.8020,2,    209.3,3,    212.9,2,     4.30,2,     5.21,2,     0.42,2,    2.333,2,    1.380,2,   2013.0,2,   2274.0,2,   7.9800,2,    25.00,   -999.0,9,   -999.0,  17.2757
  49K619940107,   P02,    39,  1,     18,     18,2,19940118,0358, 30.0098, 150.9183, 5988, 4221.1000,    419.8,  15.3052,  34.6544,3,  34.6831,2,    193.2,2,    191.1,2,     9.00,2,    10.24,2,     0.72,2,    2.080,2,    1.186,2,   2049.0,2,   2270.0,2,   7.9100,2,    25.00,   -999.0,9,   -999.0,  15.2405
  49K619940107,   P02,    39,  1,     17,     17,2,19940118,0358, 30.0098, 150.9183, 5988, 5185.1000,    515.7,  12.5922,  34.4613,3,  34.4760,2,    187.9,3,    180.5,2,    19.50,2,    17.14,2,     1.14,2,    1.900,2,    1.056,2,   2088.0,2,   2270.0,2,   7.8200,2,    25.00,   -999.0,9,   -999.0,  12.5223
  49K619940107,   P02,    39,  1,     16,     16,2,19940118,0358, 30.0098, 150.9183, 5988, 6110.6000,    607.9,  10.0014,  34.2744,3,  34.2784,2,    174.8,2,    173.0,2,    32.00,2,    19.32,2,     1.53,2,    1.752,2,    1.001,2,   2133.0,2,   2271.0,2,   7.7300,2,    25.00,   -999.0,9,   -999.0,   9.9300
  49K619940107,   P02,    39,  1,     15,     15,2,19940118,0358, 30.0098, 150.9183, 5988, 7123.4000,    708.8,   6.5438,  34.0064,3,  34.0356,2,    170.9,3,    166.7,2,    50.90,3,    25.85,6,     2.05,6,    1.966,2,    1.060,2,   2183.0,2,   2273.0,2,   7.6100,2,    25.00,   -999.0,9,   -999.0,   6.4784
  49K619940107,   P02,    39,  1,     14,     14,2,19940118,0358, 30.0098, 150.9183, 5988, 8110.5000,    807.1,   5.0205,  34.0288,3,  34.0074,2,    132.7,3,    125.9,2,    74.70,2,    33.20,2,     2.53,2,    1.573,2,    0.847,2,   2243.0,2,   2291.0,2,   7.4800,2,    25.00,   -999.0,9,   -999.0,   4.9549
  49K619940107,   P02,    39,  1,     13,     13,2,19940118,0358, 30.0098, 150.9183, 5988,10144.0000,   1009.9,   4.0365,  34.2170,3,  34.2137,2,     61.4,2,     59.7,2,   108.80,2,    39.81,2,     2.97,2,    0.360,2,    0.207,2,   2318.0,2,   2326.0,2,   7.3700,2,    25.00,   -999.0,9,   -999.0,   3.9602
  49K619940107,   P02,    39,  1,     12,     12,2,19940118,0358, 30.0098, 150.9183, 5988,12659.3000,   1261.0,   3.1194,  34.3971,3,  34.3911,2,     35.8,2,     34.0,2,   139.60,2,    42.81,2,     3.13,2,    0.034,2,    0.026,2,   2366.0,2,   2358.0,2,   7.3500,2,    25.00,   -999.0,9,   -999.0,   3.0303
  49K619940107,   P02,    39,  1,     11,     11,2,19940118,0358, 30.0098, 150.9183, 5988,15202.1000,   1515.1,   2.5996,  34.4928,2,  34.4907,2,     39.1,2,     39.9,2,   151.90,2,    42.87,2,     3.16,2,    0.020,2,    0.000,2,   2378.0,2,   2383.0,2,   7.3600,2,    25.00,   -999.0,9,   -999.0,   2.4954
  49K619940107,   P02,    39,  1,     10,     10,2,19940118,0358, 30.0098, 150.9183, 5988,17775.1000,   1772.3,   2.2171,  34.5528,2,-999.0000,9,     54.8,2,     56.4,2,   161.70,2,    42.25,2,     3.14,2,    0.007,2,    0.000,2,   2379.0,2,   2394.0,2,   7.3900,2,    25.00,   -999.0,9,   -999.0,   2.0966
  49K619940107,   P02,    39,  1,      9,      9,2,19940118,0358, 30.0098, 150.9183, 5988,20275.8000,   2022.6,   1.9620,  34.5979,2,  34.5960,2,     74.8,3,     77.1,2,   163.40,2,    40.85,2,     3.03,2,    0.000,2,    0.000,2,   2370.0,2,   2401.0,2,   7.4300,2,    25.00,   -999.0,9,   -999.0,   1.8243
  49K619940107,   P02,    39,  1,      8,      8,2,19940118,0358, 30.0098, 150.9183, 5988,25361.9000,   2531.9,   1.7024,  34.6416,2,  34.6404,2,    108.7,3,    112.6,2,   157.20,2,    38.89,2,     2.88,2,    0.000,2,    0.000,2,   2352.0,2,   2403.0,2,   7.5000,2,    25.00,   -999.0,9,   -999.0,   1.5248
  49K619940107,   P02,    39,  1,      7,      7,2,19940118,0358, 30.0098, 150.9183, 5988,30447.8000,   3041.6,   1.5639,  34.6651,2,  34.6640,2,    130.1,2,    132.1,2,   154.20,2,    37.27,2,     2.74,2,    0.000,2,    0.000,2,   2340.0,2,   2406.0,2,   7.5300,2,    25.00,   -999.0,9,   -999.0,   1.3417
  49K619940107,   P02,    39,  1,      6,      6,2,19940118,0358, 30.0098, 150.9183, 5988,35553.0000,   3553.4,   1.4994,  34.6768,2,  34.6756,2,    143.0,2,    144.0,2,   152.30,2,    36.85,2,     2.68,2,    0.002,2,    0.002,2,   2335.0,2,   2405.0,2,   7.5500,2,    25.00,   -999.0,9,   -999.0,   1.2278
  49K619940107,   P02,    39,  1,      5,      5,2,19940118,0358, 30.0098, 150.9183, 5988,40674.5000,   4066.7,   1.4822,  34.6833,2,  34.6816,2,    151.3,2,    152.3,2,   149.80,2,    36.18,2,     2.65,2,    0.000,2,    0.000,2,   2333.0,2,   2404.0,2,   7.5700,2,    25.00,   -999.0,9,   -999.0,   1.1565
  49K619940107,   P02,    39,  1,      4,      4,2,19940118,0358, 30.0098, 150.9183, 5988,45783.7000,   4578.4,   1.4839,  34.6890,2,  34.6873,2,    158.4,2,    158.2,2,   147.90,3,    35.76,6,     2.60,6,    0.000,2,    0.001,2,   2326.0,2,   2403.0,2,   7.5700,2,    25.00,   -999.0,9,   -999.0,   1.1003
  49K619940107,   P02,    39,  1,      3,      3,2,19940118,0358, 30.0098, 150.9183, 5988,50960.9000,   5096.3,   1.5034,  34.6931,2,  34.6904,2,    166.1,2,    167.1,2,   142.70,2,    35.26,2,     2.55,2,    0.000,2,    0.001,2,   2318.0,2,   2399.0,2,   7.5800,2,    25.00,   -999.0,9,   -999.0,   1.0572
  49K619940107,   P02,    39,  1,      2,      2,2,19940118,0358, 30.0098, 150.9183, 5988,56101.5000,   5609.8,   1.5464,  34.6949,2,  34.6928,2,    170.6,2,    170.5,2,   140.00,2,    35.18,2,     2.54,2,    0.001,2,    0.001,2,   2310.0,2,   2395.0,2,   7.5800,2,    25.00,   -999.0,9,   -999.0,   1.0339
  49K619940107,   P02,    39,  1,      1,      1,2,19940118,0358, 30.0098, 150.9183, 5988,60988.1000,   6096.9,   1.5990,  34.6970,3,  34.6923,2,    170.9,2,    172.2,2,   137.70,4,    34.75,4,     2.52,4,    0.006,2,    0.003,2,   2311.0,2,   2402.0,2,   7.5900,2,    25.00,   -999.0,9,   -999.0,   1.0201