BOTTLE,20220810CCHSIOAMB
EXPOCODE,SECT_ID,STNNBR,CASTNO,SAMPNO,BTLNBR,BTLNBR_FLAG_W,DATE,TIME,LATITUDE,LONGITUDE,DEPTH,CTDRAW,CTDPRS,CTDTMP,CTDSAL,CTDSAL_FLAG_W,SALNTY,SALNTY_FLAG_W,CTDOXY,CTDOXY_FLAG_W,OXYGEN,OXYGEN_FLAG_W,SILCAT,SILCAT_FLAG_W,NITRAT,NITRAT_FLAG_W,PHSPHT,PHSPHT_FLAG_W,CFC-11,CFC-11_FLAG_W,CFC-12,CFC-12_FLAG_W,TCARBN,TCARBN_FLAG_W,ALKALI,ALKALI_FLAG_W,PH_TOT,PH_TOT_FLAG_W,PH_TMP,DELC14,DELC14_FLAG_W,C14ERR,THETA
,,,,,,,,,,,METERS,,DBAR,ITS-90,PSS-78,,PSS-78,,UMOL/KG,,UMOL/KG,,UMOL/KG,,UMOL/KG,,UMOL/KG,,PMOL/KG,,PMOL/KG,,UMOL/KG,,UMOL/KG,,,,DEG C,/MILLE,,/MILLE,DEG C
  49K619940107,   P02,    29,  1,     24,     24,4,19940114,1935, 29.9547, 142.7643, 7860,  187.7000,     18.6,  21.3003,  35.0020,2,-999.0000,9,    226.4,2,   -999.0,9,  -999.00,9,  -999.00,9,  -999.00,9, -999.000,9, -999.000,9,   -999.0,9,   -999.0,9,-999.0000,9,  -999.00,   -999.0,9,   -999.0,  21.2967
  49K619940107,   P02,    29,  1,     23,     23,2,19940114,1935, 29.9547, 142.7643, 7860,  590.2000,     58.6,  21.2970,  35.0022,3,  34.9966,2,    224.8,2,    224.1,3,  -999.00,9,  -999.00,9,  -999.00,9, -999.000,9, -999.000,9,   -999.0,9,   -999.0,9,-999.0000,9,  -999.00,   -999.0,9,   -999.0,  21.2857
  49K619940107,   P02,    29,  1,     22,     22,2,19940114,1935, 29.9547, 142.7643, 7860, 1058.4000,    105.1,  21.2632,  34.9879,3,  34.9983,2,    222.7,2,    215.8,3,     1.60,2,     0.00,2,     0.15,2, -999.000,9, -999.000,9,   -999.0,9,   -999.0,9,-999.0000,9,  -999.00,   -999.0,9,   -999.0,  21.2429
  49K619940107,   P02,    29,  1,     21,     21,2,19940114,1935, 29.9547, 142.7643, 7860, 1585.3000,    157.4,  18.6011,  34.8752,2,  34.8743,2,    213.4,2,    214.9,3,     1.60,2,     0.00,2,     0.16,2,    2.116,2,    1.197,2,   2028.0,2,   2348.0,2,   8.0500,2,    25.00,   -999.0,9,   -999.0,  18.5735
  49K619940107,   P02,    29,  1,     20,     20,2,19940114,1935, 29.9547, 142.7643, 7860, 2116.8000,    210.2,  17.9996,  34.8581,2,  34.8557,2,    215.2,2,   -999.0,9,     2.40,2,     0.04,2,     0.34,2, -999.000,9, -999.000,9,   -999.0,9,   -999.0,9,-999.0000,9,  -999.00,   -999.0,9,   -999.0,  17.9635
  49K619940107,   P02,    29,  1,     19,     19,4,19940114,1935, 29.9547, 142.7643, 7860, 3095.6000,    307.5,  17.0030,  34.7840,2,-999.0000,9,    216.9,2,   -999.0,9,     2.60,3,     0.51,2,     0.32,6,    2.051,2,    1.173,2,   2027.0,2,   2370.0,2,   8.0600,2,    25.00,   -999.0,9,   -999.0,  16.9522
  49K619940107,   P02,    29,  1,     18,     18,4,19940114,1935, 29.9547, 142.7643, 7860, 4135.4000,    411.0,  15.5835,  34.6677,2,-999.0000,9,    204.9,2,   -999.0,9,  -999.00,9,  -999.00,9,  -999.00,9,    2.326,2,    1.286,2,   2002.0,2,   2279.0,2,   8.0100,2,    25.00,   -999.0,9,   -999.0,  15.5194
  49K619940107,   P02,    29,  1,     17,     17,4,19940114,1935, 29.9547, 142.7643, 7860, 5098.1000,    506.8,  13.6005,  34.4640,2,-999.0000,9,    197.4,2,   -999.0,9,  -999.00,9,  -999.00,9,  -999.00,9,    2.431,2,    1.321,2,   2009.0,2,   2271.0,2,   7.9900,2,    25.00,   -999.0,9,   -999.0,  13.5282
  49K619940107,   P02,    29,  1,     16,     16,2,19940114,1935, 29.9547, 142.7643, 7860, 6112.0000,    607.7,  10.5637,  34.2825,2,-999.0000,9,    186.7,2,    181.2,3,  -999.00,9,  -999.00,9,  -999.00,9,    2.375,2,    1.343,2,   2011.0,2,   2269.0,2,   8.0000,2,    25.00,   -999.0,9,   -999.0,  10.4899
  49K619940107,   P02,    29,  1,     15,     15,2,19940114,1935, 29.9547, 142.7643, 7860, 7081.7000,    704.3,   8.0804,  34.1429,3,  34.1501,2,    169.8,2,   -999.0,9,    25.30,3,    15.84,3,     1.31,6,    1.818,2,    0.982,2,   2117.0,2,   2257.0,2,   7.7600,2,    25.00,   -999.0,9,   -999.0,   8.0073
  49K619940107,   P02,    29,  1,     14,     14,4,19940114,1935, 29.9547, 142.7643, 7860, 8176.7000,    813.4,   6.2209,  34.1086,2,-999.0000,9,    123.2,2,   -999.0,9,  -999.00,9,  -999.00,9,  -999.00,9,    1.491,2,    0.844,2,   2170.0,2,   2264.0,2,   7.6500,2,    25.00,   -999.0,9,   -999.0,   6.1472
  49K619940107,   P02,    29,  1,     13,     13,2,19940114,1935, 29.9547, 142.7643, 7860,10159.2000,   1011.1,   4.2868,  34.2201,3,-999.0000,5,     66.2,2,    142.3,3,  -999.00,9,  -999.00,9,  -999.00,9,    1.532,2,    0.842,2,   2169.0,3,   2262.0,3,   7.6500,3,    25.00,   -999.0,9,   -999.0,-999.0000
  49K619940107,   P02,    29,  1,     12,     12,2,19940114,1935, 29.9547, 142.7643, 7860,12626.8000,   1257.5,   3.2888,  34.3776,3,-999.0000,5,     41.6,2,    151.4,3,  -999.00,9,  -999.00,9,  -999.00,9, -999.000,9, -999.000,9,   -999.0,9,   -999.0,9,-999.0000,9,  -999.00,   -999.0,9,   -999.0,-999.0000
  49K619940107,   P02,    29,  1,     11,     11,4,19940114,1935, 29.9547, 142.7643, 7860,15249.8000,   1519.5,   2.7058,  34.4736,2,-999.0000,9,     43.6,2,   -999.0,9,  -999.00,9,  -999.00,9,  -999.00,9, -999.000,9, -999.000,9,   -999.0,9,   -999.0,9,-999.0000,9,  -999.00,   -999.0,9,   -999.0,   2.6000
  49K619940107,   P02,    29,  1,     10,     10,2,19940114,1935, 29.9547, 142.7643, 7860,17710.0000,   1765.5,   2.3203,  34.5408,3,-999.0000,5,     57.7,2,    169.2,3,  -999.00,9,  -999.00,9,  -999.00,9,    0.067,4,    0.050,4,   2362.0,2,   2265.0,2,   7.3800,2,    25.00,   -999.0,9,   -999.0,-999.0000
  49K619940107,   P02,    29,  1,      9,      9,2,19940114,1935, 29.9547, 142.7643, 7860,20235.8000,   2018.3,   2.0375,  34.5869,2,  34.5864,2,     76.1,2,    166.9,3,   160.90,2,    39.87,3,     2.93,2,    0.010,2,    0.000,2,   2370.0,2,   2392.0,2,   7.4200,2,    25.00,   -999.0,9,   -999.0,   1.8991
  49K619940107,   P02,    29,  1,      8,      8,2,19940114,1935, 29.9547, 142.7643, 7860,25328.8000,   2528.3,   1.7432,  34.6379,2,  34.6375,2,    111.8,2,    171.7,3,   156.70,2,    37.77,3,     2.77,2,    0.000,2,    0.003,2,   2350.0,2,   2395.0,2,   7.4900,2,    25.00,   -999.0,9,   -999.0,   1.5652
  49K619940107,   P02,    29,  1,      7,      7,2,19940114,1935, 29.9547, 142.7643, 7860,30445.8000,   3041.1,   1.6039,  34.6609,2,  34.6595,2,    130.6,2,    133.7,3,   154.70,6,    36.81,3,     2.71,6,    0.003,2,    0.008,2,   2341.0,2,   2394.0,2,   7.5100,2,    25.00,   -999.0,9,   -999.0,   1.3809
  49K619940107,   P02,    29,  1,      6,      6,2,19940114,1935, 29.9547, 142.7643, 7860,35555.0000,   3553.3,   1.5220,  34.6749,2,  34.6730,2,    142.7,2,    142.2,3,   151.20,2,    35.83,3,     2.65,2,    0.001,2,    0.000,2,   2335.0,2,   2397.0,2,   7.5400,2,    25.00,   -999.0,9,   -999.0,   1.2498
  49K619940107,   P02,    29,  1,      5,      5,2,19940114,1935, 29.9547, 142.7643, 7860,40659.3000,   4064.9,   1.4908,  34.6823,2,  34.6834,2,    151.7,2,    151.3,3,   147.20,2,    35.16,3,     2.65,2,    0.000,2,    0.000,2,   2327.0,2,   2397.0,2,   7.5500,2,    25.00,   -999.0,9,   -999.0,   1.1650
  49K619940107,   P02,    29,  1,      4,      4,4,19940114,1935, 29.9547, 142.7643, 7860,45805.3000,   4580.3,   1.4902,  34.6884,2,-999.0000,9,    158.7,2,   -999.0,9,   147.10,4,    34.75,4,     2.54,4,    0.000,2,    0.008,2,   2350.0,3,   2390.0,3,   7.4800,3,    25.00,   -999.0,9,   -999.0,   1.1061
  49K619940107,   P02,    29,  1,      3,      3,2,19940114,1935, 29.9547, 142.7643, 7860,50940.3000,   5094.0,   1.5214,  34.6909,2,  34.6897,2,    164.2,2,    169.2,3,   147.00,2,    34.42,3,     2.53,2,    0.000,2,    0.000,2,   2318.0,2,   2393.0,2,   7.4800,2,    25.00,   -999.0,9,   -999.0,   1.0748
  49K619940107,   P02,    29,  1,      2,      2,2,19940114,1935, 29.9547, 142.7643, 7860,56135.3000,   5612.8,   1.5741,  34.6926,2,  34.6924,2,    164.6,2,    166.9,3,   145.90,2,    34.00,3,     2.58,2, -999.000,9, -999.000,9,   2314.0,2,   2392.0,2,   7.5700,2,    25.00,   -999.0,9,   -999.0,   1.0602
  49K619940107,   P02,    29,  1,      1,      1,2,19940114,1935, 29.9547, 142.7643, 7860,61276.0000,   6125.2,   1.6388,  34.6938,2,  34.6928,2,    166.6,2,    171.7,3,   145.80,6,    33.85,3,     2.56,6,    0.001,2,    0.000,2,   2313.0,2,   2389.0,2,   7.5700,2,    25.00,   -999.0,9,   -999.0,   1.0545
  49K619940107,   P02,    31,  1,     24,     24,4,19940115,1019, 29.9660, 143.8930, 5446,  226.5000,     22.6,  20.5650,  34.9511,2,-999.0000,9,    233.0,2,   -999.0,9,     2.10,4,     0.38,4,     0.16,4,    2.207,2,    1.276,2,   1977.0,2,   2272.0,2,   8.0600,2,    25.00,   -999.0,9,   -999.0,  20.5608
  49K619940107,   P02,    31,  1,     23,     23,2,19940115,1019, 29.9660, 143.8930, 5446,  621.3000,     61.8,  20.4611,  34.9371,3,  34.9437,2,    228.7,2,    247.3,3,     2.10,2,     0.69,2,     0.17,2,    2.356,2,    1.276,2,   1978.0,2,   2273.0,2,   8.0600,2,    25.00,   -999.0,9,   -999.0,  20.4495
  49K619940107,   P02,    31,  1,     22,     22,4,19940115,1019, 29.9660, 143.8930, 5446, 1103.4000,    109.7,  19.9533,  34.8740,2,-999.0000,9,    227.3,2,   -999.0,9,  -999.00,9,  -999.00,9,  -999.00,9, -999.000,9, -999.000,9,   -999.0,9,   -999.0,9,-999.0000,9,  -999.00,   -999.0,9,   -999.0,  19.9331
  49K619940107,   P02,    31,  1,     21,     21,2,19940115,1019, 29.9660, 143.8930, 5446, 1593.5000,    158.3,  19.7924,  34.8618,3,  34.8571,2,    224.7,2,    225.7,3,     2.30,2,     1.88,2,     0.18,2,    2.357,2,    1.364,2,   1977.0,2,   2270.0,2,   8.0400,2,    25.00,   -999.0,9,   -999.0,  19.7634
  49K619940107,   P02,    31,  1,     20,     20,2,19940115,1019, 29.9660, 143.8930, 5446, 2153.1000,    213.9,  17.8832,  34.8392,2,  34.8393,2,    205.8,2,    205.5,3,     3.50,2,     3.23,2,     0.38,2,    2.483,2,    1.328,2,   2011.0,2,   2268.0,2,   7.9900,2,    25.00,   -999.0,9,   -999.0,  17.8467
  49K619940107,   P02,    31,  1,     19,     19,4,19940115,1019, 29.9660, 143.8930, 5446, 3157.3000,    313.8,  16.7877,  34.7623,2,-999.0000,9,    208.6,2,   -999.0,9,  -999.00,9,  -999.00,9,  -999.00,9,    2.323,2,    1.342,2,   2011.0,2,   2268.0,2,   7.9800,2,    25.00,   -999.0,9,   -999.0,  16.7363
  49K619940107,   P02,    31,  1,     18,     18,2,19940115,1019, 29.9660, 143.8930, 5446, 4113.4000,    408.9,  15.1655,  34.6432,3,  34.6477,2,    194.5,2,    198.1,3,     9.80,2,     8.04,3,     0.75,2,    2.124,2,    1.181,2,   2052.0,2,   2262.0,2,   7.8900,2,    25.00,   -999.0,9,   -999.0,  15.1029
  49K619940107,   P02,    31,  1,     17,     17,2,19940115,1019, 29.9660, 143.8930, 5446, 5070.9000,    504.2,  13.1518,  34.4867,2,  34.4888,2,    187.7,2,    185.9,3,    15.80,2,    13.26,3,     1.04,2,    1.988,2,    1.100,2,   2079.0,2,   2263.0,2,   7.8300,2,    25.00,   -999.0,9,   -999.0,  13.0815
  49K619940107,   P02,    31,  1,     16,     16,2,19940115,1019, 29.9660, 143.8930, 5446, 6135.3000,    610.1,  10.6091,  34.3050,3,  34.3121,2,    176.2,2,    187.6,3,    26.10,6,    18.18,3,     1.38,6,    1.788,2,    1.013,2,   2118.0,2,   2257.0,3,   7.7500,2,    25.00,   -999.0,9,   -999.0,  10.5347
  49K619940107,   P02,    31,  1,     15,     15,2,19940115,1019, 29.9660, 143.8930, 5446, 7108.9000,    707.1,   7.6853,  34.1073,2,  34.1070,2,    152.0,2,    162.3,3,    44.30,6,    25.72,3,     1.88,6,    1.676,2,    0.924,2,   2423.0,4,   2265.0,3,   7.6300,2,    25.00,   -999.0,9,   -999.0,   7.6140
  49K619940107,   P02,    31,  1,     14,     14,2,19940115,1019, 29.9660, 143.8930, 5446, 8123.1000,    808.2,   5.6365,  34.0448,3,  34.0355,2,    108.0,2,    129.2,3,    66.10,2,    31.32,3,     2.36,2,    1.357,2,    0.755,2,   2229.0,2,   2285.0,2,   7.5100,2,    25.00,   -999.0,9,   -999.0,   5.5670
  49K619940107,   P02,    31,  1,     13,     13,2,19940115,1019, 29.9660, 143.8930, 5446,10164.0000,   1011.7,   4.0513,  34.2337,3,  34.2204,2,     52.9,2,   -999.0,9,   106.80,2,    39.24,3,     2.96,2,    0.297,2,    0.205,2,   2289.0,3,   2322.0,2,   7.3700,2,    25.00,   -999.0,9,   -999.0,   3.9747
  49K619940107,   P02,    31,  1,     12,     12,2,19940115,1019, 29.9660, 143.8930, 5446,12657.4000,   1260.6,   3.1740,  34.3858,2,  34.3852,2,     39.6,2,     47.9,3,   134.50,2,    41.98,3,     3.12,2,    0.062,2,    0.050,2,   2361.0,2,   2354.0,2,   7.3400,2,    25.00,   -999.0,9,   -999.0,   3.0844
  49K619940107,   P02,    31,  1,     11,     11,4,19940115,1019, 29.9660, 143.8930, 5446,15188.9000,   1513.5,   2.6610,  34.4828,2,-999.0000,9,     44.6,2,   -999.0,9,  -999.00,9,  -999.00,9,  -999.00,9,    0.697,4,    0.449,4,   2242.0,4,   2310.0,4,   7.5700,4,    25.00,   -999.0,9,   -999.0,   2.5562
  49K619940107,   P02,    31,  1,     10,     10,4,19940115,1019, 29.9660, 143.8930, 5446,17736.7000,   1768.3,   2.2837,  34.5407,2,-999.0000,9,     53.0,2,   -999.0,9,   154.40,3,    41.19,4,     3.07,4,    0.046,4,    0.039,4,   2359.0,3,   2367.0,3,   7.3600,3,    25.00,   -999.0,9,   -999.0,   2.1627
  49K619940107,   P02,    31,  1,      9,      9,2,19940115,1019, 29.9660, 143.8930, 5446,20314.2000,   2026.2,   2.0188,  34.5866,2,  34.5849,2,     73.4,2,     79.1,3,   160.50,3,    39.84,3,     3.01,2,    0.001,2,    0.000,2,   2373.0,2,   2396.0,2,   7.4100,2,    25.00,   -999.0,9,   -999.0,   1.8800
  49K619940107,   P02,    31,  1,      8,      8,2,19940115,1019, 29.9660, 143.8930, 5446,25364.6000,   2532.0,   1.7063,  34.6399,2,  34.6390,2,    109.5,2,    115.9,3,   155.60,3,    37.78,3,     2.85,2,    0.000,2,    0.000,2,   2354.0,2,   2405.0,2,   7.4800,2,    25.00,   -999.0,9,   -999.0,   1.5287
  49K619940107,   P02,    31,  1,      7,      7,2,19940115,1019, 29.9660, 143.8930, 5446,30446.5000,   3041.3,   1.5390,  34.6659,2,  34.6654,2,    132.2,2,    141.9,3,   151.60,2,    36.75,3,     2.69,2,    0.002,2,    0.003,2,   2342.0,2,   2403.0,2,   7.5200,2,    25.00,   -999.0,9,   -999.0,   1.3174
  49K619940107,   P02,    31,  1,      6,      6,2,19940115,1019, 29.9660, 143.8930, 5446,35562.7000,   3554.2,   1.4659,  34.6796,3,  34.6733,2,    146.4,2,    157.2,3,   150.70,2,    35.79,3,     2.65,2,    0.003,2,    0.000,2,   2327.0,2,   2400.0,2,   7.5500,2,    25.00,   -999.0,9,   -999.0,   1.1951
  49K619940107,   P02,    31,  1,      5,      5,2,19940115,1019, 29.9660, 143.8930, 5446,40671.3000,   4066.2,   1.4464,  34.6870,3,  34.6832,2,    156.1,2,    160.6,3,   149.20,2,    35.16,3,     2.57,2,    0.000,2,    0.000,2,   2325.0,2,   2400.0,2,   7.5600,2,    25.00,   -999.0,9,   -999.0,   1.1217
  49K619940107,   P02,    31,  1,      4,      4,2,19940115,1019, 29.9660, 143.8930, 5446,45783.5000,   4578.2,   1.4614,  34.6908,3,-999.0000,5,    161.3,2,    165.4,3,   147.70,3,    34.63,4,     2.53,4,    0.000,2,    0.000,2,   2319.0,2,   2397.0,2,   7.5700,2,    25.00,   -999.0,9,   -999.0,-999.0000
  49K619940107,   P02,    31,  1,      3,      3,2,19940115,1019, 29.9660, 143.8930, 5446,50967.1000,   5096.8,   1.4984,  34.6933,2,  34.6918,2,    166.7,2,    170.0,3,   145.40,2,    34.28,3,     2.56,2,    0.000,2,    0.001,2,   2319.0,2,   2395.0,2,   7.5800,2,    25.00,   -999.0,9,   -999.0,   1.0523
  49K619940107,   P02,    31,  1,      1,      1,2,19940115,1019, 29.9660, 143.8930, 5446,55362.2000,   5535.8,   1.5388,  34.6959,2,  34.6931,2,    170.4,2,   -999.0,9,   139.40,3,    33.83,3,     2.55,6,    0.000,2,    0.004,2,   2312.0,2,   2397.0,2,   7.5900,2,    25.00,   -999.0,9,   -999.0,   1.0361
  49K619940107,   P02,    31,  1,      2,      1,2,19940115,1019, 29.9660, 143.8930, 5446,55362.2000,   5535.8,   1.5392,  34.6956,2,  34.6931,2,    259.5,2,   -999.0,9,  -999.00,9,  -999.00,9,  -999.00,9,    0.000,2,    0.004,2,   2314.0,2,   2401.0,2,   7.5800,2,    25.00,   -999.0,9,   -999.0,   1.0365