BOTTLE,20220810CCHSIOAMB
EXPOCODE,SECT_ID,STNNBR,CASTNO,SAMPNO,BTLNBR,BTLNBR_FLAG_W,DATE,TIME,LATITUDE,LONGITUDE,DEPTH,CTDRAW,CTDPRS,CTDTMP,CTDSAL,CTDSAL_FLAG_W,SALNTY,SALNTY_FLAG_W,CTDOXY,CTDOXY_FLAG_W,OXYGEN,OXYGEN_FLAG_W,SILCAT,SILCAT_FLAG_W,NITRAT,NITRAT_FLAG_W,PHSPHT,PHSPHT_FLAG_W,CFC-11,CFC-11_FLAG_W,CFC-12,CFC-12_FLAG_W,TCARBN,TCARBN_FLAG_W,ALKALI,ALKALI_FLAG_W,PH_TOT,PH_TOT_FLAG_W,PH_TMP,DELC14,DELC14_FLAG_W,C14ERR,THETA
,,,,,,,,,,,METERS,,DBAR,ITS-90,PSS-78,,PSS-78,,UMOL/KG,,UMOL/KG,,UMOL/KG,,UMOL/KG,,UMOL/KG,,PMOL/KG,,PMOL/KG,,UMOL/KG,,UMOL/KG,,,,DEG C,/MILLE,,/MILLE,DEG C
  49K619940107,   P02,    64,  1,     24,     24,4,19940130,0142, 29.9782,-167.4085, 5469,  772.6000,     76.8,  16.9751,  34.8168,2,-999.0000,9,    246.1,2,   -999.0,9,  -999.00,9,  -999.00,9,  -999.00,9, -999.000,9, -999.000,9,   -999.0,9,   -999.0,9,-999.0000,9,  -999.00,   -999.0,9,   -999.0,  16.9625
  49K619940107,   P02,    64,  1,     23,     23,4,19940130,0142, 29.9782,-167.4085, 5469, 1185.0000,    117.8,  16.5923,  34.7833,2,-999.0000,9,    242.9,2,   -999.0,9,  -999.00,9,  -999.00,9,  -999.00,9, -999.000,9, -999.000,9,   -999.0,9,   -999.0,9,-999.0000,9,  -999.00,   -999.0,9,   -999.0,  16.5732
  49K619940107,   P02,    64,  1,     22,     22,3,19940130,0142, 29.9782,-167.4085, 5469, 1455.4000,    144.6,  15.2836,  34.6451,2,-999.0000,9,    255.3,2,   -999.0,9,  -999.00,9,  -999.00,9,  -999.00,9,    2.812,2,    1.431,2,   2029.0,2,   -999.0,9,   7.9800,2,    25.00,   -999.0,9,   -999.0,  15.2615
  49K619940107,   P02,    64,  1,     21,     21,2,19940130,0142, 29.9782,-167.4085, 5469, 1614.0000,    160.4,  14.7432,  34.5937,3,  34.6096,2,    250.9,3,    216.0,2,     7.00,2,     6.12,2,     0.59,2,    2.846,2,    1.457,2,   2047.0,2,   2268.0,2,   7.9200,2,    25.00,   -999.0,9,   -999.0,  14.7193
  49K619940107,   P02,    64,  1,     20,     20,2,19940130,0142, 29.9782,-167.4085, 5469, 2078.6000,    206.5,  13.7892,  34.4932,3,  34.5206,2,    228.3,3,    221.1,2,     8.00,2,     7.22,2,     0.64,2,    3.013,2,    1.528,2,   2052.0,2,   2261.0,2,   7.9000,2,    25.00,   -999.0,9,   -999.0,  13.7598
  49K619940107,   P02,    64,  1,     19,     19,2,19940130,0142, 29.9782,-167.4085, 5469, 3128.5000,    310.9,  11.6916,  34.2930,3,  34.3331,2,    227.5,3,    221.2,2,    13.40,2,    11.35,2,     0.92,2,    3.054,2,    1.483,2,   2080.0,2,   2255.0,2,   7.8400,2,    25.00,   -999.0,9,   -999.0,  11.6518
  49K619940107,   P02,    64,  1,     18,     18,2,19940130,0142, 29.9782,-167.4085, 5469, 4164.4000,    413.9,   9.6111,  34.1743,3,  34.1909,2,    215.3,3,    205.3,2,    21.80,6,    16.53,3,     1.28,6,    2.698,2,    1.311,2,   2112.0,2,   2258.0,2,   7.7600,2,    25.00,   -999.0,9,   -999.0,   9.5642
  49K619940107,   P02,    64,  1,     17,     17,2,19940130,0142, 29.9782,-167.4085, 5469, 5078.4000,    504.9,   7.7238,  34.0631,2,  34.0635,2,    185.8,3,    173.5,2,    37.20,2,    23.26,2,     1.76,2,    2.024,2,    1.030,2,   2161.0,2,   2266.0,2,   7.6500,2,    25.00,   -999.0,9,   -999.0,   7.6734
  49K619940107,   P02,    64,  1,     16,     16,2,19940130,0142, 29.9782,-167.4085, 5469, 6110.0000,    607.6,   5.8860,  34.0155,3,  34.0217,2,    138.7,3,    122.8,2,    59.70,2,    31.60,2,     2.34,2,    0.973,2,    0.555,2,   2230.0,2,   2279.0,2,   7.5100,2,    25.00,   -999.0,9,   -999.0,   5.8334
  49K619940107,   P02,    64,  1,     15,     15,2,19940130,0142, 29.9782,-167.4085, 5469, 7120.9000,    708.3,   5.0284,  34.0658,3,  34.0556,2,     82.7,2,     83.7,2,    76.60,6,    36.77,3,     2.67,6,    0.454,2,    0.308,2,   2272.0,2,   2294.0,2,   7.4200,2,    25.00,   -999.0,9,   -999.0,   4.9712
  49K619940107,   P02,    64,  1,     14,     14,2,19940130,0142, 29.9782,-167.4085, 5469, 8083.5000,    804.2,   4.4107,  34.1484,3,  34.1370,2,     49.7,2,     50.4,2,    95.00,2,    40.54,2,     2.94,2,    0.139,2,    0.122,2,   2317.0,2,   2313.0,2,   7.3500,2,    25.00,   -999.0,9,   -999.0,   4.3490
  49K619940107,   P02,    64,  1,     13,     13,2,19940130,0142, 29.9782,-167.4085, 5469, 9136.1000,    909.2,   3.9337,  34.2629,3,  34.2577,2,     28.6,2,     28.5,2,   110.80,2,    41.89,2,     3.14,2,    0.016,2,    0.029,2,   2347.0,2,   2352.0,3,   7.3200,2,    25.00,   -999.0,9,   -999.0,   3.8664
  49K619940107,   P02,    64,  1,     12,     12,2,19940130,0142, 29.9782,-167.4085, 5469,10054.5000,   1000.8,   3.6474,  34.3432,2,  34.3441,2,     23.0,2,   -999.0,9,   124.60,3,    43.96,2,     3.20,2,    0.014,2,    0.013,2,   2364.0,2,   2367.0,3,   7.3200,2,    25.00,   -999.0,9,   -999.0,   3.5747
  49K619940107,   P02,    64,  1,     11,     11,2,19940130,0142, 29.9782,-167.4085, 5469,12675.0000,   1262.4,   3.1769,  34.4903,3,  34.4833,2,     42.3,3,   -391.2,4,   140.80,3,    44.34,3,     3.23,3,    0.104,4,    0.073,4,   2354.0,2,   2347.0,3,   7.4000,2,    25.00,   -999.0,9,   -999.0,   3.0869
  49K619940107,   P02,    64,  1,     10,     10,2,19940130,0142, 29.9782,-167.4085, 5469,15238.6000,   1518.5,   2.6315,  34.5345,2,  34.5332,2,     51.4,3,     47.1,2,   152.20,3,    42.00,2,     3.09,2,    0.002,2,    0.006,2,   2378.0,2,   2388.0,2,   7.3800,2,    25.00,   -999.0,9,   -999.0,   2.5265
  49K619940107,   P02,    64,  1,      9,      9,2,19940130,0142, 29.9782,-167.4085, 5469,17621.6000,   1756.8,   2.2737,  34.5744,2,  34.5751,2,     62.7,2,     63.0,2,   163.20,3,    40.97,2,     3.02,2,    0.000,2,    0.000,2,   2379.0,2,   2396.0,2,   7.4100,2,    25.00,   -999.0,9,   -999.0,   2.1537
  49K619940107,   P02,    64,  1,      8,      8,2,19940130,0142, 29.9782,-167.4085, 5469,20242.3000,   2019.0,   1.9851,  34.6081,2,  34.6082,2,     77.7,3,     80.0,2,   166.90,3,    38.67,2,     2.86,2,    0.019,4,    0.061,4,   2372.0,2,   2403.0,2,   7.4400,2,    25.00,   -999.0,9,   -999.0,   1.8473
  49K619940107,   P02,    64,  1,      7,      7,2,19940130,0142, 29.9782,-167.4085, 5469,25291.8000,   2524.7,   1.6845,  34.6445,2,  34.6443,2,    103.7,2,    102.4,2,   171.60,3,    37.90,2,     2.82,2,    0.001,2,    0.000,2,   2362.0,2,   2409.0,2,   7.4800,2,    25.00,   -999.0,9,   -999.0,   1.5079
  49K619940107,   P02,    64,  1,      6,      6,2,19940130,0142, 29.9782,-167.4085, 5469,30436.4000,   3040.3,   1.5366,  34.6653,2,  34.6664,2,    124.3,2,    125.6,2,   167.90,3,    36.92,2,     2.70,2,    0.000,2,    0.000,2,   -999.0,9,   2409.0,2,   7.5200,2,    25.00,   -999.0,9,   -999.0,   1.3151
  49K619940107,   P02,    64,  1,      5,      5,2,19940130,0142, 29.9782,-167.4085, 5469,35516.2000,   3549.5,   1.4740,  34.6776,2,  34.6775,2,    139.6,3,    143.1,2,   160.40,3,    36.90,2,     2.63,2,    0.002,2,    0.000,2,   2337.0,2,   2410.0,3,   7.5500,2,    25.00,   -999.0,9,   -999.0,   1.2034
  49K619940107,   P02,    64,  1,      4,      4,2,19940130,0142, 29.9782,-167.4085, 5469,40659.3000,   4065.0,   1.4645,  34.6844,2,  34.6848,2,    149.7,2,    150.4,2,   158.10,3,    36.94,3,     2.56,6,    0.000,2,    0.000,2,   2334.0,2,   2408.0,2,   7.5600,2,    25.00,   -999.0,9,   -999.0,   1.1394
  49K619940107,   P02,    64,  1,      3,      3,2,19940130,0142, 29.9782,-167.4085, 5469,45755.2000,   4575.3,   1.4912,  34.6875,2,  34.6879,2,    155.0,2,    156.3,2,   156.30,3,    36.94,2,     2.54,2,    0.002,2,    0.001,2,   2331.0,2,   2409.0,2,   7.5700,2,    25.00,   -999.0,9,   -999.0,   1.1077
  49K619940107,   P02,    64,  1,      2,      2,3,19940130,0142, 29.9782,-167.4085, 5469,50915.5000,   5091.6,   1.5268,  34.6909,2,-999.0000,9,    160.5,2,   -999.0,9,  -999.00,9,  -999.00,9,  -999.00,9,    0.057,4,    0.056,4,   2325.0,2,   2397.0,3,   7.5700,3,    25.00,   -999.0,9,   -999.0,   1.0803
  49K619940107,   P02,    64,  1,      1,      1,2,19940130,0142, 29.9782,-167.4085, 5469,55654.7000,   5565.0,   1.5531,  34.6932,2,  34.6932,2,    168.7,2,    167.0,2,   145.10,3,    35.54,6,     2.47,6,    0.006,2,    0.003,2,   2320.0,2,   2405.0,2,   7.6000,2,    25.00,   -999.0,9,   -999.0,   1.0461
  49K619940107,   P02,    65,  1,     24,     24,4,19940130,1722, 29.9947,-164.6603, 5487,  410.5000,     40.8,  17.6209,  34.9617,2,-999.0000,9,    237.3,2,   -999.0,9,  -999.00,9,  -999.00,9,  -999.00,9, -999.000,9, -999.000,9,   -999.0,9,   -999.0,9,-999.0000,9,  -999.00,   -999.0,9,   -999.0,  17.6140
  49K619940107,   P02,    65,  1,     23,     23,4,19940130,1722, 29.9947,-164.6603, 5487,  606.6000,     60.2,  17.6237,  34.9618,2,-999.0000,9,    239.6,2,   -999.0,9,  -999.00,9,  -999.00,9,  -999.00,9, -999.000,9, -999.000,9,   -999.0,9,   -999.0,9,-999.0000,9,  -999.00,   -999.0,9,   -999.0,  17.6135
  49K619940107,   P02,    65,  1,     22,     22,2,19940130,1722, 29.9947,-164.6603, 5487,  665.4000,     66.1,  17.6228,  34.9619,2,  34.9605,2,    239.8,3,    236.3,2,     4.10,2,     0.00,2,     0.23,2,    2.656,2,    1.408,2,   2013.0,2,   2305.0,2,   8.0100,2,    25.00,    123.7,2,      7.0,  17.6117
  49K619940107,   P02,    65,  1,     21,     21,2,19940130,1722, 29.9947,-164.6603, 5487, 1148.9000,    114.1,  17.5536,  34.9517,3,  34.9607,2,    214.7,3,    237.8,2,     4.20,2,     0.00,2,     0.25,2,    2.655,2,    1.414,2,   2014.0,2,   2290.0,2,   8.0100,2,    25.00,    104.3,2,      7.0,  17.5344
  49K619940107,   P02,    65,  1,     20,     20,2,19940130,1722, 29.9947,-164.6603, 5487, 1632.8000,    162.1,  14.9652,  34.5984,3,  34.6125,2,    221.2,2,    220.2,2,     6.60,2,     3.42,2,     0.57,2,    2.870,2,    1.519,2,   2041.0,2,   2268.0,2,   7.9300,2,    25.00,     92.7,2,      7.0,  14.9408
  49K619940107,   P02,    65,  1,     19,     19,2,19940130,1722, 29.9947,-164.6603, 5487, 2121.6000,    210.7,  13.8525,  34.4737,3,  34.5231,2,    220.8,2,    222.9,2,     8.20,2,     5.52,2,     0.65,2,    2.973,2,    1.549,2,   2049.0,2,   2263.0,2,   7.9100,2,    25.00,    102.5,2,      7.0,  13.8224
  49K619940107,   P02,    65,  1,     18,     18,2,19940130,1722, 29.9947,-164.6603, 5487, 3123.8000,    310.3,  11.8691,  34.3380,3,  34.3428,2,    222.7,2,    221.2,2,    12.50,6,    10.40,3,     0.92,3,    3.065,2,    1.549,2,   2073.0,2,   2257.0,2,   7.8500,2,    25.00,     88.3,2,      7.0,  11.8290
  49K619940107,   P02,    65,  1,     17,     17,2,19940130,1722, 29.9947,-164.6603, 5487, 4075.4000,    405.0,   9.5340,  34.1615,3,  34.1817,2,    206.0,2,    206.6,2,    21.80,2,    16.78,2,     1.30,2,    2.663,2,    1.324,2,   2115.0,2,   2258.0,2,   7.7700,2,    25.00,     65.8,2,      7.0,   9.4884
  49K619940107,   P02,    65,  1,     16,     16,2,19940130,1722, 29.9947,-164.6603, 5487, 5155.5000,    512.5,   7.6276,  34.0233,3,  34.0643,2,    173.6,3,    176.3,2,    36.00,2,    24.45,2,     1.83,2,    1.999,2,    0.990,2,   2163.0,2,   2263.0,2,   7.6600,2,    25.00,     19.1,2,      7.0,   7.5768
  49K619940107,   P02,    65,  1,     15,     15,2,19940130,1722, 29.9947,-164.6603, 5487, 6118.6000,    608.4,   6.0264,  34.0054,3,  34.0114,2,    128.7,3,    133.8,2,    56.50,6,    31.50,3,     2.31,3,    1.166,2,    0.658,2,   2215.0,2,   2276.0,2,   7.5400,2,    25.00,    -54.5,2,      7.0,   5.9731
  49K619940107,   P02,    65,  1,     14,     14,2,19940130,1722, 29.9947,-164.6603, 5487, 7148.1000,    710.9,   4.9271,  34.0858,3,  34.0619,2,     78.4,3,     81.9,2,    79.10,2,    37.61,2,     2.73,2,    0.381,2,    0.267,2,   2271.0,2,   2295.0,2,   7.4200,2,    25.00,   -108.5,2,      7.0,   4.8703
  49K619940107,   P02,    65,  1,     13,     13,2,19940130,1722, 29.9947,-164.6603, 5487, 8136.8000,    809.5,   4.3897,  34.2007,3,  34.1878,2,     40.1,2,     41.2,2,    99.50,2,    40.53,3,     3.07,2,    0.064,2,    0.069,2,   2329.0,2,   2319.0,2,   7.3300,2,    25.00,   -162.2,2,      7.0,   4.3276
  49K619940107,   P02,    65,  1,     12,     12,3,19940130,1722, 29.9947,-164.6603, 5487,10238.7000,   1019.1,   3.7258,  34.3784,2,-999.0000,9,     28.6,2,   -999.0,9,  -999.00,9,  -999.00,9,  -999.00,9,    0.378,4,    0.256,4,   2307.0,3,   2335.0,3,   7.4400,3,    25.00,   -999.0,9,   -999.0,   3.6509
  49K619940107,   P02,    65,  1,     11,     11,2,19940130,1722, 29.9947,-164.6603, 5487,12650.9000,   1259.9,   3.0989,  34.4832,2,  34.4835,2,     43.5,3,     40.7,2,   136.90,2,    44.14,2,     3.18,2,    0.007,2,    0.020,2,   2368.0,2,   2368.0,2,   7.3700,2,    25.00,   -217.7,2,      7.0,   3.0099
  49K619940107,   P02,    65,  1,     10,     10,2,19940130,1722, 29.9947,-164.6603, 5487,15159.6000,   1510.5,   2.6699,  34.5322,3,  34.5364,2,     53.0,2,     52.2,2,   148.10,2,    43.16,2,     3.14,2,    0.002,2,    0.000,2,   2376.0,2,   2387.0,2,   7.3900,2,    25.00,   -233.1,2,      7.0,   2.5651
  49K619940107,   P02,    65,  1,      9,      9,2,19940130,1722, 29.9947,-164.6603, 5487,17719.1000,   1766.4,   2.2784,  34.5795,2,  34.5800,2,     65.4,2,     64.7,2,   160.00,2,    41.98,2,     3.09,2,    0.004,2,    0.000,2,   2377.0,2,   2398.0,2,   7.4200,2,    25.00,   -243.4,2,      7.0,   2.1575
  49K619940107,   P02,    65,  1,      8,      8,2,19940130,1722, 29.9947,-164.6603, 5487,20264.1000,   2021.1,   1.9894,  34.6081,2,  34.6075,2,     78.2,2,     78.3,2,   164.70,2,    41.64,2,     3.02,2,    0.005,2,    0.000,2,   2373.0,2,   2405.0,2,   7.4300,2,    25.00,   -246.7,2,      7.0,   1.8514
  49K619940107,   P02,    65,  1,      7,      7,4,19940130,1722, 29.9947,-164.6603, 5487,25327.0000,   2528.1,   1.6929,  34.6437,2,-999.0000,9,    102.4,2,   -999.0,9,  -999.00,9,  -999.00,9,  -999.00,9, -999.000,9, -999.000,9,   2336.0,3,   2392.0,3,   7.5000,3,    25.00,   -999.0,9,   -999.0,   1.5158
  49K619940107,   P02,    65,  1,      6,      6,2,19940130,1722, 29.9947,-164.6603, 5487,30440.8000,   3040.6,   1.5464,  34.6645,2,  34.6651,2,    123.5,3,    127.2,2,   165.90,2,    36.57,3,     2.79,2,    0.000,2,    0.000,2,   2344.0,2,   2411.0,2,   7.5200,2,    25.00,   -250.4,2,      7.0,   1.3247
  49K619940107,   P02,    65,  1,      5,      5,2,19940130,1722, 29.9947,-164.6603, 5487,35529.5000,   3550.7,   1.4879,  34.6761,2,  34.6767,2,    136.2,2,    137.9,2,   159.20,2,    36.43,3,     2.72,2,    0.003,2,    0.005,2,   2337.0,2,   2412.0,2,   7.5400,2,    25.00,   -233.0,2,      7.0,   1.2168
  49K619940107,   P02,    65,  1,      4,      4,2,19940130,1722, 29.9947,-164.6603, 5487,40697.8000,   4068.7,   1.4734,  34.6833,2,  34.6837,2,    147.3,2,    148.8,2,   156.40,6,    35.22,3,     2.69,6,    0.000,2,    0.000,2,   2328.0,2,   2413.0,2,   7.5600,2,    25.00,   -222.7,2,      7.0,   1.1477
  49K619940107,   P02,    65,  1,      3,      3,2,19940130,1722, 29.9947,-164.6603, 5487,45762.0000,   4575.9,   1.4954,  34.6876,2,  34.6880,2,    154.2,2,    154.7,2,   154.40,2,    35.09,2,     2.63,2,    0.001,2,    0.000,2,   2326.0,2,   2426.0,3,   7.5600,3,    25.00,   -207.5,2,      7.0,   1.1117
  49K619940107,   P02,    65,  1,      2,      2,2,19940130,1722, 29.9947,-164.6603, 5487,50931.1000,   5093.1,   1.5354,  34.6899,2,  34.6901,2,    159.6,2,    158.9,2,   151.00,2,    34.30,2,     2.61,2,    0.000,2,    0.001,2,   2319.0,2,   -999.0,9,-999.0000,9,  -999.00,   -215.7,2,      7.0,   1.0885
  49K619940107,   P02,    65,  1,      1,      1,2,19940130,1722, 29.9947,-164.6603, 5487,55839.4000,   5583.3,   1.5695,  34.6926,2,  34.6926,2,    165.7,2,    164.4,2,   143.20,6,    34.75,6,     2.57,6,    0.000,2,    0.000,2,   2308.0,2,   2405.0,2,   7.5800,2,    25.00,   -216.0,2,      7.0,   1.0596