BOTTLE,20220810CCHSIOAMB
EXPOCODE,SECT_ID,STNNBR,CASTNO,SAMPNO,BTLNBR,BTLNBR_FLAG_W,DATE,TIME,LATITUDE,LONGITUDE,DEPTH,CTDPRS,CTDTMP,CTDSAL,CTDSAL_FLAG_W,SALNTY,SALNTY_FLAG_W,OXYGEN,OXYGEN_FLAG_W,CFC-11,CFC-11_FLAG_W,CFC-12,CFC-12_FLAG_W,THETA,CF11ER,CF12ER
,,,,,,,,,,,METERS,DBAR,ITS-90,PSS-78,,PSS-78,,UMOL/KG,,PMOL/KG,,PMOL/KG,,ITS-90,PMOL/KG,PMOL/KG
 06MT200206,       ar04,     379,          1,         21,     -999.0,9,20020625,       1433,    16.0248,   -58.0678,       4992,    10.9,  27.4061,  35.3460,2,  35.3447,2,   205.7,2,   1.571,2,   0.990,2,    27.4036,      0.005,      0.005
 06MT200206,       ar04,     379,          1,         20,     -999.0,9,20020625,       1433,    16.0248,   -58.0678,       4992,   598.2,  10.3181,  35.2876,2,  35.2570,2,    91.3,2,   0.617,2,   0.339,2,    10.2457,      0.002,      0.002
 06MT200206,       ar04,     379,          1,         19,     -999.0,9,20020625,       1433,    16.0248,   -58.0678,       4992,  1003.0,   5.7212,  34.7983,2,-999.0000,9,   152.5,6,   0.085,2,   0.046,2,     5.6317,      0.000,      0.000
 06MT200206,       ar04,     379,          1,         18,     -999.0,9,20020625,       1433,    16.0248,   -58.0678,       4992,  1087.2,   5.6120,  34.8678,2,-999.0000,9,  -999.0,9,   0.139,2,   0.075,2,     5.5151,      0.000,      0.000
 06MT200206,       ar04,     379,          1,         17,     -999.0,9,20020625,       1433,    16.0248,   -58.0678,       4992,  1311.8,   5.1302,  35.0212,2,-999.0000,9,  -999.0,9,   0.462,2,   0.238,2,     5.0156,      0.001,      0.001
 06MT200206,       ar04,     379,          1,         16,     -999.0,9,20020625,       1433,    16.0248,   -58.0678,       4992,  1448.3,   4.7192,  35.0230,2,-999.0000,9,  -999.0,9,   0.711,2,   0.363,2,     4.5957,      0.002,      0.002
 06MT200206,       ar04,     379,          1,         15,     -999.0,9,20020625,       1433,    16.0248,   -58.0678,       4992,  1615.0,   4.2744,  35.0062,2,-999.0000,9,   253.1,2,   0.681,2,   0.355,2,     4.1402,      0.002,      0.002
 06MT200206,       ar04,     379,          1,         14,     -999.0,9,20020625,       1433,    16.0248,   -58.0678,       4992,  1798.3,   3.9285,  34.9887,2,-999.0000,9,  -999.0,9,   0.651,2,   0.333,2,     3.7814,      0.002,      0.002
 06MT200206,       ar04,     379,          1,         13,     -999.0,9,20020625,       1433,    16.0248,   -58.0678,       4992,  1947.8,   3.7095,  34.9824,2,  34.9797,2,  -999.0,9,   0.465,2,   0.243,2,     3.5512,      0.001,      0.001
 06MT200206,       ar04,     379,          1,         12,     -999.0,9,20020625,       1433,    16.0248,   -58.0678,       4992,  2109.9,   3.5132,  34.9750,2,-999.0000,9,  -999.0,9,   0.447,2,   0.236,2,     3.3424,      0.001,      0.001
 06MT200206,       ar04,     379,          1,         11,     -999.0,9,20020625,       1433,    16.0248,   -58.0678,       4992,  2359.4,   3.1917,  34.9607,2,-999.0000,9,  -999.0,9,   0.254,2,   0.134,2,     3.0020,      0.001,      0.001
 06MT200206,       ar04,     379,          1,         10,     -999.0,9,20020625,       1433,    16.0248,   -58.0678,       4992,  2506.1,   3.0468,  34.9511,2,-999.0000,9,  -999.0,9,   0.311,2,   0.159,2,     2.8454,      0.001,      0.001
 06MT200206,       ar04,     379,          1,          9,     -999.0,9,20020625,       1433,    16.0248,   -58.0678,       4992,  2713.2,   2.8748,  34.9405,2,  34.9406,2,   265.0,2,   0.264,2,   0.138,2,     2.6561,      0.001,      0.001
 06MT200206,       ar04,     379,          1,          8,     -999.0,9,20020625,       1433,    16.0248,   -58.0678,       4992,  3015.2,   2.6699,  34.9265,2,-999.0000,9,  -999.0,9,   0.243,2,   0.128,2,     2.4248,      0.001,      0.001
 06MT200206,       ar04,     379,          1,          7,     -999.0,9,20020625,       1433,    16.0248,   -58.0678,       4992,  3297.6,   2.5053,  34.9152,2,-999.0000,9,  -999.0,9,   0.273,2,   0.142,2,     2.2344,      0.001,      0.001
 06MT200206,       ar04,     379,          1,          6,     -999.0,9,20020625,       1433,    16.0248,   -58.0678,       4992,  3597.6,   2.3967,  34.9069,2,-999.0000,9,  -999.0,9,   0.355,2,   0.185,2,     2.0963,      0.001,      0.001
 06MT200206,       ar04,     379,          1,          5,     -999.0,9,20020625,       1433,    16.0248,   -58.0678,       4992,  3900.4,   2.3082,  34.8988,2,  34.8999,2,   268.3,6,   0.342,2,   0.178,2,     1.9766,      0.001,      0.001
 06MT200206,       ar04,     379,          1,          4,     -999.0,9,20020625,       1433,    16.0248,   -58.0678,       4992,  4197.9,   2.2677,  34.8931,2,-999.0000,9,  -999.0,9,   0.314,2,   0.166,2,     1.9032,      0.001,      0.001
 06MT200206,       ar04,     379,          1,          3,     -999.0,9,20020625,       1433,    16.0248,   -58.0678,       4992,  4498.1,   2.2352,  34.8857,2,-999.0000,9,  -999.0,9,   0.191,2,   0.105,2,     1.8363,      0.001,      0.001
 06MT200206,       ar04,     379,          1,          2,     -999.0,9,20020625,       1433,    16.0248,   -58.0678,       4992,  4800.7,   2.1612,  34.8732,2,-999.0000,9,   260.5,2,   0.161,2,   0.093,2,     1.7281,      0.001,      0.000
 06MT200206,       ar04,     379,          1,          1,     -999.0,9,20020625,       1433,    16.0248,   -58.0678,       4992,  4991.3,   2.0877,  34.8601,2,  34.8601,2,   257.1,2,   0.105,2,   0.063,2,     1.6335,      0.000,      0.000
 06MT200206,       ar04,     380,          1,         24,     -999.0,9,20020625,       1930,    16.0653,   -58.4248,       5711,    15.7,  27.4667,  35.5762,2,-999.0000,9,   206.1,6,-999.000,9,-999.000,9,    27.4630,     -999.0,     -999.0
 06MT200206,       ar04,     380,          1,         23,     -999.0,9,20020625,       1930,    16.0653,   -58.4248,       5711,   509.9,  11.1740,  35.3463,2,-999.0000,9,   119.8,2,-999.000,9,-999.000,9,    11.1094,     -999.0,     -999.0
 06MT200206,       ar04,     380,          1,         22,     -999.0,9,20020625,       1930,    16.0653,   -58.4248,       5711,  1001.0,   6.0089,  34.8401,2,  34.8450,2,   149.5,2,-999.000,9,-999.000,9,     5.9173,     -999.0,     -999.0
 06MT200206,       ar04,     380,          1,         21,     -999.0,9,20020625,       1930,    16.0653,   -58.4248,       5711,  1200.6,   5.4689,  34.9537,2,-999.0000,9,  -999.0,9,-999.000,9,-999.000,9,     5.3621,     -999.0,     -999.0
 06MT200206,       ar04,     380,          1,         20,     -999.0,9,20020625,       1930,    16.0653,   -58.4248,       5711,  1354.0,   5.0755,  35.0216,2,-999.0000,9,   222.9,6,   0.544,2,   0.273,2,     4.9574,      0.002,      0.001
 06MT200206,       ar04,     380,          1,         19,     -999.0,9,20020625,       1930,    16.0653,   -58.4248,       5711,  1421.8,   4.8032,  35.0204,2,  35.0232,2,  -999.0,9,   0.639,2,   0.309,2,     4.6814,      0.002,      0.002
 06MT200206,       ar04,     380,          1,         18,     -999.0,9,20020625,       1930,    16.0653,   -58.4248,       5711,  1554.3,   4.4240,  35.0138,2,-999.0000,9,   248.1,2,-999.000,9,-999.000,9,     4.2938,     -999.0,     -999.0
 06MT200206,       ar04,     380,          1,         17,     -999.0,9,20020625,       1930,    16.0653,   -58.4248,       5711,  1688.7,   4.0659,  34.9921,2,-999.0000,9,  -999.0,9,-999.000,9,-999.000,9,     3.9274,     -999.0,     -999.0
 06MT200206,       ar04,     380,          1,         16,     -999.0,9,20020625,       1930,    16.0653,   -58.4248,       5711,  1950.3,   3.6742,  34.9795,2,-999.0000,9,   263.3,2,   0.485,2,   0.261,2,     3.5162,      0.002,      0.001
 06MT200206,       ar04,     380,          1,         15,     -999.0,9,20020625,       1930,    16.0653,   -58.4248,       5711,  2093.9,   3.5136,  34.9781,2,-999.0000,9,  -999.0,9,-999.000,9,-999.000,9,     3.3443,     -999.0,     -999.0
 06MT200206,       ar04,     380,          1,         14,     -999.0,9,20020625,       1930,    16.0653,   -58.4248,       5711,  2224.7,   3.3315,  34.9667,2,-999.0000,9,   264.3,2,-999.000,9,-999.000,9,     3.1525,     -999.0,     -999.0
 06MT200206,       ar04,     380,          1,         13,     -999.0,9,20020625,       1930,    16.0653,   -58.4248,       5711,  2384.2,   3.1529,  34.9580,2,-999.0000,9,  -999.0,9,-999.000,9,-999.000,9,     2.9615,     -999.0,     -999.0
 06MT200206,       ar04,     380,          1,         12,     -999.0,9,20020625,       1930,    16.0653,   -58.4248,       5711,  2678.3,   2.8992,  34.9418,2,-999.0000,9,  -999.0,9,-999.000,9,-999.000,9,     2.6835,     -999.0,     -999.0
 06MT200206,       ar04,     380,          1,         11,     -999.0,9,20020625,       1930,    16.0653,   -58.4248,       5711,  3000.5,   2.6937,  34.9285,2,-999.0000,9,  -999.0,9,-999.000,9,-999.000,9,     2.4496,     -999.0,     -999.0
 06MT200206,       ar04,     380,          1,         10,     -999.0,9,20020625,       1930,    16.0653,   -58.4248,       5711,  3288.4,   2.5447,  34.9175,2,-999.0000,9,   267.5,2,-999.000,9,-999.000,9,     2.2739,     -999.0,     -999.0
 06MT200206,       ar04,     380,          1,          9,     -999.0,9,20020625,       1930,    16.0653,   -58.4248,       5711,  3599.0,   2.4190,  34.9078,2,  34.9083,2,  -999.0,9,-999.000,9,-999.000,9,     2.1178,     -999.0,     -999.0
 06MT200206,       ar04,     380,          1,          8,     -999.0,9,20020625,       1930,    16.0653,   -58.4248,       5711,  3896.3,   2.3315,  34.9010,2,-999.0000,9,  -999.0,9,-999.000,9,-999.000,9,     1.9997,     -999.0,     -999.0
 06MT200206,       ar04,     380,          1,          7,     -999.0,9,20020625,       1930,    16.0653,   -58.4248,       5711,  4198.2,   2.2772,  34.8945,2,  34.8949,2,  -999.0,9,-999.000,9,-999.000,9,     1.9124,     -999.0,     -999.0
 06MT200206,       ar04,     380,          1,          6,     -999.0,9,20020625,       1930,    16.0653,   -58.4248,       5711,  4496.8,   2.2322,  34.8864,2,-999.0000,9,   264.5,2,-999.000,9,-999.000,9,     1.8336,     -999.0,     -999.0
 06MT200206,       ar04,     380,          1,          5,     -999.0,9,20020625,       1930,    16.0653,   -58.4248,       5711,  4797.3,   2.1466,  34.8718,2,-999.0000,9,  -999.0,9,-999.000,9,-999.000,9,     1.7144,     -999.0,     -999.0
 06MT200206,       ar04,     380,          1,          4,     -999.0,9,20020625,       1930,    16.0653,   -58.4248,       5711,  5096.9,   2.0419,  34.8548,2,  34.8532,2,   254.6,2,   0.088,2,   0.054,2,     1.5760,      0.000,      0.000
 06MT200206,       ar04,     380,          1,          3,     -999.0,9,20020625,       1930,    16.0653,   -58.4248,       5711,  5297.1,   1.9775,  34.8432,2,-999.0000,9,  -999.0,9,   0.057,2,   0.038,2,     1.4885,      0.000,      0.000
 06MT200206,       ar04,     380,          1,          2,     -999.0,9,20020625,       1930,    16.0653,   -58.4248,       5711,  5473.3,   1.9451,  34.8361,2,  34.8381,2,   250.3,2,   0.058,2,   0.034,2,     1.4346,      0.000,      0.000
 06MT200206,       ar04,     380,          1,          1,     -999.0,9,20020625,       1930,    16.0653,   -58.4248,       5711,  5710.6,   1.9184,  34.8284,2,  34.8288,2,   248.5,2,   0.062,2,   0.035,2,     1.3779,      0.000,      0.000
 06MT200206,       ar04,     381,          1,         21,     -999.0,9,20020626,       0052,    16.1052,   -58.7780,       4993,    25.3,  27.3715,  35.6623,2,-999.0000,9,   208.0,2,   1.567,2,   0.983,2,    27.3656,      0.005,      0.005
 06MT200206,       ar04,     381,          1,         20,     -999.0,9,20020626,       0052,    16.1052,   -58.7780,       4993,   495.4,  11.0005,  35.2910,2,-999.0000,9,   120.8,2,   1.000,2,   0.534,2,    10.9384,      0.003,      0.003
 06MT200206,       ar04,     381,          1,         19,     -999.0,9,20020626,       0052,    16.1052,   -58.7780,       4993,   599.4,   8.9542,  35.0192,2,-999.0000,9,   122.3,2,-999.000,9,-999.000,9,     8.8877,     -999.0,     -999.0
 06MT200206,       ar04,     381,          1,         18,     -999.0,9,20020626,       0052,    16.1052,   -58.7780,       4993,   798.7,   6.4638,  34.7353,2,  34.7329,2,   127.8,2,   0.159,2,   0.088,2,     6.3893,      0.000,      0.000
 06MT200206,       ar04,     381,          1,         17,     -999.0,9,20020626,       0052,    16.1052,   -58.7780,       4993,   996.2,   5.6555,  34.7899,2,-999.0000,9,   145.9,2,   0.058,2,   0.032,2,     5.5671,      0.000,      0.000
 06MT200206,       ar04,     381,          1,         16,     -999.0,9,20020626,       0052,    16.1052,   -58.7780,       4993,  1202.9,   5.3965,  34.9510,2,-999.0000,9,  -999.0,9,   0.163,2,   0.087,2,     5.2901,      0.001,      0.000
 06MT200206,       ar04,     381,          1,         15,     -999.0,9,20020626,       0052,    16.1052,   -58.7780,       4993,  1301.8,   5.2534,  35.0128,2,-999.0000,9,  -999.0,9,   0.379,2,   0.199,2,     5.1386,      0.001,      0.001
 06MT200206,       ar04,     381,          1,         14,     -999.0,9,20020626,       0052,    16.1052,   -58.7780,       4993,  1502.8,   4.5717,  35.0174,2,  35.0175,2,   242.9,6,   0.649,2,   0.334,2,     4.4447,      0.002,      0.002
 06MT200206,       ar04,     381,          1,         13,     -999.0,9,20020626,       0052,    16.1052,   -58.7780,       4993,  1692.0,   4.0496,  34.9914,2,-999.0000,9,  -999.0,9,   0.800,2,   0.416,2,     3.9110,      0.002,      0.002
 06MT200206,       ar04,     381,          1,         12,     -999.0,9,20020626,       0052,    16.1052,   -58.7780,       4993,  1898.8,   3.7311,  34.9813,2,  34.9801,2,  -999.0,9,   0.572,2,   0.299,2,     3.5772,      0.002,      0.002
 06MT200206,       ar04,     381,          1,         11,     -999.0,9,20020626,       0052,    16.1052,   -58.7780,       4993,  2089.1,   3.4978,  34.9744,2,-999.0000,9,  -999.0,9,   0.353,2,   0.187,2,     3.3292,      0.001,      0.001
 06MT200206,       ar04,     381,          1,         10,     -999.0,9,20020626,       0052,    16.1052,   -58.7780,       4993,  2402.3,   3.1892,  34.9602,2,  34.9618,2,   264.7,2,   0.193,2,   0.103,2,     2.9954,      0.001,      0.001
 06MT200206,       ar04,     381,          1,          9,     -999.0,9,20020626,       0052,    16.1052,   -58.7780,       4993,  2698.5,   2.9462,  34.9444,2,-999.0000,9,  -999.0,9,   0.230,2,   0.123,2,     2.7275,      0.001,      0.001
 06MT200206,       ar04,     381,          1,          8,     -999.0,9,20020626,       0052,    16.1052,   -58.7780,       4993,  3006.4,   2.7599,  34.9314,2,-999.0000,9,  -999.0,9,   0.350,2,   0.180,2,     2.5137,      0.001,      0.001
 06MT200206,       ar04,     381,          1,          7,     -999.0,9,20020626,       0052,    16.1052,   -58.7780,       4993,  3298.3,   2.5812,  34.9198,2,  34.9213,2,   266.6,6,   0.294,2,   0.151,2,     2.3084,      0.001,      0.001
 06MT200206,       ar04,     381,          1,          6,     -999.0,9,20020626,       0052,    16.1052,   -58.7780,       4993,  3598.5,   2.4369,  34.9082,2,-999.0000,9,  -999.0,9,   0.301,2,   0.156,2,     2.1353,      0.001,      0.001
 06MT200206,       ar04,     381,          1,          5,     -999.0,9,20020626,       0052,    16.1052,   -58.7780,       4993,  3800.2,   2.3670,  34.9038,2,-999.0000,9,  -999.0,9,   0.363,2,   0.188,2,     2.0450,      0.001,      0.001
 06MT200206,       ar04,     381,          1,          4,     -999.0,9,20020626,       0052,    16.1052,   -58.7780,       4993,  4098.8,   2.3050,  34.8974,2,  34.8957,2,  -999.0,9,   0.342,2,   0.178,2,     1.9509,      0.001,      0.001
 06MT200206,       ar04,     381,          1,          3,     -999.0,9,20020626,       0052,    16.1052,   -58.7780,       4993,  4398.2,   2.2644,  34.8910,2,-999.0000,9,   266.9,2,   0.285,2,   0.154,2,     1.8765,      0.001,      0.001
 06MT200206,       ar04,     381,          1,          2,     -999.0,9,20020626,       0052,    16.1052,   -58.7780,       4993,  4700.2,   2.2107,  34.8801,2,-999.0000,9,  -999.0,9,   0.213,2,   0.117,2,     1.7882,      0.001,      0.001
 06MT200206,       ar04,     381,          1,          1,     -999.0,9,20020626,       0052,    16.1052,   -58.7780,       4993,  4991.9,   2.1095,  34.8632,2,  34.8631,2,   256.9,2,   0.119,2,   0.069,2,     1.6544,      0.000,      0.000