BOTTLE,20220810CCHSIOAMB
EXPOCODE,SECT_ID,STNNBR,CASTNO,SAMPNO,BTLNBR,BTLNBR_FLAG_W,DATE,TIME,LATITUDE,LONGITUDE,DEPTH,CTDPRS,CTDTMP,CTDSAL,CTDSAL_FLAG_W,SALNTY,SALNTY_FLAG_W,OXYGEN,OXYGEN_FLAG_W,CFC-11,CFC-11_FLAG_W,CFC-12,CFC-12_FLAG_W,THETA,CF11ER,CF12ER
,,,,,,,,,,,METERS,DBAR,ITS-90,PSS-78,,PSS-78,,UMOL/KG,,PMOL/KG,,PMOL/KG,,ITS-90,PMOL/KG,PMOL/KG
 06MT200206,       ar04,     400,          1,         13,     -999.0,9,20020628,       2218,    15.0577,   -61.2093,       1470,    13.2,  28.0582,  33.6603,2,-999.0000,9,   221.7,3,   1.555,6,   0.978,6,    28.0551,      0.006,      0.006
 06MT200206,       ar04,     400,          1,         12,     -999.0,9,20020628,       2218,    15.0577,   -61.2093,       1470,    99.8,  25.8640,  36.7132,2,-999.0000,9,  -999.0,9,   1.698,2,   1.044,2,    25.8417,      0.007,      0.007
 06MT200206,       ar04,     400,          1,         11,     -999.0,9,20020628,       2218,    15.0577,   -61.2093,       1470,   197.0,  18.9541,  36.6412,2,-999.0000,9,  -999.0,9,   1.974,2,   1.152,2,    18.9187,      0.008,      0.007
 06MT200206,       ar04,     400,          1,         10,     -999.0,9,20020628,       2218,    15.0577,   -61.2093,       1470,   302.1,  14.5617,  35.8755,2,-999.0000,9,  -999.0,9,   1.792,2,   0.964,2,    14.5164,      0.007,      0.006
 06MT200206,       ar04,     400,          1,          9,     -999.0,9,20020628,       2218,    15.0577,   -61.2093,       1470,   410.9,  11.3140,  35.2896,2,-999.0000,9,  -999.0,9,   1.235,2,   0.653,2,    11.2618,      0.005,      0.005
 06MT200206,       ar04,     400,          1,          8,     -999.0,9,20020628,       2218,    15.0577,   -61.2093,       1470,   502.8,  10.1295,  35.1623,2,-999.0000,9,  -999.0,9,   0.923,2,   0.487,2,    10.0697,      0.004,      0.005
 06MT200206,       ar04,     400,          1,          7,     -999.0,9,20020628,       2218,    15.0577,   -61.2093,       1470,   597.8,   8.1688,  34.8744,2,-999.0000,9,  -999.0,9,   0.546,2,   0.295,2,     8.1061,      0.003,      0.004
 06MT200206,       ar04,     400,          1,          6,     -999.0,9,20020628,       2218,    15.0577,   -61.2093,       1470,   749.9,   6.7837,  34.8005,2,-999.0000,9,  -999.0,9,   0.203,2,   0.113,2,     6.7121,      0.002,      0.004
 06MT200206,       ar04,     400,          1,          5,     -999.0,9,20020628,       2218,    15.0577,   -61.2093,       1470,   900.7,   5.7489,  34.8109,2,-999.0000,9,  -999.0,9,   0.096,2,   0.052,2,     5.6689,      0.002,      0.004
 06MT200206,       ar04,     400,          1,          4,     -999.0,9,20020628,       2218,    15.0577,   -61.2093,       1470,  1096.7,   4.5913,  34.9447,2,-999.0000,9,   197.5,6,   0.036,2,   0.023,2,     4.5018,      0.002,      0.004
 06MT200206,       ar04,     400,          1,          3,     -999.0,9,20020628,       2218,    15.0577,   -61.2093,       1470,  1247.6,   4.4304,  34.9533,2,  34.9610,2,  -999.0,9,   0.033,2,   0.023,2,     4.3287,      0.002,      0.004
 06MT200206,       ar04,     400,          1,          2,     -999.0,9,20020628,       2218,    15.0577,   -61.2093,       1470,  1397.4,   4.3567,  34.9584,2,  34.9597,2,  -999.0,9,   0.034,2,   0.023,2,     4.2420,      0.002,      0.004
 06MT200206,       ar04,     400,          1,          1,     -999.0,9,20020628,       2218,    15.0577,   -61.2093,       1470,  1468.9,   4.2735,  34.9636,2,  34.9543,2,   205.5,2,   0.029,2,   0.022,2,     4.1531,      0.002,      0.004
 06MT200206,       ar04,     401,          1,         15,     -999.0,9,20020628,       2352,    15.1007,   -61.2298,       2048,    27.4,  27.9757,  33.5564,2,-999.0000,9,   206.1,2,   1.573,6,   0.993,6,    27.9693,      0.006,      0.006
 06MT200206,       ar04,     401,          1,         14,     -999.0,9,20020628,       2352,    15.1007,   -61.2298,       2048,   100.1,  26.2806,  36.4379,2,-999.0000,9,  -999.0,9,   1.615,2,   0.994,2,    26.2580,      0.007,      0.006
 06MT200206,       ar04,     401,          1,         13,     -999.0,9,20020628,       2352,    15.1007,   -61.2298,       2048,   199.6,  19.7231,  36.7529,2,-999.0000,9,  -999.0,9,   1.988,2,   1.162,2,    19.6862,      0.008,      0.007
 06MT200206,       ar04,     401,          1,         12,     -999.0,9,20020628,       2352,    15.1007,   -61.2298,       2048,   304.4,  15.2476,  36.0464,2,-999.0000,9,  -999.0,9,   1.825,2,   1.006,2,    15.2004,      0.007,      0.007
 06MT200206,       ar04,     401,          1,         11,     -999.0,9,20020628,       2352,    15.1007,   -61.2298,       2048,   401.1,  12.4754,  35.5614,2,-999.0000,9,  -999.0,9,   1.278,2,   0.693,2,    12.4210,      0.005,      0.005
 06MT200206,       ar04,     401,          1,         10,     -999.0,9,20020628,       2352,    15.1007,   -61.2298,       2048,   556.1,   8.6218,  34.9080,2,-999.0000,9,  -999.0,9,   0.666,2,   0.355,2,     8.5617,      0.003,      0.004
 06MT200206,       ar04,     401,          1,          9,     -999.0,9,20020628,       2352,    15.1007,   -61.2298,       2048,   696.5,   7.3175,  34.8174,2,-999.0000,9,  -999.0,9,   0.318,2,   0.175,2,     7.2485,      0.002,      0.004
 06MT200206,       ar04,     401,          1,          8,     -999.0,9,20020628,       2352,    15.1007,   -61.2298,       2048,   851.4,   6.0102,  34.7926,2,-999.0000,9,   145.5,2,   0.112,2,   0.059,2,     5.9333,      0.002,      0.004
 06MT200206,       ar04,     401,          1,          7,     -999.0,9,20020628,       2352,    15.1007,   -61.2298,       2048,  1003.0,   4.9283,  34.9210,2,-999.0000,9,  -999.0,9,   0.054,2,   0.035,2,     4.8446,      0.002,      0.004
 06MT200206,       ar04,     401,          1,          6,     -999.0,9,20020628,       2352,    15.1007,   -61.2298,       2048,  1185.7,   4.4498,  34.9522,2,-999.0000,9,  -999.0,9,   0.035,2,   0.023,2,     4.3535,      0.002,      0.004
 06MT200206,       ar04,     401,          1,          5,     -999.0,9,20020628,       2352,    15.1007,   -61.2298,       2048,  1350.6,   4.3408,  34.9602,2,  34.9595,2,  -999.0,9,   0.030,2,   0.020,2,     4.2306,      0.002,      0.004
 06MT200206,       ar04,     401,          1,          4,     -999.0,9,20020628,       2352,    15.1007,   -61.2298,       2048,  1498.4,   4.2436,  34.9652,2,  34.9646,2,  -999.0,9,   0.029,2,   0.020,2,     4.1208,      0.002,      0.004
 06MT200206,       ar04,     401,          1,          3,     -999.0,9,20020628,       2352,    15.1007,   -61.2298,       2048,  1648.3,   4.1798,  34.9689,2,  34.9685,2,  -999.0,9,   0.025,2,   0.018,2,     4.0437,      0.002,      0.004
 06MT200206,       ar04,     401,          1,          2,     -999.0,9,20020628,       2352,    15.1007,   -61.2298,       2048,  1801.7,   4.1412,  34.9718,2,-999.0000,9,   208.7,2,   0.022,2,   0.023,2,     3.9910,      0.002,      0.004
 06MT200206,       ar04,     401,          1,          1,     -999.0,9,20020628,       2352,    15.1007,   -61.2298,       2048,  2047.6,   4.1449,  34.9728,2,-999.0000,9,  -999.0,9,   0.031,2,   0.031,2,     3.9705,      0.002,      0.004
 06MT200206,       ar04,     402,          1,         13,     -999.0,9,20020629,       0945,    15.1515,   -61.2543,       1460,    12.3,  27.8873,  32.2577,2,-999.0000,9,   204.0,2,   1.578,6,   0.984,6,    27.8844,      0.006,      0.006
 06MT200206,       ar04,     402,          1,         12,     -999.0,9,20020629,       0945,    15.1515,   -61.2543,       1460,    97.4,  26.1680,  36.5189,2,-999.0000,9,  -999.0,9,   1.695,2,   1.030,2,    26.1461,      0.007,      0.007
 06MT200206,       ar04,     402,          1,         11,     -999.0,9,20020629,       0945,    15.1515,   -61.2543,       1460,   201.0,  19.3897,  36.7208,2,-999.0000,9,  -999.0,9,   2.060,2,   1.167,2,    19.3530,      0.008,      0.007
 06MT200206,       ar04,     402,          1,         10,     -999.0,9,20020629,       0945,    15.1515,   -61.2543,       1460,   308.3,  15.0639,  36.0089,2,-999.0000,9,  -999.0,9,   1.905,2,   1.028,2,    15.0165,      0.008,      0.007
 06MT200206,       ar04,     402,          1,          9,     -999.0,9,20020629,       0945,    15.1515,   -61.2543,       1460,   403.2,  12.1263,  35.4960,2,-999.0000,9,  -999.0,9,   1.279,2,   0.672,2,    12.0726,      0.005,      0.005
 06MT200206,       ar04,     402,          1,          8,     -999.0,9,20020629,       0945,    15.1515,   -61.2543,       1460,   499.8,   9.8969,  35.1318,2,-999.0000,9,  -999.0,9,   0.857,2,   0.446,2,     9.8383,      0.004,      0.004
 06MT200206,       ar04,     402,          1,          7,     -999.0,9,20020629,       0945,    15.1515,   -61.2543,       1460,   598.6,   8.1545,  34.8776,2,-999.0000,9,  -999.0,9,   0.519,2,   0.280,2,     8.0918,      0.003,      0.004
 06MT200206,       ar04,     402,          1,          6,     -999.0,9,20020629,       0945,    15.1515,   -61.2543,       1460,   741.6,   6.9065,  34.7758,2,-999.0000,9,  -999.0,9,   0.234,2,   0.129,2,     6.8351,      0.002,      0.004
 06MT200206,       ar04,     402,          1,          5,     -999.0,9,20020629,       0945,    15.1515,   -61.2543,       1460,   902.8,   5.5395,  34.8447,2,-999.0000,9,  -999.0,9,   0.090,2,   0.051,2,     5.4607,      0.002,      0.004
 06MT200206,       ar04,     402,          1,          4,     -999.0,9,20020629,       0945,    15.1515,   -61.2543,       1460,  1100.4,   4.6271,  34.9415,2,-999.0000,9,   194.7,6,   0.043,2,   0.025,2,     4.5370,      0.002,      0.004
 06MT200206,       ar04,     402,          1,          3,     -999.0,9,20020629,       0945,    15.1515,   -61.2543,       1460,  1252.4,   4.4173,  34.9550,2,  34.9536,2,  -999.0,9,   0.032,2,   0.020,2,     4.3153,      0.002,      0.004
 06MT200206,       ar04,     402,          1,          2,     -999.0,9,20020629,       0945,    15.1515,   -61.2543,       1460,  1417.2,   4.3218,  34.9598,2,  34.9602,2,  -999.0,9,   0.032,2,   0.020,2,     4.2057,      0.002,      0.004
 06MT200206,       ar04,     402,          1,          1,     -999.0,9,20020629,       0945,    15.1515,   -61.2543,       1460,  1459.9,   4.2613,  34.9649,2,  34.9632,2,   205.4,2,   0.039,2,   0.028,2,     4.1419,      0.002,      0.004
 06MT200206,       ar04,     403,          1,          4,     -999.0,9,20020629,       1126,    15.2038,   -61.2812,        671,    13.6,  27.8932,  30.7480,2,-999.0000,9,   204.0,2,-999.000,9,-999.000,9,    27.8900,     -999.0,     -999.0
 06MT200206,       ar04,     403,          1,          3,     -999.0,9,20020629,       1126,    15.2038,   -61.2812,        671,   103.4,  26.2464,  36.5286,2,-999.0000,9,   176.9,6,-999.000,9,-999.000,9,    26.2230,     -999.0,     -999.0
 06MT200206,       ar04,     403,          1,          2,     -999.0,9,20020629,       1126,    15.2038,   -61.2812,        671,   196.4,  19.5309,  36.7611,2,-999.0000,9,   150.9,2,-999.000,9,-999.000,9,    19.4948,     -999.0,     -999.0
 06MT200206,       ar04,     403,          1,          1,     -999.0,9,20020629,       1126,    15.2038,   -61.2812,        671,   670.1,   7.4970,  34.8077,2,  34.8025,2,   124.6,2,-999.000,9,-999.000,9,     7.4298,     -999.0,     -999.0
 06MT200206,       ar04,     404,          1,          3,     -999.0,9,20020629,       2012,    14.1818,   -60.9030,        443,    11.1,  28.0032,  34.0390,2,-999.0000,9,   204.7,2,-999.000,9,-999.000,9,    28.0006,     -999.0,     -999.0
 06MT200206,       ar04,     404,          1,          2,     -999.0,9,20020629,       2012,    14.1818,   -60.9030,        443,   103.9,  26.1966,  36.3546,2,-999.0000,9,   181.3,2,-999.000,9,-999.000,9,    26.1732,     -999.0,     -999.0
 06MT200206,       ar04,     404,          1,          1,     -999.0,9,20020629,       2012,    14.1818,   -60.9030,        443,   442.9,   9.6212,  35.0467,2,  35.0403,2,   123.7,2,-999.000,9,-999.000,9,     9.5703,     -999.0,     -999.0
 06MT200206,       ar04,     405,          1,          3,     -999.0,9,20020629,       2102,    14.2178,   -60.8972,        760,    10.1,  27.9480,  33.9851,2,-999.0000,9,   206.0,2,-999.000,9,-999.000,9,    27.9456,     -999.0,     -999.0
 06MT200206,       ar04,     405,          1,          2,     -999.0,9,20020629,       2102,    14.2178,   -60.8972,        760,   114.2,  25.6147,  36.8003,2,-999.0000,9,   185.2,2,-999.000,9,-999.000,9,    25.5893,     -999.0,     -999.0
 06MT200206,       ar04,     405,          1,          1,     -999.0,9,20020629,       2102,    14.2178,   -60.8972,        760,   737.2,   6.6912,  34.8234,2,  34.8190,2,   139.3,2,-999.000,9,-999.000,9,     6.6214,     -999.0,     -999.0
 06MT200206,       ar04,     406,          1,          9,     -999.0,9,20020629,       2200,    14.2600,   -60.8867,        889,    19.5,  27.9293,  33.9573,2,-999.0000,9,   205.4,2,   1.592,6,   0.994,6,    27.9247,      0.006,      0.006
 06MT200206,       ar04,     406,          1,          8,     -999.0,9,20020629,       2200,    14.2600,   -60.8867,        889,    65.5,  26.9370,  35.9490,2,-999.0000,9,   197.7,2,   1.633,2,   1.012,2,    26.9220,      0.007,      0.007
 06MT200206,       ar04,     406,          1,          7,     -999.0,9,20020629,       2200,    14.2600,   -60.8867,        889,   101.0,  25.9402,  36.6092,2,  36.5587,2,   188.8,2,   1.689,2,   1.030,2,    25.9176,      0.007,      0.007
 06MT200206,       ar04,     406,          1,          6,     -999.0,9,20020629,       2200,    14.2600,   -60.8867,        889,   201.6,  18.2401,  36.4393,2,-999.0000,9,  -999.0,9,   2.006,2,   1.138,2,    18.2048,      0.008,      0.007
 06MT200206,       ar04,     406,          1,          5,     -999.0,9,20020629,       2200,    14.2600,   -60.8867,        889,   343.3,  12.3022,  35.4532,2,-999.0000,9,  -999.0,9,   1.445,2,   0.775,2,    12.2562,      0.006,      0.006
 06MT200206,       ar04,     406,          1,          4,     -999.0,9,20020629,       2200,    14.2600,   -60.8867,        889,   499.2,   8.6578,  34.8888,2,  34.8821,2,  -999.0,9,   0.716,2,   0.380,2,     8.6039,      0.003,      0.004
 06MT200206,       ar04,     406,          1,          3,     -999.0,9,20020629,       2200,    14.2600,   -60.8867,        889,   750.1,   6.8869,  34.8149,2,-999.0000,9,  -999.0,9,   0.284,2,   0.157,2,     6.8147,      0.002,      0.004
 06MT200206,       ar04,     406,          1,          2,     -999.0,9,20020629,       2200,    14.2600,   -60.8867,        889,   810.0,   6.6480,  34.8194,2,-999.0000,9,   137.5,6,   0.246,2,   0.133,2,     6.5711,      0.002,      0.004
 06MT200206,       ar04,     406,          1,          1,     -999.0,9,20020629,       2200,    14.2600,   -60.8867,        889,   886.1,   5.9256,  34.8407,2,  34.8454,2,   154.3,2,   0.155,2,   0.087,2,     5.8458,      0.002,      0.004
 06MT200206,       ar04,     407,          1,          3,     -999.0,9,20020629,       2314,    14.3130,   -60.8792,        811,    11.4,  27.8855,  33.8740,2,-999.0000,9,   203.9,2,-999.000,9,-999.000,9,    27.8828,     -999.0,     -999.0
 06MT200206,       ar04,     407,          1,          2,     -999.0,9,20020629,       2314,    14.3130,   -60.8792,        811,   100.0,  25.9845,  36.6864,2,  36.7822,2,   190.1,2,-999.000,9,-999.000,9,    25.9621,     -999.0,     -999.0
 06MT200206,       ar04,     407,          1,          1,     -999.0,9,20020629,       2314,    14.3130,   -60.8792,        811,   810.6,   6.5177,  34.7666,2,-999.0000,9,  -999.0,9,-999.000,9,-999.000,9,     6.4416,     -999.0,     -999.0
 06MT200206,       ar04,     408,          1,          3,     -999.0,9,20020630,       0026,    14.3603,   -60.8730,        362,     8.2,  27.8909,  33.8278,2,  33.8292,2,  -999.0,9,-999.000,9,-999.000,9,    27.8890,     -999.0,     -999.0
 06MT200206,       ar04,     408,          1,          2,     -999.0,9,20020630,       0026,    14.3603,   -60.8730,        362,   102.1,  26.2339,  36.5045,2,  36.8246,2,   189.9,2,-999.000,9,-999.000,9,    26.2108,     -999.0,     -999.0
 06MT200206,       ar04,     408,          1,          1,     -999.0,9,20020630,       0026,    14.3603,   -60.8730,        362,   359.3,  12.8796,  35.5559,2,  35.5661,2,   132.5,2,-999.000,9,-999.000,9,    12.8299,     -999.0,     -999.0
 06MT200206,       ar04,     409,          1,          3,     -999.0,9,20020630,       1428,    13.6113,   -60.9335,        388,    12.8,  27.8882,  34.0251,2,-999.0000,9,  -999.0,9,-999.000,9,-999.000,9,    27.8852,     -999.0,     -999.0
 06MT200206,       ar04,     409,          1,          2,     -999.0,9,20020630,       1428,    13.6113,   -60.9335,        388,   109.6,  26.2859,  36.3500,2,  36.3502,2,   185.1,2,-999.000,9,-999.000,9,    26.2611,     -999.0,     -999.0
 06MT200206,       ar04,     409,          1,          1,     -999.0,9,20020630,       1428,    13.6113,   -60.9335,        388,   362.9,  14.2057,  35.7911,2,-999.0000,9,   137.9,2,-999.000,9,-999.000,9,    14.1521,     -999.0,     -999.0
 06MT200206,       ar04,     410,          1,          4,     -999.0,9,20020630,       1531,    13.5498,   -60.9778,        333,     8.9,  27.9082,  34.1671,2,-999.0000,9,   204.0,2,-999.000,9,-999.000,9,    27.9061,     -999.0,     -999.0
 06MT200206,       ar04,     410,          1,          3,     -999.0,9,20020630,       1531,    13.5498,   -60.9778,        333,   100.2,  26.3851,  36.3108,2,-999.0000,9,   181.6,2,-999.000,9,-999.000,9,    26.3624,     -999.0,     -999.0
 06MT200206,       ar04,     410,          1,          2,     -999.0,9,20020630,       1531,    13.5498,   -60.9778,        333,   199.9,  18.3265,  36.5213,2,  36.2883,2,   148.7,2,-999.000,9,-999.000,9,    18.2914,     -999.0,     -999.0
 06MT200206,       ar04,     410,          1,          1,     -999.0,9,20020630,       1531,    13.5498,   -60.9778,        333,   331.4,  11.8450,  35.3814,2,-999.0000,9,   130.6,2,-999.000,9,-999.000,9,    11.8017,     -999.0,     -999.0
 06MT200206,       ar04,     411,          1,          4,     -999.0,9,20020630,       1618,    13.5098,   -61.0058,        362,    12.1,  27.8709,  34.3850,2,-999.0000,9,   201.7,2,-999.000,9,-999.000,9,    27.8681,     -999.0,     -999.0
 06MT200206,       ar04,     411,          1,          3,     -999.0,9,20020630,       1618,    13.5098,   -61.0058,        362,   105.5,  26.4361,  36.2775,2,-999.0000,9,   175.5,6,-999.000,9,-999.000,9,    26.4122,     -999.0,     -999.0
 06MT200206,       ar04,     411,          1,          2,     -999.0,9,20020630,       1618,    13.5098,   -61.0058,        362,   301.4,  11.4580,  35.2957,2,-999.0000,9,  -999.0,9,-999.000,9,-999.000,9,    11.4195,     -999.0,     -999.0
 06MT200206,       ar04,     411,          1,          1,     -999.0,9,20020630,       1618,    13.5098,   -61.0058,        362,   358.6,  10.6307,  35.1843,2,  35.1995,2,   124.7,2,-999.000,9,-999.000,9,    10.5870,     -999.0,     -999.0