BOTTLE,20220810CCHSIOAMB
EXPOCODE,SECT_ID,STNNBR,CASTNO,SAMPNO,BTLNBR,BTLNBR_FLAG_W,DATE,TIME,LATITUDE,LONGITUDE,DEPTH,CTDPRS,CTDTMP,CTDSAL,CTDSAL_FLAG_W,SALNTY,SALNTY_FLAG_W,OXYGEN,OXYGEN_FLAG_W,CFC-11,CFC-11_FLAG_W,CFC-12,CFC-12_FLAG_W,THETA,CF11ER,CF12ER
,,,,,,,,,,,METERS,DBAR,ITS-90,PSS-78,,PSS-78,,UMOL/KG,,PMOL/KG,,PMOL/KG,,ITS-90,PMOL/KG,PMOL/KG
 06MT200206,       ar04,     333,          1,         21,     -999.0,9,20020610,       0151,    -1.2813,   -39.9858,       3805,    10.1,  28.2719,  35.8715,2,  35.8459,2,   202.4,2,   1.561,2,   0.980,2,    28.2695,      0.007,      0.004
 06MT200206,       ar04,     333,          1,         20,     -999.0,9,20020610,       0151,    -1.2813,   -39.9858,       3805,    59.4,  27.4356,  37.0653,2,-999.0000,9,  -999.0,9,   1.557,2,   0.994,2,    27.4217,      0.007,      0.004
 06MT200206,       ar04,     333,          1,         19,     -999.0,9,20020610,       0151,    -1.2813,   -39.9858,       3805,   103.7,  19.8199,  36.3270,2,-999.0000,9,  -999.0,9,   2.173,2,   1.253,2,    19.8007,      0.009,      0.005
 06MT200206,       ar04,     333,          1,         18,     -999.0,9,20020610,       0151,    -1.2813,   -39.9858,       3805,   405.6,   7.4432,  34.6277,2,  34.6193,2,  -999.0,9,   0.822,2,   0.427,2,     7.4035,      0.004,      0.002
 06MT200206,       ar04,     333,          1,         17,     -999.0,9,20020610,       0151,    -1.2813,   -39.9858,       3805,   803.9,   4.7995,  34.4448,2,  34.4722,2,   170.9,6,   0.389,2,   0.200,2,     4.7350,      0.002,      0.001
 06MT200206,       ar04,     333,          1,         16,     -999.0,9,20020610,       0151,    -1.2813,   -39.9858,       3805,  1005.4,   4.4942,  34.5814,2,  34.6213,2,  -999.0,9,   0.054,2,   0.031,2,     4.4141,      0.000,      0.000
 06MT200206,       ar04,     333,          1,         15,     -999.0,9,20020610,       0151,    -1.2813,   -39.9858,       3805,  1187.4,   4.6314,  34.8216,2,-999.0000,9,  -999.0,9,   0.089,2,   0.048,2,     4.5336,      0.000,      0.000
 06MT200206,       ar04,     333,          1,         14,     -999.0,9,20020610,       0151,    -1.2813,   -39.9858,       3805,  1389.0,   4.5047,  34.9261,2,-999.0000,9,  -999.0,9,   0.130,2,   0.067,2,     4.3893,      0.001,      0.000
 06MT200206,       ar04,     333,          1,         13,     -999.0,9,20020610,       0151,    -1.2813,   -39.9858,       3805,  1548.5,   4.4379,  34.9707,2,  34.9683,2,   229.1,2,   0.256,2,   0.146,2,     4.3082,      0.001,      0.001
 06MT200206,       ar04,     333,          1,         12,     -999.0,9,20020610,       0151,    -1.2813,   -39.9858,       3805,  1688.3,   3.9351,  34.9863,2,-999.0000,9,  -999.0,9,   0.439,2,   0.228,2,     3.7983,      0.002,      0.001
 06MT200206,       ar04,     333,          1,         11,     -999.0,9,20020610,       0151,    -1.2813,   -39.9858,       3805,  1834.4,   3.6744,  34.9791,2,-999.0000,9,  -999.0,9,   0.353,2,   0.186,2,     3.5274,      0.002,      0.001
 06MT200206,       ar04,     333,          1,         10,     -999.0,9,20020610,       0151,    -1.2813,   -39.9858,       3805,  1969.5,   3.4880,  34.9697,2,  34.9711,2,   258.1,2,   0.183,2,   0.096,2,     3.3309,      0.001,      0.000
 06MT200206,       ar04,     333,          1,          9,     -999.0,9,20020610,       0151,    -1.2813,   -39.9858,       3805,  2183.6,   3.4084,  34.9653,2,-999.0000,9,  -999.0,9,   0.130,2,   0.068,2,     3.2322,      0.001,      0.000
 06MT200206,       ar04,     333,          1,          8,     -999.0,9,20020610,       0151,    -1.2813,   -39.9858,       3805,  2341.4,   3.2941,  34.9636,2,-999.0000,9,   263.4,2,   0.221,2,   0.117,2,     3.1044,      0.001,      0.001
 06MT200206,       ar04,     333,          1,          7,     -999.0,9,20020610,       0151,    -1.2813,   -39.9858,       3805,  2500.8,   3.0318,  34.9500,2,-999.0000,9,  -999.0,9,   0.183,2,   0.094,2,     2.8312,      0.001,      0.000
 06MT200206,       ar04,     333,          1,          6,     -999.0,9,20020610,       0151,    -1.2813,   -39.9858,       3805,  2746.4,   2.8776,  34.9402,2,-999.0000,9,   263.2,6,   0.154,2,   0.081,2,     2.6555,      0.001,      0.000
 06MT200206,       ar04,     333,          1,          5,     -999.0,9,20020610,       0151,    -1.2813,   -39.9858,       3805,  3000.5,   2.7561,  34.9313,2,-999.0000,9,  -999.0,9,   0.150,2,   0.079,2,     2.5106,      0.001,      0.000
 06MT200206,       ar04,     333,          1,          4,     -999.0,9,20020610,       0151,    -1.2813,   -39.9858,       3805,  3248.2,   2.6262,  34.9219,2,  34.9191,2,  -999.0,9,   0.178,2,   0.096,2,     2.3577,      0.001,      0.000
 06MT200206,       ar04,     333,          1,          3,     -999.0,9,20020610,       0151,    -1.2813,   -39.9858,       3805,  3497.5,   2.5077,  34.9141,2,  34.9136,2,   265.8,2,   0.201,2,   0.108,2,     2.2153,      0.001,      0.000
 06MT200206,       ar04,     333,          1,          2,     -999.0,9,20020610,       0151,    -1.2813,   -39.9858,       3805,  3699.2,   2.4155,  34.9069,2,  34.9044,2,  -999.0,9,   0.233,2,   0.122,2,     2.1034,      0.001,      0.001
 06MT200206,       ar04,     333,          1,          1,     -999.0,9,20020610,       0151,    -1.2813,   -39.9858,       3805,  3804.0,   2.3679,  34.9028,2,  34.9014,2,   267.4,2,   0.243,2,   0.130,2,     2.0455,      0.001,      0.001
 06MT200206,       ar04,     334,          1,         21,     -999.0,9,20020610,       0630,    -0.8467,   -39.9895,       3924,    16.5,  28.0115,  36.0097,2,  36.0230,2,   203.9,2,   1.607,2,   0.990,2,    28.0076,      0.007,      0.004
 06MT200206,       ar04,     334,          1,         20,     -999.0,9,20020610,       0630,    -0.8467,   -39.9895,       3924,    99.9,  18.5188,  36.0144,2,-999.0000,9,   154.6,2,   1.984,2,   1.146,2,    18.5012,      0.008,      0.005
 06MT200206,       ar04,     334,          1,         19,     -999.0,9,20020610,       0630,    -0.8467,   -39.9895,       3924,   305.6,   9.5310,  34.8297,2,-999.0000,9,   160.0,2,   1.531,2,   0.800,2,     9.4965,      0.007,      0.003
 06MT200206,       ar04,     334,          1,         18,     -999.0,9,20020610,       0630,    -0.8467,   -39.9895,       3924,   505.6,   6.5740,  34.5786,2,-999.0000,9,   134.4,6,   0.473,2,   0.249,2,     6.5275,      0.002,      0.001
 06MT200206,       ar04,     334,          1,         17,     -999.0,9,20020610,       0630,    -0.8467,   -39.9895,       3924,   660.1,   5.7732,  34.5227,2,-999.0000,9,   144.1,2,   0.340,2,   0.180,2,     5.7159,      0.001,      0.001
 06MT200206,       ar04,     334,          1,         16,     -999.0,9,20020610,       0630,    -0.8467,   -39.9895,       3924,   793.1,   4.8743,  34.4940,2,-999.0000,9,   155.4,2,   0.201,2,   0.106,2,     4.8102,      0.001,      0.000
 06MT200206,       ar04,     334,          1,         15,     -999.0,9,20020610,       0630,    -0.8467,   -39.9895,       3924,  1000.9,   4.5140,  34.5991,2,  34.6075,2,   159.6,2,   0.046,2,   0.023,2,     4.4342,      0.000,      0.000
 06MT200206,       ar04,     334,          1,         14,     -999.0,9,20020610,       0630,    -0.8467,   -39.9895,       3924,  1296.6,   4.5856,  34.9077,2,-999.0000,9,  -999.0,9,   0.119,2,   0.061,2,     4.4780,      0.001,      0.000
 06MT200206,       ar04,     334,          1,         13,     -999.0,9,20020610,       0630,    -0.8467,   -39.9895,       3924,  1449.2,   4.3775,  34.9679,2,-999.0000,9,  -999.0,9,   0.239,2,   0.130,2,     4.2578,      0.001,      0.001
 06MT200206,       ar04,     334,          1,         12,     -999.0,9,20020610,       0630,    -0.8467,   -39.9895,       3924,  1615.3,   4.2888,  34.9877,2,-999.0000,9,   242.5,6,   0.411,2,   0.213,2,     4.1545,      0.002,      0.001
 06MT200206,       ar04,     334,          1,         11,     -999.0,9,20020610,       0630,    -0.8467,   -39.9895,       3924,  1701.5,   3.9249,  34.9892,2,  34.9896,2,  -999.0,9,   0.421,2,   0.217,2,     3.7869,      0.002,      0.001
 06MT200206,       ar04,     334,          1,         10,     -999.0,9,20020610,       0630,    -0.8467,   -39.9895,       3924,  1904.8,   3.6416,  34.9774,2,-999.0000,9,  -999.0,9,   0.230,2,   0.122,2,     3.4884,      0.001,      0.001
 06MT200206,       ar04,     334,          1,          9,     -999.0,9,20020610,       0630,    -0.8467,   -39.9895,       3924,  2120.8,   3.4685,  34.9668,2,-999.0000,9,   256.0,2,   0.125,2,   0.068,2,     3.2974,      0.001,      0.000
 06MT200206,       ar04,     334,          1,          8,     -999.0,9,20020610,       0630,    -0.8467,   -39.9895,       3924,  2198.3,   3.4074,  34.9651,2,-999.0000,9,  -999.0,9,   0.127,2,   0.069,2,     3.2298,      0.001,      0.000
 06MT200206,       ar04,     334,          1,          7,     -999.0,9,20020610,       0630,    -0.8467,   -39.9895,       3924,  2414.9,   3.2321,  34.9588,2,  34.9587,2,  -999.0,9,   0.203,2,   0.105,2,     3.0363,      0.001,      0.000
 06MT200206,       ar04,     334,          1,          6,     -999.0,9,20020610,       0630,    -0.8467,   -39.9895,       3924,  2698.8,   2.9308,  34.9431,2,  34.9451,2,   262.3,2,   0.163,2,   0.084,2,     2.7124,      0.001,      0.000
 06MT200206,       ar04,     334,          1,          5,     -999.0,9,20020610,       0630,    -0.8467,   -39.9895,       3924,  3010.5,   2.7252,  34.9291,2,-999.0000,9,  -999.0,9,   0.162,2,   0.083,2,     2.4793,      0.001,      0.000
 06MT200206,       ar04,     334,          1,          4,     -999.0,9,20020610,       0630,    -0.8467,   -39.9895,       3924,  3298.7,   2.6139,  34.9213,2,  34.9203,2,  -999.0,9,   0.186,2,   0.099,2,     2.3403,      0.001,      0.000
 06MT200206,       ar04,     334,          1,          3,     -999.0,9,20020610,       0630,    -0.8467,   -39.9895,       3924,  3598.6,   2.4499,  34.9099,2,  34.9083,2,  -999.0,9,   0.223,2,   0.117,2,     2.1480,      0.001,      0.001
 06MT200206,       ar04,     334,          1,          2,     -999.0,9,20020610,       0630,    -0.8467,   -39.9895,       3924,  3799.5,   2.3568,  34.9021,2,  34.9032,2,  -999.0,9,   0.243,2,   0.126,2,     2.0352,      0.001,      0.001
 06MT200206,       ar04,     334,          1,          1,     -999.0,9,20020610,       0630,    -0.8467,   -39.9895,       3924,  3922.5,   2.3049,  34.8970,2,  34.8957,2,  -999.0,9,   0.228,2,   0.119,2,     1.9709,      0.001,      0.001
 06MT200206,       ar04,     335,          1,         21,     -999.0,9,20020610,       1101,    -0.4262,   -39.9922,       4036,    13.2,  27.8899,  36.0574,2,  36.0776,2,   207.4,2,   1.576,2,   0.999,2,    27.8868,      0.007,      0.004
 06MT200206,       ar04,     335,          1,         20,     -999.0,9,20020610,       1101,    -0.4262,   -39.9922,       4036,    98.0,  18.3755,  35.9567,2,-999.0000,9,   158.6,2,-999.000,9,-999.000,9,    18.3584,     -999.0,     -999.0
 06MT200206,       ar04,     335,          1,         19,     -999.0,9,20020610,       1101,    -0.4262,   -39.9922,       4036,   293.5,   9.7043,  34.8482,2,-999.0000,9,   158.6,6,-999.000,9,-999.000,9,     9.6708,     -999.0,     -999.0
 06MT200206,       ar04,     335,          1,         18,     -999.0,9,20020610,       1101,    -0.4262,   -39.9922,       4036,   495.7,   6.7660,  34.5958,2,-999.0000,9,   133.8,2,-999.000,9,-999.000,9,     6.7197,     -999.0,     -999.0
 06MT200206,       ar04,     335,          1,         17,     -999.0,9,20020610,       1101,    -0.4262,   -39.9922,       4036,   762.2,   4.9175,  34.4937,2,-999.0000,9,   158.3,2,-999.000,9,-999.000,9,     4.8558,     -999.0,     -999.0
 06MT200206,       ar04,     335,          1,         16,     -999.0,9,20020610,       1101,    -0.4262,   -39.9922,       4036,  1009.2,   4.5254,  34.6008,2,  34.6179,3,   162.1,2,   0.047,2,   0.024,2,     4.4447,      0.000,      0.000
 06MT200206,       ar04,     335,          1,         15,     -999.0,9,20020610,       1101,    -0.4262,   -39.9922,       4036,  1304.5,   4.5800,  34.8986,2,-999.0000,9,  -999.0,9,-999.000,9,-999.000,9,     4.4718,     -999.0,     -999.0
 06MT200206,       ar04,     335,          1,         14,     -999.0,9,20020610,       1101,    -0.4262,   -39.9922,       4036,  1498.5,   4.3789,  34.9818,2,-999.0000,9,   235.0,6,-999.000,9,-999.000,9,     4.2545,     -999.0,     -999.0
 06MT200206,       ar04,     335,          1,         13,     -999.0,9,20020610,       1101,    -0.4262,   -39.9922,       4036,  1599.6,   4.3567,  34.9839,2,-999.0000,9,  -999.0,9,   0.364,2,   0.192,2,     4.2230,      0.002,      0.001
 06MT200206,       ar04,     335,          1,         12,     -999.0,9,20020610,       1101,    -0.4262,   -39.9922,       4036,  1798.9,   3.7654,  34.9827,2,  34.9835,2,  -999.0,9,-999.000,9,-999.000,9,     3.6204,     -999.0,     -999.0
 06MT200206,       ar04,     335,          1,         11,     -999.0,9,20020610,       1101,    -0.4262,   -39.9922,       4036,  2007.3,   3.5439,  34.9708,2,-999.0000,9,   255.6,2,-999.000,9,-999.000,9,     3.3824,     -999.0,     -999.0
 06MT200206,       ar04,     335,          1,         10,     -999.0,9,20020610,       1101,    -0.4262,   -39.9922,       4036,  2160.6,   3.3938,  34.9650,2,-999.0000,9,  -999.0,9,   0.123,2,   0.065,2,     3.2200,      0.001,      0.000
 06MT200206,       ar04,     335,          1,          9,     -999.0,9,20020610,       1101,    -0.4262,   -39.9922,       4036,  2299.2,   3.3388,  34.9660,2,-999.0000,9,  -999.0,9,-999.000,9,-999.000,9,     3.1525,     -999.0,     -999.0
 06MT200206,       ar04,     335,          1,          8,     -999.0,9,20020610,       1101,    -0.4262,   -39.9922,       4036,  2498.2,   3.0620,  34.9517,2,  34.9526,2,  -999.0,9,-999.000,9,-999.000,9,     2.8611,     -999.0,     -999.0
 06MT200206,       ar04,     335,          1,          7,     -999.0,9,20020610,       1101,    -0.4262,   -39.9922,       4036,  2798.4,   2.8723,  34.9393,2,-999.0000,9,   262.7,2,   0.148,2,   0.076,2,     2.6450,      0.001,      0.000
 06MT200206,       ar04,     335,          1,          6,     -999.0,9,20020610,       1101,    -0.4262,   -39.9922,       4036,  2997.9,   2.7607,  34.9313,2,-999.0000,9,  -999.0,9,-999.000,9,-999.000,9,     2.5154,     -999.0,     -999.0
 06MT200206,       ar04,     335,          1,          5,     -999.0,9,20020610,       1101,    -0.4262,   -39.9922,       4036,  3249.7,   2.6094,  34.9213,2,-999.0000,9,  -999.0,9,-999.000,9,-999.000,9,     2.3411,     -999.0,     -999.0
 06MT200206,       ar04,     335,          1,          4,     -999.0,9,20020610,       1101,    -0.4262,   -39.9922,       4036,  3498.2,   2.5419,  34.9157,2,  34.9156,2,  -999.0,9,   0.210,2,   0.108,2,     2.2486,      0.001,      0.000
 06MT200206,       ar04,     335,          1,          3,     -999.0,9,20020610,       1101,    -0.4262,   -39.9922,       4036,  3698.4,   2.4068,  34.9063,2,-999.0000,9,  -999.0,9,-999.000,9,-999.000,9,     2.0950,     -999.0,     -999.0
 06MT200206,       ar04,     335,          1,          2,     -999.0,9,20020610,       1101,    -0.4262,   -39.9922,       4036,  3850.2,   2.3335,  34.9000,2,  34.8916,3,  -999.0,9,-999.000,9,-999.000,9,     2.0068,     -999.0,     -999.0
 06MT200206,       ar04,     335,          1,          1,     -999.0,9,20020610,       1101,    -0.4262,   -39.9922,       4036,  4035.0,   2.2746,  34.8929,2,  34.8924,2,   264.9,2,   0.216,2,   0.115,2,     1.9287,      0.001,      0.000