BOTTLE,20220810CCHSIOAMB
EXPOCODE,SECT_ID,STNNBR,CASTNO,SAMPNO,BTLNBR,BTLNBR_FLAG_W,DATE,TIME,LATITUDE,LONGITUDE,DEPTH,CTDPRS,CTDTMP,CTDSAL,CTDSAL_FLAG_W,SALNTY,SALNTY_FLAG_W,OXYGEN,OXYGEN_FLAG_W,CFC-11,CFC-11_FLAG_W,CFC-12,CFC-12_FLAG_W,THETA,CF11ER,CF12ER
,,,,,,,,,,,METERS,DBAR,ITS-90,PSS-78,,PSS-78,,UMOL/KG,,PMOL/KG,,PMOL/KG,,ITS-90,PMOL/KG,PMOL/KG
 06MT200206,       ar04,     345,          1,         21,     -999.0,9,20020612,       1516,     4.0000,   -40.0002,       4284,    20.3,  27.8312,  35.4990,2,-999.0000,9,  -999.0,9,-999.000,9,-999.000,9,    27.8264,     -999.0,     -999.0
 06MT200206,       ar04,     345,          1,         20,     -999.0,9,20020612,       1516,     4.0000,   -40.0002,       4284,    52.4,  21.6751,  36.0286,2,-999.0000,9,   165.9,2,-999.000,9,-999.000,9,    21.6648,     -999.0,     -999.0
 06MT200206,       ar04,     345,          1,         19,     -999.0,9,20020612,       1516,     4.0000,   -40.0002,       4284,    99.4,  13.9301,  35.3886,2,-999.0000,9,   129.3,2,-999.000,9,-999.000,9,    13.9158,     -999.0,     -999.0
 06MT200206,       ar04,     345,          1,         18,     -999.0,9,20020612,       1516,     4.0000,   -40.0002,       4284,   396.6,   9.4039,  34.8874,2,-999.0000,9,   114.6,6,-999.000,9,-999.000,9,     9.3592,     -999.0,     -999.0
 06MT200206,       ar04,     345,          1,         17,     -999.0,9,20020612,       1516,     4.0000,   -40.0002,       4284,  1003.0,   4.7752,  34.6972,2,  34.6791,2,   154.2,2,   0.028,2,   0.013,2,     4.6930,      0.000,      0.000
 06MT200206,       ar04,     345,          1,         16,     -999.0,9,20020612,       1516,     4.0000,   -40.0002,       4284,  1298.6,   4.6239,  34.9014,2,-999.0000,9,  -999.0,9,-999.000,9,-999.000,9,     4.5158,     -999.0,     -999.0
 06MT200206,       ar04,     345,          1,         15,     -999.0,9,20020612,       1516,     4.0000,   -40.0002,       4284,  1492.0,   4.3989,  34.9677,2,-999.0000,9,  -999.0,9,   0.169,2,   0.089,2,     4.2750,      0.001,      0.000
 06MT200206,       ar04,     345,          1,         14,     -999.0,9,20020612,       1516,     4.0000,   -40.0002,       4284,  1647.8,   4.1269,  34.9848,2,-999.0000,9,  -999.0,9,-999.000,9,-999.000,9,     3.9915,     -999.0,     -999.0
 06MT200206,       ar04,     345,          1,         13,     -999.0,9,20020612,       1516,     4.0000,   -40.0002,       4284,  1798.7,   3.9458,  34.9849,2,  34.9845,2,  -999.0,9,   0.199,2,   0.106,2,     3.7984,      0.001,      0.000
 06MT200206,       ar04,     345,          1,         12,     -999.0,9,20020612,       1516,     4.0000,   -40.0002,       4284,  1947.7,   3.7451,  34.9805,2,-999.0000,9,  -999.0,9,   0.185,2,   0.097,2,     3.5863,      0.001,      0.000
 06MT200206,       ar04,     345,          1,         11,     -999.0,9,20020612,       1516,     4.0000,   -40.0002,       4284,  2099.0,   3.5386,  34.9747,2,-999.0000,9,   259.4,2,   0.168,2,   0.088,2,     3.3684,      0.001,      0.000
 06MT200206,       ar04,     345,          1,         10,     -999.0,9,20020612,       1516,     4.0000,   -40.0002,       4284,  2244.2,   3.3576,  34.9660,2,-999.0000,9,  -999.0,9,   0.118,2,   0.061,2,     3.1763,      0.001,      0.000
 06MT200206,       ar04,     345,          1,          9,     -999.0,9,20020612,       1516,     4.0000,   -40.0002,       4284,  2398.4,   3.2175,  34.9590,2,  34.9581,2,  -999.0,9,-999.000,9,-999.000,9,     3.0236,     -999.0,     -999.0
 06MT200206,       ar04,     345,          1,          8,     -999.0,9,20020612,       1516,     4.0000,   -40.0002,       4284,  2597.4,   3.0085,  34.9471,2,-999.0000,9,   259.8,2,   0.074,2,   0.039,2,     2.7987,      0.000,      0.000
 06MT200206,       ar04,     345,          1,          7,     -999.0,9,20020612,       1516,     4.0000,   -40.0002,       4284,  2909.8,   2.8010,  34.9314,2,-999.0000,9,  -999.0,9,-999.000,9,-999.000,9,     2.5639,     -999.0,     -999.0
 06MT200206,       ar04,     345,          1,          6,     -999.0,9,20020612,       1516,     4.0000,   -40.0002,       4284,  3200.0,   2.6509,  34.9210,2,-999.0000,9,   260.1,6,   0.054,2,   0.029,2,     2.3869,      0.000,      0.000
 06MT200206,       ar04,     345,          1,          5,     -999.0,9,20020612,       1516,     4.0000,   -40.0002,       4284,  3499.1,   2.5364,  34.9152,2,  34.9164,2,  -999.0,9,-999.000,9,-999.000,9,     2.2432,     -999.0,     -999.0
 06MT200206,       ar04,     345,          1,          4,     -999.0,9,20020612,       1516,     4.0000,   -40.0002,       4284,  3698.0,   2.4708,  34.9098,2,-999.0000,9,   265.8,2,   0.198,2,   0.102,2,     2.1574,      0.001,      0.000
 06MT200206,       ar04,     345,          1,          3,     -999.0,9,20020612,       1516,     4.0000,   -40.0002,       4284,  3848.2,   2.3858,  34.9037,2,  34.9059,2,  -999.0,9,   0.173,2,   0.091,2,     2.0579,      0.001,      0.000
 06MT200206,       ar04,     345,          1,          2,     -999.0,9,20020612,       1516,     4.0000,   -40.0002,       4284,  4006.3,   2.3201,  34.8964,2,-999.0000,9,   266.2,2,   0.178,2,   0.094,2,     1.9762,      0.001,      0.000
 06MT200206,       ar04,     345,          1,          1,     -999.0,9,20020612,       1516,     4.0000,   -40.0002,       4284,  4276.8,   2.2294,  34.8864,2,  34.8867,2,   264.1,2,   0.177,2,   0.097,2,     1.8569,      0.001,      0.000
 06MT200206,       ar04,     346,          1,         21,     -999.0,9,20020612,       2036,     4.5000,   -40.0003,       4608,    22.3,  27.6745,  35.7934,2,  35.7839,2,   210.7,2,   1.653,2,   1.011,2,    27.6693,      0.008,      0.004
 06MT200206,       ar04,     346,          1,         20,     -999.0,9,20020612,       2036,     4.5000,   -40.0003,       4608,   102.2,  13.4338,  35.3300,2,-999.0000,9,   131.3,2,-999.000,9,-999.000,9,    13.4194,     -999.0,     -999.0
 06MT200206,       ar04,     346,          1,         19,     -999.0,9,20020612,       2036,     4.5000,   -40.0003,       4608,   476.9,   7.8327,  34.7211,2,-999.0000,9,   115.8,2,-999.000,9,-999.000,9,     7.7844,     -999.0,     -999.0
 06MT200206,       ar04,     346,          1,         18,     -999.0,9,20020612,       2036,     4.5000,   -40.0003,       4608,   997.7,   4.6985,  34.7030,2,  34.6899,2,   157.5,2,   0.019,2,   0.011,2,     4.6174,      0.000,      0.000
 06MT200206,       ar04,     346,          1,         17,     -999.0,9,20020612,       2036,     4.5000,   -40.0003,       4608,  1198.0,   4.6556,  34.8493,2,-999.0000,9,  -999.0,9,   0.050,2,   0.026,2,     4.5565,      0.000,      0.000
 06MT200206,       ar04,     346,          1,         16,     -999.0,9,20020612,       2036,     4.5000,   -40.0003,       4608,  1447.0,   4.4958,  34.9602,2,-999.0000,9,   222.1,2,   0.160,2,   0.090,2,     4.3750,      0.001,      0.000
 06MT200206,       ar04,     346,          1,         15,     -999.0,9,20020612,       2036,     4.5000,   -40.0003,       4608,  1597.5,   4.3092,  34.9822,2,-999.0000,9,  -999.0,9,   0.216,6,   0.116,6,     4.1763,      0.001,      0.000
 06MT200206,       ar04,     346,          1,         14,     -999.0,9,20020612,       2036,     4.5000,   -40.0003,       4608,  1848.4,   3.9577,  34.9840,2,  34.9854,2,  -999.0,9,   0.219,2,   0.115,2,     3.8054,      0.001,      0.000
 06MT200206,       ar04,     346,          1,         13,     -999.0,9,20020612,       2036,     4.5000,   -40.0003,       4608,  2007.8,   3.7466,  34.9813,2,-999.0000,9,   256.1,2,   0.185,2,   0.097,2,     3.5820,      0.001,      0.000
 06MT200206,       ar04,     346,          1,         12,     -999.0,9,20020612,       2036,     4.5000,   -40.0003,       4608,  2154.8,   3.5022,  34.9706,2,-999.0000,9,  -999.0,9,   0.094,2,   0.050,2,     3.3272,      0.000,      0.000
 06MT200206,       ar04,     346,          1,         11,     -999.0,9,20020612,       2036,     4.5000,   -40.0003,       4608,  2317.4,   3.2949,  34.9613,2,  34.9601,2,  -999.0,9,   0.067,2,   0.037,2,     3.1076,      0.000,      0.000
 06MT200206,       ar04,     346,          1,         10,     -999.0,9,20020612,       2036,     4.5000,   -40.0003,       4608,  2506.8,   3.0878,  34.9505,2,-999.0000,9,   259.4,2,   0.057,2,   0.033,2,     2.8855,      0.000,      0.000
 06MT200206,       ar04,     346,          1,          9,     -999.0,9,20020612,       2036,     4.5000,   -40.0003,       4608,  2812.5,   2.8365,  34.9348,2,-999.0000,9,  -999.0,9,   0.044,2,   0.027,2,     2.6085,      0.000,      0.000
 06MT200206,       ar04,     346,          1,          8,     -999.0,9,20020612,       2036,     4.5000,   -40.0003,       4608,  3104.3,   2.6892,  34.9222,2,  34.9195,2,  -999.0,9,   0.033,2,   0.021,2,     2.4344,      0.000,      0.000
 06MT200206,       ar04,     346,          1,          7,     -999.0,9,20020612,       2036,     4.5000,   -40.0003,       4608,  3448.5,   2.5732,  34.9172,2,-999.0000,9,   263.8,2,   0.119,2,   0.064,2,     2.2845,      0.001,      0.000
 06MT200206,       ar04,     346,          1,          6,     -999.0,9,20020612,       2036,     4.5000,   -40.0003,       4608,  3649.0,   2.4775,  34.9103,2,-999.0000,9,  -999.0,9,   0.150,2,   0.083,2,     2.1693,      0.001,      0.000
 06MT200206,       ar04,     346,          1,          5,     -999.0,9,20020612,       2036,     4.5000,   -40.0003,       4608,  3858.2,   2.3852,  34.9029,2,-999.0000,9,   266.3,2,   0.177,2,   0.092,2,     2.0562,      0.001,      0.000
 06MT200206,       ar04,     346,          1,          4,     -999.0,9,20020612,       2036,     4.5000,   -40.0003,       4608,  4003.2,   2.2977,  34.8959,2,-999.0000,9,   266.2,2,   0.170,2,   0.092,2,     1.9547,      0.001,      0.000
 06MT200206,       ar04,     346,          1,          3,     -999.0,9,20020612,       2036,     4.5000,   -40.0003,       4608,  4249.2,   2.2097,  34.8838,2,-999.0000,9,  -999.0,9,   0.165,2,   0.088,2,     1.8410,      0.001,      0.000
 06MT200206,       ar04,     346,          1,          2,     -999.0,9,20020612,       2036,     4.5000,   -40.0003,       4608,  4412.8,   1.7118,  34.8237,2,-999.0000,9,   250.2,2,   0.099,2,   0.051,2,     1.3394,      0.000,      0.000
 06MT200206,       ar04,     346,          1,          1,     -999.0,9,20020612,       2036,     4.5000,   -40.0003,       4608,  4606.8,   1.4830,  34.7957,2,  34.7946,2,   240.7,2,   0.053,2,   0.028,2,     1.0954,      0.000,      0.000
 06MT200206,       ar04,     347,          1,         21,     -999.0,9,20020613,       0214,     5.0002,   -39.9988,       4591,    19.7,  27.6897,  35.7000,2,  35.7254,2,   208.9,2,   1.586,2,   1.004,2,    27.6851,      0.008,      0.003
 06MT200206,       ar04,     347,          1,         20,     -999.0,9,20020613,       0214,     5.0002,   -39.9988,       4591,    93.8,  13.7701,  35.4031,2,-999.0000,9,   133.6,2,-999.000,9,-999.000,9,    13.7567,     -999.0,     -999.0
 06MT200206,       ar04,     347,          1,         19,     -999.0,9,20020613,       0214,     5.0002,   -39.9988,       4591,   400.7,   8.7766,  34.7987,2,-999.0000,9,   131.2,2,-999.000,9,-999.000,9,     8.7333,     -999.0,     -999.0
 06MT200206,       ar04,     347,          1,         18,     -999.0,9,20020613,       0214,     5.0002,   -39.9988,       4591,   999.6,   4.7722,  34.7311,2,  34.7050,2,   156.3,2,   0.024,6,   0.013,6,     4.6903,      0.000,      0.000
 06MT200206,       ar04,     347,          1,         17,     -999.0,9,20020613,       0214,     5.0002,   -39.9988,       4591,  1198.9,   4.6541,  34.8639,2,-999.0000,9,  -999.0,9,   0.044,2,   0.023,2,     4.5549,      0.000,      0.000
 06MT200206,       ar04,     347,          1,         16,     -999.0,9,20020613,       0214,     5.0002,   -39.9988,       4591,  1398.9,   4.4845,  34.9471,2,-999.0000,9,   217.0,2,   0.119,2,   0.062,2,     4.3684,      0.001,      0.000
 06MT200206,       ar04,     347,          1,         15,     -999.0,9,20020613,       0214,     5.0002,   -39.9988,       4591,  1606.5,   4.2120,  34.9840,2,-999.0000,9,   241.1,2,   0.204,2,   0.112,2,     4.0794,      0.001,      0.000
 06MT200206,       ar04,     347,          1,         14,     -999.0,9,20020613,       0214,     5.0002,   -39.9988,       4591,  1818.4,   3.9518,  34.9886,2,-999.0000,9,  -999.0,9,   0.351,2,   0.179,2,     3.8025,      0.002,      0.001
 06MT200206,       ar04,     347,          1,         13,     -999.0,9,20020613,       0214,     5.0002,   -39.9988,       4591,  2018.3,   3.6904,  34.9811,2,  34.9831,2,   260.1,6,   0.332,2,   0.168,2,     3.5257,      0.002,      0.001
 06MT200206,       ar04,     347,          1,         12,     -999.0,9,20020613,       0214,     5.0002,   -39.9988,       4591,  2198.6,   3.4502,  34.9699,2,-999.0000,9,  -999.0,9,   0.127,2,   0.068,2,     3.2718,      0.001,      0.000
 06MT200206,       ar04,     347,          1,         11,     -999.0,9,20020613,       0214,     5.0002,   -39.9988,       4591,  2398.6,   3.1730,  34.9556,2,-999.0000,9,  -999.0,9,   0.073,2,   0.038,2,     2.9798,      0.000,      0.000
 06MT200206,       ar04,     347,          1,         10,     -999.0,9,20020613,       0214,     5.0002,   -39.9988,       4591,  2705.5,   2.9132,  34.9403,2,-999.0000,9,  -999.0,9,   0.057,2,   0.030,2,     2.6945,      0.000,      0.000
 06MT200206,       ar04,     347,          1,          9,     -999.0,9,20020613,       0214,     5.0002,   -39.9988,       4591,  3004.5,   2.7564,  34.9304,2,  34.9282,2,  -999.0,9,   0.080,2,   0.041,2,     2.5105,      0.000,      0.000
 06MT200206,       ar04,     347,          1,          8,     -999.0,9,20020613,       0214,     5.0002,   -39.9988,       4591,  3288.4,   2.6212,  34.9219,2,-999.0000,9,   261.8,2,   0.119,2,   0.062,2,     2.3485,      0.001,      0.000
 06MT200206,       ar04,     347,          1,          7,     -999.0,9,20020613,       0214,     5.0002,   -39.9988,       4591,  3597.8,   2.4860,  34.9109,2,-999.0000,9,  -999.0,9,   0.137,2,   0.072,2,     2.1833,      0.001,      0.000
 06MT200206,       ar04,     347,          1,          6,     -999.0,9,20020613,       0214,     5.0002,   -39.9988,       4591,  3748.2,   2.3935,  34.9051,2,-999.0000,9,   265.7,2,   0.161,2,   0.087,2,     2.0766,      0.001,      0.000
 06MT200206,       ar04,     347,          1,          5,     -999.0,9,20020613,       0214,     5.0002,   -39.9988,       4591,  3898.9,   2.3210,  34.8983,2,-999.0000,9,  -999.0,9,   0.170,2,   0.088,2,     1.9892,      0.001,      0.000
 06MT200206,       ar04,     347,          1,          4,     -999.0,9,20020613,       0214,     5.0002,   -39.9988,       4591,  4098.3,   2.2629,  34.8919,2,  34.8939,2,   264.7,6,   0.161,2,   0.087,2,     1.9101,      0.001,      0.000
 06MT200206,       ar04,     347,          1,          3,     -999.0,9,20020613,       0214,     5.0002,   -39.9988,       4591,  4303.7,   1.9887,  34.8582,2,-999.0000,9,   256.1,2,   0.127,2,   0.071,2,     1.6204,      0.001,      0.000
 06MT200206,       ar04,     347,          1,          2,     -999.0,9,20020613,       0214,     5.0002,   -39.9988,       4591,  4556.4,   1.5941,  34.8086,2,-999.0000,9,   244.5,2,   0.068,2,   0.036,2,     1.2088,      0.000,      0.000
 06MT200206,       ar04,     347,          1,          1,     -999.0,9,20020613,       0214,     5.0002,   -39.9988,       4591,  4589.1,   1.5527,  34.8038,2,  34.8047,2,   242.6,2,   0.029,4,   0.017,4,     1.1649,      0.000,      0.000