BOTTLE,20220810CCHSIOAMB
EXPOCODE,SECT_ID,STNNBR,CASTNO,SAMPNO,BTLNBR,BTLNBR_FLAG_W,DATE,TIME,LATITUDE,LONGITUDE,DEPTH,CTDPRS,CTDTMP,CTDSAL,CTDSAL_FLAG_W,SALNTY,SALNTY_FLAG_W,OXYGEN,OXYGEN_FLAG_W,CFC-11,CFC-11_FLAG_W,CFC-12,CFC-12_FLAG_W,THETA,CF11ER,CF12ER
,,,,,,,,,,,METERS,DBAR,ITS-90,PSS-78,,PSS-78,,UMOL/KG,,PMOL/KG,,PMOL/KG,,ITS-90,PMOL/KG,PMOL/KG
 06MT200206,       ar04,     369,          1,         23,     -999.0,9,20020623,       0222,    15.6515,   -54.8838,       5606,    46.2,  27.0641,  36.2373,2,-999.0000,9,   207.2,2,   1.610,2,   1.012,2,    27.0534,      0.008,      0.004
 06MT200206,       ar04,     369,          1,         22,     -999.0,9,20020623,       0222,    15.6515,   -54.8838,       5606,   999.0,   5.5396,  34.8448,2,-999.0000,9,   157.9,2,-999.000,9,-999.000,9,     5.4518,     -999.0,     -999.0
 06MT200206,       ar04,     369,          1,         21,     -999.0,9,20020623,       0222,    15.6515,   -54.8838,       5606,  1202.8,   5.2229,  34.9495,2,-999.0000,9,   194.9,2,-999.000,9,-999.000,9,     5.1181,     -999.0,     -999.0
 06MT200206,       ar04,     369,          1,         20,     -999.0,9,20020623,       0222,    15.6515,   -54.8838,       5606,  1405.7,   4.7913,  35.0119,2,-999.0000,9,   228.9,2,   0.369,2,   0.197,2,     4.6712,      0.002,      0.001
 06MT200206,       ar04,     369,          1,         19,     -999.0,9,20020623,       0222,    15.6515,   -54.8838,       5606,  1599.7,   4.2817,  35.0047,2,-999.0000,9,   248.9,2,   0.389,2,   0.200,2,     4.1489,      0.002,      0.001
 06MT200206,       ar04,     369,          1,         18,     -999.0,9,20020623,       0222,    15.6515,   -54.8838,       5606,  1781.7,   3.8781,  34.9917,2,  34.9929,2,   254.3,2,   0.181,2,   0.098,2,     3.7332,      0.001,      0.000
 06MT200206,       ar04,     369,          1,         17,     -999.0,9,20020623,       0222,    15.6515,   -54.8838,       5606,  1986.7,   3.5766,  34.9827,2,-999.0000,9,  -999.0,9,-999.000,9,-999.000,9,     3.4166,     -999.0,     -999.0
 06MT200206,       ar04,     369,          1,         16,     -999.0,9,20020623,       0222,    15.6515,   -54.8838,       5606,  2130.6,   3.3792,  34.9720,2,-999.0000,9,  -999.0,9,-999.000,9,-999.000,9,     3.2085,     -999.0,     -999.0
 06MT200206,       ar04,     369,          1,         15,     -999.0,9,20020623,       0222,    15.6515,   -54.8838,       5606,  2283.3,   3.2008,  34.9617,2,  34.9646,2,   259.3,6,   0.074,2,   0.040,2,     3.0184,      0.000,      0.000
 06MT200206,       ar04,     369,          1,         14,     -999.0,9,20020623,       0222,    15.6515,   -54.8838,       5606,  2493.0,   3.0210,  34.9500,2,-999.0000,9,   261.7,2,   0.107,2,   0.058,2,     2.8213,      0.001,      0.000
 06MT200206,       ar04,     369,          1,         13,     -999.0,9,20020623,       0222,    15.6515,   -54.8838,       5606,  2697.3,   2.8995,  34.9423,2,  34.9423,2,   262.7,2,   0.126,2,   0.066,2,     2.6819,      0.001,      0.000
 06MT200206,       ar04,     369,          1,         12,     -999.0,9,20020623,       0222,    15.6515,   -54.8838,       5606,  2968.8,   2.7476,  34.9306,2,-999.0000,9,  -999.0,9,-999.000,9,-999.000,9,     2.5055,     -999.0,     -999.0
 06MT200206,       ar04,     369,          1,         11,     -999.0,9,20020623,       0222,    15.6515,   -54.8838,       5606,  3290.2,   2.5966,  34.9199,2,-999.0000,9,   266.9,6,   0.274,2,   0.143,2,     2.3243,      0.001,      0.001
 06MT200206,       ar04,     369,          1,         10,     -999.0,9,20020623,       0222,    15.6515,   -54.8838,       5606,  3595.9,   2.4618,  34.9108,2,-999.0000,9,   267.4,2,   0.262,2,   0.138,2,     2.1599,      0.001,      0.001
 06MT200206,       ar04,     369,          1,          9,     -999.0,9,20020623,       0222,    15.6515,   -54.8838,       5606,  3797.2,   2.3961,  34.9058,2,  34.9044,2,   270.9,2,   0.368,2,   0.193,2,     2.0736,      0.002,      0.001
 06MT200206,       ar04,     369,          1,          8,     -999.0,9,20020623,       0222,    15.6515,   -54.8838,       5606,  3994.4,   2.3422,  34.9005,2,-999.0000,9,   268.8,2,   0.230,2,   0.126,2,     1.9990,      0.001,      0.000
 06MT200206,       ar04,     369,          1,          7,     -999.0,9,20020623,       0222,    15.6515,   -54.8838,       5606,  4196.0,   2.3032,  34.8959,2,-999.0000,9,   268.8,2,   0.230,2,   0.128,2,     1.9379,      0.001,      0.000
 06MT200206,       ar04,     369,          1,          6,     -999.0,9,20020623,       0222,    15.6515,   -54.8838,       5606,  4392.1,   2.2609,  34.8894,2,-999.0000,9,  -999.0,9,   0.390,4,   0.226,4,     1.8739,      0.002,      0.001
 06MT200206,       ar04,     369,          1,          5,     -999.0,9,20020623,       0222,    15.6515,   -54.8838,       5606,  4652.9,   2.2017,  34.8791,2,-999.0000,9,  -999.0,9,   0.407,4,   0.240,4,     1.7853,      0.002,      0.001
 06MT200206,       ar04,     369,          1,          4,     -999.0,9,20020623,       0222,    15.6515,   -54.8838,       5606,  4897.8,   2.0927,  34.8624,2,-999.0000,9,   257.9,2,   0.097,2,   0.056,2,     1.6499,      0.000,      0.000
 06MT200206,       ar04,     369,          1,          3,     -999.0,9,20020623,       0222,    15.6515,   -54.8838,       5606,  5104.5,   1.9491,  34.8429,2,  34.8418,2,   252.3,2,   0.070,2,   0.042,2,     1.4855,      0.000,      0.000
 06MT200206,       ar04,     369,          1,          2,     -999.0,9,20020623,       0222,    15.6515,   -54.8838,       5606,  5296.4,   1.8870,  34.8320,2,  34.8342,2,   249.8,2,   0.073,2,   0.042,2,     1.4014,      0.000,      0.000
 06MT200206,       ar04,     369,          1,          1,     -999.0,9,20020623,       0222,    15.6515,   -54.8838,       5606,  5604.5,   1.8780,  34.8251,2,  34.8271,2,   248.4,2,   0.068,2,   0.039,2,     1.3530,      0.000,      0.000
 06MT200206,       ar04,     370,          1,         21,     -999.0,9,20020623,       0725,    15.6938,   -55.2378,       4991,    15.2,  27.2026,  34.8334,2,-999.0000,9,   206.8,2,-999.000,9,-999.000,9,    27.1991,     -999.0,     -999.0
 06MT200206,       ar04,     370,          1,         20,     -999.0,9,20020623,       0725,    15.6938,   -55.2378,       4991,   492.5,   9.8945,  35.1266,2,  35.0787,3,   121.2,6,-999.000,9,-999.000,9,     9.8368,     -999.0,     -999.0
 06MT200206,       ar04,     370,          1,         19,     -999.0,9,20020623,       0725,    15.6938,   -55.2378,       4991,   797.0,   6.2566,  34.7723,2,-999.0000,9,   134.3,2,   0.118,2,   0.065,2,     6.1834,      0.001,      0.000
 06MT200206,       ar04,     370,          1,         18,     -999.0,9,20020623,       0725,    15.6938,   -55.2378,       4991,   997.1,   5.3906,  34.8081,2,  34.8110,2,  -999.0,9,   0.061,2,   0.034,2,     5.3041,      0.000,      0.000
 06MT200206,       ar04,     370,          1,          1,     -999.0,9,20020623,       0725,    15.6938,   -55.2378,       4991,  1116.6,   5.3513,  34.9046,2,  34.8975,3,  -999.0,9,-999.000,9,-999.000,9,     5.2537,     -999.0,     -999.0
 06MT200206,       ar04,     370,          1,         17,     -999.0,9,20020623,       0725,    15.6938,   -55.2378,       4991,  1197.0,   5.2710,  34.9550,2,-999.0000,9,   191.6,2,   0.172,2,   0.092,2,     5.1663,      0.001,      0.000
 06MT200206,       ar04,     370,          1,         16,     -999.0,9,20020623,       0725,    15.6938,   -55.2378,       4991,  1406.3,   4.7623,  35.0069,2,-999.0000,9,  -999.0,9,   0.259,2,   0.138,2,     4.6424,      0.001,      0.001
 06MT200206,       ar04,     370,          1,         15,     -999.0,9,20020623,       0725,    15.6938,   -55.2378,       4991,  1591.8,   4.2936,  35.0050,2,-999.0000,9,   249.0,2,   0.432,2,   0.226,2,     4.1614,      0.002,      0.001
 06MT200206,       ar04,     370,          1,         14,     -999.0,9,20020623,       0725,    15.6938,   -55.2378,       4991,  1794.1,   3.9013,  34.9935,2,  34.9965,2,  -999.0,9,   0.286,2,   0.150,2,     3.7549,      0.001,      0.001
 06MT200206,       ar04,     370,          1,         13,     -999.0,9,20020623,       0725,    15.6938,   -55.2378,       4991,  1986.3,   3.6166,  34.9834,2,-999.0000,9,  -999.0,9,   0.167,2,   0.087,2,     3.4560,      0.001,      0.000
 06MT200206,       ar04,     370,          1,         12,     -999.0,9,20020623,       0725,    15.6938,   -55.2378,       4991,  2246.2,   3.3088,  34.9684,2,  34.9709,2,  -999.0,9,   0.568,4,   0.207,4,     3.1281,      0.003,      0.001
 06MT200206,       ar04,     370,          1,         11,     -999.0,9,20020623,       0725,    15.6938,   -55.2378,       4991,  2490.6,   3.0747,  34.9532,2,-999.0000,9,   262.6,6,   0.116,2,   0.061,2,     2.8743,      0.001,      0.000
 06MT200206,       ar04,     370,          1,         10,     -999.0,9,20020623,       0725,    15.6938,   -55.2378,       4991,  2785.4,   2.8522,  34.9381,2,  34.9400,2,  -999.0,9,   0.275,2,   0.138,2,     2.6267,      0.001,      0.001
 06MT200206,       ar04,     370,          1,          9,     -999.0,9,20020623,       0725,    15.6938,   -55.2378,       4991,  3098.2,   2.6993,  34.9273,2,-999.0000,9,  -999.0,9,   0.221,2,   0.111,2,     2.4449,      0.001,      0.000
 06MT200206,       ar04,     370,          1,          8,     -999.0,9,20020623,       0725,    15.6938,   -55.2378,       4991,  3404.8,   2.5588,  34.9173,2,-999.0000,9,   269.7,2,   0.307,2,   0.153,2,     2.2752,      0.002,      0.001
 06MT200206,       ar04,     370,          1,          7,     -999.0,9,20020623,       0725,    15.6938,   -55.2378,       4991,  3601.4,   2.4708,  34.9102,2,-999.0000,9,  -999.0,9,   0.294,2,   0.147,2,     2.1681,      0.001,      0.001
 06MT200206,       ar04,     370,          1,          6,     -999.0,9,20020623,       0725,    15.6938,   -55.2378,       4991,  3797.2,   2.3943,  34.9033,2,  34.9042,2,  -999.0,9,   0.188,2,   0.096,2,     2.0719,      0.001,      0.000
 06MT200206,       ar04,     370,          1,          5,     -999.0,9,20020623,       0725,    15.6938,   -55.2378,       4991,  3998.5,   2.3343,  34.8979,2,-999.0000,9,  -999.0,9,   0.198,2,   0.098,2,     1.9908,      0.001,      0.000
 06MT200206,       ar04,     370,          1,          4,     -999.0,9,20020623,       0725,    15.6938,   -55.2378,       4991,  4297.8,   2.2926,  34.8931,2,-999.0000,9,  -999.0,9,   0.178,2,   0.099,2,     1.9157,      0.001,      0.000
 06MT200206,       ar04,     370,          1,          3,     -999.0,9,20020623,       0725,    15.6938,   -55.2378,       4991,  4597.0,   2.2266,  34.8819,2,  34.8808,2,   264.0,2,   0.153,2,   0.088,2,     1.8161,      0.001,      0.000
 06MT200206,       ar04,     370,          1,          2,     -999.0,9,20020623,       0725,    15.6938,   -55.2378,       4991,  4801.4,   2.1563,  34.8717,2,  34.8723,2,  -999.0,9,   0.119,2,   0.070,2,     1.7232,      0.001,      0.000
 06MT200206,       ar04,     371,          1,         23,     -999.0,9,20020623,       1222,    15.7350,   -55.5908,       5602,    16.1,  27.3693,  33.4900,2,-999.0000,9,   209.0,2,   1.595,2,   1.010,2,    27.3656,      0.008,      0.004
 06MT200206,       ar04,     371,          1,         22,     -999.0,9,20020623,       1222,    15.7350,   -55.5908,       5602,   502.2,  10.5816,  35.3122,2,-999.0000,9,   124.8,2,-999.000,9,-999.000,9,    10.5201,     -999.0,     -999.0
 06MT200206,       ar04,     371,          1,         21,     -999.0,9,20020623,       1222,    15.7350,   -55.5908,       5602,   897.9,   5.5407,  34.7298,2,-999.0000,9,   141.7,2,   0.064,2,   0.035,2,     5.4625,      0.000,      0.000
 06MT200206,       ar04,     371,          1,         20,     -999.0,9,20020623,       1222,    15.7350,   -55.5908,       5602,  1110.3,   5.3900,  34.9037,2,  34.9158,3,   176.7,2,   0.122,2,   0.066,2,     5.2926,      0.001,      0.000
 06MT200206,       ar04,     371,          1,         19,     -999.0,9,20020623,       1222,    15.7350,   -55.5908,       5602,  1336.8,   4.8803,  34.9997,2,-999.0000,9,   219.0,2,   0.244,2,   0.132,2,     4.7658,      0.001,      0.000
 06MT200206,       ar04,     371,          1,         18,     -999.0,9,20020623,       1222,    15.7350,   -55.5908,       5602,  1490.9,   4.5327,  35.0077,2,-999.0000,9,   237.0,2,   0.301,2,   0.162,2,     4.4073,      0.002,      0.001
 06MT200206,       ar04,     371,          1,         17,     -999.0,9,20020623,       1222,    15.7350,   -55.5908,       5602,  1640.2,   4.1753,  34.9998,2,-999.0000,9,  -999.0,9,-999.000,9,-999.000,9,     4.0400,     -999.0,     -999.0
 06MT200206,       ar04,     371,          1,         16,     -999.0,9,20020623,       1222,    15.7350,   -55.5908,       5602,  1793.9,   3.9179,  34.9916,2,-999.0000,9,  -999.0,9,-999.000,9,-999.000,9,     3.7713,     -999.0,     -999.0
 06MT200206,       ar04,     371,          1,         15,     -999.0,9,20020623,       1222,    15.7350,   -55.5908,       5602,  2003.0,   3.5860,  34.9773,2,-999.0000,9,   264.6,2,   0.383,2,   0.203,2,     3.4243,      0.002,      0.001
 06MT200206,       ar04,     371,          1,         14,     -999.0,9,20020623,       1222,    15.7350,   -55.5908,       5602,  2258.7,   3.2917,  34.9652,2,  34.9609,3,  -999.0,9,-999.000,9,-999.000,9,     3.1101,     -999.0,     -999.0
 06MT200206,       ar04,     371,          1,         13,     -999.0,9,20020623,       1222,    15.7350,   -55.5908,       5602,  2494.1,   3.0656,  34.9521,2,-999.0000,9,   266.1,2,   0.188,2,   0.099,2,     2.8650,      0.001,      0.000
 06MT200206,       ar04,     371,          1,         12,     -999.0,9,20020623,       1222,    15.7350,   -55.5908,       5602,  2696.1,   2.9190,  34.9427,2,-999.0000,9,   254.3,4,   0.150,2,   0.079,2,     2.7011,      0.001,      0.000
 06MT200206,       ar04,     371,          1,         11,     -999.0,9,20020623,       1222,    15.7350,   -55.5908,       5602,  3000.6,   2.7429,  34.9312,2,-999.0000,9,   267.5,2,   0.254,2,   0.135,2,     2.4977,      0.001,      0.000
 06MT200206,       ar04,     371,          1,         10,     -999.0,9,20020623,       1222,    15.7350,   -55.5908,       5602,  3299.0,   2.5882,  34.9195,2,  34.5569,3,   266.6,2,   0.235,2,   0.123,2,     2.3152,      0.001,      0.000
 06MT200206,       ar04,     371,          1,          9,     -999.0,9,20020623,       1222,    15.7350,   -55.5908,       5602,  3591.5,   2.4512,  34.9088,2,-999.0000,9,   267.5,2,   0.186,2,   0.097,2,     2.1500,      0.001,      0.000
 06MT200206,       ar04,     371,          1,          8,     -999.0,9,20020623,       1222,    15.7350,   -55.5908,       5602,  3888.4,   2.3425,  34.8991,2,-999.0000,9,   267.3,2,   0.166,2,   0.089,2,     2.0113,      0.001,      0.000
 06MT200206,       ar04,     371,          1,          7,     -999.0,9,20020623,       1222,    15.7350,   -55.5908,       5602,  4193.5,   2.2930,  34.8947,2,  34.8938,2,   267.8,6,   0.194,2,   0.106,2,     1.9283,      0.001,      0.000
 06MT200206,       ar04,     371,          1,          6,     -999.0,9,20020623,       1222,    15.7350,   -55.5908,       5602,  4498.7,   2.2498,  34.8879,2,-999.0000,9,   251.3,4,-999.000,9,-999.000,9,     1.8504,     -999.0,     -999.0
 06MT200206,       ar04,     371,          1,          5,     -999.0,9,20020623,       1222,    15.7350,   -55.5908,       5602,  4792.2,   2.1470,  34.8711,2,-999.0000,9,   235.0,4,-999.000,9,-999.000,9,     1.7154,     -999.0,     -999.0
 06MT200206,       ar04,     371,          1,          4,     -999.0,9,20020623,       1222,    15.7350,   -55.5908,       5602,  4997.0,   2.0429,  34.8556,2,  34.9144,3,   250.4,4,   0.205,4,   0.116,4,     1.5895,      0.001,      0.000
 06MT200206,       ar04,     371,          1,          3,     -999.0,9,20020623,       1222,    15.7350,   -55.5908,       5602,  5200.1,   1.9193,  34.8373,2,  36.3073,3,  -999.0,9,-999.000,9,-999.000,9,     1.4447,     -999.0,     -999.0
 06MT200206,       ar04,     371,          1,          2,     -999.0,9,20020623,       1222,    15.7350,   -55.5908,       5602,  5397.5,   1.8938,  34.8308,2,  34.8530,3,   249.1,2,-999.000,9,-999.000,9,     1.3950,     -999.0,     -999.0
 06MT200206,       ar04,     371,          1,          1,     -999.0,9,20020623,       1222,    15.7350,   -55.5908,       5602,  5600.6,   1.8837,  34.8267,2,  34.8273,2,   248.9,2,   0.085,2,   0.040,2,     1.3589,      0.000,      0.000