BOTTLE,20220810CCHSIOAMB
EXPOCODE,SECT_ID,STNNBR,CASTNO,SAMPNO,BTLNBR,BTLNBR_FLAG_W,DATE,TIME,LATITUDE,LONGITUDE,DEPTH,CTDPRS,CTDTMP,CTDSAL,CTDSAL_FLAG_W,SALNTY,SALNTY_FLAG_W,OXYGEN,OXYGEN_FLAG_W,CFC-11,CFC-11_FLAG_W,CFC-12,CFC-12_FLAG_W,THETA,CF11ER,CF12ER
,,,,,,,,,,,METERS,DBAR,ITS-90,PSS-78,,PSS-78,,UMOL/KG,,PMOL/KG,,PMOL/KG,,ITS-90,PMOL/KG,PMOL/KG
 06MT200206,       ar04,     382,          1,         21,     -999.0,9,20020626,       0624,    16.1732,   -59.2740,       4992,    14.8,  28.1715,  35.2290,2,  35.5072,2,   204.7,2,   1.628,2,   0.985,2,    28.1680,      0.005,      0.005
 06MT200206,       ar04,     382,          1,         20,     -999.0,9,20020626,       0624,    16.1732,   -59.2740,       4992,  1002.8,   5.5069,  34.7641,2,  34.7646,2,   146.7,6,   0.063,2,   0.037,2,     5.4191,      0.000,      0.000
 06MT200206,       ar04,     382,          1,         19,     -999.0,9,20020626,       0624,    16.1732,   -59.2740,       4992,  1353.8,   4.9721,  35.0073,2,-999.0000,9,   216.3,2,   0.304,2,   0.161,2,     4.8551,      0.001,      0.001
 06MT200206,       ar04,     382,          1,         18,     -999.0,9,20020626,       0624,    16.1732,   -59.2740,       4992,  1495.0,   4.5503,  35.0165,2,-999.0000,9,  -999.0,9,   0.621,2,   0.310,2,     4.4243,      0.002,      0.002
 06MT200206,       ar04,     382,          1,         17,     -999.0,9,20020626,       0624,    16.1732,   -59.2740,       4992,  1593.2,   4.2783,  35.0054,2,-999.0000,9,  -999.0,9,   0.745,2,   0.369,2,     4.1461,      0.002,      0.002
 06MT200206,       ar04,     382,          1,         16,     -999.0,9,20020626,       0624,    16.1732,   -59.2740,       4992,  1745.8,   3.9496,  34.9889,2,  34.9908,2,  -999.0,9,   0.692,2,   0.346,2,     3.8072,      0.002,      0.002
 06MT200206,       ar04,     382,          1,         15,     -999.0,9,20020626,       0624,    16.1732,   -59.2740,       4992,  1897.1,   3.7403,  34.9814,2,-999.0000,9,   263.0,2,   0.573,2,   0.290,2,     3.5864,      0.002,      0.002
 06MT200206,       ar04,     382,          1,         14,     -999.0,9,20020626,       0624,    16.1732,   -59.2740,       4992,  1995.8,   3.6229,  34.9788,2,-999.0000,9,  -999.0,9,   0.472,2,   0.235,2,     3.4613,      0.001,      0.001
 06MT200206,       ar04,     382,          1,         13,     -999.0,9,20020626,       0624,    16.1732,   -59.2740,       4992,  2129.7,   3.4788,  34.9738,2,  34.9732,2,  -999.0,9,   0.332,2,   0.167,2,     3.3066,      0.001,      0.001
 06MT200206,       ar04,     382,          1,         12,     -999.0,9,20020626,       0624,    16.1732,   -59.2740,       4992,  2285.6,   3.2868,  34.9657,2,-999.0000,9,  -999.0,9,   0.218,2,   0.111,2,     3.1027,      0.001,      0.001
 06MT200206,       ar04,     382,          1,         11,     -999.0,9,20020626,       0624,    16.1732,   -59.2740,       4992,  2486.1,   3.0959,  34.9544,2,-999.0000,9,   263.4,6,   0.206,2,   0.104,2,     2.8955,      0.001,      0.001
 06MT200206,       ar04,     382,          1,         10,     -999.0,9,20020626,       0624,    16.1732,   -59.2740,       4992,  2696.8,   2.9262,  34.9439,2,-999.0000,9,  -999.0,9,   0.239,2,   0.127,2,     2.7081,      0.001,      0.001
 06MT200206,       ar04,     382,          1,          9,     -999.0,9,20020626,       0624,    16.1732,   -59.2740,       4992,  2987.4,   2.7349,  34.9306,2,  34.9347,2,  -999.0,9,   0.159,3,   0.080,3,     2.4912,      0.000,      0.000
 06MT200206,       ar04,     382,          1,          8,     -999.0,9,20020626,       0624,    16.1732,   -59.2740,       4992,  3296.1,   2.5481,  34.9173,2,-999.0000,9,  -999.0,9,   0.265,2,   0.129,2,     2.2764,      0.001,      0.001
 06MT200206,       ar04,     382,          1,          7,     -999.0,9,20020626,       0624,    16.1732,   -59.2740,       4992,  3496.7,   2.4482,  34.9101,2,-999.0000,9,   267.8,2,   0.260,2,   0.138,2,     2.1574,      0.001,      0.001
 06MT200206,       ar04,     382,          1,          6,     -999.0,9,20020626,       0624,    16.1732,   -59.2740,       4992,  3788.2,   2.3506,  34.9017,2,-999.0000,9,  -999.0,9,   0.216,2,   0.117,2,     2.0304,      0.001,      0.001
 06MT200206,       ar04,     382,          1,          5,     -999.0,9,20020626,       0624,    16.1732,   -59.2740,       4992,  3999.9,   2.3125,  34.8984,2,  34.9004,2,  -999.0,9,   0.221,2,   0.120,2,     1.9695,      0.001,      0.001
 06MT200206,       ar04,     382,          1,          4,     -999.0,9,20020626,       0624,    16.1732,   -59.2740,       4992,  4298.1,   2.2617,  34.8905,2,-999.0000,9,   265.8,2,   0.190,2,   0.105,2,     1.8857,      0.001,      0.001
 06MT200206,       ar04,     382,          1,          3,     -999.0,9,20020626,       0624,    16.1732,   -59.2740,       4992,  4497.6,   2.2209,  34.8840,2,-999.0000,9,  -999.0,9,   0.169,2,   0.099,2,     1.8226,      0.001,      0.001
 06MT200206,       ar04,     382,          1,          2,     -999.0,9,20020626,       0624,    16.1732,   -59.2740,       4992,  4699.7,   2.1766,  34.8755,2,-999.0000,9,  -999.0,9,   0.156,2,   0.090,2,     1.7553,      0.000,      0.000
 06MT200206,       ar04,     382,          1,          1,     -999.0,9,20020626,       0624,    16.1732,   -59.2740,       4992,  4991.4,   2.0559,  34.8570,2,  34.8576,2,   255.9,2,   0.111,2,   0.067,2,     1.6027,      0.000,      0.000
 06MT200206,       ar04,     383,          1,         21,     -999.0,9,20020626,       1154,    16.2382,   -59.7823,       4992,    15.8,  27.9394,  35.7480,2,-999.0000,9,  -999.0,9,   1.554,2,   0.979,2,    27.9357,      0.005,      0.005
 06MT200206,       ar04,     383,          1,         20,     -999.0,9,20020626,       1154,    16.2382,   -59.7823,       4992,  1003.8,   5.5455,  34.7716,2,-999.0000,9,   147.6,2,-999.000,9,-999.000,9,     5.4573,     -999.0,     -999.0
 06MT200206,       ar04,     383,          1,         19,     -999.0,9,20020626,       1154,    16.2382,   -59.7823,       4992,  1210.9,   5.4461,  34.9624,2,-999.0000,9,   189.2,2,   0.238,2,   0.130,2,     5.3384,      0.001,      0.001
 06MT200206,       ar04,     383,          1,         18,     -999.0,9,20020626,       1154,    16.2382,   -59.7823,       4992,  1402.9,   4.8845,  35.0245,2,  35.0242,2,  -999.0,9,   0.606,2,   0.306,2,     4.7636,      0.002,      0.002
 06MT200206,       ar04,     383,          1,         17,     -999.0,9,20020626,       1154,    16.2382,   -59.7823,       4992,  1556.9,   4.4294,  35.0120,2,-999.0000,9,   247.8,2,   0.654,2,   0.330,2,     4.2989,      0.002,      0.002
 06MT200206,       ar04,     383,          1,         16,     -999.0,9,20020626,       1154,    16.2382,   -59.7823,       4992,  1698.2,   4.0763,  34.9941,2,-999.0000,9,  -999.0,9,   0.706,2,   0.353,2,     3.9367,      0.002,      0.002
 06MT200206,       ar04,     383,          1,         15,     -999.0,9,20020626,       1154,    16.2382,   -59.7823,       4992,  1848.9,   3.8116,  34.9834,2,  34.9821,2,  -999.0,9,   0.619,2,   0.308,2,     3.6613,      0.002,      0.002
 06MT200206,       ar04,     383,          1,         14,     -999.0,9,20020626,       1154,    16.2382,   -59.7823,       4992,  1996.1,   3.6298,  34.9789,2,-999.0000,9,   262.8,2,   0.421,2,   0.216,2,     3.4681,      0.001,      0.001
 06MT200206,       ar04,     383,          1,         13,     -999.0,9,20020626,       1154,    16.2382,   -59.7823,       4992,  2123.8,   3.4590,  34.9733,2,-999.0000,9,  -999.0,9,   0.344,2,   0.177,2,     3.2877,      0.001,      0.001
 06MT200206,       ar04,     383,          1,         12,     -999.0,9,20020626,       1154,    16.2382,   -59.7823,       4992,  2285.6,   3.2855,  34.9653,2,-999.0000,9,  -999.0,9,   0.249,2,   0.134,2,     3.1014,      0.001,      0.001
 06MT200206,       ar04,     383,          1,         11,     -999.0,9,20020626,       1154,    16.2382,   -59.7823,       4992,  2499.0,   3.1003,  34.9546,2,  34.9538,2,  -999.0,9,-999.000,9,-999.000,9,     2.8986,     -999.0,     -999.0
 06MT200206,       ar04,     383,          1,         10,     -999.0,9,20020626,       1154,    16.2382,   -59.7823,       4992,  2807.1,   2.8559,  34.9389,2,-999.0000,9,  -999.0,9,   0.320,2,   0.167,2,     2.6281,      0.001,      0.001
 06MT200206,       ar04,     383,          1,          9,     -999.0,9,20020626,       1154,    16.2382,   -59.7823,       4992,  3111.2,   2.6332,  34.9237,2,-999.0000,9,  -999.0,9,-999.000,9,-999.000,9,     2.3789,     -999.0,     -999.0
 06MT200206,       ar04,     383,          1,          8,     -999.0,9,20020626,       1154,    16.2382,   -59.7823,       4992,  3407.6,   2.4605,  34.9127,2,  34.9103,2,  -999.0,9,   0.442,2,   0.230,2,     2.1790,      0.001,      0.001
 06MT200206,       ar04,     383,          1,          7,     -999.0,9,20020626,       1154,    16.2382,   -59.7823,       4992,  3608.5,   2.3805,  34.9062,2,-999.0000,9,  -999.0,9,   0.464,2,   0.238,2,     2.0793,      0.001,      0.001
 06MT200206,       ar04,     383,          1,          6,     -999.0,9,20020626,       1154,    16.2382,   -59.7823,       4992,  3897.1,   2.3149,  34.8992,2,-999.0000,9,   269.9,2,   0.417,2,   0.218,2,     1.9835,      0.001,      0.001
 06MT200206,       ar04,     383,          1,          5,     -999.0,9,20020626,       1154,    16.2382,   -59.7823,       4992,  4101.1,   2.2914,  34.8963,2,-999.0000,9,  -999.0,9,   0.433,2,   0.225,2,     1.9374,      0.001,      0.001
 06MT200206,       ar04,     383,          1,          4,     -999.0,9,20020626,       1154,    16.2382,   -59.7823,       4992,  4399.0,   2.2694,  34.8915,2,  34.8912,2,  -999.0,9,   0.361,2,   0.191,2,     1.8813,      0.001,      0.001
 06MT200206,       ar04,     383,          1,          3,     -999.0,9,20020626,       1154,    16.2382,   -59.7823,       4992,  4597.5,   2.2562,  34.8871,2,-999.0000,9,  -999.0,9,   0.299,2,   0.164,2,     1.8447,      0.001,      0.001
 06MT200206,       ar04,     383,          1,          2,     -999.0,9,20020626,       1154,    16.2382,   -59.7823,       4992,  4801.0,   2.1965,  34.8774,2,-999.0000,9,   262.0,2,   0.208,2,   0.117,2,     1.7621,      0.001,      0.001
 06MT200206,       ar04,     383,          1,          1,     -999.0,9,20020626,       1154,    16.2382,   -59.7823,       4992,  4990.6,   2.1766,  34.8713,2,  34.8755,2,   260.9,2,   0.186,2,   0.107,2,     1.7194,      0.001,      0.001
 06MT200206,       ar04,     385,          1,         21,     -999.0,9,20020626,       2252,    16.2708,   -60.2740,       4939,    30.2,  27.8311,  35.3666,2,  34.9239,2,  -999.0,9,   1.584,2,   0.994,2,    27.8240,      0.005,      0.005
 06MT200206,       ar04,     385,          1,         20,     -999.0,9,20020626,       2252,    16.2708,   -60.2740,       4939,   811.6,   7.1375,  34.8692,2,-999.0000,9,   129.8,2,   0.189,2,   0.108,2,     7.0574,      0.001,      0.001
 06MT200206,       ar04,     385,          1,         19,     -999.0,9,20020626,       2252,    16.2708,   -60.2740,       4939,   997.4,   5.6588,  34.8513,2,-999.0000,9,  -999.0,9,   0.087,2,   0.046,2,     5.5702,      0.000,      0.000
 06MT200206,       ar04,     385,          1,         18,     -999.0,9,20020626,       2252,    16.2708,   -60.2740,       4939,  1194.3,   5.4588,  35.0306,2,  35.0297,2,   208.8,2,   0.441,2,   0.229,2,     5.3525,      0.001,      0.001
 06MT200206,       ar04,     385,          1,         17,     -999.0,9,20020626,       2252,    16.2708,   -60.2740,       4939,  1394.2,   4.6729,  35.0297,2,-999.0000,9,  -999.0,9,   0.891,4,   0.450,4,     4.5551,      0.003,      0.002
 06MT200206,       ar04,     385,          1,         16,     -999.0,9,20020626,       2252,    16.2708,   -60.2740,       4939,  1549.4,   4.2254,  35.0020,2,-999.0000,9,  -999.0,9,   1.016,2,   0.507,2,     4.0980,      0.003,      0.003
 06MT200206,       ar04,     385,          1,         15,     -999.0,9,20020626,       2252,    16.2708,   -60.2740,       4939,  1683.2,   3.9467,  34.9839,2,-999.0000,9,  -999.0,9,   1.012,2,   0.497,2,     3.8102,      0.003,      0.003
 06MT200206,       ar04,     385,          1,         14,     -999.0,9,20020626,       2252,    16.2708,   -60.2740,       4939,  1899.3,   3.6793,  34.9745,2,-999.0000,9,   265.8,2,   0.747,2,   0.383,2,     3.5261,      0.002,      0.002
 06MT200206,       ar04,     385,          1,         13,     -999.0,9,20020626,       2252,    16.2708,   -60.2740,       4939,  2098.9,   3.4827,  34.9690,2,-999.0000,9,  -999.0,9,   0.556,2,   0.286,2,     3.3134,      0.002,      0.002
 06MT200206,       ar04,     385,          1,         12,     -999.0,9,20020626,       2252,    16.2708,   -60.2740,       4939,  2356.1,   3.2180,  34.9598,2,  34.9587,2,  -999.0,9,   0.399,2,   0.207,2,     3.0282,      0.001,      0.001
 06MT200206,       ar04,     385,          1,         11,     -999.0,9,20020626,       2252,    16.2708,   -60.2740,       4939,  2499.7,   3.0752,  34.9519,2,-999.0000,9,   266.8,2,   0.384,2,   0.199,2,     2.8739,      0.001,      0.001
 06MT200206,       ar04,     385,          1,         10,     -999.0,9,20020626,       2252,    16.2708,   -60.2740,       4939,  2799.6,   2.8294,  34.9363,2,  34.9355,2,  -999.0,9,   0.426,2,   0.220,2,     2.6029,      0.001,      0.001
 06MT200206,       ar04,     385,          1,          9,     -999.0,9,20020626,       2252,    16.2708,   -60.2740,       4939,  3098.8,   2.5905,  34.9211,2,-999.0000,9,  -999.0,9,   0.502,2,   0.255,2,     2.3385,      0.002,      0.001
 06MT200206,       ar04,     385,          1,          8,     -999.0,9,20020626,       2252,    16.2708,   -60.2740,       4939,  3397.7,   2.4307,  34.9110,2,  34.9103,2,   271.2,2,   0.489,2,   0.254,2,     2.1510,      0.002,      0.001
 06MT200206,       ar04,     385,          1,          7,     -999.0,9,20020626,       2252,    16.2708,   -60.2740,       4939,  3598.5,   2.3656,  34.9046,2,-999.0000,9,  -999.0,9,   0.528,2,   0.268,2,     2.0659,      0.002,      0.001
 06MT200206,       ar04,     385,          1,          6,     -999.0,9,20020626,       2252,    16.2708,   -60.2740,       4939,  3798.6,   2.3251,  34.9012,2,  34.9046,2,  -999.0,9,   0.520,2,   0.264,2,     2.0044,      0.002,      0.001
 06MT200206,       ar04,     385,          1,          5,     -999.0,9,20020626,       2252,    16.2708,   -60.2740,       4939,  4000.5,   2.3066,  34.8983,2,-999.0000,9,   276.0,2,   0.439,2,   0.224,2,     1.9637,      0.001,      0.001
 06MT200206,       ar04,     385,          1,          4,     -999.0,9,20020626,       2252,    16.2708,   -60.2740,       4939,  4297.3,   2.2909,  34.8940,2,  34.8943,2,  -999.0,9,   0.429,2,   0.225,2,     1.9141,      0.001,      0.001
 06MT200206,       ar04,     385,          1,          3,     -999.0,9,20020626,       2252,    16.2708,   -60.2740,       4939,  4548.2,   2.2855,  34.8908,2,-999.0000,9,  -999.0,9,   0.390,2,   0.202,2,     1.8790,      0.001,      0.001
 06MT200206,       ar04,     385,          1,          2,     -999.0,9,20020626,       2252,    16.2708,   -60.2740,       4939,  4700.2,   2.2737,  34.8874,2,-999.0000,9,   268.0,2,   0.336,2,   0.179,2,     1.8492,      0.001,      0.001
 06MT200206,       ar04,     385,          1,          1,     -999.0,9,20020626,       2252,    16.2708,   -60.2740,       4939,  4938.8,   2.2819,  34.8853,2,  34.8845,2,   266.7,2,   0.316,2,   0.165,2,     1.8276,      0.001,      0.001
 06MT200206,       ar04,     386,          1,         14,     -999.0,9,20020627,       0300,    16.3128,   -60.5250,       4772,  1000.4,   5.7901,  34.8941,2,-999.0000,9,   170.9,4,   0.203,2,   0.109,2,     5.7002,      0.001,      0.001
 06MT200206,       ar04,     386,          1,         13,     -999.0,9,20020627,       0300,    16.3128,   -60.5250,       4772,  1205.3,   4.9997,  35.0225,2,-999.0000,9,  -999.0,9,   0.604,2,   0.314,2,     4.8965,      0.002,      0.002
 06MT200206,       ar04,     386,          1,         12,     -999.0,9,20020627,       0300,    16.3128,   -60.5250,       4772,  1402.0,   4.4701,  35.0105,2,-999.0000,9,  -999.0,9,   0.825,2,   0.422,2,     4.3537,      0.003,      0.002
 06MT200206,       ar04,     386,          1,         11,     -999.0,9,20020627,       0300,    16.3128,   -60.5250,       4772,  1611.2,   4.0894,  34.9917,2,-999.0000,9,  -999.0,9,   0.943,2,   0.477,2,     3.9578,      0.003,      0.003
 06MT200206,       ar04,     386,          1,         10,     -999.0,9,20020627,       0300,    16.3128,   -60.5250,       4772,  1808.3,   3.8739,  34.9809,2,-999.0000,9,  -999.0,9,   0.916,2,   0.462,2,     3.7266,      0.003,      0.002
 06MT200206,       ar04,     386,          1,          9,     -999.0,9,20020627,       0300,    16.3128,   -60.5250,       4772,  2000.6,   3.6208,  34.9718,2,-999.0000,9,   265.6,6,   0.717,2,   0.368,2,     3.4588,      0.002,      0.002
 06MT200206,       ar04,     386,          1,          8,     -999.0,9,20020627,       0300,    16.3128,   -60.5250,       4772,  2264.7,   3.4025,  34.9649,2,-999.0000,9,  -999.0,9,   0.541,2,   0.281,2,     3.2185,      0.002,      0.001
 06MT200206,       ar04,     386,          1,          7,     -999.0,9,20020627,       0300,    16.3128,   -60.5250,       4772,  2502.9,   3.1781,  34.9553,2,-999.0000,9,  -999.0,9,   0.415,2,   0.215,2,     2.9746,      0.001,      0.001
 06MT200206,       ar04,     386,          1,          6,     -999.0,9,20020627,       0300,    16.3128,   -60.5250,       4772,  2902.6,   2.8051,  34.9308,2,-999.0000,9,  -999.0,9,   0.414,2,   0.212,2,     2.5686,      0.001,      0.001
 06MT200206,       ar04,     386,          1,          5,     -999.0,9,20020627,       0300,    16.3128,   -60.5250,       4772,  3195.5,   2.6180,  34.9220,2,-999.0000,9,  -999.0,9,   0.474,2,   0.241,2,     2.3553,      0.001,      0.001
 06MT200206,       ar04,     386,          1,          4,     -999.0,9,20020627,       0300,    16.3128,   -60.5250,       4772,  3482.1,   2.4485,  34.9107,2,-999.0000,9,  -999.0,9,   0.530,2,   0.270,2,     2.1593,      0.002,      0.001
 06MT200206,       ar04,     386,          1,          3,     -999.0,9,20020627,       0300,    16.3128,   -60.5250,       4772,  3760.2,   2.3867,  34.9043,2,  34.9044,2,  -999.0,9,   0.512,2,   0.266,2,     2.0686,      0.002,      0.001
 06MT200206,       ar04,     386,          1,          2,     -999.0,9,20020627,       0300,    16.3128,   -60.5250,       4772,  3999.4,   2.3415,  34.9005,2,-999.0000,9,  -999.0,9,   0.497,2,   0.257,2,     1.9977,      0.002,      0.001
 06MT200206,       ar04,     386,          1,          1,     -999.0,9,20020627,       0300,    16.3128,   -60.5250,       4772,  4771.3,   2.3386,  34.8932,2,  34.8938,2,  -999.0,9,   0.408,2,   0.219,2,     1.9032,      0.001,      0.001