BOTTLE,20220810CCHSIOAMB
EXPOCODE,SECT_ID,STNNBR,CASTNO,SAMPNO,BTLNBR,BTLNBR_FLAG_W,DATE,TIME,LATITUDE,LONGITUDE,DEPTH,CTDPRS,CTDTMP,CTDSAL,CTDSAL_FLAG_W,SALNTY,SALNTY_FLAG_W,OXYGEN,OXYGEN_FLAG_W,CFC-11,CFC-11_FLAG_W,CFC-12,CFC-12_FLAG_W,THETA,CF11ER,CF12ER
,,,,,,,,,,,METERS,DBAR,ITS-90,PSS-78,,PSS-78,,UMOL/KG,,PMOL/KG,,PMOL/KG,,ITS-90,PMOL/KG,PMOL/KG
 06MT200206,       ar04,     336,          1,         21,     -999.0,9,20020610,       1603,    -0.0027,   -39.9978,       3487,    12.5,  27.9173,  36.1404,2,  36.1260,2,   204.6,2,   1.545,2,   0.989,2,    27.9144,      0.007,      0.004
 06MT200206,       ar04,     336,          1,         20,     -999.0,9,20020610,       1603,    -0.0027,   -39.9978,       3487,    57.1,  25.2330,  36.4306,2,-999.0000,9,   199.2,2,-999.000,9,-999.000,9,    25.2205,     -999.0,     -999.0
 06MT200206,       ar04,     336,          1,         19,     -999.0,9,20020610,       1603,    -0.0027,   -39.9978,       3487,   102.4,  17.3902,  35.8881,2,-999.0000,9,   170.4,6,-999.000,9,-999.000,9,    17.3730,     -999.0,     -999.0
 06MT200206,       ar04,     336,          1,         18,     -999.0,9,20020610,       1603,    -0.0027,   -39.9978,       3487,   211.8,  12.6383,  35.1799,2,-999.0000,9,   170.2,2,-999.000,9,-999.000,9,    12.6096,     -999.0,     -999.0
 06MT200206,       ar04,     336,          1,         17,     -999.0,9,20020610,       1603,    -0.0027,   -39.9978,       3487,   413.6,   7.6420,  34.6551,2,-999.0000,9,   141.8,2,-999.000,9,-999.000,9,     7.6009,     -999.0,     -999.0
 06MT200206,       ar04,     336,          1,         16,     -999.0,9,20020610,       1603,    -0.0027,   -39.9978,       3487,   600.2,   5.9575,  34.5365,2,-999.0000,9,   141.9,2,-999.000,9,-999.000,9,     5.9048,     -999.0,     -999.0
 06MT200206,       ar04,     336,          1,         15,     -999.0,9,20020610,       1603,    -0.0027,   -39.9978,       3487,   794.9,   4.7740,  34.4953,2,  34.5036,2,   158.2,2,   0.197,2,   0.111,2,     4.7103,      0.001,      0.000
 06MT200206,       ar04,     336,          1,         14,     -999.0,9,20020610,       1603,    -0.0027,   -39.9978,       3487,   999.8,   4.5610,  34.6256,2,-999.0000,9,   158.0,2,   0.035,2,   0.022,2,     4.4809,      0.000,      0.000
 06MT200206,       ar04,     336,          1,         13,     -999.0,9,20020610,       1603,    -0.0027,   -39.9978,       3487,  1100.9,   4.6275,  34.6955,2,-999.0000,9,  -999.0,9,   0.038,2,   0.021,2,     4.5378,      0.000,      0.000
 06MT200206,       ar04,     336,          1,         12,     -999.0,9,20020610,       1603,    -0.0027,   -39.9978,       3487,  1297.8,   4.5878,  34.9029,2,-999.0000,9,  -999.0,9,   0.102,2,   0.054,2,     4.4801,      0.000,      0.000
 06MT200206,       ar04,     336,          1,         11,     -999.0,9,20020610,       1603,    -0.0027,   -39.9978,       3487,  1447.2,   4.3780,  34.9686,2,  34.9691,2,  -999.0,9,   0.233,2,   0.122,2,     4.2585,      0.001,      0.001
 06MT200206,       ar04,     336,          1,         10,     -999.0,9,20020610,       1603,    -0.0027,   -39.9978,       3487,  1597.6,   4.2655,  34.9926,2,-999.0000,9,   244.3,6,   0.441,2,   0.226,2,     4.1331,      0.002,      0.001
 06MT200206,       ar04,     336,          1,          9,     -999.0,9,20020610,       1603,    -0.0027,   -39.9978,       3487,  1748.5,   3.8264,  34.9849,2,-999.0000,9,  -999.0,9,   0.406,2,   0.210,2,     3.6853,      0.002,      0.001
 06MT200206,       ar04,     336,          1,          8,     -999.0,9,20020610,       1603,    -0.0027,   -39.9978,       3487,  1899.4,   3.6994,  34.9803,2,-999.0000,9,  -999.0,9,   0.327,2,   0.173,2,     3.5459,      0.001,      0.001
 06MT200206,       ar04,     336,          1,          7,     -999.0,9,20020610,       1603,    -0.0027,   -39.9978,       3487,  2098.0,   3.5216,  34.9705,2,  34.9679,2,  -999.0,9,   0.148,2,   0.081,2,     3.3518,      0.001,      0.000
 06MT200206,       ar04,     336,          1,          6,     -999.0,9,20020610,       1603,    -0.0027,   -39.9978,       3487,  2297.4,   3.3027,  34.9640,2,-999.0000,9,   261.8,2,   0.219,2,   0.115,2,     3.1172,      0.001,      0.000
 06MT200206,       ar04,     336,          1,          5,     -999.0,9,20020610,       1603,    -0.0027,   -39.9978,       3487,  2499.4,   3.1166,  34.9547,2,-999.0000,9,  -999.0,9,   0.181,2,   0.093,2,     2.9145,      0.001,      0.000
 06MT200206,       ar04,     336,          1,          4,     -999.0,9,20020610,       1603,    -0.0027,   -39.9978,       3487,  2797.6,   2.9018,  34.9414,2,-999.0000,9,  -999.0,9,   0.145,2,   0.075,2,     2.6740,      0.001,      0.000
 06MT200206,       ar04,     336,          1,          3,     -999.0,9,20020610,       1603,    -0.0027,   -39.9978,       3487,  3099.0,   2.6534,  34.9244,2,  34.9237,2,  -999.0,9,   0.159,2,   0.082,2,     2.3999,      0.001,      0.000
 06MT200206,       ar04,     336,          1,          2,     -999.0,9,20020610,       1603,    -0.0027,   -39.9978,       3487,  3359.6,   2.5854,  34.9194,2,-999.0000,9,  -999.0,9,   0.187,2,   0.096,2,     2.3060,      0.001,      0.000
 06MT200206,       ar04,     336,          1,          1,     -999.0,9,20020610,       1603,    -0.0027,   -39.9978,       3487,  3467.2,   2.5209,  34.9150,2,  34.9128,2,   264.4,2,   0.203,2,   0.110,2,     2.2315,      0.001,      0.000
 06MT200206,       ar04,     337,          1,         21,     -999.0,9,20020610,       2032,     0.4133,   -39.9995,       3280,    10.1,  27.8527,  36.1042,2,  36.1100,2,   204.8,2,   1.566,2,   0.993,2,    27.8503,      0.007,      0.004
 06MT200206,       ar04,     337,          1,         20,     -999.0,9,20020610,       2032,     0.4133,   -39.9995,       3280,    43.0,  27.1905,  36.1301,2,-999.0000,9,   204.5,2,-999.000,9,-999.000,9,    27.1806,     -999.0,     -999.0
 06MT200206,       ar04,     337,          1,         19,     -999.0,9,20020610,       2032,     0.4133,   -39.9995,       3280,    95.8,  17.4462,  35.9207,2,-999.0000,9,   174.8,2,-999.000,9,-999.000,9,    17.4300,     -999.0,     -999.0
 06MT200206,       ar04,     337,          1,         18,     -999.0,9,20020610,       2032,     0.4133,   -39.9995,       3280,   202.1,  11.3684,  35.0218,2,-999.0000,9,   170.0,2,-999.000,9,-999.000,9,    11.3429,     -999.0,     -999.0
 06MT200206,       ar04,     337,          1,         17,     -999.0,9,20020610,       2032,     0.4133,   -39.9995,       3280,   301.9,   9.7077,  34.8177,2,-999.0000,9,   155.8,6,-999.000,9,-999.000,9,     9.6732,     -999.0,     -999.0
 06MT200206,       ar04,     337,          1,         16,     -999.0,9,20020610,       2032,     0.4133,   -39.9995,       3280,   403.4,   7.7306,  34.6610,2,-999.0000,9,   142.6,2,-999.000,9,-999.000,9,     7.6902,     -999.0,     -999.0
 06MT200206,       ar04,     337,          1,         15,     -999.0,9,20020610,       2032,     0.4133,   -39.9995,       3280,   609.5,   5.9822,  34.5381,2,  34.5327,2,   144.0,2,-999.000,9,-999.000,9,     5.9285,     -999.0,     -999.0
 06MT200206,       ar04,     337,          1,         14,     -999.0,9,20020610,       2032,     0.4133,   -39.9995,       3280,   798.1,   4.7577,  34.5250,2,-999.0000,9,   154.3,2,-999.000,9,-999.000,9,     4.6938,     -999.0,     -999.0
 06MT200206,       ar04,     337,          1,         13,     -999.0,9,20020610,       2032,     0.4133,   -39.9995,       3280,  1107.7,   4.6666,  34.7401,2,-999.0000,9,  -999.0,9,   0.038,2,   0.021,2,     4.5758,      0.000,      0.000
 06MT200206,       ar04,     337,          1,         12,     -999.0,9,20020610,       2032,     0.4133,   -39.9995,       3280,  1299.7,   4.5401,  34.9271,2,  34.9292,2,  -999.0,9,   0.134,2,   0.070,2,     4.4326,      0.001,      0.000
 06MT200206,       ar04,     337,          1,         11,     -999.0,9,20020610,       2032,     0.4133,   -39.9995,       3280,  1499.0,   4.3610,  34.9824,2,-999.0000,9,  -999.0,9,   0.330,2,   0.175,2,     4.2368,      0.001,      0.001
 06MT200206,       ar04,     337,          1,         10,     -999.0,9,20020610,       2032,     0.4133,   -39.9995,       3280,  1597.7,   4.2678,  34.9879,2,-999.0000,9,   242.1,2,   0.395,2,   0.213,2,     4.1354,      0.002,      0.001
 06MT200206,       ar04,     337,          1,          9,     -999.0,9,20020610,       2032,     0.4133,   -39.9995,       3280,  1748.4,   3.8259,  34.9844,2,-999.0000,9,   255.3,6,   0.371,2,   0.194,2,     3.6849,      0.002,      0.001
 06MT200206,       ar04,     337,          1,          8,     -999.0,9,20020610,       2032,     0.4133,   -39.9995,       3280,  1903.9,   3.6915,  34.9800,2,  34.9803,2,  -999.0,9,   0.341,2,   0.178,2,     3.5377,      0.001,      0.001
 06MT200206,       ar04,     337,          1,          7,     -999.0,9,20020610,       2032,     0.4133,   -39.9995,       3280,  2098.3,   3.4834,  34.9687,2,-999.0000,9,  -999.0,9,   0.148,2,   0.080,2,     3.3142,      0.001,      0.000
 06MT200206,       ar04,     337,          1,          6,     -999.0,9,20020610,       2032,     0.4133,   -39.9995,       3280,  2297.7,   3.2506,  34.9617,2,  34.9642,2,  -999.0,9,   0.195,2,   0.106,2,     3.0659,      0.001,      0.000
 06MT200206,       ar04,     337,          1,          5,     -999.0,9,20020610,       2032,     0.4133,   -39.9995,       3280,  2453.1,   3.1537,  34.9569,2,-999.0000,9,  -999.0,9,   0.192,2,   0.099,2,     2.9555,      0.001,      0.000
 06MT200206,       ar04,     337,          1,          4,     -999.0,9,20020610,       2032,     0.4133,   -39.9995,       3280,  2649.1,   2.9103,  34.9427,2,-999.0000,9,   259.5,2,   0.142,2,   0.074,2,     2.6973,      0.001,      0.000
 06MT200206,       ar04,     337,          1,          3,     -999.0,9,20020610,       2032,     0.4133,   -39.9995,       3280,  2908.7,   2.7927,  34.9331,2,-999.0000,9,  -999.0,9,   0.148,2,   0.076,2,     2.5559,      0.001,      0.000
 06MT200206,       ar04,     337,          1,          2,     -999.0,9,20020610,       2032,     0.4133,   -39.9995,       3280,  3123.4,   2.6060,  34.9167,2,  34.9209,2,  -999.0,9,   0.174,2,   0.090,2,     2.3511,      0.001,      0.000
 06MT200206,       ar04,     337,          1,          1,     -999.0,9,20020610,       2032,     0.4133,   -39.9995,       3280,  3279.3,   2.5209,  34.9156,2,-999.0000,9,   264.3,2,   0.195,2,   0.104,2,     2.2516,      0.001,      0.000
 06MT200206,       ar04,     338,          1,         21,     -999.0,9,20020611,       0056,     0.8357,   -40.0002,       4465,    40.9,  27.9110,  36.0585,2,  36.0188,2,   207.6,2,   1.490,2,   0.991,2,    27.9014,      0.006,      0.004
 06MT200206,       ar04,     338,          1,         20,     -999.0,9,20020611,       0056,     0.8357,   -40.0002,       4465,    96.5,  18.3279,  36.0165,2,-999.0000,9,   184.3,2,   2.049,2,   1.198,2,    18.3110,      0.009,      0.005
 06MT200206,       ar04,     338,          1,         19,     -999.0,9,20020611,       0056,     0.8357,   -40.0002,       4465,   402.0,   7.8215,  34.6672,2,-999.0000,9,   149.2,2,   1.097,2,   0.565,2,     7.7810,      0.005,      0.002
 06MT200206,       ar04,     338,          1,         18,     -999.0,9,20020611,       0056,     0.8357,   -40.0002,       4465,   802.5,   4.8513,  34.5193,2,  34.5217,2,   154.0,6,   0.156,2,   0.083,2,     4.7865,      0.001,      0.000
 06MT200206,       ar04,     338,          1,         17,     -999.0,9,20020611,       0056,     0.8357,   -40.0002,       4465,   998.2,   4.5586,  34.6242,2,  34.6248,2,   159.5,2,   0.037,2,   0.020,2,     4.4786,      0.000,      0.000
 06MT200206,       ar04,     338,          1,         16,     -999.0,9,20020611,       0056,     0.8357,   -40.0002,       4465,  1195.7,   4.7213,  34.8524,2,-999.0000,9,  -999.0,9,   0.100,2,   0.053,2,     4.6218,      0.000,      0.000
 06MT200206,       ar04,     338,          1,         15,     -999.0,9,20020611,       0056,     0.8357,   -40.0002,       4465,  1399.0,   4.4941,  34.9381,2,-999.0000,9,  -999.0,9,   0.142,2,   0.076,2,     4.3779,      0.001,      0.000
 06MT200206,       ar04,     338,          1,         14,     -999.0,9,20020611,       0056,     0.8357,   -40.0002,       4465,  1592.2,   4.2257,  34.9874,2,  34.9882,2,   243.4,2,   0.377,2,   0.196,2,     4.0943,      0.002,      0.001
 06MT200206,       ar04,     338,          1,         13,     -999.0,9,20020611,       0056,     0.8357,   -40.0002,       4465,  1749.0,   3.8499,  34.9852,2,-999.0000,9,   255.9,2,   0.367,2,   0.192,2,     3.7085,      0.002,      0.001
 06MT200206,       ar04,     338,          1,         12,     -999.0,9,20020611,       0056,     0.8357,   -40.0002,       4465,  1878.9,   3.7697,  34.9823,2,-999.0000,9,  -999.0,9,   0.338,2,   0.178,2,     3.6171,      0.001,      0.001
 06MT200206,       ar04,     338,          1,         11,     -999.0,9,20020611,       0056,     0.8357,   -40.0002,       4465,  2088.6,   3.4599,  34.9688,2,-999.0000,9,  -999.0,9,   0.185,2,   0.096,2,     3.2920,      0.001,      0.000
 06MT200206,       ar04,     338,          1,         10,     -999.0,9,20020611,       0056,     0.8357,   -40.0002,       4465,  2298.8,   3.2536,  34.9624,2,-999.0000,9,  -999.0,9,   0.212,2,   0.110,2,     3.0688,      0.001,      0.000
 06MT200206,       ar04,     338,          1,          9,     -999.0,9,20020611,       0056,     0.8357,   -40.0002,       4465,  2507.7,   3.1693,  34.9572,2,  34.9555,2,   262.3,6,   0.183,2,   0.095,2,     2.9654,      0.001,      0.000
 06MT200206,       ar04,     338,          1,          8,     -999.0,9,20020611,       0056,     0.8357,   -40.0002,       4465,  2604.1,   3.1119,  34.9534,2,-999.0000,9,  -999.0,9,   0.153,2,   0.079,2,     2.8995,      0.001,      0.000
 06MT200206,       ar04,     338,          1,          7,     -999.0,9,20020611,       0056,     0.8357,   -40.0002,       4465,  3020.7,   2.7402,  34.9306,2,-999.0000,9,  -999.0,9,   0.148,2,   0.076,2,     2.4929,      0.001,      0.000
 06MT200206,       ar04,     338,          1,          6,     -999.0,9,20020611,       0056,     0.8357,   -40.0002,       4465,  3277.4,   2.6085,  34.9217,2,-999.0000,9,  -999.0,9,   0.177,2,   0.093,2,     2.3373,      0.001,      0.000
 06MT200206,       ar04,     338,          1,          5,     -999.0,9,20020611,       0056,     0.8357,   -40.0002,       4465,  3510.9,   2.5090,  34.9136,2,-999.0000,9,  -999.0,9,   0.210,2,   0.110,2,     2.2152,      0.001,      0.000
 06MT200206,       ar04,     338,          1,          4,     -999.0,9,20020611,       0056,     0.8357,   -40.0002,       4465,  3642.1,   2.4518,  34.9083,2,-999.0000,9,   265.4,2,   0.221,2,   0.115,2,     2.1451,      0.001,      0.000
 06MT200206,       ar04,     338,          1,          3,     -999.0,9,20020611,       0056,     0.8357,   -40.0002,       4465,  3898.9,   2.2955,  34.8975,2,  34.8969,2,   266.3,2,   0.235,2,   0.125,2,     1.9644,      0.001,      0.001
 06MT200206,       ar04,     338,          1,          2,     -999.0,9,20020611,       0056,     0.8357,   -40.0002,       4465,  4201.8,   2.1457,  34.8781,2,  34.8786,2,  -999.0,9,   0.174,2,   0.095,2,     1.7844,      0.001,      0.000
 06MT200206,       ar04,     338,          1,          1,     -999.0,9,20020611,       0056,     0.8357,   -40.0002,       4465,  4464.2,   1.2174,  34.7677,2,  34.7665,2,   234.1,2,-999.000,9,-999.000,9,     0.8547,     -999.0,     -999.0