BOTTLE,20220810CCHSIOAMB
EXPOCODE,SECT_ID,STNNBR,CASTNO,SAMPNO,BTLNBR,BTLNBR_FLAG_W,DATE,TIME,LATITUDE,LONGITUDE,DEPTH,CTDPRS,CTDTMP,CTDSAL,CTDSAL_FLAG_W,SALNTY,SALNTY_FLAG_W,OXYGEN,OXYGEN_FLAG_W,CFC-11,CFC-11_FLAG_W,CFC-12,CFC-12_FLAG_W,THETA,CF11ER,CF12ER
,,,,,,,,,,,METERS,DBAR,ITS-90,PSS-78,,PSS-78,,UMOL/KG,,PMOL/KG,,PMOL/KG,,ITS-90,PMOL/KG,PMOL/KG
 06MT200206,       ar04,     342,          1,         21,     -999.0,9,20020611,       2208,     2.5003,   -40.0058,       4500,     7.9,  28.1652,  35.6098,2,  35.6398,2,   209.0,2,   1.593,2,   0.982,2,    28.1633,      0.007,      0.004
 06MT200206,       ar04,     342,          1,         20,     -999.0,9,20020611,       2208,     2.5003,   -40.0058,       4500,   105.7,  17.0341,  35.7091,2,-999.0000,9,   145.7,2,-999.000,9,-999.000,9,    17.0166,     -999.0,     -999.0
 06MT200206,       ar04,     342,          1,         19,     -999.0,9,20020611,       2208,     2.5003,   -40.0058,       4500,   525.1,   6.8061,  34.5959,2,-999.0000,9,   137.4,2,-999.000,9,-999.000,9,     6.7568,     -999.0,     -999.0
 06MT200206,       ar04,     342,          1,         18,     -999.0,9,20020611,       2208,     2.5003,   -40.0058,       4500,   998.2,   4.5700,  34.6042,2,  34.6115,3,   157.6,2,   0.038,2,   0.021,2,     4.4900,      0.000,      0.000
 06MT200206,       ar04,     342,          1,         17,     -999.0,9,20020611,       2208,     2.5003,   -40.0058,       4500,  1202.7,   4.7241,  34.7711,2,-999.0000,9,   173.4,6,   0.060,2,   0.032,2,     4.6241,      0.000,      0.000
 06MT200206,       ar04,     342,          1,         16,     -999.0,9,20020611,       2208,     2.5003,   -40.0058,       4500,  1403.6,   4.6172,  34.9607,2,-999.0000,9,  -999.0,9,   0.247,2,   0.128,2,     4.4992,      0.001,      0.001
 06MT200206,       ar04,     342,          1,         15,     -999.0,9,20020611,       2208,     2.5003,   -40.0058,       4500,  1548.4,   4.4079,  34.9845,2,  34.9837,2,   234.4,2,   0.346,2,   0.180,2,     4.2785,      0.001,      0.001
 06MT200206,       ar04,     342,          1,         14,     -999.0,9,20020611,       2208,     2.5003,   -40.0058,       4500,  1694.1,   4.0398,  34.9886,2,-999.0000,9,   250.2,2,   0.394,2,   0.201,2,     3.9011,      0.002,      0.001
 06MT200206,       ar04,     342,          1,         13,     -999.0,9,20020611,       2208,     2.5003,   -40.0058,       4500,  1848.4,   3.8523,  34.9836,2,-999.0000,9,  -999.0,9,-999.000,9,-999.000,9,     3.7015,     -999.0,     -999.0
 06MT200206,       ar04,     342,          1,         12,     -999.0,9,20020611,       2208,     2.5003,   -40.0058,       4500,  1998.2,   3.5834,  34.9764,2,-999.0000,9,  -999.0,9,   0.197,3,   0.116,2,     3.4222,      0.001,      0.000
 06MT200206,       ar04,     342,          1,         11,     -999.0,9,20020611,       2208,     2.5003,   -40.0058,       4500,  2148.0,   3.4463,  34.9693,2,-999.0000,9,  -999.0,9,   0.194,2,   0.102,2,     3.2729,      0.001,      0.000
 06MT200206,       ar04,     342,          1,         10,     -999.0,9,20020611,       2208,     2.5003,   -40.0058,       4500,  2298.7,   3.3266,  34.9647,2,-999.0000,9,  -999.0,9,-999.000,9,-999.000,9,     3.1405,     -999.0,     -999.0
 06MT200206,       ar04,     342,          1,          9,     -999.0,9,20020611,       2208,     2.5003,   -40.0058,       4500,  2503.1,   3.1089,  34.9530,2,  34.9498,2,  -999.0,9,   0.035,3,   0.027,2,     2.9066,      0.000,      0.000
 06MT200206,       ar04,     342,          1,          8,     -999.0,9,20020611,       2208,     2.5003,   -40.0058,       4500,  2806.9,   2.9017,  34.9378,2,-999.0000,9,   256.1,2,-999.000,9,-999.000,9,     2.6730,     -999.0,     -999.0
 06MT200206,       ar04,     342,          1,          7,     -999.0,9,20020611,       2208,     2.5003,   -40.0058,       4500,  3097.1,   2.7078,  34.9252,2,-999.0000,9,  -999.0,9,   0.074,2,   0.039,2,     2.4533,      0.000,      0.000
 06MT200206,       ar04,     342,          1,          6,     -999.0,9,20020611,       2208,     2.5003,   -40.0058,       4500,  3397.5,   2.5615,  34.9166,2,-999.0000,9,  -999.0,9,   0.124,2,   0.066,2,     2.2786,      0.001,      0.000
 06MT200206,       ar04,     342,          1,          5,     -999.0,9,20020611,       2208,     2.5003,   -40.0058,       4500,  3650.2,   2.4767,  34.9101,2,-999.0000,9,   264.4,2,   0.206,2,   0.102,2,     2.1684,      0.001,      0.000
 06MT200206,       ar04,     342,          1,          4,     -999.0,9,20020611,       2208,     2.5003,   -40.0058,       4500,  3798.2,   2.3689,  34.9024,2,-999.0000,9,   265.9,6,   0.195,2,   0.099,2,     2.0471,      0.001,      0.000
 06MT200206,       ar04,     342,          1,          3,     -999.0,9,20020611,       2208,     2.5003,   -40.0058,       4500,  3998.9,   2.3017,  34.8965,2,-999.0000,9,  -999.0,9,   0.213,2,   0.112,2,     1.9591,      0.001,      0.000
 06MT200206,       ar04,     342,          1,          2,     -999.0,9,20020611,       2208,     2.5003,   -40.0058,       4500,  4300.7,   1.7137,  34.8247,2,  34.8228,2,   246.6,2,   0.051,3,   0.033,2,     1.3541,      0.000,      0.000
 06MT200206,       ar04,     342,          1,          1,     -999.0,9,20020611,       2208,     2.5003,   -40.0058,       4500,  4498.8,   1.2717,  34.7729,2,  34.7712,2,   235.1,2,   0.035,2,   0.018,2,     0.9034,      0.000,      0.000
 06MT200206,       ar04,     343,          1,         21,     -999.0,9,20020612,       0352,     3.0023,   -40.0027,       4393,    20.0,  28.1838,  35.5496,2,-999.0000,9,  -999.0,9,-999.000,9,-999.000,9,    28.1791,     -999.0,     -999.0
 06MT200206,       ar04,     343,          1,         20,     -999.0,9,20020612,       0352,     3.0023,   -40.0027,       4393,   386.2,   8.3088,  34.7699,2,-999.0000,9,   112.8,2,   0.671,3,   0.358,3,     8.2685,      0.003,      0.001
 06MT200206,       ar04,     343,          1,         19,     -999.0,9,20020612,       0352,     3.0023,   -40.0027,       4393,   997.8,   4.5751,  34.6005,2,-999.0000,9,   158.5,2,   0.047,3,   0.026,3,     4.4951,      0.000,      0.000
 06MT200206,       ar04,     343,          1,         18,     -999.0,9,20020612,       0352,     3.0023,   -40.0027,       4393,  1224.2,   4.7960,  34.8448,2,-999.0000,9,   184.4,2,   0.109,3,   0.058,3,     4.6933,      0.001,      0.000
 06MT200206,       ar04,     343,          1,         17,     -999.0,9,20020612,       0352,     3.0023,   -40.0027,       4393,  1406.1,   4.6239,  34.9604,2,  34.9581,2,   217.9,2,   0.225,6,   0.120,6,     4.5056,      0.001,      0.000
 06MT200206,       ar04,     343,          1,         16,     -999.0,9,20020612,       0352,     3.0023,   -40.0027,       4393,  1650.4,   4.1649,  34.9864,2,-999.0000,9,  -999.0,9,   0.220,2,   0.122,2,     4.0288,      0.001,      0.001
 06MT200206,       ar04,     343,          1,         15,     -999.0,9,20020612,       0352,     3.0023,   -40.0027,       4393,  1709.1,   4.0566,  34.9864,2,-999.0000,9,  -999.0,9,-999.000,9,-999.000,9,     3.9163,     -999.0,     -999.0
 06MT200206,       ar04,     343,          1,         14,     -999.0,9,20020612,       0352,     3.0023,   -40.0027,       4393,  1862.9,   3.8263,  34.9847,2,-999.0000,9,   257.0,6,   0.223,2,   0.123,2,     3.6745,      0.001,      0.001
 06MT200206,       ar04,     343,          1,         13,     -999.0,9,20020612,       0352,     3.0023,   -40.0027,       4393,  2003.7,   3.5845,  34.9767,2,-999.0000,9,  -999.0,9,   0.182,2,   0.102,2,     3.4228,      0.001,      0.000
 06MT200206,       ar04,     343,          1,         12,     -999.0,9,20020612,       0352,     3.0023,   -40.0027,       4393,  2147.8,   3.4245,  34.9700,2,-999.0000,9,   260.4,2,   0.119,2,   0.066,2,     3.2514,      0.001,      0.000
 06MT200206,       ar04,     343,          1,         11,     -999.0,9,20020612,       0352,     3.0023,   -40.0027,       4393,  2298.0,   3.2832,  34.9630,2,  34.9616,2,  -999.0,9,   0.094,2,   0.050,2,     3.0979,      0.000,      0.000
 06MT200206,       ar04,     343,          1,         10,     -999.0,9,20020612,       0352,     3.0023,   -40.0027,       4393,  2598.2,   3.0328,  34.9481,2,  34.9490,2,  -999.0,9,-999.000,9,-999.000,9,     2.8225,     -999.0,     -999.0
 06MT200206,       ar04,     343,          1,          9,     -999.0,9,20020612,       0352,     3.0023,   -40.0027,       4393,  2889.6,   2.8586,  34.9352,2,-999.0000,9,   259.2,2,   0.052,2,   0.028,2,     2.6223,      0.000,      0.000
 06MT200206,       ar04,     343,          1,          8,     -999.0,9,20020612,       0352,     3.0023,   -40.0027,       4393,  3197.9,   2.6438,  34.9221,2,  34.9217,2,  -999.0,9,   0.082,2,   0.044,2,     2.3802,      0.000,      0.000
 06MT200206,       ar04,     343,          1,          7,     -999.0,9,20020612,       0352,     3.0023,   -40.0027,       4393,  3493.8,   2.5232,  34.9140,2,-999.0000,9,  -999.0,9,   0.132,2,   0.070,2,     2.2309,      0.001,      0.000
 06MT200206,       ar04,     343,          1,          6,     -999.0,9,20020612,       0352,     3.0023,   -40.0027,       4393,  3651.1,   2.4679,  34.9099,2,-999.0000,9,  -999.0,9,   0.164,2,   0.087,2,     2.1598,      0.001,      0.000
 06MT200206,       ar04,     343,          1,          5,     -999.0,9,20020612,       0352,     3.0023,   -40.0027,       4393,  3798.7,   2.3821,  34.9038,2,-999.0000,9,   266.1,6,   0.223,2,   0.114,2,     2.0599,      0.001,      0.000
 06MT200206,       ar04,     343,          1,          4,     -999.0,9,20020612,       0352,     3.0023,   -40.0027,       4393,  3997.3,   2.2875,  34.8952,2,  34.8941,2,  -999.0,9,   0.190,2,   0.101,2,     1.9455,      0.001,      0.000
 06MT200206,       ar04,     343,          1,          2,     -999.0,9,20020612,       0352,     3.0023,   -40.0027,       4393,  4200.4,   2.2693,  34.8909,2,-999.0000,9,   265.3,2,   0.176,2,   0.095,2,     1.9045,      0.001,      0.000
 06MT200206,       ar04,     343,          1,          1,     -999.0,9,20020612,       0352,     3.0023,   -40.0027,       4393,  4391.7,   1.5830,  34.8092,2,  34.8082,2,   244.2,2,   0.073,2,   0.040,2,     1.2171,      0.000,      0.000
 06MT200206,       ar04,     344,          1,         21,     -999.0,9,20020612,       0926,     3.5000,   -40.0000,       4326,    13.9,  28.1487,  35.3913,2,-999.0000,9,   206.4,2,-999.000,9,-999.000,9,    28.1454,     -999.0,     -999.0
 06MT200206,       ar04,     344,          1,         20,     -999.0,9,20020612,       0926,     3.5000,   -40.0000,       4326,    99.7,  13.9066,  35.3898,2,-999.0000,9,   137.7,2,-999.000,9,-999.000,9,    13.8923,     -999.0,     -999.0
 06MT200206,       ar04,     344,          1,         19,     -999.0,9,20020612,       0926,     3.5000,   -40.0000,       4326,   293.3,  10.7239,  34.9955,2,-999.0000,9,   145.3,2,-999.000,9,-999.000,9,    10.6882,     -999.0,     -999.0
 06MT200206,       ar04,     344,          1,         18,     -999.0,9,20020612,       0926,     3.5000,   -40.0000,       4326,   501.9,   7.6502,  34.7094,2,-999.0000,9,   120.7,2,-999.000,9,-999.000,9,     7.5999,     -999.0,     -999.0
 06MT200206,       ar04,     344,          1,         17,     -999.0,9,20020612,       0926,     3.5000,   -40.0000,       4326,   719.6,   5.3783,  34.5585,2,  34.5573,2,   131.8,6,-999.000,9,-999.000,9,     5.3177,     -999.0,     -999.0
 06MT200206,       ar04,     344,          1,         16,     -999.0,9,20020612,       0926,     3.5000,   -40.0000,       4326,   994.5,   4.7163,  34.6512,2,  34.6490,2,   150.8,2,-999.000,9,-999.000,9,     4.6354,     -999.0,     -999.0
 06MT200206,       ar04,     344,          1,         15,     -999.0,9,20020612,       0926,     3.5000,   -40.0000,       4326,  1197.7,   4.7655,  34.8527,2,-999.0000,9,  -999.0,9,-999.000,9,-999.000,9,     4.6655,     -999.0,     -999.0
 06MT200206,       ar04,     344,          1,         14,     -999.0,9,20020612,       0926,     3.5000,   -40.0000,       4326,  1395.7,   4.5019,  34.9602,2,-999.0000,9,  -999.0,9,   0.158,2,   0.081,2,     4.3859,      0.001,      0.000
 06MT200206,       ar04,     344,          1,         13,     -999.0,9,20020612,       0926,     3.5000,   -40.0000,       4326,  1601.2,   4.1791,  34.9886,2,-999.0000,9,   245.3,2,   0.267,2,   0.140,2,     4.0474,      0.001,      0.000
 06MT200206,       ar04,     344,          1,         12,     -999.0,9,20020612,       0926,     3.5000,   -40.0000,       4326,  1797.3,   3.9255,  34.9882,2,-999.0000,9,   255.4,2,   0.345,2,   0.178,2,     3.7785,      0.002,      0.001
 06MT200206,       ar04,     344,          1,         11,     -999.0,9,20020612,       0926,     3.5000,   -40.0000,       4326,  2005.2,   3.6193,  34.9775,2,-999.0000,9,  -999.0,9,   0.195,2,   0.101,2,     3.4569,      0.001,      0.000
 06MT200206,       ar04,     344,          1,         10,     -999.0,9,20020612,       0926,     3.5000,   -40.0000,       4326,  2227.7,   3.3841,  34.9685,2,  34.9669,2,   262.0,2,   0.203,2,   0.108,2,     3.2040,      0.001,      0.000
 06MT200206,       ar04,     344,          1,          9,     -999.0,9,20020612,       0926,     3.5000,   -40.0000,       4326,  2420.2,   3.1644,  34.9561,2,-999.0000,9,  -999.0,9,-999.000,9,-999.000,9,     2.9693,     -999.0,     -999.0
 06MT200206,       ar04,     344,          1,          8,     -999.0,9,20020612,       0926,     3.5000,   -40.0000,       4326,  2624.2,   3.0271,  34.9480,2,-999.0000,9,   261.7,6,-999.000,9,-999.000,9,     2.8143,     -999.0,     -999.0
 06MT200206,       ar04,     344,          1,          7,     -999.0,9,20020612,       0926,     3.5000,   -40.0000,       4326,  2914.1,   2.8591,  34.9371,2,-999.0000,9,  -999.0,9,-999.000,9,-999.000,9,     2.6203,     -999.0,     -999.0
 06MT200206,       ar04,     344,          1,          6,     -999.0,9,20020612,       0926,     3.5000,   -40.0000,       4326,  3210.7,   2.6655,  34.9226,2,-999.0000,9,   259.6,2,-999.000,9,-999.000,9,     2.4001,     -999.0,     -999.0
 06MT200206,       ar04,     344,          1,          5,     -999.0,9,20020612,       0926,     3.5000,   -40.0000,       4326,  3501.5,   2.5353,  34.9152,2,-999.0000,9,  -999.0,9,-999.000,9,-999.000,9,     2.2418,     -999.0,     -999.0
 06MT200206,       ar04,     344,          1,          4,     -999.0,9,20020612,       0926,     3.5000,   -40.0000,       4326,  3699.7,   2.4486,  34.9075,2,  34.9056,2,   262.2,2,-999.000,9,-999.000,9,     2.1356,     -999.0,     -999.0
 06MT200206,       ar04,     344,          1,          3,     -999.0,9,20020612,       0926,     3.5000,   -40.0000,       4326,  3897.2,   2.3322,  34.8989,2,-999.0000,9,  -999.0,9,   0.166,2,   0.086,2,     2.0003,      0.001,      0.000
 06MT200206,       ar04,     344,          1,          2,     -999.0,9,20020612,       0926,     3.5000,   -40.0000,       4326,  4102.3,   2.2334,  34.8880,2,  34.8886,2,  -999.0,9,   0.172,2,   0.094,2,     1.8810,      0.001,      0.000
 06MT200206,       ar04,     344,          1,          1,     -999.0,9,20020612,       0926,     3.5000,   -40.0000,       4326,  4324.6,   2.2176,  34.8841,2,  34.8845,2,   264.2,2,   0.168,2,   0.092,2,     1.8399,      0.001,      0.000