BOTTLE,20220810CCHSIOAMB
EXPOCODE,SECT_ID,STNNBR,CASTNO,SAMPNO,BTLNBR,BTLNBR_FLAG_W,DATE,TIME,LATITUDE,LONGITUDE,DEPTH,CTDPRS,CTDTMP,CTDSAL,CTDSAL_FLAG_W,SALNTY,SALNTY_FLAG_W,OXYGEN,OXYGEN_FLAG_W,CFC-11,CFC-11_FLAG_W,CFC-12,CFC-12_FLAG_W,THETA,CF11ER,CF12ER
,,,,,,,,,,,METERS,DBAR,ITS-90,PSS-78,,PSS-78,,UMOL/KG,,PMOL/KG,,PMOL/KG,,ITS-90,PMOL/KG,PMOL/KG
 06MT200206,       ar04,     372,          1,         21,     -999.0,9,20020623,       1710,    15.7758,   -55.9013,       4991,    15.1,  27.6373,  32.1025,2,-999.0000,9,   210.3,2,   1.668,2,   1.018,2,    27.6338,      0.008,      0.004
 06MT200206,       ar04,     372,          1,         20,     -999.0,9,20020623,       1710,    15.7758,   -55.9013,       4991,   896.1,   5.6672,  34.7556,2,  34.7400,3,   141.1,2,   0.072,2,   0.041,2,     5.5883,      0.000,      0.000
 06MT200206,       ar04,     372,          1,         19,     -999.0,9,20020623,       1710,    15.7758,   -55.9013,       4991,  1106.3,   5.3827,  34.8902,2,-999.0000,9,   172.2,2,   0.098,2,   0.052,2,     5.2858,      0.000,      0.000
 06MT200206,       ar04,     372,          1,         18,     -999.0,9,20020623,       1710,    15.7758,   -55.9013,       4991,  1307.2,   5.0825,  35.0121,2,-999.0000,9,  -999.0,9,   0.432,2,   0.216,2,     4.9689,      0.002,      0.001
 06MT200206,       ar04,     372,          1,         17,     -999.0,9,20020623,       1710,    15.7758,   -55.9013,       4991,  1507.8,   4.5190,  35.0130,2,  35.0146,2,   244.5,6,   0.511,2,   0.283,2,     4.3921,      0.003,      0.001
 06MT200206,       ar04,     372,          1,         16,     -999.0,9,20020623,       1710,    15.7758,   -55.9013,       4991,  1604.0,   4.2791,  35.0046,2,-999.0000,9,  -999.0,9,-999.000,9,-999.000,9,     4.1459,     -999.0,     -999.0
 06MT200206,       ar04,     372,          1,         15,     -999.0,9,20020623,       1710,    15.7758,   -55.9013,       4991,  1800.4,   3.9491,  34.9966,2,-999.0000,9,  -999.0,9,-999.000,9,-999.000,9,     3.8015,     -999.0,     -999.0
 06MT200206,       ar04,     372,          1,         14,     -999.0,9,20020623,       1710,    15.7758,   -55.9013,       4991,  1997.6,   3.6406,  34.9857,2,-999.0000,9,  -999.0,9,-999.000,9,-999.000,9,     3.4786,     -999.0,     -999.0
 06MT200206,       ar04,     372,          1,         13,     -999.0,9,20020623,       1710,    15.7758,   -55.9013,       4991,  2191.4,   3.3933,  34.9732,2,  34.9768,2,  -999.0,9,-999.000,9,-999.000,9,     3.2165,     -999.0,     -999.0
 06MT200206,       ar04,     372,          1,         12,     -999.0,9,20020623,       1710,    15.7758,   -55.9013,       4991,  2388.9,   3.1610,  34.9591,2,-999.0000,9,   262.4,2,   0.115,2,   0.058,2,     2.9690,      0.001,      0.000
 06MT200206,       ar04,     372,          1,         11,     -999.0,9,20020623,       1710,    15.7758,   -55.9013,       4991,  2486.7,   3.0774,  34.9535,2,-999.0000,9,  -999.0,9,   0.127,2,   0.063,2,     2.8773,      0.001,      0.000
 06MT200206,       ar04,     372,          1,         10,     -999.0,9,20020623,       1710,    15.7758,   -55.9013,       4991,  2748.1,   2.8863,  34.9407,2,-999.0000,9,  -999.0,9,-999.000,9,-999.000,9,     2.6638,     -999.0,     -999.0
 06MT200206,       ar04,     372,          1,          9,     -999.0,9,20020623,       1710,    15.7758,   -55.9013,       4991,  2999.1,   2.7506,  34.9309,2,  34.9325,2,  -999.0,9,-999.000,9,-999.000,9,     2.5054,     -999.0,     -999.0
 06MT200206,       ar04,     372,          1,          8,     -999.0,9,20020623,       1710,    15.7758,   -55.9013,       4991,  3297.9,   2.5850,  34.9192,2,-999.0000,9,  -999.0,9,   0.205,2,   0.109,2,     2.3122,      0.001,      0.000
 06MT200206,       ar04,     372,          1,          7,     -999.0,9,20020623,       1710,    15.7758,   -55.9013,       4991,  3497.5,   2.5001,  34.9129,2,-999.0000,9,   268.3,6,   0.236,2,   0.124,2,     2.2079,      0.001,      0.000
 06MT200206,       ar04,     372,          1,          6,     -999.0,9,20020623,       1710,    15.7758,   -55.9013,       4991,  3742.0,   2.4021,  34.9051,2,-999.0000,9,  -999.0,9,   0.267,2,   0.143,2,     2.0856,      0.001,      0.001
 06MT200206,       ar04,     372,          1,          5,     -999.0,9,20020623,       1710,    15.7758,   -55.9013,       4991,  4000.1,   2.3324,  34.9000,2,  34.9002,2,  -999.0,9,   0.260,2,   0.139,2,     1.9888,      0.001,      0.001
 06MT200206,       ar04,     372,          1,          4,     -999.0,9,20020623,       1710,    15.7758,   -55.9013,       4991,  4247.4,   2.2928,  34.8947,2,-999.0000,9,  -999.0,9,   0.234,2,   0.129,2,     1.9218,      0.001,      0.000
 06MT200206,       ar04,     372,          1,          3,     -999.0,9,20020623,       1710,    15.7758,   -55.9013,       4991,  4498.6,   2.2449,  34.8868,2,-999.0000,9,  -999.0,9,   0.187,2,   0.105,2,     1.8457,      0.001,      0.000
 06MT200206,       ar04,     372,          1,          2,     -999.0,9,20020623,       1710,    15.7758,   -55.9013,       4991,  4799.5,   2.1457,  34.8699,2,-999.0000,9,  -999.0,9,   0.113,2,   0.065,2,     1.7132,      0.001,      0.000
 06MT200206,       ar04,     372,          1,          1,     -999.0,9,20020623,       1710,    15.7758,   -55.9013,       4991,  4989.8,   2.0375,  34.8539,2,  34.8542,2,   256.1,2,   0.083,2,   0.051,2,     1.5852,      0.000,      0.000
 06MT200206,       ar04,     373,          1,         24,     -999.0,9,20020623,       2212,    15.8170,   -56.2975,       5435,    23.9,  27.6530,  33.0866,2,  33.0338,2,   210.3,2,   1.578,2,   1.004,2,    27.6475,      0.008,      0.004
 06MT200206,       ar04,     373,          1,         23,     -999.0,9,20020623,       2212,    15.8170,   -56.2975,       5435,   903.7,   5.7002,  34.7328,2,-999.0000,9,   139.1,2,-999.000,9,-999.000,9,     5.6204,     -999.0,     -999.0
 06MT200206,       ar04,     373,          1,         22,     -999.0,9,20020623,       2212,    15.8170,   -56.2975,       5435,  1091.3,   5.4103,  34.8816,2,  34.8847,2,   167.3,2,-999.000,9,-999.000,9,     5.3146,     -999.0,     -999.0
 06MT200206,       ar04,     373,          1,         21,     -999.0,9,20020623,       2212,    15.8170,   -56.2975,       5435,  1293.3,   5.0337,  34.9965,2,-999.0000,9,   212.4,2,   0.249,2,   0.130,2,     4.9219,      0.001,      0.000
 06MT200206,       ar04,     373,          1,         20,     -999.0,9,20020623,       2212,    15.8170,   -56.2975,       5435,  1447.8,   4.6954,  35.0134,2,-999.0000,9,   233.6,6,   0.401,2,   0.211,2,     4.5723,      0.002,      0.001
 06MT200206,       ar04,     373,          1,         19,     -999.0,9,20020623,       2212,    15.8170,   -56.2975,       5435,  1591.6,   4.3222,  35.0064,2,-999.0000,9,   247.1,2,   0.599,2,   0.308,2,     4.1897,      0.003,      0.001
 06MT200206,       ar04,     373,          1,         18,     -999.0,9,20020623,       2212,    15.8170,   -56.2975,       5435,  1779.0,   3.8969,  34.9846,2,  34.9884,2,   259.8,2,   0.550,2,   0.289,2,     3.7520,      0.003,      0.001
 06MT200206,       ar04,     373,          1,         17,     -999.0,9,20020623,       2212,    15.8170,   -56.2975,       5435,  1980.5,   3.6196,  34.9787,2,-999.0000,9,   265.0,2,   0.428,2,   0.222,2,     3.4595,      0.002,      0.001
 06MT200206,       ar04,     373,          1,         16,     -999.0,9,20020623,       2212,    15.8170,   -56.2975,       5435,  2009.4,   3.5827,  34.9772,2,-999.0000,9,   265.1,6,   0.410,2,   0.212,2,     3.4204,      0.002,      0.001
 06MT200206,       ar04,     373,          1,         15,     -999.0,9,20020623,       2212,    15.8170,   -56.2975,       5435,  2182.3,   3.3586,  34.9675,2,-999.0000,9,   265.6,2,   0.285,2,   0.149,2,     3.1833,      0.001,      0.001
 06MT200206,       ar04,     373,          1,         14,     -999.0,9,20020623,       2212,    15.8170,   -56.2975,       5435,  2388.2,   3.1721,  34.9588,2,-999.0000,9,   264.0,2,-999.000,9,-999.000,9,     2.9800,     -999.0,     -999.0
 06MT200206,       ar04,     373,          1,         13,     -999.0,9,20020623,       2212,    15.8170,   -56.2975,       5435,  2417.7,   3.1455,  34.9573,2,  34.9585,2,   264.9,2,-999.000,9,-999.000,9,     2.9510,     -999.0,     -999.0
 06MT200206,       ar04,     373,          1,         12,     -999.0,9,20020623,       2212,    15.8170,   -56.2975,       5435,  2706.2,   2.9190,  34.9433,2,-999.0000,9,  -999.0,9,-999.000,9,-999.000,9,     2.7001,     -999.0,     -999.0
 06MT200206,       ar04,     373,          1,         11,     -999.0,9,20020623,       2212,    15.8170,   -56.2975,       5435,  2726.7,   2.9064,  34.9425,2,-999.0000,9,   264.6,2,-999.000,9,-999.000,9,     2.6857,     -999.0,     -999.0
 06MT200206,       ar04,     373,          1,         10,     -999.0,9,20020623,       2212,    15.8170,   -56.2975,       5435,  2998.3,   2.7396,  34.9310,2,-999.0000,9,   265.8,2,-999.000,9,-999.000,9,     2.4947,     -999.0,     -999.0
 06MT200206,       ar04,     373,          1,          9,     -999.0,9,20020623,       2212,    15.8170,   -56.2975,       5435,  3298.1,   2.5956,  34.9204,2,-999.0000,9,   268.7,2,-999.000,9,-999.000,9,     2.3225,     -999.0,     -999.0
 06MT200206,       ar04,     373,          1,          8,     -999.0,9,20020623,       2212,    15.8170,   -56.2975,       5435,  3597.9,   2.4522,  34.9104,2,  34.9089,2,   270.7,2,   0.323,2,   0.166,2,     2.1503,      0.002,      0.001
 06MT200206,       ar04,     373,          1,          7,     -999.0,9,20020623,       2212,    15.8170,   -56.2975,       5435,  3797.4,   2.3906,  34.9055,2,-999.0000,9,   270.4,2,   0.306,2,   0.158,2,     2.0683,      0.002,      0.001
 06MT200206,       ar04,     373,          1,          6,     -999.0,9,20020623,       2212,    15.8170,   -56.2975,       5435,  4093.3,   2.3141,  34.8974,2,-999.0000,9,   268.1,2,   0.221,2,   0.116,2,     1.9604,      0.001,      0.000
 06MT200206,       ar04,     373,          1,          5,     -999.0,9,20020623,       2212,    15.8170,   -56.2975,       5435,  4397.9,   2.2594,  34.8902,2,  34.8875,2,   266.3,2,   0.195,2,   0.107,2,     1.8717,      0.001,      0.000
 06MT200206,       ar04,     373,          1,          4,     -999.0,9,20020623,       2212,    15.8170,   -56.2975,       5435,  4759.8,   2.1479,  34.8720,2,-999.0000,9,   260.4,2,   0.117,2,   0.067,2,     1.7202,      0.001,      0.000
 06MT200206,       ar04,     373,          1,          3,     -999.0,9,20020623,       2212,    15.8170,   -56.2975,       5435,  4998.1,   2.0165,  34.8523,2,-999.0000,9,   255.2,2,   0.079,2,   0.049,2,     1.5638,      0.000,      0.000
 06MT200206,       ar04,     373,          1,          2,     -999.0,9,20020623,       2212,    15.8170,   -56.2975,       5435,  5185.2,   1.9203,  34.8380,2,-999.0000,9,   251.9,2,   0.077,2,   0.045,2,     1.4476,      0.000,      0.000
 06MT200206,       ar04,     373,          1,          1,     -999.0,9,20020623,       2212,    15.8170,   -56.2975,       5435,  5434.3,   1.8754,  34.8280,2,  34.8281,2,   249.8,2,   0.067,2,   0.040,2,     1.3725,      0.000,      0.000
 06MT200206,       ar04,     374,          1,         21,     -999.0,9,20020624,       0310,    15.8595,   -56.6490,       4993,    16.1,  27.5916,  32.6807,2,-999.0000,9,  -999.0,9,   1.620,2,   1.016,2,    27.5879,      0.008,      0.004
 06MT200206,       ar04,     374,          1,         20,     -999.0,9,20020624,       0310,    15.8595,   -56.6490,       4993,   984.7,   5.5117,  34.7811,2,  34.7883,2,   150.0,2,   0.069,2,   0.039,2,     5.4255,      0.000,      0.000
 06MT200206,       ar04,     374,          1,         19,     -999.0,9,20020624,       0310,    15.8595,   -56.6490,       4993,  1297.6,   5.0986,  35.0058,2,-999.0000,9,  -999.0,9,   0.359,2,   0.192,2,     4.9857,      0.002,      0.001
 06MT200206,       ar04,     374,          1,         18,     -999.0,9,20020624,       0310,    15.8595,   -56.6490,       4993,  1447.7,   4.6650,  35.0143,2,-999.0000,9,  -999.0,9,   0.485,2,   0.255,2,     4.5422,      0.002,      0.001
 06MT200206,       ar04,     374,          1,         17,     -999.0,9,20020624,       0310,    15.8595,   -56.6490,       4993,  1547.7,   4.4228,  35.0117,2,-999.0000,9,  -999.0,9,   0.732,2,   0.372,2,     4.2932,      0.004,      0.001
 06MT200206,       ar04,     374,          1,         16,     -999.0,9,20020624,       0310,    15.8595,   -56.6490,       4993,  1595.3,   4.2715,  35.0050,2,  35.0037,2,  -999.0,9,   0.814,2,   0.417,2,     4.1392,      0.004,      0.002
 06MT200206,       ar04,     374,          1,         15,     -999.0,9,20020624,       0310,    15.8595,   -56.6490,       4993,  1685.7,   4.0477,  34.9935,2,-999.0000,9,  -999.0,9,   0.663,2,   0.341,2,     3.9097,      0.003,      0.001
 06MT200206,       ar04,     374,          1,         14,     -999.0,9,20020624,       0310,    15.8595,   -56.6490,       4993,  1850.6,   3.7433,  34.9757,2,-999.0000,9,   264.5,6,   0.755,2,   0.384,2,     3.5938,      0.004,      0.001
 06MT200206,       ar04,     374,          1,         13,     -999.0,9,20020624,       0310,    15.8595,   -56.6490,       4993,  1997.6,   3.5637,  34.9744,2,-999.0000,9,  -999.0,9,   0.444,2,   0.231,2,     3.4029,      0.002,      0.001
 06MT200206,       ar04,     374,          1,         12,     -999.0,9,20020624,       0310,    15.8595,   -56.6490,       4993,  2148.2,   3.3985,  34.9707,2,-999.0000,9,  -999.0,9,   0.220,2,   0.119,2,     3.2258,      0.001,      0.000
 06MT200206,       ar04,     374,          1,         11,     -999.0,9,20020624,       0310,    15.8595,   -56.6490,       4993,  2295.6,   3.2104,  34.9580,2,-999.0000,9,  -999.0,9,-999.000,9,-999.000,9,     3.0266,     -999.0,     -999.0
 06MT200206,       ar04,     374,          1,         10,     -999.0,9,20020624,       0310,    15.8595,   -56.6490,       4993,  2485.6,   3.0820,  34.9542,2,  34.9536,2,   262.0,6,   0.172,2,   0.094,2,     2.8819,      0.001,      0.000
 06MT200206,       ar04,     374,          1,          9,     -999.0,9,20020624,       0310,    15.8595,   -56.6490,       4993,  2747.8,   2.8928,  34.9409,2,-999.0000,9,  -999.0,9,   0.261,2,   0.138,2,     2.6702,      0.001,      0.001
 06MT200206,       ar04,     374,          1,          8,     -999.0,9,20020624,       0310,    15.8595,   -56.6490,       4993,  2997.0,   2.7558,  34.9316,2,-999.0000,9,  -999.0,9,   0.182,2,   0.097,2,     2.5107,      0.001,      0.000
 06MT200206,       ar04,     374,          1,          7,     -999.0,9,20020624,       0310,    15.8595,   -56.6490,       4993,  3247.5,   2.6338,  34.9222,2,-999.0000,9,  -999.0,9,   0.151,2,   0.081,2,     2.3652,      0.001,      0.000
 06MT200206,       ar04,     374,          1,          6,     -999.0,9,20020624,       0310,    15.8595,   -56.6490,       4993,  3499.9,   2.5330,  34.9149,2,  34.9058,3,   277.3,4,   0.247,2,   0.130,2,     2.2398,      0.001,      0.000
 06MT200206,       ar04,     374,          1,          5,     -999.0,9,20020624,       0310,    15.8595,   -56.6490,       4993,  3752.1,   2.4091,  34.9058,2,-999.0000,9,  -999.0,9,   0.242,2,   0.128,2,     2.0913,      0.001,      0.000
 06MT200206,       ar04,     374,          1,          4,     -999.0,9,20020624,       0310,    15.8595,   -56.6490,       4993,  4003.7,   2.3499,  34.9005,2,-999.0000,9,  -999.0,9,   0.230,2,   0.122,2,     2.0054,      0.001,      0.000
 06MT200206,       ar04,     374,          1,          3,     -999.0,9,20020624,       0310,    15.8595,   -56.6490,       4993,  4297.6,   2.2893,  34.8930,2,-999.0000,9,  -999.0,9,   0.186,2,   0.100,2,     1.9125,      0.001,      0.000
 06MT200206,       ar04,     374,          1,          2,     -999.0,9,20020624,       0310,    15.8595,   -56.6490,       4993,  4600.3,   2.2104,  34.8806,2,  34.8800,2,  -999.0,9,   0.150,2,   0.084,2,     1.8001,      0.001,      0.000
 06MT200206,       ar04,     374,          1,          1,     -999.0,9,20020624,       0310,    15.8595,   -56.6490,       4993,  4991.5,   2.0380,  34.8543,2,  34.8562,2,   211.5,4,   0.087,2,   0.052,2,     1.5854,      0.000,      0.000