BOTTLE,20220810CCHSIOAMB
EXPOCODE,SECT_ID,STNNBR,CASTNO,SAMPNO,BTLNBR,BTLNBR_FLAG_W,DATE,TIME,LATITUDE,LONGITUDE,DEPTH,CTDPRS,CTDTMP,CTDSAL,CTDSAL_FLAG_W,SALNTY,SALNTY_FLAG_W,OXYGEN,OXYGEN_FLAG_W,CFC-11,CFC-11_FLAG_W,CFC-12,CFC-12_FLAG_W,THETA,CF11ER,CF12ER
,,,,,,,,,,,METERS,DBAR,ITS-90,PSS-78,,PSS-78,,UMOL/KG,,PMOL/KG,,PMOL/KG,,ITS-90,PMOL/KG,PMOL/KG
 06MT200206,       ar04,     376,          1,         24,     -999.0,9,20020624,       2145,    15.9028,   -57.0008,       5285,    16.9,  27.6053,  33.3966,2,-999.0000,9,   211.1,2,-999.000,9,-999.000,9,    27.6014,     -999.0,     -999.0
 06MT200206,       ar04,     376,          1,         23,     -999.0,9,20020624,       2145,    15.9028,   -57.0008,       5285,    27.8,  27.7008,  34.6328,2,  34.3458,2,   208.2,2,   1.566,2,   0.990,2,    27.6943,      0.005,      0.005
 06MT200206,       ar04,     376,          1,         22,     -999.0,9,20020624,       2145,    15.9028,   -57.0008,       5285,   898.7,   5.7570,  34.7538,2,  34.7543,2,   142.6,2,-999.000,9,-999.000,9,     5.6773,     -999.0,     -999.0
 06MT200206,       ar04,     376,          1,         21,     -999.0,9,20020624,       2145,    15.9028,   -57.0008,       5285,  1090.5,   5.5002,  34.8825,2,  34.8999,3,   173.1,2,   0.144,2,   0.078,2,     5.4039,      0.000,      0.000
 06MT200206,       ar04,     376,          1,         20,     -999.0,9,20020624,       2145,    15.9028,   -57.0008,       5285,  1289.2,   5.0736,  34.9917,2,-999.0000,9,   217.7,2,   0.421,2,   0.220,2,     4.9618,      0.001,      0.001
 06MT200206,       ar04,     376,          1,         19,     -999.0,9,20020624,       2145,    15.9028,   -57.0008,       5285,  1456.7,   4.6064,  35.0169,2,-999.0000,9,   238.4,2,-999.000,9,-999.000,9,     4.4834,     -999.0,     -999.0
 06MT200206,       ar04,     376,          1,         18,     -999.0,9,20020624,       2145,    15.9028,   -57.0008,       5285,  1456.9,   4.6043,  35.0157,2,-999.0000,9,   238.8,2,   0.480,2,   0.250,2,     4.4813,      0.001,      0.001
 06MT200206,       ar04,     376,          1,         17,     -999.0,9,20020624,       2145,    15.9028,   -57.0008,       5285,  1610.9,   4.2092,  35.0020,2,  35.0004,2,   254.4,2,-999.000,9,-999.000,9,     4.0762,     -999.0,     -999.0
 06MT200206,       ar04,     376,          1,         16,     -999.0,9,20020624,       2145,    15.9028,   -57.0008,       5285,  1613.4,   4.2034,  35.0011,2,-999.0000,9,   254.7,2,   0.644,2,   0.332,2,     4.0702,      0.002,      0.002
 06MT200206,       ar04,     376,          1,         15,     -999.0,9,20020624,       2145,    15.9028,   -57.0008,       5285,  1799.8,   3.8703,  34.9864,2,-999.0000,9,   261.9,2,-999.000,9,-999.000,9,     3.7238,     -999.0,     -999.0
 06MT200206,       ar04,     376,          1,         14,     -999.0,9,20020624,       2145,    15.9028,   -57.0008,       5285,  1800.8,   3.8669,  34.9864,2,  34.9835,2,   262.4,2,   0.651,2,   0.339,2,     3.7204,      0.002,      0.002
 06MT200206,       ar04,     376,          1,         13,     -999.0,9,20020624,       2145,    15.9028,   -57.0008,       5285,  1991.9,   3.5979,  34.9776,2,-999.0000,9,   260.8,2,   0.303,2,   0.164,2,     3.4371,      0.001,      0.001
 06MT200206,       ar04,     376,          1,         12,     -999.0,9,20020624,       2145,    15.9028,   -57.0008,       5285,  2294.6,   3.2349,  34.9622,2,-999.0000,9,   263.8,6,-999.000,9,-999.000,9,     3.0508,     -999.0,     -999.0
 06MT200206,       ar04,     376,          1,         11,     -999.0,9,20020624,       2145,    15.9028,   -57.0008,       5285,  2495.6,   3.0537,  34.9523,2,  34.9528,2,   261.3,2,-999.000,9,-999.000,9,     2.8532,     -999.0,     -999.0
 06MT200206,       ar04,     376,          1,         10,     -999.0,9,20020624,       2145,    15.9028,   -57.0008,       5285,  2890.9,   2.7641,  34.9326,2,-999.0000,9,   264.9,2,-999.000,9,-999.000,9,     2.5297,     -999.0,     -999.0
 06MT200206,       ar04,     376,          1,          9,     -999.0,9,20020624,       2145,    15.9028,   -57.0008,       5285,  3197.1,   2.5947,  34.9207,2,-999.0000,9,   266.4,2,-999.000,9,-999.000,9,     2.3323,     -999.0,     -999.0
 06MT200206,       ar04,     376,          1,          8,     -999.0,9,20020624,       2145,    15.9028,   -57.0008,       5285,  3496.5,   2.4582,  34.9108,2,  34.9083,2,   269.6,2,-999.000,9,-999.000,9,     2.1672,     -999.0,     -999.0
 06MT200206,       ar04,     376,          1,          7,     -999.0,9,20020624,       2145,    15.9028,   -57.0008,       5285,  3797.0,   2.3567,  34.9035,2,-999.0000,9,   270.7,2,-999.000,9,-999.000,9,     2.0353,     -999.0,     -999.0
 06MT200206,       ar04,     376,          1,          6,     -999.0,9,20020624,       2145,    15.9028,   -57.0008,       5285,  4096.8,   2.2814,  34.8956,2,-999.0000,9,   268.0,2,-999.000,9,-999.000,9,     1.9282,     -999.0,     -999.0
 06MT200206,       ar04,     376,          1,          5,     -999.0,9,20020624,       2145,    15.9028,   -57.0008,       5285,  4396.6,   2.2488,  34.8893,2,  34.8861,2,   266.8,2,-999.000,9,-999.000,9,     1.8616,     -999.0,     -999.0
 06MT200206,       ar04,     376,          1,          4,     -999.0,9,20020624,       2145,    15.9028,   -57.0008,       5285,  4695.3,   2.1969,  34.8791,2,-999.0000,9,   262.6,2,-999.000,9,-999.000,9,     1.7755,     -999.0,     -999.0
 06MT200206,       ar04,     376,          1,          3,     -999.0,9,20020624,       2145,    15.9028,   -57.0008,       5285,  4999.2,   2.1705,  34.8719,2,  34.8703,2,   259.9,2,   0.162,2,   0.095,2,     1.7124,      0.001,      0.000
 06MT200206,       ar04,     376,          1,          2,     -999.0,9,20020624,       2145,    15.9028,   -57.0008,       5285,  5097.8,   2.0780,  34.8583,2,-999.0000,9,   254.8,2,   0.092,2,   0.056,2,     1.6107,      0.000,      0.000
 06MT200206,       ar04,     376,          1,          1,     -999.0,9,20020624,       2145,    15.9028,   -57.0008,       5285,  5283.6,   1.8910,  34.8324,2,  34.8324,2,   249.9,2,   0.074,2,   0.044,2,     1.4069,      0.000,      0.000
 06MT200206,       ar04,     377,          2,         24,     -999.0,9,20020625,       0323,    15.9405,   -57.3560,       5389,    15.3,  27.6884,  34.1422,2,-999.0000,9,   205.5,2,   1.560,2,   0.976,2,    27.6848,      0.005,      0.005
 06MT200206,       ar04,     377,          2,         23,     -999.0,9,20020625,       0323,    15.9405,   -57.3560,       5389,  1199.9,   5.2740,  34.9712,2,  34.9787,2,   196.0,2,   0.180,2,   0.096,2,     5.1689,      0.001,      0.001
 06MT200206,       ar04,     377,          2,         22,     -999.0,9,20020625,       0323,    15.9405,   -57.3560,       5389,  1410.8,   4.7453,  35.0229,2,-999.0000,9,   236.3,2,   0.565,2,   0.293,2,     4.6251,      0.002,      0.002
 06MT200206,       ar04,     377,          2,         21,     -999.0,9,20020625,       0323,    15.9405,   -57.3560,       5389,  1494.9,   4.4898,  35.0150,2,-999.0000,9,  -999.0,9,   0.990,4,   0.553,4,     4.3645,      0.003,      0.003
 06MT200206,       ar04,     377,          2,         20,     -999.0,9,20020625,       0323,    15.9405,   -57.3560,       5389,  1609.9,   4.2121,  35.0008,2,  35.0024,2,   255.8,2,   0.850,2,   0.428,2,     4.0792,      0.003,      0.002
 06MT200206,       ar04,     377,          2,         19,     -999.0,9,20020625,       0323,    15.9405,   -57.3560,       5389,  1698.1,   4.0007,  34.9886,2,-999.0000,9,   261.6,2,   0.842,2,   0.429,2,     3.8621,      0.003,      0.002
 06MT200206,       ar04,     377,          2,         18,     -999.0,9,20020625,       0323,    15.9405,   -57.3560,       5389,  1798.0,   3.8153,  34.9790,2,-999.0000,9,   264.5,2,   0.800,2,   0.410,2,     3.6698,      0.002,      0.002
 06MT200206,       ar04,     377,          2,         17,     -999.0,9,20020625,       0323,    15.9405,   -57.3560,       5389,  1902.8,   3.6913,  34.9750,2,  34.9766,2,   264.9,6,   0.693,2,   0.355,2,     3.5376,      0.002,      0.002
 06MT200206,       ar04,     377,          2,         16,     -999.0,9,20020625,       0323,    15.9405,   -57.3560,       5389,  1999.0,   3.5782,  34.9738,2,-999.0000,9,   264.7,2,   0.549,2,   0.284,2,     3.4170,      0.002,      0.001
 06MT200206,       ar04,     377,          2,         15,     -999.0,9,20020625,       0323,    15.9405,   -57.3560,       5389,  2093.2,   3.5006,  34.9734,2,  34.9748,2,   264.0,2,   0.397,2,   0.217,2,     3.3316,      0.001,      0.001
 06MT200206,       ar04,     377,          2,         14,     -999.0,9,20020625,       0323,    15.9405,   -57.3560,       5389,  2201.6,   3.3756,  34.9702,2,-999.0000,9,   262.9,2,   0.278,2,   0.148,2,     3.1981,      0.001,      0.001
 06MT200206,       ar04,     377,          2,         13,     -999.0,9,20020625,       0323,    15.9405,   -57.3560,       5389,  2496.9,   3.0492,  34.9516,2,  34.9518,2,   262.3,6,   0.178,2,   0.097,2,     2.8486,      0.001,      0.001
 06MT200206,       ar04,     377,          2,         12,     -999.0,9,20020625,       0323,    15.9405,   -57.3560,       5389,  2813.0,   2.7979,  34.9354,2,-999.0000,9,  -999.0,9,-999.000,9,-999.000,9,     2.5707,     -999.0,     -999.0
 06MT200206,       ar04,     377,          2,         11,     -999.0,9,20020625,       0323,    15.9405,   -57.3560,       5389,  3099.5,   2.6176,  34.9229,2,-999.0000,9,   265.6,2,   0.277,2,   0.145,2,     2.3649,      0.001,      0.001
 06MT200206,       ar04,     377,          2,         10,     -999.0,9,20020625,       0323,    15.9405,   -57.3560,       5389,  3390.5,   2.4617,  34.9115,2,  34.9034,3,   268.0,2,   0.307,2,   0.165,2,     2.1820,      0.001,      0.001
 06MT200206,       ar04,     377,          2,          9,     -999.0,9,20020625,       0323,    15.9405,   -57.3560,       5389,  3700.0,   2.3535,  34.9042,2,-999.0000,9,   269.2,2,   0.382,2,   0.203,2,     2.0430,      0.001,      0.001
 06MT200206,       ar04,     377,          2,          8,     -999.0,9,20020625,       0323,    15.9405,   -57.3560,       5389,  3997.2,   2.3014,  34.8978,2,-999.0000,9,  -999.0,9,-999.000,9,-999.000,9,     1.9590,     -999.0,     -999.0
 06MT200206,       ar04,     377,          2,          7,     -999.0,9,20020625,       0323,    15.9405,   -57.3560,       5389,  4244.7,   2.2645,  34.8919,2,  34.8900,2,   265.7,2,   0.223,2,   0.119,2,     1.8947,      0.001,      0.001
 06MT200206,       ar04,     377,          2,          6,     -999.0,9,20020625,       0323,    15.9405,   -57.3560,       5389,  4598.2,   2.1678,  34.8774,2,-999.0000,9,   260.8,2,   0.171,2,   0.097,2,     1.7591,      0.001,      0.001
 06MT200206,       ar04,     377,          2,          5,     -999.0,9,20020625,       0323,    15.9405,   -57.3560,       5389,  4898.9,   2.0517,  34.8590,2,  34.8585,2,   255.5,2,   0.114,2,   0.065,2,     1.6101,      0.000,      0.000
 06MT200206,       ar04,     377,          2,          4,     -999.0,9,20020625,       0323,    15.9405,   -57.3560,       5389,  5048.0,   2.0239,  34.8529,2,-999.0000,9,   252.5,2,   0.080,2,   0.055,2,     1.5648,      0.000,      0.000
 06MT200206,       ar04,     377,          2,          3,     -999.0,9,20020625,       0323,    15.9405,   -57.3560,       5389,  5147.6,   1.9750,  34.8445,2,-999.0000,9,   251.5,2,   0.066,2,   0.045,2,     1.5051,      0.000,      0.000
 06MT200206,       ar04,     377,          2,          2,     -999.0,9,20020625,       0323,    15.9405,   -57.3560,       5389,  5247.4,   1.9448,  34.8400,2,  34.8381,2,   250.2,2,   0.066,2,   0.044,2,     1.4633,      0.000,      0.000
 06MT200206,       ar04,     377,          2,          1,     -999.0,9,20020625,       0323,    15.9405,   -57.3560,       5389,  5388.3,   1.8743,  34.8285,2,  34.8283,2,   247.1,2,   0.074,2,   0.043,2,     1.3774,      0.000,      0.000
 06MT200206,       ar04,     378,          1,         24,     -999.0,9,20020625,       0909,    15.9820,   -57.7102,       5528,    17.9,  27.4358,  35.6483,2,-999.0000,9,   204.5,2,   1.574,2,   0.998,2,    27.4316,      0.005,      0.005
 06MT200206,       ar04,     378,          1,         23,     -999.0,9,20020625,       0909,    15.9820,   -57.7102,       5528,   496.2,  11.6329,  35.5098,2,-999.0000,9,  -999.0,9,   0.993,2,   0.530,2,    11.5683,      0.003,      0.003
 06MT200206,       ar04,     378,          1,         22,     -999.0,9,20020625,       0909,    15.9820,   -57.7102,       5528,   799.6,   6.6422,  34.7854,2,-999.0000,9,   129.7,2,   0.157,2,   0.086,2,     6.5664,      0.000,      0.000
 06MT200206,       ar04,     378,          1,         21,     -999.0,9,20020625,       0909,    15.9820,   -57.7102,       5528,   998.0,   5.6177,  34.8266,2,  34.8288,2,   154.7,2,   0.081,2,   0.046,2,     5.5294,      0.000,      0.000
 06MT200206,       ar04,     378,          1,         20,     -999.0,9,20020625,       0909,    15.9820,   -57.7102,       5528,  1205.0,   5.4080,  34.9997,2,-999.0000,9,  -999.0,9,   0.334,2,   0.180,2,     5.3012,      0.001,      0.001
 06MT200206,       ar04,     378,          1,         19,     -999.0,9,20020625,       0909,    15.9820,   -57.7102,       5528,  1348.1,   4.9452,  35.0275,2,-999.0000,9,   229.6,2,   0.586,2,   0.305,2,     4.8290,      0.002,      0.002
 06MT200206,       ar04,     378,          1,         18,     -999.0,9,20020625,       0909,    15.9820,   -57.7102,       5528,  1490.7,   4.4829,  35.0150,2,-999.0000,9,  -999.0,9,   0.755,2,   0.386,2,     4.3580,      0.002,      0.002
 06MT200206,       ar04,     378,          1,         17,     -999.0,9,20020625,       0909,    15.9820,   -57.7102,       5528,  1647.4,   4.1217,  34.9950,2,-999.0000,9,  -999.0,9,   0.890,2,   0.449,2,     3.9863,      0.003,      0.002
 06MT200206,       ar04,     378,          1,         16,     -999.0,9,20020625,       0909,    15.9820,   -57.7102,       5528,  1782.2,   3.8562,  34.9828,2,-999.0000,9,  -999.0,9,   0.723,2,   0.373,2,     3.7116,      0.002,      0.002
 06MT200206,       ar04,     378,          1,         15,     -999.0,9,20020625,       0909,    15.9820,   -57.7102,       5528,  1976.5,   3.6137,  34.9750,2,-999.0000,9,  -999.0,9,   0.584,2,   0.302,2,     3.4541,      0.002,      0.002
 06MT200206,       ar04,     378,          1,         14,     -999.0,9,20020625,       0909,    15.9820,   -57.7102,       5528,  2147.4,   3.4246,  34.9724,2,-999.0000,9,  -999.0,9,   0.298,2,   0.158,2,     3.2516,      0.001,      0.001
 06MT200206,       ar04,     378,          1,         13,     -999.0,9,20020625,       0909,    15.9820,   -57.7102,       5528,  2288.1,   3.2399,  34.9617,2,-999.0000,9,   265.3,6,   0.361,2,   0.189,2,     3.0563,      0.001,      0.001
 06MT200206,       ar04,     378,          1,         12,     -999.0,9,20020625,       0909,    15.9820,   -57.7102,       5528,  2472.0,   3.0156,  34.9489,2,-999.0000,9,  -999.0,9,-999.000,9,-999.000,9,     2.8181,     -999.0,     -999.0
 06MT200206,       ar04,     378,          1,         11,     -999.0,9,20020625,       0909,    15.9820,   -57.7102,       5528,  2800.8,   2.7579,  34.9329,2,  34.9323,2,  -999.0,9,   0.376,2,   0.196,2,     2.5327,      0.001,      0.001
 06MT200206,       ar04,     378,          1,         10,     -999.0,9,20020625,       0909,    15.9820,   -57.7102,       5528,  3078.2,   2.5736,  34.9205,2,-999.0000,9,  -999.0,9,   0.370,2,   0.192,2,     2.3241,      0.001,      0.001
 06MT200206,       ar04,     378,          1,          9,     -999.0,9,20020625,       0909,    15.9820,   -57.7102,       5528,  3456.2,   2.4164,  34.9096,2,-999.0000,9,  -999.0,9,   0.405,2,   0.211,2,     2.1308,      0.001,      0.001
 06MT200206,       ar04,     378,          1,          8,     -999.0,9,20020625,       0909,    15.9820,   -57.7102,       5528,  3646.7,   2.3553,  34.9036,2,-999.0000,9,  -999.0,9,   0.343,2,   0.181,2,     2.0506,      0.001,      0.001
 06MT200206,       ar04,     378,          1,          7,     -999.0,9,20020625,       0909,    15.9820,   -57.7102,       5528,  3876.6,   2.2963,  34.8985,2,-999.0000,9,  -999.0,9,   0.276,2,   0.146,2,     1.9677,      0.001,      0.001
 06MT200206,       ar04,     378,          1,          6,     -999.0,9,20020625,       0909,    15.9820,   -57.7102,       5528,  4147.2,   2.2541,  34.8926,2,-999.0000,9,  -999.0,9,   0.196,2,   0.109,2,     1.8959,      0.001,      0.001
 06MT200206,       ar04,     378,          1,          5,     -999.0,9,20020625,       0909,    15.9820,   -57.7102,       5528,  4397.1,   2.2170,  34.8857,2,  34.8831,2,   264.0,2,   0.192,2,   0.107,2,     1.8307,      0.001,      0.001
 06MT200206,       ar04,     378,          1,          4,     -999.0,9,20020625,       0909,    15.9820,   -57.7102,       5528,  4688.2,   2.1599,  34.8750,2,-999.0000,9,  -999.0,9,   0.130,2,   0.075,2,     1.7405,      0.000,      0.000
 06MT200206,       ar04,     378,          1,          3,     -999.0,9,20020625,       0909,    15.9820,   -57.7102,       5528,  4996.8,   2.0726,  34.8596,2,  34.8580,2,  -999.0,9,   0.099,2,   0.059,2,     1.6182,      0.000,      0.000
 06MT200206,       ar04,     378,          1,          2,     -999.0,9,20020625,       0909,    15.9820,   -57.7102,       5528,  5301.0,   1.9678,  34.8422,2,-999.0000,9,  -999.0,9,   0.065,2,   0.040,2,     1.4787,      0.000,      0.000
 06MT200206,       ar04,     378,          1,          1,     -999.0,9,20020625,       0909,    15.9820,   -57.7102,       5528,  5527.3,   1.9020,  34.8300,2,-999.0000,9,   248.0,2,   0.063,2,   0.039,2,     1.3861,      0.000,      0.000