BOTTLE,20220810CCHSIOAMB
EXPOCODE,SECT_ID,STNNBR,CASTNO,SAMPNO,BTLNBR,BTLNBR_FLAG_W,DATE,TIME,LATITUDE,LONGITUDE,DEPTH,CTDPRS,CTDTMP,CTDSAL,CTDSAL_FLAG_W,SALNTY,SALNTY_FLAG_W,OXYGEN,OXYGEN_FLAG_W,CFC-11,CFC-11_FLAG_W,CFC-12,CFC-12_FLAG_W,THETA,CF11ER,CF12ER
,,,,,,,,,,,METERS,DBAR,ITS-90,PSS-78,,PSS-78,,UMOL/KG,,PMOL/KG,,PMOL/KG,,ITS-90,PMOL/KG,PMOL/KG
 06MT200206,       ar04,     412,          1,          9,     -999.0,9,20020630,       1712,    13.4650,   -61.0357,        847,    12.4,  27.8018,  34.7078,2,-999.0000,9,  -999.0,9,   1.621,2,   0.978,2,    27.7989,      0.007,      0.006
 06MT200206,       ar04,     412,          1,          8,     -999.0,9,20020630,       1712,    13.4650,   -61.0357,        847,   117.8,  25.6459,  36.7379,2,-999.0000,9,   179.6,2,   1.805,2,   1.072,2,    25.6197,      0.007,      0.007
 06MT200206,       ar04,     412,          1,          7,     -999.0,9,20020630,       1712,    13.4650,   -61.0357,        847,   201.2,  17.1269,  36.2796,2,-999.0000,9,   144.1,2,   1.990,2,   1.070,3,    17.0932,      0.008,      0.007
 06MT200206,       ar04,     412,          1,          6,     -999.0,9,20020630,       1712,    13.4650,   -61.0357,        847,   394.7,   9.7172,  35.0587,2,  35.2875,2,   123.5,2,   0.928,2,   0.481,2,     9.6717,      0.004,      0.005
 06MT200206,       ar04,     412,          1,          5,     -999.0,9,20020630,       1712,    13.4650,   -61.0357,        847,   498.9,   8.6940,  34.9078,2,-999.0000,9,  -999.0,9,-999.000,9,-999.000,9,     8.6400,     -999.0,     -999.0
 06MT200206,       ar04,     412,          1,          4,     -999.0,9,20020630,       1712,    13.4650,   -61.0357,        847,   593.5,   7.0039,  34.7406,2,-999.0000,9,  -999.0,9,   0.344,2,   0.186,2,     6.9469,      0.002,      0.004
 06MT200206,       ar04,     412,          1,          3,     -999.0,9,20020630,       1712,    13.4650,   -61.0357,        847,   706.7,   6.8480,  34.7527,2,  34.7254,2,   131.0,2,   0.239,2,   0.131,2,     6.7804,      0.002,      0.004
 06MT200206,       ar04,     412,          1,          2,     -999.0,9,20020630,       1712,    13.4650,   -61.0357,        847,   711.3,   6.8158,  34.7526,2,-999.0000,9,  -999.0,9,-999.000,9,-999.000,9,     6.7480,     -999.0,     -999.0
 06MT200206,       ar04,     412,          1,          1,     -999.0,9,20020630,       1712,    13.4650,   -61.0357,        847,   844.9,   6.1790,  34.7451,2,  34.7323,2,   169.0,4,   0.206,2,   0.112,2,     6.1017,      0.002,      0.004
 06MT200206,       ar04,     413,          1,         11,     -999.0,9,20020630,       1832,    13.4185,   -61.0712,       1056,     8.7,  27.8265,  34.8199,2,-999.0000,9,   202.6,2,   1.599,2,   0.990,2,    27.8245,      0.006,      0.006
 06MT200206,       ar04,     413,          1,         10,     -999.0,9,20020630,       1832,    13.4185,   -61.0712,       1056,    59.6,  27.5679,  35.4416,2,-999.0000,9,   198.0,2,-999.000,9,-999.000,9,    27.5540,     -999.0,     -999.0
 06MT200206,       ar04,     413,          1,          9,     -999.0,9,20020630,       1832,    13.4185,   -61.0712,       1056,   104.1,  25.6719,  36.3313,2,-999.0000,9,   178.4,2,   1.795,2,   1.091,2,    25.6488,      0.007,      0.007
 06MT200206,       ar04,     413,          1,          8,     -999.0,9,20020630,       1832,    13.4185,   -61.0712,       1056,   258.2,  13.5249,  35.6520,2,-999.0000,9,   137.9,2,   1.615,2,   0.875,2,    13.4881,      0.007,      0.006
 06MT200206,       ar04,     413,          1,          7,     -999.0,9,20020630,       1832,    13.4185,   -61.0712,       1056,   397.7,  10.2294,  35.1556,2,-999.0000,9,   124.4,2,   0.919,2,   0.484,2,    10.1820,      0.004,      0.005
 06MT200206,       ar04,     413,          1,          6,     -999.0,9,20020630,       1832,    13.4185,   -61.0712,       1056,   540.4,   7.2690,  34.7939,2,-999.0000,9,   129.4,2,   0.377,2,   0.205,2,     7.2162,      0.002,      0.004
 06MT200206,       ar04,     413,          1,          5,     -999.0,9,20020630,       1832,    13.4185,   -61.0712,       1056,   680.8,   6.6895,  34.7678,2,-999.0000,9,   142.0,2,   0.208,2,   0.112,2,     6.6253,      0.002,      0.004
 06MT200206,       ar04,     413,          1,          4,     -999.0,9,20020630,       1832,    13.4185,   -61.0712,       1056,   850.6,   4.9219,  34.9114,2,  34.9120,2,   184.5,2,   0.061,2,   0.036,2,     4.8519,      0.002,      0.004
 06MT200206,       ar04,     413,          1,          3,     -999.0,9,20020630,       1832,    13.4185,   -61.0712,       1056,   944.6,   4.7116,  34.9353,2,  34.9359,2,   191.6,2,   0.042,2,   0.024,2,     4.6347,      0.002,      0.004
 06MT200206,       ar04,     413,          1,          2,     -999.0,9,20020630,       1832,    13.4185,   -61.0712,       1056,   947.9,   4.7112,  34.9359,2,-999.0000,9,  -999.0,9,   0.044,2,   0.028,2,     4.6340,      0.002,      0.004
 06MT200206,       ar04,     413,          1,          1,     -999.0,9,20020630,       1832,    13.4185,   -61.0712,       1056,  1054.2,   4.6008,  34.9442,2,  34.9437,2,   195.1,2,   0.051,2,   0.030,2,     4.5150,      0.002,      0.004
 06MT200206,       ar04,     414,          1,          4,     -999.0,9,20020630,       1945,    13.3885,   -61.0930,        496,    17.0,  27.6831,  34.6644,2,-999.0000,9,   203.6,2,-999.000,9,-999.000,9,    27.6791,     -999.0,     -999.0
 06MT200206,       ar04,     414,          1,          3,     -999.0,9,20020630,       1945,    13.3885,   -61.0930,        496,   201.1,  16.2348,  36.2088,2,  36.0038,2,   145.5,6,-999.000,9,-999.000,9,    16.2024,     -999.0,     -999.0
 06MT200206,       ar04,     414,          1,          2,     -999.0,9,20020630,       1945,    13.3885,   -61.0930,        496,   376.1,   9.0291,  34.9955,2,  34.9242,2,   123.9,2,-999.000,9,-999.000,9,     8.9877,     -999.0,     -999.0
 06MT200206,       ar04,     414,          1,          1,     -999.0,9,20020630,       1945,    13.3885,   -61.0930,        496,   494.5,   7.2450,  34.7954,2,  34.7986,2,   128.0,2,-999.000,9,-999.000,9,     7.1969,     -999.0,     -999.0
 06MT200206,       ar04,     415,          1,          3,     -999.0,9,20020630,       2156,    13.1650,   -61.0698,        405,    14.8,  27.8001,  34.4798,2,-999.0000,9,   203.8,2,-999.000,9,-999.000,9,    27.7966,     -999.0,     -999.0
 06MT200206,       ar04,     415,          1,          2,     -999.0,9,20020630,       2156,    13.1650,   -61.0698,        405,    90.5,  26.6006,  36.2562,2,  36.4535,2,   186.5,2,-999.000,9,-999.000,9,    26.5800,     -999.0,     -999.0
 06MT200206,       ar04,     415,          1,          1,     -999.0,9,20020630,       2156,    13.1650,   -61.0698,        405,   403.5,  10.4532,  35.2074,2,-999.0000,9,   135.1,2,-999.000,9,-999.000,9,    10.4044,     -999.0,     -999.0
 06MT200206,       ar04,     416,          1,          3,     -999.0,9,20020630,       2355,    12.9652,   -61.0142,        642,    10.9,  27.7986,  34.3325,2,-999.0000,9,   207.4,2,-999.000,9,-999.000,9,    27.7961,     -999.0,     -999.0
 06MT200206,       ar04,     416,          1,          2,     -999.0,9,20020630,       2355,    12.9652,   -61.0142,        642,   107.7,  25.2443,  36.6343,2,-999.0000,9,   182.5,2,-999.000,9,-999.000,9,    25.2206,     -999.0,     -999.0
 06MT200206,       ar04,     416,          1,          1,     -999.0,9,20020630,       2355,    12.9652,   -61.0142,        642,   641.9,   6.5190,  34.6923,2,  34.6938,2,   129.3,2,-999.000,9,-999.000,9,     6.4596,     -999.0,     -999.0
 06MT200206,       ar04,     417,          1,          7,     -999.0,9,20020701,       0115,    12.8932,   -60.9970,       1141,    18.4,  27.8182,  34.2906,2,-999.0000,9,   208.4,2,   1.612,2,   0.980,2,    27.8139,      0.007,      0.006
 06MT200206,       ar04,     417,          1,          6,     -999.0,9,20020701,       0115,    12.8932,   -60.9970,       1141,    94.4,  26.0406,  36.3305,2,-999.0000,9,  -999.0,9,   1.742,2,   1.035,2,    26.0194,      0.007,      0.007
 06MT200206,       ar04,     417,          1,          5,     -999.0,9,20020701,       0115,    12.8932,   -60.9970,       1141,   210.7,  17.2584,  36.3059,2,-999.0000,9,  -999.0,9,   2.110,2,   1.148,2,    17.2229,      0.008,      0.007
 06MT200206,       ar04,     417,          1,          4,     -999.0,9,20020701,       0115,    12.8932,   -60.9970,       1141,   399.9,   8.7372,  34.8743,2,-999.0000,9,  -999.0,9,   0.848,2,   0.438,2,     8.6941,      0.004,      0.004
 06MT200206,       ar04,     417,          1,          3,     -999.0,9,20020701,       0115,    12.8932,   -60.9970,       1141,   598.8,   6.8403,  34.7101,2,-999.0000,9,  -999.0,9,   0.301,2,   0.168,2,     6.7836,      0.002,      0.004
 06MT200206,       ar04,     417,          1,          2,     -999.0,9,20020701,       0115,    12.8932,   -60.9970,       1141,   800.6,   5.5730,  34.6649,2,-999.0000,9,  -999.0,9,   0.080,2,   0.047,2,     5.5037,      0.002,      0.004
 06MT200206,       ar04,     417,          1,          1,     -999.0,9,20020701,       0115,    12.8932,   -60.9970,       1141,  1140.7,   4.9672,  34.9324,2,  34.9290,2,   197.6,2,   0.232,2,   0.126,2,     4.8705,      0.002,      0.004
 06MT200206,       ar04,     418,          1,          9,     -999.0,9,20020701,       0359,    12.6427,   -60.9372,       1319,    12.6,  27.7613,  34.2434,2,-999.0000,9,   208.6,2,   1.596,2,   0.989,2,    27.7584,      0.006,      0.006
 06MT200206,       ar04,     418,          1,          8,     -999.0,9,20020701,       0359,    12.6427,   -60.9372,       1319,   153.8,  19.9285,  36.5932,2,-999.0000,9,  -999.0,9,   1.949,2,   1.125,2,    19.8999,      0.008,      0.007
 06MT200206,       ar04,     418,          1,          7,     -999.0,9,20020701,       0359,    12.6427,   -60.9372,       1319,   301.2,  11.8173,  35.3573,2,-999.0000,9,  -999.0,9,   1.231,2,   0.646,2,    11.7781,      0.005,      0.005
 06MT200206,       ar04,     418,          1,          6,     -999.0,9,20020701,       0359,    12.6427,   -60.9372,       1319,   487.9,   7.8955,  34.7787,2,-999.0000,9,  -999.0,9,   0.515,2,   0.275,2,     7.8457,      0.003,      0.004
 06MT200206,       ar04,     418,          1,          5,     -999.0,9,20020701,       0359,    12.6427,   -60.9372,       1319,   702.9,   6.2057,  34.6824,2,-999.0000,9,   129.2,2,   0.154,2,   0.087,2,     6.1420,      0.002,      0.004
 06MT200206,       ar04,     418,          1,          4,     -999.0,9,20020701,       0359,    12.6427,   -60.9372,       1319,   899.9,   5.3394,  34.7180,2,-999.0000,9,  -999.0,9,   0.046,2,   0.029,2,     5.2624,      0.002,      0.004
 06MT200206,       ar04,     418,          1,          3,     -999.0,9,20020701,       0359,    12.6427,   -60.9372,       1319,  1098.6,   5.1916,  34.9338,2,  34.9437,2,  -999.0,9,   0.215,2,   0.121,2,     5.0969,      0.002,      0.004
 06MT200206,       ar04,     418,          1,          2,     -999.0,9,20020701,       0359,    12.6427,   -60.9372,       1319,  1259.2,   4.8080,  34.9913,2,-999.0000,9,  -999.0,9,   0.420,2,   0.220,2,     4.7016,      0.002,      0.004
 06MT200206,       ar04,     418,          1,          1,     -999.0,9,20020701,       0359,    12.6427,   -60.9372,       1319,  1318.2,   4.6256,  35.0036,2,  35.0037,2,   235.5,2,   0.547,2,   0.283,2,     4.5154,      0.003,      0.004
 06MT200206,       ar04,     419,          1,         11,     -999.0,9,20020701,       0651,    12.3843,   -60.8720,       1951,     4.5,  27.7637,  34.5031,2,-999.0000,9,   205.6,2,  -0.000,4,  -0.000,4,    27.7626,      0.002,      0.004
 06MT200206,       ar04,     419,          1,         10,     -999.0,9,20020701,       0651,    12.3843,   -60.8720,       1951,   504.7,   8.0068,  34.8323,2,-999.0000,9,  -999.0,9,   0.535,2,   0.286,2,     7.9548,      0.003,      0.004
 06MT200206,       ar04,     419,          1,          9,     -999.0,9,20020701,       0651,    12.3843,   -60.8720,       1951,   697.0,   6.2247,  34.6727,2,-999.0000,9,  -999.0,9,   0.177,2,   0.100,2,     6.1615,      0.002,      0.004
 06MT200206,       ar04,     419,          1,          8,     -999.0,9,20020701,       0651,    12.3843,   -60.8720,       1951,   896.5,   5.4132,  34.7288,2,-999.0000,9,  -999.0,9,   0.068,2,   0.038,2,     5.3360,      0.002,      0.004
 06MT200206,       ar04,     419,          1,          7,     -999.0,9,20020701,       0651,    12.3843,   -60.8720,       1951,  1096.8,   5.2115,  34.9092,2,-999.0000,9,  -999.0,9,-999.000,9,-999.000,9,     5.1169,     -999.0,     -999.0
 06MT200206,       ar04,     419,          1,          6,     -999.0,9,20020701,       0651,    12.3843,   -60.8720,       1951,  1248.2,   4.9071,  35.0061,2,-999.0000,9,  -999.0,9,   0.171,2,   0.093,2,     4.8008,      0.002,      0.004
 06MT200206,       ar04,     419,          1,          5,     -999.0,9,20020701,       0651,    12.3843,   -60.8720,       1951,  1392.6,   4.3868,  35.0076,2,-999.0000,9,   248.8,6,   0.467,2,   0.239,2,     4.2721,      0.003,      0.004
 06MT200206,       ar04,     419,          1,          4,     -999.0,9,20020701,       0651,    12.3843,   -60.8720,       1951,  1549.5,   4.0918,  34.9958,2,-999.0000,9,  -999.0,9,   0.633,2,   0.321,2,     3.9659,      0.003,      0.004
 06MT200206,       ar04,     419,          1,          3,     -999.0,9,20020701,       0651,    12.3843,   -60.8720,       1951,  1696.0,   3.9496,  34.9884,2,  34.9913,2,  -999.0,9,   0.656,2,   0.331,2,     3.8119,      0.003,      0.004
 06MT200206,       ar04,     419,          1,          2,     -999.0,9,20020701,       0651,    12.3843,   -60.8720,       1951,  1849.7,   3.8343,  34.9854,2,-999.0000,9,  -999.0,9,   0.696,2,   0.352,2,     3.6836,      0.003,      0.004
 06MT200206,       ar04,     419,          1,          1,     -999.0,9,20020701,       0651,    12.3843,   -60.8720,       1951,  1950.4,   3.8284,  34.9847,2,  34.9856,2,   264.6,2,   0.539,2,   0.281,2,     3.6682,      0.003,      0.004
 06MT200206,       ar04,     420,          1,          7,     -999.0,9,20020701,       1009,    12.1313,   -60.8022,        695,    11.9,  27.6142,  34.7478,2,-999.0000,9,   206.8,2,-999.000,9,-999.000,9,    27.6114,     -999.0,     -999.0
 06MT200206,       ar04,     420,          1,          6,     -999.0,9,20020701,       1009,    12.1313,   -60.8022,        695,   101.9,  22.0035,  36.5550,2,-999.0000,9,  -999.0,9,-999.000,9,-999.000,9,    21.9832,     -999.0,     -999.0
 06MT200206,       ar04,     420,          1,          5,     -999.0,9,20020701,       1009,    12.1313,   -60.8022,        695,   202.3,  14.6098,  35.7511,2,-999.0000,9,  -999.0,9,-999.000,9,-999.000,9,    14.5795,     -999.0,     -999.0
 06MT200206,       ar04,     420,          1,          4,     -999.0,9,20020701,       1009,    12.1313,   -60.8022,        695,   306.8,  10.9284,  35.2263,2,-999.0000,9,   121.2,6,-999.000,9,-999.000,9,    10.8904,     -999.0,     -999.0
 06MT200206,       ar04,     420,          1,          3,     -999.0,9,20020701,       1009,    12.1313,   -60.8022,        695,   503.4,   7.6433,  34.7977,2,-999.0000,9,  -999.0,9,-999.000,9,-999.000,9,     7.5928,     -999.0,     -999.0
 06MT200206,       ar04,     420,          1,          2,     -999.0,9,20020701,       1009,    12.1313,   -60.8022,        695,   600.5,   6.5029,  34.6549,2,-999.0000,9,  -999.0,9,-999.000,9,-999.000,9,     6.4476,     -999.0,     -999.0
 06MT200206,       ar04,     420,          1,          1,     -999.0,9,20020701,       1009,    12.1313,   -60.8022,        695,   680.9,   6.3824,  34.6814,2,  34.6842,2,   127.7,2,-999.000,9,-999.000,9,     6.3199,     -999.0,     -999.0
 06MT200206,       ar04,     421,          1,         11,     -999.0,9,20020701,       1305,    11.8350,   -60.7282,       1667,     5.0,  27.1087,  35.1047,2,-999.0000,9,  -999.0,9,-999.000,9,-999.000,9,    27.1076,     -999.0,     -999.0
 06MT200206,       ar04,     421,          1,         10,     -999.0,9,20020701,       1305,    11.8350,   -60.7282,       1667,   403.1,   8.6078,  34.9230,2,-999.0000,9,  -999.0,9,-999.000,9,-999.000,9,     8.5647,     -999.0,     -999.0
 06MT200206,       ar04,     421,          1,          9,     -999.0,9,20020701,       1305,    11.8350,   -60.7282,       1667,   801.3,   5.4900,  34.6806,2,-999.0000,9,  -999.0,9,-999.000,9,-999.000,9,     5.4212,     -999.0,     -999.0
 06MT200206,       ar04,     421,          1,          8,     -999.0,9,20020701,       1305,    11.8350,   -60.7282,       1667,   995.4,   5.2290,  34.8477,2,-999.0000,9,  -999.0,9,-999.000,9,-999.000,9,     5.1438,     -999.0,     -999.0
 06MT200206,       ar04,     421,          1,          7,     -999.0,9,20020701,       1305,    11.8350,   -60.7282,       1667,  1151.4,   4.9995,  34.9894,2,-999.0000,9,  -999.0,9,-999.000,9,-999.000,9,     4.9014,     -999.0,     -999.0
 06MT200206,       ar04,     421,          1,          6,     -999.0,9,20020701,       1305,    11.8350,   -60.7282,       1667,  1302.5,   4.6296,  35.0124,2,-999.0000,9,  -999.0,9,-999.000,9,-999.000,9,     4.5208,     -999.0,     -999.0
 06MT200206,       ar04,     421,          1,          5,     -999.0,9,20020701,       1305,    11.8350,   -60.7282,       1667,  1406.5,   4.4773,  35.0093,2,-999.0000,9,   246.5,2,-999.000,9,-999.000,9,     4.3604,     -999.0,     -999.0
 06MT200206,       ar04,     421,          1,          4,     -999.0,9,20020701,       1305,    11.8350,   -60.7282,       1667,  1499.9,   4.3088,  35.0045,2,-999.0000,9,  -999.0,9,-999.000,9,-999.000,9,     4.1850,     -999.0,     -999.0
 06MT200206,       ar04,     421,          1,          3,     -999.0,9,20020701,       1305,    11.8350,   -60.7282,       1667,  1547.3,   4.2401,  35.0019,2,-999.0000,9,  -999.0,9,-999.000,9,-999.000,9,     4.1127,     -999.0,     -999.0
 06MT200206,       ar04,     421,          1,          2,     -999.0,9,20020701,       1305,    11.8350,   -60.7282,       1667,  1602.3,   4.1202,  34.9977,2,-999.0000,9,   258.7,2,-999.000,9,-999.000,9,     3.9891,     -999.0,     -999.0
 06MT200206,       ar04,     421,          1,          1,     -999.0,9,20020701,       1305,    11.8350,   -60.7282,       1667,  1665.6,   4.0272,  34.9930,2,-999.0000,9,  -999.0,9,-999.000,9,-999.000,9,     3.8913,     -999.0,     -999.0
 06MT200206,       ar04,     422,          1,          5,     -999.0,9,20020701,       1625,    11.5548,   -60.6627,        653,    18.5,  27.4757,  34.8467,2,-999.0000,9,   207.8,2,   1.558,2,   0.984,2,    27.4714,      0.006,      0.006
 06MT200206,       ar04,     422,          1,          4,     -999.0,9,20020701,       1625,    11.5548,   -60.6627,        653,   159.2,  16.1174,  36.1118,2,-999.0000,9,  -999.0,9,   1.809,2,   1.020,2,    16.0919,      0.007,      0.007
 06MT200206,       ar04,     422,          1,          3,     -999.0,9,20020701,       1625,    11.5548,   -60.6627,        653,   306.5,  11.0586,  35.2267,2,-999.0000,9,  -999.0,9,   1.238,2,   0.656,2,    11.0204,      0.005,      0.005
 06MT200206,       ar04,     422,          1,          2,     -999.0,9,20020701,       1625,    11.5548,   -60.6627,        653,   603.0,   5.9888,  34.6580,2,-999.0000,9,  -999.0,9,   0.141,2,   0.080,2,     5.9356,      0.002,      0.004
 06MT200206,       ar04,     422,          1,          1,     -999.0,9,20020701,       1625,    11.5548,   -60.6627,        653,   650.6,   5.7110,  34.6459,2,-999.0000,9,   133.8,2,   0.112,2,   0.064,2,     5.6548,      0.002,      0.004