BOTTLE,20220810CCHSIOAMB
# added units PMOL/KG to CF11ER and CF12ER columns
#BOTTLE,20211124CCHSIORKP
# Original header:
# Changed all fill flags to 9
#code : jjward hyd_to_exchange.pl 
#original files copied from HTML directory: 20090515
#original HYD file: ar04_06MT200206hy.txt   Mon May 18 16:59:17 2009
#original SUM file: ar04_06MT200206su.txt   Tue May 19 10:39:45 2009
EXPOCODE,SECT_ID,STNNBR,CASTNO,SAMPNO,BTLNBR,BTLNBR_FLAG_W,DATE,TIME,LATITUDE,LONGITUDE,DEPTH,CTDPRS,CTDTMP,CTDSAL,CTDSAL_FLAG_W,SALNTY,SALNTY_FLAG_W,OXYGEN,OXYGEN_FLAG_W,CFC-11,CFC-11_FLAG_W,CFC-12,CFC-12_FLAG_W,THETA,CF11ER,CF12ER
,,,,,,,,,,,METERS,DBAR,ITS-90,PSS-78,,PSS-78,,UMOL/KG,,PMOL/KG,,PMOL/KG,,ITS-90,PMOL/KG,PMOL/KG
 06MT200206,       ar04,       0,          1,         21,     -999.0,9,20020608,       1335,    -4.3638,   -35.8817,       2548,    10.4,  28.4313,  35.7339,2,  35.9157,2,   204.3,6,-999.000,9,-999.000,9,    28.4288,     -999.0,     -999.0
 06MT200206,       ar04,       0,          1,         20,     -999.0,9,20020608,       1335,    -4.3638,   -35.8817,       2548,    71.2,  26.8970,  36.6790,2,-999.0000,9,   199.2,2,-999.000,9,-999.000,9,    26.8806,     -999.0,     -999.0
 06MT200206,       ar04,       0,          1,         19,     -999.0,9,20020608,       1335,    -4.3638,   -35.8817,       2548,   103.3,  24.5723,  36.6318,2,-999.0000,9,   194.9,2,-999.000,9,-999.000,9,    24.5500,     -999.0,     -999.0
 06MT200206,       ar04,       0,          1,         18,     -999.0,9,20020608,       1335,    -4.3638,   -35.8817,       2548,   249.2,  12.1283,  35.1338,2,-999.0000,9,   187.2,2,-999.000,9,-999.000,9,    12.0954,     -999.0,     -999.0
 06MT200206,       ar04,       0,          1,         17,     -999.0,9,20020608,       1335,    -4.3638,   -35.8817,       2548,   498.1,   7.6429,  34.5998,2,  34.5995,2,   181.7,2,-999.000,9,-999.000,9,     7.5931,     -999.0,     -999.0
 06MT200206,       ar04,       0,          1,         16,     -999.0,9,20020608,       1335,    -4.3638,   -35.8817,       2548,   697.6,   5.1189,  34.4559,2,-999.0000,9,   163.4,2,-999.000,9,-999.000,9,     5.0617,     -999.0,     -999.0
 06MT200206,       ar04,       0,          1,         15,     -999.0,9,20020608,       1335,    -4.3638,   -35.8817,       2548,   798.0,   4.5554,  34.4646,2,-999.0000,9,   166.7,2,-999.000,9,-999.000,9,     4.4929,     -999.0,     -999.0
 06MT200206,       ar04,       0,          1,         14,     -999.0,9,20020608,       1335,    -4.3638,   -35.8817,       2548,   897.8,   4.2511,  34.5138,2,-999.0000,9,   168.0,2,-999.000,9,-999.000,9,     4.1821,     -999.0,     -999.0
 06MT200206,       ar04,       0,          1,         13,     -999.0,9,20020608,       1335,    -4.3638,   -35.8817,       2548,   997.8,   4.2393,  34.5804,2,  34.5794,2,   167.7,2,-999.000,9,-999.000,9,     4.1619,     -999.0,     -999.0
 06MT200206,       ar04,       0,          1,         12,     -999.0,9,20020608,       1335,    -4.3638,   -35.8817,       2548,  1197.8,   4.4751,  34.8208,2,-999.0000,9,   189.2,2,-999.000,9,-999.000,9,     4.3777,     -999.0,     -999.0
 06MT200206,       ar04,       0,          1,         11,     -999.0,9,20020608,       1335,    -4.3638,   -35.8817,       2548,  1404.1,   4.4553,  34.9320,2,-999.0000,9,   216.3,2,-999.000,9,-999.000,9,     4.3390,     -999.0,     -999.0
 06MT200206,       ar04,       0,          1,         10,     -999.0,9,20020608,       1335,    -4.3638,   -35.8817,       2548,  1498.0,   4.3610,  34.9631,2,  34.9841,2,  -999.0,9,-999.000,9,-999.000,9,     4.2369,     -999.0,     -999.0
 06MT200206,       ar04,       0,          1,          9,     -999.0,9,20020608,       1335,    -4.3638,   -35.8817,       2548,  1603.2,   4.2785,  34.9715,2,  34.9719,2,  -999.0,9,-999.000,9,-999.000,9,     4.1455,     -999.0,     -999.0
 06MT200206,       ar04,       0,          1,          8,     -999.0,9,20020608,       1335,    -4.3638,   -35.8817,       2548,  1699.8,   3.9698,  34.9803,2,  34.9778,2,  -999.0,9,-999.000,9,-999.000,9,     3.8315,     -999.0,     -999.0
 06MT200206,       ar04,       0,          1,          7,     -999.0,9,20020608,       1335,    -4.3638,   -35.8817,       2548,  1804.5,   3.7083,  34.9751,2,  34.6396,3,   362.9,4,-999.000,9,-999.000,9,     3.5636,     -999.0,     -999.0
 06MT200206,       ar04,       0,          1,          6,     -999.0,9,20020608,       1335,    -4.3638,   -35.8817,       2548,  1897.8,   3.6801,  34.9757,2,  34.9754,2,   250.0,2,-999.000,9,-999.000,9,     3.5270,     -999.0,     -999.0
 06MT200206,       ar04,       0,          1,          5,     -999.0,9,20020608,       1335,    -4.3638,   -35.8817,       2548,  2003.1,   3.5413,  34.9701,2,  34.9695,2,   255.8,2,-999.000,9,-999.000,9,     3.3803,     -999.0,     -999.0
 06MT200206,       ar04,       0,          1,          4,     -999.0,9,20020608,       1335,    -4.3638,   -35.8817,       2548,  2199.7,   3.4207,  34.9659,2,  34.9663,2,   255.9,2,-999.000,9,-999.000,9,     3.2427,     -999.0,     -999.0
 06MT200206,       ar04,       0,          1,          3,     -999.0,9,20020608,       1335,    -4.3638,   -35.8817,       2548,  2469.9,   2.9769,  34.9448,2,  34.9412,2,  -999.0,9,-999.000,9,-999.000,9,     2.7803,     -999.0,     -999.0
 06MT200206,       ar04,       0,          1,          2,     -999.0,9,20020608,       1335,    -4.3638,   -35.8817,       2548,  2547.8,   2.8323,  34.9360,2,  34.9368,2,   258.4,2,-999.000,9,-999.000,9,     2.6308,     -999.0,     -999.0
 06MT200206,       ar04,     329,          1,          8,     -999.0,9,20020609,       1207,    -2.1158,   -40.0005,       1309,     9.8,  27.7322,  36.0034,2,  36.0163,2,   198.6,2,   1.530,2,   0.966,2,    27.7299,      0.007,      0.004
 06MT200206,       ar04,     329,          1,          7,     -999.0,9,20020609,       1207,    -2.1158,   -40.0005,       1309,   100.7,  22.2658,  36.2763,2,-999.0000,9,   193.2,6,-999.000,9,-999.000,9,    22.2456,     -999.0,     -999.0
 06MT200206,       ar04,     329,          1,          6,     -999.0,9,20020609,       1207,    -2.1158,   -40.0005,       1309,   412.1,   8.6324,  34.7232,2,-999.0000,9,  -999.0,9,   1.582,2,   0.813,2,     8.5883,      0.007,      0.003
 06MT200206,       ar04,     329,          1,          5,     -999.0,9,20020609,       1207,    -2.1158,   -40.0005,       1309,   630.2,   6.0623,  34.5148,2,  34.5150,2,   159.3,2,   0.748,2,   0.381,2,     6.0064,      0.003,      0.002
 06MT200206,       ar04,     329,          1,          4,     -999.0,9,20020609,       1207,    -2.1158,   -40.0005,       1309,   808.8,   4.6664,  34.4564,2,-999.0000,9,  -999.0,9,   0.428,2,   0.218,2,     4.6023,      0.002,      0.001
 06MT200206,       ar04,     329,          1,          3,     -999.0,9,20020609,       1207,    -2.1158,   -40.0005,       1309,  1016.0,   4.3199,  34.5741,2,  34.5765,2,   173.6,6,   0.151,2,   0.077,2,     4.2403,      0.001,      0.000
 06MT200206,       ar04,     329,          1,          2,     -999.0,9,20020609,       1207,    -2.1158,   -40.0005,       1309,  1201.3,   4.5292,  34.8489,2,-999.0000,9,  -999.0,9,   0.128,2,   0.063,2,     4.4310,      0.001,      0.000
 06MT200206,       ar04,     329,          1,          1,     -999.0,9,20020609,       1207,    -2.1158,   -40.0005,       1309,  1307.9,   4.4936,  34.9245,2,  34.9235,2,   214.2,2,   0.170,2,   0.090,2,     4.3858,      0.001,      0.000
 06MT200206,       ar04,     330,          1,         16,     -999.0,9,20020609,       1526,    -2.0323,   -40.0012,       2424,    10.8,  27.7608,  36.0178,2,  36.0283,2,   200.2,2,   1.572,2,   0.972,2,    27.7583,      0.007,      0.004
 06MT200206,       ar04,     330,          1,         15,     -999.0,9,20020609,       1526,    -2.0323,   -40.0012,       2424,   109.7,  20.9998,  36.3320,2,-999.0000,9,   191.6,2,   2.073,2,   1.194,2,    20.9787,      0.009,      0.005
 06MT200206,       ar04,     330,          1,         14,     -999.0,9,20020609,       1526,    -2.0323,   -40.0012,       2424,   203.5,  12.0023,  35.0966,2,-999.0000,9,   173.8,2,   2.129,2,   1.175,2,    11.9757,      0.009,      0.005
 06MT200206,       ar04,     330,          1,         13,     -999.0,9,20020609,       1526,    -2.0323,   -40.0012,       2424,   415.8,   7.7911,  34.6374,2,-999.0000,9,   165.1,6,   1.360,2,   0.692,2,     7.7493,      0.006,      0.003
 06MT200206,       ar04,     330,          1,         12,     -999.0,9,20020609,       1526,    -2.0323,   -40.0012,       2424,   606.9,   6.1363,  34.5120,2,  34.5115,2,  -999.0,9,   0.862,2,   0.435,2,     6.0822,      0.004,      0.002
 06MT200206,       ar04,     330,          1,         11,     -999.0,9,20020609,       1526,    -2.0323,   -40.0012,       2424,   806.8,   4.6658,  34.4502,2,-999.0000,9,  -999.0,9,   0.456,2,   0.232,2,     4.6019,      0.002,      0.001
 06MT200206,       ar04,     330,          1,         10,     -999.0,9,20020609,       1526,    -2.0323,   -40.0012,       2424,  1020.5,   4.5056,  34.6104,2,-999.0000,9,   165.0,2,   0.090,2,   0.046,2,     4.4241,      0.000,      0.000
 06MT200206,       ar04,     330,          1,          9,     -999.0,9,20020609,       1526,    -2.0323,   -40.0012,       2424,  1227.9,   4.5693,  34.8977,2,-999.0000,9,  -999.0,9,   0.107,2,   0.058,2,     4.4682,      0.000,      0.000
 06MT200206,       ar04,     330,          1,          8,     -999.0,9,20020609,       1526,    -2.0323,   -40.0012,       2424,  1414.3,   4.5442,  34.9458,2,-999.0000,9,  -999.0,9,   0.200,2,   0.106,2,     4.4260,      0.001,      0.000
 06MT200206,       ar04,     330,          1,          7,     -999.0,9,20020609,       1526,    -2.0323,   -40.0012,       2424,  1576.9,   4.3827,  34.9708,2,-999.0000,9,   233.2,2,   0.308,2,   0.161,2,     4.2509,      0.001,      0.001
 06MT200206,       ar04,     330,          1,          6,     -999.0,9,20020609,       1526,    -2.0323,   -40.0012,       2424,  1704.3,   3.7842,  34.9832,2,  34.9823,2,  -999.0,9,   0.366,2,   0.192,2,     3.6478,      0.002,      0.001
 06MT200206,       ar04,     330,          1,          5,     -999.0,9,20020609,       1526,    -2.0323,   -40.0012,       2424,  1902.1,   3.5814,  34.9759,2,-999.0000,9,   261.3,6,   0.312,2,   0.162,2,     3.4293,      0.001,      0.001
 06MT200206,       ar04,     330,          1,          4,     -999.0,9,20020609,       1526,    -2.0323,   -40.0012,       2424,  2047.8,   3.5337,  34.9734,2,  34.9709,2,  -999.0,9,   0.252,2,   0.130,2,     3.3685,      0.001,      0.001
 06MT200206,       ar04,     330,          1,          3,     -999.0,9,20020609,       1526,    -2.0323,   -40.0012,       2424,  2198.3,   3.4422,  34.9699,2,-999.0000,9,  -999.0,9,   0.231,2,   0.121,2,     3.2640,      0.001,      0.001
 06MT200206,       ar04,     330,          1,          2,     -999.0,9,20020609,       1526,    -2.0323,   -40.0012,       2424,  2397.4,   3.0948,  34.9534,2,  34.9536,2,   265.5,2,   0.189,2,   0.095,2,     2.9031,      0.001,      0.000
 06MT200206,       ar04,     330,          1,          1,     -999.0,9,20020609,       1526,    -2.0323,   -40.0012,       2424,  2422.8,   3.0943,  34.9532,2,  34.9540,2,   262.7,2,   0.183,2,   0.094,2,     2.9002,      0.001,      0.000
 06MT200206,       ar04,     331,          1,         21,     -999.0,9,20020609,       1814,    -1.8632,   -39.9943,       3327,    13.7,  28.2384,  35.6043,2,  35.6273,2,   202.1,2,   1.552,2,   0.967,2,    28.2351,      0.007,      0.004
 06MT200206,       ar04,     331,          1,         20,     -999.0,9,20020609,       1814,    -1.8632,   -39.9943,       3327,    72.0,  26.3589,  37.0521,2,-999.0000,9,   203.1,6,-999.000,9,-999.000,9,    26.3426,     -999.0,     -999.0
 06MT200206,       ar04,     331,          1,         19,     -999.0,9,20020609,       1814,    -1.8632,   -39.9943,       3327,   102.0,  22.2471,  36.7207,2,  36.3461,2,   191.9,2,-999.000,9,-999.000,9,    22.2266,     -999.0,     -999.0
 06MT200206,       ar04,     331,          1,         18,     -999.0,9,20020609,       1814,    -1.8632,   -39.9943,       3327,   250.7,  11.0318,  34.9866,2,-999.0000,9,   162.4,2,-999.000,9,-999.000,9,    11.0008,     -999.0,     -999.0
 06MT200206,       ar04,     331,          1,         17,     -999.0,9,20020609,       1814,    -1.8632,   -39.9943,       3327,   401.6,   7.7126,  34.6421,2,-999.0000,9,   151.6,6,-999.000,9,-999.000,9,     7.6725,     -999.0,     -999.0
 06MT200206,       ar04,     331,          1,         16,     -999.0,9,20020609,       1814,    -1.8632,   -39.9943,       3327,   577.6,   6.3843,  34.5385,2,-999.0000,9,  -999.0,9,-999.000,9,-999.000,9,     6.3318,     -999.0,     -999.0
 06MT200206,       ar04,     331,          1,         15,     -999.0,9,20020609,       1814,    -1.8632,   -39.9943,       3327,   702.1,   5.6759,  34.5056,2,-999.0000,9,  -999.0,9,-999.000,9,-999.000,9,     5.6153,     -999.0,     -999.0
 06MT200206,       ar04,     331,          1,         14,     -999.0,9,20020609,       1814,    -1.8632,   -39.9943,       3327,   897.7,   4.2488,  34.4836,2,  34.5398,2,  -999.0,9,-999.000,9,-999.000,9,     4.1799,     -999.0,     -999.0
 06MT200206,       ar04,     331,          1,         13,     -999.0,9,20020609,       1814,    -1.8632,   -39.9943,       3327,  1100.6,   4.5850,  34.6698,2,-999.0000,9,  -999.0,9,   0.051,2,   0.029,2,     4.4957,      0.000,      0.000
 06MT200206,       ar04,     331,          1,         12,     -999.0,9,20020609,       1814,    -1.8632,   -39.9943,       3327,  1294.7,   4.5474,  34.9277,2,-999.0000,9,  -999.0,9,   0.160,2,   0.085,2,     4.4403,      0.001,      0.000
 06MT200206,       ar04,     331,          1,         11,     -999.0,9,20020609,       1814,    -1.8632,   -39.9943,       3327,  1449.2,   4.4963,  34.9410,2,-999.0000,9,  -999.0,9,   0.156,2,   0.084,2,     4.3754,      0.001,      0.000
 06MT200206,       ar04,     331,          1,         10,     -999.0,9,20020609,       1814,    -1.8632,   -39.9943,       3327,  1575.6,   4.3447,  34.9720,2,  34.9728,2,  -999.0,9,   0.297,2,   0.156,2,     4.2135,      0.001,      0.001
 06MT200206,       ar04,     331,          1,          9,     -999.0,9,20020609,       1814,    -1.8632,   -39.9943,       3327,  1741.7,   3.7031,  34.9799,2,  34.9805,2,  -999.0,9,   0.338,2,   0.178,2,     3.5643,      0.001,      0.001
 06MT200206,       ar04,     331,          1,          8,     -999.0,9,20020609,       1814,    -1.8632,   -39.9943,       3327,  1917.0,   3.5673,  34.9750,2,-999.0000,9,  -999.0,9,   0.251,2,   0.129,2,     3.4140,      0.001,      0.001
 06MT200206,       ar04,     331,          1,          7,     -999.0,9,20020609,       1814,    -1.8632,   -39.9943,       3327,  2118.1,   3.4864,  34.9693,2,-999.0000,9,  -999.0,9,   0.176,2,   0.094,2,     3.3152,      0.001,      0.000
 06MT200206,       ar04,     331,          1,          6,     -999.0,9,20020609,       1814,    -1.8632,   -39.9943,       3327,  2247.4,   3.4593,  34.9687,2,-999.0000,9,  -999.0,9,   0.238,2,   0.125,2,     3.2760,      0.001,      0.001
 06MT200206,       ar04,     331,          1,          5,     -999.0,9,20020609,       1814,    -1.8632,   -39.9943,       3327,  2510.8,   3.0719,  34.9526,2,-999.0000,9,  -999.0,9,   0.177,2,   0.091,2,     2.8695,      0.001,      0.000
 06MT200206,       ar04,     331,          1,          4,     -999.0,9,20020609,       1814,    -1.8632,   -39.9943,       3327,  2752.2,   2.9072,  34.9418,2,-999.0000,9,  -999.0,9,   0.150,2,   0.078,2,     2.6839,      0.001,      0.000
 06MT200206,       ar04,     331,          1,          3,     -999.0,9,20020609,       1814,    -1.8632,   -39.9943,       3327,  2998.3,   2.7235,  34.9292,2,  34.9303,2,  -999.0,9,   0.149,2,   0.076,2,     2.4789,      0.001,      0.000
 06MT200206,       ar04,     331,          1,          2,     -999.0,9,20020609,       1814,    -1.8632,   -39.9943,       3327,  3298.7,   2.5407,  34.9170,2,  34.9189,2,   265.6,2,   0.192,2,   0.098,2,     2.2689,      0.001,      0.000
 06MT200206,       ar04,     331,          1,          1,     -999.0,9,20020609,       1814,    -1.8632,   -39.9943,       3327,  3320.6,   2.5386,  34.9165,2,  34.9164,2,   264.5,2,   0.195,2,   0.101,2,     2.2645,      0.001,      0.000
 06MT200206,       ar04,     332,          1,          7,     -999.0,9,20020609,       2138,    -1.6413,   -39.9883,       3716,    15.4,  28.3942,  35.7653,2,  35.7533,2,  -999.0,9,   1.568,2,   0.959,2,    28.3905,      0.007,      0.004
 06MT200206,       ar04,     332,          1,          6,     -999.0,9,20020609,       2138,    -1.6413,   -39.9883,       3716,  1298.8,   4.5534,  34.9244,2,-999.0000,9,  -999.0,9,   0.148,2,   0.078,2,     4.4459,      0.001,      0.000
 06MT200206,       ar04,     332,          1,          5,     -999.0,9,20020609,       2138,    -1.6413,   -39.9883,       3716,  1591.5,   4.3414,  34.9752,2,-999.0000,9,  -999.0,9,   0.319,2,   0.165,2,     4.2087,      0.001,      0.001
 06MT200206,       ar04,     332,          1,          4,     -999.0,9,20020609,       2138,    -1.6413,   -39.9883,       3716,  1780.0,   3.6510,  34.9791,2,  34.9764,2,   260.4,6,   0.344,2,   0.179,2,     3.5093,      0.001,      0.001
 06MT200206,       ar04,     332,          1,          3,     -999.0,9,20020609,       2138,    -1.6413,   -39.9883,       3716,  2000.4,   3.5209,  34.9720,2,-999.0000,9,   259.4,2,   0.223,2,   0.115,2,     3.3604,      0.001,      0.000
 06MT200206,       ar04,     332,          1,          2,     -999.0,9,20020609,       2138,    -1.6413,   -39.9883,       3716,  2199.4,   3.4287,  34.9657,2,  34.9642,2,   258.2,6,   0.131,2,   0.069,2,     3.2506,      0.001,      0.000
 06MT200206,       ar04,     332,          1,          1,     -999.0,9,20020609,       2138,    -1.6413,   -39.9883,       3716,  3713.3,   2.3941,  34.9050,2,  34.9032,2,   266.8,2,   0.233,2,   0.121,2,     2.0810,      0.001,      0.001