BOTTLE,20220810CCHSIOAMB
EXPOCODE,SECT_ID,STNNBR,CASTNO,SAMPNO,BTLNBR,BTLNBR_FLAG_W,DATE,TIME,LATITUDE,LONGITUDE,DEPTH,CTDPRS,CTDTMP,CTDSAL,CTDSAL_FLAG_W,SALNTY,SALNTY_FLAG_W,OXYGEN,OXYGEN_FLAG_W,CFC-11,CFC-11_FLAG_W,CFC-12,CFC-12_FLAG_W,THETA,CF11ER,CF12ER
,,,,,,,,,,,METERS,DBAR,ITS-90,PSS-78,,PSS-78,,UMOL/KG,,PMOL/KG,,PMOL/KG,,ITS-90,PMOL/KG,PMOL/KG
 06MT200206,       ar04,     387,          1,         12,     -999.0,9,20020627,       0644,    16.2938,   -60.5742,       3515,  1197.8,   4.8361,  35.0072,2,-999.0000,9,  -999.0,9,   0.558,6,   0.288,6,     4.7351,      0.002,      0.002
 06MT200206,       ar04,     387,          1,         11,     -999.0,9,20020627,       0644,    16.2938,   -60.5742,       3515,  1421.4,   4.3849,  35.0061,2,-999.0000,9,  -999.0,9,   0.854,2,   0.432,2,     4.2676,      0.003,      0.002
 06MT200206,       ar04,     387,          1,         10,     -999.0,9,20020627,       0644,    16.2938,   -60.5742,       3515,  1615.5,   4.0536,  34.9908,2,-999.0000,9,   261.3,6,   0.946,2,   0.479,2,     3.9221,      0.003,      0.003
 06MT200206,       ar04,     387,          1,          9,     -999.0,9,20020627,       0644,    16.2938,   -60.5742,       3515,  1825.7,   3.8758,  34.9811,2,-999.0000,9,  -999.0,9,   0.911,2,   0.461,2,     3.7268,      0.003,      0.002
 06MT200206,       ar04,     387,          1,          8,     -999.0,9,20020627,       0644,    16.2938,   -60.5742,       3515,  1996.1,   3.6563,  34.9723,2,-999.0000,9,  -999.0,9,   0.766,2,   0.389,2,     3.4942,      0.002,      0.002
 06MT200206,       ar04,     387,          1,          7,     -999.0,9,20020627,       0644,    16.2938,   -60.5742,       3515,  2161.6,   3.4671,  34.9665,2,-999.0000,9,  -999.0,9,   0.596,2,   0.306,2,     3.2920,      0.002,      0.002
 06MT200206,       ar04,     387,          1,          6,     -999.0,9,20020627,       0644,    16.2938,   -60.5742,       3515,  2297.7,   3.3884,  34.9644,2,  34.9660,2,  -999.0,9,   0.524,6,   0.269,6,     3.2014,      0.002,      0.001
 06MT200206,       ar04,     387,          1,          5,     -999.0,9,20020627,       0644,    16.2938,   -60.5742,       3515,  2523.3,   3.2413,  34.9581,2,-999.0000,9,  -999.0,9,   0.433,2,   0.225,2,     3.0345,      0.001,      0.001
 06MT200206,       ar04,     387,          1,          4,     -999.0,9,20020627,       0644,    16.2938,   -60.5742,       3515,  2723.9,   3.0949,  34.9511,2,-999.0000,9,  -999.0,9,   0.403,2,   0.211,2,     2.8707,      0.001,      0.001
 06MT200206,       ar04,     387,          1,          3,     -999.0,9,20020627,       0644,    16.2938,   -60.5742,       3515,  2888.1,   2.9275,  34.9410,2,-999.0000,9,  -999.0,9,   0.412,2,   0.216,2,     2.6899,      0.001,      0.001
 06MT200206,       ar04,     387,          1,          2,     -999.0,9,20020627,       0644,    16.2938,   -60.5742,       3515,  3204.8,   2.5656,  34.9189,2,-999.0000,9,  -999.0,9,   0.494,2,   0.253,2,     2.3031,      0.002,      0.001
 06MT200206,       ar04,     387,          1,          1,     -999.0,9,20020627,       0644,    16.2938,   -60.5742,       3515,  3514.4,   2.4323,  34.9095,2,-999.0000,9,  -999.0,9,   0.529,2,   0.271,2,     2.1400,      0.002,      0.001
 06MT200206,       ar04,     388,          1,         11,     -999.0,9,20020627,       0913,    16.2950,   -60.6110,       3010,    13.3,  27.8321,  30.3102,2,-999.0000,9,  -999.0,9,   1.586,2,   1.007,2,    27.8290,      0.005,      0.005
 06MT200206,       ar04,     388,          1,         10,     -999.0,9,20020627,       0913,    16.2950,   -60.6110,       3010,  1096.1,   5.2608,  35.0066,2,-999.0000,9,  -999.0,9,   0.430,2,   0.228,2,     5.1657,      0.001,      0.001
 06MT200206,       ar04,     388,          1,          9,     -999.0,9,20020627,       0913,    16.2950,   -60.6110,       3010,  1296.8,   4.7369,  35.0092,2,-999.0000,9,  -999.0,9,   0.587,2,   0.304,2,     4.6276,      0.002,      0.002
 06MT200206,       ar04,     388,          1,          8,     -999.0,9,20020627,       0913,    16.2950,   -60.6110,       3010,  1497.0,   4.2101,  35.0001,2,-999.0000,9,  -999.0,9,   0.930,2,   0.473,2,     4.0877,      0.003,      0.002
 06MT200206,       ar04,     388,          1,          7,     -999.0,9,20020627,       0913,    16.2950,   -60.6110,       3010,  1696.6,   3.9668,  34.9853,2,-999.0000,9,  -999.0,9,   0.949,2,   0.478,2,     3.8288,      0.003,      0.003
 06MT200206,       ar04,     388,          1,          6,     -999.0,9,20020627,       0913,    16.2950,   -60.6110,       3010,  1898.1,   3.8052,  34.9777,2,-999.0000,9,  -999.0,9,   0.867,2,   0.443,2,     3.6503,      0.003,      0.002
 06MT200206,       ar04,     388,          1,          5,     -999.0,9,20020627,       0913,    16.2950,   -60.6110,       3010,  2101.0,   3.5241,  34.9692,2,  34.9640,2,   254.3,4,   0.694,2,   0.359,2,     3.3540,      0.002,      0.002
 06MT200206,       ar04,     388,          1,          4,     -999.0,9,20020627,       0913,    16.2950,   -60.6110,       3010,  2289.7,   3.3608,  34.9620,2,-999.0000,9,  -999.0,9,   0.507,2,   0.262,2,     3.1750,      0.002,      0.001
 06MT200206,       ar04,     388,          1,          3,     -999.0,9,20020627,       0913,    16.2950,   -60.6110,       3010,  2598.3,   3.1473,  34.9529,2,-999.0000,9,  -999.0,9,   0.406,2,   0.211,2,     2.9348,      0.001,      0.001
 06MT200206,       ar04,     388,          1,          2,     -999.0,9,20020627,       0913,    16.2950,   -60.6110,       3010,  2804.8,   3.0179,  34.9461,2,-999.0000,9,  -999.0,9,   0.408,2,   0.212,2,     2.7870,      0.001,      0.001
 06MT200206,       ar04,     388,          1,          1,     -999.0,9,20020627,       0913,    16.2950,   -60.6110,       3010,  3009.6,   2.8021,  34.9335,2,-999.0000,9,  -999.0,9,   0.446,2,   0.230,2,     2.5546,      0.001,      0.001
 06MT200206,       ar04,     389,          1,          7,     -999.0,9,20020627,       1120,    16.2940,   -60.6342,       2201,   998.4,   5.8380,  34.9743,2,-999.0000,9,  -999.0,9,   0.269,2,   0.146,2,     5.7478,      0.001,      0.001
 06MT200206,       ar04,     389,          1,          6,     -999.0,9,20020627,       1120,    16.2940,   -60.6342,       2201,  1211.1,   4.9523,  35.0093,2,-999.0000,9,  -999.0,9,   0.524,2,   0.269,2,     4.8490,      0.002,      0.001
 06MT200206,       ar04,     389,          1,          5,     -999.0,9,20020627,       1120,    16.2940,   -60.6342,       2201,  1397.8,   4.5341,  35.0099,2,-999.0000,9,  -999.0,9,   0.760,2,   0.387,2,     4.4174,      0.002,      0.002
 06MT200206,       ar04,     389,          1,          4,     -999.0,9,20020627,       1120,    16.2940,   -60.6342,       2201,  1598.0,   4.0692,  34.9915,2,-999.0000,9,   260.2,6,   0.955,2,   0.479,2,     3.9391,      0.003,      0.003
 06MT200206,       ar04,     389,          1,          3,     -999.0,9,20020627,       1120,    16.2940,   -60.6342,       2201,  1796.9,   3.8970,  34.9816,2,-999.0000,9,  -999.0,9,   0.923,2,   0.468,2,     3.7505,      0.003,      0.002
 06MT200206,       ar04,     389,          1,          2,     -999.0,9,20020627,       1120,    16.2940,   -60.6342,       2201,  2001.4,   3.6660,  34.9731,2,  34.9699,2,  -999.0,9,   0.788,2,   0.401,2,     3.5033,      0.002,      0.002
 06MT200206,       ar04,     389,          1,          1,     -999.0,9,20020627,       1120,    16.2940,   -60.6342,       2201,  2200.4,   3.5223,  34.9686,2,-999.0000,9,  -999.0,9,   0.658,2,   0.338,2,     3.3426,      0.002,      0.002
 06MT200206,       ar04,     390,          1,          7,     -999.0,9,20020627,       1313,    16.2908,   -60.6832,       1702,   607.3,   8.8691,  35.0401,2,-999.0000,9,  -999.0,9,   0.509,2,   0.276,2,     8.8021,      0.002,      0.001
 06MT200206,       ar04,     390,          1,          6,     -999.0,9,20020627,       1313,    16.2908,   -60.6832,       1702,   803.8,   6.8281,  34.8390,2,  34.8316,2,  -999.0,9,   0.161,2,   0.091,2,     6.7507,      0.001,      0.000
 06MT200206,       ar04,     390,          1,          5,     -999.0,9,20020627,       1313,    16.2908,   -60.6832,       1702,   983.7,   5.8991,  34.9279,2,-999.0000,9,  -999.0,9,   0.203,2,   0.110,2,     5.8099,      0.001,      0.001
 06MT200206,       ar04,     390,          1,          4,     -999.0,9,20020627,       1313,    16.2908,   -60.6832,       1702,  1196.5,   5.0902,  35.0140,2,-999.0000,9,  -999.0,9,   0.534,2,   0.276,2,     4.9870,      0.002,      0.001
 06MT200206,       ar04,     390,          1,          3,     -999.0,9,20020627,       1313,    16.2908,   -60.6832,       1702,  1396.8,   4.6543,  35.0121,2,-999.0000,9,   238.6,6,   0.666,2,   0.330,2,     4.5364,      0.002,      0.002
 06MT200206,       ar04,     390,          1,          2,     -999.0,9,20020627,       1313,    16.2908,   -60.6832,       1702,  1601.2,   4.0060,  34.9878,2,-999.0000,9,  -999.0,9,   0.945,2,   0.473,2,     3.8764,      0.003,      0.002
 06MT200206,       ar04,     390,          1,          1,     -999.0,9,20020627,       1313,    16.2908,   -60.6832,       1702,  1701.0,   3.9440,  34.9842,2,-999.0000,9,  -999.0,9,   0.945,2,   0.476,2,     3.8059,      0.003,      0.003
 06MT200206,       ar04,     391,          1,         12,     -999.0,9,20020627,       1509,    16.2905,   -60.7523,       1030,    12.2,  27.9390,  30.6290,2,-999.0000,9,   207.8,2,-999.000,9,-999.000,9,    27.9362,     -999.0,     -999.0
 06MT200206,       ar04,     391,          1,         13,     -999.0,9,20020627,       1509,    16.2905,   -60.7523,       1030,    12.2,  27.9395,  30.6286,2,  31.2651,2,   207.9,2,   1.614,6,   1.019,6,    27.9367,      0.005,      0.005
 06MT200206,       ar04,     391,          1,         11,     -999.0,9,20020627,       1509,    16.2905,   -60.7523,       1030,    52.3,  27.6952,  35.2617,2,-999.0000,9,  -999.0,9,-999.000,9,-999.000,9,    27.6830,     -999.0,     -999.0
 06MT200206,       ar04,     391,          1,         10,     -999.0,9,20020627,       1509,    16.2905,   -60.7523,       1030,   103.7,  26.5756,  36.5832,2,-999.0000,9,  -999.0,9,-999.000,9,-999.000,9,    26.5520,     -999.0,     -999.0
 06MT200206,       ar04,     391,          1,          9,     -999.0,9,20020627,       1509,    16.2905,   -60.7523,       1030,   197.6,  21.5597,  36.9687,2,-999.0000,9,  -999.0,9,-999.000,9,-999.000,9,    21.5208,     -999.0,     -999.0
 06MT200206,       ar04,     391,          1,          8,     -999.0,9,20020627,       1509,    16.2905,   -60.7523,       1030,   305.2,  15.9209,  36.0819,2,-999.0000,9,  -999.0,9,-999.000,9,-999.000,9,    15.8722,     -999.0,     -999.0
 06MT200206,       ar04,     391,          1,          7,     -999.0,9,20020627,       1509,    16.2905,   -60.7523,       1030,   397.9,  13.3883,  35.6955,2,-999.0000,9,  -999.0,9,   1.529,2,   0.829,2,    13.3317,      0.005,      0.004
 06MT200206,       ar04,     391,          1,          6,     -999.0,9,20020627,       1509,    16.2905,   -60.7523,       1030,   508.4,  11.4679,  35.4504,2,-999.0000,9,  -999.0,9,-999.000,9,-999.000,9,    11.4023,     -999.0,     -999.0
 06MT200206,       ar04,     391,          1,          5,     -999.0,9,20020627,       1509,    16.2905,   -60.7523,       1030,   610.4,   8.9868,  35.0648,2,-999.0000,9,  -999.0,9,   0.536,2,   0.290,2,     8.9189,      0.002,      0.002
 06MT200206,       ar04,     391,          1,          4,     -999.0,9,20020627,       1509,    16.2905,   -60.7523,       1030,   698.9,   7.6154,  34.8821,2,-999.0000,9,  -999.0,9,-999.000,9,-999.000,9,     7.5445,     -999.0,     -999.0
 06MT200206,       ar04,     391,          1,          3,     -999.0,9,20020627,       1509,    16.2905,   -60.7523,       1030,   802.1,   6.8675,  34.8529,2,  34.8464,2,   130.9,6,   0.165,2,   0.092,2,     6.7901,      0.001,      0.000
 06MT200206,       ar04,     391,          1,          2,     -999.0,9,20020627,       1509,    16.2905,   -60.7523,       1030,   999.0,   5.8495,  34.8306,2,-999.0000,9,  -999.0,9,   0.099,2,   0.055,2,     5.7594,      0.000,      0.000
 06MT200206,       ar04,     391,          1,          1,     -999.0,9,20020627,       1509,    16.2905,   -60.7523,       1030,  1029.5,   5.7613,  34.9396,2,  34.9331,2,  -999.0,9,   0.222,2,   0.116,2,     5.6687,      0.001,      0.001
 06MT200206,       ar04,     393,          1,          3,     -999.0,9,20020628,       0635,    15.6630,   -61.4422,        565,    11.8,  27.8735,  33.2314,2,-999.0000,9,   204.7,2,-999.000,9,-999.000,9,    27.8707,     -999.0,     -999.0
 06MT200206,       ar04,     393,          1,          2,     -999.0,9,20020628,       0635,    15.6630,   -61.4422,        565,   201.7,  19.3303,  36.7380,2,-999.0000,9,   160.6,6,-999.000,9,-999.000,9,    19.2935,     -999.0,     -999.0
 06MT200206,       ar04,     393,          1,          1,     -999.0,9,20020628,       0635,    15.6630,   -61.4422,        565,   564.8,   8.7924,  35.0307,2,  35.0295,2,   125.0,2,-999.000,9,-999.000,9,     8.7306,     -999.0,     -999.0
 06MT200206,       ar04,     394,          1,         11,     -999.0,9,20020628,       0735,    15.6982,   -61.4588,       1059,    11.6,  27.8487,  33.0249,2,-999.0000,9,   205.3,2,   1.581,2,   0.990,2,    27.8460,      0.006,      0.006
 06MT200206,       ar04,     394,          1,         10,     -999.0,9,20020628,       0735,    15.6982,   -61.4588,       1059,    48.5,  27.8881,  35.0118,2,-999.0000,9,  -999.0,9,   1.614,2,   0.999,2,    27.8767,      0.007,      0.007
 06MT200206,       ar04,     394,          1,          9,     -999.0,9,20020628,       0735,    15.6982,   -61.4588,       1059,    97.0,  26.1928,  36.7109,2,-999.0000,9,  -999.0,9,   1.681,2,   1.053,2,    26.1709,      0.007,      0.007
 06MT200206,       ar04,     394,          1,          8,     -999.0,9,20020628,       0735,    15.6982,   -61.4588,       1059,   203.6,  19.5210,  36.7565,2,-999.0000,9,  -999.0,9,   2.031,2,   1.191,2,    19.4836,      0.008,      0.007
 06MT200206,       ar04,     394,          1,          7,     -999.0,9,20020628,       0735,    15.6982,   -61.4588,       1059,   294.4,  16.1068,  36.2243,2,  35.9427,2,  -999.0,9,   1.805,2,   0.975,2,    16.0594,      0.007,      0.006
 06MT200206,       ar04,     394,          1,          6,     -999.0,9,20020628,       0735,    15.6982,   -61.4588,       1059,   391.1,  11.9557,  35.4427,2,-999.0000,9,  -999.0,9,   1.160,2,   0.616,2,    11.9042,      0.005,      0.005
 06MT200206,       ar04,     394,          1,          5,     -999.0,9,20020628,       0735,    15.6982,   -61.4588,       1059,   549.4,   9.0838,  35.0731,2,-999.0000,9,  -999.0,9,   0.507,2,   0.272,2,     9.0225,      0.003,      0.004
 06MT200206,       ar04,     394,          1,          4,     -999.0,9,20020628,       0735,    15.6982,   -61.4588,       1059,   695.1,   7.2371,  34.9051,2,-999.0000,9,   136.4,6,   0.295,2,   0.164,2,     7.1685,      0.002,      0.004
 06MT200206,       ar04,     394,          1,          3,     -999.0,9,20020628,       0735,    15.6982,   -61.4588,       1059,   872.6,   6.0975,  34.8309,2,-999.0000,9,  -999.0,9,   0.126,2,   0.076,2,     6.0179,      0.002,      0.004
 06MT200206,       ar04,     394,          1,          2,     -999.0,9,20020628,       0735,    15.6982,   -61.4588,       1059,   998.0,   4.5457,  34.9443,2,  34.9463,2,  -999.0,9,   0.045,2,   0.028,2,     4.4653,      0.002,      0.004
 06MT200206,       ar04,     394,          1,          1,     -999.0,9,20020628,       0735,    15.6982,   -61.4588,       1059,  1058.0,   4.5499,  34.9436,2,-999.0000,9,   196.4,2,   0.056,2,   0.031,2,     4.4642,      0.002,      0.004
 06MT200206,       ar04,     395,          1,          3,     -999.0,9,20020628,       0854,    15.7540,   -61.4765,        701,     4.8,  27.8610,  32.9480,2,-999.0000,9,  -999.0,9,-999.000,9,-999.000,9,    27.8599,     -999.0,     -999.0
 06MT200206,       ar04,     395,          1,          2,     -999.0,9,20020628,       0854,    15.7540,   -61.4765,        701,   400.4,  11.9030,  35.4531,2,-999.0000,9,   126.6,6,-999.000,9,-999.000,9,    11.8504,     -999.0,     -999.0
 06MT200206,       ar04,     395,          1,          1,     -999.0,9,20020628,       0854,    15.7540,   -61.4765,        701,   700.8,   7.1765,  34.8791,2,  34.8796,2,   134.5,2,-999.000,9,-999.000,9,     7.1077,     -999.0,     -999.0
 06MT200206,       ar04,     396,          1,          3,     -999.0,9,20020628,       0956,    15.7995,   -61.4952,        471,    14.2,  27.8670,  32.4814,2,  32.6670,2,   204.5,2,-999.000,9,-999.000,9,    27.8637,     -999.0,     -999.0
 06MT200206,       ar04,     396,          1,          2,     -999.0,9,20020628,       0956,    15.7995,   -61.4952,        471,   185.6,  21.6246,  36.8445,2,-999.0000,9,   155.6,2,-999.000,9,-999.000,9,    21.5880,     -999.0,     -999.0
 06MT200206,       ar04,     396,          1,          1,     -999.0,9,20020628,       0956,    15.7995,   -61.4952,        471,   470.6,  10.5238,  35.2127,2,  35.2349,2,   125.0,6,-999.000,9,-999.000,9,    10.4665,     -999.0,     -999.0
 06MT200206,       ar04,     397,          1,          2,     -999.0,9,20020628,       1118,    15.9540,   -61.5580,        248,    15.9,  27.9038,  31.9887,2,-999.0000,9,   206.6,6,-999.000,9,-999.000,9,    27.9001,     -999.0,     -999.0
 06MT200206,       ar04,     397,          1,          1,     -999.0,9,20020628,       1118,    15.9540,   -61.5580,        248,   247.7,  17.8172,  36.3965,2,  36.4065,2,   148.9,2,-999.000,9,-999.000,9,    17.7745,     -999.0,     -999.0
 06MT200206,       ar04,     398,          1,          3,     -999.0,9,20020628,       2022,    14.9472,   -61.1525,        406,    14.1,  28.0188,  33.8731,2,-999.0000,9,   206.0,2,-999.000,9,-999.000,9,    28.0155,     -999.0,     -999.0
 06MT200206,       ar04,     398,          1,          2,     -999.0,9,20020628,       2022,    14.9472,   -61.1525,        406,    99.9,  26.1107,  36.5250,2,-999.0000,9,   190.6,2,-999.000,9,-999.000,9,    26.0882,     -999.0,     -999.0
 06MT200206,       ar04,     398,          1,          1,     -999.0,9,20020628,       2022,    14.9472,   -61.1525,        406,   405.7,  10.3030,  35.1650,2,  35.1622,2,   124.3,2,-999.000,9,-999.000,9,    10.2544,     -999.0,     -999.0
 06MT200206,       ar04,     399,          1,          4,     -999.0,9,20020628,       2118,    15.0012,   -61.1798,        601,    16.2,  28.0497,  33.7229,2,-999.0000,9,   205.4,2,-999.000,9,-999.000,9,    28.0459,     -999.0,     -999.0
 06MT200206,       ar04,     399,          1,          3,     -999.0,9,20020628,       2118,    15.0012,   -61.1798,        601,   104.1,  25.4615,  36.8755,2,-999.0000,9,   184.9,2,-999.000,9,-999.000,9,    25.4385,     -999.0,     -999.0
 06MT200206,       ar04,     399,          1,          2,     -999.0,9,20020628,       2118,    15.0012,   -61.1798,        601,   298.7,  15.1533,  36.0265,2,  35.9078,2,   141.9,2,-999.000,9,-999.000,9,    15.1072,     -999.0,     -999.0
 06MT200206,       ar04,     399,          1,          1,     -999.0,9,20020628,       2118,    15.0012,   -61.1798,        601,   600.0,   8.4567,  34.9561,2,  34.9606,2,   125.0,2,-999.000,9,-999.000,9,     8.3924,     -999.0,     -999.0