BOTTLE,20220810CCHSIOAMB
EXPOCODE,SECT_ID,STNNBR,CASTNO,SAMPNO,BTLNBR,BTLNBR_FLAG_W,DATE,TIME,LATITUDE,LONGITUDE,DEPTH,CTDPRS,CTDTMP,CTDSAL,CTDSAL_FLAG_W,SALNTY,SALNTY_FLAG_W,OXYGEN,OXYGEN_FLAG_W,CFC-11,CFC-11_FLAG_W,CFC-12,CFC-12_FLAG_W,THETA,CF11ER,CF12ER
,,,,,,,,,,,METERS,DBAR,ITS-90,PSS-78,,PSS-78,,UMOL/KG,,PMOL/KG,,PMOL/KG,,ITS-90,PMOL/KG,PMOL/KG
 06MT200206,       ar04,     363,          1,         23,     -999.0,9,20020621,       1856,    15.4062,   -52.7655,       5248,    15.2,  26.8620,  36.3262,2,  36.3103,2,  -999.0,9,   1.663,2,   1.015,2,    26.8585,      0.008,      0.004
 06MT200206,       ar04,     363,          1,         22,     -999.0,9,20020621,       1856,    15.4062,   -52.7655,       5248,   108.6,  25.0708,  37.2744,2,-999.0000,9,   203.5,2,-999.000,9,-999.000,9,    25.0470,     -999.0,     -999.0
 06MT200206,       ar04,     363,          1,         21,     -999.0,9,20020621,       1856,    15.4062,   -52.7655,       5248,   506.4,   9.4894,  35.1122,2,-999.0000,9,  -999.0,9,-999.000,9,-999.000,9,     9.4315,     -999.0,     -999.0
 06MT200206,       ar04,     363,          1,         20,     -999.0,9,20020621,       1856,    15.4062,   -52.7655,       5248,   896.5,   5.6108,  34.7111,2,  34.7184,2,   137.1,2,   0.051,3,   0.028,3,     5.5323,      0.000,      0.000
 06MT200206,       ar04,     363,          1,         19,     -999.0,9,20020621,       1856,    15.4062,   -52.7655,       5248,  1097.7,   5.3735,  34.8597,2,-999.0000,9,   161.9,2,   0.051,3,   0.028,3,     5.2776,      0.000,      0.000
 06MT200206,       ar04,     363,          1,         18,     -999.0,9,20020621,       1856,    15.4062,   -52.7655,       5248,  1292.3,   5.1072,  34.9620,2,  34.9656,2,   197.1,2,   0.157,2,   0.085,2,     4.9948,      0.001,      0.000
 06MT200206,       ar04,     363,          1,         17,     -999.0,9,20020621,       1856,    15.4062,   -52.7655,       5248,  1445.3,   4.7640,  34.9965,2,-999.0000,9,  -999.0,9,-999.000,9,-999.000,9,     4.6404,     -999.0,     -999.0
 06MT200206,       ar04,     363,          1,         16,     -999.0,9,20020621,       1856,    15.4062,   -52.7655,       5248,  1598.1,   4.3670,  35.0033,2,-999.0000,9,  -999.0,9,-999.000,9,-999.000,9,     4.2333,     -999.0,     -999.0
 06MT200206,       ar04,     363,          1,         15,     -999.0,9,20020621,       1856,    15.4062,   -52.7655,       5248,  1795.0,   3.9601,  34.9928,2,-999.0000,9,  -999.0,9,-999.000,9,-999.000,9,     3.8129,     -999.0,     -999.0
 06MT200206,       ar04,     363,          1,         14,     -999.0,9,20020621,       1856,    15.4062,   -52.7655,       5248,  1993.9,   3.6211,  34.9831,2,  35.3945,3,   221.1,4,   0.446,4,   0.254,4,     3.4597,      0.002,      0.001
 06MT200206,       ar04,     363,          1,         13,     -999.0,9,20020621,       1856,    15.4062,   -52.7655,       5248,  2151.9,   3.4230,  34.9735,2,-999.0000,9,   254.1,6,   0.100,2,   0.055,2,     3.2496,      0.000,      0.000
 06MT200206,       ar04,     363,          1,         12,     -999.0,9,20020621,       1856,    15.4062,   -52.7655,       5248,  2296.3,   3.2491,  34.9634,2,-999.0000,9,  -999.0,9,-999.000,9,-999.000,9,     3.0646,     -999.0,     -999.0
 06MT200206,       ar04,     363,          1,         11,     -999.0,9,20020621,       1856,    15.4062,   -52.7655,       5248,  2547.7,   3.0162,  34.9493,2,-999.0000,9,   261.0,2,   0.109,2,   0.056,2,     2.8112,      0.001,      0.000
 06MT200206,       ar04,     363,          1,         10,     -999.0,9,20020621,       1856,    15.4062,   -52.7655,       5248,  2799.6,   2.8156,  34.9356,2,  34.9353,2,   260.7,2,   0.129,2,   0.071,2,     2.5894,      0.001,      0.000
 06MT200206,       ar04,     363,          1,          9,     -999.0,9,20020621,       1856,    15.4062,   -52.7655,       5248,  3085.3,   2.7008,  34.9269,2,-999.0000,9,   260.4,2,   0.126,2,   0.067,2,     2.4477,      0.001,      0.000
 06MT200206,       ar04,     363,          1,          8,     -999.0,9,20020621,       1856,    15.4062,   -52.7655,       5248,  3394.3,   2.5599,  34.9157,2,  34.9189,2,   261.3,2,   0.120,2,   0.064,2,     2.2774,      0.001,      0.000
 06MT200206,       ar04,     363,          1,          7,     -999.0,9,20020621,       1856,    15.4062,   -52.7655,       5248,  3597.6,   2.4697,  34.9066,2,-999.0000,9,   259.6,2,-999.000,9,-999.000,9,     2.1674,     -999.0,     -999.0
 06MT200206,       ar04,     363,          1,          6,     -999.0,9,20020621,       1856,    15.4062,   -52.7655,       5248,  3798.7,   2.4016,  34.9033,2,-999.0000,9,   232.4,6,   0.362,4,   0.205,4,     2.0788,      0.002,      0.001
 06MT200206,       ar04,     363,          1,          5,     -999.0,9,20020621,       1856,    15.4062,   -52.7655,       5248,  4098.1,   2.3167,  34.8965,2,  35.4859,3,   207.4,4,   0.389,4,   0.225,4,     1.9623,      0.002,      0.001
 06MT200206,       ar04,     363,          1,          4,     -999.0,9,20020621,       1856,    15.4062,   -52.7655,       5248,  4474.4,   2.2175,  34.8830,2,-999.0000,9,   207.7,4,   0.007,4,   0.003,4,     1.8220,      0.000,      0.000
 06MT200206,       ar04,     363,          1,          3,     -999.0,9,20020621,       1856,    15.4062,   -52.7655,       5248,  4797.1,   1.9173,  34.8427,2,  34.8440,2,   252.0,2,   0.084,2,   0.049,2,     1.4927,      0.000,      0.000
 06MT200206,       ar04,     363,          1,          2,     -999.0,9,20020621,       1856,    15.4062,   -52.7655,       5248,  5047.9,   1.8686,  34.8334,2,-999.0000,9,   248.8,2,   0.104,4,   0.061,4,     1.4149,      0.001,      0.000
 06MT200206,       ar04,     363,          1,          1,     -999.0,9,20020621,       1856,    15.4062,   -52.7655,       5248,  5246.4,   1.8766,  34.8303,2,  34.8324,2,   249.4,2,   0.077,2,   0.043,2,     1.3977,      0.000,      0.000
 06MT200206,       ar04,     364,          2,         23,     -999.0,9,20020622,       0111,    15.4463,   -53.1168,       5359,    15.1,  26.8361,  36.3227,2,  36.2934,2,   206.3,6,-999.000,9,-999.000,9,    26.8326,     -999.0,     -999.0
 06MT200206,       ar04,     364,          2,         22,     -999.0,9,20020622,       0111,    15.4463,   -53.1168,       5359,   491.2,   9.5636,  35.1132,2,  35.1110,2,   112.5,2,-999.000,9,-999.000,9,     9.5072,     -999.0,     -999.0
 06MT200206,       ar04,     364,          2,         21,     -999.0,9,20020622,       0111,    15.4463,   -53.1168,       5359,   734.5,   6.3453,  34.7267,2,-999.0000,9,  -999.0,9,-999.000,9,-999.000,9,     6.2777,     -999.0,     -999.0
 06MT200206,       ar04,     364,          2,         20,     -999.0,9,20020622,       0111,    15.4463,   -53.1168,       5359,   998.1,   5.7508,  34.8075,2,-999.0000,9,  -999.0,9,-999.000,9,-999.000,9,     5.6615,     -999.0,     -999.0
 06MT200206,       ar04,     364,          2,         19,     -999.0,9,20020622,       0111,    15.4463,   -53.1168,       5359,  1196.9,   5.3316,  34.9199,2,-999.0000,9,  -999.0,9,-999.000,9,-999.000,9,     5.2264,     -999.0,     -999.0
 06MT200206,       ar04,     364,          2,         18,     -999.0,9,20020622,       0111,    15.4463,   -53.1168,       5359,  1398.8,   4.8360,  34.9841,2,-999.0000,9,  -999.0,9,-999.000,9,-999.000,9,     4.7161,     -999.0,     -999.0
 06MT200206,       ar04,     364,          2,         17,     -999.0,9,20020622,       0111,    15.4463,   -53.1168,       5359,  1601.5,   4.4076,  35.0063,2,-999.0000,9,  -999.0,9,-999.000,9,-999.000,9,     4.2731,     -999.0,     -999.0
 06MT200206,       ar04,     364,          2,         16,     -999.0,9,20020622,       0111,    15.4463,   -53.1168,       5359,  1803.1,   3.9529,  34.9935,2,-999.0000,9,  -999.0,9,-999.000,9,-999.000,9,     3.8050,     -999.0,     -999.0
 06MT200206,       ar04,     364,          2,         15,     -999.0,9,20020622,       0111,    15.4463,   -53.1168,       5359,  1999.7,   3.6523,  34.9839,2,-999.0000,9,  -999.0,9,-999.000,9,-999.000,9,     3.4899,     -999.0,     -999.0
 06MT200206,       ar04,     364,          2,         14,     -999.0,9,20020622,       0111,    15.4463,   -53.1168,       5359,  2209.4,   3.3692,  34.9702,2,-999.0000,9,  -999.0,9,-999.000,9,-999.000,9,     3.1911,     -999.0,     -999.0
 06MT200206,       ar04,     364,          2,         13,     -999.0,9,20020622,       0111,    15.4463,   -53.1168,       5359,  2406.5,   3.1656,  34.9579,2,  34.9579,2,   257.1,2,-999.000,9,-999.000,9,     2.9718,     -999.0,     -999.0
 06MT200206,       ar04,     364,          2,         12,     -999.0,9,20020622,       0111,    15.4463,   -53.1168,       5359,  2714.5,   2.9217,  34.9420,2,-999.0000,9,  -999.0,9,-999.000,9,-999.000,9,     2.7019,     -999.0,     -999.0
 06MT200206,       ar04,     364,          2,         11,     -999.0,9,20020622,       0111,    15.4463,   -53.1168,       5359,  3026.3,   2.7471,  34.9297,2,  34.9280,2,   258.4,6,-999.000,9,-999.000,9,     2.4991,     -999.0,     -999.0
 06MT200206,       ar04,     364,          2,         10,     -999.0,9,20020622,       0111,    15.4463,   -53.1168,       5359,  3297.4,   2.6154,  34.9194,2,  34.9193,2,   258.5,2,-999.000,9,-999.000,9,     2.3419,     -999.0,     -999.0
 06MT200206,       ar04,     364,          2,          9,     -999.0,9,20020622,       0111,    15.4463,   -53.1168,       5359,  3598.3,   2.4980,  34.9100,2,  34.9113,2,   261.2,2,-999.000,9,-999.000,9,     2.1949,     -999.0,     -999.0
 06MT200206,       ar04,     364,          2,          8,     -999.0,9,20020622,       0111,    15.4463,   -53.1168,       5359,  3847.9,   2.4070,  34.9029,2,-999.0000,9,   263.8,2,-999.000,9,-999.000,9,     2.0786,     -999.0,     -999.0
 06MT200206,       ar04,     364,          2,          7,     -999.0,9,20020622,       0111,    15.4463,   -53.1168,       5359,  4098.6,   2.3297,  34.8962,2,  34.8965,2,   264.3,2,-999.000,9,-999.000,9,     1.9749,     -999.0,     -999.0
 06MT200206,       ar04,     364,          2,          6,     -999.0,9,20020622,       0111,    15.4463,   -53.1168,       5359,  4348.5,   2.2457,  34.8845,2,-999.0000,9,  -999.0,9,-999.000,9,-999.000,9,     1.8643,     -999.0,     -999.0
 06MT200206,       ar04,     364,          2,          5,     -999.0,9,20020622,       0111,    15.4463,   -53.1168,       5359,  4597.8,   2.1529,  34.8724,2,-999.0000,9,  -999.0,9,-999.000,9,-999.000,9,     1.7447,     -999.0,     -999.0
 06MT200206,       ar04,     364,          2,          4,     -999.0,9,20020622,       0111,    15.4463,   -53.1168,       5359,  4898.8,   1.9195,  34.8418,2,-999.0000,9,  -999.0,9,-999.000,9,-999.000,9,     1.4824,     -999.0,     -999.0
 06MT200206,       ar04,     364,          2,          3,     -999.0,9,20020622,       0111,    15.4463,   -53.1168,       5359,  5199.5,   1.8749,  34.8317,2,  34.8316,2,   248.6,2,-999.000,9,-999.000,9,     1.4020,     -999.0,     -999.0
 06MT200206,       ar04,     364,          2,          2,     -999.0,9,20020622,       0111,    15.4463,   -53.1168,       5359,  5298.4,   1.8791,  34.8309,2,-999.0000,9,  -999.0,9,-999.000,9,-999.000,9,     1.3935,     -999.0,     -999.0
 06MT200206,       ar04,     364,          2,          1,     -999.0,9,20020622,       0111,    15.4463,   -53.1168,       5359,  5358.1,   1.8872,  34.8302,2,  34.8302,2,   248.2,2,-999.000,9,-999.000,9,     1.3937,     -999.0,     -999.0
 06MT200206,       ar04,     365,          1,         23,     -999.0,9,20020622,       0610,    15.4857,   -53.4713,       5524,    38.5,  26.8980,  36.3056,2,  36.2766,2,   204.1,2,   1.615,2,   1.004,2,    26.8892,      0.008,      0.004
 06MT200206,       ar04,     365,          1,         22,     -999.0,9,20020622,       0610,    15.4857,   -53.4713,       5524,    95.0,  25.4266,  37.1801,2,-999.0000,9,   200.8,2,-999.000,9,-999.000,9,    25.4056,     -999.0,     -999.0
 06MT200206,       ar04,     365,          1,         21,     -999.0,9,20020622,       0610,    15.4857,   -53.4713,       5524,   491.9,   9.5159,  35.1290,2,-999.0000,9,  -999.0,9,-999.000,9,-999.000,9,     9.4596,     -999.0,     -999.0
 06MT200206,       ar04,     365,          1,         20,     -999.0,9,20020622,       0610,    15.4857,   -53.4713,       5524,   816.0,   6.0046,  34.7037,2,-999.0000,9,  -999.0,9,-999.000,9,-999.000,9,     5.9312,     -999.0,     -999.0
 06MT200206,       ar04,     365,          1,         19,     -999.0,9,20020622,       0610,    15.4857,   -53.4713,       5524,   997.9,   5.4241,  34.7528,2,-999.0000,9,  -999.0,9,-999.000,9,-999.000,9,     5.3374,     -999.0,     -999.0
 06MT200206,       ar04,     365,          1,         18,     -999.0,9,20020622,       0610,    15.4857,   -53.4713,       5524,  1204.7,   5.2583,  34.9320,2,-999.0000,9,  -999.0,9,-999.000,9,-999.000,9,     5.1530,     -999.0,     -999.0
 06MT200206,       ar04,     365,          1,         17,     -999.0,9,20020622,       0610,    15.4857,   -53.4713,       5524,  1396.2,   4.8339,  34.9833,2,-999.0000,9,  -999.0,9,-999.000,9,-999.000,9,     4.7143,     -999.0,     -999.0
 06MT200206,       ar04,     365,          1,         16,     -999.0,9,20020622,       0610,    15.4857,   -53.4713,       5524,  1598.5,   4.3843,  35.0012,2,-999.0000,9,  -999.0,9,-999.000,9,-999.000,9,     4.2504,     -999.0,     -999.0
 06MT200206,       ar04,     365,          1,         15,     -999.0,9,20020622,       0610,    15.4857,   -53.4713,       5524,  1804.7,   3.9770,  34.9936,2,-999.0000,9,  -999.0,9,-999.000,9,-999.000,9,     3.8286,     -999.0,     -999.0
 06MT200206,       ar04,     365,          1,         14,     -999.0,9,20020622,       0610,    15.4857,   -53.4713,       5524,  2004.5,   3.6382,  34.9828,2,  35.4172,3,  -999.0,9,   0.547,4,   0.318,4,     3.4756,      0.003,      0.001
 06MT200206,       ar04,     365,          1,         13,     -999.0,9,20020622,       0610,    15.4857,   -53.4713,       5524,  2249.8,   3.2949,  34.9654,2,-999.0000,9,  -999.0,9,   0.059,2,   0.032,2,     3.1141,      0.000,      0.000
 06MT200206,       ar04,     365,          1,         12,     -999.0,9,20020622,       0610,    15.4857,   -53.4713,       5524,  2504.3,   3.0450,  34.9504,2,-999.0000,9,  -999.0,9,-999.000,9,-999.000,9,     2.8438,     -999.0,     -999.0
 06MT200206,       ar04,     365,          1,         11,     -999.0,9,20020622,       0610,    15.4857,   -53.4713,       5524,  2754.4,   2.8786,  34.9396,2,  34.9392,2,   259.8,2,   0.113,2,   0.059,2,     2.6557,      0.001,      0.000
 06MT200206,       ar04,     365,          1,         10,     -999.0,9,20020622,       0610,    15.4857,   -53.4713,       5524,  2998.7,   2.7439,  34.9302,2,-999.0000,9,  -999.0,9,   0.126,2,   0.062,2,     2.4988,      0.001,      0.000
 06MT200206,       ar04,     365,          1,          9,     -999.0,9,20020622,       0610,    15.4857,   -53.4713,       5524,  3298.5,   2.6103,  34.9190,2,-999.0000,9,  -999.0,9,   0.102,2,   0.052,2,     2.3368,      0.001,      0.000
 06MT200206,       ar04,     365,          1,          8,     -999.0,9,20020622,       0610,    15.4857,   -53.4713,       5524,  3597.2,   2.4741,  34.9082,2,  34.9077,2,   239.2,4,   0.116,2,   0.062,2,     2.1717,      0.001,      0.000
 06MT200206,       ar04,     365,          1,          7,     -999.0,9,20020622,       0610,    15.4857,   -53.4713,       5524,  3947.3,   2.3602,  34.9001,2,-999.0000,9,  -999.0,9,   0.173,2,   0.092,2,     2.0218,      0.001,      0.000
 06MT200206,       ar04,     365,          1,          6,     -999.0,9,20020622,       0610,    15.4857,   -53.4713,       5524,  4198.5,   2.3094,  34.8951,2,-999.0000,9,  -999.0,9,   0.409,4,   0.231,4,     1.9436,      0.002,      0.001
 06MT200206,       ar04,     365,          1,          5,     -999.0,9,20020622,       0610,    15.4857,   -53.4713,       5524,  4541.2,   2.2109,  34.8807,2,  35.2162,3,  -999.0,9,   0.353,4,   0.202,4,     1.8077,      0.002,      0.001
 06MT200206,       ar04,     365,          1,          4,     -999.0,9,20020622,       0610,    15.4857,   -53.4713,       5524,  4798.5,   2.0386,  34.8564,2,-999.0000,9,  -999.0,9,   0.443,4,   0.250,4,     1.6098,      0.002,      0.001
 06MT200206,       ar04,     365,          1,          3,     -999.0,9,20020622,       0610,    15.4857,   -53.4713,       5524,  5101.5,   1.8875,  34.8347,2,-999.0000,9,  -999.0,9,   0.083,2,   0.049,2,     1.4264,      0.000,      0.000
 06MT200206,       ar04,     365,          1,          2,     -999.0,9,20020622,       0610,    15.4857,   -53.4713,       5524,  5396.6,   1.8994,  34.8310,2,-999.0000,9,  -999.0,9,-999.000,9,-999.000,9,     1.4005,     -999.0,     -999.0
 06MT200206,       ar04,     365,          1,          1,     -999.0,9,20020622,       0610,    15.4857,   -53.4713,       5524,  5522.2,   1.9106,  34.8303,2,  34.9099,3,   271.0,4,   0.047,2,   0.033,2,     1.3951,      0.000,      0.000