BOTTLE,20220810CCHSIOAMB
EXPOCODE,SECT_ID,STNNBR,CASTNO,SAMPNO,BTLNBR,BTLNBR_FLAG_W,DATE,TIME,LATITUDE,LONGITUDE,DEPTH,CTDPRS,CTDTMP,CTDSAL,CTDSAL_FLAG_W,SALNTY,SALNTY_FLAG_W,OXYGEN,OXYGEN_FLAG_W,CFC-11,CFC-11_FLAG_W,CFC-12,CFC-12_FLAG_W,THETA,CF11ER,CF12ER
,,,,,,,,,,,METERS,DBAR,ITS-90,PSS-78,,PSS-78,,UMOL/KG,,PMOL/KG,,PMOL/KG,,ITS-90,PMOL/KG,PMOL/KG
 06MT200206,       ar04,     339,          1,         21,     -999.0,9,20020611,       0615,     1.2500,   -40.0032,       4458,    15.2,  27.9744,  35.9790,2,-999.0000,9,   203.8,2,   1.654,2,   0.989,2,    27.9708,      0.007,      0.004
 06MT200206,       ar04,     339,          1,         20,     -999.0,9,20020611,       0615,     1.2500,   -40.0032,       4458,   111.0,  16.8576,  35.8079,2,-999.0000,9,   149.6,2,   2.160,2,   1.073,2,    16.8393,      0.009,      0.005
 06MT200206,       ar04,     339,          1,         19,     -999.0,9,20020611,       0615,     1.2500,   -40.0032,       4458,   212.9,  12.7125,  35.2284,2,-999.0000,9,   151.5,2,   2.044,2,   0.979,2,    12.6836,      0.009,      0.004
 06MT200206,       ar04,     339,          1,         18,     -999.0,9,20020611,       0615,     1.2500,   -40.0032,       4458,   404.9,   7.4936,  34.6473,2,-999.0000,9,   136.9,2,   0.882,2,   0.421,2,     7.4538,      0.004,      0.002
 06MT200206,       ar04,     339,          1,         17,     -999.0,9,20020611,       0615,     1.2500,   -40.0032,       4458,   596.1,   6.1945,  34.5532,2,-999.0000,9,   138.8,2,   0.418,2,   0.209,2,     6.1411,      0.002,      0.001
 06MT200206,       ar04,     339,          1,         16,     -999.0,9,20020611,       0615,     1.2500,   -40.0032,       4458,   812.1,   4.9719,  34.5179,2,  34.5182,2,   152.7,2,   0.184,2,   0.094,2,     4.9055,      0.001,      0.000
 06MT200206,       ar04,     339,          1,         15,     -999.0,9,20020611,       0615,     1.2500,   -40.0032,       4458,  1002.8,   4.5620,  34.6361,2,-999.0000,9,   160.4,6,   0.045,2,   0.028,2,     4.4816,      0.000,      0.000
 06MT200206,       ar04,     339,          1,         14,     -999.0,9,20020611,       0615,     1.2500,   -40.0032,       4458,  1198.8,   4.7151,  34.8620,2,-999.0000,9,  -999.0,9,   0.081,2,   0.042,2,     4.6154,      0.000,      0.000
 06MT200206,       ar04,     339,          1,         13,     -999.0,9,20020611,       0615,     1.2500,   -40.0032,       4458,  1399.0,   4.4860,  34.9380,2,-999.0000,9,  -999.0,9,   0.141,2,   0.082,2,     4.3699,      0.001,      0.000
 06MT200206,       ar04,     339,          1,         12,     -999.0,9,20020611,       0615,     1.2500,   -40.0032,       4458,  1596.2,   4.1833,  34.9901,2,  34.9953,2,   246.2,2,   0.364,2,   0.190,2,     4.0520,      0.002,      0.001
 06MT200206,       ar04,     339,          1,         11,     -999.0,9,20020611,       0615,     1.2500,   -40.0032,       4458,  1798.7,   3.8473,  34.9854,2,-999.0000,9,  -999.0,9,   0.353,2,   0.187,2,     3.7012,      0.002,      0.001
 06MT200206,       ar04,     339,          1,         10,     -999.0,9,20020611,       0615,     1.2500,   -40.0032,       4458,  1997.8,   3.6470,  34.9784,2,-999.0000,9,  -999.0,9,   0.329,2,   0.171,2,     3.4849,      0.001,      0.001
 06MT200206,       ar04,     339,          1,          9,     -999.0,9,20020611,       0615,     1.2500,   -40.0032,       4458,  2213.6,   3.4107,  34.9682,2,-999.0000,9,  -999.0,9,   0.178,2,   0.092,2,     3.2315,      0.001,      0.000
 06MT200206,       ar04,     339,          1,          8,     -999.0,9,20020611,       0615,     1.2500,   -40.0032,       4458,  2398.6,   3.2830,  34.9631,2,  34.9679,2,   262.0,2,   0.182,2,   0.094,2,     3.0879,      0.001,      0.000
 06MT200206,       ar04,     339,          1,          7,     -999.0,9,20020611,       0615,     1.2500,   -40.0032,       4458,  2698.2,   2.9575,  34.9446,2,-999.0000,9,  -999.0,9,   0.127,2,   0.066,2,     2.7386,      0.001,      0.000
 06MT200206,       ar04,     339,          1,          6,     -999.0,9,20020611,       0615,     1.2500,   -40.0032,       4458,  2998.8,   2.7816,  34.9319,2,-999.0000,9,  -999.0,9,   0.103,2,   0.051,2,     2.5357,      0.000,      0.000
 06MT200206,       ar04,     339,          1,          5,     -999.0,9,20020611,       0615,     1.2500,   -40.0032,       4458,  3302.0,   2.5854,  34.9194,2,-999.0000,9,  -999.0,9,   0.172,2,   0.086,2,     2.3122,      0.001,      0.000
 06MT200206,       ar04,     339,          1,          4,     -999.0,9,20020611,       0615,     1.2500,   -40.0032,       4458,  3598.8,   2.4638,  34.9100,2,-999.0000,9,   266.1,6,   0.214,2,   0.110,2,     2.1615,      0.001,      0.000
 06MT200206,       ar04,     339,          1,          3,     -999.0,9,20020611,       0615,     1.2500,   -40.0032,       4458,  3799.1,   2.3382,  34.9011,2,  34.9024,2,  -999.0,9,   0.224,2,   0.115,2,     2.0171,      0.001,      0.000
 06MT200206,       ar04,     339,          1,          2,     -999.0,9,20020611,       0615,     1.2500,   -40.0032,       4458,  4000.8,   2.2781,  34.8954,2,-999.0000,9,  -999.0,9,-999.000,9,-999.000,9,     1.9360,     -999.0,     -999.0
 06MT200206,       ar04,     339,          1,          1,     -999.0,9,20020611,       0615,     1.2500,   -40.0032,       4458,  4456.4,   1.2235,  34.7688,2,  34.7699,2,  -999.0,9,   0.052,4,   0.078,2,     0.8615,      0.000,      0.000
 06MT200206,       ar04,     340,          1,         21,     -999.0,9,20020611,       1139,     1.6668,   -39.9970,       4471,    14.2,  27.9450,  35.9283,2,-999.0000,9,  -999.0,9,-999.000,9,-999.000,9,    27.9417,     -999.0,     -999.0
 06MT200206,       ar04,     340,          1,         20,     -999.0,9,20020611,       1139,     1.6668,   -39.9970,       4471,    54.0,  26.8330,  36.1460,2,-999.0000,9,   200.3,2,-999.000,9,-999.000,9,    26.8206,     -999.0,     -999.0
 06MT200206,       ar04,     340,          1,         19,     -999.0,9,20020611,       1139,     1.6668,   -39.9970,       4471,    96.1,  18.8643,  36.1009,2,-999.0000,9,   184.5,2,-999.000,9,-999.000,9,    18.8472,     -999.0,     -999.0
 06MT200206,       ar04,     340,          1,         18,     -999.0,9,20020611,       1139,     1.6668,   -39.9970,       4471,   483.2,   7.0312,  34.6112,2,-999.0000,9,   131.7,2,-999.000,9,-999.000,9,     6.9852,     -999.0,     -999.0
 06MT200206,       ar04,     340,          1,         17,     -999.0,9,20020611,       1139,     1.6668,   -39.9970,       4471,   690.8,   5.3617,  34.5058,2,-999.0000,9,   151.1,2,-999.000,9,-999.000,9,     5.3038,     -999.0,     -999.0
 06MT200206,       ar04,     340,          1,         16,     -999.0,9,20020611,       1139,     1.6668,   -39.9970,       4471,   898.9,   4.6505,  34.5612,2,  34.5641,2,   155.1,2,-999.000,9,-999.000,9,     4.5786,     -999.0,     -999.0
 06MT200206,       ar04,     340,          1,         15,     -999.0,9,20020611,       1139,     1.6668,   -39.9970,       4471,  1098.5,   4.5778,  34.6730,2,-999.0000,9,   164.4,2,   0.040,2,   0.022,2,     4.4887,      0.000,      0.000
 06MT200206,       ar04,     340,          1,         14,     -999.0,9,20020611,       1139,     1.6668,   -39.9970,       4471,  1287.7,   4.5732,  34.9307,2,-999.0000,9,  -999.0,9,   0.141,2,   0.073,2,     4.4665,      0.001,      0.000
 06MT200206,       ar04,     340,          1,         13,     -999.0,9,20020611,       1139,     1.6668,   -39.9970,       4471,  1497.7,   4.3563,  34.9668,2,-999.0000,9,  -999.0,9,   0.217,2,   0.111,2,     4.2323,      0.001,      0.000
 06MT200206,       ar04,     340,          1,         12,     -999.0,9,20020611,       1139,     1.6668,   -39.9970,       4471,  1606.1,   4.2310,  34.9870,2,  34.9868,2,   242.7,6,   0.292,2,   0.151,2,     4.0982,      0.001,      0.001
 06MT200206,       ar04,     340,          1,         11,     -999.0,9,20020611,       1139,     1.6668,   -39.9970,       4471,  1848.1,   3.7446,  34.9821,2,-999.0000,9,  -999.0,9,   0.343,2,   0.174,2,     3.5953,      0.001,      0.001
 06MT200206,       ar04,     340,          1,         10,     -999.0,9,20020611,       1139,     1.6668,   -39.9970,       4471,  2096.7,   3.5462,  34.9749,2,-999.0000,9,  -999.0,9,   0.287,2,   0.144,2,     3.3761,      0.001,      0.001
 06MT200206,       ar04,     340,          1,          9,     -999.0,9,20020611,       1139,     1.6668,   -39.9970,       4471,  2247.6,   3.4053,  34.9678,2,-999.0000,9,  -999.0,9,   0.196,2,   0.104,2,     3.2229,      0.001,      0.000
 06MT200206,       ar04,     340,          1,          8,     -999.0,9,20020611,       1139,     1.6668,   -39.9970,       4471,  2491.2,   3.1436,  34.9539,2,  34.9545,2,  -999.0,9,-999.000,9,-999.000,9,     2.9419,     -999.0,     -999.0
 06MT200206,       ar04,     340,          1,          7,     -999.0,9,20020611,       1139,     1.6668,   -39.9970,       4471,  2798.0,   2.8899,  34.9393,2,-999.0000,9,  -999.0,9,   0.096,2,   0.050,2,     2.6623,      0.000,      0.000
 06MT200206,       ar04,     340,          1,          6,     -999.0,9,20020611,       1139,     1.6668,   -39.9970,       4471,  3098.2,   2.7427,  34.9293,2,-999.0000,9,  -999.0,9,-999.000,9,-999.000,9,     2.4873,     -999.0,     -999.0
 06MT200206,       ar04,     340,          1,          5,     -999.0,9,20020611,       1139,     1.6668,   -39.9970,       4471,  3400.6,   2.5499,  34.9167,2,-999.0000,9,  -999.0,9,   0.196,2,   0.098,2,     2.2670,      0.001,      0.000
 06MT200206,       ar04,     340,          1,          4,     -999.0,9,20020611,       1139,     1.6668,   -39.9970,       4471,  3697.7,   2.4164,  34.9067,2,-999.0000,9,  -999.0,9,   0.229,2,   0.115,2,     2.1045,      0.001,      0.000
 06MT200206,       ar04,     340,          1,          3,     -999.0,9,20020611,       1139,     1.6668,   -39.9970,       4471,  3847.2,   2.3354,  34.9008,2,-999.0000,9,   266.3,6,   0.217,2,   0.112,2,     2.0090,      0.001,      0.000
 06MT200206,       ar04,     340,          1,          2,     -999.0,9,20020611,       1139,     1.6668,   -39.9970,       4471,  4152.2,   2.0374,  34.8655,2,  34.8637,2,  -999.0,9,   0.155,2,   0.082,2,     1.6850,      0.001,      0.000
 06MT200206,       ar04,     340,          1,          1,     -999.0,9,20020611,       1139,     1.6668,   -39.9970,       4471,  4469.9,   1.1663,  34.7632,2,  34.7622,2,   233.0,2,   0.036,2,   0.019,2,     0.8046,      0.000,      0.000
 06MT200206,       ar04,     341,          1,         21,     -999.0,9,20020611,       1653,     2.0838,   -40.0078,       4490,     8.7,  28.2356,  35.8076,2,-999.0000,9,   205.4,2,   1.526,6,   0.971,6,    28.2335,      0.007,      0.004
 06MT200206,       ar04,     341,          1,         20,     -999.0,9,20020611,       1653,     2.0838,   -40.0078,       4490,   499.6,   6.8785,  34.5944,2,-999.0000,9,   139.4,2,-999.000,9,-999.000,9,     6.8314,     -999.0,     -999.0
 06MT200206,       ar04,     341,          1,         19,     -999.0,9,20020611,       1653,     2.0838,   -40.0078,       4490,   797.2,   5.0218,  34.5162,2,  34.5241,2,   148.6,2,-999.000,9,-999.000,9,     4.9564,     -999.0,     -999.0
 06MT200206,       ar04,     341,          1,         18,     -999.0,9,20020611,       1653,     2.0838,   -40.0078,       4490,   998.9,   4.5705,  34.6075,2,-999.0000,9,   161.0,2,   0.043,2,   0.031,2,     4.4904,      0.000,      0.000
 06MT200206,       ar04,     341,          1,         17,     -999.0,9,20020611,       1653,     2.0838,   -40.0078,       4490,  1195.9,   4.6588,  34.7809,2,-999.0000,9,  -999.0,9,   0.057,2,   0.031,2,     4.5600,      0.000,      0.000
 06MT200206,       ar04,     341,          1,         16,     -999.0,9,20020611,       1653,     2.0838,   -40.0078,       4490,  1399.0,   4.4588,  34.9403,2,-999.0000,9,  -999.0,9,   0.130,2,   0.070,2,     4.3430,      0.001,      0.000
 06MT200206,       ar04,     341,          1,         15,     -999.0,9,20020611,       1653,     2.0838,   -40.0078,       4490,  1609.1,   4.2823,  34.9877,2,-999.0000,9,   242.1,6,   0.376,6,   0.195,6,     4.1486,      0.002,      0.001
 06MT200206,       ar04,     341,          1,         14,     -999.0,9,20020611,       1653,     2.0838,   -40.0078,       4490,  1823.4,   3.8774,  34.9828,2,  34.9862,2,  -999.0,9,   0.363,2,   0.194,2,     3.7286,      0.002,      0.001
 06MT200206,       ar04,     341,          1,         13,     -999.0,9,20020611,       1653,     2.0838,   -40.0078,       4490,  2014.8,   3.6548,  34.9782,2,-999.0000,9,  -999.0,9,   0.307,2,   0.159,2,     3.4909,      0.001,      0.001
 06MT200206,       ar04,     341,          1,         12,     -999.0,9,20020611,       1653,     2.0838,   -40.0078,       4490,  2216.8,   3.4284,  34.9692,2,-999.0000,9,  -999.0,9,   0.173,2,   0.091,2,     3.2486,      0.001,      0.000
 06MT200206,       ar04,     341,          1,         11,     -999.0,9,20020611,       1653,     2.0838,   -40.0078,       4490,  2361.6,   3.2797,  34.9613,2,-999.0000,9,  -999.0,9,   0.125,2,   0.066,2,     3.0883,      0.001,      0.000
 06MT200206,       ar04,     341,          1,         10,     -999.0,9,20020611,       1653,     2.0838,   -40.0078,       4490,  2506.7,   3.1137,  34.9526,2,-999.0000,9,  -999.0,9,   0.132,2,   0.070,2,     2.9110,      0.001,      0.000
 06MT200206,       ar04,     341,          1,          9,     -999.0,9,20020611,       1653,     2.0838,   -40.0078,       4490,  2756.2,   2.9208,  34.9400,2,-999.0000,9,  -999.0,9,   0.080,2,   0.043,2,     2.6968,      0.000,      0.000
 06MT200206,       ar04,     341,          1,          8,     -999.0,9,20020611,       1653,     2.0838,   -40.0078,       4490,  2998.9,   2.7715,  34.9310,2,-999.0000,9,   261.0,2,   0.108,2,   0.056,2,     2.5258,      0.000,      0.000
 06MT200206,       ar04,     341,          1,          7,     -999.0,9,20020611,       1653,     2.0838,   -40.0078,       4490,  3248.3,   2.6243,  34.9195,2,-999.0000,9,  -999.0,9,   0.106,2,   0.058,2,     2.3558,      0.000,      0.000
 06MT200206,       ar04,     341,          1,          6,     -999.0,9,20020611,       1653,     2.0838,   -40.0078,       4490,  3503.0,   2.4784,  34.9111,2,-999.0000,9,  -999.0,9,   0.191,2,   0.100,2,     2.1862,      0.001,      0.000
 06MT200206,       ar04,     341,          1,          5,     -999.0,9,20020611,       1653,     2.0838,   -40.0078,       4490,  3701.5,   2.3791,  34.9035,2,-999.0000,9,  -999.0,9,   0.208,2,   0.107,2,     2.0677,      0.001,      0.000
 06MT200206,       ar04,     341,          1,          4,     -999.0,9,20020611,       1653,     2.0838,   -40.0078,       4490,  3897.8,   2.3025,  34.8972,2,-999.0000,9,   265.9,2,   0.245,2,   0.124,2,     1.9713,      0.001,      0.001
 06MT200206,       ar04,     341,          1,          3,     -999.0,9,20020611,       1653,     2.0838,   -40.0078,       4490,  4102.1,   2.2145,  34.8867,2,  34.8898,2,  -999.0,9,   0.189,2,   0.099,2,     1.8627,      0.001,      0.000
 06MT200206,       ar04,     341,          1,          2,     -999.0,9,20020611,       1653,     2.0838,   -40.0078,       4490,  4302.9,   1.6285,  34.8044,2,  34.8149,3,   244.7,6,   0.065,2,   0.035,2,     1.2714,      0.000,      0.000
 06MT200206,       ar04,     341,          1,          1,     -999.0,9,20020611,       1653,     2.0838,   -40.0078,       4490,  4488.9,   1.2740,  34.7727,2,  34.7760,2,   235.9,2,   0.036,2,   0.020,2,     0.9067,      0.000,      0.000