BOTTLE,20220810CCHSIOAMB
EXPOCODE,SECT_ID,STNNBR,CASTNO,SAMPNO,BTLNBR,BTLNBR_FLAG_W,DATE,TIME,LATITUDE,LONGITUDE,DEPTH,CTDPRS,CTDTMP,CTDSAL,CTDSAL_FLAG_W,SALNTY,SALNTY_FLAG_W,OXYGEN,OXYGEN_FLAG_W,CFC-11,CFC-11_FLAG_W,CFC-12,CFC-12_FLAG_W,THETA,CF11ER,CF12ER
,,,,,,,,,,,METERS,DBAR,ITS-90,PSS-78,,PSS-78,,UMOL/KG,,PMOL/KG,,PMOL/KG,,ITS-90,PMOL/KG,PMOL/KG
 06MT200206,       ar04,     348,          1,         21,     -999.0,9,20020613,       0755,     5.5003,   -40.0005,       4736,    20.7,  27.7419,  35.4721,2,  35.4663,2,   209.6,2,   1.610,2,   0.995,2,    27.7371,      0.008,      0.003
 06MT200206,       ar04,     348,          1,         20,     -999.0,9,20020613,       0755,     5.5003,   -40.0005,       4736,   871.3,   4.8425,  34.5977,2,  34.5983,2,   145.4,2,   0.037,2,   0.019,2,     4.7716,      0.000,      0.000
 06MT200206,       ar04,     348,          1,         19,     -999.0,9,20020613,       0755,     5.5003,   -40.0005,       4736,  1092.9,   4.6906,  34.7594,2,-999.0000,9,   162.8,2,   0.017,2,   0.010,2,     4.6009,      0.000,      0.000
 06MT200206,       ar04,     348,          1,         18,     -999.0,9,20020613,       0755,     5.5003,   -40.0005,       4736,  1382.4,   4.6398,  34.9700,2,  34.9673,2,   218.4,2,   0.213,2,   0.111,2,     4.5235,      0.001,      0.000
 06MT200206,       ar04,     348,          1,         17,     -999.0,9,20020613,       0755,     5.5003,   -40.0005,       4736,  1590.0,   4.2227,  34.9848,2,-999.0000,9,   240.6,2,   0.203,2,   0.104,2,     4.0915,      0.001,      0.000
 06MT200206,       ar04,     348,          1,         16,     -999.0,9,20020613,       0755,     5.5003,   -40.0005,       4736,  1801.2,   4.0217,  34.9909,2,  34.9902,2,  -999.0,9,   0.391,2,   0.198,2,     3.8731,      0.002,      0.001
 06MT200206,       ar04,     348,          1,         15,     -999.0,9,20020613,       0755,     5.5003,   -40.0005,       4736,  1995.6,   3.7459,  34.9822,2,-999.0000,9,   258.9,6,   0.326,2,   0.166,2,     3.5825,      0.002,      0.001
 06MT200206,       ar04,     348,          1,         14,     -999.0,9,20020613,       0755,     5.5003,   -40.0005,       4736,  2196.6,   3.4639,  34.9694,2,-999.0000,9,   258.8,2,   0.124,2,   0.063,2,     3.2855,      0.001,      0.000
 06MT200206,       ar04,     348,          1,         13,     -999.0,9,20020613,       0755,     5.5003,   -40.0005,       4736,  2399.0,   3.2207,  34.9581,2,-999.0000,9,  -999.0,9,   0.068,2,   0.037,2,     3.0267,      0.000,      0.000
 06MT200206,       ar04,     348,          1,         12,     -999.0,9,20020613,       0755,     5.5003,   -40.0005,       4736,  2586.4,   3.0232,  34.9474,2,  34.9459,2,  -999.0,9,   0.075,2,   0.039,2,     2.8143,      0.000,      0.000
 06MT200206,       ar04,     348,          1,         11,     -999.0,9,20020613,       0755,     5.5003,   -40.0005,       4736,  2898.3,   2.8034,  34.9348,2,-999.0000,9,   262.1,2,   0.101,2,   0.050,2,     2.5674,      0.000,      0.000
 06MT200206,       ar04,     348,          1,         10,     -999.0,9,20020613,       0755,     5.5003,   -40.0005,       4736,  3208.5,   2.6786,  34.9251,2,-999.0000,9,  -999.0,9,   0.125,2,   0.064,2,     2.4131,      0.001,      0.000
 06MT200206,       ar04,     348,          1,          9,     -999.0,9,20020613,       0755,     5.5003,   -40.0005,       4736,  3498.5,   2.5194,  34.9141,2,-999.0000,9,  -999.0,9,   0.110,2,   0.056,2,     2.2266,      0.001,      0.000
 06MT200206,       ar04,     348,          1,          8,     -999.0,9,20020613,       0755,     5.5003,   -40.0005,       4736,  3699.7,   2.4243,  34.9065,2,-999.0000,9,  -999.0,9,   0.142,2,   0.070,2,     2.1119,      0.001,      0.000
 06MT200206,       ar04,     348,          1,          7,     -999.0,9,20020613,       0755,     5.5003,   -40.0005,       4736,  3896.4,   2.3190,  34.8980,2,-999.0000,9,   265.5,2,   0.160,2,   0.084,2,     1.9875,      0.001,      0.000
 06MT200206,       ar04,     348,          1,          6,     -999.0,9,20020613,       0755,     5.5003,   -40.0005,       4736,  3998.6,   2.2696,  34.8928,2,-999.0000,9,  -999.0,9,   0.151,2,   0.081,2,     1.9280,      0.001,      0.000
 06MT200206,       ar04,     348,          1,          5,     -999.0,9,20020613,       0755,     5.5003,   -40.0005,       4736,  4151.1,   2.1769,  34.8803,2,  34.8794,2,   262.3,2,   0.140,2,   0.077,2,     1.8205,      0.001,      0.000
 06MT200206,       ar04,     348,          1,          4,     -999.0,9,20020613,       0755,     5.5003,   -40.0005,       4736,  4299.1,   2.0256,  34.8614,2,-999.0000,9,   258.1,6,   0.114,2,   0.064,2,     1.6567,      0.001,      0.000
 06MT200206,       ar04,     348,          1,          3,     -999.0,9,20020613,       0755,     5.5003,   -40.0005,       4736,  4499.3,   1.6987,  34.8213,2,-999.0000,9,   248.6,2,   0.073,2,   0.039,2,     1.3167,      0.000,      0.000
 06MT200206,       ar04,     348,          1,          2,     -999.0,9,20020613,       0755,     5.5003,   -40.0005,       4736,  4604.6,   1.6154,  34.8104,2,-999.0000,9,   244.7,2,   0.067,2,   0.036,2,     1.2238,      0.000,      0.000
 06MT200206,       ar04,     348,          1,          1,     -999.0,9,20020613,       0755,     5.5003,   -40.0005,       4736,  4734.1,   1.5488,  34.8013,2,  34.8005,2,   241.4,2,   0.059,2,   0.032,2,     1.1441,      0.000,      0.000
 06MT200206,       ar04,     349,          1,         21,     -999.0,9,20020613,       1341,     6.0000,   -40.0017,       4673,    12.9,  27.6378,  35.5629,2,-999.0000,9,   210.7,2,   1.579,2,   1.000,2,    27.6348,      0.008,      0.003
 06MT200206,       ar04,     349,          1,         20,     -999.0,9,20020613,       1341,     6.0000,   -40.0017,       4673,    93.9,  18.7601,  35.9940,2,-999.0000,9,   133.4,2,   1.746,2,   1.019,2,    18.7434,      0.009,      0.004
 06MT200206,       ar04,     349,          1,         19,     -999.0,9,20020613,       1341,     6.0000,   -40.0017,       4673,   998.9,   4.6917,  34.6857,2,-999.0000,9,   155.9,2,   0.015,2,   0.008,2,     4.6105,      0.000,      0.000
 06MT200206,       ar04,     349,          1,         18,     -999.0,9,20020613,       1341,     6.0000,   -40.0017,       4673,  1302.2,   4.7759,  34.9268,2,-999.0000,9,  -999.0,9,   0.128,2,   0.067,2,     4.6659,      0.001,      0.000
 06MT200206,       ar04,     349,          1,         17,     -999.0,9,20020613,       1341,     6.0000,   -40.0017,       4673,  1511.2,   4.4140,  34.9825,2,-999.0000,9,   231.7,6,   0.176,2,   0.095,2,     4.2880,      0.001,      0.000
 06MT200206,       ar04,     349,          1,         16,     -999.0,9,20020613,       1341,     6.0000,   -40.0017,       4673,  1598.1,   4.2222,  34.9875,2,-999.0000,9,   240.9,2,   0.190,2,   0.103,2,     4.0903,      0.001,      0.000
 06MT200206,       ar04,     349,          1,         15,     -999.0,9,20020613,       1341,     6.0000,   -40.0017,       4673,  1698.9,   4.0852,  34.9884,2,  34.9874,2,  -999.0,9,   0.192,2,   0.102,2,     3.9455,      0.001,      0.000
 06MT200206,       ar04,     349,          1,         14,     -999.0,9,20020613,       1341,     6.0000,   -40.0017,       4673,  1885.1,   3.7695,  34.9808,2,-999.0000,9,  -999.0,9,   0.143,2,   0.077,2,     3.6164,      0.001,      0.000
 06MT200206,       ar04,     349,          1,         13,     -999.0,9,20020613,       1341,     6.0000,   -40.0017,       4673,  2095.3,   3.5391,  34.9729,2,-999.0000,9,  -999.0,9,   0.117,2,   0.062,2,     3.3693,      0.001,      0.000
 06MT200206,       ar04,     349,          1,         12,     -999.0,9,20020613,       1341,     6.0000,   -40.0017,       4673,  2241.2,   3.3650,  34.9636,2,-999.0000,9,   256.7,2,   0.054,2,   0.031,2,     3.1839,      0.000,      0.000
 06MT200206,       ar04,     349,          1,         11,     -999.0,9,20020613,       1341,     6.0000,   -40.0017,       4673,  2498.5,   3.0799,  34.9518,2,  34.9522,2,   260.4,2,   0.074,2,   0.039,2,     2.8786,      0.000,      0.000
 06MT200206,       ar04,     349,          1,         10,     -999.0,9,20020613,       1341,     6.0000,   -40.0017,       4673,  2795.4,   2.8643,  34.9360,2,-999.0000,9,  -999.0,9,   0.049,2,   0.027,2,     2.6375,      0.000,      0.000
 06MT200206,       ar04,     349,          1,          9,     -999.0,9,20020613,       1341,     6.0000,   -40.0017,       4673,  3111.9,   2.7084,  34.9263,2,-999.0000,9,  -999.0,9,   0.071,2,   0.037,2,     2.4524,      0.000,      0.000
 06MT200206,       ar04,     349,          1,          8,     -999.0,9,20020613,       1341,     6.0000,   -40.0017,       4673,  3397.9,   2.5801,  34.9178,2,-999.0000,9,  -999.0,9,   0.108,2,   0.056,2,     2.2967,      0.001,      0.000
 06MT200206,       ar04,     349,          1,          7,     -999.0,9,20020613,       1341,     6.0000,   -40.0017,       4673,  3608.8,   2.4786,  34.9104,2,-999.0000,9,   264.1,2,   0.113,2,   0.063,2,     2.1748,      0.001,      0.000
 06MT200206,       ar04,     349,          1,          6,     -999.0,9,20020613,       1341,     6.0000,   -40.0017,       4673,  3754.9,   2.3971,  34.9041,2,  34.9044,2,   265.5,6,   0.140,2,   0.076,2,     2.0793,      0.001,      0.000
 06MT200206,       ar04,     349,          1,          5,     -999.0,9,20020613,       1341,     6.0000,   -40.0017,       4673,  3903.0,   2.3301,  34.8989,2,  34.8997,2,   266.3,2,   0.155,2,   0.085,2,     1.9976,      0.001,      0.000
 06MT200206,       ar04,     349,          1,          4,     -999.0,9,20020613,       1341,     6.0000,   -40.0017,       4673,  4148.7,   2.2082,  34.8835,2,-999.0000,9,  -999.0,9,   0.145,2,   0.077,2,     1.8512,      0.001,      0.000
 06MT200206,       ar04,     349,          1,          3,     -999.0,9,20020613,       1341,     6.0000,   -40.0017,       4673,  4346.6,   1.9437,  34.8510,2,-999.0000,9,  -999.0,9,   0.102,2,   0.056,2,     1.5718,      0.000,      0.000
 06MT200206,       ar04,     349,          1,          2,     -999.0,9,20020613,       1341,     6.0000,   -40.0017,       4673,  4549.9,   1.6536,  34.8148,2,  34.8174,2,   243.8,2,   0.066,2,   0.035,2,     1.2671,      0.000,      0.000
 06MT200206,       ar04,     349,          1,          1,     -999.0,9,20020613,       1341,     6.0000,   -40.0017,       4673,  4671.3,   1.5900,  34.8061,2,  34.8076,2,   243.8,2,   0.063,2,   0.034,2,     1.1913,      0.000,      0.000
 06MT200206,       ar04,     350,          1,         21,     -999.0,9,20020613,       2156,     6.4838,   -39.4502,       4890,    40.6,  27.5536,  35.8285,2,-999.0000,9,   206.3,2,   1.598,2,   1.002,2,    27.5441,      0.008,      0.003
 06MT200206,       ar04,     350,          1,         20,     -999.0,9,20020613,       2156,     6.4838,   -39.4502,       4890,   104.0,  18.9041,  35.9006,2,-999.0000,9,   130.9,2,   1.730,2,   1.000,2,    18.8855,      0.008,      0.003
 06MT200206,       ar04,     350,          1,         19,     -999.0,9,20020613,       2156,     6.4838,   -39.4502,       4890,   472.8,   7.8700,  34.7680,2,-999.0000,9,    82.4,2,   0.208,2,   0.124,2,     7.8219,      0.001,      0.000
 06MT200206,       ar04,     350,          1,         18,     -999.0,9,20020613,       2156,     6.4838,   -39.4502,       4890,   978.2,   4.9444,  34.7392,2,  34.7384,2,   151.1,6,   0.014,2,   0.011,2,     4.8631,      0.000,      0.000
 06MT200206,       ar04,     350,          1,         17,     -999.0,9,20020613,       2156,     6.4838,   -39.4502,       4890,  1198.8,   4.7550,  34.8794,2,-999.0000,9,  -999.0,9,   0.047,2,   0.028,2,     4.6549,      0.000,      0.000
 06MT200206,       ar04,     350,          1,         16,     -999.0,9,20020613,       2156,     6.4838,   -39.4502,       4890,  1395.1,   4.5760,  34.9679,2,-999.0000,9,  -999.0,9,   0.157,2,   0.086,2,     4.4592,      0.001,      0.000
 06MT200206,       ar04,     350,          1,         15,     -999.0,9,20020613,       2156,     6.4838,   -39.4502,       4890,  1570.2,   4.2203,  34.9925,2,-999.0000,9,   243.3,2,   0.271,6,   0.149,6,     4.0910,      0.001,      0.001
 06MT200206,       ar04,     350,          1,         14,     -999.0,9,20020613,       2156,     6.4838,   -39.4502,       4890,  1788.5,   3.8690,  34.9853,2,  34.9841,2,  -999.0,9,   0.217,2,   0.119,2,     3.7236,      0.001,      0.000
 06MT200206,       ar04,     350,          1,         13,     -999.0,9,20020613,       2156,     6.4838,   -39.4502,       4890,  1988.6,   3.6041,  34.9750,2,-999.0000,9,  -999.0,9,   0.122,2,   0.066,2,     3.4435,      0.001,      0.000
 06MT200206,       ar04,     350,          1,         12,     -999.0,9,20020613,       2156,     6.4838,   -39.4502,       4890,  2193.2,   3.3721,  34.9673,2,  34.9662,2,  -999.0,9,   0.120,2,   0.061,2,     3.1955,      0.001,      0.000
 06MT200206,       ar04,     350,          1,         11,     -999.0,9,20020613,       2156,     6.4838,   -39.4502,       4890,  2331.6,   3.2082,  34.9589,2,-999.0000,9,  -999.0,9,-999.000,9,-999.000,9,     3.0210,     -999.0,     -999.0
 06MT200206,       ar04,     350,          1,         10,     -999.0,9,20020613,       2156,     6.4838,   -39.4502,       4890,  2482.3,   3.0766,  34.9519,2,-999.0000,9,   260.3,2,   0.099,2,   0.051,2,     2.8770,      0.000,      0.000
 06MT200206,       ar04,     350,          1,          9,     -999.0,9,20020613,       2156,     6.4838,   -39.4502,       4890,  2786.0,   2.8694,  34.9391,2,-999.0000,9,  -999.0,9,   0.095,6,   0.048,6,     2.6434,      0.000,      0.000
 06MT200206,       ar04,     350,          1,          8,     -999.0,9,20020613,       2156,     6.4838,   -39.4502,       4890,  3090.4,   2.7212,  34.9283,2,  34.9276,2,   261.5,2,   0.092,2,   0.049,2,     2.4671,      0.000,      0.000
 06MT200206,       ar04,     350,          1,          7,     -999.0,9,20020613,       2156,     6.4838,   -39.4502,       4890,  3497.8,   2.5463,  34.9151,2,-999.0000,9,  -999.0,9,   0.111,2,   0.058,2,     2.2530,      0.001,      0.000
 06MT200206,       ar04,     350,          1,          6,     -999.0,9,20020613,       2156,     6.4838,   -39.4502,       4890,  3697.7,   2.3923,  34.9022,2,-999.0000,9,  -999.0,9,   0.105,2,   0.056,2,     2.0810,      0.001,      0.000
 06MT200206,       ar04,     350,          1,          5,     -999.0,9,20020613,       2156,     6.4838,   -39.4502,       4890,  3850.4,   2.3141,  34.8946,2,-999.0000,9,   263.0,6,   0.113,2,   0.060,2,     1.9880,      0.001,      0.000
 06MT200206,       ar04,     350,          1,          4,     -999.0,9,20020613,       2156,     6.4838,   -39.4502,       4890,  3990.5,   2.2156,  34.8838,2,-999.0000,9,  -999.0,9,   0.106,2,   0.057,2,     1.8765,      0.001,      0.000
 06MT200206,       ar04,     350,          1,          3,     -999.0,9,20020613,       2156,     6.4838,   -39.4502,       4890,  4197.1,   2.0083,  34.8592,2,-999.0000,9,  -999.0,9,   0.096,2,   0.052,2,     1.6517,      0.000,      0.000
 06MT200206,       ar04,     350,          1,          2,     -999.0,9,20020613,       2156,     6.4838,   -39.4502,       4890,  4447.9,   1.6895,  34.8208,2,  34.8206,2,   246.8,2,   0.072,2,   0.038,2,     1.3138,      0.000,      0.000
 06MT200206,       ar04,     350,          1,          1,     -999.0,9,20020613,       2156,     6.4838,   -39.4502,       4890,  4888.7,   1.6478,  34.8099,2,  34.8115,2,   243.9,2,   0.064,2,   0.033,2,     1.2212,      0.000,      0.000