BOTTLE,20220810CCHSIOAMB
EXPOCODE,SECT_ID,STNNBR,CASTNO,SAMPNO,BTLNBR,BTLNBR_FLAG_W,DATE,TIME,LATITUDE,LONGITUDE,DEPTH,CTDPRS,CTDTMP,CTDSAL,CTDSAL_FLAG_W,SALNTY,SALNTY_FLAG_W,OXYGEN,OXYGEN_FLAG_W,CFC-11,CFC-11_FLAG_W,CFC-12,CFC-12_FLAG_W,THETA,CF11ER,CF12ER
,,,,,,,,,,,METERS,DBAR,ITS-90,PSS-78,,PSS-78,,UMOL/KG,,PMOL/KG,,PMOL/KG,,ITS-90,PMOL/KG,PMOL/KG
 06MT200206,       ar04,     366,          1,         21,     -999.0,9,20020622,       1105,    15.5280,   -53.8247,       4999,    21.7,  27.0559,  35.7681,2,  35.7238,3,   205.0,2,   1.619,2,   1.013,2,    27.0509,      0.008,      0.004
 06MT200206,       ar04,     366,          1,         20,     -999.0,9,20020622,       1105,    15.5280,   -53.8247,       4999,   111.7,  25.2964,  37.1955,2,-999.0000,9,   201.9,2,   1.770,2,   1.075,2,    25.2718,      0.009,      0.004
 06MT200206,       ar04,     366,          1,         19,     -999.0,9,20020622,       1105,    15.5280,   -53.8247,       4999,   997.7,   5.4588,  34.7745,2,  34.7822,2,   149.1,2,   0.053,2,   0.031,2,     5.3718,      0.000,      0.000
 06MT200206,       ar04,     366,          1,         18,     -999.0,9,20020622,       1105,    15.5280,   -53.8247,       4999,  1196.9,   5.2881,  34.9262,2,-999.0000,9,   181.9,2,   0.129,2,   0.071,2,     5.1833,      0.001,      0.000
 06MT200206,       ar04,     366,          1,         17,     -999.0,9,20020622,       1105,    15.5280,   -53.8247,       4999,  1353.6,   4.9928,  34.9950,2,-999.0000,9,  -999.0,9,   0.240,2,   0.129,2,     4.8756,      0.001,      0.000
 06MT200206,       ar04,     366,          1,         16,     -999.0,9,20020622,       1105,    15.5280,   -53.8247,       4999,  1501.9,   4.6240,  35.0052,2,  35.0033,2,  -999.0,9,   0.292,2,   0.153,2,     4.4965,      0.001,      0.001
 06MT200206,       ar04,     366,          1,         15,     -999.0,9,20020622,       1105,    15.5280,   -53.8247,       4999,  1670.2,   4.2591,  35.0012,2,-999.0000,9,  -999.0,9,   0.374,2,   0.202,2,     4.1199,      0.002,      0.001
 06MT200206,       ar04,     366,          1,         14,     -999.0,9,20020622,       1105,    15.5280,   -53.8247,       4999,  1810.5,   3.9434,  34.9922,2,-999.0000,9,   254.7,2,   0.289,2,   0.151,2,     3.7949,      0.001,      0.001
 06MT200206,       ar04,     366,          1,         13,     -999.0,9,20020622,       1105,    15.5280,   -53.8247,       4999,  2005.1,   3.6222,  34.9821,2,-999.0000,9,  -999.0,9,   0.091,2,   0.050,2,     3.4597,      0.000,      0.000
 06MT200206,       ar04,     366,          1,         12,     -999.0,9,20020622,       1105,    15.5280,   -53.8247,       4999,  2219.7,   3.3686,  34.9693,2,  34.9669,2,  -999.0,9,   0.063,2,   0.035,2,     3.1895,      0.000,      0.000
 06MT200206,       ar04,     366,          1,         11,     -999.0,9,20020622,       1105,    15.5280,   -53.8247,       4999,  2358.8,   3.1721,  34.9587,2,-999.0000,9,   257.5,2,   0.054,2,   0.029,2,     2.9828,      0.000,      0.000
 06MT200206,       ar04,     366,          1,         10,     -999.0,9,20020622,       1105,    15.5280,   -53.8247,       4999,  2497.5,   3.0508,  34.9509,2,-999.0000,9,  -999.0,9,   0.055,2,   0.029,2,     2.8501,      0.000,      0.000
 06MT200206,       ar04,     366,          1,          9,     -999.0,9,20020622,       1105,    15.5280,   -53.8247,       4999,  2748.2,   2.8852,  34.9402,2,-999.0000,9,  -999.0,9,-999.000,9,-999.000,9,     2.6627,     -999.0,     -999.0
 06MT200206,       ar04,     366,          1,          8,     -999.0,9,20020622,       1105,    15.5280,   -53.8247,       4999,  2998.2,   2.7534,  34.9306,2,-999.0000,9,   260.4,6,-999.000,9,-999.000,9,     2.5082,     -999.0,     -999.0
 06MT200206,       ar04,     366,          1,          7,     -999.0,9,20020622,       1105,    15.5280,   -53.8247,       4999,  3298.1,   2.6152,  34.9199,2,-999.0000,9,  -999.0,9,   0.113,2,   0.059,2,     2.3417,      0.001,      0.000
 06MT200206,       ar04,     366,          1,          6,     -999.0,9,20020622,       1105,    15.5280,   -53.8247,       4999,  3597.3,   2.4860,  34.9089,2,  34.9075,2,  -999.0,9,   0.117,2,   0.063,2,     2.1833,      0.001,      0.000
 06MT200206,       ar04,     366,          1,          5,     -999.0,9,20020622,       1105,    15.5280,   -53.8247,       4999,  3952.0,   2.3596,  34.8999,2,-999.0000,9,   267.6,6,   0.166,2,   0.089,2,     2.0207,      0.001,      0.000
 06MT200206,       ar04,     366,          1,          4,     -999.0,9,20020622,       1105,    15.5280,   -53.8247,       4999,  4199.7,   2.3092,  34.8943,2,-999.0000,9,  -999.0,9,   0.140,2,   0.080,2,     1.9433,      0.001,      0.000
 06MT200206,       ar04,     366,          1,          3,     -999.0,9,20020622,       1105,    15.5280,   -53.8247,       4999,  4550.3,   2.2343,  34.8831,2,-999.0000,9,  -999.0,9,   0.102,2,   0.059,2,     1.8292,      0.001,      0.000
 06MT200206,       ar04,     366,          1,          2,     -999.0,9,20020622,       1105,    15.5280,   -53.8247,       4999,  4803.0,   2.1046,  34.8639,2,-999.0000,9,   253.4,2,   0.088,2,   0.051,2,     1.6731,      0.000,      0.000
 06MT200206,       ar04,     366,          1,          1,     -999.0,9,20020622,       1105,    15.5280,   -53.8247,       4999,  4998.6,   1.9419,  34.8420,2,-999.0000,9,  -999.0,9,-999.000,9,-999.000,9,     1.4918,     -999.0,     -999.0
 06MT200206,       ar04,     367,          1,         23,     -999.0,9,20020622,       1558,    15.5705,   -54.1785,       5562,     9.7,  27.1060,  35.7634,2,-999.0000,9,   205.7,2,-999.000,9,-999.000,9,    27.1038,     -999.0,     -999.0
 06MT200206,       ar04,     367,          1,         22,     -999.0,9,20020622,       1558,    15.5705,   -54.1785,       5562,   493.9,   9.9935,  35.1989,2,-999.0000,9,   111.5,2,-999.000,9,-999.000,9,     9.9352,     -999.0,     -999.0
 06MT200206,       ar04,     367,          1,         21,     -999.0,9,20020622,       1558,    15.5705,   -54.1785,       5562,  1010.4,   5.5030,  34.8083,2,  34.7642,3,   145.4,2,   0.055,2,   0.031,2,     5.4144,      0.000,      0.000
 06MT200206,       ar04,     367,          1,         20,     -999.0,9,20020622,       1558,    15.5705,   -54.1785,       5562,  1192.7,   5.2785,  34.9361,2,-999.0000,9,   181.1,2,   0.137,2,   0.075,2,     5.1742,      0.001,      0.000
 06MT200206,       ar04,     367,          1,         19,     -999.0,9,20020622,       1558,    15.5705,   -54.1785,       5562,  1399.6,   4.9061,  35.0146,2,  35.0122,2,   222.8,2,   0.402,2,   0.214,2,     4.7853,      0.002,      0.001
 06MT200206,       ar04,     367,          1,         18,     -999.0,9,20020622,       1558,    15.5705,   -54.1785,       5562,  1547.8,   4.5286,  35.0106,2,-999.0000,9,   239.7,2,   0.431,2,   0.225,2,     4.3978,      0.002,      0.001
 06MT200206,       ar04,     367,          1,         17,     -999.0,9,20020622,       1558,    15.5705,   -54.1785,       5562,  1700.4,   4.1771,  34.9996,2,-999.0000,9,  -999.0,9,-999.000,9,-999.000,9,     4.0360,     -999.0,     -999.0
 06MT200206,       ar04,     367,          1,         16,     -999.0,9,20020622,       1558,    15.5705,   -54.1785,       5562,  1903.3,   3.7781,  34.9856,2,-999.0000,9,  -999.0,9,-999.000,9,-999.000,9,     3.6231,     -999.0,     -999.0
 06MT200206,       ar04,     367,          1,         15,     -999.0,9,20020622,       1558,    15.5705,   -54.1785,       5562,  2051.7,   3.5695,  34.9822,2,  34.9799,2,   257.3,6,   0.115,2,   0.063,2,     3.4034,      0.001,      0.000
 06MT200206,       ar04,     367,          1,         14,     -999.0,9,20020622,       1558,    15.5705,   -54.1785,       5562,  2207.8,   3.3501,  34.9706,2,-999.0000,9,   257.1,2,   0.076,2,   0.043,2,     3.1724,      0.000,      0.000
 06MT200206,       ar04,     367,          1,         13,     -999.0,9,20020622,       1558,    15.5705,   -54.1785,       5562,  2345.4,   3.1665,  34.9588,2,-999.0000,9,   258.8,2,   0.084,2,   0.047,2,     2.9786,      0.000,      0.000
 06MT200206,       ar04,     367,          1,         12,     -999.0,9,20020622,       1558,    15.5705,   -54.1785,       5562,  2483.9,   3.0192,  34.9489,2,-999.0000,9,  -999.0,9,-999.000,9,-999.000,9,     2.8205,     -999.0,     -999.0
 06MT200206,       ar04,     367,          1,         11,     -999.0,9,20020622,       1558,    15.5705,   -54.1785,       5562,  2736.2,   2.8588,  34.9379,2,-999.0000,9,  -999.0,9,-999.000,9,-999.000,9,     2.6381,     -999.0,     -999.0
 06MT200206,       ar04,     367,          1,         10,     -999.0,9,20020622,       1558,    15.5705,   -54.1785,       5562,  2966.7,   2.7338,  34.9288,2,  34.9274,2,   257.0,2,-999.000,9,-999.000,9,     2.4923,     -999.0,     -999.0
 06MT200206,       ar04,     367,          1,          9,     -999.0,9,20020622,       1558,    15.5705,   -54.1785,       5562,  3288.0,   2.6077,  34.9188,2,-999.0000,9,  -999.0,9,   0.094,2,   0.050,2,     2.3354,      0.000,      0.000
 06MT200206,       ar04,     367,          1,          8,     -999.0,9,20020622,       1558,    15.5705,   -54.1785,       5562,  3596.1,   2.4790,  34.9093,2,-999.0000,9,   262.1,6,   0.133,2,   0.072,2,     2.1766,      0.001,      0.000
 06MT200206,       ar04,     367,          1,          7,     -999.0,9,20020622,       1558,    15.5705,   -54.1785,       5562,  3897.6,   2.3864,  34.9022,2,  34.9010,2,   264.6,2,   0.167,2,   0.090,2,     2.0529,      0.001,      0.000
 06MT200206,       ar04,     367,          1,          6,     -999.0,9,20020622,       1558,    15.5705,   -54.1785,       5562,  4199.7,   2.3200,  34.8957,2,-999.0000,9,  -999.0,9,-999.000,9,-999.000,9,     1.9538,     -999.0,     -999.0
 06MT200206,       ar04,     367,          1,          5,     -999.0,9,20020622,       1558,    15.5705,   -54.1785,       5562,  4497.0,   2.2664,  34.8877,2,-999.0000,9,  -999.0,9,-999.000,9,-999.000,9,     1.8667,     -999.0,     -999.0
 06MT200206,       ar04,     367,          1,          4,     -999.0,9,20020622,       1558,    15.5705,   -54.1785,       5562,  4796.6,   2.1157,  34.8651,2,-999.0000,9,  -999.0,9,-999.000,9,-999.000,9,     1.6846,     -999.0,     -999.0
 06MT200206,       ar04,     367,          1,          3,     -999.0,9,20020622,       1558,    15.5705,   -54.1785,       5562,  5100.0,   1.9009,  34.8365,2,-999.0000,9,  -999.0,9,-999.000,9,-999.000,9,     1.4396,     -999.0,     -999.0
 06MT200206,       ar04,     367,          1,          2,     -999.0,9,20020622,       1558,    15.5705,   -54.1785,       5562,  5348.5,   1.8888,  34.8313,2,  34.8330,2,   248.2,2,   0.078,2,   0.045,2,     1.3965,      0.000,      0.000
 06MT200206,       ar04,     367,          1,          1,     -999.0,9,20020622,       1558,    15.5705,   -54.1785,       5562,  5560.6,   1.8999,  34.8284,2,  34.8296,2,   247.8,2,   0.074,2,   0.043,2,     1.3798,      0.000,      0.000
 06MT200206,       ar04,     368,          1,         21,     -999.0,9,20020622,       2052,    15.6108,   -54.5303,       4992,    15.5,  27.1206,  35.9992,2,  36.0204,2,   206.6,2,   1.597,2,   1.009,2,    27.1170,      0.008,      0.004
 06MT200206,       ar04,     368,          1,         20,     -999.0,9,20020622,       2052,    15.6108,   -54.5303,       4992,   112.5,  25.7632,  37.0893,2,-999.0000,9,   208.6,2,   1.686,2,   1.052,2,    25.7381,      0.008,      0.004
 06MT200206,       ar04,     368,          1,         19,     -999.0,9,20020622,       2052,    15.6108,   -54.5303,       4992,   788.5,   6.4057,  34.7311,2,  34.7581,2,   131.4,2,   0.121,2,   0.069,2,     6.3325,      0.001,      0.000
 06MT200206,       ar04,     368,          1,         18,     -999.0,9,20020622,       2052,    15.6108,   -54.5303,       4992,   998.0,   5.4933,  34.8006,2,-999.0000,9,   151.4,6,   0.052,2,   0.028,2,     5.4060,      0.000,      0.000
 06MT200206,       ar04,     368,          1,         17,     -999.0,9,20020622,       2052,    15.6108,   -54.5303,       4992,  1270.3,   5.1491,  34.9697,2,-999.0000,9,  -999.0,9,   0.218,2,   0.116,2,     5.0384,      0.001,      0.000
 06MT200206,       ar04,     368,          1,         16,     -999.0,9,20020622,       2052,    15.6108,   -54.5303,       4992,  1429.3,   4.8844,  35.0128,2,-999.0000,9,  -999.0,9,   0.407,2,   0.213,2,     4.7610,      0.002,      0.001
 06MT200206,       ar04,     368,          1,         15,     -999.0,9,20020622,       2052,    15.6108,   -54.5303,       4992,  1571.6,   4.4447,  35.0046,2,  35.0033,2,   237.7,2,   0.250,2,   0.136,2,     4.3126,      0.001,      0.001
 06MT200206,       ar04,     368,          1,         14,     -999.0,9,20020622,       2052,    15.6108,   -54.5303,       4992,  1702.1,   4.1484,  35.0006,2,-999.0000,9,  -999.0,9,-999.000,9,-999.000,9,     4.0075,     -999.0,     -999.0
 06MT200206,       ar04,     368,          1,         13,     -999.0,9,20020622,       2052,    15.6108,   -54.5303,       4992,  1931.8,   3.7186,  34.9896,2,  34.9872,2,   253.9,2,   0.095,2,   0.053,2,     3.5617,      0.000,      0.000
 06MT200206,       ar04,     368,          1,         12,     -999.0,9,20020622,       2052,    15.6108,   -54.5303,       4992,  2080.7,   3.4832,  34.9784,2,-999.0000,9,  -999.0,9,   0.089,2,   0.050,2,     3.3156,      0.000,      0.000
 06MT200206,       ar04,     368,          1,         11,     -999.0,9,20020622,       2052,    15.6108,   -54.5303,       4992,  2258.4,   3.2562,  34.9653,2,  34.9644,2,  -999.0,9,   0.105,2,   0.055,2,     3.0752,      0.001,      0.000
 06MT200206,       ar04,     368,          1,         10,     -999.0,9,20020622,       2052,    15.6108,   -54.5303,       4992,  2415.1,   3.1057,  34.9557,2,-999.0000,9,   260.6,2,   0.108,2,   0.058,2,     2.9121,      0.001,      0.000
 06MT200206,       ar04,     368,          1,          9,     -999.0,9,20020622,       2052,    15.6108,   -54.5303,       4992,  2898.2,   2.7800,  34.9340,2,  34.9317,2,   262.3,6,   0.153,2,   0.079,2,     2.5445,      0.001,      0.000
 06MT200206,       ar04,     368,          1,          8,     -999.0,9,20020622,       2052,    15.6108,   -54.5303,       4992,  3197.9,   2.6324,  34.9227,2,-999.0000,9,  -999.0,9,   0.226,2,   0.120,2,     2.3691,      0.001,      0.000
 06MT200206,       ar04,     368,          1,          7,     -999.0,9,20020622,       2052,    15.6108,   -54.5303,       4992,  3497.8,   2.5064,  34.9118,2,-999.0000,9,  -999.0,9,   0.139,2,   0.074,2,     2.2141,      0.001,      0.000
 06MT200206,       ar04,     368,          1,          6,     -999.0,9,20020622,       2052,    15.6108,   -54.5303,       4992,  3700.5,   2.4243,  34.9059,2,  34.9048,2,   265.6,2,   0.210,2,   0.112,2,     2.1119,      0.001,      0.000
 06MT200206,       ar04,     368,          1,          5,     -999.0,9,20020622,       2052,    15.6108,   -54.5303,       4992,  3900.4,   2.3646,  34.9022,2,-999.0000,9,  -999.0,9,   0.254,2,   0.134,2,     2.0314,      0.001,      0.000
 06MT200206,       ar04,     368,          1,          4,     -999.0,9,20020622,       2052,    15.6108,   -54.5303,       4992,  4199.8,   2.2992,  34.8958,2,-999.0000,9,  -999.0,9,   0.356,6,   0.190,6,     1.9336,      0.002,      0.001
 06MT200206,       ar04,     368,          1,          3,     -999.0,9,20020622,       2052,    15.6108,   -54.5303,       4992,  4447.6,   2.2682,  34.8900,2,  34.8877,2,  -999.0,9,   0.268,2,   0.144,2,     1.8743,      0.001,      0.001
 06MT200206,       ar04,     368,          1,          2,     -999.0,9,20020622,       2052,    15.6108,   -54.5303,       4992,  4701.2,   2.2080,  34.8791,2,-999.0000,9,   263.0,2,   0.164,2,   0.092,2,     1.7855,      0.001,      0.000
 06MT200206,       ar04,     368,          1,          1,     -999.0,9,20020622,       2052,    15.6108,   -54.5303,       4992,  4991.1,   2.0369,  34.8536,2,  34.8530,2,   254.9,2,   0.081,2,   0.049,2,     1.5844,      0.000,      0.000