BOTTLE,20220810CCHSIOAMB
EXPOCODE,SECT_ID,STNNBR,CASTNO,SAMPNO,BTLNBR,BTLNBR_FLAG_W,DATE,TIME,LATITUDE,LONGITUDE,DEPTH,CTDPRS,CTDTMP,CTDSAL,CTDSAL_FLAG_W,SALNTY,SALNTY_FLAG_W,OXYGEN,OXYGEN_FLAG_W,CFC-11,CFC-11_FLAG_W,CFC-12,CFC-12_FLAG_W,THETA,CF11ER,CF12ER
,,,,,,,,,,,METERS,DBAR,ITS-90,PSS-78,,PSS-78,,UMOL/KG,,PMOL/KG,,PMOL/KG,,ITS-90,PMOL/KG,PMOL/KG
 06MT200206,       ar04,     360,          1,         21,     -999.0,9,20020621,       0441,    15.2807,   -51.7037,       4953,    37.7,  26.7939,  36.2536,2,  36.2630,2,   207.7,2,   1.624,2,   1.008,2,    26.7853,      0.008,      0.004
 06MT200206,       ar04,     360,          1,         20,     -999.0,9,20020621,       0441,    15.2807,   -51.7037,       4953,   104.8,  25.1166,  37.2092,2,  37.2045,2,   213.0,2,-999.000,9,-999.000,9,    25.0936,     -999.0,     -999.0
 06MT200206,       ar04,     360,          1,         19,     -999.0,9,20020621,       0441,    15.2807,   -51.7037,       4953,   994.9,   5.6045,  34.7975,2,  34.8017,2,  -999.0,9,   0.026,2,   0.015,2,     5.5166,      0.000,      0.000
 06MT200206,       ar04,     360,          1,         18,     -999.0,9,20020621,       0441,    15.2807,   -51.7037,       4953,  1290.4,   5.1248,  34.9664,2,-999.0000,9,   194.5,2,   0.136,2,   0.073,2,     5.0125,      0.001,      0.000
 06MT200206,       ar04,     360,          1,         17,     -999.0,9,20020621,       0441,    15.2807,   -51.7037,       4953,  1494.8,   4.6511,  34.9959,2,-999.0000,9,   219.4,2,   0.103,2,   0.056,2,     4.5240,      0.001,      0.000
 06MT200206,       ar04,     360,          1,         16,     -999.0,9,20020621,       0441,    15.2807,   -51.7037,       4953,  1712.4,   4.1390,  34.9980,2,-999.0000,9,  -999.0,9,   0.094,2,   0.051,2,     3.9973,      0.000,      0.000
 06MT200206,       ar04,     360,          1,         15,     -999.0,9,20020621,       0441,    15.2807,   -51.7037,       4953,  1903.6,   3.7965,  34.9903,2,  34.9904,2,  -999.0,9,   0.099,2,   0.052,2,     3.6412,      0.000,      0.000
 06MT200206,       ar04,     360,          1,         14,     -999.0,9,20020621,       0441,    15.2807,   -51.7037,       4953,  2055.3,   3.5016,  34.9777,2,-999.0000,9,  -999.0,9,   0.062,2,   0.035,2,     3.3362,      0.000,      0.000
 06MT200206,       ar04,     360,          1,         13,     -999.0,9,20020621,       0441,    15.2807,   -51.7037,       4953,  2194.7,   3.2982,  34.9686,2,-999.0000,9,  -999.0,9,   0.070,2,   0.039,2,     3.1227,      0.000,      0.000
 06MT200206,       ar04,     360,          1,         12,     -999.0,9,20020621,       0441,    15.2807,   -51.7037,       4953,  2347.6,   3.1518,  34.9595,2,-999.0000,9,  -999.0,9,   0.052,2,   0.030,2,     2.9640,      0.000,      0.000
 06MT200206,       ar04,     360,          1,         11,     -999.0,9,20020621,       0441,    15.2807,   -51.7037,       4953,  2499.8,   3.0095,  34.9498,2,  34.9490,2,   255.3,2,   0.041,2,   0.023,2,     2.8094,      0.000,      0.000
 06MT200206,       ar04,     360,          1,         10,     -999.0,9,20020621,       0441,    15.2807,   -51.7037,       4953,  2797.4,   2.8356,  34.9373,2,-999.0000,9,  -999.0,9,   0.024,2,   0.013,2,     2.6092,      0.000,      0.000
 06MT200206,       ar04,     360,          1,          9,     -999.0,9,20020621,       0441,    15.2807,   -51.7037,       4953,  3096.8,   2.7122,  34.9274,2,-999.0000,9,  -999.0,9,   0.042,2,   0.022,2,     2.4577,      0.000,      0.000
 06MT200206,       ar04,     360,          1,          8,     -999.0,9,20020621,       0441,    15.2807,   -51.7037,       4953,  3395.0,   2.5872,  34.9169,2,-999.0000,9,  -999.0,9,   0.055,2,   0.027,2,     2.3040,      0.000,      0.000
 06MT200206,       ar04,     360,          1,          7,     -999.0,9,20020621,       0441,    15.2807,   -51.7037,       4953,  3597.9,   2.5123,  34.9094,2,-999.0000,9,  -999.0,9,   0.066,2,   0.036,2,     2.2089,      0.000,      0.000
 06MT200206,       ar04,     360,          1,          6,     -999.0,9,20020621,       0441,    15.2807,   -51.7037,       4953,  3792.4,   2.4279,  34.9025,2,  34.9000,2,   258.4,2,   0.077,2,   0.042,2,     2.1052,      0.000,      0.000
 06MT200206,       ar04,     360,          1,          5,     -999.0,9,20020621,       0441,    15.2807,   -51.7037,       4953,  4098.9,   2.2631,  34.8868,2,-999.0000,9,   258.8,6,   0.084,2,   0.045,2,     1.9102,      0.000,      0.000
 06MT200206,       ar04,     360,          1,          4,     -999.0,9,20020621,       0441,    15.2807,   -51.7037,       4953,  4295.9,   2.1247,  34.8730,2,-999.0000,9,  -999.0,9,   0.100,2,   0.057,2,     1.7532,      0.001,      0.000
 06MT200206,       ar04,     360,          1,          3,     -999.0,9,20020621,       0441,    15.2807,   -51.7037,       4953,  4497.9,   2.0271,  34.8602,2,-999.0000,9,  -999.0,9,   0.089,2,   0.051,2,     1.6349,      0.000,      0.000
 06MT200206,       ar04,     360,          1,          2,     -999.0,9,20020621,       0441,    15.2807,   -51.7037,       4953,  4699.2,   1.9111,  34.8441,2,-999.0000,9,   251.7,2,   0.086,2,   0.050,2,     1.4986,      0.000,      0.000
 06MT200206,       ar04,     360,          1,          1,     -999.0,9,20020621,       0441,    15.2807,   -51.7037,       4953,  4950.4,   1.8740,  34.8365,2,  34.8346,2,   249.8,2,   0.082,2,   0.047,2,     1.4321,      0.000,      0.000
 06MT200206,       ar04,     361,          1,         23,     -999.0,9,20020621,       0928,    15.3215,   -52.0588,       5056,    16.2,  26.7633,  36.3400,2,-999.0000,9,   205.1,2,-999.000,9,-999.000,9,    26.7596,     -999.0,     -999.0
 06MT200206,       ar04,     361,          1,         22,     -999.0,9,20020621,       0928,    15.3215,   -52.0588,       5056,    99.1,  25.2144,  37.2684,2,  37.2455,2,   210.7,2,-999.000,9,-999.000,9,    25.1926,     -999.0,     -999.0
 06MT200206,       ar04,     361,          1,         21,     -999.0,9,20020621,       0928,    15.3215,   -52.0588,       5056,   253.9,  16.4312,  36.2380,2,-999.0000,9,   106.3,2,-999.000,9,-999.000,9,    16.3898,     -999.0,     -999.0
 06MT200206,       ar04,     361,          1,         20,     -999.0,9,20020621,       0928,    15.3215,   -52.0588,       5056,   508.7,   9.7697,  35.1780,2,-999.0000,9,   110.2,6,-999.000,9,-999.000,9,     9.7104,     -999.0,     -999.0
 06MT200206,       ar04,     361,          1,         19,     -999.0,9,20020621,       0928,    15.3215,   -52.0588,       5056,   753.3,   6.3140,  34.7300,2,-999.0000,9,  -999.0,9,-999.000,9,-999.000,9,     6.2448,     -999.0,     -999.0
 06MT200206,       ar04,     361,          1,         18,     -999.0,9,20020621,       0928,    15.3215,   -52.0588,       5056,  1016.2,   5.4888,  34.7934,2,  34.7994,2,   145.8,2,-999.000,9,-999.000,9,     5.3998,     -999.0,     -999.0
 06MT200206,       ar04,     361,          1,         17,     -999.0,9,20020621,       0928,    15.3215,   -52.0588,       5056,  1246.7,   5.1984,  34.9339,2,-999.0000,9,  -999.0,9,-999.000,9,-999.000,9,     5.0896,     -999.0,     -999.0
 06MT200206,       ar04,     361,          1,         16,     -999.0,9,20020621,       0928,    15.3215,   -52.0588,       5056,  1496.5,   4.6684,  35.0008,2,-999.0000,9,  -999.0,9,-999.000,9,-999.000,9,     4.5409,     -999.0,     -999.0
 06MT200206,       ar04,     361,          1,         15,     -999.0,9,20020621,       0928,    15.3215,   -52.0588,       5056,  1747.3,   4.1069,  34.9968,2,-999.0000,9,  -999.0,9,-999.000,9,-999.000,9,     3.9623,     -999.0,     -999.0
 06MT200206,       ar04,     361,          1,         14,     -999.0,9,20020621,       0928,    15.3215,   -52.0588,       5056,  1991.8,   3.6504,  34.9842,2,  34.9874,2,   254.9,2,-999.000,9,-999.000,9,     3.4888,     -999.0,     -999.0
 06MT200206,       ar04,     361,          1,         13,     -999.0,9,20020621,       0928,    15.3215,   -52.0588,       5056,  2240.4,   3.2766,  34.9649,2,-999.0000,9,   258.1,2,-999.000,9,-999.000,9,     3.0970,     -999.0,     -999.0
 06MT200206,       ar04,     361,          1,         12,     -999.0,9,20020621,       0928,    15.3215,   -52.0588,       5056,  2497.5,   3.0396,  34.9497,2,-999.0000,9,  -999.0,9,-999.000,9,-999.000,9,     2.8391,     -999.0,     -999.0
 06MT200206,       ar04,     361,          1,         11,     -999.0,9,20020621,       0928,    15.3215,   -52.0588,       5056,  2748.4,   2.8536,  34.9371,2,-999.0000,9,   256.7,2,   0.049,2,   0.026,2,     2.6318,      0.000,      0.000
 06MT200206,       ar04,     361,          1,         10,     -999.0,9,20020621,       0928,    15.3215,   -52.0588,       5056,  3001.2,   2.7309,  34.9272,2,  34.9268,2,   255.9,2,   0.047,2,   0.025,2,     2.4859,      0.000,      0.000
 06MT200206,       ar04,     361,          1,          9,     -999.0,9,20020621,       0928,    15.3215,   -52.0588,       5056,  3298.6,   2.5894,  34.9160,2,-999.0000,9,  -999.0,9,-999.000,9,-999.000,9,     2.3164,     -999.0,     -999.0
 06MT200206,       ar04,     361,          1,          8,     -999.0,9,20020621,       0928,    15.3215,   -52.0588,       5056,  3497.6,   2.5133,  34.9112,2,  34.9115,2,   261.1,6,   0.112,2,   0.059,2,     2.2208,      0.001,      0.000
 06MT200206,       ar04,     361,          1,          7,     -999.0,9,20020621,       0928,    15.3215,   -52.0588,       5056,  3748.0,   2.3848,  34.9021,2,-999.0000,9,   254.7,4,   0.150,2,   0.081,2,     2.0681,      0.001,      0.000
 06MT200206,       ar04,     361,          1,          6,     -999.0,9,20020621,       0928,    15.3215,   -52.0588,       5056,  3997.5,   2.3093,  34.8955,2,  34.9801,3,   254.7,4,   0.251,4,   0.141,4,     1.9667,      0.001,      0.001
 06MT200206,       ar04,     361,          1,          5,     -999.0,9,20020621,       0928,    15.3215,   -52.0588,       5056,  4247.4,   2.2277,  34.8862,2,-999.0000,9,  -999.0,9,-999.000,9,-999.000,9,     1.8587,     -999.0,     -999.0
 06MT200206,       ar04,     361,          1,          4,     -999.0,9,20020621,       0928,    15.3215,   -52.0588,       5056,  4479.0,   2.0630,  34.8629,2,  34.8644,2,   256.4,2,   0.092,2,   0.053,2,     1.6719,      0.000,      0.000
 06MT200206,       ar04,     361,          1,          3,     -999.0,9,20020621,       0928,    15.3215,   -52.0588,       5056,  4700.3,   1.9064,  34.8416,2,-999.0000,9,   252.2,2,   0.085,2,   0.048,2,     1.4939,      0.000,      0.000
 06MT200206,       ar04,     361,          1,          2,     -999.0,9,20020621,       0928,    15.3215,   -52.0588,       5056,  4896.3,   1.8733,  34.8354,2,-999.0000,9,  -999.0,9,-999.000,9,-999.000,9,     1.4381,     -999.0,     -999.0
 06MT200206,       ar04,     361,          1,          1,     -999.0,9,20020621,       0928,    15.3215,   -52.0588,       5056,  5055.7,   1.8812,  34.8336,2,  34.8342,2,   250.0,2,   0.080,2,   0.046,2,     1.4261,      0.000,      0.000
 06MT200206,       ar04,     362,          1,         21,     -999.0,9,20020621,       1416,    15.3640,   -52.4113,       4997,    14.4,  26.8168,  36.3231,2,  36.3279,2,   204.7,2,   1.596,2,   1.001,2,    26.8135,      0.008,      0.004
 06MT200206,       ar04,     362,          1,         20,     -999.0,9,20020621,       1416,    15.3640,   -52.4113,       4997,   999.1,   5.4810,  34.7661,2,  34.7699,2,  -999.0,9,   0.042,2,   0.024,2,     5.3937,      0.000,      0.000
 06MT200206,       ar04,     362,          1,         19,     -999.0,9,20020621,       1416,    15.3640,   -52.4113,       4997,  1286.6,   5.1328,  34.9553,2,-999.0000,9,  -999.0,9,   0.118,2,   0.061,2,     5.0208,      0.001,      0.000
 06MT200206,       ar04,     362,          1,         18,     -999.0,9,20020621,       1416,    15.3640,   -52.4113,       4997,  1510.2,   4.5824,  34.9957,2,  34.9947,2,   223.8,2,   0.131,2,   0.070,2,     4.4546,      0.001,      0.000
 06MT200206,       ar04,     362,          1,         17,     -999.0,9,20020621,       1416,    15.3640,   -52.4113,       4997,  1621.1,   4.3866,  35.0046,2,-999.0000,9,  -999.0,9,   0.267,2,   0.144,2,     4.2505,      0.001,      0.001
 06MT200206,       ar04,     362,          1,         16,     -999.0,9,20020621,       1416,    15.3640,   -52.4113,       4997,  1765.5,   4.0839,  34.9963,2,-999.0000,9,  -999.0,9,   0.315,2,   0.168,2,     3.9378,      0.002,      0.001
 06MT200206,       ar04,     362,          1,         15,     -999.0,9,20020621,       1416,    15.3640,   -52.4113,       4997,  1811.4,   3.9995,  34.9960,2,-999.0000,9,  -999.0,9,   0.265,2,   0.144,2,     3.8502,      0.001,      0.001
 06MT200206,       ar04,     362,          1,         14,     -999.0,9,20020621,       1416,    15.3640,   -52.4113,       4997,  2022.7,   3.6608,  34.9861,2,  34.9850,2,  -999.0,9,   0.159,2,   0.084,2,     3.4961,      0.001,      0.000
 06MT200206,       ar04,     362,          1,         13,     -999.0,9,20020621,       1416,    15.3640,   -52.4113,       4997,  2121.6,   3.5240,  34.9803,2,-999.0000,9,   258.3,2,   0.119,2,   0.066,2,     3.3519,      0.001,      0.000
 06MT200206,       ar04,     362,          1,         12,     -999.0,9,20020621,       1416,    15.3640,   -52.4113,       4997,  2323.3,   3.2428,  34.9656,2,-999.0000,9,  -999.0,9,   0.075,2,   0.042,2,     3.0558,      0.000,      0.000
 06MT200206,       ar04,     362,          1,         11,     -999.0,9,20020621,       1416,    15.3640,   -52.4113,       4997,  2497.7,   3.0695,  34.9550,2,-999.0000,9,  -999.0,9,   0.095,2,   0.051,2,     2.8685,      0.000,      0.000
 06MT200206,       ar04,     362,          1,         10,     -999.0,9,20020621,       1416,    15.3640,   -52.4113,       4997,  2826.0,   2.8007,  34.9366,2,  34.9368,2,  -999.0,9,   0.100,2,   0.053,2,     2.5721,      0.001,      0.000
 06MT200206,       ar04,     362,          1,          9,     -999.0,9,20020621,       1416,    15.3640,   -52.4113,       4997,  3096.1,   2.6602,  34.9258,2,-999.0000,9,   260.5,2,   0.106,2,   0.057,2,     2.4069,      0.001,      0.000
 06MT200206,       ar04,     362,          1,          8,     -999.0,9,20020621,       1416,    15.3640,   -52.4113,       4997,  3397.4,   2.5117,  34.9145,2,-999.0000,9,  -999.0,9,   0.121,2,   0.068,2,     2.2300,      0.001,      0.000
 06MT200206,       ar04,     362,          1,          7,     -999.0,9,20020621,       1416,    15.3640,   -52.4113,       4997,  3606.2,   2.4388,  34.9084,2,-999.0000,9,  -999.0,9,   0.158,2,   0.084,2,     2.1364,      0.001,      0.000
 06MT200206,       ar04,     362,          1,          6,     -999.0,9,20020621,       1416,    15.3640,   -52.4113,       4997,  3809.4,   2.3687,  34.9028,2,-999.0000,9,  -999.0,9,   0.162,2,   0.087,2,     2.0456,      0.001,      0.000
 06MT200206,       ar04,     362,          1,          5,     -999.0,9,20020621,       1416,    15.3640,   -52.4113,       4997,  3975.3,   2.3160,  34.8985,2,-999.0000,9,   265.8,6,   0.167,2,   0.092,2,     1.9757,      0.001,      0.000
 06MT200206,       ar04,     362,          1,          4,     -999.0,9,20020621,       1416,    15.3640,   -52.4113,       4997,  4277.1,   2.1929,  34.8806,2,  34.8802,2,  -999.0,9,   0.107,2,   0.064,2,     1.8215,      0.001,      0.000
 06MT200206,       ar04,     362,          1,          3,     -999.0,9,20020621,       1416,    15.3640,   -52.4113,       4997,  4625.1,   2.0822,  34.8640,2,-999.0000,9,  -999.0,9,   0.089,2,   0.052,2,     1.6730,      0.000,      0.000
 06MT200206,       ar04,     362,          1,          2,     -999.0,9,20020621,       1416,    15.3640,   -52.4113,       4997,  4849.0,   1.9373,  34.8450,2,-999.0000,9,  -999.0,9,   0.083,2,   0.048,2,     1.5057,      0.000,      0.000
 06MT200206,       ar04,     362,          1,          1,     -999.0,9,20020621,       1416,    15.3640,   -52.4113,       4997,  4995.8,   1.8899,  34.8371,2,  34.8365,2,   250.9,2,   0.082,2,   0.046,2,     1.4419,      0.000,      0.000