BOTTLE,20220810CCHSIOAMB
EXPOCODE,SECT_ID,STNNBR,CASTNO,SAMPNO,BTLNBR,BTLNBR_FLAG_W,DATE,TIME,LATITUDE,LONGITUDE,DEPTH,CTDPRS,CTDTMP,CTDSAL,CTDSAL_FLAG_W,SALNTY,SALNTY_FLAG_W,OXYGEN,OXYGEN_FLAG_W,CFC-11,CFC-11_FLAG_W,CFC-12,CFC-12_FLAG_W,THETA,CF11ER,CF12ER
,,,,,,,,,,,METERS,DBAR,ITS-90,PSS-78,,PSS-78,,UMOL/KG,,PMOL/KG,,PMOL/KG,,ITS-90,PMOL/KG,PMOL/KG
 06MT200206,       ar04,     351,          1,         21,     -999.0,9,20020614,       0521,     6.8992,   -38.9397,       4530,     2.8,  27.5593,  36.1443,2,-999.0000,9,   202.1,2,   1.559,2,   0.990,2,    27.5586,      0.008,      0.003
 06MT200206,       ar04,     351,          1,         20,     -999.0,9,20020614,       0521,     6.8992,   -38.9397,       4530,    89.7,  18.9111,  35.8569,2,-999.0000,9,   135.3,2,-999.000,9,-999.000,9,    18.8951,     -999.0,     -999.0
 06MT200206,       ar04,     351,          1,         19,     -999.0,9,20020614,       0521,     6.8992,   -38.9397,       4530,   306.1,  10.2608,  34.9778,2,-999.0000,9,   112.0,2,-999.000,9,-999.000,9,    10.2245,     -999.0,     -999.0
 06MT200206,       ar04,     351,          1,         18,     -999.0,9,20020614,       0521,     6.8992,   -38.9397,       4530,   998.4,   4.9332,  34.7486,2,-999.0000,9,   152.1,2,   0.016,2,   0.009,2,     4.8501,      0.000,      0.000
 06MT200206,       ar04,     351,          1,         17,     -999.0,9,20020614,       0521,     6.8992,   -38.9397,       4530,  1185.5,   4.7785,  34.8983,2,-999.0000,9,  -999.0,9,   0.069,6,   0.037,6,     4.6794,      0.000,      0.000
 06MT200206,       ar04,     351,          1,         16,     -999.0,9,20020614,       0521,     6.8992,   -38.9397,       4530,  1420.2,   4.4960,  34.9776,2,-999.0000,9,   224.5,6,   0.177,2,   0.098,2,     4.3777,      0.001,      0.000
 06MT200206,       ar04,     351,          1,         15,     -999.0,9,20020614,       0521,     6.8992,   -38.9397,       4530,  1570.6,   4.1881,  34.9927,2,  34.9941,2,  -999.0,9,   0.259,2,   0.138,2,     4.0592,      0.001,      0.000
 06MT200206,       ar04,     351,          1,         14,     -999.0,9,20020614,       0521,     6.8992,   -38.9397,       4530,  1747.5,   3.9445,  34.9859,2,  34.9874,2,  -999.0,9,   0.176,2,   0.097,2,     3.8020,      0.001,      0.000
 06MT200206,       ar04,     351,          1,         13,     -999.0,9,20020614,       0521,     6.8992,   -38.9397,       4530,  1887.8,   3.7911,  34.9817,2,-999.0000,9,  -999.0,9,   0.144,2,   0.083,2,     3.6374,      0.001,      0.000
 06MT200206,       ar04,     351,          1,         12,     -999.0,9,20020614,       0521,     6.8992,   -38.9397,       4530,  2044.8,   3.5299,  34.9728,2,-999.0000,9,  -999.0,9,   0.123,2,   0.068,2,     3.3651,      0.001,      0.000
 06MT200206,       ar04,     351,          1,         11,     -999.0,9,20020614,       0521,     6.8992,   -38.9397,       4530,  2205.9,   3.2900,  34.9630,2,-999.0000,9,   258.2,2,   0.075,2,   0.041,2,     3.1135,      0.000,      0.000
 06MT200206,       ar04,     351,          1,         10,     -999.0,9,20020614,       0521,     6.8992,   -38.9397,       4530,  2349.2,   3.1310,  34.9550,2,  34.9565,2,  -999.0,9,   0.084,2,   0.046,2,     2.9434,      0.000,      0.000
 06MT200206,       ar04,     351,          1,          9,     -999.0,9,20020614,       0521,     6.8992,   -38.9397,       4530,  2489.8,   3.0315,  34.9495,2,-999.0000,9,  -999.0,9,   0.078,2,   0.041,2,     2.8320,      0.000,      0.000
 06MT200206,       ar04,     351,          1,          8,     -999.0,9,20020614,       0521,     6.8992,   -38.9397,       4530,  2806.5,   2.8277,  34.9366,2,-999.0000,9,  -999.0,9,   0.096,2,   0.051,2,     2.6005,      0.000,      0.000
 06MT200206,       ar04,     351,          1,          7,     -999.0,9,20020614,       0521,     6.8992,   -38.9397,       4530,  3103.1,   2.6757,  34.9238,2,-999.0000,9,   260.1,2,   0.063,2,   0.033,2,     2.4213,      0.000,      0.000
 06MT200206,       ar04,     351,          1,          6,     -999.0,9,20020614,       0521,     6.8992,   -38.9397,       4530,  3397.4,   2.5559,  34.9158,2,-999.0000,9,   261.5,2,   0.087,2,   0.046,2,     2.2732,      0.000,      0.000
 06MT200206,       ar04,     351,          1,          5,     -999.0,9,20020614,       0521,     6.8992,   -38.9397,       4530,  3607.7,   2.4619,  34.9078,2,  34.9103,2,  -999.0,9,   0.111,2,   0.057,2,     2.1587,      0.001,      0.000
 06MT200206,       ar04,     351,          1,          4,     -999.0,9,20020614,       0521,     6.8992,   -38.9397,       4530,  3778.0,   2.3596,  34.8989,2,-999.0000,9,  -999.0,9,   0.095,2,   0.051,2,     2.0403,      0.000,      0.000
 06MT200206,       ar04,     351,          1,          3,     -999.0,9,20020614,       0521,     6.8992,   -38.9397,       4530,  3916.4,   2.2670,  34.8884,2,-999.0000,9,   260.0,6,   0.095,2,   0.052,2,     1.9348,      0.000,      0.000
 06MT200206,       ar04,     351,          1,          2,     -999.0,9,20020614,       0521,     6.8992,   -38.9397,       4530,  4113.2,   2.1239,  34.8717,2,  34.8757,2,   257.6,2,   0.094,2,   0.052,2,     1.7735,      0.000,      0.000
 06MT200206,       ar04,     351,          1,          1,     -999.0,9,20020614,       0521,     6.8992,   -38.9397,       4530,  4527.6,   1.6863,  34.8190,2,  34.8198,2,   246.2,2,   0.067,6,   0.036,6,     1.3014,      0.000,      0.000
 06MT200206,       ar04,     352,          1,          5,     -999.0,9,20020614,       1313,     7.4473,   -38.3220,       4926,  3984.4,   2.1029,  34.8684,2,  34.8701,2,   257.0,2,   0.088,2,   0.047,2,     1.7677,      0.000,      0.000
 06MT200206,       ar04,     352,          1,          4,     -999.0,9,20020614,       1313,     7.4473,   -38.3220,       4926,  4169.0,   1.8891,  34.8450,2,-999.0000,9,   264.6,4,   0.077,2,   0.042,2,     1.5392,      0.000,      0.000
 06MT200206,       ar04,     352,          1,          3,     -999.0,9,20020614,       1313,     7.4473,   -38.3220,       4926,  4486.4,   1.7012,  34.8210,2,-999.0000,9,   234.4,4,   0.068,2,   0.035,2,     1.3206,      0.000,      0.000
 06MT200206,       ar04,     352,          1,          2,     -999.0,9,20020614,       1313,     7.4473,   -38.3220,       4926,  4699.6,   1.6872,  34.8166,2,  34.8161,2,   245.3,2,   0.068,2,   0.035,2,     1.2820,      0.000,      0.000
 06MT200206,       ar04,     352,          1,          1,     -999.0,9,20020614,       1313,     7.4473,   -38.3220,       4926,  4782.5,   1.6942,  34.8162,2,  34.8153,2,   245.6,2,   0.066,2,   0.037,2,     1.2789,      0.000,      0.000
 06MT200206,       ar04,     357,          1,         21,     -999.0,9,20020616,       1241,     7.4170,   -34.2888,       4761,    19.0,  27.5723,  36.0031,2,  36.0188,2,   207.9,2,-999.000,9,-999.000,9,    27.5679,     -999.0,     -999.0
 06MT200206,       ar04,     357,          1,         20,     -999.0,9,20020616,       1241,     7.4170,   -34.2888,       4761,   526.6,   8.1344,  34.8180,2,-999.0000,9,    74.9,2,-999.000,9,-999.000,9,     8.0796,     -999.0,     -999.0
 06MT200206,       ar04,     357,          1,         19,     -999.0,9,20020616,       1241,     7.4170,   -34.2888,       4761,   896.9,   5.0811,  34.6602,2,  34.6641,2,   137.1,2,-999.000,9,-999.000,9,     5.0063,     -999.0,     -999.0
 06MT200206,       ar04,     357,          1,         18,     -999.0,9,20020616,       1241,     7.4170,   -34.2888,       4761,  1110.2,   4.9271,  34.7938,2,-999.0000,9,   160.0,2,-999.000,9,-999.000,9,     4.8338,     -999.0,     -999.0
 06MT200206,       ar04,     357,          1,         17,     -999.0,9,20020616,       1241,     7.4170,   -34.2888,       4761,  1303.0,   4.6997,  34.9219,2,-999.0000,9,   195.4,6,-999.000,9,-999.000,9,     4.5904,     -999.0,     -999.0
 06MT200206,       ar04,     357,          1,         16,     -999.0,9,20020616,       1241,     7.4170,   -34.2888,       4761,  1470.1,   4.4506,  34.9804,2,-999.0000,9,   228.4,2,-999.000,9,-999.000,9,     4.3281,     -999.0,     -999.0
 06MT200206,       ar04,     357,          1,         15,     -999.0,9,20020616,       1241,     7.4170,   -34.2888,       4761,  1636.5,   4.1531,  34.9860,2,-999.0000,9,   238.4,2,-999.000,9,-999.000,9,     4.0184,     -999.0,     -999.0
 06MT200206,       ar04,     357,          1,         14,     -999.0,9,20020616,       1241,     7.4170,   -34.2888,       4761,  1887.0,   3.7369,  34.9771,2,  34.9789,2,   251.2,2,-999.000,9,-999.000,9,     3.5840,     -999.0,     -999.0
 06MT200206,       ar04,     357,          1,         13,     -999.0,9,20020616,       1241,     7.4170,   -34.2888,       4761,  2104.9,   3.4313,  34.9649,2,-999.0000,9,   253.6,2,-999.000,9,-999.000,9,     3.2623,     -999.0,     -999.0
 06MT200206,       ar04,     357,          1,         12,     -999.0,9,20020616,       1241,     7.4170,   -34.2888,       4761,  2266.9,   3.1800,  34.9530,2,-999.0000,9,   255.0,2,-999.000,9,-999.000,9,     2.9995,     -999.0,     -999.0
 06MT200206,       ar04,     357,          1,         11,     -999.0,9,20020616,       1241,     7.4170,   -34.2888,       4761,  2498.9,   3.0281,  34.9446,2,-999.0000,9,   257.1,2,-999.000,9,-999.000,9,     2.8277,     -999.0,     -999.0
 06MT200206,       ar04,     357,          1,         10,     -999.0,9,20020616,       1241,     7.4170,   -34.2888,       4761,  2798.5,   2.8422,  34.9327,2,  34.9337,2,   257.5,2,-999.000,9,-999.000,9,     2.6156,     -999.0,     -999.0
 06MT200206,       ar04,     357,          1,          9,     -999.0,9,20020616,       1241,     7.4170,   -34.2888,       4761,  3095.0,   2.6531,  34.9177,2,-999.0000,9,   260.2,2,-999.000,9,-999.000,9,     2.4001,     -999.0,     -999.0
 06MT200206,       ar04,     357,          1,          8,     -999.0,9,20020616,       1241,     7.4170,   -34.2888,       4761,  3449.5,   2.4844,  34.9043,2,-999.0000,9,   258.3,6,-999.000,9,-999.000,9,     2.1979,     -999.0,     -999.0
 06MT200206,       ar04,     357,          1,          7,     -999.0,9,20020616,       1241,     7.4170,   -34.2888,       4761,  3597.2,   2.4241,  34.8992,2,-999.0000,9,   258.4,2,-999.000,9,-999.000,9,     2.1231,     -999.0,     -999.0
 06MT200206,       ar04,     357,          1,          6,     -999.0,9,20020616,       1241,     7.4170,   -34.2888,       4761,  3749.6,   2.3475,  34.8916,2,-999.0000,9,   257.9,2,-999.000,9,-999.000,9,     2.0317,     -999.0,     -999.0
 06MT200206,       ar04,     357,          1,          5,     -999.0,9,20020616,       1241,     7.4170,   -34.2888,       4761,  3902.5,   2.2353,  34.8804,2,-999.0000,9,   256.8,2,-999.000,9,-999.000,9,     1.9055,     -999.0,     -999.0
 06MT200206,       ar04,     357,          1,          4,     -999.0,9,20020616,       1241,     7.4170,   -34.2888,       4761,  4098.5,   2.1862,  34.8746,2,  34.8774,2,   256.5,2,-999.000,9,-999.000,9,     1.8356,     -999.0,     -999.0
 06MT200206,       ar04,     357,          1,          3,     -999.0,9,20020616,       1241,     7.4170,   -34.2888,       4761,  4298.1,   2.1755,  34.8706,2,-999.0000,9,   255.7,2,-999.000,9,-999.000,9,     1.8022,     -999.0,     -999.0
 06MT200206,       ar04,     357,          1,          2,     -999.0,9,20020616,       1241,     7.4170,   -34.2888,       4761,  4549.9,   2.1932,  34.8691,2,-999.0000,9,   255.1,2,-999.000,9,-999.000,9,     1.7895,     -999.0,     -999.0
 06MT200206,       ar04,     357,          1,          1,     -999.0,9,20020616,       1241,     7.4170,   -34.2888,       4761,  4760.1,   2.2140,  34.8687,2,  34.8711,2,   255.7,2,-999.000,9,-999.000,9,     1.7842,     -999.0,     -999.0
 06MT200206,       ar04,     359,          1,         21,     -999.0,9,20020621,       0012,    15.2405,   -51.3508,       4365,    24.0,  26.9113,  36.0306,2,  36.0517,2,   210.5,2,-999.000,9,-999.000,9,    26.9058,     -999.0,     -999.0
 06MT200206,       ar04,     359,          1,         20,     -999.0,9,20020621,       0012,    15.2405,   -51.3508,       4365,   293.2,  16.0655,  36.2043,2,  36.1816,2,   160.5,6,-999.000,9,-999.000,9,    16.0184,     -999.0,     -999.0
 06MT200206,       ar04,     359,          1,         19,     -999.0,9,20020621,       0012,    15.2405,   -51.3508,       4365,   595.4,   8.4068,  34.9787,2,  34.9805,2,   108.2,2,   0.309,2,   0.161,2,     8.3432,      0.002,      0.001
 06MT200206,       ar04,     359,          1,         18,     -999.0,9,20020621,       0012,    15.2405,   -51.3508,       4365,   799.8,   6.3093,  34.7620,2,  34.7567,2,   123.9,2,   0.069,2,   0.037,2,     6.2356,      0.000,      0.000
 06MT200206,       ar04,     359,          1,         17,     -999.0,9,20020621,       0012,    15.2405,   -51.3508,       4365,   992.2,   5.6356,  34.8057,2,  34.8056,2,   140.2,2,   0.024,2,   0.012,2,     5.5477,      0.000,      0.000
 06MT200206,       ar04,     359,          1,         16,     -999.0,9,20020621,       0012,    15.2405,   -51.3508,       4365,  1097.4,   5.4542,  34.8770,2,-999.0000,9,  -999.0,9,   0.050,2,   0.026,2,     5.3576,      0.000,      0.000
 06MT200206,       ar04,     359,          1,         15,     -999.0,9,20020621,       0012,    15.2405,   -51.3508,       4365,  1312.4,   5.0862,  34.9627,2,-999.0000,9,  -999.0,9,   0.090,2,   0.046,2,     4.9721,      0.000,      0.000
 06MT200206,       ar04,     359,          1,         14,     -999.0,9,20020621,       0012,    15.2405,   -51.3508,       4365,  1506.8,   4.5597,  34.9989,2,  34.9982,2,   223.8,2,   0.112,2,   0.057,2,     4.4325,      0.001,      0.000
 06MT200206,       ar04,     359,          1,         13,     -999.0,9,20020621,       0012,    15.2405,   -51.3508,       4365,  1705.7,   4.0878,  34.9961,2,-999.0000,9,  -999.0,9,   0.114,2,   0.059,2,     3.9474,      0.001,      0.000
 06MT200206,       ar04,     359,          1,         12,     -999.0,9,20020621,       0012,    15.2405,   -51.3508,       4365,  1899.2,   3.6934,  34.9855,2,-999.0000,9,  -999.0,9,   0.095,2,   0.047,2,     3.5400,      0.000,      0.000
 06MT200206,       ar04,     359,          1,         11,     -999.0,9,20020621,       0012,    15.2405,   -51.3508,       4365,  2088.7,   3.3998,  34.9745,2,  34.9740,2,  -999.0,9,   0.103,2,   0.051,2,     3.2328,      0.001,      0.000
 06MT200206,       ar04,     359,          1,         10,     -999.0,9,20020621,       0012,    15.2405,   -51.3508,       4365,  2348.6,   3.1155,  34.9570,2,-999.0000,9,   256.7,6,-999.000,9,-999.000,9,     2.9282,     -999.0,     -999.0
 06MT200206,       ar04,     359,          1,          9,     -999.0,9,20020621,       0012,    15.2405,   -51.3508,       4365,  2491.1,   2.9845,  34.9488,2,-999.0000,9,  -999.0,9,-999.000,9,-999.000,9,     2.7857,     -999.0,     -999.0
 06MT200206,       ar04,     359,          1,          8,     -999.0,9,20020621,       0012,    15.2405,   -51.3508,       4365,  2752.7,   2.8399,  34.9369,2,-999.0000,9,   253.9,2,   0.024,4,   0.044,4,     2.6179,      0.000,      0.000
 06MT200206,       ar04,     359,          1,          7,     -999.0,9,20020621,       0012,    15.2405,   -51.3508,       4365,  2999.6,   2.7078,  34.9282,2,  34.9258,2,   255.5,2,   0.046,2,   0.040,2,     2.4634,      0.000,      0.000
 06MT200206,       ar04,     359,          1,          6,     -999.0,9,20020621,       0012,    15.2405,   -51.3508,       4365,  3297.7,   2.5759,  34.9164,2,-999.0000,9,  -999.0,9,   0.022,3,   0.015,3,     2.3034,      0.000,      0.000
 06MT200206,       ar04,     359,          1,          5,     -999.0,9,20020621,       0012,    15.2405,   -51.3508,       4365,  3602.1,   2.4814,  34.9086,2,-999.0000,9,  -999.0,9,   0.086,2,   0.045,2,     2.1783,      0.000,      0.000
 06MT200206,       ar04,     359,          1,          4,     -999.0,9,20020621,       0012,    15.2405,   -51.3508,       4365,  3803.4,   2.3633,  34.8978,2,  34.8977,2,   258.6,2,   0.086,2,   0.047,2,     2.0411,      0.000,      0.000
 06MT200206,       ar04,     359,          1,          3,     -999.0,9,20020621,       0012,    15.2405,   -51.3508,       4365,  3998.3,   2.2581,  34.8886,2,-999.0000,9,  -999.0,9,   0.100,2,   0.056,2,     1.9169,      0.001,      0.000
 06MT200206,       ar04,     359,          1,          2,     -999.0,9,20020621,       0012,    15.2405,   -51.3508,       4365,  4129.3,   2.1990,  34.8833,2,-999.0000,9,   259.4,2,   0.108,2,   0.060,2,     1.8445,      0.001,      0.000
 06MT200206,       ar04,     359,          1,          1,     -999.0,9,20020621,       0012,    15.2405,   -51.3508,       4365,  4364.4,   2.0800,  34.8679,2,  34.8672,2,   256.9,2,   0.096,6,   0.057,6,     1.7018,      0.000,      0.000