BOTTLE,20220725CCHSIOCBG
EXPOCODE,SECT_ID,STNNBR,CASTNO,SAMPNO,BTLNBR,BTLNBR_FLAG_W,DATE,TIME,LATITUDE,LONGITUDE,DEPTH,CTDPRS,CTDTMP,CTDSAL,CTDSAL_FLAG_W,SALNTY,SALNTY_FLAG_W,CTDOXY,CTDOXY_FLAG_W,OXYGEN,OXYGEN_FLAG_W,SILCAT,SILCAT_FLAG_W,NITRAT,NITRAT_FLAG_W,NITRIT,NITRIT_FLAG_W,PHSPHT,PHSPHT_FLAG_W,CFC-11,CFC-11_FLAG_W,CFC-12,CFC-12_FLAG_W,CFC113,CFC113_FLAG_W,SF6,SF6_FLAG_W,TCARBN,TCARBN_FLAG_W,ALKALI,ALKALI_FLAG_W,PH_TOT,PH_TOT_FLAG_W,PH_TMP,TRITUM,TRITUM_FLAG_W,HELIUM,HELIUM_FLAG_W,DELHE3,DELHE3_FLAG_W,REFTMP,REFTMP_FLAG_W,DELC13,DELC13_FLAG_W,DELC14,DELC14_FLAG_W,C14ERR,NEON,NEON_FLAG_W,NEONER,CCL4,CCL4_FLAG_W,DOC,DOC_FLAG_W,TDN,TDN_FLAG_W,BTL_LAT,BTL_LON,TRITER,HELIER,DELHER,THETA,SBE35,SBE35_FLAG_W,14C-DOC,14C-DOC_FLAG_W,14C-DOCERR,13C-DOC,13C-DOC_FLAG_W,13C-DOCERR,SALTREF,SALTREF_FLAG_W,LAB_DEN,LAB_DEN_FLAG_W,BTL_DATE,BTL_TIME
,,,,,,,,,,,METERS,DBAR,ITS-90,PSS-78,,PSS-78,,UMOL/KG,,UMOL/KG,,UMOL/KG,,UMOL/KG,,UMOL/KG,,UMOL/KG,,PMOL/KG,,PMOL/KG,,PMOL/KG,,FMOL/KG,,UMOL/KG,,UMOL/KG,,,,DEG C,TU,,NMOL/KG,,PERCNT,,DEG C,,/MILLE,,/MILLE,,/MILLE,NMOL/KG,,NMOL/KG,PMOL/KG,,UMOL/KG,,UMOL/KG,,,,TU,NMOL/KG,PERCNT,DEG C,ITS-90,,/MILLE,,/MILLE,/MILLE,,/MILLE,G/KG,,KG/M^3,,,
33AT20120324,        A22,       7,          1,         36,         36,2,20120326,       1621,    39.2582,   -69.4898,       2674,     2.8,  15.1015,  35.3296,2,  35.3300,2,    287.3,4,   267.3,2,    0.33,2,    0.00,2,    0.00,2,    0.08,2,   2.627,2,   1.629,2,   0.216,2,    -999,5,  2046.9,6, 2339.36,2,   8.0218,6,       25,    -999,9,     -999,9,    -999,9,  15.1025,2,    -999,9,    -999,9,    -999,    -999,9,    -999,    2.26,2,   69.35,2,    4.27,2,  39.2582, -69.4912,    -999,     -999,    -999,  15.1011,  15.1025,2,-999,9,-999,-999,9,-999,    35.4966,2,-999,9,20120326,       1754
33AT20120324,        A22,       7,          1,         35,         35,2,20120326,       1621,    39.2582,   -69.4898,       2674,    20.9,  15.1000,  35.3319,2,  35.3316,2,    231.7,4,   267.5,2,    0.36,2,    0.00,2,    0.00,2,    0.06,2,   2.628,2,   1.637,2,   0.217,2,    -999,5,  2047.1,2, 2337.36,6,   8.0211,2,       25,    -999,9,     -999,9,    -999,9,  15.1029,2,    -999,9,    -999,9,    -999,    -999,9,    -999,    2.21,2,   69.17,2,    4.22,2,  39.2582, -69.4911,    -999,     -999,    -999,  15.0968,  15.1029,2,-999,9,-999,-999,9,-999,    35.4982,2,-999,9,20120326,       1752
33AT20120324,        A22,       7,          1,         34,         34,2,20120326,       1621,    39.2582,   -69.4898,       2674,    41.5,  14.0260,  35.4175,2,  35.3795,2,     -999,5,    -999,5,    0.87,2,    2.91,2,    0.21,2,    0.28,2,   2.627,2,   1.608,2,   0.206,2,    -999,5,    -999,9,    -999,9,     -999,9,     -999,    -999,9,     -999,9,    -999,9,  14.0314,2,    -999,9,    -999,9,    -999,    -999,9,    -999,    2.01,2,   64.00,2,    6.87,2,  39.2582, -69.4911,    -999,     -999,    -999,  14.0200,  14.0314,2,-999,9,-999,-999,9,-999,    35.5463,2,-999,9,20120326,       1750
33AT20120324,        A22,       7,          1,         33,         33,2,20120326,       1621,    39.2582,   -69.4898,       2674,    66.3,  14.0388,  35.5262,2,  35.5270,2,    236.7,2,   237.2,2,    2.70,2,    5.52,2,    0.54,2,    0.42,2,   2.534,2,   1.579,2,   0.201,2,    -999,5,  2102.1,2, 2343.49,2,   7.9265,2,       25,    -999,9,     -999,9,    -999,9,  14.0399,2,    -999,9,    -999,9,    -999,    -999,9,    -999,    1.89,2,   60.34,2,   10.12,2,  39.2582, -69.4910,    -999,     -999,    -999,  14.0292,  14.0399,2,-999,9,-999,-999,9,-999,    35.6945,2,-999,9,20120326,       1747
33AT20120324,        A22,       7,          1,         32,         32,2,20120326,       1621,    39.2582,   -69.4898,       2674,    91.3,  14.0563,  35.5631,2,  35.5499,2,    236.5,2,   230.6,2,    2.73,2,    6.45,2,    0.25,2,    0.45,2,   2.539,2,   1.560,2,   0.193,2,    -999,5,    -999,9,    -999,9,     -999,9,     -999,    -999,9,     -999,9,    -999,9,  14.0621,2,    -999,9,    -999,9,    -999,    -999,9,    -999,    1.73,2,   59.19,2,   10.86,2,  39.2582, -69.4909,    -999,     -999,    -999,  14.0430,  14.0621,2,-999,9,-999,-999,9,-999,    35.7175,2,-999,9,20120326,       1745
33AT20120324,        A22,       7,          1,         31,         31,2,20120326,       1621,    39.2582,   -69.4898,       2674,   115.8,  14.1275,  35.6281,2,  35.6275,2,    228.4,2,   228.7,2,    3.56,2,    7.24,2,    0.36,2,    0.50,2,   2.429,2,   1.507,2,   0.187,2,    -999,5,  2109.5,2, 2347.18,2,   7.9146,2,       25,    -999,9,     -999,9,    -999,9,  14.1280,2,    -999,9,    -999,9,    -999,    -999,9,    -999,    1.61,2,   57.21,2,   11.71,2,  39.2582, -69.4907,    -999,     -999,    -999,  14.1106,  14.1280,2,-999,9,-999,-999,9,-999,    35.7954,2,-999,9,20120326,       1741
33AT20120324,        A22,       7,          1,         30,         30,2,20120326,       1621,    39.2582,   -69.4898,       2674,   140.4,  13.9335,  35.6808,2,  35.6810,2,    189.7,2,   190.2,2,    5.45,2,   11.74,2,    0.04,2,    0.74,2,   2.125,2,   1.276,2,   0.113,2,    -999,5,    -999,9,    -999,9,     -999,9,     -999,    -999,9,     -999,9,    -999,9,  13.9335,2,    -999,9,    -999,9,    -999,    -999,9,    -999,    0.92,2,   54.94,2,   15.73,2,  39.2582, -69.4907,    -999,     -999,    -999,  13.9132,  13.9335,2,-999,9,-999,-999,9,-999,    35.8492,2,-999,9,20120326,       1739
33AT20120324,        A22,       7,          1,         29,         29,2,20120326,       1621,    39.2582,   -69.4898,       2674,   166.0,  13.0034,  35.6432,2,  35.6425,2,    144.1,2,   142.7,2,    8.67,2,   18.38,2,    0.02,2,    1.13,2,   1.730,2,   0.991,2,   0.037,2,    -999,5,    -999,9,    -999,9,     -999,9,     -999,    -999,9,     -999,9,    -999,9,  13.0002,2,    -999,9,    -999,9,    -999,    -999,9,    -999,    0.24,2,   53.83,2,   22.53,2,  39.2582, -69.4907,    -999,     -999,    -999,  12.9804,  13.0002,2,-999,9,-999,-999,9,-999,    35.8105,2,-999,9,20120326,       1738
33AT20120324,        A22,       7,          1,         28,         28,2,20120326,       1621,    39.2582,   -69.4898,       2674,   191.5,  11.7102,  35.4806,2,  35.4791,2,    133.2,2,   133.6,2,   10.99,2,   21.65,2,    0.02,2,    1.34,2,   1.495,2,   0.842,2,   0.022,2,    -999,5,  2182.7,2, 2331.03,2,   7.7205,2,       25,    -999,9,     -999,9,    -999,9,  11.7007,2,    -999,9,    -999,9,    -999,    -999,9,    -999,    0.19,2,   52.66,2,   25.37,2,  39.2582, -69.4907,    -999,     -999,    -999,  11.6855,  11.7007,2,-999,9,-999,-999,9,-999,    35.6464,2,-999,9,20120326,       1736
33AT20120324,        A22,       7,          1,         27,         27,2,20120326,       1621,    39.2582,   -69.4898,       2674,   216.9,  10.6192,  35.3310,2,  35.3210,2,    133.4,2,   129.3,2,   12.83,2,   23.89,2,    0.02,2,    1.50,2,   1.271,2,   0.701,2,   0.015,2,    -999,5,    -999,9,    -999,9,     -999,9,     -999,    -999,9,     -999,9,    -999,9,  10.6196,2,    -999,9,    -999,9,    -999,    -999,9,    -999,    0.15,2,   51.37,2,   26.82,2,  39.2582, -69.4906,    -999,     -999,    -999,  10.5929,  10.6196,2,-999,9,-999,-999,9,-999,    35.4875,2,-999,9,20120326,       1734
33AT20120324,        A22,       7,          1,         26,         26,2,20120326,       1621,    39.2582,   -69.4898,       2674,   242.4,  10.3262,  35.3085,2,  35.3032,2,    131.9,2,   133.0,2,   13.02,2,   23.79,2,    0.00,2,    1.50,2,   1.275,2,   0.703,2,   0.021,2,    -999,5,    -999,9,    -999,9,     -999,9,     -999,    -999,9,     -999,9,    -999,9,  10.3236,2,    -999,9,    -999,9,    -999,    -999,9,    -999,    0.19,2,   49.78,2,   27.23,2,  39.2582, -69.4906,    -999,     -999,    -999,  10.2973,  10.3236,2,-999,9,-999,-999,9,-999,    35.4697,2,-999,9,20120326,       1733
33AT20120324,        A22,       7,          1,         25,         25,2,20120326,       1621,    39.2582,   -69.4898,       2674,   289.4,   9.2548,  35.1912,2,  35.1919,2,    135.9,2,   135.9,2,   14.61,2,   24.94,2,    0.00,2,    1.59,2,   1.206,2,   0.652,2,   0.031,2,    -999,5,  2192.2,2, 2320.18,2,   7.6674,2,       25,    -999,9,     -999,9,    -999,9,   9.2603,2,    -999,9,    -999,9,    -999,    -999,9,    -999,    0.28,2,   48.87,2,   28.63,2,  39.2582, -69.4906,    -999,     -999,    -999,   9.2225,   9.2603,2,-999,9,-999,-999,9,-999,    35.3579,2,-999,9,20120326,       1731
33AT20120324,        A22,       7,          1,         24,         24,2,20120326,       1621,    39.2582,   -69.4898,       2674,   338.5,   8.2106,  35.1297,2,  35.1299,2,    148.9,2,   150.2,2,   15.07,2,   24.61,2,    0.00,2,    1.57,2,   2.021,5,   1.431,5,   0.168,5,    -999,5,    -999,9,    -999,9,     -999,9,     -999,    -999,9,     -999,9,    -999,9,   8.2234,2,    -999,9,    -999,9,    -999,    -999,9,    -999,    0.74,5,   48.31,2,   26.93,2,  39.2582, -69.4906,    -999,     -999,    -999,   8.1754,   8.2234,2,-999,9,-999,-999,9,-999,    35.2956,2,-999,9,20120326,       1729
33AT20120324,        A22,       7,          1,         23,         23,2,20120326,       1621,    39.2582,   -69.4898,       2674,   389.3,   7.1521,  35.0743,2,  35.0744,2,    172.5,2,   172.7,2,   15.13,2,   23.51,2,    0.00,2,    1.51,2,   1.367,2,   0.714,2,   0.047,2,    -999,5,  2186.3,2, 2315.55,2,   7.6721,2,       25,    -999,9,     -999,9,    -999,9,   7.1519,2,    -999,9,    -999,9,    -999,    -999,9,    -999,    0.68,2,   47.02,2,   26.00,2,  39.2582, -69.4907,    -999,     -999,    -999,   7.1146,   7.1519,2,-999,9,-999,-999,9,-999,    35.2398,2,-999,9,20120326,       1728
33AT20120324,        A22,       7,          1,         22,         22,2,20120326,       1621,    39.2582,   -69.4898,       2674,   439.8,   6.3487,  35.0518,2,  35.0510,2,    196.8,2,   196.8,2,   13.32,2,   21.27,2,    0.00,2,    1.39,2,   1.852,2,   0.991,2,   0.080,2,    -999,5,    -999,9,    -999,9,     -999,9,     -999,    -999,9,     -999,9,    -999,9,   6.3484,2,    -999,9,    -999,9,    -999,    -999,9,    -999,    1.05,2,   47.12,2,   23.28,2,  39.2582, -69.4907,    -999,     -999,    -999,   6.3089,   6.3484,2,-999,9,-999,-999,9,-999,    35.2163,2,-999,9,20120326,       1726
33AT20120324,        A22,       7,          1,         21,         21,2,20120326,       1621,    39.2582,   -69.4898,       2674,   490.4,   5.9521,  35.0527,2,  35.0525,2,    209.9,2,   209.4,2,   13.13,2,   20.53,2,    0.00,2,    1.35,2,   1.859,2,   0.973,2,   0.073,2,    -999,5,  2176.2,2, 2313.26,2,   7.6963,2,       25,    -999,9,     -999,9,    -999,9,   5.9523,2,    -999,9,    -999,9,    -999,    -999,9,    -999,    1.13,2,   46.63,2,   22.78,2,  39.2582, -69.4908,    -999,     -999,    -999,   5.9090,   5.9523,2,-999,9,-999,-999,9,-999,    35.2178,2,-999,9,20120326,       1724
33AT20120324,        A22,       7,          1,         20,         20,2,20120326,       1621,    39.2582,   -69.4898,       2674,   570.1,   5.2674,  35.0142,2,  35.0142,2,    230.2,2,   230.2,2,   12.21,2,   19.14,2,    0.00,2,    1.27,2,   2.361,2,   1.270,2,   0.130,2,    -999,5,    -999,9,    -999,9,     -999,9,     -999,    -999,9,     -999,9,    -999,9,   5.2621,2,    -999,9,    -999,9,    -999,    -999,9,    -999,    1.58,2,   45.46,2,   22.75,2,  39.2582, -69.4908,    -999,     -999,    -999,   5.2200,   5.2621,2,-999,9,-999,-999,9,-999,    35.1793,2,-999,9,20120326,       1722
33AT20120324,        A22,       7,          1,         19,         19,2,20120326,       1621,    39.2582,   -69.4898,       2674,   671.7,   4.9270,  35.0079,2,  35.0067,2,    239.6,2,   241.0,2,   11.80,2,   18.53,2,    0.00,2,    1.22,2,   2.504,2,   1.338,2,   0.141,2,    -999,5,    -999,9,    -999,9,     -999,9,     -999,    -999,9,     -999,9,    -999,9,   4.9286,2,    -999,9,    -999,9,    -999,    -999,9,    -999,    1.66,2,   45.50,2,   22.75,2,  39.2582, -69.4909,    -999,     -999,    -999,   4.8725,   4.9286,2,-999,9,-999,-999,9,-999,    35.1718,2,-999,9,20120326,       1719
33AT20120324,        A22,       7,          1,         18,         18,2,20120326,       1621,    39.2582,   -69.4898,       2674,   774.4,   4.6695,  34.9973,2,  34.9965,2,    248.0,2,   248.0,2,   11.66,2,   18.19,2,    0.00,2,    1.21,2,   2.534,2,   1.370,2,   0.147,2,    -999,5,  2165.6,2, 2309.60,2,   7.7092,2,       25,    -999,9,     -999,9,    -999,9,   4.6701,2,    -999,9,    -999,9,    -999,    -999,9,    -999,    1.71,2,   45.36,2,   22.20,2,  39.2582, -69.4909,    -999,     -999,    -999,   4.6076,   4.6701,2,-999,9,-999,-999,9,-999,    35.1615,2,-999,9,20120326,       1716
33AT20120324,        A22,       7,          1,         17,         17,2,20120326,       1621,    39.2582,   -69.4898,       2674,   874.2,   4.5150,  34.9911,2,  34.9904,2,    252.1,2,   251.5,2,   11.59,2,   18.00,2,    0.00,2,    1.20,2,   2.526,2,   1.383,2,   0.152,2,    -999,5,    -999,9,    -999,9,     -999,9,     -999,    -999,9,     -999,9,    -999,9,   4.5147,2,    -999,9,    -999,9,    -999,    -999,9,    -999,    1.70,2,   45.18,2,   20.88,2,  39.2582, -69.4909,    -999,     -999,    -999,   4.4455,   4.5147,2,-999,9,-999,-999,9,-999,    35.1554,2,-999,9,20120326,       1714
33AT20120324,        A22,       7,          1,         16,         16,2,20120326,       1621,    39.2582,   -69.4898,       2674,   974.0,   4.3417,  34.9834,2,  34.9802,2,    255.6,2,   255.3,2,   11.83,2,   17.90,2,    0.00,2,    1.18,2,   2.488,2,   1.316,2,   0.147,2,    -999,5,    -999,9,    -999,9,     -999,9,     -999,    -999,9,     -999,9,    -999,9,   4.3412,2,    -999,9,    -999,9,    -999,    -999,9,    -999,    1.68,2,   45.23,2,   20.88,2,  39.2582, -69.4909,    -999,     -999,    -999,   4.2649,   4.3412,2,-999,9,-999,-999,9,-999,    35.1451,2,-999,9,20120326,       1711
33AT20120324,        A22,       7,          1,         15,         15,2,20120326,       1621,    39.2582,   -69.4898,       2674,  1075.5,   4.2005,  34.9766,2,  34.9745,2,    258.0,2,   257.6,2,   12.00,2,   17.85,2,    0.00,2,    1.17,2,   2.469,2,   1.321,2,   0.147,2,    -999,5,  2162.2,2, 2307.28,2,   7.7213,2,       25,    -999,9,     -999,9,    -999,9,   4.2012,2,    -999,9,    -999,9,    -999,    -999,9,    -999,    1.76,2,   45.16,2,   20.68,2,  39.2582, -69.4909,    -999,     -999,    -999,   4.1160,   4.2012,2,-999,9,-999,-999,9,-999,    35.1394,2,-999,9,20120326,       1708
33AT20120324,        A22,       7,          1,         14,         14,2,20120326,       1621,    39.2582,   -69.4898,       2674,  1177.2,   4.0461,  34.9656,2,  34.9665,2,    262.1,2,   260.6,2,   12.11,2,   17.76,2,    0.00,2,    1.17,2,   2.362,2,   1.265,2,   0.143,2,    -999,5,    -999,9,    -999,9,     -999,9,     -999,    -999,9,     -999,9,    -999,9,   4.0450,2,    -999,9,    -999,9,    -999,    -999,9,    -999,    1.69,2,   45.55,2,   20.60,2,  39.2582, -69.4909,    -999,     -999,    -999,   3.9541,   4.0450,2,-999,9,-999,-999,9,-999,    35.1313,2,-999,9,20120326,       1706
33AT20120324,        A22,       7,          1,         13,         13,2,20120326,       1621,    39.2582,   -69.4898,       2674,  1278.5,   3.9192,  34.9577,2,  34.9576,2,    263.0,2,   264.0,2,   12.08,2,   17.65,2,    0.00,2,    1.17,2,   2.360,2,   1.253,2,   0.138,2,    -999,5,    -999,9,    -999,9,     -999,9,     -999,    -999,9,     -999,9,    -999,9,   3.9194,2,    -999,9,    -999,9,    -999,    -999,9,    -999,    1.74,2,   44.99,2,   20.04,2,  39.2582, -69.4909,    -999,     -999,    -999,   3.8196,   3.9194,2,-999,9,-999,-999,9,-999,    35.1224,2,-999,9,20120326,       1703
33AT20120324,        A22,       7,          1,         12,         12,2,20120326,       1621,    39.2582,   -69.4898,       2674,  1380.3,   3.8324,  34.9548,2,  34.9550,2,    264.2,2,   264.4,2,   12.48,2,   17.65,2,    0.00,2,    1.16,2,   2.236,2,   1.177,2,   0.125,2,    -999,5,  2159.5,2, 2307.19,2,   7.7265,2,       25,    -999,9,     -999,9,    -999,9,   3.8325,2,    -999,9,    -999,9,    -999,    -999,9,    -999,    1.74,2,   44.89,2,   20.80,2,  39.2582, -69.4909,    -999,     -999,    -999,   3.7248,   3.8325,2,-999,9,-999,-999,9,-999,    35.1199,2,-999,9,20120326,       1701
33AT20120324,        A22,       7,          1,         11,         11,2,20120326,       1621,    39.2582,   -69.4898,       2674,  1480.7,   3.7363,  34.9520,2,  34.9519,2,    265.3,2,   265.4,2,   12.82,2,   17.65,2,    0.00,2,    1.16,2,   2.070,2,   1.076,2,   0.121,2,    -999,5,    -999,9,    -999,9,     -999,9,     -999,    -999,9,     -999,9,    -999,9,   3.7377,2,    -999,9,    -999,9,    -999,    -999,9,    -999,    1.61,2,   44.79,2,   20.21,2,  39.2582, -69.4909,    -999,     -999,    -999,   3.6208,   3.7377,2,-999,9,-999,-999,9,-999,    35.1167,2,-999,9,20120326,       1658
33AT20120324,        A22,       7,          1,         10,         10,2,20120326,       1621,    39.2582,   -69.4898,       2674,  1582.5,   3.6827,  34.9546,2,  34.9545,2,    265.2,2,   264.3,2,   13.55,2,   17.73,2,    0.00,2,    1.17,2,   1.819,2,   0.961,2,   0.097,2,    -999,5,    -999,9,    -999,9,     -999,9,     -999,    -999,9,     -999,9,    -999,9,   3.6830,2,    -999,9,    -999,9,    -999,    -999,9,    -999,    1.43,2,   45.08,2,   20.84,2,  39.2582, -69.4909,    -999,     -999,    -999,   3.5587,   3.6830,2,-999,9,-999,-999,9,-999,    35.1193,2,-999,9,20120326,       1655
33AT20120324,        A22,       7,          1,          9,          9,2,20120326,       1621,    39.2582,   -69.4898,       2674,  1682.1,   3.5734,  34.9497,2,  34.9490,2,    266.1,2,   266.1,2,   13.97,2,   17.71,2,    0.00,2,    1.16,2,   1.715,2,   0.902,2,   0.085,2,    -999,5,    -999,9,    -999,9,   7.7364,2,       25,    -999,9,     -999,9,    -999,9,   3.5742,2,    -999,9,    -999,9,    -999,    -999,9,    -999,    1.38,2,   44.54,2,   20.32,2,  39.2582, -69.4908,    -999,     -999,    -999,   3.4418,   3.5742,2,-999,9,-999,-999,9,-999,    35.1138,2,-999,9,20120326,       1653
33AT20120324,        A22,       7,          1,          8,          8,2,20120326,       1621,    39.2582,   -69.4898,       2674,  1787.2,   3.4899,  34.9468,2,  34.9472,2,    266.6,2,   266.5,2,   14.34,2,   17.72,2,    0.00,2,    1.17,2,   1.607,2,   0.834,2,   0.076,2,    -999,5,    -999,9,    -999,9,     -999,9,     -999,    -999,9,     -999,9,    -999,9,   3.4905,2,    -999,9,    -999,9,    -999,    -999,9,    -999,    1.33,2,   44.35,2,   22.07,2,  39.2582, -69.4908,    -999,     -999,    -999,   3.3498,   3.4905,2,-999,9,-999,-999,9,-999,    35.1120,2,-999,9,20120326,       1650
33AT20120324,        A22,       7,          1,          7,          7,2,20120326,       1621,    39.2582,   -69.4898,       2674,  1887.9,   3.3777,  34.9447,2,  34.9451,2,    267.1,2,   267.6,2,   15.20,2,   17.71,2,    0.00,2,    1.18,2,   1.454,2,   0.762,2,   0.073,2,    -999,5,  2157.4,2, 2310.89,2,   7.7365,2,       25,    -999,9,     -999,9,    -999,9,   3.3778,2,    -999,9,    -999,9,    -999,    -999,9,    -999,    1.20,2,   44.38,2,   20.44,2,  39.2582, -69.4907,    -999,     -999,    -999,   3.2299,   3.3778,2,-999,9,-999,-999,9,-999,    35.1098,2,-999,9,20120326,       1647
33AT20120324,        A22,       7,          1,          6,          6,2,20120326,       1621,    39.2582,   -69.4898,       2674,  1989.5,   3.2974,  34.9411,2,  34.9421,2,    267.3,2,   267.3,2,   15.72,2,   17.66,2,    0.00,2,    1.18,2,   1.443,2,   0.742,2,   0.065,2,    -999,5,    -999,9,    -999,9,     -999,9,     -999,    -999,9,     -999,9,    -999,9,   3.2969,2,    -999,9,    -999,9,    -999,    -999,9,    -999,    1.15,2,   44.21,2,   20.33,2,  39.2582, -69.4906,    -999,     -999,    -999,   3.1413,   3.2969,2,-999,9,-999,-999,9,-999,    35.1069,2,-999,9,20120326,       1644