BOTTLE,20220725CCHSIOCBG
EXPOCODE,SECT_ID,STNNBR,CASTNO,SAMPNO,BTLNBR,BTLNBR_FLAG_W,DATE,TIME,LATITUDE,LONGITUDE,DEPTH,CTDPRS,CTDTMP,CTDSAL,CTDSAL_FLAG_W,SALNTY,SALNTY_FLAG_W,CTDOXY,CTDOXY_FLAG_W,OXYGEN,OXYGEN_FLAG_W,SILCAT,SILCAT_FLAG_W,NITRAT,NITRAT_FLAG_W,NITRIT,NITRIT_FLAG_W,PHSPHT,PHSPHT_FLAG_W,CFC-11,CFC-11_FLAG_W,CFC-12,CFC-12_FLAG_W,CFC113,CFC113_FLAG_W,SF6,SF6_FLAG_W,TCARBN,TCARBN_FLAG_W,ALKALI,ALKALI_FLAG_W,PH_TOT,PH_TOT_FLAG_W,PH_TMP,TRITUM,TRITUM_FLAG_W,HELIUM,HELIUM_FLAG_W,DELHE3,DELHE3_FLAG_W,REFTMP,REFTMP_FLAG_W,DELC13,DELC13_FLAG_W,DELC14,DELC14_FLAG_W,C14ERR,NEON,NEON_FLAG_W,NEONER,CCL4,CCL4_FLAG_W,DOC,DOC_FLAG_W,TDN,TDN_FLAG_W,BTL_LAT,BTL_LON,TRITER,HELIER,DELHER,THETA,SBE35,SBE35_FLAG_W,14C-DOC,14C-DOC_FLAG_W,14C-DOCERR,13C-DOC,13C-DOC_FLAG_W,13C-DOCERR,SALTREF,SALTREF_FLAG_W,LAB_DEN,LAB_DEN_FLAG_W,BTL_DATE,BTL_TIME
,,,,,,,,,,,METERS,DBAR,ITS-90,PSS-78,,PSS-78,,UMOL/KG,,UMOL/KG,,UMOL/KG,,UMOL/KG,,UMOL/KG,,UMOL/KG,,PMOL/KG,,PMOL/KG,,PMOL/KG,,FMOL/KG,,UMOL/KG,,UMOL/KG,,,,DEG C,TU,,NMOL/KG,,PERCNT,,DEG C,,/MILLE,,/MILLE,,/MILLE,NMOL/KG,,NMOL/KG,PMOL/KG,,UMOL/KG,,UMOL/KG,,,,TU,NMOL/KG,PERCNT,DEG C,ITS-90,,/MILLE,,/MILLE,/MILLE,,/MILLE,G/KG,,KG/M^3,,,
33AT20120324,        A22,       5,          1,         32,         32,2,20120326,       0738,    39.7014,   -69.8018,       2098,     5.7,   9.3312,  32.9811,2,  32.9782,2,    638.8,4,   314.3,2,    0.42,2,    0.03,2,    0.01,2,    0.18,2,   3.815,2,   2.222,2,   0.360,2,    -999,5,  2005.5,6, 2221.01,2,   7.9164,6,       25,    -999,9,     -999,9,    -999,9,   9.3327,2,    1.29,6,    19.3,6,     3.0,    -999,9,    -999,    3.13,2,    -999,9,    -999,9,  39.7012, -69.8009,    -999,     -999,    -999,   9.3306,   9.3327,2,-999,9,-999,-999,9,-999,    33.1337,2,-999,9,20120326,        902
33AT20120324,        A22,       5,          1,         31,         31,2,20120326,       0738,    39.7014,   -69.8018,       2098,    25.0,  10.2670,  33.6614,2,  33.5102,2,    243.3,4,   310.6,3,    0.80,2,    0.18,2,    0.02,2,    0.20,2,   3.543,2,   2.071,2,   0.338,2,    -999,5,  2019.7,2, 2247.52,2,   7.9336,6,       25,    -999,9,     -999,9,    -999,9,  10.2553,2,    -999,9,    -999,9,    -999,    -999,9,    -999,    2.76,2,    -999,9,    -999,9,  39.7012, -69.8010,    -999,     -999,    -999,  10.2641,  10.2553,2,-999,9,-999,-999,9,-999,    33.6682,2,-999,9,20120326,        900
33AT20120324,        A22,       5,          1,         30,         30,2,20120326,       0738,    39.7014,   -69.8018,       2098,    50.4,  13.5176,  35.0684,2,  35.0545,2,    224.1,3,   222.4,2,    3.11,2,    6.35,2,    0.19,2,    0.47,2,   2.652,2,   1.610,2,   0.206,2,    -999,5,  2099.7,2, 2313.62,2,   7.8902,2,       25,    -999,9,     -999,9,    -999,9,  13.5192,2,    -999,9,    -999,9,    -999,    -999,9,    -999,    1.50,2,    -999,9,    -999,9,  39.7012, -69.8011,    -999,     -999,    -999,  13.5105,  13.5192,2,-999,9,-999,-999,9,-999,    35.2198,2,-999,9,20120326,        858
33AT20120324,        A22,       5,          1,         29,         29,2,20120326,       0738,    39.7014,   -69.8018,       2098,    76.1,  14.2838,  35.4210,2,  35.4156,2,    217.8,3,   218.6,2,    3.19,2,    6.65,2,    0.08,2,    0.46,2,   2.508,2,   1.527,2,   0.187,2,    -999,5,    -999,9,    -999,9,     -999,9,     -999,    -999,9,     -999,9,    -999,9,  14.2800,2,    -999,9,    -999,9,    -999,    -999,9,    -999,    1.32,2,    -999,9,    -999,9,  39.7012, -69.8013,    -999,     -999,    -999,  14.2727,  14.2800,2,-999,9,-999,-999,9,-999,    35.5826,2,-999,9,20120326,        856
33AT20120324,        A22,       5,          1,         28,         28,2,20120326,       0738,    39.7014,   -69.8018,       2098,   100.3,  14.0001,  35.5322,2,  35.4935,2,    193.2,2,   189.5,2,    5.64,2,   10.43,2,    0.06,2,    0.68,2,   2.333,2,   1.422,2,   0.133,2,    -999,5,  2129.6,2, 2337.83,2,   7.8602,2,       25,    -999,9,     -999,9,    -999,9,  14.0077,2,    0.54,6,    39.2,6,     2.1,    -999,9,    -999,    0.93,2,    -999,9,    -999,9,  39.7012, -69.8015,    -999,     -999,    -999,  13.9856,  14.0077,2,-999,9,-999,-999,9,-999,    35.6609,2,-999,9,20120326,        852
33AT20120324,        A22,       5,          1,         27,         27,2,20120326,       0738,    39.7014,   -69.8018,       2098,   125.9,  13.7956,  35.6433,2,  35.6431,2,    165.7,2,   168.8,2,    7.02,2,   13.62,2,    0.05,2,    0.86,2,   2.057,2,   1.237,2,   0.084,2,    -999,5,    -999,9,    -999,9,     -999,9,     -999,    -999,9,     -999,9,    -999,9,  13.7957,2,    -999,9,    -999,9,    -999,    -999,9,    -999,    0.62,2,    -999,9,    -999,9,  39.7012, -69.8013,    -999,     -999,    -999,  13.7775,  13.7957,2,-999,9,-999,-999,9,-999,    35.8112,2,-999,9,20120326,        850
33AT20120324,        A22,       5,          1,         26,         26,2,20120326,       0738,    39.7014,   -69.8018,       2098,   151.4,  13.0962,  35.6150,2,  35.6192,2,    150.1,2,   151.6,2,    8.18,2,   16.75,2,    0.04,2,    1.03,2,   1.871,2,   1.070,2,   0.054,2,    -999,5,  2163.6,2, 2338.32,4,   7.7855,2,       25,    -999,9,     -999,9,    -999,9,  13.1088,2,    0.53,6,    31.0,6,     1.7,    -999,9,    -999,    0.35,2,    -999,9,    -999,9,  39.7013, -69.8011,    -999,     -999,    -999,  13.0752,  13.1088,2,-999,9,-999,-999,9,-999,    35.7871,2,-999,9,20120326,        848
33AT20120324,        A22,       5,          1,         25,         25,2,20120326,       0738,    39.7014,   -69.8018,       2098,   177.6,  12.3219,  35.5547,2,  35.5590,2,    138.9,2,   137.9,2,    9.70,2,   19.65,2,    0.05,2,    1.24,2,   1.680,2,   0.941,2,   0.031,2,    -999,5,    -999,9,    -999,9,     -999,9,     -999,    -999,9,     -999,9,    -999,9,  12.3293,2,    -999,9,    -999,9,    -999,    -999,9,    -999,    0.16,2,    -999,9,    -999,9,  39.7013, -69.8010,    -999,     -999,    -999,  12.2982,  12.3293,2,-999,9,-999,-999,9,-999,    35.7267,2,-999,9,20120326,        846
33AT20120324,        A22,       5,          1,         24,         24,2,20120326,       0738,    39.7014,   -69.8018,       2098,   200.7,  11.2609,  35.4246,2,  35.4245,2,    134.7,2,   136.2,2,   11.02,2,   21.96,2,    0.03,2,    1.37,2,   1.470,2,   0.809,2,   0.022,2,    -999,5,  2184.3,2, 2330.09,2,   7.7137,2,       25,    -999,9,     -999,9,    -999,9,  11.2593,2,    0.56,6,     8.9,6,     3.1,    -999,9,    -999,    0.11,2,    -999,9,    -999,9,  39.7013, -69.8009,    -999,     -999,    -999,  11.2357,  11.2593,2,-999,9,-999,-999,9,-999,    35.5915,2,-999,9,20120326,        845
33AT20120324,        A22,       5,          1,         23,         23,2,20120326,       0738,    39.7014,   -69.8018,       2098,   226.5,  10.2612,  35.3039,2,  35.3058,2,    135.8,2,   134.0,2,   12.77,2,   23.69,2,    0.04,2,    1.49,2,   1.277,2,   0.679,2,   0.023,2,    -999,5,    -999,9,    -999,9,     -999,9,     -999,    -999,9,     -999,9,    -999,9,  10.2614,2,    -999,9,    -999,9,    -999,    -999,9,    -999,    0.15,2,    -999,9,    -999,9,  39.7013, -69.8009,    -999,     -999,    -999,  10.2343,  10.2614,2,-999,9,-999,-999,9,-999,    35.4723,2,-999,9,20120326,        843
33AT20120324,        A22,       5,          1,         22,         22,2,20120326,       0738,    39.7014,   -69.8018,       2098,   252.7,   9.2199,  35.1905,2,  35.1848,2,    140.1,2,   139.1,2,   14.23,2,   24.86,2,    0.00,2,    1.57,2,   1.016,2,   0.593,2,   0.023,2,    -999,5,  2192.9,2, 2319.82,2,   7.6671,2,       25,    -999,9,     -999,9,    -999,9,   9.2290,2,    0.62,6,   -19.0,6,     2.0,    -999,9,    -999,    0.30,2,    -999,9,    -999,9,  39.7013, -69.8009,    -999,     -999,    -999,   9.1919,   9.2290,2,-999,9,-999,-999,9,-999,    35.3507,2,-999,9,20120326,        841
33AT20120324,        A22,       5,          1,         21,         21,2,20120326,       0738,    39.7014,   -69.8018,       2098,   303.0,   7.6076,  35.0934,2,  35.0940,2,    168.0,2,   167.5,2,   13.85,2,   23.20,2,    0.00,2,    1.48,2,   1.335,2,   0.771,2,   0.054,2,    -999,5,    -999,9,    -999,9,     -999,9,     -999,    -999,9,     -999,9,    -999,9,   7.6139,2,    -999,9,    -999,9,    -999,    -999,9,    -999,    0.63,2,    -999,9,    -999,9,  39.7013, -69.8010,    -999,     -999,    -999,   7.5776,   7.6139,2,-999,9,-999,-999,9,-999,    35.2595,2,-999,9,20120326,        839
33AT20120324,        A22,       5,          1,         20,         20,2,20120326,       0738,    39.7014,   -69.8018,       2098,   353.4,   6.6084,  35.0504,2,  35.0505,2,    189.0,2,   190.6,2,   13.26,2,   21.63,2,    0.00,2,    1.41,2,   1.623,2,   0.944,2,   0.077,2,    -999,5,  2182.4,2, 2311.10,2,   7.6794,2,       25,    -999,9,     -999,9,    -999,9,   6.6086,2,    0.72,6,   -26.7,6,     1.7,    -999,9,    -999,    0.91,2,    -999,9,    -999,9,  39.7013, -69.8011,    -999,     -999,    -999,   6.5759,   6.6086,2,-999,9,-999,-999,9,-999,    35.2158,2,-999,9,20120326,        837
33AT20120324,        A22,       5,          1,         19,         19,2,20120326,       0738,    39.7014,   -69.8018,       2098,   404.5,   5.8870,  35.0043,2,  34.9966,2,    208.1,2,   211.3,2,   12.48,2,   20.19,2,    0.00,2,    1.32,2,   2.046,2,   1.204,2,   0.122,2,    -999,5,    -999,9,    -999,9,     -999,9,     -999,    -999,9,     -999,9,    -999,9,   5.8877,2,    -999,9,    -999,9,    -999,    -999,9,    -999,    1.28,2,    -999,9,    -999,9,  39.7013, -69.8012,    -999,     -999,    -999,   5.8520,   5.8877,2,-999,9,-999,-999,9,-999,    35.1616,2,-999,9,20120326,        835
33AT20120324,        A22,       5,          1,         18,         18,9,20120326,       0738,    39.7014,   -69.8018,       2098,   453.7,   5.4972,  34.9898,2,     -999,9,     -999,9,    -999,9,    -999,9,    -999,9,    -999,9,    -999,9,    -999,9,    -999,9,    -999,9,    -999,9,    -999,9,    -999,9,     -999,9,     -999,    -999,9,     -999,9,    -999,9,   5.4964,2,    -999,9,    -999,9,    -999,    -999,9,    -999,    -999,9,    -999,9,    -999,9,  39.7013, -69.8015,    -999,     -999,    -999,   5.4591,   5.4964,2,-999,9,-999,-999,9,-999,       -999,9,-999,9,20120326,        833
33AT20120324,        A22,       5,          1,         17,         17,2,20120326,       0738,    39.7014,   -69.8018,       2098,   505.8,   5.2278,  34.9826,2,  34.9785,2,    229.5,2,   233.0,2,   11.62,2,   18.89,2,    0.00,2,    1.24,2,   2.396,2,   1.410,2,   0.157,2,    -999,5,  2171.7,2, 2307.01,2,   7.6982,2,       25,    -999,9,     -999,9,    -999,9,   5.2278,2,    0.88,6,   -12.4,6,     2.0,    -999,9,    -999,    1.57,2,    -999,9,    -999,9,  39.7013, -69.8016,    -999,     -999,    -999,   5.1862,   5.2278,2,-999,9,-999,-999,9,-999,    35.1434,2,-999,9,20120326,        831
33AT20120324,        A22,       5,          1,         16,         16,2,20120326,       0738,    39.7014,   -69.8018,       2098,   606.4,   4.9248,  34.9733,2,  34.9702,2,    243.9,2,   243.6,2,   11.11,2,   18.28,2,    0.00,2,    1.20,2,   2.551,2,   1.519,2,   0.180,2,    -999,5,    -999,9,    -999,9,     -999,9,     -999,    -999,9,     -999,9,    -999,9,   4.9195,2,    -999,9,    -999,9,    -999,    -999,9,    -999,    1.70,2,    -999,9,    -999,9,  39.7013, -69.8017,    -999,     -999,    -999,   4.8759,   4.9195,2,-999,9,-999,-999,9,-999,    35.1351,2,-999,9,20120326,        828
33AT20120324,        A22,       5,          1,         15,         15,2,20120326,       0738,    39.7014,   -69.8018,       2098,   705.9,   4.7035,  34.9619,2,  34.9597,2,    251.4,2,   251.1,2,   10.77,2,   17.87,2,    0.00,2,    1.16,2,   2.683,2,   1.617,2,   0.201,2,    -999,5,    -999,9,    -999,9,     -999,9,     -999,    -999,9,     -999,9,    -999,9,   4.7044,2,    -999,9,    -999,9,    -999,    -999,9,    -999,    1.81,2,    -999,9,    -999,9,  39.7013, -69.8018,    -999,     -999,    -999,   4.6473,   4.7044,2,-999,9,-999,-999,9,-999,    35.1246,2,-999,9,20120326,        825
33AT20120324,        A22,       5,          1,         14,         14,2,20120326,       0738,    39.7014,   -69.8018,       2098,   807.7,   4.5865,  34.9605,2,  34.9586,2,    254.9,2,   255.1,2,   10.72,2,   17.64,2,    0.00,2,    1.16,2,   2.708,2,   1.646,2,   0.190,2,    -999,5,    -999,9,    -999,9,     -999,9,     -999,    -999,9,     -999,9,    -999,9,   4.5863,2,    -999,9,    -999,9,    -999,    -999,9,    -999,    1.86,2,    -999,9,    -999,9,  39.7013, -69.8018,    -999,     -999,    -999,   4.5223,   4.5863,2,-999,9,-999,-999,9,-999,    35.1234,2,-999,9,20120326,        822
33AT20120324,        A22,       5,          1,         13,         13,2,20120326,       0738,    39.7014,   -69.8018,       2098,   908.5,   4.4678,  34.9588,2,  34.9578,2,    257.7,2,   257.8,2,   10.71,2,   17.60,2,    0.00,2,    1.16,2,   2.626,2,   1.602,2,   0.199,2,    -999,5,    -999,9,    -999,9,     -999,9,     -999,    -999,9,     -999,9,    -999,9,   4.4674,2,    -999,9,    -999,9,    -999,    -999,9,    -999,    1.70,2,    -999,9,    -999,9,  39.7013, -69.8019,    -999,     -999,    -999,   4.3957,   4.4674,2,-999,9,-999,-999,9,-999,    35.1226,2,-999,9,20120326,        819
33AT20120324,        A22,       5,          1,         12,         12,2,20120326,       0738,    39.7014,   -69.8018,       2098,  1010.7,   4.3344,  34.9562,2,  34.9544,2,    261.2,2,   261.2,2,   10.73,2,   17.47,2,    0.00,2,    1.16,2,   2.768,2,   1.630,2,   0.201,2,    -999,5,  2163.0,2, 2303.44,2,   7.7149,6,       25,    -999,9,     -999,9,    -999,9,   4.3351,2,    0.83,6,    -5.8,6,     2.4,    -999,9,    -999,    1.84,2,    -999,9,    -999,9,  39.7013, -69.8019,    -999,     -999,    -999,   4.2545,   4.3351,2,-999,9,-999,-999,9,-999,    35.1192,2,-999,9,20120326,        816
33AT20120324,        A22,       5,          1,         11,         11,2,20120326,       0738,    39.7014,   -69.8018,       2098,  1113.0,   4.2952,  34.9606,2,  34.9572,2,    261.0,2,   260.3,2,   10.90,2,   17.53,2,    0.00,2,    1.16,2,   2.627,2,   1.567,2,   0.180,2,    -999,5,    -999,9,    -999,9,     -999,9,     -999,    -999,9,     -999,9,    -999,9,   4.2964,2,    -999,9,    -999,9,    -999,    -999,9,    -999,    1.73,2,    -999,9,    -999,9,  39.7013, -69.8018,    -999,     -999,    -999,   4.2067,   4.2964,2,-999,9,-999,-999,9,-999,    35.1220,2,-999,9,20120326,        812
33AT20120324,        A22,       5,          1,         10,         10,2,20120326,       0738,    39.7014,   -69.8018,       2098,  1212.1,   4.1545,  34.9548,2,  34.9538,2,    262.7,2,   262.9,2,   11.04,2,   17.43,2,    0.00,2,    1.14,2,   2.536,2,   1.490,2,   0.177,2,    -999,5,    -999,9,    -999,9,     -999,9,     -999,    -999,9,     -999,9,    -999,9,   4.1548,2,    -999,9,    -999,9,    -999,    -999,9,    -999,    1.73,2,    -999,9,    -999,9,  39.7013, -69.8017,    -999,     -999,    -999,   4.0585,   4.1548,2,-999,9,-999,-999,9,-999,    35.1186,2,-999,9,20120326,        808
33AT20120324,        A22,       5,          1,          9,          9,2,20120326,       0738,    39.7014,   -69.8018,       2098,  1312.6,   4.1651,  34.9704,2,  34.9680,2,    259.2,2,   259.0,2,   11.52,2,   17.76,2,    0.00,2,    1.18,2,    -999,9,    -999,9,    -999,9,    -999,9,    -999,9,    -999,9,     -999,9,     -999,    -999,9,     -999,9,    -999,9,   4.1658,2,    -999,9,    -999,9,    -999,    -999,9,    -999,    -999,9,    -999,9,    -999,9,  39.7014, -69.8015,    -999,     -999,    -999,   4.0601,   4.1658,2,-999,9,-999,-999,9,-999,    35.1329,2,-999,9,20120326,        805
33AT20120324,        A22,       5,          1,          8,          8,2,20120326,       0738,    39.7014,   -69.8018,       2098,  1414.4,   4.0023,  34.9608,2,  34.9613,2,    263.2,2,   258.9,2,   11.53,2,   17.78,2,    0.00,2,    1.17,2,   2.214,2,   1.275,2,   0.138,2,    -999,5,    -999,9,    -999,9,     -999,9,     -999,    -999,9,     -999,9,    -999,9,   4.0036,2,    -999,9,    -999,9,    -999,    -999,9,    -999,    1.48,2,    -999,9,    -999,9,  39.7014, -69.8013,    -999,     -999,    -999,   3.8898,   4.0036,2,-999,9,-999,-999,9,-999,    35.1261,2,-999,9,20120326,        802
33AT20120324,        A22,       5,          1,          7,          7,2,20120326,       0738,    39.7014,   -69.8018,       2098,  1515.7,   3.9800,  34.9652,2,  34.9625,2,    261.4,2,   261.2,2,   12.03,2,   17.75,2,    0.00,2,    1.18,2,   1.966,2,   1.111,2,   0.118,2,    -999,5,    -999,9,    -999,9,     -999,9,     -999,    -999,9,     -999,9,    -999,9,   3.9807,2,    0.97,6,   -23.0,6,     2.0,    -999,9,    -999,    1.37,2,    -999,9,    -999,9,  39.7014, -69.8013,    -999,     -999,    -999,   3.8586,   3.9807,2,-999,9,-999,-999,9,-999,    35.1273,2,-999,9,20120326,        758
33AT20120324,        A22,       5,          1,          6,          6,2,20120326,       0738,    39.7014,   -69.8018,       2098,  1618.6,   3.8553,  34.9597,2,  34.9583,2,    263.0,2,   263.2,2,   12.33,2,   17.71,2,    0.00,2,    1.18,2,   1.861,2,   1.046,2,   0.106,2,    -999,5,    -999,9,    -999,9,     -999,9,     -999,    -999,9,     -999,9,    -999,9,   3.8559,2,    -999,9,    -999,9,    -999,    -999,9,    -999,    1.32,2,    -999,9,    -999,9,  39.7014, -69.8013,    -999,     -999,    -999,   3.7260,   3.8559,2,-999,9,-999,-999,9,-999,    35.1232,2,-999,9,20120326,        755
33AT20120324,        A22,       5,          1,          5,          5,2,20120326,       0738,    39.7014,   -69.8018,       2098,  1719.2,   3.7088,  34.9508,2,  34.9501,2,    265.3,2,   266.1,2,   12.69,2,   17.59,2,    0.00,2,    1.16,2,   1.799,2,   0.996,2,   0.106,2,    -999,5,    -999,9,    -999,9,     -999,9,     -999,    -999,9,     -999,9,    -999,9,   3.7091,2,    -999,9,    -999,9,    -999,    -999,9,    -999,    1.27,2,    -999,9,    -999,9,  39.7014, -69.8014,    -999,     -999,    -999,   3.5721,   3.7091,2,-999,9,-999,-999,9,-999,    35.1149,2,-999,9,20120326,        752
33AT20120324,        A22,       5,          1,          4,          4,2,20120326,       0738,    39.7014,   -69.8018,       2098,  1821.9,   3.6387,  34.9479,2,  34.9479,2,    266.6,2,   266.0,2,   13.01,2,   17.61,2,    0.00,2,    1.16,2,   1.722,2,   0.950,2,   0.096,2,    -999,5,    -999,9,    -999,9,     -999,9,     -999,    -999,9,     -999,9,    -999,9,   3.6388,2,    -999,9,    -999,9,    -999,    -999,9,    -999,    1.22,2,    -999,9,    -999,9,  39.7014, -69.8014,    -999,     -999,    -999,   3.4934,   3.6388,2,-999,9,-999,-999,9,-999,    35.1127,2,-999,9,20120326,        749
33AT20120324,        A22,       5,          1,          3,          3,2,20120326,       0738,    39.7014,   -69.8018,       2098,  1923.3,   3.5550,  34.9427,2,  34.9380,2,    267.7,2,   266.7,2,   13.46,2,   17.56,2,    0.00,2,    1.17,2,   1.705,2,   0.958,2,   0.094,2,    -999,5,    -999,9,    -999,9,     -999,9,     -999,    -999,9,     -999,9,    -999,9,   3.5556,2,    -999,9,    -999,9,    -999,    -999,9,    -999,    1.16,2,    -999,9,    -999,9,  39.7014, -69.8016,    -999,     -999,    -999,   3.4014,   3.5556,2,-999,9,-999,-999,9,-999,    35.1028,2,-999,9,20120326,        745
33AT20120324,        A22,       5,          1,          2,          2,2,20120326,       0738,    39.7014,   -69.8018,       2098,  2026.0,   3.2776,  34.9360,2,  34.9367,2,    268.2,2,   268.6,2,   15.17,2,   17.49,2,    0.00,2,    1.18,2,   1.457,2,   0.806,2,   0.075,2,    -999,5,  2159.5,2, 2309.20,6,   7.7349,6,       25,    -999,9,     -999,9,    -999,9,   3.2780,2,    1.04,6,   -38.0,6,    -999,    -999,9,    -999,    0.97,2,    -999,9,    -999,9,  39.7014, -69.8018,    -999,     -999,    -999,   3.1185,   3.2780,2,-999,9,-999,-999,9,-999,    35.1014,2,-999,9,20120326,        742