BOTTLE,20220725CCHSIOCBG
EXPOCODE,SECT_ID,STNNBR,CASTNO,SAMPNO,BTLNBR,BTLNBR_FLAG_W,DATE,TIME,LATITUDE,LONGITUDE,DEPTH,CTDPRS,CTDTMP,CTDSAL,CTDSAL_FLAG_W,SALNTY,SALNTY_FLAG_W,CTDOXY,CTDOXY_FLAG_W,OXYGEN,OXYGEN_FLAG_W,SILCAT,SILCAT_FLAG_W,NITRAT,NITRAT_FLAG_W,NITRIT,NITRIT_FLAG_W,PHSPHT,PHSPHT_FLAG_W,CFC-11,CFC-11_FLAG_W,CFC-12,CFC-12_FLAG_W,CFC113,CFC113_FLAG_W,SF6,SF6_FLAG_W,TCARBN,TCARBN_FLAG_W,ALKALI,ALKALI_FLAG_W,PH_TOT,PH_TOT_FLAG_W,PH_TMP,TRITUM,TRITUM_FLAG_W,HELIUM,HELIUM_FLAG_W,DELHE3,DELHE3_FLAG_W,REFTMP,REFTMP_FLAG_W,DELC13,DELC13_FLAG_W,DELC14,DELC14_FLAG_W,C14ERR,NEON,NEON_FLAG_W,NEONER,CCL4,CCL4_FLAG_W,DOC,DOC_FLAG_W,TDN,TDN_FLAG_W,BTL_LAT,BTL_LON,TRITER,HELIER,DELHER,THETA,SBE35,SBE35_FLAG_W,14C-DOC,14C-DOC_FLAG_W,14C-DOCERR,13C-DOC,13C-DOC_FLAG_W,13C-DOCERR,SALTREF,SALTREF_FLAG_W,LAB_DEN,LAB_DEN_FLAG_W,BTL_DATE,BTL_TIME
,,,,,,,,,,,METERS,DBAR,ITS-90,PSS-78,,PSS-78,,UMOL/KG,,UMOL/KG,,UMOL/KG,,UMOL/KG,,UMOL/KG,,UMOL/KG,,PMOL/KG,,PMOL/KG,,PMOL/KG,,FMOL/KG,,UMOL/KG,,UMOL/KG,,,,DEG C,TU,,NMOL/KG,,PERCNT,,DEG C,,/MILLE,,/MILLE,,/MILLE,NMOL/KG,,NMOL/KG,PMOL/KG,,UMOL/KG,,UMOL/KG,,,,TU,NMOL/KG,PERCNT,DEG C,ITS-90,,/MILLE,,/MILLE,/MILLE,,/MILLE,G/KG,,KG/M^3,,,
33AT20120324,        A22,      23,          1,          5,          5,2,20120331,       1133,    33.7842,   -65.9914,       5118,  3961.0,   2.3450,  34.8969,2,  34.8972,2,    266.2,2,   266.7,2,   27.59,2,   18.28,2,    0.00,2,    1.25,2,   0.811,2,   0.435,2,   0.051,2,    0.11,4,  2171.6,2, 2318.37,2,   7.7405,2,       25,    -999,9,     -999,9,    -999,9,   2.3450,2,    -999,9,    -999,9,    -999,    -999,9,    -999,    0.81,2,   42.73,2,   22.28,2,  33.7842, -65.9912,    -999,     -999,    -999,   2.0055,   2.3450,2,-999,9,-999,-999,9,-999,    35.0618,2,-999,1,20120331,       1158
33AT20120324,        A22,      23,          1,          4,          4,2,20120331,       1133,    33.7842,   -65.9914,       5118,  4268.0,   2.2949,  34.8910,2,  34.8909,2,    264.5,2,   264.7,2,   30.44,2,   18.59,2,    0.00,2,    1.28,2,   0.770,2,   0.405,2,   0.049,2,    0.12,4,    -999,9,    -999,9,     -999,9,     -999,    -999,9,     -999,9,    -999,9,   2.2952,2,    -999,9,    -999,9,    -999,    -999,9,    -999,    0.81,2,   43.43,2,   20.70,2,  33.7841, -65.9912,    -999,     -999,    -999,   1.9214,   2.2952,2,-999,9,-999,-999,9,-999,    35.0555,2,-999,1,20120331,       1152
33AT20120324,        A22,      23,          1,          3,          3,2,20120331,       1133,    33.7842,   -65.9914,       5118,  4577.7,   2.2834,  34.8867,2,  34.8870,2,    262.9,2,   263.1,2,   32.60,2,   18.96,2,    0.00,2,    1.31,2,   0.687,2,   0.379,2,   0.045,2,    0.17,4,  2178.7,2, 2328.32,6,   7.7354,6,       25,    -999,9,     -999,9,    -999,9,   2.2835,2,    -999,9,    -999,9,    -999,    -999,9,    -999,    0.75,2,   42.19,2,   22.24,2,  33.7841, -65.9911,    -999,     -999,    -999,   1.8734,   2.2835,2,-999,9,-999,-999,9,-999,    35.0515,2,-999,1,20120331,       1146
33AT20120324,        A22,      23,          1,          2,          2,2,20120331,       1133,    33.7842,   -65.9914,       5118,  4885.7,   2.2882,  34.8834,2,  34.8837,2,    260.8,2,   261.6,2,   34.55,2,   19.27,2,    0.00,2,    1.35,2,   0.623,2,   0.344,2,   0.041,2,    0.12,4,    -999,9,    -999,9,     -999,9,     -999,    -999,9,     -999,9,    -999,9,   2.2886,2,    -999,9,    -999,9,    -999,    -999,9,    -999,    0.65,2,   42.59,2,   22.23,2,  33.7842, -65.9912,    -999,     -999,    -999,   1.8402,   2.2886,2,-999,9,-999,-999,9,-999,    35.0482,2,-999,1,20120331,       1140
33AT20120324,        A22,      23,          1,          1,          1,2,20120331,       1133,    33.7842,   -65.9914,       5118,  5198.9,   2.2119,  34.8694,2,  34.8701,2,    254.7,2,   254.4,2,   43.59,2,   20.75,2,    0.00,2,    1.42,2,   0.320,2,   0.186,2,   0.032,2,    0.00,4,  2192.6,6, 2346.64,2,   7.7328,2,       25,    -999,9,     -999,9,    -999,9,   2.2110,2,    -999,9,    -999,9,    -999,    -999,9,    -999,    0.48,2,   43.13,2,   23.83,2,  33.7842, -65.9914,    -999,     -999,    -999,   1.7270,   2.2110,2,-999,9,-999,-999,9,-999,    35.0346,2,-999,1,20120331,       1134