BOTTLE,20220725CCHSIOCBG
EXPOCODE,SECT_ID,STNNBR,CASTNO,SAMPNO,BTLNBR,BTLNBR_FLAG_W,DATE,TIME,LATITUDE,LONGITUDE,DEPTH,CTDPRS,CTDTMP,CTDSAL,CTDSAL_FLAG_W,SALNTY,SALNTY_FLAG_W,CTDOXY,CTDOXY_FLAG_W,OXYGEN,OXYGEN_FLAG_W,SILCAT,SILCAT_FLAG_W,NITRAT,NITRAT_FLAG_W,NITRIT,NITRIT_FLAG_W,PHSPHT,PHSPHT_FLAG_W,CFC-11,CFC-11_FLAG_W,CFC-12,CFC-12_FLAG_W,CFC113,CFC113_FLAG_W,SF6,SF6_FLAG_W,TCARBN,TCARBN_FLAG_W,ALKALI,ALKALI_FLAG_W,PH_TOT,PH_TOT_FLAG_W,PH_TMP,TRITUM,TRITUM_FLAG_W,HELIUM,HELIUM_FLAG_W,DELHE3,DELHE3_FLAG_W,REFTMP,REFTMP_FLAG_W,DELC13,DELC13_FLAG_W,DELC14,DELC14_FLAG_W,C14ERR,NEON,NEON_FLAG_W,NEONER,CCL4,CCL4_FLAG_W,DOC,DOC_FLAG_W,TDN,TDN_FLAG_W,BTL_LAT,BTL_LON,TRITER,HELIER,DELHER,THETA,SBE35,SBE35_FLAG_W,14C-DOC,14C-DOC_FLAG_W,14C-DOCERR,13C-DOC,13C-DOC_FLAG_W,13C-DOCERR,SALTREF,SALTREF_FLAG_W,LAB_DEN,LAB_DEN_FLAG_W,BTL_DATE,BTL_TIME
,,,,,,,,,,,METERS,DBAR,ITS-90,PSS-78,,PSS-78,,UMOL/KG,,UMOL/KG,,UMOL/KG,,UMOL/KG,,UMOL/KG,,UMOL/KG,,PMOL/KG,,PMOL/KG,,PMOL/KG,,FMOL/KG,,UMOL/KG,,UMOL/KG,,,,DEG C,TU,,NMOL/KG,,PERCNT,,DEG C,,/MILLE,,/MILLE,,/MILLE,NMOL/KG,,NMOL/KG,PMOL/KG,,UMOL/KG,,UMOL/KG,,,,TU,NMOL/KG,PERCNT,DEG C,ITS-90,,/MILLE,,/MILLE,/MILLE,,/MILLE,G/KG,,KG/M^3,,,
33AT20120324,        A22,      50,          1,          5,          5,2,20120408,       1134,    18.9143,   -66.0008,       3011,  2223.0,   3.3542,  34.9561,2,  34.9568,2,    262.4,2,   262.4,2,   17.11,2,   18.06,2,    0.00,2,    1.21,2,   1.029,2,   0.494,2,   0.036,2,    0.21,2,    -999,9,    -999,9,     -999,9,     -999,    -999,9,     -999,9,    -999,9,   3.3538,2,    -999,9,    -999,9,    -999,    -999,9,    -999,    -999,1,    -999,9,    -999,9,  18.9150, -66.0006,    -999,     -999,    -999,   3.1750,   3.3538,2,-999,9,-999,-999,9,-999,    35.1217,2,-999,9,20120408,       1153
33AT20120324,        A22,      50,          1,          4,          4,2,20120408,       1134,    18.9143,   -66.0008,       3011,  2427.4,   3.1404,  34.9479,2,  34.9494,2,    262.3,2,   262.3,2,   18.98,2,   18.13,2,    0.00,2,    1.22,2,    -999,9,    -999,9,    -999,9,    -999,9,    -999,9,    -999,9,     -999,9,     -999,   0.171,2,   1.8432,2,    5.61,2,   3.1399,2,    -999,9,    -999,9,    -999,   8.113,2,   0.037,    -999,9,    -999,9,    -999,9,  18.9148, -66.0006,   0.008,   0.0074,    0.15,   2.9450,   3.1399,2,-999,9,-999,-999,9,-999,    35.1142,2,-999,9,20120408,       1149
33AT20120324,        A22,      50,          1,          3,          3,2,20120408,       1134,    18.9143,   -66.0008,       3011,  2630.0,   3.0094,  34.9411,2,  34.9415,2,    262.5,2,   262.8,2,   20.21,2,   18.18,2,    0.00,2,    1.23,2,   0.826,2,   0.395,2,   0.029,2,    0.15,2,    -999,9,    -999,9,     -999,9,     -999,    -999,9,     -999,9,    -999,9,   3.0086,2,    -999,9,    -999,9,    -999,    -999,9,    -999,    -999,1,    -999,9,    -999,9,  18.9146, -66.0007,    -999,     -999,    -999,   2.7964,   3.0086,2,-999,9,-999,-999,9,-999,    35.1063,2,-999,9,20120408,       1144
33AT20120324,        A22,      50,          1,          2,          2,2,20120408,       1134,    18.9143,   -66.0008,       3011,  2833.7,   2.8441,  34.9314,2,  34.9319,2,    264.4,2,   264.1,2,   21.42,2,   18.15,2,    0.00,2,    1.23,2,   0.833,2,   0.402,2,   0.031,2,    0.16,2,    -999,9,    -999,9,     -999,9,     -999,    -999,9,     -999,9,    -999,9,   2.8438,2,    -999,9,    -999,9,    -999,    -999,9,    -999,    -999,1,    -999,9,    -999,9,  18.9145, -66.0008,    -999,     -999,    -999,   2.6138,   2.8438,2,-999,9,-999,-999,9,-999,    35.0966,2,-999,9,20120408,       1140
33AT20120324,        A22,      50,          1,          1,          1,2,20120408,       1134,    18.9143,   -66.0008,       3011,  3025.5,   2.7581,  34.9257,2,  34.9266,2,    264.8,2,   264.6,2,   22.19,2,   18.13,2,    0.00,2,    1.23,2,   0.832,2,   0.411,2,   0.032,2,    0.19,2,  2166.5,6, 2318.15,6,   7.7411,6,       25,   0.195,2,   1.8503,2,    5.47,2,   2.7575,2,    -999,9,    -999,9,    -999,   8.073,2,   0.036,    -999,1,    -999,9,    -999,9,  18.9143, -66.0008,   0.009,   0.0074,    0.15,   2.5099,   2.7575,2,-999,9,-999,-999,9,-999,    35.0913,2,-999,9,20120408,       1135