BOTTLE,20220725CCHSIOCBG
EXPOCODE,SECT_ID,STNNBR,CASTNO,SAMPNO,BTLNBR,BTLNBR_FLAG_W,DATE,TIME,LATITUDE,LONGITUDE,DEPTH,CTDPRS,CTDTMP,CTDSAL,CTDSAL_FLAG_W,SALNTY,SALNTY_FLAG_W,CTDOXY,CTDOXY_FLAG_W,OXYGEN,OXYGEN_FLAG_W,SILCAT,SILCAT_FLAG_W,NITRAT,NITRAT_FLAG_W,NITRIT,NITRIT_FLAG_W,PHSPHT,PHSPHT_FLAG_W,CFC-11,CFC-11_FLAG_W,CFC-12,CFC-12_FLAG_W,CFC113,CFC113_FLAG_W,SF6,SF6_FLAG_W,TCARBN,TCARBN_FLAG_W,ALKALI,ALKALI_FLAG_W,PH_TOT,PH_TOT_FLAG_W,PH_TMP,TRITUM,TRITUM_FLAG_W,HELIUM,HELIUM_FLAG_W,DELHE3,DELHE3_FLAG_W,REFTMP,REFTMP_FLAG_W,DELC13,DELC13_FLAG_W,DELC14,DELC14_FLAG_W,C14ERR,NEON,NEON_FLAG_W,NEONER,CCL4,CCL4_FLAG_W,DOC,DOC_FLAG_W,TDN,TDN_FLAG_W,BTL_LAT,BTL_LON,TRITER,HELIER,DELHER,THETA,SBE35,SBE35_FLAG_W,14C-DOC,14C-DOC_FLAG_W,14C-DOCERR,13C-DOC,13C-DOC_FLAG_W,13C-DOCERR,SALTREF,SALTREF_FLAG_W,LAB_DEN,LAB_DEN_FLAG_W,BTL_DATE,BTL_TIME
,,,,,,,,,,,METERS,DBAR,ITS-90,PSS-78,,PSS-78,,UMOL/KG,,UMOL/KG,,UMOL/KG,,UMOL/KG,,UMOL/KG,,UMOL/KG,,PMOL/KG,,PMOL/KG,,PMOL/KG,,FMOL/KG,,UMOL/KG,,UMOL/KG,,,,DEG C,TU,,NMOL/KG,,PERCNT,,DEG C,,/MILLE,,/MILLE,,/MILLE,NMOL/KG,,NMOL/KG,PMOL/KG,,UMOL/KG,,UMOL/KG,,,,TU,NMOL/KG,PERCNT,DEG C,ITS-90,,/MILLE,,/MILLE,/MILLE,,/MILLE,G/KG,,KG/M^3,,,
33AT20120324,        A22,      30,          1,          5,          5,2,20120402,       1225,    29.9018,   -65.3814,       4898,  3753.9,   2.3208,  34.8987,2,  34.8988,2,    265.2,2,   265.2,2,   27.70,2,   18.36,2,    0.00,2,    1.26,2,   0.757,2,   0.347,2,   0.041,2,    0.12,2,    -999,9,    -999,9,     -999,9,     -999,    -999,9,     -999,9,    -999,9,   2.3208,2,    -999,9,    -999,9,    -999,    -999,9,    -999,    -999,1,    -999,9,    -999,9,  29.8998, -65.3821,    -999,     -999,    -999,   2.0051,   2.3208,2,-999,9,-999,-999,9,-999,    35.0634,2,-999,9,20120402,       1250
33AT20120324,        A22,      30,          1,          4,          4,2,20120402,       1225,    29.9018,   -65.3814,       4898,  4060.1,   2.2617,  34.8912,2,  34.8912,2,    263.3,2,   263.4,2,   30.81,2,   18.79,2,    0.00,2,    1.29,2,   0.757,2,   0.350,2,   0.040,2,    0.17,2,    -999,9,    -999,9,     -999,9,     -999,    -999,9,     -999,9,    -999,9,   2.2619,2,    -999,9,    -999,9,    -999,    -999,9,    -999,    -999,1,    -999,9,    -999,9,  29.9004, -65.3819,    -999,     -999,    -999,   1.9132,   2.2619,2,-999,9,-999,-999,9,-999,    35.0557,2,-999,9,20120402,       1244
33AT20120324,        A22,      30,          1,          3,          3,2,20120402,       1225,    29.9018,   -65.3814,       4898,  4369.9,   2.2275,  34.8842,2,  34.8851,2,    260.4,2,   260.4,2,   34.59,2,   19.38,2,    0.00,2,    1.33,2,   0.673,2,   0.321,2,   0.033,2,    0.16,2,    -999,9,    -999,9,     -999,9,     -999,    -999,9,     -999,9,    -999,9,   2.2275,2,    -999,9,    -999,9,    -999,    -999,9,    -999,    -999,1,    -999,9,    -999,9,  29.9008, -65.3817,    -999,     -999,    -999,   1.8440,   2.2275,2,-999,9,-999,-999,9,-999,    35.0496,2,-999,9,20120402,       1238
33AT20120324,        A22,      30,          1,          2,          2,2,20120402,       1225,    29.9018,   -65.3814,       4898,  4678.9,   2.1930,  34.8756,2,  34.8756,2,    256.4,2,   256.7,2,   39.53,2,   20.11,2,    0.00,2,    1.38,2,   0.518,2,   0.241,2,   0.030,2,    0.14,2,  2187.5,2, 2336.45,2,   7.7324,6,       25,    -999,9,     -999,9,    -999,9,   2.1925,2,    -999,9,    -999,9,    -999,    -999,9,    -999,    -999,1,    -999,9,    -999,9,  29.9013, -65.3816,    -999,     -999,    -999,   1.7736,   2.1925,2,-999,9,-999,-999,9,-999,    35.0401,2,-999,9,20120402,       1232
33AT20120324,        A22,      30,          1,          1,          1,2,20120402,       1225,    29.9018,   -65.3814,       4898,  4963.5,   2.2120,  34.8733,2,  34.8747,2,    255.7,2,   255.9,2,   40.72,2,   20.35,2,    0.00,2,    1.41,2,   0.493,2,   0.220,2,   0.027,2,    0.12,2,  2187.5,2, 2337.16,6,   7.7336,2,       25,    -999,9,     -999,9,    -999,9,   2.2113,2,    -999,9,    -999,9,    -999,    -999,9,    -999,    -999,1,    -999,9,    -999,9,  29.9018, -65.3814,    -999,     -999,    -999,   1.7569,   2.2113,2,-999,9,-999,-999,9,-999,    35.0391,2,-999,9,20120402,       1226