BOTTLE,20220725CCHSIOCBG
EXPOCODE,SECT_ID,STNNBR,CASTNO,SAMPNO,BTLNBR,BTLNBR_FLAG_W,DATE,TIME,LATITUDE,LONGITUDE,DEPTH,CTDPRS,CTDTMP,CTDSAL,CTDSAL_FLAG_W,SALNTY,SALNTY_FLAG_W,CTDOXY,CTDOXY_FLAG_W,OXYGEN,OXYGEN_FLAG_W,SILCAT,SILCAT_FLAG_W,NITRAT,NITRAT_FLAG_W,NITRIT,NITRIT_FLAG_W,PHSPHT,PHSPHT_FLAG_W,CFC-11,CFC-11_FLAG_W,CFC-12,CFC-12_FLAG_W,CFC113,CFC113_FLAG_W,SF6,SF6_FLAG_W,TCARBN,TCARBN_FLAG_W,ALKALI,ALKALI_FLAG_W,PH_TOT,PH_TOT_FLAG_W,PH_TMP,TRITUM,TRITUM_FLAG_W,HELIUM,HELIUM_FLAG_W,DELHE3,DELHE3_FLAG_W,REFTMP,REFTMP_FLAG_W,DELC13,DELC13_FLAG_W,DELC14,DELC14_FLAG_W,C14ERR,NEON,NEON_FLAG_W,NEONER,CCL4,CCL4_FLAG_W,DOC,DOC_FLAG_W,TDN,TDN_FLAG_W,BTL_LAT,BTL_LON,TRITER,HELIER,DELHER,THETA,SBE35,SBE35_FLAG_W,14C-DOC,14C-DOC_FLAG_W,14C-DOCERR,13C-DOC,13C-DOC_FLAG_W,13C-DOCERR,SALTREF,SALTREF_FLAG_W,LAB_DEN,LAB_DEN_FLAG_W,BTL_DATE,BTL_TIME
,,,,,,,,,,,METERS,DBAR,ITS-90,PSS-78,,PSS-78,,UMOL/KG,,UMOL/KG,,UMOL/KG,,UMOL/KG,,UMOL/KG,,UMOL/KG,,PMOL/KG,,PMOL/KG,,PMOL/KG,,FMOL/KG,,UMOL/KG,,UMOL/KG,,,,DEG C,TU,,NMOL/KG,,PERCNT,,DEG C,,/MILLE,,/MILLE,,/MILLE,NMOL/KG,,NMOL/KG,PMOL/KG,,UMOL/KG,,UMOL/KG,,,,TU,NMOL/KG,PERCNT,DEG C,ITS-90,,/MILLE,,/MILLE,/MILLE,,/MILLE,G/KG,,KG/M^3,,,
33AT20120324,        A22,      38,          1,          5,          5,2,20120405,       0426,    24.3201,   -65.7498,       5794,  4368.3,   2.2906,  34.8907,2,  34.8901,2,    263.0,2,   263.1,2,   32.71,2,   19.08,2,    0.00,2,    1.32,2,   0.499,2,   0.238,2,   0.025,2,    0.09,2,  2175.5,2, 2328.18,2,   7.7401,2,       25,    -999,9,     -999,9,    -999,9,   2.2900,2,    -999,9,    -999,9,    -999,    -999,9,    -999,    -999,1,    -999,9,    -999,9,  24.3201, -65.7497,    -999,     -999,    -999,   1.9054,   2.2900,2,-999,9,-999,-999,9,-999,    35.0547,2,-999,9,20120405,        455
33AT20120324,        A22,      38,          1,          4,          4,2,20120405,       0426,    24.3201,   -65.7498,       5794,  4774.6,   2.2294,  34.8788,2,  34.8795,2,    258.9,2,   258.5,2,   39.12,2,   20.11,2,    0.00,2,    1.39,2,   0.339,2,   0.162,2,   0.022,2,    0.10,2,    -999,9,    -999,9,     -999,9,     -999,   0.092,2,   1.9080,2,    4.37,2,   2.2288,2,    -999,9,    -999,9,    -999,   8.348,2,   0.038,    -999,1,    -999,9,    -999,9,  24.3201, -65.7497,   0.008,   0.0076,    0.15,   1.7971,   2.2288,2,-999,9,-999,-999,9,-999,    35.0440,2,-999,9,20120405,        447
33AT20120324,        A22,      38,          1,          3,          3,2,20120405,       0426,    24.3201,   -65.7498,       5794,  5189.2,   2.1142,  34.8589,2,  34.8587,2,    252.4,2,   252.3,2,   49.19,2,   21.74,2,    0.00,2,    1.49,2,   0.194,2,   0.094,2,   0.015,2,    0.07,2,  2194.7,2, 2343.01,2,   7.7233,2,       25,    -999,9,     -999,9,    -999,9,   2.1142,2,    -999,9,    -999,9,    -999,    -999,9,    -999,    -999,1,    -999,9,    -999,9,  24.3201, -65.7499,    -999,     -999,    -999,   1.6340,   2.1142,2,-999,9,-999,-999,9,-999,    35.0230,2,-999,9,20120405,        440
33AT20120324,        A22,      38,          1,          2,          2,2,20120405,       0426,    24.3201,   -65.7498,       5794,  5552.4,   2.0987,  34.8506,2,  34.8506,2,    249.1,2,   249.7,2,   53.06,2,   22.26,2,    0.00,2,    1.53,2,   0.162,2,   0.082,2,   0.012,2,    0.06,2,  2199.0,2, 2346.30,6,   7.7204,6,       25,    -999,9,     -999,9,    -999,9,   2.0987,2,    -999,9,    -999,9,    -999,    -999,9,    -999,    -999,1,    -999,9,    -999,9,  24.3201, -65.7498,    -999,     -999,    -999,   1.5721,   2.0987,2,-999,9,-999,-999,9,-999,    35.0149,2,-999,9,20120405,        433
33AT20120324,        A22,      38,          1,          1,          1,2,20120405,       0426,    24.3201,   -65.7498,       5794,  5890.4,   2.1136,  34.8461,2,  34.8469,2,    248.4,2,   248.7,2,   54.72,2,   22.55,2,    0.00,2,    1.56,2,   0.167,2,   0.079,2,   0.012,2,    0.06,2,  2203.0,6, 2344.60,2,   7.7188,2,       25,   0.054,2,   1.9070,2,    4.24,2,   2.1133,2,    -999,9,    -999,9,    -999,   8.236,2,   0.037,    -999,1,    -999,9,    -999,9,  24.3201, -65.7498,   0.008,   0.0076,    0.15,   1.5413,   2.1133,2,-999,9,-999,-999,9,-999,    35.0112,2,-999,9,20120405,        426