BOTTLE,20220725CCHSIOCBG
EXPOCODE,SECT_ID,STNNBR,CASTNO,SAMPNO,BTLNBR,BTLNBR_FLAG_W,DATE,TIME,LATITUDE,LONGITUDE,DEPTH,CTDPRS,CTDTMP,CTDSAL,CTDSAL_FLAG_W,SALNTY,SALNTY_FLAG_W,CTDOXY,CTDOXY_FLAG_W,OXYGEN,OXYGEN_FLAG_W,SILCAT,SILCAT_FLAG_W,NITRAT,NITRAT_FLAG_W,NITRIT,NITRIT_FLAG_W,PHSPHT,PHSPHT_FLAG_W,CFC-11,CFC-11_FLAG_W,CFC-12,CFC-12_FLAG_W,CFC113,CFC113_FLAG_W,SF6,SF6_FLAG_W,TCARBN,TCARBN_FLAG_W,ALKALI,ALKALI_FLAG_W,PH_TOT,PH_TOT_FLAG_W,PH_TMP,TRITUM,TRITUM_FLAG_W,HELIUM,HELIUM_FLAG_W,DELHE3,DELHE3_FLAG_W,REFTMP,REFTMP_FLAG_W,DELC13,DELC13_FLAG_W,DELC14,DELC14_FLAG_W,C14ERR,NEON,NEON_FLAG_W,NEONER,CCL4,CCL4_FLAG_W,DOC,DOC_FLAG_W,TDN,TDN_FLAG_W,BTL_LAT,BTL_LON,TRITER,HELIER,DELHER,THETA,SBE35,SBE35_FLAG_W,14C-DOC,14C-DOC_FLAG_W,14C-DOCERR,13C-DOC,13C-DOC_FLAG_W,13C-DOCERR,SALTREF,SALTREF_FLAG_W,LAB_DEN,LAB_DEN_FLAG_W,BTL_DATE,BTL_TIME
,,,,,,,,,,,METERS,DBAR,ITS-90,PSS-78,,PSS-78,,UMOL/KG,,UMOL/KG,,UMOL/KG,,UMOL/KG,,UMOL/KG,,UMOL/KG,,PMOL/KG,,PMOL/KG,,PMOL/KG,,FMOL/KG,,UMOL/KG,,UMOL/KG,,,,DEG C,TU,,NMOL/KG,,PERCNT,,DEG C,,/MILLE,,/MILLE,,/MILLE,NMOL/KG,,NMOL/KG,PMOL/KG,,UMOL/KG,,UMOL/KG,,,,TU,NMOL/KG,PERCNT,DEG C,ITS-90,,/MILLE,,/MILLE,/MILLE,,/MILLE,G/KG,,KG/M^3,,,
33AT20120324,        A22,       9,          1,         36,         36,2,20120327,       0318,    38.7936,   -69.2063,       3294,    11.7,  14.9333,  35.3862,2,  35.3882,2,    246.9,2,   247.6,2,    0.76,2,    1.90,2,    0.13,2,    0.20,2,   2.510,2,   1.555,2,   0.193,2,    -999,5,  2072.7,6, 2340.98,6,   7.9797,6,       25,    -999,9,     -999,9,    -999,9,  14.9340,2,    0.94,6,    50.5,6,     2.3,    -999,9,    -999,    1.84,2,   72.02,2,    6.40,2,  38.7929, -69.2071,    -999,     -999,    -999,  14.9315,  14.9340,2,-999,9,-999,-999,9,-999,    35.5551,2,-999,9,20120327,        544
33AT20120324,        A22,       9,          1,         35,         35,2,20120327,       0318,    38.7936,   -69.2063,       3294,    37.0,  14.8118,  35.3763,2,  35.3780,2,    246.6,2,   244.6,2,    1.05,2,    2.49,2,    0.14,2,    0.22,2,   2.480,2,   1.549,2,   0.191,2,    -999,5,  2077.7,2, 2338.38,2,   7.9696,2,       25,    -999,9,     -999,9,    -999,9,  14.8149,2,    -999,9,    -999,9,    -999,    -999,9,    -999,    1.73,2,   68.60,2,    7.29,2,  38.7930, -69.2070,    -999,     -999,    -999,  14.8063,  14.8149,2,-999,9,-999,-999,9,-999,    35.5448,2,-999,9,20120327,        541
33AT20120324,        A22,       9,          1,         34,         34,2,20120327,       0318,    38.7936,   -69.2063,       3294,    58.8,  14.8229,  35.6270,2,  35.6366,2,    229.0,2,   221.8,2,    2.49,2,    6.10,2,    0.11,2,    0.41,2,   2.283,2,   1.472,2,   0.164,2,    -999,5,  2109.3,2, 2329.04,3,   7.9245,2,       25,    -999,9,     -999,9,    -999,9,  14.7713,3,    -999,9,    -999,9,    -999,    -999,9,    -999,    1.21,2,   65.24,2,   10.36,2,  38.7929, -69.2066,    -999,     -999,    -999,  14.8141,  14.7713,3,-999,9,-999,-999,9,-999,    35.8047,2,-999,9,20120327,        539
33AT20120324,        A22,       9,          1,         33,         33,2,20120327,       0318,    38.7936,   -69.2063,       3294,    87.3,  14.1496,  35.5532,2,  35.5537,2,    220.2,2,   201.2,2,    4.37,2,    9.37,2,    0.04,2,    0.60,2,   2.149,2,   1.357,2,   0.129,2,    -999,5,  2125.8,2, 2344.75,2,   7.8822,2,       25,    -999,9,     -999,9,    -999,9,  14.1512,2,    -999,9,    -999,9,    -999,    -999,9,    -999,    0.90,2,   62.47,2,   13.58,2,  38.7930, -69.2064,    -999,     -999,    -999,  14.1369,  14.1512,2,-999,9,-999,-999,9,-999,    35.7214,2,-999,9,20120327,        537
33AT20120324,        A22,       9,          1,         32,         32,2,20120327,       0318,    38.7936,   -69.2063,       3294,   110.9,  14.2141,  35.6965,2,  35.6931,2,    188.8,2,   180.3,2,    5.21,2,   11.96,2,    0.02,2,    0.74,2,   2.085,2,   1.261,2,   0.091,2,    -999,5,    -999,9,    -999,9,     -999,9,     -999,    -999,9,     -999,9,    -999,9,  14.2174,2,    0.60,6,    39.8,6,     6.9,    -999,9,    -999,    0.68,2,   58.24,2,   16.32,2,  38.7930, -69.2061,    -999,     -999,    -999,  14.1979,  14.2174,2,-999,9,-999,-999,9,-999,    35.8614,2,-999,9,20120327,        534
33AT20120324,        A22,       9,          1,         31,         31,2,20120327,       0318,    38.7936,   -69.2063,       3294,   137.3,  13.5314,  35.6811,2,  35.6828,2,    156.9,2,   156.0,2,    7.18,2,   15.91,2,    0.01,2,    0.98,2,   1.801,2,   1.098,2,   0.056,2,    -999,5,  2164.3,2, 2344.90,2,   7.8029,2,       25,    -999,9,     -999,9,    -999,9,  13.5159,2,    -999,9,    -999,9,    -999,    -999,9,    -999,    0.37,2,   54.45,2,   20.53,2,  38.7930, -69.2060,    -999,     -999,    -999,  13.5119,  13.5159,2,-999,9,-999,-999,9,-999,    35.8511,2,-999,9,20120327,        532
33AT20120324,        A22,       9,          1,         30,         30,2,20120327,       0318,    38.7936,   -69.2063,       3294,   162.2,  12.5476,  35.5939,2,  35.5984,2,    140.4,2,   138.7,2,    9.07,2,   19.45,2,    0.01,2,    1.20,2,   1.604,2,   0.941,2,   0.028,2,    -999,5,    -999,9,    -999,9,     -999,9,     -999,    -999,9,     -999,9,    -999,9,  12.5660,2,    0.54,6,    20.0,6,     3.2,    -999,9,    -999,    0.16,2,   53.36,2,   23.40,2,  38.7930, -69.2061,    -999,     -999,    -999,  12.5257,  12.5660,2,-999,9,-999,-999,9,-999,    35.7662,2,-999,9,20120327,        530
33AT20120324,        A22,       9,          1,         29,         29,2,20120327,       0318,    38.7936,   -69.2063,       3294,   185.8,  11.2947,  35.4326,2,  35.4329,2,    132.5,2,   134.3,2,   11.15,2,   22.10,2,    0.00,2,    1.38,2,   1.395,2,   0.792,2,   0.021,2,    -999,5,  2188.2,2, 2329.08,2,   7.7123,2,       25,    -999,9,     -999,9,    -999,9,  11.2945,2,    0.58,2,    18.6,2,     4.2,    -999,9,    -999,    0.14,2,   52.14,2,   25.48,2,  38.7931, -69.2062,    -999,     -999,    -999,  11.2713,  11.2945,2,-999,9,-999,-999,9,-999,    35.5999,2,-999,9,20120327,        528
33AT20120324,        A22,       9,          1,         28,         28,2,20120327,       0318,    38.7936,   -69.2063,       3294,   219.1,  10.2411,  35.2962,2,  35.3061,2,    132.3,2,   132.8,2,   13.17,2,   23.85,2,    0.00,2,    1.51,2,   1.157,2,   0.654,2,   0.016,2,    -999,5,    -999,9,    -999,9,     -999,9,     -999,    -999,9,     -999,9,    -999,9,  10.2627,2,    0.64,2,    -4.6,2,     2.6,    -999,9,    -999,    0.11,2,   50.78,2,   27.53,2,  38.7931, -69.2062,    -999,     -999,    -999,  10.2152,  10.2627,2,-999,9,-999,-999,9,-999,    35.4726,2,-999,9,20120327,        526
33AT20120324,        A22,       9,          1,         27,         27,2,20120327,       0318,    38.7936,   -69.2063,       3294,   267.8,   9.2675,  35.2059,2,     -999,5,    139.6,2,   138.9,2,   14.51,2,   24.71,2,    0.00,2,    1.58,2,   1.049,2,   0.581,2,   0.018,2,    -999,5,  2196.3,6, 2320.70,2,   7.6700,6,       25,    -999,9,     -999,9,    -999,9,   9.2597,2,    0.62,2,   -28.9,2,     2.4,    -999,9,    -999,    0.13,2,   48.26,2,   28.25,2,  38.7931, -69.2062,    -999,     -999,    -999,   9.2377,   9.2597,2,-999,9,-999,-999,9,-999,       -999,5,-999,9,20120327,        523
33AT20120324,        A22,       9,          1,         26,         26,2,20120327,       0318,    38.7936,   -69.2063,       3294,   318.2,   8.2630,  35.1239,2,  35.1219,2,    153.7,2,   150.3,2,   15.34,2,   24.77,2,    0.00,2,    1.60,2,   1.069,2,   0.602,2,   0.028,2,    -999,5,    -999,9,    -999,9,     -999,9,     -999,    -999,9,     -999,9,    -999,9,   8.2607,2,    0.61,2,   -39.0,2,     2.3,    -999,9,    -999,    0.35,2,   47.08,2,   28.27,2,  38.7931, -69.2063,    -999,     -999,    -999,   8.2298,   8.2607,2,-999,9,-999,-999,9,-999,    35.2875,2,-999,9,20120327,        521
33AT20120324,        A22,       9,          1,         25,         25,2,20120327,       0318,    38.7936,   -69.2063,       3294,   367.5,   7.3453,  35.0881,2,  35.0885,2,    176.7,2,   170.3,2,   14.83,2,   23.55,2,    0.00,2,    1.53,2,   1.269,2,   0.693,2,   0.043,2,    -999,5,  2191.9,2, 2316.80,2,   7.6712,2,       25,    -999,9,     -999,9,    -999,9,   7.3484,2,    0.71,2,   -33.7,2,     2.8,    -999,9,    -999,    0.59,2,   46.33,2,   26.98,2,  38.7931, -69.2064,    -999,     -999,    -999,   7.3094,   7.3484,2,-999,9,-999,-999,9,-999,    35.2539,2,-999,9,20120327,        518
33AT20120324,        A22,       9,          1,         24,         24,2,20120327,       0318,    38.7936,   -69.2063,       3294,   419.0,   6.4456,  35.0669,2,  35.0688,2,    196.9,2,   194.3,2,   13.67,2,   21.57,2,    0.00,2,    1.41,2,   1.549,2,   0.848,2,   0.062,2,    -999,5,    -999,9,    -999,9,     -999,9,     -999,    -999,9,     -999,9,    -999,9,   6.4486,2,    0.74,2,   -29.7,2,     2.6,    -999,9,    -999,    0.83,2,   45.24,2,   24.60,2,  38.7931, -69.2064,    -999,     -999,    -999,   6.4074,   6.4486,2,-999,9,-999,-999,9,-999,    35.2341,2,-999,9,20120327,        515
33AT20120324,        A22,       9,          1,         23,         23,2,20120327,       0318,    38.7936,   -69.2063,       3294,   470.0,   5.7079,  35.0564,2,  35.0556,2,    214.8,2,   216.2,2,   12.93,2,   20.02,2,    0.00,2,    1.33,2,   1.669,2,   0.926,2,   0.072,2,    -999,5,  2178.1,2, 2313.78,2,   7.7032,2,       25,    -999,9,     -999,9,    -999,9,   5.7063,2,    0.80,2,   -36.3,2,     2.4,    -999,9,    -999,    0.96,2,   44.77,2,   23.93,2,  38.7931, -69.2063,    -999,     -999,    -999,   5.6676,   5.7063,2,-999,9,-999,-999,9,-999,    35.2209,2,-999,9,20120327,        513
33AT20120324,        A22,       9,          1,         22,         22,2,20120327,       0318,    38.7936,   -69.2063,       3294,   539.7,   5.1272,  35.0075,2,  35.0056,2,    231.8,2,   234.3,2,   11.94,2,   18.90,2,    0.00,2,    1.25,2,   2.204,2,   1.301,2,   0.123,2,    -999,5,  2173.0,2, 2310.29,2,   7.7021,2,       25,    -999,9,     -999,9,    -999,9,   5.1223,2,    0.81,2,   -21.1,2,     2.4,    -999,9,    -999,    1.33,2,   44.36,2,   23.00,2,  38.7931, -69.2060,    -999,     -999,    -999,   5.0831,   5.1223,2,-999,9,-999,-999,9,-999,    35.1707,2,-999,9,20120327,        510
33AT20120324,        A22,       9,          1,         21,         21,2,20120327,       0318,    38.7936,   -69.2063,       3294,   642.6,   4.9470,  35.0220,2,  35.0202,2,    240.2,2,   239.8,2,   12.06,2,   18.66,2,    0.00,2,    1.24,2,   2.220,2,   1.210,2,   0.117,2,    -999,5,  2169.2,2, 2312.99,2,   7.7096,2,       25,    -999,9,     -999,9,    -999,9,   4.9436,2,    0.85,2,   -25.6,2,     2.4,    -999,9,    -999,    1.51,2,   44.23,2,   22.01,2,  38.7931, -69.2057,    -999,     -999,    -999,   4.8948,   4.9436,2,-999,9,-999,-999,9,-999,    35.1853,2,-999,9,20120327,        506
33AT20120324,        A22,       9,          1,         20,         20,2,20120327,       0318,    38.7936,   -69.2063,       3294,   742.0,   4.5600,  34.9807,2,  34.9828,2,    254.2,2,   253.4,2,   11.26,2,   17.82,2,    0.00,2,    1.19,2,   2.758,2,   1.525,2,   0.167,2,    -999,5,    -999,9,    -999,9,     -999,9,     -999,    -999,9,     -999,9,    -999,9,   4.5623,2,    0.84,2,   -15.2,2,     2.4,    -999,9,    -999,    1.92,2,   44.67,2,   22.42,2,  38.7931, -69.2054,    -999,     -999,    -999,   4.5015,   4.5623,2,-999,9,-999,-999,9,-999,    35.1477,2,-999,9,20120327,        503
33AT20120324,        A22,       9,          1,         19,         19,2,20120327,       0318,    38.7936,   -69.2063,       3294,   843.4,   4.4432,  34.9830,2,  34.9836,2,    254.6,2,   254.8,2,   11.47,2,   17.75,2,    0.00,2,    1.19,2,   2.505,2,   1.430,2,   0.146,2,    -999,5,  2166.2,2, 2307.69,2,   7.7150,2,       25,    -999,9,     -999,9,    -999,9,   4.4432,2,    0.85,2,   -13.1,2,     2.4,    -999,9,    -999,    1.68,2,   44.71,2,   22.28,2,  38.7931, -69.2056,    -999,     -999,    -999,   4.3768,   4.4432,2,-999,9,-999,-999,9,-999,    35.1485,2,-999,9,20120327,        500
33AT20120324,        A22,       9,          1,         18,         18,2,20120327,       0318,    38.7936,   -69.2063,       3294,   944.0,   4.2930,  34.9746,2,  34.9743,2,    258.6,2,   257.7,2,   11.25,2,   17.65,2,    0.00,2,    1.18,2,   2.465,2,   1.418,2,   0.150,2,    -999,5,    -999,9,    -999,9,     -999,9,     -999,    -999,9,     -999,9,    -999,9,   4.2930,2,    0.86,2,   -19.4,2,     2.4,    -999,9,    -999,    1.66,2,   44.39,2,   20.83,2,  38.7932, -69.2056,    -999,     -999,    -999,   4.2191,   4.2930,2,-999,9,-999,-999,9,-999,    35.1392,2,-999,9,20120327,        456
33AT20120324,        A22,       9,          1,         17,         17,2,20120327,       0318,    38.7936,   -69.2063,       3294,  1044.9,   4.2062,  34.9738,2,  34.9729,2,    260.0,2,   258.9,2,   11.65,2,   17.63,2,    0.00,2,    1.18,2,   2.443,2,   1.341,2,   0.141,2,    -999,5,  2164.0,2, 2309.01,2,   7.7191,2,       25,    -999,9,     -999,9,    -999,9,   4.2070,2,    0.86,2,   -11.4,2,     2.9,    -999,9,    -999,    1.72,2,   44.03,2,   20.99,2,  38.7932, -69.2060,    -999,     -999,    -999,   4.1243,   4.2070,2,-999,9,-999,-999,9,-999,    35.1379,2,-999,9,20120327,        453
33AT20120324,        A22,       9,          1,         16,         16,2,20120327,       0318,    38.7936,   -69.2063,       3294,  1146.3,   4.0744,  34.9689,2,  34.9684,2,    261.2,2,   260.5,2,   11.97,2,   17.68,2,    0.00,2,    1.18,2,   2.335,2,   1.283,2,   0.131,2,    -999,5,    -999,9,    -999,9,     -999,9,     -999,    -999,9,     -999,9,    -999,9,   4.0748,2,    0.93,2,   -21.1,2,     2.8,    -999,9,    -999,    1.68,2,   44.24,2,   22.37,2,  38.7931, -69.2057,    -999,     -999,    -999,   3.9849,   4.0748,2,-999,9,-999,-999,9,-999,    35.1333,2,-999,9,20120327,        448
33AT20120324,        A22,       9,          1,         15,         15,2,20120327,       0318,    38.7936,   -69.2063,       3294,  1249.7,   3.9651,  34.9630,2,  34.9625,2,    262.9,2,   262.2,2,   12.24,2,   17.60,2,    0.00,2,    1.18,2,   2.135,2,   1.201,2,   0.126,2,    -999,5,    -999,9,    -999,9,     -999,9,     -999,    -999,9,     -999,9,    -999,9,   3.9654,2,    0.93,2,   -20.6,2,     2.8,    -999,9,    -999,    1.52,2,   44.57,2,   20.90,2,  38.7933, -69.2051,    -999,     -999,    -999,   3.8676,   3.9654,2,-999,9,-999,-999,9,-999,    35.1274,2,-999,9,20120327,        445
33AT20120324,        A22,       9,          1,         14,         14,2,20120327,       0318,    38.7936,   -69.2063,       3294,  1350.0,   3.8587,  34.9602,2,  34.9598,2,    263.6,2,   263.4,2,   12.64,2,   17.61,2,    0.00,2,    1.18,2,   2.073,2,   1.096,2,   0.114,2,    -999,5,    -999,9,    -999,9,     -999,9,     -999,    -999,9,     -999,9,    -999,9,   3.8619,2,    1.09,2,   -28.2,2,     2.9,    -999,9,    -999,    1.59,2,   44.25,2,   22.02,2,  38.7933, -69.2053,    -999,     -999,    -999,   3.7535,   3.8619,2,-999,9,-999,-999,9,-999,    35.1246,2,-999,9,20120327,        441
33AT20120324,        A22,       9,          1,         13,         13,2,20120327,       0318,    38.7936,   -69.2063,       3294,  1449.0,   3.7522,  34.9542,2,  34.9543,2,    264.1,2,   265.5,2,   12.89,2,   17.55,2,    0.00,2,    1.17,2,   2.026,2,   1.059,2,   0.106,2,    -999,5,    -999,9,    -999,9,     -999,9,     -999,    -999,9,     -999,9,    -999,9,   3.7529,2,    1.00,2,   -34.5,2,     2.9,    -999,9,    -999,    1.57,2,   44.14,2,   22.23,2,  38.7934, -69.2056,    -999,     -999,    -999,   3.6394,   3.7529,2,-999,9,-999,-999,9,-999,    35.1191,2,-999,9,20120327,        437
33AT20120324,        A22,       9,          1,         12,         12,2,20120327,       0318,    38.7936,   -69.2063,       3294,  1552.5,   3.6371,  34.9479,2,  34.9480,2,    266.0,2,   266.3,2,   13.09,2,   17.42,2,    0.00,2,    1.17,2,   1.851,2,   1.007,2,   0.097,2,    -999,5,  2160.8,2, 2308.21,2,   7.7288,2,       25,    -999,9,     -999,9,    -999,9,   3.6380,2,    0.86,2,   -34.0,2,     4.2,    -999,9,    -999,    1.42,2,   44.25,2,   20.60,2,  38.7935, -69.2060,    -999,     -999,    -999,   3.5164,   3.6380,2,-999,9,-999,-999,9,-999,    35.1128,2,-999,9,20120327,        432
33AT20120324,        A22,       9,          1,         11,         11,2,20120327,       0318,    38.7936,   -69.2063,       3294,  1653.2,   3.5370,  34.9444,2,  34.9442,2,    267.3,2,   267.1,2,   13.58,2,   17.49,2,    0.00,2,    1.17,2,   1.813,2,   0.945,2,   0.094,2,    -999,5,    -999,9,    -999,9,     -999,9,     -999,    -999,9,     -999,9,    -999,9,   3.5374,2,    1.00,2,   -37.7,2,     2.7,    -999,9,    -999,    1.41,2,   44.03,2,   20.56,2,  38.7936, -69.2062,    -999,     -999,    -999,   3.4085,   3.5374,2,-999,9,-999,-999,9,-999,    35.1090,2,-999,9,20120327,        428
33AT20120324,        A22,       9,          1,         10,         10,2,20120327,       0318,    38.7936,   -69.2063,       3294,  1755.1,   3.4661,  34.9436,2,  34.9435,2,    267.4,2,   267.4,2,   14.31,2,   17.49,2,    0.00,2,    1.17,2,   1.680,2,   0.880,2,   0.080,2,    -999,5,    -999,9,    -999,9,     -999,9,     -999,    -999,9,     -999,9,    -999,9,   3.4662,2,    1.00,2,   -37.7,2,     2.5,    -999,9,    -999,    1.34,2,   44.20,2,   20.44,2,  38.7936, -69.2064,    -999,     -999,    -999,   3.3293,   3.4662,2,-999,9,-999,-999,9,-999,    35.1082,2,-999,9,20120327,        421
33AT20120324,        A22,       9,          1,          9,          9,2,20120327,       0318,    38.7936,   -69.2063,       3294,  1886.6,   3.3765,  34.9453,2,  34.9456,2,    267.5,2,   267.6,2,   15.26,2,   17.59,2,    0.00,2,    1.18,2,   1.466,2,   0.766,2,   0.066,2,    -999,5,    -999,9,    -999,9,   7.7376,2,       25,    -999,9,     -999,9,    -999,9,   3.3773,2,    1.00,2,   -38.7,2,     2.4,    -999,9,    -999,    1.21,2,   44.47,2,   20.66,2,  38.7936, -69.2062,    -999,     -999,    -999,   3.2288,   3.3773,2,-999,9,-999,-999,9,-999,    35.1104,2,-999,9,20120327,        416
33AT20120324,        A22,       9,          1,          8,          8,2,20120327,       0318,    38.7936,   -69.2063,       3294,  2092.1,   3.2067,  34.9421,2,  34.9427,2,    267.0,2,   267.5,2,   16.73,2,   17.60,2,    0.00,2,    1.19,2,   1.202,2,   0.660,2,   0.051,2,    -999,5,  2160.7,2, 2312.44,2,     -999,9,     -999,    -999,9,     -999,9,    -999,9,   3.2073,2,    1.03,2,   -39.3,2,     2.8,    -999,9,    -999,    0.98,2,   44.39,2,   20.27,2,  38.7936, -69.2062,    -999,     -999,    -999,   3.0424,   3.2073,2,-999,9,-999,-999,9,-999,    35.1075,2,-999,9,20120327,        409
33AT20120324,        A22,       9,          1,          7,          7,2,20120327,       0318,    38.7936,   -69.2063,       3294,  2294.2,   3.0584,  34.9382,2,  34.9382,2,    268.4,2,   267.4,2,   18.06,2,   17.69,2,    0.00,2,    1.20,2,   1.114,2,   0.577,2,   0.046,2,    -999,5,    -999,9,    -999,9,     -999,9,     -999,    -999,9,     -999,9,    -999,9,   3.0579,2,    1.03,2,   -54.8,3,     2.6,    -999,9,    -999,    0.97,2,   43.57,2,   20.45,2,  38.7936, -69.2062,    -999,     -999,    -999,   2.8774,   3.0579,2,-999,9,-999,-999,9,-999,    35.1029,2,-999,9,20120327,        403
33AT20120324,        A22,       9,          1,          6,          6,2,20120327,       0318,    38.7936,   -69.2063,       3294,  2498.8,   2.8005,  34.9227,2,  34.9232,2,    271.4,2,   271.1,2,   18.01,2,   17.14,2,    0.00,2,    1.16,2,   1.445,2,   0.791,2,   0.075,2,    -999,5,    -999,9,    -999,9,     -999,9,     -999,    -999,9,     -999,9,    -999,9,   2.8006,2,    1.05,2,   -42.2,2,     2.8,    -999,9,    -999,    0.99,2,   43.65,2,   20.77,2,  38.7936, -69.2062,    -999,     -999,    -999,   2.6044,   2.8006,2,-999,9,-999,-999,9,-999,    35.0879,2,-999,9,20120327,        356