BOTTLE,20220725CCHSIOCBG
EXPOCODE,SECT_ID,STNNBR,CASTNO,SAMPNO,BTLNBR,BTLNBR_FLAG_W,DATE,TIME,LATITUDE,LONGITUDE,DEPTH,CTDPRS,CTDTMP,CTDSAL,CTDSAL_FLAG_W,SALNTY,SALNTY_FLAG_W,CTDOXY,CTDOXY_FLAG_W,OXYGEN,OXYGEN_FLAG_W,SILCAT,SILCAT_FLAG_W,NITRAT,NITRAT_FLAG_W,NITRIT,NITRIT_FLAG_W,PHSPHT,PHSPHT_FLAG_W,CFC-11,CFC-11_FLAG_W,CFC-12,CFC-12_FLAG_W,CFC113,CFC113_FLAG_W,SF6,SF6_FLAG_W,TCARBN,TCARBN_FLAG_W,ALKALI,ALKALI_FLAG_W,PH_TOT,PH_TOT_FLAG_W,PH_TMP,TRITUM,TRITUM_FLAG_W,HELIUM,HELIUM_FLAG_W,DELHE3,DELHE3_FLAG_W,REFTMP,REFTMP_FLAG_W,DELC13,DELC13_FLAG_W,DELC14,DELC14_FLAG_W,C14ERR,NEON,NEON_FLAG_W,NEONER,CCL4,CCL4_FLAG_W,DOC,DOC_FLAG_W,TDN,TDN_FLAG_W,BTL_LAT,BTL_LON,TRITER,HELIER,DELHER,THETA,SBE35,SBE35_FLAG_W,14C-DOC,14C-DOC_FLAG_W,14C-DOCERR,13C-DOC,13C-DOC_FLAG_W,13C-DOCERR,SALTREF,SALTREF_FLAG_W,LAB_DEN,LAB_DEN_FLAG_W,BTL_DATE,BTL_TIME
,,,,,,,,,,,METERS,DBAR,ITS-90,PSS-78,,PSS-78,,UMOL/KG,,UMOL/KG,,UMOL/KG,,UMOL/KG,,UMOL/KG,,UMOL/KG,,PMOL/KG,,PMOL/KG,,PMOL/KG,,FMOL/KG,,UMOL/KG,,UMOL/KG,,,,DEG C,TU,,NMOL/KG,,PERCNT,,DEG C,,/MILLE,,/MILLE,,/MILLE,NMOL/KG,,NMOL/KG,PMOL/KG,,UMOL/KG,,UMOL/KG,,,,TU,NMOL/KG,PERCNT,DEG C,ITS-90,,/MILLE,,/MILLE,/MILLE,,/MILLE,G/KG,,KG/M^3,,,
33AT20120324,        A22,      48,          1,          5,          5,2,20120408,       0246,    19.0282,   -66.0089,       4637,  3751.7,   2.3648,  34.8990,2,  34.8985,2,    266.9,2,   267.2,2,   26.65,2,   18.16,2,    0.00,2,    1.25,2,   1.019,2,   0.472,2,   0.055,2,    -999,5,    -999,9,    -999,9,     -999,9,     -999,    -999,9,     -999,9,    -999,9,   2.3651,2,    -999,9,    -999,9,    -999,    -999,9,    -999,    -999,1,    -999,9,    -999,9,  19.0282, -66.0089,    -999,     -999,    -999,   2.0482,   2.3651,2,-999,9,-999,-999,9,-999,    35.0630,2,-999,9,20120408,        307
33AT20120324,        A22,      48,          1,          4,          4,2,20120408,       0246,    19.0282,   -66.0089,       4637,  4059.4,   2.3065,  34.8928,2,  34.8926,2,    265.8,2,   265.8,2,   29.32,2,   18.51,2,    0.00,2,    1.28,2,   0.945,2,   0.430,2,   0.051,2,    0.19,2,    -999,9,    -999,9,     -999,9,     -999,    -999,9,     -999,9,    -999,9,   2.3065,2,    -999,9,    -999,9,    -999,    -999,9,    -999,    -999,1,    -999,9,    -999,9,  19.0282, -66.0089,    -999,     -999,    -999,   1.9568,   2.3065,2,-999,9,-999,-999,9,-999,    35.0571,2,-999,9,20120408,        301
33AT20120324,        A22,      48,          1,          3,          3,2,20120408,       0246,    19.0282,   -66.0089,       4637,  4366.6,   2.2983,  34.8894,2,  34.8877,2,    264.8,2,   264.8,2,   30.90,2,   18.71,2,    0.00,2,    1.29,2,   0.894,2,   0.337,2,   0.053,2,    0.18,2,  2174.3,2, 2326.20,2,   7.7318,2,       25,    -999,9,     -999,9,    -999,9,   2.2982,2,    -999,9,    -999,9,    -999,    -999,9,    -999,    -999,1,    -999,9,    -999,9,  19.0282, -66.0089,    -999,     -999,    -999,   1.9131,   2.2982,2,-999,9,-999,-999,9,-999,    35.0522,2,-999,9,20120408,        255
33AT20120324,        A22,      48,          1,          2,          2,2,20120408,       0246,    19.0282,   -66.0089,       4637,  4520.6,   2.3053,  34.8885,2,  34.8863,2,    265.1,2,   265.5,2,   31.39,2,   18.81,2,    0.00,2,    1.29,2,   0.861,2,   0.414,2,   0.046,2,    0.19,2,  2174.2,2, 2327.60,6,   7.7357,6,       25,    -999,9,     -999,9,    -999,9,   2.3051,2,    -999,9,    -999,9,    -999,    -999,9,    -999,    -999,1,    -999,9,    -999,9,  19.0282, -66.0089,    -999,     -999,    -999,   1.9015,   2.3051,2,-999,9,-999,-999,9,-999,    35.0508,2,-999,9,20120408,        251
33AT20120324,        A22,      48,          1,          1,          1,2,20120408,       0246,    19.0282,   -66.0089,       4637,  4701.8,   2.3076,  34.8863,2,  34.8859,2,    263.0,2,   263.2,2,   32.69,2,   19.00,2,    0.00,2,    1.31,2,   0.804,2,   0.348,2,   0.043,2,    0.17,2,  2177.4,6, 2326.88,2,   7.7343,2,       25,    -999,9,     -999,9,    -999,9,   2.3078,2,    -999,9,    -999,9,    -999,    -999,9,    -999,    -999,1,    -999,9,    -999,9,  19.0282, -66.0089,    -999,     -999,    -999,   1.8817,   2.3078,2,-999,9,-999,-999,9,-999,    35.0504,2,-999,9,20120408,        247