BOTTLE,20220725CCHSIOCBG
EXPOCODE,SECT_ID,STNNBR,CASTNO,SAMPNO,BTLNBR,BTLNBR_FLAG_W,DATE,TIME,LATITUDE,LONGITUDE,DEPTH,CTDPRS,CTDTMP,CTDSAL,CTDSAL_FLAG_W,SALNTY,SALNTY_FLAG_W,CTDOXY,CTDOXY_FLAG_W,OXYGEN,OXYGEN_FLAG_W,SILCAT,SILCAT_FLAG_W,NITRAT,NITRAT_FLAG_W,NITRIT,NITRIT_FLAG_W,PHSPHT,PHSPHT_FLAG_W,CFC-11,CFC-11_FLAG_W,CFC-12,CFC-12_FLAG_W,CFC113,CFC113_FLAG_W,SF6,SF6_FLAG_W,TCARBN,TCARBN_FLAG_W,ALKALI,ALKALI_FLAG_W,PH_TOT,PH_TOT_FLAG_W,PH_TMP,TRITUM,TRITUM_FLAG_W,HELIUM,HELIUM_FLAG_W,DELHE3,DELHE3_FLAG_W,REFTMP,REFTMP_FLAG_W,DELC13,DELC13_FLAG_W,DELC14,DELC14_FLAG_W,C14ERR,NEON,NEON_FLAG_W,NEONER,CCL4,CCL4_FLAG_W,DOC,DOC_FLAG_W,TDN,TDN_FLAG_W,BTL_LAT,BTL_LON,TRITER,HELIER,DELHER,THETA,SBE35,SBE35_FLAG_W,14C-DOC,14C-DOC_FLAG_W,14C-DOCERR,13C-DOC,13C-DOC_FLAG_W,13C-DOCERR,SALTREF,SALTREF_FLAG_W,LAB_DEN,LAB_DEN_FLAG_W,BTL_DATE,BTL_TIME
,,,,,,,,,,,METERS,DBAR,ITS-90,PSS-78,,PSS-78,,UMOL/KG,,UMOL/KG,,UMOL/KG,,UMOL/KG,,UMOL/KG,,UMOL/KG,,PMOL/KG,,PMOL/KG,,PMOL/KG,,FMOL/KG,,UMOL/KG,,UMOL/KG,,,,DEG C,TU,,NMOL/KG,,PERCNT,,DEG C,,/MILLE,,/MILLE,,/MILLE,NMOL/KG,,NMOL/KG,PMOL/KG,,UMOL/KG,,UMOL/KG,,,,TU,NMOL/KG,PERCNT,DEG C,ITS-90,,/MILLE,,/MILLE,/MILLE,,/MILLE,G/KG,,KG/M^3,,,
33AT20120324,        A22,       8,          1,         36,         36,2,20120326,       2134,    39.0179,   -69.3341,       3099,     3.0,  15.3756,  35.3706,2,  35.3717,2,    261.9,2,   262.0,2,    0.00,2,    0.25,2,    0.02,2,    0.08,2,   2.710,2,   1.588,2,   0.216,2,    1.76,2,  2059.0,2, 2339.44,6,   8.0132,2,       25,   0.808,2,   1.7502,2,   -1.28,2,  15.3882,2,    -999,9,    -999,9,    -999,   7.332,2,   0.033,    -999,1,    -999,9,    -999,9,  39.0188, -69.3413,   0.008,   0.0070,    0.15,  15.3751,  15.3882,2,-999,9,-999,-999,9,-999,    35.5385,2,-999,9,20120326,       2336
33AT20120324,        A22,       8,          1,         35,         35,2,20120326,       2134,    39.0179,   -69.3341,       3099,    25.5,  15.1352,  35.3452,2,  35.3459,2,    262.3,2,   262.8,2,    0.00,2,    0.27,2,    0.03,2,    0.10,2,   2.711,2,   1.602,2,   0.224,2,    1.86,2,    -999,9,    -999,9,     -999,9,     -999,    -999,9,     -999,9,    -999,9,  15.1702,2,    -999,9,    -999,9,    -999,    -999,9,    -999,    -999,1,    -999,9,    -999,9,  39.0188, -69.3412,    -999,     -999,    -999,  15.1313,  15.1702,2,-999,9,-999,-999,9,-999,    35.5125,2,-999,9,20120326,       2333
33AT20120324,        A22,       8,          1,         34,         34,2,20120326,       2134,    39.0179,   -69.3341,       3099,    52.7,  13.7373,  35.3923,2,  35.3893,2,    219.5,2,   232.2,2,    2.15,2,    6.16,2,    0.24,2,    0.43,2,   2.721,2,   1.604,2,   0.194,2,    1.77,2,  2107.5,2, 2335.69,2,   7.9104,2,       25,    -999,9,     -999,9,    -999,9,  13.7382,2,    -999,9,    -999,9,    -999,    -999,9,    -999,    -999,1,    -999,9,    -999,9,  39.0188, -69.3410,    -999,     -999,    -999,  13.7298,  13.7382,2,-999,9,-999,-999,9,-999,    35.5562,2,-999,9,20120326,       2330
33AT20120324,        A22,       8,          1,         33,         33,2,20120326,       2134,    39.0179,   -69.3341,       3099,    76.3,  13.6675,  35.4316,2,  35.4323,2,    230.2,2,   237.1,2,    2.39,2,    5.99,2,    0.44,2,    0.44,2,    -999,9,    -999,9,    -999,9,    -999,9,    -999,9,    -999,9,     -999,9,     -999,   0.717,2,   1.8115,2,   -1.44,2,  13.6695,2,    -999,9,    -999,9,    -999,   7.529,2,   0.034,    -999,9,    -999,9,    -999,9,  39.0188, -69.3410,   0.009,   0.0072,    0.15,  13.6567,  13.6695,2,-999,9,-999,-999,9,-999,    35.5993,2,-999,9,20120326,       2328
33AT20120324,        A22,       8,          1,         32,         32,2,20120326,       2134,    39.0179,   -69.3341,       3099,   101.2,  14.0554,  35.5939,2,  35.5940,2,    220.6,2,   218.7,2,    3.50,2,    8.25,2,    0.08,2,    0.54,2,   2.584,2,   1.506,2,   0.175,2,    1.60,2,  2119.9,2, 2342.70,2,   7.8975,2,       25,    -999,9,     -999,9,    -999,9,  14.0553,2,    -999,9,    -999,9,    -999,    -999,9,    -999,    -999,1,    -999,9,    -999,9,  39.0188, -69.3408,    -999,     -999,    -999,  14.0407,  14.0553,2,-999,9,-999,-999,9,-999,    35.7619,2,-999,9,20120326,       2326
33AT20120324,        A22,       8,          1,         31,         31,2,20120326,       2134,    39.0179,   -69.3341,       3099,   125.8,  13.6755,  35.6877,2,  35.4317,4,    174.4,2,   161.2,2,    6.64,2,   15.15,2,    0.02,2,    0.93,2,   2.118,2,   1.189,2,   0.069,2,    0.99,2,    -999,9,    -999,9,     -999,9,     -999,   0.501,2,   1.7993,2,    1.86,2,  13.6743,2,    -999,9,    -999,9,    -999,   7.405,2,   0.033,    -999,1,    -999,9,    -999,9,  39.0187, -69.3407,   0.010,   0.0072,    0.15,  13.6575,  13.6743,2,-999,9,-999,-999,9,-999,    35.5988,4,-999,9,20120326,       2324
33AT20120324,        A22,       8,          1,         30,         30,2,20120326,       2134,    39.0179,   -69.3341,       3099,   151.7,  12.4133,  35.5809,2,  35.5834,2,    140.4,2,   138.9,2,    9.14,2,   19.64,2,    0.02,2,    1.20,2,    -999,9,    -999,9,    -999,9,    -999,9,  2180.6,2, 2336.96,2,   7.7483,2,       25,    -999,9,     -999,9,    -999,9,  12.4121,2,    -999,9,    -999,9,    -999,    -999,9,    -999,    -999,9,    -999,9,    -999,9,  39.0188, -69.3405,    -999,     -999,    -999,  12.3930,  12.4121,2,-999,9,-999,-999,9,-999,    35.7512,2,-999,9,20120326,       2322
33AT20120324,        A22,       8,          1,         29,         29,2,20120326,       2134,    39.0179,   -69.3341,       3099,   177.3,  11.3015,  35.4329,2,  35.4376,2,    132.2,2,   133.6,2,   11.27,2,   22.14,2,    0.02,2,    1.39,2,   1.575,2,   0.837,2,   0.016,2,    0.61,2,    -999,9,    -999,9,     -999,9,     -999,   0.365,2,   1.7928,2,    3.90,2,  11.3072,2,    -999,9,    -999,9,    -999,   7.606,2,   0.034,    -999,1,    -999,9,    -999,9,  39.0186, -69.3404,   0.009,   0.0072,    0.15,  11.2792,  11.3072,2,-999,9,-999,-999,9,-999,    35.6047,2,-999,9,20120326,       2320
33AT20120324,        A22,       8,          1,         28,         28,2,20120326,       2134,    39.0179,   -69.3341,       3099,   203.8,  10.5695,  35.3397,2,  35.3428,2,    131.8,2,   132.0,2,   12.49,2,   23.54,2,    0.00,2,    1.48,2,   1.459,2,   0.754,2,   0.026,2,    0.51,2,  2191.5,2, 2326.77,2,   7.7020,2,       25,    -999,9,     -999,9,    -999,9,  10.5277,3,    -999,9,    -999,9,    -999,    -999,9,    -999,    -999,1,    -999,9,    -999,9,  39.0187, -69.3401,    -999,     -999,    -999,  10.5449,  10.5277,3,-999,9,-999,-999,9,-999,    35.5095,2,-999,9,20120326,       2318
33AT20120324,        A22,       8,          1,         27,         27,2,20120326,       2134,    39.0179,   -69.3341,       3099,   226.6,   9.9450,  35.2619,2,  35.2648,2,    132.7,2,   132.4,2,   13.49,2,   24.52,2,    0.00,2,    1.55,2,    -999,9,    -999,9,    -999,9,    -999,9,    -999,9,    -999,9,     -999,9,     -999,   0.312,2,   1.7854,2,    4.65,2,   9.9575,2,    -999,9,    -999,9,    -999,   7.641,2,   0.034,    -999,9,    -999,9,    -999,9,  39.0186, -69.3400,   0.011,   0.0071,    0.15,   9.9187,   9.9575,2,-999,9,-999,-999,9,-999,    35.4310,2,-999,9,20120326,       2316
33AT20120324,        A22,       8,          1,         26,         26,2,20120326,       2134,    39.0179,   -69.3341,       3099,   253.0,   9.3722,  35.2001,2,  35.2017,2,    135.8,2,   135.7,2,   14.51,2,   25.13,2,    0.00,2,    1.60,2,   1.237,2,   0.628,2,   0.015,2,    0.45,2,  2195.7,2, 2322.53,2,   7.6695,2,       25,    -999,9,     -999,9,    -999,9,   9.3718,2,    -999,9,    -999,9,    -999,    -999,9,    -999,    -999,1,    -999,9,    -999,9,  39.0187, -69.3399,    -999,     -999,    -999,   9.3438,   9.3718,2,-999,9,-999,-999,9,-999,    35.3677,2,-999,9,20120326,       2314
33AT20120324,        A22,       8,          1,         25,         25,2,20120326,       2134,    39.0179,   -69.3341,       3099,   303.4,   8.4977,  35.1205,2,  35.1200,2,    138.1,2,   140.4,2,   15.89,2,   25.80,2,    0.00,2,    1.66,2,   1.133,2,   0.575,2,   0.024,2,    0.46,2,  2198.5,2, 2319.33,2,   7.6582,2,       25,   0.260,2,   1.8182,2,    4.64,2,   8.4964,2,    -999,9,    -999,9,    -999,   7.669,2,   0.035,    -999,1,    -999,9,    -999,9,  39.0187, -69.3400,   0.009,   0.0073,    0.15,   8.4656,   8.4964,2,-999,9,-999,-999,9,-999,    35.2856,2,-999,9,20120326,       2312
33AT20120324,        A22,       8,          1,         24,         24,2,20120326,       2134,    39.0179,   -69.3341,       3099,   354.1,   7.5950,  35.1053,2,  35.1066,2,    166.7,2,   166.6,2,   14.33,2,   23.49,2,    0.00,2,    1.52,2,   1.562,2,   0.789,2,   0.047,2,    0.49,2,  2191.3,2, 2315.90,2,   7.6727,2,       25,   0.318,2,   1.8118,2,    5.60,2,   7.6206,3,    -999,9,    -999,9,    -999,   7.771,2,   0.035,    -999,1,    -999,9,    -999,9,  39.0186, -69.3397,   0.010,   0.0072,    0.15,   7.5598,   7.6206,3,-999,9,-999,-999,9,-999,    35.2722,2,-999,9,20120326,       2309
33AT20120324,        A22,       8,          1,         23,         23,2,20120326,       2134,    39.0179,   -69.3341,       3099,   403.7,   6.7307,  35.0703,2,  35.0729,2,    186.3,2,   186.9,2,   13.77,2,   22.16,2,    0.00,2,    1.44,2,    -999,9,    -999,9,    -999,9,    -999,9,    -999,9,    -999,9,     -999,9,     -999,   0.370,2,   1.8199,2,    5.94,2,   6.7486,2,    -999,9,    -999,9,    -999,   7.868,2,   0.035,    -999,9,    -999,9,    -999,9,  39.0186, -69.3393,   0.008,   0.0073,    0.15,   6.6931,   6.7486,2,-999,9,-999,-999,9,-999,    35.2383,2,-999,9,20120326,       2307
33AT20120324,        A22,       8,          1,         22,         22,2,20120326,       2134,    39.0179,   -69.3341,       3099,   454.8,   5.9976,  35.0318,2,  35.0324,2,    208.1,2,   207.5,2,   12.83,2,   20.65,2,    0.00,2,    1.37,2,   2.223,2,   1.139,2,   0.107,2,    0.70,2,  2178.8,2, 2312.45,2,   7.6925,2,       25,   0.411,2,   1.8259,2,    5.84,2,   5.9981,2,    -999,9,    -999,9,    -999,   7.909,2,   0.036,    -999,1,    -999,9,    -999,9,  39.0185, -69.3392,   0.011,   0.0073,    0.15,   5.9576,   5.9981,2,-999,9,-999,-999,9,-999,    35.1976,2,-999,9,20120326,       2304
33AT20120324,        A22,       8,          1,         21,         21,2,20120326,       2134,    39.0179,   -69.3341,       3099,   505.3,   5.6430,  35.0346,2,  35.0346,2,    221.4,2,   217.7,2,   12.59,2,   19.97,2,    0.00,2,    1.32,2,   2.258,2,   1.164,2,   0.103,2,    0.69,2,    -999,9,    -999,9,     -999,9,     -999,   0.393,2,   1.8183,2,    6.29,2,   5.6365,2,    -999,9,    -999,9,    -999,   7.884,2,   0.035,    -999,1,    -999,9,    -999,9,  39.0185, -69.3388,   0.009,   0.0073,    0.15,   5.5998,   5.6365,2,-999,9,-999,-999,9,-999,    35.1998,2,-999,9,20120326,       2302
33AT20120324,        A22,       8,          1,         20,         20,2,20120326,       2134,    39.0179,   -69.3341,       3099,   605.0,   5.1590,  35.0241,2,  35.0277,2,    232.8,2,   232.5,2,   12.25,2,   19.09,2,    0.00,2,    1.27,2,    -999,9,    -999,9,    -999,9,    -999,9,  2170.4,2, 2313.44,2,   7.7067,2,       25,   0.464,2,   1.8208,2,    6.49,2,   5.1655,2,    -999,9,    -999,9,    -999,   7.829,2,   0.035,    -999,9,    -999,9,    -999,9,  39.0183, -69.3377,   0.010,   0.0073,    0.15,   5.1091,   5.1655,2,-999,9,-999,-999,9,-999,    35.1929,2,-999,9,20120326,       2240
33AT20120324,        A22,       8,          1,         19,         19,3,20120326,       2134,    39.0179,   -69.3341,       3099,   707.4,   4.5632,  34.9694,2,  34.9695,4,    245.7,2,   255.6,4,   10.92,4,   17.72,4,    0.00,4,    1.18,4,    -999,9,    -999,9,    -999,9,    -999,9,    -999,9,    -999,9,     -999,9,     -999,   0.513,2,   1.8172,2,    4.74,2,   4.5636,2,    -999,9,    -999,9,    -999,   7.997,2,   0.036,    -999,9,    -999,9,    -999,9,  39.0183, -69.3376,   0.009,   0.0073,    0.15,   4.5076,   4.5636,2,-999,9,-999,-999,9,-999,    35.1343,4,-999,9,20120326,       2238
33AT20120324,        A22,       8,          1,         18,         18,2,20120326,       2134,    39.0179,   -69.3341,       3099,   809.0,   4.5425,  34.9903,2,  34.9903,2,    252.3,2,   251.5,2,   11.50,2,   18.05,2,    0.00,2,    1.20,2,   2.815,2,   1.961,2,   0.160,2,    0.84,2,    -999,9,    -999,9,     -999,9,     -999,   0.485,2,   1.8250,2,    6.27,2,   4.5431,2,    -999,9,    -999,9,    -999,   7.765,2,   0.035,    -999,1,    -999,9,    -999,9,  39.0183, -69.3373,   0.010,   0.0073,    0.15,   4.4784,   4.5431,2,-999,9,-999,-999,9,-999,    35.1553,2,-999,9,20120326,       2235
33AT20120324,        A22,       8,          1,         17,         17,2,20120326,       2134,    39.0179,   -69.3341,       3099,   908.4,   4.3740,  34.9834,2,  34.9842,2,    255.1,2,   255.1,2,   11.65,2,   17.80,2,    0.00,2,    1.18,2,   2.799,2,   1.919,2,   0.148,2,    0.83,2,    -999,9,    -999,9,     -999,9,     -999,   0.486,2,   1.8451,2,    6.52,2,   4.3805,2,    -999,9,    -999,9,    -999,   8.031,2,   0.036,    -999,1,    -999,9,    -999,9,  39.0183, -69.3371,   0.009,   0.0074,    0.15,   4.3025,   4.3805,2,-999,9,-999,-999,9,-999,    35.1492,2,-999,9,20120326,       2232
33AT20120324,        A22,       8,          1,         16,         16,2,20120326,       2134,    39.0179,   -69.3341,       3099,  1010.2,   4.2448,  34.9776,2,  34.9781,2,    257.4,2,   257.2,2,   11.80,2,   17.82,2,    0.00,2,    1.18,2,   2.669,2,   1.349,2,   0.147,2,    0.70,2,    -999,9,    -999,9,     -999,9,     -999,   0.456,2,   1.8571,2,    6.56,2,   4.2450,2,    -999,9,    -999,9,    -999,   8.104,2,   0.036,    -999,1,    -999,9,    -999,9,  39.0183, -69.3373,   0.010,   0.0074,    0.15,   4.1656,   4.2450,2,-999,9,-999,-999,9,-999,    35.1431,2,-999,9,20120326,       2229
33AT20120324,        A22,       8,          1,         15,         15,2,20120326,       2134,    39.0179,   -69.3341,       3099,  1113.5,   4.1267,  34.9737,2,  34.9742,2,    258.9,2,   259.0,2,   11.94,2,   17.77,2,    0.00,2,    1.17,2,    -999,9,    -999,9,    -999,9,    -999,9,    -999,9, 2326.65,4,   7.7243,6,       25,    -999,9,   1.8613,2,    7.21,2,   4.1275,2,    -999,9,    -999,9,    -999,   8.104,2,   0.036,    -999,9,    -999,9,    -999,9,  39.0183, -69.3372,    -999,   0.0074,    0.15,   4.0395,   4.1275,2,-999,9,-999,-999,9,-999,    35.1391,2,-999,9,20120326,       2226
33AT20120324,        A22,       8,          1,         14,         14,2,20120326,       2134,    39.0179,   -69.3341,       3099,  1212.8,   3.9959,  34.9643,2,  34.9650,2,    261.0,2,   261.6,2,   12.14,2,   17.68,2,    0.00,2,    1.17,2,   2.541,2,   1.278,2,   0.141,2,    0.64,2,    -999,9,    -999,9,     -999,9,     -999,   0.430,2,   1.8454,2,    7.65,2,   3.9961,2,    -999,9,    -999,9,    -999,   8.111,2,   0.037,    -999,1,    -999,9,    -999,9,  39.0183, -69.3370,   0.009,   0.0074,    0.15,   3.9013,   3.9961,2,-999,9,-999,-999,9,-999,    35.1298,2,-999,9,20120326,       2224
33AT20120324,        A22,       8,          1,         13,         13,2,20120326,       2134,    39.0179,   -69.3341,       3099,  1313.8,   3.8595,  34.9561,2,  34.9577,2,    263.7,2,   264.6,2,   12.32,2,   17.60,2,    0.00,2,    1.17,2,   2.493,2,   1.237,2,   0.133,2,    0.56,2,    -999,9,    -999,9,     -999,9,     -999,   0.444,2,     -999,9,    -999,9,   3.8615,2,    -999,9,    -999,9,    -999,    -999,9,    -999,    -999,1,    -999,9,    -999,9,  39.0183, -69.3368,   0.009,     -999,    -999,   3.7574,   3.8615,2,-999,9,-999,-999,9,-999,    35.1225,2,-999,9,20120326,       2221
33AT20120324,        A22,       8,          1,         12,         12,2,20120326,       2134,    39.0179,   -69.3341,       3099,  1416.6,   3.7763,  34.9526,2,  34.9530,2,    264.6,2,   265.1,2,   12.62,2,   17.59,2,    0.00,2,    1.16,2,    -999,9,    -999,9,    -999,9,    -999,9,    -999,9,    -999,9,     -999,9,     -999,   0.225,2,   1.8357,2,    8.08,2,   3.7767,2,    -999,9,    -999,9,    -999,   8.060,2,   0.036,    -999,9,    -999,9,    -999,9,  39.0182, -69.3366,   0.009,   0.0073,    0.15,   3.6661,   3.7767,2,-999,9,-999,-999,9,-999,    35.1178,2,-999,9,20120326,       2218
33AT20120324,        A22,       8,          1,         11,         11,2,20120326,       2134,    39.0179,   -69.3341,       3099,  1518.4,   3.6492,  34.9482,2,  34.9496,2,    266.3,2,   266.5,2,   13.08,2,   17.57,2,    0.00,2,    1.16,2,   2.188,2,   1.076,2,   0.105,2,    0.43,2,    -999,9,    -999,9,     -999,9,     -999,   0.236,2,   1.8738,2,    7.75,2,   3.6500,2,    -999,9,    -999,9,    -999,   8.203,2,   0.037,    -999,1,    -999,9,    -999,9,  39.0182, -69.3364,   0.009,   0.0075,    0.15,   3.5314,   3.6500,2,-999,9,-999,-999,9,-999,    35.1144,2,-999,9,20120326,       2215
33AT20120324,        A22,       8,          1,         10,         10,2,20120326,       2134,    39.0179,   -69.3341,       3099,  1619.4,   3.5840,  34.9502,2,  34.9508,2,    266.5,2,   266.4,2,   13.52,2,   17.62,2,    0.00,2,    1.17,2,   2.037,2,   0.980,2,   0.094,2,    0.43,2,  2157.6,6, 2314.12,2,   7.7342,2,       25,    -999,9,     -999,9,    -999,9,   3.5833,2,    -999,9,    -999,9,    -999,    -999,9,    -999,    -999,1,    -999,9,    -999,9,  39.0182, -69.3362,    -999,     -999,    -999,   3.4579,   3.5833,2,-999,9,-999,-999,9,-999,    35.1156,2,-999,9,20120326,       2213
33AT20120324,        A22,       8,          1,          9,          9,2,20120326,       2134,    39.0179,   -69.3341,       3099,  1721.3,   3.4914,  34.9476,2,  34.9477,2,    266.4,2,   266.0,2,   14.00,2,   17.65,2,    0.00,2,    1.17,2,   1.819,2,   0.870,2,   0.083,2,    0.38,2,    -999,9,    -999,9,     -999,9,     -999,   0.244,2,   1.8493,2,    7.72,2,   3.4917,2,    -999,9,    -999,9,    -999,   8.029,2,   0.036,    -999,1,    -999,9,    -999,9,  39.0181, -69.3360,   0.009,   0.0074,    0.15,   3.3573,   3.4917,2,-999,9,-999,-999,9,-999,    35.1125,2,-999,9,20120326,       2210
33AT20120324,        A22,       8,          1,          8,          8,2,20120326,       2134,    39.0179,   -69.3341,       3099,  1822.9,   3.4009,  34.9432,2,  34.9445,2,    267.1,2,   267.3,2,   14.52,2,   17.59,2,    0.00,2,    1.17,2,    -999,9,    -999,9,    -999,9,    -999,9,    -999,9,    -999,9,     -999,9,     -999,    -999,9,     -999,9,    -999,9,   3.4012,2,    -999,9,    -999,9,    -999,    -999,9,    -999,    -999,9,    -999,9,    -999,9,  39.0181, -69.3360,    -999,     -999,    -999,   3.2587,   3.4012,2,-999,9,-999,-999,9,-999,    35.1093,2,-999,9,20120326,       2207
33AT20120324,        A22,       8,          1,          7,          7,2,20120326,       2134,    39.0179,   -69.3341,       3099,  2026.3,   3.2501,  34.9414,2,  34.9436,2,    266.8,2,   267.0,2,   16.03,2,   17.60,2,    0.00,2,    1.18,2,   1.576,2,   0.751,2,   0.063,2,    0.31,2,    -999,9,    -999,9,     -999,9,     -999,    -999,9,     -999,9,    -999,9,   3.2505,2,    -999,9,    -999,9,    -999,    -999,9,    -999,    -999,1,    -999,9,    -999,9,  39.0181, -69.3358,    -999,     -999,    -999,   3.0913,   3.2505,2,-999,9,-999,-999,9,-999,    35.1083,2,-999,9,20120326,       2202
33AT20120324,        A22,       8,          1,          6,          6,2,20120326,       2134,    39.0179,   -69.3341,       3099,  2228.4,   3.1357,  34.9416,2,  34.9428,2,    265.5,2,   265.2,2,   17.70,2,   17.77,2,    0.00,2,    1.19,2,   1.292,2,   0.612,2,   0.052,2,    0.21,2,    -999,9,    -999,9,     -999,9,     -999,   0.263,2,   1.8581,2,    6.76,2,   3.1356,2,    -999,9,    -999,9,    -999,   8.212,2,   0.037,    -999,1,    -999,9,    -999,9,  39.0181, -69.3356,   0.009,   0.0074,    0.15,   2.9597,   3.1356,2,-999,9,-999,-999,9,-999,    35.1076,2,-999,9,20120326,       2157