BOTTLE,20220725CCHSIOCBG
EXPOCODE,SECT_ID,STNNBR,CASTNO,SAMPNO,BTLNBR,BTLNBR_FLAG_W,DATE,TIME,LATITUDE,LONGITUDE,DEPTH,CTDPRS,CTDTMP,CTDSAL,CTDSAL_FLAG_W,SALNTY,SALNTY_FLAG_W,CTDOXY,CTDOXY_FLAG_W,OXYGEN,OXYGEN_FLAG_W,SILCAT,SILCAT_FLAG_W,NITRAT,NITRAT_FLAG_W,NITRIT,NITRIT_FLAG_W,PHSPHT,PHSPHT_FLAG_W,CFC-11,CFC-11_FLAG_W,CFC-12,CFC-12_FLAG_W,CFC113,CFC113_FLAG_W,SF6,SF6_FLAG_W,TCARBN,TCARBN_FLAG_W,ALKALI,ALKALI_FLAG_W,PH_TOT,PH_TOT_FLAG_W,PH_TMP,TRITUM,TRITUM_FLAG_W,HELIUM,HELIUM_FLAG_W,DELHE3,DELHE3_FLAG_W,REFTMP,REFTMP_FLAG_W,DELC13,DELC13_FLAG_W,DELC14,DELC14_FLAG_W,C14ERR,NEON,NEON_FLAG_W,NEONER,CCL4,CCL4_FLAG_W,DOC,DOC_FLAG_W,TDN,TDN_FLAG_W,BTL_LAT,BTL_LON,TRITER,HELIER,DELHER,THETA,SBE35,SBE35_FLAG_W,14C-DOC,14C-DOC_FLAG_W,14C-DOCERR,13C-DOC,13C-DOC_FLAG_W,13C-DOCERR,SALTREF,SALTREF_FLAG_W,LAB_DEN,LAB_DEN_FLAG_W,BTL_DATE,BTL_TIME
,,,,,,,,,,,METERS,DBAR,ITS-90,PSS-78,,PSS-78,,UMOL/KG,,UMOL/KG,,UMOL/KG,,UMOL/KG,,UMOL/KG,,UMOL/KG,,PMOL/KG,,PMOL/KG,,PMOL/KG,,FMOL/KG,,UMOL/KG,,UMOL/KG,,,,DEG C,TU,,NMOL/KG,,PERCNT,,DEG C,,/MILLE,,/MILLE,,/MILLE,NMOL/KG,,NMOL/KG,PMOL/KG,,UMOL/KG,,UMOL/KG,,,,TU,NMOL/KG,PERCNT,DEG C,ITS-90,,/MILLE,,/MILLE,/MILLE,,/MILLE,G/KG,,KG/M^3,,,
33AT20120324,        A22,      15,          1,         36,         36,2,20120328,       2029,    37.3760,   -68.2097,       4735,     3.9,  23.2834,  36.1752,2,  36.1759,2,    208.7,2,   208.4,2,    0.93,2,    0.03,2,    0.02,2,    0.00,2,   1.629,2,   1.159,2,   0.141,2,    -999,5,  2035.6,6, 2368.53,2,   8.0813,6,       25,    -999,9,     -999,9,    -999,9,  23.2855,2,    -999,9,    -999,9,    -999,    -999,9,    -999,    1.31,2,   68.94,2,    3.95,2,  37.3639, -68.1996,    -999,     -999,    -999,  23.2826,  23.2855,2,-999,9,-999,-999,9,-999,    36.3465,2,-999,9,20120328,       2233
33AT20120324,        A22,      15,          1,         35,         35,2,20120328,       2029,    37.3760,   -68.2097,       4735,    35.4,  23.2689,  36.1691,2,  36.1717,2,    210.9,2,   208.7,2,    0.89,2,    0.03,2,    0.02,2,    0.00,2,   1.653,2,   1.125,2,   0.143,2,    -999,5,  2035.1,2, 2367.24,3,   8.0814,2,       25,    -999,9,     -999,9,    -999,9,  23.2658,2,    -999,9,    -999,9,    -999,    -999,9,    -999,    1.34,2,   68.60,2,    4.48,2,  37.3644, -68.1999,    -999,     -999,    -999,  23.2616,  23.2658,2,-999,9,-999,-999,9,-999,    36.3423,2,-999,9,20120328,       2230
33AT20120324,        A22,      15,          1,         34,         34,2,20120328,       2029,    37.3760,   -68.2097,       4735,    60.9,  22.6681,  36.3102,2,  36.2950,2,    214.8,2,   211.8,2,    0.63,2,    0.01,2,    0.02,2,    0.00,2,   1.649,2,   1.146,2,   0.138,2,    -999,5,  2045.1,2, 2410.51,3,   8.0761,2,       25,    -999,9,     -999,9,    -999,9,  22.6946,3,    -999,9,    -999,9,    -999,    -999,9,    -999,    1.25,2,   68.55,2,    4.55,2,  37.3647, -68.2002,    -999,     -999,    -999,  22.6557,  22.6946,3,-999,9,-999,-999,9,-999,    36.4662,2,-999,9,20120328,       2228
33AT20120324,        A22,      15,          1,         33,         33,2,20120328,       2029,    37.3760,   -68.2097,       4735,    85.9,  20.9515,  36.5514,2,  36.5462,2,    216.5,2,   215.9,2,    0.28,2,    0.11,2,    0.11,2,    0.00,2,   1.843,2,   1.283,2,   0.158,2,    -999,5,    -999,9,    -999,9,     -999,9,     -999,    -999,9,     -999,9,    -999,9,  20.9530,2,    -999,9,    -999,9,    -999,    -999,9,    -999,    1.35,2,   62.77,2,    4.80,2,  37.3652, -68.2006,    -999,     -999,    -999,  20.9350,  20.9530,2,-999,9,-999,-999,9,-999,    36.7185,2,-999,9,20120328,       2225
33AT20120324,        A22,      15,          1,         32,         32,2,20120328,       2029,    37.3760,   -68.2097,       4735,   116.3,  20.3711,  36.6498,2,  36.6479,2,    215.8,2,   214.7,2,    0.36,2,    0.28,2,    0.17,2,    0.00,2,   1.970,2,   1.322,2,   0.159,2,    -999,5,  2079.4,2, 2391.70,2,   8.0473,2,       25,    -999,9,     -999,9,    -999,9,  20.3698,2,    -999,9,    -999,9,    -999,    -999,9,    -999,    1.37,2,   60.96,2,    4.68,2,  37.3656, -68.2010,    -999,     -999,    -999,  20.3491,  20.3698,2,-999,9,-999,-999,9,-999,    36.8207,2,-999,9,20120328,       2223
33AT20120324,        A22,      15,          1,         31,         31,2,20120328,       2029,    37.3760,   -68.2097,       4735,   166.8,  19.7907,  36.6106,2,  36.6132,2,    219.6,2,   219.1,2,    0.56,2,    0.44,2,    0.21,2,    0.01,2,   1.889,2,   1.350,2,   0.170,2,    -999,5,    -999,9,    -999,9,     -999,9,     -999,    -999,9,     -999,9,    -999,9,  19.7929,2,    -999,9,    -999,9,    -999,    -999,9,    -999,    1.34,2,   58.74,2,    4.64,2,  37.3661, -68.2015,    -999,     -999,    -999,  19.7598,  19.7929,2,-999,9,-999,-999,9,-999,    36.7858,2,-999,9,20120328,       2220
33AT20120324,        A22,      15,          1,         30,         30,2,20120328,       2029,    37.3760,   -68.2097,       4735,   217.1,  19.6108,  36.5911,2,  36.5920,2,    217.4,2,   219.0,2,    0.52,2,    0.60,2,    0.15,2,    0.01,2,   1.908,2,   1.314,2,   0.156,2,    -999,5,  2082.4,2, 2388.87,3,   8.0402,2,       25,    -999,9,     -999,9,    -999,9,  19.6093,2,    -999,9,    -999,9,    -999,    -999,9,    -999,    1.34,2,   55.63,2,    4.43,2,  37.3664, -68.2018,    -999,     -999,    -999,  19.5708,  19.6093,2,-999,9,-999,-999,9,-999,    36.7645,2,-999,9,20120328,       2218
33AT20120324,        A22,      15,          1,         29,         29,2,20120328,       2029,    37.3760,   -68.2097,       4735,   266.0,  19.0907,  36.5900,2,  36.5811,2,    218.4,2,   210.7,2,    0.72,2,    1.70,2,    0.04,2,    0.06,2,   1.919,2,   1.319,2,   0.117,2,    -999,5,    -999,9,    -999,9,     -999,9,     -999,    -999,9,     -999,9,    -999,9,  19.0898,2,    -999,9,    -999,9,    -999,    -999,9,    -999,    0.97,2,   53.63,2,    5.58,2,  37.3667, -68.2020,    -999,     -999,    -999,  19.0426,  19.0898,2,-999,9,-999,-999,9,-999,    36.7536,2,-999,9,20120328,       2216
33AT20120324,        A22,      15,          1,         28,         28,2,20120328,       2029,    37.3760,   -68.2097,       4735,   315.5,  18.5844,  36.6190,2,  36.5874,5,    196.6,2,   197.1,2,    0.98,2,    3.53,2,    0.01,2,    0.14,2,   2.042,2,   1.382,2,   0.041,2,    -999,5,  2113.8,2, 2389.47,4,   7.9819,6,       25,    -999,9,     -999,9,    -999,9,  18.5935,2,    -999,9,    -999,9,    -999,    -999,9,    -999,    0.33,2,   51.66,2,    6.43,2,  37.3670, -68.2022,    -999,     -999,    -999,  18.5283,  18.5935,2,-999,9,-999,-999,9,-999,       -999,5,-999,9,20120328,       2214
33AT20120324,        A22,      15,          1,         27,         27,2,20120328,       2029,    37.3760,   -68.2097,       4735,   368.7,  18.2378,  36.5872,2,  36.5874,2,    201.7,2,   201.6,2,    0.94,2,    3.85,2,    0.01,2,    0.17,2,   2.086,2,   1.391,2,   0.047,2,    -999,5,    -999,9,    -999,9,     -999,9,     -999,    -999,9,     -999,9,    -999,9,  18.2417,2,    -999,9,    -999,9,    -999,    -999,9,    -999,    0.37,2,   50.69,2,    6.88,2,  37.3673, -68.2024,    -999,     -999,    -999,  18.1730,  18.2417,2,-999,9,-999,-999,9,-999,    36.7599,2,-999,9,20120328,       2212
33AT20120324,        A22,      15,          1,         26,         26,2,20120328,       2029,    37.3760,   -68.2097,       4735,   418.3,  18.0264,  36.5627,2,  36.5628,2,    203.4,2,   204.1,2,    1.13,2,    4.11,2,    0.00,2,    0.18,2,   2.097,2,   1.399,2,   0.048,2,    -999,5,  2117.5,2, 2381.69,2,   7.9801,2,       25,    -999,9,     -999,9,    -999,9,  18.0255,2,    -999,9,    -999,9,    -999,    -999,9,    -999,    0.40,2,   49.86,2,    7.26,2,  37.3676, -68.2027,    -999,     -999,    -999,  17.9534,  18.0255,2,-999,9,-999,-999,9,-999,    36.7352,2,-999,9,20120328,       2210
33AT20120324,        A22,      15,          1,         25,         25,2,20120328,       2029,    37.3760,   -68.2097,       4735,   468.9,  17.7404,  36.5087,2,  36.5034,2,    201.3,2,   199.4,2,    1.40,2,    5.07,2,    0.00,2,    0.23,2,   2.042,2,   1.375,2,   0.042,2,    -999,5,    -999,9,    -999,9,     -999,9,     -999,    -999,9,     -999,9,    -999,9,  17.7399,2,    -999,9,    -999,9,    -999,    -999,9,    -999,    0.36,2,   49.40,2,    8.25,2,  37.3679, -68.2031,    -999,     -999,    -999,  17.6594,  17.7399,2,-999,9,-999,-999,9,-999,    36.6755,2,-999,9,20120328,       2209
33AT20120324,        A22,      15,          1,         24,         24,2,20120328,       2029,    37.3760,   -68.2097,       4735,   536.1,  17.1224,  36.3884,2,  36.3905,2,    193.9,2,   191.6,2,    2.02,2,    6.78,2,    0.00,2,    0.35,2,   2.135,2,   1.379,2,   0.039,2,    -999,5,  2126.3,2, 2376.53,2,   7.9398,2,       25,    -999,9,     -999,9,    -999,9,  17.1206,2,    -999,9,    -999,9,    -999,    -999,9,    -999,    0.37,2,   48.89,2,    9.80,2,  37.3683, -68.2034,    -999,     -999,    -999,  17.0319,  17.1206,2,-999,9,-999,-999,9,-999,    36.5621,2,-999,9,20120328,       2207
33AT20120324,        A22,      15,          1,         23,         23,2,20120328,       2029,    37.3760,   -68.2097,       4735,   640.2,  15.3794,  36.0640,2,  36.0643,2,    174.3,2,   171.2,2,    3.94,2,   11.52,2,    0.00,2,    0.65,2,   2.106,2,   1.298,2,   0.035,2,    -999,5,  2146.0,2, 2359.85,6,     -999,9,     -999,    -999,9,     -999,9,    -999,9,  15.3789,2,    -999,9,    -999,9,    -999,    -999,9,    -999,    0.32,2,   48.05,2,   14.99,2,  37.3686, -68.2037,    -999,     -999,    -999,  15.2787,  15.3789,2,-999,9,-999,-999,9,-999,    36.2344,2,-999,9,20120328,       2204
33AT20120324,        A22,      15,          1,         22,         22,2,20120328,       2029,    37.3760,   -68.2097,       4735,   741.3,  13.2572,  35.7151,2,  35.7154,2,    152.7,2,   153.5,2,    6.89,2,   16.85,2,    0.00,2,    1.01,2,   1.818,2,   1.087,2,   0.033,2,    -999,5,  2165.9,2, 2340.33,2,   7.7940,2,       25,    -999,9,     -999,9,    -999,9,  13.2587,2,    -999,9,    -999,9,    -999,    -999,9,    -999,    0.27,2,   47.58,2,   20.65,2,  37.3691, -68.2040,    -999,     -999,    -999,  13.1512,  13.2587,2,-999,9,-999,-999,9,-999,    35.8838,2,-999,9,20120328,       2201
33AT20120324,        A22,      15,          1,         21,         21,2,20120328,       2029,    37.3760,   -68.2097,       4735,   842.3,  10.6809,  35.3570,2,  35.3581,2,    143.3,2,   141.2,2,   11.50,2,   22.44,2,    0.00,2,    1.40,2,   1.358,2,   0.773,2,   0.030,2,    -999,5,  2186.7,2, 2326.38,2,   7.7125,2,       25,    -999,9,     -999,9,    -999,9,  10.6851,2,    -999,9,    -999,9,    -999,    -999,9,    -999,    0.28,2,   46.26,2,   25.82,2,  37.3696, -68.2046,    -999,     -999,    -999,  10.5755,  10.6851,2,-999,9,-999,-999,9,-999,    35.5248,2,-999,9,20120328,       2159
33AT20120324,        A22,      15,          1,         20,         20,2,20120328,       2029,    37.3760,   -68.2097,       4735,   944.0,   8.6157,  35.1596,2,  35.1601,2,    150.1,2,   151.3,2,   14.25,2,   24.27,2,    0.00,2,    1.54,2,   1.194,2,   0.636,2,   0.034,2,    -999,5,  2193.1,6, 2318.13,2,   7.6747,2,       25,    -999,9,     -999,9,    -999,9,   8.6159,2,    -999,9,    -999,9,    -999,    -999,9,    -999,    0.44,2,   45.23,2,   27.84,2,  37.3701, -68.2050,    -999,     -999,    -999,   8.5112,   8.6159,2,-999,9,-999,-999,9,-999,    35.3259,2,-999,9,20120328,       2156
33AT20120324,        A22,      15,          1,         19,         19,2,20120328,       2029,    37.3760,   -68.2097,       4735,  1045.3,   6.6123,  35.0770,2,  35.0774,2,    192.5,2,   193.2,2,   13.56,2,   21.61,2,    0.00,2,    1.41,2,   1.581,2,   0.881,2,   0.068,2,    -999,5,  2185.0,2, 2317.04,2,     -999,9,     -999,    -999,9,     -999,9,    -999,9,   6.6112,2,    -999,9,    -999,9,    -999,    -999,9,    -999,    0.89,2,   45.55,2,   24.50,2,  37.3705, -68.2053,    -999,     -999,    -999,   6.5113,   6.6112,2,-999,9,-999,-999,9,-999,    35.2428,2,-999,9,20120328,       2153
33AT20120324,        A22,      15,          1,         18,         18,2,20120328,       2029,    37.3760,   -68.2097,       4735,  1145.8,   5.7746,  35.0511,2,  35.0628,4,    216.7,2,   218.1,2,   12.55,2,   19.86,2,    0.00,2,    1.30,2,   1.937,2,   1.127,2,   0.107,2,    -999,5,  2178.1,2, 2308.58,2,   7.7021,2,       25,    -999,9,     -999,9,    -999,9,   5.7736,2,    -999,9,    -999,9,    -999,    -999,9,    -999,    1.22,2,   44.91,2,   23.43,2,  37.3710, -68.2058,    -999,     -999,    -999,   5.6703,   5.7736,2,-999,9,-999,-999,9,-999,    35.2281,4,-999,9,20120328,       2151
33AT20120324,        A22,      15,          1,         17,         17,2,20120328,       2029,    37.3760,   -68.2097,       4735,  1248.7,   5.2079,  35.0310,2,  35.0311,2,    234.2,2,   234.9,2,   11.87,2,   18.76,2,    0.00,2,    1.24,2,   2.132,2,   1.224,2,   0.131,2,    -999,5,  2173.4,2, 2307.40,2,   7.7065,2,       25,    -999,9,     -999,9,    -999,9,   5.2073,2,    -999,9,    -999,9,    -999,    -999,9,    -999,    1.40,2,   44.76,2,   22.77,2,  37.3714, -68.2062,    -999,     -999,    -999,   5.0986,   5.2073,2,-999,9,-999,-999,9,-999,    35.1963,2,-999,9,20120328,       2148
33AT20120324,        A22,      15,          1,         16,         16,2,20120328,       2029,    37.3760,   -68.2097,       4735,  1348.4,   4.7540,  35.0015,2,  35.0016,2,    247.1,2,   246.4,2,   11.53,2,   18.30,2,    0.00,2,    1.20,2,   2.281,2,   1.339,2,   0.155,2,    -999,5,    -999,9,    -999,9,     -999,9,     -999,    -999,9,     -999,9,    -999,9,   4.7540,2,    -999,9,    -999,9,    -999,    -999,9,    -999,    1.55,2,   44.47,2,   22.59,2,  37.3715, -68.2062,    -999,     -999,    -999,   4.6397,   4.7540,2,-999,9,-999,-999,9,-999,    35.1666,2,-999,9,20120328,       2145
33AT20120324,        A22,      15,          1,         15,         15,2,20120328,       2029,    37.3760,   -68.2097,       4735,  1449.0,   4.5222,  34.9949,2,  34.9941,2,    252.6,2,   252.0,2,   11.80,2,   18.10,2,    0.00,2,    1.19,2,   2.302,2,   1.285,2,   0.155,2,    -999,5,    -999,9,    -999,9,     -999,9,     -999,    -999,9,     -999,9,    -999,9,   4.5235,2,    -999,9,    -999,9,    -999,    -999,9,    -999,    1.71,2,   44.37,2,   22.24,2,  37.3718, -68.2065,    -999,     -999,    -999,   4.4009,   4.5235,2,-999,9,-999,-999,9,-999,    35.1591,2,-999,9,20120328,       2142
33AT20120324,        A22,      15,          1,         14,         14,2,20120328,       2029,    37.3760,   -68.2097,       4735,  1551.6,   4.3789,  34.9873,2,  34.9870,2,    253.9,2,   254.3,2,   11.95,2,   17.97,2,    0.00,2,    1.19,2,   2.236,2,   1.263,2,   0.151,2,    -999,5,  2165.9,2, 2306.40,2,   7.7183,2,       25,    -999,9,     -999,9,    -999,9,   4.3790,2,    -999,9,    -999,9,    -999,    -999,9,    -999,    1.74,2,   44.30,2,   22.25,2,  37.3723, -68.2069,    -999,     -999,    -999,   4.2495,   4.3790,2,-999,9,-999,-999,9,-999,    35.1520,2,-999,9,20120328,       2139
33AT20120324,        A22,      15,          1,         13,         13,2,20120328,       2029,    37.3760,   -68.2097,       4735,  1684.2,   4.1836,  34.9797,2,  34.9801,2,    258.0,2,   258.3,2,   12.11,2,   17.87,2,    0.00,2,    1.18,2,   2.061,2,   1.177,2,   0.134,2,    -999,5,    -999,9,    -999,9,     -999,9,     -999,    -999,9,     -999,9,    -999,9,   4.1877,2,    -999,9,    -999,9,    -999,    -999,9,    -999,    1.71,2,   44.89,2,   20.83,2,  37.3724, -68.2071,    -999,     -999,    -999,   4.0440,   4.1877,2,-999,9,-999,-999,9,-999,    35.1451,2,-999,9,20120328,       2135
33AT20120324,        A22,      15,          1,         12,         12,2,20120328,       2029,    37.3760,   -68.2097,       4735,  1889.4,   3.9899,  34.9765,2,  34.9774,2,    260.1,2,   260.3,2,   12.72,2,   17.85,2,    0.00,2,    1.18,2,   1.802,2,   0.988,2,   0.114,2,    -999,5,    -999,9,    -999,9,     -999,9,     -999,    -999,9,     -999,9,    -999,9,   3.9916,2,    -999,9,    -999,9,    -999,    -999,9,    -999,    1.52,2,   43.81,2,   20.60,2,  37.3722, -68.2070,    -999,     -999,    -999,   3.8332,   3.9916,2,-999,9,-999,-999,9,-999,    35.1423,2,-999,9,20120328,       2131
33AT20120324,        A22,      15,          1,         11,         11,2,20120328,       2029,    37.3760,   -68.2097,       4735,  2109.9,   3.7082,  34.9572,2,  34.9573,2,    264.0,2,   264.4,2,   13.64,2,   17.74,2,    0.00,2,    1.18,2,   1.665,2,   0.899,2,   0.102,2,    -999,5,  2159.9,2, 2310.86,2,   7.7359,2,       25,    -999,9,     -999,9,    -999,9,   3.7082,2,    -999,9,    -999,9,    -999,    -999,9,    -999,    1.46,2,   44.52,2,   22.57,2,  37.3726, -68.2071,    -999,     -999,    -999,   3.5344,   3.7082,2,-999,9,-999,-999,9,-999,    35.1221,2,-999,9,20120328,       2126
33AT20120324,        A22,      15,          1,         10,         10,2,20120328,       2029,    37.3760,   -68.2097,       4735,  2362.9,   3.5052,  34.9552,2,  34.9557,2,    265.2,2,   264.2,2,   15.48,2,   17.84,2,    0.00,2,    1.19,2,   1.338,2,   0.684,2,   0.078,2,    -999,5,    -999,9,    -999,9,     -999,9,     -999,    -999,9,     -999,9,    -999,9,   3.5055,2,    -999,9,    -999,9,    -999,    -999,9,    -999,    1.25,2,   43.45,2,   22.20,2,  37.3733, -68.2077,    -999,     -999,    -999,   3.3097,   3.5055,2,-999,9,-999,-999,9,-999,    35.1206,2,-999,9,20120328,       2121
33AT20120324,        A22,      15,          1,          9,          9,2,20120328,       2029,    37.3760,   -68.2097,       4735,  2620.2,   3.2877,  34.9491,2,  34.9498,2,    264.0,2,   264.5,2,   17.48,2,   17.94,2,    0.00,2,    1.19,2,   1.066,2,   0.542,2,   0.059,2,    -999,5,  2161.7,2, 2310.43,2,   7.7382,2,       25,    -999,9,     -999,9,    -999,9,   3.2875,2,    -999,9,    -999,9,    -999,    -999,9,    -999,    1.04,2,   43.32,2,   22.31,2,  37.3738, -68.2081,    -999,     -999,    -999,   3.0703,   3.2875,2,-999,9,-999,-999,9,-999,    35.1146,2,-999,9,20120328,       2116
33AT20120324,        A22,      15,          1,          8,          8,2,20120328,       2029,    37.3760,   -68.2097,       4735,  2872.3,   3.0688,  34.9402,2,  34.9410,2,    264.3,2,   264.4,2,   19.42,2,   17.96,2,    0.00,2,    1.20,2,   0.901,2,   0.492,2,   0.049,2,    -999,5,    -999,9,    -999,9,     -999,9,     -999,    -999,9,     -999,9,    -999,9,   3.0686,2,    -999,9,    -999,9,    -999,    -999,9,    -999,    0.87,2,   43.54,2,   20.77,2,  37.3741, -68.2082,    -999,     -999,    -999,   2.8299,   3.0686,2,-999,9,-999,-999,9,-999,    35.1057,2,-999,9,20120328,       2110
33AT20120324,        A22,      15,          1,          7,          7,2,20120328,       2029,    37.3760,   -68.2097,       4735,  3143.4,   2.7689,  34.9240,2,  34.9241,2,    267.4,2,   267.6,2,   20.60,2,   17.76,2,    0.00,2,    1.20,2,   0.964,2,   0.508,2,   0.062,2,    -999,5,    -999,9,    -999,9,     -999,9,     -999,    -999,9,     -999,9,    -999,9,   2.7679,2,    -999,9,    -999,9,    -999,    -999,9,    -999,    0.97,2,   43.41,2,   22.22,2,  37.3747, -68.2087,    -999,     -999,    -999,   2.5082,   2.7679,2,-999,9,-999,-999,9,-999,    35.0887,2,-999,9,20120328,       2105
33AT20120324,        A22,      15,          1,          6,          6,2,20120328,       2029,    37.3760,   -68.2097,       4735,  3448.0,   2.5047,  34.9094,2,  34.9095,2,    269.2,2,   268.8,2,   23.43,2,   17.84,2,    0.00,2,    1.21,2,   0.980,2,   0.494,2,   0.067,2,    -999,5,  2164.9,2, 2316.72,2,   7.7396,2,       25,    -999,9,     -999,9,    -999,9,   2.5052,2,    -999,9,    -999,9,    -999,    -999,9,    -999,    1.02,2,   43.25,2,   22.26,2,  37.3753, -68.2091,    -999,     -999,    -999,   2.2177,   2.5052,2,-999,9,-999,-999,9,-999,    35.0741,2,-999,9,20120328,       2059