BOTTLE,20220725CCHSIOCBG
EXPOCODE,SECT_ID,STNNBR,CASTNO,SAMPNO,BTLNBR,BTLNBR_FLAG_W,DATE,TIME,LATITUDE,LONGITUDE,DEPTH,CTDPRS,CTDTMP,CTDSAL,CTDSAL_FLAG_W,SALNTY,SALNTY_FLAG_W,CTDOXY,CTDOXY_FLAG_W,OXYGEN,OXYGEN_FLAG_W,SILCAT,SILCAT_FLAG_W,NITRAT,NITRAT_FLAG_W,NITRIT,NITRIT_FLAG_W,PHSPHT,PHSPHT_FLAG_W,CFC-11,CFC-11_FLAG_W,CFC-12,CFC-12_FLAG_W,CFC113,CFC113_FLAG_W,SF6,SF6_FLAG_W,TCARBN,TCARBN_FLAG_W,ALKALI,ALKALI_FLAG_W,PH_TOT,PH_TOT_FLAG_W,PH_TMP,TRITUM,TRITUM_FLAG_W,HELIUM,HELIUM_FLAG_W,DELHE3,DELHE3_FLAG_W,REFTMP,REFTMP_FLAG_W,DELC13,DELC13_FLAG_W,DELC14,DELC14_FLAG_W,C14ERR,NEON,NEON_FLAG_W,NEONER,CCL4,CCL4_FLAG_W,DOC,DOC_FLAG_W,TDN,TDN_FLAG_W,BTL_LAT,BTL_LON,TRITER,HELIER,DELHER,THETA,SBE35,SBE35_FLAG_W,14C-DOC,14C-DOC_FLAG_W,14C-DOCERR,13C-DOC,13C-DOC_FLAG_W,13C-DOCERR,SALTREF,SALTREF_FLAG_W,LAB_DEN,LAB_DEN_FLAG_W,BTL_DATE,BTL_TIME
,,,,,,,,,,,METERS,DBAR,ITS-90,PSS-78,,PSS-78,,UMOL/KG,,UMOL/KG,,UMOL/KG,,UMOL/KG,,UMOL/KG,,UMOL/KG,,PMOL/KG,,PMOL/KG,,PMOL/KG,,FMOL/KG,,UMOL/KG,,UMOL/KG,,,,DEG C,TU,,NMOL/KG,,PERCNT,,DEG C,,/MILLE,,/MILLE,,/MILLE,NMOL/KG,,NMOL/KG,PMOL/KG,,UMOL/KG,,UMOL/KG,,,,TU,NMOL/KG,PERCNT,DEG C,ITS-90,,/MILLE,,/MILLE,/MILLE,,/MILLE,G/KG,,KG/M^3,,,
33AT20120324,        A22,      53,          1,         26,         26,2,20120408,       2215,    18.6537,   -65.9996,       1504,     2.9,  26.9316,  35.7411,2,  35.7416,2,    204.2,2,   203.7,2,    1.35,2,    0.00,2,    0.00,2,    0.00,2,   1.570,2,   1.024,2,   0.119,2,    1.01,4,  1998.2,2, 2346.21,2,   8.1080,2,       25,    -999,9,     -999,9,    -999,9,  26.9314,2,    -999,9,    -999,9,    -999,    -999,9,    -999,    1.60,2,   74.27,2,    3.41,2,  18.6557, -66.0002,    -999,     -999,    -999,  26.9309,  26.9314,2,-999,9,-999,-999,9,-999,    35.9102,2,-999,9,20120408,       2309
33AT20120324,        A22,      53,          1,         25,         25,2,20120408,       2215,    18.6537,   -65.9996,       1504,    25.4,  26.4364,  35.8742,2,  35.8886,2,    205.5,2,   204.9,2,    1.12,2,    0.00,2,    0.00,2,    0.00,2,   1.595,2,   1.045,2,   0.125,2,    0.67,4,    -999,9,    -999,9,     -999,9,     -999,    -999,9,     -999,9,    -999,9,  26.4342,2,    -999,9,    -999,9,    -999,    -999,9,    -999,    1.61,2,   74.12,2,    4.09,2,  18.6556, -66.0002,    -999,     -999,    -999,  26.4306,  26.4342,2,-999,9,-999,-999,9,-999,    36.0578,2,-999,9,20120408,       2307
33AT20120324,        A22,      53,          1,         24,         24,2,20120408,       2215,    18.6537,   -65.9996,       1504,    50.1,  25.4879,  36.2532,2,  36.2572,2,    206.8,2,   205.8,2,    0.70,2,    0.00,2,    0.00,2,    0.00,2,   1.643,2,   1.047,2,   0.119,2,    1.16,4,  2020.2,2, 2376.03,2,   8.1080,2,       25,    -999,9,     -999,9,    -999,9,  25.4858,2,    -999,9,    -999,9,    -999,    -999,9,    -999,    1.53,2,   73.61,2,    4.27,2,  18.6556, -66.0001,    -999,     -999,    -999,  25.4768,  25.4858,2,-999,9,-999,-999,9,-999,    36.4282,2,-999,9,20120408,       2305
33AT20120324,        A22,      53,          1,         23,         23,2,20120408,       2215,    18.6537,   -65.9996,       1504,    75.4,  25.2275,  36.3551,2,  36.3419,2,    208.0,2,   208.4,2,    0.54,2,    0.00,2,    0.00,2,    0.00,2,   1.669,2,   1.056,2,   0.122,2,    0.77,4,    -999,9,    -999,9,     -999,9,     -999,    -999,9,     -999,9,    -999,9,  25.2339,2,    -999,9,    -999,9,    -999,    -999,9,    -999,    1.46,2,   73.14,2,    4.35,2,  18.6555, -66.0001,    -999,     -999,    -999,  25.2110,  25.2339,2,-999,9,-999,-999,9,-999,    36.5133,2,-999,9,20120408,       2303
33AT20120324,        A22,      53,          1,         22,         22,2,20120408,       2215,    18.6537,   -65.9996,       1504,   100.1,  25.3059,  36.5721,2,  36.5898,2,    203.4,2,   203.6,2,    0.37,2,    0.00,2,    0.00,2,    0.00,2,   1.672,2,   1.079,2,   0.121,2,    0.79,4,  2039.1,2, 2395.30,2,   8.1012,2,       25,    -999,9,     -999,9,    -999,9,  25.3016,2,    -999,9,    -999,9,    -999,    -999,9,    -999,    1.16,2,   71.06,2,    4.26,2,  18.6554, -66.0001,    -999,     -999,    -999,  25.2839,  25.3016,2,-999,9,-999,-999,9,-999,    36.7623,2,-999,9,20120408,       2300
33AT20120324,        A22,      53,          1,         21,         21,2,20120408,       2215,    18.6537,   -65.9996,       1504,   125.5,  24.7012,  37.0377,2,  37.0410,2,    182.5,2,   182.5,2,    0.24,2,    0.60,2,    0.09,2,    0.02,2,   1.730,2,   1.104,2,   0.113,2,    1.41,4,    -999,9,    -999,9,     -999,9,     -999,    -999,9,     -999,9,    -999,9,  24.6950,2,    -999,9,    -999,9,    -999,    -999,9,    -999,    0.60,2,   65.64,2,    4.82,2,  18.6553, -66.0001,    -999,     -999,    -999,  24.6740,  24.6950,2,-999,9,-999,-999,9,-999,    37.2157,2,-999,9,20120408,       2259
33AT20120324,        A22,      53,          1,         20,         20,2,20120408,       2215,    18.6537,   -65.9996,       1504,   150.2,  22.2502,  37.0206,2,  37.0156,2,    165.3,2,   167.4,2,    0.52,2,    2.66,2,    0.02,2,    0.12,2,   1.885,2,   1.193,2,   0.060,2,    1.24,4,  2125.7,2, 2418.44,2,   7.9897,2,       25,    -999,9,     -999,9,    -999,9,  22.2562,2,    -999,9,    -999,9,    -999,    -999,9,    -999,    0.31,2,   60.96,2,    6.88,2,  18.6553, -66.0001,    -999,     -999,    -999,  22.2200,  22.2562,2,-999,9,-999,-999,9,-999,    37.1901,2,-999,9,20120408,       2257
33AT20120324,        A22,      53,          1,         19,         19,2,20120408,       2215,    18.6537,   -65.9996,       1504,   176.5,  20.4799,  36.8167,2,  36.8133,2,    172.7,2,   183.6,2,    0.26,2,    1.52,2,    0.02,2,    0.03,2,   2.010,2,   1.286,2,   0.049,2,    1.24,4,    -999,9,    -999,9,     -999,9,     -999,    -999,9,     -999,9,    -999,9,  20.4806,2,    -999,9,    -999,9,    -999,    -999,9,    -999,    0.33,2,   56.63,2,    6.01,2,  18.6552, -66.0001,    -999,     -999,    -999,  20.4464,  20.4806,2,-999,9,-999,-999,9,-999,    36.9869,2,-999,9,20120408,       2255
33AT20120324,        A22,      53,          1,         18,         18,2,20120408,       2215,    18.6537,   -65.9996,       1504,   201.3,  19.6060,  36.7272,2,  36.7236,2,    185.7,2,   185.4,2,    0.38,2,    2.25,2,    0.01,2,    0.06,2,   2.082,2,   1.320,2,   0.028,2,    1.11,4,  2115.1,2, 2398.68,2,   7.9815,2,       25,    -999,9,     -999,9,    -999,9,  19.6045,2,    -999,9,    -999,9,    -999,    -999,9,    -999,    0.34,2,   54.65,2,    6.62,2,  18.6552, -66.0001,    -999,     -999,    -999,  19.5689,  19.6045,2,-999,9,-999,-999,9,-999,    36.8968,2,-999,9,20120408,       2254
33AT20120324,        A22,      53,          1,         17,         17,2,20120408,       2215,    18.6537,   -65.9996,       1504,   226.6,  19.2058,  36.6954,2,  36.8133,4,    182.7,2,   183.6,2,    0.48,2,    3.24,2,    0.01,2,    0.11,2,   2.135,2,   1.353,2,   0.023,2,    1.51,4,    -999,9,    -999,9,     -999,9,     -999,    -999,9,     -999,9,    -999,9,  19.2087,2,    -999,9,    -999,9,    -999,    -999,9,    -999,    0.33,2,   52.47,2,    7.05,2,  18.6551, -66.0001,    -999,     -999,    -999,  19.1646,  19.2087,2,-999,9,-999,-999,9,-999,    36.9869,4,-999,9,20120408,       2252
33AT20120324,        A22,      53,          1,         16,         16,2,20120408,       2215,    18.6537,   -65.9996,       1504,   251.6,  18.6648,  36.6424,2,  36.6342,2,    172.8,2,   175.5,2,    0.93,2,    5.47,2,    0.01,2,    0.26,2,   2.148,2,   1.344,2,   0.015,2,    0.78,4,    -999,9,    -999,9,     -999,9,     -999,    -999,9,     -999,9,    -999,9,  18.6680,2,    -999,9,    -999,9,    -999,    -999,9,    -999,    0.32,2,   50.55,2,    7.92,2,  18.6551, -66.0000,    -999,     -999,    -999,  18.6200,  18.6680,2,-999,9,-999,-999,9,-999,    36.8069,2,-999,9,20120408,       2251
33AT20120324,        A22,      53,          1,         15,         15,2,20120408,       2215,    18.6537,   -65.9996,       1504,   302.2,  17.4758,  36.4493,2,  36.4489,2,    189.2,2,   188.6,2,    1.37,2,    6.31,2,    0.01,2,    0.32,2,   2.219,2,   1.365,2,   0.023,2,    0.87,4,    -999,9,    -999,9,     -999,9,     -999,    -999,9,     -999,9,    -999,9,  17.4761,2,    -999,9,    -999,9,    -999,    -999,9,    -999,    0.45,2,   48.63,2,    9.84,2,  18.6550, -66.0000,    -999,     -999,    -999,  17.4243,  17.4761,2,-999,9,-999,-999,9,-999,    36.6208,2,-999,9,20120408,       2249
33AT20120324,        A22,      53,          1,         14,         14,2,20120408,       2215,    18.6537,   -65.9996,       1504,   351.6,  16.6392,  36.3000,2,  36.2968,2,    184.6,2,   177.2,2,    2.14,2,    8.74,2,    0.01,2,    0.48,2,   2.214,2,   1.341,2,   0.023,2,    0.52,4,    -999,9,    -999,9,     -999,9,     -999,    -999,9,     -999,9,    -999,9,  16.6394,2,    -999,9,    -999,9,    -999,    -999,9,    -999,    0.39,2,   47.38,2,   11.76,2,  18.6549, -66.0000,    -999,     -999,    -999,  16.5813,  16.6394,2,-999,9,-999,-999,9,-999,    36.4680,2,-999,9,20120408,       2247
33AT20120324,        A22,      53,          1,         13,         13,2,20120408,       2215,    18.6537,   -65.9996,       1504,   403.2,  15.1146,  36.0283,2,  36.0283,2,    156.6,2,   155.5,2,    3.88,2,   13.24,2,    0.00,2,    0.77,2,   2.153,2,   1.247,2,   0.019,2,    0.70,4,  2155.2,2, 2356.28,2,   7.8386,2,       25,    -999,9,     -999,9,    -999,9,  15.1227,2,    -999,9,    -999,9,    -999,    -999,9,    -999,    0.34,2,   46.22,2,   16.54,2,  18.6548, -66.0000,    -999,     -999,    -999,  15.0523,  15.1227,2,-999,9,-999,-999,9,-999,    36.1982,2,-999,9,20120408,       2246
33AT20120324,        A22,      53,          1,         12,         12,2,20120408,       2215,    18.6537,   -65.9996,       1504,   452.3,  14.0693,  35.8587,2,  35.8564,2,    150.1,2,   149.5,2,    5.49,2,   15.67,2,    0.00,2,    0.94,2,   2.020,2,   1.156,2,   0.020,2,    0.49,4,    -999,9,    -999,9,     -999,9,     -999,    -999,9,     -999,9,    -999,9,  14.0671,2,    -999,9,    -999,9,    -999,    -999,9,    -999,    0.34,2,   44.93,2,   18.81,2,  18.6548, -66.0000,    -999,     -999,    -999,  14.0027,  14.0671,2,-999,9,-999,-999,9,-999,    36.0255,2,-999,9,20120408,       2244
33AT20120324,        A22,      53,          1,         11,         11,2,20120408,       2215,    18.6537,   -65.9996,       1504,   501.9,  12.7222,  35.6314,2,  35.6301,2,    140.0,2,   139.9,2,    7.40,2,   19.07,2,    0.00,2,    1.16,2,   1.793,2,   0.998,2,   0.015,2,    0.08,4,    -999,9,    -999,9,     -999,9,     -999,    -999,9,     -999,9,    -999,9,  12.7257,2,    -999,9,    -999,9,    -999,    -999,9,    -999,    0.32,2,   44.28,2,   21.28,2,  18.6547, -65.9999,    -999,     -999,    -999,  12.6529,  12.7257,2,-999,9,-999,-999,9,-999,    35.7981,2,-999,9,20120408,       2242
33AT20120324,        A22,      53,          1,         10,         10,2,20120408,       2215,    18.6537,   -65.9996,       1504,   602.1,  10.6394,  35.3061,2,  35.3043,2,    128.1,2,   128.4,2,   11.50,2,   24.14,2,    0.00,2,    1.50,2,   1.327,2,   0.710,2,   0.014,2,    0.21,4,    -999,9,    -999,9,     -999,9,     -999,    -999,9,     -999,9,    -999,9,  10.6439,2,    -999,9,    -999,9,    -999,    -999,9,    -999,    0.32,2,   43.22,2,   26.84,2,  18.6546, -65.9999,    -999,     -999,    -999,  10.5651,  10.6439,2,-999,9,-999,-999,9,-999,    35.4707,2,-999,9,20120408,       2239
33AT20120324,        A22,      53,          1,          9,          9,2,20120408,       2215,    18.6537,   -65.9996,       1504,   704.8,   8.8480,  35.0596,2,  35.0524,2,    124.9,2,   125.4,2,   15.92,2,   28.00,2,    0.00,2,    1.79,2,   0.839,2,   0.440,2,   0.009,2,    0.07,4,  2203.3,2, 2314.86,2,   7.6307,2,       25,    -999,9,     -999,9,    -999,9,   8.8406,2,    -999,9,    -999,9,    -999,    -999,9,    -999,    0.32,2,   42.93,2,   30.48,2,  18.6545, -65.9999,    -999,     -999,    -999,   8.7699,   8.8406,2,-999,9,-999,-999,9,-999,    35.2176,2,-999,9,20120408,       2237
33AT20120324,        A22,      53,          1,          8,          8,2,20120408,       2215,    18.6537,   -65.9996,       1504,   806.0,   7.6201,  34.9765,2,  34.9750,2,    137.4,2,   137.3,2,   18.54,2,   28.43,2,    0.00,2,    1.84,2,   0.579,2,   0.308,2,   0.010,2,    0.00,4,    -999,9,    -999,9,     -999,9,     -999,    -999,9,     -999,9,    -999,9,   7.6194,2,    -999,9,    -999,9,    -999,    -999,9,    -999,    0.31,2,   42.31,2,   30.89,2,  18.6544, -65.9999,    -999,     -999,    -999,   7.5376,   7.6194,2,-999,9,-999,-999,9,-999,    35.1399,2,-999,9,20120408,       2234
33AT20120324,        A22,      53,          1,          7,          7,2,20120408,       2215,    18.6537,   -65.9996,       1504,   905.2,   6.7930,  34.9855,2,  34.9882,2,    153.3,2,   157.4,2,   18.78,2,   26.79,2,    0.00,2,    1.75,2,   0.485,2,   0.256,2,   0.012,2,    0.00,4,    -999,9,    -999,9,     -999,9,     -999,    -999,9,     -999,9,    -999,9,   6.7922,2,    -999,9,    -999,9,    -999,    -999,9,    -999,    0.37,2,   41.74,2,   29.15,2,  18.6543, -65.9998,    -999,     -999,    -999,   6.7053,   6.7922,2,-999,9,-999,-999,9,-999,    35.1532,2,-999,9,20120408,       2231
33AT20120324,        A22,      53,          1,          6,          6,2,20120408,       2215,    18.6537,   -65.9996,       1504,  1007.9,   6.1531,  35.0230,2,  35.0244,2,    184.1,2,   184.3,2,   16.88,2,   23.85,2,    0.00,2,    1.56,2,   0.720,2,   0.371,2,   0.021,2,    0.09,4,  2188.0,2, 2315.69,2,   7.6774,2,       25,    -999,9,     -999,9,    -999,9,   6.1522,2,    -999,9,    -999,9,    -999,    -999,9,    -999,    0.64,2,   41.43,2,   26.59,2,  18.6542, -65.9998,    -999,     -999,    -999,   6.0595,   6.1522,2,-999,9,-999,-999,9,-999,    35.1896,2,-999,9,20120408,       2229
33AT20120324,        A22,      53,          1,          5,          5,2,20120408,       2215,    18.6537,   -65.9996,       1504,  1108.7,   5.4710,  35.0378,2,  35.0380,2,    214.4,2,   213.9,2,   14.70,2,   20.97,2,    0.00,2,    1.39,2,   1.149,2,   0.590,2,   0.042,2,    0.11,4,    -999,9,    -999,9,     -999,9,     -999,    -999,9,     -999,9,    -999,9,   5.4714,2,    -999,9,    -999,9,    -999,    -999,9,    -999,    1.07,2,   41.25,2,   23.49,2,  18.6541, -65.9998,    -999,     -999,    -999,   5.3729,   5.4714,2,-999,9,-999,-999,9,-999,    35.2032,2,-999,9,20120408,       2226
33AT20120324,        A22,      53,          1,          4,          4,2,20120408,       2215,    18.6537,   -65.9996,       1504,  1210.3,   5.0389,  35.0260,2,  35.0266,2,    228.4,2,   228.5,2,   14.01,2,   19.91,2,    0.00,2,    1.32,2,   1.329,2,   0.694,2,   0.059,2,    0.15,4,    -999,9,    -999,9,     -999,9,     -999,    -999,9,     -999,9,    -999,9,   5.0388,2,    -999,9,    -999,9,    -999,    -999,9,    -999,    1.35,2,   41.39,2,   22.36,2,  18.6540, -65.9997,    -999,     -999,    -999,   4.9349,   5.0388,2,-999,9,-999,-999,9,-999,    35.1917,2,-999,9,20120408,       2223
33AT20120324,        A22,      53,          1,          3,          3,2,20120408,       2215,    18.6537,   -65.9996,       1504,  1308.2,   4.7408,  35.0178,2,  35.0183,2,    239.3,2,   238.7,2,   13.28,2,   19.17,2,    0.00,2,    1.27,2,   1.498,2,   0.772,2,   0.069,2,    0.19,4,    -999,9,    -999,9,     -999,9,     -999,    -999,9,     -999,9,    -999,9,   4.7405,2,    -999,9,    -999,9,    -999,    -999,9,    -999,    1.53,2,   41.44,2,   21.79,2,  18.6539, -65.9997,    -999,     -999,    -999,   4.6304,   4.7405,2,-999,9,-999,-999,9,-999,    35.1834,2,-999,9,20120408,       2221
33AT20120324,        A22,      53,          1,          2,          2,2,20120408,       2215,    18.6537,   -65.9996,       1504,  1411.9,   4.5790,  35.0110,2,  35.0116,2,    243.5,2,   244.0,2,   13.12,2,   18.85,2,    0.00,2,    1.25,2,   1.559,2,   0.801,2,   0.076,2,    0.36,4,  2167.1,2, 2313.76,6,   7.7218,6,       25,    -999,9,     -999,9,    -999,9,   4.5814,2,    -999,9,    -999,9,    -999,    -999,9,    -999,    1.68,2,   41.36,2,   21.31,2,  18.6538, -65.9996,    -999,     -999,    -999,   4.4605,   4.5814,2,-999,9,-999,-999,9,-999,    35.1767,2,-999,9,20120408,       2218
33AT20120324,        A22,      53,          1,          1,          1,2,20120408,       2215,    18.6537,   -65.9996,       1504,  1502.3,   4.3496,  35.0005,2,  35.0016,2,    250.5,2,   250.3,2,   12.95,2,   18.46,2,    0.00,2,    1.22,2,   1.606,2,   0.819,2,   0.081,2,    0.26,4,  2164.5,2, 2312.63,2,   7.7254,2,       25,    -999,9,     -999,9,    -999,9,   4.3484,2,    -999,9,    -999,9,    -999,    -999,9,    -999,    1.81,2,   41.54,2,   20.80,2,  18.6537, -65.9996,    -999,     -999,    -999,   4.2251,   4.3484,2,-999,9,-999,-999,9,-999,    35.1666,2,-999,9,20120408,       2215