BOTTLE,20220725CCHSIOCBG
EXPOCODE,SECT_ID,STNNBR,CASTNO,SAMPNO,BTLNBR,BTLNBR_FLAG_W,DATE,TIME,LATITUDE,LONGITUDE,DEPTH,CTDPRS,CTDTMP,CTDSAL,CTDSAL_FLAG_W,SALNTY,SALNTY_FLAG_W,CTDOXY,CTDOXY_FLAG_W,OXYGEN,OXYGEN_FLAG_W,SILCAT,SILCAT_FLAG_W,NITRAT,NITRAT_FLAG_W,NITRIT,NITRIT_FLAG_W,PHSPHT,PHSPHT_FLAG_W,CFC-11,CFC-11_FLAG_W,CFC-12,CFC-12_FLAG_W,CFC113,CFC113_FLAG_W,SF6,SF6_FLAG_W,TCARBN,TCARBN_FLAG_W,ALKALI,ALKALI_FLAG_W,PH_TOT,PH_TOT_FLAG_W,PH_TMP,TRITUM,TRITUM_FLAG_W,HELIUM,HELIUM_FLAG_W,DELHE3,DELHE3_FLAG_W,REFTMP,REFTMP_FLAG_W,DELC13,DELC13_FLAG_W,DELC14,DELC14_FLAG_W,C14ERR,NEON,NEON_FLAG_W,NEONER,CCL4,CCL4_FLAG_W,DOC,DOC_FLAG_W,TDN,TDN_FLAG_W,BTL_LAT,BTL_LON,TRITER,HELIER,DELHER,THETA,SBE35,SBE35_FLAG_W,14C-DOC,14C-DOC_FLAG_W,14C-DOCERR,13C-DOC,13C-DOC_FLAG_W,13C-DOCERR,SALTREF,SALTREF_FLAG_W,LAB_DEN,LAB_DEN_FLAG_W,BTL_DATE,BTL_TIME
,,,,,,,,,,,METERS,DBAR,ITS-90,PSS-78,,PSS-78,,UMOL/KG,,UMOL/KG,,UMOL/KG,,UMOL/KG,,UMOL/KG,,UMOL/KG,,PMOL/KG,,PMOL/KG,,PMOL/KG,,FMOL/KG,,UMOL/KG,,UMOL/KG,,,,DEG C,TU,,NMOL/KG,,PERCNT,,DEG C,,/MILLE,,/MILLE,,/MILLE,NMOL/KG,,NMOL/KG,PMOL/KG,,UMOL/KG,,UMOL/KG,,,,TU,NMOL/KG,PERCNT,DEG C,ITS-90,,/MILLE,,/MILLE,/MILLE,,/MILLE,G/KG,,KG/M^3,,,
33AT20120324,        A22,      17,          1,          5,          5,2,20120329,       1757,    36.5496,   -67.7568,       4946,  3960.9,   2.3181,  34.8948,2,  34.8989,4,    267.4,2,   267.4,2,   28.34,2,   18.33,2,    0.00,2,    1.25,2,   0.887,2,   0.474,2,   0.056,2,    -999,5,    -999,9,    -999,9,     -999,9,     -999,    -999,9,     -999,9,    -999,9,   2.3180,2,    -999,9,    -999,9,    -999,    -999,9,    -999,    0.88,2,   43.11,2,   21.78,2,  36.5444, -67.7615,    -999,     -999,    -999,   1.9793,   2.3180,2,-999,9,-999,-999,9,-999,    35.0634,4,-999,9,20120329,       1823
33AT20120324,        A22,      17,          1,          4,          4,2,20120329,       1757,    36.5496,   -67.7568,       4946,  4267.7,   2.2667,  34.8883,2,  34.8879,2,    265.4,2,   265.1,2,   31.50,2,   18.75,2,    0.00,2,    1.28,2,   0.836,2,   0.445,2,   0.059,2,    -999,5,  2175.9,2, 2327.78,2,   7.7407,2,       25,    -999,9,     -999,9,    -999,9,   2.2667,2,    -999,9,    -999,9,    -999,    -999,9,    -999,    0.82,2,   42.56,2,   22.57,2,  36.5457, -67.7602,    -999,     -999,    -999,   1.8941,   2.2667,2,-999,9,-999,-999,9,-999,    35.0524,2,-999,9,20120329,       1817
33AT20120324,        A22,      17,          1,          3,          3,2,20120329,       1757,    36.5496,   -67.7568,       4946,  4576.9,   2.2599,  34.8838,2,  34.8837,2,    263.6,2,   263.2,2,   34.00,2,   19.19,2,    0.00,2,    1.31,2,   0.731,2,   0.389,2,   0.052,2,    -999,5,    -999,9,    -999,9,     -999,9,     -999,    -999,9,     -999,9,    -999,9,   2.2597,2,    -999,9,    -999,9,    -999,    -999,9,    -999,    0.70,2,   42.35,2,   22.58,2,  36.5470, -67.7591,    -999,     -999,    -999,   1.8507,   2.2597,2,-999,9,-999,-999,9,-999,    35.0482,2,-999,9,20120329,       1810
33AT20120324,        A22,      17,          1,          2,          2,2,20120329,       1757,    36.5496,   -67.7568,       4946,  4841.4,   2.2642,  34.8807,2,  34.8814,2,    262.0,2,   262.3,2,   35.92,2,   19.47,2,    0.00,2,    1.33,2,   0.651,2,   0.358,2,   0.046,2,    -999,5,  2181.8,2, 2335.91,2,   7.7347,2,       25,    -999,9,     -999,9,    -999,9,   2.2638,2,    -999,9,    -999,9,    -999,    -999,9,    -999,    0.65,2,   42.03,2,   22.65,2,  36.5483, -67.7579,    -999,     -999,    -999,   1.8225,   2.2638,2,-999,9,-999,-999,9,-999,    35.0458,2,-999,9,20120329,       1804
33AT20120324,        A22,      17,          1,          1,          1,2,20120329,       1757,    36.5496,   -67.7568,       4946,  5033.2,   2.2725,  34.8787,2,  34.8796,2,    260.1,2,   260.3,2,   37.26,2,   19.66,2,    0.00,2,    1.35,2,   0.591,2,   0.321,2,   0.042,2,    -999,5,  2184.8,6, 2337.79,2,   7.7349,6,       25,    -999,9,     -999,9,    -999,9,   2.2721,2,    -999,9,    -999,9,    -999,    -999,9,    -999,    0.62,2,   42.38,2,   22.60,2,  36.5494, -67.7570,    -999,     -999,    -999,   1.8065,   2.2721,2,-999,9,-999,-999,9,-999,    35.0441,2,-999,9,20120329,       1759