BOTTLE,20220725CCHSIOCBG
EXPOCODE,SECT_ID,STNNBR,CASTNO,SAMPNO,BTLNBR,BTLNBR_FLAG_W,DATE,TIME,LATITUDE,LONGITUDE,DEPTH,CTDPRS,CTDTMP,CTDSAL,CTDSAL_FLAG_W,SALNTY,SALNTY_FLAG_W,CTDOXY,CTDOXY_FLAG_W,OXYGEN,OXYGEN_FLAG_W,SILCAT,SILCAT_FLAG_W,NITRAT,NITRAT_FLAG_W,NITRIT,NITRIT_FLAG_W,PHSPHT,PHSPHT_FLAG_W,CFC-11,CFC-11_FLAG_W,CFC-12,CFC-12_FLAG_W,CFC113,CFC113_FLAG_W,SF6,SF6_FLAG_W,TCARBN,TCARBN_FLAG_W,ALKALI,ALKALI_FLAG_W,PH_TOT,PH_TOT_FLAG_W,PH_TMP,TRITUM,TRITUM_FLAG_W,HELIUM,HELIUM_FLAG_W,DELHE3,DELHE3_FLAG_W,REFTMP,REFTMP_FLAG_W,DELC13,DELC13_FLAG_W,DELC14,DELC14_FLAG_W,C14ERR,NEON,NEON_FLAG_W,NEONER,CCL4,CCL4_FLAG_W,DOC,DOC_FLAG_W,TDN,TDN_FLAG_W,BTL_LAT,BTL_LON,TRITER,HELIER,DELHER,THETA,SBE35,SBE35_FLAG_W,14C-DOC,14C-DOC_FLAG_W,14C-DOCERR,13C-DOC,13C-DOC_FLAG_W,13C-DOCERR,SALTREF,SALTREF_FLAG_W,LAB_DEN,LAB_DEN_FLAG_W,BTL_DATE,BTL_TIME
,,,,,,,,,,,METERS,DBAR,ITS-90,PSS-78,,PSS-78,,UMOL/KG,,UMOL/KG,,UMOL/KG,,UMOL/KG,,UMOL/KG,,UMOL/KG,,PMOL/KG,,PMOL/KG,,PMOL/KG,,FMOL/KG,,UMOL/KG,,UMOL/KG,,,,DEG C,TU,,NMOL/KG,,PERCNT,,DEG C,,/MILLE,,/MILLE,,/MILLE,NMOL/KG,,NMOL/KG,PMOL/KG,,UMOL/KG,,UMOL/KG,,,,TU,NMOL/KG,PERCNT,DEG C,ITS-90,,/MILLE,,/MILLE,/MILLE,,/MILLE,G/KG,,KG/M^3,,,
33AT20120324,        A22,      33,          1,          5,          5,2,20120403,       1154,    27.8159,   -65.5239,       5270,  4367.8,   2.2866,  34.8907,2,  34.8900,2,    265.0,2,   264.5,2,   31.71,2,   18.80,2,    0.00,2,    1.29,2,   0.568,2,   0.305,2,   0.033,2,    0.00,4,  2173.7,2, 2328.38,2,   7.7383,2,       25,    -999,9,     -999,9,    -999,9,   2.2870,2,    1.02,2,   -81.1,2,     3.4,    -999,9,    -999,    0.83,2,   42.57,2,   22.72,2,  27.8155, -65.5244,    -999,     -999,    -999,   1.9016,   2.2870,2,-999,9,-999,-999,9,-999,    35.0545,2,-999,9,20120403,       1215
33AT20120324,        A22,      33,          1,          4,          4,2,20120403,       1154,    27.8159,   -65.5239,       5270,  4677.2,   2.2261,  34.8798,2,  34.8796,2,    260.7,2,   260.2,2,   37.64,2,   19.72,2,    0.00,2,    1.36,2,   0.390,2,   0.212,2,   0.027,2,    0.08,4,    -999,9,    -999,9,     -999,9,     -999,    -999,9,     -999,9,    -999,9,   2.2259,2,    -999,9,    -999,9,    -999,    -999,9,    -999,    0.64,2,   42.31,2,   22.84,2,  27.8156, -65.5243,    -999,     -999,    -999,   1.8059,   2.2259,2,-999,9,-999,-999,9,-999,    35.0441,2,-999,9,20120403,       1209
33AT20120324,        A22,      33,          1,          3,          3,2,20120403,       1154,    27.8159,   -65.5239,       5270,  4984.8,   2.1969,  34.8720,2,  34.8719,2,    256.3,2,   257.0,2,   42.30,2,   20.59,2,    0.00,2,    1.42,2,   0.271,2,   0.154,2,   0.020,2,    0.00,4,  2186.7,2, 2338.63,2,   7.7306,2,       25,    -999,9,     -999,9,    -999,9,   2.1972,2,    0.95,2,  -100.9,2,     2.5,    -999,9,    -999,    0.48,2,   42.55,2,   23.42,2,  27.8158, -65.5241,    -999,     -999,    -999,   1.7396,   2.1972,2,-999,9,-999,-999,9,-999,    35.0364,2,-999,9,20120403,       1203
33AT20120324,        A22,      33,          1,          2,          2,2,20120403,       1154,    27.8159,   -65.5239,       5270,  5169.7,   2.1860,  34.8674,2,  34.8684,2,    256.1,2,   256.2,2,   44.58,2,   20.95,2,    0.00,2,    1.43,2,   0.230,2,   0.133,2,   0.017,2,    0.00,4,  2188.9,2, 2339.83,2,   7.7257,6,       25,    -999,9,     -999,9,    -999,9,   2.1856,2,    0.99,2,  -104.1,2,     2.8,    -999,9,    -999,    0.45,2,   42.23,2,   23.66,2,  27.8158, -65.5241,    -999,     -999,    -999,   1.7057,   2.1856,2,-999,9,-999,-999,9,-999,    35.0328,2,-999,9,20120403,       1159
33AT20120324,        A22,      33,          1,          1,          1,2,20120403,       1154,    27.8159,   -65.5239,       5270,  5341.1,   2.1138,  34.8553,2,  34.8558,2,    251.2,2,   251.5,2,   50.83,2,   22.04,2,    0.00,2,    1.50,2,   0.142,2,   0.086,2,   0.015,2,    0.00,4,  2197.5,6, 2343.95,6,   7.7221,2,       25,    -999,9,     -999,9,    -999,9,   2.1129,2,    0.93,6,  -108.2,6,     2.1,    -999,9,    -999,    0.39,2,   42.08,2,   24.78,2,  27.8159, -65.5239,    -999,     -999,    -999,   1.6141,   2.1129,2,-999,9,-999,-999,9,-999,    35.0201,2,-999,9,20120403,       1155