BOTTLE,20220725CCHSIOCBG
EXPOCODE,SECT_ID,STNNBR,CASTNO,SAMPNO,BTLNBR,BTLNBR_FLAG_W,DATE,TIME,LATITUDE,LONGITUDE,DEPTH,CTDPRS,CTDTMP,CTDSAL,CTDSAL_FLAG_W,SALNTY,SALNTY_FLAG_W,CTDOXY,CTDOXY_FLAG_W,OXYGEN,OXYGEN_FLAG_W,SILCAT,SILCAT_FLAG_W,NITRAT,NITRAT_FLAG_W,NITRIT,NITRIT_FLAG_W,PHSPHT,PHSPHT_FLAG_W,CFC-11,CFC-11_FLAG_W,CFC-12,CFC-12_FLAG_W,CFC113,CFC113_FLAG_W,SF6,SF6_FLAG_W,TCARBN,TCARBN_FLAG_W,ALKALI,ALKALI_FLAG_W,PH_TOT,PH_TOT_FLAG_W,PH_TMP,TRITUM,TRITUM_FLAG_W,HELIUM,HELIUM_FLAG_W,DELHE3,DELHE3_FLAG_W,REFTMP,REFTMP_FLAG_W,DELC13,DELC13_FLAG_W,DELC14,DELC14_FLAG_W,C14ERR,NEON,NEON_FLAG_W,NEONER,CCL4,CCL4_FLAG_W,DOC,DOC_FLAG_W,TDN,TDN_FLAG_W,BTL_LAT,BTL_LON,TRITER,HELIER,DELHER,THETA,SBE35,SBE35_FLAG_W,14C-DOC,14C-DOC_FLAG_W,14C-DOCERR,13C-DOC,13C-DOC_FLAG_W,13C-DOCERR,SALTREF,SALTREF_FLAG_W,LAB_DEN,LAB_DEN_FLAG_W,BTL_DATE,BTL_TIME
,,,,,,,,,,,METERS,DBAR,ITS-90,PSS-78,,PSS-78,,UMOL/KG,,UMOL/KG,,UMOL/KG,,UMOL/KG,,UMOL/KG,,UMOL/KG,,PMOL/KG,,PMOL/KG,,PMOL/KG,,FMOL/KG,,UMOL/KG,,UMOL/KG,,,,DEG C,TU,,NMOL/KG,,PERCNT,,DEG C,,/MILLE,,/MILLE,,/MILLE,NMOL/KG,,NMOL/KG,PMOL/KG,,UMOL/KG,,UMOL/KG,,,,TU,NMOL/KG,PERCNT,DEG C,ITS-90,,/MILLE,,/MILLE,/MILLE,,/MILLE,G/KG,,KG/M^3,,,
33AT20120324,        A22,      63,          1,         36,         36,2,20120410,       1159,    17.3623,   -65.9960,       4566,     3.6,  27.0245,  35.7349,2,  35.7347,2,    202.8,2,   202.2,2,    1.68,2,    0.00,2,    0.00,2,    0.00,2,   1.553,2,   1.004,2,   0.123,2,    0.97,4,  1996.4,6, 2347.54,2,   8.1096,2,       25,    -999,9,     -999,9,    -999,9,  27.0257,2,    -999,9,    -999,9,    -999,    -999,9,    -999,    1.54,2,   76.99,2,    4.66,2,  17.3641, -65.9963,    -999,     -999,    -999,  27.0237,  27.0257,2,-999,9,-999,-999,9,-999,    35.9032,2,-999,9,20120410,       1349
33AT20120324,        A22,      63,          1,         35,         35,2,20120410,       1159,    17.3623,   -65.9960,       4566,    35.6,  26.6752,  36.1035,2,  36.1092,2,    209.9,2,   205.4,2,    1.18,2,    0.00,2,    0.00,2,    0.00,2,   1.582,2,   1.038,2,   0.119,2,    0.85,4,    -999,9,    -999,9,     -999,9,     -999,    -999,9,     -999,9,    -999,9,  26.6750,2,    -999,9,    -999,9,    -999,    -999,9,    -999,    1.39,2,   76.54,2,    4.46,2,  17.3641, -65.9963,    -999,     -999,    -999,  26.6671,  26.6750,2,-999,9,-999,-999,9,-999,    36.2795,2,-999,9,20120410,       1347
33AT20120324,        A22,      63,          1,         34,         34,2,20120410,       1159,    17.3623,   -65.9960,       4566,    60.7,  26.3921,  36.2377,2,  36.2412,2,    204.7,2,   202.4,2,    1.10,2,    0.00,2,    0.00,2,    0.00,2,   1.571,2,   1.050,2,   0.122,2,    0.92,4,  2020.0,2, 2374.85,6,   8.1089,6,       25,    -999,9,     -999,9,    -999,9,  26.3919,2,    -999,9,    -999,9,    -999,    -999,9,    -999,    1.22,2,   77.45,2,    3.70,2,  17.3641, -65.9963,    -999,     -999,    -999,  26.3784,  26.3919,2,-999,9,-999,-999,9,-999,    36.4121,2,-999,9,20120410,       1345
33AT20120324,        A22,      63,          1,         33,         33,2,20120410,       1159,    17.3623,   -65.9960,       4566,    85.6,  26.1756,  36.4937,2,  36.4961,2,    200.4,2,   198.1,2,    0.90,2,    0.00,2,    0.00,2,    0.00,2,   1.625,2,   1.067,2,   0.119,2,    0.91,4,    -999,9,    -999,9,     -999,9,     -999,    -999,9,     -999,9,    -999,9,  26.1739,2,    -999,9,    -999,9,    -999,    -999,9,    -999,    0.94,2,   73.26,2,    4.25,2,  17.3641, -65.9963,    -999,     -999,    -999,  26.1563,  26.1739,2,-999,9,-999,-999,9,-999,    36.6682,2,-999,9,20120410,       1343
33AT20120324,        A22,      63,          1,         32,         32,2,20120410,       1159,    17.3623,   -65.9960,       4566,   111.9,  25.3596,  36.8316,2,  36.8433,2,    186.9,2,   183.9,2,    0.73,2,    0.48,2,    0.11,2,    0.02,2,   1.682,2,   1.090,2,   0.113,2,    0.73,4,  2083.0,2, 2411.14,2,   8.0611,2,       25,    -999,9,     -999,9,    -999,9,  25.3567,2,    -999,9,    -999,9,    -999,    -999,9,    -999,    0.66,2,   67.67,2,    4.63,2,  17.3641, -65.9963,    -999,     -999,    -999,  25.3349,  25.3567,2,-999,9,-999,-999,9,-999,    37.0170,2,-999,9,20120410,       1341
33AT20120324,        A22,      63,          1,         31,         31,2,20120410,       1159,    17.3623,   -65.9960,       4566,   135.8,  23.8978,  37.1083,2,  37.1110,2,    169.2,2,   170.5,2,    0.75,2,    1.69,2,    0.05,2,    0.07,2,   1.766,2,   1.158,2,   0.098,2,    0.72,4,    -999,9,    -999,9,     -999,9,     -999,    -999,9,     -999,9,    -999,9,  23.8838,2,    -999,9,    -999,9,    -999,    -999,9,    -999,    0.39,2,   62.39,2,    6.27,2,  17.3641, -65.9962,    -999,     -999,    -999,  23.8690,  23.8838,2,-999,9,-999,-999,9,-999,    37.2860,2,-999,9,20120410,       1340
33AT20120324,        A22,      63,          1,         30,         30,2,20120410,       1159,    17.3623,   -65.9960,       4566,   165.5,  22.0559,  37.0097,2,  37.0059,2,    159.3,2,   160.7,2,    1.00,2,    3.30,2,    0.02,2,    0.15,2,   1.879,2,   1.223,2,   0.058,2,    0.97,4,  2136.6,2, 2416.77,2,   7.9752,2,       25,    -999,9,     -999,9,    -999,9,  22.0532,2,    -999,9,    -999,9,    -999,    -999,9,    -999,    0.22,2,   55.47,2,    7.56,2,  17.3642, -65.9962,    -999,     -999,    -999,  22.0228,  22.0532,2,-999,9,-999,-999,9,-999,    37.1804,2,-999,9,20120410,       1338
33AT20120324,        A22,      63,          1,         29,         29,2,20120410,       1159,    17.3623,   -65.9960,       4566,   215.6,  18.9863,  36.6034,2,  36.6237,2,    153.9,2,   152.4,2,    2.18,2,    7.63,2,    0.01,2,    0.40,2,   2.042,2,   1.273,2,   0.017,2,    0.67,4,  2152.2,2, 2393.24,2,   7.9098,2,       25,    -999,9,     -999,9,    -999,9,  18.9993,2,    -999,9,    -999,9,    -999,    -999,9,    -999,    0.20,2,   50.38,2,   10.82,2,  17.3642, -65.9962,    -999,     -999,    -999,  18.9475,  18.9993,2,-999,9,-999,-999,9,-999,    36.7964,2,-999,9,20120410,       1336
33AT20120324,        A22,      63,          1,         28,         28,2,20120410,       1159,    17.3623,   -65.9960,       4566,   266.7,  17.4941,  36.4053,2,  36.3856,2,    161.1,2,   163.1,2,    2.65,2,    9.16,2,    0.01,2,    0.50,2,   2.159,2,   1.331,2,   0.012,2,    1.19,4,  2149.0,2, 2378.52,2,   7.8956,2,       25,    -999,9,     -999,9,    -999,9,  17.4683,2,    -999,9,    -999,9,    -999,    -999,9,    -999,    0.29,2,   46.54,2,   13.01,2,  17.3642, -65.9962,    -999,     -999,    -999,  17.4487,  17.4683,2,-999,9,-999,-999,9,-999,    36.5571,2,-999,9,20120410,       1334
33AT20120324,        A22,      63,          1,         27,         27,2,20120410,       1159,    17.3623,   -65.9960,       4566,   310.6,  15.8878,  36.1156,2,  36.1154,2,    149.9,2,   151.9,2,    4.18,2,   12.69,2,    0.01,2,    0.74,2,   2.099,2,   1.274,2,   0.015,2,    0.62,4,    -999,9,    -999,9,     -999,9,     -999,    -999,9,     -999,9,    -999,9,  15.8983,2,    -999,9,    -999,9,    -999,    -999,9,    -999,    0.28,2,   44.99,2,   15.88,2,  17.3642, -65.9962,    -999,     -999,    -999,  15.8383,  15.8983,2,-999,9,-999,-999,9,-999,    36.2857,2,-999,9,20120410,       1333
33AT20120324,        A22,      63,          1,         26,         26,2,20120410,       1159,    17.3623,   -65.9960,       4566,   366.1,  14.2753,  35.8156,2,  35.8078,2,    138.5,2,   139.7,2,    6.23,2,   16.70,2,    0.00,2,    1.00,2,   2.014,2,   1.175,2,   0.016,2,    0.53,4,  2172.8,2, 2347.81,2,   7.7862,2,       25,    -999,9,     -999,9,    -999,9,  14.2722,2,    -999,9,    -999,9,    -999,    -999,9,    -999,    0.30,2,   43.93,2,   19.77,2,  17.3642, -65.9962,    -999,     -999,    -999,  14.2210,  14.2722,2,-999,9,-999,-999,9,-999,    35.9767,2,-999,9,20120410,       1331
33AT20120324,        A22,      63,          1,         25,         25,2,20120410,       1159,    17.3623,   -65.9960,       4566,   415.1,  12.8868,  35.5760,2,  35.5690,2,    131.8,2,   131.9,2,    8.22,2,   19.88,2,    0.00,2,    1.23,2,   1.885,2,   1.062,2,   0.020,2,    0.57,4,    -999,9,    -999,9,     -999,9,     -999,    -999,9,     -999,9,    -999,9,  12.8874,2,    -999,9,    -999,9,    -999,    -999,9,    -999,    0.31,2,   44.54,2,   23.09,2,  17.3642, -65.9962,    -999,     -999,    -999,  12.8293,  12.8874,2,-999,9,-999,-999,9,-999,    35.7367,2,-999,9,20120410,       1329
33AT20120324,        A22,      63,          1,         24,         24,2,20120410,       1159,    17.3623,   -65.9960,       4566,   468.2,  11.5243,  35.3686,2,  35.3635,2,    126.3,2,   125.4,2,   10.58,2,   23.00,2,    0.00,2,    1.43,2,   1.606,2,   0.897,2,   0.019,2,    0.21,4,  2191.9,2, 2326.68,2,   7.6932,2,       25,    -999,9,     -999,9,    -999,9,  11.5211,2,    -999,9,    -999,9,    -999,    -999,9,    -999,    0.30,2,   44.88,2,   26.62,2,  17.3642, -65.9962,    -999,     -999,    -999,  11.4639,  11.5211,2,-999,9,-999,-999,9,-999,    35.5302,2,-999,9,20120410,       1328
33AT20120324,        A22,      63,          1,         23,         23,2,20120410,       1159,    17.3623,   -65.9960,       4566,   538.6,  10.0433,  35.1640,2,  35.1516,2,    124.9,2,   123.4,2,   13.53,2,   26.14,2,    0.00,2,    1.66,2,   1.279,2,   0.696,2,   0.015,2,    0.37,4,  2198.7,6, 2318.28,2,   7.6501,2,       25,    -999,9,     -999,9,    -999,9,  10.0406,2,    -999,9,    -999,9,    -999,    -999,9,    -999,    0.33,2,   43.92,2,   29.59,2,  17.3642, -65.9962,    -999,     -999,    -999,   9.9794,  10.0406,2,-999,9,-999,-999,9,-999,    35.3174,2,-999,9,20120410,       1326
33AT20120324,        A22,      63,          1,         22,         22,2,20120410,       1159,    17.3623,   -65.9960,       4566,   639.1,   8.7037,  35.0079,2,  35.0056,2,    125.8,2,   125.2,2,   16.96,2,   28.37,2,    0.00,2,    1.82,2,   0.902,2,   0.475,2,   0.009,2,    0.17,4,  2204.8,2, 2313.89,2,   7.6227,6,       25,    -999,9,     -999,9,    -999,9,   8.7027,2,    -999,9,    -999,9,    -999,    -999,9,    -999,    0.29,2,   44.23,2,   31.93,2,  17.3643, -65.9962,    -999,     -999,    -999,   8.6339,   8.7027,2,-999,9,-999,-999,9,-999,    35.1706,2,-999,9,20120410,       1323
33AT20120324,        A22,      63,          1,         21,         21,2,20120410,       1159,    17.3623,   -65.9960,       4566,   740.0,   7.3237,  34.8608,2,  34.8649,2,    130.5,2,   128.8,2,   20.77,2,   30.45,2,    0.00,2,    1.98,2,   0.529,2,   0.287,2,   0.005,2,    0.12,4,  2211.2,2, 2309.02,2,   7.5968,6,       25,    -999,9,     -999,9,    -999,9,   7.3225,2,    -999,9,    -999,9,    -999,    -999,9,    -999,    0.24,2,   44.16,2,   33.29,2,  17.3643, -65.9962,    -999,     -999,    -999,   7.2500,   7.3225,2,-999,9,-999,-999,9,-999,    35.0293,2,-999,9,20120410,       1321
33AT20120324,        A22,      63,          1,         20,         20,2,20120410,       1159,    17.3623,   -65.9960,       4566,   840.5,   6.1896,  34.7798,2,  34.7868,2,    137.7,2,   138.3,2,   23.85,2,   31.08,2,    0.00,2,    2.05,2,   0.266,2,   0.149,2,   0.004,2,    0.18,4,  2214.5,2, 2309.04,2,   7.5871,2,       25,    -999,9,     -999,9,    -999,9,   6.1891,2,    -999,9,    -999,9,    -999,    -999,9,    -999,    0.21,2,   43.67,2,   34.55,2,  17.3643, -65.9962,    -999,     -999,    -999,   6.1126,   6.1891,2,-999,9,-999,-999,9,-999,    34.9509,2,-999,9,20120410,       1318
33AT20120324,        A22,      63,          1,         19,         19,2,20120410,       1159,    17.3623,   -65.9960,       4566,   941.8,   5.9357,  34.9043,2,  34.9049,2,    159.8,2,   161.2,2,   22.78,2,   27.48,2,    0.00,2,    1.82,2,   0.266,2,   0.147,2,   0.007,2,    0.00,4,  2204.2,2, 2318.03,2,   7.6356,2,       25,    -999,9,     -999,9,    -999,9,   5.9346,2,    -999,9,    -999,9,    -999,    -999,9,    -999,    0.24,2,   43.42,2,   31.11,2,  17.3642, -65.9962,    -999,     -999,    -999,   5.8504,   5.9346,2,-999,9,-999,-999,9,-999,    35.0694,2,-999,9,20120410,       1316
33AT20120324,        A22,      63,          1,         18,         18,2,20120410,       1159,    17.3623,   -65.9960,       4566,  1043.3,   5.3437,  34.9429,2,  34.9424,2,    178.0,2,   181.0,2,   23.40,2,   25.35,2,    0.00,2,    1.69,2,   0.213,2,   0.118,2,   0.004,2,    0.00,4,  2199.8,2, 2323.36,2,   7.6635,2,       25,    -999,9,     -999,9,    -999,9,   5.3435,2,    -999,9,    -999,9,    -999,    -999,9,    -999,    0.21,2,   42.66,2,   28.23,2,  17.3642, -65.9962,    -999,     -999,    -999,   5.2530,   5.3435,2,-999,9,-999,-999,9,-999,    35.1072,2,-999,9,20120410,       1313
33AT20120324,        A22,      63,          1,         17,         17,2,20120410,       1159,    17.3623,   -65.9960,       4566,  1142.8,   4.8614,  34.9532,2,  34.9544,2,    193.0,2,   193.9,2,   23.78,2,   24.19,2,    0.00,2,    1.63,2,   0.162,2,   0.092,2,   0.004,2,    0.00,4,    -999,9,    -999,9,     -999,9,     -999,    -999,9,     -999,9,    -999,9,   4.8610,2,    -999,9,    -999,9,    -999,    -999,9,    -999,    0.22,2,   42.22,2,   26.48,2,  17.3642, -65.9962,    -999,     -999,    -999,   4.7654,   4.8610,2,-999,9,-999,-999,9,-999,    35.1193,2,-999,9,20120410,       1311
33AT20120324,        A22,      63,          1,         16,         16,2,20120410,       1159,    17.3623,   -65.9960,       4566,  1244.2,   4.6237,  34.9614,2,  34.9615,2,    201.4,2,   201.1,2,   24.12,2,   23.45,2,    0.00,2,    1.58,2,   0.135,2,   0.081,2,   0.004,2,    0.00,4,  2194.8,2, 2327.78,2,   7.6873,2,       25,    -999,9,     -999,9,    -999,9,   4.6235,2,    -999,9,    -999,9,    -999,    -999,9,    -999,    0.22,2,   41.67,2,   26.02,2,  17.3642, -65.9962,    -999,     -999,    -999,   4.5205,   4.6235,2,-999,9,-999,-999,9,-999,    35.1264,2,-999,9,20120410,       1309
33AT20120324,        A22,      63,          1,         15,         15,2,20120410,       1159,    17.3623,   -65.9960,       4566,  1346.2,   4.4745,  34.9665,2,  34.9672,2,    206.8,2,   205.6,2,   24.49,2,   22.98,2,    0.00,2,    1.55,2,   0.127,2,   0.075,2,   0.004,2,    0.00,4,    -999,9,    -999,9,     -999,9,     -999,    -999,9,     -999,9,    -999,9,   4.4745,2,    -999,9,    -999,9,    -999,    -999,9,    -999,    0.21,2,   41.16,2,   25.66,2,  17.3643, -65.9962,    -999,     -999,    -999,   4.3633,   4.4745,2,-999,9,-999,-999,9,-999,    35.1321,2,-999,9,20120410,       1306
33AT20120324,        A22,      63,          1,         14,         14,2,20120410,       1159,    17.3623,   -65.9960,       4566,  1446.8,   4.3741,  34.9683,2,  34.9688,2,    208.8,2,   206.9,2,   25.29,2,   22.80,2,    0.00,2,    1.54,2,   0.116,2,   0.072,2,   0.004,2,    0.00,4,  2193.4,2, 2330.79,2,   7.6955,2,       25,    -999,9,     -999,9,    -999,9,   4.3742,2,    -999,9,    -999,9,    -999,    -999,9,    -999,    0.18,2,   41.45,2,   25.02,2,  17.3644, -65.9961,    -999,     -999,    -999,   4.2546,   4.3742,2,-999,9,-999,-999,9,-999,    35.1337,2,-999,9,20120410,       1304
33AT20120324,        A22,      63,          1,         13,         13,2,20120410,       1159,    17.3623,   -65.9960,       4566,  1548.5,   4.3034,  34.9706,2,  34.9710,2,    210.6,2,   210.5,2,   25.32,2,   22.51,2,    0.00,2,    1.52,2,   0.146,2,   0.087,2,   0.006,2,    0.00,4,    -999,9,    -999,9,     -999,9,     -999,    -999,9,     -999,9,    -999,9,   4.3034,2,    -999,9,    -999,9,    -999,    -999,9,    -999,    0.22,2,   40.98,2,   24.77,2,  17.3646, -65.9959,    -999,     -999,    -999,   4.1752,   4.3034,2,-999,9,-999,-999,9,-999,    35.1359,2,-999,9,20120410,       1301
33AT20120324,        A22,      63,          1,         12,         12,2,20120410,       1159,    17.3623,   -65.9960,       4566,  1677.7,   4.2225,  34.9722,2,  34.9723,2,    213.8,2,   213.5,2,   25.51,2,   22.13,2,    0.00,2,    1.50,2,   0.178,2,   0.102,2,   0.007,2,    0.00,4,  2191.5,2, 2332.22,2,   7.7024,2,       25,    -999,9,     -999,9,    -999,9,   4.2226,2,    -999,9,    -999,9,    -999,    -999,9,    -999,    0.25,2,   41.34,2,   24.27,2,  17.3648, -65.9958,    -999,     -999,    -999,   4.0831,   4.2226,2,-999,9,-999,-999,9,-999,    35.1373,2,-999,9,20120410,       1258
33AT20120324,        A22,      63,          1,         11,         11,2,20120410,       1159,    17.3623,   -65.9960,       4566,  1883.3,   4.1530,  34.9733,2,  34.9739,2,    213.1,2,   214.0,2,   26.88,2,   22.14,2,    0.00,2,    1.50,2,   0.090,2,   0.060,2,   0.003,2,    0.00,4,  2194.6,2, 2335.14,2,   7.7052,2,       25,    -999,9,     -999,9,    -999,9,   4.1531,2,    -999,9,    -999,9,    -999,    -999,9,    -999,    0.15,2,   41.56,2,   24.54,2,  17.3650, -65.9956,    -999,     -999,    -999,   3.9947,   4.1531,2,-999,9,-999,-999,9,-999,    35.1388,2,-999,9,20120410,       1254
33AT20120324,        A22,      63,          1,         10,         10,2,20120410,       1159,    17.3623,   -65.9960,       4566,  2105.3,   4.1287,  34.9739,2,  34.9743,2,    214.0,2,   214.1,2,   27.32,2,   22.13,2,    0.00,2,    1.49,2,   0.076,2,   0.049,2,   0.003,2,    0.00,4,  2193.7,2, 2336.37,2,   7.7075,2,       25,    -999,9,     -999,9,    -999,9,   4.1283,2,    -999,9,    -999,9,    -999,    -999,9,    -999,    0.12,2,   40.96,2,   24.81,2,  17.3651, -65.9955,    -999,     -999,    -999,   3.9487,   4.1283,2,-999,9,-999,-999,9,-999,    35.1392,2,-999,9,20120410,       1249
33AT20120324,        A22,      63,          1,          9,          9,2,20120410,       1159,    17.3623,   -65.9960,       4566,  2357.5,   4.1261,  34.9744,2,  34.9747,2,    214.7,2,   214.3,2,   27.66,2,   22.03,2,    0.00,2,    1.48,2,   0.069,2,   0.051,2,   0.003,2,    0.00,4,    -999,9,    -999,9,     -999,9,     -999,    -999,9,     -999,9,    -999,9,   4.1262,2,    -999,9,    -999,9,    -999,    -999,9,    -999,    0.11,2,   40.35,2,   24.76,2,  17.3651, -65.9955,    -999,     -999,    -999,   3.9204,   4.1262,2,-999,9,-999,-999,9,-999,    35.1396,2,-999,9,20120410,       1245
33AT20120324,        A22,      63,          1,          8,          8,2,20120410,       1159,    17.3623,   -65.9960,       4566,  2613.6,   4.1377,  34.9745,2,  34.9747,2,    214.5,2,   214.5,2,   28.09,2,   22.05,2,    0.00,2,    1.49,2,   0.049,2,   0.040,2,   0.005,2,    0.17,4,  2195.5,2, 2338.50,2,   7.7094,2,       25,    -999,9,     -999,9,    -999,9,   4.1376,2,    -999,9,    -999,9,    -999,    -999,9,    -999,    0.09,2,   41.16,2,   24.88,2,  17.3652, -65.9955,    -999,     -999,    -999,   3.9048,   4.1376,2,-999,9,-999,-999,9,-999,    35.1397,2,-999,9,20120410,       1239
33AT20120324,        A22,      63,          1,          7,          7,2,20120410,       1159,    17.3623,   -65.9960,       4566,  2869.6,   4.1577,  34.9747,2,  34.9749,2,    214.6,2,   214.7,2,   28.35,2,   22.03,2,    0.00,2,    1.48,2,   0.049,2,   0.042,2,   0.003,2,    0.00,4,    -999,9,    -999,9,     -999,9,     -999,    -999,9,     -999,9,    -999,9,   4.1575,2,    -999,9,    -999,9,    -999,    -999,9,    -999,    0.07,2,   40.54,2,   24.81,2,  17.3652, -65.9955,    -999,     -999,    -999,   3.8965,   4.1575,2,-999,9,-999,-999,9,-999,    35.1399,2,-999,9,20120410,       1234
33AT20120324,        A22,      63,          1,          6,          6,2,20120410,       1159,    17.3623,   -65.9960,       4566,  3138.0,   4.1812,  34.9748,2,  34.9755,2,    214.8,2,   214.3,2,   28.71,2,   22.07,2,    0.00,2,    1.49,2,   0.039,2,   0.033,2,   0.003,2,    0.00,4,  2195.8,2, 2340.31,2,   7.7111,2,       25,    -999,9,     -999,9,    -999,9,   4.1810,2,    -999,9,    -999,9,    -999,    -999,9,    -999,    0.07,2,   40.76,2,   24.72,2,  17.3651, -65.9955,    -999,     -999,    -999,   3.8893,   4.1810,2,-999,9,-999,-999,9,-999,    35.1405,2,-999,9,20120410,       1229