BOTTLE,20220725CCHSIOCBG
EXPOCODE,SECT_ID,STNNBR,CASTNO,SAMPNO,BTLNBR,BTLNBR_FLAG_W,DATE,TIME,LATITUDE,LONGITUDE,DEPTH,CTDPRS,CTDTMP,CTDSAL,CTDSAL_FLAG_W,SALNTY,SALNTY_FLAG_W,CTDOXY,CTDOXY_FLAG_W,OXYGEN,OXYGEN_FLAG_W,SILCAT,SILCAT_FLAG_W,NITRAT,NITRAT_FLAG_W,NITRIT,NITRIT_FLAG_W,PHSPHT,PHSPHT_FLAG_W,CFC-11,CFC-11_FLAG_W,CFC-12,CFC-12_FLAG_W,CFC113,CFC113_FLAG_W,SF6,SF6_FLAG_W,TCARBN,TCARBN_FLAG_W,ALKALI,ALKALI_FLAG_W,PH_TOT,PH_TOT_FLAG_W,PH_TMP,TRITUM,TRITUM_FLAG_W,HELIUM,HELIUM_FLAG_W,DELHE3,DELHE3_FLAG_W,REFTMP,REFTMP_FLAG_W,DELC13,DELC13_FLAG_W,DELC14,DELC14_FLAG_W,C14ERR,NEON,NEON_FLAG_W,NEONER,CCL4,CCL4_FLAG_W,DOC,DOC_FLAG_W,TDN,TDN_FLAG_W,BTL_LAT,BTL_LON,TRITER,HELIER,DELHER,THETA,SBE35,SBE35_FLAG_W,14C-DOC,14C-DOC_FLAG_W,14C-DOCERR,13C-DOC,13C-DOC_FLAG_W,13C-DOCERR,SALTREF,SALTREF_FLAG_W,LAB_DEN,LAB_DEN_FLAG_W,BTL_DATE,BTL_TIME
,,,,,,,,,,,METERS,DBAR,ITS-90,PSS-78,,PSS-78,,UMOL/KG,,UMOL/KG,,UMOL/KG,,UMOL/KG,,UMOL/KG,,UMOL/KG,,PMOL/KG,,PMOL/KG,,PMOL/KG,,FMOL/KG,,UMOL/KG,,UMOL/KG,,,,DEG C,TU,,NMOL/KG,,PERCNT,,DEG C,,/MILLE,,/MILLE,,/MILLE,NMOL/KG,,NMOL/KG,PMOL/KG,,UMOL/KG,,UMOL/KG,,,,TU,NMOL/KG,PERCNT,DEG C,ITS-90,,/MILLE,,/MILLE,/MILLE,,/MILLE,G/KG,,KG/M^3,,,
33AT20120324,        A22,      19,          1,          5,          5,2,20120330,       0832,    35.7049,   -67.1733,       5097,  3858.1,   2.4273,  34.9023,2,  34.9027,2,    268.2,2,   267.5,2,   25.79,2,   18.01,2,    0.00,2,    1.23,2,   0.883,2,   0.473,2,   0.051,2,    -999,5,  2167.8,2, 2320.60,2,   7.7394,2,       25,    -999,9,     -999,9,    -999,9,   2.4272,2,    -999,9,    -999,9,    -999,    -999,9,    -999,    0.94,2,   43.44,2,   22.26,2,  35.7039, -67.1750,    -999,     -999,    -999,   2.0971,   2.4272,2,-999,9,-999,-999,9,-999,    35.0673,2,-999,9,20120330,        859
33AT20120324,        A22,      19,          1,          4,          4,2,20120330,       0832,    35.7049,   -67.1733,       5097,  4167.6,   2.3287,  34.8936,2,  34.8944,2,    266.3,2,   266.5,2,   29.07,2,   18.37,2,    0.00,2,    1.26,2,   0.827,2,   0.454,2,   0.053,2,    -999,5,    -999,9,    -999,9,     -999,9,     -999,    -999,9,     -999,9,    -999,9,   2.3286,2,    -999,9,    -999,9,    -999,    -999,9,    -999,    0.85,2,   43.50,2,   22.42,2,  35.7041, -67.1747,    -999,     -999,    -999,   1.9659,   2.3286,2,-999,9,-999,-999,9,-999,    35.0590,2,-999,9,20120330,        853
33AT20120324,        A22,      19,          1,          3,          3,2,20120330,       0832,    35.7049,   -67.1733,       5097,  4476.1,   2.2822,  34.8872,2,  34.8872,2,    264.6,2,   264.4,2,   32.08,2,   18.72,2,    0.00,2,    1.29,2,   0.782,2,   0.429,2,   0.058,2,    -999,5,    -999,9,    -999,9,     -999,9,     -999,    -999,9,     -999,9,    -999,9,   2.2821,2,    -999,9,    -999,9,    -999,    -999,9,    -999,    0.83,2,   43.48,2,   22.76,2,  35.7043, -67.1744,    -999,     -999,    -999,   1.8844,   2.2821,2,-999,9,-999,-999,9,-999,    35.0517,2,-999,9,20120330,        847
33AT20120324,        A22,      19,          1,          2,          2,2,20120330,       0832,    35.7049,   -67.1733,       5097,  4834.0,   2.2751,  34.8824,2,  34.8819,2,    261.4,2,   262.0,2,   35.05,2,   19.20,2,    0.00,2,    1.32,2,   0.682,2,   0.379,2,   0.047,2,    -999,5,  2180.4,2, 2332.30,6,   7.7348,6,       25,    -999,9,     -999,9,    -999,9,   2.2754,2,    -999,9,    -999,9,    -999,    -999,9,    -999,    0.74,2,   42.56,2,   22.76,2,  35.7046, -67.1740,    -999,     -999,    -999,   1.8340,   2.2754,2,-999,9,-999,-999,9,-999,    35.0464,2,-999,9,20120330,        840
33AT20120324,        A22,      19,          1,          1,          1,2,20120330,       0832,    35.7049,   -67.1733,       5097,  5183.3,   2.2944,  34.8793,2,  34.8792,2,    260.0,2,   260.0,2,   36.73,2,   19.50,2,    0.00,2,    1.34,2,   0.630,2,   0.348,2,   0.047,2,    -999,5,  2185.3,6, 2337.43,2,   7.7358,2,       25,    -999,9,     -999,9,    -999,9,   2.2943,2,    -999,9,    -999,9,    -999,    -999,9,    -999,    0.71,2,   42.84,2,   22.84,2,  35.7049, -67.1734,    -999,     -999,    -999,   1.8086,   2.2943,2,-999,9,-999,-999,9,-999,    35.0436,2,-999,9,20120330,        833