BOTTLE,20220725CCHSIOCBG
EXPOCODE,SECT_ID,STNNBR,CASTNO,SAMPNO,BTLNBR,BTLNBR_FLAG_W,DATE,TIME,LATITUDE,LONGITUDE,DEPTH,CTDPRS,CTDTMP,CTDSAL,CTDSAL_FLAG_W,SALNTY,SALNTY_FLAG_W,CTDOXY,CTDOXY_FLAG_W,OXYGEN,OXYGEN_FLAG_W,SILCAT,SILCAT_FLAG_W,NITRAT,NITRAT_FLAG_W,NITRIT,NITRIT_FLAG_W,PHSPHT,PHSPHT_FLAG_W,CFC-11,CFC-11_FLAG_W,CFC-12,CFC-12_FLAG_W,CFC113,CFC113_FLAG_W,SF6,SF6_FLAG_W,TCARBN,TCARBN_FLAG_W,ALKALI,ALKALI_FLAG_W,PH_TOT,PH_TOT_FLAG_W,PH_TMP,TRITUM,TRITUM_FLAG_W,HELIUM,HELIUM_FLAG_W,DELHE3,DELHE3_FLAG_W,REFTMP,REFTMP_FLAG_W,DELC13,DELC13_FLAG_W,DELC14,DELC14_FLAG_W,C14ERR,NEON,NEON_FLAG_W,NEONER,CCL4,CCL4_FLAG_W,DOC,DOC_FLAG_W,TDN,TDN_FLAG_W,BTL_LAT,BTL_LON,TRITER,HELIER,DELHER,THETA,SBE35,SBE35_FLAG_W,14C-DOC,14C-DOC_FLAG_W,14C-DOCERR,13C-DOC,13C-DOC_FLAG_W,13C-DOCERR,SALTREF,SALTREF_FLAG_W,LAB_DEN,LAB_DEN_FLAG_W,BTL_DATE,BTL_TIME
,,,,,,,,,,,METERS,DBAR,ITS-90,PSS-78,,PSS-78,,UMOL/KG,,UMOL/KG,,UMOL/KG,,UMOL/KG,,UMOL/KG,,UMOL/KG,,PMOL/KG,,PMOL/KG,,PMOL/KG,,FMOL/KG,,UMOL/KG,,UMOL/KG,,,,DEG C,TU,,NMOL/KG,,PERCNT,,DEG C,,/MILLE,,/MILLE,,/MILLE,NMOL/KG,,NMOL/KG,PMOL/KG,,UMOL/KG,,UMOL/KG,,,,TU,NMOL/KG,PERCNT,DEG C,ITS-90,,/MILLE,,/MILLE,/MILLE,,/MILLE,G/KG,,KG/M^3,,,
33AT20120324,        A22,      12,          1,         36,         36,2,20120328,       0107,    38.0670,   -68.6405,       4201,     4.8,  23.7839,  36.0445,2,  36.0495,2,    209.0,2,   208.1,2,    1.14,2,    0.00,2,    0.00,2,    0.00,2,   1.832,2,   1.092,2,   0.137,2,    1.15,2,  2024.3,6, 2358.73,2,   8.0881,6,       25,   0.469,2,   1.7472,2,   -1.59,2,  23.7864,2,    -999,9,    -999,9,    -999,   6.949,2,   0.031,    -999,1,    -999,9,    -999,9,  38.0352, -68.5845,   0.009,   0.0070,    0.15,  23.7829,  23.7864,2,-999,9,-999,-999,9,-999,    36.2195,2,-999,9,20120328,        312
33AT20120324,        A22,      12,          1,         35,         35,2,20120328,       0107,    38.0670,   -68.6405,       4201,    36.8,  23.8052,  36.0405,2,  36.0436,2,    209.1,2,   208.0,2,    1.09,2,    0.00,2,    0.00,2,    0.00,2,   1.859,2,   1.103,2,   0.150,2,    1.27,2,  2024.5,2, 2359.84,6,   8.0884,2,       25,    -999,9,     -999,9,    -999,9,  23.8016,2,    -999,9,    -999,9,    -999,    -999,9,    -999,    -999,1,    -999,9,    -999,9,  38.0365, -68.5869,    -999,     -999,    -999,  23.7975,  23.8016,2,-999,9,-999,-999,9,-999,    36.2135,2,-999,9,20120328,        309
33AT20120324,        A22,      12,          1,         34,         34,2,20120328,       0107,    38.0670,   -68.6405,       4201,    63.1,  23.1251,  36.2513,2,  36.1941,2,    199.1,2,   209.4,2,    0.65,2,    0.01,2,    0.02,2,    0.00,2,    -999,5,    -999,5,    -999,5,    -999,5,  2040.2,2, 2366.95,2,     -999,9,     -999,    -999,9,     -999,9,    -999,9,  23.1382,2,    -999,9,    -999,9,    -999,    -999,9,    -999,    -999,1,    -999,9,    -999,9,  38.0382, -68.5891,    -999,     -999,    -999,  23.1121,  23.1382,2,-999,9,-999,-999,9,-999,    36.3648,2,-999,9,20120328,        307
33AT20120324,        A22,      12,          1,         33,         33,2,20120328,       0107,    38.0670,   -68.6405,       4201,    88.0,  22.1843,  36.4817,2,  36.4778,2,    207.3,2,   197.6,2,    1.12,2,    0.83,2,    0.12,2,    0.05,2,   2.009,2,    -999,5,    -999,5,    -999,5,  2084.9,2, 2396.20,2,   8.0417,2,       25,   0.539,2,   1.7278,2,   -1.14,2,  22.1935,2,    -999,9,    -999,9,    -999,   6.968,2,   0.031,    -999,1,    -999,9,    -999,9,  38.0396, -68.5911,   0.010,   0.0069,    0.15,  22.1667,  22.1935,2,-999,9,-999,-999,9,-999,    36.6498,2,-999,9,20120328,        305
33AT20120324,        A22,      12,          1,         32,         32,2,20120328,       0107,    38.0670,   -68.6405,       4201,   112.4,  21.8039,  36.7652,2,  36.7161,2,    159.4,2,   159.1,2,    1.66,2,    4.38,2,    0.03,2,    0.21,2,   1.901,2,   1.254,2,   0.051,2,    1.06,2,    -999,9,    -999,9,     -999,9,     -999,    -999,9,     -999,9,    -999,9,  21.7958,2,    -999,9,    -999,9,    -999,    -999,9,    -999,    -999,1,    -999,9,    -999,9,  38.0410, -68.5936,    -999,     -999,    -999,  21.7816,  21.7958,2,-999,9,-999,-999,9,-999,    36.8893,2,-999,9,20120328,        302
33AT20120324,        A22,      12,          1,         31,         31,2,20120328,       0107,    38.0670,   -68.6405,       4201,   135.8,  21.3433,  36.8442,2,  36.8467,2,    147.4,2,   148.1,2,    1.83,2,    5.63,2,    0.01,2,    0.27,2,   2.019,2,   1.235,2,   0.020,2,    1.04,2,  2142.5,2, 2404.52,2,   7.9470,2,       25,   0.470,2,   1.7283,2,   -0.41,2,  21.3414,2,    -999,9,    -999,9,    -999,   7.051,2,   0.032,    -999,1,    -999,9,    -999,9,  38.0421, -68.5956,   0.009,   0.0069,    0.15,  21.3168,  21.3414,2,-999,9,-999,-999,9,-999,    37.0204,2,-999,9,20120328,        300
33AT20120324,        A22,      12,          1,         30,         30,2,20120328,       0107,    38.0670,   -68.6405,       4201,   169.7,  20.2756,  36.7415,2,  36.7403,2,    145.2,2,   149.0,2,    2.13,2,    6.72,2,    0.01,2,    0.34,2,   2.108,2,   1.280,2,   0.024,2,    1.02,2,    -999,9,    -999,9,     -999,9,     -999,    -999,9,     -999,9,    -999,9,  20.2750,2,    -999,9,    -999,9,    -999,    -999,9,    -999,    -999,1,    -999,9,    -999,9,  38.0434, -68.5984,    -999,     -999,    -999,  20.2436,  20.2750,2,-999,9,-999,-999,9,-999,    36.9136,2,-999,9,20120328,        257
33AT20120324,        A22,      12,          1,         29,         29,2,20120328,       0107,    38.0670,   -68.6405,       4201,   216.6,  18.3356,  36.4653,2,  36.4658,2,    148.3,2,   144.1,2,    3.34,2,    9.82,2,    0.01,2,    0.54,2,   2.121,2,   1.271,2,   0.013,2,    0.92,2,  2156.4,6, 2384.04,2,   7.8883,2,       25,   0.465,2,   1.7439,2,    0.64,2,  18.3358,2,    -999,9,    -999,9,    -999,   7.205,2,   0.032,    -999,1,    -999,9,    -999,9,  38.0440, -68.6001,   0.009,   0.0070,    0.15,  18.2975,  18.3358,2,-999,9,-999,-999,9,-999,    36.6377,2,-999,9,20120328,        254
33AT20120324,        A22,      12,          1,         28,         28,2,20120328,       0107,    38.0670,   -68.6405,       4201,   262.9,  16.2117,  36.1172,2,  36.1186,2,    149.2,2,   147.2,2,    5.35,2,   12.71,2,    0.06,2,    0.75,2,   2.108,2,   1.182,2,   0.032,2,    0.82,2,  2158.4,2, 2364.67,2,     -999,9,     -999,    -999,9,     -999,9,    -999,9,  16.2180,2,    -999,9,    -999,9,    -999,    -999,9,    -999,    -999,1,    -999,9,    -999,9,  38.0444, -68.6012,    -999,     -999,    -999,  16.1693,  16.2180,2,-999,9,-999,-999,9,-999,    36.2889,2,-999,9,20120328,        253
33AT20120324,        A22,      12,          1,         27,         27,2,20120328,       0107,    38.0670,   -68.6405,       4201,   317.8,  13.5274,  35.7317,2,  35.7300,2,    135.2,2,   134.0,2,    8.40,2,   18.62,2,    0.00,2,    1.13,2,   2.108,2,   1.238,2,   0.039,2,    0.85,2,  2177.7,2, 2343.57,2,   7.7679,2,       25,   0.372,2,   1.7693,2,    3.28,2,  13.5282,2,    -999,9,    -999,9,    -999,   7.422,2,   0.033,    -999,1,    -999,9,    -999,9,  38.0449, -68.6027,   0.009,   0.0071,    0.15,  13.4820,  13.5282,2,-999,9,-999,-999,9,-999,    35.8985,2,-999,9,20120328,        250
33AT20120324,        A22,      12,          1,         26,         26,2,20120328,       0107,    38.0670,   -68.6405,       4201,   363.4,  12.3278,  35.5676,2,  35.5656,2,    140.5,2,   141.3,2,    9.22,2,   19.74,2,    0.00,2,    1.22,2,   1.759,2,   0.957,2,   0.019,2,    0.62,2,  2178.5,2, 2336.35,2,     -999,9,     -999,    -999,9,     -999,9,    -999,9,  12.3283,2,    -999,9,    -999,9,    -999,    -999,9,    -999,    -999,1,    -999,9,    -999,9,  38.0454, -68.6040,    -999,     -999,    -999,  12.2789,  12.3283,2,-999,9,-999,-999,9,-999,    35.7333,2,-999,9,20120328,        248
33AT20120324,        A22,      12,          1,         25,         25,2,20120328,       0107,    38.0670,   -68.6405,       4201,   418.7,  11.0088,  35.3895,2,  35.3954,2,    137.8,2,   136.0,2,   11.88,2,   22.48,2,    0.00,2,    1.41,2,   1.522,2,   0.797,2,   0.023,2,    0.50,2,  2188.3,2, 2328.46,2,   7.7114,2,       25,   0.312,2,   1.7567,2,    4.60,2,  10.9978,2,    -999,9,    -999,9,    -999,   7.440,2,   0.033,    -999,1,    -999,9,    -999,9,  38.0461, -68.6054,   0.009,   0.0070,    0.15,  10.9564,  10.9978,2,-999,9,-999,-999,9,-999,    35.5623,2,-999,9,20120328,        247
33AT20120324,        A22,      12,          1,         24,         24,2,20120328,       0107,    38.0670,   -68.6405,       4201,   465.4,   9.8931,  35.2613,2,  35.2584,2,    134.8,2,   134.6,2,   13.91,2,   24.49,2,    0.00,2,    1.55,2,   1.296,2,   0.685,2,   0.016,2,    0.45,2,  2196.7,2, 2324.33,2,     -999,9,     -999,   0.283,2,   1.7838,2,    4.76,2,   9.8973,2,    -999,9,    -999,9,    -999,   7.621,2,   0.034,    -999,1,    -999,9,    -999,9,  38.0467, -68.6067,   0.009,   0.0071,    0.15,   9.8385,   9.8973,2,-999,9,-999,-999,9,-999,    35.4247,2,-999,9,20120328,        244
33AT20120324,        A22,      12,          1,         23,         23,2,20120328,       0107,    38.0670,   -68.6405,       4201,   539.6,   8.3071,  35.1314,2,  35.1331,2,    151.5,3,   152.3,2,   14.94,2,   24.42,2,    0.00,2,    1.56,2,   1.339,2,   0.688,2,   0.032,2,    0.41,2,  2195.5,2, 2317.65,2,   7.6657,2,       25,   0.318,2,   1.7934,2,    5.24,2,   8.2997,2,    -999,9,    -999,9,    -999,   7.678,2,   0.035,    -999,1,    -999,9,    -999,9,  38.0474, -68.6081,   0.009,   0.0072,    0.15,   8.2499,   8.2997,2,-999,9,-999,-999,9,-999,    35.2988,2,-999,9,20120328,        242
33AT20120324,        A22,      12,          1,         22,         22,2,20120328,       0107,    38.0670,   -68.6405,       4201,   640.7,   6.6765,  35.0705,2,  35.0699,2,    187.0,3,   189.6,2,   13.81,2,   21.91,2,    0.00,2,    1.43,2,   2.035,2,   0.925,2,   0.064,2,    0.52,2,    -999,9,    -999,9,     -999,9,     -999,   0.352,2,   1.8201,2,    6.21,2,   6.6679,2,    -999,9,    -999,9,    -999,   7.778,2,   0.035,    -999,1,    -999,9,    -999,9,  38.0484, -68.6098,   0.009,   0.0073,    0.15,   6.6160,   6.6679,2,-999,9,-999,-999,9,-999,    35.2353,2,-999,9,20120328,        239
33AT20120324,        A22,      12,          1,         21,         21,2,20120328,       0107,    38.0670,   -68.6405,       4201,   741.8,   5.4839,  35.0314,2,  35.0318,2,    218.5,3,   223.7,2,   12.71,2,   19.64,2,    0.00,2,    1.30,2,   2.306,2,   1.161,2,   0.098,2,    0.62,2,  2178.2,2, 2312.19,2,   7.7021,2,       25,   0.404,2,   1.8134,2,    6.41,2,   5.4826,2,    -999,9,    -999,9,    -999,   7.951,2,   0.036,    -999,1,    -999,9,    -999,9,  38.0495, -68.6116,   0.009,   0.0073,    0.15,   5.4201,   5.4826,2,-999,9,-999,-999,9,-999,    35.1969,2,-999,9,20120328,        235
33AT20120324,        A22,      12,          1,         20,         20,2,20120328,       0107,    38.0670,   -68.6405,       4201,   844.4,   5.0518,  35.0083,2,  35.0089,2,    236.8,3,   236.8,2,   12.15,2,   18.83,2,    0.00,2,    1.24,2,   2.526,2,   1.293,2,   0.137,2,    0.74,2,    -999,9,    -999,9,     -999,9,     -999,   0.450,2,   1.8290,2,    5.94,2,   5.0526,2,    -999,9,    -999,9,    -999,   7.884,2,   0.035,    -999,1,    -999,9,    -999,9,  38.0504, -68.6133,   0.009,   0.0073,    0.15,   4.9814,   5.0526,2,-999,9,-999,-999,9,-999,    35.1740,2,-999,9,20120328,        232
33AT20120324,        A22,      12,          1,         19,         19,2,20120328,       0107,    38.0670,   -68.6405,       4201,   946.3,   4.7723,  34.9945,2,  34.9960,2,    245.9,3,   245.8,2,   11.77,2,   18.29,2,    0.00,2,    1.21,2,   2.812,2,   1.433,2,   0.146,2,    0.76,2,  2173.8,2, 2309.02,2,   7.7107,2,       25,   0.456,2,   1.8266,2,    5.87,2,   4.7733,2,    -999,9,    -999,9,    -999,   7.926,2,   0.036,    -999,1,    -999,9,    -999,9,  38.0512, -68.6148,   0.010,   0.0073,    0.15,   4.6947,   4.7733,2,-999,9,-999,-999,9,-999,    35.1610,2,-999,9,20120328,        229
33AT20120324,        A22,      12,          1,         18,         18,2,20120328,       0107,    38.0670,   -68.6405,       4201,  1046.5,   4.6156,  34.9972,2,  34.9979,2,    248.6,3,   248.9,2,   11.88,2,   18.18,2,    0.00,2,    1.21,2,   2.611,2,   1.320,2,   0.139,2,    0.70,2,    -999,9,    -999,9,     -999,9,     -999,   0.404,2,   1.8748,2,    6.18,2,   4.6118,2,    -999,9,    -999,9,    -999,   8.099,2,   0.036,    -999,1,    -999,9,    -999,9,  38.0521, -68.6164,   0.010,   0.0075,    0.15,   4.5303,   4.6118,2,-999,9,-999,-999,9,-999,    35.1630,2,-999,9,20120328,        225
33AT20120324,        A22,      12,          1,         17,         17,2,20120328,       0107,    38.0670,   -68.6405,       4201,  1145.9,   4.4111,  34.9867,2,  34.9855,2,    254.6,3,   253.7,2,   11.85,2,   17.83,2,    0.00,2,    1.20,2,  -0.001,4,   0.000,4,   0.000,2,    0.71,2,  2167.2,2, 2312.86,2,   7.7171,2,       25,   0.396,2,   1.8734,2,    6.40,2,   4.4084,2,    -999,9,    -999,9,    -999,   8.081,2,   0.036,    -999,1,    -999,9,    -999,9,  38.0526, -68.6174,   0.009,   0.0075,    0.15,   4.3186,   4.4084,2,-999,9,-999,-999,9,-999,    35.1505,2,-999,9,20120328,        222
33AT20120324,        A22,      12,          1,         16,         16,2,20120328,       0107,    38.0670,   -68.6405,       4201,  1247.3,   4.2299,  34.9722,2,  34.9725,2,    258.3,3,   258.3,2,   11.98,2,   17.77,2,    0.00,2,    1.18,2,   2.702,2,   1.348,2,   0.152,2,    0.64,2,    -999,9,    -999,9,     -999,9,     -999,    -999,9,   1.8556,2,    6.57,2,   4.2289,2,    -999,9,    -999,9,    -999,   8.067,2,   0.036,    -999,1,    -999,9,    -999,9,  38.0530, -68.6186,    -999,   0.0074,    0.15,   4.1301,   4.2289,2,-999,9,-999,-999,9,-999,    35.1375,2,-999,9,20120328,        219
33AT20120324,        A22,      12,          1,         15,         15,2,20120328,       0107,    38.0670,   -68.6405,       4201,  1346.9,   4.2195,  34.9831,2,  34.9842,2,    259.4,3,   257.2,2,   12.32,2,   17.89,2,    0.00,2,    1.18,2,   2.401,2,   1.174,2,   0.119,2,    0.50,2,  2166.2,2, 2309.21,2,   7.7229,2,       25,   0.395,2,   1.8720,2,    7.07,2,   4.2194,2,    -999,9,    -999,9,    -999,   8.205,2,   0.037,    -999,1,    -999,9,    -999,9,  38.0536, -68.6198,   0.010,   0.0075,    0.15,   4.1108,   4.2194,2,-999,9,-999,-999,9,-999,    35.1491,2,-999,9,20120328,        216
33AT20120324,        A22,      12,          1,         14,         14,2,20120328,       0107,    38.0670,   -68.6405,       4201,  1449.7,   4.0923,  34.9759,2,  34.9765,2,    259.0,2,   259.3,2,   12.52,2,   17.84,2,    0.00,2,    1.19,2,   2.326,2,   1.122,2,   0.119,2,    0.46,2,    -999,9,    -999,9,     -999,9,     -999,   0.359,2,   1.8625,2,    7.52,2,   4.0919,2,    -999,9,    -999,9,    -999,   8.139,2,   0.037,    -999,1,    -999,9,    -999,9,  38.0544, -68.6212,   0.009,   0.0074,    0.15,   3.9756,   4.0919,2,-999,9,-999,-999,9,-999,    35.1414,2,-999,9,20120328,        213
33AT20120324,        A22,      12,          1,         13,         13,2,20120328,       0107,    38.0670,   -68.6405,       4201,  1549.9,   3.9488,  34.9638,2,  34.9657,2,    262.0,3,   261.9,2,   12.56,2,   17.71,2,    0.00,2,    1.18,2,   2.316,2,   1.118,2,   0.118,2,    0.45,2,  2162.4,2, 2306.04,2,   7.7243,2,       25,   0.393,2,   1.8763,2,    7.53,2,   3.9495,2,    -999,9,    -999,9,    -999,   8.158,2,   0.037,    -999,1,    -999,9,    -999,9,  38.0549, -68.6225,   0.009,   0.0075,    0.15,   3.8246,   3.9495,2,-999,9,-999,-999,9,-999,    35.1306,2,-999,9,20120328,        210
33AT20120324,        A22,      12,          1,         12,         12,2,20120328,       0107,    38.0670,   -68.6405,       4201,  1654.3,   3.8147,  34.9578,2,  34.9590,2,    263.0,2,   263.6,2,   12.99,2,   17.67,2,    0.00,2,    1.18,2,   2.183,2,   1.040,2,   0.105,2,    0.42,2,    -999,9,    -999,9,     -999,9,     -999,   0.361,2,   1.8349,2,    7.98,2,   3.8148,2,    -999,9,    -999,9,    -999,   7.995,2,   0.036,    -999,1,    -999,9,    -999,9,  38.0556, -68.6238,   0.009,   0.0073,    0.15,   3.6826,   3.8148,2,-999,9,-999,-999,9,-999,    35.1238,2,-999,9,20120328,        207
33AT20120324,        A22,      12,          1,         11,         11,2,20120328,       0107,    38.0670,   -68.6405,       4201,  1754.5,   3.7124,  34.9532,2,  34.9543,2,    264.1,2,   264.9,2,   13.46,2,   17.67,2,    0.00,2,    1.18,2,   2.069,2,   1.112,2,   0.098,2,    0.32,2,  2161.0,2, 2307.87,2,   7.7287,2,       25,   0.405,2,   1.8639,2,    7.71,2,   3.7119,2,    -999,9,    -999,9,    -999,   8.131,2,   0.037,    -999,1,    -999,9,    -999,9,  38.0562, -68.6248,   0.010,   0.0075,    0.15,   3.5723,   3.7119,2,-999,9,-999,-999,9,-999,    35.1191,2,-999,9,20120328,        204
33AT20120324,        A22,      12,          1,         10,         10,2,20120328,       0107,    38.0670,   -68.6405,       4201,  1886.9,   3.6216,  34.9483,2,     -999,5,    266.1,2,   266.0,2,   13.83,2,   17.62,2,    0.00,2,    1.18,2,   1.993,2,   0.944,2,   0.079,2,    0.32,2,    -999,9,    -999,9,     -999,9,     -999,    -999,9,     -999,9,    -999,9,   3.6215,2,    -999,9,    -999,9,    -999,    -999,9,    -999,    -999,1,    -999,9,    -999,9,  38.0571, -68.6262,    -999,     -999,    -999,   3.4704,   3.6215,2,-999,9,-999,-999,9,-999,       -999,5,-999,9,20120328,        200
33AT20120324,        A22,      12,          1,          9,          9,2,20120328,       0107,    38.0670,   -68.6405,       4201,  2113.7,   3.4695,  34.9502,2,  34.9521,2,    266.3,2,   265.5,2,   15.34,2,   17.74,2,    0.00,2,    1.19,2,   1.593,2,   0.739,2,   0.065,2,    0.28,2,  2162.0,2, 2309.79,2,   7.7351,2,       25,   0.309,2,   1.8524,2,    7.20,2,   3.4697,2,    -999,9,    -999,9,    -999,   8.100,2,   0.036,    -999,1,    -999,9,    -999,9,  38.0581, -68.6278,   0.008,   0.0074,    0.15,   3.2990,   3.4697,2,-999,9,-999,-999,9,-999,    35.1169,2,-999,9,20120328,        155
33AT20120324,        A22,      12,          1,          8,          8,2,20120328,       0107,    38.0670,   -68.6405,       4201,  2362.9,   3.2551,  34.9420,2,  34.9417,2,    266.3,2,   266.6,2,   16.74,2,   17.68,2,    0.00,2,    1.19,2,   1.448,2,   0.675,2,   0.047,2,    0.25,2,    -999,9,    -999,9,     -999,9,     -999,    -999,9,     -999,9,    -999,9,   3.2545,2,    -999,9,    -999,9,    -999,    -999,9,    -999,    -999,1,    -999,9,    -999,9,  38.0592, -68.6292,    -999,     -999,    -999,   3.0640,   3.2545,2,-999,9,-999,-999,9,-999,    35.1065,2,-999,9,20120328,        149
33AT20120324,        A22,      12,          1,          7,          7,2,20120328,       0107,    38.0670,   -68.6405,       4201,  2619.8,   3.0257,  34.9346,2,     -999,5,    266.7,2,   267.0,2,   18.42,2,   17.64,2,    0.00,2,    1.19,2,   1.329,2,   0.632,2,   0.041,2,    0.21,2,    -999,9,    -999,9,     -999,9,     -999,    -999,9,     -999,9,    -999,9,   3.0254,2,    -999,9,    -999,9,    -999,    -999,9,    -999,    -999,1,    -999,9,    -999,9,  38.0605, -68.6309,    -999,     -999,    -999,   2.8134,   3.0254,2,-999,9,-999,-999,9,-999,       -999,5,-999,9,20120328,        143
33AT20120324,        A22,      12,          1,          6,          6,2,20120328,       0107,    38.0670,   -68.6405,       4201,  2874.1,   2.8099,  34.9245,2,  34.9326,4,    269.8,2,   270.0,2,   19.31,2,   17.38,2,    0.00,2,    1.18,2,   1.500,2,   0.712,2,   0.066,2,    0.29,2,  2164.5,2, 2313.28,2,     -999,9,     -999,   0.267,2,   1.8753,2,    5.93,2,   2.8096,2,    -999,9,    -999,9,    -999,   8.212,2,   0.037,    -999,1,    -999,9,    -999,9,  38.0618, -68.6325,   0.009,   0.0075,    0.15,   2.5762,   2.8096,2,-999,9,-999,-999,9,-999,    35.0974,4,-999,9,20120328,        137