BOTTLE,20220725CCHSIOCBG
EXPOCODE,SECT_ID,STNNBR,CASTNO,SAMPNO,BTLNBR,BTLNBR_FLAG_W,DATE,TIME,LATITUDE,LONGITUDE,DEPTH,CTDPRS,CTDTMP,CTDSAL,CTDSAL_FLAG_W,SALNTY,SALNTY_FLAG_W,CTDOXY,CTDOXY_FLAG_W,OXYGEN,OXYGEN_FLAG_W,SILCAT,SILCAT_FLAG_W,NITRAT,NITRAT_FLAG_W,NITRIT,NITRIT_FLAG_W,PHSPHT,PHSPHT_FLAG_W,CFC-11,CFC-11_FLAG_W,CFC-12,CFC-12_FLAG_W,CFC113,CFC113_FLAG_W,SF6,SF6_FLAG_W,TCARBN,TCARBN_FLAG_W,ALKALI,ALKALI_FLAG_W,PH_TOT,PH_TOT_FLAG_W,PH_TMP,TRITUM,TRITUM_FLAG_W,HELIUM,HELIUM_FLAG_W,DELHE3,DELHE3_FLAG_W,REFTMP,REFTMP_FLAG_W,DELC13,DELC13_FLAG_W,DELC14,DELC14_FLAG_W,C14ERR,NEON,NEON_FLAG_W,NEONER,CCL4,CCL4_FLAG_W,DOC,DOC_FLAG_W,TDN,TDN_FLAG_W,BTL_LAT,BTL_LON,TRITER,HELIER,DELHER,THETA,SBE35,SBE35_FLAG_W,14C-DOC,14C-DOC_FLAG_W,14C-DOCERR,13C-DOC,13C-DOC_FLAG_W,13C-DOCERR,SALTREF,SALTREF_FLAG_W,LAB_DEN,LAB_DEN_FLAG_W,BTL_DATE,BTL_TIME
,,,,,,,,,,,METERS,DBAR,ITS-90,PSS-78,,PSS-78,,UMOL/KG,,UMOL/KG,,UMOL/KG,,UMOL/KG,,UMOL/KG,,UMOL/KG,,PMOL/KG,,PMOL/KG,,PMOL/KG,,FMOL/KG,,UMOL/KG,,UMOL/KG,,,,DEG C,TU,,NMOL/KG,,PERCNT,,DEG C,,/MILLE,,/MILLE,,/MILLE,NMOL/KG,,NMOL/KG,PMOL/KG,,UMOL/KG,,UMOL/KG,,,,TU,NMOL/KG,PERCNT,DEG C,ITS-90,,/MILLE,,/MILLE,/MILLE,,/MILLE,G/KG,,KG/M^3,,,
33AT20120324,        A22,      22,          1,         36,         36,2,20120331,       0440,    34.2609,   -66.2935,       5219,     3.8,  19.4776,  36.5699,2,  36.5702,2,    222.7,2,   222.3,2,    0.32,2,    0.43,2,    0.15,2,    0.01,2,   2.195,2,   1.312,2,   0.169,2,    1.46,2,  2083.9,6, 2390.37,2,   8.0419,2,       25,   0.481,2,   1.7380,2,   -1.23,2,  19.4790,2,    -999,9,    -999,9,    -999,   6.955,2,   0.031,    -999,1,    -999,9,    -999,9,  34.2589, -66.2926,   0.010,   0.0070,    0.15,  19.4769,  19.4790,2,-999,9,-999,-999,9,-999,    36.7427,2,-999,9,20120331,        648
33AT20120324,        A22,      22,          1,         35,         35,2,20120331,       0440,    34.2609,   -66.2935,       5219,    20.6,  19.4829,  36.5697,2,  36.5700,2,    223.6,2,   222.9,2,    0.31,2,    0.42,2,    0.15,2,    0.01,2,   2.184,2,   1.320,2,   0.166,2,    1.42,2,  2083.0,2, 2392.48,6,   8.0437,6,       25,    -999,9,     -999,9,    -999,9,  19.4833,2,    -999,9,    -999,9,    -999,    -999,9,    -999,    -999,1,    -999,9,    -999,9,  34.2588, -66.2926,    -999,     -999,    -999,  19.4791,  19.4833,2,-999,9,-999,-999,9,-999,    36.7425,2,-999,9,20120331,        646
33AT20120324,        A22,      22,          1,         34,         34,2,20120331,       0440,    34.2609,   -66.2935,       5219,    40.6,  19.4840,  36.5699,2,  36.5701,2,    223.7,2,   222.8,2,    0.35,2,    0.40,2,    0.15,2,    0.01,2,   2.186,2,   1.319,2,   0.167,2,    1.41,2,  2083.6,2, 2389.80,2,   8.0430,2,       25,    -999,9,     -999,9,    -999,9,  19.4850,2,    -999,9,    -999,9,    -999,    -999,9,    -999,    -999,1,    -999,9,    -999,9,  34.2588, -66.2925,    -999,     -999,    -999,  19.4766,  19.4850,2,-999,9,-999,-999,9,-999,    36.7425,2,-999,9,20120331,        644
33AT20120324,        A22,      22,          1,         33,         33,2,20120331,       0440,    34.2609,   -66.2935,       5219,    65.0,  19.4882,  36.5699,2,  36.5703,2,    222.3,2,   222.8,2,    0.34,2,    0.42,2,    0.15,2,    0.01,2,   2.210,2,   1.369,2,   0.172,2,    1.46,2,  2085.6,2, 2393.26,2,   8.0421,2,       25,   0.528,2,   1.7428,2,   -1.36,2,  19.4916,2,    -999,9,    -999,9,    -999,   7.014,2,   0.032,    -999,1,    -999,9,    -999,9,  34.2587, -66.2925,   0.012,   0.0070,    0.15,  19.4763,  19.4916,2,-999,9,-999,-999,9,-999,    36.7427,2,-999,9,20120331,        642
33AT20120324,        A22,      22,          1,         32,         32,2,20120331,       0440,    34.2609,   -66.2935,       5219,    90.7,  19.4940,  36.5697,2,  36.5699,2,    221.7,2,   222.5,2,    0.34,2,    0.41,2,    0.15,2,    0.01,2,   2.186,2,   1.319,2,   0.163,2,    1.41,2,    -999,9,    -999,9,     -999,9,     -999,    -999,9,     -999,9,    -999,9,  19.4945,2,    -999,9,    -999,9,    -999,    -999,9,    -999,    -999,1,    -999,9,    -999,9,  34.2587, -66.2925,    -999,     -999,    -999,  19.4774,  19.4945,2,-999,9,-999,-999,9,-999,    36.7424,2,-999,9,20120331,        640
33AT20120324,        A22,      22,          1,         31,         31,2,20120331,       0440,    34.2609,   -66.2935,       5219,   138.1,  19.5030,  36.5698,2,  36.5675,2,    221.8,2,   222.1,2,    0.31,2,    0.45,2,    0.15,2,    0.01,2,   2.217,2,   1.193,2,   0.162,2,    1.44,2,  2085.0,2, 2392.79,2,   8.0418,2,       25,   0.503,2,   1.7543,2,   -1.72,2,  19.5026,2,    -999,9,    -999,9,    -999,   6.999,2,   0.031,    -999,1,    -999,9,    -999,9,  34.2587, -66.2925,   0.010,   0.0070,    0.15,  19.4777,  19.5026,2,-999,9,-999,-999,9,-999,    36.7400,2,-999,9,20120331,        637
33AT20120324,        A22,      22,          1,         30,         30,2,20120331,       0440,    34.2609,   -66.2935,       5219,   186.5,  19.5071,  36.5689,2,  36.5688,2,    220.9,2,   221.8,2,    0.31,2,    0.51,2,    0.15,2,    0.01,2,   2.217,2,   1.286,2,   0.163,2,    1.46,2,    -999,9,    -999,9,     -999,9,     -999,    -999,9,     -999,9,    -999,9,  19.5075,2,    -999,9,    -999,9,    -999,    -999,9,    -999,    -999,1,    -999,9,    -999,9,  34.2587, -66.2925,    -999,     -999,    -999,  19.4729,  19.5075,2,-999,9,-999,-999,9,-999,    36.7412,2,-999,9,20120331,        634
33AT20120324,        A22,      22,          1,         29,         29,2,20120331,       0440,    34.2609,   -66.2935,       5219,   237.6,  19.4282,  36.5607,2,  36.5613,2,    218.6,2,   219.6,2,    0.39,2,    0.91,2,    0.09,2,    0.03,2,   2.221,2,   1.309,2,   0.156,2,    1.44,2,  2088.2,2, 2389.19,2,   8.0357,4,       25,   0.490,2,   1.7427,2,   -1.36,2,  19.4302,2,    -999,9,    -999,9,    -999,   6.879,2,   0.031,    -999,1,    -999,9,    -999,9,  34.2588, -66.2925,   0.010,   0.0070,    0.15,  19.3847,  19.4302,2,-999,9,-999,-999,9,-999,    36.7337,2,-999,9,20120331,        632
33AT20120324,        A22,      22,          1,         28,         28,2,20120331,       0440,    34.2609,   -66.2935,       5219,   278.5,  19.1570,  36.6454,2,  36.6452,2,    190.8,2,   191.5,2,    0.73,2,    3.15,2,    0.01,2,    0.13,2,   2.278,2,   1.303,2,   0.046,2,    1.26,2,  2119.3,2, 2394.19,2,   7.9821,2,       25,    -999,9,     -999,9,    -999,9,  19.1546,2,    -999,9,    -999,9,    -999,    -999,9,    -999,    -999,1,    -999,9,    -999,9,  34.2588, -66.2925,    -999,     -999,    -999,  19.1065,  19.1546,2,-999,9,-999,-999,9,-999,    36.8180,2,-999,9,20120331,        630
33AT20120324,        A22,      22,          1,         27,         27,2,20120331,       0440,    34.2609,   -66.2935,       5219,   320.2,  18.6110,  36.6189,2,  36.6200,2,    195.5,2,   195.5,2,    0.89,2,    3.64,2,    0.01,2,    0.15,2,   2.335,2,   1.377,2,   0.033,2,    1.28,2,  2119.6,2, 2391.12,2,   7.9833,2,       25,   0.493,2,   1.7356,2,   -0.70,2,  18.6118,2,    -999,9,    -999,9,    -999,   6.996,2,   0.031,    -999,1,    -999,9,    -999,9,  34.2588, -66.2926,   0.011,   0.0069,    0.15,  18.5540,  18.6118,2,-999,9,-999,-999,9,-999,    36.7927,2,-999,9,20120331,        629
33AT20120324,        A22,      22,          1,         26,         26,2,20120331,       0440,    34.2609,   -66.2935,       5219,   388.0,  18.2194,  36.5805,2,  36.5806,2,    198.9,2,   199.4,2,    0.99,2,    4.08,2,    0.01,2,    0.19,2,   2.361,2,   1.310,2,   0.037,2,    1.23,2,    -999,9,    -999,9,     -999,9,     -999,    -999,9,     -999,9,    -999,9,  18.2188,2,    -999,9,    -999,9,    -999,    -999,9,    -999,    -999,1,    -999,9,    -999,9,  34.2589, -66.2926,    -999,     -999,    -999,  18.1512,  18.2188,2,-999,9,-999,-999,9,-999,    36.7531,2,-999,9,20120331,        627
33AT20120324,        A22,      22,          1,         25,         25,2,20120331,       0440,    34.2609,   -66.2935,       5219,   468.6,  17.8383,  36.5274,2,  36.5285,2,    200.2,2,   200.1,2,    1.17,2,    4.74,2,    0.00,2,    0.22,2,   2.371,2,   1.357,2,   0.045,2,    1.24,2,  2122.0,2, 2382.30,2,   7.9727,3,       25,   0.522,2,   1.7515,2,   -0.54,2,  17.8352,2,    -999,9,    -999,9,    -999,   7.088,2,   0.032,    -999,1,    -999,9,    -999,9,  34.2589, -66.2926,   0.010,   0.0070,    0.15,  17.7570,  17.8352,2,-999,9,-999,-999,9,-999,    36.7007,2,-999,9,20120331,        624
33AT20120324,        A22,      22,          1,         24,         24,2,20120331,       0440,    34.2609,   -66.2935,       5219,   567.9,  16.9475,  36.3509,2,  36.3425,2,    187.4,2,   186.6,2,    2.12,2,    7.59,2,    0.00,2,    0.40,2,   2.413,2,   1.276,2,   0.033,2,    1.12,2,    -999,9,    -999,9,     -999,9,     -999,   0.490,2,   1.7332,2,    0.51,2,  16.9459,2,    -999,9,    -999,9,    -999,   7.079,2,   0.032,    -999,1,    -999,9,    -999,9,  34.2589, -66.2926,   0.010,   0.0069,    0.15,  16.8522,  16.9459,2,-999,9,-999,-999,9,-999,    36.5139,2,-999,9,20120331,        621
33AT20120324,        A22,      22,          1,         23,         23,2,20120331,       0440,    34.2609,   -66.2935,       5219,   669.5,  14.9918,  35.9926,2,  35.9939,2,    165.4,2,   166.0,2,    4.33,2,   12.55,2,    0.00,2,    0.73,2,   2.311,2,   1.157,2,   0.025,2,    0.90,2,  2156.4,2, 2355.45,2,   7.8562,2,       25,   0.460,2,   1.7423,2,    2.60,2,  14.9986,2,    -999,9,    -999,9,    -999,   7.242,2,   0.033,    -999,1,    -999,9,    -999,9,  34.2590, -66.2926,   0.010,   0.0070,    0.15,  14.8882,  14.9986,2,-999,9,-999,-999,9,-999,    36.1636,2,-999,9,20120331,        619
33AT20120324,        A22,      22,          1,         22,         22,2,20120331,       0440,    34.2609,   -66.2935,       5219,   769.5,  12.8026,  35.6489,2,  35.6601,2,    153.9,2,   157.7,2,    7.24,2,   16.95,2,    0.00,2,    1.03,2,   2.045,2,   1.050,2,   0.029,2,    0.84,2,  2172.3,2, 2338.80,2,   7.7888,6,       25,   0.425,2,   1.7738,2,    3.58,2,  12.8607,3,    -999,9,    -999,9,    -999,   7.232,2,   0.033,    -999,1,    -999,9,    -999,9,  34.2590, -66.2926,   0.010,   0.0071,    0.15,  12.6949,  12.8607,3,-999,9,-999,-999,9,-999,    35.8282,2,-999,9,20120331,        616
33AT20120324,        A22,      22,          1,         21,         21,2,20120331,       0440,    34.2609,   -66.2935,       5219,   870.6,   9.8969,  35.2579,2,  35.2574,2,    138.9,2,   136.8,2,   13.40,2,   24.04,2,    0.00,2,    1.51,2,   1.309,2,   0.617,2,   0.020,2,    0.52,2,  2196.7,6, 2321.08,2,   7.6855,2,       25,   0.269,2,   1.7861,2,    4.93,2,   9.8750,2,    -999,9,    -999,9,    -999,   7.518,2,   0.034,    -999,1,    -999,9,    -999,9,  34.2590, -66.2926,   0.010,   0.0071,    0.15,   9.7928,   9.8750,2,-999,9,-999,-999,9,-999,    35.4237,2,-999,9,20120331,        613
33AT20120324,        A22,      22,          1,         20,         20,2,20120331,       0440,    34.2609,   -66.2935,       5219,   971.1,   7.6963,  35.1158,2,  35.1174,2,    164.4,2,   168.6,2,   13.80,2,   22.86,2,    0.00,2,    1.47,2,   1.526,2,   0.663,2,   0.037,2,    0.50,2,  2195.5,2, 2315.10,2,   7.6818,2,       25,   0.317,2,   1.8006,2,    6.16,2,   7.7076,2,    -999,9,    -999,9,    -999,   7.583,2,   0.034,    -999,1,    -999,9,    -999,9,  34.2589, -66.2926,   0.009,   0.0072,    0.15,   7.5951,   7.7076,2,-999,9,-999,-999,9,-999,    35.2830,2,-999,9,20120331,        611
33AT20120324,        A22,      22,          1,         19,         19,2,20120331,       0440,    34.2609,   -66.2935,       5219,  1073.2,   6.2570,  35.0622,2,  35.0619,2,    198.6,2,   203.7,2,   12.92,2,   20.66,2,    0.00,2,    1.35,2,   1.983,2,    -999,5,   0.077,2,    -999,5,  2186.7,2, 2313.04,2,   7.6935,2,       25,   0.361,2,   1.8142,2,    6.25,2,   6.2444,2,    -999,9,    -999,9,    -999,   7.743,2,   0.035,    -999,1,    -999,9,    -999,9,  34.2589, -66.2926,   0.009,   0.0073,    0.15,   6.1559,   6.2444,2,-999,9,-999,-999,9,-999,    35.2272,2,-999,9,20120331,        608
33AT20120324,        A22,      22,          1,         18,         18,2,20120331,       0440,    34.2609,   -66.2935,       5219,  1176.1,   5.4403,  35.0336,2,  35.0332,2,    225.2,2,   226.3,2,   12.11,2,   19.25,2,    0.00,2,    1.28,2,   2.380,2,   1.069,2,   0.106,2,    0.65,2,    -999,9,    -999,9,     -999,9,     -999,   0.409,2,   1.8439,2,    6.14,2,   5.4413,2,    -999,9,    -999,9,    -999,   7.842,2,   0.035,    -999,1,    -999,9,    -999,9,  34.2590, -66.2926,   0.012,   0.0074,    0.15,   5.3359,   5.4413,2,-999,9,-999,-999,9,-999,    35.1984,2,-999,9,20120331,        605
33AT20120324,        A22,      22,          1,         17,         17,2,20120331,       0440,    34.2609,   -66.2935,       5219,  1278.1,   5.0361,  35.0263,2,  35.0275,2,    238.5,2,   238.1,2,   11.87,2,   18.57,2,    0.00,2,    1.23,2,   2.445,2,   1.232,2,   0.115,2,    0.64,2,    -999,9,    -999,9,     -999,9,     -999,   0.413,2,   1.8582,2,    6.28,2,   5.0365,2,    -999,9,    -999,9,    -999,   7.972,2,   0.036,    -999,1,    -999,9,    -999,9,  34.2590, -66.2927,   0.012,   0.0074,    0.15,   4.9256,   5.0365,2,-999,9,-999,-999,9,-999,    35.1927,2,-999,9,20120331,        603
33AT20120324,        A22,      22,          1,         16,         16,2,20120331,       0440,    34.2609,   -66.2935,       5219,  1377.4,   4.6920,  35.0075,2,  35.0072,2,    247.4,2,   247.1,2,   11.66,2,   18.17,2,    0.00,2,    1.20,2,   2.540,2,   1.282,2,   0.130,2,    0.63,2,  2171.4,2, 2309.32,2,   7.7179,2,       25,   0.426,2,   1.8619,2,    6.51,2,   4.6922,2,    -999,9,    -999,9,    -999,   7.947,2,   0.036,    -999,1,    -999,9,    -999,9,  34.2591, -66.2927,   0.011,   0.0074,    0.15,   4.5756,   4.6922,2,-999,9,-999,-999,9,-999,    35.1723,2,-999,9,20120331,        600
33AT20120324,        A22,      22,          1,         15,         15,2,20120331,       0440,    34.2609,   -66.2935,       5219,  1548.2,   4.4198,  34.9990,2,  34.9984,2,    253.1,2,   253.9,2,   11.91,2,   17.99,2,    0.00,2,    1.19,2,   2.370,2,   1.176,2,   0.123,2,    0.50,2,    -999,9,    -999,9,     -999,9,     -999,   0.449,2,   1.8629,2,    6.85,2,   4.4206,2,    -999,9,    -999,9,    -999,   7.975,2,   0.036,    -999,1,    -999,9,    -999,9,  34.2591, -66.2927,   0.011,   0.0075,    0.15,   4.2902,   4.4206,2,-999,9,-999,-999,9,-999,    35.1634,2,-999,9,20120331,        556
33AT20120324,        A22,      22,          1,         14,         14,2,20120331,       0440,    34.2609,   -66.2935,       5219,  1752.5,   4.0386,  34.9741,2,  34.9738,2,    259.4,2,   259.3,2,   12.38,2,   17.78,2,    0.00,2,    1.18,2,   2.242,2,   1.101,2,   0.109,2,    0.39,2,  2166.9,2, 2307.90,2,     -999,9,     -999,   0.379,2,   1.8523,2,    7.70,2,   4.0389,2,    -999,9,    -999,9,    -999,   8.120,2,   0.037,    -999,1,    -999,9,    -999,9,  34.2592, -66.2928,   0.011,   0.0074,    0.15,   3.8944,   4.0389,2,-999,9,-999,-999,9,-999,    35.1388,2,-999,9,20120331,        552
33AT20120324,        A22,      22,          1,         13,         13,2,20120331,       0440,    34.2609,   -66.2935,       5219,  1957.9,   3.8113,  34.9655,2,  34.9654,2,    261.8,2,   262.7,2,   13.11,2,   17.74,2,    0.00,2,    1.18,2,   1.877,2,   0.897,2,   0.089,2,    0.29,2,    -999,9,    -999,9,     -999,9,     -999,   0.351,2,   1.8569,2,    7.88,2,   3.8131,2,    -999,9,    -999,9,    -999,   8.104,2,   0.036,    -999,1,    -999,9,    -999,9,  34.2593, -66.2928,   0.010,   0.0074,    0.15,   3.6506,   3.8131,2,-999,9,-999,-999,9,-999,    35.1303,2,-999,9,20120331,        548
33AT20120324,        A22,      22,          1,         12,         12,2,20120331,       0440,    34.2609,   -66.2935,       5219,  2191.0,   3.6401,  34.9638,2,  34.9633,2,    262.6,2,   262.4,2,   14.63,2,   17.78,2,    0.00,2,    1.19,2,   1.517,2,   0.713,2,   0.066,2,    0.24,2,  2164.0,2, 2309.25,2,   7.7371,2,       25,   0.292,2,   1.8373,2,    7.47,2,   3.6406,2,    -999,9,    -999,9,    -999,   8.028,2,   0.036,    -999,1,    -999,9,    -999,9,  34.2594, -66.2929,   0.010,   0.0073,    0.15,   3.4594,   3.6406,2,-999,9,-999,-999,9,-999,    35.1281,2,-999,9,20120331,        543
33AT20120324,        A22,      22,          1,         11,         11,2,20120331,       0440,    34.2609,   -66.2935,       5219,  2446.2,   3.4482,  34.9598,2,  34.9594,2,    262.0,2,   261.8,2,   16.63,2,   17.97,2,    0.00,2,    1.20,2,   1.146,2,   0.535,2,   0.040,2,    0.16,2,    -999,9,    -999,9,     -999,9,     -999,   0.234,2,   1.8947,2,    6.14,2,   3.4480,2,    -999,9,    -999,9,    -999,   8.249,2,   0.037,    -999,1,    -999,9,    -999,9,  34.2596, -66.2930,   0.011,   0.0076,    0.15,   3.2454,   3.4480,2,-999,9,-999,-999,9,-999,    35.1242,2,-999,9,20120331,        538
33AT20120324,        A22,      22,          1,         10,         10,2,20120331,       0440,    34.2609,   -66.2935,       5219,  2698.1,   3.2029,  34.9482,2,  34.9476,2,    263.2,2,   262.8,2,   18.48,2,   17.98,2,    0.00,2,    1.21,2,   1.024,2,   0.479,2,   0.036,2,    0.15,2,  2165.6,2, 2311.58,2,   7.7424,2,       25,    -999,9,     -999,9,    -999,9,   3.2035,2,    -999,9,    -999,9,    -999,    -999,9,    -999,    -999,1,    -999,9,    -999,9,  34.2597, -66.2931,    -999,     -999,    -999,   2.9792,   3.2035,2,-999,9,-999,-999,9,-999,    35.1124,2,-999,9,20120331,        533
33AT20120324,        A22,      22,          1,          9,          9,2,20120331,       0440,    34.2609,   -66.2935,       5219,  2954.6,   2.9764,  34.9349,2,  34.9350,2,    265.0,2,   265.4,2,   19.56,2,   17.88,2,    0.00,2,    1.21,2,   1.058,2,   0.496,2,   0.039,2,    0.16,2,    -999,9,    -999,9,     -999,9,     -999,   0.221,2,   1.8800,2,    5.90,2,   2.9766,2,    -999,9,    -999,9,    -999,   8.225,2,   0.037,    -999,1,    -999,9,    -999,9,  34.2598, -66.2931,   0.010,   0.0075,    0.15,   2.7309,   2.9766,2,-999,9,-999,-999,9,-999,    35.0998,2,-999,9,20120331,        527
33AT20120324,        A22,      22,          1,          8,          8,2,20120331,       0440,    34.2609,   -66.2935,       5219,  3246.2,   2.7354,  34.9225,2,  34.9221,2,    266.6,2,   267.1,2,   21.21,2,   17.80,2,    0.00,2,    1.21,2,   1.026,2,   0.483,2,   0.040,2,    0.18,2,  2167.5,2, 2314.78,2,   7.7403,2,       25,    -999,9,     -999,9,    -999,9,   2.7351,2,    -999,9,    -999,9,    -999,    -999,9,    -999,    -999,1,    -999,9,    -999,9,  34.2600, -66.2932,    -999,     -999,    -999,   2.4645,   2.7351,2,-999,9,-999,-999,9,-999,    35.0867,2,-999,9,20120331,        522
33AT20120324,        A22,      22,          1,          7,          7,2,20120331,       0440,    34.2609,   -66.2935,       5219,  3553.8,   2.5056,  34.9090,2,  34.9079,2,    268.1,2,   268.7,2,   23.61,2,   17.83,2,    0.00,2,    1.22,2,   1.084,2,   0.509,2,   0.053,2,    0.21,2,    -999,9,    -999,9,     -999,9,     -999,    -999,9,     -999,9,    -999,9,   2.5061,2,    -999,9,    -999,9,    -999,    -999,9,    -999,    -999,1,    -999,9,    -999,9,  34.2601, -66.2933,    -999,     -999,    -999,   2.2071,   2.5061,2,-999,9,-999,-999,9,-999,    35.0725,2,-999,9,20120331,        515
33AT20120324,        A22,      22,          1,          6,          6,2,20120331,       0440,    34.2609,   -66.2935,       5219,  3859.8,   2.3601,  34.8990,2,  34.8983,2,    267.2,2,   267.1,2,   26.84,2,   18.18,2,    0.00,2,    1.25,2,   0.985,2,   0.466,2,   0.044,2,    0.23,2,  2171.8,2, 2320.77,2,   7.7398,2,       25,   0.177,2,   1.8783,2,    5.66,2,   2.3604,2,    -999,9,    -999,9,    -999,   8.205,2,   0.037,    -999,1,    -999,9,    -999,9,  34.2602, -66.2933,   0.010,   0.0075,    0.15,   2.0316,   2.3604,2,-999,9,-999,-999,9,-999,    35.0629,2,-999,9,20120331,        509