BOTTLE,20220725CCHSIOCBG
EXPOCODE,SECT_ID,STNNBR,CASTNO,SAMPNO,BTLNBR,BTLNBR_FLAG_W,DATE,TIME,LATITUDE,LONGITUDE,DEPTH,CTDPRS,CTDTMP,CTDSAL,CTDSAL_FLAG_W,SALNTY,SALNTY_FLAG_W,CTDOXY,CTDOXY_FLAG_W,OXYGEN,OXYGEN_FLAG_W,SILCAT,SILCAT_FLAG_W,NITRAT,NITRAT_FLAG_W,NITRIT,NITRIT_FLAG_W,PHSPHT,PHSPHT_FLAG_W,CFC-11,CFC-11_FLAG_W,CFC-12,CFC-12_FLAG_W,CFC113,CFC113_FLAG_W,SF6,SF6_FLAG_W,TCARBN,TCARBN_FLAG_W,ALKALI,ALKALI_FLAG_W,PH_TOT,PH_TOT_FLAG_W,PH_TMP,TRITUM,TRITUM_FLAG_W,HELIUM,HELIUM_FLAG_W,DELHE3,DELHE3_FLAG_W,REFTMP,REFTMP_FLAG_W,DELC13,DELC13_FLAG_W,DELC14,DELC14_FLAG_W,C14ERR,NEON,NEON_FLAG_W,NEONER,CCL4,CCL4_FLAG_W,DOC,DOC_FLAG_W,TDN,TDN_FLAG_W,BTL_LAT,BTL_LON,TRITER,HELIER,DELHER,THETA,SBE35,SBE35_FLAG_W,14C-DOC,14C-DOC_FLAG_W,14C-DOCERR,13C-DOC,13C-DOC_FLAG_W,13C-DOCERR,SALTREF,SALTREF_FLAG_W,LAB_DEN,LAB_DEN_FLAG_W,BTL_DATE,BTL_TIME
,,,,,,,,,,,METERS,DBAR,ITS-90,PSS-78,,PSS-78,,UMOL/KG,,UMOL/KG,,UMOL/KG,,UMOL/KG,,UMOL/KG,,UMOL/KG,,PMOL/KG,,PMOL/KG,,PMOL/KG,,FMOL/KG,,UMOL/KG,,UMOL/KG,,,,DEG C,TU,,NMOL/KG,,PERCNT,,DEG C,,/MILLE,,/MILLE,,/MILLE,NMOL/KG,,NMOL/KG,PMOL/KG,,UMOL/KG,,UMOL/KG,,,,TU,NMOL/KG,PERCNT,DEG C,ITS-90,,/MILLE,,/MILLE,/MILLE,,/MILLE,G/KG,,KG/M^3,,,
33AT20120324,        A22,      62,          1,         36,         36,2,20120410,       0733,    17.5025,   -66.0027,       3053,     3.4,  27.0757,  35.7477,2,  35.7479,2,    199.8,2,   199.8,2,    1.65,2,    0.00,2,    0.00,2,    0.00,2,   1.626,2,   1.017,2,   0.136,2,    1.18,2,  1996.3,6, 2346.09,2,   8.1077,2,       25,    -999,9,     -999,9,    -999,9,  27.0758,2,    -999,9,    -999,9,    -999,    -999,9,    -999,    -999,1,    -999,9,    -999,9,  17.5084, -66.0021,    -999,     -999,    -999,  27.0749,  27.0758,2,-999,9,-999,-999,9,-999,    35.9165,2,-999,9,20120410,        909
33AT20120324,        A22,      62,          1,         35,         35,2,20120410,       0733,    17.5025,   -66.0027,       3053,    25.5,  27.0048,  35.9794,2,  35.9882,2,    200.0,2,   201.1,2,    1.38,2,    0.00,2,    0.00,2,    0.00,2,   1.627,2,   1.035,2,   0.133,2,    1.16,2,    -999,9,    -999,9,     -999,9,     -999,    -999,9,     -999,9,    -999,9,  27.0041,2,    -999,9,    -999,9,    -999,    -999,9,    -999,    -999,1,    -999,9,    -999,9,  17.5083, -66.0021,    -999,     -999,    -999,  26.9989,  27.0041,2,-999,9,-999,-999,9,-999,    36.1579,2,-999,9,20120410,        907
33AT20120324,        A22,      62,          1,         34,         34,2,20120410,       0733,    17.5025,   -66.0027,       3053,    50.5,  26.4436,  36.1856,2,  36.1909,2,    205.2,2,   204.2,2,    1.04,2,    0.00,2,    0.00,2,    0.00,2,   1.663,2,   0.993,2,   0.127,2,    1.12,2,  2015.3,2, 2371.17,6,   8.1098,6,       25,    -999,9,     -999,9,    -999,9,  26.4459,2,    -999,9,    -999,9,    -999,    -999,9,    -999,    -999,1,    -999,9,    -999,9,  17.5081, -66.0021,    -999,     -999,    -999,  26.4322,  26.4459,2,-999,9,-999,-999,9,-999,    36.3616,2,-999,9,20120410,        906
33AT20120324,        A22,      62,          1,         33,         33,2,20120410,       0733,    17.5025,   -66.0027,       3053,    75.4,  26.2209,  36.2462,2,  36.2544,2,    202.9,2,   201.2,2,    1.02,2,    0.00,2,    0.00,2,    0.00,2,   1.669,2,   1.045,2,   0.132,2,    1.24,2,    -999,9,    -999,9,     -999,9,     -999,    -999,9,     -999,9,    -999,9,  26.2205,2,    -999,9,    -999,9,    -999,    -999,9,    -999,    -999,1,    -999,9,    -999,9,  17.5080, -66.0022,    -999,     -999,    -999,  26.2039,  26.2205,2,-999,9,-999,-999,9,-999,    36.4254,2,-999,9,20120410,        904
33AT20120324,        A22,      62,          1,         32,         32,2,20120410,       0733,    17.5025,   -66.0027,       3053,   106.4,  25.5780,  36.6931,2,  36.7516,2,    183.8,2,   182.1,2,    0.78,2,    0.32,2,    0.14,2,    0.02,2,    -999,9,    -999,9,    -999,9,    -999,9,  2073.0,2, 2405.16,2,   8.0601,2,       25,    -999,9,     -999,9,    -999,9,  25.5762,2,    -999,9,    -999,9,    -999,    -999,9,    -999,    -999,9,    -999,9,    -999,9,  17.5079, -66.0022,    -999,     -999,    -999,  25.5544,  25.5762,2,-999,9,-999,-999,9,-999,    36.9249,2,-999,9,20120410,        902
33AT20120324,        A22,      62,          1,         31,         31,2,20120410,       0733,    17.5025,   -66.0027,       3053,   125.8,  24.5658,  37.1233,2,  37.1226,2,    174.8,2,   172.5,2,    0.61,2,    1.11,2,    0.07,2,    0.04,2,   1.786,2,   1.121,2,   0.114,2,    1.14,2,  2106.7,2, 2425.40,2,   8.0348,2,       25,    -999,9,     -999,9,    -999,9,  24.5650,2,    -999,9,    -999,9,    -999,    -999,9,    -999,    -999,1,    -999,9,    -999,9,  17.5078, -66.0022,    -999,     -999,    -999,  24.5386,  24.5650,2,-999,9,-999,-999,9,-999,    37.2977,2,-999,9,20120410,        900
33AT20120324,        A22,      62,          1,         30,         30,2,20120410,       0733,    17.5025,   -66.0027,       3053,   152.3,  22.9630,  37.0829,2,  37.0801,2,    166.5,2,   165.9,2,    0.73,2,    2.32,2,    0.04,2,    0.10,2,   1.913,2,   1.146,2,   0.084,2,    1.14,2,  2125.7,2, 2423.00,2,   7.9992,2,       25,    -999,9,     -999,9,    -999,9,  22.9598,2,    -999,9,    -999,9,    -999,    -999,9,    -999,    -999,1,    -999,9,    -999,9,  17.5077, -66.0022,    -999,     -999,    -999,  22.9316,  22.9598,2,-999,9,-999,-999,9,-999,    37.2549,2,-999,9,20120410,        858
33AT20120324,        A22,      62,          1,         29,         29,2,20120410,       0733,    17.5025,   -66.0027,       3053,   175.6,  21.4532,  36.9378,2,  36.9268,2,    158.7,2,   157.0,2,    1.18,2,    4.34,2,    0.01,2,    0.20,2,   2.002,2,   1.254,2,   0.043,2,    1.09,2,    -999,9,    -999,9,     -999,9,     -999,    -999,9,     -999,9,    -999,9,  21.4602,2,    -999,9,    -999,9,    -999,    -999,9,    -999,    -999,1,    -999,9,    -999,9,  17.5076, -66.0022,    -999,     -999,    -999,  21.4187,  21.4602,2,-999,9,-999,-999,9,-999,    37.1009,2,-999,9,20120410,        857
33AT20120324,        A22,      62,          1,         28,         28,2,20120410,       0733,    17.5025,   -66.0027,       3053,   202.8,  19.7979,  36.7135,2,  36.6966,2,    149.6,2,   151.0,2,    2.00,2,    6.99,2,    0.01,2,    0.36,2,    -999,9,    -999,9,    -999,9,    -999,9,  2150.2,2, 2398.04,2,   7.9188,2,       25,    -999,9,     -999,9,    -999,9,  19.7943,2,    -999,9,    -999,9,    -999,    -999,9,    -999,    -999,9,    -999,9,    -999,9,  17.5075, -66.0022,    -999,     -999,    -999,  19.7603,  19.7943,2,-999,9,-999,-999,9,-999,    36.8696,2,-999,9,20120410,        855
33AT20120324,        A22,      62,          1,         27,         27,2,20120410,       0733,    17.5025,   -66.0027,       3053,   223.1,  18.9031,  36.5930,2,  36.5923,2,    148.7,2,   152.4,2,    2.21,2,    7.95,2,    0.01,2,    0.43,2,   2.149,2,   1.261,2,   0.009,2,    1.09,2,    -999,9,    -999,9,     -999,9,     -999,    -999,9,     -999,9,    -999,9,  18.9023,2,    -999,9,    -999,9,    -999,    -999,9,    -999,    -999,1,    -999,9,    -999,9,  17.5075, -66.0022,    -999,     -999,    -999,  18.8630,  18.9023,2,-999,9,-999,-999,9,-999,    36.7649,2,-999,9,20120410,        853
33AT20120324,        A22,      62,          1,         26,         26,2,20120410,       0733,    17.5025,   -66.0027,       3053,   254.3,  17.6338,  36.3732,2,  36.3932,2,    156.4,2,   151.7,2,    3.01,2,   10.01,2,    0.01,2,    0.57,2,   2.195,2,   1.276,2,   0.009,2,    0.98,2,  2154.0,2, 2379.90,2,   7.8789,2,       25,    -999,9,     -999,9,    -999,9,  17.6332,2,    -999,9,    -999,9,    -999,    -999,9,    -999,    -999,1,    -999,9,    -999,9,  17.5074, -66.0022,    -999,     -999,    -999,  17.5903,  17.6332,2,-999,9,-999,-999,9,-999,    36.5648,2,-999,9,20120410,        852
33AT20120324,        A22,      62,          1,         25,         25,2,20120410,       0733,    17.5025,   -66.0027,       3053,   301.0,  16.4905,  36.2313,2,  36.2164,2,    150.8,2,   155.7,2,    3.48,2,   11.35,2,    0.00,2,    0.65,2,   2.243,2,   1.271,2,   0.012,2,    0.98,2,  2153.3,2, 2368.62,2,   7.8653,2,       25,    -999,9,     -999,9,    -999,9,  16.4814,2,    -999,9,    -999,9,    -999,    -999,9,    -999,    -999,1,    -999,9,    -999,9,  17.5073, -66.0022,    -999,     -999,    -999,  16.4413,  16.4814,2,-999,9,-999,-999,9,-999,    36.3872,2,-999,9,20120410,        850
33AT20120324,        A22,      62,          1,         24,         24,2,20120410,       0733,    17.5025,   -66.0027,       3053,   352.2,  14.7387,  35.9032,2,  35.8954,2,    141.6,2,   142.7,2,    5.54,2,   15.55,2,    0.00,2,    0.94,2,   2.161,2,   1.193,2,   0.010,2,    0.79,2,    -999,9,    -999,9,     -999,9,     -999,    -999,9,     -999,9,    -999,9,  14.7361,2,    -999,9,    -999,9,    -999,    -999,9,    -999,    -999,1,    -999,9,    -999,9,  17.5072, -66.0022,    -999,     -999,    -999,  14.6853,  14.7361,2,-999,9,-999,-999,9,-999,    36.0647,2,-999,9,20120410,        848
33AT20120324,        A22,      62,          1,         23,         23,2,20120410,       0733,    17.5025,   -66.0027,       3053,   401.9,  13.5877,  35.7007,2,  35.6949,2,    134.6,2,   134.2,2,    7.12,2,   18.30,2,    0.00,2,    1.12,2,    -999,9,    -999,9,    -999,9,    -999,9,  2175.3,2, 2341.65,2,   7.7624,2,       25,    -999,9,     -999,9,    -999,9,  13.5842,2,    -999,9,    -999,9,    -999,    -999,9,    -999,    -999,9,    -999,9,    -999,9,  17.5071, -66.0022,    -999,     -999,    -999,  13.5300,  13.5842,2,-999,9,-999,-999,9,-999,    35.8633,2,-999,9,20120410,        846
33AT20120324,        A22,      62,          1,         22,         22,2,20120410,       0733,    17.5025,   -66.0027,       3053,   452.8,  12.4252,  35.5475,2,  35.5532,2,    134.2,2,   133.5,2,    8.59,2,   20.30,2,    0.00,2,    1.25,2,   1.847,2,   1.018,2,   0.016,2,    0.55,2,  2180.4,2, 2333.92,2,   7.7359,2,       25,    -999,9,     -999,9,    -999,9,  12.4570,2,    -999,9,    -999,9,    -999,    -999,9,    -999,    -999,1,    -999,9,    -999,9,  17.5070, -66.0022,    -999,     -999,    -999,  12.3638,  12.4570,2,-999,9,-999,-999,9,-999,    35.7209,2,-999,9,20120410,        844
33AT20120324,        A22,      62,          1,         21,         21,2,20120410,       0733,    17.5025,   -66.0027,       3053,   502.2,  11.4785,  35.3945,2,  35.3832,2,    127.9,2,   127.7,2,   10.52,2,   22.95,2,    0.00,2,    1.42,2,   1.631,2,   0.874,2,   0.019,2,    0.45,2,  2188.1,2, 2327.16,2,   7.6964,2,       25,    -999,9,     -999,9,    -999,9,  11.4652,2,    -999,9,    -999,9,    -999,    -999,9,    -999,    -999,1,    -999,9,    -999,9,  17.5069, -66.0023,    -999,     -999,    -999,  11.4137,  11.4652,2,-999,9,-999,-999,9,-999,    35.5501,2,-999,9,20120410,        842
33AT20120324,        A22,      62,          1,         20,         20,2,20120410,       0733,    17.5025,   -66.0027,       3053,   602.0,   9.4168,  35.0899,2,  35.0867,2,    123.9,2,   123.1,2,   14.96,2,   27.23,2,    0.00,2,    1.74,2,    -999,9,    -999,9,    -999,9,    -999,9,  2199.7,6, 2315.71,2,   7.6383,2,       25,    -999,9,     -999,9,    -999,9,   9.4147,2,    -999,9,    -999,9,    -999,    -999,9,    -999,    -999,9,    -999,9,    -999,9,  17.5068, -66.0023,    -999,     -999,    -999,   9.3480,   9.4147,2,-999,9,-999,-999,9,-999,    35.2522,2,-999,9,20120410,        840
33AT20120324,        A22,      62,          1,         19,         19,2,20120410,       0733,    17.5025,   -66.0027,       3053,   703.9,   7.9217,  34.9188,2,  34.9139,2,    127.5,2,   126.3,2,   19.03,2,   29.77,2,    0.00,2,    1.93,2,   0.754,2,   0.378,2,   0.012,2,    0.21,2,  2208.9,2, 2311.11,2,   7.6063,2,       25,    -999,9,     -999,9,    -999,9,   7.9195,2,    -999,9,    -999,9,    -999,    -999,9,    -999,    -999,1,    -999,9,    -999,9,  17.5067, -66.0023,    -999,     -999,    -999,   7.8486,   7.9195,2,-999,9,-999,-999,9,-999,    35.0785,2,-999,9,20120410,        837
33AT20120324,        A22,      62,          1,         18,         18,2,20120410,       0733,    17.5025,   -66.0027,       3053,   806.0,   6.7288,  34.8483,2,  34.8521,2,    137.3,2,   139.4,2,   22.03,2,   30.06,2,    0.00,2,    1.99,2,   0.450,2,   0.229,2,   0.007,2,    0.12,2,  2210.9,2, 2312.16,2,   7.6026,2,       25,    -999,9,     -999,9,    -999,9,   6.7289,2,    -999,9,    -999,9,    -999,    -999,9,    -999,    -999,1,    -999,9,    -999,9,  17.5066, -66.0023,    -999,     -999,    -999,   6.6518,   6.7289,2,-999,9,-999,-999,9,-999,    35.0165,2,-999,9,20120410,        835
33AT20120324,        A22,      62,          1,         17,         17,2,20120410,       0733,    17.5025,   -66.0027,       3053,   907.5,   5.9930,  34.9016,2,  34.9015,2,    158.9,2,   158.9,2,   22.81,2,   27.72,2,    0.00,2,    1.84,2,   0.331,2,   0.167,2,   0.009,2,    0.12,2,    -999,9,    -999,9,     -999,9,     -999,    -999,9,     -999,9,    -999,9,   5.9921,2,    -999,9,    -999,9,    -999,    -999,9,    -999,    -999,1,    -999,9,    -999,9,  17.5064, -66.0023,    -999,     -999,    -999,   5.9106,   5.9921,2,-999,9,-999,-999,9,-999,    35.0661,2,-999,9,20120410,        832
33AT20120324,        A22,      62,          1,         16,         16,2,20120410,       0733,    17.5025,   -66.0027,       3053,  1007.1,   5.3466,  34.9383,2,  34.9387,2,    180.1,2,   179.8,2,   23.28,2,   25.51,2,    0.00,2,    1.71,2,    -999,9,    -999,9,    -999,9,    -999,9,  2198.2,2, 2322.56,2,   7.6627,2,       25,    -999,9,     -999,9,    -999,9,   5.3495,2,    -999,9,    -999,9,    -999,    -999,9,    -999,    -999,9,    -999,9,    -999,9,  17.5062, -66.0023,    -999,     -999,    -999,   5.2593,   5.3495,2,-999,9,-999,-999,9,-999,    35.1034,2,-999,9,20120410,        830
33AT20120324,        A22,      62,          1,         15,         15,2,20120410,       0733,    17.5025,   -66.0027,       3053,  1109.4,   4.9012,  34.9557,2,  34.9566,2,    192.6,2,   193.8,2,   23.59,2,   24.15,2,    0.00,2,    1.63,2,   0.245,2,    -999,5,   0.007,2,    0.06,2,    -999,9,    -999,9,     -999,9,     -999,    -999,9,     -999,9,    -999,9,   4.9011,2,    -999,9,    -999,9,    -999,    -999,9,    -999,    -999,1,    -999,9,    -999,9,  17.5060, -66.0023,    -999,     -999,    -999,   4.8079,   4.9011,2,-999,9,-999,-999,9,-999,    35.1214,2,-999,9,20120410,        827
33AT20120324,        A22,      62,          1,         14,         14,2,20120410,       0733,    17.5025,   -66.0027,       3053,  1209.7,   4.6482,  34.9630,2,  34.9633,2,    200.6,2,   201.2,2,   23.73,2,   23.39,2,    0.00,2,    1.58,2,   0.219,2,   0.100,2,   0.006,2,    0.07,2,  2192.9,2, 2326.45,2,   7.6888,2,       25,    -999,9,     -999,9,    -999,9,   4.6475,2,    -999,9,    -999,9,    -999,    -999,9,    -999,    -999,1,    -999,9,    -999,9,  17.5058, -66.0024,    -999,     -999,    -999,   4.5479,   4.6475,2,-999,9,-999,-999,9,-999,    35.1281,2,-999,9,20120410,        824
33AT20120324,        A22,      62,          1,         13,         13,2,20120410,       0733,    17.5025,   -66.0027,       3053,  1310.2,   4.4398,  34.9678,2,  34.9725,2,    206.9,2,   207.0,2,   24.43,2,   22.86,2,    0.00,2,    1.55,2,    -999,5,    -999,5,    -999,5,    0.06,2,    -999,9,    -999,9,     -999,9,     -999,    -999,9,     -999,9,    -999,9,   4.4397,2,    -999,9,    -999,9,    -999,    -999,9,    -999,    -999,1,    -999,9,    -999,9,  17.5056, -66.0024,    -999,     -999,    -999,   4.3323,   4.4397,2,-999,9,-999,-999,9,-999,    35.1374,2,-999,9,20120410,        822
33AT20120324,        A22,      62,          1,         12,         12,2,20120410,       0733,    17.5025,   -66.0027,       3053,  1411.8,   4.3223,  34.9699,2,  34.9699,2,    209.6,2,   208.6,2,   25.32,2,   22.62,2,    0.00,2,    1.53,2,    -999,9,    -999,9,    -999,9,    -999,9,    -999,9,    -999,9,     -999,9,     -999,    -999,9,     -999,9,    -999,9,   4.3219,2,    -999,9,    -999,9,    -999,    -999,9,    -999,    -999,9,    -999,9,    -999,9,  17.5053, -66.0024,    -999,     -999,    -999,   4.2066,   4.3219,2,-999,9,-999,-999,9,-999,    35.1348,2,-999,9,20120410,        819
33AT20120324,        A22,      62,          1,         11,         11,2,20120410,       0733,    17.5025,   -66.0027,       3053,  1514.2,   4.2495,  34.9713,2,  34.9723,2,    211.7,2,   212.3,2,   25.50,2,   22.35,2,    0.00,2,    1.51,2,   0.187,2,   0.075,2,   0.007,2,    0.08,2,  2192.3,2, 2329.57,2,   7.6999,2,       25,    -999,9,     -999,9,    -999,9,   4.2482,2,    -999,9,    -999,9,    -999,    -999,9,    -999,    -999,1,    -999,9,    -999,9,  17.5051, -66.0024,    -999,     -999,    -999,   4.1251,   4.2482,2,-999,9,-999,-999,9,-999,    35.1372,2,-999,9,20120410,        816
33AT20120324,        A22,      62,          1,         10,         10,2,20120410,       0733,    17.5025,   -66.0027,       3053,  1614.8,   4.1899,  34.9725,2,  34.9729,2,    215.2,2,   215.0,2,   25.32,2,   22.02,2,    0.00,2,    1.50,2,   0.272,2,   0.114,2,   0.013,2,    0.13,2,    -999,9,    -999,9,     -999,9,     -999,    -999,9,     -999,9,    -999,9,   4.1899,2,    -999,9,    -999,9,    -999,    -999,9,    -999,    -999,1,    -999,9,    -999,9,  17.5049, -66.0024,    -999,     -999,    -999,   4.0568,   4.1899,2,-999,9,-999,-999,9,-999,    35.1378,2,-999,9,20120410,        814
33AT20120324,        A22,      62,          1,          9,          9,2,20120410,       0733,    17.5025,   -66.0027,       3053,  1716.2,   4.1599,  34.9726,2,  34.9731,2,    213.2,2,   213.0,2,   26.88,2,   22.28,2,    0.00,2,    1.52,2,   0.113,2,   0.054,2,   0.007,2,    0.15,2,    -999,9,    -999,9,     -999,9,     -999,    -999,9,     -999,9,    -999,9,   4.1597,2,    -999,9,    -999,9,    -999,    -999,9,    -999,    -999,1,    -999,9,    -999,9,  17.5048, -66.0024,    -999,     -999,    -999,   4.0176,   4.1597,2,-999,9,-999,-999,9,-999,    35.1380,2,-999,9,20120410,        811
33AT20120324,        A22,      62,          1,          8,          8,2,20120410,       0733,    17.5025,   -66.0027,       3053,  1819.2,   4.1383,  34.9731,2,  34.9733,2,    213.7,2,   213.2,2,   27.25,2,   22.26,2,    0.00,2,    1.51,2,    -999,9,    -999,9,    -999,9,    -999,9,  2193.0,2, 2334.85,2,   7.7059,2,       25,    -999,9,     -999,9,    -999,9,   4.1379,2,    -999,9,    -999,9,    -999,    -999,9,    -999,    -999,9,    -999,9,    -999,9,  17.5047, -66.0024,    -999,     -999,    -999,   3.9864,   4.1379,2,-999,9,-999,-999,9,-999,    35.1382,2,-999,9,20120410,        808
33AT20120324,        A22,      62,          1,          7,          7,2,20120410,       0733,    17.5025,   -66.0027,       3053,  2021.5,   4.1177,  34.9745,2,  34.9746,2,    215.8,2,   217.4,2,   26.47,2,   21.87,2,    0.00,2,    1.49,2,   0.195,2,   0.094,2,   0.012,2,    0.17,2,    -999,9,    -999,9,     -999,9,     -999,    -999,9,     -999,9,    -999,9,   4.1175,2,    -999,9,    -999,9,    -999,    -999,9,    -999,    -999,1,    -999,9,    -999,9,  17.5044, -66.0025,    -999,     -999,    -999,   3.9463,   4.1175,2,-999,9,-999,-999,9,-999,    35.1396,2,-999,9,20120410,        804
33AT20120324,        A22,      62,          1,          6,          6,2,20120410,       0733,    17.5025,   -66.0027,       3053,  2221.7,   4.1090,  34.9742,2,  34.9778,4,    218.0,2,   217.7,2,   26.69,2,   21.77,2,    0.00,2,    1.48,2,   0.206,2,   0.110,2,   0.015,2,    0.18,2,    -999,9,    -999,9,     -999,9,     -999,    -999,9,     -999,9,    -999,9,   4.1087,2,    -999,9,    -999,9,    -999,    -999,9,    -999,    -999,1,    -999,9,    -999,9,  17.5042, -66.0025,    -999,     -999,    -999,   3.9176,   4.1087,2,-999,9,-999,-999,9,-999,    35.1427,4,-999,9,20120410,        800