BOTTLE,20220725CCHSIOCBG
EXPOCODE,SECT_ID,STNNBR,CASTNO,SAMPNO,BTLNBR,BTLNBR_FLAG_W,DATE,TIME,LATITUDE,LONGITUDE,DEPTH,CTDPRS,CTDTMP,CTDSAL,CTDSAL_FLAG_W,SALNTY,SALNTY_FLAG_W,CTDOXY,CTDOXY_FLAG_W,OXYGEN,OXYGEN_FLAG_W,SILCAT,SILCAT_FLAG_W,NITRAT,NITRAT_FLAG_W,NITRIT,NITRIT_FLAG_W,PHSPHT,PHSPHT_FLAG_W,CFC-11,CFC-11_FLAG_W,CFC-12,CFC-12_FLAG_W,CFC113,CFC113_FLAG_W,SF6,SF6_FLAG_W,TCARBN,TCARBN_FLAG_W,ALKALI,ALKALI_FLAG_W,PH_TOT,PH_TOT_FLAG_W,PH_TMP,TRITUM,TRITUM_FLAG_W,HELIUM,HELIUM_FLAG_W,DELHE3,DELHE3_FLAG_W,REFTMP,REFTMP_FLAG_W,DELC13,DELC13_FLAG_W,DELC14,DELC14_FLAG_W,C14ERR,NEON,NEON_FLAG_W,NEONER,CCL4,CCL4_FLAG_W,DOC,DOC_FLAG_W,TDN,TDN_FLAG_W,BTL_LAT,BTL_LON,TRITER,HELIER,DELHER,THETA,SBE35,SBE35_FLAG_W,14C-DOC,14C-DOC_FLAG_W,14C-DOCERR,13C-DOC,13C-DOC_FLAG_W,13C-DOCERR,SALTREF,SALTREF_FLAG_W,LAB_DEN,LAB_DEN_FLAG_W,BTL_DATE,BTL_TIME
,,,,,,,,,,,METERS,DBAR,ITS-90,PSS-78,,PSS-78,,UMOL/KG,,UMOL/KG,,UMOL/KG,,UMOL/KG,,UMOL/KG,,UMOL/KG,,PMOL/KG,,PMOL/KG,,PMOL/KG,,FMOL/KG,,UMOL/KG,,UMOL/KG,,,,DEG C,TU,,NMOL/KG,,PERCNT,,DEG C,,/MILLE,,/MILLE,,/MILLE,NMOL/KG,,NMOL/KG,PMOL/KG,,UMOL/KG,,UMOL/KG,,,,TU,NMOL/KG,PERCNT,DEG C,ITS-90,,/MILLE,,/MILLE,/MILLE,,/MILLE,G/KG,,KG/M^3,,,
33AT20120324,        A22,      52,          1,         31,         31,2,20120408,       1920,    18.7513,   -66.0035,       1978,     2.8,  27.3804,  35.8188,2,  35.8190,2,    202.7,2,   203.0,2,    1.22,2,    0.00,2,    0.00,2,    0.00,2,   1.652,2,   1.056,2,   0.135,2,    1.19,2,  2003.4,6, 2349.19,6,   8.1052,6,       25,    -999,9,     -999,9,    -999,9,  27.3716,2,    -999,9,    -999,9,    -999,    -999,9,    -999,    -999,1,    -999,9,    -999,9,  18.7511, -66.0034,    -999,     -999,    -999,  27.3797,  27.3716,2,-999,9,-999,-999,9,-999,    35.9880,2,-999,9,20120408,       2026
33AT20120324,        A22,      52,          1,         30,         30,2,20120408,       1920,    18.7513,   -66.0035,       1978,    21.0,  26.5243,  35.8353,2,  35.8380,2,    205.3,2,   204.1,2,    1.29,2,    0.00,2,    0.00,2,    0.00,2,   1.662,2,   1.066,2,   0.140,2,    1.23,2,  2005.2,2, 2349.41,2,   8.1038,2,       25,    -999,9,     -999,9,    -999,9,  26.5214,2,    -999,9,    -999,9,    -999,    -999,9,    -999,    -999,1,    -999,9,    -999,9,  18.7511, -66.0034,    -999,     -999,    -999,  26.5195,  26.5214,2,-999,9,-999,-999,9,-999,    36.0070,2,-999,9,20120408,       2025
33AT20120324,        A22,      52,          1,         29,         29,2,20120408,       1920,    18.7513,   -66.0035,       1978,    40.9,  25.9969,  36.0163,2,  36.0665,2,    202.8,2,   202.1,2,    0.92,2,    0.00,2,    0.00,2,    0.00,2,   1.662,2,   1.073,2,   0.132,2,    1.19,2,  2017.0,2, 2360.75,2,   8.0998,2,       25,    -999,9,     -999,9,    -999,9,  26.0013,2,    -999,9,    -999,9,    -999,    -999,9,    -999,    -999,1,    -999,9,    -999,9,  18.7511, -66.0034,    -999,     -999,    -999,  25.9877,  26.0013,2,-999,9,-999,-999,9,-999,    36.2366,2,-999,9,20120408,       2023
33AT20120324,        A22,      52,          1,         28,         28,2,20120408,       1920,    18.7513,   -66.0035,       1978,    65.9,  25.5266,  36.3349,2,  36.3307,2,    205.3,2,   204.9,2,    0.77,2,    0.00,2,    0.00,2,    0.00,2,   1.704,2,   1.083,2,   0.140,2,    1.18,2,    -999,9,    -999,9,     -999,9,     -999,    -999,9,     -999,9,    -999,9,  25.5263,2,    -999,9,    -999,9,    -999,    -999,9,    -999,    -999,1,    -999,9,    -999,9,  18.7510, -66.0034,    -999,     -999,    -999,  25.5120,  25.5263,2,-999,9,-999,-999,9,-999,    36.5020,2,-999,9,20120408,       2021
33AT20120324,        A22,      52,          1,         27,         27,2,20120408,       1920,    18.7513,   -66.0035,       1978,    90.8,  25.6012,  36.7648,2,  36.7717,2,    191.5,2,   191.2,2,    0.59,2,    0.07,2,    0.07,2,    0.00,2,   1.731,2,   1.104,2,   0.128,2,    1.13,2,  2066.5,2, 2406.64,2,   8.0775,2,       25,    -999,9,     -999,9,    -999,9,  25.6001,2,    -999,9,    -999,9,    -999,    -999,9,    -999,    -999,1,    -999,9,    -999,9,  18.7510, -66.0034,    -999,     -999,    -999,  25.5810,  25.6001,2,-999,9,-999,-999,9,-999,    36.9451,2,-999,9,20120408,       2019
33AT20120324,        A22,      52,          1,         26,         26,2,20120408,       1920,    18.7513,   -66.0035,       1978,   116.2,  24.3266,  37.0389,2,  37.0609,2,    175.1,2,   174.8,2,    0.59,2,    1.39,2,    0.05,2,    0.06,2,   1.821,2,   1.161,2,   0.107,2,    1.25,2,    -999,9,    -999,9,     -999,9,     -999,    -999,9,     -999,9,    -999,9,  24.3200,2,    -999,9,    -999,9,    -999,    -999,9,    -999,    -999,1,    -999,9,    -999,9,  18.7509, -66.0034,    -999,     -999,    -999,  24.3017,  24.3200,2,-999,9,-999,-999,9,-999,    37.2357,2,-999,9,20120408,       2017
33AT20120324,        A22,      52,          1,         25,         25,2,20120408,       1920,    18.7513,   -66.0035,       1978,   141.4,  22.1862,  37.0087,2,  36.9956,2,    167.3,2,   169.3,2,    0.71,2,    2.44,2,    0.02,2,    0.11,2,   1.957,2,   1.234,2,   0.077,2,    1.08,2,  2128.5,2, 2417.79,2,   7.9904,2,       25,    -999,9,     -999,9,    -999,9,  22.1799,2,    -999,9,    -999,9,    -999,    -999,9,    -999,    -999,1,    -999,9,    -999,9,  18.7509, -66.0033,    -999,     -999,    -999,  22.1578,  22.1799,2,-999,9,-999,-999,9,-999,    37.1700,2,-999,9,20120408,       2015
33AT20120324,        A22,      52,          1,         24,         24,2,20120408,       1920,    18.7513,   -66.0035,       1978,   165.7,  21.0178,  36.8550,2,  36.8539,2,    188.2,2,   187.6,2,    0.38,2,    0.94,2,    0.02,2,    0.02,2,   2.048,2,   1.281,2,   0.074,2,    1.27,2,    -999,9,    -999,9,     -999,9,     -999,    -999,9,     -999,9,    -999,9,  21.0194,2,    -999,9,    -999,9,    -999,    -999,9,    -999,    -999,1,    -999,9,    -999,9,  18.7509, -66.0033,    -999,     -999,    -999,  20.9858,  21.0194,2,-999,9,-999,-999,9,-999,    37.0276,2,-999,9,20120408,       2013
33AT20120324,        A22,      52,          1,         23,         23,2,20120408,       1920,    18.7513,   -66.0035,       1978,   191.4,  19.7787,  36.7569,2,  36.7568,2,    183.4,2,   183.4,2,    0.56,2,    2.20,2,    0.01,2,    0.07,2,   2.148,2,   1.335,2,   0.031,2,    1.25,2,  2123.1,2, 2402.44,2,   7.9799,2,       25,    -999,9,     -999,9,    -999,9,  19.7781,2,    -999,9,    -999,9,    -999,    -999,9,    -999,    -999,1,    -999,9,    -999,9,  18.7508, -66.0033,    -999,     -999,    -999,  19.7432,  19.7781,2,-999,9,-999,-999,9,-999,    36.9302,2,-999,9,20120408,       2012
33AT20120324,        A22,      52,          1,         22,         22,2,20120408,       1920,    18.7513,   -66.0035,       1978,   214.6,  19.2259,  36.6993,2,  36.6983,2,    180.6,2,   181.9,2,    0.74,2,    3.37,2,    0.01,2,    0.13,2,    -999,5,    -999,5,    -999,5,    -999,5,    -999,9,    -999,9,     -999,9,     -999,    -999,9,     -999,9,    -999,9,  19.2239,2,    -999,9,    -999,9,    -999,    -999,9,    -999,    -999,1,    -999,9,    -999,9,  18.7508, -66.0033,    -999,     -999,    -999,  19.1869,  19.2239,2,-999,9,-999,-999,9,-999,    36.8714,2,-999,9,20120408,       2010
33AT20120324,        A22,      52,          1,         21,         21,2,20120408,       1920,    18.7513,   -66.0035,       1978,   241.5,  18.6842,  36.6325,2,  36.6315,2,    187.8,2,   187.7,2,    0.91,2,    3.96,2,    0.01,2,    0.17,2,   2.239,2,   1.354,2,   0.015,2,    1.23,2,    -999,9,    -999,9,     -999,9,     -999,    -999,9,     -999,9,    -999,9,  18.6832,2,    -999,9,    -999,9,    -999,    -999,9,    -999,    -999,1,    -999,9,    -999,9,  18.7508, -66.0033,    -999,     -999,    -999,  18.6412,  18.6832,2,-999,9,-999,-999,9,-999,    36.8042,2,-999,9,20120408,       2009
33AT20120324,        A22,      52,          1,         20,         20,2,20120408,       1920,    18.7513,   -66.0035,       1978,   286.2,  18.0036,  36.5383,2,  36.5368,2,    192.1,2,   192.4,2,    1.25,2,    5.07,2,    0.01,2,    0.24,2,   2.302,2,   1.395,2,   0.016,2,    1.22,2,  2120.5,2, 2388.62,2,   7.9621,2,       25,    -999,9,     -999,9,    -999,9,  18.0027,2,    -999,9,    -999,9,    -999,    -999,9,    -999,    -999,1,    -999,9,    -999,9,  18.7508, -66.0033,    -999,     -999,    -999,  17.9538,  18.0027,2,-999,9,-999,-999,9,-999,    36.7091,2,-999,9,20120408,       2007
33AT20120324,        A22,      52,          1,         19,         19,2,20120408,       1920,    18.7513,   -66.0035,       1978,   337.1,  17.4327,  36.4448,2,  36.4401,2,    191.0,2,   191.3,2,    1.64,2,    6.16,2,    0.01,2,    0.32,2,   2.346,2,   1.399,2,   0.025,2,    1.22,2,    -999,9,    -999,9,     -999,9,     -999,    -999,9,     -999,9,    -999,9,  17.4329,2,    -999,9,    -999,9,    -999,    -999,9,    -999,    -999,1,    -999,9,    -999,9,  18.7508, -66.0033,    -999,     -999,    -999,  17.3753,  17.4329,2,-999,9,-999,-999,9,-999,    36.6119,2,-999,9,20120408,       2005
33AT20120324,        A22,      52,          1,         18,         18,2,20120408,       1920,    18.7513,   -66.0035,       1978,   387.0,  16.3980,  36.2558,2,  36.2528,2,    170.6,2,   171.3,2,    2.69,2,    9.60,2,    0.00,2,    0.55,2,   2.341,2,   1.374,2,   0.031,2,    1.01,2,  2142.5,2, 2369.37,2,   7.8922,2,       25,    -999,9,     -999,9,    -999,9,  16.3969,2,    -999,9,    -999,9,    -999,    -999,9,    -999,    -999,1,    -999,9,    -999,9,  18.7507, -66.0033,    -999,     -999,    -999,  16.3348,  16.3969,2,-999,9,-999,-999,9,-999,    36.4237,2,-999,9,20120408,       2004
33AT20120324,        A22,      52,          1,         17,         17,2,20120408,       1920,    18.7513,   -66.0035,       1978,   437.1,  15.2371,  36.0517,2,  36.0478,2,    160.3,2,   160.2,2,    3.95,2,   12.57,2,    0.00,2,    0.74,2,   2.269,2,   1.306,2,   0.014,2,    0.86,2,    -999,9,    -999,9,     -999,9,     -999,    -999,9,     -999,9,    -999,9,  15.2363,2,    -999,9,    -999,9,    -999,    -999,9,    -999,    -999,1,    -999,9,    -999,9,  18.7507, -66.0033,    -999,     -999,    -999,  15.1691,  15.2363,2,-999,9,-999,-999,9,-999,    36.2178,2,-999,9,20120408,       2002
33AT20120324,        A22,      52,          1,         16,         16,2,20120408,       1920,    18.7513,   -66.0035,       1978,   487.8,  13.8135,  35.8101,2,  35.8083,2,    146.5,2,   146.1,2,    5.85,2,   16.41,2,    0.00,2,    0.99,2,   2.099,2,   1.168,2,   0.016,2,    0.66,2,  2168.5,2, 2346.31,2,   7.7922,2,       25,    -999,9,     -999,9,    -999,9,  13.8133,2,    -999,9,    -999,9,    -999,    -999,9,    -999,    -999,1,    -999,9,    -999,9,  18.7507, -66.0033,    -999,     -999,    -999,  13.7424,  13.8133,2,-999,9,-999,-999,9,-999,    35.9771,2,-999,9,20120408,       2000
33AT20120324,        A22,      52,          1,         15,         15,2,20120408,       1920,    18.7513,   -66.0035,       1978,   568.2,  11.7319,  35.4802,2,  35.4767,2,    133.6,2,   133.4,2,    9.37,2,   21.48,2,    0.00,2,    1.34,2,   1.669,2,   0.901,2,   0.015,2,    -999,5,    -999,9,    -999,9,     -999,9,     -999,    -999,9,     -999,9,    -999,9,  11.7314,2,    -999,9,    -999,9,    -999,    -999,9,    -999,    -999,1,    -999,9,    -999,9,  18.7507, -66.0033,    -999,     -999,    -999,  11.6573,  11.7314,2,-999,9,-999,-999,9,-999,    35.6440,2,-999,9,20120408,       1957
33AT20120324,        A22,      52,          1,         14,         14,2,20120408,       1920,    18.7513,   -66.0035,       1978,   670.1,   9.2646,  35.1122,2,  35.1094,2,    125.5,2,   124.8,2,   14.99,2,   27.19,2,    0.00,2,    1.74,2,   1.042,2,   0.531,2,   0.010,2,    0.25,2,  2202.0,2, 2317.28,2,   7.6407,2,       25,    -999,9,     -999,9,    -999,9,   9.2621,2,    -999,9,    -999,9,    -999,    -999,9,    -999,    -999,1,    -999,9,    -999,9,  18.7507, -66.0033,    -999,     -999,    -999,   9.1884,   9.2621,2,-999,9,-999,-999,9,-999,    35.2749,2,-999,9,20120408,       1955
33AT20120324,        A22,      52,          1,         13,         13,2,20120408,       1920,    18.7513,   -66.0035,       1978,   769.2,   8.0909,  35.0224,2,  35.0212,2,    132.9,2,   133.0,2,   17.72,2,   28.16,2,    0.00,2,    1.82,2,   0.678,2,   0.344,2,   0.007,2,    0.17,2,    -999,9,    -999,9,     -999,9,     -999,    -999,9,     -999,9,    -999,9,   8.0900,2,    -999,9,    -999,9,    -999,    -999,9,    -999,    -999,1,    -999,9,    -999,9,  18.7508, -66.0033,    -999,     -999,    -999,   8.0097,   8.0900,2,-999,9,-999,-999,9,-999,    35.1863,2,-999,9,20120408,       1952
33AT20120324,        A22,      52,          1,         12,         12,2,20120408,       1920,    18.7513,   -66.0035,       1978,   870.0,   7.0912,  34.9665,2,  34.9669,2,    143.4,2,   143.6,2,   19.66,2,   28.26,2,    0.00,2,    1.85,2,   0.475,2,   0.238,2,   0.011,2,    0.13,2,  2204.1,2, 2315.67,2,   7.6288,2,       25,    -999,9,     -999,9,    -999,9,   7.0902,2,    -999,9,    -999,9,    -999,    -999,9,    -999,    -999,1,    -999,9,    -999,9,  18.7508, -66.0033,    -999,     -999,    -999,   7.0052,   7.0902,2,-999,9,-999,-999,9,-999,    35.1318,2,-999,9,20120408,       1949
33AT20120324,        A22,      52,          1,         11,         11,2,20120408,       1920,    18.7513,   -66.0035,       1978,   971.5,   6.4789,  35.0038,2,  35.0051,2,    167.4,2,   169.3,2,   18.18,2,   25.46,2,    0.00,2,    1.68,2,   0.649,2,   0.315,2,   0.019,2,    0.19,2,    -999,9,    -999,9,     -999,9,     -999,    -999,9,     -999,9,    -999,9,   6.4850,2,    -999,9,    -999,9,    -999,    -999,9,    -999,    -999,1,    -999,9,    -999,9,  18.7509, -66.0033,    -999,     -999,    -999,   6.3866,   6.4850,2,-999,9,-999,-999,9,-999,    35.1701,2,-999,9,20120408,       1947
33AT20120324,        A22,      52,          1,         10,         10,2,20120408,       1920,    18.7513,   -66.0035,       1978,  1074.2,   5.9487,  35.0401,2,  35.0429,3,    192.8,2,   197.7,2,   15.64,2,   22.31,2,    0.00,2,    1.47,2,   1.053,2,   0.530,2,   0.032,2,    0.26,2,  2183.4,2, 2316.84,2,   7.6900,2,       25,    -999,9,     -999,9,    -999,9,   5.9442,2,    -999,9,    -999,9,    -999,    -999,9,    -999,    -999,1,    -999,9,    -999,9,  18.7509, -66.0033,    -999,     -999,    -999,   5.8500,   5.9442,2,-999,9,-999,-999,9,-999,    35.2081,3,-999,9,20120408,       1944
33AT20120324,        A22,      52,          1,          9,          9,2,20120408,       1920,    18.7513,   -66.0035,       1978,  1174.3,   5.2765,  35.0452,2,  35.0460,2,    224.2,2,   224.4,2,   13.56,2,   19.94,2,    0.00,2,    1.33,2,   1.509,2,   0.765,2,   0.055,2,    0.40,2,    -999,9,    -999,9,     -999,9,     -999,    -999,9,     -999,9,    -999,9,   5.2767,2,    -999,9,    -999,9,    -999,    -999,9,    -999,    -999,1,    -999,9,    -999,9,  18.7509, -66.0033,    -999,     -999,    -999,   5.1737,   5.2767,2,-999,9,-999,-999,9,-999,    35.2113,2,-999,9,20120408,       1942
33AT20120324,        A22,      52,          1,          8,          8,2,20120408,       1920,    18.7513,   -66.0035,       1978,  1275.9,   4.8417,  35.0311,2,  35.0314,2,    237.6,2,   237.3,2,   13.09,2,   19.11,2,    0.00,2,    1.27,2,   1.577,2,   0.812,2,   0.063,2,    0.39,2,    -999,9,    -999,9,     -999,9,     -999,    -999,9,     -999,9,    -999,9,   4.8412,2,    -999,9,    -999,9,    -999,    -999,9,    -999,    -999,1,    -999,9,    -999,9,  18.7509, -66.0033,    -999,     -999,    -999,   4.7333,   4.8412,2,-999,9,-999,-999,9,-999,    35.1966,2,-999,9,20120408,       1939
33AT20120324,        A22,      52,          1,          7,          7,2,20120408,       1920,    18.7513,   -66.0035,       1978,  1376.3,   4.4854,  35.0114,2,  35.0110,2,    248.1,2,   248.1,2,   12.63,2,   18.42,2,    0.00,2,    1.23,2,   1.790,2,   0.917,2,   0.076,2,    0.43,2,    -999,9,    -999,9,     -999,9,     -999,    -999,9,     -999,9,    -999,9,   4.4854,2,    -999,9,    -999,9,    -999,    -999,9,    -999,    -999,1,    -999,9,    -999,9,  18.7510, -66.0034,    -999,     -999,    -999,   4.3712,   4.4854,2,-999,9,-999,-999,9,-999,    35.1761,2,-999,9,20120408,       1936
33AT20120324,        A22,      52,          1,          6,          6,2,20120408,       1920,    18.7513,   -66.0035,       1978,  1477.7,   4.2231,  34.9974,2,  34.9982,2,    253.1,2,   253.3,2,   12.84,2,   18.21,2,    0.00,2,    1.22,2,   1.700,2,   0.845,2,   0.082,2,    0.37,2,    -999,9,    -999,9,     -999,9,     -999,    -999,9,     -999,9,    -999,9,   4.2228,2,    -999,9,    -999,9,    -999,    -999,9,    -999,    -999,1,    -999,9,    -999,9,  18.7510, -66.0034,    -999,     -999,    -999,   4.1024,   4.2228,2,-999,9,-999,-999,9,-999,    35.1632,2,-999,9,20120408,       1934
33AT20120324,        A22,      52,          1,          5,          5,2,20120408,       1920,    18.7513,   -66.0035,       1978,  1579.5,   4.0720,  34.9886,2,  34.9884,2,    255.5,2,   256.5,2,   13.07,2,   18.08,2,    0.00,2,    1.21,2,   1.610,2,   0.804,2,   0.072,2,    0.33,2,  2163.8,2, 2310.62,2,   7.7309,2,       25,    -999,9,     -999,9,    -999,9,   4.0717,2,    -999,9,    -999,9,    -999,    -999,9,    -999,    -999,1,    -999,9,    -999,9,  18.7510, -66.0034,    -999,     -999,    -999,   3.9436,   4.0717,2,-999,9,-999,-999,9,-999,    35.1533,2,-999,9,20120408,       1931
33AT20120324,        A22,      52,          1,          4,          4,2,20120408,       1920,    18.7513,   -66.0035,       1978,  1679.4,   3.9281,  34.9785,2,  34.9772,2,    258.3,2,   258.7,2,   13.35,2,   17.95,2,    0.00,2,    1.20,2,   1.640,2,   0.814,2,   0.075,2,    0.34,2,    -999,9,    -999,9,     -999,9,     -999,    -999,9,     -999,9,    -999,9,   3.9276,2,    -999,9,    -999,9,    -999,    -999,9,    -999,    -999,1,    -999,9,    -999,9,  18.7511, -66.0034,    -999,     -999,    -999,   3.7922,   3.9276,2,-999,9,-999,-999,9,-999,    35.1421,2,-999,9,20120408,       1929
33AT20120324,        A22,      52,          1,          3,          3,2,20120408,       1920,    18.7513,   -66.0035,       1978,  1781.9,   3.7995,  34.9721,2,  34.9724,2,    259.7,2,   260.1,2,   13.85,2,   17.94,2,    0.00,2,    1.20,2,   1.533,2,   0.761,2,   0.063,2,    0.34,2,  2162.2,2, 2312.15,2,   7.7322,2,       25,    -999,9,     -999,9,    -999,9,   3.7992,2,    -999,9,    -999,9,    -999,    -999,9,    -999,    -999,1,    -999,9,    -999,9,  18.7511, -66.0034,    -999,     -999,    -999,   3.6557,   3.7992,2,-999,9,-999,-999,9,-999,    35.1373,2,-999,9,20120408,       1926
33AT20120324,        A22,      52,          1,          2,          2,2,20120408,       1920,    18.7513,   -66.0035,       1978,  1883.3,   3.6862,  34.9674,2,  34.9673,2,    260.5,2,   261.2,2,   14.58,2,   17.97,2,    0.00,2,    1.20,2,   1.413,2,   0.696,2,   0.066,2,    0.24,2,  2162.6,2, 2311.45,6,   7.7336,2,       25,    -999,9,     -999,9,    -999,9,   3.6863,2,    -999,9,    -999,9,    -999,    -999,9,    -999,    -999,1,    -999,9,    -999,9,  18.7512, -66.0034,    -999,     -999,    -999,   3.5344,   3.6863,2,-999,9,-999,-999,9,-999,    35.1322,2,-999,9,20120408,       1924
33AT20120324,        A22,      52,          1,          1,          1,2,20120408,       1920,    18.7513,   -66.0035,       1978,  1984.2,   3.6589,  34.9662,2,  34.9657,2,    261.8,2,   262.0,2,   14.77,2,   17.98,2,    0.00,2,    1.20,2,   1.377,2,   0.675,2,   0.063,2,    0.27,2,  2162.0,6, 2312.28,2,   7.7350,6,       25,    -999,9,     -999,9,    -999,9,   3.6594,2,    -999,9,    -999,9,    -999,    -999,9,    -999,    -999,1,    -999,9,    -999,9,  18.7513, -66.0035,    -999,     -999,    -999,   3.4979,   3.6594,2,-999,9,-999,-999,9,-999,    35.1306,2,-999,9,20120408,       1921