BOTTLE,20220725CCHSIOCBG
EXPOCODE,SECT_ID,STNNBR,CASTNO,SAMPNO,BTLNBR,BTLNBR_FLAG_W,DATE,TIME,LATITUDE,LONGITUDE,DEPTH,CTDPRS,CTDTMP,CTDSAL,CTDSAL_FLAG_W,SALNTY,SALNTY_FLAG_W,CTDOXY,CTDOXY_FLAG_W,OXYGEN,OXYGEN_FLAG_W,SILCAT,SILCAT_FLAG_W,NITRAT,NITRAT_FLAG_W,NITRIT,NITRIT_FLAG_W,PHSPHT,PHSPHT_FLAG_W,CFC-11,CFC-11_FLAG_W,CFC-12,CFC-12_FLAG_W,CFC113,CFC113_FLAG_W,SF6,SF6_FLAG_W,TCARBN,TCARBN_FLAG_W,ALKALI,ALKALI_FLAG_W,PH_TOT,PH_TOT_FLAG_W,PH_TMP,TRITUM,TRITUM_FLAG_W,HELIUM,HELIUM_FLAG_W,DELHE3,DELHE3_FLAG_W,REFTMP,REFTMP_FLAG_W,DELC13,DELC13_FLAG_W,DELC14,DELC14_FLAG_W,C14ERR,NEON,NEON_FLAG_W,NEONER,CCL4,CCL4_FLAG_W,DOC,DOC_FLAG_W,TDN,TDN_FLAG_W,BTL_LAT,BTL_LON,TRITER,HELIER,DELHER,THETA,SBE35,SBE35_FLAG_W,14C-DOC,14C-DOC_FLAG_W,14C-DOCERR,13C-DOC,13C-DOC_FLAG_W,13C-DOCERR,SALTREF,SALTREF_FLAG_W,LAB_DEN,LAB_DEN_FLAG_W,BTL_DATE,BTL_TIME
,,,,,,,,,,,METERS,DBAR,ITS-90,PSS-78,,PSS-78,,UMOL/KG,,UMOL/KG,,UMOL/KG,,UMOL/KG,,UMOL/KG,,UMOL/KG,,PMOL/KG,,PMOL/KG,,PMOL/KG,,FMOL/KG,,UMOL/KG,,UMOL/KG,,,,DEG C,TU,,NMOL/KG,,PERCNT,,DEG C,,/MILLE,,/MILLE,,/MILLE,NMOL/KG,,NMOL/KG,PMOL/KG,,UMOL/KG,,UMOL/KG,,,,TU,NMOL/KG,PERCNT,DEG C,ITS-90,,/MILLE,,/MILLE,/MILLE,,/MILLE,G/KG,,KG/M^3,,,
33AT20120324,        A22,      79,          1,         22,         22,2,20120414,       0439,    12.7898,   -69.9478,       1022,     3.0,  26.8182,  36.3776,2,  36.3787,2,    200.9,2,   200.5,2,    0.74,2,    0.00,2,    0.00,2,    0.01,2,   1.570,2,   1.004,2,   0.112,2,    0.82,4,  2051.1,2, 2379.70,2,   8.0747,2,       25,   0.414,2,   1.7203,2,   -1.41,2,  26.8200,2,    -999,9,    -999,9,    -999,   6.650,2,   0.030,    1.55,2,   73.77,2,    4.38,2,  12.7917, -69.9475,   0.009,   0.0069,    0.15,  26.8175,  26.8200,2,-999,9,-999,-999,9,-999,    36.5502,2,-999,9,20120414,        524
33AT20120324,        A22,      79,          1,         21,         21,2,20120414,       0439,    12.7898,   -69.9478,       1022,    20.7,  26.7008,  36.4682,2,  36.5025,2,    200.7,2,   201.0,2,    0.65,2,    0.00,2,    0.00,2,    0.00,2,   1.543,2,   1.002,2,   0.110,2,    0.79,4,  2068.0,2, 2388.88,2,   8.0720,2,       25,    -999,9,     -999,9,    -999,9,  26.7079,2,    -999,9,    -999,9,    -999,    -999,9,    -999,    1.47,2,   69.40,2,    4.43,2,  12.7916, -69.9475,    -999,     -999,    -999,  26.6961,  26.7079,2,-999,9,-999,-999,9,-999,    36.6746,2,-999,9,20120414,        523
33AT20120324,        A22,      79,          1,         20,         20,2,20120414,       0439,    12.7898,   -69.9478,       1022,    41.5,  26.0727,  36.6434,2,  36.6454,2,    203.1,2,   202.5,2,    0.23,2,    0.00,2,    0.00,2,    0.00,2,   1.587,2,   1.007,2,   0.105,2,    0.59,4,    -999,9,    -999,9,     -999,9,     -999,    -999,9,     -999,9,    -999,9,  26.0699,2,    -999,9,    -999,9,    -999,    -999,9,    -999,    1.28,2,   69.17,2,    4.46,2,  12.7915, -69.9475,    -999,     -999,    -999,  26.0634,  26.0699,2,-999,9,-999,-999,9,-999,    36.8182,2,-999,9,20120414,        520
33AT20120324,        A22,      79,          1,         19,         19,2,20120414,       0439,    12.7898,   -69.9478,       1022,    58.2,  25.9084,  36.6940,2,  36.6970,2,    202.9,2,   202.2,2,    0.14,2,    0.00,2,    0.00,2,    0.00,2,   1.582,2,   0.979,2,   0.173,2,    0.56,4,  2075.2,2, 2401.16,2,   8.0628,2,       25,   0.430,2,   1.7109,2,   -1.41,2,  25.9083,2,    -999,9,    -999,9,    -999,   6.699,2,   0.030,    1.20,2,   69.15,2,    4.71,2,  12.7914, -69.9475,   0.009,   0.0068,    0.15,  25.8954,  25.9083,2,-999,9,-999,-999,9,-999,    36.8700,2,-999,9,20120414,        518
33AT20120324,        A22,      79,          1,         18,         18,2,20120414,       0439,    12.7898,   -69.9478,       1022,    91.0,  23.2879,  36.8196,2,  36.8225,2,    163.0,2,   169.8,2,    1.19,2,    3.15,2,    0.60,2,    0.18,2,   1.844,2,   1.164,2,   0.088,2,    0.92,4,    -999,9,    -999,9,     -999,9,     -999,    -999,9,     -999,9,    -999,9,  23.3219,2,    -999,9,    -999,9,    -999,    -999,9,    -999,    0.88,2,   62.24,2,    7.84,2,  12.7913, -69.9475,    -999,     -999,    -999,  23.2690,  23.3219,2,-999,9,-999,-999,9,-999,    36.9962,2,-999,9,20120414,        515
33AT20120324,        A22,      79,          1,         17,         17,2,20120414,       0439,    12.7898,   -69.9478,       1022,   115.7,  22.0962,  36.8212,2,  36.8207,2,    138.5,2,   139.4,2,    2.30,2,    6.62,2,    0.04,2,    0.33,2,   1.887,2,   1.189,2,   0.051,2,    1.06,4,  2151.5,2, 2401.42,2,   7.9269,2,       25,    -999,9,     -999,9,    -999,9,  22.0941,2,    -999,9,    -999,9,    -999,    -999,9,    -999,    0.39,2,   60.39,2,   10.80,2,  12.7912, -69.9476,    -999,     -999,    -999,  22.0731,  22.0941,2,-999,9,-999,-999,9,-999,    36.9944,2,-999,9,20120414,        510
33AT20120324,        A22,      79,          1,         16,         16,2,20120414,       0439,    12.7898,   -69.9478,       1022,   141.8,  20.9814,  36.7732,2,  36.7757,2,    132.8,2,   133.9,2,    2.59,2,    7.98,2,    0.04,2,    0.40,2,   1.941,2,   1.208,2,   0.030,2,    0.87,4,    -999,9,    -999,9,     -999,9,     -999,   0.465,2,   1.7330,2,   -0.43,2,  20.9823,2,    -999,9,    -999,9,    -999,   6.902,2,   0.031,    0.20,2,   58.05,2,   11.39,2,  12.7911, -69.9476,   0.009,   0.0069,    0.15,  20.9540,  20.9823,2,-999,9,-999,-999,9,-999,    36.9491,2,-999,9,20120414,        508
33AT20120324,        A22,      79,          1,         15,         15,2,20120414,       0439,    12.7898,   -69.9478,       1022,   165.7,  19.6889,  36.6820,2,  36.6789,2,    146.7,2,   148.3,2,    2.43,3,    7.47,3,    0.03,3,    0.40,3,   2.009,2,   1.233,2,   0.017,2,    1.18,4,    -999,9,    -999,9,     -999,9,     -999,    -999,9,     -999,9,    -999,9,  19.6909,2,    -999,9,    -999,9,    -999,    -999,9,    -999,    0.16,2,   54.50,2,   10.71,2,  12.7910, -69.9476,    -999,     -999,    -999,  19.6583,  19.6909,2,-999,9,-999,-999,9,-999,    36.8519,2,-999,9,20120414,        507
33AT20120324,        A22,      79,          1,         14,         14,2,20120414,       0439,    12.7898,   -69.9478,       1022,   188.1,  18.4553,  36.4872,2,  36.4712,2,    141.5,2,   140.9,2,    3.42,2,   10.24,2,    0.02,2,    0.58,2,   2.040,2,   1.229,2,   0.013,2,    0.68,4,  2161.9,2, 2382.30,2,   7.8751,2,       25,    -999,9,     -999,9,    -999,9,  18.4575,2,    -999,9,    -999,9,    -999,    -999,9,    -999,    0.19,2,   52.04,2,   13.38,2,  12.7910, -69.9476,    -999,     -999,    -999,  18.4221,  18.4575,2,-999,9,-999,-999,9,-999,    36.6431,2,-999,9,20120414,        505
33AT20120324,        A22,      79,          1,         13,         13,2,20120414,       0439,    12.7898,   -69.9478,       1022,   216.0,  17.1606,  36.2943,2,  36.2816,2,    144.8,2,   145.3,2,    3.90,2,   11.64,2,    0.01,2,    0.66,2,   2.078,2,   1.245,2,   0.012,2,    1.06,4,    -999,9,    -999,9,     -999,9,     -999,   0.429,2,   1.7609,2,    0.69,2,  17.1489,2,    -999,9,    -999,9,    -999,   7.174,2,   0.032,    0.23,2,   51.11,2,   14.77,2,  12.7910, -69.9476,   0.009,   0.0070,    0.15,  17.1244,  17.1489,2,-999,9,-999,-999,9,-999,    36.4527,2,-999,9,20120414,        504
33AT20120324,        A22,      79,          1,         12,         12,2,20120414,       0439,    12.7898,   -69.9478,       1022,   239.4,  15.6723,  36.0368,2,  36.0322,2,    137.9,2,   138.9,2,    5.28,2,   14.62,2,    0.01,2,    0.87,2,   2.046,2,   1.182,2,   0.016,2,    0.75,4,  2171.2,2, 2356.91,2,   7.8176,2,       25,    -999,9,     -999,9,    -999,9,  15.6676,2,    -999,9,    -999,9,    -999,    -999,9,    -999,    0.28,2,   50.90,2,   19.19,2,  12.7909, -69.9476,    -999,     -999,    -999,  15.6346,  15.6676,2,-999,9,-999,-999,9,-999,    36.2021,2,-999,9,20120414,        502
33AT20120324,        A22,      79,          1,         11,         11,2,20120414,       0439,    12.7898,   -69.9478,       1022,   288.1,  13.8363,  35.7220,2,  35.7164,2,    132.7,2,   131.1,2,    7.28,2,   18.43,2,    0.01,2,    1.14,2,   1.941,2,   1.110,2,   0.016,2,    0.40,4,    -999,9,    -999,9,     -999,9,     -999,    -999,9,     -999,9,    -999,9,  13.8397,2,    -999,9,    -999,9,    -999,    -999,9,    -999,    0.30,2,   48.76,2,   20.73,2,  12.7908, -69.9476,    -999,     -999,    -999,  13.7946,  13.8397,2,-999,9,-999,-999,9,-999,    35.8848,2,-999,9,20120414,        500
33AT20120324,        A22,      79,          1,         10,         10,2,20120414,       0439,    12.7898,   -69.9478,       1022,   334.4,  11.6817,  35.3413,2,  35.3434,2,    125.1,2,   125.5,2,   10.24,2,   22.86,2,    0.01,2,    1.44,2,   1.709,2,   0.960,2,   0.019,2,    0.31,4,  2192.6,2, 2323.15,2,   7.6934,2,       25,   0.269,2,   1.7907,2,    2.56,2,  11.7019,2,    -999,9,    -999,9,    -999,   7.471,2,   0.034,    0.34,2,   46.73,2,   26.48,2,  12.7907, -69.9476,   0.009,   0.0072,    0.15,  11.6384,  11.7019,2,-999,9,-999,-999,9,-999,    35.5100,2,-999,9,20120414,        458
33AT20120324,        A22,      79,          1,          9,          9,2,20120414,       0439,    12.7898,   -69.9478,       1022,   385.1,  10.2731,  35.1237,2,  35.1229,2,    121.3,2,   122.2,2,   12.89,2,   25.96,2,    0.00,2,    1.66,2,   1.481,2,   0.802,2,   0.019,2,    0.13,4,    -999,9,    -999,9,     -999,9,     -999,    -999,9,     -999,9,    -999,9,  10.2709,2,    -999,9,    -999,9,    -999,    -999,9,    -999,    0.36,2,   46.07,2,   28.64,2,  12.7906, -69.9476,    -999,     -999,    -999,  10.2271,  10.2709,2,-999,9,-999,-999,9,-999,    35.2885,2,-999,9,20120414,        457
33AT20120324,        A22,      79,          1,          8,          8,2,20120414,       0439,    12.7898,   -69.9478,       1022,   437.9,   9.1898,  34.9703,2,  34.9693,2,    119.2,2,   119.2,2,   15.45,2,   28.44,2,    0.00,2,    1.82,2,   1.227,2,   0.649,2,   0.019,2,    0.35,4,  2207.2,2, 2307.71,6,   7.6129,6,       25,    -999,9,     -999,9,    -999,9,   9.1895,2,    -999,9,    -999,9,    -999,    -999,9,    -999,    0.37,2,   45.18,2,   31.61,2,  12.7906, -69.9477,    -999,     -999,    -999,   9.1410,   9.1895,2,-999,9,-999,-999,9,-999,    35.1342,2,-999,9,20120414,        455
33AT20120324,        A22,      79,          1,          7,          7,2,20120414,       0439,    12.7898,   -69.9478,       1022,   483.3,   8.4955,  34.8963,2,  34.8954,2,    119.8,2,   120.7,2,   17.20,2,   29.71,2,    0.00,2,    1.92,2,   1.034,2,   0.546,2,   0.017,2,    0.18,4,    -999,9,    -999,9,     -999,9,     -999,   0.129,2,   1.8100,2,    2.77,2,   8.4949,2,    -999,9,    -999,9,    -999,   7.714,2,   0.035,    0.37,2,   44.29,2,   33.33,2,  12.7905, -69.9477,   0.009,   0.0072,    0.15,   8.4440,   8.4949,2,-999,9,-999,-999,9,-999,    35.0599,2,-999,9,20120414,        453
33AT20120324,        A22,      79,          1,          6,          6,2,20120414,       0439,    12.7898,   -69.9478,       1022,   568.5,   7.6788,  34.8280,2,  34.8285,2,    121.4,2,   120.8,2,   19.76,2,   31.09,2,    0.00,2,    2.02,2,   0.717,2,   0.380,2,   0.013,2,    0.00,4,    -999,9,    -999,9,     -999,9,     -999,    -999,9,     -999,9,    -999,9,   7.6790,2,    -999,9,    -999,9,    -999,    -999,9,    -999,    0.30,2,   43.31,2,   34.20,2,  12.7904, -69.9477,    -999,     -999,    -999,   7.6214,   7.6790,2,-999,9,-999,-999,9,-999,    34.9927,2,-999,9,20120414,        451
33AT20120324,        A22,      79,          1,          5,          5,2,20120414,       0439,    12.7898,   -69.9478,       1022,   669.3,   6.6893,  34.7459,2,  34.7457,2,    126.5,2,   127.0,2,   22.93,2,   32.31,2,    0.00,2,    2.13,2,   0.448,2,   0.237,2,   0.010,2,    0.08,4,    -999,9,    -999,9,     -999,9,     -999,    -999,9,     -999,9,    -999,9,   6.6827,2,    -999,9,    -999,9,    -999,    -999,9,    -999,    0.27,2,   43.25,2,   35.66,2,  12.7903, -69.9477,    -999,     -999,    -999,   6.6263,   6.6827,2,-999,9,-999,-999,9,-999,    34.9096,2,-999,9,20120414,        448
33AT20120324,        A22,      79,          1,          4,          4,2,20120414,       0439,    12.7898,   -69.9478,       1022,   768.4,   6.1159,  34.7783,2,  34.7811,2,    138.3,2,   138.6,2,   24.37,2,   31.29,2,    0.00,2,    2.08,2,   0.240,2,   0.132,2,   0.004,2,    0.06,4,  2217.6,2, 2307.03,2,   7.5856,2,       25,   0.049,2,   1.8186,2,    2.71,2,   6.1159,2,    -999,9,    -999,9,    -999,   7.734,2,   0.035,    0.19,2,   43.14,2,   34.32,2,  12.7902, -69.9477,   0.009,   0.0073,    0.15,   6.0463,   6.1159,2,-999,9,-999,-999,9,-999,    34.9451,2,-999,9,20120414,        446
33AT20120324,        A22,      79,          1,          3,          3,2,20120414,       0439,    12.7898,   -69.9478,       1022,   871.3,   5.6623,  34.8499,2,  34.8539,2,    156.0,2,   156.4,2,   24.81,2,   28.91,2,    0.00,2,    1.93,2,   0.148,2,   0.085,2,   0.004,2,    0.00,4,    -999,9,    -999,9,     -999,9,     -999,    -999,9,     -999,9,    -999,9,   5.6618,2,    -999,9,    -999,9,    -999,    -999,9,    -999,    0.14,2,   42.94,2,   31.83,2,  12.7900, -69.9477,    -999,     -999,    -999,   5.5856,   5.6618,2,-999,9,-999,-999,9,-999,    35.0182,2,-999,9,20120414,        443
33AT20120324,        A22,      79,          1,          2,          2,2,20120414,       0439,    12.7898,   -69.9478,       1022,   971.3,   5.2058,  34.9118,2,  34.9132,2,    174.6,2,   174.7,2,   24.88,2,   26.47,2,    0.00,2,    1.79,2,   0.096,2,   0.055,2,   0.003,2,    0.00,4,    -999,9,    -999,9,     -999,9,     -999,    -999,9,     -999,9,    -999,9,   5.2121,2,    -999,9,    -999,9,    -999,    -999,9,    -999,    0.13,2,   41.28,2,   29.48,2,  12.7899, -69.9478,    -999,     -999,    -999,   5.1229,   5.2121,2,-999,9,-999,-999,9,-999,    35.0779,2,-999,9,20120414,        441
33AT20120324,        A22,      79,          1,          1,          1,2,20120414,       0439,    12.7898,   -69.9478,       1022,  1013.0,   5.0722,  34.9240,2,  34.9237,2,    179.4,2,   179.1,2,   24.91,2,   25.92,2,    0.00,2,    1.75,2,   0.092,2,   0.054,2,   0.005,2,    0.00,4,  2206.0,2, 2321.56,2,   7.6573,2,       25,   0.038,2,   1.8460,2,    1.91,2,   5.0741,2,    -999,9,    -999,9,    -999,   7.931,2,   0.036,    0.17,2,   40.77,2,   28.76,2,  12.7898, -69.9478,   0.009,   0.0074,    0.15,   4.9865,   5.0741,2,-999,9,-999,-999,9,-999,    35.0884,2,-999,9,20120414,        439