BOTTLE,20220725CCHSIOCBG
EXPOCODE,SECT_ID,STNNBR,CASTNO,SAMPNO,BTLNBR,BTLNBR_FLAG_W,DATE,TIME,LATITUDE,LONGITUDE,DEPTH,CTDPRS,CTDTMP,CTDSAL,CTDSAL_FLAG_W,SALNTY,SALNTY_FLAG_W,CTDOXY,CTDOXY_FLAG_W,OXYGEN,OXYGEN_FLAG_W,SILCAT,SILCAT_FLAG_W,NITRAT,NITRAT_FLAG_W,NITRIT,NITRIT_FLAG_W,PHSPHT,PHSPHT_FLAG_W,CFC-11,CFC-11_FLAG_W,CFC-12,CFC-12_FLAG_W,CFC113,CFC113_FLAG_W,SF6,SF6_FLAG_W,TCARBN,TCARBN_FLAG_W,ALKALI,ALKALI_FLAG_W,PH_TOT,PH_TOT_FLAG_W,PH_TMP,TRITUM,TRITUM_FLAG_W,HELIUM,HELIUM_FLAG_W,DELHE3,DELHE3_FLAG_W,REFTMP,REFTMP_FLAG_W,DELC13,DELC13_FLAG_W,DELC14,DELC14_FLAG_W,C14ERR,NEON,NEON_FLAG_W,NEONER,CCL4,CCL4_FLAG_W,DOC,DOC_FLAG_W,TDN,TDN_FLAG_W,BTL_LAT,BTL_LON,TRITER,HELIER,DELHER,THETA,SBE35,SBE35_FLAG_W,14C-DOC,14C-DOC_FLAG_W,14C-DOCERR,13C-DOC,13C-DOC_FLAG_W,13C-DOCERR,SALTREF,SALTREF_FLAG_W,LAB_DEN,LAB_DEN_FLAG_W,BTL_DATE,BTL_TIME
,,,,,,,,,,,METERS,DBAR,ITS-90,PSS-78,,PSS-78,,UMOL/KG,,UMOL/KG,,UMOL/KG,,UMOL/KG,,UMOL/KG,,UMOL/KG,,PMOL/KG,,PMOL/KG,,PMOL/KG,,FMOL/KG,,UMOL/KG,,UMOL/KG,,,,DEG C,TU,,NMOL/KG,,PERCNT,,DEG C,,/MILLE,,/MILLE,,/MILLE,NMOL/KG,,NMOL/KG,PMOL/KG,,UMOL/KG,,UMOL/KG,,,,TU,NMOL/KG,PERCNT,DEG C,ITS-90,,/MILLE,,/MILLE,/MILLE,,/MILLE,G/KG,,KG/M^3,,,
33AT20120324,        A22,      16,          1,          5,          5,2,20120329,       0244,    37.1250,   -68.0508,       4896,  4065.7,   2.2821,  34.8916,2,     -999,9,    266.5,2,   266.4,2,   29.96,2,   18.59,2,    0.00,2,    1.27,2,   1.002,2,   0.469,2,   0.056,2,    0.22,2,    -999,9,    -999,9,     -999,9,     -999,    -999,9,     -999,9,    -999,9,   2.2825,2,    -999,9,    -999,9,    -999,    -999,9,    -999,    -999,1,    -999,9,    -999,9,  37.1240, -68.0502,    -999,     -999,    -999,   1.9324,   2.2825,2,-999,9,-999,-999,9,-999,       -999,9,-999,9,20120329,        305
33AT20120324,        A22,      16,          1,          4,          4,2,20120329,       0244,    37.1250,   -68.0508,       4896,  4376.3,   2.2562,  34.8859,2,  34.8851,2,    264.2,2,   264.1,2,   32.92,2,   19.01,2,    0.00,2,    1.30,2,   0.909,2,   0.427,2,   0.055,2,    0.21,2,  2178.8,2, 2329.04,6,   7.7344,2,       25,    -999,9,     -999,9,    -999,9,   2.2561,2,    -999,9,    -999,9,    -999,    -999,9,    -999,    -999,1,    -999,9,    -999,9,  37.1242, -68.0504,    -999,     -999,    -999,   1.8711,   2.2561,2,-999,9,-999,-999,9,-999,    35.0496,2,-999,9,20120329,        258
33AT20120324,        A22,      16,          1,          3,          3,2,20120329,       0244,    37.1250,   -68.0508,       4896,  4685.3,   2.2541,  34.8821,2,     -999,9,    261.7,2,   262.0,2,   35.46,2,   19.39,2,    0.00,2,    1.33,2,   0.817,2,   0.388,2,   0.052,2,    0.20,2,    -999,9,    -999,9,     -999,9,     -999,    -999,9,     -999,9,    -999,9,   2.2538,2,    -999,9,    -999,9,    -999,    -999,9,    -999,    -999,1,    -999,9,    -999,9,  37.1245, -68.0506,    -999,     -999,    -999,   1.8320,   2.2538,2,-999,9,-999,-999,9,-999,       -999,9,-999,9,20120329,        252
33AT20120324,        A22,      16,          1,          2,          2,2,20120329,       0244,    37.1250,   -68.0508,       4896,  4786.6,   2.2556,  34.8808,2,  34.8804,2,    261.3,2,   261.6,2,   36.22,2,   19.50,2,    0.00,2,    1.34,2,   0.789,2,   0.382,2,   0.049,2,    0.19,2,  2182.6,2,    -999,9,   7.7344,6,       25,    -999,9,     -999,9,    -999,9,   2.2551,2,    -999,9,    -999,9,    -999,    -999,9,    -999,    -999,1,    -999,9,    -999,9,  37.1245, -68.0506,    -999,     -999,    -999,   1.8210,   2.2551,2,-999,9,-999,-999,9,-999,    35.0449,2,-999,9,20120329,        249
33AT20120324,        A22,      16,          1,          1,          1,2,20120329,       0244,    37.1250,   -68.0508,       4896,  4990.6,   2.2687,  34.8794,2,  34.8794,2,    260.1,2,   260.4,2,   37.17,2,   19.65,2,    0.00,2,    1.35,2,   0.745,2,   0.360,2,   0.049,2,    0.17,2,  2185.0,6, 2332.58,2,   7.7329,2,       25,    -999,9,     -999,9,    -999,9,   2.2685,2,    -999,9,    -999,9,    -999,    -999,9,    -999,    -999,1,    -999,9,    -999,9,  37.1250, -68.0508,    -999,     -999,    -999,   1.8082,   2.2685,2,-999,9,-999,-999,9,-999,    35.0439,2,-999,9,20120329,        245