BOTTLE,20220725CCHSIOCBG
EXPOCODE,SECT_ID,STNNBR,CASTNO,SAMPNO,BTLNBR,BTLNBR_FLAG_W,DATE,TIME,LATITUDE,LONGITUDE,DEPTH,CTDPRS,CTDTMP,CTDSAL,CTDSAL_FLAG_W,SALNTY,SALNTY_FLAG_W,CTDOXY,CTDOXY_FLAG_W,OXYGEN,OXYGEN_FLAG_W,SILCAT,SILCAT_FLAG_W,NITRAT,NITRAT_FLAG_W,NITRIT,NITRIT_FLAG_W,PHSPHT,PHSPHT_FLAG_W,CFC-11,CFC-11_FLAG_W,CFC-12,CFC-12_FLAG_W,CFC113,CFC113_FLAG_W,SF6,SF6_FLAG_W,TCARBN,TCARBN_FLAG_W,ALKALI,ALKALI_FLAG_W,PH_TOT,PH_TOT_FLAG_W,PH_TMP,TRITUM,TRITUM_FLAG_W,HELIUM,HELIUM_FLAG_W,DELHE3,DELHE3_FLAG_W,REFTMP,REFTMP_FLAG_W,DELC13,DELC13_FLAG_W,DELC14,DELC14_FLAG_W,C14ERR,NEON,NEON_FLAG_W,NEONER,CCL4,CCL4_FLAG_W,DOC,DOC_FLAG_W,TDN,TDN_FLAG_W,BTL_LAT,BTL_LON,TRITER,HELIER,DELHER,THETA,SBE35,SBE35_FLAG_W,14C-DOC,14C-DOC_FLAG_W,14C-DOCERR,13C-DOC,13C-DOC_FLAG_W,13C-DOCERR,SALTREF,SALTREF_FLAG_W,LAB_DEN,LAB_DEN_FLAG_W,BTL_DATE,BTL_TIME
,,,,,,,,,,,METERS,DBAR,ITS-90,PSS-78,,PSS-78,,UMOL/KG,,UMOL/KG,,UMOL/KG,,UMOL/KG,,UMOL/KG,,UMOL/KG,,PMOL/KG,,PMOL/KG,,PMOL/KG,,FMOL/KG,,UMOL/KG,,UMOL/KG,,,,DEG C,TU,,NMOL/KG,,PERCNT,,DEG C,,/MILLE,,/MILLE,,/MILLE,NMOL/KG,,NMOL/KG,PMOL/KG,,UMOL/KG,,UMOL/KG,,,,TU,NMOL/KG,PERCNT,DEG C,ITS-90,,/MILLE,,/MILLE,/MILLE,,/MILLE,G/KG,,KG/M^3,,,
33AT20120324,        A22,      37,          1,          5,          5,2,20120404,       2028,    25.0190,   -65.7106,       5552,  4163.6,   2.3151,  34.8949,2,  34.8950,2,    263.5,2,   263.4,2,   31.28,2,   18.90,2,    0.00,2,    1.30,2,   0.372,2,   0.196,2,   0.024,2,    0.02,4,  2173.7,2,    -999,9,     -999,9,     -999,    -999,9,     -999,9,    -999,9,   2.3151,2,    -999,9,    -999,9,    -999,    -999,9,    -999,    0.59,2,   41.51,2,   22.43,2,  25.0190, -65.7105,    -999,     -999,    -999,   1.9532,   2.3151,2,-999,9,-999,-999,9,-999,    35.0595,2,-999,9,20120404,       2057
33AT20120324,        A22,      37,          1,          4,          4,2,20120404,       2028,    25.0190,   -65.7106,       5552,  4471.1,   2.2754,  34.8880,2,  34.8885,2,    261.9,2,   261.5,2,   34.90,2,   19.27,2,    0.00,2,    1.33,2,   0.313,2,   0.180,2,   0.022,2,    0.04,4,  2177.9,2, 2330.97,2,   7.7382,2,       25,    -999,9,     -999,9,    -999,9,   2.2752,2,    -999,9,    -999,9,    -999,    -999,9,    -999,    0.48,2,   41.52,2,   22.89,2,  25.0190, -65.7105,    -999,     -999,    -999,   1.8784,   2.2752,2,-999,9,-999,-999,9,-999,    35.0530,2,-999,9,20120404,       2051
33AT20120324,        A22,      37,          1,          3,          3,2,20120404,       2028,    25.0190,   -65.7106,       5552,  4845.3,   2.2107,  34.8759,2,  34.8755,2,    257.6,2,   258.1,2,   41.87,2,   20.24,2,    0.00,2,    1.40,2,   0.222,2,   0.133,2,   0.017,2,    0.00,4,  2185.3,2, 2337.22,2,   7.7328,2,       25,    -999,9,     -999,9,    -999,9,   2.2110,2,    -999,9,    -999,9,    -999,    -999,9,    -999,    0.33,2,   41.64,2,   22.67,2,  25.0190, -65.7106,    -999,     -999,    -999,   1.7703,   2.2110,2,-999,9,-999,-999,9,-999,    35.0400,2,-999,9,20120404,       2044
33AT20120324,        A22,      37,          1,          2,          2,2,20120404,       2028,    25.0190,   -65.7106,       5552,  5257.4,   2.1006,  34.8560,2,  34.8563,2,    250.2,2,   251.1,2,   51.85,2,   21.79,2,    0.00,2,    1.50,2,   0.122,2,   0.078,2,   0.011,2,    0.00,4,  2197.0,2, 2342.78,6,   7.7213,2,       25,    -999,9,     -999,9,    -999,9,   2.1008,2,    -999,9,    -999,9,    -999,    -999,9,    -999,    0.19,2,   42.29,2,   24.23,2,  25.0190, -65.7106,    -999,     -999,    -999,   1.6122,   2.1008,2,-999,9,-999,-999,9,-999,    35.0207,2,-999,9,20120404,       2037
33AT20120324,        A22,      37,          1,          1,          1,2,20120404,       2028,    25.0190,   -65.7106,       5552,  5649.9,   2.1117,  34.8503,2,  34.8510,2,    249.8,2,   249.8,2,   53.09,2,   22.20,2,    0.00,2,    1.52,2,   0.111,2,   0.072,2,   0.014,2,    0.00,4,  2201.1,2, 2346.16,2,   7.7183,2,       25,    -999,9,     -999,9,    -999,9,   2.1119,2,    -999,9,    -999,9,    -999,    -999,9,    -999,    0.19,2,   42.20,2,   24.28,2,  25.0190, -65.7106,    -999,     -999,    -999,   1.5717,   2.1119,2,-999,9,-999,-999,9,-999,    35.0154,2,-999,9,20120404,       2029