BOTTLE,20220725CCHSIOCBG
EXPOCODE,SECT_ID,STNNBR,CASTNO,SAMPNO,BTLNBR,BTLNBR_FLAG_W,DATE,TIME,LATITUDE,LONGITUDE,DEPTH,CTDPRS,CTDTMP,CTDSAL,CTDSAL_FLAG_W,SALNTY,SALNTY_FLAG_W,CTDOXY,CTDOXY_FLAG_W,OXYGEN,OXYGEN_FLAG_W,SILCAT,SILCAT_FLAG_W,NITRAT,NITRAT_FLAG_W,NITRIT,NITRIT_FLAG_W,PHSPHT,PHSPHT_FLAG_W,CFC-11,CFC-11_FLAG_W,CFC-12,CFC-12_FLAG_W,CFC113,CFC113_FLAG_W,SF6,SF6_FLAG_W,TCARBN,TCARBN_FLAG_W,ALKALI,ALKALI_FLAG_W,PH_TOT,PH_TOT_FLAG_W,PH_TMP,TRITUM,TRITUM_FLAG_W,HELIUM,HELIUM_FLAG_W,DELHE3,DELHE3_FLAG_W,REFTMP,REFTMP_FLAG_W,DELC13,DELC13_FLAG_W,DELC14,DELC14_FLAG_W,C14ERR,NEON,NEON_FLAG_W,NEONER,CCL4,CCL4_FLAG_W,DOC,DOC_FLAG_W,TDN,TDN_FLAG_W,BTL_LAT,BTL_LON,TRITER,HELIER,DELHER,THETA,SBE35,SBE35_FLAG_W,14C-DOC,14C-DOC_FLAG_W,14C-DOCERR,13C-DOC,13C-DOC_FLAG_W,13C-DOCERR,SALTREF,SALTREF_FLAG_W,LAB_DEN,LAB_DEN_FLAG_W,BTL_DATE,BTL_TIME
,,,,,,,,,,,METERS,DBAR,ITS-90,PSS-78,,PSS-78,,UMOL/KG,,UMOL/KG,,UMOL/KG,,UMOL/KG,,UMOL/KG,,UMOL/KG,,PMOL/KG,,PMOL/KG,,PMOL/KG,,FMOL/KG,,UMOL/KG,,UMOL/KG,,,,DEG C,TU,,NMOL/KG,,PERCNT,,DEG C,,/MILLE,,/MILLE,,/MILLE,NMOL/KG,,NMOL/KG,PMOL/KG,,UMOL/KG,,UMOL/KG,,,,TU,NMOL/KG,PERCNT,DEG C,ITS-90,,/MILLE,,/MILLE,/MILLE,,/MILLE,G/KG,,KG/M^3,,,
33AT20120324,        A22,      71,          1,         36,         36,2,20120412,       1835,    14.1413,   -69.6971,       4656,     3.2,  27.7800,  35.1938,2,  35.1944,2,    200.5,2,   201.2,2,    1.68,2,    0.00,2,    0.00,2,    0.02,2,   1.527,2,   1.009,2,   0.126,2,    1.35,4,  1985.0,6, 2316.90,2,   8.0982,2,       25,    -999,9,     -999,9,    -999,9,  27.7803,2,    -999,9,    -999,9,    -999,    -999,9,    -999,    1.55,2,   73.37,2,    5.22,2,  14.1451, -69.6950,    -999,     -999,    -999,  27.7793,  27.7803,2,-999,9,-999,-999,9,-999,    35.3604,2,-999,9,20120412,       2031
33AT20120324,        A22,      71,          1,         35,         35,2,20120412,       1835,    14.1413,   -69.6971,       4656,    26.2,  27.0897,  35.6993,2,  35.6476,2,    202.0,2,   211.2,4,    1.42,2,    0.00,2,    0.00,2,    0.01,2,   1.543,2,   1.018,2,   0.128,2,    1.50,4,  1996.9,2, 2339.75,6,   8.1098,2,       25,    -999,9,     -999,9,    -999,9,  27.0796,2,    -999,9,    -999,9,    -999,    -999,9,    -999,    1.48,2,   73.54,2,    4.65,2,  14.1450, -69.6950,    -999,     -999,    -999,  27.0837,  27.0796,2,-999,9,-999,-999,9,-999,    35.8156,2,-999,9,20120412,       2029
33AT20120324,        A22,      71,          1,         34,         34,2,20120412,       1835,    14.1413,   -69.6971,       4656,    51.6,  26.7550,  35.9274,2,  35.9301,2,    204.1,2,   204.0,2,    1.14,2,    0.00,2,    0.00,2,    0.00,2,   1.569,2,   1.025,2,   0.127,2,    1.14,4,  2007.7,2, 2356.63,2,   8.1121,2,       25,    -999,9,     -999,9,    -999,9,  26.7552,2,    -999,9,    -999,9,    -999,    -999,9,    -999,    1.43,2,   69.57,2,    5.09,2,  14.1450, -69.6950,    -999,     -999,    -999,  26.7432,  26.7552,2,-999,9,-999,-999,9,-999,    36.0995,2,-999,9,20120412,       2027
33AT20120324,        A22,      71,          1,         33,         33,2,20120412,       1835,    14.1413,   -69.6971,       4656,    76.1,  26.4609,  36.0585,2,  36.0584,2,    201.6,2,   207.0,4,    1.10,2,    0.00,2,    0.00,2,    0.00,2,   1.593,2,   1.026,2,   0.130,2,    1.01,4,    -999,9,    -999,9,     -999,9,     -999,    -999,9,     -999,9,    -999,9,  26.4604,2,    -999,9,    -999,9,    -999,    -999,9,    -999,    1.27,2,   65.54,2,    5.14,2,  14.1449, -69.6951,    -999,     -999,    -999,  26.4436,  26.4604,2,-999,9,-999,-999,9,-999,    36.2284,2,-999,9,20120412,       2025
33AT20120324,        A22,      71,          1,         32,         32,2,20120412,       1835,    14.1413,   -69.6971,       4656,   100.2,  26.1616,  36.3597,2,  36.3873,2,    197.0,2,   196.3,2,    0.91,2,    0.00,2,    0.05,2,    0.00,2,   1.626,2,   1.049,2,   0.121,2,    1.01,4,  2034.7,2, 2383.91,2,   8.1015,6,       25,    -999,9,     -999,9,    -999,9,  26.1578,2,    -999,9,    -999,9,    -999,    -999,9,    -999,    1.12,2,   58.97,2,    4.96,2,  14.1448, -69.6951,    -999,     -999,    -999,  26.1390,  26.1578,2,-999,9,-999,-999,9,-999,    36.5589,2,-999,9,20120412,       2023
33AT20120324,        A22,      71,          1,         31,         31,2,20120412,       1835,    14.1413,   -69.6971,       4656,   150.6,  21.5181,  36.9077,2,  36.8931,2,    150.9,2,   148.5,2,    1.67,2,    5.46,2,    0.03,2,    0.29,2,   1.898,2,   1.222,2,   0.001,2,    0.90,4,  2151.4,2, 2409.69,2,   7.9386,2,       25,    -999,9,     -999,9,    -999,9,  21.5108,2,    -999,9,    -999,9,    -999,    -999,9,    -999,    0.25,2,   55.41,2,    9.14,2,  14.1448, -69.6952,    -999,     -999,    -999,  21.4885,  21.5108,2,-999,9,-999,-999,9,-999,    37.0670,2,-999,9,20120412,       2021
33AT20120324,        A22,      71,          1,         30,         30,2,20120412,       1835,    14.1413,   -69.6971,       4656,   201.1,  18.2484,  36.4778,2,  36.4770,2,    143.1,2,   146.7,2,    2.92,2,    9.55,2,    0.01,2,    0.52,2,   2.078,2,   1.280,2,   0.015,2,    0.83,4,  2158.3,2, 2384.60,2,   7.8849,2,       25,    -999,9,     -999,9,    -999,9,  18.2504,2,    -999,9,    -999,9,    -999,    -999,9,    -999,    0.22,2,   52.33,2,   12.78,2,  14.1447, -69.6952,    -999,     -999,    -999,  18.2132,  18.2504,2,-999,9,-999,-999,9,-999,    36.6490,2,-999,9,20120412,       2018
33AT20120324,        A22,      71,          1,         29,         29,2,20120412,       1835,    14.1413,   -69.6971,       4656,   250.9,  15.9087,  36.0966,2,  36.0954,2,    139.1,2,   143.4,2,    4.44,2,   13.57,2,    0.01,2,    0.79,2,   2.097,2,   1.260,2,   0.015,2,    0.65,4,  2166.5,2, 2362.58,2,   7.8306,2,       25,    -999,9,     -999,9,    -999,9,  15.9396,2,    -999,9,    -999,9,    -999,    -999,9,    -999,    0.28,2,   50.72,2,   17.28,2,  14.1446, -69.6953,    -999,     -999,    -999,  15.8687,  15.9396,2,-999,9,-999,-999,9,-999,    36.2656,2,-999,9,20120412,       2016
33AT20120324,        A22,      71,          1,         28,         28,2,20120412,       1835,    14.1413,   -69.6971,       4656,   301.0,  13.3023,  35.6211,2,  35.6092,2,    126.8,2,   129.2,2,    7.93,2,   19.49,2,    0.01,2,    1.20,2,   1.905,2,   1.090,2,   0.019,2,    0.96,4,  2184.0,2, 2337.44,2,   7.7415,2,       25,    -999,9,     -999,9,    -999,9,  13.2988,2,    -999,9,    -999,9,    -999,    -999,9,    -999,    0.29,2,   47.35,2,   22.97,2,  14.1445, -69.6953,    -999,     -999,    -999,  13.2599,  13.2988,2,-999,9,-999,-999,9,-999,    35.7771,2,-999,9,20120412,       2014
33AT20120324,        A22,      71,          1,         27,         27,2,20120412,       1835,    14.1413,   -69.6971,       4656,   351.3,  11.2169,  35.2671,2,  35.2584,2,    123.8,2,   122.1,2,   11.08,2,   23.93,2,    0.01,2,    1.50,2,   1.663,2,   0.915,2,   0.022,2,    0.25,4,  2195.4,2, 2320.93,2,   7.6732,2,       25,    -999,9,     -999,9,    -999,9,  11.1922,2,    -999,9,    -999,9,    -999,    -999,9,    -999,    0.37,2,   45.87,2,   26.36,2,  14.1444, -69.6954,    -999,     -999,    -999,  11.1726,  11.1922,2,-999,9,-999,-999,9,-999,    35.4246,2,-999,9,20120412,       2013
33AT20120324,        A22,      71,          1,         26,         26,2,20120412,       1835,    14.1413,   -69.6971,       4656,   402.3,   9.7458,  35.0425,2,  35.0331,2,    120.6,2,   120.3,2,   13.70,2,   26.98,2,    0.01,2,    1.72,2,   1.402,2,   0.746,2,   0.021,2,    0.24,4,  2202.8,2, 2309.26,2,   7.6302,2,       25,    -999,9,     -999,9,    -999,9,   9.7428,2,    -999,9,    -999,9,    -999,    -999,9,    -999,    0.39,2,   44.56,2,   29.57,2,  14.1443, -69.6954,    -999,     -999,    -999,   9.6993,   9.7428,2,-999,9,-999,-999,9,-999,    35.1983,2,-999,9,20120412,       2011
33AT20120324,        A22,      71,          1,         25,         25,2,20120412,       1835,    14.1413,   -69.6971,       4656,   452.1,   8.9042,  34.9255,2,  34.9250,2,    120.2,2,   120.2,2,   15.69,2,   28.72,2,    0.01,2,    1.84,2,   1.212,2,   0.647,2,   0.019,2,    0.22,4,  2206.0,6, 2306.27,2,   7.6053,2,       25,    -999,9,     -999,9,    -999,9,   8.9044,2,    -999,9,    -999,9,    -999,    -999,9,    -999,    0.43,2,   43.40,2,   32.01,2,  14.1442, -69.6955,    -999,     -999,    -999,   8.8547,   8.9044,2,-999,9,-999,-999,9,-999,    35.0897,2,-999,9,20120412,       2009
33AT20120324,        A22,      71,          1,         24,         24,2,20120412,       1835,    14.1413,   -69.6971,       4656,   502.8,   8.2910,  34.8514,2,  34.8497,2,    120.8,2,   121.0,2,   17.34,2,   29.91,2,    0.01,2,    1.93,2,   1.056,2,   0.559,2,   0.023,2,    0.10,4,  2211.5,2, 2304.22,2,   7.5902,2,       25,    -999,9,     -999,9,    -999,9,   8.2880,2,    -999,9,    -999,9,    -999,    -999,9,    -999,    0.43,2,   42.64,2,   33.42,2,  14.1441, -69.6955,    -999,     -999,    -999,   8.2381,   8.2880,2,-999,9,-999,-999,9,-999,    35.0141,2,-999,9,20120412,       2007
33AT20120324,        A22,      71,          1,         23,         23,2,20120412,       1835,    14.1413,   -69.6971,       4656,   603.6,   7.6086,  34.7890,2,  34.7870,2,    122.6,2,   122.2,2,   19.44,2,   31.09,2,    0.00,2,    2.02,2,   0.817,2,   0.418,2,   0.017,2,    0.13,4,  2213.2,2, 2302.61,2,   7.5782,2,       25,    -999,9,     -999,9,    -999,9,   7.6071,2,    -999,9,    -999,9,    -999,    -999,9,    -999,    0.38,2,   42.26,2,   34.33,2,  14.1440, -69.6956,    -999,     -999,    -999,   7.5478,   7.6071,2,-999,9,-999,-999,9,-999,    34.9510,2,-999,9,20120412,       2005
33AT20120324,        A22,      71,          1,         22,         22,2,20120412,       1835,    14.1413,   -69.6971,       4656,   704.7,   6.9389,  34.7358,2,  34.7351,2,    124.8,2,   124.4,2,   21.65,2,   32.03,2,    0.00,2,    2.10,2,   0.598,2,   0.311,2,   0.015,2,    0.14,4,    -999,9,    -999,9,     -999,9,     -999,    -999,9,     -999,9,    -999,9,   6.9388,2,    -999,9,    -999,9,    -999,    -999,9,    -999,    0.35,2,   41.78,2,   35.51,2,  14.1439, -69.6956,    -999,     -999,    -999,   6.8711,   6.9388,2,-999,9,-999,-999,9,-999,    34.8989,2,-999,9,20120412,       2002
33AT20120324,        A22,      71,          1,         21,         21,2,20120412,       1835,    14.1413,   -69.6971,       4656,   805.0,   6.5524,  34.7179,2,  34.7180,2,    126.9,2,   127.0,2,   23.01,2,   32.39,2,    0.00,2,    2.14,2,   0.452,2,   0.232,2,   0.009,2,    0.00,4,  2216.5,2, 2301.98,2,   7.5643,2,       25,    -999,9,     -999,9,    -999,9,   6.5522,2,    -999,9,    -999,9,    -999,    -999,9,    -999,    0.31,2,   41.26,2,   35.78,2,  14.1438, -69.6957,    -999,     -999,    -999,   6.4767,   6.5522,2,-999,9,-999,-999,9,-999,    34.8817,2,-999,9,20120412,       2000
33AT20120324,        A22,      71,          1,         20,         20,2,20120412,       1835,    14.1413,   -69.6971,       4656,   906.4,   6.1600,  34.7141,2,  34.7157,2,    131.6,2,   132.1,2,   24.41,2,   32.31,2,    0.00,2,    2.15,2,   0.321,2,   0.171,2,   0.007,2,    0.00,4,  2218.5,2, 2305.38,2,   7.5671,2,       25,    -999,9,     -999,9,    -999,9,   6.1603,2,    -999,9,    -999,9,    -999,    -999,9,    -999,    0.27,2,   40.88,2,   35.66,2,  14.1436, -69.6958,    -999,     -999,    -999,   6.0768,   6.1603,2,-999,9,-999,-999,9,-999,    34.8794,2,-999,9,20120412,       1957
33AT20120324,        A22,      71,          1,         19,         19,2,20120412,       1835,    14.1413,   -69.6971,       4656,  1006.8,   5.7223,  34.8135,2,  34.8197,2,    147.8,2,   150.2,2,   24.68,2,   29.59,2,    0.00,2,    1.98,2,   0.171,2,   0.099,2,   0.005,2,    0.00,4,  2212.4,2, 2314.24,3,   7.6052,2,       25,    -999,9,     -999,9,    -999,9,   5.7226,2,    -999,9,    -999,9,    -999,    -999,9,    -999,    0.16,2,   40.73,2,   32.15,2,  14.1435, -69.6958,    -999,     -999,    -999,   5.6324,   5.7226,2,-999,9,-999,-999,9,-999,    34.9838,2,-999,9,20120412,       1954
33AT20120324,        A22,      71,          1,         18,         18,2,20120412,       1835,    14.1413,   -69.6971,       4656,  1107.8,   5.2241,  34.9069,2,  34.9098,2,    170.0,2,   174.4,2,   24.73,2,   26.34,2,    0.00,2,    1.80,2,   0.105,2,   0.061,2,   0.005,2,    0.05,4,  2203.8,2, 2320.74,2,   7.6491,2,       25,    -999,9,     -999,9,    -999,9,   5.2179,2,    -999,9,    -999,9,    -999,    -999,9,    -999,    0.15,2,   40.42,2,   29.06,2,  14.1434, -69.6959,    -999,     -999,    -999,   5.1283,   5.2179,2,-999,9,-999,-999,9,-999,    35.0744,2,-999,9,20120412,       1952
33AT20120324,        A22,      71,          1,         17,         17,2,20120412,       1835,    14.1413,   -69.6971,       4656,  1209.1,   4.8817,  34.9401,2,  34.9410,2,    185.1,2,   186.7,2,   24.77,2,   24.83,2,    0.00,2,    1.69,2,   0.086,2,   0.054,2,   0.004,2,    0.00,4,    -999,9,    -999,9,     -999,9,     -999,    -999,9,     -999,9,    -999,9,   4.8826,2,    -999,9,    -999,9,    -999,    -999,9,    -999,    0.16,2,   40.16,2,   27.69,2,  14.1433, -69.6960,    -999,     -999,    -999,   4.7794,   4.8826,2,-999,9,-999,-999,9,-999,    35.1058,2,-999,9,20120412,       1949
33AT20120324,        A22,      71,          1,         16,         16,2,20120412,       1835,    14.1413,   -69.6971,       4656,  1312.4,   4.6714,  34.9532,2,  34.9550,2,    194.2,2,   195.0,2,   24.85,2,   24.01,2,    0.00,2,    1.63,2,   0.074,2,   0.046,2,   0.005,2,    0.09,4,  2197.2,2, 2325.08,2,   7.6784,2,       25,    -999,9,     -999,9,    -999,9,   4.6693,2,    -999,9,    -999,9,    -999,    -999,9,    -999,    0.15,2,   40.02,2,   26.63,2,  14.1432, -69.6960,    -999,     -999,    -999,   4.5614,   4.6693,2,-999,9,-999,-999,9,-999,    35.1198,2,-999,9,20120412,       1947
33AT20120324,        A22,      71,          1,         15,         15,2,20120412,       1835,    14.1413,   -69.6971,       4656,  1410.7,   4.5115,  34.9611,2,  34.9623,2,    200.2,2,   200.1,2,   25.22,2,   23.36,2,    0.00,2,    1.59,2,   0.069,2,   0.042,2,   0.003,2,    0.00,4,    -999,9,    -999,9,     -999,9,     -999,    -999,9,     -999,9,    -999,9,   4.5112,2,    -999,9,    -999,9,    -999,    -999,9,    -999,    0.16,2,   40.33,2,   25.67,2,  14.1430, -69.6961,    -999,     -999,    -999,   4.3939,   4.5112,2,-999,9,-999,-999,9,-999,    35.1272,2,-999,9,20120412,       1944
33AT20120324,        A22,      71,          1,         14,         14,2,20120412,       1835,    14.1413,   -69.6971,       4656,  1512.7,   4.4014,  34.9659,2,  34.9668,2,    203.2,2,   203.8,2,   25.65,2,   23.02,2,    0.00,2,    1.56,2,   0.069,2,   0.044,2,   0.006,2,    0.00,4,  2195.1,2, 2328.61,2,   7.6915,2,       25,    -999,9,     -999,9,    -999,9,   4.4012,2,    -999,9,    -999,9,    -999,    -999,9,    -999,    0.18,2,   40.48,2,   25.39,2,  14.1429, -69.6962,    -999,     -999,    -999,   4.2755,   4.4012,2,-999,9,-999,-999,9,-999,    35.1317,2,-999,9,20120412,       1942
33AT20120324,        A22,      71,          1,         13,         13,2,20120412,       1835,    14.1413,   -69.6971,       4656,  1613.8,   4.3156,  34.9686,2,  34.9698,2,    206.0,2,   206.9,2,   26.16,2,   22.79,2,    0.00,2,    1.55,2,   0.063,2,   0.040,2,   0.003,2,    0.00,4,    -999,9,    -999,9,     -999,9,     -999,    -999,9,     -999,9,    -999,9,   4.3151,2,    -999,9,    -999,9,    -999,    -999,9,    -999,    0.14,2,   40.21,2,   24.89,2,  14.1428, -69.6962,    -999,     -999,    -999,   4.1811,   4.3151,2,-999,9,-999,-999,9,-999,    35.1347,2,-999,9,20120412,       1939
33AT20120324,        A22,      71,          1,         12,         12,2,20120412,       1835,    14.1413,   -69.6971,       4656,  1816.2,   4.2105,  34.9716,2,  34.9725,2,    209.7,2,   209.5,2,   26.87,2,   22.40,2,    0.00,2,    1.52,2,   0.056,2,   0.038,2,   0.004,2,    0.00,4,    -999,9,    -999,9,     -999,9,     -999,    -999,9,     -999,9,    -999,9,   4.2112,2,    -999,9,    -999,9,    -999,    -999,9,    -999,    0.14,2,   40.23,2,   25.33,2,  14.1427, -69.6963,    -999,     -999,    -999,   4.0579,   4.2112,2,-999,9,-999,-999,9,-999,    35.1375,2,-999,9,20120412,       1935
33AT20120324,        A22,      71,          1,         11,         11,2,20120412,       1835,    14.1413,   -69.6971,       4656,  2019.1,   4.1606,  34.9730,2,  34.9741,2,    211.9,2,   212.0,2,   27.29,2,   22.19,2,    0.00,2,    1.51,2,   0.048,2,   0.038,2,   0.003,2,    0.00,4,  2195.7,2, 2334.74,2,   7.7031,2,       25,    -999,9,     -999,9,    -999,9,   4.1606,2,    -999,9,    -999,9,    -999,    -999,9,    -999,    0.13,2,   40.11,2,   24.67,2,  14.1425, -69.6964,    -999,     -999,    -999,   3.9888,   4.1606,2,-999,9,-999,-999,9,-999,    35.1390,2,-999,9,20120412,       1930
33AT20120324,        A22,      71,          1,         10,         10,2,20120412,       1835,    14.1413,   -69.6971,       4656,  2249.1,   4.1444,  34.9736,2,  34.9747,2,    213.4,2,   212.3,2,   27.50,2,   22.08,2,    0.00,2,    1.51,2,   0.051,2,   0.036,2,   0.004,2,    0.00,4,    -999,9,    -999,9,     -999,9,     -999,    -999,9,     -999,9,    -999,9,   4.1441,2,    -999,9,    -999,9,    -999,    -999,9,    -999,    0.13,2,   39.65,2,   24.41,2,  14.1424, -69.6965,    -999,     -999,    -999,   3.9496,   4.1441,2,-999,9,-999,-999,9,-999,    35.1396,2,-999,9,20120412,       1925
33AT20120324,        A22,      71,          1,          9,          9,2,20120412,       1835,    14.1413,   -69.6971,       4656,  2526.5,   4.1420,  34.9741,2,  34.9754,2,    213.8,2,   197.0,4,   27.96,2,   22.04,2,    0.00,2,    1.51,2,   0.046,2,   0.036,2,   0.005,2,    0.23,4,    -999,9,    -999,9,     -999,9,     -999,    -999,9,     -999,9,    -999,9,   4.1419,2,    -999,9,    -999,9,    -999,    -999,9,    -999,    0.13,2,   39.87,2,   24.48,2,  14.1423, -69.6966,    -999,     -999,    -999,   3.9183,   4.1419,2,-999,9,-999,-999,9,-999,    35.1403,2,-999,9,20120412,       1920
33AT20120324,        A22,      71,          1,          8,          8,2,20120412,       1835,    14.1413,   -69.6971,       4656,  2782.3,   4.1547,  34.9743,2,  34.9754,2,    214.0,2,   214.4,2,   28.24,2,   22.05,2,    0.00,2,    1.51,2,   0.043,2,   0.037,2,   0.004,2,    0.00,4,    -999,9,    -999,9,     -999,9,     -999,    -999,9,     -999,9,    -999,9,   4.1549,2,    -999,9,    -999,9,    -999,    -999,9,    -999,    0.11,2,   39.93,2,   24.61,2,  14.1422, -69.6966,    -999,     -999,    -999,   3.9032,   4.1549,2,-999,9,-999,-999,9,-999,    35.1403,2,-999,9,20120412,       1915
33AT20120324,        A22,      71,          1,          7,          7,2,20120412,       1835,    14.1413,   -69.6971,       4656,  3035.9,   4.1755,  34.9745,2,  34.9756,2,    214.4,2,   221.4,4,   28.47,2,   22.04,2,    0.00,2,    1.50,2,   0.041,2,   0.036,2,   0.004,2,    0.00,4,  2197.0,2, 2337.71,2,   7.7091,2,       25,    -999,9,     -999,9,    -999,9,   4.1754,2,    -999,9,    -999,9,    -999,    -999,9,    -999,    0.10,2,   39.71,2,   24.62,2,  14.1422, -69.6966,    -999,     -999,    -999,   3.8953,   4.1754,2,-999,9,-999,-999,9,-999,    35.1405,2,-999,9,20120412,       1910
33AT20120324,        A22,      71,          1,          6,          6,2,20120412,       1835,    14.1413,   -69.6971,       4656,  3344.0,   4.2063,  34.9745,2,  34.9756,2,    214.3,2,   214.4,2,   28.56,2,   22.01,2,    0.00,2,    1.50,2,   0.044,2,   0.036,2,   0.006,2,    0.00,4,    -999,9,    -999,9,     -999,9,     -999,    -999,9,     -999,9,    -999,9,   4.2065,2,    -999,9,    -999,9,    -999,    -999,9,    -999,    0.11,2,   40.37,2,   24.48,2,  14.1422, -69.6966,    -999,     -999,    -999,   3.8900,   4.2065,2,-999,9,-999,-999,9,-999,    35.1405,2,-999,9,20120412,       1904