BOTTLE,20220725CCHSIOCBG
EXPOCODE,SECT_ID,STNNBR,CASTNO,SAMPNO,BTLNBR,BTLNBR_FLAG_W,DATE,TIME,LATITUDE,LONGITUDE,DEPTH,CTDPRS,CTDTMP,CTDSAL,CTDSAL_FLAG_W,SALNTY,SALNTY_FLAG_W,CTDOXY,CTDOXY_FLAG_W,OXYGEN,OXYGEN_FLAG_W,SILCAT,SILCAT_FLAG_W,NITRAT,NITRAT_FLAG_W,NITRIT,NITRIT_FLAG_W,PHSPHT,PHSPHT_FLAG_W,CFC-11,CFC-11_FLAG_W,CFC-12,CFC-12_FLAG_W,CFC113,CFC113_FLAG_W,SF6,SF6_FLAG_W,TCARBN,TCARBN_FLAG_W,ALKALI,ALKALI_FLAG_W,PH_TOT,PH_TOT_FLAG_W,PH_TMP,TRITUM,TRITUM_FLAG_W,HELIUM,HELIUM_FLAG_W,DELHE3,DELHE3_FLAG_W,REFTMP,REFTMP_FLAG_W,DELC13,DELC13_FLAG_W,DELC14,DELC14_FLAG_W,C14ERR,NEON,NEON_FLAG_W,NEONER,CCL4,CCL4_FLAG_W,DOC,DOC_FLAG_W,TDN,TDN_FLAG_W,BTL_LAT,BTL_LON,TRITER,HELIER,DELHER,THETA,SBE35,SBE35_FLAG_W,14C-DOC,14C-DOC_FLAG_W,14C-DOCERR,13C-DOC,13C-DOC_FLAG_W,13C-DOCERR,SALTREF,SALTREF_FLAG_W,LAB_DEN,LAB_DEN_FLAG_W,BTL_DATE,BTL_TIME
,,,,,,,,,,,METERS,DBAR,ITS-90,PSS-78,,PSS-78,,UMOL/KG,,UMOL/KG,,UMOL/KG,,UMOL/KG,,UMOL/KG,,UMOL/KG,,PMOL/KG,,PMOL/KG,,PMOL/KG,,FMOL/KG,,UMOL/KG,,UMOL/KG,,,,DEG C,TU,,NMOL/KG,,PERCNT,,DEG C,,/MILLE,,/MILLE,,/MILLE,NMOL/KG,,NMOL/KG,PMOL/KG,,UMOL/KG,,UMOL/KG,,,,TU,NMOL/KG,PERCNT,DEG C,ITS-90,,/MILLE,,/MILLE,/MILLE,,/MILLE,G/KG,,KG/M^3,,,
33AT20120324,        A22,      37,          1,         36,         36,2,20120404,       2028,    25.0190,   -65.7106,       5552,     3.4,  23.6852,  36.7696,2,  36.7721,2,    211.0,2,   214.1,2,    0.48,2,    0.00,2,    0.00,2,    0.00,2,   1.721,2,   1.099,2,   0.132,2,    1.07,4,  2060.4,6, 2403.83,2,   8.0966,6,       25,    -999,9,     -999,9,    -999,9,  23.6807,2,    -999,9,    -999,9,    -999,    -999,9,    -999,    1.55,2,   76.71,2,    4.62,2,  25.0180, -65.7137,    -999,     -999,    -999,  23.6845,  23.6807,2,-999,9,-999,-999,9,-999,    36.9455,2,-999,9,20120404,       2243
33AT20120324,        A22,      37,          1,         35,         35,2,20120404,       2028,    25.0190,   -65.7106,       5552,    20.6,  23.3499,  36.7532,2,  36.7533,2,    213.8,2,   213.7,2,    0.50,2,    0.00,2,    0.00,2,    0.00,2,   1.725,2,   1.121,2,   0.126,2,    1.20,4,    -999,9,    -999,9,     -999,9,     -999,    -999,9,     -999,9,    -999,9,  23.3519,2,    -999,9,    -999,9,    -999,    -999,9,    -999,    1.59,2,   76.81,2,    4.99,2,  25.0180, -65.7136,    -999,     -999,    -999,  23.3456,  23.3519,2,-999,9,-999,-999,9,-999,    36.9266,2,-999,9,20120404,       2242
33AT20120324,        A22,      37,          1,         34,         34,2,20120404,       2028,    25.0190,   -65.7106,       5552,    40.9,  23.3358,  36.7527,2,  36.7529,2,    213.8,2,   213.8,2,    0.48,2,    0.00,2,    0.00,2,    0.00,2,   1.718,2,   1.125,2,   0.134,2,    1.11,4,  2060.2,2, 2403.53,6,   8.0966,2,       25,    -999,9,     -999,9,    -999,9,  23.3361,2,    -999,9,    -999,9,    -999,    -999,9,    -999,    1.56,2,   71.63,2,    4.50,2,  25.0180, -65.7135,    -999,     -999,    -999,  23.3273,  23.3361,2,-999,9,-999,-999,9,-999,    36.9262,2,-999,9,20120404,       2240
33AT20120324,        A22,      37,          1,         33,         33,2,20120404,       2028,    25.0190,   -65.7106,       5552,    66.2,  23.3233,  36.7550,2,  36.7555,2,    214.3,2,   213.5,2,    0.54,2,    0.00,2,    0.00,2,    0.00,2,   1.721,2,   1.108,2,   0.132,2,    1.12,4,  2060.2,2, 2404.83,2,     -999,9,     -999,    -999,9,     -999,9,    -999,9,  23.3217,2,    -999,9,    -999,9,    -999,    -999,9,    -999,    1.66,2,   68.49,2,    3.57,2,  25.0181, -65.7134,    -999,     -999,    -999,  23.3096,  23.3217,2,-999,9,-999,-999,9,-999,    36.9288,2,-999,9,20120404,       2238
33AT20120324,        A22,      37,          1,         32,         32,2,20120404,       2028,    25.0190,   -65.7106,       5552,    90.4,  22.8633,  36.8410,2,  36.8414,2,    216.5,2,   216.2,2,    0.30,2,    0.00,2,    0.00,2,    0.00,2,   1.773,2,   1.133,2,   0.128,2,    0.74,4,  2069.9,2, 2407.80,2,   8.0869,2,       25,    -999,9,     -999,9,    -999,9,  22.8739,2,    -999,9,    -999,9,    -999,    -999,9,    -999,    1.38,2,   67.50,2,    4.27,2,  25.0181, -65.7134,    -999,     -999,    -999,  22.8448,  22.8739,2,-999,9,-999,-999,9,-999,    37.0151,2,-999,9,20120404,       2236
33AT20120324,        A22,      37,          1,         31,         31,2,20120404,       2028,    25.0190,   -65.7106,       5552,   135.3,  20.9824,  36.7598,2,  36.7680,2,    203.4,2,   204.1,2,    0.32,2,    0.09,2,    0.02,2,    0.00,2,   1.896,2,   1.235,2,   0.115,2,    0.70,4,    -999,9,    -999,9,     -999,9,     -999,    -999,9,     -999,9,    -999,9,  20.9821,2,    -999,9,    -999,9,    -999,    -999,9,    -999,    0.76,2,   57.19,2,    4.37,2,  25.0181, -65.7133,    -999,     -999,    -999,  20.9563,  20.9821,2,-999,9,-999,-999,9,-999,    36.9414,2,-999,9,20120404,       2233
33AT20120324,        A22,      37,          1,         30,         30,2,20120404,       2028,    25.0190,   -65.7106,       5552,   187.8,  19.0448,  36.6602,2,  36.6585,2,    189.8,2,   191.7,2,    0.52,2,    2.50,2,    0.01,2,    0.06,2,   2.083,2,   1.341,2,   0.036,2,    0.73,4,  2120.5,2, 2394.32,2,   7.9853,2,       25,    -999,9,     -999,9,    -999,9,  19.0444,2,    -999,9,    -999,9,    -999,    -999,9,    -999,    0.37,2,   53.46,2,    6.77,2,  25.0181, -65.7132,    -999,     -999,    -999,  19.0109,  19.0444,2,-999,9,-999,-999,9,-999,    36.8314,2,-999,9,20120404,       2230
33AT20120324,        A22,      37,          1,         29,         29,2,20120404,       2028,    25.0190,   -65.7106,       5552,   237.1,  18.4481,  36.6052,2,  36.6058,2,    197.7,2,   198.3,2,    0.87,2,    3.55,2,    0.00,2,    0.14,2,   2.139,2,   1.355,2,   0.038,2,    0.76,4,    -999,9,    -999,9,     -999,9,     -999,    -999,9,     -999,9,    -999,9,  18.4500,2,    -999,9,    -999,9,    -999,    -999,9,    -999,    0.38,2,   50.11,2,    7.28,2,  25.0182, -65.7131,    -999,     -999,    -999,  18.4062,  18.4500,2,-999,9,-999,-999,9,-999,    36.7784,2,-999,9,20120404,       2228
33AT20120324,        A22,      37,          1,         28,         28,2,20120404,       2028,    25.0190,   -65.7106,       5552,   289.4,  18.1293,  36.5676,2,  36.5681,2,    199.6,2,   200.4,2,    1.13,2,    4.13,2,    0.00,2,    0.17,2,   2.162,2,   1.383,2,   0.033,2,    0.64,4,  2117.3,2, 2388.90,2,   7.9811,2,       25,    -999,9,     -999,9,    -999,9,  18.1278,2,    -999,9,    -999,9,    -999,    -999,9,    -999,    0.39,2,   48.65,2,    7.73,2,  25.0181, -65.7131,    -999,     -999,    -999,  18.0787,  18.1278,2,-999,9,-999,-999,9,-999,    36.7406,2,-999,9,20120404,       2226
33AT20120324,        A22,      37,          1,         27,         27,2,20120404,       2028,    25.0190,   -65.7106,       5552,   338.3,  17.9124,  36.5388,2,  36.5416,2,    203.2,2,   202.3,2,    1.02,2,    4.38,2,    0.00,2,    0.19,2,   2.186,2,   1.388,2,   0.038,2,    1.04,4,    -999,9,    -999,9,     -999,9,     -999,    -999,9,     -999,9,    -999,9,  17.9094,2,    -999,9,    -999,9,    -999,    -999,9,    -999,    0.41,2,   47.67,2,    8.21,2,  25.0181, -65.7130,    -999,     -999,    -999,  17.8537,  17.9094,2,-999,9,-999,-999,9,-999,    36.7139,2,-999,9,20120404,       2224
33AT20120324,        A22,      37,          1,         26,         26,2,20120404,       2028,    25.0190,   -65.7106,       5552,   387.0,  17.4299,  36.4539,2,  36.4603,2,    197.5,2,   196.8,2,    1.50,2,    5.56,2,    0.00,2,    0.27,2,   2.223,2,   1.369,2,   0.036,2,    1.37,4,  2124.8,2, 2384.67,2,   7.9597,2,       25,    -999,9,     -999,9,    -999,9,  17.4359,2,    -999,9,    -999,9,    -999,    -999,9,    -999,    0.48,2,   47.04,2,    9.36,2,  25.0182, -65.7130,    -999,     -999,    -999,  17.3640,  17.4359,2,-999,9,-999,-999,9,-999,    36.6323,2,-999,9,20120404,       2222
33AT20120324,        A22,      37,          1,         25,         25,2,20120404,       2028,    25.0190,   -65.7106,       5552,   468.3,  16.4098,  36.2606,2,  36.2675,2,    184.8,2,   185.1,2,    2.33,2,    8.33,2,    0.00,2,    0.45,2,   2.207,2,   1.367,2,   0.029,2,    0.81,4,    -999,9,    -999,9,     -999,9,     -999,    -999,9,     -999,9,    -999,9,  16.4075,2,    -999,9,    -999,9,    -999,    -999,9,    -999,    0.40,2,   46.83,2,   12.37,2,  25.0182, -65.7129,    -999,     -999,    -999,  16.3331,  16.4075,2,-999,9,-999,-999,9,-999,    36.4385,2,-999,9,20120404,       2220
33AT20120324,        A22,      37,          1,         24,         24,2,20120404,       2028,    25.0190,   -65.7106,       5552,   569.5,  14.2766,  35.8953,2,  35.8951,2,    169.4,2,   167.6,2,    4.90,2,   13.40,2,    0.00,2,    0.79,2,   1.439,2,   0.977,2,   0.032,2,    0.66,4,  2155.7,2, 2352.90,2,   7.8416,2,       25,    -999,9,     -999,9,    -999,9,  14.2722,2,    -999,9,    -999,9,    -999,    -999,9,    -999,    0.19,2,   45.76,2,   17.59,2,  25.0183, -65.7127,    -999,     -999,    -999,  14.1915,  14.2722,2,-999,9,-999,-999,9,-999,    36.0644,2,-999,9,20120404,       2217
33AT20120324,        A22,      37,          1,         23,         23,2,20120404,       2028,    25.0190,   -65.7106,       5552,   672.9,  11.8358,  35.5428,2,  35.5502,2,    154.5,2,   153.6,2,    8.63,2,   18.77,2,    0.00,2,    1.14,2,   1.624,2,   0.901,2,   0.019,2,    0.38,4,  2176.1,2, 2335.54,2,     -999,9,     -999,    -999,9,     -999,9,    -999,9,  11.8654,2,    -999,9,    -999,9,    -999,    -999,9,    -999,    0.29,2,   44.83,2,   22.23,2,  25.0183, -65.7125,    -999,     -999,    -999,  11.7466,  11.8654,2,-999,9,-999,-999,9,-999,    35.7178,2,-999,9,20120404,       2214
33AT20120324,        A22,      37,          1,         22,         22,2,20120404,       2028,    25.0190,   -65.7106,       5552,   771.5,   9.6334,  35.2797,2,  35.2876,2,    146.9,2,   311.8,4,   12.17,2,   22.92,2,    0.00,2,    1.44,2,   1.074,2,   0.570,2,   0.013,2,    0.23,4,  2190.1,2, 2325.36,2,   7.7035,2,       25,    -999,9,     -999,9,    -999,9,   9.6464,2,    -999,9,    -999,9,    -999,    -999,9,    -999,    0.24,2,   43.78,2,   25.40,2,  25.0184, -65.7124,    -999,     -999,    -999,   9.5430,   9.6464,2,-999,9,-999,-999,9,-999,    35.4540,2,-999,9,20120404,       2212
33AT20120324,        A22,      37,          1,         21,         21,2,20120404,       2028,    25.0190,   -65.7106,       5552,   871.5,   7.7421,  35.0860,2,  35.0863,2,    149.1,2,   150.8,2,   16.54,2,   25.75,2,    0.00,2,    1.67,2,   0.564,2,   0.305,2,   0.007,2,    0.06,4,  2199.6,6, 2318.44,2,     -999,9,     -999,    -999,9,     -999,9,    -999,9,   7.7561,2,    -999,9,    -999,9,    -999,    -999,9,    -999,    0.21,2,   42.55,2,   28.32,2,  25.0184, -65.7122,    -999,     -999,    -999,   7.6516,   7.7561,2,-999,9,-999,-999,9,-999,    35.2517,2,-999,9,20120404,       2209
33AT20120324,        A22,      37,          1,         20,         20,2,20120404,       2028,    25.0190,   -65.7106,       5552,   974.6,   6.7009,  35.0381,2,  35.0397,2,    167.2,2,   169.7,2,   17.52,2,   24.91,2,    0.00,2,    1.64,2,   0.538,2,   0.281,2,   0.011,2,    0.00,4,  2197.0,2, 2318.75,2,   7.6673,2,       25,    -999,9,     -999,9,    -999,9,   6.6939,2,    -999,9,    -999,9,    -999,    -999,9,    -999,    0.32,2,   41.57,2,   28.31,2,  25.0185, -65.7121,    -999,     -999,    -999,   6.6066,   6.6939,2,-999,9,-999,-999,9,-999,    35.2049,2,-999,9,20120404,       2206
33AT20120324,        A22,      37,          1,         19,         19,2,20120404,       2028,    25.0190,   -65.7106,       5552,  1073.8,   6.0444,  35.0582,2,  35.0582,2,    190.5,2,   193.2,2,   15.98,2,   22.61,2,    0.00,2,    1.49,2,   0.692,2,   0.354,2,   0.019,2,    0.08,4,  2188.9,2,    -999,9,     -999,9,     -999,    -999,9,     -999,9,    -999,9,   6.0478,2,    -999,9,    -999,9,    -999,    -999,9,    -999,    0.52,2,   41.33,2,   26.33,2,  25.0185, -65.7120,    -999,     -999,    -999,   5.9450,   6.0478,2,-999,9,-999,-999,9,-999,    35.2235,2,-999,9,20120404,       2203
33AT20120324,        A22,      37,          1,         18,         18,2,20120404,       2028,    25.0190,   -65.7106,       5552,  1175.2,   5.5458,  35.0618,2,  35.0628,2,    211.4,2,   211.6,2,   15.00,2,   21.07,2,    0.00,2,    1.41,2,   0.798,2,   0.411,2,   0.025,2,    0.24,4,  2182.1,2, 2318.13,2,   7.7075,2,       25,    -999,9,     -999,9,    -999,9,   5.5427,2,    -999,9,    -999,9,    -999,    -999,9,    -999,    0.71,2,   41.14,2,   23.69,2,  25.0185, -65.7119,    -999,     -999,    -999,   5.4405,   5.5427,2,-999,9,-999,-999,9,-999,    35.2281,2,-999,9,20120404,       2201
33AT20120324,        A22,      37,          1,         17,         17,2,20120404,       2028,    25.0190,   -65.7106,       5552,  1275.3,   5.1184,  35.0647,2,  35.0647,2,    225.0,2,   227.6,2,   14.04,2,   19.69,2,    0.00,2,    1.31,2,   0.878,2,   0.453,2,   0.031,2,    0.12,4,    -999,9,    -999,9,     -999,9,     -999,    -999,9,     -999,9,    -999,9,   5.1178,2,    -999,9,    -999,9,    -999,    -999,9,    -999,    0.84,2,   40.89,2,   23.23,2,  25.0186, -65.7118,    -999,     -999,    -999,   5.0073,   5.1178,2,-999,9,-999,-999,9,-999,    35.2301,2,-999,9,20120404,       2158
33AT20120324,        A22,      37,          1,         16,         16,2,20120404,       2028,    25.0190,   -65.7106,       5552,  1378.1,   4.8174,  35.0562,2,  35.0567,2,    236.3,2,   237.5,2,   13.60,2,   19.08,2,    0.00,2,    1.25,2,   0.936,2,   0.455,2,   0.037,2,    0.05,4,  2171.3,2, 2317.28,2,   7.7288,2,       25,    -999,9,     -999,9,    -999,9,   4.8167,2,    -999,9,    -999,9,    -999,    -999,9,    -999,    0.99,2,   41.27,2,   22.68,2,  25.0186, -65.7117,    -999,     -999,    -999,   4.6995,   4.8167,2,-999,9,-999,-999,9,-999,    35.2220,2,-999,9,20120404,       2155
33AT20120324,        A22,      37,          1,         15,         15,2,20120404,       2028,    25.0190,   -65.7106,       5552,  1549.0,   4.3881,  35.0343,2,  35.0343,2,    247.2,2,   247.3,2,   14.04,2,   18.50,2,    0.00,2,    1.23,2,   0.884,2,   0.442,2,   0.038,2,    0.05,4,    -999,9,    -999,9,     -999,9,     -999,    -999,9,     -999,9,    -999,9,   4.3855,2,    -999,9,    -999,9,    -999,    -999,9,    -999,    1.02,2,   41.61,2,   22.69,2,  25.0186, -65.7116,    -999,     -999,    -999,   4.2587,   4.3855,2,-999,9,-999,-999,9,-999,    35.1995,2,-999,9,20120404,       2150
33AT20120324,        A22,      37,          1,         14,         14,2,20120404,       2028,    25.0190,   -65.7106,       5552,  1752.0,   4.0252,  35.0143,2,  35.0148,2,    252.9,2,   252.3,2,   15.79,2,   18.42,2,    0.00,2,    1.23,2,   0.715,2,   0.359,2,   0.031,2,    0.06,4,  2166.6,2, 2315.88,2,   7.7385,2,       25,    -999,9,     -999,9,    -999,9,   4.0250,2,    -999,9,    -999,9,    -999,    -999,9,    -999,    0.90,2,   42.41,2,   22.35,2,  25.0187, -65.7114,    -999,     -999,    -999,   3.8811,   4.0250,2,-999,9,-999,-999,9,-999,    35.1799,2,-999,9,20120404,       2146
33AT20120324,        A22,      37,          1,         13,         13,2,20120404,       2028,    25.0190,   -65.7106,       5552,  1952.7,   3.6249,  34.9828,2,     -999,5,    258.1,2,   258.1,2,   17.10,2,   18.23,2,    0.00,2,    1.23,2,   0.709,2,   0.355,2,   0.031,2,    0.12,4,    -999,9,    -999,9,     -999,9,     -999,    -999,9,     -999,9,    -999,9,   3.6263,2,    -999,9,    -999,9,    -999,    -999,9,    -999,    0.96,2,   42.22,2,   22.62,2,  25.0188, -65.7112,    -999,     -999,    -999,   3.4674,   3.6263,2,-999,9,-999,-999,9,-999,       -999,5,-999,9,20120404,       2142
33AT20120324,        A22,      37,          1,         12,         12,2,20120404,       2028,    25.0190,   -65.7106,       5552,  2189.8,   3.3868,  34.9774,2,  34.9778,2,    254.3,2,   254.7,2,   20.29,2,   18.68,2,    0.00,2,    1.27,2,   0.317,2,   0.172,2,   0.012,2,    0.00,4,  2168.6,2, 2321.22,2,   7.7453,2,       25,    -999,9,     -999,9,    -999,9,   3.3863,2,    -999,9,    -999,9,    -999,    -999,9,    -999,    0.51,2,   42.45,2,   22.99,2,  25.0188, -65.7110,    -999,     -999,    -999,   3.2102,   3.3863,2,-999,9,-999,-999,9,-999,    35.1428,2,-999,9,20120404,       2136
33AT20120324,        A22,      37,          1,         11,         11,2,20120404,       2028,    25.0190,   -65.7106,       5552,  2443.1,   3.1546,  34.9619,2,  34.9612,2,    255.6,2,   255.4,2,   23.62,2,   18.89,2,    0.00,2,    1.29,2,   0.236,2,   0.125,2,   0.009,2,    0.59,4,    -999,9,    -999,9,     -999,9,     -999,    -999,9,     -999,9,    -999,9,   3.1538,2,    -999,9,    -999,9,    -999,    -999,9,    -999,    0.41,2,   42.26,2,   22.86,2,  25.0189, -65.7109,    -999,     -999,    -999,   2.9573,   3.1538,2,-999,9,-999,-999,9,-999,    35.1260,2,-999,9,20120404,       2131
33AT20120324,        A22,      37,          1,         10,         10,2,20120404,       2028,    25.0190,   -65.7106,       5552,  2699.1,   2.9705,  34.9496,2,  34.9504,2,    252.9,2,   253.4,2,   27.16,2,   19.44,2,    0.00,2,    1.32,2,   0.115,2,   0.064,2,   0.004,2,    0.00,4,  2174.1,2, 2328.48,2,   7.7459,6,       25,    -999,9,     -999,9,    -999,9,   2.9740,2,    -999,9,    -999,9,    -999,    -999,9,    -999,    0.26,2,   42.54,2,   22.61,2,  25.0189, -65.7108,    -999,     -999,    -999,   2.7512,   2.9740,2,-999,9,-999,-999,9,-999,    35.1152,2,-999,9,20120404,       2126
33AT20120324,        A22,      37,          1,          9,          9,2,20120404,       2028,    25.0190,   -65.7106,       5552,  2952.9,   2.7949,  34.9353,2,  34.9350,2,    254.9,2,   254.6,2,   29.40,2,   19.55,2,    0.00,2,    1.33,2,   0.132,2,   0.070,2,   0.005,2,    0.00,4,    -999,9,    -999,9,     -999,9,     -999,    -999,9,     -999,9,    -999,9,   2.7949,2,    -999,9,    -999,9,    -999,    -999,9,    -999,    0.27,2,   41.25,2,   22.54,2,  25.0189, -65.7108,    -999,     -999,    -999,   2.5534,   2.7949,2,-999,9,-999,-999,9,-999,    35.0998,2,-999,9,20120404,       2121
33AT20120324,        A22,      37,          1,          8,          8,2,20120404,       2028,    25.0190,   -65.7106,       5552,  3242.4,   2.6374,  34.9224,2,  34.9224,2,    257.1,2,   257.8,2,   30.04,2,   19.37,2,    0.00,2,    1.32,2,   0.208,2,   0.129,2,   0.017,2,    0.05,4,  2174.8,2, 2328.37,2,   7.7425,2,       25,    -999,9,     -999,9,    -999,9,   2.6374,2,    -999,9,    -999,9,    -999,    -999,9,    -999,    0.32,2,   41.39,2,   22.56,2,  25.0189, -65.7108,    -999,     -999,    -999,   2.3692,   2.6374,2,-999,9,-999,-999,9,-999,    35.0871,2,-999,9,20120404,       2115
33AT20120324,        A22,      37,          1,          7,          7,2,20120404,       2028,    25.0190,   -65.7106,       5552,  3548.7,   2.4790,  34.9099,2,  34.9099,2,    260.5,2,   261.0,2,   30.81,2,   19.09,2,    0.00,2,    1.31,2,   0.258,2,   0.133,2,   0.013,2,    0.00,4,    -999,9,    -999,9,     -999,9,     -999,    -999,9,     -999,9,    -999,9,   2.4781,2,    -999,9,    -999,9,    -999,    -999,9,    -999,    0.41,2,   42.27,2,   22.52,2,  25.0189, -65.7107,    -999,     -999,    -999,   2.1818,   2.4781,2,-999,9,-999,-999,9,-999,    35.0745,2,-999,9,20120404,       2109
33AT20120324,        A22,      37,          1,          6,          6,2,20120404,       2028,    25.0190,   -65.7106,       5552,  3856.5,   2.3748,  34.9011,2,  34.9014,2,    263.2,2,   262.9,2,   30.09,2,   18.87,2,    0.00,2,    1.30,2,   0.329,2,   0.175,2,   0.018,2,    0.03,4,  2173.2,2, 2326.30,2,   7.7415,2,       25,    -999,9,     -999,9,    -999,9,   2.3750,2,    -999,9,    -999,9,    -999,    -999,9,    -999,    0.54,2,   41.80,2,   22.58,2,  25.0190, -65.7106,    -999,     -999,    -999,   2.0462,   2.3750,2,-999,9,-999,-999,9,-999,    35.0660,2,-999,9,20120404,       2103