BOTTLE,20220725CCHSIOCBG
EXPOCODE,SECT_ID,STNNBR,CASTNO,SAMPNO,BTLNBR,BTLNBR_FLAG_W,DATE,TIME,LATITUDE,LONGITUDE,DEPTH,CTDPRS,CTDTMP,CTDSAL,CTDSAL_FLAG_W,SALNTY,SALNTY_FLAG_W,CTDOXY,CTDOXY_FLAG_W,OXYGEN,OXYGEN_FLAG_W,SILCAT,SILCAT_FLAG_W,NITRAT,NITRAT_FLAG_W,NITRIT,NITRIT_FLAG_W,PHSPHT,PHSPHT_FLAG_W,CFC-11,CFC-11_FLAG_W,CFC-12,CFC-12_FLAG_W,CFC113,CFC113_FLAG_W,SF6,SF6_FLAG_W,TCARBN,TCARBN_FLAG_W,ALKALI,ALKALI_FLAG_W,PH_TOT,PH_TOT_FLAG_W,PH_TMP,TRITUM,TRITUM_FLAG_W,HELIUM,HELIUM_FLAG_W,DELHE3,DELHE3_FLAG_W,REFTMP,REFTMP_FLAG_W,DELC13,DELC13_FLAG_W,DELC14,DELC14_FLAG_W,C14ERR,NEON,NEON_FLAG_W,NEONER,CCL4,CCL4_FLAG_W,DOC,DOC_FLAG_W,TDN,TDN_FLAG_W,BTL_LAT,BTL_LON,TRITER,HELIER,DELHER,THETA,SBE35,SBE35_FLAG_W,14C-DOC,14C-DOC_FLAG_W,14C-DOCERR,13C-DOC,13C-DOC_FLAG_W,13C-DOCERR,SALTREF,SALTREF_FLAG_W,LAB_DEN,LAB_DEN_FLAG_W,BTL_DATE,BTL_TIME
,,,,,,,,,,,METERS,DBAR,ITS-90,PSS-78,,PSS-78,,UMOL/KG,,UMOL/KG,,UMOL/KG,,UMOL/KG,,UMOL/KG,,UMOL/KG,,PMOL/KG,,PMOL/KG,,PMOL/KG,,FMOL/KG,,UMOL/KG,,UMOL/KG,,,,DEG C,TU,,NMOL/KG,,PERCNT,,DEG C,,/MILLE,,/MILLE,,/MILLE,NMOL/KG,,NMOL/KG,PMOL/KG,,UMOL/KG,,UMOL/KG,,,,TU,NMOL/KG,PERCNT,DEG C,ITS-90,,/MILLE,,/MILLE,/MILLE,,/MILLE,G/KG,,KG/M^3,,,
33AT20120324,        A22,      24,          1,          5,          5,2,20120331,       1807,    33.3533,   -65.5946,       4767,  3756.7,   2.3611,  34.8996,2,  34.8981,2,    265.4,2,   265.7,2,   27.46,2,   18.29,2,    0.00,2,    1.24,2,   0.895,2,   0.421,2,   0.046,2,    0.17,2,  2168.3,2, 2322.03,2,   7.7374,2,       25,    -999,9,   1.8664,2,    5.40,2,   2.3610,2,    -999,9,    -999,9,    -999,   8.174,2,   0.037,    -999,1,    -999,9,    -999,9,  33.3521, -65.5932,    -999,   0.0075,    0.15,   2.0441,   2.3610,2,-999,9,-999,-999,9,-999,    35.0626,2,-999,9,20120331,       1829
33AT20120324,        A22,      24,          1,          4,          4,2,20120331,       1807,    33.3533,   -65.5946,       4767,  4064.3,   2.2811,  34.8915,2,  34.8894,2,    264.1,2,   264.1,2,   30.51,2,   18.64,2,    0.00,2,    1.27,2,   0.872,2,   0.417,2,   0.046,2,    0.20,2,  2172.7,2, 2324.80,2,   7.7364,2,       25,    -999,9,     -999,9,    -999,9,   2.2813,2,    -999,9,    -999,9,    -999,    -999,9,    -999,    -999,1,    -999,9,    -999,9,  33.3523, -65.5934,    -999,     -999,    -999,   1.9316,   2.2813,2,-999,9,-999,-999,9,-999,    35.0539,2,-999,9,20120331,       1823
33AT20120324,        A22,      24,          1,          3,          3,2,20120331,       1807,    33.3533,   -65.5946,       4767,  4373.1,   2.2449,  34.8853,2,  34.8837,2,    261.5,2,   262.0,2,   33.56,2,   19.06,2,    0.00,2,    1.30,2,   0.814,2,   0.395,2,   0.041,2,    0.17,2,  2177.6,2, 2330.01,2,   7.7367,2,       25,    -999,9,     -999,9,    -999,9,   2.2452,2,    -999,9,    -999,9,    -999,    -999,9,    -999,    -999,1,    -999,9,    -999,9,  33.3526, -65.5937,    -999,     -999,    -999,   1.8606,   2.2452,2,-999,9,-999,-999,9,-999,    35.0482,2,-999,9,20120331,       1817
33AT20120324,        A22,      24,          1,          2,          2,2,20120331,       1807,    33.3533,   -65.5946,       4767,  4629.0,   2.2436,  34.8818,2,  34.8802,2,    260.4,2,   261.0,2,   35.56,2,   19.44,2,    0.00,2,    1.33,2,   0.758,2,   0.365,2,   0.039,2,    0.18,2,  2179.1,2, 2332.63,2,   7.7364,2,       25,    -999,9,     -999,9,    -999,9,   2.2439,2,    -999,9,    -999,9,    -999,    -999,9,    -999,    -999,1,    -999,9,    -999,9,  33.3529, -65.5942,    -999,     -999,    -999,   1.8287,   2.2439,2,-999,9,-999,-999,9,-999,    35.0447,2,-999,9,20120331,       1812
33AT20120324,        A22,      24,          1,          1,          1,2,20120331,       1807,    33.3533,   -65.5946,       4767,  4839.4,   2.2493,  34.8792,2,  34.8784,2,    260.0,2,   259.3,2,   37.09,2,   19.72,2,    0.00,2,    1.34,2,   0.705,2,   0.344,2,   0.053,2,    0.17,2,  2184.8,6, 2331.62,2,   7.7361,2,       25,    -999,9,     -999,9,    -999,9,   2.2488,2,    -999,9,    -999,9,    -999,    -999,9,    -999,    -999,1,    -999,9,    -999,9,  33.3532, -65.5946,    -999,     -999,    -999,   1.8084,   2.2488,2,-999,9,-999,-999,9,-999,    35.0429,2,-999,9,20120331,       1808