BOTTLE,20220725CCHSIOCBG
EXPOCODE,SECT_ID,STNNBR,CASTNO,SAMPNO,BTLNBR,BTLNBR_FLAG_W,DATE,TIME,LATITUDE,LONGITUDE,DEPTH,CTDPRS,CTDTMP,CTDSAL,CTDSAL_FLAG_W,SALNTY,SALNTY_FLAG_W,CTDOXY,CTDOXY_FLAG_W,OXYGEN,OXYGEN_FLAG_W,SILCAT,SILCAT_FLAG_W,NITRAT,NITRAT_FLAG_W,NITRIT,NITRIT_FLAG_W,PHSPHT,PHSPHT_FLAG_W,CFC-11,CFC-11_FLAG_W,CFC-12,CFC-12_FLAG_W,CFC113,CFC113_FLAG_W,SF6,SF6_FLAG_W,TCARBN,TCARBN_FLAG_W,ALKALI,ALKALI_FLAG_W,PH_TOT,PH_TOT_FLAG_W,PH_TMP,TRITUM,TRITUM_FLAG_W,HELIUM,HELIUM_FLAG_W,DELHE3,DELHE3_FLAG_W,REFTMP,REFTMP_FLAG_W,DELC13,DELC13_FLAG_W,DELC14,DELC14_FLAG_W,C14ERR,NEON,NEON_FLAG_W,NEONER,CCL4,CCL4_FLAG_W,DOC,DOC_FLAG_W,TDN,TDN_FLAG_W,BTL_LAT,BTL_LON,TRITER,HELIER,DELHER,THETA,SBE35,SBE35_FLAG_W,14C-DOC,14C-DOC_FLAG_W,14C-DOCERR,13C-DOC,13C-DOC_FLAG_W,13C-DOCERR,SALTREF,SALTREF_FLAG_W,LAB_DEN,LAB_DEN_FLAG_W,BTL_DATE,BTL_TIME
,,,,,,,,,,,METERS,DBAR,ITS-90,PSS-78,,PSS-78,,UMOL/KG,,UMOL/KG,,UMOL/KG,,UMOL/KG,,UMOL/KG,,UMOL/KG,,PMOL/KG,,PMOL/KG,,PMOL/KG,,FMOL/KG,,UMOL/KG,,UMOL/KG,,,,DEG C,TU,,NMOL/KG,,PERCNT,,DEG C,,/MILLE,,/MILLE,,/MILLE,NMOL/KG,,NMOL/KG,PMOL/KG,,UMOL/KG,,UMOL/KG,,,,TU,NMOL/KG,PERCNT,DEG C,ITS-90,,/MILLE,,/MILLE,/MILLE,,/MILLE,G/KG,,KG/M^3,,,
33AT20120324,        A22,      24,          1,         36,         36,2,20120331,       1807,    33.3533,   -65.5946,       4767,     4.7,  19.6857,  36.5755,2,  36.5744,2,    225.3,2,   225.6,2,    0.20,2,    0.03,2,    0.08,2,    0.00,2,   2.160,2,   1.342,2,   0.166,2,    1.46,2,  2081.3,6, 2390.88,6,   8.0488,2,       25,    -999,9,     -999,9,    -999,9,  19.6947,2,    -999,9,    -999,9,    -999,    -999,9,    -999,    -999,1,    -999,9,    -999,9,  33.3490, -65.5917,    -999,     -999,    -999,  19.6848,  19.6947,2,-999,9,-999,-999,9,-999,    36.7469,2,-999,9,20120331,       2006
33AT20120324,        A22,      24,          1,         35,         35,2,20120331,       1807,    33.3533,   -65.5946,       4767,    34.4,  19.5875,  36.5743,2,  36.5734,2,    225.0,2,   225.6,2,    0.08,2,    0.03,2,    0.08,2,    0.00,2,   2.172,2,   1.340,2,   0.171,2,    1.49,2,  2078.4,2, 2397.67,2,   8.0479,6,       25,    -999,9,     -999,9,    -999,9,  19.5873,2,    -999,9,    -999,9,    -999,    -999,9,    -999,    -999,1,    -999,9,    -999,9,  33.3491, -65.5918,    -999,     -999,    -999,  19.5812,  19.5873,2,-999,9,-999,-999,9,-999,    36.7459,2,-999,9,20120331,       2004
33AT20120324,        A22,      24,          1,         34,         34,2,20120331,       1807,    33.3533,   -65.5946,       4767,    58.8,  19.5779,  36.5745,2,  36.5736,2,    224.7,2,   224.3,2,    0.13,2,    0.04,2,    0.10,2,    0.00,2,   2.181,2,   1.327,2,   0.171,2,    1.52,2,    -999,9,    -999,9,     -999,9,     -999,    -999,9,     -999,9,    -999,9,  19.5788,2,    -999,9,    -999,9,    -999,    -999,9,    -999,    -999,1,    -999,9,    -999,9,  33.3492, -65.5919,    -999,     -999,    -999,  19.5671,  19.5788,2,-999,9,-999,-999,9,-999,    36.7461,2,-999,9,20120331,       2001
33AT20120324,        A22,      24,          1,         33,         33,2,20120331,       1807,    33.3533,   -65.5946,       4767,    84.7,  19.5828,  36.5751,2,  36.5734,2,    224.2,2,   223.8,2,    0.18,2,    0.04,2,    0.10,2,    0.00,2,    -999,5,    -999,5,    -999,5,    -999,5,  2077.8,2, 2385.99,2,   8.0470,2,       25,    -999,9,     -999,9,    -999,9,  19.5831,2,    -999,9,    -999,9,    -999,    -999,9,    -999,    -999,1,    -999,9,    -999,9,  33.3492, -65.5920,    -999,     -999,    -999,  19.5673,  19.5831,2,-999,9,-999,-999,9,-999,    36.7459,2,-999,9,20120331,       1959
33AT20120324,        A22,      24,          1,         32,         32,2,20120331,       1807,    33.3533,   -65.5946,       4767,   112.2,  19.5853,  36.5750,2,  36.5736,2,    223.7,2,   223.8,2,    0.22,2,    0.05,2,    0.10,2,    0.00,2,   2.164,2,   1.347,2,   0.169,2,    1.47,2,    -999,9,    -999,9,     -999,9,     -999,    -999,9,     -999,9,    -999,9,  19.5865,2,    -999,9,    -999,9,    -999,    -999,9,    -999,    -999,1,    -999,9,    -999,9,  33.3494, -65.5921,    -999,     -999,    -999,  19.5647,  19.5865,2,-999,9,-999,-999,9,-999,    36.7461,2,-999,9,20120331,       1957
33AT20120324,        A22,      24,          1,         31,         31,2,20120331,       1807,    33.3533,   -65.5946,       4767,   167.1,  19.5123,  36.5802,2,  36.5790,2,    220.9,2,   220.0,2,    0.39,2,    0.40,2,    0.17,2,    0.00,2,   2.181,2,   1.352,2,   0.151,2,    1.42,2,  2084.4,2, 2393.08,2,   8.0331,2,       25,    -999,9,     -999,9,    -999,9,  19.5129,2,    -999,9,    -999,9,    -999,    -999,9,    -999,    -999,1,    -999,9,    -999,9,  33.3495, -65.5922,    -999,     -999,    -999,  19.4817,  19.5129,2,-999,9,-999,-999,9,-999,    36.7515,2,-999,9,20120331,       1954
33AT20120324,        A22,      24,          1,         30,         30,2,20120331,       1807,    33.3533,   -65.5946,       4767,   217.7,  18.6560,  36.5960,2,  36.5949,2,    193.4,2,   182.5,2,    1.33,2,    4.75,2,    0.01,2,    0.20,2,   2.270,2,   1.373,2,   0.029,2,    1.31,2,  2121.9,2, 2397.36,2,   7.9636,2,       25,    -999,9,     -999,9,    -999,9,  18.6561,2,    -999,9,    -999,9,    -999,    -999,9,    -999,    -999,1,    -999,9,    -999,9,  33.3495, -65.5922,    -999,     -999,    -999,  18.6173,  18.6561,2,-999,9,-999,-999,9,-999,    36.7674,2,-999,9,20120331,       1952
33AT20120324,        A22,      24,          1,         29,         29,2,20120331,       1807,    33.3533,   -65.5946,       4767,   267.0,  18.1746,  36.5745,2,  36.5733,2,    198.2,2,   197.9,2,    1.11,2,    4.22,2,    0.00,2,    0.18,2,   2.333,2,   1.451,2,   0.040,2,    1.31,2,    -999,9,    -999,9,     -999,9,     -999,    -999,9,     -999,9,    -999,9,  18.1755,2,    -999,9,    -999,9,    -999,    -999,9,    -999,    -999,1,    -999,9,    -999,9,  33.3495, -65.5923,    -999,     -999,    -999,  18.1279,  18.1755,2,-999,9,-999,-999,9,-999,    36.7457,2,-999,9,20120331,       1950
33AT20120324,        A22,      24,          1,         28,         28,2,20120331,       1807,    33.3533,   -65.5946,       4767,   317.8,  17.9807,  36.5581,2,  36.5566,2,    197.2,2,   202.1,2,    1.18,2,    4.22,2,    0.00,2,    0.19,2,   2.323,2,   1.416,2,   0.039,2,    1.28,2,  2112.7,2, 2385.84,2,   7.9796,2,       25,    -999,9,     -999,9,    -999,9,  17.9807,2,    -999,9,    -999,9,    -999,    -999,9,    -999,    -999,1,    -999,9,    -999,9,  33.3496, -65.5923,    -999,     -999,    -999,  17.9255,  17.9807,2,-999,9,-999,-999,9,-999,    36.7290,2,-999,9,20120331,       1949
33AT20120324,        A22,      24,          1,         27,         27,2,20120331,       1807,    33.3533,   -65.5946,       4767,   368.1,  17.7267,  36.5109,2,  36.5094,2,    199.4,2,   201.4,2,    1.33,2,    4.86,2,    0.00,2,    0.22,2,   2.378,2,   1.472,2,   0.037,2,    1.29,2,  2118.1,2, 2384.84,2,   7.9676,2,       25,    -999,9,     -999,9,    -999,9,  17.7264,2,    -999,9,    -999,9,    -999,    -999,9,    -999,    -999,1,    -999,9,    -999,9,  33.3496, -65.5923,    -999,     -999,    -999,  17.6633,  17.7264,2,-999,9,-999,-999,9,-999,    36.6816,2,-999,9,20120331,       1947
33AT20120324,        A22,      24,          1,         26,         26,2,20120331,       1807,    33.3533,   -65.5946,       4767,   418.3,  17.3889,  36.4607,2,  36.4591,2,    199.0,2,   203.0,2,    1.49,2,    5.15,2,    0.00,2,    0.23,2,   2.406,2,   1.481,2,   0.040,2,    1.36,2,    -999,9,    -999,9,     -999,9,     -999,    -999,9,     -999,9,    -999,9,  17.3875,2,    -999,9,    -999,9,    -999,    -999,9,    -999,    -999,1,    -999,9,    -999,9,  33.3496, -65.5923,    -999,     -999,    -999,  17.3177,  17.3875,2,-999,9,-999,-999,9,-999,    36.6310,2,-999,9,20120331,       1945
33AT20120324,        A22,      24,          1,         25,         25,2,20120331,       1807,    33.3533,   -65.5946,       4767,   468.2,  16.8060,  36.3415,2,  36.3425,2,    198.3,2,   194.7,2,    2.07,2,    6.85,2,    0.00,2,    0.35,2,   2.396,2,   1.422,2,   0.039,2,    1.18,2,  2130.1,2, 2384.96,2,   7.9394,2,       25,    -999,9,   1.7491,2,    0.40,2,  16.7969,2,    -999,9,    -999,9,    -999,   7.132,2,   0.032,    -999,1,    -999,9,    -999,9,  33.3496, -65.5923,    -999,   0.0070,    0.15,  16.7281,  16.7969,2,-999,9,-999,-999,9,-999,    36.5138,2,-999,9,20120331,       1943
33AT20120324,        A22,      24,          1,         24,         24,2,20120331,       1807,    33.3533,   -65.5946,       4767,   539.0,  15.5914,  36.1054,2,  36.1072,2,    181.4,2,   178.5,2,    3.41,2,   10.28,2,    0.00,2,    0.58,2,   2.364,2,   1.368,2,   0.024,2,    1.07,2,    -999,9,    -999,9,     -999,9,     -999,    -999,9,     -999,9,    -999,9,  15.5925,2,    -999,9,    -999,9,    -999,    -999,9,    -999,    -999,1,    -999,9,    -999,9,  33.3496, -65.5923,    -999,     -999,    -999,  15.5060,  15.5925,2,-999,9,-999,-999,9,-999,    36.2774,2,-999,9,20120331,       1941
33AT20120324,        A22,      24,          1,         23,         23,2,20120331,       1807,    33.3533,   -65.5946,       4767,   639.8,  13.5945,  35.7744,2,  35.7747,2,    171.4,2,   173.1,2,    5.56,2,   14.05,2,    0.00,2,    0.84,2,   2.255,2,   1.289,2,   0.042,2,    0.98,2,  2160.6,2, 2346.95,2,   7.8329,2,       25,    -999,9,     -999,9,    -999,9,  13.5906,2,    -999,9,    -999,9,    -999,    -999,9,    -999,    -999,1,    -999,9,    -999,9,  33.3497, -65.5923,    -999,     -999,    -999,  13.5018,  13.5906,2,-999,9,-999,-999,9,-999,    35.9434,2,-999,9,20120331,       1938
33AT20120324,        A22,      24,          1,         22,         22,2,20120331,       1807,    33.3533,   -65.5946,       4767,   741.7,  11.0751,  35.4191,2,  35.4112,2,    147.6,2,   147.4,2,   10.46,2,   20.80,2,    0.00,2,    1.29,2,   1.694,2,   0.932,2,   0.025,2,    0.64,2,  2187.1,2, 2328.06,2,   7.7345,2,       25,    -999,9,     -999,9,    -999,9,  11.0724,2,    -999,9,    -999,9,    -999,    -999,9,    -999,    -999,1,    -999,9,    -999,9,  33.3497, -65.5924,    -999,     -999,    -999,  10.9806,  11.0724,2,-999,9,-999,-999,9,-999,    35.5782,2,-999,9,20120331,       1936
33AT20120324,        A22,      24,          1,         21,         21,2,20120331,       1807,    33.3533,   -65.5946,       4767,   840.8,   8.8878,  35.2147,2,  35.2146,2,    155.9,2,   155.6,2,   13.04,2,   22.81,2,    0.00,2,    1.45,2,   1.371,2,   0.717,2,   0.026,2,    0.41,2,  2187.7,2, 2320.59,2,   7.6957,2,       25,    -999,9,     -999,9,    -999,9,   8.9220,3,    -999,9,    -999,9,    -999,    -999,9,    -999,    -999,1,    -999,9,    -999,9,  33.3498, -65.5925,    -999,     -999,    -999,   8.7935,   8.9220,3,-999,9,-999,-999,9,-999,    35.3806,2,-999,9,20120331,       1933
33AT20120324,        A22,      24,          1,         20,         20,2,20120331,       1807,    33.3533,   -65.5946,       4767,   942.6,   7.1142,  35.1051,2,  35.1043,2,    181.8,2,   183.3,2,   13.42,2,   21.72,2,    0.00,2,    1.41,2,   1.649,2,   0.859,2,   0.042,2,    0.47,2,  2190.7,2, 2318.04,2,   7.6840,2,       25,    -999,9,     -999,9,    -999,9,   7.1153,2,    -999,9,    -999,9,    -999,    -999,9,    -999,    -999,1,    -999,9,    -999,9,  33.3499, -65.5926,    -999,     -999,    -999,   7.0202,   7.1153,2,-999,9,-999,-999,9,-999,    35.2698,2,-999,9,20120331,       1931
33AT20120324,        A22,      24,          1,         19,         19,2,20120331,       1807,    33.3533,   -65.5946,       4767,  1044.0,   6.1179,  35.0743,2,  35.0714,2,    208.2,2,   209.5,2,   12.64,2,   20.00,2,    0.00,2,    1.31,2,   2.069,2,   1.121,2,   0.085,2,    0.56,2,  2186.3,2, 2317.72,2,   7.7025,2,       25,    -999,9,     -999,9,    -999,9,   6.1179,2,    -999,9,    -999,9,    -999,    -999,9,    -999,    -999,1,    -999,9,    -999,9,  33.3499, -65.5926,    -999,     -999,    -999,   6.0209,   6.1179,2,-999,9,-999,-999,9,-999,    35.2368,2,-999,9,20120331,       1928
33AT20120324,        A22,      24,          1,         18,         18,2,20120331,       1807,    33.3533,   -65.5946,       4767,  1146.5,   5.3726,  35.0394,2,  35.0377,2,    229.4,2,   229.9,2,   11.94,2,   18.91,2,    0.00,2,    1.24,2,   2.425,2,   1.275,2,   0.112,2,    0.76,2,    -999,9,    -999,9,     -999,9,     -999,    -999,9,     -999,9,    -999,9,   5.3700,2,    -999,9,    -999,9,    -999,    -999,9,    -999,    -999,1,    -999,9,    -999,9,  33.3500, -65.5927,    -999,     -999,    -999,   5.2717,   5.3700,2,-999,9,-999,-999,9,-999,    35.2029,2,-999,9,20120331,       1925
33AT20120324,        A22,      24,          1,         17,         17,2,20120331,       1807,    33.3533,   -65.5946,       4767,  1247.2,   5.0387,  35.0267,2,  35.0257,2,    238.8,2,   238.2,2,   11.78,2,   18.42,2,    0.00,2,    1.22,2,   2.487,2,   1.289,2,   0.133,2,    0.65,2,  2176.3,2, 2313.93,2,   7.7143,2,       25,    -999,9,     -999,9,    -999,9,   5.0397,2,    -999,9,    -999,9,    -999,    -999,9,    -999,    -999,1,    -999,9,    -999,9,  33.3501, -65.5928,    -999,     -999,    -999,   4.9312,   5.0397,2,-999,9,-999,-999,9,-999,    35.1909,2,-999,9,20120331,       1923
33AT20120324,        A22,      24,          1,         16,         16,2,20120331,       1807,    33.3533,   -65.5946,       4767,  1348.1,   4.7435,  35.0111,2,  35.0100,2,    245.2,2,   245.9,2,   11.70,2,   18.13,2,    0.00,2,    1.19,2,   2.580,2,   1.352,2,   0.143,2,    0.72,2,  2173.0,2, 2310.43,2,   7.7226,2,       25,    -999,9,     -999,9,    -999,9,   4.7433,2,    -999,9,    -999,9,    -999,    -999,9,    -999,    -999,1,    -999,9,    -999,9,  33.3501, -65.5928,    -999,     -999,    -999,   4.6293,   4.7433,2,-999,9,-999,-999,9,-999,    35.1751,2,-999,9,20120331,       1920
33AT20120324,        A22,      24,          1,         15,         15,2,20120331,       1807,    33.3533,   -65.5946,       4767,  1449.0,   4.4548,  34.9925,2,  34.9905,2,    252.4,2,   252.5,2,   11.64,2,   17.88,2,    0.00,2,    1.17,2,   2.610,2,   1.334,2,   0.146,2,    0.68,2,    -999,9,    -999,9,     -999,9,     -999,    -999,9,     -999,9,    -999,9,   4.4552,2,    -999,9,    -999,9,    -999,    -999,9,    -999,    -999,1,    -999,9,    -999,9,  33.3502, -65.5929,    -999,     -999,    -999,   4.3342,   4.4552,2,-999,9,-999,-999,9,-999,    35.1555,2,-999,9,20120331,       1917
33AT20120324,        A22,      24,          1,         14,         14,2,20120331,       1807,    33.3533,   -65.5946,       4767,  1551.0,   4.2900,  34.9848,2,  34.9838,2,    255.8,2,   255.0,2,   11.79,2,   17.77,2,    0.00,2,    1.17,2,   2.505,2,   1.270,2,   0.134,2,    0.63,2,  2168.5,2, 2308.81,2,   7.7162,2,       25,    -999,9,     -999,9,    -999,9,   4.2905,2,    -999,9,    -999,9,    -999,    -999,9,    -999,    -999,1,    -999,9,    -999,9,  33.3503, -65.5930,    -999,     -999,    -999,   4.1617,   4.2905,2,-999,9,-999,-999,9,-999,    35.1488,2,-999,9,20120331,       1915
33AT20120324,        A22,      24,          1,         13,         13,2,20120331,       1807,    33.3533,   -65.5946,       4767,  1683.8,   4.0906,  34.9727,2,  34.9714,2,    259.0,2,   258.5,2,   12.09,2,   17.69,2,    0.00,2,    1.17,2,   2.377,2,   1.189,2,   0.134,2,    0.52,2,    -999,9,    -999,9,     -999,9,     -999,    -999,9,     -999,9,    -999,9,   4.0908,2,    -999,9,    -999,9,    -999,    -999,9,    -999,    -999,1,    -999,9,    -999,9,  33.3503, -65.5930,    -999,     -999,    -999,   3.9522,   4.0908,2,-999,9,-999,-999,9,-999,    35.1363,2,-999,9,20120331,       1912
33AT20120324,        A22,      24,          1,         12,         12,2,20120331,       1807,    33.3533,   -65.5946,       4767,  1883.6,   3.8435,  34.9626,2,  34.9620,2,    261.3,2,   261.9,2,   12.92,2,   17.66,2,    0.00,2,    1.17,2,   2.046,2,   0.998,2,   0.094,2,    0.34,2,  2164.1,2, 2307.78,2,   7.7341,2,       25,    -999,9,     -999,9,    -999,9,   3.8438,2,    -999,9,    -999,9,    -999,    -999,9,    -999,    -999,1,    -999,9,    -999,9,  33.3503, -65.5931,    -999,     -999,    -999,   3.6895,   3.8438,2,-999,9,-999,-999,9,-999,    35.1268,2,-999,9,20120331,       1907
33AT20120324,        A22,      24,          1,         11,         11,2,20120331,       1807,    33.3533,   -65.5946,       4767,  2109.9,   3.6247,  34.9566,2,  34.9551,2,    262.8,2,   263.4,2,   14.19,2,   17.69,2,    0.00,2,    1.17,2,   1.698,2,   0.836,2,   0.076,2,    0.28,2,    -999,9,    -999,9,     -999,9,     -999,    -999,9,     -999,9,    -999,9,   3.6246,2,    -999,9,    -999,9,    -999,    -999,9,    -999,    -999,1,    -999,9,    -999,9,  33.3505, -65.5932,    -999,     -999,    -999,   3.4522,   3.6246,2,-999,9,-999,-999,9,-999,    35.1199,2,-999,9,20120331,       1903
33AT20120324,        A22,      24,          1,         10,         10,2,20120331,       1807,    33.3533,   -65.5946,       4767,  2363.9,   3.4422,  34.9550,2,  34.9551,2,    262.5,2,   262.4,2,   16.08,2,   17.80,2,    0.00,2,    1.19,2,   1.318,2,   0.641,2,   0.051,2,    0.25,2,  2163.3,2, 2312.96,2,   7.7390,2,       25,    -999,9,     -999,9,    -999,9,   3.4415,2,    -999,9,    -999,9,    -999,    -999,9,    -999,    -999,1,    -999,9,    -999,9,  33.3506, -65.5932,    -999,     -999,    -999,   3.2477,   3.4415,2,-999,9,-999,-999,9,-999,    35.1199,2,-999,9,20120331,       1857
33AT20120324,        A22,      24,          1,          9,          9,2,20120331,       1807,    33.3533,   -65.5946,       4767,  2619.4,   3.2165,  34.9500,2,  34.9486,2,    262.1,2,   261.6,2,   18.58,2,   17.98,2,    0.00,2,    1.21,2,   0.995,2,   0.475,2,   0.036,2,    0.18,2,    -999,9,    -999,9,     -999,9,     -999,    -999,9,     -999,9,    -999,9,   3.2166,2,    -999,9,    -999,9,    -999,    -999,9,    -999,    -999,1,    -999,9,    -999,9,  33.3514, -65.5925,    -999,     -999,    -999,   3.0005,   3.2166,2,-999,9,-999,-999,9,-999,    35.1134,2,-999,9,20120331,       1852
33AT20120324,        A22,      24,          1,          8,          8,2,20120331,       1807,    33.3533,   -65.5946,       4767,  2873.2,   3.0104,  34.9407,2,  34.9396,2,    261.6,2,   262.2,2,   20.51,2,   18.07,2,    0.00,2,    1.22,2,   0.845,2,   0.405,2,   0.032,2,    0.15,2,  2161.6,2, 2317.31,2,   7.7432,2,       25,    -999,9,     -999,9,    -999,9,   3.0103,2,    -999,9,    -999,9,    -999,    -999,9,    -999,    -999,1,    -999,9,    -999,9,  33.3516, -65.5927,    -999,     -999,    -999,   2.7726,   3.0103,2,-999,9,-999,-999,9,-999,    35.1043,2,-999,9,20120331,       1847
33AT20120324,        A22,      24,          1,          7,          7,2,20120331,       1807,    33.3533,   -65.5946,       4767,  3143.7,   2.7512,  34.9257,2,  34.9244,2,    265.2,2,   264.6,2,   21.97,2,   17.95,2,    0.00,2,    1.21,2,   0.848,2,   0.399,2,   0.033,2,    0.16,2,    -999,9,    -999,9,     -999,9,     -999,    -999,9,     -999,9,    -999,9,   2.7510,2,    -999,9,    -999,9,    -999,    -999,9,    -999,    -999,1,    -999,9,    -999,9,  33.3519, -65.5930,    -999,     -999,    -999,   2.4908,   2.7510,2,-999,9,-999,-999,9,-999,    35.0891,2,-999,9,20120331,       1841
33AT20120324,        A22,      24,          1,          6,          6,2,20120331,       1807,    33.3533,   -65.5946,       4767,  3449.6,   2.5225,  34.9117,2,  34.9101,2,    266.1,2,   266.5,2,   24.12,2,   17.96,2,    0.00,2,    1.21,2,   0.889,2,   0.417,2,   0.038,2,    0.18,2,  2163.6,2, 2318.16,2,   7.7437,2,       25,    -999,9,     -999,9,    -999,9,   2.5220,2,    -999,9,    -999,9,    -999,    -999,9,    -999,    -999,1,    -999,9,    -999,9,  33.3520, -65.5931,    -999,     -999,    -999,   2.2349,   2.5220,2,-999,9,-999,-999,9,-999,    35.0747,2,-999,9,20120331,       1835