BOTTLE,20220725CCHSIOCBG
EXPOCODE,SECT_ID,STNNBR,CASTNO,SAMPNO,BTLNBR,BTLNBR_FLAG_W,DATE,TIME,LATITUDE,LONGITUDE,DEPTH,CTDPRS,CTDTMP,CTDSAL,CTDSAL_FLAG_W,SALNTY,SALNTY_FLAG_W,CTDOXY,CTDOXY_FLAG_W,OXYGEN,OXYGEN_FLAG_W,SILCAT,SILCAT_FLAG_W,NITRAT,NITRAT_FLAG_W,NITRIT,NITRIT_FLAG_W,PHSPHT,PHSPHT_FLAG_W,CFC-11,CFC-11_FLAG_W,CFC-12,CFC-12_FLAG_W,CFC113,CFC113_FLAG_W,SF6,SF6_FLAG_W,TCARBN,TCARBN_FLAG_W,ALKALI,ALKALI_FLAG_W,PH_TOT,PH_TOT_FLAG_W,PH_TMP,TRITUM,TRITUM_FLAG_W,HELIUM,HELIUM_FLAG_W,DELHE3,DELHE3_FLAG_W,REFTMP,REFTMP_FLAG_W,DELC13,DELC13_FLAG_W,DELC14,DELC14_FLAG_W,C14ERR,NEON,NEON_FLAG_W,NEONER,CCL4,CCL4_FLAG_W,DOC,DOC_FLAG_W,TDN,TDN_FLAG_W,BTL_LAT,BTL_LON,TRITER,HELIER,DELHER,THETA,SBE35,SBE35_FLAG_W,14C-DOC,14C-DOC_FLAG_W,14C-DOCERR,13C-DOC,13C-DOC_FLAG_W,13C-DOCERR,SALTREF,SALTREF_FLAG_W,LAB_DEN,LAB_DEN_FLAG_W,BTL_DATE,BTL_TIME
,,,,,,,,,,,METERS,DBAR,ITS-90,PSS-78,,PSS-78,,UMOL/KG,,UMOL/KG,,UMOL/KG,,UMOL/KG,,UMOL/KG,,UMOL/KG,,PMOL/KG,,PMOL/KG,,PMOL/KG,,FMOL/KG,,UMOL/KG,,UMOL/KG,,,,DEG C,TU,,NMOL/KG,,PERCNT,,DEG C,,/MILLE,,/MILLE,,/MILLE,NMOL/KG,,NMOL/KG,PMOL/KG,,UMOL/KG,,UMOL/KG,,,,TU,NMOL/KG,PERCNT,DEG C,ITS-90,,/MILLE,,/MILLE,/MILLE,,/MILLE,G/KG,,KG/M^3,,,
33AT20120324,        A22,      73,          1,         36,         36,2,20120413,       0628,    13.5688,   -69.8089,       4195,     3.5,  27.0107,  35.8041,2,  35.8031,2,    201.9,2,   201.2,2,    0.90,2,    0.00,2,    0.00,2,    0.00,2,   1.590,2,   1.028,2,   0.126,2,    0.74,4,  2007.8,6, 2346.04,2,   8.0937,2,       25,    -999,9,     -999,9,    -999,9,  27.0098,2,    -999,9,    -999,9,    -999,    -999,9,    -999,    1.59,2,   73.24,2,    4.94,2,  13.5746, -69.8057,    -999,     -999,    -999,  27.0099,  27.0098,2,-999,9,-999,-999,9,-999,    35.9719,2,-999,9,20120413,        816
33AT20120324,        A22,      73,          1,         35,         35,2,20120413,       0628,    13.5688,   -69.8089,       4195,    20.6,  26.5251,  35.8611,2,  35.8598,2,    201.2,2,   201.3,2,    0.66,2,    0.00,2,    0.00,2,    0.01,2,   1.608,2,   1.051,2,   0.115,2,    1.32,4,    -999,9,    -999,9,     -999,9,     -999,    -999,9,     -999,9,    -999,9,  26.5312,2,    -999,9,    -999,9,    -999,    -999,9,    -999,    1.43,2,   73.02,2,    3.65,2,  13.5745, -69.8057,    -999,     -999,    -999,  26.5204,  26.5312,2,-999,9,-999,-999,9,-999,    36.0289,2,-999,9,20120413,        814
33AT20120324,        A22,      73,          1,         34,         34,2,20120413,       0628,    13.5688,   -69.8089,       4195,    40.5,  26.8326,  36.2050,2,  36.2172,2,    201.0,2,   200.8,2,    0.57,2,    0.00,2,    0.00,2,    0.00,2,   1.588,2,   1.031,2,   0.124,2,    0.93,4,  2038.6,2, 2371.27,6,   8.0756,6,       25,    -999,9,     -999,9,    -999,9,  26.8331,2,    -999,9,    -999,9,    -999,    -999,9,    -999,    1.57,2,   70.74,2,    3.99,2,  13.5744, -69.8057,    -999,     -999,    -999,  26.8233,  26.8331,2,-999,9,-999,-999,9,-999,    36.3880,2,-999,9,20120413,        812
33AT20120324,        A22,      73,          1,         33,         33,2,20120413,       0628,    13.5688,   -69.8089,       4195,    65.1,  26.2716,  36.3744,2,  36.4116,2,    199.6,2,   198.8,2,    0.47,2,    0.00,2,    0.01,2,    0.00,2,   1.625,2,   1.048,2,   0.124,2,    1.35,4,    -999,9,    -999,9,     -999,9,     -999,    -999,9,     -999,9,    -999,9,  26.2751,2,    -999,9,    -999,9,    -999,    -999,9,    -999,    1.29,2,   67.69,2,    3.92,2,  13.5742, -69.8058,    -999,     -999,    -999,  26.2569,  26.2751,2,-999,9,-999,-999,9,-999,    36.5833,2,-999,9,20120413,        810
33AT20120324,        A22,      73,          1,         32,         32,2,20120413,       0628,    13.5688,   -69.8089,       4195,    91.5,  24.7710,  36.8978,2,  36.8927,2,    172.3,2,   171.6,2,    0.99,2,    1.78,2,    0.18,2,    0.11,2,   1.702,2,   1.095,2,   0.108,2,    0.93,4,  2097.8,2, 2409.63,2,   8.0288,2,       25,    -999,9,     -999,9,    -999,9,  24.7656,2,    -999,9,    -999,9,    -999,    -999,9,    -999,    0.56,2,   63.18,2,    5.69,2,  13.5741, -69.8058,    -999,     -999,    -999,  24.7511,  24.7656,2,-999,9,-999,-999,9,-999,    37.0667,2,-999,9,20120413,        808
33AT20120324,        A22,      73,          1,         31,         31,2,20120413,       0628,    13.5688,   -69.8089,       4195,   115.7,  22.5422,  36.9983,2,  37.0044,2,    158.1,2,   157.0,2,    1.13,2,    3.63,2,    0.06,2,    0.19,2,   1.793,2,   1.126,2,   0.086,2,    0.87,4,    -999,9,    -999,9,     -999,9,     -999,    -999,9,     -999,9,    -999,9,  22.5379,2,    -999,9,    -999,9,    -999,    -999,9,    -999,    0.44,2,   60.77,2,    6.67,2,  13.5739, -69.8058,    -999,     -999,    -999,  22.5187,  22.5379,2,-999,9,-999,-999,9,-999,    37.1789,2,-999,9,20120413,        806
33AT20120324,        A22,      73,          1,         30,         30,2,20120413,       0628,    13.5688,   -69.8089,       4195,   141.0,  20.6655,  36.8020,2,  36.8032,2,    151.0,2,   149.4,2,    1.87,2,    6.27,2,    0.02,2,    0.33,2,   1.875,2,   1.119,2,   0.043,2,    0.90,4,  2148.8,2, 2402.46,2,   7.9275,2,       25,    -999,9,     -999,9,    -999,9,  20.6647,2,    -999,9,    -999,9,    -999,    -999,9,    -999,    0.28,2,   58.14,2,    9.70,2,  13.5738, -69.8059,    -999,     -999,    -999,  20.6386,  20.6647,2,-999,9,-999,-999,9,-999,    36.9768,2,-999,9,20120413,        805
33AT20120324,        A22,      73,          1,         29,         29,2,20120413,       0628,    13.5688,   -69.8089,       4195,   186.4,  18.2257,  36.4550,2,  36.4543,2,    134.9,2,   137.4,2,    3.66,2,   10.65,2,    0.01,2,    0.58,2,   2.045,2,   1.247,2,   0.016,2,    0.53,4,    -999,9,    -999,9,     -999,9,     -999,    -999,9,     -999,9,    -999,9,  18.2245,2,    -999,9,    -999,9,    -999,    -999,9,    -999,    0.23,2,   55.36,2,   13.43,2,  13.5737, -69.8059,    -999,     -999,    -999,  18.1931,  18.2245,2,-999,9,-999,-999,9,-999,    36.6262,2,-999,9,20120413,        802
33AT20120324,        A22,      73,          1,         28,         28,2,20120413,       0628,    13.5688,   -69.8089,       4195,   236.1,  16.3772,  36.1557,2,  36.1495,2,    138.7,2,   141.2,2,    4.59,2,   13.25,2,    0.01,2,    0.77,2,   2.068,2,   1.234,2,   0.015,2,    0.45,4,  2165.6,2, 2363.80,2,   7.8329,2,       25,    -999,9,     -999,9,    -999,9,  16.3765,2,    -999,9,    -999,9,    -999,    -999,9,    -999,    0.29,2,   52.53,2,   16.20,2,  13.5735, -69.8059,    -999,     -999,    -999,  16.3389,  16.3765,2,-999,9,-999,-999,9,-999,    36.3200,2,-999,9,20120413,        800
33AT20120324,        A22,      73,          1,         27,         27,2,20120413,       0628,    13.5688,   -69.8089,       4195,   287.1,  14.1964,  35.7763,2,  35.7786,2,    130.2,2,   133.1,2,    6.83,2,   17.53,2,    0.01,2,    1.06,2,   1.983,2,   1.141,2,   0.018,2,    0.55,4,    -999,9,    -999,9,     -999,9,     -999,    -999,9,     -999,9,    -999,9,  14.1874,2,    -999,9,    -999,9,    -999,    -999,9,    -999,    0.32,2,   50.75,2,   21.09,2,  13.5734, -69.8059,    -999,     -999,    -999,  14.1541,  14.1874,2,-999,9,-999,-999,9,-999,    35.9474,2,-999,9,20120413,        759
33AT20120324,        A22,      73,          1,         26,         26,2,20120413,       0628,    13.5688,   -69.8089,       4195,   337.8,  12.8084,  35.5852,2,  35.5841,2,    123.1,2,   122.7,2,    8.29,2,   20.85,2,    0.01,2,    1.27,2,   1.802,2,   1.010,2,   0.019,2,    0.69,4,    -999,9,    -999,9,     -999,9,     -999,    -999,9,     -999,9,    -999,9,  12.8088,2,    -999,9,    -999,9,    -999,    -999,9,    -999,    0.31,2,   48.89,2,   23.71,2,  13.5732, -69.8059,    -999,     -999,    -999,  12.7619,  12.8088,2,-999,9,-999,-999,9,-999,    35.7519,2,-999,9,20120413,        757
33AT20120324,        A22,      73,          1,         25,         25,2,20120413,       0628,    13.5688,   -69.8089,       4195,   384.9,  11.7981,  35.4008,2,  35.4018,2,    122.1,2,   121.4,2,    9.99,2,   23.00,2,    0.01,2,    1.42,2,   1.671,2,   0.912,2,   0.019,2,    0.70,4,  2191.0,2, 2326.20,2,   7.6897,2,       25,    -999,9,     -999,9,    -999,9,  11.7956,2,    -999,9,    -999,9,    -999,    -999,9,    -999,    0.34,2,   46.29,2,   25.78,2,  13.5731, -69.8059,    -999,     -999,    -999,  11.7478,  11.7956,2,-999,9,-999,-999,9,-999,    35.5688,2,-999,9,20120413,        755
33AT20120324,        A22,      73,          1,         24,         24,2,20120413,       0628,    13.5688,   -69.8089,       4195,   434.7,  10.3998,  35.1611,2,  35.1537,2,    118.5,2,   119.3,2,   12.73,2,   26.01,2,    0.00,2,    1.64,2,   1.453,2,   0.788,2,   0.020,2,    0.49,4,    -999,9,    -999,9,     -999,9,     -999,    -999,9,     -999,9,    -999,9,  10.4003,2,    -999,9,    -999,9,    -999,    -999,9,    -999,    0.41,2,   45.27,2,   28.96,2,  13.5730, -69.8059,    -999,     -999,    -999,  10.3474,  10.4003,2,-999,9,-999,-999,9,-999,    35.3194,2,-999,9,20120413,        754
33AT20120324,        A22,      73,          1,         23,         23,2,20120413,       0628,    13.5688,   -69.8089,       4195,   488.8,   9.1720,  34.9733,2,  34.9723,2,    119.4,2,   119.7,2,   15.37,2,   28.40,2,    0.00,2,    1.82,2,   1.224,2,   0.657,2,   0.018,2,    0.00,4,    -999,9,    -999,9,     -999,9,     -999,    -999,9,     -999,9,    -999,9,   9.1720,2,    -999,9,    -999,9,    -999,    -999,9,    -999,    0.42,2,   44.48,2,   30.93,2,  13.5729, -69.8059,    -999,     -999,    -999,   9.1174,   9.1720,2,-999,9,-999,-999,9,-999,    35.1372,2,-999,9,20120413,        752
33AT20120324,        A22,      73,          1,         22,         22,2,20120413,       0628,    13.5688,   -69.8089,       4195,   569.0,   7.7479,  34.8183,2,  34.8172,2,    120.8,2,   121.3,2,   19.40,2,   31.07,2,    0.00,2,    2.01,2,   0.796,2,   0.419,2,   0.014,2,    0.11,4,  2212.4,2, 2304.62,2,   7.5794,6,       25,    -999,9,     -999,9,    -999,9,   7.7475,2,    -999,9,    -999,9,    -999,    -999,9,    -999,    0.38,2,   43.89,2,   33.64,2,  13.5727, -69.8060,    -999,     -999,    -999,   7.6901,   7.7475,2,-999,9,-999,-999,9,-999,    34.9814,2,-999,9,20120413,        750
33AT20120324,        A22,      73,          1,         21,         21,2,20120413,       0628,    13.5688,   -69.8089,       4195,   669.4,   6.8408,  34.7531,2,  34.7523,2,    125.8,2,   126.0,2,   22.31,2,   32.15,2,    0.00,2,    2.11,2,   0.506,2,   0.262,2,   0.009,2,    0.00,4,  2213.7,2, 2304.37,2,   7.5694,2,       25,    -999,9,     -999,9,    -999,9,   6.8417,2,    -999,9,    -999,9,    -999,    -999,9,    -999,    0.32,2,   42.82,2,   34.38,2,  13.5726, -69.8061,    -999,     -999,    -999,   6.7770,   6.8417,2,-999,9,-999,-999,9,-999,    34.9161,2,-999,9,20120413,        747
33AT20120324,        A22,      73,          1,         20,         20,2,20120413,       0628,    13.5688,   -69.8089,       4195,   769.5,   6.3326,  34.7530,2,  34.7520,2,    132.6,2,   132.2,2,   23.92,2,   32.01,2,    0.00,2,    2.12,2,   0.327,2,   0.170,2,   0.006,2,    0.10,4,  2216.9,2, 2306.40,2,   7.5737,2,       25,    -999,9,     -999,9,    -999,9,   6.3336,2,    -999,9,    -999,9,    -999,    -999,9,    -999,    0.26,2,   41.31,2,   34.66,2,  13.5724, -69.8062,    -999,     -999,    -999,   6.2617,   6.3336,2,-999,9,-999,-999,9,-999,    34.9159,2,-999,9,20120413,        745
33AT20120324,        A22,      73,          1,         19,         19,2,20120413,       0628,    13.5688,   -69.8089,       4195,   871.6,   5.8300,  34.7849,2,  34.7860,2,    144.8,2,   144.2,2,   24.92,2,   30.82,2,    0.00,2,    2.05,2,   0.200,2,   0.112,2,   0.005,2,    0.00,4,  2215.0,2, 2311.07,2,   7.5916,2,       25,    -999,9,     -999,9,    -999,9,   5.8256,2,    -999,9,    -999,9,    -999,    -999,9,    -999,    0.21,2,   41.66,2,   33.25,2,  13.5723, -69.8063,    -999,     -999,    -999,   5.7523,   5.8256,2,-999,9,-999,-999,9,-999,    34.9500,2,-999,9,20120413,        742
33AT20120324,        A22,      73,          1,         18,         18,2,20120413,       0628,    13.5688,   -69.8089,       4195,   970.6,   5.5044,  34.8706,2,  34.8711,2,    162.5,2,   163.2,2,   24.63,2,   28.06,2,    0.00,2,    1.89,2,   0.154,2,   0.084,2,   0.004,2,    0.00,4,    -999,9,    -999,9,     -999,9,     -999,    -999,9,     -999,9,    -999,9,   5.5046,2,    -999,9,    -999,9,    -999,    -999,9,    -999,    0.22,2,   41.05,2,   30.45,2,  13.5722, -69.8064,    -999,     -999,    -999,   5.4195,   5.5046,2,-999,9,-999,-999,9,-999,    35.0355,2,-999,9,20120413,        740
33AT20120324,        A22,      73,          1,         17,         17,2,20120413,       0628,    13.5688,   -69.8089,       4195,  1073.2,   5.0910,  34.9219,2,  34.9225,2,    179.9,2,   179.5,2,   24.99,2,   25.90,2,    0.00,2,    1.76,2,   0.094,2,   0.054,2,   0.004,2,    0.00,4,    -999,9,    -999,9,     -999,9,     -999,    -999,9,     -999,9,    -999,9,   5.0909,2,    -999,9,    -999,9,    -999,    -999,9,    -999,    0.15,2,   41.21,2,   28.67,2,  13.5720, -69.8065,    -999,     -999,    -999,   4.9995,   5.0909,2,-999,9,-999,-999,9,-999,    35.0872,2,-999,9,20120413,        737
33AT20120324,        A22,      73,          1,         16,         16,2,20120413,       0628,    13.5688,   -69.8089,       4195,  1175.1,   4.7928,  34.9468,2,  34.9461,2,    192.8,2,   192.0,2,   24.93,2,   24.55,2,    0.00,2,    1.66,2,   0.086,2,   0.049,2,   0.003,2,    0.00,4,    -999,9,    -999,9,     -999,9,     -999,    -999,9,     -999,9,    -999,9,   4.7927,2,    -999,9,    -999,9,    -999,    -999,9,    -999,    0.14,2,   41.54,2,   26.98,2,  13.5719, -69.8066,    -999,     -999,    -999,   4.6944,   4.7927,2,-999,9,-999,-999,9,-999,    35.1109,2,-999,9,20120413,        735
33AT20120324,        A22,      73,          1,         15,         15,2,20120413,       0628,    13.5688,   -69.8089,       4195,  1276.1,   4.5816,  34.9588,2,  34.9590,2,    200.6,2,   200.5,2,   24.75,2,   23.64,2,    0.00,2,    1.60,2,   0.083,2,   0.050,2,   0.004,2,    0.00,4,    -999,9,    -999,9,     -999,9,     -999,    -999,9,     -999,9,    -999,9,   4.5815,2,    -999,9,    -999,9,    -999,    -999,9,    -999,    0.16,2,   41.32,2,   25.87,2,  13.5717, -69.8067,    -999,     -999,    -999,   4.4758,   4.5815,2,-999,9,-999,-999,9,-999,    35.1239,2,-999,9,20120413,        732
33AT20120324,        A22,      73,          1,         14,         14,2,20120413,       0628,    13.5688,   -69.8089,       4195,  1376.2,   4.4384,  34.9653,2,  34.9654,2,    205.7,2,   205.4,2,   25.20,2,   23.16,2,    0.00,2,    1.57,2,   0.081,2,   0.050,2,   0.004,2,    0.00,4,  2196.3,2, 2326.93,2,   7.6905,2,       25,    -999,9,     -999,9,    -999,9,   4.4384,2,    -999,9,    -999,9,    -999,    -999,9,    -999,    0.16,2,   40.71,2,   25.49,2,  13.5716, -69.8068,    -999,     -999,    -999,   4.3248,   4.4384,2,-999,9,-999,-999,9,-999,    35.1303,2,-999,9,20120413,        729
33AT20120324,        A22,      73,          1,         13,         13,2,20120413,       0628,    13.5688,   -69.8089,       4195,  1477.0,   4.3451,  34.9683,2,  34.9687,2,    208.2,2,   208.3,2,   25.72,2,   22.84,2,    0.00,2,    1.55,2,   0.078,2,   0.049,2,   0.005,2,    0.00,4,    -999,9,    -999,9,     -999,9,     -999,    -999,9,     -999,9,    -999,9,   4.3446,2,    -999,9,    -999,9,    -999,    -999,9,    -999,    0.16,2,   40.26,2,   25.27,2,  13.5714, -69.8069,    -999,     -999,    -999,   4.2231,   4.3446,2,-999,9,-999,-999,9,-999,    35.1336,2,-999,9,20120413,        727
33AT20120324,        A22,      73,          1,         12,         12,2,20120413,       0628,    13.5688,   -69.8089,       4195,  1579.2,   4.2580,  34.9713,2,  34.9718,2,    211.5,2,   212.0,2,   26.54,2,   22.47,2,    0.00,2,    1.53,2,   0.068,2,   0.045,2,   0.006,2,    0.00,4,    -999,9,    -999,9,     -999,9,     -999,    -999,9,   1.8389,2,    1.37,2,   4.2580,2,    -999,9,    -999,9,    -999,   7.868,2,   0.035,    0.15,2,   39.83,2,   25.58,2,  13.5712, -69.8070,    -999,   0.0074,    0.15,   4.1275,   4.2580,2,-999,9,-999,-999,9,-999,    35.1367,2,-999,9,20120413,        724
33AT20120324,        A22,      73,          1,         11,         11,2,20120413,       0628,    13.5688,   -69.8089,       4195,  1679.9,   4.1898,  34.9719,2,  34.9717,2,    212.5,2,   212.2,2,   26.98,2,   22.43,2,    0.00,2,    1.52,2,   0.066,2,   0.041,2,   0.005,2,    0.00,4,    -999,9,    -999,9,     -999,9,     -999,    -999,9,     -999,9,    -999,9,   4.1892,2,    -999,9,    -999,9,    -999,    -999,9,    -999,    0.14,2,   39.72,2,   25.73,2,  13.5711, -69.8072,    -999,     -999,    -999,   4.0506,   4.1892,2,-999,9,-999,-999,9,-999,    35.1366,2,-999,9,20120413,        722
33AT20120324,        A22,      73,          1,         10,         10,2,20120413,       0628,    13.5688,   -69.8089,       4195,  1782.3,   4.1588,  34.9728,2,  34.9726,2,    213.4,2,   213.4,2,   27.04,2,   22.32,2,    0.00,2,    1.51,2,   0.068,2,   0.042,2,   0.005,2,    0.07,4,    -999,9,    -999,9,     -999,9,     -999,    -999,9,     -999,9,    -999,9,   4.1586,2,    -999,9,    -999,9,    -999,    -999,9,    -999,    0.15,2,   39.97,2,   25.28,2,  13.5709, -69.8073,    -999,     -999,    -999,   4.0102,   4.1586,2,-999,9,-999,-999,9,-999,    35.1375,2,-999,9,20120413,        719
33AT20120324,        A22,      73,          1,          9,          9,2,20120413,       0628,    13.5688,   -69.8089,       4195,  1953.7,   4.1199,  34.9735,2,  34.9737,2,    214.4,2,   214.4,2,   27.69,2,   22.20,2,    0.00,2,    1.51,2,   0.056,2,   0.038,2,   0.005,2,    0.18,4,    -999,9,    -999,9,     -999,9,     -999,    -999,9,     -999,9,    -999,9,   4.1199,2,    -999,9,    -999,9,    -999,    -999,9,    -999,    0.12,2,   40.41,2,   25.03,2,  13.5707, -69.8074,    -999,     -999,    -999,   3.9551,   4.1199,2,-999,9,-999,-999,9,-999,    35.1386,2,-999,9,20120413,        715
33AT20120324,        A22,      73,          1,          8,          8,2,20120413,       0628,    13.5688,   -69.8089,       4195,  2187.8,   4.1099,  34.9740,2,  34.9742,2,    215.5,2,   216.0,2,   27.73,2,   22.09,2,    0.00,2,    1.50,2,   0.070,2,   0.049,2,   0.007,2,    0.06,4,  2192.7,2, 2333.68,2,   7.7080,2,       25,    -999,9,     -999,9,    -999,9,   4.1100,2,    0.91,6,   -90.4,6,     2.8,    -999,9,    -999,    0.14,2,   40.65,2,   25.34,2,  13.5704, -69.8076,    -999,     -999,    -999,   3.9219,   4.1100,2,-999,9,-999,-999,9,-999,    35.1392,2,-999,9,20120413,        710
33AT20120324,        A22,      73,          1,          7,          7,2,20120413,       0628,    13.5688,   -69.8089,       4195,  2441.8,   4.1178,  34.9742,2,  34.9738,2,    215.5,2,   215.5,2,   28.49,2,   22.10,2,    0.00,2,    1.50,2,   0.047,2,   0.040,2,   0.005,2,    0.00,4,    -999,9,    -999,9,     -999,9,     -999,    -999,9,     -999,9,    -999,9,   4.1177,2,    -999,9,    -999,9,    -999,    -999,9,    -999,    0.10,2,   40.01,2,   25.20,2,  13.5701, -69.8078,    -999,     -999,    -999,   3.9035,   4.1177,2,-999,9,-999,-999,9,-999,    35.1387,2,-999,9,20120413,        705
33AT20120324,        A22,      73,          1,          6,          6,2,20120413,       0628,    13.5688,   -69.8089,       4195,  2695.1,   4.1364,  34.9743,2,  34.9737,2,    215.4,2,   215.5,2,   28.60,2,   22.08,2,    0.00,2,    1.50,2,   0.047,2,   0.038,2,   0.004,2,    0.00,4,    -999,9,    -999,9,     -999,9,     -999,    -999,9,     -999,9,    -999,9,   4.1362,2,    -999,9,    -999,9,    -999,    -999,9,    -999,    0.09,2,   40.62,2,   24.74,2,  13.5699, -69.8080,    -999,     -999,    -999,   3.8947,   4.1362,2,-999,9,-999,-999,9,-999,    35.1386,2,-999,9,20120413,        700