BOTTLE,20220725CCHSIOCBG
EXPOCODE,SECT_ID,STNNBR,CASTNO,SAMPNO,BTLNBR,BTLNBR_FLAG_W,DATE,TIME,LATITUDE,LONGITUDE,DEPTH,CTDPRS,CTDTMP,CTDSAL,CTDSAL_FLAG_W,SALNTY,SALNTY_FLAG_W,CTDOXY,CTDOXY_FLAG_W,OXYGEN,OXYGEN_FLAG_W,SILCAT,SILCAT_FLAG_W,NITRAT,NITRAT_FLAG_W,NITRIT,NITRIT_FLAG_W,PHSPHT,PHSPHT_FLAG_W,CFC-11,CFC-11_FLAG_W,CFC-12,CFC-12_FLAG_W,CFC113,CFC113_FLAG_W,SF6,SF6_FLAG_W,TCARBN,TCARBN_FLAG_W,ALKALI,ALKALI_FLAG_W,PH_TOT,PH_TOT_FLAG_W,PH_TMP,TRITUM,TRITUM_FLAG_W,HELIUM,HELIUM_FLAG_W,DELHE3,DELHE3_FLAG_W,REFTMP,REFTMP_FLAG_W,DELC13,DELC13_FLAG_W,DELC14,DELC14_FLAG_W,C14ERR,NEON,NEON_FLAG_W,NEONER,CCL4,CCL4_FLAG_W,DOC,DOC_FLAG_W,TDN,TDN_FLAG_W,BTL_LAT,BTL_LON,TRITER,HELIER,DELHER,THETA,SBE35,SBE35_FLAG_W,14C-DOC,14C-DOC_FLAG_W,14C-DOCERR,13C-DOC,13C-DOC_FLAG_W,13C-DOCERR,SALTREF,SALTREF_FLAG_W,LAB_DEN,LAB_DEN_FLAG_W,BTL_DATE,BTL_TIME
,,,,,,,,,,,METERS,DBAR,ITS-90,PSS-78,,PSS-78,,UMOL/KG,,UMOL/KG,,UMOL/KG,,UMOL/KG,,UMOL/KG,,UMOL/KG,,PMOL/KG,,PMOL/KG,,PMOL/KG,,FMOL/KG,,UMOL/KG,,UMOL/KG,,,,DEG C,TU,,NMOL/KG,,PERCNT,,DEG C,,/MILLE,,/MILLE,,/MILLE,NMOL/KG,,NMOL/KG,PMOL/KG,,UMOL/KG,,UMOL/KG,,,,TU,NMOL/KG,PERCNT,DEG C,ITS-90,,/MILLE,,/MILLE,/MILLE,,/MILLE,G/KG,,KG/M^3,,,
33AT20120324,        A22,      76,          1,         34,         34,2,20120413,       1902,    13.1876,   -69.8736,       2535,     3.1,  27.3567,  35.9072,2,  35.9181,2,    202.1,2,   201.0,2,    0.98,2,    0.00,2,    0.00,2,    0.00,2,   1.691,2,   0.974,2,   0.126,2,    1.17,2,  2014.9,2, 2355.50,2,   8.0942,2,       25,    -999,9,     -999,9,    -999,9,  27.3460,2,    -999,9,    -999,9,    -999,    -999,9,    -999,    -999,1,    -999,9,    -999,9,  13.1899, -69.8734,    -999,     -999,    -999,  27.3560,  27.3460,2,-999,9,-999,-999,9,-999,    36.0875,2,-999,9,20120413,       2024
33AT20120324,        A22,      76,          1,         33,         33,2,20120413,       1902,    13.1876,   -69.8736,       2535,    20.8,  27.0851,  36.3804,2,  36.3894,2,    200.4,2,   201.1,2,    0.59,2,    0.00,2,    0.00,2,    0.01,2,   1.689,2,   1.047,2,   0.123,2,    1.18,2,  2052.1,2, 2382.57,2,   8.0730,2,       25,    -999,9,     -999,9,    -999,9,  27.0847,2,    -999,9,    -999,9,    -999,    -999,9,    -999,    -999,1,    -999,9,    -999,9,  13.1896, -69.8730,    -999,     -999,    -999,  27.0803,  27.0847,2,-999,9,-999,-999,9,-999,    36.5610,2,-999,9,20120413,       2023
33AT20120324,        A22,      76,          1,         32,         32,2,20120413,       1902,    13.1876,   -69.8736,       2535,    40.5,  26.7081,  36.4829,2,  36.4922,2,    200.7,2,   201.3,2,    0.56,2,    0.00,2,    0.00,2,    0.00,2,   1.705,2,   1.046,2,   0.128,2,    1.19,2,    -999,9,    -999,9,     -999,9,     -999,    -999,9,     -999,9,    -999,9,  26.7105,2,    -999,9,    -999,9,    -999,    -999,9,    -999,    -999,1,    -999,9,    -999,9,  13.1894, -69.8729,    -999,     -999,    -999,  26.6988,  26.7105,2,-999,9,-999,-999,9,-999,    36.6642,2,-999,9,20120413,       2021
33AT20120324,        A22,      76,          1,         31,         31,2,20120413,       1902,    13.1876,   -69.8736,       2535,    65.2,  26.1689,  36.5414,2,  36.5486,2,    200.1,2,   197.2,2,    0.66,2,    0.00,2,    0.00,2,    0.01,2,   1.747,2,   1.076,2,   0.125,2,    1.17,2,  2062.4,2, 2391.56,2,   8.0550,2,       25,    -999,9,     -999,9,    -999,9,  26.1677,2,    -999,9,    -999,9,    -999,    -999,9,    -999,    -999,1,    -999,9,    -999,9,  13.1893, -69.8727,    -999,     -999,    -999,  26.1542,  26.1677,2,-999,9,-999,-999,9,-999,    36.7209,2,-999,9,20120413,       2019
33AT20120324,        A22,      76,          1,         30,         30,2,20120413,       1902,    13.1876,   -69.8736,       2535,    90.5,  23.2675,  36.7214,2,  36.7409,2,    143.3,2,   147.2,2,    1.92,2,    4.51,2,    0.11,2,    0.26,2,   1.939,2,   1.178,2,   0.086,2,    1.15,2,    -999,9,    -999,9,     -999,9,     -999,    -999,9,     -999,9,    -999,9,  23.2857,2,    -999,9,    -999,9,    -999,    -999,9,    -999,    -999,1,    -999,9,    -999,9,  13.1892, -69.8727,    -999,     -999,    -999,  23.2487,  23.2857,2,-999,9,-999,-999,9,-999,    36.9142,2,-999,9,20120413,       2017
33AT20120324,        A22,      76,          1,         29,         29,2,20120413,       1902,    13.1876,   -69.8736,       2535,   115.5,  20.9950,  36.7643,2,  36.7689,2,    139.7,2,   139.7,2,    2.40,2,    7.18,2,    0.03,2,    0.39,2,   2.065,2,   1.231,2,   0.041,2,    1.08,2,  2153.5,2, 2401.33,2,   7.9167,2,       25,    -999,9,     -999,9,    -999,9,  20.9914,2,    -999,9,    -999,9,    -999,    -999,9,    -999,    -999,1,    -999,9,    -999,9,  13.1892, -69.8728,    -999,     -999,    -999,  20.9727,  20.9914,2,-999,9,-999,-999,9,-999,    36.9422,2,-999,9,20120413,       2014
33AT20120324,        A22,      76,          1,         28,         28,2,20120413,       1902,    13.1876,   -69.8736,       2535,   141.0,  19.6288,  36.6534,2,  36.6395,2,    137.9,2,   139.4,2,    2.80,2,    8.70,2,    0.02,2,    0.47,2,   2.142,2,   1.266,2,   0.012,2,    1.03,2,    -999,9,    -999,9,     -999,9,     -999,    -999,9,     -999,9,    -999,9,  19.6266,2,    -999,9,    -999,9,    -999,    -999,9,    -999,    -999,1,    -999,9,    -999,9,  13.1891, -69.8728,    -999,     -999,    -999,  19.6028,  19.6266,2,-999,9,-999,-999,9,-999,    36.8122,2,-999,9,20120413,       2013
33AT20120324,        A22,      76,          1,         27,         27,2,20120413,       1902,    13.1876,   -69.8736,       2535,   166.0,  18.3262,  36.5444,2,  36.5255,2,    146.1,2,   153.3,2,    2.51,2,    8.69,2,    0.01,2,    0.47,2,   2.249,2,   1.164,2,   0.006,2,    1.02,2,  2153.4,2, 2386.15,2,   7.8971,2,       25,    -999,9,     -999,9,    -999,9,  18.3269,2,    -999,9,    -999,9,    -999,    -999,9,    -999,    -999,1,    -999,9,    -999,9,  13.1891, -69.8728,    -999,     -999,    -999,  18.2971,  18.3269,2,-999,9,-999,-999,9,-999,    36.6977,2,-999,9,20120413,       2011
33AT20120324,        A22,      76,          1,         26,         26,2,20120413,       1902,    13.1876,   -69.8736,       2535,   190.6,  17.3274,  36.3907,2,  36.3642,2,    167.7,2,   159.0,2,    2.91,2,    9.71,2,    0.01,2,    0.54,2,   2.309,2,   1.181,2,   0.016,2,    1.02,2,    -999,9,    -999,9,     -999,9,     -999,    -999,9,     -999,9,    -999,9,  17.3269,2,    -999,9,    -999,9,    -999,    -999,9,    -999,    -999,1,    -999,9,    -999,9,  13.1891, -69.8728,    -999,     -999,    -999,  17.2952,  17.3269,2,-999,9,-999,-999,9,-999,    36.5357,2,-999,9,20120413,       2009
33AT20120324,        A22,      76,          1,         25,         25,2,20120413,       1902,    13.1876,   -69.8736,       2535,   215.2,  16.3460,  36.1894,2,  36.1910,2,    147.8,2,   150.2,2,    3.93,2,   12.07,2,    0.01,2,    0.69,2,   2.279,2,   1.303,2,   0.013,2,    0.93,2,  2159.0,2, 2366.65,2,   7.8529,2,       25,    -999,9,     -999,9,    -999,9,  16.3457,2,    -999,9,    -999,9,    -999,    -999,9,    -999,    -999,1,    -999,9,    -999,9,  13.1891, -69.8728,    -999,     -999,    -999,  16.3111,  16.3457,2,-999,9,-999,-999,9,-999,    36.3616,2,-999,9,20120413,       2007
33AT20120324,        A22,      76,          1,         24,         24,2,20120413,       1902,    13.1876,   -69.8736,       2535,   243.2,  15.0868,  35.9383,2,  35.9325,2,    138.7,2,   136.4,2,    5.75,2,   15.65,2,    0.01,2,    0.94,2,   2.205,2,   1.138,2,   0.014,2,    0.78,2,  2172.1,2, 2352.05,2,   7.7991,2,       25,    -999,9,     -999,9,    -999,9,  15.0920,2,    -999,9,    -999,9,    -999,    -999,9,    -999,    -999,1,    -999,9,    -999,9,  13.1892, -69.8727,    -999,     -999,    -999,  15.0495,  15.0920,2,-999,9,-999,-999,9,-999,    36.1019,2,-999,9,20120413,       2006
33AT20120324,        A22,      76,          1,         23,         23,2,20120413,       1902,    13.1876,   -69.8736,       2535,   286.5,  13.4733,  35.6570,2,  35.6549,2,    128.9,2,   128.8,2,    7.47,2,   19.13,2,    0.01,2,    1.18,2,   2.078,2,   1.057,2,   0.024,2,    0.68,2,    -999,9,    -999,9,     -999,9,     -999,    -999,9,     -999,9,    -999,9,  13.4723,2,    -999,9,    -999,9,    -999,    -999,9,    -999,    -999,1,    -999,9,    -999,9,  13.1891, -69.8728,    -999,     -999,    -999,  13.4326,  13.4723,2,-999,9,-999,-999,9,-999,    35.8231,2,-999,9,20120413,       2004
33AT20120324,        A22,      76,          1,         22,         22,2,20120413,       1902,    13.1876,   -69.8736,       2535,   336.9,  11.6903,  35.3594,2,  35.3456,2,    122.8,2,   122.2,2,   10.28,2,   23.15,2,    0.01,2,    1.45,2,   1.837,2,   0.928,2,   0.020,2,    0.48,2,    -999,9,    -999,9,     -999,9,     -999,    -999,9,     -999,9,    -999,9,  11.6852,2,    -999,9,    -999,9,    -999,    -999,9,    -999,    -999,1,    -999,9,    -999,9,  13.1891, -69.8728,    -999,     -999,    -999,  11.6467,  11.6852,2,-999,9,-999,-999,9,-999,    35.5123,2,-999,9,20120413,       2002
33AT20120324,        A22,      76,          1,         21,         21,2,20120413,       1902,    13.1876,   -69.8736,       2535,   387.0,  10.3149,  35.1281,2,  35.1245,2,    121.2,2,   120.8,2,   12.69,2,   25.84,2,    0.00,2,    1.65,2,   1.670,2,   0.862,2,   0.025,2,    0.37,2,    -999,9,    -999,9,     -999,9,     -999,    -999,9,     -999,9,    -999,9,  10.3143,2,    -999,9,    -999,9,    -999,    -999,9,    -999,    -999,1,    -999,9,    -999,9,  13.1891, -69.8728,    -999,     -999,    -999,  10.2686,  10.3143,2,-999,9,-999,-999,9,-999,    35.2902,2,-999,9,20120413,       2000
33AT20120324,        A22,      76,          1,         20,         20,2,20120413,       1902,    13.1876,   -69.8736,       2535,   436.3,   9.3044,  34.9898,2,  34.9812,2,    119.9,2,   119.5,2,   14.97,2,   28.07,2,    0.00,2,    1.80,2,   1.400,2,   0.626,2,   0.016,2,    0.34,2,  2203.6,2, 2309.18,2,   7.6185,2,       25,    -999,9,     -999,9,    -999,9,   9.3053,2,    -999,9,    -999,9,    -999,    -999,9,    -999,    -999,1,    -999,9,    -999,9,  13.1891, -69.8728,    -999,     -999,    -999,   9.2554,   9.3053,2,-999,9,-999,-999,9,-999,    35.1462,2,-999,9,20120413,       1958
33AT20120324,        A22,      76,          1,         19,         19,2,20120413,       1902,    13.1876,   -69.8736,       2535,   487.5,   8.7651,  34.9348,2,  34.9190,2,    119.3,2,   119.0,2,   16.31,2,   29.14,2,    0.00,2,    1.87,2,   1.214,2,   0.509,2,   0.013,2,    0.28,2,  2207.4,2, 2307.74,2,   7.6049,2,       25,    -999,9,     -999,9,    -999,9,   8.7654,2,    -999,9,    -999,9,    -999,    -999,9,    -999,    -999,1,    -999,9,    -999,9,  13.1891, -69.8728,    -999,     -999,    -999,   8.7121,   8.7654,2,-999,9,-999,-999,9,-999,    35.0837,2,-999,9,20120413,       1957
33AT20120324,        A22,      76,          1,         18,         18,2,20120413,       1902,    13.1876,   -69.8736,       2535,   569.5,   7.7364,  34.8109,2,  34.7931,4,    120.9,2,   120.9,2,   19.31,2,   31.13,2,    0.00,2,    2.03,2,   0.925,2,   0.453,2,   0.018,2,    0.20,2,    -999,9,    -999,9,     -999,9,     -999,    -999,9,     -999,9,    -999,9,   7.7364,2,    -999,9,    -999,9,    -999,    -999,9,    -999,    -999,1,    -999,9,    -999,9,  13.1891, -69.8728,    -999,     -999,    -999,   7.6786,   7.7364,2,-999,9,-999,-999,9,-999,    34.9572,4,-999,9,20120413,       1954
33AT20120324,        A22,      76,          1,         17,         17,2,20120413,       1902,    13.1876,   -69.8736,       2535,   670.0,   6.8967,  34.7572,2,  34.7434,4,    125.5,2,   125.0,2,   22.05,2,   32.06,2,    0.00,2,    2.11,2,   0.612,2,   0.227,2,   0.008,2,    0.16,2,  2215.0,2, 2304.01,2,   7.5708,2,       25,    -999,9,     -999,9,    -999,9,   6.8964,2,    -999,9,    -999,9,    -999,    -999,9,    -999,    -999,1,    -999,9,    -999,9,  13.1890, -69.8729,    -999,     -999,    -999,   6.8326,   6.8964,2,-999,9,-999,-999,9,-999,    34.9072,4,-999,9,20120413,       1952
33AT20120324,        A22,      76,          1,         16,         16,2,20120413,       1902,    13.1876,   -69.8736,       2535,   770.4,   6.2663,  34.7434,2,  34.7323,4,    132.0,2,   132.7,2,   24.07,2,   32.06,2,    0.00,2,    2.14,2,   0.401,2,   0.185,2,   0.008,2,    0.12,2,  2216.8,6, 2305.50,2,   7.5727,2,       25,    -999,9,     -999,9,    -999,9,   6.2659,2,    -999,9,    -999,9,    -999,    -999,9,    -999,    -999,1,    -999,9,    -999,9,  13.1889, -69.8729,    -999,     -999,    -999,   6.1957,   6.2659,2,-999,9,-999,-999,9,-999,    34.8961,4,-999,9,20120413,       1949
33AT20120324,        A22,      76,          1,         15,         15,2,20120413,       1902,    13.1876,   -69.8736,       2535,   872.4,   5.8191,  34.8067,2,  34.7966,4,    145.7,2,   146.9,2,   24.70,2,   30.22,2,    0.00,2,    2.02,2,   0.254,2,   0.118,2,   0.007,2,    0.10,2,    -999,9,    -999,9,     -999,9,     -999,    -999,9,     -999,9,    -999,9,   5.8188,2,    -999,9,    -999,9,    -999,    -999,9,    -999,    -999,1,    -999,9,    -999,9,  13.1888, -69.8730,    -999,     -999,    -999,   5.7414,   5.8188,2,-999,9,-999,-999,9,-999,    34.9607,4,-999,9,20120413,       1946
33AT20120324,        A22,      76,          1,         14,         14,2,20120413,       1902,    13.1876,   -69.8736,       2535,   971.9,   5.3867,  34.8881,2,  34.8792,4,    165.7,2,   166.9,2,   24.72,2,   27.39,2,    0.00,2,    1.84,2,   0.167,2,   0.075,2,   0.005,2,    0.04,2,  2205.8,2, 2320.03,6,   7.6364,2,       25,    -999,9,     -999,9,    -999,9,   5.3864,2,    -999,9,    -999,9,    -999,    -999,9,    -999,    -999,1,    -999,9,    -999,9,  13.1886, -69.8731,    -999,     -999,    -999,   5.3025,   5.3864,2,-999,9,-999,-999,9,-999,    35.0436,4,-999,9,20120413,       1944
33AT20120324,        A22,      76,          1,         13,         13,2,20120413,       1902,    13.1876,   -69.8736,       2535,  1073.0,   5.0051,  34.9305,2,  34.9218,4,    182.2,2,   182.9,2,   24.63,2,   25.45,2,    0.00,2,    1.73,2,   0.125,2,   0.056,2,   0.007,2,    0.07,2,    -999,9,    -999,9,     -999,9,     -999,    -999,9,     -999,9,    -999,9,   5.0048,2,    -999,9,    -999,9,    -999,    -999,9,    -999,    -999,1,    -999,9,    -999,9,  13.1885, -69.8732,    -999,     -999,    -999,   4.9143,   5.0048,2,-999,9,-999,-999,9,-999,    35.0865,4,-999,9,20120413,       1941
33AT20120324,        A22,      76,          1,         12,         12,2,20120413,       1902,    13.1876,   -69.8736,       2535,  1173.7,   4.7831,  34.9471,2,  34.9365,4,    192.7,2,   192.3,2,   24.51,2,   24.47,2,    0.00,2,    1.67,2,   0.120,2,   0.059,2,   0.006,2,    0.05,2,    -999,9,    -999,9,     -999,9,     -999,    -999,9,     -999,9,    -999,9,   4.7827,2,    -999,9,    -999,9,    -999,    -999,9,    -999,    -999,1,    -999,9,    -999,9,  13.1883, -69.8733,    -999,     -999,    -999,   4.6849,   4.7827,2,-999,9,-999,-999,9,-999,    35.1013,4,-999,9,20120413,       1938
33AT20120324,        A22,      76,          1,         11,         11,2,20120413,       1902,    13.1876,   -69.8736,       2535,  1275.4,   4.5755,  34.9585,2,  34.9521,4,    200.1,2,   200.2,2,   24.66,2,   23.60,2,    0.00,2,    1.61,2,   0.126,2,   0.056,2,   0.006,2,    0.07,2,    -999,9,    -999,9,     -999,9,     -999,    -999,9,     -999,9,    -999,9,   4.5751,2,    -999,9,    -999,9,    -999,    -999,9,    -999,    -999,1,    -999,9,    -999,9,  13.1881, -69.8734,    -999,     -999,    -999,   4.4699,   4.5751,2,-999,9,-999,-999,9,-999,    35.1169,4,-999,9,20120413,       1935
33AT20120324,        A22,      76,          1,         10,         10,2,20120413,       1902,    13.1876,   -69.8736,       2535,  1374.5,   4.4025,  34.9662,2,  34.9589,4,    205.7,2,   205.9,2,   25.32,2,   22.96,2,    0.00,2,    1.57,2,   0.110,2,   0.049,2,   0.010,2,    0.11,2,    -999,9,    -999,9,     -999,9,     -999,    -999,9,     -999,9,    -999,9,   4.4016,2,    -999,9,    -999,9,    -999,    -999,9,    -999,    -999,1,    -999,9,    -999,9,  13.1879, -69.8735,    -999,     -999,    -999,   4.2894,   4.4016,2,-999,9,-999,-999,9,-999,    35.1238,4,-999,9,20120413,       1933
33AT20120324,        A22,      76,          1,          9,          9,2,20120413,       1902,    13.1876,   -69.8736,       2535,  1477.8,   4.2883,  34.9698,2,  34.9664,4,    209.7,2,   209.1,2,   25.98,2,   22.66,2,    0.00,2,    1.55,2,   0.114,2,   0.060,2,   0.007,2,    0.08,2,    -999,9,    -999,9,     -999,9,     -999,    -999,9,     -999,9,    -999,9,   4.2880,2,    -999,9,    -999,9,    -999,    -999,9,    -999,    -999,1,    -999,9,    -999,9,  13.1877, -69.8736,    -999,     -999,    -999,   4.1669,   4.2880,2,-999,9,-999,-999,9,-999,    35.1313,4,-999,9,20120413,       1930
33AT20120324,        A22,      76,          1,          8,          8,2,20120413,       1902,    13.1876,   -69.8736,       2535,  1578.5,   4.2191,  34.9715,2,  34.9660,4,    211.5,2,   211.1,2,   26.52,2,   22.46,2,    0.00,2,    1.54,2,   0.096,2,   0.042,2,   0.009,2,    0.16,2,    -999,9, 2332.03,2,   7.7030,6,       25,    -999,9,     -999,9,    -999,9,   4.2193,2,    -999,9,    -999,9,    -999,    -999,9,    -999,    -999,1,    -999,9,    -999,9,  13.1875, -69.8737,    -999,     -999,    -999,   4.0891,   4.2193,2,-999,9,-999,-999,9,-999,    35.1308,4,-999,9,20120413,       1927
33AT20120324,        A22,      76,          1,          7,          7,2,20120413,       1902,    13.1876,   -69.8736,       2535,  1680.2,   4.1559,  34.9727,2,  34.9677,4,    212.4,2,   212.2,2,   27.38,2,   22.33,2,    0.00,2,    1.53,2,   0.080,2,   0.046,2,   0.008,2,    0.31,2,    -999,9,    -999,9,     -999,9,     -999,    -999,9,     -999,9,    -999,9,   4.1557,2,    -999,9,    -999,9,    -999,    -999,9,    -999,    -999,1,    -999,9,    -999,9,  13.1874, -69.8738,    -999,     -999,    -999,   4.0171,   4.1557,2,-999,9,-999,-999,9,-999,    35.1326,4,-999,9,20120413,       1925
33AT20120324,        A22,      76,          1,          6,          6,2,20120413,       1902,    13.1876,   -69.8736,       2535,  1780.7,   4.1263,  34.9730,2,  34.9695,4,    212.4,2,   212.7,2,   27.77,2,   22.29,2,    0.00,2,    1.52,2,   0.066,2,   0.033,2,   0.011,2,    0.40,2,    -999,9,    -999,9,     -999,9,     -999,    -999,9,     -999,9,    -999,9,   4.1260,2,    -999,9,    -999,9,    -999,    -999,9,    -999,    -999,1,    -999,9,    -999,9,  13.1872, -69.8738,    -999,     -999,    -999,   3.9783,   4.1260,2,-999,9,-999,-999,9,-999,    35.1344,4,-999,9,20120413,       1922
33AT20120324,        A22,      76,          1,          5,          5,2,20120413,       1902,    13.1876,   -69.8736,       2535,  1883.1,   4.1045,  34.9734,2,  34.9693,4,    213.1,2,   213.6,2,   27.97,2,   22.23,2,    0.00,2,    1.52,2,   0.075,2,   0.044,2,   0.009,2,    0.45,2,    -999,9,    -999,9,     -999,9,     -999,    -999,9,     -999,9,    -999,9,   4.1042,2,    -999,9,    -999,9,    -999,    -999,9,    -999,    -999,1,    -999,9,    -999,9,  13.1872, -69.8739,    -999,     -999,    -999,   3.9469,   4.1042,2,-999,9,-999,-999,9,-999,    35.1342,4,-999,9,20120413,       1919
33AT20120324,        A22,      76,          1,          4,          4,2,20120413,       1902,    13.1876,   -69.8736,       2535,  1983.4,   4.0969,  34.9738,2,  34.9708,4,    213.4,2,   213.4,2,   28.49,2,   22.24,2,    0.00,2,    1.52,2,   0.073,2,   0.039,2,   0.006,2,    0.66,2,    -999,9,    -999,9,     -999,9,     -999,    -999,9,     -999,9,    -999,9,   4.0967,2,    -999,9,    -999,9,    -999,    -999,9,    -999,    -999,1,    -999,9,    -999,9,  13.1872, -69.8738,    -999,     -999,    -999,   3.9296,   4.0967,2,-999,9,-999,-999,9,-999,    35.1357,4,-999,9,20120413,       1917