BOTTLE,20220725CCHSIOCBG
EXPOCODE,SECT_ID,STNNBR,CASTNO,SAMPNO,BTLNBR,BTLNBR_FLAG_W,DATE,TIME,LATITUDE,LONGITUDE,DEPTH,CTDPRS,CTDTMP,CTDSAL,CTDSAL_FLAG_W,SALNTY,SALNTY_FLAG_W,CTDOXY,CTDOXY_FLAG_W,OXYGEN,OXYGEN_FLAG_W,SILCAT,SILCAT_FLAG_W,NITRAT,NITRAT_FLAG_W,NITRIT,NITRIT_FLAG_W,PHSPHT,PHSPHT_FLAG_W,CFC-11,CFC-11_FLAG_W,CFC-12,CFC-12_FLAG_W,CFC113,CFC113_FLAG_W,SF6,SF6_FLAG_W,TCARBN,TCARBN_FLAG_W,ALKALI,ALKALI_FLAG_W,PH_TOT,PH_TOT_FLAG_W,PH_TMP,TRITUM,TRITUM_FLAG_W,HELIUM,HELIUM_FLAG_W,DELHE3,DELHE3_FLAG_W,REFTMP,REFTMP_FLAG_W,DELC13,DELC13_FLAG_W,DELC14,DELC14_FLAG_W,C14ERR,NEON,NEON_FLAG_W,NEONER,CCL4,CCL4_FLAG_W,DOC,DOC_FLAG_W,TDN,TDN_FLAG_W,BTL_LAT,BTL_LON,TRITER,HELIER,DELHER,THETA,SBE35,SBE35_FLAG_W,14C-DOC,14C-DOC_FLAG_W,14C-DOCERR,13C-DOC,13C-DOC_FLAG_W,13C-DOCERR,SALTREF,SALTREF_FLAG_W,LAB_DEN,LAB_DEN_FLAG_W,BTL_DATE,BTL_TIME
,,,,,,,,,,,METERS,DBAR,ITS-90,PSS-78,,PSS-78,,UMOL/KG,,UMOL/KG,,UMOL/KG,,UMOL/KG,,UMOL/KG,,UMOL/KG,,PMOL/KG,,PMOL/KG,,PMOL/KG,,FMOL/KG,,UMOL/KG,,UMOL/KG,,,,DEG C,TU,,NMOL/KG,,PERCNT,,DEG C,,/MILLE,,/MILLE,,/MILLE,NMOL/KG,,NMOL/KG,PMOL/KG,,UMOL/KG,,UMOL/KG,,,,TU,NMOL/KG,PERCNT,DEG C,ITS-90,,/MILLE,,/MILLE,/MILLE,,/MILLE,G/KG,,KG/M^3,,,
33AT20120324,        A22,      71,          1,          5,          5,2,20120412,       1835,    14.1413,   -69.6971,       4656,  3647.8,   4.2387,  34.9746,2,  34.9752,2,    215.4,2,   216.0,2,   28.34,2,   21.91,2,    0.00,2,    1.49,2,   0.062,2,   0.045,2,   0.008,2,    0.00,4,    -999,9,    -999,9,     -999,9,     -999,    -999,9,     -999,9,    -999,9,   4.2387,2,    -999,9,    -999,9,    -999,    -999,9,    -999,    0.13,2,   39.88,2,   24.37,2,  14.1423, -69.6965,    -999,     -999,    -999,   3.8855,   4.2387,2,-999,9,-999,-999,9,-999,    35.1401,2,-999,9,20120412,       1858
33AT20120324,        A22,      71,          1,          4,          4,2,20120412,       1835,    14.1413,   -69.6971,       4656,  3956.5,   4.2743,  34.9747,2,  34.9760,2,    215.2,2,   223.2,4,   28.47,2,   21.95,2,    0.00,2,    1.49,2,   0.056,2,   0.045,2,   0.006,2,    0.00,4,  2197.4,2, 2338.11,2,   7.7103,2,       25,    -999,9,     -999,9,    -999,9,   4.2745,2,    -999,9,    -999,9,    -999,    -999,9,    -999,    0.12,2,   39.77,2,   25.14,2,  14.1421, -69.6966,    -999,     -999,    -999,   3.8823,   4.2745,2,-999,9,-999,-999,9,-999,    35.1409,2,-999,9,20120412,       1852
33AT20120324,        A22,      71,          1,          3,          3,2,20120412,       1835,    14.1413,   -69.6971,       4656,  4262.8,   4.3115,  34.9747,2,  34.9756,2,    215.1,2,   216.0,2,   28.45,2,   21.93,2,    0.00,2,    1.49,2,   0.063,2,   0.050,2,   0.007,2,    0.00,4,    -999,9,    -999,9,     -999,9,     -999,    -999,9,     -999,9,    -999,9,   4.3112,2,    -999,9,    -999,9,    -999,    -999,9,    -999,    0.13,2,   40.24,2,   24.85,2,  14.1418, -69.6968,    -999,     -999,    -999,   3.8796,   4.3112,2,-999,9,-999,-999,9,-999,    35.1405,2,-999,9,20120412,       1846
33AT20120324,        A22,      71,          1,          2,          2,2,20120412,       1835,    14.1413,   -69.6971,       4656,  4490.9,   4.3407,  34.9747,2,  34.9762,2,    215.9,2,   215.5,2,   28.61,2,   21.91,2,    0.00,2,    1.49,2,   0.075,2,   0.059,2,   0.008,2,    0.00,4,  2198.6,2, 2338.44,2,   7.7119,6,       25,    -999,9,     -999,9,    -999,9,   4.3406,2,    -999,9,    -999,9,    -999,    -999,9,    -999,    0.14,2,   39.89,2,   24.03,2,  14.1416, -69.6969,    -999,     -999,    -999,   3.8783,   4.3406,2,-999,9,-999,-999,9,-999,    35.1411,2,-999,9,20120412,       1841
33AT20120324,        A22,      71,          1,          1,          1,2,20120412,       1835,    14.1413,   -69.6971,       4656,  4720.5,   4.3721,  34.9747,2,     -999,9,    216.1,2,   218.8,4,   28.54,2,   21.85,2,    0.00,2,    1.48,2,   0.087,2,   0.067,2,   0.009,2,    0.00,4,  2200.2,6, 2340.27,6,   7.7134,2,       25,    -999,9,     -999,9,    -999,9,   4.3720,2,    0.93,2,   -84.6,2,     3.4,    -999,9,    -999,    0.14,2,   40.33,2,   23.91,2,  14.1413, -69.6971,    -999,     -999,    -999,   3.8783,   4.3720,2,-999,9,-999,-999,9,-999,       -999,9,-999,9,20120412,       1836