BOTTLE,20220725CCHSIOCBG
EXPOCODE,SECT_ID,STNNBR,CASTNO,SAMPNO,BTLNBR,BTLNBR_FLAG_W,DATE,TIME,LATITUDE,LONGITUDE,DEPTH,CTDPRS,CTDTMP,CTDSAL,CTDSAL_FLAG_W,SALNTY,SALNTY_FLAG_W,CTDOXY,CTDOXY_FLAG_W,OXYGEN,OXYGEN_FLAG_W,SILCAT,SILCAT_FLAG_W,NITRAT,NITRAT_FLAG_W,NITRIT,NITRIT_FLAG_W,PHSPHT,PHSPHT_FLAG_W,CFC-11,CFC-11_FLAG_W,CFC-12,CFC-12_FLAG_W,CFC113,CFC113_FLAG_W,SF6,SF6_FLAG_W,TCARBN,TCARBN_FLAG_W,ALKALI,ALKALI_FLAG_W,PH_TOT,PH_TOT_FLAG_W,PH_TMP,TRITUM,TRITUM_FLAG_W,HELIUM,HELIUM_FLAG_W,DELHE3,DELHE3_FLAG_W,REFTMP,REFTMP_FLAG_W,DELC13,DELC13_FLAG_W,DELC14,DELC14_FLAG_W,C14ERR,NEON,NEON_FLAG_W,NEONER,CCL4,CCL4_FLAG_W,DOC,DOC_FLAG_W,TDN,TDN_FLAG_W,BTL_LAT,BTL_LON,TRITER,HELIER,DELHER,THETA,SBE35,SBE35_FLAG_W,14C-DOC,14C-DOC_FLAG_W,14C-DOCERR,13C-DOC,13C-DOC_FLAG_W,13C-DOCERR,SALTREF,SALTREF_FLAG_W,LAB_DEN,LAB_DEN_FLAG_W,BTL_DATE,BTL_TIME
,,,,,,,,,,,METERS,DBAR,ITS-90,PSS-78,,PSS-78,,UMOL/KG,,UMOL/KG,,UMOL/KG,,UMOL/KG,,UMOL/KG,,UMOL/KG,,PMOL/KG,,PMOL/KG,,PMOL/KG,,FMOL/KG,,UMOL/KG,,UMOL/KG,,,,DEG C,TU,,NMOL/KG,,PERCNT,,DEG C,,/MILLE,,/MILLE,,/MILLE,NMOL/KG,,NMOL/KG,PMOL/KG,,UMOL/KG,,UMOL/KG,,,,TU,NMOL/KG,PERCNT,DEG C,ITS-90,,/MILLE,,/MILLE,/MILLE,,/MILLE,G/KG,,KG/M^3,,,
33AT20120324,        A22,      29,          1,         36,         36,2,20120402,       0455,    30.6083,   -65.3390,       4889,     4.0,  20.4653,  36.6440,2,  36.6440,2,    219.0,2,   220.2,2,    0.16,2,    0.01,2,    0.02,2,    0.00,2,   1.928,2,   1.268,2,   0.155,2,    1.46,4,  2075.3,6, 2393.71,2,   8.0522,2,       25,    -999,9,     -999,9,    -999,9,  20.4646,2,    -999,9,    -999,9,    -999,    -999,9,    -999,    1.64,2,   67.02,2,    4.97,2,  30.6040, -65.3407,    -999,     -999,    -999,  20.4645,  20.4646,2,-999,9,-999,-999,9,-999,    36.8168,2,-999,9,20120402,        704
33AT20120324,        A22,      29,          1,         35,         35,2,20120402,       0455,    30.6083,   -65.3390,       4889,    25.4,  20.4614,  36.6429,2,  36.6428,2,    220.1,2,   220.0,2,    0.19,2,    0.01,2,    0.03,2,    0.00,2,   1.905,2,   1.280,2,   0.147,2,    1.58,4,    -999,9,    -999,9,     -999,9,     -999,    -999,9,     -999,9,    -999,9,  20.4648,2,    -999,9,    -999,9,    -999,    -999,9,    -999,    1.56,2,   66.84,2,    5.24,2,  30.6041, -65.3406,    -999,     -999,    -999,  20.4566,  20.4648,2,-999,9,-999,-999,9,-999,    36.8156,2,-999,9,20120402,        701
33AT20120324,        A22,      29,          1,         34,         34,2,20120402,       0455,    30.6083,   -65.3390,       4889,    51.0,  20.2506,  36.6106,2,  36.6105,2,    220.0,2,   217.0,2,    0.28,2,    0.21,2,    0.11,2,    0.00,2,   1.909,2,   1.273,2,   0.149,2,    1.45,4,  2078.3,2, 2392.77,6,   8.0458,6,       25,    -999,9,     -999,9,    -999,9,  20.2495,2,    -999,9,    -999,9,    -999,    -999,9,    -999,    1.46,2,   63.74,2,    5.44,2,  30.6042, -65.3405,    -999,     -999,    -999,  20.2410,  20.2495,2,-999,9,-999,-999,9,-999,    36.7831,2,-999,9,20120402,        658
33AT20120324,        A22,      29,          1,         33,         33,2,20120402,       0455,    30.6083,   -65.3390,       4889,    75.8,  20.0584,  36.5985,2,  36.5984,2,    215.4,2,   216.1,2,    0.28,2,    0.40,2,    0.09,2,    0.01,2,   1.953,2,   1.253,2,   0.140,2,    1.33,4,    -999,9,    -999,9,     -999,9,     -999,    -999,9,     -999,9,    -999,9,  20.0592,2,    -999,9,    -999,9,    -999,    -999,9,    -999,    1.46,2,   61.43,2,    4.65,2,  30.6043, -65.3405,    -999,     -999,    -999,  20.0443,  20.0592,2,-999,9,-999,-999,9,-999,    36.7710,2,-999,9,20120402,        656
33AT20120324,        A22,      29,          1,         32,         32,2,20120402,       0455,    30.6083,   -65.3390,       4889,   102.5,  19.9583,  36.6005,2,  36.6014,2,    212.8,2,   211.8,2,    0.32,2,    0.87,2,    0.02,2,    0.02,2,   1.952,2,   1.284,2,   0.130,2,    1.23,4,  2084.7,2, 2392.63,2,   8.0328,2,       25,    -999,9,     -999,9,    -999,9,  19.9576,2,    -999,9,    -999,9,    -999,    -999,9,    -999,    1.26,2,   59.64,2,    4.07,2,  30.6044, -65.3405,    -999,     -999,    -999,  19.9392,  19.9576,2,-999,9,-999,-999,9,-999,    36.7740,2,-999,9,20120402,        654
33AT20120324,        A22,      29,          1,         31,         31,2,20120402,       0455,    30.6083,   -65.3390,       4889,   150.8,  19.6065,  36.6415,2,  36.6432,2,    201.8,2,   197.5,2,    0.53,2,    1.94,2,    0.01,2,    0.07,2,   1.973,2,   1.314,2,   0.075,2,    1.46,4,  2101.3,2, 2394.57,2,   8.0047,2,       25,    -999,9,     -999,9,    -999,9,  19.5986,2,    -999,9,    -999,9,    -999,    -999,9,    -999,    0.67,2,   56.87,2,    5.91,2,  30.6046, -65.3405,    -999,     -999,    -999,  19.5788,  19.5986,2,-999,9,-999,-999,9,-999,    36.8160,2,-999,9,20120402,        651
33AT20120324,        A22,      29,          1,         30,         30,2,20120402,       0455,    30.6083,   -65.3390,       4889,   201.0,  18.7856,  36.6281,2,  36.6274,2,    190.6,2,   191.7,2,    0.65,2,    3.37,2,    0.00,2,    0.14,2,   2.056,2,   1.352,2,   0.035,2,    1.17,4,  2113.2,2, 2392.66,2,   7.9820,2,       25,    -999,9,     -999,9,    -999,9,  18.8109,2,    -999,9,    -999,9,    -999,    -999,9,    -999,    0.34,2,   55.63,2,    6.44,2,  30.6047, -65.3404,    -999,     -999,    -999,  18.7497,  18.8109,2,-999,9,-999,-999,9,-999,    36.8001,2,-999,9,20120402,        649
33AT20120324,        A22,      29,          1,         29,         29,2,20120402,       0455,    30.6083,   -65.3390,       4889,   248.5,  18.4021,  36.6023,2,  36.6026,2,    196.9,2,   196.9,2,    0.84,2,    3.73,2,    0.00,2,    0.16,2,   2.046,2,   1.354,2,   0.036,2,    1.45,4,  2111.0,2, 2390.45,2,   7.9823,2,       25,    -999,9,     -999,9,    -999,9,  18.4035,2,    -999,9,    -999,9,    -999,    -999,9,    -999,    0.39,2,   52.52,2,    6.57,2,  30.6048, -65.3404,    -999,     -999,    -999,  18.3583,  18.4035,2,-999,9,-999,-999,9,-999,    36.7752,2,-999,9,20120402,        647
33AT20120324,        A22,      29,          1,         28,         28,2,20120402,       0455,    30.6083,   -65.3390,       4889,   299.2,  18.1522,  36.5791,2,  36.5780,2,    199.8,2,   199.8,2,    0.93,2,    4.03,2,    0.00,2,    0.19,2,   2.089,2,   1.363,2,   0.039,2,    1.05,4,  2110.7,2, 2390.38,2,   7.9819,2,       25,    -999,9,     -999,9,    -999,9,  18.1479,2,    -999,9,    -999,9,    -999,    -999,9,    -999,    0.40,2,   51.57,2,    7.32,2,  30.6049, -65.3404,    -999,     -999,    -999,  18.0999,  18.1479,2,-999,9,-999,-999,9,-999,    36.7505,2,-999,9,20120402,        645
33AT20120324,        A22,      29,          1,         27,         27,2,20120402,       0455,    30.6083,   -65.3390,       4889,   351.6,  17.8939,  36.5484,2,  36.5489,2,    203.0,2,   203.0,2,    1.09,2,    4.24,2,    0.00,2,    0.19,2,   2.108,2,   1.353,2,   0.044,2,    0.89,4,  2110.5,2, 2386.54,2,   7.9784,2,       25,    -999,9,     -999,9,    -999,9,  17.9013,2,    -999,9,    -999,9,    -999,    -999,9,    -999,    0.48,2,   50.52,2,    8.03,2,  30.6049, -65.3403,    -999,     -999,    -999,  17.8329,  17.9013,2,-999,9,-999,-999,9,-999,    36.7212,2,-999,9,20120402,        643
33AT20120324,        A22,      29,          1,         26,         26,2,20120402,       0455,    30.6083,   -65.3390,       4889,   405.2,  17.7045,  36.5138,2,  36.5154,2,    201.7,2,   201.4,2,    1.24,2,    4.71,2,    0.00,2,    0.22,2,   2.151,2,   1.400,2,   0.039,2,    1.13,4,  2112.8,2, 2388.00,2,   7.9713,2,       25,    -999,9,     -999,9,    -999,9,  17.7066,2,    -999,9,    -999,9,    -999,    -999,9,    -999,    0.46,2,   49.21,2,    8.06,2,  30.6051, -65.3403,    -999,     -999,    -999,  17.6347,  17.7066,2,-999,9,-999,-999,9,-999,    36.6876,2,-999,9,20120402,        641
33AT20120324,        A22,      29,          1,         25,         25,2,20120402,       0455,    30.6083,   -65.3390,       4889,   502.9,  16.8992,  36.3548,2,  36.3531,2,    195.6,2,   191.5,2,    1.97,2,    7.01,2,    0.00,2,    0.37,2,   2.193,2,   1.352,2,   0.034,2,    1.06,4,  2122.8,2, 2376.74,2,   7.9385,2,       25,    -999,9,     -999,9,    -999,9,  16.9027,2,    -999,9,    -999,9,    -999,    -999,9,    -999,    0.47,2,   48.69,2,   10.62,2,  30.6052, -65.3402,    -999,     -999,    -999,  16.8151,  16.9027,2,-999,9,-999,-999,9,-999,    36.5246,2,-999,9,20120402,        638
33AT20120324,        A22,      29,          1,         24,         24,2,20120402,       0455,    30.6083,   -65.3390,       4889,   604.4,  15.3435,  36.0605,2,  36.0427,2,    175.5,2,   173.3,2,    3.70,2,   11.28,2,    0.00,2,    0.65,2,   2.129,2,   1.354,2,   0.033,2,    0.51,4,  2142.3,2, 2359.74,2,   7.8733,2,       25,    -999,9,     -999,9,    -999,9,  15.3335,2,    -999,9,    -999,9,    -999,    -999,9,    -999,    0.37,2,   47.28,2,   15.22,2,  30.6053, -65.3402,    -999,     -999,    -999,  15.2487,  15.3335,2,-999,9,-999,-999,9,-999,    36.2126,2,-999,9,20120402,        635
33AT20120324,        A22,      29,          1,         23,         23,2,20120402,       0455,    30.6083,   -65.3390,       4889,   703.9,  13.1837,  35.7157,2,  35.7236,2,    168.1,2,   165.6,2,    6.18,2,   15.29,2,    0.00,2,    0.93,2,   1.939,2,   1.165,2,   0.037,2,    0.48,4,  2156.5,2, 2344.57,2,   7.8116,2,       25,    -999,9,     -999,9,    -999,9,  13.2094,2,    -999,9,    -999,9,    -999,    -999,9,    -999,    0.40,2,   46.48,2,   18.77,2,  30.6055, -65.3402,    -999,     -999,    -999,  13.0835,  13.2094,2,-999,9,-999,-999,9,-999,    35.8920,2,-999,9,20120402,        633
33AT20120324,        A22,      29,          1,         22,         22,2,20120402,       0455,    30.6083,   -65.3390,       4889,   805.5,  10.6879,  35.3770,2,  35.3781,2,    149.1,2,   147.2,2,   10.84,2,   21.28,2,    0.00,2,    1.34,2,   1.450,2,   0.833,2,   0.026,2,    0.49,4,  2179.9,2, 2329.83,2,   7.7222,2,       25,    -999,9,     -999,9,    -999,9,  10.6302,3,    -999,9,    -999,9,    -999,    -999,9,    -999,    0.34,2,   45.53,2,   24.32,2,  30.6055, -65.3402,    -999,     -999,    -999,  10.5872,  10.6302,3,-999,9,-999,-999,9,-999,    35.5449,2,-999,9,20120402,        630
33AT20120324,        A22,      29,          1,         21,         21,2,20120402,       0455,    30.6083,   -65.3390,       4889,   907.1,   8.4588,  35.1734,2,  35.1750,2,    157.5,2,   159.4,2,   13.21,2,   22.80,2,    0.00,2,    1.47,2,   1.293,2,   0.715,2,   0.034,2,    0.44,4,  2185.7,6, 2320.61,2,   7.6856,2,       25,    -999,9,     -999,9,    -999,9,   8.4625,2,    -999,9,    -999,9,    -999,    -999,9,    -999,    0.50,2,   44.26,2,   26.34,2,  30.6055, -65.3402,    -999,     -999,    -999,   8.3596,   8.4625,2,-999,9,-999,-999,9,-999,    35.3408,2,-999,9,20120402,        627
33AT20120324,        A22,      29,          1,         20,         20,2,20120402,       0455,    30.6083,   -65.3390,       4889,  1004.1,   6.9341,  35.1014,2,  35.1011,2,    178.6,2,   182.8,2,   13.92,2,   22.06,2,    0.00,2,    1.45,2,   1.229,2,   0.673,2,   0.035,2,    0.44,4,  2182.7,2, 2318.64,2,   7.6895,6,       25,    -999,9,     -999,9,    -999,9,   6.9275,2,    -999,9,    -999,9,    -999,    -999,9,    -999,    0.65,2,   43.58,2,   25.54,2,  30.6057, -65.3401,    -999,     -999,    -999,   6.8349,   6.9275,2,-999,9,-999,-999,9,-999,    35.2666,2,-999,9,20120402,        625
33AT20120324,        A22,      29,          1,         19,         19,2,20120402,       0455,    30.6083,   -65.3390,       4889,  1109.6,   5.9381,  35.0734,2,  35.0724,2,    213.3,2,   214.2,2,   12.32,2,   19.64,2,    0.00,2,    1.30,2,   1.889,2,   1.053,2,   0.083,2,    0.45,4,  2173.8,2, 2312.13,2,   7.7044,2,       25,    -999,9,     -999,9,    -999,9,   5.9383,2,    -999,9,    -999,9,    -999,    -999,9,    -999,    1.16,2,   43.17,2,   22.26,2,  30.6058, -65.3401,    -999,     -999,    -999,   5.8360,   5.9383,2,-999,9,-999,-999,9,-999,    35.2378,2,-999,9,20120402,        622
33AT20120324,        A22,      29,          1,         18,         18,2,20120402,       0455,    30.6083,   -65.3390,       4889,  1214.7,   5.4240,  35.0807,2,  35.0811,2,    222.5,2,   223.2,2,   12.89,2,   19.51,2,    0.00,2,    1.30,2,   1.354,2,   0.727,2,   0.060,2,    0.04,4,  2171.3,2, 2316.53,2,   7.7178,2,       25,    -999,9,     -999,9,    -999,9,   5.4292,2,    -999,9,    -999,9,    -999,    -999,9,    -999,    1.00,2,   43.26,2,   22.69,2,  30.6060, -65.3400,    -999,     -999,    -999,   5.3159,   5.4292,2,-999,9,-999,-999,9,-999,    35.2465,2,-999,9,20120402,        619
33AT20120324,        A22,      29,          1,         17,         17,2,20120402,       0455,    30.6083,   -65.3390,       4889,  1310.2,   5.0251,  35.0599,2,  35.0600,2,    235.3,2,   235.0,2,   12.46,2,   18.75,2,    0.00,2,    1.24,2,   1.561,2,   0.861,2,   0.083,2,    0.38,4,    -999,9,    -999,9,     -999,9,     -999,    -999,9,     -999,9,    -999,9,   5.0319,2,    -999,9,    -999,9,    -999,    -999,9,    -999,    1.17,2,   43.31,2,   22.29,2,  30.6061, -65.3400,    -999,     -999,    -999,   4.9116,   5.0319,2,-999,9,-999,-999,9,-999,    35.2253,2,-999,9,20120402,        617
33AT20120324,        A22,      29,          1,         16,         16,2,20120402,       0455,    30.6083,   -65.3390,       4889,  1413.3,   4.7420,  35.0415,2,  35.0413,2,    244.8,2,   242.6,2,   12.43,2,   18.38,2,    0.00,2,    1.22,2,   1.688,2,   0.904,2,   0.089,2,    0.22,4,    -999,9,    -999,9,     -999,9,     -999,    -999,9,     -999,9,    -999,9,   4.7420,2,    -999,9,    -999,9,    -999,    -999,9,    -999,    1.41,2,   43.74,2,   20.73,2,  30.6062, -65.3400,    -999,     -999,    -999,   4.6216,   4.7420,2,-999,9,-999,-999,9,-999,    35.2065,2,-999,9,20120402,        614
33AT20120324,        A22,      29,          1,         15,         15,2,20120402,       0455,    30.6083,   -65.3390,       4889,  1514.4,   4.5308,  35.0359,2,  35.0360,2,    247.0,2,   246.0,2,   12.85,2,   18.34,2,    0.00,2,    1.22,2,   1.500,2,   0.782,2,   0.080,2,    0.10,4,  2163.7,2, 2310.93,2,   7.7299,2,       25,    -999,9,     -999,9,    -999,9,   4.5308,2,    -999,9,    -999,9,    -999,    -999,9,    -999,    1.29,2,   43.26,2,   20.65,2,  30.6063, -65.3399,    -999,     -999,    -999,   4.4031,   4.5308,2,-999,9,-999,-999,9,-999,    35.2012,2,-999,9,20120402,        611
33AT20120324,        A22,      29,          1,         14,         14,2,20120402,       0455,    30.6083,   -65.3390,       4889,  1615.1,   4.2962,  35.0182,2,  35.0183,2,    250.4,2,   250.4,2,   12.99,2,   18.05,2,    0.00,2,    1.21,2,   1.536,2,   0.826,2,   0.086,2,    0.00,4,    -999,9,    -999,9,     -999,9,     -999,    -999,9,     -999,9,    -999,9,   4.2972,2,    -999,9,    -999,9,    -999,    -999,9,    -999,    1.32,2,   43.78,2,   20.69,2,  30.6063, -65.3399,    -999,     -999,    -999,   4.1617,   4.2972,2,-999,9,-999,-999,9,-999,    35.1834,2,-999,9,20120402,        609
33AT20120324,        A22,      29,          1,         13,         13,2,20120402,       0455,    30.6083,   -65.3390,       4889,  1817.7,   3.9629,  34.9984,2,  34.9972,2,    254.9,2,   254.7,2,   14.13,2,   18.03,2,    0.00,2,    1.21,2,   1.256,2,   0.624,2,   0.058,2,    0.06,4,    -999,9,    -999,9,     -999,9,     -999,    -999,9,     -999,9,    -999,9,   3.9557,3,    -999,9,    -999,9,    -999,    -999,9,    -999,    1.24,2,   42.63,2,   20.74,2,  30.6062, -65.3400,    -999,     -999,    -999,   3.8134,   3.9557,3,-999,9,-999,-999,9,-999,    35.1622,2,-999,9,20120402,        604
33AT20120324,        A22,      29,          1,         12,         12,2,20120402,       0455,    30.6083,   -65.3390,       4889,  2020.7,   3.6350,  34.9723,2,  34.9720,2,    259.5,2,   258.9,2,   15.15,2,   17.94,2,    0.00,2,    1.20,2,   1.254,2,   0.661,2,   0.057,2,    0.18,4,  2159.5,2, 2309.16,3,   7.7369,2,       25,    -999,9,     -999,9,    -999,9,   3.6350,2,    -999,9,    -999,9,    -999,    -999,9,    -999,    1.42,2,   42.96,2,   20.33,2,  30.6060, -65.3401,    -999,     -999,    -999,   3.4709,   3.6350,2,-999,9,-999,-999,9,-999,    35.1369,2,-999,9,20120402,        600
33AT20120324,        A22,      29,          1,         11,         11,2,20120402,       0455,    30.6083,   -65.3390,       4889,  2273.6,   3.3909,  34.9649,2,  34.9644,2,    257.5,2,   258.1,2,   17.95,2,   18.21,2,    0.00,2,    1.22,2,   0.838,2,   0.433,2,   0.034,2,    0.14,4,    -999,9,    -999,9,     -999,9,     -999,    -999,9,     -999,9,    -999,9,   3.3912,2,    -999,9,    -999,9,    -999,    -999,9,    -999,    1.05,2,   43.21,2,   22.20,2,  30.6059, -65.3401,    -999,     -999,    -999,   3.2062,   3.3912,2,-999,9,-999,-999,9,-999,    35.1292,2,-999,9,20120402,        555
33AT20120324,        A22,      29,          1,         10,         10,2,20120402,       0455,    30.6083,   -65.3390,       4889,  2530.1,   3.1750,  34.9549,2,  34.9551,2,    257.2,2,   257.8,2,   20.61,2,   18.40,2,    0.00,2,    1.24,2,   0.617,2,   0.331,2,   0.022,2,    0.09,4,    -999,9,    -999,9,     -999,9,     -999,    -999,9,     -999,9,    -999,9,   3.1748,2,    -999,9,    -999,9,    -999,    -999,9,    -999,    0.83,2,   43.25,2,   22.46,2,  30.6059, -65.3401,    -999,     -999,    -999,   2.9688,   3.1748,2,-999,9,-999,-999,9,-999,    35.1199,2,-999,9,20120402,        550
33AT20120324,        A22,      29,          1,          9,          9,2,20120402,       0455,    30.6083,   -65.3390,       4889,  2785.5,   2.9075,  34.9383,2,  34.9380,2,    259.5,2,   260.0,2,   22.18,2,   18.37,2,    0.00,2,    1.25,2,   0.568,2,   0.293,2,   0.022,2,    0.17,4,    -999,9,    -999,9,     -999,9,     -999,    -999,9,     -999,9,    -999,9,   2.9075,2,    -999,9,    -999,9,    -999,    -999,9,    -999,    0.82,2,   42.78,2,   20.28,2,  30.6058, -65.3402,    -999,     -999,    -999,   2.6808,   2.9075,2,-999,9,-999,-999,9,-999,    35.1027,2,-999,9,20120402,        544
33AT20120324,        A22,      29,          1,          8,          8,2,20120402,       0455,    30.6083,   -65.3390,       4889,  3040.9,   2.6946,  34.9250,2,  34.9256,2,    263.0,2,   262.7,2,   22.87,2,   18.08,2,    0.00,2,    1.24,2,   0.573,2,   0.296,2,   0.024,2,    0.12,4,  2161.9,2, 2316.65,3,   7.7452,2,       25,    -999,9,     -999,9,    -999,9,   2.6947,2,    -999,9,    -999,9,    -999,    -999,9,    -999,    0.91,2,   42.68,2,   20.76,2,  30.6059, -65.3401,    -999,     -999,    -999,   2.4462,   2.6947,2,-999,9,-999,-999,9,-999,    35.0903,2,-999,9,20120402,        539
33AT20120324,        A22,      29,          1,          7,          7,2,20120402,       0455,    30.6083,   -65.3390,       4889,  3346.2,   2.4643,  34.9099,2,  34.9095,2,    265.1,2,   265.0,2,   24.74,2,   18.04,2,    0.00,2,    1.24,2,   0.669,2,   0.353,2,   0.034,2,    0.00,4,    -999,9,    -999,9,     -999,9,     -999,    -999,9,     -999,9,    -999,9,   2.4645,2,    -999,9,    -999,9,    -999,    -999,9,    -999,    0.97,2,   42.41,2,   21.25,2,  30.6060, -65.3401,    -999,     -999,    -999,   2.1892,   2.4645,2,-999,9,-999,-999,9,-999,    35.0741,2,-999,9,20120402,        533
33AT20120324,        A22,      29,          1,          6,          6,2,20120402,       0455,    30.6083,   -65.3390,       4889,  3653.2,   2.3390,  34.9005,2,  34.8998,2,    264.8,2,   264.7,2,   27.13,2,   18.22,2,    0.00,2,    1.26,2,   0.665,2,   0.359,2,   0.037,2,    0.04,4,    -999,9,    -999,9,     -999,9,     -999,    -999,9,     -999,9,    -999,9,   2.3391,2,    -999,9,    -999,9,    -999,    -999,9,    -999,    0.99,2,   43.13,2,   20.38,2,  30.6062, -65.3400,    -999,     -999,    -999,   2.0340,   2.3391,2,-999,9,-999,-999,9,-999,    35.0644,2,-999,9,20120402,        527