BOTTLE,20220725CCHSIOCBG
EXPOCODE,SECT_ID,STNNBR,CASTNO,SAMPNO,BTLNBR,BTLNBR_FLAG_W,DATE,TIME,LATITUDE,LONGITUDE,DEPTH,CTDPRS,CTDTMP,CTDSAL,CTDSAL_FLAG_W,SALNTY,SALNTY_FLAG_W,CTDOXY,CTDOXY_FLAG_W,OXYGEN,OXYGEN_FLAG_W,SILCAT,SILCAT_FLAG_W,NITRAT,NITRAT_FLAG_W,NITRIT,NITRIT_FLAG_W,PHSPHT,PHSPHT_FLAG_W,CFC-11,CFC-11_FLAG_W,CFC-12,CFC-12_FLAG_W,CFC113,CFC113_FLAG_W,SF6,SF6_FLAG_W,TCARBN,TCARBN_FLAG_W,ALKALI,ALKALI_FLAG_W,PH_TOT,PH_TOT_FLAG_W,PH_TMP,TRITUM,TRITUM_FLAG_W,HELIUM,HELIUM_FLAG_W,DELHE3,DELHE3_FLAG_W,REFTMP,REFTMP_FLAG_W,DELC13,DELC13_FLAG_W,DELC14,DELC14_FLAG_W,C14ERR,NEON,NEON_FLAG_W,NEONER,CCL4,CCL4_FLAG_W,DOC,DOC_FLAG_W,TDN,TDN_FLAG_W,BTL_LAT,BTL_LON,TRITER,HELIER,DELHER,THETA,SBE35,SBE35_FLAG_W,14C-DOC,14C-DOC_FLAG_W,14C-DOCERR,13C-DOC,13C-DOC_FLAG_W,13C-DOCERR,SALTREF,SALTREF_FLAG_W,LAB_DEN,LAB_DEN_FLAG_W,BTL_DATE,BTL_TIME
,,,,,,,,,,,METERS,DBAR,ITS-90,PSS-78,,PSS-78,,UMOL/KG,,UMOL/KG,,UMOL/KG,,UMOL/KG,,UMOL/KG,,UMOL/KG,,PMOL/KG,,PMOL/KG,,PMOL/KG,,FMOL/KG,,UMOL/KG,,UMOL/KG,,,,DEG C,TU,,NMOL/KG,,PERCNT,,DEG C,,/MILLE,,/MILLE,,/MILLE,NMOL/KG,,NMOL/KG,PMOL/KG,,UMOL/KG,,UMOL/KG,,,,TU,NMOL/KG,PERCNT,DEG C,ITS-90,,/MILLE,,/MILLE,/MILLE,,/MILLE,G/KG,,KG/M^3,,,
33AT20120324,        A22,      42,          1,          5,          5,2,20120406,       1213,    21.5222,   -65.9259,       5456,  4364.7,   2.2797,  34.8890,2,  34.8879,2,    264.8,2,   265.3,2,   32.00,2,   18.87,2,    0.00,2,    1.30,2,   0.749,2,   0.365,2,   0.041,2,    0.15,2,    -999,9,    -999,9,     -999,9,     -999,    -999,9,     -999,9,    -999,9,   2.2796,2,    -999,9,    -999,9,    -999,    -999,9,    -999,    -999,1,    -999,9,    -999,9,  21.5212, -65.9254,    -999,     -999,    -999,   1.8953,   2.2796,2,-999,9,-999,-999,9,-999,    35.0524,2,-999,9,20120406,       1237
33AT20120324,        A22,      42,          1,          4,          4,2,20120406,       1213,    21.5222,   -65.9259,       5456,  4674.8,   2.2592,  34.8833,2,  34.8816,2,    262.1,2,   261.9,2,   35.40,2,   19.41,2,    0.00,2,    1.34,2,   0.629,2,   0.303,2,   0.034,2,    0.16,2,    -999,9,    -999,9,     -999,9,     -999,    -999,9,     -999,9,    -999,9,   2.2590,2,    -999,9,    -999,9,    -999,    -999,9,    -999,    -999,1,    -999,9,    -999,9,  21.5215, -65.9255,    -999,     -999,    -999,   1.8382,   2.2590,2,-999,9,-999,-999,9,-999,    35.0460,2,-999,9,20120406,       1231
33AT20120324,        A22,      42,          1,          3,          3,2,20120406,       1213,    21.5222,   -65.9259,       5456,  4973.4,   2.2052,  34.8727,2,  34.8717,2,    257.8,2,   258.4,2,   41.45,2,   20.41,2,    0.00,2,    1.41,2,   0.486,2,   0.224,2,   0.028,2,    0.12,2,  2187.7,2, 2339.12,2,   7.7307,2,       25,    -999,9,     -999,9,    -999,9,   2.2050,2,    -999,9,    -999,9,    -999,    -999,9,    -999,    -999,1,    -999,9,    -999,9,  21.5217, -65.9256,    -999,     -999,    -999,   1.7491,   2.2050,2,-999,9,-999,-999,9,-999,    35.0362,2,-999,9,20120406,       1225
33AT20120324,        A22,      42,          1,          2,          2,2,20120406,       1213,    21.5222,   -65.9259,       5456,  5282.9,   2.1206,  34.8577,2,  34.8562,2,    252.3,2,   252.3,2,   49.68,2,   21.74,2,    0.00,2,    1.49,2,   0.259,2,   0.129,2,   0.016,2,    0.05,2,  2195.7,2, 2341.05,6,   7.7225,6,       25,    -999,9,     -999,9,    -999,9,   2.1200,2,    -999,9,    -999,9,    -999,    -999,9,    -999,    -999,1,    -999,9,    -999,9,  21.5220, -65.9257,    -999,     -999,    -999,   1.6282,   2.1200,2,-999,9,-999,-999,9,-999,    35.0206,2,-999,9,20120406,       1219
33AT20120324,        A22,      42,          1,          1,          1,2,20120406,       1213,    21.5222,   -65.9259,       5456,  5524.1,   1.9891,  34.8376,2,  34.8373,2,    246.0,2,   246.4,2,   59.23,2,   23.15,2,    0.00,2,    1.59,2,   0.207,2,   0.094,2,   0.013,2,    0.05,2,  2205.8,6, 2347.23,2,   7.7105,2,       25,    -999,9,     -999,9,    -999,9,   1.9907,2,    -999,9,    -999,9,    -999,    -999,9,    -999,    -999,1,    -999,9,    -999,9,  21.5222, -65.9259,    -999,     -999,    -999,   1.4703,   1.9907,2,-999,9,-999,-999,9,-999,    35.0016,2,-999,9,20120406,       1214