BOTTLE,20220725CCHSIOCBG
EXPOCODE,SECT_ID,STNNBR,CASTNO,SAMPNO,BTLNBR,BTLNBR_FLAG_W,DATE,TIME,LATITUDE,LONGITUDE,DEPTH,CTDPRS,CTDTMP,CTDSAL,CTDSAL_FLAG_W,SALNTY,SALNTY_FLAG_W,CTDOXY,CTDOXY_FLAG_W,OXYGEN,OXYGEN_FLAG_W,SILCAT,SILCAT_FLAG_W,NITRAT,NITRAT_FLAG_W,NITRIT,NITRIT_FLAG_W,PHSPHT,PHSPHT_FLAG_W,CFC-11,CFC-11_FLAG_W,CFC-12,CFC-12_FLAG_W,CFC113,CFC113_FLAG_W,SF6,SF6_FLAG_W,TCARBN,TCARBN_FLAG_W,ALKALI,ALKALI_FLAG_W,PH_TOT,PH_TOT_FLAG_W,PH_TMP,TRITUM,TRITUM_FLAG_W,HELIUM,HELIUM_FLAG_W,DELHE3,DELHE3_FLAG_W,REFTMP,REFTMP_FLAG_W,DELC13,DELC13_FLAG_W,DELC14,DELC14_FLAG_W,C14ERR,NEON,NEON_FLAG_W,NEONER,CCL4,CCL4_FLAG_W,DOC,DOC_FLAG_W,TDN,TDN_FLAG_W,BTL_LAT,BTL_LON,TRITER,HELIER,DELHER,THETA,SBE35,SBE35_FLAG_W,14C-DOC,14C-DOC_FLAG_W,14C-DOCERR,13C-DOC,13C-DOC_FLAG_W,13C-DOCERR,SALTREF,SALTREF_FLAG_W,LAB_DEN,LAB_DEN_FLAG_W,BTL_DATE,BTL_TIME
,,,,,,,,,,,METERS,DBAR,ITS-90,PSS-78,,PSS-78,,UMOL/KG,,UMOL/KG,,UMOL/KG,,UMOL/KG,,UMOL/KG,,UMOL/KG,,PMOL/KG,,PMOL/KG,,PMOL/KG,,FMOL/KG,,UMOL/KG,,UMOL/KG,,,,DEG C,TU,,NMOL/KG,,PERCNT,,DEG C,,/MILLE,,/MILLE,,/MILLE,NMOL/KG,,NMOL/KG,PMOL/KG,,UMOL/KG,,UMOL/KG,,,,TU,NMOL/KG,PERCNT,DEG C,ITS-90,,/MILLE,,/MILLE,/MILLE,,/MILLE,G/KG,,KG/M^3,,,
33AT20120324,        A22,      68,          1,          5,          5,2,20120411,       2249,    15.5752,   -68.8948,       4011,  3034.6,   4.1681,  34.9747,2,  34.9744,2,    216.1,2,   216.5,2,   28.40,2,   22.00,2,    0.00,2,    1.49,2,   0.104,2,   0.041,2,   0.006,2,    0.10,2,    -999,9,    -999,9,     -999,9,     -999,    -999,9,     -999,9,    -999,9,   4.1680,2,    -999,9,    -999,9,    -999,    -999,9,    -999,    -999,1,    -999,9,    -999,9,  15.5750, -68.8949,    -999,     -999,    -999,   3.8883,   4.1680,2,-999,9,-999,-999,9,-999,    35.1393,2,-999,9,20120412,       2311
33AT20120324,        A22,      68,          1,          4,          4,2,20120411,       2249,    15.5752,   -68.8948,       4011,  3291.7,   4.1937,  34.9747,2,  34.9751,2,    216.6,2,   216.9,2,   28.35,2,   21.98,2,    0.00,2,    1.49,2,   0.106,2,   0.043,2,   0.007,2,    0.11,2,    -999,9,    -999,9,     -999,9,     -999,   0.000,2,   1.8473,2,    0.66,2,   4.1937,2,    -999,9,    -999,9,    -999,   7.988,2,   0.036,    -999,1,    -999,9,    -999,9,  15.5750, -68.8949,   0.009,   0.0074,    0.15,   3.8838,   4.1937,2,-999,9,-999,-999,9,-999,    35.1401,2,-999,9,20120412,       2306
33AT20120324,        A22,      68,          1,          3,          3,2,20120411,       2249,    15.5752,   -68.8948,       4011,  3546.5,   4.2193,  34.9750,2,  34.9747,2,    217.1,2,   217.0,2,   28.51,2,   21.91,2,    0.00,2,    1.49,2,   0.131,2,   0.046,2,   0.007,2,    0.10,2,  2196.3,2, 2339.39,2,   7.7121,6,       25,    -999,9,     -999,9,    -999,9,   4.2193,2,    -999,9,    -999,9,    -999,    -999,9,    -999,    -999,1,    -999,9,    -999,9,  15.5750, -68.8949,    -999,     -999,    -999,   3.8788,   4.2193,2,-999,9,-999,-999,9,-999,    35.1396,2,-999,9,20120412,       2301
33AT20120324,        A22,      68,          1,          2,          2,2,20120411,       2249,    15.5752,   -68.8948,       4011,  3801.4,   4.2496,  34.9750,2,  34.9763,2,    218.2,2,   218.4,2,   28.23,2,   21.83,2,    0.00,2,    1.48,2,   0.173,2,   0.070,2,   0.009,2,    0.10,2,  2195.6,2, 2340.04,2,   7.7131,2,       25,    -999,9,     -999,9,    -999,9,   4.2493,2,    -999,9,    -999,9,    -999,    -999,9,    -999,    -999,1,    -999,9,    -999,9,  15.5751, -68.8949,    -999,     -999,    -999,   3.8774,   4.2493,2,-999,9,-999,-999,9,-999,    35.1412,2,-999,9,20120412,       2255
33AT20120324,        A22,      68,          1,          1,          1,2,20120411,       2249,    15.5752,   -68.8948,       4011,  4059.3,   4.2823,  34.9748,2,  34.9760,2,    218.4,2,   218.4,2,   28.05,2,   21.76,2,    0.00,2,    1.48,2,   0.210,2,   0.088,2,   0.014,2,    0.17,2,  2196.7,6, 2337.27,6,   7.7139,2,       25,   0.031,2,   1.8468,2,    1.24,2,   4.2827,2,    -999,9,    -999,9,    -999,   8.044,2,   0.036,    -999,1,    -999,9,    -999,9,  15.5752, -68.8948,   0.009,   0.0074,    0.15,   3.8771,   4.2827,2,-999,9,-999,-999,9,-999,    35.1410,2,-999,9,20120412,       2250