BOTTLE,20220725CCHSIOCBG
EXPOCODE,SECT_ID,STNNBR,CASTNO,SAMPNO,BTLNBR,BTLNBR_FLAG_W,DATE,TIME,LATITUDE,LONGITUDE,DEPTH,CTDPRS,CTDTMP,CTDSAL,CTDSAL_FLAG_W,SALNTY,SALNTY_FLAG_W,CTDOXY,CTDOXY_FLAG_W,OXYGEN,OXYGEN_FLAG_W,SILCAT,SILCAT_FLAG_W,NITRAT,NITRAT_FLAG_W,NITRIT,NITRIT_FLAG_W,PHSPHT,PHSPHT_FLAG_W,CFC-11,CFC-11_FLAG_W,CFC-12,CFC-12_FLAG_W,CFC113,CFC113_FLAG_W,SF6,SF6_FLAG_W,TCARBN,TCARBN_FLAG_W,ALKALI,ALKALI_FLAG_W,PH_TOT,PH_TOT_FLAG_W,PH_TMP,TRITUM,TRITUM_FLAG_W,HELIUM,HELIUM_FLAG_W,DELHE3,DELHE3_FLAG_W,REFTMP,REFTMP_FLAG_W,DELC13,DELC13_FLAG_W,DELC14,DELC14_FLAG_W,C14ERR,NEON,NEON_FLAG_W,NEONER,CCL4,CCL4_FLAG_W,DOC,DOC_FLAG_W,TDN,TDN_FLAG_W,BTL_LAT,BTL_LON,TRITER,HELIER,DELHER,THETA,SBE35,SBE35_FLAG_W,14C-DOC,14C-DOC_FLAG_W,14C-DOCERR,13C-DOC,13C-DOC_FLAG_W,13C-DOCERR,SALTREF,SALTREF_FLAG_W,LAB_DEN,LAB_DEN_FLAG_W,BTL_DATE,BTL_TIME
,,,,,,,,,,,METERS,DBAR,ITS-90,PSS-78,,PSS-78,,UMOL/KG,,UMOL/KG,,UMOL/KG,,UMOL/KG,,UMOL/KG,,UMOL/KG,,PMOL/KG,,PMOL/KG,,PMOL/KG,,FMOL/KG,,UMOL/KG,,UMOL/KG,,,,DEG C,TU,,NMOL/KG,,PERCNT,,DEG C,,/MILLE,,/MILLE,,/MILLE,NMOL/KG,,NMOL/KG,PMOL/KG,,UMOL/KG,,UMOL/KG,,,,TU,NMOL/KG,PERCNT,DEG C,ITS-90,,/MILLE,,/MILLE,/MILLE,,/MILLE,G/KG,,KG/M^3,,,
33AT20120324,        A22,      26,          1,          5,          5,2,20120401,       0550,    32.6475,   -64.9289,       3982,  3039.4,   2.6214,  34.9196,2,  34.9184,2,    265.3,2,   265.6,2,   23.00,2,   18.05,2,    0.00,2,    1.22,2,    -999,9,    -999,9,    -999,9,    -999,9,    -999,9,    -999,9,     -999,9,     -999,    -999,9,     -999,9,    -999,9,   2.6216,2,    -999,9,    -999,9,    -999,    -999,9,    -999,    -999,9,   42.62,2,   20.66,2,  32.6469, -64.9276,    -999,     -999,    -999,   2.3748,   2.6216,2,-999,9,-999,-999,9,-999,    35.0831,2,-999,9,20120401,        611
33AT20120324,        A22,      26,          1,          4,          4,2,20120401,       0550,    32.6475,   -64.9289,       3982,  3296.1,   2.3861,  34.9044,2,  34.9035,2,    266.1,2,   266.3,2,   25.81,2,   18.17,2,    0.00,2,    1.23,2,   0.904,2,   0.427,2,   0.044,2,    0.18,2,  2166.2,2, 2323.36,2,   7.7408,2,       25,   0.227,2,   1.8518,2,    5.57,2,   2.3864,2,    -999,9,    -999,9,    -999,   8.002,2,   0.036,    -999,1,   42.20,2,   20.80,2,  32.6471, -64.9281,   0.009,   0.0074,    0.15,   2.1182,   2.3864,2,-999,9,-999,-999,9,-999,    35.0681,2,-999,9,20120401,        606
33AT20120324,        A22,      26,          1,          3,          3,2,20120401,       0550,    32.6475,   -64.9289,       3982,  3551.9,   2.2689,  34.8948,2,  34.8935,2,    264.9,2,   265.3,2,   28.94,2,   18.50,2,    0.00,2,    1.26,2,   0.903,2,   0.428,2,   0.047,2,    0.18,2,    -999,9,    -999,9,     -999,9,     -999,    -999,9,     -999,9,    -999,9,   2.2691,2,    -999,9,    -999,9,    -999,    -999,9,    -999,    -999,1,   42.30,2,   22.38,2,  32.6473, -64.9284,    -999,     -999,    -999,   1.9767,   2.2691,2,-999,9,-999,-999,9,-999,    35.0580,2,-999,9,20120401,        601
33AT20120324,        A22,      26,          1,          2,          2,2,20120401,       0550,    32.6475,   -64.9289,       3982,  3807.4,   2.2078,  34.8878,2,  34.8866,2,    263.1,2,   263.3,2,   32.29,2,   18.97,2,    0.00,2,    1.29,2,   0.857,2,   0.411,2,   0.044,2,    0.17,2,  2175.7,2, 2330.54,2,   7.7377,2,       25,   0.180,2,   1.8909,2,    5.05,2,   2.2077,2,    -999,9,    -999,9,    -999,   8.299,2,   0.037,    -999,1,   42.41,2,   22.04,2,  32.6474, -64.9287,   0.009,   0.0076,    0.15,   1.8893,   2.2077,2,-999,9,-999,-999,9,-999,    35.0511,2,-999,9,20120401,        555
33AT20120324,        A22,      26,          1,          1,          1,2,20120401,       0550,    32.6475,   -64.9289,       3982,  4046.5,   2.1962,  34.8838,2,  34.8835,2,    261.6,2,   261.7,2,   34.27,2,   19.29,2,    0.00,2,    1.31,2,   0.810,2,   0.379,2,   0.043,2,    0.16,2,  2180.2,6, 2331.40,6,   7.7360,6,       25,    -999,9,     -999,9,    -999,9,   2.1959,2,    -999,9,    -999,9,    -999,    -999,9,    -999,    -999,1,   42.16,2,   22.87,2,  32.6475, -64.9289,    -999,     -999,    -999,   1.8512,   2.1959,2,-999,9,-999,-999,9,-999,    35.0480,2,-999,9,20120401,        551