BOTTLE,20220725CCHSIOCBG
EXPOCODE,SECT_ID,STNNBR,CASTNO,SAMPNO,BTLNBR,BTLNBR_FLAG_W,DATE,TIME,LATITUDE,LONGITUDE,DEPTH,CTDPRS,CTDTMP,CTDSAL,CTDSAL_FLAG_W,SALNTY,SALNTY_FLAG_W,CTDOXY,CTDOXY_FLAG_W,OXYGEN,OXYGEN_FLAG_W,SILCAT,SILCAT_FLAG_W,NITRAT,NITRAT_FLAG_W,NITRIT,NITRIT_FLAG_W,PHSPHT,PHSPHT_FLAG_W,CFC-11,CFC-11_FLAG_W,CFC-12,CFC-12_FLAG_W,CFC113,CFC113_FLAG_W,SF6,SF6_FLAG_W,TCARBN,TCARBN_FLAG_W,ALKALI,ALKALI_FLAG_W,PH_TOT,PH_TOT_FLAG_W,PH_TMP,TRITUM,TRITUM_FLAG_W,HELIUM,HELIUM_FLAG_W,DELHE3,DELHE3_FLAG_W,REFTMP,REFTMP_FLAG_W,DELC13,DELC13_FLAG_W,DELC14,DELC14_FLAG_W,C14ERR,NEON,NEON_FLAG_W,NEONER,CCL4,CCL4_FLAG_W,DOC,DOC_FLAG_W,TDN,TDN_FLAG_W,BTL_LAT,BTL_LON,TRITER,HELIER,DELHER,THETA,SBE35,SBE35_FLAG_W,14C-DOC,14C-DOC_FLAG_W,14C-DOCERR,13C-DOC,13C-DOC_FLAG_W,13C-DOCERR,SALTREF,SALTREF_FLAG_W,LAB_DEN,LAB_DEN_FLAG_W,BTL_DATE,BTL_TIME
,,,,,,,,,,,METERS,DBAR,ITS-90,PSS-78,,PSS-78,,UMOL/KG,,UMOL/KG,,UMOL/KG,,UMOL/KG,,UMOL/KG,,UMOL/KG,,PMOL/KG,,PMOL/KG,,PMOL/KG,,FMOL/KG,,UMOL/KG,,UMOL/KG,,,,DEG C,TU,,NMOL/KG,,PERCNT,,DEG C,,/MILLE,,/MILLE,,/MILLE,NMOL/KG,,NMOL/KG,PMOL/KG,,UMOL/KG,,UMOL/KG,,,,TU,NMOL/KG,PERCNT,DEG C,ITS-90,,/MILLE,,/MILLE,/MILLE,,/MILLE,G/KG,,KG/M^3,,,
33AT20120324,        A22,      46,          1,          5,          5,2,20120407,       1453,    19.6897,   -65.9947,       7420,  4330.5,   2.2709,  34.8883,2,  34.8883,2,    263.8,2,   265.2,3,   31.81,2,   18.84,2,    0.00,2,    1.29,2,   0.827,2,   0.383,2,   0.041,2,    0.19,2,  2177.4,2, 2326.03,2,   7.7346,6,       25,    -999,9,     -999,9,    -999,9,   2.2711,2,    -999,9,    -999,9,    -999,    -999,9,    -999,    -999,1,    -999,9,    -999,9,  19.6897, -65.9948,    -999,     -999,    -999,   1.8908,   2.2711,2,-999,9,-999,-999,9,-999,    35.0528,2,-999,9,20120407,       1526
33AT20120324,        A22,      46,          1,          4,          4,2,20120407,       1453,    19.6897,   -65.9947,       7420,  4740.6,   2.2521,  34.8814,2,  34.8808,2,    261.1,2,   261.2,2,   35.94,2,   19.51,2,    0.00,2,    1.34,2,   0.686,2,    -999,5,   0.040,2,    0.15,2,    -999,9,    -999,9,     -999,9,     -999,    -999,9,     -999,9,    -999,9,   2.2520,2,    -999,9,    -999,9,    -999,    -999,9,    -999,    -999,1,    -999,9,    -999,9,  19.6897, -65.9948,    -999,     -999,    -999,   1.8233,   2.2520,2,-999,9,-999,-999,9,-999,    35.0453,2,-999,9,20120407,       1518
33AT20120324,        A22,      46,          1,          3,          3,2,20120407,       1453,    19.6897,   -65.9947,       7420,  5151.2,   2.1715,  34.8659,2,  34.8655,2,    255.2,2,   254.9,2,   44.94,2,   21.04,2,    0.00,2,    1.44,2,   0.368,2,   0.168,2,   0.021,2,    0.07,2,    -999,9,    -999,9,     -999,9,     -999,    -999,9,     -999,9,    -999,9,   2.1714,2,    -999,9,    -999,9,    -999,    -999,9,    -999,    -999,1,    -999,9,    -999,9,  19.6897, -65.9948,    -999,     -999,    -999,   1.6941,   2.1714,2,-999,9,-999,-999,9,-999,    35.0299,2,-999,9,20120407,       1511
33AT20120324,        A22,      46,          1,          2,          2,2,20120407,       1453,    19.6897,   -65.9947,       7420,  5614.9,   2.0101,  34.8385,2,  34.8375,2,    246.6,2,   246.6,2,   58.64,2,   23.15,2,    0.00,2,    1.59,2,   0.176,2,   0.080,2,   0.012,2,    0.05,2,  2204.9,2, 2347.34,6,   7.7079,2,       25,    -999,9,     -999,9,    -999,9,   2.0101,2,    -999,9,    -999,9,    -999,    -999,9,    -999,    -999,1,    -999,9,    -999,9,  19.6897, -65.9948,    -999,     -999,    -999,   1.4786,   2.0101,2,-999,9,-999,-999,9,-999,    35.0018,2,-999,9,20120407,       1502
33AT20120324,        A22,      46,          1,          1,          1,2,20120407,       1453,    19.6897,   -65.9947,       7420,  6119.0,   2.0267,  34.8318,2,  34.8332,2,    244.3,2,   244.8,2,   61.52,2,   23.62,2,    0.00,2,    1.63,2,   0.145,2,   0.065,2,   0.008,2,    0.05,2,  2208.6,6, 2348.26,2,   7.7054,2,       25,    -999,9,     -999,9,    -999,9,   2.0262,2,    -999,9,    -999,9,    -999,    -999,9,    -999,    -999,1,    -999,9,    -999,9,  19.6897, -65.9947,    -999,     -999,    -999,   1.4267,   2.0262,2,-999,9,-999,-999,9,-999,    34.9974,2,-999,9,20120407,       1453