BOTTLE,20220725CCHSIOCBG
EXPOCODE,SECT_ID,STNNBR,CASTNO,SAMPNO,BTLNBR,BTLNBR_FLAG_W,DATE,TIME,LATITUDE,LONGITUDE,DEPTH,CTDPRS,CTDTMP,CTDSAL,CTDSAL_FLAG_W,SALNTY,SALNTY_FLAG_W,CTDOXY,CTDOXY_FLAG_W,OXYGEN,OXYGEN_FLAG_W,SILCAT,SILCAT_FLAG_W,NITRAT,NITRAT_FLAG_W,NITRIT,NITRIT_FLAG_W,PHSPHT,PHSPHT_FLAG_W,CFC-11,CFC-11_FLAG_W,CFC-12,CFC-12_FLAG_W,CFC113,CFC113_FLAG_W,SF6,SF6_FLAG_W,TCARBN,TCARBN_FLAG_W,ALKALI,ALKALI_FLAG_W,PH_TOT,PH_TOT_FLAG_W,PH_TMP,TRITUM,TRITUM_FLAG_W,HELIUM,HELIUM_FLAG_W,DELHE3,DELHE3_FLAG_W,REFTMP,REFTMP_FLAG_W,DELC13,DELC13_FLAG_W,DELC14,DELC14_FLAG_W,C14ERR,NEON,NEON_FLAG_W,NEONER,CCL4,CCL4_FLAG_W,DOC,DOC_FLAG_W,TDN,TDN_FLAG_W,BTL_LAT,BTL_LON,TRITER,HELIER,DELHER,THETA,SBE35,SBE35_FLAG_W,14C-DOC,14C-DOC_FLAG_W,14C-DOCERR,13C-DOC,13C-DOC_FLAG_W,13C-DOCERR,SALTREF,SALTREF_FLAG_W,LAB_DEN,LAB_DEN_FLAG_W,BTL_DATE,BTL_TIME
,,,,,,,,,,,METERS,DBAR,ITS-90,PSS-78,,PSS-78,,UMOL/KG,,UMOL/KG,,UMOL/KG,,UMOL/KG,,UMOL/KG,,UMOL/KG,,PMOL/KG,,PMOL/KG,,PMOL/KG,,FMOL/KG,,UMOL/KG,,UMOL/KG,,,,DEG C,TU,,NMOL/KG,,PERCNT,,DEG C,,/MILLE,,/MILLE,,/MILLE,NMOL/KG,,NMOL/KG,PMOL/KG,,UMOL/KG,,UMOL/KG,,,,TU,NMOL/KG,PERCNT,DEG C,ITS-90,,/MILLE,,/MILLE,/MILLE,,/MILLE,G/KG,,KG/M^3,,,
33AT20120324,        A22,      10,          1,         36,         36,2,20120327,       1106,    38.5597,   -69.0260,       3502,    17.0,  15.3993,  35.5346,2,  35.5352,2,    186.8,4,   249.5,2,    0.07,2,    0.86,2,    0.08,2,    0.12,2,   2.646,2,   1.551,2,   0.205,2,    1.78,2,  2065.7,6, 2348.69,2,   8.0073,6,       25,    -999,9,     -999,9,    -999,9,  15.4001,2,    -999,9,    -999,9,    -999,    -999,9,    -999,    -999,1,    -999,9,    -999,9,  38.5598, -69.0250,    -999,     -999,    -999,  15.3967,  15.4001,2,-999,9,-999,-999,9,-999,    35.7028,2,-999,9,20120327,       1303
33AT20120324,        A22,      10,          1,         35,         35,2,20120327,       1106,    38.5597,   -69.0260,       3502,    25.9,  15.4123,  35.5351,2,  35.5360,2,    248.4,4,   250.3,2,    0.13,2,    0.85,2,    0.08,2,    0.11,2,    -999,9,    -999,9,    -999,9,    -999,9,  2065.3,2, 2347.28,6,   8.0109,2,       25,    -999,9,     -999,9,    -999,9,  15.4127,2,    -999,9,    -999,9,    -999,    -999,9,    -999,    -999,9,    -999,9,    -999,9,  38.5596, -69.0252,    -999,     -999,    -999,  15.4083,  15.4127,2,-999,9,-999,-999,9,-999,    35.7036,2,-999,9,20120327,       1301
33AT20120324,        A22,      10,          1,         34,         34,2,20120327,       1106,    38.5597,   -69.0260,       3502,    47.4,  14.9036,  35.4631,2,  35.4964,2,    247.1,3,   246.5,2,    0.49,2,    1.62,2,    0.13,2,    0.17,2,   2.679,2,   1.579,2,   0.217,2,    -999,5,  2072.1,2, 2345.23,2,     -999,9,     -999,    -999,9,     -999,9,    -999,9,  14.9442,2,    -999,9,    -999,9,    -999,    -999,9,    -999,    -999,1,    -999,9,    -999,9,  38.5596, -69.0254,    -999,     -999,    -999,  14.8965,  14.9442,2,-999,9,-999,-999,9,-999,    35.6638,2,-999,9,20120327,       1259
33AT20120324,        A22,      10,          1,         33,         33,2,20120327,       1106,    38.5597,   -69.0260,       3502,    70.7,  14.1118,  35.4951,2,  35.4903,2,    206.1,2,   207.0,2,    3.77,2,    8.52,2,    0.05,2,    0.56,2,   2.553,2,   1.471,2,   0.145,2,    1.48,2,  2119.1,2, 2340.55,2,   7.8859,2,       25,    -999,9,     -999,9,    -999,9,  14.1094,2,    -999,9,    -999,9,    -999,    -999,9,    -999,    -999,1,    -999,9,    -999,9,  38.5594, -69.0258,    -999,     -999,    -999,  14.1015,  14.1094,2,-999,9,-999,-999,9,-999,    35.6577,2,-999,9,20120327,       1257
33AT20120324,        A22,      10,          1,         32,         32,2,20120327,       1106,    38.5597,   -69.0260,       3502,    98.1,  14.1787,  35.6876,2,  35.6737,2,    176.0,2,   178.5,2,    5.52,2,   12.09,2,    0.03,2,    0.75,2,   2.292,2,   1.321,2,   0.105,2,    1.11,2,  2142.7,2, 2347.40,6,   7.8883,3,       25,    -999,9,     -999,9,    -999,9,  14.1892,2,    -999,9,    -999,9,    -999,    -999,9,    -999,    -999,1,    -999,9,    -999,9,  38.5593, -69.0260,    -999,     -999,    -999,  14.1644,  14.1892,2,-999,9,-999,-999,9,-999,    35.8419,2,-999,9,20120327,       1255
33AT20120324,        A22,      10,          1,         31,         31,2,20120327,       1106,    38.5597,   -69.0260,       3502,   121.4,  13.3372,  35.6766,2,  35.6844,2,    148.7,2,   147.7,2,    7.83,2,   16.90,2,    0.02,2,    1.03,2,   2.003,2,   1.115,2,   0.040,2,    0.82,2,  2169.1,2, 2340.83,2,   7.7874,2,       25,    -999,9,     -999,9,    -999,9,  13.2686,3,    -999,9,    -999,9,    -999,    -999,9,    -999,    -999,1,    -999,9,    -999,9,  38.5591, -69.0264,    -999,     -999,    -999,  13.3202,  13.2686,3,-999,9,-999,-999,9,-999,    35.8527,2,-999,9,20120327,       1253
33AT20120324,        A22,      10,          1,         30,         30,2,20120327,       1106,    38.5597,   -69.0260,       3502,   141.8,  12.4802,  35.5881,2,  35.5929,2,    139.2,2,   139.7,2,    9.11,2,   19.33,2,    0.02,2,    1.20,2,   1.880,2,   1.004,2,   0.026,2,    0.71,2,  2180.3,2, 2339.02,4,   7.7507,2,       25,    -999,9,     -999,9,    -999,9,  12.4317,3,    -999,9,    -999,9,    -999,    -999,9,    -999,    -999,1,    -999,9,    -999,9,  38.5590, -69.0269,    -999,     -999,    -999,  12.4611,  12.4317,3,-999,9,-999,-999,9,-999,    35.7607,2,-999,9,20120327,       1248
33AT20120324,        A22,      10,          1,         29,         29,2,20120327,       1106,    38.5597,   -69.0260,       3502,   166.0,  11.2271,  35.4187,2,  35.4323,2,    133.0,2,   133.1,2,   11.25,2,   22.11,2,    0.01,2,    1.39,2,    -999,9,    -999,9,    -999,9,    -999,9,  2188.7,6, 2330.52,2,   7.7148,2,       25,    -999,9,     -999,9,    -999,9,  11.1887,3,    -999,9,    -999,9,    -999,    -999,9,    -999,    -999,9,    -999,9,    -999,9,  38.5589, -69.0270,    -999,     -999,    -999,  11.2063,  11.1887,3,-999,9,-999,-999,9,-999,    35.5994,2,-999,9,20120327,       1247
33AT20120324,        A22,      10,          1,         28,         28,2,20120327,       1106,    38.5597,   -69.0260,       3502,   190.1,  10.3032,  35.3144,2,  35.3218,2,    133.9,2,   133.9,2,   12.83,2,   23.52,2,    0.01,2,    1.48,2,   1.334,2,   0.711,2,   0.008,2,    -999,5,    -999,9,    -999,9,     -999,9,     -999,    -999,9,     -999,9,    -999,9,  10.3157,2,    -999,9,    -999,9,    -999,    -999,9,    -999,    -999,1,    -999,9,    -999,9,  38.5589, -69.0270,    -999,     -999,    -999,  10.2806,  10.3157,2,-999,9,-999,-999,9,-999,    35.4883,2,-999,9,20120327,       1245
33AT20120324,        A22,      10,          1,         27,         27,2,20120327,       1106,    38.5597,   -69.0260,       3502,   235.8,   9.5207,  35.2295,2,  35.2304,2,    137.0,2,   137.0,2,   14.19,2,   24.47,2,    0.01,2,    1.56,2,   1.260,2,   0.672,2,   0.020,2,    0.53,2,  2196.6,2, 2319.86,2,   7.6746,2,       25,    -999,9,     -999,9,    -999,9,   9.5176,2,    -999,9,    -999,9,    -999,    -999,9,    -999,    -999,1,    -999,9,    -999,9,  38.5588, -69.0272,    -999,     -999,    -999,   9.4940,   9.5176,2,-999,9,-999,-999,9,-999,    35.3965,2,-999,9,20120327,       1244
33AT20120324,        A22,      10,          1,         26,         26,2,20120327,       1106,    38.5597,   -69.0260,       3502,   289.9,   8.4117,  35.1325,2,  35.1356,2,    148.2,2,   146.9,2,   15.34,2,   24.90,2,    0.01,2,    1.60,2,   1.062,2,   0.547,2,   0.007,2,    -999,5,    -999,9,    -999,9,     -999,9,     -999,    -999,9,     -999,9,    -999,9,   8.4112,2,    -999,9,    -999,9,    -999,    -999,9,    -999,    -999,1,    -999,9,    -999,9,  38.5586, -69.0276,    -999,     -999,    -999,   8.3812,   8.4112,2,-999,9,-999,-999,9,-999,    35.3013,2,-999,9,20120327,       1242
33AT20120324,        A22,      10,          1,         25,         25,2,20120327,       1106,    38.5597,   -69.0260,       3502,   337.8,   7.2835,  35.0880,2,  35.0886,2,    170.3,2,   172.5,2,   14.49,2,   23.05,2,    0.01,2,    1.51,2,   1.418,2,   0.744,2,   0.029,2,    0.31,2,  2190.0,2, 2316.87,2,   7.6733,2,       25,    -999,9,     -999,9,    -999,9,   7.2855,2,    -999,9,    -999,9,    -999,    -999,9,    -999,    -999,1,    -999,9,    -999,9,  38.5586, -69.0276,    -999,     -999,    -999,   7.2508,   7.2855,2,-999,9,-999,-999,9,-999,    35.2541,2,-999,9,20120327,       1239
33AT20120324,        A22,      10,          1,         24,         24,2,20120327,       1106,    38.5597,   -69.0260,       3502,   391.2,   6.5023,  35.0630,2,  35.0660,2,    196.2,2,   193.7,2,   13.50,2,   21.50,2,    0.00,2,    1.41,2,   2.008,2,   0.929,2,   0.070,2,    0.60,2,    -999,9,    -999,9,     -999,9,     -999,    -999,9,     -999,9,    -999,9,   6.5165,2,    -999,9,    -999,9,    -999,    -999,9,    -999,    -999,1,    -999,9,    -999,9,  38.5585, -69.0278,    -999,     -999,    -999,   6.4666,   6.5165,2,-999,9,-999,-999,9,-999,    35.2314,2,-999,9,20120327,       1237
33AT20120324,        A22,      10,          1,         23,         23,2,20120327,       1106,    38.5597,   -69.0260,       3502,   437.7,   5.9734,  35.0485,2,  35.0499,2,    208.7,2,   208.2,2,   13.10,2,   20.58,2,    0.00,2,    1.35,2,   2.098,2,   1.074,2,   0.079,2,    -999,5,  2180.3,2, 2310.35,2,   7.6941,2,       25,    -999,9,     -999,9,    -999,9,   5.9544,2,    -999,9,    -999,9,    -999,    -999,9,    -999,    -999,1,    -999,9,    -999,9,  38.5585, -69.0278,    -999,     -999,    -999,   5.9350,   5.9544,2,-999,9,-999,-999,9,-999,    35.2152,2,-999,9,20120327,       1235
33AT20120324,        A22,      10,          1,         22,         22,2,20120327,       1106,    38.5597,   -69.0260,       3502,   489.9,   5.5056,  35.0381,2,  35.0399,2,    225.3,2,   222.2,2,   12.62,2,   19.61,2,    0.00,2,    1.29,2,   2.225,2,   1.158,2,   0.101,2,    0.61,2,  2176.8,2, 2310.18,2,   7.7029,2,       25,    -999,9,     -999,9,    -999,9,   5.5055,2,    -999,9,    -999,9,    -999,    -999,9,    -999,    -999,1,    -999,9,    -999,9,  38.5585, -69.0278,    -999,     -999,    -999,   5.4643,   5.5055,2,-999,9,-999,-999,9,-999,    35.2051,2,-999,9,20120327,       1233
33AT20120324,        A22,      10,          1,         21,         21,2,20120327,       1106,    38.5597,   -69.0260,       3502,   567.4,   5.1530,  35.0244,2,  35.0265,2,    234.0,2,   233.4,2,   12.20,2,   18.98,2,    0.00,2,    1.25,2,    -999,9,    -999,9,    -999,9,    -999,9,  2173.7,2, 2312.64,2,   7.7121,2,       25,    -999,9,     -999,9,    -999,9,   5.1498,2,    -999,9,    -999,9,    -999,    -999,9,    -999,    -999,9,    -999,9,    -999,9,  38.5585, -69.0279,    -999,     -999,    -999,   5.1063,   5.1498,2,-999,9,-999,-999,9,-999,    35.1917,2,-999,9,20120327,       1230
33AT20120324,        A22,      10,          1,         20,         20,2,20120327,       1106,    38.5597,   -69.0260,       3502,   671.3,   4.8920,  35.0173,2,  35.0185,2,    241.5,2,   240.9,2,   11.96,2,   18.56,2,    0.00,2,    1.23,2,   2.479,2,   1.282,2,   0.116,2,    0.64,2,    -999,9,    -999,9,     -999,9,     -999,    -999,9,     -999,9,    -999,9,   4.8919,2,    -999,9,    -999,9,    -999,    -999,9,    -999,    -999,1,    -999,9,    -999,9,  38.5585, -69.0279,    -999,     -999,    -999,   4.8377,   4.8919,2,-999,9,-999,-999,9,-999,    35.1836,2,-999,9,20120327,       1227
33AT20120324,        A22,      10,          1,         19,         19,2,20120327,       1106,    38.5597,   -69.0260,       3502,   773.3,   4.6695,  35.0129,2,  35.0148,2,    246.6,2,   247.2,2,   11.90,2,   18.20,2,    0.00,2,    1.21,2,   2.510,2,   1.279,2,   0.134,2,    0.60,2,  2169.2,2, 2310.71,2,   7.7198,2,       25,    -999,9,     -999,9,    -999,9,   4.6702,2,    -999,9,    -999,9,    -999,    -999,9,    -999,    -999,1,    -999,9,    -999,9,  38.5584, -69.0280,    -999,     -999,    -999,   4.6076,   4.6702,2,-999,9,-999,-999,9,-999,    35.1799,2,-999,9,20120327,       1225
33AT20120324,        A22,      10,          1,         18,         18,2,20120327,       1106,    38.5597,   -69.0260,       3502,   871.9,   4.4316,  34.9974,2,  34.9993,2,    251.9,2,   253.5,2,   11.83,2,   18.07,2,    0.00,2,    1.20,2,   2.467,2,   1.258,2,   0.136,2,    0.61,2,    -999,9,    -999,9,     -999,9,     -999,    -999,9,     -999,9,    -999,9,   4.4319,2,    -999,9,    -999,9,    -999,    -999,9,    -999,    -999,1,    -999,9,    -999,9,  38.5583, -69.0282,    -999,     -999,    -999,   4.3628,   4.4319,2,-999,9,-999,-999,9,-999,    35.1643,2,-999,9,20120327,       1218
33AT20120324,        A22,      10,          1,         17,         17,2,20120327,       1106,    38.5597,   -69.0260,       3502,   976.6,   4.1979,  34.9717,2,  34.9735,2,    258.3,2,   258.5,2,   11.77,2,   17.66,2,    0.00,2,    1.17,2,   2.666,2,   1.377,2,   0.153,2,    0.76,2,  2166.5,2, 2308.19,2,   7.7211,2,       25,    -999,9,     -999,9,    -999,9,   4.1970,2,    -999,9,    -999,9,    -999,    -999,9,    -999,    -999,1,    -999,9,    -999,9,  38.5584, -69.0281,    -999,     -999,    -999,   4.1219,   4.1970,2,-999,9,-999,-999,9,-999,    35.1384,2,-999,9,20120327,       1215
33AT20120324,        A22,      10,          1,         16,         16,2,20120327,       1106,    38.5597,   -69.0260,       3502,  1073.3,   4.1156,  34.9693,2,  34.9702,2,    260.2,2,   259.3,2,   12.10,2,   17.71,2,    0.00,2,    1.17,2,   2.534,2,   1.326,2,   0.131,2,    0.68,2,    -999,9,    -999,9,     -999,9,     -999,    -999,9,     -999,9,    -999,9,   4.1167,2,    -999,9,    -999,9,    -999,    -999,9,    -999,    -999,1,    -999,9,    -999,9,  38.5584, -69.0280,    -999,     -999,    -999,   4.0320,   4.1167,2,-999,9,-999,-999,9,-999,    35.1351,2,-999,9,20120327,       1212
33AT20120324,        A22,      10,          1,         15,         15,2,20120327,       1106,    38.5597,   -69.0260,       3502,  1177.2,   4.0355,  34.9702,2,  34.9738,2,    260.6,2,   260.6,2,   12.32,2,   17.72,2,    0.00,2,    1.18,2,   2.336,2,   1.207,2,   0.126,2,    0.53,2,  2169.6,3, 2309.07,2,   7.7249,2,       25,    -999,9,     -999,9,    -999,9,   4.0349,2,    -999,9,    -999,9,    -999,    -999,9,    -999,    -999,1,    -999,9,    -999,9,  38.5584, -69.0280,    -999,     -999,    -999,   3.9436,   4.0349,2,-999,9,-999,-999,9,-999,    35.1387,2,-999,9,20120327,       1209
33AT20120324,        A22,      10,          1,         14,         14,2,20120327,       1106,    38.5597,   -69.0260,       3502,  1280.8,   3.9134,  34.9641,2,  34.9638,2,    262.2,2,   262.6,2,   12.48,2,   17.65,2,    0.00,2,    1.19,2,   2.272,2,   1.131,2,   0.121,2,    0.47,2,    -999,9,    -999,9,     -999,9,     -999,    -999,9,     -999,9,    -999,9,   3.9147,2,    -999,9,    -999,9,    -999,    -999,9,    -999,    -999,1,    -999,9,    -999,9,  38.5585, -69.0279,    -999,     -999,    -999,   3.8137,   3.9147,2,-999,9,-999,-999,9,-999,    35.1286,2,-999,9,20120327,       1206
33AT20120324,        A22,      10,          1,         13,         13,2,20120327,       1106,    38.5597,   -69.0260,       3502,  1381.3,   3.8051,  34.9593,2,  34.9601,2,    263.5,2,   264.7,2,   12.70,2,   17.59,2,    0.00,2,    1.17,2,    -999,9,    -999,9,    -999,9,    -999,9,    -999,9,    -999,9,     -999,9,     -999,    -999,9,     -999,9,    -999,9,   3.8059,2,    -999,9,    -999,9,    -999,    -999,9,    -999,    -999,9,    -999,9,    -999,9,  38.5586, -69.0279,    -999,     -999,    -999,   3.6977,   3.8059,2,-999,9,-999,-999,9,-999,    35.1249,2,-999,9,20120327,       1203
33AT20120324,        A22,      10,          1,         12,         12,2,20120327,       1106,    38.5597,   -69.0260,       3502,  1479.7,   3.7227,  34.9567,2,  34.9584,2,    264.8,2,   264.4,2,   13.07,2,   17.61,2,    0.00,2,    1.17,2,   1.985,2,   1.001,2,   0.086,2,    0.34,2,  2168.4,3, 2307.39,2,   7.7327,2,       25,    -999,9,     -999,9,    -999,9,   3.7228,2,    -999,9,    -999,9,    -999,    -999,9,    -999,    -999,1,    -999,9,    -999,9,  38.5587, -69.0277,    -999,     -999,    -999,   3.6075,   3.7228,2,-999,9,-999,-999,9,-999,    35.1232,2,-999,9,20120327,       1200
33AT20120324,        A22,      10,          1,         11,         11,2,20120327,       1106,    38.5597,   -69.0260,       3502,  1580.3,   3.6543,  34.9536,2,  34.9565,2,    265.4,2,   265.4,2,   13.43,2,   17.58,2,    0.00,2,    1.17,2,   1.921,2,    -999,5,   0.083,2,    0.34,2,    -999,9,    -999,9,     -999,9,     -999,    -999,9,     -999,9,    -999,9,   3.6541,2,    -999,9,    -999,9,    -999,    -999,9,    -999,    -999,1,    -999,9,    -999,9,  38.5588, -69.0275,    -999,     -999,    -999,   3.5309,   3.6541,2,-999,9,-999,-999,9,-999,    35.1213,2,-999,9,20120327,       1158
33AT20120324,        A22,      10,          1,         10,         10,2,20120327,       1106,    38.5597,   -69.0260,       3502,  1685.1,   3.5690,  34.9498,2,  34.9526,2,    266.2,2,   265.9,2,   13.92,2,   17.59,2,    0.00,2,    1.18,2,   1.893,2,   0.899,2,   0.083,2,    0.32,2,  2163.4,2, 2311.63,3,   7.7324,2,       25,    -999,9,     -999,9,    -999,9,   3.5693,2,    -999,9,    -999,9,    -999,    -999,9,    -999,    -999,1,    -999,9,    -999,9,  38.5588, -69.0275,    -999,     -999,    -999,   3.4372,   3.5693,2,-999,9,-999,-999,9,-999,    35.1174,2,-999,9,20120327,       1154
33AT20120324,        A22,      10,          1,          9,          9,2,20120327,       1106,    38.5597,   -69.0260,       3502,  1785.7,   3.4914,  34.9459,2,  34.9495,2,    267.4,2,   267.4,2,   14.20,2,   17.57,2,    0.00,2,    1.17,2,   1.850,2,   0.882,2,   0.084,2,    0.38,2,    -999,9,    -999,9,     -999,9,     -999,    -999,9,     -999,9,    -999,9,   3.4917,2,    -999,9,    -999,9,    -999,    -999,9,    -999,    -999,1,    -999,9,    -999,9,  38.5590, -69.0271,    -999,     -999,    -999,   3.3514,   3.4917,2,-999,9,-999,-999,9,-999,    35.1143,2,-999,9,20120327,       1152
33AT20120324,        A22,      10,          1,          8,          8,2,20120327,       1106,    38.5597,   -69.0260,       3502,  1959.1,   3.3723,  34.9462,2,  34.9487,2,    267.5,2,   266.9,2,   15.39,2,   17.58,2,    0.00,2,    1.18,2,   1.586,2,   0.756,2,   0.058,2,    0.25,2,  2161.1,2, 2310.16,2,   7.7369,2,       25,    -999,9,     -999,9,    -999,9,   3.3731,2,    -999,9,    -999,9,    -999,    -999,9,    -999,    -999,1,    -999,9,    -999,9,  38.5592, -69.0268,    -999,     -999,    -999,   3.2180,   3.3731,2,-999,9,-999,-999,9,-999,    35.1135,2,-999,9,20120327,       1148
33AT20120324,        A22,      10,          1,          7,          7,2,20120327,       1106,    38.5597,   -69.0260,       3502,  2162.6,   3.2135,  34.9413,2,  34.9425,2,    267.8,2,   267.9,2,   16.48,2,   17.58,2,    0.00,2,    1.18,2,    -999,9,    -999,9,    -999,9,    -999,9,    -999,9,    -999,9,     -999,9,     -999,    -999,9,     -999,9,    -999,9,   3.2144,2,    -999,9,    -999,9,    -999,    -999,9,    -999,    -999,9,    -999,9,    -999,9,  38.5592, -69.0268,    -999,     -999,    -999,   3.0425,   3.2144,2,-999,9,-999,-999,9,-999,    35.1073,2,-999,9,20120327,       1143
33AT20120324,        A22,      10,          1,          6,          6,2,20120327,       1106,    38.5597,   -69.0260,       3502,  2366.6,   3.0623,  34.9382,2,  34.9301,4,    267.6,2,   267.9,2,   18.88,2,   17.50,2,    0.00,2,    1.18,2,   1.373,2,   0.656,2,   0.056,2,    0.28,2,  2162.5,2, 2314.87,2,   7.7400,2,       25,    -999,9,     -999,9,    -999,9,   3.0621,2,    -999,9,    -999,9,    -999,    -999,9,    -999,    -999,1,    -999,9,    -999,9,  38.5590, -69.0271,    -999,     -999,    -999,   2.8742,   3.0621,2,-999,9,-999,-999,9,-999,    35.0949,4,-999,9,20120327,       1138