BOTTLE,20220725CCHSIOCBG
EXPOCODE,SECT_ID,STNNBR,CASTNO,SAMPNO,BTLNBR,BTLNBR_FLAG_W,DATE,TIME,LATITUDE,LONGITUDE,DEPTH,CTDPRS,CTDTMP,CTDSAL,CTDSAL_FLAG_W,SALNTY,SALNTY_FLAG_W,CTDOXY,CTDOXY_FLAG_W,OXYGEN,OXYGEN_FLAG_W,SILCAT,SILCAT_FLAG_W,NITRAT,NITRAT_FLAG_W,NITRIT,NITRIT_FLAG_W,PHSPHT,PHSPHT_FLAG_W,CFC-11,CFC-11_FLAG_W,CFC-12,CFC-12_FLAG_W,CFC113,CFC113_FLAG_W,SF6,SF6_FLAG_W,TCARBN,TCARBN_FLAG_W,ALKALI,ALKALI_FLAG_W,PH_TOT,PH_TOT_FLAG_W,PH_TMP,TRITUM,TRITUM_FLAG_W,HELIUM,HELIUM_FLAG_W,DELHE3,DELHE3_FLAG_W,REFTMP,REFTMP_FLAG_W,DELC13,DELC13_FLAG_W,DELC14,DELC14_FLAG_W,C14ERR,NEON,NEON_FLAG_W,NEONER,CCL4,CCL4_FLAG_W,DOC,DOC_FLAG_W,TDN,TDN_FLAG_W,BTL_LAT,BTL_LON,TRITER,HELIER,DELHER,THETA,SBE35,SBE35_FLAG_W,14C-DOC,14C-DOC_FLAG_W,14C-DOCERR,13C-DOC,13C-DOC_FLAG_W,13C-DOCERR,SALTREF,SALTREF_FLAG_W,LAB_DEN,LAB_DEN_FLAG_W,BTL_DATE,BTL_TIME
,,,,,,,,,,,METERS,DBAR,ITS-90,PSS-78,,PSS-78,,UMOL/KG,,UMOL/KG,,UMOL/KG,,UMOL/KG,,UMOL/KG,,UMOL/KG,,PMOL/KG,,PMOL/KG,,PMOL/KG,,FMOL/KG,,UMOL/KG,,UMOL/KG,,,,DEG C,TU,,NMOL/KG,,PERCNT,,DEG C,,/MILLE,,/MILLE,,/MILLE,NMOL/KG,,NMOL/KG,PMOL/KG,,UMOL/KG,,UMOL/KG,,,,TU,NMOL/KG,PERCNT,DEG C,ITS-90,,/MILLE,,/MILLE,/MILLE,,/MILLE,G/KG,,KG/M^3,,,
33AT20120324,        A22,      64,          1,         36,         36,2,20120410,       1822,    17.0720,   -66.4716,       4754,     3.1,  27.3933,  35.7283,2,  35.7296,2,    199.6,2,   201.9,2,    1.43,2,    0.00,2,    0.00,2,    0.00,2,   1.633,2,   1.034,2,   0.136,2,    1.18,2,  1998.7,6, 2342.55,2,   8.1071,2,       25,    -999,9,     -999,9,    -999,9,  27.3961,2,    -999,9,    -999,9,    -999,    -999,9,    -999,    -999,1,    -999,9,    -999,9,  17.0751, -66.4704,    -999,     -999,    -999,  27.3926,  27.3961,2,-999,9,-999,-999,9,-999,    35.8981,2,-999,9,20120410,       2021
33AT20120324,        A22,      64,          1,         35,         35,2,20120410,       1822,    17.0720,   -66.4716,       4754,    20.7,  27.1437,  35.7486,2,  35.7462,2,    202.9,2,   202.2,2,    1.46,2,    0.00,2,    0.00,2,    0.00,2,   1.638,2,   1.035,2,   0.136,2,    1.20,2,    -999,9,    -999,9,     -999,9,     -999,    -999,9,     -999,9,    -999,9,  27.1327,2,    -999,9,    -999,9,    -999,    -999,9,    -999,    -999,1,    -999,9,    -999,9,  17.0750, -66.4704,    -999,     -999,    -999,  27.1389,  27.1327,2,-999,9,-999,-999,9,-999,    35.9147,2,-999,9,20120410,       2019
33AT20120324,        A22,      64,          1,         34,         34,2,20120410,       1822,    17.0720,   -66.4716,       4754,    50.7,  26.5820,  35.7749,2,  35.7884,2,    206.6,2,   205.6,2,    1.65,2,    0.00,2,    0.00,2,    0.00,2,   1.858,2,   1.062,2,   0.140,2,    1.20,2,  1996.9,2, 2346.45,6,   8.1142,6,       25,    -999,9,     -999,9,    -999,9,  26.5814,2,    -999,9,    -999,9,    -999,    -999,9,    -999,    -999,1,    -999,9,    -999,9,  17.0750, -66.4704,    -999,     -999,    -999,  26.5705,  26.5814,2,-999,9,-999,-999,9,-999,    35.9572,2,-999,9,20120410,       2017
33AT20120324,        A22,      64,          1,         33,         33,2,20120410,       1822,    17.0720,   -66.4716,       4754,    65.6,  26.5478,  35.8151,2,  35.8380,2,    205.8,2,   205.5,2,    1.57,2,    0.00,2,    0.00,2,    0.00,2,   1.861,2,   1.056,2,   0.136,2,    1.17,2,  1999.8,2, 2351.85,2,   8.1129,2,       25,    -999,9,     -999,9,    -999,9,  26.5471,2,    -999,9,    -999,9,    -999,    -999,9,    -999,    -999,1,    -999,9,    -999,9,  17.0750, -66.4704,    -999,     -999,    -999,  26.5329,  26.5471,2,-999,9,-999,-999,9,-999,    36.0070,2,-999,9,20120410,       2015
33AT20120324,        A22,      64,          1,         32,         32,2,20120410,       1822,    17.0720,   -66.4716,       4754,    90.6,  26.1461,  36.7098,2,  36.7371,2,    190.0,2,   187.1,2,    0.72,2,    0.00,2,    0.00,2,    0.00,2,   1.750,2,   1.011,2,   0.124,2,    1.18,2,  2068.8,2, 2405.59,2,   8.0728,2,       25,    -999,9,     -999,9,    -999,9,  26.1483,2,    -999,9,    -999,9,    -999,    -999,9,    -999,    -999,1,    -999,9,    -999,9,  17.0750, -66.4704,    -999,     -999,    -999,  26.1257,  26.1483,2,-999,9,-999,-999,9,-999,    36.9103,2,-999,9,20120410,       2014
33AT20120324,        A22,      64,          1,         31,         31,2,20120410,       1822,    17.0720,   -66.4716,       4754,   135.4,  23.3156,  37.0225,2,  37.0243,2,    163.8,2,   162.8,2,    0.92,2,    2.85,2,    0.05,2,    0.14,2,   1.894,2,   1.186,2,   0.067,2,    1.12,2,    -999,9,    -999,9,     -999,9,     -999,    -999,9,     -999,9,    -999,9,  23.3187,2,    -999,9,    -999,9,    -999,    -999,9,    -999,    -999,1,    -999,9,    -999,9,  17.0751, -66.4704,    -999,     -999,    -999,  23.2874,  23.3187,2,-999,9,-999,-999,9,-999,    37.1989,2,-999,9,20120410,       2010
33AT20120324,        A22,      64,          1,         30,         30,2,20120410,       1822,    17.0720,   -66.4716,       4754,   185.5,  20.3468,  36.7568,2,  36.7613,2,    148.0,2,   149.1,2,    1.86,2,    6.48,2,    0.01,2,    0.34,2,   2.084,2,   1.268,2,   0.018,2,    1.10,2,  2152.3,2, 2401.87,2,   7.9249,2,       25,    -999,9,     -999,9,    -999,9,  20.3475,2,    -999,9,    -999,9,    -999,    -999,9,    -999,    -999,1,    -999,9,    -999,9,  17.0753, -66.4703,    -999,     -999,    -999,  20.3117,  20.3475,2,-999,9,-999,-999,9,-999,    36.9346,2,-999,9,20120410,       2007
33AT20120324,        A22,      64,          1,         29,         29,2,20120410,       1822,    17.0720,   -66.4716,       4754,   236.1,  18.1011,  36.4608,2,  36.4455,2,    146.9,2,   150.2,2,    2.90,2,    9.57,2,    0.01,2,    0.54,2,   2.197,2,   1.313,2,   0.018,2,    1.00,2,    -999,9,    -999,9,     -999,9,     -999,    -999,9,     -999,9,    -999,9,  18.1001,2,    -999,9,    -999,9,    -999,    -999,9,    -999,    -999,1,    -999,9,    -999,9,  17.0752, -66.4703,    -999,     -999,    -999,  18.0600,  18.1001,2,-999,9,-999,-999,9,-999,    36.6174,2,-999,9,20120410,       2005
33AT20120324,        A22,      64,          1,         28,         28,2,20120410,       1822,    17.0720,   -66.4716,       4754,   286.0,  16.3274,  36.1488,2,  36.1270,2,    141.2,2,   144.1,2,    4.48,2,   13.13,2,    0.01,2,    0.78,2,   2.212,2,   1.279,2,   0.014,2,    0.90,2,  2164.6,2, 2364.98,2,   7.8368,6,       25,    -999,9,     -999,9,    -999,9,  16.3154,2,    -999,9,    -999,9,    -999,    -999,9,    -999,    -999,1,    -999,9,    -999,9,  17.0750, -66.4704,    -999,     -999,    -999,  16.2810,  16.3154,2,-999,9,-999,-999,9,-999,    36.2973,2,-999,9,20120410,       2003
33AT20120324,        A22,      64,          1,         27,         27,2,20120410,       1822,    17.0720,   -66.4716,       4754,   336.6,  14.9685,  35.9685,2,  35.9524,2,    147.8,2,   148.5,2,    5.71,2,   14.70,2,    0.01,2,    0.89,2,   2.106,2,   1.204,2,   0.017,2,    0.85,2,  2163.6,2, 2356.03,2,   7.8190,2,       25,    -999,9,     -999,9,    -999,9,  14.9699,2,    -999,9,    -999,9,    -999,    -999,9,    -999,    -999,1,    -999,9,    -999,9,  17.0749, -66.4705,    -999,     -999,    -999,  14.9170,  14.9699,2,-999,9,-999,-999,9,-999,    36.1219,2,-999,9,20120410,       2001
33AT20120324,        A22,      64,          1,         26,         26,2,20120410,       1822,    17.0720,   -66.4716,       4754,   387.2,  13.1653,  35.6345,2,  35.6273,2,    133.5,2,   133.9,2,    7.94,2,   19.24,2,    0.00,2,    1.19,2,   1.965,2,    -999,5,   0.015,2,    0.62,2,  2180.2,2, 2339.66,2,   7.7495,2,       25,    -999,9,     -999,9,    -999,9,  13.1581,2,    -999,9,    -999,9,    -999,    -999,9,    -999,    -999,1,    -999,9,    -999,9,  17.0748, -66.4705,    -999,     -999,    -999,  13.1109,  13.1581,2,-999,9,-999,-999,9,-999,    35.7953,2,-999,9,20120410,       2000
33AT20120324,        A22,      64,          1,         25,         25,2,20120410,       1822,    17.0720,   -66.4716,       4754,   437.4,  11.9931,  35.4764,2,  35.4811,2,    130.6,2,   130.8,2,    9.96,2,   21.52,2,    0.00,2,    1.34,2,   1.720,2,   0.935,2,   0.012,2,    0.51,2,  2186.4,2, 2332.77,2,   7.7201,2,       25,    -999,9,     -999,9,    -999,9,  11.9901,2,    -999,9,    -999,9,    -999,    -999,9,    -999,    -999,1,    -999,9,    -999,9,  17.0748, -66.4705,    -999,     -999,    -999,  11.9352,  11.9901,2,-999,9,-999,-999,9,-999,    35.6484,2,-999,9,20120410,       1958
33AT20120324,        A22,      64,          1,         24,         24,2,20120410,       1822,    17.0720,   -66.4716,       4754,   487.7,  10.6958,  35.2709,2,  35.2701,2,    125.9,2,   126.4,2,   12.36,2,   24.41,2,    0.00,2,    1.54,2,   1.487,2,   0.789,2,   0.016,2,    0.41,2,  2192.7,2, 2323.47,2,   7.6768,2,       25,    -999,9,     -999,9,    -999,9,  10.6904,2,    -999,9,    -999,9,    -999,    -999,9,    -999,    -999,1,    -999,9,    -999,9,  17.0747, -66.4705,    -999,     -999,    -999,  10.6357,  10.6904,2,-999,9,-999,-999,9,-999,    35.4364,2,-999,9,20120410,       1956
33AT20120324,        A22,      64,          1,         23,         23,2,20120410,       1822,    17.0720,   -66.4716,       4754,   566.6,   9.1131,  35.0481,2,  35.0460,2,    124.9,2,   123.5,2,   15.80,2,   27.73,2,    0.00,2,    1.77,2,   1.129,2,   0.584,2,   0.018,2,    0.31,2,  2202.2,2, 2314.81,2,   7.6306,2,       25,    -999,9,     -999,9,    -999,9,   9.1271,2,    -999,9,    -999,9,    -999,    -999,9,    -999,    -999,1,    -999,9,    -999,9,  17.0746, -66.4706,    -999,     -999,    -999,   9.0497,   9.1271,2,-999,9,-999,-999,9,-999,    35.2113,2,-999,9,20120410,       1954
33AT20120324,        A22,      64,          1,         22,         22,2,20120410,       1822,    17.0720,   -66.4716,       4754,   669.4,   7.4383,  34.8434,2,  34.8428,2,    126.4,2,   146.8,4,   20.33,2,   30.76,2,    0.00,2,    2.00,2,   0.685,2,   0.343,2,   0.009,2,    0.25,2,  2210.2,6, 2306.23,2,   7.5895,2,       25,    -999,9,     -999,9,    -999,9,   7.4370,2,    -999,9,    -999,9,    -999,    -999,9,    -999,    -999,1,    -999,9,    -999,9,  17.0746, -66.4706,    -999,     -999,    -999,   7.3714,   7.4370,2,-999,9,-999,-999,9,-999,    35.0071,2,-999,9,20120410,       1951
33AT20120324,        A22,      64,          1,         21,         21,2,20120410,       1822,    17.0720,   -66.4716,       4754,   770.2,   6.6303,  34.8057,2,  34.7965,2,    133.9,2,   132.9,2,   22.96,2,   31.25,2,    0.00,2,    2.06,2,   0.430,2,   0.203,2,   0.010,2,    0.13,2,  2212.3,2, 2308.23,2,   7.5867,2,       25,    -999,9,     -999,9,    -999,9,   6.6039,2,    -999,9,    -999,9,    -999,    -999,9,    -999,    -999,1,    -999,9,    -999,9,  17.0745, -66.4706,    -999,     -999,    -999,   6.5575,   6.6039,2,-999,9,-999,-999,9,-999,    34.9606,2,-999,9,20120410,       1949
33AT20120324,        A22,      64,          1,         20,         20,2,20120410,       1822,    17.0720,   -66.4716,       4754,   869.9,   5.9646,  34.8212,2,  34.8192,2,    145.8,2,   315.1,4,   24.12,2,   30.09,2,    0.00,2,    1.99,2,   0.286,2,   0.129,2,   0.007,2,    0.11,2,  2210.3,2, 2313.06,2,   7.6022,2,       25,    -999,9,     -999,9,    -999,9,   5.9646,2,    -999,9,    -999,9,    -999,    -999,9,    -999,    -999,1,    -999,9,    -999,9,  17.0743, -66.4707,    -999,     -999,    -999,   5.8861,   5.9646,2,-999,9,-999,-999,9,-999,    34.9833,2,-999,9,20120410,       1946
33AT20120324,        A22,      64,          1,         19,         19,2,20120410,       1822,    17.0720,   -66.4716,       4754,   972.0,   5.4934,  34.8870,2,  34.8874,2,    163.1,2,   165.6,2,   24.28,2,   27.53,2,    0.00,2,    1.84,2,   0.217,2,   0.102,2,   0.009,2,    0.06,2,  2205.0,2, 2318.94,2,   7.6356,2,       25,    -999,9,     -999,9,    -999,9,   5.4896,2,    -999,9,    -999,9,    -999,    -999,9,    -999,    -999,1,    -999,9,    -999,9,  17.0742, -66.4707,    -999,     -999,    -999,   5.4084,   5.4896,2,-999,9,-999,-999,9,-999,    35.0519,2,-999,9,20120410,       1943
33AT20120324,        A22,      64,          1,         18,         18,2,20120410,       1822,    17.0720,   -66.4716,       4754,  1072.7,   5.1289,  34.9423,2,  34.9419,2,    184.5,2,   184.9,2,   23.71,2,   25.11,2,    0.00,2,    1.69,2,   0.223,2,   0.110,2,   0.012,2,    0.07,2,  2196.8,2, 2323.86,2,   7.6671,2,       25,    -999,9,     -999,9,    -999,9,   5.1274,2,    -999,9,    -999,9,    -999,    -999,9,    -999,    -999,1,    -999,9,    -999,9,  17.0742, -66.4707,    -999,     -999,    -999,   5.0372,   5.1274,2,-999,9,-999,-999,9,-999,    35.1066,2,-999,9,20120410,       1941
33AT20120324,        A22,      64,          1,         17,         17,2,20120410,       1822,    17.0720,   -66.4716,       4754,  1173.8,   4.7635,  34.9547,2,  34.9541,2,    195.2,2,   195.0,2,   24.43,2,   24.00,2,    0.00,2,    1.63,2,   0.193,2,   0.091,2,   0.008,2,    0.07,2,  2194.1,2, 2326.49,2,   7.6794,2,       25,    -999,9,     -999,9,    -999,9,   4.7607,2,    -999,9,    -999,9,    -999,    -999,9,    -999,    -999,1,    -999,9,    -999,9,  17.0741, -66.4707,    -999,     -999,    -999,   4.6655,   4.7607,2,-999,9,-999,-999,9,-999,    35.1189,2,-999,9,20120410,       1938
33AT20120324,        A22,      64,          1,         16,         16,2,20120410,       1822,    17.0720,   -66.4716,       4754,  1274.6,   4.5556,  34.9629,2,  34.9623,2,    202.3,2,   202.1,2,   24.59,2,   23.32,2,    0.00,2,    1.58,2,   0.178,2,   0.083,2,   0.015,2,    0.07,2,    -999,9,    -999,9,     -999,9,     -999,    -999,9,     -999,9,    -999,9,   4.5587,2,    -999,9,    -999,9,    -999,    -999,9,    -999,    -999,1,    -999,9,    -999,9,  17.0740, -66.4708,    -999,     -999,    -999,   4.4502,   4.5587,2,-999,9,-999,-999,9,-999,    35.1272,2,-999,9,20120410,       1935
33AT20120324,        A22,      64,          1,         15,         15,2,20120410,       1822,    17.0720,   -66.4716,       4754,  1375.8,   4.4249,  34.9666,2,  34.9664,2,    205.6,2,   205.4,2,   25.08,2,   22.99,2,    0.00,2,    1.56,2,   0.142,2,   0.068,2,   0.007,2,    0.07,2,    -999,9,    -999,9,     -999,9,     -999,    -999,9,     -999,9,    -999,9,   4.4244,2,    -999,9,    -999,9,    -999,    -999,9,    -999,    -999,1,    -999,9,    -999,9,  17.0740, -66.4708,    -999,     -999,    -999,   4.3115,   4.4244,2,-999,9,-999,-999,9,-999,    35.1313,2,-999,9,20120410,       1933
33AT20120324,        A22,      64,          1,         14,         14,2,20120410,       1822,    17.0720,   -66.4716,       4754,  1477.9,   4.3389,  34.9692,2,  34.9698,2,    208.0,2,   207.9,2,   25.57,2,   22.76,2,    0.00,2,    1.54,2,   0.142,2,   0.069,2,   0.009,2,    0.08,2,  2191.7,2, 2330.38,2,   7.6968,2,       25,    -999,9,     -999,9,    -999,9,   4.3384,2,    -999,9,    -999,9,    -999,    -999,9,    -999,    -999,1,    -999,9,    -999,9,  17.0739, -66.4708,    -999,     -999,    -999,   4.2169,   4.3384,2,-999,9,-999,-999,9,-999,    35.1347,2,-999,9,20120410,       1930
33AT20120324,        A22,      64,          1,         13,         13,2,20120410,       1822,    17.0720,   -66.4716,       4754,  1578.1,   4.2701,  34.9704,2,  34.9699,2,    210.2,2,   209.8,2,   26.12,2,   22.55,2,    0.00,2,    1.53,2,   0.170,2,   0.077,2,   0.011,2,    0.08,2,    -999,9,    -999,9,     -999,9,     -999,    -999,9,     -999,9,    -999,9,   4.2702,2,    -999,9,    -999,9,    -999,    -999,9,    -999,    -999,1,    -999,9,    -999,9,  17.0739, -66.4708,    -999,     -999,    -999,   4.1395,   4.2702,2,-999,9,-999,-999,9,-999,    35.1348,2,-999,9,20120410,       1928
33AT20120324,        A22,      64,          1,         12,         12,2,20120410,       1822,    17.0720,   -66.4716,       4754,  1752.5,   4.1841,  34.9725,2,  34.9721,2,    212.8,2,   213.4,2,   26.70,2,   22.30,2,    0.00,2,    1.51,2,   0.163,2,   0.074,2,   0.012,2,    0.12,2,    -999,9,    -999,9,     -999,9,     -999,    -999,9,     -999,9,    -999,9,   4.1842,2,    -999,9,    -999,9,    -999,    -999,9,    -999,    -999,1,    -999,9,    -999,9,  17.0739, -66.4708,    -999,     -999,    -999,   4.0380,   4.1842,2,-999,9,-999,-999,9,-999,    35.1370,2,-999,9,20120410,       1924
33AT20120324,        A22,      64,          1,         11,         11,2,20120410,       1822,    17.0720,   -66.4716,       4754,  1954.6,   4.1437,  34.9734,2,  34.9733,2,    214.0,2,   214.1,2,   26.99,2,   22.15,2,    0.00,2,    1.50,2,   0.145,2,   0.073,2,   0.009,2,    0.13,2,    -999,9,    -999,9,     -999,9,     -999,    -999,9,     -999,9,    -999,9,   4.1438,2,    -999,9,    -999,9,    -999,    -999,9,    -999,    -999,1,    -999,9,    -999,9,  17.0737, -66.4709,    -999,     -999,    -999,   3.9785,   4.1438,2,-999,9,-999,-999,9,-999,    35.1382,2,-999,9,20120410,       1920
33AT20120324,        A22,      64,          1,         10,         10,2,20120410,       1822,    17.0720,   -66.4716,       4754,  2187.5,   4.1239,  34.9741,2,  34.9754,2,    214.6,2,   215.1,2,   27.41,2,   22.08,2,    0.00,2,    1.49,2,   0.113,2,   0.056,2,   0.007,2,    0.17,2,  2193.8,2, 2335.90,2,   7.7076,2,       25,    -999,9,     -999,9,    -999,9,   4.1241,2,    -999,9,    -999,9,    -999,    -999,9,    -999,    -999,1,    -999,9,    -999,9,  17.0735, -66.4710,    -999,     -999,    -999,   3.9357,   4.1241,2,-999,9,-999,-999,9,-999,    35.1404,2,-999,9,20120410,       1915
33AT20120324,        A22,      64,          1,          9,          9,2,20120410,       1822,    17.0720,   -66.4716,       4754,  2441.0,   4.1270,  34.9745,2,  34.9746,2,    214.6,2,   214.8,2,   27.82,2,   22.07,2,    0.00,2,    1.50,2,   0.087,2,   0.052,2,   0.007,2,    0.21,2,    -999,9,    -999,9,     -999,9,     -999,    -999,9,     -999,9,    -999,9,   4.1270,2,    -999,9,    -999,9,    -999,    -999,9,    -999,    -999,1,    -999,9,    -999,9,  17.0733, -66.4711,    -999,     -999,    -999,   3.9126,   4.1270,2,-999,9,-999,-999,9,-999,    35.1396,2,-999,9,20120410,       1909
33AT20120324,        A22,      64,          1,          8,          8,2,20120410,       1822,    17.0720,   -66.4716,       4754,  2695.8,   4.1424,  34.9747,2,  34.9744,2,    214.5,2,   214.6,2,   28.28,2,   22.06,2,    0.00,2,    1.49,2,   0.080,2,   0.049,2,   0.009,2,    0.18,2,    -999,9,    -999,9,     -999,9,     -999,    -999,9,     -999,9,    -999,9,   4.1428,2,    -999,9,    -999,9,    -999,    -999,9,    -999,    -999,1,    -999,9,    -999,9,  17.0731, -66.4711,    -999,     -999,    -999,   3.9006,   4.1428,2,-999,9,-999,-999,9,-999,    35.1394,2,-999,9,20120410,       1904
33AT20120324,        A22,      64,          1,          7,          7,2,20120410,       1822,    17.0720,   -66.4716,       4754,  2950.0,   4.1640,  34.9747,2,  34.9740,2,    214.4,2,   215.2,2,   28.51,2,   22.06,2,    0.00,2,    1.49,2,   0.075,2,   0.041,2,   0.010,2,    0.21,2,  2194.1,2, 2338.48,2,   7.7098,2,       25,    -999,9,     -999,9,    -999,9,   4.1644,2,    -999,9,    -999,9,    -999,    -999,9,    -999,    -999,1,    -999,9,    -999,9,  17.0730, -66.4712,    -999,     -999,    -999,   3.8937,   4.1644,2,-999,9,-999,-999,9,-999,    35.1390,2,-999,9,20120410,       1859
33AT20120324,        A22,      64,          1,          6,          6,2,20120410,       1822,    17.0720,   -66.4716,       4754,  3241.6,   4.1932,  34.9749,2,  34.9748,2,    214.1,2,   214.4,2,   28.64,2,   22.11,2,    0.00,2,    1.49,2,   0.077,2,   0.046,2,   0.007,2,    0.21,2,    -999,9,    -999,9,     -999,9,     -999,    -999,9,     -999,9,    -999,9,   4.1932,2,    -999,9,    -999,9,    -999,    -999,9,    -999,    -999,1,    -999,9,    -999,9,  17.0729, -66.4712,    -999,     -999,    -999,   3.8891,   4.1932,2,-999,9,-999,-999,9,-999,    35.1398,2,-999,9,20120410,       1853