BOTTLE,20220725CCHSIOCBG
EXPOCODE,SECT_ID,STNNBR,CASTNO,SAMPNO,BTLNBR,BTLNBR_FLAG_W,DATE,TIME,LATITUDE,LONGITUDE,DEPTH,CTDPRS,CTDTMP,CTDSAL,CTDSAL_FLAG_W,SALNTY,SALNTY_FLAG_W,CTDOXY,CTDOXY_FLAG_W,OXYGEN,OXYGEN_FLAG_W,SILCAT,SILCAT_FLAG_W,NITRAT,NITRAT_FLAG_W,NITRIT,NITRIT_FLAG_W,PHSPHT,PHSPHT_FLAG_W,CFC-11,CFC-11_FLAG_W,CFC-12,CFC-12_FLAG_W,CFC113,CFC113_FLAG_W,SF6,SF6_FLAG_W,TCARBN,TCARBN_FLAG_W,ALKALI,ALKALI_FLAG_W,PH_TOT,PH_TOT_FLAG_W,PH_TMP,TRITUM,TRITUM_FLAG_W,HELIUM,HELIUM_FLAG_W,DELHE3,DELHE3_FLAG_W,REFTMP,REFTMP_FLAG_W,DELC13,DELC13_FLAG_W,DELC14,DELC14_FLAG_W,C14ERR,NEON,NEON_FLAG_W,NEONER,CCL4,CCL4_FLAG_W,DOC,DOC_FLAG_W,TDN,TDN_FLAG_W,BTL_LAT,BTL_LON,TRITER,HELIER,DELHER,THETA,SBE35,SBE35_FLAG_W,14C-DOC,14C-DOC_FLAG_W,14C-DOCERR,13C-DOC,13C-DOC_FLAG_W,13C-DOCERR,SALTREF,SALTREF_FLAG_W,LAB_DEN,LAB_DEN_FLAG_W,BTL_DATE,BTL_TIME
,,,,,,,,,,,METERS,DBAR,ITS-90,PSS-78,,PSS-78,,UMOL/KG,,UMOL/KG,,UMOL/KG,,UMOL/KG,,UMOL/KG,,UMOL/KG,,PMOL/KG,,PMOL/KG,,PMOL/KG,,FMOL/KG,,UMOL/KG,,UMOL/KG,,,,DEG C,TU,,NMOL/KG,,PERCNT,,DEG C,,/MILLE,,/MILLE,,/MILLE,NMOL/KG,,NMOL/KG,PMOL/KG,,UMOL/KG,,UMOL/KG,,,,TU,NMOL/KG,PERCNT,DEG C,ITS-90,,/MILLE,,/MILLE,/MILLE,,/MILLE,G/KG,,KG/M^3,,,
33AT20120324,        A22,      21,          1,         36,         36,2,20120330,       2148,    34.7398,   -66.5807,       5187,     3.5,  19.4464,  36.5657,2,  36.5651,2,    227.2,2,   227.4,2,    0.17,2,    0.24,2,    0.09,2,    0.00,2,   2.071,2,   1.273,2,   0.162,2,    -999,5,  2077.3,6, 2392.74,6,   8.0457,2,       25,    -999,9,     -999,9,    -999,9,  19.4467,2,    -999,9,    -999,9,    -999,    -999,9,    -999,    1.65,2,   67.93,2,    4.47,2,  34.7416, -66.5803,    -999,     -999,    -999,  19.4458,  19.4467,2,-999,9,-999,-999,9,-999,    36.7376,2,-999,9,20120330,       2356
33AT20120324,        A22,      21,          1,         35,         35,2,20120330,       2148,    34.7398,   -66.5807,       5187,    37.4,  19.4404,  36.5652,2,  36.5651,2,    227.8,2,   227.1,2,    0.15,2,    0.25,2,    0.09,2,    0.00,2,   2.015,2,   1.313,2,   0.153,2,    -999,5,  2075.9,2, 2392.41,2,   8.0451,6,       25,    -999,9,     -999,9,    -999,9,  19.4402,2,    -999,9,    -999,9,    -999,    -999,9,    -999,    1.45,2,   67.29,2,    5.02,2,  34.7415, -66.5803,    -999,     -999,    -999,  19.4336,  19.4402,2,-999,9,-999,-999,9,-999,    36.7376,2,-999,9,20120330,       2354
33AT20120324,        A22,      21,          1,         34,         34,2,20120330,       2148,    34.7398,   -66.5807,       5187,    61.7,  19.4188,  36.5651,2,  36.5647,2,    225.4,2,   225.5,2,    0.07,2,    0.26,2,    0.10,2,    0.00,2,   2.013,2,   1.338,2,   0.152,2,    -999,5,  2077.3,2, 2392.32,2,   8.0436,2,       25,    -999,9,     -999,9,    -999,9,  19.4197,2,    -999,9,    -999,9,    -999,    -999,9,    -999,    1.43,2,   66.76,2,    4.57,2,  34.7414, -66.5803,    -999,     -999,    -999,  19.4076,  19.4197,2,-999,9,-999,-999,9,-999,    36.7372,2,-999,9,20120330,       2352
33AT20120324,        A22,      21,          1,         33,         33,2,20120330,       2148,    34.7398,   -66.5807,       5187,    87.8,  19.4196,  36.5656,2,  36.5655,2,    225.3,2,   225.0,2,    0.11,2,    0.29,2,    0.11,2,    0.00,2,   1.981,2,   1.316,2,   0.151,2,    -999,5,  2077.7,2, 2390.67,2,   8.0425,2,       25,    -999,9,     -999,9,    -999,9,  19.4192,2,    -999,9,    -999,9,    -999,    -999,9,    -999,    1.36,2,   66.79,2,    5.02,2,  34.7413, -66.5803,    -999,     -999,    -999,  19.4036,  19.4192,2,-999,9,-999,-999,9,-999,    36.7380,2,-999,9,20120330,       2350
33AT20120324,        A22,      21,          1,         32,         32,2,20120330,       2148,    34.7398,   -66.5807,       5187,   116.5,  19.4180,  36.5649,2,  36.5637,2,    224.0,2,   224.3,2,    0.11,2,    0.34,2,    0.11,2,    0.00,2,   2.012,2,   1.302,2,   0.155,2,    -999,5,  2079.9,2, 2392.49,2,   8.0405,2,       25,    -999,9,     -999,9,    -999,9,  19.4168,2,    -999,9,    -999,9,    -999,    -999,9,    -999,    1.37,2,   63.54,2,    5.23,2,  34.7411, -66.5804,    -999,     -999,    -999,  19.3967,  19.4168,2,-999,9,-999,-999,9,-999,    36.7362,2,-999,9,20120330,       2348
33AT20120324,        A22,      21,          1,         31,         31,2,20120330,       2148,    34.7398,   -66.5807,       5187,   166.9,  19.3871,  36.5591,2,  36.5598,2,    220.2,2,   222.7,2,    0.26,2,    0.60,2,    0.09,2,    0.02,2,   1.992,2,   1.309,2,   0.148,2,    -999,5,    -999,9,    -999,9,     -999,9,     -999,    -999,9,     -999,9,    -999,9,  19.3894,2,    -999,9,    -999,9,    -999,    -999,9,    -999,    1.31,2,   60.88,2,    5.48,2,  34.7410, -66.5804,    -999,     -999,    -999,  19.3566,  19.3894,2,-999,9,-999,-999,9,-999,    36.7322,2,-999,9,20120330,       2345
33AT20120324,        A22,      21,          1,         30,         30,2,20120330,       2148,    34.7398,   -66.5807,       5187,   214.9,  19.1463,  36.5979,2,  36.5971,2,    210.9,2,   200.9,2,    0.62,2,    2.59,2,    0.01,2,    0.10,2,   1.985,2,   1.312,2,   0.074,2,    -999,5,  2104.0,2, 2392.67,2,   7.9998,2,       25,    -999,9,     -999,9,    -999,9,  19.1482,2,    -999,9,    -999,9,    -999,    -999,9,    -999,    0.61,2,   58.37,2,    6.06,2,  34.7410, -66.5804,    -999,     -999,    -999,  19.1074,  19.1482,2,-999,9,-999,-999,9,-999,    36.7696,2,-999,9,20120330,       2343
33AT20120324,        A22,      21,          1,         29,         29,2,20120330,       2148,    34.7398,   -66.5807,       5187,   266.8,  18.4872,  36.6036,2,  36.6032,2,    196.2,2,   195.7,2,    0.83,2,    3.90,2,    0.01,2,    0.17,2,   2.087,2,   1.323,2,   0.034,2,    -999,5,    -999,9,    -999,9,     -999,9,     -999,    -999,9,     -999,9,    -999,9,  18.4886,2,    -999,9,    -999,9,    -999,    -999,9,    -999,    0.30,2,   55.46,2,    7.23,2,  34.7410, -66.5804,    -999,     -999,    -999,  18.4400,  18.4886,2,-999,9,-999,-999,9,-999,    36.7758,2,-999,9,20120330,       2341
33AT20120324,        A22,      21,          1,         28,         28,2,20120330,       2148,    34.7398,   -66.5807,       5187,   317.4,  18.1556,  36.5732,2,  36.5725,2,    202.3,2,   199.5,2,    0.92,2,    4.24,2,    0.01,2,    0.19,2,   2.116,2,   1.342,2,   0.031,2,    -999,5,  2114.6,2, 2393.30,2,   7.9773,2,       25,    -999,9,     -999,9,    -999,9,  18.1567,2,    -999,9,    -999,9,    -999,    -999,9,    -999,    0.35,2,   53.16,2,    8.35,2,  34.7410, -66.5804,    -999,     -999,    -999,  18.1001,  18.1567,2,-999,9,-999,-999,9,-999,    36.7449,2,-999,9,20120330,       2340
33AT20120324,        A22,      21,          1,         27,         27,2,20120330,       2148,    34.7398,   -66.5807,       5187,   369.5,  17.9680,  36.5510,2,  36.5513,2,    204.0,2,   201.7,2,    0.98,2,    4.43,2,    0.01,2,    0.19,2,   2.107,2,   1.351,2,   0.035,2,    -999,5,  2112.3,2, 2388.91,2,   7.9768,2,       25,    -999,9,     -999,9,    -999,9,  17.9696,2,    -999,9,    -999,9,    -999,    -999,9,    -999,    0.37,2,   51.86,2,    8.50,2,  34.7409, -66.5804,    -999,     -999,    -999,  17.9037,  17.9696,2,-999,9,-999,-999,9,-999,    36.7236,2,-999,9,20120330,       2338
33AT20120324,        A22,      21,          1,         26,         26,2,20120330,       2148,    34.7398,   -66.5807,       5187,   439.6,  17.6177,  36.4875,2,  36.4869,2,    202.2,2,   197.9,2,    1.35,2,    5.39,2,    0.01,2,    0.25,2,   2.121,2,   1.353,2,   0.034,2,    -999,5,  2118.5,2, 2385.39,2,   7.9614,2,       25,    -999,9,     -999,9,    -999,9,  17.6184,2,    -999,9,    -999,9,    -999,    -999,9,    -999,    0.37,2,   50.33,2,    9.77,2,  34.7409, -66.5804,    -999,     -999,    -999,  17.5422,  17.6184,2,-999,9,-999,-999,9,-999,    36.6589,2,-999,9,20120330,       2335
33AT20120324,        A22,      21,          1,         25,         25,2,20120330,       2148,    34.7398,   -66.5807,       5187,   539.2,  16.4581,  36.2614,2,  36.2599,2,    181.8,2,   182.8,2,    2.53,2,    8.78,2,    0.00,2,    0.48,2,   2.157,2,   1.321,2,   0.031,2,    -999,5,  2132.8,2, 2374.54,2,   7.9114,2,       25,    -999,9,     -999,9,    -999,9,  16.4521,2,    -999,9,    -999,9,    -999,    -999,9,    -999,    0.37,2,   48.88,2,   12.02,2,  34.7408, -66.5804,    -999,     -999,    -999,  16.3695,  16.4521,2,-999,9,-999,-999,9,-999,    36.4309,2,-999,9,20120330,       2333
33AT20120324,        A22,      21,          1,         24,         24,2,20120330,       2148,    34.7398,   -66.5807,       5187,   638.4,  14.6183,  35.9335,2,  35.9439,2,    166.3,2,   166.1,2,    4.62,2,   13.21,2,    0.00,2,    0.77,2,   2.021,2,   1.198,2,   0.024,2,    -999,5,  2161.0,2, 2358.12,2,   7.8453,2,       25,    -999,9,     -999,9,    -999,9,  14.6287,2,    -999,9,    -999,9,    -999,    -999,9,    -999,    0.30,2,   47.74,2,   16.84,2,  34.7408, -66.5805,    -999,     -999,    -999,  14.5212,  14.6287,2,-999,9,-999,-999,9,-999,    36.1134,2,-999,9,20120330,       2330
33AT20120324,        A22,      21,          1,         23,         23,2,20120330,       2148,    34.7398,   -66.5807,       5187,   742.2,  12.1213,  35.5466,2,  35.5477,2,    149.3,2,   146.9,2,    8.80,2,   19.48,2,    0.00,2,    1.20,2,   1.600,2,   0.927,2,   0.021,2,    -999,5,  2183.9,2, 2339.46,2,   7.7546,2,       25,    -999,9,     -999,9,    -999,9,  12.1281,2,    -999,9,    -999,9,    -999,    -999,9,    -999,    0.26,2,   47.01,2,   23.35,2,  34.7407, -66.5805,    -999,     -999,    -999,  12.0211,  12.1281,2,-999,9,-999,-999,9,-999,    35.7154,2,-999,9,20120330,       2327
33AT20120324,        A22,      21,          1,         22,         22,2,20120330,       2148,    34.7398,   -66.5807,       5187,   842.4,   9.8937,  35.2815,2,  35.2808,2,    143.3,2,   146.2,2,   12.33,2,   22.88,2,    0.00,2,    1.44,2,   1.255,2,   0.716,2,   0.020,2,    -999,5,  2188.0,6, 2326.57,2,   7.6978,2,       25,    -999,9,     -999,9,    -999,9,   9.8945,2,    -999,9,    -999,9,    -999,    -999,9,    -999,    0.29,2,   46.25,2,   26.32,2,  34.7405, -66.5805,    -999,     -999,    -999,   9.7931,   9.8945,2,-999,9,-999,-999,9,-999,    35.4471,2,-999,9,20120330,       2325
33AT20120324,        A22,      21,          1,         21,         21,2,20120330,       2148,    34.7398,   -66.5807,       5187,   944.4,   8.0329,  35.1307,2,  35.1315,2,    161.7,2,   162.3,2,   14.05,2,   23.47,2,    0.00,2,    1.51,2,   1.238,2,   0.681,2,   0.033,2,    -999,5,  2190.8,2, 2322.15,2,   7.6774,2,       25,    -999,9,     -999,9,    -999,9,   8.0370,2,    -999,9,    -999,9,    -999,    -999,9,    -999,    0.48,2,   45.57,2,   25.77,2,  34.7405, -66.5805,    -999,     -999,    -999,   7.9323,   8.0370,2,-999,9,-999,-999,9,-999,    35.2971,2,-999,9,20120330,       2322
33AT20120324,        A22,      21,          1,         20,         20,2,20120330,       2148,    34.7398,   -66.5807,       5187,  1043.3,   6.6516,  35.0820,2,  35.0824,2,    192.5,2,   193.2,2,   13.24,2,   21.43,2,    0.00,2,    1.41,2,   1.534,2,   0.836,2,   0.054,2,    -999,5,  2183.3,2, 2318.89,2,   7.6907,2,       25,    -999,9,     -999,9,    -999,9,   6.6539,2,    -999,9,    -999,9,    -999,    -999,9,    -999,    0.78,2,   44.97,2,   24.03,2,  34.7404, -66.5806,    -999,     -999,    -999,   6.5505,   6.6539,2,-999,9,-999,-999,9,-999,    35.2479,2,-999,9,20120330,       2319
33AT20120324,        A22,      21,          1,         19,         19,2,20120330,       2148,    34.7398,   -66.5807,       5187,  1144.9,   5.8537,  35.0614,2,  35.0614,2,    214.6,2,   214.4,2,   12.70,2,   20.10,2,    0.00,2,    1.33,2,   1.675,2,   0.938,2,   0.069,2,    -999,5,  2176.7,2, 2317.05,2,   7.7032,2,       25,    -999,9,     -999,9,    -999,9,   5.8657,2,    -999,9,    -999,9,    -999,    -999,9,    -999,    0.95,2,   44.55,2,   22.97,2,  34.7403, -66.5806,    -999,     -999,    -999,   5.7488,   5.8657,2,-999,9,-999,-999,9,-999,    35.2267,2,-999,9,20120330,       2316
33AT20120324,        A22,      21,          1,         18,         18,2,20120330,       2148,    34.7398,   -66.5807,       5187,  1246.5,   5.4235,  35.0676,2,  35.0659,2,    229.0,2,   229.0,2,   12.31,2,   19.20,2,    0.00,2,    1.27,2,   1.770,2,   0.970,2,   0.081,2,    -999,5,    -999,9,    -999,9,     -999,9,     -999,    -999,9,     -999,9,    -999,9,   5.4232,2,    -999,9,    -999,9,    -999,    -999,9,    -999,    1.13,2,   44.48,2,   22.24,2,  34.7403, -66.5806,    -999,     -999,    -999,   5.3124,   5.4232,2,-999,9,-999,-999,9,-999,    35.2313,2,-999,9,20120330,       2314
33AT20120324,        A22,      21,          1,         17,         17,2,20120330,       2148,    34.7398,   -66.5807,       5187,  1347.9,   4.9527,  35.0359,2,  35.0360,2,    242.0,2,   241.3,2,   11.93,2,   18.51,2,    0.00,2,    1.22,2,   1.946,2,   1.078,2,   0.106,2,    -999,5,  2169.8,2, 2315.40,2,   7.7172,2,       25,    -999,9,     -999,9,    -999,9,   4.9523,2,    -999,9,    -999,9,    -999,    -999,9,    -999,    1.28,2,   44.08,2,   22.02,2,  34.7404, -66.5806,    -999,     -999,    -999,   4.8364,   4.9523,2,-999,9,-999,-999,9,-999,    35.2012,2,-999,9,20120330,       2311
33AT20120324,        A22,      21,          1,         16,         16,2,20120330,       2148,    34.7398,   -66.5807,       5187,  1479.6,   4.5583,  35.0024,2,  35.0015,2,    251.6,2,   251.7,2,   11.69,2,   18.07,2,    0.00,2,    1.20,2,   2.221,2,   1.217,2,   0.126,2,    -999,5,    -999,9,    -999,9,     -999,9,     -999,    -999,9,     -999,9,    -999,9,   4.5592,2,    -999,9,    -999,9,    -999,    -999,9,    -999,    1.53,2,   44.58,2,   22.82,2,  34.7404, -66.5806,    -999,     -999,    -999,   4.4337,   4.5592,2,-999,9,-999,-999,9,-999,    35.1666,2,-999,9,20120330,       2308
33AT20120324,        A22,      21,          1,         15,         15,2,20120330,       2148,    34.7398,   -66.5807,       5187,  1684.4,   4.2720,  34.9967,2,  34.9960,2,    255.1,2,   255.6,2,   12.36,2,   18.03,2,    0.00,2,    1.20,2,   1.812,2,   0.991,2,   0.098,2,    -999,5,  2163.5,2, 2309.18,2,   7.7271,2,       25,    -999,9,     -999,9,    -999,9,   4.2728,2,    -999,9,    -999,9,    -999,    -999,9,    -999,    1.36,2,   44.21,2,   22.82,2,  34.7405, -66.5805,    -999,     -999,    -999,   4.1312,   4.2728,2,-999,9,-999,-999,9,-999,    35.1611,2,-999,9,20120330,       2303
33AT20120324,        A22,      21,          1,         14,         14,2,20120330,       2148,    34.7398,   -66.5807,       5187,  1886.7,   3.9447,  34.9712,2,  34.9712,2,    261.5,2,   261.3,2,   12.76,2,   17.81,2,    0.00,2,    1.18,2,   1.796,2,   0.977,2,   0.100,2,    -999,5,    -999,9,    -999,9,     -999,9,     -999,    -999,9,     -999,9,    -999,9,   3.9445,2,    -999,9,    -999,9,    -999,    -999,9,    -999,    1.32,2,   44.31,2,   22.59,2,  34.7405, -66.5805,    -999,     -999,    -999,   3.7890,   3.9445,2,-999,9,-999,-999,9,-999,    35.1361,2,-999,9,20120330,       2258
33AT20120324,        A22,      21,          1,         13,         13,2,20120330,       2148,    34.7398,   -66.5807,       5187,  2109.0,   3.6762,  34.9571,2,  34.9561,2,    264.4,2,   264.3,2,   13.60,2,   17.76,2,    0.00,2,    1.19,2,   1.605,2,   0.827,2,   0.082,2,    -999,5,    -999,9,    -999,9,     -999,9,     -999,    -999,9,     -999,9,    -999,9,   3.6762,2,    -999,9,    -999,9,    -999,    -999,9,    -999,    1.42,2,   44.13,2,   20.65,2,  34.7404, -66.5806,    -999,     -999,    -999,   3.5030,   3.6762,2,-999,9,-999,-999,9,-999,    35.1209,2,-999,9,20120330,       2254
33AT20120324,        A22,      21,          1,         12,         12,2,20120330,       2148,    34.7398,   -66.5807,       5187,  2363.6,   3.5290,  34.9619,2,  34.9616,2,    262.7,2,   262.9,2,   15.84,2,   17.97,2,    0.00,2,    1.21,2,   1.115,2,   0.578,2,   0.045,2,    -999,5,  2160.1,2, 2311.34,2,   7.7399,2,       25,    -999,9,     -999,9,    -999,9,   3.5272,2,    -999,9,    -999,9,    -999,    -999,9,    -999,    1.04,2,   43.89,2,   20.85,2,  34.7403, -66.5806,    -999,     -999,    -999,   3.3330,   3.5272,2,-999,9,-999,-999,9,-999,    35.1265,2,-999,9,20120330,       2248
33AT20120324,        A22,      21,          1,         11,         11,2,20120330,       2148,    34.7398,   -66.5807,       5187,  2618.2,   3.3235,  34.9559,2,  34.9553,2,    262.2,2,   263.1,2,   17.97,2,   18.16,2,    0.00,2,    1.22,2,   0.846,2,   0.446,2,   0.032,2,    -999,5,    -999,9,    -999,9,     -999,9,     -999,    -999,9,     -999,9,    -999,9,   3.3240,2,    -999,9,    -999,9,    -999,    -999,9,    -999,    0.83,2,   43.84,2,   22.02,2,  34.7403, -66.5806,    -999,     -999,    -999,   3.1056,   3.3240,2,-999,9,-999,-999,9,-999,    35.1201,2,-999,9,20120330,       2243
33AT20120324,        A22,      21,          1,         10,         10,2,20120330,       2148,    34.7398,   -66.5807,       5187,  2875.5,   3.1246,  34.9455,2,  34.9451,2,    263.4,2,   263.3,2,   19.65,2,   18.20,2,    0.00,2,    1.21,2,   0.742,2,   0.401,2,   0.028,2,    -999,5,    -999,9,    -999,9,     -999,9,     -999,    -999,9,     -999,9,    -999,9,   3.1235,2,    -999,9,    -999,9,    -999,    -999,9,    -999,    0.74,2,   43.29,2,   22.40,2,  34.7402, -66.5806,    -999,     -999,    -999,   2.8842,   3.1235,2,-999,9,-999,-999,9,-999,    35.1099,2,-999,9,20120330,       2238
33AT20120324,        A22,      21,          1,          9,          9,2,20120330,       2148,    34.7398,   -66.5807,       5187,  3149.6,   2.8754,  34.9322,2,  34.9313,2,    265.6,2,   265.1,2,   21.24,2,   18.15,2,    0.00,2,    1.22,2,   0.714,2,   0.376,2,   0.029,2,    -999,5,  2163.7,2, 2317.67,2,   7.7426,2,       25,    -999,9,     -999,9,    -999,9,   2.8756,2,    -999,9,    -999,9,    -999,    -999,9,    -999,    0.75,2,   43.32,2,   22.44,2,  34.7400, -66.5807,    -999,     -999,    -999,   2.6116,   2.8756,2,-999,9,-999,-999,9,-999,    35.0960,2,-999,9,20120330,       2232
33AT20120324,        A22,      21,          1,          8,          8,2,20120330,       2148,    34.7398,   -66.5807,       5187,  3449.4,   2.6443,  34.9182,2,  34.9173,2,    267.3,2,   267.0,2,   22.63,2,   18.01,2,    0.00,2,    1.21,2,   0.756,2,   0.400,2,   0.034,2,    -999,5,    -999,9,    -999,9,     -999,9,     -999,    -999,9,     -999,9,    -999,9,   2.6444,2,    -999,9,    -999,9,    -999,    -999,9,    -999,    0.80,2,   43.41,2,   22.25,2,  34.7399, -66.5807,    -999,     -999,    -999,   2.3537,   2.6444,2,-999,9,-999,-999,9,-999,    35.0820,2,-999,9,20120330,       2226
33AT20120324,        A22,      21,          1,          7,          7,2,20120330,       2148,    34.7398,   -66.5807,       5187,  3755.7,   2.4628,  34.9060,2,  34.9053,2,    267.7,2,   268.1,2,   24.91,2,   18.10,2,    0.00,2,    1.22,2,   0.743,2,   0.408,2,   0.038,2,    -999,5,  2166.7,2, 2319.88,2,   7.7410,2,       25,    -999,9,     -999,9,    -999,9,   2.4621,2,    -999,9,    -999,9,    -999,    -999,9,    -999,    0.78,2,   42.88,2,   20.60,2,  34.7399, -66.5807,    -999,     -999,    -999,   2.1432,   2.4621,2,-999,9,-999,-999,9,-999,    35.0699,2,-999,9,20120330,       2220
33AT20120324,        A22,      21,          1,          6,          6,2,20120330,       2148,    34.7398,   -66.5807,       5187,  4063.5,   2.3500,  34.8970,2,  34.8961,2,    267.2,2,   267.4,2,   27.81,2,   18.37,2,    0.00,2,    1.24,2,   0.774,2,   0.416,2,   0.044,2,    -999,5,  2169.5,2, 2322.69,2,   7.7389,2,       25,    -999,9,     -999,9,    -999,9,   2.3496,2,    -999,9,    -999,9,    -999,    -999,9,    -999,    0.80,2,   43.00,2,   20.49,2,  34.7398, -66.5807,    -999,     -999,    -999,   1.9986,   2.3496,2,-999,9,-999,-999,9,-999,    35.0607,2,-999,9,20120330,       2214