BOTTLE,20220725CCHSIOCBG
EXPOCODE,SECT_ID,STNNBR,CASTNO,SAMPNO,BTLNBR,BTLNBR_FLAG_W,DATE,TIME,LATITUDE,LONGITUDE,DEPTH,CTDPRS,CTDTMP,CTDSAL,CTDSAL_FLAG_W,SALNTY,SALNTY_FLAG_W,CTDOXY,CTDOXY_FLAG_W,OXYGEN,OXYGEN_FLAG_W,SILCAT,SILCAT_FLAG_W,NITRAT,NITRAT_FLAG_W,NITRIT,NITRIT_FLAG_W,PHSPHT,PHSPHT_FLAG_W,CFC-11,CFC-11_FLAG_W,CFC-12,CFC-12_FLAG_W,CFC113,CFC113_FLAG_W,SF6,SF6_FLAG_W,TCARBN,TCARBN_FLAG_W,ALKALI,ALKALI_FLAG_W,PH_TOT,PH_TOT_FLAG_W,PH_TMP,TRITUM,TRITUM_FLAG_W,HELIUM,HELIUM_FLAG_W,DELHE3,DELHE3_FLAG_W,REFTMP,REFTMP_FLAG_W,DELC13,DELC13_FLAG_W,DELC14,DELC14_FLAG_W,C14ERR,NEON,NEON_FLAG_W,NEONER,CCL4,CCL4_FLAG_W,DOC,DOC_FLAG_W,TDN,TDN_FLAG_W,BTL_LAT,BTL_LON,TRITER,HELIER,DELHER,THETA,SBE35,SBE35_FLAG_W,14C-DOC,14C-DOC_FLAG_W,14C-DOCERR,13C-DOC,13C-DOC_FLAG_W,13C-DOCERR,SALTREF,SALTREF_FLAG_W,LAB_DEN,LAB_DEN_FLAG_W,BTL_DATE,BTL_TIME
,,,,,,,,,,,METERS,DBAR,ITS-90,PSS-78,,PSS-78,,UMOL/KG,,UMOL/KG,,UMOL/KG,,UMOL/KG,,UMOL/KG,,UMOL/KG,,PMOL/KG,,PMOL/KG,,PMOL/KG,,FMOL/KG,,UMOL/KG,,UMOL/KG,,,,DEG C,TU,,NMOL/KG,,PERCNT,,DEG C,,/MILLE,,/MILLE,,/MILLE,NMOL/KG,,NMOL/KG,PMOL/KG,,UMOL/KG,,UMOL/KG,,,,TU,NMOL/KG,PERCNT,DEG C,ITS-90,,/MILLE,,/MILLE,/MILLE,,/MILLE,G/KG,,KG/M^3,,,
33AT20120324,        A22,      43,          1,         36,         36,2,20120406,       1939,    20.8317,   -65.9783,       5387,     2.9,  25.8906,  36.1310,2,  36.1286,2,    205.0,2,   206.7,2,    0.82,2,    0.00,2,    0.00,2,    0.00,2,   1.632,2,   1.042,2,   0.119,2,    0.58,4,  2021.5,6, 2366.02,2,   8.1063,2,       25,    -999,9,     -999,9,    -999,9,  25.8764,2,    -999,9,    -999,9,    -999,    -999,9,    -999,    1.60,2,   74.21,2,    4.72,2,  20.8313, -65.9786,    -999,     -999,    -999,  25.8900,  25.8764,2,-999,9,-999,-999,9,-999,    36.2990,2,-999,9,20120406,       2150
33AT20120324,        A22,      43,          1,         35,         35,2,20120406,       1939,    20.8317,   -65.9783,       5387,    20.0,  25.5469,  36.0873,2,  36.0877,2,    207.1,2,   206.1,2,    0.88,2,    0.00,2,    0.00,2,    0.00,2,   1.624,2,   1.063,2,   0.125,2,    0.49,4,  2020.4,2, 2364.03,6,   8.1062,2,       25,    -999,9,     -999,9,    -999,9,  25.5435,2,    -999,9,    -999,9,    -999,    -999,9,    -999,    1.54,2,   74.17,2,    4.80,2,  20.8314, -65.9785,    -999,     -999,    -999,  25.5425,  25.5435,2,-999,9,-999,-999,9,-999,    36.2578,2,-999,9,20120406,       2147
33AT20120324,        A22,      43,          1,         34,         34,2,20120406,       1939,    20.8317,   -65.9783,       5387,    39.9,  25.6010,  36.1427,2,  36.1425,2,    207.9,2,   206.2,2,    0.84,2,    0.00,2,    0.00,2,    0.00,2,   1.628,2,   1.041,2,   0.123,2,    0.71,4,  2022.1,2, 2367.06,2,   8.1073,2,       25,    -999,9,     -999,9,    -999,9,  25.5973,2,    -999,9,    -999,9,    -999,    -999,9,    -999,    1.54,2,   71.36,2,    4.63,2,  20.8314, -65.9785,    -999,     -999,    -999,  25.5922,  25.5973,2,-999,9,-999,-999,9,-999,    36.3129,2,-999,9,20120406,       2145
33AT20120324,        A22,      43,          1,         33,         33,2,20120406,       1939,    20.8317,   -65.9783,       5387,    65.2,  25.1097,  36.1595,2,  36.1621,2,    210.6,2,   207.9,2,    0.86,2,    0.00,2,    0.00,2,    0.00,2,   1.659,2,   1.061,2,   0.125,2,    0.80,4,  2023.0,2, 2367.27,2,   8.1084,2,       25,    -999,9,     -999,9,    -999,9,  25.1068,2,    -999,9,    -999,9,    -999,    -999,9,    -999,    1.51,2,   69.51,2,    4.83,2,  20.8315, -65.9785,    -999,     -999,    -999,  25.0955,  25.1068,2,-999,9,-999,-999,9,-999,    36.3326,2,-999,9,20120406,       2143
33AT20120324,        A22,      43,          1,         32,         32,2,20120406,       1939,    20.8317,   -65.9783,       5387,    89.9,  24.9038,  36.5687,2,  36.5700,2,    213.3,2,   211.4,2,    0.41,2,    0.00,2,    0.00,2,    0.00,2,   1.668,2,   1.074,2,   0.120,2,    0.77,4,  2040.2,2, 2411.40,3,   8.1070,2,       25,    -999,9,     -999,9,    -999,9,  24.9021,2,    -999,9,    -999,9,    -999,    -999,9,    -999,    1.21,2,   66.28,2,    4.74,2,  20.8315, -65.9785,    -999,     -999,    -999,  24.8842,  24.9021,2,-999,9,-999,-999,9,-999,    36.7425,2,-999,9,20120406,       2141
33AT20120324,        A22,      43,          1,         31,         31,2,20120406,       1939,    20.8317,   -65.9783,       5387,   136.2,  24.1455,  37.2052,2,  37.1841,2,    192.6,2,   187.4,2,    0.03,2,    0.27,2,    0.08,2,    0.00,2,   1.746,2,   1.104,2,   0.117,2,    1.02,4,  2102.3,2, 2431.24,4,   8.0573,2,       25,    -999,9,     -999,9,    -999,9,  24.1481,2,    -999,9,    -999,9,    -999,    -999,9,    -999,    0.53,2,   61.35,2,    4.86,2,  20.8315, -65.9784,    -999,     -999,    -999,  24.1164,  24.1481,2,-999,9,-999,-999,9,-999,    37.3595,2,-999,9,20120406,       2139
33AT20120324,        A22,      43,          1,         30,         30,2,20120406,       1939,    20.8317,   -65.9783,       5387,   186.5,  21.1983,  36.8794,2,  36.8800,2,    182.6,2,   183.6,2,    0.17,2,    1.26,2,    0.02,2,    0.02,2,   1.928,2,   1.206,2,   0.052,2,    0.59,4,  2117.5,2, 2409.17,2,   7.9769,2,       25,    -999,9,     -999,9,    -999,9,  21.2000,2,    -999,9,    -999,9,    -999,    -999,9,    -999,    0.19,2,   57.69,2,    5.66,2,  20.8315, -65.9784,    -999,     -999,    -999,  21.1620,  21.2000,2,-999,9,-999,-999,9,-999,    37.0540,2,-999,9,20120406,       2136
33AT20120324,        A22,      43,          1,         29,         29,2,20120406,       1939,    20.8317,   -65.9783,       5387,   236.5,  19.3781,  36.7356,2,  36.7346,2,    178.7,2,   174.7,2,    0.66,2,    4.02,2,    0.01,2,    0.16,2,   2.040,2,   1.285,2,   0.018,2,    0.56,4,  2135.4,2,    -999,9,   7.9616,2,       25,    -999,9,     -999,9,    -999,9,  19.3704,2,    -999,9,    -999,9,    -999,    -999,9,    -999,    0.19,2,   54.21,2,    7.37,2,  20.8316, -65.9784,    -999,     -999,    -999,  19.3349,  19.3704,2,-999,9,-999,-999,9,-999,    36.9078,2,-999,9,20120406,       2134
33AT20120324,        A22,      43,          1,         28,         28,2,20120406,       1939,    20.8317,   -65.9783,       5387,   287.0,  18.3572,  36.5903,2,  36.5889,2,    193.8,2,   192.3,2,    0.77,2,    4.34,2,    0.01,2,    0.19,2,   2.134,2,   1.315,2,   0.023,2,    0.90,4,  2121.8,2, 2390.97,2,   7.9674,2,       25,    -999,9,     -999,9,    -999,9,  18.3559,2,    -999,9,    -999,9,    -999,    -999,9,    -999,    0.30,2,   50.12,2,    8.25,2,  20.8316, -65.9784,    -999,     -999,    -999,  18.3066,  18.3559,2,-999,9,-999,-999,9,-999,    36.7615,2,-999,9,20120406,       2132
33AT20120324,        A22,      43,          1,         27,         27,2,20120406,       1939,    20.8317,   -65.9783,       5387,   337.3,  17.9153,  36.5319,2,  36.5299,2,    196.5,2,   198.1,2,    0.95,2,    4.76,2,    0.01,2,    0.21,2,   2.190,2,   1.320,2,   0.030,2,    0.97,4,    -999,9,    -999,9,     -999,9,     -999,    -999,9,     -999,9,    -999,9,  17.9113,2,    -999,9,    -999,9,    -999,    -999,9,    -999,    0.42,2,   48.75,2,    8.78,2,  20.8316, -65.9784,    -999,     -999,    -999,  17.8568,  17.9113,2,-999,9,-999,-999,9,-999,    36.7021,2,-999,9,20120406,       2131
33AT20120324,        A22,      43,          1,         26,         26,2,20120406,       1939,    20.8317,   -65.9783,       5387,   387.3,  17.3457,  36.4279,2,  36.4269,2,    196.0,2,   188.4,2,    1.49,2,    6.56,2,    0.00,2,    0.34,2,   2.211,2,   1.324,2,   0.021,2,    0.87,4,  2129.0,2, 2379.87,2,   7.9452,2,       25,    -999,9,     -999,9,    -999,9,  17.3429,2,    -999,9,    -999,9,    -999,    -999,9,    -999,    0.35,2,   46.45,2,    9.67,2,  20.8316, -65.9784,    -999,     -999,    -999,  17.2799,  17.3429,2,-999,9,-999,-999,9,-999,    36.5986,2,-999,9,20120406,       2129
33AT20120324,        A22,      43,          1,         25,         25,2,20120406,       1939,    20.8317,   -65.9783,       5387,   466.8,  15.6783,  36.1260,2,  36.1157,2,    162.6,2,   163.1,2,    3.16,2,   11.72,2,    0.00,2,    0.67,2,   2.168,2,   1.266,2,   0.022,2,    0.78,4,    -999,9,    -999,9,     -999,9,     -999,    -999,9,     -999,9,    -999,9,  15.6639,2,    -999,9,    -999,9,    -999,    -999,9,    -999,    0.29,2,   45.96,2,   15.54,2,  20.8317, -65.9783,    -999,     -999,    -999,  15.6042,  15.6639,2,-999,9,-999,-999,9,-999,    36.2860,2,-999,9,20120406,       2126
33AT20120324,        A22,      43,          1,         24,         24,2,20120406,       1939,    20.8317,   -65.9783,       5387,   569.0,  13.0447,  35.6833,2,  35.6782,2,    142.5,2,   142.7,2,    6.70,2,   18.20,2,    0.00,2,    1.08,2,   1.842,2,   1.021,2,   0.020,2,    0.35,4,  2177.2,2, 2338.69,2,   7.7669,2,       25,    -999,9,     -999,9,    -999,9,  13.0391,2,    -999,9,    -999,9,    -999,    -999,9,    -999,    0.27,2,   44.55,2,   20.75,2,  20.8318, -65.9783,    -999,     -999,    -999,  12.9647,  13.0391,2,-999,9,-999,-999,9,-999,    35.8464,2,-999,9,20120406,       2124
33AT20120324,        A22,      43,          1,         23,         23,2,20120406,       1939,    20.8317,   -65.9783,       5387,   669.1,  11.5197,  35.4710,2,  35.4584,2,    138.7,2,   138.5,2,    9.39,2,   21.49,2,    0.00,2,    1.32,2,   1.474,2,   0.773,2,   0.016,2,    0.18,4,  2186.5,2, 2329.07,2,   7.7246,2,       25,    -999,9,     -999,9,    -999,9,  11.5189,2,    -999,9,    -999,9,    -999,    -999,9,    -999,    0.25,2,   44.02,2,   24.35,2,  20.8318, -65.9782,    -999,     -999,    -999,  11.4325,  11.5189,2,-999,9,-999,-999,9,-999,    35.6256,2,-999,9,20120406,       2121
33AT20120324,        A22,      43,          1,         22,         22,2,20120406,       1939,    20.8317,   -65.9783,       5387,   769.2,   9.6966,  35.2266,2,  35.2264,2,    133.8,2,   134.2,2,   13.13,2,   24.95,2,    0.00,2,    1.58,2,   0.978,2,   0.504,2,   0.009,2,    0.00,4,  2196.4,6, 2320.10,2,   7.6738,2,       25,    -999,9,     -999,9,    -999,9,   9.6986,2,    -999,9,    -999,9,    -999,    -999,9,    -999,    0.21,2,   43.65,2,   27.32,2,  20.8319, -65.9781,    -999,     -999,    -999,   9.6062,   9.6986,2,-999,9,-999,-999,9,-999,    35.3925,2,-999,9,20120406,       2118
33AT20120324,        A22,      43,          1,         21,         21,2,20120406,       1939,    20.8317,   -65.9783,       5387,   870.1,   8.1746,  35.0355,2,  35.0344,2,    133.6,2,   133.9,2,   17.12,2,   27.80,2,    0.00,2,    1.80,2,   0.603,2,   0.322,2,   0.007,2,    0.00,4,  2206.4,2, 2315.10,2,   7.6361,6,       25,    -999,9,     -999,9,    -999,9,   8.1774,2,    -999,9,    -999,9,    -999,    -999,9,    -999,    0.17,2,   43.23,2,   32.28,2,  20.8320, -65.9781,    -999,     -999,    -999,   8.0816,   8.1774,2,-999,9,-999,-999,9,-999,    35.1996,2,-999,9,20120406,       2116
33AT20120324,        A22,      43,          1,         20,         20,2,20120406,       1939,    20.8317,   -65.9783,       5387,   970.5,   7.2634,  34.9939,2,  34.9945,2,    145.7,2,   146.7,2,   18.40,2,   27.41,2,    0.00,2,    1.80,2,   0.502,2,   0.258,2,   0.007,2,    0.17,4,  2204.6,2, 2314.63,2,   7.6372,2,       25,    -999,9,     -999,9,    -999,9,   7.2580,2,    -999,9,    -999,9,    -999,    -999,9,    -999,    0.22,2,   42.84,2,   30.77,2,  20.8321, -65.9780,    -999,     -999,    -999,   7.1656,   7.2580,2,-999,9,-999,-999,9,-999,    35.1595,2,-999,9,20120406,       2113
33AT20120324,        A22,      43,          1,         19,         19,2,20120406,       1939,    20.8317,   -65.9783,       5387,  1073.0,   6.6115,  34.9822,2,  34.9669,2,    157.4,2,   159.0,2,   19.40,2,   27.01,2,    0.00,2,    1.79,2,   0.409,2,   0.211,2,   0.010,2,    0.00,4,  2203.0,2,    -999,9,   7.6446,2,       25,    -999,9,     -999,9,    -999,9,   6.5860,2,    -999,9,    -999,9,    -999,    -999,9,    -999,    0.24,2,   41.62,2,   30.55,2,  20.8322, -65.9779,    -999,     -999,    -999,   6.5078,   6.5860,2,-999,9,-999,-999,9,-999,    35.1318,2,-999,9,20120406,       2110
33AT20120324,        A22,      43,          1,         18,         18,2,20120406,       1939,    20.8317,   -65.9783,       5387,  1172.8,   5.8480,  34.9629,2,  34.9642,2,    175.0,2,   174.9,2,   19.37,2,   25.68,2,    0.00,2,    1.72,2,   0.372,2,   0.197,2,   0.011,2,    0.00,4,    -999,9,    -999,9,     -999,9,     -999,    -999,9,     -999,9,    -999,9,   5.8457,2,    -999,9,    -999,9,    -999,    -999,9,    -999,    0.29,2,   41.39,2,   28.37,2,  20.8322, -65.9779,    -999,     -999,    -999,   5.7405,   5.8457,2,-999,9,-999,-999,9,-999,    35.1291,2,-999,9,20120406,       2108
33AT20120324,        A22,      43,          1,         17,         17,2,20120406,       1939,    20.8317,   -65.9783,       5387,  1275.6,   5.6975,  35.0448,2,  35.0445,2,    208.9,2,   206.6,2,   14.77,2,   21.40,2,    0.00,2,    1.42,2,   1.002,2,   0.516,2,   0.039,2,    0.48,4,  2184.0,2, 2318.13,2,   7.6969,2,       25,    -999,9,     -999,9,    -999,9,   5.6974,2,    -999,9,    -999,9,    -999,    -999,9,    -999,    0.74,2,   41.89,2,   24.27,2,  20.8323, -65.9779,    -999,     -999,    -999,   5.5810,   5.6974,2,-999,9,-999,-999,9,-999,    35.2098,2,-999,9,20120406,       2105
33AT20120324,        A22,      43,          1,         16,         16,2,20120406,       1939,    20.8317,   -65.9783,       5387,  1375.7,   5.2482,  35.0451,2,  35.0437,2,    224.6,2,   224.9,2,   13.37,2,   19.81,2,    0.00,2,    1.32,2,   1.272,2,   0.656,2,   0.056,2,    0.17,4,    -999,9,    -999,9,     -999,9,     -999,    -999,9,     -999,9,    -999,9,   5.2488,2,    -999,9,    -999,9,    -999,    -999,9,    -999,    0.97,2,   41.96,2,   22.42,2,  20.8324, -65.9778,    -999,     -999,    -999,   5.1261,   5.2488,2,-999,9,-999,-999,9,-999,    35.2090,2,-999,9,20120406,       2102
33AT20120324,        A22,      43,          1,         15,         15,2,20120406,       1939,    20.8317,   -65.9783,       5387,  1547.5,   4.5391,  35.0149,2,  35.0136,2,    245.9,2,   246.2,2,   12.53,2,   18.39,2,    0.00,2,    1.23,2,   1.529,2,   0.782,2,   0.076,2,    0.27,4,  2169.8,2, 2315.27,2,   7.7256,2,       25,    -999,9,     -999,9,    -999,9,   4.5369,2,    -999,9,    -999,9,    -999,    -999,9,    -999,    1.30,2,   41.76,2,   21.33,2,  20.8324, -65.9777,    -999,     -999,    -999,   4.4082,   4.5369,2,-999,9,-999,-999,9,-999,    35.1787,2,-999,9,20120406,       2058
33AT20120324,        A22,      43,          1,         14,         14,2,20120406,       1939,    20.8317,   -65.9783,       5387,  1751.1,   3.8767,  34.9772,2,  34.9743,2,    258.5,2,   259.8,2,   13.48,2,   17.91,2,    0.00,2,    1.20,2,   1.394,2,   0.692,2,   0.069,2,    0.23,4,    -999,9,    -999,9,     -999,9,     -999,    -999,9,     -999,9,    -999,9,   3.8760,2,    -999,9,    -999,9,    -999,    -999,9,    -999,    1.40,2,   41.85,2,   20.35,2,  20.8325, -65.9777,    -999,     -999,    -999,   3.7347,   3.8760,2,-999,9,-999,-999,9,-999,    35.1392,2,-999,9,20120406,       2054
33AT20120324,        A22,      43,          1,         13,         13,2,20120406,       1939,    20.8317,   -65.9783,       5387,  1953.9,   3.4785,  34.9624,2,  34.9617,2,    261.5,2,   262.5,2,   15.82,2,   17.90,2,    0.00,2,    1.21,2,   1.009,2,   0.503,2,   0.044,2,    0.14,4,    -999,9,    -999,9,     -999,9,     -999,    -999,9,     -999,9,    -999,9,   3.4786,2,    -999,9,    -999,9,    -999,    -999,9,    -999,    1.10,2,   41.72,2,   20.41,2,  20.8325, -65.9777,    -999,     -999,    -999,   3.3231,   3.4786,2,-999,9,-999,-999,9,-999,    35.1265,2,-999,9,20120406,       2050
33AT20120324,        A22,      43,          1,         12,         12,2,20120406,       1939,    20.8317,   -65.9783,       5387,  2186.4,   3.2142,  34.9533,2,  34.9519,2,    261.8,2,   262.0,2,   18.22,2,   18.00,2,    0.00,2,    1.22,2,   0.773,2,   0.393,2,   0.027,2,    0.00,4,  2164.6,2, 2319.74,2,   7.7456,2,       25,    -999,9,     -999,9,    -999,9,   3.2154,2,    -999,9,    -999,9,    -999,    -999,9,    -999,    0.83,2,   41.22,2,   20.48,2,  20.8325, -65.9777,    -999,     -999,    -999,   3.0408,   3.2154,2,-999,9,-999,-999,9,-999,    35.1167,2,-999,9,20120406,       2045
33AT20120324,        A22,      43,          1,         11,         11,2,20120406,       1939,    20.8317,   -65.9783,       5387,  2441.5,   3.0207,  34.9444,2,  34.9438,2,    261.9,2,   262.5,2,   20.11,2,   18.09,2,    0.00,2,    1.24,2,   0.645,2,   0.332,2,   0.021,2,    0.00,4,    -999,9,    -999,9,     -999,9,     -999,    -999,9,     -999,9,    -999,9,   3.0202,2,    -999,9,    -999,9,    -999,    -999,9,    -999,    0.74,2,   41.75,2,   20.32,2,  20.8325, -65.9777,    -999,     -999,    -999,   2.8261,   3.0202,2,-999,9,-999,-999,9,-999,    35.1086,2,-999,9,20120406,       2040
33AT20120324,        A22,      43,          1,         10,         10,2,20120406,       1939,    20.8317,   -65.9783,       5387,  2696.4,   2.8471,  34.9339,2,  34.9324,2,    263.0,2,   262.9,2,   21.44,2,   18.10,2,    0.00,2,    1.24,2,   0.667,2,   0.333,2,   0.029,2,    0.12,4,    -999,9,    -999,9,     -999,9,     -999,    -999,9,     -999,9,    -999,9,   2.8478,2,    -999,9,    -999,9,    -999,    -999,9,    -999,    0.79,2,   41.71,2,   20.33,2,  20.8325, -65.9777,    -999,     -999,    -999,   2.6306,   2.8478,2,-999,9,-999,-999,9,-999,    35.0971,2,-999,9,20120406,       2034
33AT20120324,        A22,      43,          1,          9,          9,2,20120406,       1939,    20.8317,   -65.9783,       5387,  2950.3,   2.6401,  34.9210,2,  34.9204,2,    265.6,2,   265.0,2,   23.32,2,   18.11,2,    0.00,2,    1.24,2,   0.705,2,   0.361,2,   0.036,2,    0.00,4,  2168.1,2, 2322.32,2,   7.7400,2,       25,    -999,9,     -999,9,    -999,9,   2.6413,2,    -999,9,    -999,9,    -999,    -999,9,    -999,    0.82,2,   41.72,2,   20.28,2,  20.8325, -65.9777,    -999,     -999,    -999,   2.4022,   2.6413,2,-999,9,-999,-999,9,-999,    35.0851,2,-999,9,20120406,       2029
33AT20120324,        A22,      43,          1,          8,          8,2,20120406,       1939,    20.8317,   -65.9783,       5387,  3242.4,   2.4828,  34.9104,2,  34.9078,2,    266.1,2,   265.8,2,   25.13,2,   18.19,2,    0.00,2,    1.25,2,   0.672,2,   0.350,2,   0.037,2,    0.09,4,    -999,9,    -999,9,     -999,9,     -999,    -999,9,     -999,9,    -999,9,   2.4826,2,    -999,9,    -999,9,    -999,    -999,9,    -999,    0.79,2,   41.52,2,   20.35,2,  20.8324, -65.9778,    -999,     -999,    -999,   2.2183,   2.4826,2,-999,9,-999,-999,9,-999,    35.0724,2,-999,9,20120406,       2023
33AT20120324,        A22,      43,          1,          7,          7,2,20120406,       1939,    20.8317,   -65.9783,       5387,  3547.9,   2.3507,  34.9005,2,  34.8988,2,    266.5,2,   267.2,2,   26.68,2,   18.19,2,    0.00,2,    1.25,2,   0.765,2,   0.405,2,   0.044,2,    0.06,4,    -999,9,    -999,9,     -999,9,     -999,    -999,9,     -999,9,    -999,9,   2.3509,2,    -999,9,    -999,9,    -999,    -999,9,    -999,    0.88,2,   40.97,2,   20.48,2,  20.8323, -65.9778,    -999,     -999,    -999,   2.0568,   2.3509,2,-999,9,-999,-999,9,-999,    35.0633,2,-999,9,20120406,       2017
33AT20120324,        A22,      43,          1,          6,          6,2,20120406,       1939,    20.8317,   -65.9783,       5387,  3854.7,   2.2838,  34.8937,2,  34.8929,2,    265.7,2,   266.2,2,   28.77,2,   18.34,2,    0.00,2,    1.27,2,   0.813,2,   0.417,2,   0.051,2,    0.00,4,  2174.3,2, 2328.33,2,   7.7368,6,       25,    -999,9,     -999,9,    -999,9,   2.2841,2,    -999,9,    -999,9,    -999,    -999,9,    -999,    0.91,2,   40.83,2,   20.63,2,  20.8322, -65.9779,    -999,     -999,    -999,   1.9579,   2.2841,2,-999,9,-999,-999,9,-999,    35.0574,2,-999,9,20120406,       2011