BOTTLE,20220725CCHSIOCBG
EXPOCODE,SECT_ID,STNNBR,CASTNO,SAMPNO,BTLNBR,BTLNBR_FLAG_W,DATE,TIME,LATITUDE,LONGITUDE,DEPTH,CTDPRS,CTDTMP,CTDSAL,CTDSAL_FLAG_W,SALNTY,SALNTY_FLAG_W,CTDOXY,CTDOXY_FLAG_W,OXYGEN,OXYGEN_FLAG_W,SILCAT,SILCAT_FLAG_W,NITRAT,NITRAT_FLAG_W,NITRIT,NITRIT_FLAG_W,PHSPHT,PHSPHT_FLAG_W,CFC-11,CFC-11_FLAG_W,CFC-12,CFC-12_FLAG_W,CFC113,CFC113_FLAG_W,SF6,SF6_FLAG_W,TCARBN,TCARBN_FLAG_W,ALKALI,ALKALI_FLAG_W,PH_TOT,PH_TOT_FLAG_W,PH_TMP,TRITUM,TRITUM_FLAG_W,HELIUM,HELIUM_FLAG_W,DELHE3,DELHE3_FLAG_W,REFTMP,REFTMP_FLAG_W,DELC13,DELC13_FLAG_W,DELC14,DELC14_FLAG_W,C14ERR,NEON,NEON_FLAG_W,NEONER,CCL4,CCL4_FLAG_W,DOC,DOC_FLAG_W,TDN,TDN_FLAG_W,BTL_LAT,BTL_LON,TRITER,HELIER,DELHER,THETA,SBE35,SBE35_FLAG_W,14C-DOC,14C-DOC_FLAG_W,14C-DOCERR,13C-DOC,13C-DOC_FLAG_W,13C-DOCERR,SALTREF,SALTREF_FLAG_W,LAB_DEN,LAB_DEN_FLAG_W,BTL_DATE,BTL_TIME
,,,,,,,,,,,METERS,DBAR,ITS-90,PSS-78,,PSS-78,,UMOL/KG,,UMOL/KG,,UMOL/KG,,UMOL/KG,,UMOL/KG,,UMOL/KG,,PMOL/KG,,PMOL/KG,,PMOL/KG,,FMOL/KG,,UMOL/KG,,UMOL/KG,,,,DEG C,TU,,NMOL/KG,,PERCNT,,DEG C,,/MILLE,,/MILLE,,/MILLE,NMOL/KG,,NMOL/KG,PMOL/KG,,UMOL/KG,,UMOL/KG,,,,TU,NMOL/KG,PERCNT,DEG C,ITS-90,,/MILLE,,/MILLE,/MILLE,,/MILLE,G/KG,,KG/M^3,,,
33AT20120324,        A22,      30,          1,         36,         36,2,20120402,       1225,    29.9018,   -65.3814,       4898,     4.0,  20.6094,  36.6708,2,  36.6715,2,    220.6,2,   221.3,2,    0.19,2,    0.00,2,    0.00,2,    0.00,2,   2.090,2,   1.260,2,   0.179,2,    1.43,2,  2077.7,6, 2399.18,6,   8.0561,2,       25,    -999,9,     -999,9,    -999,9,  20.6098,2,    -999,9,    -999,9,    -999,    -999,9,    -999,    -999,1,    -999,9,    -999,9,  29.8969, -65.3829,    -999,     -999,    -999,  20.6086,  20.6098,2,-999,9,-999,-999,9,-999,    36.8444,2,-999,9,20120402,       1432
33AT20120324,        A22,      30,          1,         35,         35,2,20120402,       1225,    29.9018,   -65.3814,       4898,    36.2,  20.5859,  36.6709,2,  36.6709,2,    221.9,2,   221.3,2,    0.11,2,    0.00,2,    0.00,2,    0.00,2,   2.085,2,   1.254,2,   0.170,2,    1.41,2,    -999,9,    -999,9,     -999,9,     -999,    -999,9,     -999,9,    -999,9,  20.5868,2,    -999,9,    -999,9,    -999,    -999,9,    -999,    -999,1,    -999,9,    -999,9,  29.8969, -65.3829,    -999,     -999,    -999,  20.5790,  20.5868,2,-999,9,-999,-999,9,-999,    36.8438,2,-999,9,20120402,       1429
33AT20120324,        A22,      30,          1,         34,         34,2,20120402,       1225,    29.9018,   -65.3814,       4898,    61.9,  20.4820,  36.6695,2,  36.6705,2,    221.3,2,   222.6,2,    0.17,2,    0.00,2,    0.00,2,    0.00,2,   2.098,2,   1.287,2,   0.161,2,    1.46,2,    -999,9,    -999,9,     -999,9,     -999,    -999,9,     -999,9,    -999,9,  20.4828,2,    -999,9,    -999,9,    -999,    -999,9,    -999,    -999,1,    -999,9,    -999,9,  29.8969, -65.3830,    -999,     -999,    -999,  20.4703,  20.4828,2,-999,9,-999,-999,9,-999,    36.8434,2,-999,9,20120402,       1427
33AT20120324,        A22,      30,          1,         33,         33,2,20120402,       1225,    29.9018,   -65.3814,       4898,    86.5,  20.3373,  36.6453,2,  36.6453,2,    221.4,2,   221.0,2,    0.21,2,    0.01,2,    0.03,2,    0.00,2,   2.117,2,   1.241,2,   0.171,2,    1.44,2,  2077.7,2, 2398.93,2,   8.0521,6,       25,    -999,9,     -999,9,    -999,9,  20.3376,2,    -999,9,    -999,9,    -999,    -999,9,    -999,    -999,1,    -999,9,    -999,9,  29.8969, -65.3830,    -999,     -999,    -999,  20.3210,  20.3376,2,-999,9,-999,-999,9,-999,    36.8181,2,-999,9,20120402,       1425
33AT20120324,        A22,      30,          1,         32,         32,2,20120402,       1225,    29.9018,   -65.3814,       4898,   116.2,  19.7941,  36.5840,2,  36.5839,2,    220.4,2,   220.1,2,    0.27,2,    0.17,2,    0.23,2,    0.01,2,   2.162,2,   1.310,2,   0.174,2,    1.50,2,    -999,9,    -999,9,     -999,9,     -999,    -999,9,     -999,9,    -999,9,  19.7958,2,    -999,9,    -999,9,    -999,    -999,9,    -999,    -999,1,    -999,9,    -999,9,  29.8969, -65.3830,    -999,     -999,    -999,  19.7726,  19.7958,2,-999,9,-999,-999,9,-999,    36.7564,2,-999,9,20120402,       1423
33AT20120324,        A22,      30,          1,         31,         31,2,20120402,       1225,    29.9018,   -65.3814,       4898,   167.6,  19.6743,  36.5803,2,  36.5811,2,    218.2,2,   218.5,2,    0.24,2,    0.46,2,    0.16,2,    0.01,2,   2.169,2,   1.309,2,   0.166,2,    1.49,2,    -999,9,    -999,9,     -999,9,     -999,    -999,9,     -999,9,    -999,9,  19.6744,2,    -999,9,    -999,9,    -999,    -999,9,    -999,    -999,1,    -999,9,    -999,9,  29.8969, -65.3830,    -999,     -999,    -999,  19.6434,  19.6744,2,-999,9,-999,-999,9,-999,    36.7536,2,-999,9,20120402,       1420
33AT20120324,        A22,      30,          1,         30,         30,2,20120402,       1225,    29.9018,   -65.3814,       4898,   216.8,  18.6215,  36.6168,2,  36.6186,2,    193.9,2,   193.6,2,    0.87,2,    3.58,2,    0.01,2,    0.15,2,   2.277,2,   1.355,2,   0.042,2,    1.32,2,  2114.5,2, 2393.30,2,   7.9825,2,       25,    -999,9,     -999,9,    -999,9,  18.6175,2,    -999,9,    -999,9,    -999,    -999,9,    -999,    -999,1,    -999,9,    -999,9,  29.8968, -65.3830,    -999,     -999,    -999,  18.5830,  18.6175,2,-999,9,-999,-999,9,-999,    36.7913,2,-999,9,20120402,       1417
33AT20120324,        A22,      30,          1,         29,         29,2,20120402,       1225,    29.9018,   -65.3814,       4898,   275.2,  18.3096,  36.5971,2,  36.5970,2,    199.7,2,   199.5,2,    0.80,2,    3.78,2,    0.00,2,    0.17,2,   2.332,2,   1.403,2,   0.044,2,    1.37,2,  2112.1,2, 2392.31,2,   7.9856,2,       25,    -999,9,     -999,9,    -999,9,  18.3084,2,    -999,9,    -999,9,    -999,    -999,9,    -999,    -999,1,    -999,9,    -999,9,  29.8966, -65.3830,    -999,     -999,    -999,  18.2612,  18.3084,2,-999,9,-999,-999,9,-999,    36.7696,2,-999,9,20120402,       1411
33AT20120324,        A22,      30,          1,         28,         28,2,20120402,       1225,    29.9018,   -65.3814,       4898,   318.2,  18.1038,  36.5753,2,  36.5756,2,    201.3,2,   201.1,2,    1.00,2,    4.04,2,    0.00,2,    0.19,2,   2.318,2,   1.375,2,   0.044,2,    1.37,2,    -999,9,    -999,9,     -999,9,     -999,    -999,9,     -999,9,    -999,9,  18.1073,2,    -999,9,    -999,9,    -999,    -999,9,    -999,    -999,1,    -999,9,    -999,9,  29.8966, -65.3830,    -999,     -999,    -999,  18.0482,  18.1073,2,-999,9,-999,-999,9,-999,    36.7481,2,-999,9,20120402,       1409
33AT20120324,        A22,      30,          1,         27,         27,2,20120402,       1225,    29.9018,   -65.3814,       4898,   366.9,  17.8728,  36.5399,2,  36.5403,2,    202.8,2,   202.8,2,    1.03,2,    4.31,2,    0.00,2,    0.20,2,   2.363,2,   1.316,2,   0.047,2,    1.38,2,  2114.0,2, 2389.41,2,   7.9784,2,       25,    -999,9,     -999,9,    -999,9,  17.8738,2,    -999,9,    -999,9,    -999,    -999,9,    -999,    -999,1,    -999,9,    -999,9,  29.8966, -65.3830,    -999,     -999,    -999,  17.8092,  17.8738,2,-999,9,-999,-999,9,-999,    36.7126,2,-999,9,20120402,       1408
33AT20120324,        A22,      30,          1,         26,         26,2,20120402,       1225,    29.9018,   -65.3814,       4898,   415.7,  17.6233,  36.4967,2,  36.4977,2,    201.0,2,   201.3,2,    1.25,2,    4.88,2,    0.00,2,    0.23,2,   2.415,2,   1.425,2,   0.044,2,    1.37,2,    -999,9,    -999,9,     -999,9,     -999,    -999,9,     -999,9,    -999,9,  17.6271,2,    -999,9,    -999,9,    -999,    -999,9,    -999,    -999,1,    -999,9,    -999,9,  29.8965, -65.3831,    -999,     -999,    -999,  17.5519,  17.6271,2,-999,9,-999,-999,9,-999,    36.6698,2,-999,9,20120402,       1406
33AT20120324,        A22,      30,          1,         25,         25,2,20120402,       1225,    29.9018,   -65.3814,       4898,   467.5,  17.1201,  36.3996,2,  36.3916,2,    194.5,2,   194.3,2,    1.89,2,    6.54,2,    0.00,2,    0.33,2,   2.399,2,   1.367,2,   0.034,2,    1.24,2,    -999,9,    -999,9,     -999,9,     -999,    -999,9,     -999,9,    -999,9,  17.1144,2,    -999,9,    -999,9,    -999,    -999,9,    -999,    -999,1,    -999,9,    -999,9,  29.8965, -65.3831,    -999,     -999,    -999,  17.0413,  17.1144,2,-999,9,-999,-999,9,-999,    36.5632,2,-999,9,20120402,       1404
33AT20120324,        A22,      30,          1,         24,         24,2,20120402,       1225,    29.9018,   -65.3814,       4898,   540.0,  16.1041,  36.2058,2,  36.2094,2,    185.9,2,   186.7,2,    2.55,2,    8.65,2,    0.00,2,    0.48,2,   2.433,2,   1.361,2,   0.028,2,    1.11,2,  2132.7,2, 2370.64,2,   7.9134,2,       25,    -999,9,     -999,9,    -999,9,  16.1087,2,    -999,9,    -999,9,    -999,    -999,9,    -999,    -999,1,    -999,9,    -999,9,  29.8966, -65.3830,    -999,     -999,    -999,  16.0167,  16.1087,2,-999,9,-999,-999,9,-999,    36.3802,2,-999,9,20120402,       1402
33AT20120324,        A22,      30,          1,         23,         23,2,20120402,       1225,    29.9018,   -65.3814,       4898,   638.8,  14.3068,  35.8985,2,  35.8982,2,    176.4,2,   176.8,2,    4.36,2,   12.45,2,    0.00,2,    0.74,2,   2.404,2,   1.341,2,   0.043,2,    0.96,2,    -999,9,    -999,9,     -999,9,     -999,    -999,9,     -999,9,    -999,9,  14.3028,2,    -999,9,    -999,9,    -999,    -999,9,    -999,    -999,1,    -999,9,    -999,9,  29.8966, -65.3830,    -999,     -999,    -999,  14.2110,  14.3028,2,-999,9,-999,-999,9,-999,    36.0675,2,-999,9,20120402,       1359
33AT20120324,        A22,      30,          1,         22,         22,2,20120402,       1225,    29.9018,   -65.3814,       4898,   742.2,  11.9838,  35.5408,2,  35.5460,2,    153.3,2,   153.1,2,    8.51,2,   18.63,2,    0.00,2,    1.15,2,   1.945,2,   1.037,2,   0.027,2,    0.82,2,    -999,9,    -999,9,     -999,9,     -999,    -999,9,     -999,9,    -999,9,  11.9827,2,    -999,9,    -999,9,    -999,    -999,9,    -999,    -999,1,    -999,9,    -999,9,  29.8966, -65.3830,    -999,     -999,    -999,  11.8843,  11.9827,2,-999,9,-999,-999,9,-999,    35.7136,2,-999,9,20120402,       1356
33AT20120324,        A22,      30,          1,         21,         21,2,20120402,       1225,    29.9018,   -65.3814,       4898,   841.1,   9.2288,  35.2290,2,  35.2337,2,    150.4,2,   150.4,2,   12.70,2,   22.85,2,    0.00,2,    1.45,2,   1.485,2,   0.754,2,   0.021,2,    0.54,2,  2188.7,2, 2323.77,2,   7.6894,6,       25,    -999,9,     -999,9,    -999,9,   9.2266,2,    -999,9,    -999,9,    -999,    -999,9,    -999,    -999,1,    -999,9,    -999,9,  29.8967, -65.3830,    -999,     -999,    -999,   9.1324,   9.2266,2,-999,9,-999,-999,9,-999,    35.3998,2,-999,9,20120402,       1353
33AT20120324,        A22,      30,          1,         20,         20,2,20120402,       1225,    29.9018,   -65.3814,       4898,   941.5,   7.4535,  35.1186,2,  35.1181,2,    169.0,2,   175.3,2,   13.65,2,   22.36,2,    0.00,2,    1.45,2,   1.479,2,   0.735,2,   0.029,2,    0.47,2,  2186.3,2, 2319.80,2,   7.6873,2,       25,    -999,9,     -999,9,    -999,9,   7.4526,2,    -999,9,    -999,9,    -999,    -999,9,    -999,    -999,1,    -999,9,    -999,9,  29.8967, -65.3830,    -999,     -999,    -999,   7.3573,   7.4526,2,-999,9,-999,-999,9,-999,    35.2837,2,-999,9,20120402,       1351
33AT20120324,        A22,      30,          1,         19,         19,2,20120402,       1225,    29.9018,   -65.3814,       4898,  1044.5,   6.3538,  35.0812,2,  35.0809,2,    191.4,2,   191.4,2,   14.70,2,   22.21,2,    0.00,2,    1.45,2,   1.088,2,   0.521,2,   0.021,2,    0.27,2,    -999,9,    -999,9,     -999,9,     -999,    -999,9,     -999,9,    -999,9,   6.3579,2,    -999,9,    -999,9,    -999,    -999,9,    -999,    -999,1,    -999,9,    -999,9,  29.8968, -65.3830,    -999,     -999,    -999,   6.2549,   6.3579,2,-999,9,-999,-999,9,-999,    35.2463,2,-999,9,20120402,       1348
33AT20120324,        A22,      30,          1,         18,         18,2,20120402,       1225,    29.9018,   -65.3814,       4898,  1145.5,   5.6352,  35.0758,2,  35.0748,2,    217.1,2,   218.1,2,   12.92,2,   19.92,2,    0.00,2,    1.31,2,   1.687,2,   0.828,2,   0.070,2,    0.43,2,    -999,9,    -999,9,     -999,9,     -999,    -999,9,     -999,9,    -999,9,   5.6356,2,    -999,9,    -999,9,    -999,    -999,9,    -999,    -999,1,    -999,9,    -999,9,  29.8970, -65.3829,    -999,     -999,    -999,   5.5320,   5.6356,2,-999,9,-999,-999,9,-999,    35.2402,2,-999,9,20120402,       1345
33AT20120324,        A22,      30,          1,         17,         17,2,20120402,       1225,    29.9018,   -65.3814,       4898,  1246.4,   5.2555,  35.0685,2,  35.0681,2,    229.4,2,   229.8,2,   12.57,2,   19.09,2,    0.00,2,    1.26,2,   1.782,2,   0.870,2,   0.077,2,    0.46,2,  2172.2,2, 2317.83,2,   7.7181,2,       25,    -999,9,     -999,9,    -999,9,   5.2547,2,    -999,9,    -999,9,    -999,    -999,9,    -999,    -999,1,    -999,9,    -999,9,  29.8972, -65.3829,    -999,     -999,    -999,   5.1459,   5.2547,2,-999,9,-999,-999,9,-999,    35.2335,2,-999,9,20120402,       1343
33AT20120324,        A22,      30,          1,         16,         16,2,20120402,       1225,    29.9018,   -65.3814,       4898,  1345.0,   4.9426,  35.0564,2,  35.0571,2,    239.0,2,   238.1,2,   12.50,2,   18.75,2,    0.00,2,    1.23,2,   1.820,2,   0.893,2,   0.086,2,    0.44,2,    -999,9,    -999,9,     -999,9,     -999,    -999,9,     -999,9,    -999,9,   4.9426,2,    -999,9,    -999,9,    -999,    -999,9,    -999,    -999,1,    -999,9,    -999,9,  29.8974, -65.3828,    -999,     -999,    -999,   4.8266,   4.9426,2,-999,9,-999,-999,9,-999,    35.2224,2,-999,9,20120402,       1340
33AT20120324,        A22,      30,          1,         15,         15,2,20120402,       1225,    29.9018,   -65.3814,       4898,  1445.7,   4.6564,  35.0440,2,  35.0433,2,    244.1,2,   244.0,2,   12.73,2,   18.44,2,    0.00,2,    1.22,2,   1.769,2,   0.745,2,   0.085,2,    0.40,2,    -999,9,    -999,9,     -999,9,     -999,    -999,9,     -999,9,    -999,9,   4.6575,2,    -999,9,    -999,9,    -999,    -999,9,    -999,    -999,1,    -999,9,    -999,9,  29.8975, -65.3828,    -999,     -999,    -999,   4.5338,   4.6575,2,-999,9,-999,-999,9,-999,    35.2085,2,-999,9,20120402,       1338
33AT20120324,        A22,      30,          1,         14,         14,2,20120402,       1225,    29.9018,   -65.3814,       4898,  1549.3,   4.4501,  35.0344,2,  35.0347,2,    246.8,2,   247.5,2,   13.24,2,   18.45,2,    0.00,2,    1.22,2,   1.483,2,   0.726,2,   0.046,2,    0.31,2,    -999,9,    -999,9,     -999,9,     -999,    -999,9,     -999,9,    -999,9,   4.4512,2,    -999,9,    -999,9,    -999,    -999,9,    -999,    -999,1,    -999,9,    -999,9,  29.8975, -65.3828,    -999,     -999,    -999,   4.3200,   4.4512,2,-999,9,-999,-999,9,-999,    35.1999,2,-999,9,20120402,       1335
33AT20120324,        A22,      30,          1,         13,         13,2,20120402,       1225,    29.9018,   -65.3814,       4898,  1680.8,   4.2313,  35.0233,2,  35.0247,2,    250.5,2,   250.8,2,   13.84,2,   18.31,2,    0.00,2,    1.22,2,   1.287,2,   0.607,2,   0.048,2,    0.22,2,  2165.4,2, 2317.29,2,   7.7355,2,       25,    -999,9,     -999,9,    -999,9,   4.2314,2,    -999,9,    -999,9,    -999,    -999,9,    -999,    -999,1,    -999,9,    -999,9,  29.8975, -65.3828,    -999,     -999,    -999,   4.0913,   4.2314,2,-999,9,-999,-999,9,-999,    35.1898,2,-999,9,20120402,       1332
33AT20120324,        A22,      30,          1,         12,         12,2,20120402,       1225,    29.9018,   -65.3814,       4898,  1884.9,   3.8498,  34.9942,2,  34.9946,2,    255.5,2,   255.2,2,   14.89,2,   18.16,2,    0.00,2,    1.22,2,   1.167,2,   0.549,2,   0.043,2,    0.22,2,    -999,9,    -999,9,     -999,9,     -999,    -999,9,     -999,9,    -999,9,   3.8519,2,    -999,9,    -999,9,    -999,    -999,9,    -999,    -999,1,    -999,9,    -999,9,  29.8976, -65.3828,    -999,     -999,    -999,   3.6955,   3.8519,2,-999,9,-999,-999,9,-999,    35.1596,2,-999,9,20120402,       1327
33AT20120324,        A22,      30,          1,         11,         11,2,20120402,       1225,    29.9018,   -65.3814,       4898,  2108.3,   3.5296,  34.9722,2,  34.9727,2,    258.5,2,   258.6,2,   16.61,2,   18.14,2,    0.00,2,    1.22,2,   1.022,2,   0.441,2,   0.038,2,    0.19,2,    -999,9,    -999,9,     -999,9,     -999,    -999,9,     -999,9,    -999,9,   3.5300,2,    -999,9,    -999,9,    -999,    -999,9,    -999,    -999,1,    -999,9,    -999,9,  29.8979, -65.3827,    -999,     -999,    -999,   3.3587,   3.5300,2,-999,9,-999,-999,9,-999,    35.1377,2,-999,9,20120402,       1323
33AT20120324,        A22,      30,          1,         10,         10,2,20120402,       1225,    29.9018,   -65.3814,       4898,  2362.6,   3.2845,  34.9600,2,  34.9604,2,    258.9,2,   258.8,2,   18.77,2,   18.24,2,    0.00,2,    1.23,2,   0.787,2,   0.356,2,   0.036,2,    0.16,2,    -999,9,    -999,9,     -999,9,     -999,    -999,9,     -999,9,    -999,9,   3.2847,2,    -999,9,    -999,9,    -999,    -999,9,    -999,    -999,1,    -999,9,    -999,9,  29.8982, -65.3826,    -999,     -999,    -999,   3.0929,   3.2847,2,-999,9,-999,-999,9,-999,    35.1252,2,-999,9,20120402,       1318
33AT20120324,        A22,      30,          1,          9,          9,2,20120402,       1225,    29.9018,   -65.3814,       4898,  2616.6,   3.0478,  34.9469,2,  34.9474,2,    260.1,2,   260.4,2,   20.66,2,   18.31,2,    0.00,2,    1.24,2,   0.637,2,   0.292,2,   0.024,2,    0.15,2,    -999,9,    -999,9,     -999,9,     -999,    -999,9,     -999,9,    -999,9,   3.0475,2,    -999,9,    -999,9,    -999,    -999,9,    -999,    -999,1,    -999,9,    -999,9,  29.8984, -65.3825,    -999,     -999,    -999,   2.8353,   3.0475,2,-999,9,-999,-999,9,-999,    35.1122,2,-999,9,20120402,       1312
33AT20120324,        A22,      30,          1,          8,          8,2,20120402,       1225,    29.9018,   -65.3814,       4898,  2871.9,   2.8153,  34.9321,2,  34.9328,2,    262.9,2,   262.9,2,   21.58,2,   18.16,2,    0.00,2,    1.23,2,   0.683,2,   0.307,2,   0.023,2,    0.14,2,    -999,9,    -999,9,     -999,9,     -999,    -999,9,     -999,9,    -999,9,   2.8151,2,    -999,9,    -999,9,    -999,    -999,9,    -999,    -999,1,    -999,9,    -999,9,  29.8986, -65.3824,    -999,     -999,    -999,   2.5817,   2.8151,2,-999,9,-999,-999,9,-999,    35.0976,2,-999,9,20120402,       1307
33AT20120324,        A22,      30,          1,          7,          7,2,20120402,       1225,    29.9018,   -65.3814,       4898,  3140.8,   2.5854,  34.9178,2,  34.9181,2,    265.4,2,   265.9,2,   22.86,2,   17.98,2,    0.00,2,    1.22,2,   0.772,2,   0.351,2,   0.037,2,    0.12,2,  2166.0,2, 2320.61,2,   7.7446,2,       25,    -999,9,     -999,9,    -999,9,   2.5855,2,    -999,9,    -999,9,    -999,    -999,9,    -999,    -999,1,    -999,9,    -999,9,  29.8990, -65.3823,    -999,     -999,    -999,   2.3291,   2.5855,2,-999,9,-999,-999,9,-999,    35.0827,2,-999,9,20120402,       1302
33AT20120324,        A22,      30,          1,          6,          6,2,20120402,       1225,    29.9018,   -65.3814,       4898,  3449.6,   2.4118,  34.9063,2,  34.9061,2,    266.1,2,   266.1,2,   25.33,2,   18.09,2,    0.00,2,    1.24,2,   0.766,2,   0.346,2,   0.038,2,    0.17,2,    -999,9,    -999,9,     -999,9,     -999,    -999,9,     -999,9,    -999,9,   2.4120,2,    -999,9,    -999,9,    -999,    -999,9,    -999,    -999,1,    -999,9,    -999,9,  29.8993, -65.3822,    -999,     -999,    -999,   2.1270,   2.4120,2,-999,9,-999,-999,9,-999,    35.0707,2,-999,9,20120402,       1256