BOTTLE,20220725CCHSIOCBG
EXPOCODE,SECT_ID,STNNBR,CASTNO,SAMPNO,BTLNBR,BTLNBR_FLAG_W,DATE,TIME,LATITUDE,LONGITUDE,DEPTH,CTDPRS,CTDTMP,CTDSAL,CTDSAL_FLAG_W,SALNTY,SALNTY_FLAG_W,CTDOXY,CTDOXY_FLAG_W,OXYGEN,OXYGEN_FLAG_W,SILCAT,SILCAT_FLAG_W,NITRAT,NITRAT_FLAG_W,NITRIT,NITRIT_FLAG_W,PHSPHT,PHSPHT_FLAG_W,CFC-11,CFC-11_FLAG_W,CFC-12,CFC-12_FLAG_W,CFC113,CFC113_FLAG_W,SF6,SF6_FLAG_W,TCARBN,TCARBN_FLAG_W,ALKALI,ALKALI_FLAG_W,PH_TOT,PH_TOT_FLAG_W,PH_TMP,TRITUM,TRITUM_FLAG_W,HELIUM,HELIUM_FLAG_W,DELHE3,DELHE3_FLAG_W,REFTMP,REFTMP_FLAG_W,DELC13,DELC13_FLAG_W,DELC14,DELC14_FLAG_W,C14ERR,NEON,NEON_FLAG_W,NEONER,CCL4,CCL4_FLAG_W,DOC,DOC_FLAG_W,TDN,TDN_FLAG_W,BTL_LAT,BTL_LON,TRITER,HELIER,DELHER,THETA,SBE35,SBE35_FLAG_W,14C-DOC,14C-DOC_FLAG_W,14C-DOCERR,13C-DOC,13C-DOC_FLAG_W,13C-DOCERR,SALTREF,SALTREF_FLAG_W,LAB_DEN,LAB_DEN_FLAG_W,BTL_DATE,BTL_TIME
,,,,,,,,,,,METERS,DBAR,ITS-90,PSS-78,,PSS-78,,UMOL/KG,,UMOL/KG,,UMOL/KG,,UMOL/KG,,UMOL/KG,,UMOL/KG,,PMOL/KG,,PMOL/KG,,PMOL/KG,,FMOL/KG,,UMOL/KG,,UMOL/KG,,,,DEG C,TU,,NMOL/KG,,PERCNT,,DEG C,,/MILLE,,/MILLE,,/MILLE,NMOL/KG,,NMOL/KG,PMOL/KG,,UMOL/KG,,UMOL/KG,,,,TU,NMOL/KG,PERCNT,DEG C,ITS-90,,/MILLE,,/MILLE,/MILLE,,/MILLE,G/KG,,KG/M^3,,,
33AT20120324,        A22,       6,          1,         33,         33,2,20120326,       1154,    39.4748,   -69.6420,       2433,    10.2,  10.3395,  33.2517,2,  33.2656,2,    356.4,4,   300.0,2,    0.00,2,    0.05,2,    0.01,2,    0.20,2,    -999,9,    -999,9,    -999,9,    -999,9,  2023.2,6, 2237.52,4,   7.9136,2,       25,    -999,9,     -999,9,    -999,9,  10.3433,2,    -999,9,    -999,9,    -999,    -999,9,    -999,    -999,9,    -999,9,    -999,9,  39.4747, -69.6400,    -999,     -999,    -999,  10.3383,  10.3433,2,-999,9,-999,-999,9,-999,    33.4225,2,-999,9,20120326,       1313
33AT20120324,        A22,       6,          1,         32,         32,2,20120326,       1154,    39.4748,   -69.6420,       2433,    39.5,  14.1033,  35.3287,2,  35.3537,2,    236.4,3,   234.2,2,    2.00,2,    5.10,2,    0.10,2,    0.38,2,   2.765,2,   1.627,2,   0.215,2,    1.71,2,  2093.6,2, 2334.42,6,   7.9147,6,       25,    -999,9,     -999,9,    -999,9,  14.1256,2,    -999,9,    -999,9,    -999,    -999,9,    -999,    -999,1,    -999,9,    -999,9,  39.4747, -69.6399,    -999,     -999,    -999,  14.0976,  14.1256,2,-999,9,-999,-999,9,-999,    35.5204,2,-999,9,20120326,       1311
33AT20120324,        A22,       6,          1,         31,         31,2,20120326,       1154,    39.4748,   -69.6420,       2433,    64.7,  15.0429,  35.7267,2,  35.7354,2,    211.3,3,   209.9,2,    2.93,2,    7.43,2,    0.08,2,    0.47,2,    -999,9,    -999,9,    -999,9,    -999,9,    -999,9,    -999,9,     -999,9,     -999,    -999,9,     -999,9,    -999,9,  15.0987,2,    -999,9,    -999,9,    -999,    -999,9,    -999,    -999,9,    -999,9,    -999,9,  39.4747, -69.6400,    -999,     -999,    -999,  15.0331,  15.0987,2,-999,9,-999,-999,9,-999,    35.9039,2,-999,9,20120326,       1309
33AT20120324,        A22,       6,          1,         30,         30,2,20120326,       1154,    39.4748,   -69.6420,       2433,    85.5,  14.0585,  35.5447,2,  35.5305,2,    221.7,3,   225.5,2,    2.78,2,    6.94,2,    0.27,2,    0.47,2,   2.657,2,   1.556,2,   0.179,2,    1.55,2,  2109.7,2, 2359.12,3,   7.9105,6,       25,    -999,9,     -999,9,    -999,9,  14.0633,2,    -999,9,    -999,9,    -999,    -999,9,    -999,    -999,1,    -999,9,    -999,9,  39.4747, -69.6401,    -999,     -999,    -999,  14.0461,  14.0633,2,-999,9,-999,-999,9,-999,    35.6981,2,-999,9,20120326,       1307
33AT20120324,        A22,       6,          1,         29,         29,2,20120326,       1154,    39.4748,   -69.6420,       2433,   113.8,  14.2681,  35.6550,2,  35.6582,2,    219.5,2,   219.1,2,    3.09,2,    7.67,2,    0.19,2,    0.52,2,   2.578,2,   1.494,2,   0.162,2,    1.49,2,  2115.5,2, 2346.92,2,   7.9077,2,       25,    -999,9,     -999,9,    -999,9,  14.2528,2,    -999,9,    -999,9,    -999,    -999,9,    -999,    -999,1,    -999,9,    -999,9,  39.4747, -69.6402,    -999,     -999,    -999,  14.2514,  14.2528,2,-999,9,-999,-999,9,-999,    35.8263,2,-999,9,20120326,       1305
33AT20120324,        A22,       6,          1,         28,         28,2,20120326,       1154,    39.4748,   -69.6420,       2433,   136.1,  14.3791,  35.8089,2,  35.8007,2,    158.3,2,   156.0,2,    5.96,2,   14.54,2,    0.02,2,    0.86,2,   2.162,2,   1.245,2,   0.036,2,    0.98,2,    -999,9,    -999,9,   7.7817,3,       25,    -999,9,     -999,9,    -999,9,  14.3689,2,    -999,9,    -999,9,    -999,    -999,9,    -999,    -999,1,    -999,9,    -999,9,  39.4747, -69.6403,    -999,     -999,    -999,  14.3590,  14.3689,2,-999,9,-999,-999,9,-999,    35.9695,2,-999,9,20120326,       1303
33AT20120324,        A22,       6,          1,         27,         27,2,20120326,       1154,    39.4748,   -69.6420,       2433,   161.4,  13.3650,  35.6782,2,  35.6664,2,    146.9,2,   147.9,2,    7.56,2,   17.26,2,    0.00,2,    1.03,2,    -999,9,    -999,9,    -999,9,    -999,9,  2167.5,2, 2340.18,2,   7.7818,2,       25,    -999,9,     -999,9,    -999,9,  13.3037,3,    -999,9,    -999,9,    -999,    -999,9,    -999,    -999,9,    -999,9,    -999,9,  39.4747, -69.6404,    -999,     -999,    -999,  13.3423,  13.3037,3,-999,9,-999,-999,9,-999,    35.8346,2,-999,9,20120326,       1301
33AT20120324,        A22,       6,          1,         26,         26,2,20120326,       1154,    39.4748,   -69.6420,       2433,   186.7,  11.9789,  35.5189,2,  35.5081,2,    136.0,2,   136.6,2,    9.82,2,   20.78,2,    0.00,2,    1.25,2,   1.748,2,   0.937,2,   0.015,2,    0.75,2,    -999,9,    -999,9,   7.6987,2,       25,    -999,9,     -999,9,    -999,9,  11.9140,3,    -999,9,    -999,9,    -999,    -999,9,    -999,    -999,1,    -999,9,    -999,9,  39.4747, -69.6405,    -999,     -999,    -999,  11.9544,  11.9140,3,-999,9,-999,-999,9,-999,    35.6756,2,-999,9,20120326,       1259
33AT20120324,        A22,       6,          1,         25,         25,2,20120326,       1154,    39.4748,   -69.6420,       2433,   212.0,  10.9903,  35.3901,2,  35.3728,2,    132.6,2,   132.0,2,   11.78,2,   22.95,2,    0.00,2,    1.41,2,   1.509,2,   0.795,2,   0.017,2,    0.62,2,  2188.6,2, 2326.07,2,   7.6988,2,       25,    -999,9,     -999,9,    -999,9,  10.9862,2,    -999,9,    -999,9,    -999,    -999,9,    -999,    -999,1,    -999,9,    -999,9,  39.4747, -69.6405,    -999,     -999,    -999,  10.9640,  10.9862,2,-999,9,-999,-999,9,-999,    35.5396,2,-999,9,20120326,       1257
33AT20120324,        A22,       6,          1,         24,         24,2,20120326,       1154,    39.4748,   -69.6420,       2433,   235.8,  10.1610,  35.2963,2,  35.2959,2,    133.4,2,   132.7,2,   12.76,2,   23.94,2,    0.00,2,    1.49,2,   1.395,2,   0.713,2,   0.013,2,    0.56,2,    -999,9,    -999,9,   7.6668,2,       25,    -999,9,     -999,9,    -999,9,  10.1718,2,    -999,9,    -999,9,    -999,    -999,9,    -999,    -999,1,    -999,9,    -999,9,  39.4747, -69.6406,    -999,     -999,    -999,  10.1332,  10.1718,2,-999,9,-999,-999,9,-999,    35.4624,2,-999,9,20120326,       1256
33AT20120324,        A22,       6,          1,         23,         23,2,20120326,       1154,    39.4748,   -69.6420,       2433,   267.7,   9.4020,  35.2075,2,  35.2019,2,    136.4,2,   137.8,2,   13.91,2,   24.66,2,    0.00,2,    1.56,2,   1.309,2,   0.660,2,   0.014,2,    0.52,2,    -999,9,    -999,9,     -999,9,     -999,    -999,9,     -999,9,    -999,9,   9.3982,2,    -999,9,    -999,9,    -999,    -999,9,    -999,    -999,1,    -999,9,    -999,9,  39.4747, -69.6406,    -999,     -999,    -999,   9.3719,   9.3982,2,-999,9,-999,-999,9,-999,    35.3679,2,-999,9,20120326,       1254
33AT20120324,        A22,       6,          1,         22,         22,2,20120326,       1154,    39.4748,   -69.6420,       2433,   317.8,   8.2024,  35.1192,2,  35.1204,2,    153.1,2,   153.6,2,   14.22,2,   24.05,2,    0.00,2,    1.56,2,   1.481,2,   0.754,2,   0.034,2,    0.60,2,  2192.0,2, 2316.19,2,   7.6668,2,       25,    -999,9,     -999,9,    -999,9,   8.1960,2,    -999,9,    -999,9,    -999,    -999,9,    -999,    -999,1,    -999,9,    -999,9,  39.4747, -69.6406,    -999,     -999,    -999,   8.1694,   8.1960,2,-999,9,-999,-999,9,-999,    35.2860,2,-999,9,20120326,       1252
33AT20120324,        A22,       6,          1,         21,         21,2,20120326,       1154,    39.4748,   -69.6420,       2433,   368.6,   7.3425,  35.0953,2,  35.0949,2,    173.2,2,   172.8,2,   13.82,2,   22.86,2,    0.00,2,    1.49,2,    -999,9,    -999,9,    -999,9,    -999,9,    -999,9,    -999,9,     -999,9,     -999,    -999,9,     -999,9,    -999,9,   7.3483,2,    -999,9,    -999,9,    -999,    -999,9,    -999,    -999,9,    -999,9,    -999,9,  39.4747, -69.6407,    -999,     -999,    -999,   7.3065,   7.3483,2,-999,9,-999,-999,9,-999,    35.2604,2,-999,9,20120326,       1250
33AT20120324,        A22,       6,          1,         20,         20,2,20120326,       1154,    39.4748,   -69.6420,       2433,   418.2,   6.5990,  35.0438,2,  35.0443,2,    195.9,2,   191.7,2,   13.21,2,   21.57,2,    0.00,2,    1.41,2,   2.020,2,   1.035,2,   0.073,2,    0.67,2,    -999,9,    -999,9,   7.6854,2,       25,    -999,9,     -999,9,    -999,9,   6.5993,2,    -999,9,    -999,9,    -999,    -999,9,    -999,    -999,1,    -999,9,    -999,9,  39.4747, -69.6407,    -999,     -999,    -999,   6.5604,   6.5993,2,-999,9,-999,-999,9,-999,    35.2095,2,-999,9,20120326,       1249
33AT20120324,        A22,       6,          1,         19,         19,2,20120326,       1154,    39.4748,   -69.6420,       2433,   469.7,   5.8325,  35.0063,2,  35.0053,2,    215.9,2,   213.6,2,   12.34,2,   20.08,2,    0.00,2,    1.35,2,   2.522,2,   1.349,2,   0.120,2,    0.82,2,  2178.1,2, 2313.14,4,   7.6855,2,       25,    -999,9,     -999,9,    -999,9,   5.8293,2,    -999,9,    -999,9,    -999,    -999,9,    -999,    -999,1,    -999,9,    -999,9,  39.4747, -69.6407,    -999,     -999,    -999,   5.7918,   5.8293,2,-999,9,-999,-999,9,-999,    35.1704,2,-999,9,20120326,       1247
33AT20120324,        A22,       6,          1,         18,         18,3,20120326,       1154,    39.4748,   -69.6420,       2433,   539.2,   5.3373,  34.9827,2,     -999,9,    228.8,2,   227.8,4,    -999,9,    -999,9,    -999,9,    -999,9,    -999,9,    -999,9,    -999,9,    -999,9,    -999,9,    -999,9,     -999,9,     -999,    -999,9,     -999,9,    -999,9,   5.3379,2,    -999,9,    -999,9,    -999,    -999,9,    -999,    -999,9,    -999,9,    -999,9,  39.4747, -69.6407,    -999,     -999,    -999,   5.2924,   5.3379,2,-999,9,-999,-999,9,-999,       -999,9,-999,9,20120326,       1245
33AT20120324,        A22,       6,          1,         17,         17,2,20120326,       1154,    39.4748,   -69.6420,       2433,   641.0,   5.0900,  35.0080,2,  35.0082,2,    233.6,2,   236.2,2,   11.61,2,   18.80,2,    0.00,2,    1.27,2,    -999,9,    -999,9,    -999,9,    -999,9,    -999,9,    -999,9,   7.7096,2,       25,    -999,9,     -999,9,    -999,9,   5.0902,2,    -999,9,    -999,9,    -999,    -999,9,    -999,    -999,9,    -999,9,    -999,9,  39.4747, -69.6408,    -999,     -999,    -999,   5.0373,   5.0902,2,-999,9,-999,-999,9,-999,    35.1733,2,-999,9,20120326,       1242
33AT20120324,        A22,       6,          1,         16,         16,2,20120326,       1154,    39.4748,   -69.6420,       2433,   742.6,   4.8273,  34.9985,2,  34.9968,2,    245.6,2,   244.9,2,    -999,9,    -999,9,    -999,9,    -999,9,   2.826,2,   1.921,2,   0.153,2,    0.89,2,    -999,9,    -999,9,     -999,9,     -999,    -999,9,     -999,9,    -999,9,   4.8276,2,    -999,9,    -999,9,    -999,    -999,9,    -999,    -999,1,    -999,9,    -999,9,  39.4747, -69.6409,    -999,     -999,    -999,   4.7672,   4.8276,2,-999,9,-999,-999,9,-999,    35.1618,2,-999,9,20120326,       1239
33AT20120324,        A22,       6,          1,         15,         15,2,20120326,       1154,    39.4748,   -69.6420,       2433,   843.4,   4.4463,  34.9658,2,  34.9655,2,    257.8,2,    -999,5,   10.72,2,   17.59,2,    0.00,2,    1.19,2,   3.263,2,   1.668,2,   0.204,2,    1.07,2,  2164.8,2, 2306.23,6,   7.7097,2,       25,    -999,9,     -999,9,    -999,9,   4.4462,2,    -999,9,    -999,9,    -999,    -999,9,    -999,    -999,1,    -999,9,    -999,9,  39.4747, -69.6409,    -999,     -999,    -999,   4.3799,   4.4462,2,-999,9,-999,-999,9,-999,    35.1304,2,-999,9,20120326,       1237
33AT20120324,        A22,       6,          1,         14,         14,2,20120326,       1154,    39.4748,   -69.6420,       2433,   943.8,   4.2965,  34.9625,2,  34.9621,2,    259.9,2,   260.0,2,   10.89,2,   17.56,2,    0.00,2,    1.18,2,   3.208,2,   1.633,2,   0.193,2,    0.99,2,    -999,9,    -999,9,     -999,9,     -999,    -999,9,     -999,9,    -999,9,   4.2974,2,    -999,9,    -999,9,    -999,    -999,9,    -999,    -999,1,    -999,9,    -999,9,  39.4747, -69.6410,    -999,     -999,    -999,   4.2226,   4.2974,2,-999,9,-999,-999,9,-999,    35.1270,2,-999,9,20120326,       1234
33AT20120324,        A22,       6,          1,         13,         13,2,20120326,       1154,    39.4748,   -69.6420,       2433,  1045.2,   4.1925,  34.9598,2,  34.9601,2,    261.4,2,   261.1,2,   11.05,2,   17.54,2,    0.00,2,    1.18,2,    -999,9,    -999,9,    -999,9,    -999,9,    -999,9,    -999,9,     -999,9,     -999,    -999,9,     -999,9,    -999,9,   4.1933,2,    -999,9,    -999,9,    -999,    -999,9,    -999,    -999,9,    -999,9,    -999,9,  39.4747, -69.6410,    -999,     -999,    -999,   4.1107,   4.1933,2,-999,9,-999,-999,9,-999,    35.1250,2,-999,9,20120326,       1231
33AT20120324,        A22,       6,          1,         12,         12,2,20120326,       1154,    39.4748,   -69.6420,       2433,  1147.1,   4.1108,  34.9595,2,  34.9591,2,    261.6,2,   261.8,2,   11.32,2,   17.56,2,    0.00,2,    1.18,2,   2.965,2,   1.480,2,   0.172,2,    0.82,2,    -999,9,    -999,9,   7.7259,2,       25,    -999,9,     -999,9,    -999,9,   4.1106,2,    -999,9,    -999,9,    -999,    -999,9,    -999,    -999,1,    -999,9,    -999,9,  39.4747, -69.6410,    -999,     -999,    -999,   4.0209,   4.1106,2,-999,9,-999,-999,9,-999,    35.1240,2,-999,9,20120326,       1228
33AT20120324,        A22,       6,          1,         11,         11,2,20120326,       1154,    39.4748,   -69.6420,       2433,  1249.7,   4.0368,  34.9591,2,  34.9587,2,    262.1,2,   262.9,2,   11.48,2,   17.59,2,    0.00,2,    1.19,2,   2.809,2,   1.410,2,   0.158,2,    0.72,2,    -999,9,    -999,9,     -999,9,     -999,    -999,9,     -999,9,    -999,9,   4.0348,2,    -999,9,    -999,9,    -999,    -999,9,    -999,    -999,1,    -999,9,    -999,9,  39.4747, -69.6411,    -999,     -999,    -999,   3.9386,   4.0348,2,-999,9,-999,-999,9,-999,    35.1236,2,-999,9,20120326,       1226
33AT20120324,        A22,       6,          1,         10,         10,2,20120326,       1154,    39.4748,   -69.6420,       2433,  1349.9,   3.9337,  34.9548,2,  34.9540,2,    263.7,2,   263.6,2,   11.78,2,   17.55,2,    0.00,2,    1.18,2,   2.692,2,   1.341,2,   0.154,2,    0.65,2,    -999,9,    -999,9,     -999,9,     -999,    -999,9,     -999,9,    -999,9,   3.9337,2,    -999,9,    -999,9,    -999,    -999,9,    -999,    -999,1,    -999,9,    -999,9,  39.4747, -69.6412,    -999,     -999,    -999,   3.8277,   3.9337,2,-999,9,-999,-999,9,-999,    35.1188,2,-999,9,20120326,       1223
33AT20120324,        A22,       6,          1,          9,          9,2,20120326,       1154,    39.4748,   -69.6420,       2433,  1437.6,   3.8433,  34.9522,2,  34.9526,2,    264.4,2,   264.3,2,   12.17,2,   17.55,2,    0.00,2,    1.17,2,    -999,9,    -999,9,    -999,9,    -999,9,    -999,9,    -999,9,     -999,9,     -999,    -999,9,     -999,9,    -999,9,   3.8430,2,    -999,9,    -999,9,    -999,    -999,9,    -999,    -999,9,    -999,9,    -999,9,  39.4747, -69.6412,    -999,     -999,    -999,   3.7305,   3.8430,2,-999,9,-999,-999,9,-999,    35.1174,2,-999,9,20120326,       1221
33AT20120324,        A22,       6,          1,          8,          8,2,20120326,       1154,    39.4748,   -69.6420,       2433,  1553.0,   3.7507,  34.9494,2,  34.9494,2,    265.1,2,   264.9,2,   12.53,2,   17.55,2,    0.00,2,    1.18,2,   2.372,2,   1.158,2,   0.122,2,    0.53,2,  2159.6,2, 2308.30,2,   7.7259,2,       25,    -999,9,     -999,9,    -999,9,   3.7504,2,    -999,9,    -999,9,    -999,    -999,9,    -999,    -999,1,    -999,9,    -999,9,  39.4747, -69.6413,    -999,     -999,    -999,   3.6286,   3.7504,2,-999,9,-999,-999,9,-999,    35.1142,2,-999,9,20120326,       1218
33AT20120324,        A22,       6,          1,          7,          7,2,20120326,       1154,    39.4748,   -69.6420,       2433,  1652.5,   3.6849,  34.9488,2,  34.9484,2,    265.7,2,   266.0,2,   12.74,2,   17.59,2,    0.00,2,    1.17,2,   2.229,2,   1.080,2,   0.110,2,    0.48,2,    -999,9,    -999,9,     -999,9,     -999,    -999,9,     -999,9,    -999,9,   3.6856,2,    -999,9,    -999,9,    -999,    -999,9,    -999,    -999,1,    -999,9,    -999,9,  39.4747, -69.6414,    -999,     -999,    -999,   3.5546,   3.6856,2,-999,9,-999,-999,9,-999,    35.1132,2,-999,9,20120326,       1215
33AT20120324,        A22,       6,          1,          6,          6,2,20120326,       1154,    39.4748,   -69.6420,       2433,  1755.4,   3.5947,  34.9446,2,  34.9458,2,    266.6,2,   266.4,2,   13.14,2,   17.55,2,    0.00,2,    1.17,2,   2.174,2,   1.047,2,   0.103,2,    0.47,2,    -999,9,    -999,9,     -999,9,     -999,    -999,9,     -999,9,    -999,9,   3.5966,2,    -999,9,    -999,9,    -999,    -999,9,    -999,    -999,1,    -999,9,    -999,9,  39.4747, -69.6415,    -999,     -999,    -999,   3.4561,   3.5966,2,-999,9,-999,-999,9,-999,    35.1106,2,-999,9,20120326,       1212
33AT20120324,        A22,       6,          1,          5,          5,2,20120326,       1154,    39.4748,   -69.6420,       2433,  1856.8,   3.5057,  34.9413,2,  34.9413,2,    267.0,2,   267.1,2,   13.62,2,   17.51,2,    0.00,2,    1.17,2,    -999,9,    -999,9,    -999,9,    -999,9,    -999,9,    -999,9,     -999,9,     -999,    -999,9,     -999,9,    -999,9,   3.5052,2,    -999,9,    -999,9,    -999,    -999,9,    -999,    -999,9,    -999,9,    -999,9,  39.4748, -69.6417,    -999,     -999,    -999,   3.3590,   3.5052,2,-999,9,-999,-999,9,-999,    35.1060,2,-999,9,20120326,       1210
33AT20120324,        A22,       6,          1,          4,          4,2,20120326,       1154,    39.4748,   -69.6420,       2433,  1957.7,   3.4122,  34.9382,2,  34.9385,2,    267.4,2,   267.6,2,   14.15,2,   17.46,2,    0.00,2,    1.17,2,   1.985,2,   0.959,2,   0.083,2,    0.38,2,    -999,9,    -999,9,     -999,9,     -999,    -999,9,     -999,9,    -999,9,   3.4116,2,    -999,9,    -999,9,    -999,    -999,9,    -999,    -999,1,    -999,9,    -999,9,  39.4748, -69.6418,    -999,     -999,    -999,   3.2574,   3.4116,2,-999,9,-999,-999,9,-999,    35.1032,2,-999,9,20120326,       1207
33AT20120324,        A22,       6,          1,          3,          3,2,20120326,       1154,    39.4748,   -69.6420,       2433,  2090.9,   3.2700,  34.9355,2,  34.9363,2,    267.9,2,   268.1,2,   15.02,2,   17.41,2,    0.00,2,    1.17,2,   1.845,2,   0.886,2,   0.082,2,    0.36,2,    -999,9,    -999,9,     -999,9,     -999,    -999,9,     -999,9,    -999,9,   3.2712,2,    -999,9,    -999,9,    -999,    -999,9,    -999,    -999,1,    -999,9,    -999,9,  39.4748, -69.6420,    -999,     -999,    -999,   3.1049,   3.2712,2,-999,9,-999,-999,9,-999,    35.1010,2,-999,9,20120326,       1204