BOTTLE,20220725CCHSIOCBG
EXPOCODE,SECT_ID,STNNBR,CASTNO,SAMPNO,BTLNBR,BTLNBR_FLAG_W,DATE,TIME,LATITUDE,LONGITUDE,DEPTH,CTDPRS,CTDTMP,CTDSAL,CTDSAL_FLAG_W,SALNTY,SALNTY_FLAG_W,CTDOXY,CTDOXY_FLAG_W,OXYGEN,OXYGEN_FLAG_W,SILCAT,SILCAT_FLAG_W,NITRAT,NITRAT_FLAG_W,NITRIT,NITRIT_FLAG_W,PHSPHT,PHSPHT_FLAG_W,CFC-11,CFC-11_FLAG_W,CFC-12,CFC-12_FLAG_W,CFC113,CFC113_FLAG_W,SF6,SF6_FLAG_W,TCARBN,TCARBN_FLAG_W,ALKALI,ALKALI_FLAG_W,PH_TOT,PH_TOT_FLAG_W,PH_TMP,TRITUM,TRITUM_FLAG_W,HELIUM,HELIUM_FLAG_W,DELHE3,DELHE3_FLAG_W,REFTMP,REFTMP_FLAG_W,DELC13,DELC13_FLAG_W,DELC14,DELC14_FLAG_W,C14ERR,NEON,NEON_FLAG_W,NEONER,CCL4,CCL4_FLAG_W,DOC,DOC_FLAG_W,TDN,TDN_FLAG_W,BTL_LAT,BTL_LON,TRITER,HELIER,DELHER,THETA,SBE35,SBE35_FLAG_W,14C-DOC,14C-DOC_FLAG_W,14C-DOCERR,13C-DOC,13C-DOC_FLAG_W,13C-DOCERR,SALTREF,SALTREF_FLAG_W,LAB_DEN,LAB_DEN_FLAG_W,BTL_DATE,BTL_TIME
,,,,,,,,,,,METERS,DBAR,ITS-90,PSS-78,,PSS-78,,UMOL/KG,,UMOL/KG,,UMOL/KG,,UMOL/KG,,UMOL/KG,,UMOL/KG,,PMOL/KG,,PMOL/KG,,PMOL/KG,,FMOL/KG,,UMOL/KG,,UMOL/KG,,,,DEG C,TU,,NMOL/KG,,PERCNT,,DEG C,,/MILLE,,/MILLE,,/MILLE,NMOL/KG,,NMOL/KG,PMOL/KG,,UMOL/KG,,UMOL/KG,,,,TU,NMOL/KG,PERCNT,DEG C,ITS-90,,/MILLE,,/MILLE,/MILLE,,/MILLE,G/KG,,KG/M^3,,,
33AT20120324,        A22,      41,          1,         36,         36,2,20120406,       0423,    22.2308,   -65.8925,       5760,     3.2,  24.4718,  36.4214,2,  36.4236,2,    208.7,2,   208.7,2,    0.85,2,    0.00,2,    0.00,2,    0.00,2,   0.848,5,   0.521,5,   0.072,5,    0.59,4,  2035.2,6, 2385.95,2,   8.1013,2,       25,    -999,9,     -999,9,    -999,9,  24.4716,2,    -999,9,    -999,9,    -999,    -999,9,    -999,    0.89,5,   75.29,2,    5.22,2,  22.2369, -65.8950,    -999,     -999,    -999,  24.4711,  24.4716,2,-999,9,-999,-999,9,-999,    36.5953,2,-999,9,20120406,        641
33AT20120324,        A22,      41,          1,         35,         35,2,20120406,       0423,    22.2308,   -65.8925,       5760,    28.6,  24.2441,  36.4748,2,  36.4715,2,    211.4,2,   210.7,2,    0.80,2,    0.00,2,    0.00,2,    0.00,2,   1.683,2,   1.118,2,   0.135,2,    0.94,4,  2037.4,2, 2387.69,6,   8.0998,6,       25,    -999,9,     -999,9,    -999,9,  24.2412,2,    -999,9,    -999,9,    -999,    -999,9,    -999,    1.65,2,   73.48,2,    4.98,2,  22.2368, -65.8950,    -999,     -999,    -999,  24.2380,  24.2412,2,-999,9,-999,-999,9,-999,    36.6435,2,-999,9,20120406,        638
33AT20120324,        A22,      41,          1,         34,         34,2,20120406,       0423,    22.2308,   -65.8925,       5760,    54.3,  23.6666,  36.7372,2,  36.7376,2,    214.9,2,   214.3,2,    0.54,2,    0.00,2,    0.00,2,    0.03,2,   1.771,2,   1.161,2,   0.130,2,    0.84,4,  2051.4,2, 2405.33,2,   8.0998,2,       25,    -999,9,     -999,9,    -999,9,  23.6804,2,    -999,9,    -999,9,    -999,    -999,9,    -999,    1.54,2,   71.09,2,    4.43,2,  22.2367, -65.8949,    -999,     -999,    -999,  23.6552,  23.6804,2,-999,9,-999,-999,9,-999,    36.9108,2,-999,9,20120406,        636
33AT20120324,        A22,      41,          1,         33,         33,2,20120406,       0423,    22.2308,   -65.8925,       5760,    78.7,  23.0429,  36.8442,2,  36.8449,2,    217.7,2,   216.1,2,    0.25,2,    0.00,2,    0.00,2,    0.00,2,   1.810,2,   1.156,2,   0.128,2,    0.89,4,    -999,9,    -999,9,     -999,9,     -999,    -999,9,     -999,9,    -999,9,  23.0511,2,    -999,9,    -999,9,    -999,    -999,9,    -999,    1.36,2,   67.36,2,    4.74,2,  22.2366, -65.8948,    -999,     -999,    -999,  23.0267,  23.0511,2,-999,9,-999,-999,9,-999,    37.0186,2,-999,9,20120406,        633
33AT20120324,        A22,      41,          1,         32,         32,2,20120406,       0423,    22.2308,   -65.8925,       5760,   103.9,  22.6069,  36.8346,2,  36.8346,2,    216.2,2,   214.8,2,    0.29,2,    0.00,2,    0.00,2,    0.00,2,   1.829,2,   1.193,2,   0.133,2,    0.91,4,  2066.0,2, 2409.24,2,   8.0814,2,       25,    -999,9,     -999,9,    -999,9,  22.6134,2,    -999,9,    -999,9,    -999,    -999,9,    -999,    1.41,2,   64.75,2,    4.22,2,  22.2365, -65.8948,    -999,     -999,    -999,  22.5858,  22.6134,2,-999,9,-999,-999,9,-999,    37.0083,2,-999,9,20120406,        631
33AT20120324,        A22,      41,          1,         31,         31,2,20120406,       0423,    22.2308,   -65.8925,       5760,   152.0,  20.6448,  36.7998,2,  36.7997,2,    195.2,2,   195.7,2,    0.31,2,    0.38,2,    0.03,2,    0.00,2,   1.966,2,   1.311,2,   0.098,2,    0.65,4,    -999,9,    -999,9,     -999,9,     -999,    -999,9,     -999,9,    -999,9,  20.6410,2,    -999,9,    -999,9,    -999,    -999,9,    -999,    0.54,2,   58.28,2,    4.33,2,  22.2364, -65.8947,    -999,     -999,    -999,  20.6158,  20.6410,2,-999,9,-999,-999,9,-999,    36.9732,2,-999,9,20120406,        628
33AT20120324,        A22,      41,          1,         30,         30,2,20120406,       0423,    22.2308,   -65.8925,       5760,   204.4,  19.0994,  36.6764,2,  36.6759,2,    190.5,2,   188.9,2,    0.61,2,    2.52,2,    0.01,2,    0.06,2,   2.094,2,   1.340,2,   0.034,2,    0.58,4,  2118.4,2, 2398.16,2,   7.9790,2,       25,    -999,9,     -999,9,    -999,9,  19.0999,2,    -999,9,    -999,9,    -999,    -999,9,    -999,    0.33,2,   54.17,2,    5.21,2,  22.2362, -65.8947,    -999,     -999,    -999,  19.0624,  19.0999,2,-999,9,-999,-999,9,-999,    36.8489,2,-999,9,20120406,        625
33AT20120324,        A22,      41,          1,         29,         29,2,20120406,       0423,    22.2308,   -65.8925,       5760,   253.2,  18.4495,  36.6026,2,  36.6016,2,    194.6,2,   197.0,2,    0.82,2,    3.69,2,    0.00,2,    0.15,2,   2.132,2,   1.368,2,   0.027,2,    0.66,4,    -999,9,    -999,9,     -999,9,     -999,    -999,9,     -999,9,    -999,9,  18.4479,2,    -999,9,    -999,9,    -999,    -999,9,    -999,    0.36,2,   51.36,2,    6.34,2,  22.2361, -65.8946,    -999,     -999,    -999,  18.4048,  18.4479,2,-999,9,-999,-999,9,-999,    36.7742,2,-999,9,20120406,        623
33AT20120324,        A22,      41,          1,         28,         28,2,20120406,       0423,    22.2308,   -65.8925,       5760,   301.2,  18.1696,  36.5743,2,  36.5738,2,    197.6,2,   200.6,2,    0.97,2,    4.01,2,    0.00,2,    0.18,2,   2.120,2,   1.382,2,   0.036,2,    1.12,4,  2112.9,2, 2390.63,2,   7.9800,2,       25,    -999,9,     -999,9,    -999,9,  18.1694,2,    -999,9,    -999,9,    -999,    -999,9,    -999,    0.39,2,   49.23,2,    7.83,2,  22.2360, -65.8946,    -999,     -999,    -999,  18.1169,  18.1694,2,-999,9,-999,-999,9,-999,    36.7463,2,-999,9,20120406,        621
33AT20120324,        A22,      41,          1,         27,         27,2,20120406,       0423,    22.2308,   -65.8925,       5760,   351.3,  17.7345,  36.5146,2,  36.5156,2,    205.7,2,   203.1,2,    1.16,2,    4.57,2,    0.00,2,    0.20,2,   2.176,2,   1.372,2,   0.044,2,    0.45,4,  2115.0,2, 2386.09,2,   7.9727,2,       25,    -999,9,     -999,9,    -999,9,  17.7360,2,    -999,9,    -999,9,    -999,    -999,9,    -999,    0.48,2,   48.03,2,    7.72,2,  22.2359, -65.8945,    -999,     -999,    -999,  17.6740,  17.7360,2,-999,9,-999,-999,9,-999,    36.6878,2,-999,9,20120406,        620
33AT20120324,        A22,      41,          1,         26,         26,9,20120406,       0423,    22.2308,   -65.8925,       5760,   405.8,  17.2044,  36.4155,2,     -999,9,     -999,9,    -999,9,    -999,9,    -999,9,    -999,9,    -999,9,    -999,9,    -999,9,    -999,9,    -999,9,    -999,9,    -999,9,     -999,9,     -999,    -999,9,     -999,9,    -999,9,  17.2030,2,    -999,9,    -999,9,    -999,    -999,9,    -999,    -999,9,    -999,9,    -999,9,  22.2358, -65.8945,    -999,     -999,    -999,  17.1359,  17.2030,2,-999,9,-999,-999,9,-999,       -999,9,-999,9,20120406,        618
33AT20120324,        A22,      41,          1,         25,         25,2,20120406,       0423,    22.2308,   -65.8925,       5760,   503.3,  15.1703,  36.0411,2,  36.0409,2,    169.7,2,   169.5,2,    3.73,2,   11.75,2,    0.00,2,    0.67,2,   2.163,2,   1.290,2,   0.021,2,    0.39,4,  2146.8,2, 2361.95,2,   7.8651,2,       25,    -999,9,     -999,9,    -999,9,  15.1705,2,    -999,9,    -999,9,    -999,    -999,9,    -999,    0.32,2,   45.64,2,   15.21,2,  22.2356, -65.8944,    -999,     -999,    -999,  15.0921,  15.1705,2,-999,9,-999,-999,9,-999,    36.2108,2,-999,9,20120406,        615
33AT20120324,        A22,      41,          1,         24,         24,9,20120406,       0423,    22.2308,   -65.8925,       5760,   604.6,  12.8473,  35.6773,2,     -999,9,     -999,9,    -999,9,    -999,9,    -999,9,    -999,9,    -999,9,    -999,9,    -999,9,    -999,9,    -999,9,    -999,9,    -999,9,     -999,9,     -999,    -999,9,     -999,9,    -999,9,  12.8462,2,    -999,9,    -999,9,    -999,    -999,9,    -999,    -999,9,    -999,9,    -999,9,  22.2355, -65.8944,    -999,     -999,    -999,  12.7630,  12.8462,2,-999,9,-999,-999,9,-999,       -999,9,-999,9,20120406,        613
33AT20120324,        A22,      41,          1,         23,         23,2,20120406,       0423,    22.2308,   -65.8925,       5760,   705.7,  10.6551,  35.3758,2,  35.3766,2,    142.9,2,   141.7,2,   10.91,2,   22.20,2,    0.00,2,    1.39,2,   1.254,2,   0.679,2,   0.013,2,    0.34,4,  2183.1,6, 2329.24,2,   7.7151,2,       25,    -999,9,     -999,9,    -999,9,  10.6664,2,    -999,9,    -999,9,    -999,    -999,9,    -999,    0.21,2,   44.68,2,   26.70,2,  22.2353, -65.8943,    -999,     -999,    -999,  10.5674,  10.6664,2,-999,9,-999,-999,9,-999,    35.5434,2,-999,9,20120406,        610
33AT20120324,        A22,      41,          1,         22,         22,2,20120406,       0423,    22.2308,   -65.8925,       5760,   806.5,   8.8357,  35.1600,2,  35.1626,2,    141.2,2,   141.9,2,   14.84,2,   25.26,2,    0.00,2,    1.63,2,   0.816,2,   0.435,2,   0.010,2,    0.03,4,  2193.5,2, 2321.50,2,   7.6711,6,       25,    -999,9,     -999,9,    -999,9,   8.8488,2,    -999,9,    -999,9,    -999,    -999,9,    -999,    0.21,2,   43.55,2,   28.82,2,  22.2351, -65.8942,    -999,     -999,    -999,   8.7458,   8.8488,2,-999,9,-999,-999,9,-999,    35.3284,2,-999,9,20120406,        608
33AT20120324,        A22,      41,          1,         21,         21,2,20120406,       0423,    22.2308,   -65.8925,       5760,   905.3,   7.5068,  35.0446,2,  35.0447,2,    150.4,2,   149.8,2,   17.56,2,   26.49,2,    0.00,2,    1.74,2,   0.566,2,   0.303,2,   0.009,2,    0.18,4,  2198.1,2, 2318.49,2,   7.6535,2,       25,    -999,9,     -999,9,    -999,9,   7.5057,2,    -999,9,    -999,9,    -999,    -999,9,    -999,    0.24,2,   42.67,2,   30.26,2,  22.2350, -65.8942,    -999,     -999,    -999,   7.4142,   7.5057,2,-999,9,-999,-999,9,-999,    35.2100,2,-999,9,20120406,        605
33AT20120324,        A22,      41,          1,         20,         20,2,20120406,       0423,    22.2308,   -65.8925,       5760,  1006.7,   6.6208,  35.0468,2,  35.0483,2,    175.2,2,   176.0,2,   16.37,2,   23.99,2,    0.00,2,    1.60,2,   0.766,2,   0.400,2,   0.020,2,    0.31,4,  2189.4,2, 2318.92,2,   7.6761,2,       25,    -999,9,     -999,9,    -999,9,   6.6207,2,    -999,9,    -999,9,    -999,    -999,9,    -999,    0.45,2,   41.84,2,   27.84,2,  22.2348, -65.8941,    -999,     -999,    -999,   6.5238,   6.6207,2,-999,9,-999,-999,9,-999,    35.2135,2,-999,9,20120406,        603
33AT20120324,        A22,      41,          1,         19,         19,2,20120406,       0423,    22.2308,   -65.8925,       5760,  1108.7,   5.9027,  35.0541,2,  35.0553,2,    200.1,2,   201.9,2,   15.12,2,   21.71,2,    0.00,2,    1.45,2,   0.988,2,   0.521,2,   0.031,2,    0.07,4,  2180.0,2, 2319.00,2,   7.6975,2,       25,    -999,9,     -999,9,    -999,9,   5.9000,2,    -999,9,    -999,9,    -999,    -999,9,    -999,    0.68,2,   41.66,2,   25.09,2,  22.2347, -65.8941,    -999,     -999,    -999,   5.8010,   5.9000,2,-999,9,-999,-999,9,-999,    35.2206,2,-999,9,20120406,        600
33AT20120324,        A22,      41,          1,         18,         18,2,20120406,       0423,    22.2308,   -65.8925,       5760,  1211.1,   5.3921,  35.0559,2,  35.0561,2,    223.0,2,   223.2,2,   13.25,2,   19.82,2,    0.00,2,    1.33,2,   1.371,2,   0.711,2,   0.050,2,    0.21,4,  2173.1,2, 2317.03,2,   7.7139,2,       25,    -999,9,     -999,9,    -999,9,   5.3921,2,    -999,9,    -999,9,    -999,    -999,9,    -999,    1.09,2,   41.15,2,   23.47,2,  22.2345, -65.8940,    -999,     -999,    -999,   5.2847,   5.3921,2,-999,9,-999,-999,9,-999,    35.2214,2,-999,9,20120406,        557
33AT20120324,        A22,      41,          1,         17,         17,2,20120406,       0423,    22.2308,   -65.8925,       5760,  1314.8,   4.9371,  35.0387,2,  35.0392,2,    237.7,2,   237.3,2,   12.62,2,   18.90,2,    0.00,2,    1.27,2,   1.579,2,   0.829,2,   0.073,2,    0.28,4,    -999,9,    -999,9,     -999,9,     -999,    -999,9,     -999,9,    -999,9,   4.9376,2,    -999,9,    -999,9,    -999,    -999,9,    -999,    1.32,2,   41.23,2,   22.73,2,  22.2343, -65.8939,    -999,     -999,    -999,   4.8241,   4.9376,2,-999,9,-999,-999,9,-999,    35.2044,2,-999,9,20120406,        555
33AT20120324,        A22,      41,          1,         16,         16,2,20120406,       0423,    22.2308,   -65.8925,       5760,  1412.0,   4.6156,  35.0269,2,  35.0288,2,    246.3,2,   245.5,2,   12.59,2,   18.52,2,    0.00,2,    1.25,2,   1.502,2,   0.784,2,   0.074,2,    0.19,4,    -999,9,    -999,9,     -999,9,     -999,    -999,9,     -999,9,    -999,9,   4.6153,2,    -999,9,    -999,9,    -999,    -999,9,    -999,    1.37,2,   41.54,2,   22.24,2,  22.2342, -65.8939,    -999,     -999,    -999,   4.4967,   4.6153,2,-999,9,-999,-999,9,-999,    35.1940,2,-999,9,20120406,        552
33AT20120324,        A22,      41,          1,         15,         15,2,20120406,       0423,    22.2308,   -65.8925,       5760,  1614.7,   4.1489,  35.0025,2,  35.0034,2,    254.5,2,   254.6,2,   13.24,2,   18.18,2,    0.00,2,    1.22,2,   1.337,2,   0.674,2,   0.064,2,    0.11,4,  2163.4,2, 2313.68,2,   7.7330,2,       25,    -999,9,     -999,9,    -999,9,   4.1490,2,    -999,9,    -999,9,    -999,    -999,9,    -999,    1.42,2,   41.52,2,   22.27,2,  22.2339, -65.8937,    -999,     -999,    -999,   4.0162,   4.1490,2,-999,9,-999,-999,9,-999,    35.1685,2,-999,9,20120406,        547
33AT20120324,        A22,      41,          1,         14,         14,2,20120406,       0423,    22.2308,   -65.8925,       5760,  1819.2,   3.7882,  34.9813,2,  34.9820,2,    258.3,2,   258.8,2,   14.46,2,   18.04,2,    0.00,2,    1.22,2,   1.116,2,   0.560,2,   0.051,2,    0.16,4,    -999,9,    -999,9,     -999,9,     -999,    -999,9,     -999,9,    -999,9,   3.7881,2,    -999,9,    -999,9,    -999,    -999,9,    -999,    1.32,2,   42.12,2,   22.16,2,  22.2336, -65.8936,    -999,     -999,    -999,   3.6410,   3.7881,2,-999,9,-999,-999,9,-999,    35.1469,2,-999,9,20120406,        543
33AT20120324,        A22,      41,          1,         13,         13,2,20120406,       0423,    22.2308,   -65.8925,       5760,  2021.8,   3.5615,  34.9727,2,  34.9733,2,    260.1,2,   259.7,2,   16.25,2,   18.20,2,    0.00,2,    1.23,2,   0.856,2,   0.419,2,   0.036,2,    0.08,4,    -999,9,    -999,9,     -999,9,     -999,    -999,9,     -999,9,    -999,9,   3.5618,2,    -999,9,    -999,9,    -999,    -999,9,    -999,    1.09,2,   42.25,2,   22.24,2,  22.2333, -65.8935,    -999,     -999,    -999,   3.3984,   3.5618,2,-999,9,-999,-999,9,-999,    35.1382,2,-999,9,20120406,        539
33AT20120324,        A22,      41,          1,         12,         12,2,20120406,       0423,    22.2308,   -65.8925,       5760,  2273.9,   3.3332,  34.9689,2,  34.9682,2,    257.3,2,   257.9,2,   19.44,2,   18.43,2,    0.00,2,    1.26,2,   0.508,2,   0.258,2,   0.019,2,    0.00,4,  2163.0,2, 2319.48,2,   7.7436,2,       25,    -999,9,     -999,9,    -999,9,   3.3311,2,    -999,9,    -999,9,    -999,    -999,9,    -999,    0.75,2,   41.31,2,   22.24,2,  22.2329, -65.8934,    -999,     -999,    -999,   3.1494,   3.3311,2,-999,9,-999,-999,9,-999,    35.1331,2,-999,9,20120406,        534
33AT20120324,        A22,      41,          1,         11,         11,2,20120406,       0423,    22.2308,   -65.8925,       5760,  2527.5,   3.0685,  34.9516,2,  34.9517,2,    258.6,2,   258.8,2,   21.90,2,   18.58,2,    0.00,2,    1.27,2,   0.429,2,   0.217,2,   0.015,2,    0.09,4,    -999,9,    -999,9,     -999,9,     -999,    -999,9,     -999,9,    -999,9,   3.0680,2,    -999,9,    -999,9,    -999,    -999,9,    -999,    0.64,2,   41.37,2,   22.21,2,  22.2326, -65.8933,    -999,     -999,    -999,   2.8645,   3.0680,2,-999,9,-999,-999,9,-999,    35.1165,2,-999,9,20120406,        528
33AT20120324,        A22,      41,          1,         10,         10,2,20120406,       0423,    22.2308,   -65.8925,       5760,  2782.0,   2.8381,  34.9357,2,  34.9359,2,    260.6,2,   260.4,2,   23.76,2,   18.63,2,    0.00,2,    1.28,2,   0.433,2,   0.224,2,   0.016,2,    0.00,4,    -999,9,    -999,9,     -999,9,     -999,    -999,9,     -999,9,    -999,9,   2.8380,2,    -999,9,    -999,9,    -999,    -999,9,    -999,    0.63,2,   41.56,2,   22.22,2,  22.2324, -65.8932,    -999,     -999,    -999,   2.6132,   2.8380,2,-999,9,-999,-999,9,-999,    35.1007,2,-999,9,20120406,        523
33AT20120324,        A22,      41,          1,          9,          9,2,20120406,       0423,    22.2308,   -65.8925,       5760,  3037.5,   2.6749,  34.9233,2,  34.9238,2,    262.5,2,   263.5,2,   24.20,2,   18.37,2,    0.00,2,    1.26,2,   0.596,2,   0.297,2,   0.025,2,    0.00,4,  2165.0,2, 2321.12,2,   7.7414,2,       25,    -999,9,     -999,9,    -999,9,   2.6751,2,    -999,9,    -999,9,    -999,    -999,9,    -999,    0.78,2,   41.59,2,   20.98,2,  22.2321, -65.8931,    -999,     -999,    -999,   2.4273,   2.6751,2,-999,9,-999,-999,9,-999,    35.0884,2,-999,9,20120406,        518
33AT20120324,        A22,      41,          1,          8,          8,2,20120406,       0423,    22.2308,   -65.8925,       5760,  3341.3,   2.4933,  34.9110,2,  34.9122,2,    264.7,2,   264.9,2,   25.88,2,   18.28,2,    0.00,2,    1.27,2,   0.619,2,   0.315,2,   0.030,2,    0.00,4,    -999,9,    -999,9,     -999,9,     -999,    -999,9,     -999,9,    -999,9,   2.4930,2,    -999,9,    -999,9,    -999,    -999,9,    -999,    0.82,2,   41.52,2,   20.72,2,  22.2319, -65.8930,    -999,     -999,    -999,   2.2180,   2.4930,2,-999,9,-999,-999,9,-999,    35.0768,2,-999,9,20120406,        512
33AT20120324,        A22,      41,          1,          7,          7,2,20120406,       0423,    22.2308,   -65.8925,       5760,  3651.5,   2.3802,  34.9026,2,  34.9023,2,    265.3,2,   265.6,2,   27.67,2,   18.46,2,    0.00,2,    1.27,2,   0.603,2,   0.315,2,   0.029,2,    0.00,4,    -999,9,    -999,9,     -999,9,     -999,    -999,9,     -999,9,    -999,9,   2.3805,2,    -999,9,    -999,9,    -999,    -999,9,    -999,    0.79,2,   42.00,2,   22.08,2,  22.2316, -65.8929,    -999,     -999,    -999,   2.0743,   2.3805,2,-999,9,-999,-999,9,-999,    35.0669,2,-999,9,20120406,        506
33AT20120324,        A22,      41,          1,          6,          6,2,20120406,       0423,    22.2308,   -65.8925,       5760,  3951.9,   2.3187,  34.8968,2,  34.8965,2,    265.2,2,   265.0,2,   29.25,2,   18.54,2,    0.00,2,    1.29,2,   0.584,2,   0.294,2,   0.032,2,    0.00,4,  2169.7,2, 2325.43,2,   7.7416,2,       25,    -999,9,     -999,9,    -999,9,   2.3191,2,    -999,9,    -999,9,    -999,    -999,9,    -999,    0.81,2,   41.82,2,   20.69,2,  22.2315, -65.8928,    -999,     -999,    -999,   1.9809,   2.3191,2,-999,9,-999,-999,9,-999,    35.0610,2,-999,9,20120406,        500