BOTTLE,20220725CCHSIOCBG
EXPOCODE,SECT_ID,STNNBR,CASTNO,SAMPNO,BTLNBR,BTLNBR_FLAG_W,DATE,TIME,LATITUDE,LONGITUDE,DEPTH,CTDPRS,CTDTMP,CTDSAL,CTDSAL_FLAG_W,SALNTY,SALNTY_FLAG_W,CTDOXY,CTDOXY_FLAG_W,OXYGEN,OXYGEN_FLAG_W,SILCAT,SILCAT_FLAG_W,NITRAT,NITRAT_FLAG_W,NITRIT,NITRIT_FLAG_W,PHSPHT,PHSPHT_FLAG_W,CFC-11,CFC-11_FLAG_W,CFC-12,CFC-12_FLAG_W,CFC113,CFC113_FLAG_W,SF6,SF6_FLAG_W,TCARBN,TCARBN_FLAG_W,ALKALI,ALKALI_FLAG_W,PH_TOT,PH_TOT_FLAG_W,PH_TMP,TRITUM,TRITUM_FLAG_W,HELIUM,HELIUM_FLAG_W,DELHE3,DELHE3_FLAG_W,REFTMP,REFTMP_FLAG_W,DELC13,DELC13_FLAG_W,DELC14,DELC14_FLAG_W,C14ERR,NEON,NEON_FLAG_W,NEONER,CCL4,CCL4_FLAG_W,DOC,DOC_FLAG_W,TDN,TDN_FLAG_W,BTL_LAT,BTL_LON,TRITER,HELIER,DELHER,THETA,SBE35,SBE35_FLAG_W,14C-DOC,14C-DOC_FLAG_W,14C-DOCERR,13C-DOC,13C-DOC_FLAG_W,13C-DOCERR,SALTREF,SALTREF_FLAG_W,LAB_DEN,LAB_DEN_FLAG_W,BTL_DATE,BTL_TIME
,,,,,,,,,,,METERS,DBAR,ITS-90,PSS-78,,PSS-78,,UMOL/KG,,UMOL/KG,,UMOL/KG,,UMOL/KG,,UMOL/KG,,UMOL/KG,,PMOL/KG,,PMOL/KG,,PMOL/KG,,FMOL/KG,,UMOL/KG,,UMOL/KG,,,,DEG C,TU,,NMOL/KG,,PERCNT,,DEG C,,/MILLE,,/MILLE,,/MILLE,NMOL/KG,,NMOL/KG,PMOL/KG,,UMOL/KG,,UMOL/KG,,,,TU,NMOL/KG,PERCNT,DEG C,ITS-90,,/MILLE,,/MILLE,/MILLE,,/MILLE,G/KG,,KG/M^3,,,
33AT20120324,        A22,      61,          1,         34,         34,2,20120410,       0336,    17.6302,   -66.0003,       2502,     2.9,  27.2071,  36.0504,2,  36.0505,2,    196.1,2,   199.7,2,    1.28,2,    0.00,2,    0.00,2,    0.00,2,   1.480,2,   0.992,2,   0.114,2,    0.74,4,  2013.1,2, 2363.87,2,   8.1093,6,       25,    -999,9,     -999,9,    -999,9,  27.2069,2,    -999,9,    -999,9,    -999,    -999,9,    -999,    1.64,2,   76.53,2,    4.11,2,  17.6320, -66.0002,    -999,     -999,    -999,  27.2064,  27.2069,2,-999,9,-999,-999,9,-999,    36.2205,2,-999,9,20120410,        454
33AT20120324,        A22,      61,          1,         33,         33,2,20120410,       0336,    17.6302,   -66.0003,       2502,    20.9,  27.1608,  36.0729,2,  36.0695,2,    201.1,2,   200.8,2,    1.16,2,    0.00,2,    0.00,2,    0.00,2,   1.473,2,   0.974,2,   0.111,2,    0.71,4,    -999,9,    -999,9,     -999,9,     -999,    -999,9,     -999,9,    -999,9,  27.1623,2,    -999,9,    -999,9,    -999,    -999,9,    -999,    1.59,2,   74.70,2,    5.18,2,  17.6320, -66.0002,    -999,     -999,    -999,  27.1560,  27.1623,2,-999,9,-999,-999,9,-999,    36.2396,2,-999,9,20120410,        452
33AT20120324,        A22,      61,          1,         32,         32,2,20120410,       0336,    17.6302,   -66.0003,       2502,    39.8,  26.9201,  36.0659,2,  36.0746,2,    204.5,2,   203.3,2,    1.09,2,    0.00,2,    0.00,2,    0.00,2,   1.461,2,   0.965,2,   0.111,2,    0.95,4,  2013.0,2, 2364.90,2,   8.1114,2,       25,    -999,9,     -999,9,    -999,9,  26.9189,2,    -999,9,    -999,9,    -999,    -999,9,    -999,    1.44,2,   75.55,2,    4.20,2,  17.6319, -66.0002,    -999,     -999,    -999,  26.9110,  26.9189,2,-999,9,-999,-999,9,-999,    36.2447,2,-999,9,20120410,        450
33AT20120324,        A22,      61,          1,         31,         31,2,20120410,       0336,    17.6302,   -66.0003,       2502,    65.7,  26.4431,  36.1942,2,  36.2003,2,    204.0,2,   202.7,2,    0.98,2,    0.00,2,    0.00,2,    0.00,2,   1.541,2,   1.030,2,   0.122,2,    1.10,4,    -999,9,    -999,9,     -999,9,     -999,    -999,9,     -999,9,    -999,9,  26.4435,2,    -999,9,    -999,9,    -999,    -999,9,    -999,    1.39,2,   75.75,2,    5.22,2,  17.6318, -66.0002,    -999,     -999,    -999,  26.4282,  26.4435,2,-999,9,-999,-999,9,-999,    36.3710,2,-999,9,20120410,        447
33AT20120324,        A22,      61,          1,         30,         30,2,20120410,       0336,    17.6302,   -66.0003,       2502,    91.4,  26.1645,  36.2893,2,  36.3042,2,    201.4,2,   199.1,2,    0.97,2,    0.00,2,    0.00,2,    0.00,2,   1.560,2,   1.033,2,   0.122,2,    1.03,4,  2027.9,2, 2376.78,2,   8.1037,2,       25,    -999,9,     -999,9,    -999,9,  26.1634,2,    -999,9,    -999,9,    -999,    -999,9,    -999,    1.30,2,   73.79,2,    4.60,2,  17.6317, -66.0002,    -999,     -999,    -999,  26.1439,  26.1634,2,-999,9,-999,-999,9,-999,    36.4754,2,-999,9,20120410,        445
33AT20120324,        A22,      61,          1,         29,         29,2,20120410,       0336,    17.6302,   -66.0003,       2502,   115.2,  25.7537,  36.7567,2,  36.7699,2,    186.3,2,   186.2,2,    0.66,2,    0.04,2,    0.09,2,    0.00,2,   1.618,2,   1.088,2,   0.112,2,    0.79,4,    -999,9,    -999,9,     -999,9,     -999,    -999,9,     -999,9,    -999,9,  25.7493,2,    -999,9,    -999,9,    -999,    -999,9,    -999,    0.72,2,   66.80,2,    3.89,2,  17.6316, -66.0002,    -999,     -999,    -999,  25.7280,  25.7493,2,-999,9,-999,-999,9,-999,    36.9433,2,-999,9,20120410,        442
33AT20120324,        A22,      61,          1,         28,         28,2,20120410,       0336,    17.6302,   -66.0003,       2502,   139.8,  24.0196,  37.0893,2,  37.0840,2,    172.5,2,   170.5,2,    0.66,2,    1.70,2,    0.04,2,    0.08,2,   1.725,2,   1.146,2,   0.090,2,    1.21,4,  2115.9,2, 2423.39,2,   8.0213,2,       25,    -999,9,     -999,9,    -999,9,  24.0119,2,    -999,9,    -999,9,    -999,    -999,9,    -999,    0.40,2,   62.17,2,    6.56,2,  17.6316, -66.0002,    -999,     -999,    -999,  23.9899,  24.0119,2,-999,9,-999,-999,9,-999,    37.2589,2,-999,9,20120410,        441
33AT20120324,        A22,      61,          1,         27,         27,2,20120410,       0336,    17.6302,   -66.0003,       2502,   165.5,  22.3586,  37.0142,2,  37.0139,2,    157.5,2,   159.5,2,    0.91,2,    3.31,2,    0.02,2,    0.16,2,   1.827,2,   1.185,2,   0.057,2,    0.62,4,    -999,9,    -999,9,     -999,9,     -999,    -999,9,     -999,9,    -999,9,  22.3644,2,    -999,9,    -999,9,    -999,    -999,9,    -999,    0.23,2,   58.12,2,    7.08,2,  17.6315, -66.0002,    -999,     -999,    -999,  22.3252,  22.3644,2,-999,9,-999,-999,9,-999,    37.1885,2,-999,9,20120410,        439
33AT20120324,        A22,      61,          1,         26,         26,2,20120410,       0336,    17.6302,   -66.0003,       2502,   191.2,  21.1851,  36.8979,2,  36.8942,2,    154.0,2,   154.9,2,    1.27,2,    4.74,2,    0.01,2,    0.23,2,   1.874,2,   1.217,2,   0.038,2,    0.72,4,  2147.3,2, 2410.49,2,   7.9505,2,       25,    -999,9,     -999,9,    -999,9,  21.1833,2,    -999,9,    -999,9,    -999,    -999,9,    -999,    0.20,2,   55.47,2,    8.37,2,  17.6315, -66.0002,    -999,     -999,    -999,  21.1479,  21.1833,2,-999,9,-999,-999,9,-999,    37.0682,2,-999,9,20120410,        437
33AT20120324,        A22,      61,          1,         25,         25,2,20120410,       0336,    17.6302,   -66.0003,       2502,   215.0,  19.8535,  36.7172,2,  36.7166,2,    150.1,2,   150.1,2,    1.91,2,    6.82,2,    0.01,2,    0.36,2,   1.942,2,   1.254,2,   0.020,2,    0.66,4,    -999,9,    -999,9,     -999,9,     -999,    -999,9,     -999,9,    -999,9,  19.8627,2,    -999,9,    -999,9,    -999,    -999,9,    -999,    0.18,2,   52.34,2,   10.22,2,  17.6314, -66.0002,    -999,     -999,    -999,  19.8135,  19.8627,2,-999,9,-999,-999,9,-999,    36.8898,2,-999,9,20120410,        436
33AT20120324,        A22,      61,          1,         24,         24,2,20120410,       0336,    17.6302,   -66.0003,       2502,   239.7,  18.7589,  36.5826,2,  36.5566,2,    151.4,2,   152.9,2,    2.32,2,    8.23,2,    0.01,2,    0.45,2,   2.002,2,   1.272,2,   0.015,2,    0.66,4,  2155.2,2, 2387.45,2,   7.9020,2,       25,    -999,9,     -999,9,    -999,9,  18.7552,2,    -999,9,    -999,9,    -999,    -999,9,    -999,    0.24,2,   51.11,2,   11.99,2,  17.6314, -66.0002,    -999,     -999,    -999,  18.7161,  18.7552,2,-999,9,-999,-999,9,-999,    36.7290,2,-999,9,20120410,        435
33AT20120324,        A22,      61,          1,         23,         23,2,20120410,       0336,    17.6302,   -66.0003,       2502,   284.5,  16.7737,  36.2386,2,  36.2374,2,    145.2,2,   149.5,2,    3.65,2,   11.61,2,    0.01,2,    0.67,2,   2.026,2,   1.256,2,   0.012,2,    0.85,4,    -999,9,    -999,9,     -999,9,     -999,    -999,9,     -999,9,    -999,9,  16.7769,2,    -999,9,    -999,9,    -999,    -999,9,    -999,    0.28,2,   49.36,2,   15.12,2,  17.6314, -66.0002,    -999,     -999,    -999,  16.7267,  16.7769,2,-999,9,-999,-999,9,-999,    36.4083,2,-999,9,20120410,        433
33AT20120324,        A22,      61,          1,         22,         22,2,20120410,       0336,    17.6302,   -66.0003,       2502,   336.5,  15.1402,  35.9361,2,  35.9403,2,    135.5,2,   137.7,2,    5.44,2,   15.44,2,    0.00,2,    0.94,2,   1.951,2,   1.183,2,   0.016,2,    0.75,4,    -999,9,    -999,9,     -999,9,     -999,    -999,9,     -999,9,    -999,9,  15.1396,2,    -999,9,    -999,9,    -999,    -999,9,    -999,    0.28,2,   48.33,2,   17.95,2,  17.6314, -66.0002,    -999,     -999,    -999,  15.0883,  15.1396,2,-999,9,-999,-999,9,-999,    36.1098,2,-999,9,20120410,        431
33AT20120324,        A22,      61,          1,         21,         21,2,20120410,       0336,    17.6302,   -66.0003,       2502,   382.9,  14.0333,  35.7812,2,  35.7702,2,    141.1,2,   138.5,2,    6.45,2,   17.15,2,    0.00,2,    1.05,2,   1.911,2,   1.131,2,   0.018,2,    0.54,4,  2175.6,2, 2345.12,2,   7.7783,2,       25,    -999,9,     -999,9,    -999,9,  14.0308,2,    -999,9,    -999,9,    -999,    -999,9,    -999,    0.30,2,   47.77,2,   19.52,2,  17.6313, -66.0002,    -999,     -999,    -999,  13.9771,  14.0308,2,-999,9,-999,-999,9,-999,    35.9389,2,-999,9,20120410,        430
33AT20120324,        A22,      61,          1,         20,         20,2,20120410,       0336,    17.6302,   -66.0003,       2502,   435.8,  12.7583,  35.5711,2,  35.5573,2,    131.7,2,   130.3,2,    8.39,2,   20.29,2,    0.00,2,    1.27,2,   1.742,2,   0.995,2,   0.017,2,    0.20,4,    -999,9,    -999,9,     -999,9,     -999,    -999,9,     -999,9,    -999,9,  12.7524,2,    -999,9,    -999,9,    -999,    -999,9,    -999,    0.33,2,   46.64,2,   23.60,2,  17.6313, -66.0002,    -999,     -999,    -999,  12.6982,  12.7524,2,-999,9,-999,-999,9,-999,    35.7249,2,-999,9,20120410,        428
33AT20120324,        A22,      61,          1,         19,         19,2,20120410,       0336,    17.6302,   -66.0003,       2502,   485.2,  11.7702,  35.4291,2,  35.4320,2,    129.3,2,   129.2,2,    9.78,2,   21.95,2,    0.00,2,    1.38,2,   1.580,2,   0.899,2,   0.017,2,    0.44,4,    -999,9,    -999,9,     -999,9,     -999,    -999,9,     -999,9,    -999,9,  11.7665,2,    -999,9,    -999,9,    -999,    -999,9,    -999,    0.31,2,   45.14,2,   24.89,2,  17.6312, -66.0002,    -999,     -999,    -999,  11.7066,  11.7665,2,-999,9,-999,-999,9,-999,    35.5991,2,-999,9,20120410,        427
33AT20120324,        A22,      61,          1,         18,         18,2,20120410,       0336,    17.6302,   -66.0003,       2502,   566.6,  10.0323,  35.1618,2,  35.1416,2,    122.9,2,   122.1,2,   13.71,2,   26.33,2,    0.00,2,    1.67,2,   1.220,2,   0.665,2,   0.019,2,    0.20,4,  2202.2,2, 2317.74,2,   7.6484,2,       25,    -999,9,     -999,9,    -999,9,  10.0253,2,    -999,9,    -999,9,    -999,    -999,9,    -999,    0.37,2,   44.56,2,   29.23,2,  17.6312, -66.0002,    -999,     -999,    -999,   9.9651,  10.0253,2,-999,9,-999,-999,9,-999,    35.3073,2,-999,9,20120410,        424
33AT20120324,        A22,      61,          1,         17,         17,2,20120410,       0336,    17.6302,   -66.0003,       2502,   669.4,   8.3614,  34.9610,2,  34.9585,2,    124.4,2,   124.0,2,   17.71,2,   29.10,2,    0.00,2,    1.87,2,   0.804,2,   0.434,2,   0.011,2,    0.21,4,  2210.2,2, 2312.54,2,   7.6131,6,       25,    -999,9,     -999,9,    -999,9,   8.3625,2,    -999,9,    -999,9,    -999,    -999,9,    -999,    0.31,2,   43.62,2,   32.02,2,  17.6311, -66.0002,    -999,     -999,    -999,   8.2898,   8.3625,2,-999,9,-999,-999,9,-999,    35.1233,2,-999,9,20120410,        422
33AT20120324,        A22,      61,          1,         16,         16,2,20120410,       0336,    17.6302,   -66.0003,       2502,   768.4,   7.4033,  34.8846,2,  34.8792,2,    130.4,2,   131.6,2,   20.45,2,   30.01,2,    0.00,2,    1.96,2,   0.536,2,   0.286,2,   0.005,2,    0.00,4,    -999,9,    -999,9,     -999,9,     -999,    -999,9,     -999,9,    -999,9,   7.3951,2,    -999,9,    -999,9,    -999,    -999,9,    -999,    0.26,2,   43.18,2,   32.85,2,  17.6311, -66.0002,    -999,     -999,    -999,   7.3262,   7.3951,2,-999,9,-999,-999,9,-999,    35.0437,2,-999,9,20120410,        419
33AT20120324,        A22,      61,          1,         15,         15,2,20120410,       0336,    17.6302,   -66.0003,       2502,   870.5,   6.3906,  34.8726,2,  34.8743,2,    146.5,2,   146.4,2,   22.47,2,   29.07,2,    0.00,2,    1.92,2,   0.313,2,   0.174,2,   0.006,2,    0.11,4,    -999,9,    -999,9,     -999,9,     -999,    -999,9,     -999,9,    -999,9,   6.3910,2,    -999,9,    -999,9,    -999,    -999,9,    -999,    0.22,2,   42.14,2,   31.86,2,  17.6311, -66.0002,    -999,     -999,    -999,   6.3092,   6.3910,2,-999,9,-999,-999,9,-999,    35.0388,2,-999,9,20120410,        417
33AT20120324,        A22,      61,          1,         14,         14,2,20120410,       0336,    17.6302,   -66.0003,       2502,   968.9,   5.6037,  34.9196,2,  34.9227,2,    168.8,2,   171.5,2,   23.12,2,   26.38,2,    0.00,2,    1.77,2,   0.229,2,   0.130,2,   0.005,2,    0.00,4,    -999,9,    -999,9,     -999,9,     -999,    -999,9,     -999,9,    -999,9,   5.6030,2,    -999,9,    -999,9,    -999,    -999,9,    -999,    0.23,2,   41.25,2,   29.22,2,  17.6310, -66.0002,    -999,     -999,    -999,   5.5181,   5.6030,2,-999,9,-999,-999,9,-999,    35.0874,2,-999,9,20120410,        414
33AT20120324,        A22,      61,          1,         13,         13,2,20120410,       0336,    17.6302,   -66.0003,       2502,  1073.1,   5.1621,  34.9434,2,  34.9438,2,    184.8,2,   185.4,2,   23.27,2,   24.91,2,    0.00,2,    1.68,2,   0.198,2,   0.115,2,   0.007,2,    0.00,4,  2200.6,2, 2323.15,2,   7.6680,2,       25,    -999,9,     -999,9,    -999,9,   5.1613,2,    -999,9,    -999,9,    -999,    -999,9,    -999,    0.25,2,   40.86,2,   27.81,2,  17.6310, -66.0002,    -999,     -999,    -999,   5.0700,   5.1613,2,-999,9,-999,-999,9,-999,    35.1086,2,-999,9,20120410,        412
33AT20120324,        A22,      61,          1,         12,         12,2,20120410,       0336,    17.6302,   -66.0003,       2502,  1173.9,   4.8382,  34.9561,2,  34.9576,2,    195.6,2,   196.3,2,   23.46,2,   23.82,2,    0.00,2,    1.60,2,   0.186,2,   0.108,2,   0.007,2,    0.00,4,    -999,9,    -999,9,     -999,9,     -999,    -999,9,     -999,9,    -999,9,   4.8389,2,    -999,9,    -999,9,    -999,    -999,9,    -999,    0.27,2,   40.88,2,   26.74,2,  17.6310, -66.0002,    -999,     -999,    -999,   4.7395,   4.8389,2,-999,9,-999,-999,9,-999,    35.1224,2,-999,9,20120410,        409
33AT20120324,        A22,      61,          1,         11,         11,2,20120410,       0336,    17.6302,   -66.0003,       2502,  1274.5,   4.4457,  34.9669,2,  34.9672,2,    206.5,2,   206.4,2,   24.41,2,   22.80,2,    0.00,2,    1.54,2,   0.160,2,   0.098,2,   0.008,2,    0.00,4,    -999,9,    -999,9,     -999,9,     -999,    -999,9,     -999,9,    -999,9,   4.4453,2,    -999,9,    -999,9,    -999,    -999,9,    -999,    0.25,2,   40.97,2,   25.81,2,  17.6309, -66.0003,    -999,     -999,    -999,   4.3414,   4.4453,2,-999,9,-999,-999,9,-999,    35.1321,2,-999,9,20120410,        407
33AT20120324,        A22,      61,          1,         10,         10,2,20120410,       0336,    17.6302,   -66.0003,       2502,  1376.6,   4.2307,  34.9713,2,  34.9718,2,    212.2,2,   212.2,2,   25.24,2,   22.16,2,    0.00,2,    1.51,2,   0.182,2,   0.105,2,   0.009,2,    0.00,4,    -999,9,    -999,9,     -999,9,     -999,    -999,9,     -999,9,    -999,9,   4.2304,2,    -999,9,    -999,9,    -999,    -999,9,    -999,    0.28,2,   41.10,2,   25.03,2,  17.6308, -66.0003,    -999,     -999,    -999,   4.1192,   4.2304,2,-999,9,-999,-999,9,-999,    35.1367,2,-999,9,20120410,        404
33AT20120324,        A22,      61,          1,          9,          9,2,20120410,       0336,    17.6302,   -66.0003,       2502,  1476.8,   4.1970,  34.9721,2,  34.9728,2,    213.6,2,   213.5,2,   25.54,2,   22.04,2,    0.00,2,    1.50,2,   0.180,2,   0.105,2,   0.009,2,    0.00,4,    -999,9,    -999,9,     -999,9,     -999,    -999,9,     -999,9,    -999,9,   4.1969,2,    -999,9,    -999,9,    -999,    -999,9,    -999,    0.29,2,   40.82,2,   24.96,2,  17.6307, -66.0003,    -999,     -999,    -999,   4.0767,   4.1969,2,-999,9,-999,-999,9,-999,    35.1377,2,-999,9,20120410,        401
33AT20120324,        A22,      61,          1,          8,          8,2,20120410,       0336,    17.6302,   -66.0003,       2502,  1578.4,   4.1553,  34.9731,2,  34.9740,2,    215.6,2,   215.8,2,   25.62,2,   21.92,2,    0.00,2,    1.49,2,   0.191,2,   0.111,2,   0.010,2,    0.05,4,  2195.9,2, 2332.82,2,   7.7060,2,       25,    -999,9,     -999,9,    -999,9,   4.1553,2,    -999,9,    -999,9,    -999,    -999,9,    -999,    0.28,2,   41.00,2,   24.81,2,  17.6305, -66.0003,    -999,     -999,    -999,   4.0260,   4.1553,2,-999,9,-999,-999,9,-999,    35.1389,2,-999,9,20120410,        358
33AT20120324,        A22,      61,          1,          7,          7,2,20120410,       0336,    17.6302,   -66.0003,       2502,  1679.8,   4.1334,  34.9737,2,  34.9742,2,    217.8,2,   218.4,2,   25.00,2,   21.61,2,    0.00,2,    1.47,2,   0.253,2,   0.146,2,   0.012,2,    0.10,4,    -999,9,    -999,9,     -999,9,     -999,    -999,9,     -999,9,    -999,9,   4.1332,2,    -999,9,    -999,9,    -999,    -999,9,    -999,    0.35,2,   41.22,2,   24.51,2,  17.6304, -66.0003,    -999,     -999,    -999,   3.9949,   4.1332,2,-999,9,-999,-999,9,-999,    35.1391,2,-999,9,20120410,        356
33AT20120324,        A22,      61,          1,          6,          6,2,20120410,       0336,    17.6302,   -66.0003,       2502,  1781.1,   4.1200,  34.9734,2,  34.9740,2,    214.2,2,   213.7,2,   26.98,2,   22.02,2,    0.00,2,    1.51,2,   0.074,2,   0.051,2,   0.005,2,    0.19,4,    -999,9,    -999,9,     -999,9,     -999,    -999,9,     -999,9,    -999,9,   4.1196,2,    -999,9,    -999,9,    -999,    -999,9,    -999,    0.15,2,   41.01,2,   24.88,2,  17.6304, -66.0003,    -999,     -999,    -999,   3.9720,   4.1196,2,-999,9,-999,-999,9,-999,    35.1389,2,-999,9,20120410,        354
33AT20120324,        A22,      61,          1,          5,          5,2,20120410,       0336,    17.6302,   -66.0003,       2502,  1881.9,   4.1159,  34.9741,2,  34.9748,2,    216.4,2,   216.5,2,   26.38,2,   21.80,2,    0.00,2,    1.49,2,   0.140,2,   0.086,2,   0.005,2,    0.17,4,    -999,9,    -999,9,     -999,9,     -999,    -999,9,     -999,9,    -999,9,   4.1157,2,    -999,9,    -999,9,    -999,    -999,9,    -999,    0.22,2,   40.89,2,   24.52,2,  17.6303, -66.0003,    -999,     -999,    -999,   3.9582,   4.1157,2,-999,9,-999,-999,9,-999,    35.1397,2,-999,9,20120410,        351
33AT20120324,        A22,      61,          1,          4,          4,2,20120410,       0336,    17.6302,   -66.0003,       2502,  1980.2,   4.1024,  34.9742,2,  34.9750,2,    220.0,2,   219.0,2,   25.68,2,   21.58,2,    0.00,2,    1.46,2,   0.219,2,   0.130,2,   0.011,2,    0.00,4,    -999,9,    -999,9,     -999,9,     -999,    -999,9,     -999,9,    -999,9,   4.1024,2,    -999,9,    -999,9,    -999,    -999,9,    -999,    0.29,2,   40.46,2,   23.99,2,  17.6303, -66.0003,    -999,     -999,    -999,   3.9353,   4.1024,2,-999,9,-999,-999,9,-999,    35.1399,2,-999,9,20120410,        349