BOTTLE,20220725CCHSIOCBG
EXPOCODE,SECT_ID,STNNBR,CASTNO,SAMPNO,BTLNBR,BTLNBR_FLAG_W,DATE,TIME,LATITUDE,LONGITUDE,DEPTH,CTDPRS,CTDTMP,CTDSAL,CTDSAL_FLAG_W,SALNTY,SALNTY_FLAG_W,CTDOXY,CTDOXY_FLAG_W,OXYGEN,OXYGEN_FLAG_W,SILCAT,SILCAT_FLAG_W,NITRAT,NITRAT_FLAG_W,NITRIT,NITRIT_FLAG_W,PHSPHT,PHSPHT_FLAG_W,CFC-11,CFC-11_FLAG_W,CFC-12,CFC-12_FLAG_W,CFC113,CFC113_FLAG_W,SF6,SF6_FLAG_W,TCARBN,TCARBN_FLAG_W,ALKALI,ALKALI_FLAG_W,PH_TOT,PH_TOT_FLAG_W,PH_TMP,TRITUM,TRITUM_FLAG_W,HELIUM,HELIUM_FLAG_W,DELHE3,DELHE3_FLAG_W,REFTMP,REFTMP_FLAG_W,DELC13,DELC13_FLAG_W,DELC14,DELC14_FLAG_W,C14ERR,NEON,NEON_FLAG_W,NEONER,CCL4,CCL4_FLAG_W,DOC,DOC_FLAG_W,TDN,TDN_FLAG_W,BTL_LAT,BTL_LON,TRITER,HELIER,DELHER,THETA,SBE35,SBE35_FLAG_W,14C-DOC,14C-DOC_FLAG_W,14C-DOCERR,13C-DOC,13C-DOC_FLAG_W,13C-DOCERR,SALTREF,SALTREF_FLAG_W,LAB_DEN,LAB_DEN_FLAG_W,BTL_DATE,BTL_TIME
,,,,,,,,,,,METERS,DBAR,ITS-90,PSS-78,,PSS-78,,UMOL/KG,,UMOL/KG,,UMOL/KG,,UMOL/KG,,UMOL/KG,,UMOL/KG,,PMOL/KG,,PMOL/KG,,PMOL/KG,,FMOL/KG,,UMOL/KG,,UMOL/KG,,,,DEG C,TU,,NMOL/KG,,PERCNT,,DEG C,,/MILLE,,/MILLE,,/MILLE,NMOL/KG,,NMOL/KG,PMOL/KG,,UMOL/KG,,UMOL/KG,,,,TU,NMOL/KG,PERCNT,DEG C,ITS-90,,/MILLE,,/MILLE,/MILLE,,/MILLE,G/KG,,KG/M^3,,,
33AT20120324,        A22,      25,          1,         36,         36,2,20120401,       0024,    32.9309,   -65.1968,       4739,     3.9,  19.6052,  36.5773,2,  36.5756,2,    226.3,2,   227.0,2,    0.00,2,    0.00,2,    0.00,2,    0.00,2,   2.060,2,   1.371,2,   0.167,2,    1.07,4,  2079.4,6, 2394.68,6,   8.0450,2,       25,    -999,9,     -999,9,    -999,9,  19.6062,2,    1.04,2,    60.0,2,     3.7,    -999,9,    -999,    1.79,2,   65.15,2,    4.80,2,  32.9310, -65.1967,    -999,     -999,    -999,  19.6045,  19.6062,2,-999,9,-999,-999,9,-999,    36.7481,2,-999,9,20120401,        225
33AT20120324,        A22,      25,          1,         35,         35,2,20120401,       0024,    32.9309,   -65.1968,       4739,    21.1,  19.5665,  36.5771,2,  36.5747,2,    226.9,2,   226.3,2,    0.00,2,    0.00,2,    0.00,2,    0.00,2,   2.084,2,   1.398,2,   0.170,2,    1.36,4,    -999,9,    -999,9,     -999,9,     -999,    -999,9,     -999,9,    -999,9,  19.5677,2,    -999,9,    -999,9,    -999,    -999,9,    -999,    1.80,2,   64.23,2,    3.92,2,  32.9310, -65.1967,    -999,     -999,    -999,  19.5626,  19.5677,2,-999,9,-999,-999,9,-999,    36.7471,2,-999,9,20120401,        223
33AT20120324,        A22,      25,          1,         34,         34,2,20120401,       0024,    32.9309,   -65.1968,       4739,    40.9,  19.5582,  36.5767,2,  36.5753,2,    227.3,2,   227.5,2,    0.00,2,    0.00,2,    0.00,2,    0.00,2,   2.091,2,   1.409,2,   0.157,2,    1.62,4,    -999,9,    -999,9,     -999,9,     -999,    -999,9,     -999,9,    -999,9,  19.5584,2,    -999,9,    -999,9,    -999,    -999,9,    -999,    1.74,2,   64.25,2,    4.74,2,  32.9310, -65.1967,    -999,     -999,    -999,  19.5507,  19.5584,2,-999,9,-999,-999,9,-999,    36.7478,2,-999,9,20120401,        221
33AT20120324,        A22,      25,          1,         33,         33,2,20120401,       0024,    32.9309,   -65.1968,       4739,    66.1,  19.5467,  36.5758,2,  36.5744,2,    225.8,2,   224.4,2,    0.00,2,    0.00,2,    0.05,2,    0.00,2,   2.139,2,   1.376,2,   0.153,2,    1.60,4,  2080.4,2, 2395.47,2,   8.0449,6,       25,    -999,9,     -999,9,    -999,9,  19.5466,2,    -999,9,    -999,9,    -999,    -999,9,    -999,    1.85,2,   64.47,2,    3.92,2,  32.9311, -65.1967,    -999,     -999,    -999,  19.5346,  19.5466,2,-999,9,-999,-999,9,-999,    36.7469,2,-999,9,20120401,        219
33AT20120324,        A22,      25,          1,         32,         32,2,20120401,       0024,    32.9309,   -65.1968,       4739,    91.1,  19.5371,  36.5757,2,  36.5742,2,    224.8,2,   224.6,2,    0.00,2,    0.02,2,    0.09,2,    0.00,2,   2.160,2,   1.425,2,   0.173,2,    1.61,4,  2079.6,2, 2394.05,3,   8.0399,2,       25,    -999,9,     -999,9,    -999,9,  19.5374,2,    -999,9,    -999,9,    -999,    -999,9,    -999,    1.82,2,   64.11,2,    4.24,2,  32.9310, -65.1968,    -999,     -999,    -999,  19.5204,  19.5374,2,-999,9,-999,-999,9,-999,    36.7467,2,-999,9,20120401,        217
33AT20120324,        A22,      25,          1,         31,         31,2,20120401,       0024,    32.9309,   -65.1968,       4739,   135.9,  19.5414,  36.5774,2,  36.5763,2,    223.7,2,   223.4,2,    0.00,2,    0.05,2,    0.14,2,    0.00,2,   2.149,2,   1.429,2,   0.162,2,    1.51,4,  2081.7,2, 2391.20,6,   8.0412,2,       25,    -999,9,     -999,9,    -999,9,  19.5417,2,    0.86,2,    58.8,2,     2.8,    -999,9,    -999,    1.71,2,   63.58,2,    3.94,2,  32.9311, -65.1968,    -999,     -999,    -999,  19.5165,  19.5417,2,-999,9,-999,-999,9,-999,    36.7488,2,-999,9,20120401,        214
33AT20120324,        A22,      25,          1,         30,         30,2,20120401,       0024,    32.9309,   -65.1968,       4739,   187.2,  18.0880,  36.5369,2,  36.5335,2,    195.3,2,   198.4,2,    0.98,2,    3.71,2,    0.01,2,    0.16,2,   2.302,2,   1.435,2,   0.065,2,    0.83,4,  2117.3,2, 2385.49,2,   7.9696,2,       25,    -999,9,     -999,9,    -999,9,  18.0878,2,    0.70,2,    61.0,2,     2.8,    -999,9,    -999,    0.52,2,   60.33,2,    6.74,2,  32.9311, -65.1968,    -999,     -999,    -999,  18.0554,  18.0878,2,-999,9,-999,-999,9,-999,    36.7058,2,-999,9,20120401,        212
33AT20120324,        A22,      25,          1,         29,         29,2,20120401,       0024,    32.9309,   -65.1968,       4739,   238.1,  17.8862,  36.5398,2,  36.5379,2,    201.6,2,   201.7,2,    1.12,2,    4.36,2,    0.00,2,    0.19,2,   2.336,2,   1.510,2,   0.049,2,    0.95,4,  2115.6,2, 2385.97,2,   7.9731,2,       25,    -999,9,     -999,9,    -999,9,  17.8866,2,    0.63,2,    65.1,2,     3.2,    -999,9,    -999,    0.47,2,   57.82,2,    7.57,2,  32.9310, -65.1968,    -999,     -999,    -999,  17.8450,  17.8866,2,-999,9,-999,-999,9,-999,    36.7102,2,-999,9,20120401,        210
33AT20120324,        A22,      25,          1,         28,         28,2,20120401,       0024,    32.9309,   -65.1968,       4739,   287.9,  17.6274,  36.5018,2,  36.5004,2,    202.6,2,   202.6,2,    1.30,2,    4.83,2,    0.00,2,    0.22,2,   2.366,2,   1.530,2,   0.047,2,    0.76,4,  2117.8,2, 2384.13,2,   7.9676,2,       25,    -999,9,     -999,9,    -999,9,  17.6280,2,    0.63,2,    62.5,2,     3.0,    -999,9,    -999,    0.49,2,   55.56,2,    8.58,2,  32.9310, -65.1968,    -999,     -999,    -999,  17.5781,  17.6280,2,-999,9,-999,-999,9,-999,    36.6726,2,-999,9,20120401,        208
33AT20120324,        A22,      25,          1,         27,         27,2,20120401,       0024,    32.9309,   -65.1968,       4739,   338.8,  17.2321,  36.4294,2,  36.4289,2,    202.5,2,   200.2,2,    1.53,2,    5.67,2,    0.00,2,    0.28,2,   2.383,2,   1.540,2,   0.049,2,    0.79,4,  2120.3,2, 2380.37,2,   7.9548,2,       25,    -999,9,     -999,9,    -999,9,  17.2330,2,    0.64,2,    71.9,2,     3.2,    -999,9,    -999,    0.48,2,   53.47,2,    9.23,2,  32.9310, -65.1967,    -999,     -999,    -999,  17.1749,  17.2330,2,-999,9,-999,-999,9,-999,    36.6007,2,-999,9,20120401,        206
33AT20120324,        A22,      25,          1,         26,         26,2,20120401,       0024,    32.9309,   -65.1968,       4739,   388.0,  16.8051,  36.3426,2,  36.3414,2,    196.5,2,   193.9,2,    2.06,2,    6.99,2,    0.00,2,    0.36,2,   2.378,2,   1.484,2,   0.039,2,    0.87,4,  2127.0,2, 2375.32,2,   7.9363,2,       25,    -999,9,     -999,9,    -999,9,  16.8046,2,    0.55,2,    68.9,2,     3.5,    -999,9,    -999,    0.46,2,   52.82,2,   10.27,2,  32.9310, -65.1967,    -999,     -999,    -999,  16.7406,  16.8046,2,-999,9,-999,-999,9,-999,    36.5128,2,-999,9,20120401,        204
33AT20120324,        A22,      25,          1,         25,         25,2,20120401,       0024,    32.9309,   -65.1968,       4739,   440.1,  16.2635,  36.2346,2,  36.2337,2,    188.9,2,   188.0,2,    2.56,2,    8.39,2,    0.00,2,    0.45,2,   2.202,2,   1.351,2,   0.041,2,    0.47,4,    -999,9,    -999,9,     -999,9,     -999,    -999,9,     -999,9,    -999,9,  16.2649,2,    -999,9,    -999,9,    -999,    -999,9,    -999,    0.44,2,   51.81,2,   11.87,2,  32.9310, -65.1967,    -999,     -999,    -999,  16.1919,  16.2649,2,-999,9,-999,-999,9,-999,    36.4046,2,-999,9,20120401,        202
33AT20120324,        A22,      25,          1,         24,         24,2,20120401,       0024,    32.9309,   -65.1968,       4739,   485.0,  15.4659,  36.0841,2,  36.0818,2,    184.3,2,   183.3,2,    3.32,2,   10.08,2,    0.00,2,    0.57,2,   2.074,2,   1.552,2,   0.036,2,    0.00,4,  2140.5,2, 2360.36,2,   7.8890,2,       25,    -999,9,     -999,9,    -999,9,  15.4646,2,    0.56,2,    57.6,2,     2.6,    -999,9,    -999,    0.32,2,   49.87,2,   13.14,2,  32.9310, -65.1968,    -999,     -999,    -999,  15.3896,  15.4646,2,-999,9,-999,-999,9,-999,    36.2519,2,-999,9,20120401,        201
33AT20120324,        A22,      25,          1,         23,         23,2,20120401,       0024,    32.9309,   -65.1968,       4739,   569.3,  14.0442,  35.8459,2,  35.8301,2,    176.7,2,   176.1,2,    5.00,2,   13.21,2,    0.00,2,    0.79,2,   2.230,2,   1.379,2,   0.043,2,    0.22,4,  2152.4,2, 2348.40,2,   7.8388,2,       25,    -999,9,     -999,9,    -999,9,  14.0086,3,    0.60,2,    54.6,2,     2.9,    -999,9,    -999,    0.49,2,   47.95,2,   16.22,2,  32.9311, -65.1968,    -999,     -999,    -999,  13.9601,  14.0086,3,-999,9,-999,-999,9,-999,    35.9991,2,-999,9,20120401,        158
33AT20120324,        A22,      25,          1,         22,         22,2,20120401,       0024,    32.9309,   -65.1968,       4739,   670.4,  11.4425,  35.4695,2,  35.4806,2,    157.1,2,   152.2,2,    9.29,2,   19.47,2,    0.00,2,    1.21,2,   1.739,2,   0.999,2,   0.032,2,    0.22,4,  2179.2,2, 2329.55,2,   7.7454,2,       25,    -999,9,     -999,9,    -999,9,  11.4337,2,    0.61,2,    22.6,2,     2.7,    -999,9,    -999,    0.37,2,   46.87,2,   22.33,2,  32.9311, -65.1968,    -999,     -999,    -999,  11.3555,  11.4337,2,-999,9,-999,-999,9,-999,    35.6479,2,-999,9,20120401,        156
33AT20120324,        A22,      25,          1,         21,         21,2,20120401,       0024,    32.9309,   -65.1968,       4739,   771.4,   9.1869,  35.2133,2,  35.2103,2,    150.0,2,   148.7,2,   13.25,2,   23.45,2,    0.00,2,    1.49,2,   1.321,2,   0.746,2,   0.029,2,    0.17,4,  2191.9,2, 2321.03,2,   7.6849,2,       25,    -999,9,     -999,9,    -999,9,   9.1764,2,    0.66,2,   -12.0,2,     2.8,    -999,9,    -999,    0.40,2,   46.25,2,   26.72,2,  32.9312, -65.1969,    -999,     -999,    -999,   9.0990,   9.1764,2,-999,9,-999,-999,9,-999,    35.3764,2,-999,9,20120401,        153
33AT20120324,        A22,      25,          1,         20,         20,2,20120401,       0024,    32.9309,   -65.1968,       4739,   873.4,   7.7150,  35.1355,2,  35.1351,2,    171.2,2,   169.7,2,   13.72,2,   22.65,2,    0.00,2,    1.46,2,   1.313,2,   0.719,2,   0.035,2,    0.21,4,  2190.2,2, 2318.64,2,   7.6868,2,       25,    -999,9,     -999,9,    -999,9,   7.7172,2,    0.74,2,   -31.8,2,     3.2,    -999,9,    -999,    0.59,2,   45.20,2,   25.23,2,  32.9312, -65.1969,    -999,     -999,    -999,   7.6244,   7.7172,2,-999,9,-999,-999,9,-999,    35.3008,2,-999,9,20120401,        150
33AT20120324,        A22,      25,          1,         19,         19,2,20120401,       0024,    32.9309,   -65.1968,       4739,   972.8,   6.4473,  35.0835,2,  35.0815,2,    198.7,2,   200.2,2,   12.94,2,   20.70,2,    0.00,2,    1.37,2,   1.754,2,   0.979,2,   0.070,2,    0.33,4,  2185.5,2, 2313.30,2,   7.6960,2,       25,    -999,9,     -999,9,    -999,9,   6.4468,2,    0.75,2,   -27.5,2,     2.8,    -999,9,    -999,    1.01,2,   44.78,2,   23.45,2,  32.9312, -65.1970,    -999,     -999,    -999,   6.3550,   6.4468,2,-999,9,-999,-999,9,-999,    35.2470,2,-999,9,20120401,        147
33AT20120324,        A22,      25,          1,         18,         18,2,20120401,       0024,    32.9309,   -65.1968,       4739,  1073.9,   5.6888,  35.0608,2,  35.0603,2,    222.8,2,   221.7,2,   12.22,2,   19.37,2,    0.00,2,    1.27,2,   2.095,2,   1.217,2,   0.098,2,    0.39,4,  2178.7,2, 2311.84,2,   7.7051,2,       25,    -999,9,     -999,9,    -999,9,   5.6873,2,    0.81,2,   -26.5,2,     2.8,    -999,9,    -999,    1.36,2,   44.64,2,   22.29,2,  32.9312, -65.1970,    -999,     -999,    -999,   5.5922,   5.6873,2,-999,9,-999,-999,9,-999,    35.2256,2,-999,9,20120401,        145
33AT20120324,        A22,      25,          1,         17,         17,2,20120401,       0024,    32.9309,   -65.1968,       4739,  1175.8,   5.2129,  35.0480,2,  35.0465,2,    235.0,2,   235.0,2,   11.90,2,   18.64,2,    0.00,2,    1.23,2,   2.273,2,   1.279,2,   0.121,2,    0.17,4,    -999,9,    -999,9,     -999,9,     -999,    -999,9,     -999,9,    -999,9,   5.2129,2,    -999,9,    -999,9,    -999,    -999,9,    -999,    1.61,2,   43.91,2,   22.36,2,  32.9312, -65.1970,    -999,     -999,    -999,   5.1105,   5.2129,2,-999,9,-999,-999,9,-999,    35.2118,2,-999,9,20120401,        142
33AT20120324,        A22,      25,          1,         16,         16,2,20120401,       0024,    32.9309,   -65.1968,       4739,  1276.0,   4.8937,  35.0371,2,  35.0367,2,    242.0,2,   241.9,2,   11.95,2,   18.40,2,    0.00,2,    1.21,2,   2.182,2,   1.215,2,   0.117,2,    0.00,4,  2172.2,2, 2311.07,2,   7.7213,6,       25,    -999,9,     -999,9,    -999,9,   4.8981,2,    0.88,2,   -23.1,2,     2.4,    -999,9,    -999,    1.66,2,   44.03,2,   20.97,2,  32.9312, -65.1970,    -999,     -999,    -999,   4.7848,   4.8981,2,-999,9,-999,-999,9,-999,    35.2019,2,-999,9,20120401,        139
33AT20120324,        A22,      25,          1,         15,         15,2,20120401,       0024,    32.9309,   -65.1968,       4739,  1376.4,   4.6090,  35.0193,2,  35.0184,2,    248.6,2,   248.5,2,   11.86,2,   18.14,2,    0.00,2,    1.20,2,   2.199,2,   1.248,2,   0.124,2,    0.15,4,    -999,9,    -999,9,     -999,9,     -999,    -999,9,     -999,9,    -999,9,   4.6107,2,    -999,9,    -999,9,    -999,    -999,9,    -999,    1.70,2,   43.73,2,   20.82,2,  32.9312, -65.1970,    -999,     -999,    -999,   4.4935,   4.6107,2,-999,9,-999,-999,9,-999,    35.1835,2,-999,9,20120401,        137
33AT20120324,        A22,      25,          1,         14,         14,2,20120401,       0024,    32.9309,   -65.1968,       4739,  1478.0,   4.3786,  35.0026,2,  35.0012,2,    253.2,2,   253.1,2,   12.05,2,   17.96,2,    0.00,2,    1.20,2,   2.215,2,   1.221,2,   0.124,2,    0.20,4,  2167.0,2, 2310.32,2,   7.7245,2,       25,    -999,9,     -999,9,    -999,9,   4.3779,2,    0.88,2,   -25.1,2,     2.4,    -999,9,    -999,    1.79,2,   43.53,2,   22.27,2,  32.9312, -65.1970,    -999,     -999,    -999,   4.2561,   4.3779,2,-999,9,-999,-999,9,-999,    35.1663,2,-999,9,20120401,        134
33AT20120324,        A22,      25,          1,         13,         13,2,20120401,       0024,    32.9309,   -65.1968,       4739,  1582.7,   4.1860,  34.9916,2,  34.9908,2,    256.6,2,   256.9,2,   12.43,2,   17.88,2,    0.00,2,    1.19,2,   2.059,2,   1.126,2,   0.117,2,    0.07,4,    -999,9,    -999,9,     -999,9,     -999,    -999,9,     -999,9,    -999,9,   4.1864,2,    -999,9,    -999,9,    -999,    -999,9,    -999,    1.76,2,   42.91,2,   20.22,2,  32.9312, -65.1970,    -999,     -999,    -999,   4.0559,   4.1864,2,-999,9,-999,-999,9,-999,    35.1558,2,-999,9,20120401,        131
33AT20120324,        A22,      25,          1,         12,         12,2,20120401,       0024,    32.9309,   -65.1968,       4739,  1753.8,   3.9646,  34.9831,2,  34.9826,2,    259.1,2,   258.6,2,   13.23,2,   17.85,2,    0.00,2,    1.19,2,   1.768,2,   0.952,2,   0.097,2,    0.06,4,  2165.2,2, 2309.46,2,   7.7299,2,       25,    -999,9,     -999,9,    -999,9,   3.9636,2,    0.99,2,   -28.8,2,     2.8,    -999,9,    -999,    1.64,2,   43.68,2,   20.63,2,  32.9313, -65.1970,    -999,     -999,    -999,   3.8212,   3.9636,2,-999,9,-999,-999,9,-999,    35.1475,2,-999,9,20120401,        127
33AT20120324,        A22,      25,          1,         11,         11,2,20120401,       0024,    32.9309,   -65.1968,       4739,  1955.6,   3.7164,  34.9700,2,  34.9684,2,    260.5,2,   260.9,2,   14.25,2,   17.81,2,    0.00,2,    1.20,2,   1.525,2,   0.800,2,   0.074,2,    0.12,4,    -999,9,    -999,9,     -999,9,     -999,    -999,9,     -999,9,    -999,9,   3.7192,2,    -999,9,    -999,9,    -999,    -999,9,    -999,    1.52,2,   43.48,2,   20.35,2,  32.9313, -65.1971,    -999,     -999,    -999,   3.5573,   3.7192,2,-999,9,-999,-999,9,-999,    35.1333,2,-999,9,20120401,        123
33AT20120324,        A22,      25,          1,         10,         10,2,20120401,       0024,    32.9309,   -65.1968,       4739,  2189.2,   3.4764,  34.9600,2,  34.9589,2,    262.2,2,   262.3,2,   15.95,2,   17.84,2,    0.00,2,    1.20,2,   1.205,2,   0.631,2,   0.056,2,    0.07,4,  2162.1,2, 2308.63,2,   7.7396,2,       25,    -999,9,     -999,9,    -999,9,   3.4764,2,    1.01,2,   -47.0,2,     2.9,    -999,9,    -999,    1.26,2,   42.75,2,   20.60,2,  32.9313, -65.1971,    -999,     -999,    -999,   3.2985,   3.4764,2,-999,9,-999,-999,9,-999,    35.1238,2,-999,9,20120401,        118
33AT20120324,        A22,      25,          1,          9,          9,2,20120401,       0024,    32.9309,   -65.1968,       4739,  2443.2,   3.2467,  34.9537,2,  34.9526,2,    262.2,2,   262.2,2,   18.60,2,   18.09,2,    0.00,2,    1.22,2,   0.892,2,   0.456,2,   0.034,2,    0.00,4,  2163.8,2, 2312.48,2,   7.7402,2,       25,    -999,9,     -999,9,    -999,9,   3.2472,2,    1.06,2,   -56.1,2,     2.8,    -999,9,    -999,    1.04,2,   43.74,2,   20.48,2,  32.9313, -65.1971,    -999,     -999,    -999,   3.0478,   3.2472,2,-999,9,-999,-999,9,-999,    35.1175,2,-999,9,20120401,        112
33AT20120324,        A22,      25,          1,          8,          8,2,20120401,       0024,    32.9309,   -65.1968,       4739,  2698.5,   3.0487,  34.9441,2,  34.9428,2,    262.5,2,   262.5,2,   20.52,2,   18.25,2,    0.00,2,    1.23,2,   0.725,2,   0.379,2,   0.030,2,    0.10,4,    -999,9,    -999,9,     -999,9,     -999,    -999,9,     -999,9,    -999,9,   3.0483,2,    -999,9,    -999,9,    -999,    -999,9,    -999,    0.80,2,   43.31,2,   20.49,2,  32.9312, -65.1970,    -999,     -999,    -999,   2.8280,   3.0483,2,-999,9,-999,-999,9,-999,    35.1076,2,-999,9,20120401,        107
33AT20120324,        A22,      25,          1,          7,          7,2,20120401,       0024,    32.9309,   -65.1968,       4739,  2954.0,   2.8321,  34.9319,2,  34.9308,2,    264.5,2,   264.8,2,   21.88,2,   18.10,2,    0.00,2,    1.23,2,   0.685,2,   0.364,2,   0.028,2,    0.06,4,  2165.3,2, 2316.44,2,   7.7433,2,       25,    -999,9,     -999,9,    -999,9,   2.8311,2,    1.11,2,   -65.6,2,     2.4,    -999,9,    -999,    0.80,2,   43.45,2,   20.33,2,  32.9312, -65.1970,    -999,     -999,    -999,   2.5897,   2.8311,2,-999,9,-999,-999,9,-999,    35.0955,2,-999,9,20120401,        102
33AT20120324,        A22,      25,          1,          6,          6,2,20120401,       0024,    32.9309,   -65.1968,       4739,  3244.4,   2.5768,  34.9160,2,  34.9145,2,    266.7,2,   266.5,2,   23.38,2,   17.95,2,    0.00,2,    1.22,2,   0.755,2,   0.394,2,   0.039,2,    0.20,4,    -999,9,    -999,9,     -999,9,     -999,    -999,9,     -999,9,    -999,9,   2.5776,2,    -999,9,    -999,9,    -999,    -999,9,    -999,    0.93,2,   44.21,2,   20.54,2,  32.9311, -65.1969,    -999,     -999,    -999,   2.3098,   2.5776,2,-999,9,-999,-999,9,-999,    35.0791,2,-999,9,20120401,         56