BOTTLE,20220725CCHSIOCBG
EXPOCODE,SECT_ID,STNNBR,CASTNO,SAMPNO,BTLNBR,BTLNBR_FLAG_W,DATE,TIME,LATITUDE,LONGITUDE,DEPTH,CTDPRS,CTDTMP,CTDSAL,CTDSAL_FLAG_W,SALNTY,SALNTY_FLAG_W,CTDOXY,CTDOXY_FLAG_W,OXYGEN,OXYGEN_FLAG_W,SILCAT,SILCAT_FLAG_W,NITRAT,NITRAT_FLAG_W,NITRIT,NITRIT_FLAG_W,PHSPHT,PHSPHT_FLAG_W,CFC-11,CFC-11_FLAG_W,CFC-12,CFC-12_FLAG_W,CFC113,CFC113_FLAG_W,SF6,SF6_FLAG_W,TCARBN,TCARBN_FLAG_W,ALKALI,ALKALI_FLAG_W,PH_TOT,PH_TOT_FLAG_W,PH_TMP,TRITUM,TRITUM_FLAG_W,HELIUM,HELIUM_FLAG_W,DELHE3,DELHE3_FLAG_W,REFTMP,REFTMP_FLAG_W,DELC13,DELC13_FLAG_W,DELC14,DELC14_FLAG_W,C14ERR,NEON,NEON_FLAG_W,NEONER,CCL4,CCL4_FLAG_W,DOC,DOC_FLAG_W,TDN,TDN_FLAG_W,BTL_LAT,BTL_LON,TRITER,HELIER,DELHER,THETA,SBE35,SBE35_FLAG_W,14C-DOC,14C-DOC_FLAG_W,14C-DOCERR,13C-DOC,13C-DOC_FLAG_W,13C-DOCERR,SALTREF,SALTREF_FLAG_W,LAB_DEN,LAB_DEN_FLAG_W,BTL_DATE,BTL_TIME
,,,,,,,,,,,METERS,DBAR,ITS-90,PSS-78,,PSS-78,,UMOL/KG,,UMOL/KG,,UMOL/KG,,UMOL/KG,,UMOL/KG,,UMOL/KG,,PMOL/KG,,PMOL/KG,,PMOL/KG,,FMOL/KG,,UMOL/KG,,UMOL/KG,,,,DEG C,TU,,NMOL/KG,,PERCNT,,DEG C,,/MILLE,,/MILLE,,/MILLE,NMOL/KG,,NMOL/KG,PMOL/KG,,UMOL/KG,,UMOL/KG,,,,TU,NMOL/KG,PERCNT,DEG C,ITS-90,,/MILLE,,/MILLE,/MILLE,,/MILLE,G/KG,,KG/M^3,,,
33AT20120324,        A22,      16,          1,         36,         36,2,20120329,       0244,    37.1250,   -68.0508,       4896,     4.3,  21.5150,  36.3300,2,  36.3300,2,    215.9,2,   216.8,2,    0.30,2,    0.00,2,    0.00,2,    0.00,2,   1.983,2,   1.214,2,   0.148,2,    -999,5,  2050.2,6, 2379.43,6,   8.0700,2,       25,    -999,9,     -999,9,    -999,9,  21.5141,2,    -999,9,    -999,9,    -999,    -999,9,    -999,    -999,1,    -999,9,    -999,9,  37.1205, -68.0474,    -999,     -999,    -999,  21.5142,  21.5141,2,-999,9,-999,-999,9,-999,    36.5014,2,-999,9,20120329,        453
33AT20120324,        A22,      16,          1,         35,         35,2,20120329,       0244,    37.1250,   -68.0508,       4896,    35.8,  21.5350,  36.3250,2,  36.3257,2,    216.9,2,   216.5,2,    0.33,2,    0.00,2,    0.00,2,    0.00,2,   1.998,2,   1.236,2,   0.141,2,    1.35,2,  2049.2,2, 2377.43,2,   8.0769,6,       25,    -999,9,     -999,9,    -999,9,  21.5343,2,    -999,9,    -999,9,    -999,    -999,9,    -999,    -999,1,    -999,9,    -999,9,  37.1208, -68.0476,    -999,     -999,    -999,  21.5280,  21.5343,2,-999,9,-999,-999,9,-999,    36.4970,2,-999,9,20120329,        449
33AT20120324,        A22,      16,          1,         34,         34,2,20120329,       0244,    37.1250,   -68.0508,       4896,    61.8,  20.8679,  36.5872,2,     -999,9,    219.3,2,   216.3,2,    0.10,2,    0.11,2,    0.07,2,    0.00,2,   2.071,2,   1.276,2,   0.158,2,    1.41,2,  2070.9,2, 2390.55,2,   8.0568,2,       25,    -999,9,     -999,9,    -999,9,  20.8765,2,    -999,9,    -999,9,    -999,    -999,9,    -999,    -999,1,    -999,9,    -999,9,  37.1208, -68.0477,    -999,     -999,    -999,  20.8560,  20.8765,2,-999,9,-999,-999,9,-999,       -999,9,-999,9,20120329,        446
33AT20120324,        A22,      16,          1,         33,         33,2,20120329,       0244,    37.1250,   -68.0508,       4896,    87.1,  20.2688,  36.6452,2,  36.6451,2,    213.3,2,   214.2,2,    0.35,2,    0.34,2,    0.15,2,    0.00,2,   2.128,2,   1.318,2,   0.156,2,    1.35,2,  2082.9,2, 2392.93,2,   8.0464,2,       25,    -999,9,     -999,9,    -999,9,  20.2695,2,    -999,9,    -999,9,    -999,    -999,9,    -999,    -999,1,    -999,9,    -999,9,  37.1209, -68.0479,    -999,     -999,    -999,  20.2524,  20.2695,2,-999,9,-999,-999,9,-999,    36.8179,2,-999,9,20120329,        444
33AT20120324,        A22,      16,          1,         32,         32,2,20120329,       0244,    37.1250,   -68.0508,       4896,   118.4,  19.9283,  36.6359,2,  36.6347,2,    217.2,2,   211.5,2,    0.49,2,    0.78,2,    0.10,2,    0.02,2,   2.141,2,   1.363,2,   0.141,2,    1.38,2,  2085.3,2, 2394.48,2,   8.0386,2,       25,    -999,9,     -999,9,    -999,9,  19.9290,2,    -999,9,    -999,9,    -999,    -999,9,    -999,    -999,1,    -999,9,    -999,9,  37.1212, -68.0482,    -999,     -999,    -999,  19.9063,  19.9290,2,-999,9,-999,-999,9,-999,    36.8075,2,-999,9,20120329,        441
33AT20120324,        A22,      16,          1,         31,         31,2,20120329,       0244,    37.1250,   -68.0508,       4896,   167.8,  19.6194,  36.6014,2,     -999,9,    218.2,2,   216.7,2,    0.48,2,    0.68,2,    0.14,2,    0.02,2,   2.186,2,   1.320,2,   0.157,2,    1.46,2,    -999,9,    -999,9,     -999,9,     -999,    -999,9,     -999,9,    -999,9,  19.6182,2,    -999,9,    -999,9,    -999,    -999,9,    -999,    -999,1,    -999,9,    -999,9,  37.1215, -68.0483,    -999,     -999,    -999,  19.5885,  19.6182,2,-999,9,-999,-999,9,-999,       -999,9,-999,9,20120329,        438
33AT20120324,        A22,      16,          1,         30,         30,2,20120329,       0244,    37.1250,   -68.0508,       4896,   219.9,  19.2561,  36.5931,2,  36.5919,2,    217.2,2,   212.2,2,    0.64,2,    1.35,2,    0.09,2,    0.04,2,   2.219,2,   1.357,2,   0.134,2,    1.39,2,  2092.0,2, 2391.07,2,   8.0204,2,       25,    -999,9,     -999,9,    -999,9,  19.2561,2,    -999,9,    -999,9,    -999,    -999,9,    -999,    -999,1,    -999,9,    -999,9,  37.1218, -68.0486,    -999,     -999,    -999,  19.2161,  19.2561,2,-999,9,-999,-999,9,-999,    36.7645,2,-999,9,20120329,        436
33AT20120324,        A22,      16,          1,         29,         29,2,20120329,       0244,    37.1250,   -68.0508,       4896,   267.1,  18.6766,  36.6247,2,     -999,9,    193.4,2,   194.5,2,    0.87,2,    3.56,2,    0.01,2,    0.15,2,   2.275,2,   1.387,2,   0.040,2,    1.29,2,    -999,9,    -999,9,     -999,9,     -999,    -999,9,     -999,9,    -999,9,  18.6777,2,    -999,9,    -999,9,    -999,    -999,9,    -999,    -999,1,    -999,9,    -999,9,  37.1218, -68.0487,    -999,     -999,    -999,  18.6290,  18.6777,2,-999,9,-999,-999,9,-999,       -999,9,-999,9,20120329,        434
33AT20120324,        A22,      16,          1,         28,         28,2,20120329,       0244,    37.1250,   -68.0508,       4896,   318.1,  18.3275,  36.5931,2,  36.5931,2,    198.6,2,   198.8,2,    1.03,2,    3.91,2,    0.01,2,    0.17,2,   2.318,2,   1.412,2,   0.039,2,    1.31,2,  2113.4,2, 2389.06,2,   7.9857,2,       25,    -999,9,     -999,9,    -999,9,  18.3274,2,    -999,9,    -999,9,    -999,    -999,9,    -999,    -999,1,    -999,9,    -999,9,  37.1217, -68.0486,    -999,     -999,    -999,  18.2715,  18.3274,2,-999,9,-999,-999,9,-999,    36.7656,2,-999,9,20120329,        432
33AT20120324,        A22,      16,          1,         27,         27,2,20120329,       0244,    37.1250,   -68.0508,       4896,   370.2,  18.1641,  36.5784,2,     -999,9,    201.1,2,   201.6,2,    1.16,2,    4.04,2,    0.01,2,    0.18,2,   2.324,2,   1.391,2,   0.043,2,    1.36,2,    -999,9,    -999,9,     -999,9,     -999,    -999,9,     -999,9,    -999,9,  18.1634,2,    -999,9,    -999,9,    -999,    -999,9,    -999,    -999,1,    -999,9,    -999,9,  37.1216, -68.0486,    -999,     -999,    -999,  18.0992,  18.1634,2,-999,9,-999,-999,9,-999,       -999,9,-999,9,20120329,        430
33AT20120324,        A22,      16,          1,         26,         26,2,20120329,       0244,    37.1250,   -68.0508,       4896,   440.4,  17.8579,  36.5369,2,  36.5370,2,    203.6,2,   203.2,2,    1.32,2,    4.46,2,    0.01,2,    0.20,2,   2.358,2,   1.417,2,   0.041,2,    1.29,2,  2114.5,2,    -999,9,   7.9746,2,       25,    -999,9,     -999,9,    -999,9,  17.8585,2,    -999,9,    -999,9,    -999,    -999,9,    -999,    -999,1,    -999,9,    -999,9,  37.1217, -68.0486,    -999,     -999,    -999,  17.7815,  17.8585,2,-999,9,-999,-999,9,-999,    36.7093,2,-999,9,20120329,        428
33AT20120324,        A22,      16,          1,         25,         25,2,20120329,       0244,    37.1250,   -68.0508,       4896,   539.9,  17.0439,  36.3726,2,     -999,9,    187.9,2,   189.6,2,    2.14,2,    7.09,2,    0.00,2,    0.37,2,   2.401,2,   1.404,2,   0.030,2,    1.17,2,    -999,9,    -999,9,     -999,9,     -999,    -999,9,     -999,9,    -999,9,  17.0445,2,    -999,9,    -999,9,    -999,    -999,9,    -999,    -999,1,    -999,9,    -999,9,  37.1218, -68.0487,    -999,     -999,    -999,  16.9530,  17.0445,2,-999,9,-999,-999,9,-999,       -999,9,-999,9,20120329,        425
33AT20120324,        A22,      16,          1,         24,         24,2,20120329,       0244,    37.1250,   -68.0508,       4896,   641.2,  15.3467,  36.0519,2,  36.0517,2,    168.6,2,   165.7,2,    4.19,2,   12.16,2,    0.00,2,    0.69,2,   2.293,2,   1.308,2,   0.019,2,    0.83,2,  2150.3,2, 2362.06,2,   7.8631,2,       25,    -999,9,     -999,9,    -999,9,  15.3515,2,    -999,9,    -999,9,    -999,    -999,9,    -999,    -999,1,    -999,9,    -999,9,  37.1218, -68.0487,    -999,     -999,    -999,  15.2460,  15.3515,2,-999,9,-999,-999,9,-999,    36.2217,2,-999,9,20120329,        422
33AT20120324,        A22,      16,          1,         23,         23,2,20120329,       0244,    37.1250,   -68.0508,       4896,   740.8,  12.9939,  35.6769,2,     -999,9,    157.7,2,   157.3,2,    7.19,2,   16.87,2,    0.00,2,    1.02,2,   2.063,2,   1.139,2,   0.036,2,    -999,5,  2166.0,2, 2345.32,2,   7.7914,6,       25,    -999,9,     -999,9,    -999,9,  12.9815,2,    -999,9,    -999,9,    -999,    -999,9,    -999,    -999,1,    -999,9,    -999,9,  37.1217, -68.0487,    -999,     -999,    -999,  12.8893,  12.9815,2,-999,9,-999,-999,9,-999,       -999,9,-999,9,20120329,        419
33AT20120324,        A22,      16,          1,         22,         22,2,20120329,       0244,    37.1250,   -68.0508,       4896,   846.2,  10.3918,  35.3230,2,     -999,9,    140.6,2,   141.0,2,   12.21,2,   22.86,2,    0.00,2,    1.42,2,   1.451,2,   0.771,2,   0.023,2,    0.54,2,  2189.6,6, 2322.48,2,   7.7048,2,       25,    -999,9,     -999,9,    -999,9,  10.3992,2,    -999,9,    -999,9,    -999,    -999,9,    -999,    -999,1,    -999,9,    -999,9,  37.1219, -68.0488,    -999,     -999,    -999,  10.2876,  10.3992,2,-999,9,-999,-999,9,-999,       -999,9,-999,9,20120329,        417
33AT20120324,        A22,      16,          1,         21,         21,2,20120329,       0244,    37.1250,   -68.0508,       4896,   946.6,   8.4539,  35.1505,2,     -999,9,    154.2,2,   154.6,2,   14.39,2,   24.07,2,    0.00,2,    1.54,2,   1.264,2,   0.646,2,   0.023,2,    0.47,2,  2193.6,2,    -999,9,   7.6760,2,       25,    -999,9,     -999,9,    -999,9,   8.4592,2,    -999,9,    -999,9,    -999,    -999,9,    -999,    -999,1,    -999,9,    -999,9,  37.1221, -68.0489,    -999,     -999,    -999,   8.3502,   8.4592,2,-999,9,-999,-999,9,-999,       -999,9,-999,9,20120329,        414
33AT20120324,        A22,      16,          1,         20,         20,2,20120329,       0244,    37.1250,   -68.0508,       4896,  1047.3,   6.7482,  35.0812,2,  35.0818,2,    189.7,2,   190.1,2,   13.75,2,   21.82,2,    0.00,2,    1.42,2,   1.631,2,   0.831,2,   0.055,2,    0.51,2,  2186.3,2, 2314.32,2,   7.6943,2,       25,    -999,9,     -999,9,    -999,9,   6.7463,2,    -999,9,    -999,9,    -999,    -999,9,    -999,    -999,1,    -999,9,    -999,9,  37.1220, -68.0489,    -999,     -999,    -999,   6.6459,   6.7463,2,-999,9,-999,-999,9,-999,    35.2472,2,-999,9,20120329,        411
33AT20120324,        A22,      16,          1,         19,         19,2,20120329,       0244,    37.1250,   -68.0508,       4896,  1146.1,   5.5907,  35.0419,2,     -999,9,    223.2,2,   221.4,2,   12.57,2,   19.66,2,    0.00,2,    1.29,2,   2.221,2,   1.199,2,   0.102,2,    0.64,2,    -999,9,    -999,9,     -999,9,     -999,    -999,9,     -999,9,    -999,9,   5.6047,2,    -999,9,    -999,9,    -999,    -999,9,    -999,    -999,1,    -999,9,    -999,9,  37.1221, -68.0489,    -999,     -999,    -999,   5.4879,   5.6047,2,-999,9,-999,-999,9,-999,       -999,9,-999,9,20120329,        408
33AT20120324,        A22,      16,          1,         18,         18,2,20120329,       0244,    37.1250,   -68.0508,       4896,  1246.2,   5.1602,  35.0316,2,  35.0307,2,    234.6,2,   235.9,2,   12.03,2,   18.84,2,    0.00,2,    1.24,2,   2.438,2,   1.320,2,   0.128,2,    0.76,2,  2173.5,2,    -999,9,   7.7114,2,       25,    -999,9,     -999,9,    -999,9,   5.1569,2,    -999,9,    -999,9,    -999,    -999,9,    -999,    -999,1,    -999,9,    -999,9,  37.1219, -68.0488,    -999,     -999,    -999,   5.0516,   5.1569,2,-999,9,-999,-999,9,-999,    35.1959,2,-999,9,20120329,        405
33AT20120324,        A22,      16,          1,         17,         17,2,20120329,       0244,    37.1250,   -68.0508,       4896,  1348.7,   4.8086,  35.0152,2,     -999,9,    245.9,2,   245.8,2,   11.71,2,   18.19,2,    0.00,2,    1.21,2,   2.525,2,   1.321,2,   0.130,2,    -999,5,    -999,9,    -999,9,     -999,9,     -999,    -999,9,     -999,9,    -999,9,   4.8099,2,    -999,9,    -999,9,    -999,    -999,9,    -999,    -999,1,    -999,9,    -999,9,  37.1219, -68.0488,    -999,     -999,    -999,   4.6937,   4.8099,2,-999,9,-999,-999,9,-999,       -999,9,-999,9,20120329,        403
33AT20120324,        A22,      16,          1,         16,         16,2,20120329,       0244,    37.1250,   -68.0508,       4896,  1449.4,   4.5708,  35.0008,2,  35.0005,2,    250.7,2,   251.2,2,   11.73,2,   18.00,2,    0.00,2,    1.19,2,   2.571,2,   1.338,2,   0.150,2,    0.67,2,  2168.0,2, 2309.58,2,   7.7167,2,       25,    -999,9,     -999,9,    -999,9,   4.5716,2,    -999,9,    -999,9,    -999,    -999,9,    -999,    -999,1,    -999,9,    -999,9,  37.1219, -68.0488,    -999,     -999,    -999,   4.4489,   4.5716,2,-999,9,-999,-999,9,-999,    35.1655,2,-999,9,20120329,        400
33AT20120324,        A22,      16,          1,         15,         15,2,20120329,       0244,    37.1250,   -68.0508,       4896,  1551.7,   4.3670,  34.9875,2,     -999,9,    255.8,2,   255.5,2,   11.93,2,   17.86,2,    0.00,2,    1.18,2,   2.600,2,   1.330,2,   0.150,2,    0.68,2,    -999,9,    -999,9,     -999,9,     -999,    -999,9,     -999,9,    -999,9,   4.3661,2,    -999,9,    -999,9,    -999,    -999,9,    -999,    -999,1,    -999,9,    -999,9,  37.1217, -68.0487,    -999,     -999,    -999,   4.2377,   4.3661,2,-999,9,-999,-999,9,-999,       -999,9,-999,9,20120329,        357
33AT20120324,        A22,      16,          1,         14,         14,2,20120329,       0244,    37.1250,   -68.0508,       4896,  1683.7,   4.1929,  34.9806,2,  34.9804,2,    258.8,2,   258.2,2,   12.09,2,   17.82,2,    0.00,2,    1.18,2,   2.416,2,   1.221,2,   0.131,2,    0.60,2,  2165.7,2,    -999,9,   7.7208,2,       25,    -999,9,     -999,9,    -999,9,   4.1930,2,    -999,9,    -999,9,    -999,    -999,9,    -999,    -999,1,    -999,9,    -999,9,  37.1217, -68.0487,    -999,     -999,    -999,   4.0532,   4.1930,2,-999,9,-999,-999,9,-999,    35.1453,2,-999,9,20120329,        353
33AT20120324,        A22,      16,          1,         13,         13,2,20120329,       0244,    37.1250,   -68.0508,       4896,  1888.8,   3.9335,  34.9681,2,     -999,9,    261.8,2,   262.7,2,   12.58,2,   17.74,2,    0.00,2,    1.18,2,   2.140,2,   1.108,2,   0.110,2,    0.45,2,    -999,9,    -999,9,     -999,9,     -999,    -999,9,     -999,9,    -999,9,   3.9335,2,    -999,9,    -999,9,    -999,    -999,9,    -999,    -999,1,    -999,9,    -999,9,  37.1219, -68.0489,    -999,     -999,    -999,   3.7777,   3.9335,2,-999,9,-999,-999,9,-999,       -999,9,-999,9,20120329,        349
33AT20120324,        A22,      16,          1,         12,         12,2,20120329,       0244,    37.1250,   -68.0508,       4896,  2108.7,   3.7092,  34.9596,2,  34.9591,2,    264.6,2,   263.7,2,   13.84,2,   17.71,2,    0.00,2,    1.18,2,   1.871,2,   0.924,2,   0.084,2,    0.34,2,  2164.0,2, 2307.72,2,   7.7312,2,       25,    -999,9,     -999,9,    -999,9,   3.7094,2,    -999,9,    -999,9,    -999,    -999,9,    -999,    -999,1,    -999,9,    -999,9,  37.1221, -68.0490,    -999,     -999,    -999,   3.5355,   3.7094,2,-999,9,-999,-999,9,-999,    35.1240,2,-999,9,20120329,        344
33AT20120324,        A22,      16,          1,         11,         11,2,20120329,       0244,    37.1250,   -68.0508,       4896,  2363.9,   3.4788,  34.9510,2,     -999,9,    265.3,2,   265.3,2,   15.40,2,   17.72,2,    0.00,2,    1.18,2,   1.546,2,   0.747,2,   0.060,2,    0.24,2,    -999,9,    -999,9,     -999,9,     -999,    -999,9,     -999,9,    -999,9,   3.4786,2,    -999,9,    -999,9,    -999,    -999,9,    -999,    -999,1,    -999,9,    -999,9,  37.1224, -68.0491,    -999,     -999,    -999,   3.2837,   3.4786,2,-999,9,-999,-999,9,-999,       -999,9,-999,9,20120329,        339
33AT20120324,        A22,      16,          1,         10,         10,2,20120329,       0244,    37.1250,   -68.0508,       4896,  2617.4,   3.2771,  34.9478,2,     -999,9,    264.0,2,   263.9,2,   17.49,2,   17.87,2,    0.00,2,    1.20,2,   1.220,2,   0.592,2,   0.043,2,    0.23,2,    -999,9,    -999,9,     -999,9,     -999,    -999,9,     -999,9,    -999,9,   3.2779,2,    -999,9,    -999,9,    -999,    -999,9,    -999,    -999,1,    -999,9,    -999,9,  37.1227, -68.0495,    -999,     -999,    -999,   3.0602,   3.2779,2,-999,9,-999,-999,9,-999,       -999,9,-999,9,20120329,        334
33AT20120324,        A22,      16,          1,          9,          9,2,20120329,       0244,    37.1250,   -68.0508,       4896,  2873.7,   3.0530,  34.9401,2,  34.9396,2,    264.5,2,   265.2,2,   19.53,2,   18.01,2,    0.00,2,    1.21,2,   1.033,2,   0.493,2,   0.039,2,    0.20,2,  2166.3,2, 2315.03,2,   7.7419,2,       25,    -999,9,     -999,9,    -999,9,   3.0539,2,    -999,9,    -999,9,    -999,    -999,9,    -999,    -999,1,    -999,9,    -999,9,  37.1231, -68.0496,    -999,     -999,    -999,   2.8143,   3.0539,2,-999,9,-999,-999,9,-999,    35.1044,2,-999,9,20120329,        328
33AT20120324,        A22,      16,          1,          8,          8,2,20120329,       0244,    37.1250,   -68.0508,       4896,  3145.0,   2.7665,  34.9257,2,     -999,9,    266.5,2,   266.8,2,   21.70,2,   17.96,2,    0.00,2,    1.22,2,   0.981,2,   0.476,2,   0.043,2,    0.23,2,    -999,9,    -999,9,     -999,9,     -999,    -999,9,     -999,9,    -999,9,   2.7665,2,    -999,9,    -999,9,    -999,    -999,9,    -999,    -999,1,    -999,9,    -999,9,  37.1232, -68.0498,    -999,     -999,    -999,   2.5056,   2.7665,2,-999,9,-999,-999,9,-999,       -999,9,-999,9,20120329,        323
33AT20120324,        A22,      16,          1,          7,          7,2,20120329,       0244,    37.1250,   -68.0508,       4896,  3450.9,   2.5159,  34.9099,2,  34.9097,2,    268.8,2,   269.4,2,   23.45,2,   17.83,2,    0.00,2,    1.21,2,   1.137,2,   0.512,2,   0.044,2,    0.33,2,  2168.4,2,    -999,9,   7.7433,2,       25,    -999,9,     -999,9,    -999,9,   2.5156,2,    -999,9,    -999,9,    -999,    -999,9,    -999,    -999,1,    -999,9,    -999,9,  37.1232, -68.0498,    -999,     -999,    -999,   2.2284,   2.5156,2,-999,9,-999,-999,9,-999,    35.0743,2,-999,9,20120329,        317
33AT20120324,        A22,      16,          1,          6,          6,2,20120329,       0244,    37.1250,   -68.0508,       4896,  3759.6,   2.3668,  34.8997,2,     -999,9,    268.1,2,   267.8,2,   26.78,2,   18.18,2,    0.00,2,    1.23,2,   1.034,2,   0.484,2,   0.056,2,    0.16,2,    -999,9,    -999,9,     -999,9,     -999,    -999,9,     -999,9,    -999,9,   2.3666,2,    -999,9,    -999,9,    -999,    -999,9,    -999,    -999,1,    -999,9,    -999,9,  37.1236, -68.0501,    -999,     -999,    -999,   2.0493,   2.3666,2,-999,9,-999,-999,9,-999,       -999,9,-999,9,20120329,        311