BOTTLE,20220725CCHSIOCBG
EXPOCODE,SECT_ID,STNNBR,CASTNO,SAMPNO,BTLNBR,BTLNBR_FLAG_W,DATE,TIME,LATITUDE,LONGITUDE,DEPTH,CTDPRS,CTDTMP,CTDSAL,CTDSAL_FLAG_W,SALNTY,SALNTY_FLAG_W,CTDOXY,CTDOXY_FLAG_W,OXYGEN,OXYGEN_FLAG_W,SILCAT,SILCAT_FLAG_W,NITRAT,NITRAT_FLAG_W,NITRIT,NITRIT_FLAG_W,PHSPHT,PHSPHT_FLAG_W,CFC-11,CFC-11_FLAG_W,CFC-12,CFC-12_FLAG_W,CFC113,CFC113_FLAG_W,SF6,SF6_FLAG_W,TCARBN,TCARBN_FLAG_W,ALKALI,ALKALI_FLAG_W,PH_TOT,PH_TOT_FLAG_W,PH_TMP,TRITUM,TRITUM_FLAG_W,HELIUM,HELIUM_FLAG_W,DELHE3,DELHE3_FLAG_W,REFTMP,REFTMP_FLAG_W,DELC13,DELC13_FLAG_W,DELC14,DELC14_FLAG_W,C14ERR,NEON,NEON_FLAG_W,NEONER,CCL4,CCL4_FLAG_W,DOC,DOC_FLAG_W,TDN,TDN_FLAG_W,BTL_LAT,BTL_LON,TRITER,HELIER,DELHER,THETA,SBE35,SBE35_FLAG_W,14C-DOC,14C-DOC_FLAG_W,14C-DOCERR,13C-DOC,13C-DOC_FLAG_W,13C-DOCERR,SALTREF,SALTREF_FLAG_W,LAB_DEN,LAB_DEN_FLAG_W,BTL_DATE,BTL_TIME
,,,,,,,,,,,METERS,DBAR,ITS-90,PSS-78,,PSS-78,,UMOL/KG,,UMOL/KG,,UMOL/KG,,UMOL/KG,,UMOL/KG,,UMOL/KG,,PMOL/KG,,PMOL/KG,,PMOL/KG,,FMOL/KG,,UMOL/KG,,UMOL/KG,,,,DEG C,TU,,NMOL/KG,,PERCNT,,DEG C,,/MILLE,,/MILLE,,/MILLE,NMOL/KG,,NMOL/KG,PMOL/KG,,UMOL/KG,,UMOL/KG,,,,TU,NMOL/KG,PERCNT,DEG C,ITS-90,,/MILLE,,/MILLE,/MILLE,,/MILLE,G/KG,,KG/M^3,,,
33AT20120324,        A22,      46,          1,         36,         36,2,20120407,       1453,    19.6897,   -65.9947,       7420,     3.2,  26.6962,  35.9789,2,  35.9793,2,    203.7,2,   203.9,2,    0.99,2,    0.00,2,    0.00,2,    0.00,2,   1.663,2,   1.091,2,   0.137,2,    1.13,2,  2010.9,6, 2355.71,2,   8.1022,2,       25,    -999,9,     -999,9,    -999,9,  26.6987,2,    -999,9,    -999,9,    -999,    -999,9,    -999,    -999,1,    -999,9,    -999,9,  19.6891, -65.9966,    -999,     -999,    -999,  26.6955,  26.6987,2,-999,9,-999,-999,9,-999,    36.1490,2,-999,9,20120407,       1715
33AT20120324,        A22,      46,          1,         35,         35,2,20120407,       1453,    19.6897,   -65.9947,       7420,    20.6,  26.4259,  36.1022,2,  36.0916,2,    204.9,2,   203.6,2,    1.04,2,    0.00,2,    0.00,2,    0.00,2,   1.656,2,   1.082,2,   0.138,2,    1.17,2,    -999,9,    -999,9,     -999,9,     -999,    -999,9,     -999,9,    -999,9,  26.4224,2,    -999,9,    -999,9,    -999,    -999,9,    -999,    -999,1,    -999,9,    -999,9,  19.6892, -65.9966,    -999,     -999,    -999,  26.4212,  26.4224,2,-999,9,-999,-999,9,-999,    36.2618,2,-999,9,20120407,       1712
33AT20120324,        A22,      46,          1,         34,         34,2,20120407,       1453,    19.6897,   -65.9947,       7420,    40.2,  26.0921,  36.1064,2,  36.1064,2,    206.8,2,   205.7,2,    1.14,2,    0.00,2,    0.00,2,    0.00,2,   1.681,2,   1.100,2,   0.136,2,    1.26,2,  2010.7,2, 2367.07,6,   8.1147,2,       25,    -999,9,     -999,9,    -999,9,  26.0936,2,    -999,9,    -999,9,    -999,    -999,9,    -999,    -999,1,    -999,9,    -999,9,  19.6892, -65.9965,    -999,     -999,    -999,  26.0831,  26.0936,2,-999,9,-999,-999,9,-999,    36.2767,2,-999,9,20120407,       1710
33AT20120324,        A22,      46,          1,         33,         33,2,20120407,       1453,    19.6897,   -65.9947,       7420,    65.0,  25.9089,  36.1135,2,  36.1199,2,    206.5,2,   205.2,2,    1.13,2,    0.00,2,    0.00,2,    0.00,2,   1.686,2,   1.096,2,   0.133,2,    1.17,2,    -999,9,    -999,9,     -999,9,     -999,    -999,9,     -999,9,    -999,9,  25.9099,2,    -999,9,    -999,9,    -999,    -999,9,    -999,    -999,1,    -999,9,    -999,9,  19.6892, -65.9965,    -999,     -999,    -999,  25.8944,  25.9099,2,-999,9,-999,-999,9,-999,    36.2902,2,-999,9,20120407,       1708
33AT20120324,        A22,      46,          1,         32,         32,2,20120407,       1453,    19.6897,   -65.9947,       7420,    90.5,  25.7561,  36.5478,2,  36.5436,2,    201.5,2,   198.9,2,    0.72,2,    0.00,2,    0.00,2,    0.00,2,   1.714,2,   1.123,2,   0.120,2,    1.14,2,  2043.7,2, 2392.52,2,   8.0947,6,       25,    -999,9,     -999,9,    -999,9,  25.7274,3,    -999,9,    -999,9,    -999,    -999,9,    -999,    -999,1,    -999,9,    -999,9,  19.6892, -65.9964,    -999,     -999,    -999,  25.7359,  25.7274,3,-999,9,-999,-999,9,-999,    36.7159,2,-999,9,20120407,       1706
33AT20120324,        A22,      46,          1,         31,         31,2,20120407,       1453,    19.6897,   -65.9947,       7420,   135.0,  22.9378,  36.9704,2,  36.9713,2,    191.6,2,   190.8,2,    0.28,2,    0.15,2,    0.06,2,    0.00,2,   1.941,2,   1.256,2,   0.130,2,    1.26,2,    -999,9,    -999,9,     -999,9,     -999,    -999,9,     -999,9,    -999,9,  22.9346,2,    -999,9,    -999,9,    -999,    -999,9,    -999,    -999,1,    -999,9,    -999,9,  19.6892, -65.9963,    -999,     -999,    -999,  22.9100,  22.9346,2,-999,9,-999,-999,9,-999,    37.1456,2,-999,9,20120407,       1702
33AT20120324,        A22,      46,          1,         30,         30,2,20120407,       1453,    19.6897,   -65.9947,       7420,   185.8,  20.5801,  36.8540,2,  36.8595,2,    181.1,2,   180.0,2,    0.42,2,    1.77,2,    0.02,2,    0.05,2,   2.111,2,   1.332,2,   0.043,2,    1.18,2,  2123.0,2, 2407.62,2,   7.9848,2,       25,    -999,9,     -999,9,    -999,9,  20.5685,2,    -999,9,    -999,9,    -999,    -999,9,    -999,    -999,1,    -999,9,    -999,9,  19.6893, -65.9962,    -999,     -999,    -999,  20.5447,  20.5685,2,-999,9,-999,-999,9,-999,    37.0333,2,-999,9,20120407,       1659
33AT20120324,        A22,      46,          1,         29,         29,2,20120407,       1453,    19.6897,   -65.9947,       7420,   235.6,  18.8873,  36.6576,2,  36.6570,2,    185.5,2,   185.4,2,    0.81,2,    3.64,2,    0.01,2,    0.14,2,   2.246,2,   1.408,2,   0.012,2,    1.20,2,    -999,9,    -999,9,     -999,9,     -999,    -999,9,     -999,9,    -999,9,  18.8874,2,    -999,9,    -999,9,    -999,    -999,9,    -999,    -999,1,    -999,9,    -999,9,  19.6893, -65.9962,    -999,     -999,    -999,  18.8450,  18.8874,2,-999,9,-999,-999,9,-999,    36.8298,2,-999,9,20120407,       1657
33AT20120324,        A22,      46,          1,         28,         28,2,20120407,       1453,    19.6897,   -65.9947,       7420,   287.0,  18.0976,  36.5526,2,  36.5525,2,    191.6,2,   194.1,2,    1.10,2,    4.63,2,    0.01,2,    0.21,2,   2.318,2,   1.438,2,   0.007,2,    1.18,2,  2116.5,2, 2387.64,2,   7.9685,2,       25,    -999,9,     -999,9,    -999,9,  18.0968,2,    -999,9,    -999,9,    -999,    -999,9,    -999,    -999,1,    -999,9,    -999,9,  19.6893, -65.9961,    -999,     -999,    -999,  18.0475,  18.0968,2,-999,9,-999,-999,9,-999,    36.7249,2,-999,9,20120407,       1655
33AT20120324,        A22,      46,          1,         27,         27,2,20120407,       1453,    19.6897,   -65.9947,       7420,   337.4,  17.6845,  36.4855,2,  36.4861,2,    192.1,2,   193.1,2,    1.42,2,    5.56,2,    0.01,2,    0.27,2,   2.367,2,   1.486,2,   0.024,2,    1.13,2,    -999,9,    -999,9,     -999,9,     -999,    -999,9,     -999,9,    -999,9,  17.6852,2,    -999,9,    -999,9,    -999,    -999,9,    -999,    -999,1,    -999,9,    -999,9,  19.6893, -65.9961,    -999,     -999,    -999,  17.6265,  17.6852,2,-999,9,-999,-999,9,-999,    36.6581,2,-999,9,20120407,       1653
33AT20120324,        A22,      46,          1,         26,         26,2,20120407,       1453,    19.6897,   -65.9947,       7420,   386.9,  16.9233,  36.3457,2,  36.3463,2,    177.9,2,   177.4,2,    2.19,2,    8.21,2,    0.01,2,    0.45,2,   2.338,2,   1.420,2,   0.014,2,    1.07,2,  2136.2,2, 2377.91,2,   7.9135,2,       25,    -999,9,     -999,9,    -999,9,  16.9238,2,    -999,9,    -999,9,    -999,    -999,9,    -999,    -999,1,    -999,9,    -999,9,  19.6893, -65.9960,    -999,     -999,    -999,  16.8587,  16.9238,2,-999,9,-999,-999,9,-999,    36.5176,2,-999,9,20120407,       1651
33AT20120324,        A22,      46,          1,         25,         25,2,20120407,       1453,    19.6897,   -65.9947,       7420,   467.5,  14.5991,  35.9165,2,  35.9166,2,    147.3,2,   148.3,2,    4.96,2,   15.02,2,    0.01,2,    0.89,2,   2.217,2,   1.326,2,   0.009,2,    0.77,2,  2165.9,2, 2353.42,2,   7.8108,2,       25,    -999,9,     -999,9,    -999,9,  14.5995,2,    -999,9,    -999,9,    -999,    -999,9,    -999,    -999,1,    -999,9,    -999,9,  19.6893, -65.9960,    -999,     -999,    -999,  14.5285,  14.5995,2,-999,9,-999,-999,9,-999,    36.0860,2,-999,9,20120407,       1649
33AT20120324,        A22,      46,          1,         24,         24,2,20120407,       1453,    19.6897,   -65.9947,       7420,   568.7,  12.0344,  35.4515,2,  35.4521,2,    128.5,2,   127.7,2,    9.02,2,   21.71,2,    0.01,2,    1.35,2,   1.842,2,   1.026,2,   0.016,2,    0.46,2,  2188.7,2, 2330.67,2,   7.7111,2,       25,    -999,9,     -999,9,    -999,9,  12.0276,2,    -999,9,    -999,9,    -999,    -999,9,    -999,    -999,1,    -999,9,    -999,9,  19.6893, -65.9960,    -999,     -999,    -999,  11.9586,  12.0276,2,-999,9,-999,-999,9,-999,    35.6193,2,-999,9,20120407,       1647
33AT20120324,        A22,      46,          1,         23,         23,2,20120407,       1453,    19.6897,   -65.9947,       7420,   669.0,  10.9071,  35.3632,2,  35.3641,2,    132.7,2,   133.6,2,   10.99,2,   23.11,2,    0.00,2,    1.44,2,   1.455,2,   0.791,2,   0.016,2,    0.39,2,  2189.8,6, 2327.49,2,   7.6978,2,       25,    -999,9,     -999,9,    -999,9,  10.9070,2,    -999,9,    -999,9,    -999,    -999,9,    -999,    -999,1,    -999,9,    -999,9,  19.6894, -65.9959,    -999,     -999,    -999,  10.8229,  10.9070,2,-999,9,-999,-999,9,-999,    35.5309,2,-999,9,20120407,       1644
33AT20120324,        A22,      46,          1,         22,         22,2,20120407,       1453,    19.6897,   -65.9947,       7420,   770.6,   9.0735,  35.1148,2,  35.1169,2,    129.6,2,   129.3,2,   15.25,2,   26.86,2,    0.00,2,    1.72,2,   0.982,2,   0.502,2,   0.010,2,    0.28,2,  2201.2,2, 2318.19,2,   7.6465,2,       25,    -999,9,     -999,9,    -999,9,   9.0733,2,    -999,9,    -999,9,    -999,    -999,9,    -999,    -999,1,    -999,9,    -999,9,  19.6894, -65.9959,    -999,     -999,    -999,   8.9865,   9.0733,2,-999,9,-999,-999,9,-999,    35.2825,2,-999,9,20120407,       1641
33AT20120324,        A22,      46,          1,         21,         21,2,20120407,       1453,    19.6897,   -65.9947,       7420,   871.0,   7.9396,  35.0223,2,  35.0245,2,    136.5,2,   137.2,2,   17.69,2,   27.66,2,    0.00,2,    1.80,2,   0.725,2,   0.383,2,   0.016,2,    0.21,2,  2204.7,2, 2315.90,2,   7.6367,2,       25,    -999,9,     -999,9,    -999,9,   7.9391,2,    -999,9,    -999,9,    -999,    -999,9,    -999,    -999,1,    -999,9,    -999,9,  19.6894, -65.9958,    -999,     -999,    -999,   7.8480,   7.9391,2,-999,9,-999,-999,9,-999,    35.1897,2,-999,9,20120407,       1639
33AT20120324,        A22,      46,          1,         20,         20,2,20120407,       1453,    19.6897,   -65.9947,       7420,   972.0,   7.2840,  35.0046,2,  35.0070,2,    148.6,2,   150.1,2,   18.37,2,   27.03,2,    0.00,2,    1.76,2,   0.654,2,   0.330,2,   0.009,2,    0.17,2,  2201.8,2, 2315.99,2,   7.6430,2,       25,    -999,9,     -999,9,    -999,9,   7.2817,2,    -999,9,    -999,9,    -999,    -999,9,    -999,    -999,1,    -999,9,    -999,9,  19.6894, -65.9958,    -999,     -999,    -999,   7.1858,   7.2817,2,-999,9,-999,-999,9,-999,    35.1721,2,-999,9,20120407,       1636
33AT20120324,        A22,      46,          1,         19,         19,2,20120407,       1453,    19.6897,   -65.9947,       7420,  1073.2,   6.4462,  34.9960,2,  34.9948,2,    169.3,2,   168.4,2,   18.49,2,   25.65,2,    0.00,2,    1.69,2,   0.666,2,   0.337,2,   0.020,2,    0.20,2,  2199.8,2, 2316.61,2,   7.6558,2,       25,    -999,9,     -999,9,    -999,9,   6.4482,2,    -999,9,    -999,9,    -999,    -999,9,    -999,    -999,1,    -999,9,    -999,9,  19.6894, -65.9957,    -999,     -999,    -999,   6.3438,   6.4482,2,-999,9,-999,-999,9,-999,    35.1598,2,-999,9,20120407,       1633
33AT20120324,        A22,      46,          1,         18,         18,2,20120407,       1453,    19.6897,   -65.9947,       7420,  1173.7,   5.8822,  35.0395,2,  35.0402,2,    196.9,2,   199.6,2,   15.65,2,   22.16,2,    0.00,2,    1.47,2,   1.077,2,   0.552,2,   0.038,2,    0.35,2,  2185.0,2, 2317.82,2,   7.6912,2,       25,    -999,9,     -999,9,    -999,9,   5.8790,2,    -999,9,    -999,9,    -999,    -999,9,    -999,    -999,1,    -999,9,    -999,9,  19.6894, -65.9957,    -999,     -999,    -999,   5.7742,   5.8790,2,-999,9,-999,-999,9,-999,    35.2055,2,-999,9,20120407,       1631
33AT20120324,        A22,      46,          1,         17,         17,2,20120407,       1453,    19.6897,   -65.9947,       7420,  1273.7,   5.3493,  35.0443,2,  35.0451,2,    218.4,2,   221.0,2,   13.96,2,   20.22,2,    0.00,2,    1.35,2,   1.392,2,   0.708,2,   0.047,2,    0.35,2,  2176.9,2, 2316.63,2,   7.7085,2,       25,    -999,9,     -999,9,    -999,9,   5.3504,2,    -999,9,    -999,9,    -999,    -999,9,    -999,    -999,1,    -999,9,    -999,9,  19.6895, -65.9956,    -999,     -999,    -999,   5.2362,   5.3504,2,-999,9,-999,-999,9,-999,    35.2104,2,-999,9,20120407,       1628
33AT20120324,        A22,      46,          1,         16,         16,2,20120407,       1453,    19.6897,   -65.9947,       7420,  1375.8,   4.9195,  35.0329,2,  35.0320,2,    236.3,2,   236.4,2,   12.98,2,   19.13,2,    0.00,2,    1.27,2,   1.622,2,   0.824,2,   0.076,2,    0.42,2,  2171.0,2, 2314.97,2,   7.7185,6,       25,    -999,9,     -999,9,    -999,9,   4.9192,2,    -999,9,    -999,9,    -999,    -999,9,    -999,    -999,1,    -999,9,    -999,9,  19.6895, -65.9956,    -999,     -999,    -999,   4.8008,   4.9192,2,-999,9,-999,-999,9,-999,    35.1972,2,-999,9,20120407,       1626
33AT20120324,        A22,      46,          1,         15,         15,2,20120407,       1453,    19.6897,   -65.9947,       7420,  1549.1,   4.4367,  35.0055,2,  35.0066,2,    250.1,2,   249.2,2,   12.62,2,   18.32,2,    0.00,2,    1.22,2,   1.876,2,   0.962,2,   0.089,2,    0.49,2,    -999,9,    -999,9,     -999,9,     -999,    -999,9,     -999,9,    -999,9,   4.4364,2,    -999,9,    -999,9,    -999,    -999,9,    -999,    -999,1,    -999,9,    -999,9,  19.6895, -65.9955,    -999,     -999,    -999,   4.3068,   4.4364,2,-999,9,-999,-999,9,-999,    35.1716,2,-999,9,20120407,       1622
33AT20120324,        A22,      46,          1,         14,         14,2,20120407,       1453,    19.6897,   -65.9947,       7420,  1749.7,   4.0642,  34.9863,2,  34.9873,2,    257.9,2,   257.5,2,   13.06,2,   17.99,2,    0.00,2,    1.20,2,   1.683,2,   0.846,2,   0.082,2,    0.33,2,  2163.9,2, 2312.22,2,   7.7303,2,       25,    -999,9,     -999,9,    -999,9,   4.0636,2,    -999,9,    -999,9,    -999,    -999,9,    -999,    -999,1,    -999,9,    -999,9,  19.6895, -65.9954,    -999,     -999,    -999,   3.9199,   4.0636,2,-999,9,-999,-999,9,-999,    35.1522,2,-999,9,20120407,       1617
33AT20120324,        A22,      46,          1,         13,         13,2,20120407,       1453,    19.6897,   -65.9947,       7420,  1953.9,   3.7737,  34.9707,2,  34.9717,2,    261.6,2,   262.2,2,   14.04,2,   17.89,2,    0.00,2,    1.20,2,   1.486,2,   0.748,2,   0.063,2,    0.30,2,  2162.4,2, 2312.12,2,   7.7333,2,       25,    -999,9,     -999,9,    -999,9,   3.7740,2,    -999,9,    -999,9,    -999,    -999,9,    -999,    -999,1,    -999,9,    -999,9,  19.6895, -65.9953,    -999,     -999,    -999,   3.6139,   3.7740,2,-999,9,-999,-999,9,-999,    35.1366,2,-999,9,20120407,       1613
33AT20120324,        A22,      46,          1,         12,         12,2,20120407,       1453,    19.6897,   -65.9947,       7420,  2187.8,   3.3882,  34.9576,2,  34.9579,2,    262.9,2,   262.3,2,   16.78,2,   17.98,2,    0.00,2,    1.21,2,   1.075,2,   0.518,2,   0.045,2,    0.20,2,    -999,9,    -999,9,     -999,9,     -999,    -999,9,     -999,9,    -999,9,   3.3879,2,    -999,9,    -999,9,    -999,    -999,9,    -999,    -999,1,    -999,9,    -999,9,  19.6896, -65.9953,    -999,     -999,    -999,   3.2119,   3.3879,2,-999,9,-999,-999,9,-999,    35.1228,2,-999,9,20120407,       1608
33AT20120324,        A22,      46,          1,         11,         11,2,20120407,       1453,    19.6897,   -65.9947,       7420,  2443.0,   3.0803,  34.9478,2,  34.9469,2,    261.8,2,   261.8,2,   20.18,2,   18.24,2,    0.00,2,    1.23,2,   0.756,2,   0.358,2,   0.023,2,    0.14,2,    -999,9,    -999,9,     -999,9,     -999,    -999,9,     -999,9,    -999,9,   3.0802,2,    -999,9,    -999,9,    -999,    -999,9,    -999,    -999,1,    -999,9,    -999,9,  19.6896, -65.9951,    -999,     -999,    -999,   2.8844,   3.0802,2,-999,9,-999,-999,9,-999,    35.1117,2,-999,9,20120407,       1603
33AT20120324,        A22,      46,          1,         10,         10,2,20120407,       1453,    19.6897,   -65.9947,       7420,  2697.2,   2.8365,  34.9331,2,  34.9331,2,    262.7,2,   263.5,2,   21.94,2,   18.21,2,    0.00,2,    1.23,2,   0.775,2,   0.376,2,   0.020,2,    0.15,2,  2167.2,2, 2319.44,2,   7.7412,2,       25,    -999,9,     -999,9,    -999,9,   2.8364,2,    -999,9,    -999,9,    -999,    -999,9,    -999,    -999,1,    -999,9,    -999,9,  19.6896, -65.9951,    -999,     -999,    -999,   2.6201,   2.8364,2,-999,9,-999,-999,9,-999,    35.0979,2,-999,9,20120407,       1557
33AT20120324,        A22,      46,          1,          9,          9,2,20120407,       1453,    19.6897,   -65.9947,       7420,  2949.8,   2.6582,  34.9220,2,  34.9221,2,    264.2,2,   264.4,2,   23.58,2,   18.19,2,    0.00,2,    1.24,2,   0.776,2,   0.371,2,   0.032,2,    0.14,2,    -999,9,    -999,9,     -999,9,     -999,    -999,9,     -999,9,    -999,9,   2.6582,2,    -999,9,    -999,9,    -999,    -999,9,    -999,    -999,1,    -999,9,    -999,9,  19.6896, -65.9951,    -999,     -999,    -999,   2.4200,   2.6582,2,-999,9,-999,-999,9,-999,    35.0868,2,-999,9,20120407,       1552
33AT20120324,        A22,      46,          1,          8,          8,2,20120407,       1453,    19.6897,   -65.9947,       7420,  3242.3,   2.4671,  34.9091,2,  34.9093,2,    266.5,2,   267.1,2,   24.88,2,   18.07,2,    0.00,2,    1.24,2,   0.885,2,   0.427,2,   0.046,2,    0.20,2,  2169.1,2, 2321.49,2,   7.7394,2,       25,    -999,9,     -999,9,    -999,9,   2.4672,2,    -999,9,    -999,9,    -999,    -999,9,    -999,    -999,1,    -999,9,    -999,9,  19.6896, -65.9951,    -999,     -999,    -999,   2.2029,   2.4672,2,-999,9,-999,-999,9,-999,    35.0739,2,-999,9,20120407,       1546
33AT20120324,        A22,      46,          1,          7,          7,2,20120407,       1453,    19.6897,   -65.9947,       7420,  3546.7,   2.3635,  34.9011,2,  34.9009,2,    266.4,2,   266.6,2,   26.47,2,   18.15,2,    0.00,2,    1.24,2,   0.925,2,    -999,5,   0.047,2,    0.19,2,  2170.2,2, 2321.28,2,   7.7375,2,       25,    -999,9,     -999,9,    -999,9,   2.3640,2,    -999,9,    -999,9,    -999,    -999,9,    -999,    -999,1,    -999,9,    -999,9,  19.6896, -65.9950,    -999,     -999,    -999,   2.0694,   2.3640,2,-999,9,-999,-999,9,-999,    35.0654,2,-999,9,20120407,       1540
33AT20120324,        A22,      46,          1,          6,          6,2,20120407,       1453,    19.6897,   -65.9947,       7420,  3922.0,   2.2933,  34.8935,2,  34.8938,2,    265.6,2,   266.1,2,   28.97,2,   18.44,2,    0.00,2,    1.26,2,   0.935,2,   0.433,2,   0.053,2,    0.22,2,    -999,9,    -999,9,     -999,9,     -999,    -999,9,     -999,9,    -999,9,   2.2936,2,    -999,9,    -999,9,    -999,    -999,9,    -999,    -999,1,    -999,9,    -999,9,  19.6897, -65.9949,    -999,     -999,    -999,   1.9596,   2.2936,2,-999,9,-999,-999,9,-999,    35.0583,2,-999,9,20120407,       1533