BOTTLE,20220725CCHSIOCBG
EXPOCODE,SECT_ID,STNNBR,CASTNO,SAMPNO,BTLNBR,BTLNBR_FLAG_W,DATE,TIME,LATITUDE,LONGITUDE,DEPTH,CTDPRS,CTDTMP,CTDSAL,CTDSAL_FLAG_W,SALNTY,SALNTY_FLAG_W,CTDOXY,CTDOXY_FLAG_W,OXYGEN,OXYGEN_FLAG_W,SILCAT,SILCAT_FLAG_W,NITRAT,NITRAT_FLAG_W,NITRIT,NITRIT_FLAG_W,PHSPHT,PHSPHT_FLAG_W,CFC-11,CFC-11_FLAG_W,CFC-12,CFC-12_FLAG_W,CFC113,CFC113_FLAG_W,SF6,SF6_FLAG_W,TCARBN,TCARBN_FLAG_W,ALKALI,ALKALI_FLAG_W,PH_TOT,PH_TOT_FLAG_W,PH_TMP,TRITUM,TRITUM_FLAG_W,HELIUM,HELIUM_FLAG_W,DELHE3,DELHE3_FLAG_W,REFTMP,REFTMP_FLAG_W,DELC13,DELC13_FLAG_W,DELC14,DELC14_FLAG_W,C14ERR,NEON,NEON_FLAG_W,NEONER,CCL4,CCL4_FLAG_W,DOC,DOC_FLAG_W,TDN,TDN_FLAG_W,BTL_LAT,BTL_LON,TRITER,HELIER,DELHER,THETA,SBE35,SBE35_FLAG_W,14C-DOC,14C-DOC_FLAG_W,14C-DOCERR,13C-DOC,13C-DOC_FLAG_W,13C-DOCERR,SALTREF,SALTREF_FLAG_W,LAB_DEN,LAB_DEN_FLAG_W,BTL_DATE,BTL_TIME
,,,,,,,,,,,METERS,DBAR,ITS-90,PSS-78,,PSS-78,,UMOL/KG,,UMOL/KG,,UMOL/KG,,UMOL/KG,,UMOL/KG,,UMOL/KG,,PMOL/KG,,PMOL/KG,,PMOL/KG,,FMOL/KG,,UMOL/KG,,UMOL/KG,,,,DEG C,TU,,NMOL/KG,,PERCNT,,DEG C,,/MILLE,,/MILLE,,/MILLE,NMOL/KG,,NMOL/KG,PMOL/KG,,UMOL/KG,,UMOL/KG,,,,TU,NMOL/KG,PERCNT,DEG C,ITS-90,,/MILLE,,/MILLE,/MILLE,,/MILLE,G/KG,,KG/M^3,,,
33AT20120324,        A22,      18,          1,         36,         36,2,20120330,       0144,    36.1951,   -67.4401,       4994,     2.4,  19.1398,  36.5143,2,  36.5157,2,    226.4,2,   227.3,2,    0.24,2,    0.20,2,    0.10,2,    0.00,2,   2.172,2,   1.305,2,   0.168,2,    1.44,2,  2075.1,6, 2391.84,6,   8.0455,6,       25,   0.517,2,   1.7325,2,   -1.46,2,  19.1399,2,    -999,9,    -999,9,    -999,   7.137,2,   0.032,    -999,1,    -999,9,    -999,9,  36.1905, -67.4325,   0.009,   0.0069,    0.15,  19.1394,  19.1399,2,-999,9,-999,-999,9,-999,    36.6879,2,-999,9,20120330,        351
33AT20120324,        A22,      18,          1,         35,         35,2,20120330,       0144,    36.1951,   -67.4401,       4994,    37.8,  19.1621,  36.5149,2,  36.5157,2,    228.2,2,   227.0,2,    0.13,2,    0.24,2,    0.10,2,    0.00,2,   2.195,2,   1.299,2,   0.177,2,    1.41,2,  2075.3,2, 2391.58,2,   8.0445,2,       25,    -999,9,     -999,9,    -999,9,  19.1627,2,    -999,9,    -999,9,    -999,    -999,9,    -999,    -999,1,    -999,9,    -999,9,  36.1909, -67.4332,    -999,     -999,    -999,  19.1553,  19.1627,2,-999,9,-999,-999,9,-999,    36.6879,2,-999,9,20120330,        348
33AT20120324,        A22,      18,          1,         34,         34,2,20120330,       0144,    36.1951,   -67.4401,       4994,    62.9,  19.1662,  36.5161,2,  36.5185,2,    227.3,2,   226.6,2,    0.14,2,    0.27,2,    0.11,2,    0.00,2,   2.178,2,   1.212,2,   0.165,2,    1.48,2,  2075.4,2, 2392.47,2,   8.0429,2,       25,    -999,9,     -999,9,    -999,9,  19.1658,2,    -999,9,    -999,9,    -999,    -999,9,    -999,    -999,1,    -999,9,    -999,9,  36.1912, -67.4335,    -999,     -999,    -999,  19.1548,  19.1658,2,-999,9,-999,-999,9,-999,    36.6907,2,-999,9,20120330,        346
33AT20120324,        A22,      18,          1,         33,         33,2,20120330,       0144,    36.1951,   -67.4401,       4994,    86.8,  19.1105,  36.5141,2,  36.5143,2,    225.8,2,   225.5,2,    0.14,2,    0.33,2,    0.14,2,    0.01,2,   2.211,2,   1.190,2,   0.181,2,    -999,5,    -999,9,    -999,9,     -999,9,     -999,   0.506,2,   1.7541,2,   -1.60,2,  19.1113,2,    -999,9,    -999,9,    -999,   7.156,2,   0.032,    -999,1,    -999,9,    -999,9,  36.1914, -67.4340,   0.012,   0.0070,    0.15,  19.0948,  19.1113,2,-999,9,-999,-999,9,-999,    36.6865,2,-999,9,20120330,        345
33AT20120324,        A22,      18,          1,         32,         32,2,20120330,       0144,    36.1951,   -67.4401,       4994,   118.7,  19.0877,  36.5099,2,  36.5098,2,    225.7,2,   225.7,2,    0.26,2,    0.38,2,    0.15,2,    0.01,2,   2.187,2,   1.252,2,   0.173,2,    1.50,2,  2077.1,2, 2391.47,2,   8.0407,2,       25,    -999,9,     -999,9,    -999,9,  19.0880,2,    -999,9,    -999,9,    -999,    -999,9,    -999,    -999,1,    -999,9,    -999,9,  36.1916, -67.4344,    -999,     -999,    -999,  19.0663,  19.0880,2,-999,9,-999,-999,9,-999,    36.6819,2,-999,9,20120330,        342
33AT20120324,        A22,      18,          1,         31,         31,2,20120330,       0144,    36.1951,   -67.4401,       4994,   165.8,  19.0588,  36.5019,2,  36.5017,2,    224.8,2,   224.9,2,    0.32,2,    0.50,2,    0.15,2,    0.01,2,   2.210,2,   1.327,2,   0.169,2,    1.51,2,    -999,9,    -999,9,     -999,9,     -999,   0.502,2,   1.7482,2,   -1.45,2,  19.0595,2,    -999,9,    -999,9,    -999,   7.089,2,   0.032,    -999,1,    -999,9,    -999,9,  36.1917, -67.4348,   0.011,   0.0070,    0.15,  19.0289,  19.0595,2,-999,9,-999,-999,9,-999,    36.6738,2,-999,9,20120330,        339
33AT20120324,        A22,      18,          1,         30,         30,2,20120330,       0144,    36.1951,   -67.4401,       4994,   216.6,  18.6351,  36.4797,2,  36.4743,2,    221.8,2,   211.1,2,    0.97,2,    2.43,2,    0.03,2,    0.11,2,   2.244,2,   1.218,2,   0.122,2,    1.39,2,  2096.5,2, 2389.67,2,   8.0045,2,       25,    -999,9,     -999,9,    -999,9,  18.6307,2,    -999,9,    -999,9,    -999,    -999,9,    -999,    -999,1,    -999,9,    -999,9,  36.1919, -67.4352,    -999,     -999,    -999,  18.5966,  18.6307,2,-999,9,-999,-999,9,-999,    36.6463,2,-999,9,20120330,        337
33AT20120324,        A22,      18,          1,         29,         29,2,20120330,       0144,    36.1951,   -67.4401,       4994,   268.4,  18.3187,  36.5745,2,  36.5776,2,    194.7,2,   193.6,2,    1.27,2,    4.35,2,    0.01,2,    0.19,2,   2.288,2,   1.241,2,   0.034,2,    1.37,2,  2115.9,2, 2392.95,2,   7.9739,2,       25,   0.427,2,   1.7753,2,   -0.64,2,  18.3245,2,    -999,9,    -999,9,    -999,   7.227,2,   0.033,    -999,1,    -999,9,    -999,9,  36.1922, -67.4357,   0.010,   0.0071,    0.15,  18.2715,  18.3245,2,-999,9,-999,-999,9,-999,    36.7500,2,-999,9,20120330,        335
33AT20120324,        A22,      18,          1,         28,         28,2,20120330,       0144,    36.1951,   -67.4401,       4994,   317.1,  17.9478,  36.5399,2,  36.5405,2,    200.1,2,   198.3,2,    1.24,2,    4.64,2,    0.01,2,    0.21,2,   2.327,2,   1.373,2,   0.038,2,    1.33,2,  2115.7,2, 2389.99,2,   7.9698,2,       25,    -999,9,     -999,9,    -999,9,  17.9432,2,    -999,9,    -999,9,    -999,    -999,9,    -999,    -999,1,    -999,9,    -999,9,  36.1924, -67.4361,    -999,     -999,    -999,  17.8927,  17.9432,2,-999,9,-999,-999,9,-999,    36.7128,2,-999,9,20120330,        333
33AT20120324,        A22,      18,          1,         27,         27,2,20120330,       0144,    36.1951,   -67.4401,       4994,   367.6,  17.6799,  36.4954,2,  36.4957,2,    200.1,2,   197.2,2,    1.52,2,    5.24,2,    0.01,2,    0.25,2,   2.357,2,   1.365,2,   0.038,2,    1.18,2,    -999,9,    -999,9,     -999,9,     -999,   0.427,2,   1.7533,2,   -0.21,2,  17.6816,2,    -999,9,    -999,9,    -999,   7.188,2,   0.032,    -999,1,    -999,9,    -999,9,  36.1925, -67.4364,   0.010,   0.0070,    0.15,  17.6167,  17.6816,2,-999,9,-999,-999,9,-999,    36.6678,2,-999,9,20120330,        331
33AT20120324,        A22,      18,          1,         26,         26,2,20120330,       0144,    36.1951,   -67.4401,       4994,   437.8,  17.1077,  36.3928,2,  36.3933,2,    190.1,2,   193.5,2,    2.10,2,    6.62,2,    0.01,2,    0.34,2,   2.387,2,   1.220,2,   0.036,2,    1.24,2,  2124.1,2, 2379.72,2,   7.9453,2,       25,    -999,9,     -999,9,    -999,9,  17.1085,2,    -999,9,    -999,9,    -999,    -999,9,    -999,    -999,1,    -999,9,    -999,9,  36.1924, -67.4365,    -999,     -999,    -999,  17.0340,  17.1085,2,-999,9,-999,-999,9,-999,    36.5649,2,-999,9,20120330,        329
33AT20120324,        A22,      18,          1,         25,         25,2,20120330,       0144,    36.1951,   -67.4401,       4994,   538.8,  15.3334,  36.0531,2,  36.0553,2,    174.7,2,   174.0,2,    4.01,2,   11.34,2,    0.00,2,    0.65,2,   2.329,2,   1.293,2,   0.018,2,    0.91,2,    -999,9,    -999,9,     -999,9,     -999,   0.529,2,   1.7543,2,    1.84,2,  15.3416,2,    -999,9,    -999,9,    -999,   7.338,2,   0.033,    -999,1,    -999,9,    -999,9,  36.1925, -67.4368,   0.010,   0.0070,    0.15,  15.2490,  15.3416,2,-999,9,-999,-999,9,-999,    36.2253,2,-999,9,20120330,        326
33AT20120324,        A22,      18,          1,         24,         24,2,20120330,       0144,    36.1951,   -67.4401,       4994,   638.0,  13.4190,  35.7381,2,  35.7380,2,    162.5,2,   163.2,2,    6.52,2,   15.60,2,    0.00,2,    0.95,2,   2.127,2,   1.157,2,   0.039,2,    0.86,2,  2159.8,2, 2347.45,2,   7.8092,2,       25,    -999,9,     -999,9,    -999,9,  13.4195,2,    -999,9,    -999,9,    -999,    -999,9,    -999,    -999,1,    -999,9,    -999,9,  36.1928, -67.4374,    -999,     -999,    -999,  13.3274,  13.4195,2,-999,9,-999,-999,9,-999,    35.9065,2,-999,9,20120330,        323
33AT20120324,        A22,      18,          1,         23,         23,2,20120330,       0144,    36.1951,   -67.4401,       4994,   742.0,  10.8959,  35.3879,2,  35.3913,2,    145.2,2,   143.9,2,   10.99,2,   21.64,2,    0.00,2,    1.36,2,   1.612,2,   0.820,2,   0.023,2,    0.59,2,  2183.2,6, 2331.97,2,   7.7204,2,       25,   0.373,2,   1.7635,2,    4.76,2,  10.9020,2,    -999,9,    -999,9,    -999,   7.558,2,   0.034,    -999,1,    -999,9,    -999,9,  36.1933, -67.4378,   0.009,   0.0071,    0.15,  10.8023,  10.9020,2,-999,9,-999,-999,9,-999,    35.5582,2,-999,9,20120330,        320
33AT20120324,        A22,      18,          1,         22,         22,2,20120330,       0144,    36.1951,   -67.4401,       4994,   841.8,   8.8413,  35.1813,2,  35.1830,2,    149.6,2,   150.2,2,   13.72,2,   23.89,2,    0.00,2,    1.52,2,   1.364,2,   0.678,2,   0.031,2,    0.49,2,  2191.1,2, 2322.83,2,   7.6807,2,       25,   0.322,2,   1.8032,2,    5.73,2,   8.8432,2,    -999,9,    -999,9,    -999,   7.725,2,   0.035,    -999,1,    -999,9,    -999,9,  36.1938, -67.4385,   0.009,   0.0072,    0.15,   8.7472,   8.8432,2,-999,9,-999,-999,9,-999,    35.3489,2,-999,9,20120330,        318
33AT20120324,        A22,      18,          1,         21,         21,2,20120330,       0144,    36.1951,   -67.4401,       4994,   942.7,   7.0377,  35.0933,2,  35.0918,2,    183.6,2,   185.4,2,   13.61,2,   22.03,2,    0.00,2,    1.42,2,   1.674,2,   0.813,2,   0.045,2,    0.54,2,  2184.5,2, 2320.47,2,   7.6871,2,       25,   0.355,2,   1.7948,2,    6.72,2,   7.0310,2,    -999,9,    -999,9,    -999,   7.714,2,   0.035,    -999,1,    -999,9,    -999,9,  36.1939, -67.4389,   0.010,   0.0072,    0.15,   6.9443,   7.0310,2,-999,9,-999,-999,9,-999,    35.2573,2,-999,9,20120330,        315
33AT20120324,        A22,      18,          1,         20,         20,2,20120330,       0144,    36.1951,   -67.4401,       4994,  1044.5,   6.0339,  35.0603,2,  35.0599,2,    212.2,2,   210.7,2,   12.80,2,   20.28,2,    0.00,2,    1.33,2,   2.000,2,   1.013,2,   0.082,2,    0.58,2,    -999,9,    -999,9,     -999,9,     -999,   0.389,2,   1.8254,2,    6.28,2,   6.0314,2,    -999,9,    -999,9,    -999,   7.790,2,   0.035,    -999,1,    -999,9,    -999,9,  36.1940, -67.4391,   0.009,   0.0073,    0.15,   5.9375,   6.0314,2,-999,9,-999,-999,9,-999,    35.2253,2,-999,9,20120330,        312
33AT20120324,        A22,      18,          1,         19,         19,2,20120330,       0144,    36.1951,   -67.4401,       4994,  1146.3,   5.3472,  35.0408,2,  35.0408,2,    230.9,2,   231.1,2,   12.12,2,   19.11,2,    0.00,2,    1.25,2,   2.312,2,   1.172,2,   0.098,2,    0.65,2,  2173.3,2, 2314.98,2,   7.7094,2,       25,   0.426,6,   1.8173,2,    6.41,2,   5.3452,2,    -999,9,    -999,9,    -999,   7.896,2,   0.036,    -999,1,    -999,9,    -999,9,  36.1943, -67.4396,   0.010,   0.0073,    0.15,   5.2465,   5.3452,2,-999,9,-999,-999,9,-999,    35.2061,2,-999,9,20120330,        309
33AT20120324,        A22,      18,          1,         18,         18,2,20120330,       0144,    36.1951,   -67.4401,       4994,  1247.9,   4.9628,  35.0240,2,  35.0241,2,    240.4,2,   241.3,2,   11.79,2,   18.49,2,    0.00,2,    1.23,2,   2.473,2,   1.239,2,   0.131,2,    0.68,2,    -999,9,    -999,9,     -999,9,     -999,   0.471,2,   1.8720,2,    6.40,2,   4.9625,2,    -999,9,    -999,9,    -999,   8.150,2,   0.037,    -999,1,    -999,9,    -999,9,  36.1945, -67.4399,   0.010,   0.0075,    0.15,   4.8559,   4.9625,2,-999,9,-999,-999,9,-999,    35.1893,2,-999,9,20120330,        306
33AT20120324,        A22,      18,          1,         17,         17,2,20120330,       0144,    36.1951,   -67.4401,       4994,  1347.9,   4.7163,  35.0092,2,  35.0096,2,    247.1,2,   247.4,2,   11.68,2,   18.08,2,    0.00,2,    1.21,2,   2.591,2,   1.267,2,   0.146,2,    0.70,2,  2168.9,2, 2313.23,2,   7.7172,2,       25,   0.460,2,   1.8139,2,    6.50,2,   4.7169,2,    -999,9,    -999,9,    -999,   8.035,2,   0.036,    -999,1,    -999,9,    -999,9,  36.1949, -67.4402,   0.010,   0.0073,    0.15,   4.6024,   4.7169,2,-999,9,-999,-999,9,-999,    35.1747,2,-999,9,20120330,        303
33AT20120324,        A22,      18,          1,         16,         16,2,20120330,       0144,    36.1951,   -67.4401,       4994,  1448.5,   4.5021,  34.9942,2,  34.9948,2,    252.5,2,   252.6,2,   11.66,2,   17.99,2,    0.00,2,    1.19,2,   2.645,2,   1.292,2,   0.145,2,    0.69,2,  2167.3,2, 2312.51,2,   7.7199,2,       25,   0.463,2,   1.8332,2,    6.61,2,   4.5035,2,    -999,9,    -999,9,    -999,   8.059,2,   0.036,    -999,1,    -999,9,    -999,9,  36.1949, -67.4401,   0.009,   0.0073,    0.15,   4.3810,   4.5035,2,-999,9,-999,-999,9,-999,    35.1598,2,-999,9,20120330,        300
33AT20120324,        A22,      18,          1,         15,         15,2,20120330,       0144,    36.1951,   -67.4401,       4994,  1549.8,   4.3785,  34.9882,2,  34.9885,2,    256.2,2,   255.1,2,   11.76,2,   17.92,2,    0.00,2,    1.18,2,   2.624,2,   1.265,2,   0.145,2,    0.63,2,    -999,9,    -999,9,     -999,9,     -999,   0.476,2,   1.8479,2,    6.92,2,   4.3779,2,    -999,9,    -999,9,    -999,   8.059,2,   0.036,    -999,1,    -999,9,    -999,9,  36.1950, -67.4401,   0.009,   0.0074,    0.15,   4.2493,   4.3779,2,-999,9,-999,-999,9,-999,    35.1535,2,-999,9,20120330,        258
33AT20120324,        A22,      18,          1,         14,         14,2,20120330,       0144,    36.1951,   -67.4401,       4994,  1682.0,   4.1903,  34.9785,2,  34.9799,2,    258.0,2,   258.1,2,   12.00,2,   17.85,2,    0.00,2,    1.17,2,   2.497,2,   1.188,2,   0.136,2,    0.56,2,    -999,9,    -999,9,     -999,9,     -999,   0.455,2,   1.8730,2,    7.04,2,   4.1948,2,    -999,9,    -999,9,    -999,   7.860,2,   0.035,    -999,1,    -999,9,    -999,9,  36.1949, -67.4402,   0.010,   0.0075,    0.15,   4.0508,   4.1948,2,-999,9,-999,-999,9,-999,    35.1448,2,-999,9,20120330,        255
33AT20120324,        A22,      18,          1,         13,         13,2,20120330,       0144,    36.1951,   -67.4401,       4994,  1885.2,   3.9221,  34.9672,2,  34.9681,2,    260.9,2,   261.4,2,   12.76,2,   17.79,2,    0.00,2,    1.18,2,   2.140,2,   0.979,2,   0.105,2,    0.41,2,  2163.0,2, 2311.36,2,   7.7298,2,       25,   0.405,2,   1.8506,2,    7.44,2,   3.9225,2,    -999,9,    -999,9,    -999,   7.677,3,   0.035,    -999,1,    -999,9,    -999,9,  36.1949, -67.4402,   0.010,   0.0074,    0.15,   3.7668,   3.9225,2,-999,9,-999,-999,9,-999,    35.1329,2,-999,9,20120330,        250
33AT20120324,        A22,      18,          1,         12,         12,2,20120330,       0144,    36.1951,   -67.4401,       4994,  2110.7,   3.7005,  34.9624,2,  34.9631,2,    262.6,2,   263.0,2,   14.05,2,   17.80,2,    0.00,2,    1.18,2,   1.741,2,   0.793,2,   0.068,2,    0.22,2,  2161.5,2, 2313.19,2,   7.7345,2,       25,   0.357,2,   1.8467,2,    7.63,2,   3.7011,2,    -999,9,    -999,9,    -999,   7.837,2,   0.035,    -999,1,    -999,9,    -999,9,  36.1948, -67.4403,   0.009,   0.0074,    0.15,   3.5267,   3.7011,2,-999,9,-999,-999,9,-999,    35.1280,2,-999,9,20120330,        245
33AT20120324,        A22,      18,          1,         11,         11,2,20120330,       0144,    36.1951,   -67.4401,       4994,  2363.7,   3.4764,  34.9527,2,  34.9527,2,    264.8,2,   264.5,2,   15.47,2,   17.81,2,    0.00,2,    1.19,2,   1.506,2,   0.674,2,   0.052,2,    0.20,2,    -999,9,    -999,9,     -999,9,     -999,   0.289,2,   1.8541,2,    6.92,2,   3.4798,3,    -999,9,    -999,9,    -999,   7.866,2,   0.035,    -999,1,    -999,9,    -999,9,  36.1947, -67.4404,   0.009,   0.0074,    0.15,   3.2814,   3.4798,3,-999,9,-999,-999,9,-999,    35.1175,2,-999,9,20120330,        240
33AT20120324,        A22,      18,          1,         10,         10,2,20120330,       0144,    36.1951,   -67.4401,       4994,  2566.1,   3.3477,  34.9535,2,  34.9535,2,    263.0,2,   263.1,2,   17.38,2,   17.91,2,    0.00,2,    1.21,2,   1.165,2,   0.530,2,   0.046,2,    0.19,2,  2163.6,2, 2316.82,2,   7.7410,2,       25,    -999,9,     -999,9,    -999,9,   3.3477,2,    -999,9,    -999,9,    -999,    -999,9,    -999,    -999,1,    -999,9,    -999,9,  36.1947, -67.4403,    -999,     -999,    -999,   3.1346,   3.3477,2,-999,9,-999,-999,9,-999,    35.1183,2,-999,9,20120330,        235
33AT20120324,        A22,      18,          1,          9,          9,2,20120330,       0144,    36.1951,   -67.4401,       4994,  2871.6,   3.0791,  34.9436,2,  34.9439,2,    262.7,2,   262.8,2,   20.21,2,   18.11,2,    0.00,2,    1.23,2,   0.925,2,   0.399,2,   0.036,2,    0.14,2,    -999,9,    -999,9,     -999,9,     -999,   0.183,2,   1.8670,2,    5.34,2,   3.0792,2,    -999,9,    -999,9,    -999,   7.946,2,   0.036,    -999,1,    -999,9,    -999,9,  36.1948, -67.4403,   0.009,   0.0075,    0.15,   2.8400,   3.0792,2,-999,9,-999,-999,9,-999,    35.1087,2,-999,9,20120330,        229
33AT20120324,        A22,      18,          1,          8,          8,2,20120330,       0144,    36.1951,   -67.4401,       4994,  3141.8,   2.8225,  34.9286,2,  34.9283,2,    265.3,2,   265.1,2,   21.40,2,   17.87,2,    0.00,2,    1.22,2,   0.942,2,   0.403,2,   0.043,2,    0.14,2,    -999,9,    -999,9,     -999,9,     -999,    -999,9,     -999,9,    -999,9,   2.8229,2,    -999,9,    -999,9,    -999,    -999,9,    -999,    -999,1,    -999,9,    -999,9,  36.1948, -67.4403,    -999,     -999,    -999,   2.5607,   2.8229,2,-999,9,-999,-999,9,-999,    35.0930,2,-999,9,20120330,        224
33AT20120324,        A22,      18,          1,          7,          7,2,20120330,       0144,    36.1951,   -67.4401,       4994,  3447.6,   2.5623,  34.9128,2,  34.9130,2,    267.3,2,   267.5,2,   23.21,2,   17.79,2,    0.00,2,    1.22,2,   1.050,2,   0.433,2,   0.035,2,    0.17,2,  2165.4,2, 2320.24,2,   7.7423,2,       25,    -999,9,     -999,9,    -999,9,   2.5620,2,    -999,9,    -999,9,    -999,    -999,9,    -999,    -999,1,    -999,9,    -999,9,  36.1947, -67.4403,    -999,     -999,    -999,   2.2740,   2.5620,2,-999,9,-999,-999,9,-999,    35.0776,2,-999,9,20120330,        218
33AT20120324,        A22,      18,          1,          6,          6,2,20120330,       0144,    36.1951,   -67.4401,       4994,  3757.3,   2.3891,  34.9011,2,  34.9014,2,    267.6,2,   267.7,2,   26.14,2,   18.04,2,    0.00,2,    1.24,2,   1.053,2,   0.446,2,   0.037,2,    0.18,2,    -999,9,    -999,9,     -999,9,     -999,   0.208,2,   1.8570,2,    5.48,2,   2.3888,2,    -999,9,    -999,9,    -999,   7.951,2,   0.036,    -999,1,    -999,9,    -999,9,  36.1947, -67.4403,   0.009,   0.0074,    0.15,   2.0712,   2.3888,2,-999,9,-999,-999,9,-999,    35.0660,2,-999,9,20120330,        212