BOTTLE,20220725CCHSIOCBG
EXPOCODE,SECT_ID,STNNBR,CASTNO,SAMPNO,BTLNBR,BTLNBR_FLAG_W,DATE,TIME,LATITUDE,LONGITUDE,DEPTH,CTDPRS,CTDTMP,CTDSAL,CTDSAL_FLAG_W,SALNTY,SALNTY_FLAG_W,CTDOXY,CTDOXY_FLAG_W,OXYGEN,OXYGEN_FLAG_W,SILCAT,SILCAT_FLAG_W,NITRAT,NITRAT_FLAG_W,NITRIT,NITRIT_FLAG_W,PHSPHT,PHSPHT_FLAG_W,CFC-11,CFC-11_FLAG_W,CFC-12,CFC-12_FLAG_W,CFC113,CFC113_FLAG_W,SF6,SF6_FLAG_W,TCARBN,TCARBN_FLAG_W,ALKALI,ALKALI_FLAG_W,PH_TOT,PH_TOT_FLAG_W,PH_TMP,TRITUM,TRITUM_FLAG_W,HELIUM,HELIUM_FLAG_W,DELHE3,DELHE3_FLAG_W,REFTMP,REFTMP_FLAG_W,DELC13,DELC13_FLAG_W,DELC14,DELC14_FLAG_W,C14ERR,NEON,NEON_FLAG_W,NEONER,CCL4,CCL4_FLAG_W,DOC,DOC_FLAG_W,TDN,TDN_FLAG_W,BTL_LAT,BTL_LON,TRITER,HELIER,DELHER,THETA,SBE35,SBE35_FLAG_W,14C-DOC,14C-DOC_FLAG_W,14C-DOCERR,13C-DOC,13C-DOC_FLAG_W,13C-DOCERR,SALTREF,SALTREF_FLAG_W,LAB_DEN,LAB_DEN_FLAG_W,BTL_DATE,BTL_TIME
,,,,,,,,,,,METERS,DBAR,ITS-90,PSS-78,,PSS-78,,UMOL/KG,,UMOL/KG,,UMOL/KG,,UMOL/KG,,UMOL/KG,,UMOL/KG,,PMOL/KG,,PMOL/KG,,PMOL/KG,,FMOL/KG,,UMOL/KG,,UMOL/KG,,,,DEG C,TU,,NMOL/KG,,PERCNT,,DEG C,,/MILLE,,/MILLE,,/MILLE,NMOL/KG,,NMOL/KG,PMOL/KG,,UMOL/KG,,UMOL/KG,,,,TU,NMOL/KG,PERCNT,DEG C,ITS-90,,/MILLE,,/MILLE,/MILLE,,/MILLE,G/KG,,KG/M^3,,,
33AT20120324,        A22,      49,          1,          5,          5,2,20120408,       0728,    18.9840,   -66.0045,       3586,  2766.4,   2.8811,  34.9340,2,  34.9342,2,    264.9,2,   264.9,2,   21.01,2,   18.11,2,    0.00,2,    1.23,2,   0.715,2,   0.384,2,   0.030,2,    0.07,4,    -999,9,    -999,9,     -999,9,     -999,    -999,9,     -999,9,    -999,9,   2.8811,2,    -999,9,    -999,9,    -999,    -999,9,    -999,    0.71,2,   40.49,2,   20.28,2,  18.9843, -66.0045,    -999,     -999,    -999,   2.6569,   2.8811,2,-999,9,-999,-999,9,-999,    35.0990,2,-999,9,20120408,        746
33AT20120324,        A22,      49,          1,          4,          4,2,20120408,       0728,    18.9840,   -66.0045,       3586,  2969.7,   2.7585,  34.9260,2,  34.9258,2,    265.7,2,   265.6,2,   21.88,2,   18.02,2,    0.00,2,    1.23,2,   0.751,2,   0.409,2,   0.033,2,    0.05,4,  2163.9,2, 2318.61,2,   7.7405,2,       25,    -999,9,     -999,9,    -999,9,   2.7587,2,    -999,9,    -999,9,    -999,    -999,9,    -999,    0.69,2,   40.55,2,   20.62,2,  18.9842, -66.0045,    -999,     -999,    -999,   2.5161,   2.7587,2,-999,9,-999,-999,9,-999,    35.0905,2,-999,9,20120408,        742
33AT20120324,        A22,      49,          1,          3,          3,2,20120408,       0728,    18.9840,   -66.0045,       3586,  3173.6,   2.6179,  34.9173,2,  34.9177,2,    266.4,2,   266.4,2,   22.99,2,   18.00,2,    0.00,2,    1.23,2,   0.780,2,   0.421,2,   0.039,2,    0.21,4,    -999,9,    -999,9,     -999,9,     -999,    -999,9,     -999,9,    -999,9,   2.6185,2,    -999,9,    -999,9,    -999,    -999,9,    -999,    0.74,2,   40.36,2,   20.38,2,  18.9842, -66.0045,    -999,     -999,    -999,   2.3574,   2.6185,2,-999,9,-999,-999,9,-999,    35.0824,2,-999,9,20120408,        738
33AT20120324,        A22,      49,          1,          2,          2,2,20120408,       0728,    18.9840,   -66.0045,       3586,  3393.1,   2.4580,  34.9072,2,  34.9187,4,    267.5,2,   267.5,2,   24.80,2,   18.02,2,    0.00,2,    1.24,2,   0.816,2,   0.446,2,   0.044,2,    0.10,4,  2167.4,2, 2320.32,6,   7.7384,6,       25,    -999,9,     -999,9,    -999,9,   2.4593,2,    -999,9,    -999,9,    -999,    -999,9,    -999,    0.79,2,   40.28,2,   20.75,2,  18.9841, -66.0045,    -999,     -999,    -999,   2.1781,   2.4593,2,-999,9,-999,-999,9,-999,    35.0834,4,-999,9,20120408,        733
33AT20120324,        A22,      49,          1,          1,          1,2,20120408,       0728,    18.9840,   -66.0045,       3586,  3623.5,   2.4162,  34.9029,2,  34.9032,2,    267.2,2,   267.3,2,   25.57,2,   18.06,2,    0.00,2,    1.24,2,   0.835,2,   0.451,2,   0.048,2,    0.00,4,  2168.1,6, 2321.25,2,   7.7390,2,       25,    -999,9,     -999,9,    -999,9,   2.4161,2,    -999,9,    -999,9,    -999,    -999,9,    -999,    0.80,2,   40.01,2,   20.17,2,  18.9840, -66.0045,    -999,     -999,    -999,   2.1124,   2.4161,2,-999,9,-999,-999,9,-999,    35.0678,2,-999,9,20120408,        729