BOTTLE,20220725CCHSIOCBG
EXPOCODE,SECT_ID,STNNBR,CASTNO,SAMPNO,BTLNBR,BTLNBR_FLAG_W,DATE,TIME,LATITUDE,LONGITUDE,DEPTH,CTDPRS,CTDTMP,CTDSAL,CTDSAL_FLAG_W,SALNTY,SALNTY_FLAG_W,CTDOXY,CTDOXY_FLAG_W,OXYGEN,OXYGEN_FLAG_W,SILCAT,SILCAT_FLAG_W,NITRAT,NITRAT_FLAG_W,NITRIT,NITRIT_FLAG_W,PHSPHT,PHSPHT_FLAG_W,CFC-11,CFC-11_FLAG_W,CFC-12,CFC-12_FLAG_W,CFC113,CFC113_FLAG_W,SF6,SF6_FLAG_W,TCARBN,TCARBN_FLAG_W,ALKALI,ALKALI_FLAG_W,PH_TOT,PH_TOT_FLAG_W,PH_TMP,TRITUM,TRITUM_FLAG_W,HELIUM,HELIUM_FLAG_W,DELHE3,DELHE3_FLAG_W,REFTMP,REFTMP_FLAG_W,DELC13,DELC13_FLAG_W,DELC14,DELC14_FLAG_W,C14ERR,NEON,NEON_FLAG_W,NEONER,CCL4,CCL4_FLAG_W,DOC,DOC_FLAG_W,TDN,TDN_FLAG_W,BTL_LAT,BTL_LON,TRITER,HELIER,DELHER,THETA,SBE35,SBE35_FLAG_W,14C-DOC,14C-DOC_FLAG_W,14C-DOCERR,13C-DOC,13C-DOC_FLAG_W,13C-DOCERR,SALTREF,SALTREF_FLAG_W,LAB_DEN,LAB_DEN_FLAG_W,BTL_DATE,BTL_TIME
,,,,,,,,,,,METERS,DBAR,ITS-90,PSS-78,,PSS-78,,UMOL/KG,,UMOL/KG,,UMOL/KG,,UMOL/KG,,UMOL/KG,,UMOL/KG,,PMOL/KG,,PMOL/KG,,PMOL/KG,,FMOL/KG,,UMOL/KG,,UMOL/KG,,,,DEG C,TU,,NMOL/KG,,PERCNT,,DEG C,,/MILLE,,/MILLE,,/MILLE,NMOL/KG,,NMOL/KG,PMOL/KG,,UMOL/KG,,UMOL/KG,,,,TU,NMOL/KG,PERCNT,DEG C,ITS-90,,/MILLE,,/MILLE,/MILLE,,/MILLE,G/KG,,KG/M^3,,,
33AT20120324,        A22,      68,          1,         36,         36,2,20120411,       2249,    15.5752,   -68.8948,       4011,     3.8,  27.3540,  35.6936,2,  35.6944,2,    200.4,2,   209.0,3,    0.82,2,    0.00,2,    0.00,2,    0.00,2,   1.617,2,   1.048,2,   0.135,2,    1.17,2,  2000.5,6, 2340.96,2,   8.1031,2,       25,   0.400,2,     -999,9,    -999,9,  27.3541,2,    -999,9,    -999,9,    -999,    -999,9,    -999,    -999,1,    -999,9,    -999,9,  15.5737, -68.8951,   0.012,     -999,    -999,  27.3531,  27.3541,2,-999,9,-999,-999,9,-999,    35.8627,2,-999,9,20120412,         35
33AT20120324,        A22,      68,          1,         35,         35,2,20120411,       2249,    15.5752,   -68.8948,       4011,    25.3,  27.1946,  35.6859,2,  35.6872,2,    203.4,2,   203.6,2,    0.90,2,    0.00,2,    0.00,2,    0.00,2,   1.629,2,   1.104,2,   0.135,2,    1.25,2,  1999.8,2, 2339.64,6,   8.1022,2,       25,    -999,9,     -999,9,    -999,9,  27.1950,2,    -999,9,    -999,9,    -999,    -999,9,    -999,    -999,1,    -999,9,    -999,9,  15.5737, -68.8951,    -999,     -999,    -999,  27.1888,  27.1950,2,-999,9,-999,-999,9,-999,    35.8555,2,-999,9,20120412,         33
33AT20120324,        A22,      68,          1,         34,         34,2,20120411,       2249,    15.5752,   -68.8948,       4011,    50.4,  26.4477,  35.7242,2,  35.7273,2,    203.4,2,   202.9,2,    1.41,2,    0.00,2,    0.00,2,    0.00,2,   1.671,2,   1.081,2,   0.150,2,    1.24,2,  2001.4,2, 2343.56,2,   8.1011,2,       25,    -999,9,     -999,9,    -999,9,  26.4470,2,    -999,9,    -999,9,    -999,    -999,9,    -999,    -999,1,    -999,9,    -999,9,  15.5737, -68.8951,    -999,     -999,    -999,  26.4363,  26.4470,2,-999,9,-999,-999,9,-999,    35.8957,2,-999,9,20120412,         31
33AT20120324,        A22,      68,          1,         33,         33,2,20120411,       2249,    15.5752,   -68.8948,       4011,    75.2,  26.5409,  35.9082,2,  35.9135,2,    201.3,2,   200.7,2,    1.09,2,    0.00,2,    0.00,2,    0.00,2,   1.652,2,   1.057,2,   0.134,2,    1.23,2,    -999,9,    -999,9,     -999,9,     -999,   0.397,2,   1.7104,2,   -1.10,2,  26.5401,2,    -999,9,    -999,9,    -999,   6.680,2,   0.030,    -999,1,    -999,9,    -999,9,  15.5737, -68.8950,   0.009,   0.0068,    0.15,  26.5238,  26.5401,2,-999,9,-999,-999,9,-999,    36.0829,2,-999,9,20120412,         29
33AT20120324,        A22,      68,          1,         32,         32,2,20120411,       2249,    15.5752,   -68.8948,       4011,   100.6,  25.6857,  36.6003,2,  36.6217,2,    175.7,2,   175.8,2,    0.88,2,    1.38,2,    0.04,2,    0.09,2,   1.736,2,   1.115,2,   0.118,2,    1.14,2,  2076.1,2, 2396.55,2,   8.0481,2,       25,    -999,9,     -999,9,    -999,9,  25.7051,2,    -999,9,    -999,9,    -999,    -999,9,    -999,    -999,1,    -999,9,    -999,9,  15.5738, -68.8950,    -999,     -999,    -999,  25.6633,  25.7051,2,-999,9,-999,-999,9,-999,    36.7944,2,-999,9,20120412,         27
33AT20120324,        A22,      68,          1,         31,         31,2,20120411,       2249,    15.5752,   -68.8948,       4011,   126.0,  23.8733,  36.8503,2,  36.8510,2,    177.5,2,   184.9,2,    0.57,2,    1.13,2,    0.11,2,    0.05,2,   1.876,2,   1.187,2,   0.114,2,    1.23,2,    -999,9,    -999,9,     -999,9,     -999,   0.468,2,     -999,9,    -999,9,  23.8740,2,    -999,9,    -999,9,    -999,    -999,9,    -999,    -999,1,    -999,9,    -999,9,  15.5739, -68.8950,   0.009,     -999,    -999,  23.8467,  23.8740,2,-999,9,-999,-999,9,-999,    37.0247,2,-999,9,20120412,         25
33AT20120324,        A22,      68,          1,         30,         30,2,20120411,       2249,    15.5752,   -68.8948,       4011,   150.6,  22.3988,  36.9486,2,  36.9285,4,    177.2,2,   167.5,2,    0.82,2,    3.00,2,    0.02,2,    0.13,2,   1.957,2,   1.233,2,   0.061,2,    1.18,2,  2122.7,2, 2411.87,2,   7.9937,6,       25,    -999,9,     -999,9,    -999,9,  22.3984,2,    -999,9,    -999,9,    -999,    -999,9,    -999,    -999,1,    -999,9,    -999,9,  15.5741, -68.8950,    -999,     -999,    -999,  22.3683,  22.3984,2,-999,9,-999,-999,9,-999,    37.1027,4,-999,9,20120412,         23
33AT20120324,        A22,      68,          1,         29,         29,2,20120411,       2249,    15.5752,   -68.8948,       4011,   202.0,  19.6143,  36.6802,2,  36.6787,2,    170.1,2,   172.2,2,    1.29,2,    4.84,2,    0.01,2,    0.23,2,   2.157,2,   1.324,2,   0.034,2,    1.16,2,  2132.7,2, 2394.97,2,   7.9537,2,       25,   0.489,2,   1.7156,2,    0.14,2,  19.6127,2,    -999,9,    -999,9,    -999,   6.938,2,   0.031,    -999,1,    -999,9,    -999,9,  15.5743, -68.8950,   0.010,   0.0069,    0.15,  19.5771,  19.6127,2,-999,9,-999,-999,9,-999,    36.8516,2,-999,9,20120412,         20
33AT20120324,        A22,      68,          1,         28,         28,2,20120411,       2249,    15.5752,   -68.8948,       4011,   250.8,  18.0994,  36.5104,2,  36.5121,2,    168.8,2,   171.3,2,    1.93,2,    7.05,2,    0.01,2,    0.36,2,   2.235,2,   1.355,2,   0.022,2,    1.10,2,    -999,9,    -999,9,     -999,9,     -999,    -999,9,     -999,9,    -999,9,  18.1000,2,    -999,9,    -999,9,    -999,    -999,9,    -999,    -999,1,    -999,9,    -999,9,  15.5744, -68.8950,    -999,     -999,    -999,  18.0557,  18.1000,2,-999,9,-999,-999,9,-999,    36.6843,2,-999,9,20120412,         19
33AT20120324,        A22,      68,          1,         27,         27,2,20120411,       2249,    15.5752,   -68.8948,       4011,   301.4,  16.6865,  36.2821,2,  36.2844,2,    167.5,2,   166.3,2,    2.80,2,    9.88,2,    0.01,2,    0.55,2,   2.312,2,   1.365,2,   0.017,2,    0.99,2,  2145.7,2, 2371.13,2,   7.8886,2,       25,   0.456,2,   1.7369,2,    1.13,2,  16.6843,2,    -999,9,    -999,9,    -999,   7.080,2,   0.032,    -999,1,    -999,9,    -999,9,  15.5745, -68.8950,   0.009,   0.0069,    0.15,  16.6368,  16.6843,2,-999,9,-999,-999,9,-999,    36.4554,2,-999,9,20120412,         17
33AT20120324,        A22,      68,          1,         26,         26,2,20120411,       2249,    15.5752,   -68.8948,       4011,   351.0,  15.2140,  36.0120,2,  36.0066,2,    151.7,2,   151.7,2,    4.51,2,   13.85,2,    0.01,2,    0.81,2,   2.235,2,   1.290,2,   0.027,2,    0.86,2,    -999,9,    -999,9,     -999,9,     -999,    -999,9,     -999,9,    -999,9,  15.2217,2,    -999,9,    -999,9,    -999,    -999,9,    -999,    -999,1,    -999,9,    -999,9,  15.5745, -68.8950,    -999,     -999,    -999,  15.1596,  15.2217,2,-999,9,-999,-999,9,-999,    36.1764,2,-999,9,20120412,         15
33AT20120324,        A22,      68,          1,         25,         25,2,20120411,       2249,    15.5752,   -68.8948,       4011,   402.6,  13.3376,  35.6550,2,  35.6516,2,    136.2,2,   135.2,2,    7.34,2,   18.85,2,    0.01,2,    1.15,2,   2.027,2,   1.136,2,   0.020,2,    0.67,2,  2178.1,2, 2338.37,2,   7.7547,2,       25,   0.345,2,     -999,9,    -999,9,  13.3326,2,    -999,9,    -999,9,    -999,    -999,9,    -999,    -999,1,    -999,9,    -999,9,  15.5746, -68.8949,   0.009,     -999,    -999,  13.2805,  13.3326,2,-999,9,-999,-999,9,-999,    35.8197,2,-999,9,20120412,         13
33AT20120324,        A22,      68,          1,         24,         24,2,20120411,       2249,    15.5752,   -68.8948,       4011,   452.1,  11.9656,  35.4307,2,     -999,5,    128.1,2,   127.7,2,    9.72,2,   22.26,2,    0.00,2,    1.38,2,   1.795,2,   0.981,2,   0.017,2,    0.51,2,    -999,9,    -999,9,     -999,9,     -999,    -999,9,   1.7728,2,    3.47,2,  11.9655,2,    -999,9,    -999,9,    -999,   7.406,2,   0.033,    -999,1,    -999,9,    -999,9,  15.5747, -68.8949,    -999,   0.0071,    0.15,  11.9058,  11.9655,2,-999,9,-999,-999,9,-999,       -999,5,-999,9,20120412,         11
33AT20120324,        A22,      68,          1,         23,         23,2,20120411,       2249,    15.5752,   -68.8948,       4011,   503.2,  10.6785,  35.2372,2,  35.2398,2,    124.8,2,   124.4,2,   11.86,2,   24.83,2,    0.00,2,    1.55,2,   1.587,2,   0.844,2,   0.018,2,    0.37,2,  2195.9,2, 2317.72,2,   7.6689,2,       25,   0.232,6,   1.7653,2,    3.95,2,  10.6826,2,    -999,9,    -999,9,    -999,   7.483,2,   0.034,    -999,1,    -999,9,    -999,9,  15.5747, -68.8949,   0.008,   0.0071,    0.15,  10.6166,  10.6826,2,-999,9,-999,-999,9,-999,    35.4060,2,-999,9,20120412,         10
33AT20120324,        A22,      68,          1,         22,         22,2,20120411,       2249,    15.5752,   -68.8948,       4011,   604.0,   8.4370,  34.9181,2,  34.9181,2,    119.7,2,   120.6,2,   17.12,2,   29.68,2,    0.00,2,    1.90,2,   1.043,2,   0.521,2,   0.006,2,    0.24,2,  2208.4,6, 2307.52,2,   7.6009,2,       25,   0.121,2,   1.7947,2,    3.36,2,   8.4348,2,    -999,9,    -999,9,    -999,   7.631,2,   0.034,    -999,1,    -999,9,    -999,9,  15.5747, -68.8949,   0.009,   0.0072,    0.15,   8.3724,   8.4348,2,-999,9,-999,-999,9,-999,    35.0828,2,-999,9,20120412,          7
33AT20120324,        A22,      68,          1,         21,         21,2,20120411,       2249,    15.5752,   -68.8948,       4011,   704.1,   7.3397,  34.8284,2,  34.8321,2,    125.4,2,   126.4,2,   20.37,2,   30.99,2,    0.00,2,    2.01,2,   0.664,2,   0.324,2,   0.008,2,    0.20,2,  2213.5,2, 2305.21,2,   7.5867,2,       25,   0.092,2,   1.7942,2,    3.49,2,   7.3398,2,    -999,9,    -999,9,    -999,   7.675,2,   0.035,    -999,1,    -999,9,    -999,9,  15.5747, -68.8949,   0.008,   0.0072,    0.15,   7.2697,   7.3398,2,-999,9,-999,-999,9,-999,    34.9964,2,-999,9,20120412,          4
33AT20120324,        A22,      68,          1,         20,         20,2,20120411,       2249,    15.5752,   -68.8948,       4011,   805.1,   6.4461,  34.7904,2,  34.7900,2,    134.8,2,   134.2,2,   23.12,2,   31.42,2,    0.00,2,    2.06,2,   0.398,2,    -999,5,   0.006,2,    0.12,2,  2214.8,2, 2307.23,2,   7.5841,2,       25,   0.058,2,   1.8131,2,    2.67,2,   6.4443,2,    -999,9,    -999,9,    -999,   7.632,2,   0.034,    -999,1,    -999,9,    -999,9,  15.5747, -68.8949,   0.008,   0.0073,    0.15,   6.3710,   6.4443,2,-999,9,-999,-999,9,-999,    34.9541,2,-999,9,20120412,          2
33AT20120324,        A22,      68,          1,         19,         19,2,20120411,       2249,    15.5752,   -68.8948,       4011,   905.7,   5.7353,  34.8173,2,  34.8195,2,    150.1,2,   150.3,2,   24.51,2,   29.92,2,    0.00,2,    1.99,2,   0.231,2,   0.101,2,   0.011,2,    0.08,2,  2215.4,2, 2311.02,2,   7.6042,2,       25,   0.027,2,   1.8080,2,    2.61,2,   5.7361,2,    -999,9,    -999,9,    -999,   7.732,2,   0.035,    -999,1,    -999,9,    -999,9,  15.5746, -68.8949,   0.008,   0.0072,    0.15,   5.6549,   5.7361,2,-999,9,-999,-999,9,-999,    34.9837,2,-999,9,20120412,       2359
33AT20120324,        A22,      68,          1,         18,         18,2,20120411,       2249,    15.5752,   -68.8948,       4011,  1006.2,   5.4051,  34.9067,2,  34.9083,2,    170.7,2,   170.5,2,   24.00,2,   26.93,2,    0.00,2,    1.81,2,   0.186,2,   0.079,2,   0.002,2,    0.08,2,  2204.5,2, 2319.77,2,   7.6439,2,       25,   0.028,2,   1.8361,2,    2.28,2,   5.4068,2,    -999,9,    -999,9,    -999,   7.837,2,   0.035,    -999,1,    -999,9,    -999,9,  15.5746, -68.8949,   0.009,   0.0073,    0.15,   5.3175,   5.4068,2,-999,9,-999,-999,9,-999,    35.0729,2,-999,9,20120412,       2357
33AT20120324,        A22,      68,          1,         17,         17,2,20120411,       2249,    15.5752,   -68.8948,       4011,  1107.8,   4.9810,  34.9391,2,  34.9400,2,    185.3,2,   186.1,2,   24.24,2,   25.05,2,    0.00,2,    1.70,2,   0.147,2,   0.066,2,   0.010,2,    0.07,2,  2199.0,2, 2324.11,2,   7.6655,2,       25,   0.024,2,   1.8384,2,    2.20,2,   4.9826,2,    -999,9,    -999,9,    -999,   7.919,2,   0.036,    -999,1,    -999,9,    -999,9,  15.5745, -68.8950,   0.009,   0.0074,    0.15,   4.8872,   4.9826,2,-999,9,-999,-999,9,-999,    35.1047,2,-999,9,20120412,       2354
33AT20120324,        A22,      68,          1,         16,         16,2,20120411,       2249,    15.5752,   -68.8948,       4011,  1209.5,   4.7285,  34.9536,2,  34.9561,2,    195.9,2,   196.2,2,   24.07,2,   24.05,2,    0.00,2,    1.63,2,   0.148,2,   0.059,2,   0.004,2,    0.06,2,  2198.1,2, 2323.71,2,   7.6787,2,       25,   0.031,2,   1.8587,2,    2.04,2,   4.7300,2,    -999,9,    -999,9,    -999,   7.902,2,   0.036,    -999,1,    -999,9,    -999,9,  15.5745, -68.8950,   0.009,   0.0074,    0.15,   4.6275,   4.7300,2,-999,9,-999,-999,9,-999,    35.1209,2,-999,9,20120412,       2352
33AT20120324,        A22,      68,          1,         15,         15,2,20120411,       2249,    15.5752,   -68.8948,       4011,  1309.5,   4.5533,  34.9622,2,  34.9633,2,    202.6,2,   202.5,2,   24.41,2,   23.41,2,    0.00,2,    1.58,2,   0.143,2,   0.059,2,   0.019,2,    0.05,2,  2194.8,2, 2326.54,2,   7.6858,2,       25,   0.015,2,   1.8380,2,    1.67,2,   4.5538,2,    -999,9,    -999,9,    -999,   7.929,2,   0.036,    -999,1,    -999,9,    -999,9,  15.5745, -68.8950,   0.009,   0.0074,    0.15,   4.4447,   4.5538,2,-999,9,-999,-999,9,-999,    35.1282,2,-999,9,20120412,       2349
33AT20120324,        A22,      68,          1,         14,         14,2,20120411,       2249,    15.5752,   -68.8948,       4011,  1411.0,   4.4401,  34.9686,2,  34.9696,2,    208.2,2,   207.7,2,   24.20,2,   22.83,2,    0.00,2,    1.54,2,   0.174,2,   0.072,2,   0.019,2,    0.07,2,  2191.5,2, 2328.01,2,   7.6947,2,       25,   0.030,2,   1.8509,2,    1.96,2,   4.4405,2,    -999,9,    -999,9,    -999,   8.039,2,   0.036,    -999,1,    -999,9,    -999,9,  15.5746, -68.8949,   0.009,   0.0074,    0.15,   4.3233,   4.4405,2,-999,9,-999,-999,9,-999,    35.1345,2,-999,9,20120412,       2347
33AT20120324,        A22,      68,          1,         13,         13,2,20120411,       2249,    15.5752,   -68.8948,       4011,  1511.6,   4.3450,  34.9701,2,  34.9715,2,    209.7,2,   209.8,2,   24.99,2,   22.69,2,    0.00,2,    1.53,2,   0.135,2,   0.054,2,   0.004,2,    0.07,2,    -999,9,    -999,9,     -999,9,     -999,   0.012,2,   1.8451,2,    1.94,2,   4.3448,2,    -999,9,    -999,9,    -999,   7.953,2,   0.036,    -999,1,    -999,9,    -999,9,  15.5747, -68.8949,   0.009,   0.0074,    0.15,   4.2198,   4.3448,2,-999,9,-999,-999,9,-999,    35.1364,2,-999,9,20120412,       2344
33AT20120324,        A22,      68,          1,         12,         12,2,20120411,       2249,    15.5752,   -68.8948,       4011,  1613.1,   4.2615,  34.9717,2,  34.9728,2,    211.2,2,   211.3,2,   25.68,2,   22.50,2,    0.00,2,    1.53,2,   0.137,2,   0.055,2,   0.004,2,    0.07,2,  2192.8,2, 2330.05,2,   7.6996,2,       25,   0.007,2,   1.8508,2,    1.76,2,   4.2616,2,    -999,9,    -999,9,    -999,   8.065,2,   0.036,    -999,1,    -999,9,    -999,9,  15.5748, -68.8949,   0.009,   0.0074,    0.15,   4.1277,   4.2616,2,-999,9,-999,-999,9,-999,    35.1378,2,-999,9,20120412,       2341
33AT20120324,        A22,      68,          1,         11,         11,2,20120411,       2249,    15.5752,   -68.8948,       4011,  1715.2,   4.2093,  34.9720,2,  34.9732,2,    212.6,2,   212.8,2,   26.18,2,   22.36,2,    0.00,2,    1.52,2,   0.139,2,   0.052,2,   0.008,2,    0.10,2,    -999,9,    -999,9,     -999,9,     -999,   0.026,2,   1.8509,2,    1.46,2,   4.2092,2,    -999,9,    -999,9,    -999,   8.044,2,   0.036,    -999,1,    -999,9,    -999,9,  15.5749, -68.8949,   0.009,   0.0074,    0.15,   4.0665,   4.2092,2,-999,9,-999,-999,9,-999,    35.1381,2,-999,9,20120412,       2339
33AT20120324,        A22,      68,          1,         10,         10,2,20120411,       2249,    15.5752,   -68.8948,       4011,  1816.3,   4.1691,  34.9729,2,  34.9736,2,    213.8,2,   214.2,2,   26.52,2,   22.29,2,    0.00,2,    1.51,2,   0.134,2,   0.052,2,   0.005,2,    0.10,2,  2193.5,2, 2331.22,2,   7.7035,2,       25,    -999,9,     -999,9,    -999,9,   4.1693,2,    -999,9,    -999,9,    -999,    -999,9,    -999,    -999,1,    -999,9,    -999,9,  15.5750, -68.8949,    -999,     -999,    -999,   4.0171,   4.1693,2,-999,9,-999,-999,9,-999,    35.1385,2,-999,9,20120412,       2336
33AT20120324,        A22,      68,          1,          9,          9,2,20120411,       2249,    15.5752,   -68.8948,       4011,  2019.5,   4.1328,  34.9737,2,  34.9748,2,    215.5,2,   215.3,2,   26.90,2,   22.11,2,    0.00,2,    1.50,2,   0.127,2,   0.052,2,    -999,5,    0.16,2,    -999,9,    -999,9,     -999,9,     -999,   0.050,2,   1.8459,2,    1.31,2,   4.1327,2,    -999,9,    -999,9,    -999,   8.058,2,   0.036,    -999,1,    -999,9,    -999,9,  15.5752, -68.8949,   0.009,   0.0074,    0.15,   3.9613,   4.1327,2,-999,9,-999,-999,9,-999,    35.1397,2,-999,9,20120412,       2332
33AT20120324,        A22,      68,          1,          8,          8,2,20120411,       2249,    15.5752,   -68.8948,       4011,  2271.8,   4.1183,  34.9743,2,  34.9743,2,    216.2,2,   215.9,2,   27.53,2,   22.06,2,    0.00,2,    1.50,2,   0.103,2,   0.039,2,   0.003,2,    0.12,2,    -999,9,    -999,9,     -999,9,     -999,    -999,9,     -999,9,    -999,9,   4.1184,2,    -999,9,    -999,9,    -999,    -999,9,    -999,    -999,1,    -999,9,    -999,9,  15.5751, -68.8949,    -999,     -999,    -999,   3.9216,   4.1184,2,-999,9,-999,-999,9,-999,    35.1392,2,-999,9,20120412,       2327
33AT20120324,        A22,      68,          1,          7,          7,2,20120411,       2249,    15.5752,   -68.8948,       4011,  2528.3,   4.1273,  34.9745,2,  34.9745,2,    216.1,2,   216.1,2,   27.92,2,   22.05,2,    0.00,2,    1.50,2,   0.103,2,   0.042,2,   0.004,2,    0.13,2,    -999,9,    -999,9,     -999,9,     -999,    -999,9,     -999,9,    -999,9,   4.1274,2,    -999,9,    -999,9,    -999,    -999,9,    -999,    -999,1,    -999,9,    -999,9,  15.5750, -68.8949,    -999,     -999,    -999,   3.9037,   4.1274,2,-999,9,-999,-999,9,-999,    35.1394,2,-999,9,20120412,       2322
33AT20120324,        A22,      68,          1,          6,          6,2,20120411,       2249,    15.5752,   -68.8948,       4011,  2781.8,   4.1444,  34.9746,2,  34.9746,2,    216.3,2,   216.3,2,   28.17,2,   22.00,2,    0.00,2,    1.49,2,   0.111,2,   0.045,2,   0.003,2,    0.11,2,  2196.3,2, 2337.53,2,   7.7095,2,       25,   0.002,2,   1.8485,2,    1.10,2,   4.1444,2,    -999,9,    -999,9,    -999,   8.117,2,   0.037,    -999,1,    -999,9,    -999,9,  15.5750, -68.8949,   0.009,   0.0074,    0.15,   3.8931,   4.1444,2,-999,9,-999,-999,9,-999,    35.1396,2,-999,9,20120412,       2317