BOTTLE,20220725CCHSIOCBG
EXPOCODE,SECT_ID,STNNBR,CASTNO,SAMPNO,BTLNBR,BTLNBR_FLAG_W,DATE,TIME,LATITUDE,LONGITUDE,DEPTH,CTDPRS,CTDTMP,CTDSAL,CTDSAL_FLAG_W,SALNTY,SALNTY_FLAG_W,CTDOXY,CTDOXY_FLAG_W,OXYGEN,OXYGEN_FLAG_W,SILCAT,SILCAT_FLAG_W,NITRAT,NITRAT_FLAG_W,NITRIT,NITRIT_FLAG_W,PHSPHT,PHSPHT_FLAG_W,CFC-11,CFC-11_FLAG_W,CFC-12,CFC-12_FLAG_W,CFC113,CFC113_FLAG_W,SF6,SF6_FLAG_W,TCARBN,TCARBN_FLAG_W,ALKALI,ALKALI_FLAG_W,PH_TOT,PH_TOT_FLAG_W,PH_TMP,TRITUM,TRITUM_FLAG_W,HELIUM,HELIUM_FLAG_W,DELHE3,DELHE3_FLAG_W,REFTMP,REFTMP_FLAG_W,DELC13,DELC13_FLAG_W,DELC14,DELC14_FLAG_W,C14ERR,NEON,NEON_FLAG_W,NEONER,CCL4,CCL4_FLAG_W,DOC,DOC_FLAG_W,TDN,TDN_FLAG_W,BTL_LAT,BTL_LON,TRITER,HELIER,DELHER,THETA,SBE35,SBE35_FLAG_W,14C-DOC,14C-DOC_FLAG_W,14C-DOCERR,13C-DOC,13C-DOC_FLAG_W,13C-DOCERR,SALTREF,SALTREF_FLAG_W,LAB_DEN,LAB_DEN_FLAG_W,BTL_DATE,BTL_TIME
,,,,,,,,,,,METERS,DBAR,ITS-90,PSS-78,,PSS-78,,UMOL/KG,,UMOL/KG,,UMOL/KG,,UMOL/KG,,UMOL/KG,,UMOL/KG,,PMOL/KG,,PMOL/KG,,PMOL/KG,,FMOL/KG,,UMOL/KG,,UMOL/KG,,,,DEG C,TU,,NMOL/KG,,PERCNT,,DEG C,,/MILLE,,/MILLE,,/MILLE,NMOL/KG,,NMOL/KG,PMOL/KG,,UMOL/KG,,UMOL/KG,,,,TU,NMOL/KG,PERCNT,DEG C,ITS-90,,/MILLE,,/MILLE,/MILLE,,/MILLE,G/KG,,KG/M^3,,,
33AT20120324,        A22,      75,          1,          5,          5,2,20120413,       1517,    13.3317,   -69.8560,       3086,  2289.4,   4.1064,  34.9741,2,  34.9741,2,    214.4,2,   214.5,2,   28.51,2,   22.09,2,    0.00,2,    1.51,2,   0.039,2,   0.032,2,   0.007,2,    0.00,4,    -999,9,    -999,9,     -999,9,     -999,    -999,9,     -999,9,    -999,9,   4.1065,2,    -999,9,    -999,9,    -999,    -999,9,    -999,    0.08,2,   40.55,2,   24.35,2,  13.3319, -69.8559,    -999,     -999,    -999,   3.9081,   4.1065,2,-999,9,-999,-999,9,-999,    35.1390,2,-999,9,20120413,       1534
33AT20120324,        A22,      75,          1,          4,          4,2,20120413,       1517,    13.3317,   -69.8560,       3086,  2491.4,   4.1189,  34.9741,2,  34.9742,2,    213.8,2,   214.3,2,   28.82,2,   22.14,2,    0.00,2,    1.51,2,   0.040,2,   0.039,2,   0.006,2,    0.53,4,    -999,9,    -999,9,   7.7087,6,       25,    -999,9,     -999,9,    -999,9,   4.1185,2,    -999,9,    -999,9,    -999,    -999,9,    -999,    0.09,2,   41.10,2,   24.37,2,  13.3318, -69.8559,    -999,     -999,    -999,   3.8994,   4.1185,2,-999,9,-999,-999,9,-999,    35.1392,2,-999,9,20120413,       1530
33AT20120324,        A22,      75,          1,          3,          3,2,20120413,       1517,    13.3317,   -69.8560,       3086,  2695.1,   4.1342,  34.9742,2,  34.9738,2,    213.5,2,   214.1,2,   29.17,2,   22.13,2,    0.00,2,    1.51,2,   0.039,2,   0.035,2,   0.005,2,    0.00,4,    -999,9,    -999,9,     -999,9,     -999,    -999,9,     -999,9,    -999,9,   4.1337,2,    -999,9,    -999,9,    -999,    -999,9,    -999,    0.09,2,   40.79,2,   24.51,2,  13.3318, -69.8560,    -999,     -999,    -999,   3.8926,   4.1337,2,-999,9,-999,-999,9,-999,    35.1388,2,-999,9,20120413,       1526
33AT20120324,        A22,      75,          1,          2,          2,2,20120413,       1517,    13.3317,   -69.8560,       3086,  2898.9,   4.1547,  34.9742,2,  34.9740,2,    213.9,2,   213.9,2,   29.29,2,   22.11,2,    0.00,2,    1.51,2,   0.045,2,   0.042,2,   0.006,2,    0.23,4,    -999,9,    -999,9,     -999,9,     -999,    -999,9,     -999,9,    -999,9,   4.1543,2,    -999,9,    -999,9,    -999,    -999,9,    -999,    0.09,2,   41.54,2,   24.53,2,  13.3318, -69.8560,    -999,     -999,    -999,   3.8903,   4.1543,2,-999,9,-999,-999,9,-999,    35.1390,2,-999,9,20120413,       1521
33AT20120324,        A22,      75,          1,          1,          1,2,20120413,       1517,    13.3317,   -69.8560,       3086,  3103.9,   4.1746,  34.9742,2,  34.9733,2,    214.5,2,   214.5,2,   29.14,2,   22.05,2,    0.00,2,    1.52,2,   0.049,2,   0.042,2,   0.008,2,    0.00,4,  2199.8,6, 2343.30,2,   7.7099,2,       25,    -999,9,     -999,9,    -999,9,   4.1742,2,    -999,9,    -999,9,    -999,    -999,9,    -999,    0.11,2,   40.23,2,   24.74,2,  13.3317, -69.8560,    -999,     -999,    -999,   3.8868,   4.1742,2,-999,9,-999,-999,9,-999,    35.1382,2,-999,9,20120413,       1517