BOTTLE,20220725CCHSIOCBG
EXPOCODE,SECT_ID,STNNBR,CASTNO,SAMPNO,BTLNBR,BTLNBR_FLAG_W,DATE,TIME,LATITUDE,LONGITUDE,DEPTH,CTDPRS,CTDTMP,CTDSAL,CTDSAL_FLAG_W,SALNTY,SALNTY_FLAG_W,CTDOXY,CTDOXY_FLAG_W,OXYGEN,OXYGEN_FLAG_W,SILCAT,SILCAT_FLAG_W,NITRAT,NITRAT_FLAG_W,NITRIT,NITRIT_FLAG_W,PHSPHT,PHSPHT_FLAG_W,CFC-11,CFC-11_FLAG_W,CFC-12,CFC-12_FLAG_W,CFC113,CFC113_FLAG_W,SF6,SF6_FLAG_W,TCARBN,TCARBN_FLAG_W,ALKALI,ALKALI_FLAG_W,PH_TOT,PH_TOT_FLAG_W,PH_TMP,TRITUM,TRITUM_FLAG_W,HELIUM,HELIUM_FLAG_W,DELHE3,DELHE3_FLAG_W,REFTMP,REFTMP_FLAG_W,DELC13,DELC13_FLAG_W,DELC14,DELC14_FLAG_W,C14ERR,NEON,NEON_FLAG_W,NEONER,CCL4,CCL4_FLAG_W,DOC,DOC_FLAG_W,TDN,TDN_FLAG_W,BTL_LAT,BTL_LON,TRITER,HELIER,DELHER,THETA,SBE35,SBE35_FLAG_W,14C-DOC,14C-DOC_FLAG_W,14C-DOCERR,13C-DOC,13C-DOC_FLAG_W,13C-DOCERR,SALTREF,SALTREF_FLAG_W,LAB_DEN,LAB_DEN_FLAG_W,BTL_DATE,BTL_TIME
,,,,,,,,,,,METERS,DBAR,ITS-90,PSS-78,,PSS-78,,UMOL/KG,,UMOL/KG,,UMOL/KG,,UMOL/KG,,UMOL/KG,,UMOL/KG,,PMOL/KG,,PMOL/KG,,PMOL/KG,,FMOL/KG,,UMOL/KG,,UMOL/KG,,,,DEG C,TU,,NMOL/KG,,PERCNT,,DEG C,,/MILLE,,/MILLE,,/MILLE,NMOL/KG,,NMOL/KG,PMOL/KG,,UMOL/KG,,UMOL/KG,,,,TU,NMOL/KG,PERCNT,DEG C,ITS-90,,/MILLE,,/MILLE,/MILLE,,/MILLE,G/KG,,KG/M^3,,,
33AT20120324,        A22,      35,          1,          5,          5,2,20120404,       0336,    26.4217,   -65.6180,       5105,  3959.3,   2.3597,  34.9006,2,  34.8999,2,    264.9,2,   264.9,2,   29.52,2,   18.76,2,    0.00,2,    1.28,2,   0.380,2,   0.207,2,   0.022,2,    0.03,4,    -999,9,    -999,9,     -999,9,     -999,    -999,9,     -999,9,    -999,9,   2.3606,2,    -999,9,    -999,9,    -999,    -999,9,    -999,    0.65,2,   42.04,2,   20.89,2,  26.4222, -65.6177,    -999,     -999,    -999,   2.0199,   2.3606,2,-999,9,-999,-999,9,-999,    35.0645,2,-999,1,20120404,        421
33AT20120324,        A22,      35,          1,          4,          4,2,20120404,       0336,    26.4217,   -65.6180,       5105,  4267.5,   2.3000,  34.8931,2,  34.8926,2,    264.2,2,   263.7,2,   31.80,2,   18.93,2,    0.00,2,    1.29,2,   0.405,2,   0.213,2,   0.026,2,    0.05,4,  2172.6,2, 2327.27,2,   7.7419,2,       25,    -999,9,     -999,9,    -999,9,   2.3003,2,    -999,9,    -999,9,    -999,    -999,9,    -999,    0.70,2,   41.87,2,   22.57,2,  26.4222, -65.6178,    -999,     -999,    -999,   1.9264,   2.3003,2,-999,9,-999,-999,9,-999,    35.0571,2,-999,1,20120404,        413
33AT20120324,        A22,      35,          1,          3,          3,2,20120404,       0336,    26.4217,   -65.6180,       5105,  4573.8,   2.2298,  34.8822,2,  34.8818,2,    260.3,2,   260.0,2,   37.53,2,   19.84,2,    0.00,2,    1.36,2,   0.324,2,   0.175,2,   0.023,2,    0.00,4,  2180.7,2, 2333.95,2,   7.7372,2,       25,    -999,9,     -999,9,    -999,9,   2.2302,2,    -999,9,    -999,9,    -999,    -999,9,    -999,    0.59,2,   41.98,2,   22.95,2,  26.4221, -65.6178,    -999,     -999,    -999,   1.8220,   2.2302,2,-999,9,-999,-999,9,-999,    35.0463,2,-999,1,20120404,        402
33AT20120324,        A22,      35,          1,          2,          2,2,20120404,       0336,    26.4217,   -65.6180,       5105,  4882.0,   2.1803,  34.8713,2,  34.8715,2,    255.9,2,   256.5,2,   42.48,2,   20.56,2,    0.00,2,    1.42,2,   0.246,2,   0.142,2,   0.017,2,    0.00,4,  2188.5,2, 2338.02,6,   7.7323,6,       25,    -999,9,     -999,9,    -999,9,   2.1800,2,    -999,9,    -999,9,    -999,    -999,9,    -999,    0.45,2,   42.36,2,   23.02,2,  26.4220, -65.6179,    -999,     -999,    -999,   1.7364,   2.1800,2,-999,9,-999,-999,9,-999,    35.0360,2,-999,1,20120404,        348
33AT20120324,        A22,      35,          1,          1,          1,2,20120404,       0336,    26.4217,   -65.6180,       5105,  5176.6,   2.1643,  34.8646,2,  34.8650,2,    253.8,2,   254.0,2,   46.07,2,   21.16,2,    0.00,2,    1.45,2,   0.192,2,   0.114,2,   0.016,2,    0.06,4,  2192.3,6, 2354.17,3,   7.7326,2,       25,    -999,9,     -999,9,    -999,9,   2.1645,2,    -999,9,    -999,9,    -999,    -999,9,    -999,    0.39,2,   42.11,2,   23.64,2,  26.4217, -65.6180,    -999,     -999,    -999,   1.6839,   2.1645,2,-999,9,-999,-999,9,-999,    35.0295,2,-999,1,20120404,        337