BOTTLE,20220725CCHSIOCBG
EXPOCODE,SECT_ID,STNNBR,CASTNO,SAMPNO,BTLNBR,BTLNBR_FLAG_W,DATE,TIME,LATITUDE,LONGITUDE,DEPTH,CTDPRS,CTDTMP,CTDSAL,CTDSAL_FLAG_W,SALNTY,SALNTY_FLAG_W,CTDOXY,CTDOXY_FLAG_W,OXYGEN,OXYGEN_FLAG_W,SILCAT,SILCAT_FLAG_W,NITRAT,NITRAT_FLAG_W,NITRIT,NITRIT_FLAG_W,PHSPHT,PHSPHT_FLAG_W,CFC-11,CFC-11_FLAG_W,CFC-12,CFC-12_FLAG_W,CFC113,CFC113_FLAG_W,SF6,SF6_FLAG_W,TCARBN,TCARBN_FLAG_W,ALKALI,ALKALI_FLAG_W,PH_TOT,PH_TOT_FLAG_W,PH_TMP,TRITUM,TRITUM_FLAG_W,HELIUM,HELIUM_FLAG_W,DELHE3,DELHE3_FLAG_W,REFTMP,REFTMP_FLAG_W,DELC13,DELC13_FLAG_W,DELC14,DELC14_FLAG_W,C14ERR,NEON,NEON_FLAG_W,NEONER,CCL4,CCL4_FLAG_W,DOC,DOC_FLAG_W,TDN,TDN_FLAG_W,BTL_LAT,BTL_LON,TRITER,HELIER,DELHER,THETA,SBE35,SBE35_FLAG_W,14C-DOC,14C-DOC_FLAG_W,14C-DOCERR,13C-DOC,13C-DOC_FLAG_W,13C-DOCERR,SALTREF,SALTREF_FLAG_W,LAB_DEN,LAB_DEN_FLAG_W,BTL_DATE,BTL_TIME
,,,,,,,,,,,METERS,DBAR,ITS-90,PSS-78,,PSS-78,,UMOL/KG,,UMOL/KG,,UMOL/KG,,UMOL/KG,,UMOL/KG,,UMOL/KG,,PMOL/KG,,PMOL/KG,,PMOL/KG,,FMOL/KG,,UMOL/KG,,UMOL/KG,,,,DEG C,TU,,NMOL/KG,,PERCNT,,DEG C,,/MILLE,,/MILLE,,/MILLE,NMOL/KG,,NMOL/KG,PMOL/KG,,UMOL/KG,,UMOL/KG,,,,TU,NMOL/KG,PERCNT,DEG C,ITS-90,,/MILLE,,/MILLE,/MILLE,,/MILLE,G/KG,,KG/M^3,,,
33AT20120324,        A22,      56,          1,         36,         36,2,20120409,       1100,    17.9571,   -65.1337,       4509,     3.3,  26.8193,  36.0871,2,  36.0873,2,    202.3,2,   202.4,2,    1.13,2,    0.00,2,    0.00,2,    0.00,2,   1.632,2,   1.064,2,   0.134,2,    1.19,2,  2013.0,6, 2366.51,2,   8.1090,2,       25,    -999,9,     -999,9,    -999,9,  26.8202,2,    -999,9,    -999,9,    -999,    -999,9,    -999,    -999,1,   74.75,2,    5.13,2,  17.9622, -65.1349,    -999,     -999,    -999,  26.8185,  26.8202,2,-999,9,-999,-999,9,-999,    36.2574,2,-999,9,20120409,       1249
33AT20120324,        A22,      56,          1,         35,         35,2,20120409,       1100,    17.9571,   -65.1337,       4509,    27.8,  26.5492,  36.0792,2,  36.0804,2,    204.5,2,   203.4,2,    1.11,2,    0.00,2,    0.00,2,    0.00,2,   1.650,2,   1.068,2,   0.138,2,    1.14,2,  2012.3,2, 2365.34,2,   8.1104,6,       25,    -999,9,     -999,9,    -999,9,  26.5475,2,    -999,9,    -999,9,    -999,    -999,9,    -999,    -999,1,   74.21,2,    4.82,2,  17.9618, -65.1348,    -999,     -999,    -999,  26.5429,  26.5475,2,-999,9,-999,-999,9,-999,    36.2505,2,-999,9,20120409,       1247
33AT20120324,        A22,      56,          1,         34,         34,2,20120409,       1100,    17.9571,   -65.1337,       4509,    53.0,  26.0648,  36.1312,2,  36.1306,2,    205.8,2,   205.2,2,    1.06,2,    0.00,2,    0.00,2,    0.00,2,   1.669,2,   1.083,2,   0.140,2,    1.20,2,  2011.4,2, 2368.81,6,   8.1163,2,       25,    -999,9,     -999,9,    -999,9,  26.0652,2,    -999,9,    -999,9,    -999,    -999,9,    -999,    -999,1,   74.23,2,    4.00,2,  17.9615, -65.1347,    -999,     -999,    -999,  26.0529,  26.0652,2,-999,9,-999,-999,9,-999,    36.3010,2,-999,9,20120409,       1245
33AT20120324,        A22,      56,          1,         33,         33,2,20120409,       1100,    17.9571,   -65.1337,       4509,    79.2,  25.9758,  36.1452,2,  36.1482,2,    204.0,2,   204.1,2,    1.06,2,    0.00,2,    0.00,2,    0.00,2,   1.666,2,   1.081,2,   0.133,2,    1.17,2,  2012.9,2, 2371.69,2,   8.1148,2,       25,    -999,9,     -999,9,    -999,9,  25.9761,2,    -999,9,    -999,9,    -999,    -999,9,    -999,    -999,1,   73.56,2,    5.30,2,  17.9612, -65.1346,    -999,     -999,    -999,  25.9581,  25.9761,2,-999,9,-999,-999,9,-999,    36.3187,2,-999,9,20120409,       1243
33AT20120324,        A22,      56,          1,         32,         32,2,20120409,       1100,    17.9571,   -65.1337,       4509,    99.9,  25.7603,  36.6074,2,  36.6247,2,    199.3,2,   196.7,2,    0.64,2,    0.01,2,    0.00,2,    0.00,2,   1.722,2,   1.108,2,   0.134,2,    1.11,2,  2050.2,2, 2398.45,2,   8.0925,2,       25,    -999,9,     -999,9,    -999,9,  25.7544,2,    -999,9,    -999,9,    -999,    -999,9,    -999,    -999,1,   71.39,2,    4.72,2,  17.9611, -65.1346,    -999,     -999,    -999,  25.7380,  25.7544,2,-999,9,-999,-999,9,-999,    36.7974,2,-999,9,20120409,       1242
33AT20120324,        A22,      56,          1,         31,         31,2,20120409,       1100,    17.9571,   -65.1337,       4509,   126.2,  24.7126,  37.0169,2,  37.0296,2,    182.3,2,   182.6,2,    0.43,2,    0.65,2,    0.07,2,    0.02,2,   1.800,2,   1.153,2,   0.109,2,    1.16,2,  2093.9,2, 2426.34,2,   8.0526,2,       25,    -999,9,     -999,9,    -999,9,  24.7108,2,    -999,9,    -999,9,    -999,    -999,9,    -999,    -999,1,   64.78,2,    5.23,2,  17.9609, -65.1346,    -999,     -999,    -999,  24.6852,  24.7108,2,-999,9,-999,-999,9,-999,    37.2042,2,-999,9,20120409,       1240
33AT20120324,        A22,      56,          1,         30,         30,2,20120409,       1100,    17.9571,   -65.1337,       4509,   150.6,  23.6948,  37.1050,2,  37.1013,2,    176.3,2,   175.5,2,    0.45,2,    1.31,2,    0.04,2,    0.04,2,   1.869,2,   1.193,2,   0.101,2,    1.14,2,  2112.4,2, 2425.97,2,   8.0271,2,       25,    -999,9,     -999,9,    -999,9,  23.6994,2,    -999,9,    -999,9,    -999,    -999,9,    -999,    -999,1,   62.03,2,    6.69,2,  17.9608, -65.1346,    -999,     -999,    -999,  23.6631,  23.6994,2,-999,9,-999,-999,9,-999,    37.2762,2,-999,9,20120409,       1238
33AT20120324,        A22,      56,          1,         29,         29,2,20120409,       1100,    17.9571,   -65.1337,       4509,   201.5,  20.1742,  36.8057,2,  36.8003,2,    156.7,2,   157.8,2,    1.30,2,    5.46,2,    0.01,2,    0.26,2,   2.085,2,   1.301,2,   0.025,2,    1.12,2,  2146.4,2, 2405.78,2,   7.9366,6,       25,    -999,9,     -999,9,    -999,9,  20.1741,2,    -999,9,    -999,9,    -999,    -999,9,    -999,    -999,1,   56.82,2,    9.31,2,  17.9606, -65.1345,    -999,     -999,    -999,  20.1363,  20.1741,2,-999,9,-999,-999,9,-999,    36.9738,2,-999,9,20120409,       1236
33AT20120324,        A22,      56,          1,         28,         28,2,20120409,       1100,    17.9571,   -65.1337,       4509,   251.2,  17.9879,  36.5147,2,  36.5124,2,    167.4,2,   173.3,2,    1.73,2,    6.97,2,    0.01,2,    0.36,2,   2.253,2,   1.369,2,   0.012,2,    1.05,2,  2138.6,2, 2387.86,2,   7.9276,2,       25,    -999,9,     -999,9,    -999,9,  17.9799,2,    -999,9,    -999,9,    -999,    -999,9,    -999,    -999,1,   54.36,2,   10.93,2,  17.9604, -65.1345,    -999,     -999,    -999,  17.9443,  17.9799,2,-999,9,-999,-999,9,-999,    36.6846,2,-999,9,20120409,       1234
33AT20120324,        A22,      56,          1,         27,         27,2,20120409,       1100,    17.9571,   -65.1337,       4509,   299.7,  16.6722,  36.2900,2,  36.2848,2,    168.9,2,   168.1,2,    2.68,2,    9.75,2,    0.01,2,    0.55,2,   2.282,2,   1.337,2,   0.019,2,    0.99,2,  2147.8,2, 2374.86,2,   7.8906,2,       25,    -999,9,     -999,9,    -999,9,  16.6732,2,    -999,9,    -999,9,    -999,    -999,9,    -999,    -999,1,   51.16,2,   13.78,2,  17.9603, -65.1345,    -999,     -999,    -999,  16.6228,  16.6732,2,-999,9,-999,-999,9,-999,    36.4559,2,-999,9,20120409,       1233
33AT20120324,        A22,      56,          1,         26,         26,2,20120409,       1100,    17.9571,   -65.1337,       4509,   351.4,  15.4216,  36.0542,2,  36.0452,2,    152.1,2,   153.3,2,    4.27,2,   13.25,2,    0.01,2,    0.78,2,   2.218,2,   1.282,2,   0.017,2,    0.87,2,  2160.9,2, 2361.09,2,   7.8400,2,       25,    -999,9,     -999,9,    -999,9,  15.4168,2,    -999,9,    -999,9,    -999,    -999,9,    -999,    -999,1,   49.11,2,   16.42,2,  17.9602, -65.1344,    -999,     -999,    -999,  15.3667,  15.4168,2,-999,9,-999,-999,9,-999,    36.2152,2,-999,9,20120409,       1231
33AT20120324,        A22,      56,          1,         25,         25,2,20120409,       1100,    17.9571,   -65.1337,       4509,   402.6,  14.1800,  35.8238,2,  35.8288,2,     -999,9,    -999,5,    5.88,2,   16.34,2,    0.00,2,    0.98,2,   2.125,2,    -999,5,   0.024,2,    0.55,2,  2172.7,2, 2350.03,2,   7.7936,2,       25,    -999,9,     -999,9,    -999,9,  14.1837,2,    -999,9,    -999,9,    -999,    -999,9,    -999,    -999,1,   47.96,2,   20.06,2,  17.9601, -65.1344,    -999,     -999,    -999,  14.1205,  14.1837,2,-999,9,-999,-999,9,-999,    35.9978,2,-999,9,20120409,       1230
33AT20120324,        A22,      56,          1,         24,         24,2,20120409,       1100,    17.9571,   -65.1337,       4509,   448.1,  12.5130,  35.5198,2,  35.5144,2,    129.1,2,   130.9,2,    8.61,2,   20.71,2,    0.00,2,    1.30,2,   1.861,2,    -999,5,   0.012,2,    0.50,2,  2187.8,2, 2334.39,2,   7.7269,2,       25,    -999,9,     -999,9,    -999,9,  12.5149,2,    -999,9,    -999,9,    -999,    -999,9,    -999,    -999,1,   46.73,2,   24.11,2,  17.9599, -65.1344,    -999,     -999,    -999,  12.4520,  12.5149,2,-999,9,-999,-999,9,-999,    35.6818,2,-999,9,20120409,       1228
33AT20120324,        A22,      56,          1,         23,         23,2,20120409,       1100,    17.9571,   -65.1337,       4509,   503.2,  10.9436,  35.2721,2,  35.2729,2,    124.0,2,   123.9,2,   11.36,2,   24.26,2,    0.00,2,    1.53,2,   1.600,2,    -999,5,   0.020,2,    0.42,2,  2197.2,2, 2324.56,2,   7.6763,2,       25,    -999,9,     -999,9,    -999,9,  10.9408,2,    -999,9,    -999,9,    -999,    -999,9,    -999,    -999,1,   45.69,2,   27.62,2,  17.9598, -65.1343,    -999,     -999,    -999,  10.8807,  10.9408,2,-999,9,-999,-999,9,-999,    35.4392,2,-999,9,20120409,       1226
33AT20120324,        A22,      56,          1,         22,         22,2,20120409,       1100,    17.9571,   -65.1337,       4509,   604.0,   9.2151,  35.0415,2,  35.0385,2,    122.7,2,   121.6,2,   15.28,2,   27.94,2,    0.00,2,    1.79,2,   1.159,2,   0.605,2,   0.011,2,    0.32,2,  2205.9,2, 2315.11,2,   7.6267,6,       25,    -999,9,     -999,9,    -999,9,   9.2174,2,    -999,9,    -999,9,    -999,    -999,9,    -999,    -999,1,   44.52,2,   31.52,2,  17.9597, -65.1343,    -999,     -999,    -999,   9.1469,   9.2174,2,-999,9,-999,-999,9,-999,    35.2038,2,-999,9,20120409,       1224
33AT20120324,        A22,      56,          1,         21,         21,2,20120409,       1100,    17.9571,   -65.1337,       4509,   704.4,   7.9219,  34.9061,2,  34.9055,2,    126.3,2,   125.4,2,   18.71,2,   29.90,2,    0.00,2,    1.94,2,   0.793,2,   0.395,2,   0.013,2,    0.23,2,  2209.6,6, 2312.04,2,   7.6022,2,       25,    -999,9,     -999,9,    -999,9,   7.9369,2,    -999,9,    -999,9,    -999,    -999,9,    -999,    -999,1,   43.29,2,   32.98,2,  17.9595, -65.1343,    -999,     -999,    -999,   7.8488,   7.9369,2,-999,9,-999,-999,9,-999,    35.0701,2,-999,9,20120409,       1222
33AT20120324,        A22,      56,          1,         20,         20,2,20120409,       1100,    17.9571,   -65.1337,       4509,   805.1,   6.6168,  34.8145,2,  34.8127,2,    134.1,2,   134.9,2,   22.51,2,   30.96,2,    0.00,2,    2.05,2,   0.423,2,   0.206,2,   0.009,2,    0.13,2,  2214.6,2, 2311.21,2,   7.5910,2,       25,    -999,9,     -999,9,    -999,9,   6.6173,2,    -999,9,    -999,9,    -999,    -999,9,    -999,    -999,1,   42.33,2,   34.02,2,  17.9594, -65.1342,    -999,     -999,    -999,   6.5406,   6.6173,2,-999,9,-999,-999,9,-999,    34.9768,2,-999,9,20120409,       1219
33AT20120324,        A22,      56,          1,         19,         19,2,20120409,       1100,    17.9571,   -65.1337,       4509,   906.0,   6.0707,  34.8556,2,  34.8569,2,    150.7,2,   149.7,2,   23.03,2,   29.24,2,    0.00,2,    1.95,2,   0.319,2,   0.151,2,   0.005,2,    0.09,2,  2210.8,2, 2315.68,2,   7.6149,2,       25,    -999,9,     -999,9,    -999,9,   6.0713,2,    -999,9,    -999,9,    -999,    -999,9,    -999,    -999,1,   41.65,2,   31.79,2,  17.9592, -65.1342,    -999,     -999,    -999,   5.9880,   6.0713,2,-999,9,-999,-999,9,-999,    35.0213,2,-999,9,20120409,       1217
33AT20120324,        A22,      56,          1,         18,         18,2,20120409,       1100,    17.9571,   -65.1337,       4509,  1006.9,   5.5516,  34.9185,2,  34.9191,2,    172.7,2,   171.5,2,   23.13,2,   26.52,2,    0.00,2,    1.79,2,   0.280,2,   0.135,2,   0.009,2,    0.09,2,  2203.8,2, 2322.38,2,   7.6491,2,       25,    -999,9,     -999,9,    -999,9,   5.5509,2,    -999,9,    -999,9,    -999,    -999,9,    -999,    -999,1,   41.05,2,   30.01,2,  17.9591, -65.1342,    -999,     -999,    -999,   5.4628,   5.5509,2,-999,9,-999,-999,9,-999,    35.0838,2,-999,9,20120409,       1214
33AT20120324,        A22,      56,          1,         17,         17,2,20120409,       1100,    17.9571,   -65.1337,       4509,  1108.4,   5.0317,  34.9483,2,  34.9484,2,    188.5,2,   189.3,2,   23.45,2,   24.64,2,    0.00,2,    1.68,2,   0.238,2,   0.116,2,   0.006,2,    0.07,2,  2199.6,2, 2326.26,2,   7.6728,2,       25,    -999,9,     -999,9,    -999,9,   5.0325,2,    -999,9,    -999,9,    -999,    -999,9,    -999,    -999,1,   41.58,2,   27.61,2,  17.9590, -65.1342,    -999,     -999,    -999,   4.9374,   5.0325,2,-999,9,-999,-999,9,-999,    35.1132,2,-999,9,20120409,       1212
33AT20120324,        A22,      56,          1,         16,         16,2,20120409,       1100,    17.9571,   -65.1337,       4509,  1185.3,   4.8174,  34.9615,2,  34.9616,2,    195.6,2,   198.2,2,   23.17,2,   23.68,2,    0.00,2,    1.61,2,   0.309,2,   0.141,2,   0.014,2,    0.12,2,  2198.2,2, 2327.53,2,   7.6831,2,       25,    -999,9,     -999,9,    -999,9,   4.8174,2,    -999,9,    -999,9,    -999,    -999,9,    -999,    -999,1,   41.16,2,   26.58,2,  17.9590, -65.1342,    -999,     -999,    -999,   4.7178,   4.8174,2,-999,9,-999,-999,9,-999,    35.1265,2,-999,9,20120409,       1210
33AT20120324,        A22,      56,          1,         15,         15,2,20120409,       1100,    17.9571,   -65.1337,       4509,  1309.5,   4.5204,  34.9651,2,  34.9654,2,    204.2,2,   204.3,2,   24.39,2,   23.12,2,    0.00,2,    1.58,2,   0.201,2,   0.097,2,   0.007,2,    0.08,2,  2196.1,2, 2332.71,2,   7.6909,2,       25,    -999,9,     -999,9,    -999,9,   4.5203,2,    -999,9,    -999,9,    -999,    -999,9,    -999,    -999,1,   41.36,2,   25.96,2,  17.9589, -65.1341,    -999,     -999,    -999,   4.4121,   4.5203,2,-999,9,-999,-999,9,-999,    35.1303,2,-999,9,20120409,       1207
33AT20120324,        A22,      56,          1,         14,         14,2,20120409,       1100,    17.9571,   -65.1337,       4509,  1412.0,   4.3496,  34.9690,2,  34.9689,2,    209.2,2,   208.8,2,   25.13,2,   22.67,2,    0.00,2,    1.55,2,   0.206,2,   0.102,2,   0.010,2,    0.09,2,  2195.2,2, 2334.75,2,   7.6972,2,       25,    -999,9,     -999,9,    -999,9,   4.3496,2,    -999,9,    -999,9,    -999,    -999,9,    -999,    -999,1,   41.27,2,   24.94,2,  17.9588, -65.1341,    -999,     -999,    -999,   4.2336,   4.3496,2,-999,9,-999,-999,9,-999,    35.1338,2,-999,9,20120409,       1204
33AT20120324,        A22,      56,          1,         13,         13,2,20120409,       1100,    17.9571,   -65.1337,       4509,  1512.7,   4.2083,  34.9732,2,  34.9731,2,    215.7,2,   217.6,2,   24.32,2,   21.84,2,    0.00,2,    1.49,2,   0.376,2,   0.176,2,   0.022,2,    0.15,2,  2192.2,6, 2330.74,2,   7.7060,2,       25,    -999,9,     -999,9,    -999,9,   4.2083,2,    -999,9,    -999,9,    -999,    -999,9,    -999,    -999,1,   41.45,2,   24.17,2,  17.9587, -65.1341,    -999,     -999,    -999,   4.0845,   4.2083,2,-999,9,-999,-999,9,-999,    35.1380,2,-999,9,20120409,       1202
33AT20120324,        A22,      56,          1,         12,         12,2,20120409,       1100,    17.9571,   -65.1337,       4509,  1614.4,   4.0595,  34.9775,2,  34.9774,2,    231.4,2,   238.3,2,   18.81,2,   19.84,2,    0.00,2,    1.36,2,   0.978,2,    -999,5,   0.042,2,    0.18,2,  2177.2,2, 2319.84,2,   7.7208,2,       25,    -999,9,     -999,9,    -999,9,   4.0594,2,    -999,9,    -999,9,    -999,    -999,9,    -999,    -999,1,   41.03,2,   22.56,2,  17.9586, -65.1341,    -999,     -999,    -999,   3.9280,   4.0594,2,-999,9,-999,-999,9,-999,    35.1423,2,-999,9,20120409,       1200
33AT20120324,        A22,      56,          1,         11,         11,2,20120409,       1100,    17.9571,   -65.1337,       4509,  1817.6,   3.8769,  34.9756,2,  34.9758,2,    254.8,2,   255.2,2,   14.94,2,   18.34,2,    0.00,2,    1.24,2,   1.363,2,   0.682,2,   0.059,2,    0.28,2,  2166.3,2, 2314.42,2,   7.7314,2,       25,    -999,9,     -999,9,    -999,9,   3.8772,2,    -999,9,    -999,9,    -999,    -999,9,    -999,    -999,1,   41.15,2,   20.88,2,  17.9584, -65.1340,    -999,     -999,    -999,   3.7287,   3.8772,2,-999,9,-999,-999,9,-999,    35.1408,2,-999,9,20120409,       1155
33AT20120324,        A22,      56,          1,         10,         10,2,20120409,       1100,    17.9571,   -65.1337,       4509,  2020.0,   3.8255,  34.9736,2,  34.9737,2,    257.7,2,   257.5,2,   14.66,2,   18.14,2,    0.00,2,    1.23,2,   1.346,2,   0.661,2,   0.060,2,    0.30,2,  2164.8,2, 2312.11,2,   7.7343,2,       25,    -999,9,     -999,9,    -999,9,   3.8255,2,    -999,9,    -999,9,    -999,    -999,9,    -999,    -999,1,   40.61,2,   20.78,2,  17.9582, -65.1340,    -999,     -999,    -999,   3.6586,   3.8255,2,-999,9,-999,-999,9,-999,    35.1386,2,-999,9,20120409,       1151
33AT20120324,        A22,      56,          1,          9,          9,2,20120409,       1100,    17.9571,   -65.1337,       4509,  2274.2,   3.8140,  34.9729,2,  34.9731,2,    258.7,2,   258.4,2,   14.71,2,   18.09,2,    0.00,2,    1.22,2,   1.254,2,   0.621,2,   0.057,2,    0.40,2,  2163.5,2, 2313.94,2,   7.7365,2,       25,    -999,9,     -999,9,    -999,9,   3.8141,2,    -999,9,    -999,9,    -999,    -999,9,    -999,    -999,1,   40.39,2,   20.19,2,  17.9578, -65.1339,    -999,     -999,    -999,   3.6221,   3.8141,2,-999,9,-999,-999,9,-999,    35.1380,2,-999,9,20120409,       1146
33AT20120324,        A22,      56,          1,          8,          8,2,20120409,       1100,    17.9571,   -65.1337,       4509,  2528.2,   3.8311,  34.9736,2,  34.9736,2,    258.7,2,   259.2,2,   14.86,2,   18.15,2,    0.00,2,    1.22,2,   1.153,2,   0.574,2,   0.060,2,    0.49,2,  2162.9,2, 2314.56,2,   7.7367,2,       25,    -999,9,     -999,9,    -999,9,   3.8313,2,    -999,9,    -999,9,    -999,    -999,9,    -999,    -999,1,   40.44,2,   20.87,2,  17.9576, -65.1338,    -999,     -999,    -999,   3.6129,   3.8313,2,-999,9,-999,-999,9,-999,    35.1385,2,-999,9,20120409,       1140
33AT20120324,        A22,      56,          1,          7,          7,2,20120409,       1100,    17.9571,   -65.1337,       4509,  2783.0,   3.8540,  34.9741,2,  34.9744,2,    258.6,2,   258.5,2,   14.87,2,   18.13,2,    0.00,2,    1.23,2,   1.054,2,   0.528,2,   0.058,2,    0.55,2,  2163.3,2, 2315.01,2,   7.7388,2,       25,    -999,9,     -999,9,    -999,9,   3.8543,2,    -999,9,    -999,9,    -999,    -999,9,    -999,    -999,1,   39.78,2,   21.25,2,  17.9575, -65.1338,    -999,     -999,    -999,   3.6084,   3.8543,2,-999,9,-999,-999,9,-999,    35.1393,2,-999,9,20120409,       1135
33AT20120324,        A22,      56,          1,          6,          6,2,20120409,       1100,    17.9571,   -65.1337,       4509,  3037.3,   3.8807,  34.9745,2,  34.9746,2,    258.7,2,   258.5,2,   14.93,2,   18.13,2,    0.00,2,    1.23,2,   1.024,2,   0.506,2,   0.054,2,    0.62,2,  2163.5,2, 2314.97,2,   7.7401,2,       25,    -999,9,     -999,9,    -999,9,   3.8810,2,    -999,9,    -999,9,    -999,    -999,9,    -999,    -999,1,   40.64,2,   21.61,2,  17.9576, -65.1338,    -999,     -999,    -999,   3.6067,   3.8810,2,-999,9,-999,-999,9,-999,    35.1395,2,-999,9,20120409,       1130