BOTTLE,20220725CCHSIOCBG
EXPOCODE,SECT_ID,STNNBR,CASTNO,SAMPNO,BTLNBR,BTLNBR_FLAG_W,DATE,TIME,LATITUDE,LONGITUDE,DEPTH,CTDPRS,CTDTMP,CTDSAL,CTDSAL_FLAG_W,SALNTY,SALNTY_FLAG_W,CTDOXY,CTDOXY_FLAG_W,OXYGEN,OXYGEN_FLAG_W,SILCAT,SILCAT_FLAG_W,NITRAT,NITRAT_FLAG_W,NITRIT,NITRIT_FLAG_W,PHSPHT,PHSPHT_FLAG_W,CFC-11,CFC-11_FLAG_W,CFC-12,CFC-12_FLAG_W,CFC113,CFC113_FLAG_W,SF6,SF6_FLAG_W,TCARBN,TCARBN_FLAG_W,ALKALI,ALKALI_FLAG_W,PH_TOT,PH_TOT_FLAG_W,PH_TMP,TRITUM,TRITUM_FLAG_W,HELIUM,HELIUM_FLAG_W,DELHE3,DELHE3_FLAG_W,REFTMP,REFTMP_FLAG_W,DELC13,DELC13_FLAG_W,DELC14,DELC14_FLAG_W,C14ERR,NEON,NEON_FLAG_W,NEONER,CCL4,CCL4_FLAG_W,DOC,DOC_FLAG_W,TDN,TDN_FLAG_W,BTL_LAT,BTL_LON,TRITER,HELIER,DELHER,THETA,SBE35,SBE35_FLAG_W,14C-DOC,14C-DOC_FLAG_W,14C-DOCERR,13C-DOC,13C-DOC_FLAG_W,13C-DOCERR,SALTREF,SALTREF_FLAG_W,LAB_DEN,LAB_DEN_FLAG_W,BTL_DATE,BTL_TIME
,,,,,,,,,,,METERS,DBAR,ITS-90,PSS-78,,PSS-78,,UMOL/KG,,UMOL/KG,,UMOL/KG,,UMOL/KG,,UMOL/KG,,UMOL/KG,,PMOL/KG,,PMOL/KG,,PMOL/KG,,FMOL/KG,,UMOL/KG,,UMOL/KG,,,,DEG C,TU,,NMOL/KG,,PERCNT,,DEG C,,/MILLE,,/MILLE,,/MILLE,NMOL/KG,,NMOL/KG,PMOL/KG,,UMOL/KG,,UMOL/KG,,,,TU,NMOL/KG,PERCNT,DEG C,ITS-90,,/MILLE,,/MILLE,/MILLE,,/MILLE,G/KG,,KG/M^3,,,
33AT20120324,        A22,      69,          1,          5,          5,2,20120412,       0611,    15.2015,   -69.5115,       3886,  2893.7,   4.1508,  34.9744,2,  34.9752,2,    215.7,2,   215.5,2,   28.33,2,   22.03,2,    0.00,2,    1.51,2,   0.058,2,   0.047,2,   0.006,2,    0.00,4,    -999,9,    -999,9,     -999,9,     -999,    -999,9,     -999,9,    -999,9,   4.1507,2,    -999,9,    -999,9,    -999,    -999,9,    -999,    0.10,2,   40.38,2,   24.59,2,  15.2019, -69.5115,    -999,     -999,    -999,   3.8871,   4.1507,2,-999,9,-999,-999,9,-999,    35.1401,2,-999,9,20120412,        633
33AT20120324,        A22,      69,          1,          4,          4,2,20120412,       0611,    15.2015,   -69.5115,       3886,  3137.6,   4.1751,  34.9746,2,  34.9746,2,    215.8,2,   215.6,2,   28.34,2,   21.88,2,    0.00,2,    1.51,2,   0.061,2,   0.049,2,   0.003,2,    0.00,4,    -999,9,    -999,9,     -999,9,     -999,    -999,9,     -999,9,    -999,9,   4.1751,2,    -999,9,    -999,9,    -999,    -999,9,    -999,    0.09,2,   39.85,2,   24.41,2,  15.2019, -69.5115,    -999,     -999,    -999,   3.8834,   4.1751,2,-999,9,-999,-999,9,-999,    35.1395,2,-999,9,20120412,        628
33AT20120324,        A22,      69,          1,          3,          3,2,20120412,       0611,    15.2015,   -69.5115,       3886,  3443.3,   4.2075,  34.9747,2,  34.9750,2,    216.4,2,   228.9,3,   28.11,2,   21.80,2,    0.00,2,    1.50,2,   0.086,2,   0.061,2,   0.008,2,    0.00,4,  2193.6,2, 2339.67,2,   7.7126,2,       25,    -999,9,     -999,9,    -999,9,   4.2073,2,    -999,9,    -999,9,    -999,    -999,9,    -999,    0.11,2,   40.34,2,   24.33,2,  15.2018, -69.5115,    -999,     -999,    -999,   3.8795,   4.2073,2,-999,9,-999,-999,9,-999,    35.1399,2,-999,9,20120412,        622
33AT20120324,        A22,      69,          1,          2,          2,2,20120412,       0611,    15.2015,   -69.5115,       3886,  3648.1,   4.2300,  34.9748,2,  34.9754,2,    217.4,2,   217.7,2,   28.25,2,   21.75,2,    0.00,2,    1.49,2,   0.102,2,   0.070,2,   0.009,2,    0.00,4,  2195.2,2, 2338.33,6,   7.7136,6,       25,    -999,9,     -999,9,    -999,9,   4.2297,2,    -999,9,    -999,9,    -999,    -999,9,    -999,    0.12,2,   40.36,2,   24.17,2,  15.2017, -69.5115,    -999,     -999,    -999,   3.8770,   4.2297,2,-999,9,-999,-999,9,-999,    35.1403,2,-999,9,20120412,        618
33AT20120324,        A22,      69,          1,          1,          1,2,20120412,       0611,    15.2015,   -69.5115,       3886,  3930.1,   4.2651,  34.9747,2,  34.9756,2,    217.6,2,   223.5,3,   28.05,2,   21.75,2,    0.00,2,    1.48,2,   0.123,2,   0.084,2,   0.008,2,    0.00,4,  2194.3,6, 2340.27,2,   7.7151,2,       25,    -999,9,     -999,9,    -999,9,   4.2654,2,    -999,9,    -999,9,    -999,    -999,9,    -999,    0.14,2,   40.63,2,   24.09,2,  15.2015, -69.5115,    -999,     -999,    -999,   3.8766,   4.2654,2,-999,9,-999,-999,9,-999,    35.1405,2,-999,9,20120412,        613