BOTTLE,20220725CCHSIOCBG
EXPOCODE,SECT_ID,STNNBR,CASTNO,SAMPNO,BTLNBR,BTLNBR_FLAG_W,DATE,TIME,LATITUDE,LONGITUDE,DEPTH,CTDPRS,CTDTMP,CTDSAL,CTDSAL_FLAG_W,SALNTY,SALNTY_FLAG_W,CTDOXY,CTDOXY_FLAG_W,OXYGEN,OXYGEN_FLAG_W,SILCAT,SILCAT_FLAG_W,NITRAT,NITRAT_FLAG_W,NITRIT,NITRIT_FLAG_W,PHSPHT,PHSPHT_FLAG_W,CFC-11,CFC-11_FLAG_W,CFC-12,CFC-12_FLAG_W,CFC113,CFC113_FLAG_W,SF6,SF6_FLAG_W,TCARBN,TCARBN_FLAG_W,ALKALI,ALKALI_FLAG_W,PH_TOT,PH_TOT_FLAG_W,PH_TMP,TRITUM,TRITUM_FLAG_W,HELIUM,HELIUM_FLAG_W,DELHE3,DELHE3_FLAG_W,REFTMP,REFTMP_FLAG_W,DELC13,DELC13_FLAG_W,DELC14,DELC14_FLAG_W,C14ERR,NEON,NEON_FLAG_W,NEONER,CCL4,CCL4_FLAG_W,DOC,DOC_FLAG_W,TDN,TDN_FLAG_W,BTL_LAT,BTL_LON,TRITER,HELIER,DELHER,THETA,SBE35,SBE35_FLAG_W,14C-DOC,14C-DOC_FLAG_W,14C-DOCERR,13C-DOC,13C-DOC_FLAG_W,13C-DOCERR,SALTREF,SALTREF_FLAG_W,LAB_DEN,LAB_DEN_FLAG_W,BTL_DATE,BTL_TIME
,,,,,,,,,,,METERS,DBAR,ITS-90,PSS-78,,PSS-78,,UMOL/KG,,UMOL/KG,,UMOL/KG,,UMOL/KG,,UMOL/KG,,UMOL/KG,,PMOL/KG,,PMOL/KG,,PMOL/KG,,FMOL/KG,,UMOL/KG,,UMOL/KG,,,,DEG C,TU,,NMOL/KG,,PERCNT,,DEG C,,/MILLE,,/MILLE,,/MILLE,NMOL/KG,,NMOL/KG,PMOL/KG,,UMOL/KG,,UMOL/KG,,,,TU,NMOL/KG,PERCNT,DEG C,ITS-90,,/MILLE,,/MILLE,/MILLE,,/MILLE,G/KG,,KG/M^3,,,
33AT20120324,        A22,      47,          1,         36,         36,2,20120407,       2054,    19.3543,   -66.0016,       7900,     3.3,  26.8078,  36.1546,2,  36.1549,2,    202.7,2,   203.1,2,    0.92,2,    0.00,2,    0.00,2,    0.00,2,   1.559,2,   1.033,2,   0.119,2,    0.76,4,  2015.7,6, 2369.42,2,   8.1120,6,       25,    -999,9,     -999,9,    -999,9,  26.8062,2,    -999,9,    -999,9,    -999,    -999,9,    -999,    1.47,2,   76.36,2,    4.14,2,  19.3510, -66.0014,    -999,     -999,    -999,  26.8070,  26.8062,2,-999,9,-999,-999,9,-999,    36.3254,2,-999,1,20120407,       2318
33AT20120324,        A22,      47,          1,         35,         35,2,20120407,       2054,    19.3543,   -66.0016,       7900,    24.7,  26.2109,  36.1415,2,  36.1413,2,    203.5,2,   203.8,2,    0.95,2,    0.00,2,    0.00,2,    0.00,2,   1.549,2,   1.045,2,   0.122,2,    0.38,4,  2012.7,2, 2368.13,6,   8.1137,2,       25,    -999,9,     -999,9,    -999,9,  26.2115,2,    -999,9,    -999,9,    -999,    -999,9,    -999,    1.42,2,   76.35,2,    4.37,2,  19.3511, -66.0015,    -999,     -999,    -999,  26.2053,  26.2115,2,-999,9,-999,-999,9,-999,    36.3117,2,-999,1,20120407,       2315
33AT20120324,        A22,      47,          1,         34,         34,2,20120407,       2054,    19.3543,   -66.0016,       7900,    49.4,  26.0021,  36.1419,2,  36.1419,2,    204.7,2,   205.2,2,    0.98,2,    0.00,2,    0.00,2,    0.00,2,   1.584,2,   1.042,2,   0.120,2,    0.83,4,  2011.9,2, 2369.87,2,   8.1153,2,       25,    -999,9,     -999,9,    -999,9,  26.0015,2,    -999,9,    -999,9,    -999,    -999,9,    -999,    1.46,2,   73.25,2,    4.18,2,  19.3511, -66.0015,    -999,     -999,    -999,  25.9910,  26.0015,2,-999,9,-999,-999,9,-999,    36.3123,2,-999,1,20120407,       2313
33AT20120324,        A22,      47,          1,         33,         33,2,20120407,       2054,    19.3543,   -66.0016,       7900,    74.4,  25.8403,  36.2349,2,  36.2469,2,    204.5,2,   204.5,2,    0.72,2,    0.00,2,    0.00,2,    0.00,2,   1.583,2,   1.053,2,   0.121,2,    0.42,4,    -999,9,    -999,9,     -999,9,     -999,    -999,9,     -999,9,    -999,9,  25.8374,2,    -999,9,    -999,9,    -999,    -999,9,    -999,    1.27,2,   71.14,2,    4.34,2,  19.3512, -66.0015,    -999,     -999,    -999,  25.8237,  25.8374,2,-999,9,-999,-999,9,-999,    36.4178,2,-999,1,20120407,       2311
33AT20120324,        A22,      47,          1,         32,         32,2,20120407,       2054,    19.3543,   -66.0016,       7900,   100.1,  25.1969,  36.6489,2,  36.6522,2,    207.2,2,   201.9,2,    0.38,2,    0.00,2,    0.00,2,    0.00,2,   1.664,2,   1.069,2,   0.116,2,    0.69,4,  2046.9,2, 2398.57,2,   8.0986,2,       25,    -999,9,     -999,9,    -999,9,  25.1949,2,    -999,9,    -999,9,    -999,    -999,9,    -999,    1.02,2,   69.11,2,    4.49,2,  19.3513, -66.0015,    -999,     -999,    -999,  25.1749,  25.1949,2,-999,9,-999,-999,9,-999,    36.8251,2,-999,1,20120407,       2308
33AT20120324,        A22,      47,          1,         31,         31,2,20120407,       2054,    19.3543,   -66.0016,       7900,   151.2,  22.4523,  36.9737,2,  36.9753,2,    189.0,2,   188.8,2,    0.07,2,    0.43,2,    0.06,2,    0.00,2,   1.857,2,   1.196,2,   0.097,2,    0.70,4,    -999,9,    -999,9,     -999,9,     -999,    -999,9,     -999,9,    -999,9,  22.4541,2,    -999,9,    -999,9,    -999,    -999,9,    -999,    0.46,2,   64.21,2,    4.37,2,  19.3514, -66.0015,    -999,     -999,    -999,  22.4217,  22.4541,2,-999,9,-999,-999,9,-999,    37.1496,2,-999,1,20120407,       2306
33AT20120324,        A22,      47,          1,         30,         30,2,20120407,       2054,    19.3543,   -66.0016,       7900,   201.3,  19.8843,  36.7693,2,  36.7667,2,    180.9,2,   181.6,2,    0.36,2,    2.37,2,    0.01,2,    0.07,2,   2.025,2,   1.298,2,   0.029,2,    0.92,4,  2125.6,2, 2401.09,2,   7.9795,2,       25,    -999,9,     -999,9,    -999,9,  19.8745,2,    -999,9,    -999,9,    -999,    -999,9,    -999,    0.21,2,   56.88,2,    6.33,2,  19.3514, -66.0015,    -999,     -999,    -999,  19.8468,  19.8745,2,-999,9,-999,-999,9,-999,    36.9401,2,-999,1,20120407,       2304
33AT20120324,        A22,      47,          1,         29,         29,2,20120407,       2054,    19.3543,   -66.0016,       7900,   251.4,  18.5824,  36.6184,2,  36.6173,2,    191.9,2,   191.0,2,    0.69,2,    3.89,2,    0.01,2,    0.16,2,   2.122,2,   1.351,2,   0.023,2,    0.90,4,    -999,9,    -999,9,     -999,9,     -999,    -999,9,     -999,9,    -999,9,  18.5739,2,    -999,9,    -999,9,    -999,    -999,9,    -999,    0.31,2,   51.62,2,    6.99,2,  19.3514, -66.0015,    -999,     -999,    -999,  18.5377,  18.5739,2,-999,9,-999,-999,9,-999,    36.7900,2,-999,1,20120407,       2302
33AT20120324,        A22,      47,          1,         28,         28,2,20120407,       2054,    19.3543,   -66.0016,       7900,   302.0,  17.8281,  36.5099,2,  36.5103,2,    193.7,2,   193.6,2,    1.13,2,    5.21,2,    0.01,2,    0.25,2,   2.155,2,   1.338,2,   0.020,2,    0.74,4,  2119.7,2, 2385.10,2,   7.9597,2,       25,    -999,9,     -999,9,    -999,9,  17.8289,2,    -999,9,    -999,9,    -999,    -999,9,    -999,    0.36,2,   48.92,2,    8.57,2,  19.3515, -66.0015,    -999,     -999,    -999,  17.7759,  17.8289,2,-999,9,-999,-999,9,-999,    36.6825,2,-999,1,20120407,       2301
33AT20120324,        A22,      47,          1,         27,         27,2,20120407,       2054,    19.3543,   -66.0016,       7900,   352.4,  17.2212,  36.4025,2,  36.4002,2,    186.3,2,   187.4,2,    1.59,2,    6.88,2,    0.01,2,    0.36,2,   2.194,2,   1.350,2,   0.024,2,    0.51,4,    -999,9,    -999,9,     -999,9,     -999,    -999,9,     -999,9,    -999,9,  17.2200,2,    -999,9,    -999,9,    -999,    -999,9,    -999,    0.40,2,   47.19,2,    9.68,2,  19.3515, -66.0015,    -999,     -999,    -999,  17.1617,  17.2200,2,-999,9,-999,-999,9,-999,    36.5718,2,-999,1,20120407,       2259
33AT20120324,        A22,      47,          1,         26,         26,2,20120407,       2054,    19.3543,   -66.0016,       7900,   402.9,  15.5898,  36.0914,2,  36.0861,2,    159.7,2,   160.7,2,    3.54,2,   12.15,2,    0.01,2,    0.70,2,   2.137,2,   1.290,2,   0.021,2,    0.39,4,  2154.7,2, 2360.68,2,   7.8547,6,       25,    -999,9,     -999,9,    -999,9,  15.5926,2,    -999,9,    -999,9,    -999,    -999,9,    -999,    0.30,2,   46.01,2,   15.19,2,  19.3516, -66.0015,    -999,     -999,    -999,  15.5262,  15.5926,2,-999,9,-999,-999,9,-999,    36.2562,2,-999,1,20120407,       2257
33AT20120324,        A22,      47,          1,         25,         25,2,20120407,       2054,    19.3543,   -66.0016,       7900,   503.5,  12.0268,  35.3784,2,  35.3768,2,    131.7,2,   130.7,2,    8.97,2,   21.53,2,    0.00,2,    1.36,2,   1.807,2,   1.036,2,   0.019,2,    0.16,4,  2187.2,2, 2326.47,2,   7.7113,2,       25,    -999,9,     -999,9,    -999,9,  12.0271,2,    -999,9,    -999,9,    -999,    -999,9,    -999,    0.33,2,   45.34,2,   24.41,2,  19.3517, -66.0015,    -999,     -999,    -999,  11.9599,  12.0271,2,-999,9,-999,-999,9,-999,    35.5436,2,-999,1,20120407,       2255
33AT20120324,        A22,      47,          1,         24,         24,2,20120407,       2054,    19.3543,   -66.0016,       7900,   603.5,  10.3958,  35.1566,2,  35.1514,2,    122.4,2,   121.8,2,   12.21,2,   25.81,2,    0.00,2,    1.63,2,   1.435,2,   0.778,2,   0.020,2,    0.10,4,  2201.4,2, 2318.63,2,   7.6519,2,       25,    -999,9,     -999,9,    -999,9,  10.3872,2,    -999,9,    -999,9,    -999,    -999,9,    -999,    0.32,2,   44.18,2,   28.69,2,  19.3518, -66.0015,    -999,     -999,    -999,  10.3225,  10.3872,2,-999,9,-999,-999,9,-999,    35.3171,2,-999,1,20120407,       2252
33AT20120324,        A22,      47,          1,         23,         23,2,20120407,       2054,    19.3543,   -66.0016,       7900,   704.3,   9.0417,  34.9950,2,  34.9886,2,    121.2,2,   120.6,2,   15.47,2,   28.60,2,    0.00,2,    1.82,2,   1.059,2,   0.562,2,   0.015,2,    0.08,4,  2207.7,2, 2314.52,2,   7.6152,2,       25,    -999,9,     -999,9,    -999,9,   9.0380,2,    -999,9,    -999,9,    -999,    -999,9,    -999,    0.32,2,   43.19,2,   31.57,2,  19.3518, -66.0015,    -999,     -999,    -999,   8.9627,   9.0380,2,-999,9,-999,-999,9,-999,    35.1536,2,-999,1,20120407,       2249
33AT20120324,        A22,      47,          1,         22,         22,2,20120407,       2054,    19.3543,   -66.0016,       7900,   806.2,   7.9013,  34.9178,2,  34.9211,2,    124.4,2,   125.2,2,   18.54,2,   29.99,2,    0.00,2,    1.93,2,   0.626,2,   0.339,2,   0.009,2,    0.00,4,  2212.4,2, 2309.69,2,   7.6026,2,       25,    -999,9,     -999,9,    -999,9,   7.9010,2,    -999,9,    -999,9,    -999,    -999,9,    -999,    0.22,2,   42.84,2,   32.82,2,  19.3519, -66.0015,    -999,     -999,    -999,   7.8172,   7.9010,2,-999,9,-999,-999,9,-999,    35.0858,2,-999,1,20120407,       2247
33AT20120324,        A22,      47,          1,         21,         21,2,20120407,       2054,    19.3543,   -66.0016,       7900,   906.9,   6.9527,  34.8553,2,  34.8503,2,    130.6,2,   131.8,2,   21.40,2,   30.86,2,    0.00,2,    2.02,2,   0.361,2,   0.193,2,   0.004,2,    0.00,4,  2214.6,2, 2309.46,2,   7.5945,2,       25,    -999,9,     -999,9,    -999,9,   6.9539,2,    -999,9,    -999,9,    -999,    -999,9,    -999,    0.18,2,   42.56,2,   33.71,2,  19.3520, -66.0015,    -999,     -999,    -999,   6.8639,   6.9539,2,-999,9,-999,-999,9,-999,    35.0146,2,-999,1,20120407,       2244
33AT20120324,        A22,      47,          1,         20,         20,2,20120407,       2054,    19.3543,   -66.0016,       7900,  1007.4,   6.1913,  34.8413,2,  34.8387,2,    141.7,2,   143.4,2,   22.78,2,   30.27,2,    0.00,2,    2.00,2,   0.250,2,   0.134,2,   0.005,2,    0.00,4,  2212.6,2, 2311.28,3,   7.6001,2,       25,    -999,9,     -999,9,    -999,9,   6.1926,2,    -999,9,    -999,9,    -999,    -999,9,    -999,    0.19,2,   42.67,2,   33.11,2,  19.3520, -66.0015,    -999,     -999,    -999,   6.0977,   6.1926,2,-999,9,-999,-999,9,-999,    35.0030,2,-999,1,20120407,       2241
33AT20120324,        A22,      47,          1,         19,         19,2,20120407,       2054,    19.3543,   -66.0016,       7900,  1108.4,   6.2510,  35.0256,2,  35.0256,2,    176.9,2,   182.2,2,   16.78,2,   23.97,2,    0.00,2,    1.57,2,   0.729,2,   0.380,2,   0.022,2,    0.13,4,    -999,9,    -999,9,     -999,9,     -999,    -999,9,     -999,9,    -999,9,   6.2523,2,    -999,9,    -999,9,    -999,    -999,9,    -999,    0.54,2,   41.84,2,   27.74,2,  19.3521, -66.0015,    -999,     -999,    -999,   6.1465,   6.2523,2,-999,9,-999,-999,9,-999,    35.1908,2,-999,1,20120407,       2239
33AT20120324,        A22,      47,          1,         18,         18,2,20120407,       2054,    19.3543,   -66.0016,       7900,  1209.8,   5.6148,  35.0471,2,  35.0466,2,    208.9,2,   219.8,2,   14.32,2,   21.06,2,    0.00,2,    1.39,2,   1.150,2,   0.603,2,   0.046,2,    0.15,4,  2180.5,2, 2317.07,2,   7.7003,2,       25,    -999,9,     -999,9,    -999,9,   5.6187,2,    -999,9,    -999,9,    -999,    -999,9,    -999,    0.90,2,   41.43,2,   24.02,2,  19.3521, -66.0015,    -999,     -999,    -999,   5.5056,   5.6187,2,-999,9,-999,-999,9,-999,    35.2119,2,-999,1,20120407,       2236
33AT20120324,        A22,      47,          1,         17,         17,2,20120407,       2054,    19.3543,   -66.0016,       7900,  1311.2,   5.0616,  35.0375,2,  35.0368,2,    232.5,2,   231.3,2,   13.08,2,   19.41,2,    0.00,2,    1.29,2,   1.485,2,   0.772,2,   0.067,2,    0.14,4,    -999,9,    -999,9,     -999,9,     -999,    -999,9,     -999,9,    -999,9,   5.0745,2,    -999,9,    -999,9,    -999,    -999,9,    -999,    1.25,2,   41.17,2,   22.59,2,  19.3522, -66.0015,    -999,     -999,    -999,   4.9477,   5.0745,2,-999,9,-999,-999,9,-999,    35.2020,2,-999,1,20120407,       2234
33AT20120324,        A22,      47,          1,         16,         16,2,20120407,       2054,    19.3543,   -66.0016,       7900,  1412.3,   4.6280,  35.0182,2,  35.0173,2,    245.6,2,   245.1,2,   12.44,2,   18.55,2,    0.00,2,    1.23,2,   1.712,2,   0.883,2,   0.087,2,    0.25,4,  2169.1,2, 2313.72,2,   7.7230,2,       25,    -999,9,     -999,9,    -999,9,   4.6286,2,    -999,9,    -999,9,    -999,    -999,9,    -999,    1.56,2,   41.81,2,   21.23,2,  19.3523, -66.0016,    -999,     -999,    -999,   4.5089,   4.6286,2,-999,9,-999,-999,9,-999,    35.1824,2,-999,1,20120407,       2231
33AT20120324,        A22,      47,          1,         15,         15,2,20120407,       2054,    19.3543,   -66.0016,       7900,  1614.9,   4.1324,  34.9886,2,  34.9882,2,    255.8,2,   255.5,2,   12.84,2,   18.09,2,    0.00,2,    1.20,2,   1.640,2,   0.825,2,   0.082,2,    0.00,4,    -999,9,    -999,9,     -999,9,     -999,    -999,9,     -999,9,    -999,9,   4.1322,2,    -999,9,    -999,9,    -999,    -999,9,    -999,    1.63,2,   41.56,2,   20.44,2,  19.3524, -66.0016,    -999,     -999,    -999,   4.0000,   4.1322,2,-999,9,-999,-999,9,-999,    35.1532,2,-999,1,20120407,       2227
33AT20120324,        A22,      47,          1,         14,         14,2,20120407,       2054,    19.3543,   -66.0016,       7900,  1818.5,   3.8190,  34.9722,2,  34.9721,2,    260.1,2,   260.1,2,   13.70,2,   17.93,2,    0.00,2,    1.19,2,   1.486,2,   0.738,2,   0.072,2,    0.00,4,    -999,9,    -999,9,     -999,9,     -999,    -999,9,     -999,9,    -999,9,   3.8184,2,    -999,9,    -999,9,    -999,    -999,9,    -999,    1.61,2,   41.43,2,   20.15,2,  19.3525, -66.0016,    -999,     -999,    -999,   3.6715,   3.8184,2,-999,9,-999,-999,9,-999,    35.1370,2,-999,1,20120407,       2222
33AT20120324,        A22,      47,          1,         13,         13,2,20120407,       2054,    19.3543,   -66.0016,       7900,  2020.0,   3.6211,  34.9651,2,  34.9648,2,    261.5,2,   261.6,2,   14.76,2,   17.93,2,    0.00,2,    1.20,2,   1.224,2,   0.609,2,   0.055,2,    0.00,4,  2163.6,2, 2313.86,2,   7.7361,6,       25,    -999,9,     -999,9,    -999,9,   3.6215,2,    -999,9,    -999,9,    -999,    -999,9,    -999,    1.38,2,   41.35,2,   20.62,2,  19.3526, -66.0016,    -999,     -999,    -999,   3.4573,   3.6215,2,-999,9,-999,-999,9,-999,    35.1297,2,-999,1,20120407,       2218
33AT20120324,        A22,      47,          1,         12,         12,2,20120407,       2054,    19.3543,   -66.0016,       7900,  2274.5,   3.3584,  34.9570,2,  34.9559,2,    262.4,2,   261.9,2,   17.08,2,   18.02,2,    0.00,2,    1.21,2,   0.906,2,   0.460,2,   0.033,2,    0.03,4,    -999,9,    -999,9,     -999,9,     -999,    -999,9,     -999,9,    -999,9,   3.3582,2,    -999,9,    -999,9,    -999,    -999,9,    -999,    1.04,2,   40.96,2,   20.78,2,  19.3527, -66.0016,    -999,     -999,    -999,   3.1742,   3.3582,2,-999,9,-999,-999,9,-999,    35.1208,2,-999,1,20120407,       2213
33AT20120324,        A22,      47,          1,         11,         11,2,20120407,       2054,    19.3543,   -66.0016,       7900,  2528.4,   3.1197,  34.9501,2,  34.9475,2,    260.9,2,   261.2,2,   20.06,2,   18.31,2,    0.00,2,    1.23,2,   0.610,2,   0.305,2,   0.023,2,    0.11,4,    -999,9,    -999,9,     -999,9,     -999,    -999,9,     -999,9,    -999,9,   3.1184,2,    -999,9,    -999,9,    -999,    -999,9,    -999,    0.81,2,   40.53,2,   21.03,2,  19.3529, -66.0016,    -999,     -999,    -999,   2.9147,   3.1184,2,-999,9,-999,-999,9,-999,    35.1123,2,-999,1,20120407,       2208
33AT20120324,        A22,      47,          1,         10,         10,2,20120407,       2054,    19.3543,   -66.0016,       7900,  2781.8,   2.8720,  34.9351,2,  34.9347,2,    262.4,2,   263.0,2,   21.96,2,   18.31,2,    0.00,2,    1.24,2,   0.633,2,   0.320,2,   0.025,2,    0.08,4,    -999,9,    -999,9,     -999,9,     -999,    -999,9,     -999,9,    -999,9,   2.8735,2,    -999,9,    -999,9,    -999,    -999,9,    -999,    0.82,2,   40.84,2,   21.15,2,  19.3530, -66.0016,    -999,     -999,    -999,   2.6464,   2.8735,2,-999,9,-999,-999,9,-999,    35.0994,2,-999,1,20120407,       2202
33AT20120324,        A22,      47,          1,          9,          9,2,20120407,       2054,    19.3543,   -66.0016,       7900,  3037.2,   2.6929,  34.9233,2,  34.9225,2,    264.2,2,   264.6,2,   23.27,2,   18.23,2,    0.00,2,    1.24,2,   0.679,2,   0.347,2,   0.030,2,    0.12,4,  2168.9,2, 2321.24,2,   7.7417,2,       25,    -999,9,     -999,9,    -999,9,   2.6923,2,    -999,9,    -999,9,    -999,    -999,9,    -999,    0.83,2,   41.09,2,   21.03,2,  19.3531, -66.0016,    -999,     -999,    -999,   2.4450,   2.6923,2,-999,9,-999,-999,9,-999,    35.0871,2,-999,1,20120407,       2156
33AT20120324,        A22,      47,          1,          8,          8,2,20120407,       2054,    19.3543,   -66.0016,       7900,  3343.8,   2.4627,  34.9080,2,  34.9069,2,    266.6,2,   267.1,2,   24.79,2,   18.06,2,    0.00,2,    1.23,2,   0.809,2,   0.413,2,   0.043,2,    0.08,4,    -999,9,    -999,9,     -999,9,     -999,    -999,9,     -999,9,    -999,9,   2.4625,2,    -999,9,    -999,9,    -999,    -999,9,    -999,    0.93,2,   40.99,2,   20.54,2,  19.3533, -66.0016,    -999,     -999,    -999,   2.1879,   2.4625,2,-999,9,-999,-999,9,-999,    35.0715,2,-999,1,20120407,       2150
33AT20120324,        A22,      47,          1,          7,          7,2,20120407,       2054,    19.3543,   -66.0016,       7900,  3650.3,   2.3470,  34.8996,2,  34.8961,2,    266.4,2,   267.1,2,   27.15,2,   18.31,2,    0.00,2,    1.25,2,   0.755,2,   0.390,2,   0.045,2,    0.04,4,    -999,9,    -999,9,     -999,9,     -999,    -999,9,     -999,9,    -999,9,   2.3471,2,    -999,9,    -999,9,    -999,    -999,9,    -999,    0.89,2,   41.29,2,   20.65,2,  19.3534, -66.0017,    -999,     -999,    -999,   2.0421,   2.3471,2,-999,9,-999,-999,9,-999,    35.0607,2,-999,1,20120407,       2144
33AT20120324,        A22,      47,          1,          6,          6,2,20120407,       2054,    19.3543,   -66.0016,       7900,  4055.5,   2.2861,  34.8918,2,  34.8912,2,    265.4,2,   265.8,2,   29.76,2,   18.58,2,    0.00,2,    1.28,2,   0.802,2,   0.407,2,   0.051,2,    0.07,4,  2175.3,2, 2326.46,2,   7.7357,2,       25,    -999,9,     -999,9,    -999,9,   2.2860,2,    -999,9,    -999,9,    -999,    -999,9,    -999,    0.91,2,   40.65,2,   20.58,2,  19.3536, -66.0017,    -999,     -999,    -999,   1.9375,   2.2860,2,-999,9,-999,-999,9,-999,    35.0557,2,-999,1,20120407,       2136