BOTTLE,20220725CCHSIOCBG
EXPOCODE,SECT_ID,STNNBR,CASTNO,SAMPNO,BTLNBR,BTLNBR_FLAG_W,DATE,TIME,LATITUDE,LONGITUDE,DEPTH,CTDPRS,CTDTMP,CTDSAL,CTDSAL_FLAG_W,SALNTY,SALNTY_FLAG_W,CTDOXY,CTDOXY_FLAG_W,OXYGEN,OXYGEN_FLAG_W,SILCAT,SILCAT_FLAG_W,NITRAT,NITRAT_FLAG_W,NITRIT,NITRIT_FLAG_W,PHSPHT,PHSPHT_FLAG_W,CFC-11,CFC-11_FLAG_W,CFC-12,CFC-12_FLAG_W,CFC113,CFC113_FLAG_W,SF6,SF6_FLAG_W,TCARBN,TCARBN_FLAG_W,ALKALI,ALKALI_FLAG_W,PH_TOT,PH_TOT_FLAG_W,PH_TMP,TRITUM,TRITUM_FLAG_W,HELIUM,HELIUM_FLAG_W,DELHE3,DELHE3_FLAG_W,REFTMP,REFTMP_FLAG_W,DELC13,DELC13_FLAG_W,DELC14,DELC14_FLAG_W,C14ERR,NEON,NEON_FLAG_W,NEONER,CCL4,CCL4_FLAG_W,DOC,DOC_FLAG_W,TDN,TDN_FLAG_W,BTL_LAT,BTL_LON,TRITER,HELIER,DELHER,THETA,SBE35,SBE35_FLAG_W,14C-DOC,14C-DOC_FLAG_W,14C-DOCERR,13C-DOC,13C-DOC_FLAG_W,13C-DOCERR,SALTREF,SALTREF_FLAG_W,LAB_DEN,LAB_DEN_FLAG_W,BTL_DATE,BTL_TIME
,,,,,,,,,,,METERS,DBAR,ITS-90,PSS-78,,PSS-78,,UMOL/KG,,UMOL/KG,,UMOL/KG,,UMOL/KG,,UMOL/KG,,UMOL/KG,,PMOL/KG,,PMOL/KG,,PMOL/KG,,FMOL/KG,,UMOL/KG,,UMOL/KG,,,,DEG C,TU,,NMOL/KG,,PERCNT,,DEG C,,/MILLE,,/MILLE,,/MILLE,NMOL/KG,,NMOL/KG,PMOL/KG,,UMOL/KG,,UMOL/KG,,,,TU,NMOL/KG,PERCNT,DEG C,ITS-90,,/MILLE,,/MILLE,/MILLE,,/MILLE,G/KG,,KG/M^3,,,
33AT20120324,        A22,      29,          1,          5,          5,2,20120402,       0455,    30.6083,   -65.3390,       4889,  3957.8,   2.2663,  34.8925,2,  34.8918,2,    263.3,2,   263.3,2,   30.44,2,   18.65,2,    0.00,2,    1.28,2,   0.643,2,   0.334,2,   0.040,2,    0.00,4,  2171.0,2, 2323.31,3,   7.7391,2,       25,    -999,9,     -999,9,    -999,9,   2.2668,2,    -999,9,    -999,9,    -999,    -999,9,    -999,    0.98,2,   42.65,2,   20.76,2,  30.6064, -65.3398,    -999,     -999,    -999,   1.9293,   2.2668,2,-999,9,-999,-999,9,-999,    35.0563,2,-999,9,20120402,        521
33AT20120324,        A22,      29,          1,          4,          4,2,20120402,       0455,    30.6083,   -65.3390,       4889,  4270.5,   2.2305,  34.8855,2,  34.8851,2,    260.9,2,   261.2,2,   33.81,2,   19.18,2,    0.00,2,    1.32,2,   0.635,2,   0.348,2,   0.040,2,    0.00,4,    -999,9,    -999,9,     -999,9,     -999,    -999,9,     -999,9,    -999,9,   2.2306,2,    -999,9,    -999,9,    -999,    -999,9,    -999,    0.90,2,   42.88,2,   22.24,2,  30.6070, -65.3396,    -999,     -999,    -999,   1.8586,   2.2306,2,-999,9,-999,-999,9,-999,    35.0496,2,-999,9,20120402,        513
33AT20120324,        A22,      29,          1,          3,          3,2,20120402,       0455,    30.6083,   -65.3390,       4889,  4576.5,   2.2188,  34.8799,2,  34.8796,2,    258.1,2,   258.9,2,   36.76,2,   19.62,2,    0.00,2,    1.36,2,   0.557,2,   0.310,2,   0.039,2,    0.00,4,  2179.3,2, 2329.62,2,   7.7341,2,       25,    -999,9,     -999,9,    -999,9,   2.2187,2,    -999,9,    -999,9,    -999,    -999,9,    -999,    0.79,2,   43.18,2,   22.34,2,  30.6075, -65.3393,    -999,     -999,    -999,   1.8110,   2.2187,2,-999,9,-999,-999,9,-999,    35.0441,2,-999,9,20120402,        504
33AT20120324,        A22,      29,          1,          2,          2,2,20120402,       0455,    30.6083,   -65.3390,       4889,  4781.2,   2.2103,  34.8764,2,  34.8762,2,    256.9,2,   257.0,2,   39.48,2,   20.07,2,    0.00,2,    1.39,2,   0.444,2,   0.248,2,   0.031,2,    0.06,4,  2183.2,2, 2332.86,6,   7.7328,6,       25,    -999,9,     -999,9,    -999,9,   2.2105,2,    -999,9,    -999,9,    -999,    -999,9,    -999,    0.69,2,   42.71,2,   22.35,2,  30.6077, -65.3392,    -999,     -999,    -999,   1.7779,   2.2105,2,-999,9,-999,-999,9,-999,    35.0407,2,-999,9,20120402,        459
33AT20120324,        A22,      29,          1,          1,          1,2,20120402,       0455,    30.6083,   -65.3390,       4889,  4962.1,   2.1959,  34.8717,2,  34.8719,2,    254.7,2,   254.6,2,   42.37,2,   20.55,2,    0.00,2,    1.42,2,   0.306,2,   0.178,2,   0.024,2,    0.06,4,  2188.1,6, 2336.13,2,   7.7319,2,       25,    -999,9,     -999,9,    -999,9,   2.1964,2,    -999,9,    -999,9,    -999,    -999,9,    -999,    0.59,2,   42.22,2,   22.54,2,  30.6082, -65.3390,    -999,     -999,    -999,   1.7415,   2.1964,2,-999,9,-999,-999,9,-999,    35.0364,2,-999,9,20120402,        455