BOTTLE,20220725CCHSIOCBG
EXPOCODE,SECT_ID,STNNBR,CASTNO,SAMPNO,BTLNBR,BTLNBR_FLAG_W,DATE,TIME,LATITUDE,LONGITUDE,DEPTH,CTDPRS,CTDTMP,CTDSAL,CTDSAL_FLAG_W,SALNTY,SALNTY_FLAG_W,CTDOXY,CTDOXY_FLAG_W,OXYGEN,OXYGEN_FLAG_W,SILCAT,SILCAT_FLAG_W,NITRAT,NITRAT_FLAG_W,NITRIT,NITRIT_FLAG_W,PHSPHT,PHSPHT_FLAG_W,CFC-11,CFC-11_FLAG_W,CFC-12,CFC-12_FLAG_W,CFC113,CFC113_FLAG_W,SF6,SF6_FLAG_W,TCARBN,TCARBN_FLAG_W,ALKALI,ALKALI_FLAG_W,PH_TOT,PH_TOT_FLAG_W,PH_TMP,TRITUM,TRITUM_FLAG_W,HELIUM,HELIUM_FLAG_W,DELHE3,DELHE3_FLAG_W,REFTMP,REFTMP_FLAG_W,DELC13,DELC13_FLAG_W,DELC14,DELC14_FLAG_W,C14ERR,NEON,NEON_FLAG_W,NEONER,CCL4,CCL4_FLAG_W,DOC,DOC_FLAG_W,TDN,TDN_FLAG_W,BTL_LAT,BTL_LON,TRITER,HELIER,DELHER,THETA,SBE35,SBE35_FLAG_W,14C-DOC,14C-DOC_FLAG_W,14C-DOCERR,13C-DOC,13C-DOC_FLAG_W,13C-DOCERR,SALTREF,SALTREF_FLAG_W,LAB_DEN,LAB_DEN_FLAG_W,BTL_DATE,BTL_TIME
,,,,,,,,,,,METERS,DBAR,ITS-90,PSS-78,,PSS-78,,UMOL/KG,,UMOL/KG,,UMOL/KG,,UMOL/KG,,UMOL/KG,,UMOL/KG,,PMOL/KG,,PMOL/KG,,PMOL/KG,,FMOL/KG,,UMOL/KG,,UMOL/KG,,,,DEG C,TU,,NMOL/KG,,PERCNT,,DEG C,,/MILLE,,/MILLE,,/MILLE,NMOL/KG,,NMOL/KG,PMOL/KG,,UMOL/KG,,UMOL/KG,,,,TU,NMOL/KG,PERCNT,DEG C,ITS-90,,/MILLE,,/MILLE,/MILLE,,/MILLE,G/KG,,KG/M^3,,,
33AT20120324,        A22,      23,          1,         36,         36,2,20120331,       1133,    33.7842,   -65.9914,       5118,     4.4,  19.4127,  36.5577,2,  36.5577,2,    227.3,2,   228.2,2,    0.00,2,    0.06,2,    0.05,2,    0.00,2,   2.060,2,   1.302,2,   0.169,2,    0.90,4,  2077.9,6, 2414.28,4,   8.0501,2,       25,    -999,9,     -999,9,    -999,9,  19.4130,2,    -999,9,    -999,9,    -999,    -999,9,    -999,    1.76,2,   66.98,2,    4.83,2,  33.7834, -65.9825,    -999,     -999,    -999,  19.4119,  19.4130,2,-999,9,-999,-999,9,-999,    36.7301,2,-999,1,20120331,       1338
33AT20120324,        A22,      23,          1,         35,         35,2,20120331,       1133,    33.7842,   -65.9914,       5118,    25.8,  19.3995,  36.5576,2,  36.5573,2,    227.5,2,   227.4,2,    0.01,2,    0.05,2,    0.06,2,    0.00,2,   2.071,2,   1.325,2,   0.167,2,    0.74,4,  2077.6,2, 2394.45,6,   8.0479,6,       25,    -999,9,     -999,9,    -999,9,  19.4001,2,    -999,9,    -999,9,    -999,    -999,9,    -999,    1.76,2,   66.78,2,    4.41,2,  33.7834, -65.9828,    -999,     -999,    -999,  19.3948,  19.4001,2,-999,9,-999,-999,9,-999,    36.7297,2,-999,1,20120331,       1336
33AT20120324,        A22,      23,          1,         34,         34,2,20120331,       1133,    33.7842,   -65.9914,       5118,    51.2,  19.3987,  36.5566,2,  36.5565,2,    227.0,2,   226.4,2,    0.06,2,    0.10,2,    0.07,2,    0.00,2,   2.048,2,   1.333,2,   0.166,2,    0.70,4,    -999,9,    -999,9,     -999,9,     -999,    -999,9,     -999,9,    -999,9,  19.3987,2,    -999,9,    -999,9,    -999,    -999,9,    -999,    1.69,2,   67.07,2,    4.39,2,  33.7835, -65.9832,    -999,     -999,    -999,  19.3894,  19.3987,2,-999,9,-999,-999,9,-999,    36.7289,2,-999,1,20120331,       1334
33AT20120324,        A22,      23,          1,         33,         33,2,20120331,       1133,    33.7842,   -65.9914,       5118,    76.0,  19.3880,  36.5538,2,  36.5546,2,    226.8,2,   224.5,2,    0.16,2,    0.19,2,    0.11,2,    0.00,2,   2.038,2,   1.309,2,   0.165,2,    0.48,4,  2080.5,2, 2389.50,2,   8.0423,2,       25,    -999,9,     -999,9,    -999,9,  19.3881,2,    -999,9,    -999,9,    -999,    -999,9,    -999,    1.69,2,   65.07,2,    4.47,2,  33.7835, -65.9835,    -999,     -999,    -999,  19.3742,  19.3881,2,-999,9,-999,-999,9,-999,    36.7269,2,-999,1,20120331,       1332
33AT20120324,        A22,      23,          1,         32,         32,2,20120331,       1133,    33.7842,   -65.9914,       5118,   104.7,  19.3894,  36.5537,2,  36.5538,2,    226.9,2,   224.1,2,    0.11,2,    0.20,2,    0.12,2,    0.00,2,   2.041,2,   1.308,2,   0.160,2,    0.62,4,    -999,9,    -999,9,     -999,9,     -999,    -999,9,     -999,9,    -999,9,  19.3893,2,    -999,9,    -999,9,    -999,    -999,9,    -999,    1.68,2,   63.83,2,    4.53,2,  33.7836, -65.9838,    -999,     -999,    -999,  19.3703,  19.3893,2,-999,9,-999,-999,9,-999,    36.7261,2,-999,1,20120331,       1330
33AT20120324,        A22,      23,          1,         31,         31,2,20120331,       1133,    33.7842,   -65.9914,       5118,   150.6,  19.3722,  36.5523,2,  36.5526,2,    222.2,2,   224.2,2,    0.09,2,    0.19,2,    0.11,2,    0.00,2,   2.065,2,   1.322,2,   0.169,2,    0.31,4,  2080.5,2, 2390.49,2,   8.0434,2,       25,    -999,9,     -999,9,    -999,9,  19.3717,2,    -999,9,    -999,9,    -999,    -999,9,    -999,    1.72,2,   62.15,2,    4.08,2,  33.7836, -65.9841,    -999,     -999,    -999,  19.3447,  19.3717,2,-999,9,-999,-999,9,-999,    36.7250,2,-999,1,20120331,       1328
33AT20120324,        A22,      23,          1,         30,         30,2,20120331,       1133,    33.7842,   -65.9914,       5118,   200.6,  19.1538,  36.5587,2,  36.5592,2,    210.9,2,   216.9,2,    0.35,2,    1.00,2,    0.13,2,    0.03,2,   2.060,2,   1.333,2,   0.146,2,    0.64,4,  2092.7,2, 2391.31,2,   8.0253,2,       25,    -999,9,     -999,9,    -999,9,  19.1507,2,    -999,9,    -999,9,    -999,    -999,9,    -999,    1.40,2,   60.33,2,    5.05,2,  33.7837, -65.9844,    -999,     -999,    -999,  19.1175,  19.1507,2,-999,9,-999,-999,9,-999,    36.7315,2,-999,1,20120331,       1326
33AT20120324,        A22,      23,          1,         29,         29,2,20120331,       1133,    33.7842,   -65.9914,       5118,   252.7,  18.5777,  36.6099,2,  36.6099,2,    194.6,2,   193.7,2,    0.95,2,    3.81,2,    0.01,2,    0.16,2,   2.139,2,   1.357,2,   0.038,2,    0.52,4,  2116.7,2, 2389.83,2,   7.9800,2,       25,    -999,9,     -999,9,    -999,9,  18.5773,2,    -999,9,    -999,9,    -999,    -999,9,    -999,    0.37,2,   57.14,2,    8.26,2,  33.7837, -65.9847,    -999,     -999,    -999,  18.5328,  18.5773,2,-999,9,-999,-999,9,-999,    36.7825,2,-999,1,20120331,       1324
33AT20120324,        A22,      23,          1,         28,         28,2,20120331,       1133,    33.7842,   -65.9914,       5118,   303.7,  18.1920,  36.5766,2,  36.5770,2,    198.1,2,   198.7,2,    1.14,2,    4.13,2,    0.01,2,    0.19,2,   2.165,2,   1.341,2,   0.046,2,    1.01,4,    -999,9,    -999,9,     -999,9,     -999,    -999,9,     -999,9,    -999,9,  18.1910,2,    -999,9,    -999,9,    -999,    -999,9,    -999,    0.42,2,   53.47,2,    8.49,2,  33.7837, -65.9850,    -999,     -999,    -999,  18.1388,  18.1910,2,-999,9,-999,-999,9,-999,    36.7495,2,-999,1,20120331,       1322
33AT20120324,        A22,      23,          1,         27,         27,2,20120331,       1133,    33.7842,   -65.9914,       5118,   352.4,  17.9498,  36.5488,2,  36.5485,2,    200.6,2,   201.2,2,    1.14,2,    4.42,2,    0.00,2,    0.20,2,   2.180,2,   1.359,2,   0.044,2,    0.42,4,  2117.3,2, 2387.32,2,   7.9771,2,       25,    -999,9,     -999,9,    -999,9,  17.9520,2,    -999,9,    -999,9,    -999,    -999,9,    -999,    0.44,2,   52.15,2,    8.62,2,  33.7838, -65.9853,    -999,     -999,    -999,  17.8886,  17.9520,2,-999,9,-999,-999,9,-999,    36.7208,2,-999,1,20120331,       1320
33AT20120324,        A22,      23,          1,         26,         26,2,20120331,       1133,    33.7842,   -65.9914,       5118,   402.4,  17.7025,  36.5046,2,  36.5053,2,    200.4,2,   199.1,2,    1.43,2,    5.10,2,    0.00,2,    0.25,2,   2.191,2,   1.375,2,   0.049,2,    0.42,4,  2118.9,2, 2385.15,2,   7.9685,2,       25,    -999,9,     -999,9,    -999,9,  17.7021,2,    -999,9,    -999,9,    -999,    -999,9,    -999,    0.47,2,   50.98,2,    9.23,2,  33.7838, -65.9855,    -999,     -999,    -999,  17.6332,  17.7021,2,-999,9,-999,-999,9,-999,    36.6774,2,-999,1,20120331,       1318
33AT20120324,        A22,      23,          1,         25,         25,2,20120331,       1133,    33.7842,   -65.9914,       5118,   504.3,  17.0416,  36.3890,2,  36.3914,2,    198.0,2,   198.2,2,    1.84,2,    6.24,2,    0.00,2,    0.32,2,   2.211,2,   1.395,2,   0.044,2,    0.34,4,    -999,9,    -999,9,     -999,9,     -999,    -999,9,     -999,9,    -999,9,  17.0404,2,    -999,9,    -999,9,    -999,    -999,9,    -999,    0.48,2,   49.45,2,    9.73,2,  33.7839, -65.9858,    -999,     -999,    -999,  16.9568,  17.0404,2,-999,9,-999,-999,9,-999,    36.5630,2,-999,1,20120331,       1316
33AT20120324,        A22,      23,          1,         24,         24,2,20120331,       1133,    33.7842,   -65.9914,       5118,   604.1,  15.6486,  36.1142,2,  36.1149,2,    179.4,2,   184.7,2,    3.10,2,    9.70,2,    0.00,2,    0.56,2,   2.224,2,   1.341,2,   0.036,2,    0.66,4,  2139.9,2, 2364.43,2,   7.8943,2,       25,    -999,9,     -999,9,    -999,9,  15.6488,2,    -999,9,    -999,9,    -999,    -999,9,    -999,    0.45,2,   48.16,2,   13.30,2,  33.7839, -65.9862,    -999,     -999,    -999,  15.5525,  15.6488,2,-999,9,-999,-999,9,-999,    36.2852,2,-999,1,20120331,       1313
33AT20120324,        A22,      23,          1,         23,         23,2,20120331,       1133,    33.7842,   -65.9914,       5118,   705.9,  13.4541,  35.7446,2,  35.7463,2,    165.3,2,   162.6,2,    6.33,2,   15.59,2,    0.00,2,    0.95,2,   1.972,2,   1.163,2,   0.032,2,    0.06,4,  2163.7,2, 2344.69,2,   7.8080,2,       25,    -999,9,     -999,9,    -999,9,  13.4551,2,    -999,9,    -999,9,    -999,    -999,9,    -999,    0.38,2,   47.47,2,   19.23,2,  33.7840, -65.9865,    -999,     -999,    -999,  13.3523,  13.4551,2,-999,9,-999,-999,9,-999,    35.9149,2,-999,1,20120331,       1310
33AT20120324,        A22,      23,          1,         22,         22,2,20120331,       1133,    33.7842,   -65.9914,       5118,   807.4,  11.2305,  35.4429,2,  35.4454,2,    153.7,2,   153.3,2,    9.73,2,   19.89,2,    0.00,2,    1.24,2,   1.650,2,   0.953,2,   0.027,2,    0.06,4,  2179.0,2, 2330.56,2,   7.7411,6,       25,    -999,9,     -999,9,    -999,9,  11.2293,2,    -999,9,    -999,9,    -999,    -999,9,    -999,    0.37,2,   46.54,2,   23.58,2,  33.7840, -65.9869,    -999,     -999,    -999,  11.1264,  11.2293,2,-999,9,-999,-999,9,-999,    35.6125,2,-999,1,20120331,       1308
33AT20120324,        A22,      23,          1,         21,         21,2,20120331,       1133,    33.7842,   -65.9914,       5118,   907.5,   8.8062,  35.1874,2,  35.1890,2,    152.0,2,   152.5,2,   13.51,2,   23.47,2,    0.00,2,    1.50,2,   1.185,2,   0.669,2,   0.022,2,    0.00,4,  2191.2,6, 2321.09,2,   7.6863,2,       25,    -999,9,     -999,9,    -999,9,   8.8105,2,    -999,9,    -999,9,    -999,    -999,9,    -999,    0.37,2,   46.13,2,   27.23,2,  33.7840, -65.9872,    -999,     -999,    -999,   8.7046,   8.8105,2,-999,9,-999,-999,9,-999,    35.3549,2,-999,1,20120331,       1305
33AT20120324,        A22,      23,          1,         20,         20,2,20120331,       1133,    33.7842,   -65.9914,       5118,  1007.8,   7.0186,  35.0947,2,  35.0947,2,    183.9,2,   185.7,2,   13.38,2,   21.70,2,    0.00,2,    1.41,2,   0.911,2,   0.477,2,   0.030,2,    0.00,4,  2186.9,2, 2315.67,2,   7.6950,2,       25,    -999,9,     -999,9,    -999,9,   7.0230,2,    -999,9,    -999,9,    -999,    -999,9,    -999,    0.61,2,   45.69,2,   24.22,2,  33.7841, -65.9875,    -999,     -999,    -999,   6.9184,   7.0230,2,-999,9,-999,-999,9,-999,    35.2601,2,-999,1,20120331,       1302
33AT20120324,        A22,      23,          1,         19,         19,2,20120331,       1133,    33.7842,   -65.9914,       5118,  1109.4,   5.9241,  35.0702,2,  35.0709,2,    213.4,2,   213.0,2,   12.69,2,   20.08,2,    0.00,2,    1.32,2,   1.667,5,   0.958,5,   0.072,5,    0.07,4,  2179.3,2, 2311.70,2,   7.7033,2,       25,    -999,9,     -999,9,    -999,9,   5.9239,2,    -999,9,    -999,9,    -999,    -999,9,    -999,    0.93,5,   45.24,2,   22.96,2,  33.7842, -65.9879,    -999,     -999,    -999,   5.8221,   5.9239,2,-999,9,-999,-999,9,-999,    35.2362,2,-999,1,20120331,       1259
33AT20120324,        A22,      23,          1,         18,         18,2,20120331,       1133,    33.7842,   -65.9914,       5118,  1211.3,   5.3447,  35.0503,2,  35.0510,2,    229.6,2,   229.5,2,   12.15,2,   19.09,2,    0.00,2,    1.26,2,   1.910,2,   1.081,2,   0.096,2,    0.18,4,    -999,9,    -999,9,     -999,9,     -999,    -999,9,     -999,9,    -999,9,   5.3454,2,    -999,9,    -999,9,    -999,    -999,9,    -999,    1.19,2,   44.69,2,   22.61,2,  33.7842, -65.9882,    -999,     -999,    -999,   5.2377,   5.3454,2,-999,9,-999,-999,9,-999,    35.2163,2,-999,1,20120331,       1257
33AT20120324,        A22,      23,          1,         17,         17,2,20120331,       1133,    33.7842,   -65.9914,       5118,  1311.2,   4.8675,  35.0178,2,  35.0185,2,    242.9,2,   242.7,2,   11.76,2,   18.34,2,    0.00,2,    1.21,2,   2.188,2,   1.264,2,   0.127,2,    0.42,4,  2170.8,2, 2309.18,2,   7.7180,2,       25,    -999,9,     -999,9,    -999,9,   4.8606,2,    -999,9,    -999,9,    -999,    -999,9,    -999,    1.46,2,   44.53,2,   22.26,2,  33.7842, -65.9885,    -999,     -999,    -999,   4.7555,   4.8606,2,-999,9,-999,-999,9,-999,    35.1836,2,-999,1,20120331,       1254
33AT20120324,        A22,      23,          1,         16,         16,2,20120331,       1133,    33.7842,   -65.9914,       5118,  1413.8,   4.5784,  34.9964,2,  34.9963,2,    250.9,2,   250.1,2,   11.64,2,   18.07,2,    0.00,2,    1.19,2,   2.328,2,   1.304,2,   0.140,2,    0.06,4,  2167.3,2, 2306.41,2,   7.7189,2,       25,    -999,9,     -999,9,    -999,9,   4.5785,2,    -999,9,    -999,9,    -999,    -999,9,    -999,    1.60,2,   44.37,2,   20.84,2,  33.7843, -65.9887,    -999,     -999,    -999,   4.4598,   4.5785,2,-999,9,-999,-999,9,-999,    35.1613,2,-999,1,20120331,       1251
33AT20120324,        A22,      23,          1,         15,         15,2,20120331,       1133,    33.7842,   -65.9914,       5118,  1513.9,   4.3623,  34.9862,2,  34.9861,2,    254.4,2,   254.5,2,   11.74,2,   17.90,2,    0.00,2,    1.19,2,   2.266,2,   1.271,2,   0.138,2,    0.11,4,    -999,9,    -999,9,     -999,9,     -999,    -999,9,     -999,9,    -999,9,   4.3626,2,    -999,9,    -999,9,    -999,    -999,9,    -999,    1.60,2,   44.76,2,   20.46,2,  33.7843, -65.9889,    -999,     -999,    -999,   4.2367,   4.3626,2,-999,9,-999,-999,9,-999,    35.1510,2,-999,1,20120331,       1248
33AT20120324,        A22,      23,          1,         14,         14,2,20120331,       1133,    33.7842,   -65.9914,       5118,  1617.1,   4.2222,  34.9828,2,  34.9835,2,    256.3,2,   257.0,2,   11.95,2,   17.81,2,    0.00,2,    1.19,2,   2.130,2,   1.163,2,   0.131,2,    0.29,4,  2164.6,2, 2309.21,2,   7.7267,2,       25,    -999,9,     -999,9,    -999,9,   4.2222,2,    -999,9,    -999,9,    -999,    -999,9,    -999,    1.65,2,   44.21,2,   20.26,2,  33.7843, -65.9891,    -999,     -999,    -999,   4.0885,   4.2222,2,-999,9,-999,-999,9,-999,    35.1485,2,-999,1,20120331,       1246
33AT20120324,        A22,      23,          1,         13,         13,2,20120331,       1133,    33.7842,   -65.9914,       5118,  1820.0,   4.0161,  34.9802,2,  34.9819,2,    258.1,2,   259.2,2,   12.76,2,   17.83,2,    0.00,2,    1.18,2,   1.812,2,   0.951,2,   0.103,2,    0.11,4,    -999,9,    -999,9,     -999,9,     -999,    -999,9,     -999,9,    -999,9,   4.0157,2,    -999,9,    -999,9,    -999,    -999,9,    -999,    1.49,2,   43.67,2,   20.06,2,  33.7844, -65.9895,    -999,     -999,    -999,   3.8657,   4.0157,2,-999,9,-999,-999,9,-999,    35.1469,2,-999,1,20120331,       1241
33AT20120324,        A22,      23,          1,         12,         12,2,20120331,       1133,    33.7842,   -65.9914,       5118,  2020.8,   3.7213,  34.9592,2,  34.9601,2,    262.4,2,   262.9,2,   13.42,2,   17.69,2,    0.00,2,    1.18,2,   1.601,2,   0.868,2,   0.081,2,    0.15,4,  2160.9,2, 2307.92,2,   7.7347,2,       25,    -999,9,     -999,9,    -999,9,   3.7211,2,    -999,9,    -999,9,    -999,    -999,9,    -999,    1.31,2,   44.31,2,   20.33,2,  33.7844, -65.9900,    -999,     -999,    -999,   3.5559,   3.7211,2,-999,9,-999,-999,9,-999,    35.1250,2,-999,1,20120331,       1237
33AT20120324,        A22,      23,          1,         11,         11,2,20120331,       1133,    33.7842,   -65.9914,       5118,  2275.1,   3.5442,  34.9632,2,  34.9641,2,    262.8,2,   262.0,2,   19.71,2,   18.50,2,    0.00,2,    1.24,2,   1.152,2,   0.598,2,   0.051,2,    0.04,4,    -999,9,    -999,9,     -999,9,     -999,    -999,9,     -999,9,    -999,9,   3.5437,2,    -999,9,    -999,9,    -999,    -999,9,    -999,    1.05,2,   43.61,2,   20.87,2,  33.7845, -65.9905,    -999,     -999,    -999,   3.3568,   3.5437,2,-999,9,-999,-999,9,-999,    35.1289,2,-999,1,20120331,       1232
33AT20120324,        A22,      23,          1,         10,         10,2,20120331,       1133,    33.7842,   -65.9914,       5118,  2530.7,   3.3973,  34.9718,2,  34.9727,2,    256.7,2,   256.8,2,   19.77,2,   18.52,2,    0.00,2,    1.24,2,   0.553,2,   0.299,2,   0.022,2,    0.05,4,  2165.2,2, 2317.61,2,   7.7384,2,       25,    -999,9,     -999,9,    -999,9,   3.3970,2,    -999,9,    -999,9,    -999,    -999,9,    -999,    0.62,2,   44.04,2,   22.04,2,  33.7845, -65.9912,    -999,     -999,    -999,   3.1868,   3.3970,2,-999,9,-999,-999,9,-999,    35.1376,2,-999,1,20120331,       1226
33AT20120324,        A22,      23,          1,          9,          9,2,20120331,       1133,    33.7842,   -65.9914,       5118,  2787.2,   3.1386,  34.9538,2,  34.9544,2,    258.4,2,   258.1,2,   21.65,2,   18.54,2,    0.00,2,    1.25,2,   0.473,2,   0.254,2,   0.016,2,    0.03,4,    -999,9,    -999,9,     -999,9,     -999,    -999,9,     -999,9,    -999,9,   3.1382,2,    -999,9,    -999,9,    -999,    -999,9,    -999,    0.55,2,   42.89,2,   22.26,2,  33.7846, -65.9920,    -999,     -999,    -999,   2.9070,   3.1382,2,-999,9,-999,-999,9,-999,    35.1193,2,-999,1,20120331,       1221
33AT20120324,        A22,      23,          1,          8,          8,2,20120331,       1133,    33.7842,   -65.9914,       5118,  3040.7,   2.9152,  34.9382,2,  34.9385,2,    261.4,2,   261.5,2,   22.44,2,   18.41,2,    0.00,2,    1.24,2,   0.498,2,   0.263,2,   0.020,2,    0.07,4,  2165.3,2, 2320.32,2,   7.7463,2,       25,    -999,9,     -999,9,    -999,9,   2.9145,2,    -999,9,    -999,9,    -999,    -999,9,    -999,    0.59,2,   42.69,2,   22.07,2,  33.7846, -65.9925,    -999,     -999,    -999,   2.6620,   2.9145,2,-999,9,-999,-999,9,-999,    35.1033,2,-999,1,20120331,       1216
33AT20120324,        A22,      23,          1,          7,          7,2,20120331,       1133,    33.7842,   -65.9914,       5118,  3346.8,   2.6486,  34.9190,2,  34.9192,2,    266.0,2,   265.9,2,   22.72,2,   17.96,2,    0.00,2,    1.22,2,   0.711,2,   0.374,2,   0.036,2,    0.10,4,    -999,9,    -999,9,     -999,9,     -999,    -999,9,     -999,9,    -999,9,   2.6479,2,    -999,9,    -999,9,    -999,    -999,9,    -999,    0.77,2,   42.12,2,   22.00,2,  33.7844, -65.9920,    -999,     -999,    -999,   2.3690,   2.6479,2,-999,9,-999,-999,9,-999,    35.0839,2,-999,1,20120331,       1210
33AT20120324,        A22,      23,          1,          6,          6,2,20120331,       1133,    33.7842,   -65.9914,       5118,  3654.3,   2.4588,  34.9067,2,  34.9065,2,    266.8,2,   266.6,2,   25.28,2,   18.06,2,    0.00,2,    1.23,2,   0.764,2,   0.405,2,   0.045,2,    0.15,4,  2167.8,2, 2319.29,2,   7.7388,2,       25,    -999,9,     -999,9,    -999,9,   2.4599,2,    -999,9,    -999,9,    -999,    -999,9,    -999,    0.81,2,   43.02,2,   20.70,2,  33.7843, -65.9915,    -999,     -999,    -999,   2.1505,   2.4599,2,-999,9,-999,-999,9,-999,    35.0711,2,-999,1,20120331,       1204