BOTTLE,20220725CCHSIOCBG
EXPOCODE,SECT_ID,STNNBR,CASTNO,SAMPNO,BTLNBR,BTLNBR_FLAG_W,DATE,TIME,LATITUDE,LONGITUDE,DEPTH,CTDPRS,CTDTMP,CTDSAL,CTDSAL_FLAG_W,SALNTY,SALNTY_FLAG_W,CTDOXY,CTDOXY_FLAG_W,OXYGEN,OXYGEN_FLAG_W,SILCAT,SILCAT_FLAG_W,NITRAT,NITRAT_FLAG_W,NITRIT,NITRIT_FLAG_W,PHSPHT,PHSPHT_FLAG_W,CFC-11,CFC-11_FLAG_W,CFC-12,CFC-12_FLAG_W,CFC113,CFC113_FLAG_W,SF6,SF6_FLAG_W,TCARBN,TCARBN_FLAG_W,ALKALI,ALKALI_FLAG_W,PH_TOT,PH_TOT_FLAG_W,PH_TMP,TRITUM,TRITUM_FLAG_W,HELIUM,HELIUM_FLAG_W,DELHE3,DELHE3_FLAG_W,REFTMP,REFTMP_FLAG_W,DELC13,DELC13_FLAG_W,DELC14,DELC14_FLAG_W,C14ERR,NEON,NEON_FLAG_W,NEONER,CCL4,CCL4_FLAG_W,DOC,DOC_FLAG_W,TDN,TDN_FLAG_W,BTL_LAT,BTL_LON,TRITER,HELIER,DELHER,THETA,SBE35,SBE35_FLAG_W,14C-DOC,14C-DOC_FLAG_W,14C-DOCERR,13C-DOC,13C-DOC_FLAG_W,13C-DOCERR,SALTREF,SALTREF_FLAG_W,LAB_DEN,LAB_DEN_FLAG_W,BTL_DATE,BTL_TIME
,,,,,,,,,,,METERS,DBAR,ITS-90,PSS-78,,PSS-78,,UMOL/KG,,UMOL/KG,,UMOL/KG,,UMOL/KG,,UMOL/KG,,UMOL/KG,,PMOL/KG,,PMOL/KG,,PMOL/KG,,FMOL/KG,,UMOL/KG,,UMOL/KG,,,,DEG C,TU,,NMOL/KG,,PERCNT,,DEG C,,/MILLE,,/MILLE,,/MILLE,NMOL/KG,,NMOL/KG,PMOL/KG,,UMOL/KG,,UMOL/KG,,,,TU,NMOL/KG,PERCNT,DEG C,ITS-90,,/MILLE,,/MILLE,/MILLE,,/MILLE,G/KG,,KG/M^3,,,
33AT20120324,        A22,      28,          1,          5,          5,2,20120401,       2100,    31.3098,   -65.2875,       4653,  3548.8,   2.3119,  34.8987,2,  34.8981,2,    265.2,2,   265.5,2,   27.59,2,   18.30,2,    0.00,2,    1.26,2,   0.848,2,   0.402,2,   0.040,2,    0.15,2,  2169.9,2, 2325.21,2,   7.7375,2,       25,    -999,9,     -999,9,    -999,9,   2.3121,2,    -999,9,    -999,9,    -999,    -999,9,    -999,    -999,1,    -999,9,    -999,9,  31.3099, -65.2877,    -999,     -999,    -999,   2.0189,   2.3121,2,-999,9,-999,-999,9,-999,    35.0627,2,-999,1,20120401,       2124
33AT20120324,        A22,      28,          1,          4,          4,2,20120401,       2100,    31.3098,   -65.2875,       4653,  3857.9,   2.2321,  34.8902,2,  34.8895,2,    263.3,2,   263.2,2,   31.06,2,   18.75,2,    0.00,2,    1.30,2,   0.830,2,   0.397,2,   0.048,2,    0.17,2,  2172.5,2, 2328.29,2,   7.7358,2,       25,   0.157,2,   1.8720,2,    5.35,2,   2.2323,2,    -999,9,    -999,9,    -999,   8.105,2,   0.036,    -999,1,    -999,9,    -999,9,  31.3099, -65.2877,   0.010,   0.0075,    0.15,   1.9073,   2.2323,2,-999,9,-999,-999,9,-999,    35.0540,2,-999,1,20120401,       2118
33AT20120324,        A22,      28,          1,          3,          3,2,20120401,       2100,    31.3098,   -65.2875,       4653,  4166.2,   2.1979,  34.8833,2,  34.8821,2,    260.7,2,   261.0,2,   34.49,2,   19.32,2,    0.00,2,    1.33,2,   0.785,2,   0.379,2,   0.047,2,    0.18,2,  2177.1,2, 2332.55,2,   7.7338,2,       25,    -999,9,     -999,9,    -999,9,   2.1982,2,    -999,9,    -999,9,    -999,    -999,9,    -999,    -999,1,    -999,9,    -999,9,  31.3099, -65.2876,    -999,     -999,    -999,   1.8391,   2.1982,2,-999,9,-999,-999,9,-999,    35.0466,2,-999,1,20120401,       2112
33AT20120324,        A22,      28,          1,          2,          2,2,20120401,       2100,    31.3098,   -65.2875,       4653,  4475.3,   2.2002,  34.8793,2,  34.8790,2,    259.2,2,   259.2,2,   36.80,2,   19.66,2,    0.00,2,    1.36,2,   0.694,2,   0.329,2,   0.043,2,    0.16,2,  2179.5,2, 2333.07,6,   7.7287,6,       25,    -999,9,     -999,9,    -999,9,   2.2003,2,    -999,9,    -999,9,    -999,    -999,9,    -999,    -999,1,    -999,9,    -999,9,  31.3098, -65.2875,    -999,     -999,    -999,   1.8051,   2.2003,2,-999,9,-999,-999,9,-999,    35.0434,2,-999,1,20120401,       2105
33AT20120324,        A22,      28,          1,          1,          1,2,20120401,       2100,    31.3098,   -65.2875,       4653,  4708.5,   2.2045,  34.8762,2,  34.8760,2,    257.5,2,   257.7,2,   38.69,2,   20.00,2,    0.00,2,    1.38,2,   0.597,2,   0.281,2,   0.043,2,    0.19,2,  2183.3,2, 2336.60,2,   7.7356,2,       25,   0.103,2,   1.8795,2,    4.63,2,   2.2048,2,    -999,9,    -999,9,    -999,   8.226,2,   0.037,    -999,1,    -999,9,    -999,9,  31.3098, -65.2875,   0.009,   0.0075,    0.15,   1.7812,   2.2048,2,-999,9,-999,-999,9,-999,    35.0405,2,-999,1,20120401,       2101