BOTTLE,20220725CCHSIOCBG
EXPOCODE,SECT_ID,STNNBR,CASTNO,SAMPNO,BTLNBR,BTLNBR_FLAG_W,DATE,TIME,LATITUDE,LONGITUDE,DEPTH,CTDPRS,CTDTMP,CTDSAL,CTDSAL_FLAG_W,SALNTY,SALNTY_FLAG_W,CTDOXY,CTDOXY_FLAG_W,OXYGEN,OXYGEN_FLAG_W,SILCAT,SILCAT_FLAG_W,NITRAT,NITRAT_FLAG_W,NITRIT,NITRIT_FLAG_W,PHSPHT,PHSPHT_FLAG_W,CFC-11,CFC-11_FLAG_W,CFC-12,CFC-12_FLAG_W,CFC113,CFC113_FLAG_W,SF6,SF6_FLAG_W,TCARBN,TCARBN_FLAG_W,ALKALI,ALKALI_FLAG_W,PH_TOT,PH_TOT_FLAG_W,PH_TMP,TRITUM,TRITUM_FLAG_W,HELIUM,HELIUM_FLAG_W,DELHE3,DELHE3_FLAG_W,REFTMP,REFTMP_FLAG_W,DELC13,DELC13_FLAG_W,DELC14,DELC14_FLAG_W,C14ERR,NEON,NEON_FLAG_W,NEONER,CCL4,CCL4_FLAG_W,DOC,DOC_FLAG_W,TDN,TDN_FLAG_W,BTL_LAT,BTL_LON,TRITER,HELIER,DELHER,THETA,SBE35,SBE35_FLAG_W,14C-DOC,14C-DOC_FLAG_W,14C-DOCERR,13C-DOC,13C-DOC_FLAG_W,13C-DOCERR,SALTREF,SALTREF_FLAG_W,LAB_DEN,LAB_DEN_FLAG_W,BTL_DATE,BTL_TIME
,,,,,,,,,,,METERS,DBAR,ITS-90,PSS-78,,PSS-78,,UMOL/KG,,UMOL/KG,,UMOL/KG,,UMOL/KG,,UMOL/KG,,UMOL/KG,,PMOL/KG,,PMOL/KG,,PMOL/KG,,FMOL/KG,,UMOL/KG,,UMOL/KG,,,,DEG C,TU,,NMOL/KG,,PERCNT,,DEG C,,/MILLE,,/MILLE,,/MILLE,NMOL/KG,,NMOL/KG,PMOL/KG,,UMOL/KG,,UMOL/KG,,,,TU,NMOL/KG,PERCNT,DEG C,ITS-90,,/MILLE,,/MILLE,/MILLE,,/MILLE,G/KG,,KG/M^3,,,
33AT20120324,        A22,      74,          1,         36,         36,2,20120413,       1101,    13.4759,   -69.8231,       3750,     3.6,  26.7898,  35.8640,2,  35.8639,2,    192.3,2,   201.0,2,    0.78,2,    0.00,2,    0.00,2,    0.02,2,   1.684,2,   1.040,2,   0.136,2,    1.17,2,  2012.9,6, 2352.73,2,   8.0900,2,       25,    -999,9,     -999,9,    -999,9,  26.7923,2,    -999,9,    -999,9,    -999,    -999,9,    -999,    -999,1,    -999,9,    -999,9,  13.4759, -69.8223,    -999,     -999,    -999,  26.7890,  26.7923,2,-999,9,-999,-999,9,-999,    36.0331,2,-999,9,20120413,       1238
33AT20120324,        A22,      74,          1,         35,         35,2,20120413,       1101,    13.4759,   -69.8231,       3750,    25.4,  26.4546,  35.9898,2,  35.9550,2,    201.0,2,   200.4,2,    0.59,2,    0.00,2,    0.00,2,    0.02,2,    -999,9,    -999,9,    -999,9,    -999,9,    -999,9,    -999,9,     -999,9,     -999,    -999,9,     -999,9,    -999,9,  26.4441,2,    -999,9,    -999,9,    -999,    -999,9,    -999,    -999,9,    -999,9,    -999,9,  13.4759, -69.8223,    -999,     -999,    -999,  26.4488,  26.4441,2,-999,9,-999,-999,9,-999,    36.1246,2,-999,9,20120413,       1236
33AT20120324,        A22,      74,          1,         34,         34,2,20120413,       1101,    13.4759,   -69.8231,       3750,    50.6,  26.7825,  36.5100,2,  36.5117,2,    200.5,2,   200.2,2,    0.45,2,    0.00,2,    0.00,2,    0.00,2,   1.697,2,   1.044,2,   0.133,2,    1.08,2,  2058.2,2, 2389.45,2,   8.0645,2,       25,    -999,9,     -999,9,    -999,9,  26.7792,2,    -999,9,    -999,9,    -999,    -999,9,    -999,    -999,1,    -999,9,    -999,9,  13.4760, -69.8224,    -999,     -999,    -999,  26.7709,  26.7792,2,-999,9,-999,-999,9,-999,    36.6839,2,-999,9,20120413,       1234
33AT20120324,        A22,      74,          1,         33,         33,2,20120413,       1101,    13.4759,   -69.8231,       3750,    75.2,  26.2834,  36.6413,2,  36.6501,2,    197.5,2,   199.5,2,    0.40,2,    0.00,2,    0.00,2,    0.00,2,   1.718,2,   1.081,2,   0.140,2,    1.11,2,    -999,9,    -999,9,     -999,9,     -999,    -999,9,     -999,9,    -999,9,  26.2796,2,    -999,9,    -999,9,    -999,    -999,9,    -999,    -999,1,    -999,9,    -999,9,  13.4760, -69.8225,    -999,     -999,    -999,  26.2664,  26.2796,2,-999,9,-999,-999,9,-999,    36.8229,2,-999,9,20120413,       1233
33AT20120324,        A22,      74,          1,         32,         32,2,20120413,       1101,    13.4759,   -69.8231,       3750,   101.5,  23.3975,  36.7326,2,  36.7250,2,    150.2,2,   153.5,2,    1.74,2,    4.03,2,    0.08,2,    0.23,2,   1.911,2,   1.157,2,   0.092,2,    1.02,2,  2124.7,2, 2400.40,2,   7.9667,2,       25,    -999,9,     -999,9,    -999,9,  23.3744,2,    -999,9,    -999,9,    -999,    -999,9,    -999,    -999,1,    -999,9,    -999,9,  13.4761, -69.8226,    -999,     -999,    -999,  23.3764,  23.3744,2,-999,9,-999,-999,9,-999,    36.8982,2,-999,9,20120413,       1231
33AT20120324,        A22,      74,          1,         31,         31,2,20120413,       1101,    13.4759,   -69.8231,       3750,   125.9,  21.1366,  36.7901,2,  36.7912,2,    136.6,2,   136.3,2,    2.42,2,    7.39,2,    0.04,2,    0.39,2,   2.035,2,   1.170,2,   0.039,2,    1.12,2,    -999,9,    -999,9,     -999,9,     -999,    -999,9,     -999,9,    -999,9,  21.1543,2,    -999,9,    -999,9,    -999,    -999,9,    -999,    -999,1,    -999,9,    -999,9,  13.4761, -69.8226,    -999,     -999,    -999,  21.1122,  21.1543,2,-999,9,-999,-999,9,-999,    36.9647,2,-999,9,20120413,       1229
33AT20120324,        A22,      74,          1,         30,         30,2,20120413,       1101,    13.4759,   -69.8231,       3750,   151.1,  19.1974,  36.5866,2,  36.5820,2,    137.5,2,   139.4,2,    3.06,2,    9.37,2,    0.02,2,    0.51,2,    -999,9,    -999,9,    -999,9,    -999,9,  2159.3,2, 2390.37,2,   7.8846,2,       25,    -999,9,     -999,9,    -999,9,  19.1976,2,    -999,9,    -999,9,    -999,    -999,9,    -999,    -999,9,    -999,9,    -999,9,  13.4762, -69.8227,    -999,     -999,    -999,  19.1700,  19.1976,2,-999,9,-999,-999,9,-999,    36.7545,2,-999,9,20120413,       1228
33AT20120324,        A22,      74,          1,         29,         29,2,20120413,       1101,    13.4759,   -69.8231,       3750,   201.3,  17.1501,  36.3002,2,  36.3018,2,    147.9,2,   148.6,2,    3.69,2,   11.22,2,    0.01,2,    0.63,2,   2.258,2,   1.321,2,   0.019,2,    0.99,2,  2155.6,2, 2374.50,2,   7.8635,2,       25,    -999,9,     -999,9,    -999,9,  17.1515,2,    -999,9,    -999,9,    -999,    -999,9,    -999,    -999,1,    -999,9,    -999,9,  13.4762, -69.8228,    -999,     -999,    -999,  17.1164,  17.1515,2,-999,9,-999,-999,9,-999,    36.4730,2,-999,9,20120413,       1225
33AT20120324,        A22,      74,          1,         28,         28,2,20120413,       1101,    13.4759,   -69.8231,       3750,   251.7,  15.0519,  35.9234,2,  35.9143,2,    137.6,2,   136.9,2,    5.91,2,   15.93,2,    0.01,2,    0.96,2,   2.179,2,   1.226,2,   0.017,2,    0.73,2,    -999,9,    -999,9,     -999,9,     -999,    -999,9,     -999,9,    -999,9,  15.0585,2,    -999,9,    -999,9,    -999,    -999,9,    -999,    -999,1,    -999,9,    -999,9,  13.4763, -69.8228,    -999,     -999,    -999,  15.0133,  15.0585,2,-999,9,-999,-999,9,-999,    36.0837,2,-999,9,20120413,       1224
33AT20120324,        A22,      74,          1,         27,         27,2,20120413,       1101,    13.4759,   -69.8231,       3750,   303.5,  13.3856,  35.6404,2,  35.6386,2,    131.4,2,   130.4,2,    7.87,2,   19.28,2,    0.01,2,    1.18,2,   2.048,2,   1.150,2,   0.013,2,    0.63,2,    -999,9,    -999,9,     -999,9,     -999,    -999,9,     -999,9,    -999,9,  13.3848,2,    -999,9,    -999,9,    -999,    -999,9,    -999,    -999,1,    -999,9,    -999,9,  13.4763, -69.8228,    -999,     -999,    -999,  13.3426,  13.3848,2,-999,9,-999,-999,9,-999,    35.8067,2,-999,9,20120413,       1222
33AT20120324,        A22,      74,          1,         26,         26,2,20120413,       1101,    13.4759,   -69.8231,       3750,   352.9,  12.2710,  35.4730,2,  35.4656,2,    125.0,2,   123.3,2,    9.39,2,   22.02,2,    0.01,2,    1.37,2,   1.869,2,   0.957,2,   0.017,2,    0.57,2,  2187.9,2, 2329.14,4,   7.7032,2,       25,    -999,9,     -999,9,    -999,9,  12.2717,2,    -999,9,    -999,9,    -999,    -999,9,    -999,    -999,1,    -999,9,    -999,9,  13.4763, -69.8228,    -999,     -999,    -999,  12.2238,  12.2717,2,-999,9,-999,-999,9,-999,    35.6328,2,-999,9,20120413,       1220
33AT20120324,        A22,      74,          1,         25,         25,2,20120413,       1101,    13.4759,   -69.8231,       3750,   404.9,  11.0900,  35.2762,2,  35.2595,2,    119.1,2,   120.0,2,   11.59,2,   24.77,2,    0.01,2,    1.55,2,    -999,9,    -999,9,    -999,9,    -999,9,    -999,9,    -999,9,     -999,9,     -999,    -999,9,     -999,9,    -999,9,  11.0958,2,    -999,9,    -999,9,    -999,    -999,9,    -999,    -999,9,    -999,9,    -999,9,  13.4763, -69.8228,    -999,     -999,    -999,  11.0392,  11.0958,2,-999,9,-999,-999,9,-999,    35.4258,2,-999,9,20120413,       1219
33AT20120324,        A22,      74,          1,         24,         24,2,20120413,       1101,    13.4759,   -69.8231,       3750,   457.2,   9.7864,  35.0485,2,  35.0492,2,    120.2,2,   119.7,2,   14.03,2,   27.12,2,    0.00,2,    1.74,2,   1.519,2,   0.783,2,   0.023,2,    0.36,2,    -999,9,    -999,9,     -999,9,     -999,    -999,9,     -999,9,    -999,9,   9.7881,2,    -999,9,    -999,9,    -999,    -999,9,    -999,    -999,1,    -999,9,    -999,9,  13.4763, -69.8228,    -999,     -999,    -999,   9.7333,   9.7881,2,-999,9,-999,-999,9,-999,    35.2144,2,-999,9,20120413,       1217
33AT20120324,        A22,      74,          1,         23,         23,2,20120413,       1101,    13.4759,   -69.8231,       3750,   503.8,   9.3342,  34.9880,2,  34.9869,2,    119.9,2,   119.8,2,   15.11,2,   28.12,2,    0.00,2,    1.81,2,   1.393,2,   0.676,2,   0.018,2,    0.32,2,  2202.4,2, 2310.25,6,   7.6156,6,       25,    -999,9,     -999,9,    -999,9,   9.3331,2,    -999,9,    -999,9,    -999,    -999,9,    -999,    -999,1,    -999,9,    -999,9,  13.4763, -69.8228,    -999,     -999,    -999,   9.2773,   9.3331,2,-999,9,-999,-999,9,-999,    35.1519,2,-999,9,20120413,       1215
33AT20120324,        A22,      74,          1,         22,         22,2,20120413,       1101,    13.4759,   -69.8231,       3750,   604.4,   7.3749,  34.7869,2,  34.7863,2,    123.8,2,   122.7,2,   20.66,2,   31.66,2,    0.00,2,    2.06,2,   0.753,2,   0.374,2,   0.017,2,    0.19,2,  2210.8,2, 2313.77,4,   7.5737,2,       25,    -999,9,     -999,9,    -999,9,   7.3742,2,    -999,9,    -999,9,    -999,    -999,9,    -999,    -999,1,    -999,9,    -999,9,  13.4762, -69.8228,    -999,     -999,    -999,   7.3151,   7.3742,2,-999,9,-999,-999,9,-999,    34.9503,2,-999,9,20120413,       1212
33AT20120324,        A22,      74,          1,         21,         21,2,20120413,       1101,    13.4759,   -69.8231,       3750,   703.4,   6.5914,  34.7343,2,  34.7345,2,    128.8,2,   128.1,2,   23.08,2,   32.43,2,    0.00,2,    2.14,2,   0.512,2,   0.243,2,   0.012,2,    0.12,2,  2215.9,2, 2311.62,3,   7.5664,2,       25,    -999,9,     -999,9,    -999,9,   6.5914,2,    -999,9,    -999,9,    -999,    -999,9,    -999,    -999,1,    -999,9,    -999,9,  13.4762, -69.8228,    -999,     -999,    -999,   6.5255,   6.5914,2,-999,9,-999,-999,9,-999,    34.8983,2,-999,9,20120413,       1210
33AT20120324,        A22,      74,          1,         20,         20,2,20120413,       1101,    13.4759,   -69.8231,       3750,   805.5,   6.1732,  34.7532,2,  34.7528,2,    135.0,2,   135.3,2,   24.37,2,   31.88,2,    0.00,2,    2.11,2,    -999,9,    -999,9,    -999,9,    -999,9,  2213.3,2, 2308.23,2,   7.5763,2,       25,    -999,9,     -999,9,    -999,9,   6.1694,2,    -999,9,    -999,9,    -999,    -999,9,    -999,    -999,9,    -999,9,    -999,9,  13.4762, -69.8229,    -999,     -999,    -999,   6.0997,   6.1694,2,-999,9,-999,-999,9,-999,    34.9167,2,-999,9,20120413,       1208
33AT20120324,        A22,      74,          1,         19,         19,2,20120413,       1101,    13.4759,   -69.8231,       3750,   906.6,   5.7498,  34.8154,2,  34.8186,2,    148.3,2,   150.4,2,   24.69,2,   29.99,2,    0.00,2,    1.99,2,   0.236,2,   0.109,2,   0.006,2,    0.06,2,  2210.3,2, 2314.27,2,   7.6064,2,       25,    -999,9,     -999,9,    -999,9,   5.7502,2,    -999,9,    -999,9,    -999,    -999,9,    -999,    -999,1,    -999,9,    -999,9,  13.4761, -69.8229,    -999,     -999,    -999,   5.6693,   5.7502,2,-999,9,-999,-999,9,-999,    34.9828,2,-999,9,20120413,       1205
33AT20120324,        A22,      74,          1,         18,         18,2,20120413,       1101,    13.4759,   -69.8231,       3750,  1008.0,   5.3187,  34.8932,2,  34.8967,2,    169.1,2,   170.4,2,   24.89,2,   27.17,2,    0.00,2,    1.83,2,   0.155,2,   0.069,2,   0.003,2,    0.06,2,    -999,9,    -999,9,     -999,9,     -999,    -999,9,   1.8339,2,    2.11,2,   5.3125,2,    -999,9,    -999,9,    -999,   7.757,2,   0.035,    -999,1,    -999,9,    -999,9,  13.4761, -69.8229,    -999,   0.0073,    0.15,   5.2316,   5.3125,2,-999,9,-999,-999,9,-999,    35.0612,2,-999,9,20120413,       1203
33AT20120324,        A22,      74,          1,         17,         17,2,20120413,       1101,    13.4759,   -69.8231,       3750,  1108.6,   4.9633,  34.9347,2,  34.9383,2,    182.0,2,   185.0,2,   24.85,2,   25.23,2,    0.00,2,    1.72,2,   0.121,2,   0.055,2,   0.004,2,    0.06,2,    -999,9,    -999,9,     -999,9,     -999,    -999,9,     -999,9,    -999,9,   4.9641,2,    -999,9,    -999,9,    -999,    -999,9,    -999,    -999,1,    -999,9,    -999,9,  13.4761, -69.8229,    -999,     -999,    -999,   4.8696,   4.9641,2,-999,9,-999,-999,9,-999,    35.1031,2,-999,9,20120413,       1200
33AT20120324,        A22,      74,          1,         16,         16,2,20120413,       1101,    13.4759,   -69.8231,       3750,  1210.1,   4.6918,  34.9522,2,  34.9548,2,    194.4,2,   195.3,2,   25.00,2,   24.16,2,    0.00,2,    1.64,2,   0.108,2,   0.055,2,   0.006,2,    0.05,2,    -999,9,    -999,9,     -999,9,     -999,    -999,9,     -999,9,    -999,9,   4.6924,2,    -999,9,    -999,9,    -999,    -999,9,    -999,    -999,1,    -999,9,    -999,9,  13.4761, -69.8229,    -999,     -999,    -999,   4.5911,   4.6924,2,-999,9,-999,-999,9,-999,    35.1197,2,-999,9,20120413,       1158
33AT20120324,        A22,      74,          1,         15,         15,2,20120413,       1101,    13.4759,   -69.8231,       3750,  1311.2,   4.5459,  34.9606,2,  34.9643,2,    201.4,2,   201.5,2,   24.86,2,   23.49,2,    0.00,2,    1.60,2,    -999,9,    -999,9,    -999,9,    -999,9,    -999,9,    -999,9,     -999,9,     -999,    -999,9,     -999,9,    -999,9,   4.5452,2,    -999,9,    -999,9,    -999,    -999,9,    -999,    -999,9,    -999,9,    -999,9,  13.4760, -69.8230,    -999,     -999,    -999,   4.4372,   4.5452,2,-999,9,-999,-999,9,-999,    35.1292,2,-999,9,20120413,       1155
33AT20120324,        A22,      74,          1,         14,         14,2,20120413,       1101,    13.4759,   -69.8231,       3750,  1411.9,   4.4269,  34.9658,2,  34.9691,2,    205.0,2,   205.6,2,   25.26,2,   23.05,2,    0.00,2,    1.57,2,   0.102,2,   0.054,2,   0.003,2,    0.06,2,    -999,9,    -999,9,     -999,9,     -999,    -999,9,     -999,9,    -999,9,   4.4266,2,    -999,9,    -999,9,    -999,    -999,9,    -999,    -999,1,    -999,9,    -999,9,  13.4761, -69.8230,    -999,     -999,    -999,   4.3101,   4.4266,2,-999,9,-999,-999,9,-999,    35.1339,2,-999,9,20120413,       1153
33AT20120324,        A22,      74,          1,         13,         13,2,20120413,       1101,    13.4759,   -69.8231,       3750,  1512.4,   4.3315,  34.9690,2,  34.9728,2,    208.6,2,   209.6,2,   25.80,2,   22.80,2,    0.00,2,    1.55,2,   0.097,2,   0.052,2,   0.006,2,    0.07,2,    -999,9,    -999,9,     -999,9,     -999,    -999,9,     -999,9,    -999,9,   4.3326,2,    -999,9,    -999,9,    -999,    -999,9,    -999,    -999,1,    -999,9,    -999,9,  13.4760, -69.8230,    -999,     -999,    -999,   4.2064,   4.3326,2,-999,9,-999,-999,9,-999,    35.1377,2,-999,9,20120413,       1150
33AT20120324,        A22,      74,          1,         12,         12,2,20120413,       1101,    13.4759,   -69.8231,       3750,  1614.7,   4.2453,  34.9718,2,  34.9751,2,    211.5,2,   211.6,2,   26.10,2,   22.48,2,    0.00,2,    1.52,2,   0.090,2,   0.043,2,   0.006,2,    0.10,2,    -999,9,    -999,9,     -999,9,     -999,    -999,9,     -999,9,    -999,9,   4.2457,2,    -999,9,    -999,9,    -999,    -999,9,    -999,    -999,1,    -999,9,    -999,9,  13.4760, -69.8230,    -999,     -999,    -999,   4.1116,   4.2457,2,-999,9,-999,-999,9,-999,    35.1400,2,-999,9,20120413,       1148
33AT20120324,        A22,      74,          1,         11,         11,2,20120413,       1101,    13.4759,   -69.8231,       3750,  1715.5,   4.1892,  34.9726,2,  34.9759,2,    212.7,2,   212.8,2,   26.79,2,   22.38,2,    0.00,2,    1.52,2,   0.077,2,   0.042,2,   0.007,2,    0.11,2,    -999,9,    -999,9,     -999,9,     -999,    -999,9,     -999,9,    -999,9,   4.1898,2,    -999,9,    -999,9,    -999,    -999,9,    -999,    -999,1,    -999,9,    -999,9,  13.4759, -69.8230,    -999,     -999,    -999,   4.0466,   4.1898,2,-999,9,-999,-999,9,-999,    35.1408,2,-999,9,20120413,       1145
33AT20120324,        A22,      74,          1,         10,         10,2,20120413,       1101,    13.4759,   -69.8231,       3750,  1817.2,   4.1544,  34.9729,2,  34.9749,2,    213.4,2,   213.5,2,   27.20,2,   22.27,2,    0.00,2,    1.51,2,    -999,9,    -999,9,    -999,9,    -999,9,    -999,9,    -999,9,     -999,9,     -999,    -999,9,     -999,9,    -999,9,   4.1542,2,    -999,9,    -999,9,    -999,    -999,9,    -999,    -999,9,    -999,9,    -999,9,  13.4759, -69.8230,    -999,     -999,    -999,   4.0025,   4.1542,2,-999,9,-999,-999,9,-999,    35.1399,2,-999,9,20120413,       1142
33AT20120324,        A22,      74,          1,          9,          9,2,20120413,       1101,    13.4759,   -69.8231,       3750,  2020.2,   4.1047,  34.9740,2,  34.9738,2,    214.5,2,   215.2,2,   27.91,2,   22.14,2,    0.00,2,    1.50,2,   0.078,2,   0.045,2,   0.004,2,    0.19,2,    -999,9,    -999,9,     -999,9,     -999,    -999,9,     -999,9,    -999,9,   4.1050,2,    -999,9,    -999,9,    -999,    -999,9,    -999,    -999,1,    -999,9,    -999,9,  13.4759, -69.8231,    -999,     -999,    -999,   3.9336,   4.1050,2,-999,9,-999,-999,9,-999,    35.1387,2,-999,9,20120413,       1138
33AT20120324,        A22,      74,          1,          8,          8,2,20120413,       1101,    13.4759,   -69.8231,       3750,  2222.6,   4.1056,  34.9742,2,  34.9625,4,    215.2,2,   215.4,2,   28.39,2,   22.18,2,    0.00,2,    1.50,2,   0.057,2,   0.042,2,   0.006,2,    0.21,2,    -999,9,    -999,9,     -999,9,     -999,    -999,9,   1.8643,2,    0.65,2,   4.1053,2,    -999,9,    -999,9,    -999,   7.821,2,   0.035,    -999,1,    -999,9,    -999,9,  13.4759, -69.8231,    -999,   0.0075,    0.15,   3.9141,   4.1053,2,-999,9,-999,-999,9,-999,    35.1274,4,-999,9,20120413,       1134
33AT20120324,        A22,      74,          1,          7,          7,2,20120413,       1101,    13.4759,   -69.8231,       3750,  2426.3,   4.1132,  34.9743,2,  34.9621,4,    215.0,2,   215.9,2,   28.54,2,   22.11,2,    0.00,2,    1.50,2,   0.064,2,   0.043,2,   0.006,2,    0.28,2,    -999,9,    -999,9,     -999,9,     -999,    -999,9,     -999,9,    -999,9,   4.1132,2,    -999,9,    -999,9,    -999,    -999,9,    -999,    -999,1,    -999,9,    -999,9,  13.4758, -69.8231,    -999,     -999,    -999,   3.9006,   4.1132,2,-999,9,-999,-999,9,-999,    35.1269,4,-999,9,20120413,       1129
33AT20120324,        A22,      74,          1,          6,          6,2,20120413,       1101,    13.4759,   -69.8231,       3750,  2629.4,   4.1298,  34.9744,2,  34.9703,4,    214.8,2,   215.1,2,   28.88,2,   22.12,2,    0.00,2,    1.50,2,   0.058,2,   0.042,2,   0.007,2,    0.31,2,    -999,9,    -999,9,     -999,9,     -999,    -999,9,     -999,9,    -999,9,   4.1295,2,    -999,9,    -999,9,    -999,    -999,9,    -999,    -999,1,    -999,9,    -999,9,  13.4758, -69.8231,    -999,     -999,    -999,   3.8954,   4.1295,2,-999,9,-999,-999,9,-999,    35.1352,4,-999,9,20120413,       1125