BOTTLE,20220725CCHSIOCBG
EXPOCODE,SECT_ID,STNNBR,CASTNO,SAMPNO,BTLNBR,BTLNBR_FLAG_W,DATE,TIME,LATITUDE,LONGITUDE,DEPTH,CTDPRS,CTDTMP,CTDSAL,CTDSAL_FLAG_W,SALNTY,SALNTY_FLAG_W,CTDOXY,CTDOXY_FLAG_W,OXYGEN,OXYGEN_FLAG_W,SILCAT,SILCAT_FLAG_W,NITRAT,NITRAT_FLAG_W,NITRIT,NITRIT_FLAG_W,PHSPHT,PHSPHT_FLAG_W,CFC-11,CFC-11_FLAG_W,CFC-12,CFC-12_FLAG_W,CFC113,CFC113_FLAG_W,SF6,SF6_FLAG_W,TCARBN,TCARBN_FLAG_W,ALKALI,ALKALI_FLAG_W,PH_TOT,PH_TOT_FLAG_W,PH_TMP,TRITUM,TRITUM_FLAG_W,HELIUM,HELIUM_FLAG_W,DELHE3,DELHE3_FLAG_W,REFTMP,REFTMP_FLAG_W,DELC13,DELC13_FLAG_W,DELC14,DELC14_FLAG_W,C14ERR,NEON,NEON_FLAG_W,NEONER,CCL4,CCL4_FLAG_W,DOC,DOC_FLAG_W,TDN,TDN_FLAG_W,BTL_LAT,BTL_LON,TRITER,HELIER,DELHER,THETA,SBE35,SBE35_FLAG_W,14C-DOC,14C-DOC_FLAG_W,14C-DOCERR,13C-DOC,13C-DOC_FLAG_W,13C-DOCERR,SALTREF,SALTREF_FLAG_W,LAB_DEN,LAB_DEN_FLAG_W,BTL_DATE,BTL_TIME
,,,,,,,,,,,METERS,DBAR,ITS-90,PSS-78,,PSS-78,,UMOL/KG,,UMOL/KG,,UMOL/KG,,UMOL/KG,,UMOL/KG,,UMOL/KG,,PMOL/KG,,PMOL/KG,,PMOL/KG,,FMOL/KG,,UMOL/KG,,UMOL/KG,,,,DEG C,TU,,NMOL/KG,,PERCNT,,DEG C,,/MILLE,,/MILLE,,/MILLE,NMOL/KG,,NMOL/KG,PMOL/KG,,UMOL/KG,,UMOL/KG,,,,TU,NMOL/KG,PERCNT,DEG C,ITS-90,,/MILLE,,/MILLE,/MILLE,,/MILLE,G/KG,,KG/M^3,,,
33AT20120324,        A22,      66,          1,         36,         36,2,20120411,       0853,    16.3283,   -67.6865,       4642,     3.4,  27.1748,  35.7242,2,  35.7250,2,    200.1,2,   201.1,2,    1.30,2,    0.00,2,    0.00,2,    0.00,2,   1.629,2,   1.039,2,   0.140,2,    1.13,2,  2001.1,6, 2345.16,2,   8.1018,6,       25,    -999,9,     -999,9,    -999,9,  27.1770,2,    -999,9,    -999,9,    -999,    -999,9,    -999,    -999,1,    -999,9,    -999,9,  16.3312, -67.6860,    -999,     -999,    -999,  27.1740,  27.1770,2,-999,9,-999,-999,9,-999,    35.8935,2,-999,9,20120411,       1048
33AT20120324,        A22,      66,          1,         35,         35,2,20120411,       0853,    16.3283,   -67.6865,       4642,    35.4,  26.8243,  36.1534,2,  36.1539,2,    203.7,2,   202.8,2,    1.23,2,    0.00,2,    0.00,2,    0.00,2,   1.655,2,   1.049,2,   0.131,2,    1.17,2,  2014.1,2, 2371.58,6,   7.1473,4,       25,    -999,9,     -999,9,    -999,9,  26.8345,2,    -999,9,    -999,9,    -999,    -999,9,    -999,    -999,1,    -999,9,    -999,9,  16.3313, -67.6860,    -999,     -999,    -999,  26.8162,  26.8345,2,-999,9,-999,-999,9,-999,    36.3244,2,-999,9,20120411,       1046
33AT20120324,        A22,      66,          1,         34,         34,2,20120411,       0853,    16.3283,   -67.6865,       4642,    60.1,  26.4609,  36.2217,2,  36.2204,2,    207.0,2,   205.0,2,    1.14,2,    0.00,2,    0.00,2,    0.00,2,   1.684,2,   1.061,2,   0.130,2,    1.09,2,    -999,9,    -999,9,     -999,9,     -999,    -999,9,     -999,9,    -999,9,  26.4608,2,    -999,9,    -999,9,    -999,    -999,9,    -999,    -999,1,    -999,9,    -999,9,  16.3314, -67.6860,    -999,     -999,    -999,  26.4473,  26.4608,2,-999,9,-999,-999,9,-999,    36.3912,2,-999,9,20120411,       1043
33AT20120324,        A22,      66,          1,         33,         33,2,20120411,       0853,    16.3283,   -67.6865,       4642,    85.5,  25.2541,  36.8482,2,  36.8296,2,    183.9,2,   184.3,2,    0.73,2,    0.00,2,    0.00,2,    0.00,2,   1.782,2,   1.131,2,   0.120,2,    1.18,2,  2077.3,2, 2410.56,2,   8.0632,2,       25,    -999,9,     -999,9,    -999,9,  25.2781,2,    -999,9,    -999,9,    -999,    -999,9,    -999,    -999,1,    -999,9,    -999,9,  16.3314, -67.6860,    -999,     -999,    -999,  25.2353,  25.2781,2,-999,9,-999,-999,9,-999,    37.0032,2,-999,9,20120411,       1042
33AT20120324,        A22,      66,          1,         32,         32,2,20120411,       0853,    16.3283,   -67.6865,       4642,   112.5,  24.0101,  37.0271,2,  37.0291,2,    171.7,2,   169.9,2,    0.81,2,    1.73,2,    0.07,2,    0.07,2,   1.856,2,   1.166,2,   0.077,2,    1.21,2,    -999,9,    -999,9,     -999,9,     -999,    -999,9,     -999,9,    -999,9,  24.0717,2,    -999,9,    -999,9,    -999,    -999,9,    -999,    -999,1,    -999,9,    -999,9,  16.3315, -67.6859,    -999,     -999,    -999,  23.9862,  24.0717,2,-999,9,-999,-999,9,-999,    37.2037,2,-999,9,20120411,       1040
33AT20120324,        A22,      66,          1,         31,         31,2,20120411,       0853,    16.3283,   -67.6865,       4642,   135.9,  22.4880,  36.9602,2,  36.9556,2,    158.1,2,   155.8,2,    1.26,2,    3.99,2,    0.03,2,    0.20,2,   1.962,2,   1.218,2,   0.045,2,    1.15,2,  2133.9,2, 2415.26,2,   7.9738,2,       25,    -999,9,     -999,9,    -999,9,  22.4824,2,    -999,9,    -999,9,    -999,    -999,9,    -999,    -999,1,    -999,9,    -999,9,  16.3315, -67.6859,    -999,     -999,    -999,  22.4604,  22.4824,2,-999,9,-999,-999,9,-999,    37.1299,2,-999,9,20120411,       1038
33AT20120324,        A22,      66,          1,         30,         30,2,20120411,       0853,    16.3283,   -67.6865,       4642,   166.4,  20.3851,  36.7883,2,  36.7909,2,    151.9,2,   152.4,2,    1.73,2,    5.92,2,    0.01,2,    0.31,2,   2.097,2,   1.289,2,   0.028,2,    1.09,2,  2147.9,2, 2405.00,2,   7.9338,2,       25,    -999,9,     -999,9,    -999,9,  20.3858,2,    -999,9,    -999,9,    -999,    -999,9,    -999,    -999,1,    -999,9,    -999,9,  16.3316, -67.6859,    -999,     -999,    -999,  20.3536,  20.3858,2,-999,9,-999,-999,9,-999,    36.9644,2,-999,9,20120411,       1036
33AT20120324,        A22,      66,          1,         29,         29,2,20120411,       0853,    16.3283,   -67.6865,       4642,   215.1,  17.7720,  36.3866,2,  36.3871,2,    143.8,2,   144.5,2,    3.41,2,   10.60,2,    0.01,2,    0.59,2,   2.182,2,    -999,5,   0.009,2,    0.94,2,  2159.7,2, 2378.42,2,   7.8722,2,       25,    -999,9,     -999,9,    -999,9,  17.7668,2,    -999,9,    -999,9,    -999,    -999,9,    -999,    -999,1,    -999,9,    -999,9,  16.3316, -67.6859,    -999,     -999,    -999,  17.7350,  17.7668,2,-999,9,-999,-999,9,-999,    36.5587,2,-999,9,20120411,       1033
33AT20120324,        A22,      66,          1,         28,         28,2,20120411,       0853,    16.3283,   -67.6865,       4642,   267.6,  15.8588,  36.0891,2,  36.0774,2,    144.9,2,   146.1,2,    4.59,2,   13.49,2,    0.01,2,    0.79,2,   2.215,2,   1.273,2,   0.005,2,    0.91,2,  2162.3,2, 2361.61,2,   7.8326,2,       25,    -999,9,     -999,9,    -999,9,  15.8615,2,    -999,9,    -999,9,    -999,    -999,9,    -999,    -999,1,    -999,9,    -999,9,  16.3316, -67.6859,    -999,     -999,    -999,  15.8163,  15.8615,2,-999,9,-999,-999,9,-999,    36.2475,2,-999,9,20120411,       1032
33AT20120324,        A22,      66,          1,         27,         27,2,20120411,       0853,    16.3283,   -67.6865,       4642,   315.3,  14.2826,  35.8203,2,  35.8196,2,    139.7,2,   139.7,2,    6.13,2,   16.52,2,    0.00,2,    1.00,2,   2.148,2,   1.189,2,   0.017,2,    0.70,2,    -999,9,    -999,9,     -999,9,     -999,    -999,9,     -999,9,    -999,9,  14.2823,2,    -999,9,    -999,9,    -999,    -999,9,    -999,    -999,1,    -999,9,    -999,9,  16.3316, -67.6859,    -999,     -999,    -999,  14.2359,  14.2823,2,-999,9,-999,-999,9,-999,    35.9885,2,-999,9,20120411,       1030
33AT20120324,        A22,      66,          1,         26,         26,2,20120411,       0853,    16.3283,   -67.6865,       4642,   366.2,  12.8755,  35.5847,2,  35.5788,2,    133.1,2,   133.2,2,    8.19,2,   19.78,2,    0.00,2,    1.22,2,   1.986,2,   1.105,2,   0.020,2,    0.57,2,  2180.1,2, 2336.40,2,   7.7411,2,       25,    -999,9,     -999,9,    -999,9,  12.8768,2,    -999,9,    -999,9,    -999,    -999,9,    -999,    -999,1,    -999,9,    -999,9,  16.3316, -67.6859,    -999,     -999,    -999,  12.8248,  12.8768,2,-999,9,-999,-999,9,-999,    35.7465,2,-999,9,20120411,       1028
33AT20120324,        A22,      66,          1,         25,         25,2,20120411,       0853,    16.3283,   -67.6865,       4642,   416.9,  12.1368,  35.4938,2,  35.4866,2,    130.3,2,   131.0,2,    9.28,2,   21.34,2,    0.00,2,    1.32,2,   1.826,2,   0.992,2,   0.013,2,    0.49,2,    -999,9,    -999,9,     -999,9,     -999,    -999,9,     -999,9,    -999,9,  12.1423,2,    -999,9,    -999,9,    -999,    -999,9,    -999,    -999,1,    -999,9,    -999,9,  16.3316, -67.6859,    -999,     -999,    -999,  12.0812,  12.1423,2,-999,9,-999,-999,9,-999,    35.6540,2,-999,9,20120411,       1026
33AT20120324,        A22,      66,          1,         24,         24,2,20120411,       0853,    16.3283,   -67.6865,       4642,   467.3,  10.7894,  35.2834,2,  35.2771,2,    126.4,2,   125.5,2,   11.96,2,   24.36,2,    0.00,2,    1.53,2,   1.525,2,   0.801,2,   0.018,2,    0.40,2,  2194.1,2, 2323.72,2,   7.6767,2,       25,    -999,9,     -999,9,    -999,9,  10.7895,2,    -999,9,    -999,9,    -999,    -999,9,    -999,    -999,1,    -999,9,    -999,9,  16.3317, -67.6859,    -999,     -999,    -999,  10.7316,  10.7895,2,-999,9,-999,-999,9,-999,    35.4434,2,-999,9,20120411,       1024
33AT20120324,        A22,      66,          1,         23,         23,2,20120411,       0853,    16.3283,   -67.6865,       4642,   537.4,   9.3894,  35.0830,2,  35.0825,2,    123.4,2,   123.7,2,   15.02,2,   27.24,2,    0.00,2,    1.74,2,   1.200,2,   0.613,2,   0.017,2,    0.31,2,  2200.7,6, 2316.09,2,   7.6369,2,       25,    -999,9,     -999,9,    -999,9,   9.3886,2,    -999,9,    -999,9,    -999,    -999,9,    -999,    -999,1,    -999,9,    -999,9,  16.3317, -67.6858,    -999,     -999,    -999,   9.3283,   9.3886,2,-999,9,-999,-999,9,-999,    35.2479,2,-999,9,20120411,       1022
33AT20120324,        A22,      66,          1,         22,         22,2,20120411,       0853,    16.3283,   -67.6865,       4642,   638.9,   7.8949,  34.9081,2,  34.9073,2,    126.2,2,   125.7,2,   19.07,2,   29.88,2,    0.00,2,    1.93,2,   0.785,2,   0.381,2,   0.012,2,    0.19,2,  2209.0,2, 2311.07,2,   7.6033,6,       25,    -999,9,     -999,9,    -999,9,   7.8948,2,    -999,9,    -999,9,    -999,    -999,9,    -999,    -999,1,    -999,9,    -999,9,  16.3318, -67.6858,    -999,     -999,    -999,   7.8290,   7.8948,2,-999,9,-999,-999,9,-999,    35.0719,2,-999,9,20120411,       1020
33AT20120324,        A22,      66,          1,         21,         21,2,20120411,       0853,    16.3283,   -67.6865,       4642,   732.7,   6.8306,  34.8251,2,  34.8231,2,    133.0,2,   134.7,2,   22.34,2,   30.91,2,    0.00,2,    2.03,2,   0.464,2,   0.217,2,   0.002,2,    0.14,2,  2213.6,2, 2309.79,2,   7.5925,2,       25,    -999,9,     -999,9,    -999,9,   6.8306,2,    -999,9,    -999,9,    -999,    -999,9,    -999,    -999,1,    -999,9,    -999,9,  16.3318, -67.6858,    -999,     -999,    -999,   6.7604,   6.8306,2,-999,9,-999,-999,9,-999,    34.9874,2,-999,9,20120411,       1017
33AT20120324,        A22,      66,          1,         20,         20,2,20120411,       0853,    16.3283,   -67.6865,       4642,   840.7,   6.0020,  34.8432,2,  34.8619,2,    152.1,2,   150.8,2,   23.51,2,   29.06,2,    0.00,2,    1.93,2,   0.296,2,   0.133,2,   0.005,2,    0.10,2,  2208.4,2, 2315.71,2,   7.6170,2,       25,    -999,9,     -999,9,    -999,9,   6.0044,2,    -999,9,    -999,9,    -999,    -999,9,    -999,    -999,1,    -999,9,    -999,9,  16.3319, -67.6858,    -999,     -999,    -999,   5.9260,   6.0044,2,-999,9,-999,-999,9,-999,    35.0263,2,-999,9,20120411,       1014
33AT20120324,        A22,      66,          1,         19,         19,2,20120411,       0853,    16.3283,   -67.6865,       4642,   941.5,   5.5445,  34.9068,2,  34.9075,2,    169.2,2,   168.6,2,   23.88,2,   26.96,2,    0.00,2,    1.82,2,   0.225,2,   0.098,2,   0.003,2,    0.09,2,  2203.2,2, 2319.13,2,   7.6452,2,       25,    -999,9,     -999,9,    -999,9,   5.5392,2,    -999,9,    -999,9,    -999,    -999,9,    -999,    -999,1,    -999,9,    -999,9,  16.3319, -67.6858,    -999,     -999,    -999,   5.4620,   5.5392,2,-999,9,-999,-999,9,-999,    35.0721,2,-999,9,20120411,       1012
33AT20120324,        A22,      66,          1,         18,         18,2,20120411,       0853,    16.3283,   -67.6865,       4642,  1042.6,   5.0070,  34.9429,2,  34.9433,2,    187.1,2,   187.2,2,   24.21,2,   24.96,2,    0.00,2,    1.70,2,   0.192,2,   0.084,2,   0.004,2,    0.05,2,  2197.1,2, 2324.48,2,   7.6695,2,       25,    -999,9,     -999,9,    -999,9,   5.0091,2,    -999,9,    -999,9,    -999,    -999,9,    -999,    -999,1,    -999,9,    -999,9,  16.3319, -67.6857,    -999,     -999,    -999,   4.9190,   5.0091,2,-999,9,-999,-999,9,-999,    35.1081,2,-999,9,20120411,       1009
33AT20120324,        A22,      66,          1,         17,         17,2,20120411,       0853,    16.3283,   -67.6865,       4642,  1141.8,   4.7241,  34.9573,2,  34.9581,2,    197.3,2,   197.7,2,   23.66,2,   23.73,2,    0.00,2,    1.62,2,   0.181,2,   0.075,2,   0.003,2,    0.07,2,  2192.1,2, 2325.15,2,   7.6829,2,       25,    -999,9,     -999,9,    -999,9,   4.7253,2,    -999,9,    -999,9,    -999,    -999,9,    -999,    -999,1,    -999,9,    -999,9,  16.3319, -67.6857,    -999,     -999,    -999,   4.6293,   4.7253,2,-999,9,-999,-999,9,-999,    35.1229,2,-999,9,20120411,       1006
33AT20120324,        A22,      66,          1,         16,         16,2,20120411,       0853,    16.3283,   -67.6865,       4642,  1244.5,   4.5341,  34.9638,2,  34.9644,2,    202.8,2,   203.0,2,   24.49,2,   23.28,2,    0.00,2,    1.59,2,   0.158,2,   0.071,2,   0.004,2,    0.07,2,  2191.4,2, 2327.92,2,   7.6904,2,       25,    -999,9,     -999,9,    -999,9,   4.5343,2,    -999,9,    -999,9,    -999,    -999,9,    -999,    -999,1,    -999,9,    -999,9,  16.3319, -67.6857,    -999,     -999,    -999,   4.4317,   4.5343,2,-999,9,-999,-999,9,-999,    35.1293,2,-999,9,20120411,       1004
33AT20120324,        A22,      66,          1,         15,         15,2,20120411,       0853,    16.3283,   -67.6865,       4642,  1346.1,   4.4006,  34.9689,2,  34.9693,2,    206.9,2,   207.4,2,   24.86,2,   22.82,2,    0.00,2,    1.56,2,   0.151,2,   0.063,2,   0.003,2,    0.06,2,  2191.9,2, 2329.02,2,   7.6950,2,       25,    -999,9,     -999,9,    -999,9,   4.4017,2,    -999,9,    -999,9,    -999,    -999,9,    -999,    -999,1,    -999,9,    -999,9,  16.3319, -67.6857,    -999,     -999,    -999,   4.2902,   4.4017,2,-999,9,-999,-999,9,-999,    35.1342,2,-999,9,20120411,       1001
33AT20120324,        A22,      66,          1,         14,         14,2,20120411,       0853,    16.3283,   -67.6865,       4642,  1447.4,   4.3177,  34.9708,2,  34.9709,2,    209.3,2,   209.6,2,   25.35,2,   22.57,2,    0.00,2,    1.54,2,   0.137,2,   0.061,2,   0.003,2,    0.05,2,  2191.4,2, 2331.28,2,   7.6988,2,       25,    -999,9,     -999,9,    -999,9,   4.3174,2,    -999,9,    -999,9,    -999,    -999,9,    -999,    -999,1,    -999,9,    -999,9,  16.3319, -67.6857,    -999,     -999,    -999,   4.1988,   4.3174,2,-999,9,-999,-999,9,-999,    35.1358,2,-999,9,20120411,        958
33AT20120324,        A22,      66,          1,         13,         13,2,20120411,       0853,    16.3283,   -67.6865,       4642,  1548.6,   4.2374,  34.9716,2,  34.9732,2,    210.9,2,   211.3,2,   26.18,2,   22.47,2,    0.00,2,    1.54,2,   0.116,2,   0.053,2,   0.002,2,    0.05,2,  2192.0,2, 2332.05,2,   7.7015,2,       25,    -999,9,     -999,9,    -999,9,   4.2371,2,    -999,9,    -999,9,    -999,    -999,9,    -999,    -999,1,    -999,9,    -999,9,  16.3319, -67.6857,    -999,     -999,    -999,   4.1100,   4.2371,2,-999,9,-999,-999,9,-999,    35.1382,2,-999,9,20120411,        956
33AT20120324,        A22,      66,          1,         12,         12,2,20120411,       0853,    16.3283,   -67.6865,       4642,  1679.9,   4.1771,  34.9725,2,  34.9732,2,    212.5,2,   212.7,2,   26.50,2,   22.24,2,    0.00,2,    1.53,2,   0.129,2,   0.056,2,   0.003,2,    0.08,2,    -999,9,    -999,9,     -999,9,     -999,    -999,9,     -999,9,    -999,9,   4.1769,2,    -999,9,    -999,9,    -999,    -999,9,    -999,    -999,1,    -999,9,    -999,9,  16.3318, -67.6858,    -999,     -999,    -999,   4.0380,   4.1769,2,-999,9,-999,-999,9,-999,    35.1382,2,-999,9,20120411,        952
33AT20120324,        A22,      66,          1,         11,         11,2,20120411,       0853,    16.3283,   -67.6865,       4642,  1883.7,   4.1294,  34.9739,2,  34.9758,2,    216.2,2,   216.2,2,   26.49,2,   21.97,2,    0.00,2,    1.50,2,   0.177,2,   0.081,2,   0.006,2,    0.12,2,    -999,9,    -999,9,     -999,9,     -999,    -999,9,     -999,9,    -999,9,   4.1292,2,    -999,9,    -999,9,    -999,    -999,9,    -999,    -999,1,    -999,9,    -999,9,  16.3317, -67.6858,    -999,     -999,    -999,   3.9713,   4.1292,2,-999,9,-999,-999,9,-999,    35.1407,2,-999,9,20120411,        948
33AT20120324,        A22,      66,          1,         10,         10,2,20120411,       0853,    16.3283,   -67.6865,       4642,  2106.6,   4.1134,  34.9743,2,  34.9748,2,    216.3,2,   216.0,2,   27.06,2,   21.89,2,    0.00,2,    1.50,2,   0.148,2,   0.069,2,   0.006,2,    0.13,2,  2191.3,2, 2334.21,2,   7.7091,2,       25,    -999,9,     -999,9,    -999,9,   4.1132,2,    -999,9,    -999,9,    -999,    -999,9,    -999,    -999,1,    -999,9,    -999,9,  16.3314, -67.6859,    -999,     -999,    -999,   3.9335,   4.1132,2,-999,9,-999,-999,9,-999,    35.1397,2,-999,9,20120411,        944
33AT20120324,        A22,      66,          1,          9,          9,2,20120411,       0853,    16.3283,   -67.6865,       4642,  2360.2,   4.1155,  34.9744,2,  34.9748,2,    215.9,2,   216.2,2,   27.60,2,   21.93,2,    0.00,2,    1.50,2,   0.120,2,   0.060,2,   0.005,2,    0.10,2,    -999,9,    -999,9,     -999,9,     -999,    -999,9,     -999,9,    -999,9,   4.1154,2,    -999,9,    -999,9,    -999,    -999,9,    -999,    -999,1,    -999,9,    -999,9,  16.3312, -67.6859,    -999,     -999,    -999,   3.9097,   4.1154,2,-999,9,-999,-999,9,-999,    35.1397,2,-999,9,20120411,        939
33AT20120324,        A22,      66,          1,          8,          8,2,20120411,       0853,    16.3283,   -67.6865,       4642,  2613.2,   4.1298,  34.9744,2,  34.9750,2,    215.4,2,   215.8,2,   28.09,2,   21.97,2,    0.00,2,    1.50,2,   0.095,2,   0.050,2,   0.004,2,    0.11,2,    -999,9,    -999,9,     -999,9,     -999,    -999,9,     -999,9,    -999,9,   4.1295,2,    -999,9,    -999,9,    -999,    -999,9,    -999,    -999,1,    -999,9,    -999,9,  16.3309, -67.6860,    -999,     -999,    -999,   3.8971,   4.1295,2,-999,9,-999,-999,9,-999,    35.1399,2,-999,9,20120411,        934
33AT20120324,        A22,      66,          1,          7,          7,2,20120411,       0853,    16.3283,   -67.6865,       4642,  2868.1,   4.1510,  34.9747,2,  34.9754,2,    215.1,2,   215.4,2,   28.40,2,   22.00,2,    0.00,2,    1.50,2,   0.075,2,   0.043,2,   0.006,2,    0.11,2,    -999,9,    -999,9,     -999,9,     -999,    -999,9,     -999,9,    -999,9,   4.1508,2,    -999,9,    -999,9,    -999,    -999,9,    -999,    -999,1,    -999,9,    -999,9,  16.3306, -67.6860,    -999,     -999,    -999,   3.8901,   4.1508,2,-999,9,-999,-999,9,-999,    35.1403,2,-999,9,20120411,        929
33AT20120324,        A22,      66,          1,          6,          6,2,20120411,       0853,    16.3283,   -67.6865,       4642,  3138.4,   4.1774,  34.9748,2,  34.9754,2,    215.7,2,   215.4,2,   28.62,2,   22.02,2,    0.00,2,    1.50,2,   0.068,2,   0.043,2,   0.004,2,    0.10,2,  2194.5,2, 2340.91,2,   7.7103,2,       25,    -999,9,   1.8544,2,    0.63,2,   4.1771,2,    -999,9,    -999,9,    -999,   8.029,2,   0.036,    -999,1,    -999,9,    -999,9,  16.3302, -67.6861,    -999,   0.0074,    0.15,   3.8856,   4.1771,2,-999,9,-999,-999,9,-999,    35.1403,2,-999,9,20120411,        924