BOTTLE,20220725CCHSIOCBG
EXPOCODE,SECT_ID,STNNBR,CASTNO,SAMPNO,BTLNBR,BTLNBR_FLAG_W,DATE,TIME,LATITUDE,LONGITUDE,DEPTH,CTDPRS,CTDTMP,CTDSAL,CTDSAL_FLAG_W,SALNTY,SALNTY_FLAG_W,CTDOXY,CTDOXY_FLAG_W,OXYGEN,OXYGEN_FLAG_W,SILCAT,SILCAT_FLAG_W,NITRAT,NITRAT_FLAG_W,NITRIT,NITRIT_FLAG_W,PHSPHT,PHSPHT_FLAG_W,CFC-11,CFC-11_FLAG_W,CFC-12,CFC-12_FLAG_W,CFC113,CFC113_FLAG_W,SF6,SF6_FLAG_W,TCARBN,TCARBN_FLAG_W,ALKALI,ALKALI_FLAG_W,PH_TOT,PH_TOT_FLAG_W,PH_TMP,TRITUM,TRITUM_FLAG_W,HELIUM,HELIUM_FLAG_W,DELHE3,DELHE3_FLAG_W,REFTMP,REFTMP_FLAG_W,DELC13,DELC13_FLAG_W,DELC14,DELC14_FLAG_W,C14ERR,NEON,NEON_FLAG_W,NEONER,CCL4,CCL4_FLAG_W,DOC,DOC_FLAG_W,TDN,TDN_FLAG_W,BTL_LAT,BTL_LON,TRITER,HELIER,DELHER,THETA,SBE35,SBE35_FLAG_W,14C-DOC,14C-DOC_FLAG_W,14C-DOCERR,13C-DOC,13C-DOC_FLAG_W,13C-DOCERR,SALTREF,SALTREF_FLAG_W,LAB_DEN,LAB_DEN_FLAG_W,BTL_DATE,BTL_TIME
,,,,,,,,,,,METERS,DBAR,ITS-90,PSS-78,,PSS-78,,UMOL/KG,,UMOL/KG,,UMOL/KG,,UMOL/KG,,UMOL/KG,,UMOL/KG,,PMOL/KG,,PMOL/KG,,PMOL/KG,,FMOL/KG,,UMOL/KG,,UMOL/KG,,,,DEG C,TU,,NMOL/KG,,PERCNT,,DEG C,,/MILLE,,/MILLE,,/MILLE,NMOL/KG,,NMOL/KG,PMOL/KG,,UMOL/KG,,UMOL/KG,,,,TU,NMOL/KG,PERCNT,DEG C,ITS-90,,/MILLE,,/MILLE,/MILLE,,/MILLE,G/KG,,KG/M^3,,,
33AT20120324,        A22,      39,          1,          5,          5,2,20120405,       1225,    23.6221,   -65.8120,       5837,  4504.0,   2.2914,  34.8893,2,  34.8897,2,    264.5,2,   263.8,2,   32.58,2,   18.99,2,    0.00,2,    1.31,2,   0.494,2,   0.272,2,   0.032,2,    0.08,4,  2176.2,2, 2329.01,2,   7.7366,2,       25,    -999,9,     -999,9,    -999,9,   2.2914,2,    -999,9,    -999,9,    -999,    -999,9,    -999,    0.75,2,   41.94,2,   22.25,2,  23.6227, -65.8139,    -999,     -999,    -999,   1.8900,   2.2914,2,-999,9,-999,-999,9,-999,    35.0543,2,-999,9,20120405,       1255
33AT20120324,        A22,      39,          1,          4,          4,2,20120405,       1225,    23.6221,   -65.8120,       5837,  4911.4,   2.2578,  34.8801,2,  34.8819,2,    260.9,2,   260.2,2,   37.66,2,   19.78,2,    0.00,2,    1.37,2,   0.397,2,   0.222,2,   0.027,2,    0.04,4,    -999,9,    -999,9,     -999,9,     -999,    -999,9,     -999,9,    -999,9,   2.2573,2,    -999,9,    -999,9,    -999,    -999,9,    -999,    0.59,2,   42.04,2,   22.57,2,  23.6226, -65.8133,    -999,     -999,    -999,   1.8076,   2.2573,2,-999,9,-999,-999,9,-999,    35.0464,2,-999,9,20120405,       1247
33AT20120324,        A22,      39,          1,          3,          3,2,20120405,       1225,    23.6221,   -65.8120,       5837,  5322.4,   2.1008,  34.8548,2,  34.8558,2,    251.9,2,   251.9,2,   51.24,2,   22.01,2,    0.00,2,    1.51,2,   0.147,2,   0.091,2,   0.013,2,    0.00,4,  2198.2,2, 2344.86,2,   7.7218,2,       25,    -999,9,     -999,9,    -999,9,   2.1002,2,    -999,9,    -999,9,    -999,    -999,9,    -999,    0.31,2,   41.66,2,   25.01,2,  23.6224, -65.8129,    -999,     -999,    -999,   1.6040,   2.1002,2,-999,9,-999,-999,9,-999,    35.0201,2,-999,9,20120405,       1239
33AT20120324,        A22,      39,          1,          2,          2,2,20120405,       1225,    23.6221,   -65.8120,       5837,  5631.8,   2.0731,  34.8459,2,  34.8479,2,    248.7,2,   249.2,2,   55.49,2,   22.70,2,    0.00,2,    1.56,2,   0.115,2,   0.077,2,   0.009,2,    0.00,4,  2205.4,2, 2346.84,2,   7.7153,6,       25,    -999,9,   1.8774,2,    4.43,2,   2.0726,2,    -999,9,    -999,9,    -999,   8.128,2,   0.037,    0.25,2,   41.68,2,   25.47,2,  23.6223, -65.8125,    -999,   0.0075,    0.15,   1.5370,   2.0726,2,-999,9,-999,-999,9,-999,    35.0122,2,-999,9,20120405,       1233
33AT20120324,        A22,      39,          1,          1,          1,2,20120405,       1225,    23.6221,   -65.8120,       5837,  5937.8,   2.0932,  34.8424,2,  34.8444,2,    247.5,2,   248.0,2,   56.95,2,   22.93,2,    0.00,2,    1.57,2,   0.127,2,   0.078,2,   0.011,2,    0.00,4,  2205.3,6, 2347.77,6,   7.7148,2,       25,    -999,9,     -999,9,    -999,9,   2.0931,2,    -999,9,    -999,9,    -999,    -999,9,    -999,    0.30,2,   41.24,2,   25.09,2,  23.6221, -65.8120,    -999,     -999,    -999,   1.5153,   2.0931,2,-999,9,-999,-999,9,-999,    35.0087,2,-999,9,20120405,       1225