BOTTLE,20220725CCHSIOCBG
EXPOCODE,SECT_ID,STNNBR,CASTNO,SAMPNO,BTLNBR,BTLNBR_FLAG_W,DATE,TIME,LATITUDE,LONGITUDE,DEPTH,CTDPRS,CTDTMP,CTDSAL,CTDSAL_FLAG_W,SALNTY,SALNTY_FLAG_W,CTDOXY,CTDOXY_FLAG_W,OXYGEN,OXYGEN_FLAG_W,SILCAT,SILCAT_FLAG_W,NITRAT,NITRAT_FLAG_W,NITRIT,NITRIT_FLAG_W,PHSPHT,PHSPHT_FLAG_W,CFC-11,CFC-11_FLAG_W,CFC-12,CFC-12_FLAG_W,CFC113,CFC113_FLAG_W,SF6,SF6_FLAG_W,TCARBN,TCARBN_FLAG_W,ALKALI,ALKALI_FLAG_W,PH_TOT,PH_TOT_FLAG_W,PH_TMP,TRITUM,TRITUM_FLAG_W,HELIUM,HELIUM_FLAG_W,DELHE3,DELHE3_FLAG_W,REFTMP,REFTMP_FLAG_W,DELC13,DELC13_FLAG_W,DELC14,DELC14_FLAG_W,C14ERR,NEON,NEON_FLAG_W,NEONER,CCL4,CCL4_FLAG_W,DOC,DOC_FLAG_W,TDN,TDN_FLAG_W,BTL_LAT,BTL_LON,TRITER,HELIER,DELHER,THETA,SBE35,SBE35_FLAG_W,14C-DOC,14C-DOC_FLAG_W,14C-DOCERR,13C-DOC,13C-DOC_FLAG_W,13C-DOCERR,SALTREF,SALTREF_FLAG_W,LAB_DEN,LAB_DEN_FLAG_W,BTL_DATE,BTL_TIME
,,,,,,,,,,,METERS,DBAR,ITS-90,PSS-78,,PSS-78,,UMOL/KG,,UMOL/KG,,UMOL/KG,,UMOL/KG,,UMOL/KG,,UMOL/KG,,PMOL/KG,,PMOL/KG,,PMOL/KG,,FMOL/KG,,UMOL/KG,,UMOL/KG,,,,DEG C,TU,,NMOL/KG,,PERCNT,,DEG C,,/MILLE,,/MILLE,,/MILLE,NMOL/KG,,NMOL/KG,PMOL/KG,,UMOL/KG,,UMOL/KG,,,,TU,NMOL/KG,PERCNT,DEG C,ITS-90,,/MILLE,,/MILLE,/MILLE,,/MILLE,G/KG,,KG/M^3,,,
33AT20120324,        A22,      75,          1,         36,         36,2,20120413,       1517,    13.3317,   -69.8560,       3086,     3.7,  27.0381,  35.8719,2,  35.8738,2,    196.0,2,   202.1,2,    0.92,2,    0.00,2,    0.00,2,    0.01,2,   1.600,2,   1.021,2,   0.117,2,    0.88,4,  2013.2,6, 2353.36,2,   8.0948,2,       25,    -999,9,     -999,9,    -999,9,  27.0512,2,    -999,9,    -999,9,    -999,    -999,9,    -999,    1.59,2,   74.79,2,    5.38,2,  13.3316, -69.8568,    -999,     -999,    -999,  27.0372,  27.0512,2,-999,9,-999,-999,9,-999,    36.0429,2,-999,9,20120413,       1647
33AT20120324,        A22,      75,          1,         35,         35,2,20120413,       1517,    13.3317,   -69.8560,       3086,    36.2,  26.8680,  36.6031,2,  36.6046,2,    200.6,2,   201.0,2,    0.37,2,    0.00,2,    0.00,2,    0.01,2,   1.576,2,   1.007,2,   0.115,2,    0.83,4,  2067.0,2, 2395.01,2,   8.0607,2,       25,    -999,9,     -999,9,    -999,9,  26.8682,2,    -999,9,    -999,9,    -999,    -999,9,    -999,    1.65,2,   74.45,2,    4.59,2,  13.3313, -69.8566,    -999,     -999,    -999,  26.8597,  26.8682,2,-999,9,-999,-999,9,-999,    36.7772,2,-999,9,20120413,       1644
33AT20120324,        A22,      75,          1,         34,         34,2,20120413,       1517,    13.3317,   -69.8560,       3086,    60.8,  26.5906,  36.6387,2,  36.6403,2,    201.1,2,   201.7,2,    0.37,2,    0.00,2,    0.00,2,    0.01,2,   1.567,2,   0.997,2,   0.113,2,    1.46,4,    -999,9,    -999,9,     -999,9,     -999,    -999,9,     -999,9,    -999,9,  26.5906,2,    -999,9,    -999,9,    -999,    -999,9,    -999,    1.57,2,   74.81,2,    4.87,2,  13.3312, -69.8565,    -999,     -999,    -999,  26.5767,  26.5906,2,-999,9,-999,-999,9,-999,    36.8131,2,-999,9,20120413,       1642
33AT20120324,        A22,      75,          1,         33,         33,2,20120413,       1517,    13.3317,   -69.8560,       3086,    85.9,  25.8893,  36.7006,2,  36.7012,2,    201.5,2,   198.3,2,    0.46,2,    0.10,2,    0.02,2,    0.01,2,   1.644,2,   1.038,2,   0.107,2,    0.86,4,  2087.2,2, 2399.91,2,   8.0385,2,       25,    -999,9,     -999,9,    -999,9,  25.8881,2,    -999,9,    -999,9,    -999,    -999,9,    -999,    1.38,2,   75.64,2,    4.27,2,  13.3311, -69.8565,    -999,     -999,    -999,  25.8701,  25.8881,2,-999,9,-999,-999,9,-999,    36.8743,2,-999,9,20120413,       1639
33AT20120324,        A22,      75,          1,         32,         32,2,20120413,       1517,    13.3317,   -69.8560,       3086,   110.3,  21.9183,  36.8446,2,  36.8414,2,    141.0,2,   141.4,2,    1.88,2,    5.93,2,    0.04,2,    0.31,2,   1.860,2,   1.143,2,   0.049,2,    1.26,4,    -999,9,    -999,9,     -999,9,     -999,    -999,9,     -999,9,    -999,9,  21.9165,2,    -999,9,    -999,9,    -999,    -999,9,    -999,    0.24,2,   67.49,2,    9.39,2,  13.3311, -69.8565,    -999,     -999,    -999,  21.8964,  21.9165,2,-999,9,-999,-999,9,-999,    37.0152,2,-999,9,20120413,       1636
33AT20120324,        A22,      75,          1,         31,         31,2,20120413,       1517,    13.3317,   -69.8560,       3086,   135.4,  20.0707,  36.7056,2,  36.7000,2,    137.3,2,   136.7,2,    2.63,2,    8.36,2,    0.04,2,    0.45,2,   1.990,2,   1.235,2,   0.022,2,    1.09,4,  2161.3,2, 2397.64,2,   7.8983,2,       25,    -999,9,     -999,9,    -999,9,  20.0772,2,    -999,9,    -999,9,    -999,    -999,9,    -999,    0.16,2,   60.19,2,   12.03,2,  13.3310, -69.8566,    -999,     -999,    -999,  20.0454,  20.0772,2,-999,9,-999,-999,9,-999,    36.8730,2,-999,9,20120413,       1634
33AT20120324,        A22,      75,          1,         30,         30,2,20120413,       1517,    13.3317,   -69.8560,       3086,   160.8,  18.4548,  36.4947,2,  36.4885,2,    141.9,2,   142.2,2,    3.17,2,    9.92,2,    0.02,2,    0.56,2,   2.062,2,   1.248,2,   0.017,2,    0.56,4,  2161.1,2, 2384.38,2,   7.8773,2,       25,    -999,9,     -999,9,    -999,9,  18.4534,2,    -999,9,    -999,9,    -999,    -999,9,    -999,    0.22,2,   56.24,2,   13.78,2,  13.3310, -69.8566,    -999,     -999,    -999,  18.4265,  18.4534,2,-999,9,-999,-999,9,-999,    36.6605,2,-999,9,20120413,       1633
33AT20120324,        A22,      75,          1,         29,         29,2,20120413,       1517,    13.3317,   -69.8560,       3086,   185.4,  17.4769,  36.3481,2,  36.3437,2,    144.5,2,   144.6,2,    3.63,2,   11.08,2,    0.01,2,    0.63,2,   2.071,2,   1.248,2,   0.014,2,    0.50,4,  2160.6,2, 2374.86,2,   7.8642,2,       25,    -999,9,     -999,9,    -999,9,  17.4745,2,    -999,9,    -999,9,    -999,    -999,9,    -999,    0.23,2,   54.64,2,   14.82,2,  13.3310, -69.8566,    -999,     -999,    -999,  17.4454,  17.4745,2,-999,9,-999,-999,9,-999,    36.5150,2,-999,9,20120413,       1631
33AT20120324,        A22,      75,          1,         28,         28,2,20120413,       1517,    13.3317,   -69.8560,       3086,   211.5,  16.7342,  36.2290,2,  36.2188,2,    145.8,2,   146.4,2,    4.07,2,   12.18,2,    0.01,2,    0.71,2,   2.094,2,   1.238,2,   0.014,2,    0.76,4,    -999,9,    -999,9,     -999,9,     -999,    -999,9,     -999,9,    -999,9,  16.7289,2,    -999,9,    -999,9,    -999,    -999,9,    -999,    0.27,2,   52.77,2,   15.43,2,  13.3309, -69.8566,    -999,     -999,    -999,  16.6994,  16.7289,2,-999,9,-999,-999,9,-999,    36.3895,2,-999,9,20120413,       1630
33AT20120324,        A22,      75,          1,         27,         27,2,20120413,       1517,    13.3317,   -69.8560,       3086,   236.2,  15.7048,  36.0495,2,  36.0411,2,    143.3,2,   141.9,2,    4.98,2,   14.22,2,    0.01,2,    0.85,2,   2.081,2,   1.225,2,   0.016,2,    0.59,4,    -999,9,    -999,9,     -999,9,     -999,    -999,9,     -999,9,    -999,9,  15.7052,2,    -999,9,    -999,9,    -999,    -999,9,    -999,    0.28,2,   51.06,2,   17.36,2,  13.3309, -69.8566,    -999,     -999,    -999,  15.6675,  15.7052,2,-999,9,-999,-999,9,-999,    36.2111,2,-999,9,20120413,       1629
33AT20120324,        A22,      75,          1,         26,         26,2,20120413,       1517,    13.3317,   -69.8560,       3086,   266.8,  14.6007,  35.8525,2,  35.8383,2,    135.9,2,   136.1,2,    6.31,2,   16.68,2,    0.01,2,    1.02,2,   1.990,2,   1.154,2,   0.017,2,    0.31,4,  2174.5,2, 2347.06,2,   7.7838,2,       25,    -999,9,     -999,9,    -999,9,  14.6035,2,    -999,9,    -999,9,    -999,    -999,9,    -999,    0.28,2,   49.52,2,   19.28,2,  13.3309, -69.8566,    -999,     -999,    -999,  14.5607,  14.6035,2,-999,9,-999,-999,9,-999,    36.0073,2,-999,9,20120413,       1627
33AT20120324,        A22,      75,          1,         25,         25,2,20120413,       1517,    13.3317,   -69.8560,       3086,   316.1,  12.6799,  35.5175,2,  35.5061,2,    125.1,2,   125.2,2,    8.93,2,   21.05,2,    0.01,2,    1.32,2,   1.811,2,   1.004,2,   0.020,2,    0.09,4,    -999,9,    -999,9,     -999,9,     -999,    -999,9,     -999,9,    -999,9,  12.6772,2,    -999,9,    -999,9,    -999,    -999,9,    -999,    0.33,2,   48.07,2,   24.11,2,  13.3309, -69.8566,    -999,     -999,    -999,  12.6367,  12.6772,2,-999,9,-999,-999,9,-999,    35.6735,2,-999,9,20120413,       1625
33AT20120324,        A22,      75,          1,         24,         24,2,20120413,       1517,    13.3317,   -69.8560,       3086,   366.9,  11.1328,  35.2619,2,  35.2551,2,    122.1,2,   122.1,2,   11.20,2,   24.17,2,    0.00,2,    1.53,2,   1.643,2,   0.890,2,   0.021,2,    0.00,4,  2193.4,2, 2320.83,2,   7.6704,6,       25,    -999,9,     -999,9,    -999,9,  11.1316,2,    -999,9,    -999,9,    -999,    -999,9,    -999,    0.37,2,   47.55,2,   27.32,2,  13.3309, -69.8566,    -999,     -999,    -999,  11.0867,  11.1316,2,-999,9,-999,-999,9,-999,    35.4214,2,-999,9,20120413,       1624
33AT20120324,        A22,      75,          1,         23,         23,2,20120413,       1517,    13.3317,   -69.8560,       3086,   417.0,   9.9883,  35.0755,2,  35.0733,2,    121.1,2,   121.0,2,   13.47,2,   26.57,2,    0.00,2,    1.71,2,   1.460,2,   0.770,2,   0.022,2,    0.27,4,    -999,9,    -999,9,     -999,9,     -999,    -999,9,     -999,9,    -999,9,   9.9861,2,    -999,9,    -999,9,    -999,    -999,9,    -999,    0.40,2,   45.64,2,   29.66,2,  13.3310, -69.8566,    -999,     -999,    -999,   9.9394,   9.9861,2,-999,9,-999,-999,9,-999,    35.2387,2,-999,9,20120413,       1622
33AT20120324,        A22,      75,          1,         22,         22,2,20120413,       1517,    13.3317,   -69.8560,       3086,   467.8,   9.1629,  34.9671,2,  34.9564,4,    120.9,2,   120.5,2,   15.23,2,   28.28,2,    0.00,2,    1.82,2,   1.278,2,   0.665,2,   0.021,2,    0.00,4,    -999,9,    -999,9,     -999,9,     -999,    -999,9,     -999,9,    -999,9,   9.1627,2,    -999,9,    -999,9,    -999,    -999,9,    -999,    0.39,2,   44.87,2,   30.56,2,  13.3310, -69.8566,    -999,     -999,    -999,   9.1107,   9.1627,2,-999,9,-999,-999,9,-999,    35.1212,4,-999,9,20120413,       1620
33AT20120324,        A22,      75,          1,         21,         21,2,20120413,       1517,    13.3317,   -69.8560,       3086,   538.1,   8.0504,  34.8529,2,  34.8421,4,    121.5,2,   120.6,2,   18.30,2,   30.42,2,    0.00,2,    1.98,2,   0.913,2,   0.471,2,   0.015,2,    0.05,4,  2208.9,2, 2305.44,2,   7.5880,2,       25,    -999,9,     -999,9,    -999,9,   8.0501,2,    -999,9,    -999,9,    -999,    -999,9,    -999,    0.37,2,   43.74,2,   32.70,2,  13.3311, -69.8565,    -999,     -999,    -999,   7.9946,   8.0501,2,-999,9,-999,-999,9,-999,    35.0064,4,-999,9,20120413,       1618
33AT20120324,        A22,      75,          1,         20,         20,2,20120413,       1517,    13.3317,   -69.8560,       3086,   638.9,   7.2017,  34.7831,2,  34.7734,4,    124.1,2,   123.8,2,   21.08,2,   31.74,2,    0.00,2,    2.09,2,   0.595,2,   0.304,2,   0.012,2,    0.00,4,  2214.4,2, 2302.96,6,   7.5734,2,       25,    -999,9,     -999,9,    -999,9,   7.2012,2,    -999,9,    -999,9,    -999,    -999,9,    -999,    0.30,2,   43.07,2,   34.26,2,  13.3311, -69.8565,    -999,     -999,    -999,   7.1392,   7.2012,2,-999,9,-999,-999,9,-999,    34.9374,4,-999,9,20120413,       1615
33AT20120324,        A22,      75,          1,         19,         19,2,20120413,       1517,    13.3317,   -69.8560,       3086,   740.0,   6.4460,  34.7379,2,  34.7278,4,    130.3,2,   129.9,2,   23.56,2,   32.24,2,    0.00,2,    2.14,2,   0.377,2,   0.195,2,   0.008,2,    0.22,4,  2215.5,2, 2304.88,2,   7.5697,2,       25,    -999,9,     -999,9,    -999,9,   6.4450,2,    -999,9,    -999,9,    -999,    -999,9,    -999,    0.27,2,   42.61,2,   34.83,2,  13.3312, -69.8564,    -999,     -999,    -999,   6.3773,   6.4450,2,-999,9,-999,-999,9,-999,    34.8916,4,-999,9,20120413,       1613
33AT20120324,        A22,      75,          1,         18,         18,2,20120413,       1517,    13.3317,   -69.8560,       3086,   840.3,   5.9142,  34.7768,2,  34.7705,4,    141.8,2,   142.0,2,   24.69,2,   30.93,2,    0.00,2,    2.07,2,   0.212,2,   0.120,2,   0.007,2,    0.00,4,  2211.8,2, 2310.49,2,   7.5895,2,       25,    -999,9,     -999,9,    -999,9,   5.9140,2,    0.68,6,   -89.7,6,     3.8,    -999,9,    -999,    0.19,2,   41.96,2,   33.67,2,  13.3312, -69.8564,    -999,     -999,    -999,   5.8390,   5.9140,2,-999,9,-999,-999,9,-999,    34.9344,4,-999,9,20120413,       1610
33AT20120324,        A22,      75,          1,         17,         17,2,20120413,       1517,    13.3317,   -69.8560,       3086,   941.4,   5.5526,  34.8575,2,  34.8487,4,    160.9,2,   159.3,2,   24.78,2,   28.44,2,    0.00,2,    1.92,2,   0.133,2,   0.083,2,   0.001,2,    0.00,4,    -999,9,    -999,9,     -999,9,     -999,    -999,9,     -999,9,    -999,9,   5.5523,2,    -999,9,    -999,9,    -999,    -999,9,    -999,    0.10,2,   41.61,2,   31.46,2,  13.3312, -69.8564,    -999,     -999,    -999,   5.4701,   5.5523,2,-999,9,-999,-999,9,-999,    35.0130,4,-999,9,20120413,       1607
33AT20120324,        A22,      75,          1,         16,         16,2,20120413,       1517,    13.3317,   -69.8560,       3086,  1042.9,   5.1284,  34.9232,2,  34.9152,4,    179.5,2,   180.1,2,   24.55,2,   25.75,2,    0.00,2,    1.75,2,   0.108,2,   0.063,2,   0.004,2,    0.00,4,    -999,9,    -999,9,     -999,9,     -999,    -999,9,     -999,9,    -999,9,   5.1267,2,    -999,9,    -999,9,    -999,    -999,9,    -999,    0.15,2,   41.12,2,   28.97,2,  13.3313, -69.8564,    -999,     -999,    -999,   5.0395,   5.1267,2,-999,9,-999,-999,9,-999,    35.0798,4,-999,9,20120413,       1605
33AT20120324,        A22,      75,          1,         15,         15,2,20120413,       1517,    13.3317,   -69.8560,       3086,  1143.9,   4.7515,  34.9481,2,  34.9366,4,    192.4,2,   192.8,2,   24.84,2,   24.38,2,    0.00,2,    1.67,2,   0.080,2,   0.047,2,   0.004,2,    0.00,4,    -999,9,    -999,9,     -999,9,     -999,    -999,9,     -999,9,    -999,9,   4.7525,2,    -999,9,    -999,9,    -999,    -999,9,    -999,    0.15,2,   40.78,2,   27.19,2,  13.3314, -69.8563,    -999,     -999,    -999,   4.6563,   4.7525,2,-999,9,-999,-999,9,-999,    35.1014,4,-999,9,20120413,       1602
33AT20120324,        A22,      75,          1,         14,         14,2,20120413,       1517,    13.3317,   -69.8560,       3086,  1244.6,   4.5878,  34.9582,2,  34.9445,4,    200.0,2,   200.3,2,   24.62,2,   23.61,2,    0.00,2,    1.62,2,   0.080,2,   0.050,2,   0.003,2,    0.00,4,    -999,9,    -999,9,   7.6836,6,       25,    -999,9,     -999,9,    -999,9,   4.5858,2,    -999,9,    -999,9,    -999,    -999,9,    -999,    0.16,2,   41.23,2,   26.74,2,  13.3315, -69.8562,    -999,     -999,    -999,   4.4849,   4.5858,2,-999,9,-999,-999,9,-999,    35.1093,4,-999,9,20120413,       1600
33AT20120324,        A22,      75,          1,         13,         13,2,20120413,       1517,    13.3317,   -69.8560,       3086,  1345.3,   4.4449,  34.9650,2,  34.9665,2,    204.9,2,   205.5,2,   25.00,2,   23.09,2,    0.00,2,    1.58,2,   0.082,2,   0.047,2,   0.003,2,    0.00,4,    -999,9,    -999,9,     -999,9,     -999,    -999,9,     -999,9,    -999,9,   4.4438,2,    -999,9,    -999,9,    -999,    -999,9,    -999,    0.19,2,   41.52,2,   25.58,2,  13.3316, -69.8561,    -999,     -999,    -999,   4.3341,   4.4438,2,-999,9,-999,-999,9,-999,    35.1313,2,-999,9,20120413,       1557
33AT20120324,        A22,      75,          1,         12,         12,2,20120413,       1517,    13.3317,   -69.8560,       3086,  1446.8,   4.3168,  34.9692,2,  34.9696,2,    208.2,2,   208.5,2,   25.84,2,   22.69,2,    0.00,2,    1.56,2,   0.071,2,   0.044,2,   0.004,2,    0.00,4,    -999,9,    -999,9,     -999,9,     -999,    -999,9,     -999,9,    -999,9,   4.3176,2,    -999,9,    -999,9,    -999,    -999,9,    -999,    0.15,2,   40.00,2,   24.75,2,  13.3317, -69.8561,    -999,     -999,    -999,   4.1980,   4.3176,2,-999,9,-999,-999,9,-999,    35.1345,2,-999,9,20120413,       1554
33AT20120324,        A22,      75,          1,         11,         11,2,20120413,       1517,    13.3317,   -69.8560,       3086,  1548.2,   4.2398,  34.9711,2,  34.9725,2,    210.5,2,   210.4,2,   26.45,2,   22.48,2,    0.00,2,    1.54,2,   0.066,2,   0.042,2,   0.004,2,    0.00,4,    -999,9,    -999,9,     -999,9,     -999,    -999,9,     -999,9,    -999,9,   4.2395,2,    -999,9,    -999,9,    -999,    -999,9,    -999,    0.15,2,   39.73,2,   24.87,2,  13.3317, -69.8560,    -999,     -999,    -999,   4.1124,   4.2395,2,-999,9,-999,-999,9,-999,    35.1374,2,-999,9,20120413,       1552
33AT20120324,        A22,      75,          1,         10,         10,2,20120413,       1517,    13.3317,   -69.8560,       3086,  1649.1,   4.1840,  34.9722,2,  34.9729,2,    211.8,2,   212.1,2,   26.84,2,   22.34,2,    0.00,2,    1.53,2,   0.063,2,   0.040,2,   0.004,2,    0.00,4,    -999,9,    -999,9,     -999,9,     -999,    -999,9,     -999,9,    -999,9,   4.1837,2,    -999,9,    -999,9,    -999,    -999,9,    -999,    0.14,2,   40.13,2,   24.71,2,  13.3318, -69.8560,    -999,     -999,    -999,   4.0478,   4.1837,2,-999,9,-999,-999,9,-999,    35.1378,2,-999,9,20120413,       1549
33AT20120324,        A22,      75,          1,          9,          9,2,20120413,       1517,    13.3317,   -69.8560,       3086,  1750.8,   4.1465,  34.9728,2,  34.9735,2,    213.3,2,   212.9,2,   27.14,2,   22.26,2,    0.00,2,    1.52,2,   0.058,2,   0.039,2,   0.005,2,    0.00,4,    -999,9,    -999,9,     -999,9,     -999,    -999,9,     -999,9,    -999,9,   4.1464,2,    -999,9,    -999,9,    -999,    -999,9,    -999,    0.13,2,   40.32,2,   24.98,2,  13.3318, -69.8560,    -999,     -999,    -999,   4.0011,   4.1464,2,-999,9,-999,-999,9,-999,    35.1384,2,-999,9,20120413,       1546
33AT20120324,        A22,      75,          1,          8,          8,2,20120413,       1517,    13.3317,   -69.8560,       3086,  1852.3,   4.1256,  34.9732,2,  34.9743,2,    213.8,2,   214.1,2,   27.38,2,   22.17,2,    0.00,2,    1.52,2,   0.054,2,   0.037,2,   0.005,2,    0.00,4,    -999,9,    -999,9,     -999,9,     -999,    -999,9,     -999,9,    -999,9,   4.1255,2,    -999,9,    -999,9,    -999,    -999,9,    -999,    0.13,2,   39.84,2,   24.33,2,  13.3318, -69.8560,    -999,     -999,    -999,   3.9707,   4.1255,2,-999,9,-999,-999,9,-999,    35.1392,2,-999,9,20120413,       1544
33AT20120324,        A22,      75,          1,          7,          7,2,20120413,       1517,    13.3317,   -69.8560,       3086,  1984.4,   4.1084,  34.9739,2,  34.9737,2,    213.7,2,   214.0,2,   27.95,2,   22.14,2,    0.00,2,    1.52,2,   0.045,2,   0.037,2,   0.006,2,    0.00,4,    -999,9,    -999,9,     -999,9,     -999,    -999,9,     -999,9,    -999,9,   4.1087,2,    -999,9,    -999,9,    -999,    -999,9,    -999,    0.10,2,   39.92,2,   24.78,2,  13.3319, -69.8559,    -999,     -999,    -999,   3.9408,   4.1087,2,-999,9,-999,-999,9,-999,    35.1386,2,-999,9,20120413,       1541
33AT20120324,        A22,      75,          1,          6,          6,2,20120413,       1517,    13.3317,   -69.8560,       3086,  2083.8,   4.1028,  34.9740,2,  34.9741,2,    213.9,2,   214.4,2,   28.14,2,   22.10,2,    0.00,2,    1.51,2,   0.045,2,   0.033,2,   0.006,2,    0.18,4,    -999,9,    -999,9,     -999,9,     -999,    -999,9,     -999,9,    -999,9,   4.1028,2,    -999,9,    -999,9,    -999,    -999,9,    -999,    0.10,2,   40.36,2,   24.51,2,  13.3319, -69.8559,    -999,     -999,    -999,   3.9254,   4.1028,2,-999,9,-999,-999,9,-999,    35.1390,2,-999,9,20120413,       1538