BOTTLE,20220725CCHSIOCBG
EXPOCODE,SECT_ID,STNNBR,CASTNO,SAMPNO,BTLNBR,BTLNBR_FLAG_W,DATE,TIME,LATITUDE,LONGITUDE,DEPTH,CTDPRS,CTDTMP,CTDSAL,CTDSAL_FLAG_W,SALNTY,SALNTY_FLAG_W,CTDOXY,CTDOXY_FLAG_W,OXYGEN,OXYGEN_FLAG_W,SILCAT,SILCAT_FLAG_W,NITRAT,NITRAT_FLAG_W,NITRIT,NITRIT_FLAG_W,PHSPHT,PHSPHT_FLAG_W,CFC-11,CFC-11_FLAG_W,CFC-12,CFC-12_FLAG_W,CFC113,CFC113_FLAG_W,SF6,SF6_FLAG_W,TCARBN,TCARBN_FLAG_W,ALKALI,ALKALI_FLAG_W,PH_TOT,PH_TOT_FLAG_W,PH_TMP,TRITUM,TRITUM_FLAG_W,HELIUM,HELIUM_FLAG_W,DELHE3,DELHE3_FLAG_W,REFTMP,REFTMP_FLAG_W,DELC13,DELC13_FLAG_W,DELC14,DELC14_FLAG_W,C14ERR,NEON,NEON_FLAG_W,NEONER,CCL4,CCL4_FLAG_W,DOC,DOC_FLAG_W,TDN,TDN_FLAG_W,BTL_LAT,BTL_LON,TRITER,HELIER,DELHER,THETA,SBE35,SBE35_FLAG_W,14C-DOC,14C-DOC_FLAG_W,14C-DOCERR,13C-DOC,13C-DOC_FLAG_W,13C-DOCERR,SALTREF,SALTREF_FLAG_W,LAB_DEN,LAB_DEN_FLAG_W,BTL_DATE,BTL_TIME
,,,,,,,,,,,METERS,DBAR,ITS-90,PSS-78,,PSS-78,,UMOL/KG,,UMOL/KG,,UMOL/KG,,UMOL/KG,,UMOL/KG,,UMOL/KG,,PMOL/KG,,PMOL/KG,,PMOL/KG,,FMOL/KG,,UMOL/KG,,UMOL/KG,,,,DEG C,TU,,NMOL/KG,,PERCNT,,DEG C,,/MILLE,,/MILLE,,/MILLE,NMOL/KG,,NMOL/KG,PMOL/KG,,UMOL/KG,,UMOL/KG,,,,TU,NMOL/KG,PERCNT,DEG C,ITS-90,,/MILLE,,/MILLE,/MILLE,,/MILLE,G/KG,,KG/M^3,,,
33AT20120324,        A22,      12,          1,          5,          5,2,20120328,       0107,    38.0670,   -68.6405,       4201,  3146.7,   2.5459,  34.9107,2,  34.9120,2,    272.4,2,   272.9,2,   20.05,2,   17.13,2,    0.00,2,    1.17,2,   1.729,2,   0.830,2,   0.115,2,    0.44,2,    -999,9,    -999,9,   7.7346,2,       25,    -999,9,     -999,9,    -999,9,   2.5452,2,    -999,9,    -999,9,    -999,    -999,9,    -999,    -999,1,    -999,9,    -999,9,  38.0628, -68.6341,    -999,     -999,    -999,   2.2899,   2.5452,2,-999,9,-999,-999,9,-999,    35.0766,2,-999,9,20120328,        131
33AT20120324,        A22,      12,          1,          4,          4,2,20120328,       0107,    38.0670,   -68.6405,       4201,  3453.9,   2.3502,  34.9001,2,  34.9016,2,    273.3,2,   273.3,2,   22.32,2,   17.20,2,    0.00,2,    1.17,2,   2.003,2,   0.866,2,   0.091,2,    0.43,2,  2167.0,2, 2316.80,2,   7.7320,2,       25,   0.308,2,   1.9074,2,    5.90,2,   2.3495,2,    -999,9,    -999,9,    -999,   8.379,2,   0.038,    -999,1,    -999,9,    -999,9,  38.0640, -68.6357,   0.008,   0.0076,    0.15,   2.0664,   2.3495,2,-999,9,-999,-999,9,-999,    35.0661,2,-999,9,20120328,        124
33AT20120324,        A22,      12,          1,          3,          3,2,20120328,       0107,    38.0670,   -68.6405,       4201,  3754.1,   2.2394,  34.8921,2,     -999,5,    272.7,2,   272.4,2,   25.20,2,   17.49,2,    0.00,2,    1.20,2,   1.777,2,   0.870,2,   0.109,2,    0.50,2,    -999,9,    -999,9,     -999,9,     -999,    -999,9,     -999,9,    -999,9,   2.2388,2,    -999,9,    -999,9,    -999,    -999,9,    -999,    -999,1,    -999,9,    -999,9,  38.0650, -68.6375,    -999,     -999,    -999,   1.9259,   2.2388,2,-999,9,-999,-999,9,-999,       -999,5,-999,9,20120328,        118
33AT20120324,        A22,      12,          1,          2,          2,2,20120328,       0107,    38.0670,   -68.6405,       4201,  4011.0,   2.1465,  34.8799,2,  34.8803,2,    262.0,2,   262.5,2,   36.05,2,   19.31,2,    0.00,2,    1.33,2,   1.020,2,   0.483,2,   0.058,2,    0.28,2,  2182.1,2, 2330.95,6,     -999,9,     -999,    -999,9,     -999,9,    -999,9,   2.1462,2,    -999,9,    -999,9,    -999,    -999,9,    -999,    -999,1,    -999,9,    -999,9,  38.0659, -68.6391,    -999,     -999,    -999,   1.8069,   2.1462,2,-999,9,-999,-999,9,-999,    35.0448,2,-999,9,20120328,        113
33AT20120324,        A22,      12,          1,          1,          1,2,20120328,       0107,    38.0670,   -68.6405,       4201,  4190.8,   2.1634,  34.8792,2,  34.8807,2,    261.6,2,   261.6,2,   36.72,2,   19.39,2,    0.00,2,    1.34,2,   0.955,2,   0.452,2,   0.058,2,    0.29,2,  2184.3,6, 2333.14,2,   7.7320,6,       25,   0.148,2,   1.8961,2,    4.83,2,   2.1631,2,    -999,9,    -999,9,    -999,   8.310,2,   0.037,    -999,1,    -999,9,    -999,9,  38.0669, -68.6404,   0.009,   0.0076,    0.15,   1.8028,   2.1631,2,-999,9,-999,-999,9,-999,    35.0452,2,-999,9,20120328,        108