BOTTLE,20220725CCHSIOCBG
EXPOCODE,SECT_ID,STNNBR,CASTNO,SAMPNO,BTLNBR,BTLNBR_FLAG_W,DATE,TIME,LATITUDE,LONGITUDE,DEPTH,CTDPRS,CTDTMP,CTDSAL,CTDSAL_FLAG_W,SALNTY,SALNTY_FLAG_W,CTDOXY,CTDOXY_FLAG_W,OXYGEN,OXYGEN_FLAG_W,SILCAT,SILCAT_FLAG_W,NITRAT,NITRAT_FLAG_W,NITRIT,NITRIT_FLAG_W,PHSPHT,PHSPHT_FLAG_W,CFC-11,CFC-11_FLAG_W,CFC-12,CFC-12_FLAG_W,CFC113,CFC113_FLAG_W,SF6,SF6_FLAG_W,TCARBN,TCARBN_FLAG_W,ALKALI,ALKALI_FLAG_W,PH_TOT,PH_TOT_FLAG_W,PH_TMP,TRITUM,TRITUM_FLAG_W,HELIUM,HELIUM_FLAG_W,DELHE3,DELHE3_FLAG_W,REFTMP,REFTMP_FLAG_W,DELC13,DELC13_FLAG_W,DELC14,DELC14_FLAG_W,C14ERR,NEON,NEON_FLAG_W,NEONER,CCL4,CCL4_FLAG_W,DOC,DOC_FLAG_W,TDN,TDN_FLAG_W,BTL_LAT,BTL_LON,TRITER,HELIER,DELHER,THETA,SBE35,SBE35_FLAG_W,14C-DOC,14C-DOC_FLAG_W,14C-DOCERR,13C-DOC,13C-DOC_FLAG_W,13C-DOCERR,SALTREF,SALTREF_FLAG_W,LAB_DEN,LAB_DEN_FLAG_W,BTL_DATE,BTL_TIME
,,,,,,,,,,,METERS,DBAR,ITS-90,PSS-78,,PSS-78,,UMOL/KG,,UMOL/KG,,UMOL/KG,,UMOL/KG,,UMOL/KG,,UMOL/KG,,PMOL/KG,,PMOL/KG,,PMOL/KG,,FMOL/KG,,UMOL/KG,,UMOL/KG,,,,DEG C,TU,,NMOL/KG,,PERCNT,,DEG C,,/MILLE,,/MILLE,,/MILLE,NMOL/KG,,NMOL/KG,PMOL/KG,,UMOL/KG,,UMOL/KG,,,,TU,NMOL/KG,PERCNT,DEG C,ITS-90,,/MILLE,,/MILLE,/MILLE,,/MILLE,G/KG,,KG/M^3,,,
33AT20120324,        A22,      20,          1,          5,          5,2,20120330,       1510,    35.2237,   -66.8849,       5101,  3959.8,   2.3559,  34.8980,2,  34.8976,2,    267.4,2,   267.4,2,   27.57,2,   18.20,2,    0.00,2,    1.25,2,   0.945,2,   0.450,2,   0.048,2,    0.20,2,    -999,9,    -999,9,     -999,9,     -999,    -999,9,     -999,9,    -999,9,   2.3562,2,    -999,9,    -999,9,    -999,    -999,9,    -999,    -999,1,    -999,9,    -999,9,  35.2227, -66.8869,    -999,     -999,    -999,   2.0162,   2.3562,2,-999,9,-999,-999,9,-999,    35.0621,2,-999,9,20120330,       1535
33AT20120324,        A22,      20,          1,          4,          4,2,20120330,       1510,    35.2237,   -66.8849,       5101,  4267.0,   2.2975,  34.8908,2,  34.8901,2,    266.1,2,   265.6,2,   30.11,2,   18.52,2,    0.00,2,    1.27,2,   0.988,2,   0.481,2,   0.057,2,    0.30,2,  2172.1,2, 2327.49,2,   7.7366,2,       25,    -999,9,     -999,9,    -999,9,   2.2971,2,    -999,9,    -999,9,    -999,    -999,9,    -999,    -999,1,    -999,9,    -999,9,  35.2230, -66.8864,    -999,     -999,    -999,   1.9240,   2.2971,2,-999,9,-999,-999,9,-999,    35.0546,2,-999,9,20120330,       1529
33AT20120324,        A22,      20,          1,          3,          3,2,20120330,       1510,    35.2237,   -66.8849,       5101,  4577.5,   2.2740,  34.8857,2,  34.8850,2,    263.2,2,   263.7,2,   33.19,2,   18.99,2,    0.00,2,    1.30,2,   0.890,2,   0.422,2,   0.041,2,    0.21,2,    -999,9,    -999,9,     -999,9,     -999,    -999,9,     -999,9,    -999,9,   2.2744,2,    -999,9,    -999,9,    -999,    -999,9,    -999,    -999,1,    -999,9,    -999,9,  35.2232, -66.8859,    -999,     -999,    -999,   1.8643,   2.2744,2,-999,9,-999,-999,9,-999,    35.0495,2,-999,9,20120330,       1523
33AT20120324,        A22,      20,          1,          2,          2,2,20120330,       1510,    35.2237,   -66.8849,       5101,  4882.8,   2.2653,  34.8807,2,  34.8805,2,    260.9,2,   260.8,2,   36.28,2,   19.51,2,    0.00,2,    1.33,2,   0.761,2,   0.370,2,   0.042,2,    0.23,2,  2180.5,2, 2335.65,6,   7.7353,2,       25,    -999,9,     -999,9,    -999,9,   2.2650,2,    -999,9,    -999,9,    -999,    -999,9,    -999,    -999,1,    -999,9,    -999,9,  35.2234, -66.8854,    -999,     -999,    -999,   1.8184,   2.2650,2,-999,9,-999,-999,9,-999,    35.0450,2,-999,9,20120330,       1517
33AT20120324,        A22,      20,          1,          1,          1,2,20120330,       1510,    35.2237,   -66.8849,       5101,  5179.6,   2.2345,  34.8723,2,  34.8724,2,    256.1,2,   256.1,2,   41.97,2,   20.47,2,    0.00,2,    1.41,2,   0.488,2,   0.230,2,   0.025,2,    0.12,2,  2188.3,6, 2343.16,2,   7.7317,6,       25,    -999,9,     -999,9,    -999,9,   2.2341,2,    -999,9,    -999,9,    -999,    -999,9,    -999,    -999,1,    -999,9,    -999,9,  35.2237, -66.8850,    -999,     -999,    -999,   1.7513,   2.2341,2,-999,9,-999,-999,9,-999,    35.0369,2,-999,9,20120330,       1511