BOTTLE,20220725CCHSIOCBG
EXPOCODE,SECT_ID,STNNBR,CASTNO,SAMPNO,BTLNBR,BTLNBR_FLAG_W,DATE,TIME,LATITUDE,LONGITUDE,DEPTH,CTDPRS,CTDTMP,CTDSAL,CTDSAL_FLAG_W,SALNTY,SALNTY_FLAG_W,CTDOXY,CTDOXY_FLAG_W,OXYGEN,OXYGEN_FLAG_W,SILCAT,SILCAT_FLAG_W,NITRAT,NITRAT_FLAG_W,NITRIT,NITRIT_FLAG_W,PHSPHT,PHSPHT_FLAG_W,CFC-11,CFC-11_FLAG_W,CFC-12,CFC-12_FLAG_W,CFC113,CFC113_FLAG_W,SF6,SF6_FLAG_W,TCARBN,TCARBN_FLAG_W,ALKALI,ALKALI_FLAG_W,PH_TOT,PH_TOT_FLAG_W,PH_TMP,TRITUM,TRITUM_FLAG_W,HELIUM,HELIUM_FLAG_W,DELHE3,DELHE3_FLAG_W,REFTMP,REFTMP_FLAG_W,DELC13,DELC13_FLAG_W,DELC14,DELC14_FLAG_W,C14ERR,NEON,NEON_FLAG_W,NEONER,CCL4,CCL4_FLAG_W,DOC,DOC_FLAG_W,TDN,TDN_FLAG_W,BTL_LAT,BTL_LON,TRITER,HELIER,DELHER,THETA,SBE35,SBE35_FLAG_W,14C-DOC,14C-DOC_FLAG_W,14C-DOCERR,13C-DOC,13C-DOC_FLAG_W,13C-DOCERR,SALTREF,SALTREF_FLAG_W,LAB_DEN,LAB_DEN_FLAG_W,BTL_DATE,BTL_TIME
,,,,,,,,,,,METERS,DBAR,ITS-90,PSS-78,,PSS-78,,UMOL/KG,,UMOL/KG,,UMOL/KG,,UMOL/KG,,UMOL/KG,,UMOL/KG,,PMOL/KG,,PMOL/KG,,PMOL/KG,,FMOL/KG,,UMOL/KG,,UMOL/KG,,,,DEG C,TU,,NMOL/KG,,PERCNT,,DEG C,,/MILLE,,/MILLE,,/MILLE,NMOL/KG,,NMOL/KG,PMOL/KG,,UMOL/KG,,UMOL/KG,,,,TU,NMOL/KG,PERCNT,DEG C,ITS-90,,/MILLE,,/MILLE,/MILLE,,/MILLE,G/KG,,KG/M^3,,,
33AT20120324,        A22,      69,          1,         36,         36,2,20120412,       0611,    15.2015,   -69.5115,       3886,     3.2,  27.1922,  35.5717,2,  35.5721,2,    203.0,2,   201.9,2,    1.20,2,    0.00,2,    0.00,2,    0.01,2,   1.546,2,   1.015,2,   0.123,2,    0.78,4,  1994.1,6, 2334.79,2,   8.1007,2,       25,    -999,9,     -999,9,    -999,9,  27.1914,2,    -999,9,    -999,9,    -999,    -999,9,    -999,    1.56,2,   76.57,2,    5.09,2,  15.2041, -69.5115,    -999,     -999,    -999,  27.1915,  27.1914,2,-999,9,-999,-999,9,-999,    35.7398,2,-999,9,20120412,        751
33AT20120324,        A22,      69,          1,         35,         35,2,20120412,       0611,    15.2015,   -69.5115,       3886,    36.4,  26.5348,  35.6475,2,  35.6504,2,    202.0,2,   200.1,2,    0.76,2,    0.00,2,    0.00,2,    0.03,2,   1.565,2,   1.022,2,   0.120,2,    0.72,4,    -999,9,    -999,9,     -999,9,     -999,    -999,9,     -999,9,    -999,9,  26.5356,2,    -999,9,    -999,9,    -999,    -999,9,    -999,    1.39,2,   76.89,2,    5.04,2,  15.2040, -69.5115,    -999,     -999,    -999,  26.5265,  26.5356,2,-999,9,-999,-999,9,-999,    35.8185,2,-999,9,20120412,        749
33AT20120324,        A22,      69,          1,         34,         34,2,20120412,       0611,    15.2015,   -69.5115,       3886,    70.1,  26.3808,  35.9572,2,  35.9611,2,    190.9,2,   189.8,2,    0.93,2,    0.00,2,    0.58,2,    0.05,2,   1.328,5,   0.886,5,   0.109,5,    1.14,4,  2021.3,2, 2357.54,2,   8.0812,6,       25,    -999,9,     -999,9,    -999,9,  26.3813,2,    -999,9,    -999,9,    -999,    -999,9,    -999,    1.11,5,   75.19,2,    5.03,2,  15.2039, -69.5115,    -999,     -999,    -999,  26.3649,  26.3813,2,-999,9,-999,-999,9,-999,    36.1307,2,-999,9,20120412,        746
33AT20120324,        A22,      69,          1,         33,         33,2,20120412,       0611,    15.2015,   -69.5115,       3886,    86.1,  26.3728,  36.1517,2,  36.1502,2,    192.9,2,   192.9,3,    0.98,2,    0.00,2,    0.54,2,    0.03,2,   1.558,2,   1.027,2,   0.121,2,    1.59,4,  2027.1,2, 2368.21,6,   8.0855,2,       25,    -999,9,     -999,9,    -999,9,  26.3693,2,    -999,9,    -999,9,    -999,    -999,9,    -999,    1.21,2,   73.83,2,    5.10,2,  15.2038, -69.5115,    -999,     -999,    -999,  26.3533,  26.3693,2,-999,9,-999,-999,9,-999,    36.3206,2,-999,9,20120412,        744
33AT20120324,        A22,      69,          1,         32,         32,2,20120412,       0611,    15.2015,   -69.5115,       3886,   110.5,  25.7253,  36.5738,2,  36.5700,2,    171.1,2,   171.7,2,    0.98,2,    1.49,2,    0.04,2,    0.08,2,   1.655,2,   1.073,2,   0.103,2,    1.05,4,  2071.6,2, 2393.23,2,   8.0451,2,       25,    -999,9,     -999,9,    -999,9,  25.7613,2,    -999,9,    -999,9,    -999,    -999,9,    -999,    0.60,2,   59.67,2,    5.72,2,  15.2037, -69.5115,    -999,     -999,    -999,  25.7007,  25.7613,2,-999,9,-999,-999,9,-999,    36.7424,2,-999,9,20120412,        742
33AT20120324,        A22,      69,          1,         31,         31,2,20120412,       0611,    15.2015,   -69.5115,       3886,   136.3,  24.4285,  36.9718,2,  36.9767,2,    168.1,2,   167.7,2,    0.71,2,    2.19,2,    0.04,2,    0.10,2,   1.722,2,   1.117,2,   0.069,2,    0.86,4,    -999,9,    -999,9,     -999,9,     -999,    -999,9,     -999,9,    -999,9,  24.4265,2,    -999,9,    -999,9,    -999,    -999,9,    -999,    0.24,2,   55.74,2,    6.95,2,  15.2036, -69.5115,    -999,     -999,    -999,  24.3992,  24.4265,2,-999,9,-999,-999,9,-999,    37.1510,2,-999,9,20120412,        740
33AT20120324,        A22,      69,          1,         30,         30,2,20120412,       0611,    15.2015,   -69.5115,       3886,   165.5,  22.4134,  36.9019,2,  36.8837,2,    149.3,2,   150.6,2,    1.52,2,    4.92,2,    0.02,2,    0.26,2,   1.829,2,   1.185,2,   0.055,2,    1.07,4,  2132.7,2, 2410.18,2,   7.9629,2,       25,    -999,9,     -999,9,    -999,9,  22.4336,2,    -999,9,    -999,9,    -999,    -999,9,    -999,    0.21,2,   51.54,2,    9.51,2,  15.2035, -69.5115,    -999,     -999,    -999,  22.3799,  22.4336,2,-999,9,-999,-999,9,-999,    37.0577,2,-999,9,20120412,        739
33AT20120324,        A22,      69,          1,         29,         29,2,20120412,       0611,    15.2015,   -69.5115,       3886,   214.8,  19.1389,  36.6414,2,  36.6237,2,    147.9,2,   147.0,2,    2.25,2,    8.39,2,    0.01,2,    0.45,2,   2.009,2,   1.247,2,   0.001,2,    1.09,4,  2154.7,2, 2392.06,2,   7.8995,2,       25,    -999,9,     -999,9,    -999,9,  19.1358,2,    -999,9,    -999,9,    -999,    -999,9,    -999,    0.22,2,   50.23,2,   13.09,2,  15.2035, -69.5115,    -999,     -999,    -999,  19.1000,  19.1358,2,-999,9,-999,-999,9,-999,    36.7964,2,-999,9,20120412,        736
33AT20120324,        A22,      69,          1,         28,         28,2,20120412,       0611,    15.2015,   -69.5115,       3886,   263.9,  16.5685,  36.1919,2,  36.1674,2,    136.2,2,   147.5,2,    4.35,2,   13.38,2,    0.01,2,    0.78,2,   2.016,2,   1.250,2,   0.014,2,    0.43,4,  2164.4,2, 2366.09,2,   7.8327,2,       25,    -999,9,     -999,9,    -999,9,  16.5638,2,    -999,9,    -999,9,    -999,    -999,9,    -999,    0.23,2,   48.10,2,   15.98,2,  15.2034, -69.5115,    -999,     -999,    -999,  16.5253,  16.5638,2,-999,9,-999,-999,9,-999,    36.3379,2,-999,9,20120412,        735
33AT20120324,        A22,      69,          1,         27,         27,2,20120412,       0611,    15.2015,   -69.5115,       3886,   315.9,  14.5911,  35.8431,2,  35.8123,2,    134.1,2,   133.5,2,    6.28,2,   17.17,2,    0.01,2,    1.04,2,   1.975,2,   1.149,2,   0.016,2,    0.36,4,  2173.5,2, 2347.40,2,   7.7783,2,       25,    -999,9,     -999,9,    -999,9,  14.5900,2,    -999,9,    -999,9,    -999,    -999,9,    -999,    0.27,2,   46.35,2,   19.65,2,  15.2034, -69.5115,    -999,     -999,    -999,  14.5436,  14.5900,2,-999,9,-999,-999,9,-999,    35.9812,2,-999,9,20120412,        733
33AT20120324,        A22,      69,          1,         26,         26,2,20120412,       0611,    15.2015,   -69.5115,       3886,   367.7,  12.9454,  35.5553,2,  35.5482,2,    126.9,2,   128.8,2,    8.42,2,   20.27,2,    0.01,2,    1.27,2,   1.839,2,   1.047,2,   0.018,2,    0.06,4,  2183.2,2, 2333.49,2,   7.7306,2,       25,    -999,9,     -999,9,    -999,9,  12.9471,2,    -999,9,    -999,9,    -999,    -999,9,    -999,    0.29,2,   45.17,2,   24.14,2,  15.2034, -69.5115,    -999,     -999,    -999,  12.8944,  12.9471,2,-999,9,-999,-999,9,-999,    35.7158,2,-999,9,20120412,        732
33AT20120324,        A22,      69,          1,         25,         25,2,20120412,       0611,    15.2015,   -69.5115,       3886,   417.3,  11.5554,  35.3299,2,  35.3307,2,    124.9,2,   124.7,2,   10.39,2,   23.03,2,    0.01,2,    1.45,2,   1.676,2,   0.934,2,   0.020,2,    0.19,4,    -999,9,    -999,9,     -999,9,     -999,    -999,9,     -999,9,    -999,9,  11.5540,2,    -999,9,    -999,9,    -999,    -999,9,    -999,    0.31,2,   44.22,2,   26.71,2,  15.2034, -69.5115,    -999,     -999,    -999,  11.5016,  11.5540,2,-999,9,-999,-999,9,-999,    35.4973,2,-999,9,20120412,        730
33AT20120324,        A22,      69,          1,         24,         24,2,20120412,       0611,    15.2015,   -69.5115,       3886,   468.5,  10.7170,  35.2053,2,  35.1971,2,    122.4,2,   122.1,2,   12.02,2,   25.07,2,    0.00,2,    1.59,2,   1.508,2,   0.809,2,   0.019,2,    0.43,4,  2195.2,2, 2317.92,2,   7.6609,2,       25,    -999,9,     -999,9,    -999,9,  10.7151,2,    -999,9,    -999,9,    -999,    -999,9,    -999,    0.33,2,   43.43,2,   27.84,2,  15.2033, -69.5115,    -999,     -999,    -999,  10.6593,  10.7151,2,-999,9,-999,-999,9,-999,    35.3631,2,-999,9,20120412,        728
33AT20120324,        A22,      69,          1,         23,         23,2,20120412,       0611,    15.2015,   -69.5115,       3886,   538.7,   9.3456,  35.0141,2,  35.0077,2,    120.8,2,   121.0,2,   14.82,2,   27.94,2,    0.00,2,    1.79,2,   1.217,2,   0.646,2,   0.017,2,    0.10,4,  2202.6,2, 2311.56,2,   7.6214,2,       25,    -999,9,     -999,9,    -999,9,   9.3444,2,    -999,9,    -999,9,    -999,    -999,9,    -999,    0.35,2,   42.86,2,   31.77,2,  15.2033, -69.5115,    -999,     -999,    -999,   9.2845,   9.3444,2,-999,9,-999,-999,9,-999,    35.1728,2,-999,9,20120412,        727
33AT20120324,        A22,      69,          1,         22,         22,2,20120412,       0611,    15.2015,   -69.5115,       3886,   638.5,   8.0915,  34.8896,2,  34.8875,2,    122.1,2,   121.7,2,   18.18,2,   30.08,2,    0.00,2,    1.95,2,   0.802,2,   0.422,2,   0.011,2,    0.21,4,  2207.3,2, 2307.87,2,   7.5958,2,       25,    -999,9,     -999,9,    -999,9,   8.0908,2,    -999,9,    -999,9,    -999,    -999,9,    -999,    0.30,2,   41.69,2,   33.45,2,  15.2033, -69.5115,    -999,     -999,    -999,   8.0247,   8.0908,2,-999,9,-999,-999,9,-999,    35.0520,2,-999,9,20120412,        724
33AT20120324,        A22,      69,          1,         21,         21,2,20120412,       0611,    15.2015,   -69.5115,       3886,   739.1,   6.9738,  34.8071,2,  34.8051,2,    128.2,2,   127.9,2,   21.82,2,   31.32,2,    0.00,2,    2.07,2,   0.434,2,   0.229,2,   0.007,2,    0.12,4,  2212.0,6, 2307.14,2,   7.5832,2,       25,    -999,9,     -999,9,    -999,9,   6.9743,2,    -999,9,    -999,9,    -999,    -999,9,    -999,    0.23,2,   41.38,2,   34.56,2,  15.2032, -69.5115,    -999,     -999,    -999,   6.9022,   6.9743,2,-999,9,-999,-999,9,-999,    34.9692,2,-999,9,20120412,        722
33AT20120324,        A22,      69,          1,         20,         20,2,20120412,       0611,    15.2015,   -69.5115,       3886,   840.7,   6.2770,  34.8000,2,  34.8025,2,    137.4,2,   138.1,2,   23.61,2,   30.92,2,    0.00,2,    2.06,2,   0.246,2,   0.134,2,   0.004,2,    0.00,4,  2212.9,2, 2310.35,2,   7.5907,6,       25,    -999,9,     -999,9,    -999,9,   6.2763,2,    -999,9,    -999,9,    -999,    -999,9,    -999,    0.19,2,   41.32,2,   33.61,2,  15.2031, -69.5115,    -999,     -999,    -999,   6.1994,   6.2763,2,-999,9,-999,-999,9,-999,    34.9666,2,-999,9,20120412,        719
33AT20120324,        A22,      69,          1,         19,         19,2,20120412,       0611,    15.2015,   -69.5115,       3886,   941.4,   5.8005,  34.8511,2,  34.8520,2,    152.8,2,   153.7,2,   24.06,2,   29.01,2,    0.00,2,    1.95,2,   0.167,2,   0.095,2,   0.003,2,    0.00,4,  2207.6,2, 2314.78,2,   7.6157,2,       25,    -999,9,     -999,9,    -999,9,   5.7986,2,    -999,9,    -999,9,    -999,    -999,9,    -999,    0.15,2,   40.74,2,   31.50,2,  15.2030, -69.5115,    -999,     -999,    -999,   5.7162,   5.7986,2,-999,9,-999,-999,9,-999,    35.0164,2,-999,9,20120412,        716
33AT20120324,        A22,      69,          1,         18,         18,2,20120412,       0611,    15.2015,   -69.5115,       3886,  1042.1,   5.3571,  34.9217,2,  34.9227,2,    173.9,2,   174.5,2,   23.55,2,   26.20,2,    0.00,2,    1.77,2,   0.141,2,   0.081,2,   0.004,2,    0.00,4,  2201.7,2, 2321.90,2,   7.6531,2,       25,    -999,9,     -999,9,    -999,9,   5.3560,2,    -999,9,    -999,9,    -999,    -999,9,    -999,    0.16,2,   40.76,2,   29.64,2,  15.2030, -69.5115,    -999,     -999,    -999,   5.2664,   5.3560,2,-999,9,-999,-999,9,-999,    35.0873,2,-999,9,20120412,        714
33AT20120324,        A22,      69,          1,         17,         17,2,20120412,       0611,    15.2015,   -69.5115,       3886,  1143.3,   4.8889,  34.9490,2,  34.9496,2,    190.8,2,   191.1,2,   23.72,2,   24.35,2,    0.00,2,    1.65,2,   0.133,2,   0.078,2,   0.005,2,    0.00,4,    -999,9,    -999,9,     -999,9,     -999,    -999,9,     -999,9,    -999,9,   4.8886,2,    -999,9,    -999,9,    -999,    -999,9,    -999,    0.20,2,   41.29,2,   27.33,2,  15.2030, -69.5115,    -999,     -999,    -999,   4.7926,   4.8886,2,-999,9,-999,-999,9,-999,    35.1144,2,-999,9,20120412,        711
33AT20120324,        A22,      69,          1,         16,         16,2,20120412,       0611,    15.2015,   -69.5115,       3886,  1244.3,   4.6286,  34.9612,2,  34.9620,2,    201.5,2,   201.0,2,   23.67,2,   23.36,2,    0.00,2,    1.59,2,   0.140,2,   0.081,2,   0.006,2,    0.00,4,  2190.3,2, 2326.49,2,   7.6870,2,       25,    -999,9,     -999,9,    -999,9,   4.6284,2,    -999,9,    -999,9,    -999,    -999,9,    -999,    0.22,2,   41.08,2,   25.73,2,  15.2029, -69.5115,    -999,     -999,    -999,   4.5253,   4.6284,2,-999,9,-999,-999,9,-999,    35.1269,2,-999,9,20120412,        709
33AT20120324,        A22,      69,          1,         15,         15,2,20120412,       0611,    15.2015,   -69.5115,       3886,  1345.8,   4.4638,  34.9664,2,  34.9671,2,    206.2,2,   208.6,2,   24.43,2,   22.99,2,    0.00,2,    1.56,2,   0.110,2,   0.067,2,   0.004,2,    0.12,4,  2191.4,2, 2327.98,2,   7.6923,2,       25,    -999,9,     -999,9,    -999,9,   4.4638,2,    -999,9,    -999,9,    -999,    -999,9,    -999,    0.20,2,   41.14,2,   25.53,2,  15.2027, -69.5115,    -999,     -999,    -999,   4.3528,   4.4638,2,-999,9,-999,-999,9,-999,    35.1320,2,-999,9,20120412,        706
33AT20120324,        A22,      69,          1,         14,         14,2,20120412,       0611,    15.2015,   -69.5115,       3886,  1441.0,   4.3485,  34.9672,2,  34.9673,2,    206.1,2,   206.0,2,   25.89,2,   22.92,2,    0.00,2,    1.57,2,   0.070,2,   0.043,2,   0.003,2,    0.14,4,  2193.3,2, 2332.00,2,   7.6955,2,       25,    -999,9,     -999,9,    -999,9,   4.3483,2,    -999,9,    -999,9,    -999,    -999,9,    -999,    0.14,2,   41.37,2,   25.41,2,  15.2026, -69.5115,    -999,     -999,    -999,   4.2299,   4.3483,2,-999,9,-999,-999,9,-999,    35.1322,2,-999,9,20120412,        704
33AT20120324,        A22,      69,          1,         13,         13,2,20120412,       0611,    15.2015,   -69.5115,       3886,  1547.8,   4.2745,  34.9700,2,  34.9705,2,    209.2,2,   209.5,2,   26.17,2,   22.62,2,    0.00,2,    1.54,2,   0.074,2,   0.048,2,   0.007,2,    0.00,4,    -999,9,    -999,9,     -999,9,     -999,    -999,9,     -999,9,    -999,9,   4.2746,2,    -999,9,    -999,9,    -999,    -999,9,    -999,    0.18,2,   40.03,2,   25.09,2,  15.2024, -69.5116,    -999,     -999,    -999,   4.1467,   4.2746,2,-999,9,-999,-999,9,-999,    35.1354,2,-999,9,20120412,        701
33AT20120324,        A22,      69,          1,         12,         12,2,20120412,       0611,    15.2015,   -69.5115,       3886,  1649.0,   4.2229,  34.9716,2,  34.9723,2,    211.4,2,   211.0,2,   26.23,2,   22.38,2,    0.00,2,    1.53,2,   0.083,2,   0.052,2,   0.004,2,    0.00,4,    -999,9,    -999,9,     -999,9,     -999,    -999,9,     -999,9,    -999,9,   4.2227,2,    -999,9,    -999,9,    -999,    -999,9,    -999,    0.17,2,   40.30,2,   24.66,2,  15.2023, -69.5115,    -999,     -999,    -999,   4.0862,   4.2227,2,-999,9,-999,-999,9,-999,    35.1372,2,-999,9,20120412,        659
33AT20120324,        A22,      69,          1,         11,         11,2,20120412,       0611,    15.2015,   -69.5115,       3886,  1750.0,   4.1750,  34.9725,2,  34.9732,2,    213.1,2,   217.0,3,   26.48,2,   22.20,2,    0.00,2,    1.51,2,   0.089,2,   0.055,2,   0.006,2,    0.00,4,    -999,9,    -999,9,     -999,9,     -999,    -999,9,     -999,9,    -999,9,   4.1748,2,    -999,9,    -999,9,    -999,    -999,9,    -999,    0.18,2,   39.89,2,   24.49,2,  15.2022, -69.5115,    -999,     -999,    -999,   4.0293,   4.1748,2,-999,9,-999,-999,9,-999,    35.1382,2,-999,9,20120412,        656
33AT20120324,        A22,      69,          1,         10,         10,2,20120412,       0611,    15.2015,   -69.5115,       3886,  1879.0,   4.1395,  34.9733,2,  34.9738,2,    214.2,2,   214.1,2,   26.75,2,   21.97,2,    0.00,2,    1.51,2,   0.082,2,   0.050,2,   0.007,2,    0.00,4,  2190.9,2, 2335.05,2,   7.7062,2,       25,    -999,9,     -999,9,    -999,9,   4.1393,2,    -999,9,    -999,9,    -999,    -999,9,    -999,    0.15,2,   39.97,2,   24.47,2,  15.2021, -69.5115,    -999,     -999,    -999,   3.9818,   4.1393,2,-999,9,-999,-999,9,-999,    35.1387,2,-999,9,20120412,        653
33AT20120324,        A22,      69,          1,          9,          9,2,20120412,       0611,    15.2015,   -69.5115,       3886,  2083.9,   4.1168,  34.9738,2,  34.9748,2,    215.1,2,   215.4,2,   27.08,2,   22.00,2,    0.00,2,    1.51,2,   0.074,2,   0.059,2,   0.004,2,    0.00,4,    -999,9,    -999,9,     -999,9,     -999,    -999,9,     -999,9,    -999,9,   4.1165,2,    -999,9,    -999,9,    -999,    -999,9,    -999,    0.10,2,   40.28,2,   24.44,2,  15.2020, -69.5115,    -999,     -999,    -999,   3.9392,   4.1165,2,-999,9,-999,-999,9,-999,    35.1397,2,-999,9,20120412,        649
33AT20120324,        A22,      69,          1,          8,          8,2,20120412,       0611,    15.2015,   -69.5115,       3886,  2287.9,   4.1109,  34.9742,2,  34.9748,2,    215.2,2,   215.2,2,   27.66,2,   22.03,2,    0.00,2,    1.50,2,   0.062,2,   0.046,2,   0.004,2,    0.00,4,    -999,9,    -999,9,     -999,9,     -999,    -999,9,     -999,9,    -999,9,   4.1110,2,    -999,9,    -999,9,    -999,    -999,9,    -999,    0.12,2,   39.85,2,   24.63,2,  15.2019, -69.5115,    -999,     -999,    -999,   3.9127,   4.1110,2,-999,9,-999,-999,9,-999,    35.1397,2,-999,9,20120412,        645
33AT20120324,        A22,      69,          1,          7,          7,2,20120412,       0611,    15.2015,   -69.5115,       3886,  2491.4,   4.1194,  34.9743,2,  34.9748,2,    215.3,2,   215.6,2,   27.93,2,   22.01,2,    0.00,2,    1.50,2,   0.070,2,   0.051,2,   0.005,2,    0.00,4,    -999,9,    -999,9,     -999,9,     -999,    -999,9,     -999,9,    -999,9,   4.1194,2,    -999,9,    -999,9,    -999,    -999,9,    -999,    0.11,2,   39.94,2,   24.33,2,  15.2019, -69.5115,    -999,     -999,    -999,   3.8998,   4.1194,2,-999,9,-999,-999,9,-999,    35.1397,2,-999,9,20120412,        641
33AT20120324,        A22,      69,          1,          6,          6,2,20120412,       0611,    15.2015,   -69.5115,       3886,  2692.2,   4.1331,  34.9744,2,  34.9750,2,    215.4,2,   216.0,2,   28.08,2,   21.94,2,    0.00,2,    1.50,2,   0.068,2,   0.052,2,   0.006,2,    0.00,4,  2193.5,2, 2338.65,2,   7.7092,2,       25,    -999,9,     -999,9,    -999,9,   4.1328,2,    -999,9,    -999,9,    -999,    -999,9,    -999,    0.12,2,   39.51,2,   24.21,2,  15.2019, -69.5115,    -999,     -999,    -999,   3.8918,   4.1328,2,-999,9,-999,-999,9,-999,    35.1399,2,-999,9,20120412,        637