BOTTLE,20220725CCHSIOCBG
EXPOCODE,SECT_ID,STNNBR,CASTNO,SAMPNO,BTLNBR,BTLNBR_FLAG_W,DATE,TIME,LATITUDE,LONGITUDE,DEPTH,CTDPRS,CTDTMP,CTDSAL,CTDSAL_FLAG_W,SALNTY,SALNTY_FLAG_W,CTDOXY,CTDOXY_FLAG_W,OXYGEN,OXYGEN_FLAG_W,SILCAT,SILCAT_FLAG_W,NITRAT,NITRAT_FLAG_W,NITRIT,NITRIT_FLAG_W,PHSPHT,PHSPHT_FLAG_W,CFC-11,CFC-11_FLAG_W,CFC-12,CFC-12_FLAG_W,CFC113,CFC113_FLAG_W,SF6,SF6_FLAG_W,TCARBN,TCARBN_FLAG_W,ALKALI,ALKALI_FLAG_W,PH_TOT,PH_TOT_FLAG_W,PH_TMP,TRITUM,TRITUM_FLAG_W,HELIUM,HELIUM_FLAG_W,DELHE3,DELHE3_FLAG_W,REFTMP,REFTMP_FLAG_W,DELC13,DELC13_FLAG_W,DELC14,DELC14_FLAG_W,C14ERR,NEON,NEON_FLAG_W,NEONER,CCL4,CCL4_FLAG_W,DOC,DOC_FLAG_W,TDN,TDN_FLAG_W,BTL_LAT,BTL_LON,TRITER,HELIER,DELHER,THETA,SBE35,SBE35_FLAG_W,14C-DOC,14C-DOC_FLAG_W,14C-DOCERR,13C-DOC,13C-DOC_FLAG_W,13C-DOCERR,SALTREF,SALTREF_FLAG_W,LAB_DEN,LAB_DEN_FLAG_W,BTL_DATE,BTL_TIME
,,,,,,,,,,,METERS,DBAR,ITS-90,PSS-78,,PSS-78,,UMOL/KG,,UMOL/KG,,UMOL/KG,,UMOL/KG,,UMOL/KG,,UMOL/KG,,PMOL/KG,,PMOL/KG,,PMOL/KG,,FMOL/KG,,UMOL/KG,,UMOL/KG,,,,DEG C,TU,,NMOL/KG,,PERCNT,,DEG C,,/MILLE,,/MILLE,,/MILLE,NMOL/KG,,NMOL/KG,PMOL/KG,,UMOL/KG,,UMOL/KG,,,,TU,NMOL/KG,PERCNT,DEG C,ITS-90,,/MILLE,,/MILLE,/MILLE,,/MILLE,G/KG,,KG/M^3,,,
33AT20120324,        A22,      54,          1,         19,         19,2,20120409,       0040,    18.5784,   -65.9968,        888,     2.9,  26.8604,  35.7089,2,  35.7108,2,    202.2,2,   202.4,2,    1.47,2,    0.00,2,    0.00,2,    0.00,2,   1.630,2,   1.087,2,   0.142,2,    1.21,2,  1998.9,2, 2344.84,2,   8.1071,2,       25,   0.460,2,   1.7217,2,   -1.43,2,  26.8592,2,    -999,9,    -999,9,    -999,   6.808,2,   0.031,    -999,1,    -999,9,    -999,9,  18.5801, -65.9994,   0.010,   0.0069,    0.15,  26.8597,  26.8592,2,-999,9,-999,-999,9,-999,    35.8792,2,-999,9,20120409,        117
33AT20120324,        A22,      54,          1,         18,         18,2,20120409,       0040,    18.5784,   -65.9968,        888,    35.0,  26.1983,  36.0208,2,  36.0220,2,    203.9,2,   205.1,2,    0.99,2,    0.00,2,    0.00,2,    0.00,2,   1.659,2,   1.067,2,   0.139,2,    1.18,2,  2010.7,2,    -999,9,   8.1086,2,       25,    -999,9,     -999,9,    -999,9,  26.1974,2,    -999,9,    -999,9,    -999,    -999,9,    -999,    -999,1,    -999,9,    -999,9,  18.5800, -65.9992,    -999,     -999,    -999,  26.1904,  26.1974,2,-999,9,-999,-999,9,-999,    36.1919,2,-999,9,20120409,        114
33AT20120324,        A22,      54,          1,         17,         17,2,20120409,       0040,    18.5784,   -65.9968,        888,    60.1,  25.4410,  36.2601,2,  36.2618,2,    204.9,2,   205.3,2,    0.70,2,    0.00,2,    0.00,2,    0.00,2,   1.693,2,   1.090,2,   0.143,2,    1.26,2,    -999,9,    -999,9,     -999,9,     -999,    -999,9,     -999,9,    -999,9,  25.4426,2,    -999,9,    -999,9,    -999,    -999,9,    -999,    -999,1,    -999,9,    -999,9,  18.5800, -65.9991,    -999,     -999,    -999,  25.4277,  25.4426,2,-999,9,-999,-999,9,-999,    36.4328,2,-999,9,20120409,        112
33AT20120324,        A22,      54,          1,         16,         16,2,20120409,       0040,    18.5784,   -65.9968,        888,    85.1,  25.2230,  36.3247,2,  36.3273,2,    204.0,2,   207.4,2,    0.65,2,    0.00,2,    0.00,2,    0.00,2,   1.706,2,   1.101,2,   0.144,2,    1.27,2,  2024.3,2, 2380.86,2,   8.1091,2,       25,   0.479,2,   1.7155,2,   -1.21,2,  25.2196,2,    -999,9,    -999,9,    -999,   6.817,2,   0.031,    -999,1,    -999,9,    -999,9,  18.5799, -65.9990,   0.010,   0.0069,    0.15,  25.2043,  25.2196,2,-999,9,-999,-999,9,-999,    36.4986,2,-999,9,20120409,        110
33AT20120324,        A22,      54,          1,         15,         15,2,20120409,       0040,    18.5784,   -65.9968,        888,   110.5,  24.9445,  36.8920,2,  36.8994,2,    191.3,2,   191.1,2,    0.27,2,    0.19,2,    0.14,2,    0.00,2,   1.761,2,   1.126,2,   0.130,2,    1.19,2,    -999,9,    -999,9,     -999,9,     -999,    -999,9,     -999,9,    -999,9,  24.9457,2,    -999,9,    -999,9,    -999,    -999,9,    -999,    -999,1,    -999,9,    -999,9,  18.5798, -65.9988,    -999,     -999,    -999,  24.9204,  24.9457,2,-999,9,-999,-999,9,-999,    37.0734,2,-999,9,20120409,        108
33AT20120324,        A22,      54,          1,         14,         14,2,20120409,       0040,    18.5784,   -65.9968,        888,   135.9,  23.1181,  37.1158,2,  37.1123,2,    171.3,2,   171.4,2,    0.34,2,    1.64,2,    0.03,2,    0.06,2,   1.884,2,   1.195,2,   0.096,2,    1.19,2,  2121.3,2, 2424.81,2,   8.0116,2,       25,    -999,9,     -999,9,    -999,9,  23.1114,2,    -999,9,    -999,9,    -999,    -999,9,    -999,    -999,1,    -999,9,    -999,9,  18.5797, -65.9987,    -999,     -999,    -999,  23.0900,  23.1114,2,-999,9,-999,-999,9,-999,    37.2873,2,-999,9,20120409,        107
33AT20120324,        A22,      54,          1,         13,         13,2,20120409,       0040,    18.5784,   -65.9968,        888,   160.4,  20.9983,  36.9206,2,  36.9153,2,    166.2,2,   167.4,2,    0.69,2,    3.41,2,    0.01,2,    0.15,2,   2.045,2,   1.279,2,   0.044,2,    1.25,2,    -999,9,    -999,9,     -999,9,     -999,   0.489,2,   1.7190,2,   -0.73,2,  20.9793,2,    -999,9,    -999,9,    -999,   6.929,2,   0.031,    -999,1,    -999,9,    -999,9,  18.5796, -65.9986,   0.010,   0.0069,    0.15,  20.9673,  20.9793,2,-999,9,-999,-999,9,-999,    37.0894,2,-999,9,20120409,        105
33AT20120324,        A22,      54,          1,         12,         12,2,20120409,       0040,    18.5784,   -65.9968,        888,   185.3,  19.6370,  36.7319,2,  36.7300,2,    184.9,2,   184.9,2,    0.41,2,    2.26,2,    0.01,2,    0.06,2,   2.160,2,   1.338,2,   0.029,2,    1.29,2,  2118.8,2, 2399.99,2,   7.9813,2,       25,    -999,9,     -999,9,    -999,9,  19.6371,2,    -999,9,    -999,9,    -999,    -999,9,    -999,    -999,1,    -999,9,    -999,9,  18.5796, -65.9985,    -999,     -999,    -999,  19.6028,  19.6371,2,-999,9,-999,-999,9,-999,    36.9032,2,-999,9,20120409,        103
33AT20120324,        A22,      54,          1,         11,         11,2,20120409,       0040,    18.5784,   -65.9968,        888,   210.7,  18.6937,  36.6357,2,  36.6368,2,    186.7,2,   180.1,2,    0.96,2,    4.94,2,    0.01,2,    0.22,2,   2.232,2,   1.375,2,   0.018,2,    1.23,2,    -999,9,    -999,9,     -999,9,     -999,    -999,9,     -999,9,    -999,9,  18.6946,2,    -999,9,    -999,9,    -999,    -999,9,    -999,    -999,1,    -999,9,    -999,9,  18.5795, -65.9984,    -999,     -999,    -999,  18.6562,  18.6946,2,-999,9,-999,-999,9,-999,    36.8095,2,-999,9,20120409,        102
33AT20120324,        A22,      54,          1,         10,         10,2,20120409,       0040,    18.5784,   -65.9968,        888,   235.9,  18.2296,  36.5734,2,  36.5720,2,    185.6,2,   193.9,2,    0.89,2,    4.49,2,    0.01,2,    0.19,2,   2.274,2,   1.394,2,   0.029,2,    1.23,2,  2117.3,2, 2388.31,2,   7.9689,2,       25,   0.491,2,   1.7509,2,   -0.45,2,  18.2301,2,    -999,9,    -999,9,    -999,   7.000,2,   0.032,    -999,1,    -999,9,    -999,9,  18.5794, -65.9984,   0.010,   0.0070,    0.15,  18.1883,  18.2301,2,-999,9,-999,-999,9,-999,    36.7444,2,-999,9,20120409,        100
33AT20120324,        A22,      54,          1,          9,          9,2,20120409,       0040,    18.5784,   -65.9968,        888,   266.1,  17.8313,  36.5122,2,  36.5115,2,    192.3,2,   192.5,2,    1.14,2,    5.39,2,    0.01,2,    0.26,2,   2.315,2,   1.405,2,   0.029,2,    1.20,2,    -999,9,    -999,9,     -999,9,     -999,    -999,9,     -999,9,    -999,9,  17.8332,2,    -999,9,    -999,9,    -999,    -999,9,    -999,    -999,1,    -999,9,    -999,9,  18.5794, -65.9983,    -999,     -999,    -999,  17.7854,  17.8332,2,-999,9,-999,-999,9,-999,    36.6837,2,-999,9,20120409,         59
33AT20120324,        A22,      54,          1,          8,          8,2,20120409,       0040,    18.5784,   -65.9968,        888,   316.7,  17.0331,  36.3689,2,  36.3687,2,    176.2,2,   177.2,2,    1.92,2,    8.16,2,    0.00,2,    0.44,2,   2.329,2,   1.404,2,   0.026,2,    1.02,2,    -999,9,    -999,9,     -999,9,     -999,    -999,9,     -999,9,    -999,9,  17.0346,2,    -999,9,    -999,9,    -999,    -999,9,    -999,    -999,1,    -999,9,    -999,9,  18.5793, -65.9982,    -999,     -999,    -999,  16.9801,  17.0346,2,-999,9,-999,-999,9,-999,    36.5402,2,-999,9,20120409,         57
33AT20120324,        A22,      54,          1,          7,          7,2,20120409,       0040,    18.5784,   -65.9968,        888,   366.3,  16.0288,  36.1912,2,  36.1824,2,    170.1,2,   171.5,2,    2.85,2,   10.42,2,    0.00,2,    0.58,2,   2.355,2,   1.412,2,   0.028,2,    0.78,2,  2144.2,2, 2367.69,2,   7.8813,2,       25,   0.498,2,   1.7572,2,    1.83,2,  16.0220,2,    -999,9,    -999,9,    -999,   7.197,2,   0.032,    -999,1,    -999,9,    -999,9,  18.5792, -65.9981,   0.010,   0.0070,    0.15,  15.9700,  16.0220,2,-999,9,-999,-999,9,-999,    36.3530,2,-999,9,20120409,         55
33AT20120324,        A22,      54,          1,          6,          6,2,20120409,       0040,    18.5784,   -65.9968,        888,   417.4,  14.5841,  35.9452,2,  35.9358,2,    155.3,2,   155.0,2,    4.54,2,   14.21,2,    0.00,2,    0.83,2,   2.227,2,   1.285,2,   0.025,2,    0.78,2,    -999,9,    -999,9,     -999,9,     -999,    -999,9,     -999,9,    -999,9,  14.5735,2,    -999,9,    -999,9,    -999,    -999,9,    -999,    -999,1,    -999,9,    -999,9,  18.5791, -65.9979,    -999,     -999,    -999,  14.5212,  14.5735,2,-999,9,-999,-999,9,-999,    36.1053,2,-999,9,20120409,         53
33AT20120324,        A22,      54,          1,          5,          5,2,20120409,       0040,    18.5784,   -65.9968,        888,   467.8,  13.6893,  35.7967,2,  35.7997,2,    146.9,2,   147.3,2,    6.01,2,   16.52,2,    0.00,2,    0.99,2,   2.052,2,   1.147,2,   0.020,2,    0.69,2,  2169.3,2, 2347.12,2,   7.7920,2,       25,   0.478,2,   1.7729,2,    4.26,2,  13.7101,2,    -999,9,    -999,9,    -999,   7.422,2,   0.033,    -999,1,    -999,9,    -999,9,  18.5790, -65.9978,   0.010,   0.0071,    0.15,  13.6216,  13.7101,2,-999,9,-999,-999,9,-999,    35.9685,2,-999,9,20120409,         52
33AT20120324,        A22,      54,          1,          4,          4,2,20120409,       0040,    18.5784,   -65.9968,        888,   538.5,  12.5871,  35.6134,2,  35.6084,2,    138.6,2,   139.2,2,    7.79,2,   19.45,2,    0.00,2,    1.18,2,   1.859,2,   1.087,2,   0.019,2,    0.54,2,    -999,9,    -999,9,     -999,9,     -999,    -999,9,     -999,9,    -999,9,  12.5862,2,    -999,9,    -999,9,    -999,    -999,9,    -999,    -999,1,    -999,9,    -999,9,  18.5789, -65.9977,    -999,     -999,    -999,  12.5132,  12.5862,2,-999,9,-999,-999,9,-999,    35.7763,2,-999,9,20120409,         49
33AT20120324,        A22,      54,          1,          3,          3,2,20120409,       0040,    18.5784,   -65.9968,        888,   637.8,  10.2008,  35.2532,2,  35.2491,2,    129.8,2,   123.1,3,   12.72,2,   24.89,2,    0.00,2,    1.56,2,   1.300,2,   0.708,2,   0.015,2,    0.23,2,  2194.9,2, 2321.99,2,   7.6717,2,       25,   0.286,2,   1.7800,2,    5.61,2,  10.2002,2,    -999,9,    -999,9,    -999,   7.605,2,   0.034,    -999,1,    -999,9,    -999,9,  18.5788, -65.9975,   0.010,   0.0071,    0.15,  10.1240,  10.2002,2,-999,9,-999,-999,9,-999,    35.4153,2,-999,9,20120409,         47
33AT20120324,        A22,      54,          1,          2,          2,2,20120409,       0040,    18.5784,   -65.9968,        888,   739.7,   8.0781,  35.0075,2,  35.0024,2,    132.2,2,   133.3,2,   17.87,2,   28.37,2,    0.00,2,    1.82,2,   0.749,2,   0.373,2,   0.016,2,    0.22,2,    -999,9,    -999,9,     -999,9,     -999,    -999,9,     -999,9,    -999,9,   8.0774,2,    -999,9,    -999,9,    -999,    -999,9,    -999,    -999,1,    -999,9,    -999,9,  18.5786, -65.9972,    -999,     -999,    -999,   8.0002,   8.0774,2,-999,9,-999,-999,9,-999,    35.1674,2,-999,9,20120409,         44
33AT20120324,        A22,      54,          1,          1,          1,2,20120409,       0040,    18.5784,   -65.9968,        888,   878.3,   6.6648,  34.9788,2,  34.9789,2,    159.3,2,   160.8,2,   18.44,2,   26.47,2,    0.00,2,    1.74,2,   0.701,2,   0.348,2,   0.014,2,    0.20,2,  2198.7,2, 2314.37,2,   7.6479,2,       25,   0.170,2,   1.8264,2,    4.79,2,   6.6681,2,    -999,9,    -999,9,    -999,   7.818,2,   0.035,    -999,1,    -999,9,    -999,9,  18.5784, -65.9969,   0.010,   0.0073,    0.15,   6.5807,   6.6681,2,-999,9,-999,-999,9,-999,    35.1439,2,-999,9,20120409,         41
33AT20120324,        A22,      55,          1,         11,         11,2,20120409,       0228,    18.4969,   -66.0023,        242,     2.9,  26.8003,  35.7259,2,  35.7260,2,    204.0,2,   203.8,2,    1.53,2,    0.00,2,    0.00,2,    0.00,2,   1.602,2,   1.063,2,   0.121,2,    1.08,4,  1997.9,2, 2346.22,2,   8.1061,2,       25,    -999,9,     -999,9,    -999,9,  26.8006,2,    -999,9,    -999,9,    -999,    -999,9,    -999,    1.70,2,    -999,9,    -999,9,  18.4974, -66.0027,    -999,     -999,    -999,  26.7996,  26.8006,2,-999,9,-999,-999,9,-999,    35.8945,2,-999,9,20120409,        246
33AT20120324,        A22,      55,          1,         10,         10,2,20120409,       0228,    18.4969,   -66.0023,        242,    21.4,  26.3731,  35.8166,2,  35.8196,2,    205.8,2,   205.3,2,    1.15,2,    0.00,2,    0.00,2,    0.00,2,   1.625,2,   1.069,2,   0.122,2,    0.78,4,  2004.1,2,    -999,9,   8.1026,2,       25,    -999,9,     -999,9,    -999,9,  26.3735,2,    -999,9,    -999,9,    -999,    -999,9,    -999,    1.59,2,    -999,9,    -999,9,  18.4973, -66.0026,    -999,     -999,    -999,  26.3683,  26.3735,2,-999,9,-999,-999,9,-999,    35.9885,2,-999,9,20120409,        244
33AT20120324,        A22,      55,          1,          9,          9,2,20120409,       0228,    18.4969,   -66.0023,        242,    41.3,  26.3325,  35.8450,2,  35.8469,2,    206.0,2,   205.7,2,    1.12,2,    0.00,2,    0.00,2,    0.00,2,   1.624,2,   1.073,2,   0.124,2,    0.97,4,  2005.6,2, 2350.98,2,   8.1010,2,       25,    -999,9,   1.7358,2,   -1.19,2,  26.3298,2,    -999,9,    -999,9,    -999,   6.839,2,   0.031,    1.60,2,    -999,9,    -999,9,  18.4973, -66.0026,    -999,   0.0069,    0.15,  26.3232,  26.3298,2,-999,9,-999,-999,9,-999,    36.0159,2,-999,9,20120409,        242
33AT20120324,        A22,      55,          1,          8,          8,2,20120409,       0228,    18.4969,   -66.0023,        242,    66.3,  26.0418,  36.0454,2,  36.0440,2,    203.5,2,   203.5,2,    0.98,2,    0.00,2,    0.00,2,    0.00,2,   1.636,2,   1.060,2,   0.116,2,    1.09,4,  2012.9,2,    -999,9,   8.1037,2,       25,    -999,9,     -999,9,    -999,9,  26.0405,2,    -999,9,    -999,9,    -999,    -999,9,    -999,    1.63,2,    -999,9,    -999,9,  18.4972, -66.0025,    -999,     -999,    -999,  26.0269,  26.0405,2,-999,9,-999,-999,9,-999,    36.2139,2,-999,9,20120409,        241
33AT20120324,        A22,      55,          1,          7,          7,2,20120409,       0228,    18.4969,   -66.0023,        242,    90.7,  25.5315,  36.2330,2,  36.2311,2,    201.1,2,   202.1,2,    0.79,2,    0.02,2,    0.03,2,    0.00,2,   1.660,2,   1.084,2,   0.119,2,    1.11,4,  2023.8,2, 2374.92,2,   8.1001,2,       25,    -999,9,     -999,9,    -999,9,  25.5315,2,    -999,9,    -999,9,    -999,    -999,9,    -999,    1.43,2,    -999,9,    -999,9,  18.4972, -66.0025,    -999,     -999,    -999,  25.5114,  25.5315,2,-999,9,-999,-999,9,-999,    36.4019,2,-999,9,20120409,        239
33AT20120324,        A22,      55,          1,          6,          6,2,20120409,       0228,    18.4969,   -66.0023,        242,   115.6,  24.2918,  36.9132,2,  36.9306,2,    193.9,2,   186.5,2,    0.34,2,    0.69,2,    0.07,2,    0.01,2,   1.717,2,   1.128,2,   0.105,2,    1.30,4,  2084.8,2,    -999,9,   8.0540,2,       25,    -999,9,     -999,9,    -999,9,  24.2914,2,    -999,9,    -999,9,    -999,    -999,9,    -999,    0.67,2,    -999,9,    -999,9,  18.4971, -66.0025,    -999,     -999,    -999,  24.2671,  24.2914,2,-999,9,-999,-999,9,-999,    37.1047,2,-999,9,20120409,        236
33AT20120324,        A22,      55,          1,          5,          5,2,20120409,       0228,    18.4969,   -66.0023,        242,   141.4,  21.8834,  36.9813,2,  36.9771,2,    175.1,2,   174.8,2,    0.44,2,    2.06,2,    0.02,2,    0.07,2,   1.810,2,   1.327,2,   0.059,2,    0.00,4,  2120.7,6, 2416.16,2,   7.9983,2,       25,    -999,9,     -999,9,    -999,9,  21.8653,2,    -999,9,    -999,9,    -999,    -999,9,    -999,    0.28,2,    -999,9,    -999,9,  18.4971, -66.0024,    -999,     -999,    -999,  21.8553,  21.8653,2,-999,9,-999,-999,9,-999,    37.1514,2,-999,9,20120409,        235
33AT20120324,        A22,      55,          1,          4,          4,2,20120409,       0228,    18.4969,   -66.0023,        242,   166.7,  20.2077,  36.8166,2,  36.8165,2,    172.7,2,   172.6,2,    0.81,2,    3.68,2,    0.02,2,    0.16,2,   2.028,2,   1.300,2,   0.035,2,    0.92,4,  2129.4,2,    -999,9,   7.9664,2,       25,    -999,9,     -999,9,    -999,9,  20.2093,2,    -999,9,    -999,9,    -999,    -999,9,    -999,    0.32,2,    -999,9,    -999,9,  18.4970, -66.0024,    -999,     -999,    -999,  20.1763,  20.2093,2,-999,9,-999,-999,9,-999,    36.9901,2,-999,9,20120409,        233
33AT20120324,        A22,      55,          1,          3,          3,2,20120409,       0228,    18.4969,   -66.0023,        242,   190.8,  19.0472,  36.6806,2,  36.6707,2,    173.1,2,   173.9,2,    1.14,2,    5.14,2,    0.01,2,    0.23,2,   2.102,2,   1.356,2,   0.020,2,    0.74,4,  2132.2,2, 2396.62,2,   7.9464,2,       25,    -999,9,     -999,9,    -999,9,  19.0539,2,    -999,9,    -999,9,    -999,    -999,9,    -999,    0.32,2,    -999,9,    -999,9,  18.4970, -66.0024,    -999,     -999,    -999,  19.0128,  19.0539,2,-999,9,-999,-999,9,-999,    36.8436,2,-999,9,20120409,        232
33AT20120324,        A22,      55,          1,          2,          2,2,20120409,       0228,    18.4969,   -66.0023,        242,   210.2,  18.3950,  36.5877,2,  36.5840,2,    175.6,2,   175.8,2,    1.38,2,    5.92,2,    0.01,2,    0.28,2,   2.132,2,   1.307,2,   0.019,2,    0.59,4,  2132.6,2,    -999,9,   7.9391,2,       25,    -999,9,   1.7432,2,    0.00,2,  18.3973,2,    -999,9,    -999,9,    -999,   6.997,2,   0.031,    0.36,2,    -999,9,    -999,9,  18.4969, -66.0024,    -999,   0.0070,    0.15,  18.3580,  18.3973,2,-999,9,-999,-999,9,-999,    36.7565,2,-999,9,20120409,        230
33AT20120324,        A22,      55,          1,          1,          1,2,20120409,       0228,    18.4969,   -66.0023,        242,   226.0,  18.2276,  36.5621,2,  36.5682,2,    176.4,2,   175.9,2,    1.39,2,    6.05,2,    0.01,2,    0.29,2,   2.161,2,   1.308,2,   0.020,2,    0.94,4,  2134.0,2, 2389.47,2,   7.9382,2,       25,    -999,9,     -999,9,    -999,9,  18.2204,2,    -999,9,    -999,9,    -999,    -999,9,    -999,    0.38,2,    -999,9,    -999,9,  18.4969, -66.0023,    -999,     -999,    -999,  18.1880,  18.2204,2,-999,9,-999,-999,9,-999,    36.7406,2,-999,9,20120409,        229