BOTTLE,20220725CCHSIOCBG
EXPOCODE,SECT_ID,STNNBR,CASTNO,SAMPNO,BTLNBR,BTLNBR_FLAG_W,DATE,TIME,LATITUDE,LONGITUDE,DEPTH,CTDPRS,CTDTMP,CTDSAL,CTDSAL_FLAG_W,SALNTY,SALNTY_FLAG_W,CTDOXY,CTDOXY_FLAG_W,OXYGEN,OXYGEN_FLAG_W,SILCAT,SILCAT_FLAG_W,NITRAT,NITRAT_FLAG_W,NITRIT,NITRIT_FLAG_W,PHSPHT,PHSPHT_FLAG_W,CFC-11,CFC-11_FLAG_W,CFC-12,CFC-12_FLAG_W,CFC113,CFC113_FLAG_W,SF6,SF6_FLAG_W,TCARBN,TCARBN_FLAG_W,ALKALI,ALKALI_FLAG_W,PH_TOT,PH_TOT_FLAG_W,PH_TMP,TRITUM,TRITUM_FLAG_W,HELIUM,HELIUM_FLAG_W,DELHE3,DELHE3_FLAG_W,REFTMP,REFTMP_FLAG_W,DELC13,DELC13_FLAG_W,DELC14,DELC14_FLAG_W,C14ERR,NEON,NEON_FLAG_W,NEONER,CCL4,CCL4_FLAG_W,DOC,DOC_FLAG_W,TDN,TDN_FLAG_W,BTL_LAT,BTL_LON,TRITER,HELIER,DELHER,THETA,SBE35,SBE35_FLAG_W,14C-DOC,14C-DOC_FLAG_W,14C-DOCERR,13C-DOC,13C-DOC_FLAG_W,13C-DOCERR,SALTREF,SALTREF_FLAG_W,LAB_DEN,LAB_DEN_FLAG_W,BTL_DATE,BTL_TIME
,,,,,,,,,,,METERS,DBAR,ITS-90,PSS-78,,PSS-78,,UMOL/KG,,UMOL/KG,,UMOL/KG,,UMOL/KG,,UMOL/KG,,UMOL/KG,,PMOL/KG,,PMOL/KG,,PMOL/KG,,FMOL/KG,,UMOL/KG,,UMOL/KG,,,,DEG C,TU,,NMOL/KG,,PERCNT,,DEG C,,/MILLE,,/MILLE,,/MILLE,NMOL/KG,,NMOL/KG,PMOL/KG,,UMOL/KG,,UMOL/KG,,,,TU,NMOL/KG,PERCNT,DEG C,ITS-90,,/MILLE,,/MILLE,/MILLE,,/MILLE,G/KG,,KG/M^3,,,
33AT20120324,        A22,      72,          1,         36,         36,2,20120413,       0119,    13.6174,   -69.8098,       4950,     2.7,  27.0284,  35.7409,2,  35.7413,2,    200.7,2,   211.9,4,    0.97,2,    0.00,2,    0.00,2,    0.00,2,   1.647,2,   0.969,2,   0.131,2,    1.14,2,  2005.1,6, 2344.24,2,   8.0956,2,       25,    -999,9,     -999,9,    -999,9,  27.0278,2,    -999,9,    -999,9,    -999,    -999,9,    -999,    -999,1,    -999,9,    -999,9,  13.6207, -69.8118,    -999,     -999,    -999,  27.0278,  27.0278,2,-999,9,-999,-999,9,-999,    35.9098,2,-999,9,20120413,        326
33AT20120324,        A22,      72,          1,         35,         35,2,20120413,       0119,    13.6174,   -69.8098,       4950,    35.2,  26.8109,  36.0749,2,  36.0649,2,    200.0,2,   199.4,2,    0.65,2,    0.00,2,    0.00,2,    0.00,2,   1.666,2,   0.818,2,   0.123,2,    1.21,2,  2027.4,2, 2362.33,6,   8.0848,2,       25,    -999,9,     -999,9,    -999,9,  26.8070,2,    -999,9,    -999,9,    -999,    -999,9,    -999,    -999,1,    -999,9,    -999,9,  13.6202, -69.8111,    -999,     -999,    -999,  26.8028,  26.8070,2,-999,9,-999,-999,9,-999,    36.2350,2,-999,9,20120413,        323
33AT20120324,        A22,      72,          1,         34,         34,2,20120413,       0119,    13.6174,   -69.8098,       4950,    60.1,  26.2861,  36.4720,2,  36.4820,2,    200.3,2,   198.7,2,    0.28,2,    0.00,2,    0.00,2,    0.00,2,   1.709,2,   1.103,2,   0.125,2,    1.15,2,  2063.9,2, 2387.14,2,   8.0582,2,       25,    -999,9,     -999,9,    -999,9,  26.2764,2,    -999,9,    -999,9,    -999,    -999,9,    -999,    -999,1,    -999,9,    -999,9,  13.6200, -69.8108,    -999,     -999,    -999,  26.2725,  26.2764,2,-999,9,-999,-999,9,-999,    36.6540,2,-999,9,20120413,        321
33AT20120324,        A22,      72,          1,         33,         33,2,20120413,       0119,    13.6174,   -69.8098,       4950,    85.0,  24.3410,  37.0444,2,  37.0552,2,    172.5,2,   172.7,2,    0.71,2,    1.47,2,    0.11,2,    0.07,2,   1.837,2,   1.172,2,   0.117,2,    1.19,2,  2107.9,2, 2418.97,2,   8.0273,2,       25,    -999,9,     -999,9,    -999,9,  24.3376,2,    -999,9,    -999,9,    -999,    -999,9,    -999,    -999,1,    -999,9,    -999,9,  13.6198, -69.8106,    -999,     -999,    -999,  24.3228,  24.3376,2,-999,9,-999,-999,9,-999,    37.2300,2,-999,9,20120413,        319
33AT20120324,        A22,      72,          1,         32,         32,2,20120413,       0119,    13.6174,   -69.8098,       4950,   115.2,  22.0241,  37.0088,2,  37.0033,2,    158.6,2,   155.6,2,    1.11,2,    3.68,2,    0.04,2,    0.19,2,   1.976,2,   1.213,2,   0.081,2,    1.16,2,  2140.9,2, 2415.41,2,   7.9633,2,       25,    -999,9,     -999,9,    -999,9,  22.0074,2,    -999,9,    -999,9,    -999,    -999,9,    -999,    -999,1,    -999,9,    -999,9,  13.6195, -69.8101,    -999,     -999,    -999,  22.0011,  22.0074,2,-999,9,-999,-999,9,-999,    37.1778,2,-999,9,20120413,        316
33AT20120324,        A22,      72,          1,         31,         31,2,20120413,       0119,    13.6174,   -69.8098,       4950,   167.0,  18.4255,  36.4741,2,  36.4748,2,    133.4,2,   136.3,2,    3.46,2,   10.41,2,    0.01,2,    0.58,2,   2.161,2,   1.276,2,   0.018,2,    1.02,2,  2163.6,2, 2382.28,2,   7.8702,6,       25,    -999,9,     -999,9,    -999,9,  18.4198,2,    -999,9,    -999,9,    -999,    -999,9,    -999,    -999,1,    -999,9,    -999,9,  13.6191, -69.8097,    -999,     -999,    -999,  18.3961,  18.4198,2,-999,9,-999,-999,9,-999,    36.6468,2,-999,9,20120413,        313
33AT20120324,        A22,      72,          1,         30,         30,2,20120413,       0119,    13.6174,   -69.8098,       4950,   214.9,  16.6164,  36.1998,2,  36.1893,2,    139.7,2,   140.0,2,    4.30,2,   12.80,2,    0.01,2,    0.74,2,   2.171,2,   1.227,2,   0.018,2,    0.89,2,  2163.7,2, 2366.28,2,   7.8398,2,       25,    -999,9,     -999,9,    -999,9,  16.6129,2,    -999,9,    -999,9,    -999,    -999,9,    -999,    -999,1,    -999,9,    -999,9,  13.6188, -69.8093,    -999,     -999,    -999,  16.5812,  16.6129,2,-999,9,-999,-999,9,-999,    36.3599,2,-999,9,20120413,        311
33AT20120324,        A22,      72,          1,         29,         29,2,20120413,       0119,    13.6174,   -69.8098,       4950,   266.0,  14.7903,  35.8822,2,  35.8815,2,    133.2,2,   135.5,2,    6.19,2,   16.29,2,    0.01,2,    0.98,2,   2.127,2,   1.158,2,   0.022,2,    0.73,2,  2173.8,2, 2350.18,2,   7.7884,2,       25,    -999,9,     -999,9,    -999,9,  14.7914,2,    -999,9,    -999,9,    -999,    -999,9,    -999,    -999,1,    -999,9,    -999,9,  13.6186, -69.8091,    -999,     -999,    -999,  14.7500,  14.7914,2,-999,9,-999,-999,9,-999,    36.0507,2,-999,9,20120413,        308
33AT20120324,        A22,      72,          1,         28,         28,2,20120413,       0119,    13.6174,   -69.8098,       4950,   317.4,  13.0475,  35.5806,2,  35.5762,2,    127.2,2,   127.3,2,    8.26,2,   19.96,2,    0.01,2,    1.23,2,   1.984,2,   1.087,2,   0.021,2,    0.59,2,  2183.3,2, 2334.63,2,   7.7346,2,       25,    -999,9,     -999,9,    -999,9,  13.0437,2,    -999,9,    -999,9,    -999,    -999,9,    -999,    -999,1,    -999,9,    -999,9,  13.6185, -69.8090,    -999,     -999,    -999,  13.0033,  13.0437,2,-999,9,-999,-999,9,-999,    35.7440,2,-999,9,20120413,        306
33AT20120324,        A22,      72,          1,         27,         27,2,20120413,       0119,    13.6174,   -69.8098,       4950,   366.4,  11.9978,  35.4226,2,  35.4219,2,    124.3,2,   123.5,2,    9.61,2,   22.15,2,    0.01,2,    1.37,2,   1.845,2,   0.967,2,   0.021,2,    0.53,2,  2189.8,2, 2326.48,2,   7.7011,2,       25,    -999,9,     -999,9,    -999,9,  12.0010,2,    -999,9,    -999,9,    -999,    -999,9,    -999,    -999,1,    -999,9,    -999,9,  13.6184, -69.8090,    -999,     -999,    -999,  11.9495,  12.0010,2,-999,9,-999,-999,9,-999,    35.5889,2,-999,9,20120413,        304
33AT20120324,        A22,      72,          1,         26,         26,2,20120413,       0119,    13.6174,   -69.8098,       4950,   417.1,  10.6952,  35.2129,2,  35.2108,2,    118.8,2,   119.3,2,   12.00,2,   25.28,2,    0.00,2,    1.58,2,   1.591,2,   0.806,2,   0.023,2,    0.45,2,  2196.9,2, 2316.76,2,   7.6553,2,       25,    -999,9,     -999,9,    -999,9,  10.6856,2,    -999,9,    -999,9,    -999,    -999,9,    -999,    -999,1,    -999,9,    -999,9,  13.6183, -69.8090,    -999,     -999,    -999,  10.6440,  10.6856,2,-999,9,-999,-999,9,-999,    35.3768,2,-999,9,20120413,        302
33AT20120324,        A22,      72,          1,         25,         25,2,20120413,       0119,    13.6174,   -69.8098,       4950,   466.9,   9.4967,  35.0030,2,  35.0067,2,    119.7,2,   121.1,2,   14.49,2,   27.59,2,    0.00,2,    1.76,2,   1.440,2,   0.646,2,   0.021,2,    0.34,2,  2202.1,2, 2310.48,2,   7.6220,2,       25,    -999,9,     -999,9,    -999,9,   9.4961,2,    -999,9,    -999,9,    -999,    -999,9,    -999,    -999,1,    -999,9,    -999,9,  13.6183, -69.8090,    -999,     -999,    -999,   9.4435,   9.4961,2,-999,9,-999,-999,9,-999,    35.1718,2,-999,9,20120413,        300
33AT20120324,        A22,      72,          1,         24,         24,2,20120413,       0119,    13.6174,   -69.8098,       4950,   537.4,   8.4459,  34.8924,2,  34.8910,2,    119.9,2,   119.4,2,   17.14,2,   29.66,2,    0.00,2,    1.90,2,   1.115,2,   0.538,2,   0.018,2,    0.28,2,  2207.7,2, 2306.53,2,   7.5955,2,       25,    -999,9,     -999,9,    -999,9,   8.4447,2,    -999,9,    -999,9,    -999,    -999,9,    -999,    -999,1,    -999,9,    -999,9,  13.6183, -69.8091,    -999,     -999,    -999,   8.3886,   8.4447,2,-999,9,-999,-999,9,-999,    35.0555,2,-999,9,20120413,        258
33AT20120324,        A22,      72,          1,         23,         23,2,20120413,       0119,    13.6174,   -69.8098,       4950,   638.8,   7.3907,  34.7909,2,  34.7900,2,    121.7,2,   121.7,2,   20.36,2,   31.44,2,    0.00,2,    2.04,2,   0.764,2,   0.355,2,   0.013,2,    0.20,2,  2212.4,2, 2304.00,2,   7.5745,2,       25,    -999,9,     -999,9,    -999,9,   7.3912,2,    -999,9,    -999,9,    -999,    -999,9,    -999,    -999,1,    -999,9,    -999,9,  13.6182, -69.8091,    -999,     -999,    -999,   7.3273,   7.3912,2,-999,9,-999,-999,9,-999,    34.9541,2,-999,9,20120413,        255
33AT20120324,        A22,      72,          1,         22,         22,2,20120413,       0119,    13.6174,   -69.8098,       4950,   737.4,   6.5073,  34.7363,2,  34.7336,2,    127.4,2,   130.1,2,   23.27,2,   32.24,2,    0.00,2,    2.12,2,   0.471,2,   0.196,2,   0.007,2,    0.10,2,  2215.7,2, 2304.12,2,   7.5680,2,       25,    -999,9,     -999,9,    -999,9,   6.5080,2,    -999,9,    -999,9,    -999,    -999,9,    -999,    -999,1,    -999,9,    -999,9,  13.6181, -69.8092,    -999,     -999,    -999,   6.4385,   6.5080,2,-999,9,-999,-999,9,-999,    34.8973,2,-999,9,20120413,        252
33AT20120324,        A22,      72,          1,         21,         21,2,20120413,       0119,    13.6174,   -69.8098,       4950,   840.7,   6.0123,  34.7578,2,  34.7587,2,    137.1,2,   137.5,2,   24.47,2,   31.48,2,    0.00,2,    2.09,2,   0.313,2,   0.121,2,   0.003,2,    0.06,2,  2215.1,6, 2308.67,2,   7.5810,2,       25,    -999,9,     -999,9,    -999,9,   6.0126,2,    -999,9,    -999,9,    -999,    -999,9,    -999,    -999,1,    -999,9,    -999,9,  13.6181, -69.8092,    -999,     -999,    -999,   5.9364,   6.0126,2,-999,9,-999,-999,9,-999,    34.9226,2,-999,9,20120413,        250
33AT20120324,        A22,      72,          1,         20,         20,2,20120413,       0119,    13.6174,   -69.8098,       4950,   943.6,   5.6194,  34.8429,2,  34.8447,2,    152.7,2,   158.7,2,   24.57,2,   28.85,2,    0.00,2,    1.92,2,   0.215,2,   0.075,2,   0.002,2,    0.06,2,  2208.1,2, 2313.96,2,   7.6164,2,       25,    -999,9,     -999,9,    -999,9,   5.6199,2,    -999,9,    -999,9,    -999,    -999,9,    -999,    -999,1,    -999,9,    -999,9,  13.6180, -69.8093,    -999,     -999,    -999,   5.5362,   5.6199,2,-999,9,-999,-999,9,-999,    35.0090,2,-999,9,20120413,        247
33AT20120324,        A22,      72,          1,         19,         19,2,20120413,       0119,    13.6174,   -69.8098,       4950,  1042.2,   5.2500,  34.9023,2,  34.9043,2,    171.2,2,   171.7,2,   24.72,2,   26.59,2,    0.00,2,    1.79,2,   0.166,2,   0.060,2,   0.005,2,    0.04,2,    -999,9,    -999,9,     -999,9,     -999,    -999,9,     -999,9,    -999,9,   5.2490,2,    -999,9,    -999,9,    -999,    -999,9,    -999,    -999,1,    -999,9,    -999,9,  13.6180, -69.8093,    -999,     -999,    -999,   5.1602,   5.2490,2,-999,9,-999,-999,9,-999,    35.0688,2,-999,9,20120413,        244
33AT20120324,        A22,      72,          1,         18,         18,2,20120413,       0119,    13.6174,   -69.8098,       4950,  1144.2,   4.9243,  34.9377,2,  34.9386,2,    185.8,2,   185.9,2,   24.58,2,   24.95,2,    0.00,2,    1.69,2,   0.131,2,   0.044,2,   0.005,2,    0.04,2,  2196.6,2, 2323.70,2,   7.6679,2,       25,    -999,9,     -999,9,    -999,9,   4.9227,2,    -999,9,    -999,9,    -999,    -999,9,    -999,    -999,1,    -999,9,    -999,9,  13.6179, -69.8094,    -999,     -999,    -999,   4.8276,   4.9227,2,-999,9,-999,-999,9,-999,    35.1034,2,-999,9,20120413,        241
33AT20120324,        A22,      72,          1,         17,         17,2,20120413,       0119,    13.6174,   -69.8098,       4950,  1244.3,   4.6853,  34.9528,2,  34.9535,2,     -999,9,    -999,5,   24.54,2,   23.98,2,    0.00,2,    1.63,2,   0.113,2,   0.043,2,   0.003,2,    0.06,2,    -999,9,    -999,9,     -999,9,     -999,    -999,9,     -999,9,    -999,9,   4.6837,2,    -999,9,    -999,9,    -999,    -999,9,    -999,    -999,1,    -999,9,    -999,9,  13.6179, -69.8094,    -999,     -999,    -999,   4.5815,   4.6837,2,-999,9,-999,-999,9,-999,    35.1183,2,-999,9,20120413,        239
33AT20120324,        A22,      72,          1,         16,         16,2,20120413,       0119,    13.6174,   -69.8098,       4950,  1342.4,   4.5516,  34.9606,2,  34.9611,2,    200.0,2,   199.7,2,   24.49,2,   23.39,2,    0.00,2,    1.58,2,   0.116,2,   0.048,2,   0.003,2,    0.04,2,  2192.0,2, 2327.00,2,   7.6859,2,       25,    -999,9,     -999,9,    -999,9,   4.5516,2,    -999,9,    -999,9,    -999,    -999,9,    -999,    -999,1,    -999,9,    -999,9,  13.6178, -69.8094,    -999,     -999,    -999,   4.4400,   4.5516,2,-999,9,-999,-999,9,-999,    35.1260,2,-999,9,20120413,        236
33AT20120324,        A22,      72,          1,         15,         15,2,20120413,       0119,    13.6174,   -69.8098,       4950,  1446.6,   4.4399,  34.9653,2,  34.9658,2,    203.3,2,   203.2,2,   25.02,2,   23.04,2,    0.00,2,    1.56,2,   0.119,2,   0.046,2,   0.003,2,    0.05,2,    -999,9,    -999,9,     -999,9,     -999,    -999,9,     -999,9,    -999,9,   4.4394,2,    -999,9,    -999,9,    -999,    -999,9,    -999,    -999,1,    -999,9,    -999,9,  13.6178, -69.8095,    -999,     -999,    -999,   4.3197,   4.4394,2,-999,9,-999,-999,9,-999,    35.1307,2,-999,9,20120413,        233
33AT20120324,        A22,      72,          1,         14,         14,2,20120413,       0119,    13.6174,   -69.8098,       4950,  1548.2,   4.3236,  34.9695,2,  34.9703,2,    206.7,2,   207.1,2,   25.48,2,   22.63,2,    0.00,2,    1.53,2,   0.117,2,   0.049,2,   0.005,2,    0.08,2,  2192.1,2, 2328.93,2,   7.6964,2,       25,    -999,9,     -999,9,    -999,9,   4.3233,2,    -999,9,    -999,9,    -999,    -999,9,    -999,    -999,1,    -999,9,    -999,9,  13.6178, -69.8095,    -999,     -999,    -999,   4.1952,   4.3233,2,-999,9,-999,-999,9,-999,    35.1352,2,-999,9,20120413,        231
33AT20120324,        A22,      72,          1,         13,         13,2,20120413,       0119,    13.6174,   -69.8098,       4950,  1679.0,   4.2421,  34.9716,2,  34.9716,2,    209.3,2,   209.6,2,   26.06,2,   22.40,2,    0.00,2,    1.51,2,   0.109,2,   0.050,2,   0.006,2,    0.11,2,    -999,9,    -999,9,     -999,9,     -999,    -999,9,     -999,9,    -999,9,   4.2415,2,    -999,9,    -999,9,    -999,    -999,9,    -999,    -999,1,    -999,9,    -999,9,  13.6177, -69.8095,    -999,     -999,    -999,   4.1023,   4.2415,2,-999,9,-999,-999,9,-999,    35.1365,2,-999,9,20120413,        227
33AT20120324,        A22,      72,          1,         12,         12,2,20120413,       0119,    13.6174,   -69.8098,       4950,  1881.8,   4.1600,  34.9728,2,  34.9711,2,    211.1,2,   211.4,2,   26.82,2,   22.17,2,    0.00,2,    1.50,2,   0.102,2,   0.046,2,   0.005,2,    0.14,2,  2192.9,2, 2334.76,2,   7.7042,2,       25,    -999,9,     -999,9,    -999,9,   4.1598,2,    -999,9,    -999,9,    -999,    -999,9,    -999,    -999,1,    -999,9,    -999,9,  13.6177, -69.8096,    -999,     -999,    -999,   4.0017,   4.1598,2,-999,9,-999,-999,9,-999,    35.1360,2,-999,9,20120413,        223
33AT20120324,        A22,      72,          1,         11,         11,2,20120413,       0119,    13.6174,   -69.8098,       4950,  2104.3,   4.1244,  34.9738,2,  34.9736,2,    213.1,2,   219.0,4,   27.10,2,   22.00,2,    0.00,2,    1.49,2,   0.106,2,   0.048,2,   0.006,2,    0.17,2,    -999,9,    -999,9,     -999,9,     -999,    -999,9,     -999,9,    -999,9,   4.1246,2,    -999,9,    -999,9,    -999,    -999,9,    -999,    -999,1,    -999,9,    -999,9,  13.6177, -69.8096,    -999,     -999,    -999,   3.9446,   4.1246,2,-999,9,-999,-999,9,-999,    35.1386,2,-999,9,20120413,        218
33AT20120324,        A22,      72,          1,         10,         10,2,20120413,       0119,    13.6174,   -69.8098,       4950,  2359.6,   4.1225,  34.9741,2,  34.9736,2,    213.4,2,   213.4,2,   27.61,2,   21.94,2,    0.00,2,    1.48,2,   0.098,2,   0.041,2,   0.006,2,    0.21,2,    -999,9,    -999,9,     -999,9,     -999,    -999,9,     -999,9,    -999,9,   4.1221,2,    -999,9,    -999,9,    -999,    -999,9,    -999,    -999,1,    -999,9,    -999,9,  13.6176, -69.8096,    -999,     -999,    -999,   3.9167,   4.1221,2,-999,9,-999,-999,9,-999,    35.1385,2,-999,9,20120413,        212
33AT20120324,        A22,      72,          1,          9,          9,2,20120413,       0119,    13.6174,   -69.8098,       4950,  2614.1,   4.1332,  34.9744,2,  34.9741,2,    212.9,2,   212.7,2,   28.22,2,   21.98,2,    0.00,2,    1.49,2,   0.068,2,   0.033,2,   0.006,2,    0.31,2,    -999,9,    -999,9,     -999,9,     -999,    -999,9,     -999,9,    -999,9,   4.1331,2,    -999,9,    -999,9,    -999,    -999,9,    -999,    -999,1,    -999,9,    -999,9,  13.6176, -69.8097,    -999,     -999,    -999,   3.9003,   4.1331,2,-999,9,-999,-999,9,-999,    35.1390,2,-999,9,20120413,        207
33AT20120324,        A22,      72,          1,          8,          8,2,20120413,       0119,    13.6174,   -69.8098,       4950,  2870.0,   4.1555,  34.9744,2,  34.9743,2,    212.9,2,   218.0,4,   28.40,2,   21.99,2,    0.00,2,    1.49,2,   0.071,2,   0.035,2,   0.013,2,    0.30,2,    -999,9,    -999,9,     -999,9,     -999,    -999,9,     -999,9,    -999,9,   4.1553,2,    -999,9,    -999,9,    -999,    -999,9,    -999,    -999,1,    -999,9,    -999,9,  13.6176, -69.8096,    -999,     -999,    -999,   3.8943,   4.1553,2,-999,9,-999,-999,9,-999,    35.1392,2,-999,9,20120413,        202
33AT20120324,        A22,      72,          1,          7,          7,2,20120413,       0119,    13.6174,   -69.8098,       4950,  3138.2,   4.1810,  34.9745,2,  34.9740,2,    213.0,2,   213.6,2,   28.43,2,   21.99,2,    0.00,2,    1.49,2,   0.081,2,   0.036,2,   0.009,2,    0.18,2,  2195.2,2, 2338.19,2,   7.7098,2,       25,    -999,9,     -999,9,    -999,9,   4.1808,2,    -999,9,    -999,9,    -999,    -999,9,    -999,    -999,1,    -999,9,    -999,9,  13.6177, -69.8096,    -999,     -999,    -999,   3.8891,   4.1808,2,-999,9,-999,-999,9,-999,    35.1389,2,-999,9,20120413,        157
33AT20120324,        A22,      72,          1,          6,          6,2,20120413,       0119,    13.6174,   -69.8098,       4950,  3444.8,   4.2121,  34.9749,2,  34.9728,2,    213.3,2,   213.5,2,   28.44,2,   21.95,2,    0.00,2,    1.49,2,   0.083,2,   0.037,2,   0.012,2,    0.11,2,    -999,9,    -999,9,     -999,9,     -999,    -999,9,     -999,9,    -999,9,   4.2122,2,    -999,9,    -999,9,    -999,    -999,9,    -999,    -999,1,    -999,9,    -999,9,  13.6176, -69.8097,    -999,     -999,    -999,   3.8839,   4.2122,2,-999,9,-999,-999,9,-999,    35.1377,2,-999,9,20120413,        151