BOTTLE,20220725CCHSIOCBG
EXPOCODE,SECT_ID,STNNBR,CASTNO,SAMPNO,BTLNBR,BTLNBR_FLAG_W,DATE,TIME,LATITUDE,LONGITUDE,DEPTH,CTDPRS,CTDTMP,CTDSAL,CTDSAL_FLAG_W,SALNTY,SALNTY_FLAG_W,CTDOXY,CTDOXY_FLAG_W,OXYGEN,OXYGEN_FLAG_W,SILCAT,SILCAT_FLAG_W,NITRAT,NITRAT_FLAG_W,NITRIT,NITRIT_FLAG_W,PHSPHT,PHSPHT_FLAG_W,CFC-11,CFC-11_FLAG_W,CFC-12,CFC-12_FLAG_W,CFC113,CFC113_FLAG_W,SF6,SF6_FLAG_W,TCARBN,TCARBN_FLAG_W,ALKALI,ALKALI_FLAG_W,PH_TOT,PH_TOT_FLAG_W,PH_TMP,TRITUM,TRITUM_FLAG_W,HELIUM,HELIUM_FLAG_W,DELHE3,DELHE3_FLAG_W,REFTMP,REFTMP_FLAG_W,DELC13,DELC13_FLAG_W,DELC14,DELC14_FLAG_W,C14ERR,NEON,NEON_FLAG_W,NEONER,CCL4,CCL4_FLAG_W,DOC,DOC_FLAG_W,TDN,TDN_FLAG_W,BTL_LAT,BTL_LON,TRITER,HELIER,DELHER,THETA,SBE35,SBE35_FLAG_W,14C-DOC,14C-DOC_FLAG_W,14C-DOCERR,13C-DOC,13C-DOC_FLAG_W,13C-DOCERR,SALTREF,SALTREF_FLAG_W,LAB_DEN,LAB_DEN_FLAG_W,BTL_DATE,BTL_TIME
,,,,,,,,,,,METERS,DBAR,ITS-90,PSS-78,,PSS-78,,UMOL/KG,,UMOL/KG,,UMOL/KG,,UMOL/KG,,UMOL/KG,,UMOL/KG,,PMOL/KG,,PMOL/KG,,PMOL/KG,,FMOL/KG,,UMOL/KG,,UMOL/KG,,,,DEG C,TU,,NMOL/KG,,PERCNT,,DEG C,,/MILLE,,/MILLE,,/MILLE,NMOL/KG,,NMOL/KG,PMOL/KG,,UMOL/KG,,UMOL/KG,,,,TU,NMOL/KG,PERCNT,DEG C,ITS-90,,/MILLE,,/MILLE,/MILLE,,/MILLE,G/KG,,KG/M^3,,,
33AT20120324,        A22,      14,          1,         36,         36,2,20120328,       1433,    37.6102,   -68.3363,       4604,     3.0,  23.7578,  36.1923,2,  36.1925,2,    205.3,2,   206.0,2,    0.92,2,    0.08,2,    0.03,2,    0.00,2,   1.811,2,   1.134,2,   0.144,2,    1.30,2,  2036.0,2, 2365.62,6,   8.0805,6,       25,    -999,9,     -999,9,    -999,9,  23.7603,2,    -999,9,    -999,9,    -999,    -999,9,    -999,    -999,1,    -999,9,    -999,9,  37.5926, -68.3281,    -999,     -999,    -999,  23.7572,  23.7603,2,-999,9,-999,-999,9,-999,    36.3632,2,-999,9,20120328,       1633
33AT20120324,        A22,      14,          1,         35,         35,2,20120328,       1433,    37.6102,   -68.3363,       4604,    27.7,  23.7633,  36.1925,2,  36.1927,2,    205.1,2,   204.9,2,    1.03,2,    0.09,2,    0.03,2,    0.00,2,   1.827,2,   1.137,2,   0.143,2,    1.38,2,  2035.2,2, 2367.77,2,   8.0800,2,       25,    -999,9,     -999,9,    -999,9,  23.7632,2,    -999,9,    -999,9,    -999,    -999,9,    -999,    -999,1,    -999,9,    -999,9,  37.5934, -68.3286,    -999,     -999,    -999,  23.7575,  23.7632,2,-999,9,-999,-999,9,-999,    36.3634,2,-999,9,20120328,       1630
33AT20120324,        A22,      14,          1,         34,         34,2,20120328,       1433,    37.6102,   -68.3363,       4604,    51.2,  23.7429,  36.2071,2,  36.2058,2,    204.9,2,   204.2,2,    1.02,2,    0.15,2,    0.03,2,    0.00,2,   1.831,2,   1.147,2,   0.143,2,    1.22,2,  2038.6,2, 2368.80,2,   8.0786,2,       25,    -999,9,     -999,9,    -999,9,  23.7437,2,    -999,9,    -999,9,    -999,    -999,9,    -999,    -999,1,    -999,9,    -999,9,  37.5939, -68.3290,    -999,     -999,    -999,  23.7322,  23.7437,2,-999,9,-999,-999,9,-999,    36.3765,2,-999,9,20120328,       1628
33AT20120324,        A22,      14,          1,         33,         33,2,20120328,       1433,    37.6102,   -68.3363,       4604,    75.2,  23.7260,  36.2187,2,  36.2181,2,    202.5,2,   203.1,2,    1.06,2,    0.19,2,    0.03,2,    0.00,2,    -999,5,    -999,5,    -999,5,    -999,5,    -999,9,    -999,9,   8.0770,2,       25,    -999,9,     -999,9,    -999,9,  23.7263,2,    -999,9,    -999,9,    -999,    -999,9,    -999,    -999,1,    -999,9,    -999,9,  37.5944, -68.3294,    -999,     -999,    -999,  23.7102,  23.7263,2,-999,9,-999,-999,9,-999,    36.3889,2,-999,9,20120328,       1626
33AT20120324,        A22,      14,          1,         32,         32,2,20120328,       1433,    37.6102,   -68.3363,       4604,    99.9,  23.0038,  36.6672,2,  36.6727,2,    168.1,2,   172.8,2,    1.06,2,    2.30,2,    0.05,2,    0.10,2,   1.929,2,   1.199,2,   0.073,2,    1.24,2,  2099.8,2, 2397.48,2,   8.0169,2,       25,    -999,9,     -999,9,    -999,9,  22.9485,3,    -999,9,    -999,9,    -999,    -999,9,    -999,    -999,1,    -999,9,    -999,9,  37.5951, -68.3298,    -999,     -999,    -999,  22.9833,  22.9485,3,-999,9,-999,-999,9,-999,    36.8457,2,-999,9,20120328,       1623
33AT20120324,        A22,      14,          1,         31,         31,2,20120328,       1433,    37.6102,   -68.3363,       4604,   124.9,  21.8003,  36.6419,2,  36.6408,2,    162.8,2,   202.5,2,    0.61,2,    0.67,2,    0.07,2,    0.01,2,   2.017,2,   1.133,2,   0.135,2,    1.36,2,  2075.3,2, 2393.89,2,   8.0517,2,       25,    -999,9,     -999,9,    -999,9,  21.7988,2,    -999,9,    -999,9,    -999,    -999,9,    -999,    -999,1,    -999,9,    -999,9,  37.5954, -68.3300,    -999,     -999,    -999,  21.7756,  21.7988,2,-999,9,-999,-999,9,-999,    36.8136,2,-999,9,20120328,       1621
33AT20120324,        A22,      14,          1,         30,         30,2,20120328,       1433,    37.6102,   -68.3363,       4604,   152.0,  20.8449,  36.6180,2,  36.6256,2,    188.9,2,   206.5,2,    0.67,2,    0.69,2,    0.12,2,    0.02,2,   2.088,2,   1.263,2,   0.134,2,    1.35,2,  2080.7,2, 2393.55,2,   8.0424,2,       25,    -999,9,     -999,9,    -999,9,  20.8512,2,    -999,9,    -999,9,    -999,    -999,9,    -999,    -999,1,    -999,9,    -999,9,  37.5958, -68.3303,    -999,     -999,    -999,  20.8157,  20.8512,2,-999,9,-999,-999,9,-999,    36.7983,2,-999,9,20120328,       1620
33AT20120324,        A22,      14,          1,         29,         29,2,20120328,       1433,    37.6102,   -68.3363,       4604,   201.6,  20.2588,  36.7495,2,  36.7493,2,    160.4,2,   156.8,2,    1.80,2,    5.67,2,    0.01,2,    0.27,2,   2.184,2,   1.158,2,   0.017,2,    1.16,2,  2141.1,2, 2399.20,2,   7.9461,2,       25,    -999,9,     -999,9,    -999,9,  20.2591,2,    -999,9,    -999,9,    -999,    -999,9,    -999,    -999,1,    -999,9,    -999,9,  37.5964, -68.3307,    -999,     -999,    -999,  20.2208,  20.2591,2,-999,9,-999,-999,9,-999,    36.9226,2,-999,9,20120328,       1617
33AT20120324,        A22,      14,          1,         28,         28,2,20120328,       1433,    37.6102,   -68.3363,       4604,   252.9,  18.8858,  36.6365,2,  36.6379,2,    185.5,2,   187.4,2,    1.23,2,    3.79,2,    0.00,2,    0.16,2,   2.342,2,   1.072,2,   0.018,2,    1.26,2,  2122.0,2, 2391.95,2,   7.9748,2,       25,    -999,9,     -999,9,    -999,9,  18.8898,2,    -999,9,    -999,9,    -999,    -999,9,    -999,    -999,1,    -999,9,    -999,9,  37.5969, -68.3311,    -999,     -999,    -999,  18.8404,  18.8898,2,-999,9,-999,-999,9,-999,    36.8106,2,-999,9,20120328,       1615
33AT20120324,        A22,      14,          1,         27,         27,2,20120328,       1433,    37.6102,   -68.3363,       4604,   302.9,  18.3200,  36.5620,2,  36.5626,2,    189.8,2,   185.3,2,    1.59,2,    5.12,2,    0.00,2,    0.24,2,   2.348,2,   1.344,2,   0.020,2,    1.21,2,  2126.8,2, 2389.35,2,   7.9600,2,       25,    -999,9,     -999,9,    -999,9,  18.3232,2,    -999,9,    -999,9,    -999,    -999,9,    -999,    -999,1,    -999,9,    -999,9,  37.5974, -68.3314,    -999,     -999,    -999,  18.2667,  18.3232,2,-999,9,-999,-999,9,-999,    36.7350,2,-999,9,20120328,       1614
33AT20120324,        A22,      14,          1,         26,         26,2,20120328,       1433,    37.6102,   -68.3363,       4604,   352.7,  18.1519,  36.5680,2,  36.5675,2,    201.1,3,   199.1,2,    1.35,2,    4.33,2,    0.00,2,    0.19,2,   2.373,2,    -999,5,   0.030,2,    1.25,2,    -999,9,    -999,9,     -999,9,     -999,    -999,9,     -999,9,    -999,9,  18.1510,2,    -999,9,    -999,9,    -999,    -999,9,    -999,    -999,1,    -999,9,    -999,9,  37.5979, -68.3318,    -999,     -999,    -999,  18.0901,  18.1510,2,-999,9,-999,-999,9,-999,    36.7400,2,-999,9,20120328,       1612
33AT20120324,        A22,      14,          1,         25,         25,2,20120328,       1433,    37.6102,   -68.3363,       4604,   402.6,  17.9295,  36.5478,2,  36.5477,2,    202.8,2,   203.5,2,    1.41,2,    4.31,2,    0.00,2,    0.19,2,   2.419,2,   1.375,2,   0.040,2,    1.35,2,  2117.0,2, 2390.06,2,   7.9764,2,       25,    -999,9,     -999,9,    -999,9,  17.9281,2,    -999,9,    -999,9,    -999,    -999,9,    -999,    -999,1,    -999,9,    -999,9,  37.5983, -68.3321,    -999,     -999,    -999,  17.8595,  17.9281,2,-999,9,-999,-999,9,-999,    36.7200,2,-999,9,20120328,       1610
33AT20120324,        A22,      14,          1,         24,         24,2,20120328,       1433,    37.6102,   -68.3363,       4604,   452.1,  17.4320,  36.4516,2,  36.4510,2,    196.0,2,   196.6,2,    1.86,2,    5.76,2,    0.00,2,    0.28,2,   2.464,2,   1.125,2,   0.032,2,    1.26,2,    -999,9,    -999,9,     -999,9,     -999,    -999,9,     -999,9,    -999,9,  17.4289,2,    -999,9,    -999,9,    -999,    -999,9,    -999,    -999,1,    -999,9,    -999,9,  37.5987, -68.3324,    -999,     -999,    -999,  17.3549,  17.4289,2,-999,9,-999,-999,9,-999,    36.6229,2,-999,9,20120328,       1608
33AT20120324,        A22,      14,          1,         23,         23,2,20120328,       1433,    37.6102,   -68.3363,       4604,   505.9,  16.7152,  36.3146,2,  36.3148,2,    188.9,3,   189.1,2,    2.48,2,    7.63,2,    0.00,2,    0.40,2,   2.447,2,   1.191,2,   0.033,2,    1.15,2,  2132.9,2, 2373.79,2,   7.9259,2,       25,    -999,9,     -999,9,    -999,9,  16.7144,2,    -999,9,    -999,9,    -999,    -999,9,    -999,    -999,1,    -999,9,    -999,9,  37.5992, -68.3327,    -999,     -999,    -999,  16.6312,  16.7144,2,-999,9,-999,-999,9,-999,    36.4860,2,-999,9,20120328,       1606
33AT20120324,        A22,      14,          1,         22,         22,2,20120328,       1433,    37.6102,   -68.3363,       4604,   604.0,  13.6330,  35.7611,2,  35.7623,2,    146.2,3,   146.2,2,    7.28,2,   17.06,2,    0.00,2,    1.02,2,   2.051,2,   1.058,2,   0.019,2,    0.66,2,  2173.3,2, 2342.97,2,   7.7912,2,       25,    -999,9,     -999,9,    -999,9,  13.6342,2,    -999,9,    -999,9,    -999,    -999,9,    -999,    -999,1,    -999,9,    -999,9,  37.5998, -68.3332,    -999,     -999,    -999,  13.5454,  13.6342,2,-999,9,-999,-999,9,-999,    35.9310,2,-999,9,20120328,       1603
33AT20120324,        A22,      14,          1,         21,         21,2,20120328,       1433,    37.6102,   -68.3363,       4604,   707.5,  12.7016,  35.6058,2,  35.6046,2,    138.2,3,   145.5,4,    8.74,2,   19.58,2,    0.00,2,    1.19,2,   1.874,2,   0.829,2,   0.019,2,    0.66,2,    -999,9,    -999,9,     -999,9,     -999,    -999,9,     -999,9,    -999,9,  12.7026,2,    -999,9,    -999,9,    -999,    -999,9,    -999,    -999,1,    -999,9,    -999,9,  37.6002, -68.3337,    -999,     -999,    -999,  12.6033,  12.7026,2,-999,9,-999,-999,9,-999,    35.7725,2,-999,9,20120328,       1600
33AT20120324,        A22,      14,          1,         20,         20,2,20120328,       1433,    37.6102,   -68.3363,       4604,   809.0,  11.6404,  35.4327,2,  35.4336,2,    130.4,3,   129.7,2,   11.15,2,   22.52,2,    0.00,2,    1.39,2,   1.617,2,   0.808,2,   0.000,2,    0.52,2,  2191.0,2, 2329.14,2,   7.7084,2,       25,    -999,9,     -999,9,    -999,9,  11.6324,2,    -999,9,    -999,9,    -999,    -999,9,    -999,    -999,1,    -999,9,    -999,9,  37.6006, -68.3342,    -999,     -999,    -999,  11.5338,  11.6324,2,-999,9,-999,-999,9,-999,    35.6007,2,-999,9,20120328,       1558
33AT20120324,        A22,      14,          1,         19,         19,2,20120328,       1433,    37.6102,   -68.3363,       4604,   907.0,   9.9395,  35.2528,2,  35.2552,2,    134.5,3,   136.1,2,   13.90,2,   24.29,2,    0.00,2,    1.53,2,   1.325,2,   0.617,2,   0.017,2,    0.48,2,  2197.7,2, 2323.50,2,   7.6840,2,       25,    -999,9,     -999,9,    -999,9,   9.9267,2,    -999,9,    -999,9,    -999,    -999,9,    -999,    -999,1,    -999,9,    -999,9,  37.6011, -68.3344,    -999,     -999,    -999,   9.8305,   9.9267,2,-999,9,-999,-999,9,-999,    35.4214,2,-999,9,20120328,       1555
33AT20120324,        A22,      14,          1,         18,         18,2,20120328,       1433,    37.6102,   -68.3363,       4604,  1009.1,   6.8929,  35.0881,2,  35.0884,2,    184.1,3,   186.9,2,   13.98,2,   21.94,2,    0.00,2,    1.42,2,   1.634,2,   0.757,2,   0.063,2,    0.54,2,  2189.7,2, 2319.17,2,   7.6837,2,       25,    -999,9,     -999,9,    -999,9,   6.8945,2,    -999,9,    -999,9,    -999,    -999,9,    -999,    -999,1,    -999,9,    -999,9,  37.6016, -68.3349,    -999,     -999,    -999,   6.7935,   6.8945,2,-999,9,-999,-999,9,-999,    35.2538,2,-999,9,20120328,       1552
33AT20120324,        A22,      14,          1,         17,         17,2,20120328,       1433,    37.6102,   -68.3363,       4604,  1111.9,   5.5176,  35.0389,2,  35.0388,2,    218.8,3,   223.1,2,   12.74,2,   19.51,2,    0.00,2,    1.30,2,   2.264,2,   1.043,2,   0.098,2,    0.58,2,  2181.7,2, 2318.39,2,   7.7036,2,       25,    -999,9,     -999,9,    -999,9,   5.5216,2,    -999,9,    -999,9,    -999,    -999,9,    -999,    -999,1,    -999,9,    -999,9,  37.6020, -68.3352,    -999,     -999,    -999,   5.4188,   5.5216,2,-999,9,-999,-999,9,-999,    35.2040,2,-999,9,20120328,       1549
33AT20120324,        A22,      14,          1,         16,         16,2,20120328,       1433,    37.6102,   -68.3363,       4604,  1209.4,   5.0490,  35.0193,2,  35.0233,2,    237.7,3,   237.3,2,   12.21,2,   18.75,2,    0.00,2,    1.25,2,   2.490,2,   1.257,2,   0.124,2,    0.63,2,    -999,9,    -999,9,     -999,9,     -999,    -999,9,     -999,9,    -999,9,   5.0488,2,    -999,9,    -999,9,    -999,    -999,9,    -999,    -999,1,    -999,9,    -999,9,  37.6022, -68.3353,    -999,     -999,    -999,   4.9450,   5.0488,2,-999,9,-999,-999,9,-999,    35.1884,2,-999,9,20120328,       1546
33AT20120324,        A22,      14,          1,         15,         15,2,20120328,       1433,    37.6102,   -68.3363,       4604,  1312.1,   4.7071,  35.0006,2,  35.0030,4,    247.2,2,   247.8,2,   11.91,2,   18.20,2,    0.00,2,    1.20,2,   2.695,2,   1.181,2,   0.141,2,    0.68,2,  2174.7,2, 2309.38,2,   7.7151,2,       25,    -999,9,     -999,9,    -999,9,   4.7042,2,    -999,9,    -999,9,    -999,    -999,9,    -999,    -999,1,    -999,9,    -999,9,  37.6026, -68.3354,    -999,     -999,    -999,   4.5967,   4.7042,2,-999,9,-999,-999,9,-999,    35.1681,4,-999,9,20120328,       1544
33AT20120324,        A22,      14,          1,         14,         14,2,20120328,       1433,    37.6102,   -68.3363,       4604,  1412.9,   4.5300,  34.9898,2,  34.9890,2,    254.2,2,   252.8,2,   11.84,2,   17.95,2,    0.00,2,    1.19,2,   2.758,2,   1.268,2,   0.144,2,    0.73,2,    -999,9,    -999,9,     -999,9,     -999,    -999,9,     -999,9,    -999,9,   4.5286,2,    -999,9,    -999,9,    -999,    -999,9,    -999,    -999,1,    -999,9,    -999,9,  37.6029, -68.3354,    -999,     -999,    -999,   4.4120,   4.5286,2,-999,9,-999,-999,9,-999,    35.1540,2,-999,9,20120328,       1541
33AT20120324,        A22,      14,          1,         13,         13,2,20120328,       1433,    37.6102,   -68.3363,       4604,  1513.8,   4.3198,  34.9788,2,  34.9778,2,    257.4,2,   258.6,2,   11.94,2,   17.78,2,    0.00,2,    1.18,2,    -999,9,    -999,9,    -999,9,    -999,9,  2171.1,2, 2308.54,2,   7.7191,2,       25,    -999,9,     -999,9,    -999,9,   4.3190,2,    -999,9,    -999,9,    -999,    -999,9,    -999,    -999,9,    -999,9,    -999,9,  37.6031, -68.3354,    -999,     -999,    -999,   4.1947,   4.3190,2,-999,9,-999,-999,9,-999,    35.1428,2,-999,9,20120328,       1538
33AT20120324,        A22,      14,          1,         12,         12,2,20120328,       1433,    37.6102,   -68.3363,       4604,  1615.5,   4.2291,  34.9747,2,     -999,5,    259.8,2,   258.7,2,   12.06,2,   17.76,2,    0.00,2,    1.18,2,   2.653,2,   1.219,2,   0.153,2,    0.61,2,    -999,9,    -999,9,     -999,9,     -999,    -999,9,     -999,9,    -999,9,   4.2291,2,    -999,9,    -999,9,    -999,    -999,9,    -999,    -999,1,    -999,9,    -999,9,  37.6035, -68.3355,    -999,     -999,    -999,   4.0955,   4.2291,2,-999,9,-999,-999,9,-999,       -999,5,-999,9,20120328,       1536
33AT20120324,        A22,      14,          1,         11,         11,2,20120328,       1433,    37.6102,   -68.3363,       4604,  1819.4,   3.9955,  34.9669,2,  34.9664,2,    261.8,2,   261.0,2,   12.65,2,   17.72,2,    0.00,2,    1.17,2,   2.317,2,   0.917,2,   0.117,2,    0.41,2,    -999,9,    -999,9,     -999,9,     -999,    -999,9,     -999,9,    -999,9,   3.9944,2,    -999,9,    -999,9,    -999,    -999,9,    -999,    -999,1,    -999,9,    -999,9,  37.6039, -68.3355,    -999,     -999,    -999,   3.8455,   3.9944,2,-999,9,-999,-999,9,-999,    35.1313,2,-999,9,20120328,       1531
33AT20120324,        A22,      14,          1,         10,         10,2,20120328,       1433,    37.6102,   -68.3363,       4604,  2022.1,   3.7766,  34.9559,2,  34.9619,2,    263.7,2,   264.2,2,   13.36,2,   17.65,2,    0.00,2,    1.18,2,   2.108,2,   1.011,2,   0.116,2,    0.37,2,  2165.8,2, 2308.32,2,   7.7294,2,       25,    -999,9,     -999,9,    -999,9,   3.7754,2,    -999,9,    -999,9,    -999,    -999,9,    -999,    -999,1,    -999,9,    -999,9,  37.6043, -68.3356,    -999,     -999,    -999,   3.6102,   3.7754,2,-999,9,-999,-999,9,-999,    35.1268,2,-999,9,20120328,       1527
33AT20120324,        A22,      14,          1,          9,          9,2,20120328,       1433,    37.6102,   -68.3363,       4604,  2278.4,   3.5339,  34.9484,2,  34.9619,5,    266.5,2,   266.1,2,   14.62,2,   17.60,2,    0.00,2,    1.18,2,   1.767,2,   0.814,2,   0.062,2,    0.28,2,    -999,9,    -999,9,     -999,9,     -999,    -999,9,     -999,9,    -999,9,   3.5339,2,    -999,9,    -999,9,    -999,    -999,9,    -999,    -999,1,    -999,9,    -999,9,  37.6048, -68.3357,    -999,     -999,    -999,   3.3464,   3.5339,2,-999,9,-999,-999,9,-999,       -999,5,-999,9,20120328,       1522
33AT20120324,        A22,      14,          1,          8,          8,2,20120328,       1433,    37.6102,   -68.3363,       4604,  2531.3,   3.3462,  34.9428,2,  34.9434,2,    266.5,2,   266.7,2,   16.10,2,   17.63,2,    0.00,2,    1.18,2,   1.573,2,   0.703,2,   0.050,2,    0.27,2,  2164.9,2, 2309.33,2,   7.7367,2,       25,    -999,9,     -999,9,    -999,9,   3.3458,2,    -999,9,    -999,9,    -999,    -999,9,    -999,    -999,1,    -999,9,    -999,9,  37.6054, -68.3358,    -999,     -999,    -999,   3.1367,   3.3458,2,-999,9,-999,-999,9,-999,    35.1082,2,-999,9,20120328,       1516
33AT20120324,        A22,      14,          1,          7,          7,2,20120328,       1433,    37.6102,   -68.3363,       4604,  2786.0,   3.1378,  34.9384,2,  34.9387,2,    266.5,2,   266.9,2,   17.74,2,   17.66,2,    0.00,2,    1.19,2,   1.344,2,   0.485,2,   0.052,2,    0.24,2,    -999,9,    -999,9,     -999,9,     -999,    -999,9,     -999,9,    -999,9,   3.1367,2,    -999,9,    -999,9,    -999,    -999,9,    -999,    1.26,2,    -999,9,    -999,9,  37.6061, -68.3359,    -999,     -999,    -999,   2.9064,   3.1367,2,-999,9,-999,-999,9,-999,    35.1035,2,-999,9,20120328,       1511
33AT20120324,        A22,      14,          1,          6,          6,2,20120328,       1433,    37.6102,   -68.3363,       4604,  3041.9,   2.8983,  34.9280,2,  34.9279,2,    267.1,2,   268.2,2,   19.15,2,   17.53,2,    0.00,2,    1.18,2,   1.372,2,   0.550,2,   0.046,2,    0.22,2,  2165.9,2, 2314.48,6,   7.7386,2,       25,    -999,9,     -999,9,    -999,9,   2.8979,2,    -999,9,    -999,9,    -999,    -999,9,    -999,    -999,1,    -999,9,    -999,9,  37.6067, -68.3359,    -999,     -999,    -999,   2.6454,   2.8979,2,-999,9,-999,-999,9,-999,    35.0926,2,-999,9,20120328,       1506