BOTTLE,20220725CCHSIOCBG
EXPOCODE,SECT_ID,STNNBR,CASTNO,SAMPNO,BTLNBR,BTLNBR_FLAG_W,DATE,TIME,LATITUDE,LONGITUDE,DEPTH,CTDPRS,CTDTMP,CTDSAL,CTDSAL_FLAG_W,SALNTY,SALNTY_FLAG_W,CTDOXY,CTDOXY_FLAG_W,OXYGEN,OXYGEN_FLAG_W,SILCAT,SILCAT_FLAG_W,NITRAT,NITRAT_FLAG_W,NITRIT,NITRIT_FLAG_W,PHSPHT,PHSPHT_FLAG_W,CFC-11,CFC-11_FLAG_W,CFC-12,CFC-12_FLAG_W,CFC113,CFC113_FLAG_W,SF6,SF6_FLAG_W,TCARBN,TCARBN_FLAG_W,ALKALI,ALKALI_FLAG_W,PH_TOT,PH_TOT_FLAG_W,PH_TMP,TRITUM,TRITUM_FLAG_W,HELIUM,HELIUM_FLAG_W,DELHE3,DELHE3_FLAG_W,REFTMP,REFTMP_FLAG_W,DELC13,DELC13_FLAG_W,DELC14,DELC14_FLAG_W,C14ERR,NEON,NEON_FLAG_W,NEONER,CCL4,CCL4_FLAG_W,DOC,DOC_FLAG_W,TDN,TDN_FLAG_W,BTL_LAT,BTL_LON,TRITER,HELIER,DELHER,THETA,SBE35,SBE35_FLAG_W,14C-DOC,14C-DOC_FLAG_W,14C-DOCERR,13C-DOC,13C-DOC_FLAG_W,13C-DOCERR,SALTREF,SALTREF_FLAG_W,LAB_DEN,LAB_DEN_FLAG_W,BTL_DATE,BTL_TIME
,,,,,,,,,,,METERS,DBAR,ITS-90,PSS-78,,PSS-78,,UMOL/KG,,UMOL/KG,,UMOL/KG,,UMOL/KG,,UMOL/KG,,UMOL/KG,,PMOL/KG,,PMOL/KG,,PMOL/KG,,FMOL/KG,,UMOL/KG,,UMOL/KG,,,,DEG C,TU,,NMOL/KG,,PERCNT,,DEG C,,/MILLE,,/MILLE,,/MILLE,NMOL/KG,,NMOL/KG,PMOL/KG,,UMOL/KG,,UMOL/KG,,,,TU,NMOL/KG,PERCNT,DEG C,ITS-90,,/MILLE,,/MILLE,/MILLE,,/MILLE,G/KG,,KG/M^3,,,
33AT20120324,        A22,      42,          1,         36,         36,2,20120406,       1213,    21.5222,   -65.9259,       5456,     3.7,  25.4170,  36.0937,2,  36.0942,2,    205.0,2,   205.7,2,    1.14,2,    0.00,2,    0.00,2,    0.00,2,   1.695,2,   1.132,2,   0.147,2,    1.17,2,  2017.9,6, 2366.48,2,   8.1030,2,       25,    -999,9,     -999,9,    -999,9,  25.4165,2,    -999,9,    -999,9,    -999,    -999,9,    -999,    -999,1,    -999,9,    -999,9,  21.5177, -65.9236,    -999,     -999,    -999,  25.4162,  25.4165,2,-999,9,-999,-999,9,-999,    36.2644,2,-999,9,20120406,       1420
33AT20120324,        A22,      42,          1,         35,         35,2,20120406,       1213,    21.5222,   -65.9259,       5456,    37.9,  25.2786,  36.1838,2,  36.1826,2,    207.4,2,   207.4,2,    1.09,2,    0.00,2,    0.00,2,    0.00,2,   1.703,2,   1.131,2,   0.145,2,    1.25,2,  2018.9,2, 2373.01,6,   8.1049,6,       25,    -999,9,     -999,9,    -999,9,  25.2793,2,    -999,9,    -999,9,    -999,    -999,9,    -999,    -999,1,    -999,9,    -999,9,  21.5178, -65.9237,    -999,     -999,    -999,  25.2703,  25.2793,2,-999,9,-999,-999,9,-999,    36.3532,2,-999,9,20120406,       1418
33AT20120324,        A22,      42,          1,         34,         34,2,20120406,       1213,    21.5222,   -65.9259,       5456,    62.6,  25.1262,  36.2546,2,  36.2442,2,    208.7,2,   208.9,2,    1.04,2,    0.00,2,    0.00,2,    0.00,2,   1.724,2,   1.134,2,   0.140,2,    1.23,2,    -999,9,    -999,9,     -999,9,     -999,    -999,9,     -999,9,    -999,9,  25.1259,2,    -999,9,    -999,9,    -999,    -999,9,    -999,    -999,1,    -999,9,    -999,9,  21.5179, -65.9237,    -999,     -999,    -999,  25.1125,  25.1259,2,-999,9,-999,-999,9,-999,    36.4151,2,-999,9,20120406,       1416
33AT20120324,        A22,      42,          1,         33,         33,2,20120406,       1213,    21.5222,   -65.9259,       5456,    87.9,  24.3541,  36.6173,2,  36.6352,2,    210.1,2,   209.0,2,    0.66,2,    0.00,2,    0.00,2,    0.00,2,   1.790,2,   1.169,2,   0.142,2,    1.26,2,  2045.4,2, 2398.84,2,   8.0988,2,       25,    -999,9,     -999,9,    -999,9,  24.3416,2,    -999,9,    -999,9,    -999,    -999,9,    -999,    -999,1,    -999,9,    -999,9,  21.5180, -65.9237,    -999,     -999,    -999,  24.3353,  24.3416,2,-999,9,-999,-999,9,-999,    36.8079,2,-999,9,20120406,       1414
33AT20120324,        A22,      42,          1,         32,         32,2,20120406,       1213,    21.5222,   -65.9259,       5456,   116.5,  23.8981,  36.9350,2,  36.9383,2,    201.6,2,   199.6,2,    0.41,2,    0.00,2,    0.00,2,    0.00,2,   1.837,2,   1.204,2,   0.130,2,    1.23,2,  2079.7,2, 2416.90,2,   8.0694,2,       25,    -999,9,     -999,9,    -999,9,  23.8804,2,    -999,9,    -999,9,    -999,    -999,9,    -999,    -999,1,    -999,9,    -999,9,  21.5180, -65.9238,    -999,     -999,    -999,  23.8735,  23.8804,2,-999,9,-999,-999,9,-999,    37.1125,2,-999,9,20120406,       1412
33AT20120324,        A22,      42,          1,         31,         31,2,20120406,       1213,    21.5222,   -65.9259,       5456,   165.7,  21.8307,  37.0276,2,  37.0307,2,    175.2,2,   175.6,2,    0.45,2,    1.34,2,    0.02,2,    0.03,2,   1.987,2,   1.197,2,   0.073,2,    1.27,2,    -999,9,    -999,9,     -999,9,     -999,    -999,9,     -999,9,    -999,9,  21.8305,2,    -999,9,    -999,9,    -999,    -999,9,    -999,    -999,1,    -999,9,    -999,9,  21.5181, -65.9238,    -999,     -999,    -999,  21.7978,  21.8305,2,-999,9,-999,-999,9,-999,    37.2053,2,-999,9,20120406,       1409
33AT20120324,        A22,      42,          1,         30,         30,2,20120406,       1213,    21.5222,   -65.9259,       5456,   216.6,  19.6657,  36.7367,2,  36.7367,2,    185.2,2,   184.1,2,    0.64,2,    2.40,2,    0.01,2,    0.06,2,   2.154,2,   1.392,2,   0.027,2,    1.18,2,  2120.4,2, 2400.46,2,   7.9809,2,       25,    -999,9,     -999,9,    -999,9,  19.6714,2,    -999,9,    -999,9,    -999,    -999,9,    -999,    -999,1,    -999,9,    -999,9,  21.5182, -65.9239,    -999,     -999,    -999,  19.6257,  19.6714,2,-999,9,-999,-999,9,-999,    36.9099,2,-999,9,20120406,       1407
33AT20120324,        A22,      42,          1,         29,         29,2,20120406,       1213,    21.5222,   -65.9259,       5456,   267.3,  18.6010,  36.6180,2,  36.6187,2,    195.5,2,   193.5,2,    0.89,2,    3.65,2,    0.00,2,    0.14,2,   2.240,2,   1.123,2,   0.038,2,    1.29,2,  2116.3,2, 2393.46,2,   7.9779,2,       25,    -999,9,     -999,9,    -999,9,  18.6024,2,    -999,9,    -999,9,    -999,    -999,9,    -999,    -999,1,    -999,9,    -999,9,  21.5182, -65.9239,    -999,     -999,    -999,  18.5535,  18.6024,2,-999,9,-999,-999,9,-999,    36.7914,2,-999,9,20120406,       1405
33AT20120324,        A22,      42,          1,         28,         28,2,20120406,       1213,    21.5222,   -65.9259,       5456,   316.4,  18.0373,  36.5491,2,  36.5515,2,    197.8,2,   198.3,2,    1.18,2,    4.46,2,    0.00,2,    0.19,2,   2.283,2,   1.311,2,   0.022,2,    1.24,2,  2115.6,2, 2387.05,2,   7.9723,2,       25,    -999,9,     -999,9,    -999,9,  18.0418,2,    -999,9,    -999,9,    -999,    -999,9,    -999,    -999,1,    -999,9,    -999,9,  21.5182, -65.9239,    -999,     -999,    -999,  17.9822,  18.0418,2,-999,9,-999,-999,9,-999,    36.7239,2,-999,9,20120406,       1404
33AT20120324,        A22,      42,          1,         27,         27,2,20120406,       1213,    21.5222,   -65.9259,       5456,   367.1,  17.5820,  36.4719,2,  36.4719,2,    190.8,2,   194.0,2,    1.55,2,    5.71,2,    0.00,2,    0.27,2,   2.317,2,   1.281,2,   0.025,2,    1.29,2,    -999,9,    -999,9,     -999,9,     -999,    -999,9,     -999,9,    -999,9,  17.5806,2,    -999,9,    -999,9,    -999,    -999,9,    -999,    -999,1,    -999,9,    -999,9,  21.5182, -65.9239,    -999,     -999,    -999,  17.5191,  17.5806,2,-999,9,-999,-999,9,-999,    36.6439,2,-999,9,20120406,       1402
33AT20120324,        A22,      42,          1,         26,         26,2,20120406,       1213,    21.5222,   -65.9259,       5456,   435.7,  16.2017,  36.2193,2,  36.2291,2,    171.5,2,   172.9,2,    2.88,2,    9.72,2,    0.00,2,    0.54,2,   2.327,2,   1.392,2,   0.026,2,    0.98,2,  2142.7,2, 2370.39,2,   7.8907,2,       25,    -999,9,     -999,9,    -999,9,  16.2216,2,    -999,9,    -999,9,    -999,    -999,9,    -999,    -999,1,    -999,9,    -999,9,  21.5183, -65.9240,    -999,     -999,    -999,  16.1310,  16.2216,2,-999,9,-999,-999,9,-999,    36.3999,2,-999,9,20120406,       1400
33AT20120324,        A22,      42,          1,         25,         25,2,20120406,       1213,    21.5222,   -65.9259,       5456,   536.5,  13.5089,  35.7473,2,  35.7511,2,    145.4,2,   144.8,2,    6.30,2,   17.09,2,    0.00,2,    1.02,2,   2.066,2,   1.065,2,   0.019,2,    0.65,2,  2171.7,2, 2344.85,2,   7.7794,2,       25,    -999,9,     -999,9,    -999,9,  13.5528,3,    -999,9,    -999,9,    -999,    -999,9,    -999,    -999,1,    -999,9,    -999,9,  21.5184, -65.9240,    -999,     -999,    -999,  13.4318,  13.5528,3,-999,9,-999,-999,9,-999,    35.9197,2,-999,9,20120406,       1357
33AT20120324,        A22,      42,          1,         24,         24,2,20120406,       1213,    21.5222,   -65.9259,       5456,   638.5,  11.5580,  35.4653,2,  35.4669,2,    136.7,2,   136.6,2,    9.61,2,   21.43,2,    0.00,2,    1.32,2,   1.620,2,   0.780,2,   0.014,2,    0.42,2,  2183.8,2, 2327.12,2,   7.7216,2,       25,    -999,9,     -999,9,    -999,9,  11.5511,2,    -999,9,    -999,9,    -999,    -999,9,    -999,    -999,1,    -999,9,    -999,9,  21.5184, -65.9240,    -999,     -999,    -999,  11.4748,  11.5511,2,-999,9,-999,-999,9,-999,    35.6342,2,-999,9,20120406,       1355
33AT20120324,        A22,      42,          1,         23,         23,2,20120406,       1213,    21.5222,   -65.9259,       5456,   738.9,   9.5505,  35.1818,2,  35.1894,2,    131.5,2,   130.9,2,   14.06,2,   25.78,2,    0.00,2,    1.63,2,   1.094,2,   0.547,2,   0.009,2,    0.33,2,  2197.8,2, 2320.93,2,   7.6636,2,       25,    -999,9,     -999,9,    -999,9,   9.5970,2,    -999,9,    -999,9,    -999,    -999,9,    -999,    -999,1,    -999,9,    -999,9,  21.5185, -65.9241,    -999,     -999,    -999,   9.4646,   9.5970,2,-999,9,-999,-999,9,-999,    35.3553,2,-999,9,20120406,       1353
33AT20120324,        A22,      42,          1,         22,         22,2,20120406,       1213,    21.5222,   -65.9259,       5456,   840.6,   8.0353,  35.0250,2,  35.0234,2,    134.5,2,   135.2,2,   17.77,2,   27.99,2,    0.00,2,    1.80,2,   0.679,2,   0.341,2,   0.004,2,    0.22,2,  2202.8,6, 2316.95,2,   7.6332,6,       25,    -999,9,     -999,9,    -999,9,   8.0320,2,    -999,9,    -999,9,    -999,    -999,9,    -999,    -999,1,    -999,9,    -999,9,  21.5186, -65.9242,    -999,     -999,    -999,   7.9465,   8.0320,2,-999,9,-999,-999,9,-999,    35.1886,2,-999,9,20120406,       1350
33AT20120324,        A22,      42,          1,         21,         21,2,20120406,       1213,    21.5222,   -65.9259,       5456,   932.1,   7.1366,  34.9899,2,  34.9860,2,    143.3,2,   148.0,2,   19.06,2,   27.52,2,    0.00,2,    1.80,2,   0.576,2,   0.278,2,   0.013,2,    0.22,2,  2203.4,2, 2316.12,2,   7.6382,2,       25,    -999,9,     -999,9,    -999,9,   7.1358,2,    -999,9,    -999,9,    -999,    -999,9,    -999,    -999,1,    -999,9,    -999,9,  21.5187, -65.9242,    -999,     -999,    -999,   7.0438,   7.1358,2,-999,9,-999,-999,9,-999,    35.1510,2,-999,9,20120406,       1348
33AT20120324,        A22,      42,          1,         20,         20,2,20120406,       1213,    21.5222,   -65.9259,       5456,  1037.4,   6.4473,  35.0219,2,  35.0226,2,    177.4,2,   176.8,2,   17.47,2,   24.34,2,    0.00,2,    1.60,2,   0.829,2,   0.411,2,   0.019,2,    0.24,2,  2194.4,2, 2317.72,2,   7.6712,2,       25,    -999,9,     -999,9,    -999,9,   6.4477,2,    -999,9,    -999,9,    -999,    -999,9,    -999,    -999,1,    -999,9,    -999,9,  21.5188, -65.9243,    -999,     -999,    -999,   6.3485,   6.4477,2,-999,9,-999,-999,9,-999,    35.1878,2,-999,9,20120406,       1345
33AT20120324,        A22,      42,          1,         19,         19,2,20120406,       1213,    21.5222,   -65.9259,       5456,  1145.0,   4.8196,  34.8925,2,  34.8908,2,    240.6,2,   248.5,2,   11.31,2,   17.56,2,    0.00,2,    1.19,2,   3.550,2,   1.853,2,   0.239,2,    1.36,2,  2169.4,2, 2305.86,4,   7.6988,2,       25,    -999,9,     -999,9,    -999,9,   4.8155,2,    -999,9,    -999,9,    -999,    -999,9,    -999,    -999,1,    -999,9,    -999,9,  21.5189, -65.9243,    -999,     -999,    -999,   4.7238,   4.8155,2,-999,9,-999,-999,9,-999,    35.0553,2,-999,9,20120406,       1343
33AT20120324,        A22,      42,          1,         18,         18,2,20120406,       1213,    21.5222,   -65.9259,       5456,  1244.4,   4.2419,  34.8421,2,  34.8403,2,    272.0,2,   272.7,2,    9.50,2,   15.90,2,    0.00,2,    1.07,2,   4.462,2,   2.094,2,   0.329,2,    1.78,2,    -999,9,    -999,9,     -999,9,     -999,    -999,9,     -999,9,    -999,9,   4.2420,2,    -999,9,    -999,9,    -999,    -999,9,    -999,    -999,1,    -999,9,    -999,9,  21.5190, -65.9244,    -999,     -999,    -999,   4.1425,   4.2420,2,-999,9,-999,-999,9,-999,    35.0045,2,-999,9,20120406,       1340
33AT20120324,        A22,      42,          1,         17,         17,2,20120406,       1213,    21.5222,   -65.9259,       5456,  1347.0,   4.2093,  34.8672,2,  34.8662,2,    275.0,2,   275.2,2,    9.10,2,   15.96,2,    0.00,2,    1.07,2,   4.347,2,   2.044,2,   0.325,2,    1.81,2,  2162.6,2, 2299.77,4,   7.7125,2,       25,    -999,9,     -999,9,    -999,9,   4.2080,2,    -999,9,    -999,9,    -999,    -999,9,    -999,    -999,1,    -999,9,    -999,9,  21.5190, -65.9244,    -999,     -999,    -999,   4.1009,   4.2080,2,-999,9,-999,-999,9,-999,    35.0306,2,-999,9,20120406,       1338
33AT20120324,        A22,      42,          1,         16,         16,2,20120406,       1213,    21.5222,   -65.9259,       5456,  1472.2,   4.3111,  34.9291,2,  34.9297,2,    267.4,2,   266.1,2,   10.19,2,   16.99,2,    0.00,2,    1.13,2,   3.551,2,   1.827,2,   0.265,2,    1.18,2,  2165.2,2, 2306.77,4,   7.7142,2,       25,    -999,9,     -999,9,    -999,9,   4.3103,2,    -999,9,    -999,9,    -999,    -999,9,    -999,    -999,1,    -999,9,    -999,9,  21.5191, -65.9244,    -999,     -999,    -999,   4.1901,   4.3103,2,-999,9,-999,-999,9,-999,    35.0945,2,-999,9,20120406,       1335
33AT20120324,        A22,      42,          1,         15,         15,2,20120406,       1213,    21.5222,   -65.9259,       5456,  1679.5,   4.2411,  34.9998,2,  34.9994,2,    253.8,2,   253.8,2,   12.88,2,   18.17,2,    0.00,2,    1.20,2,   1.642,2,   0.846,2,   0.069,2,    0.37,2,    -999,9,    -999,9,     -999,9,     -999,    -999,9,     -999,9,    -999,9,   4.2410,2,    -999,9,    -999,9,    -999,    -999,9,    -999,    -999,1,    -999,9,    -999,9,  21.5192, -65.9245,    -999,     -999,    -999,   4.1012,   4.2410,2,-999,9,-999,-999,9,-999,    35.1644,2,-999,9,20120406,       1330
33AT20120324,        A22,      42,          1,         14,         14,2,20120406,       1213,    21.5222,   -65.9259,       5456,  1881.6,   3.8477,  34.9783,2,  34.9780,2,    259.7,2,   259.8,2,   14.00,2,   17.99,2,    0.00,2,    1.20,2,   1.356,2,   0.670,2,   0.061,2,    0.27,2,  2164.4,2, 2313.64,2,   7.7352,2,       25,    -999,9,     -999,9,    -999,9,   3.8491,2,    -999,9,    -999,9,    -999,    -999,9,    -999,    -999,1,    -999,9,    -999,9,  21.5193, -65.9246,    -999,     -999,    -999,   3.6938,   3.8491,2,-999,9,-999,-999,9,-999,    35.1429,2,-999,9,20120406,       1326
33AT20120324,        A22,      42,          1,         13,         13,2,20120406,       1213,    21.5222,   -65.9259,       5456,  2106.3,   3.5679,  34.9712,2,  34.9715,2,    260.0,2,   261.4,2,   16.33,2,   18.12,2,    0.00,2,    1.21,2,   0.940,2,   0.458,2,   0.037,2,    0.14,2,    -999,9,    -999,9,     -999,9,     -999,    -999,9,     -999,9,    -999,9,   3.5680,2,    -999,9,    -999,9,    -999,    -999,9,    -999,    -999,1,    -999,9,    -999,9,  21.5194, -65.9246,    -999,     -999,    -999,   3.3966,   3.5680,2,-999,9,-999,-999,9,-999,    35.1364,2,-999,9,20120406,       1321
33AT20120324,        A22,      42,          1,         12,         12,2,20120406,       1213,    21.5222,   -65.9259,       5456,  2358.5,   3.3103,  34.9631,2,  34.9626,2,    259.7,2,   259.6,2,   19.24,2,   18.34,2,    0.00,2,    1.24,2,   0.636,2,   0.307,2,   0.022,2,    0.11,2,  2164.8,2, 2319.08,2,   7.7442,2,       25,    -999,9,     -999,9,    -999,9,   3.3105,2,    -999,9,    -999,9,    -999,    -999,9,    -999,    -999,1,    -999,9,    -999,9,  21.5195, -65.9247,    -999,     -999,    -999,   3.1186,   3.3105,2,-999,9,-999,-999,9,-999,    35.1275,2,-999,9,20120406,       1316
33AT20120324,        A22,      42,          1,         11,         11,2,20120406,       1213,    21.5222,   -65.9259,       5456,  2614.6,   3.0453,  34.9467,2,  34.9461,2,    261.2,2,   261.3,2,   21.31,2,   18.39,2,    0.00,2,    1.24,2,   0.613,2,   0.292,2,   0.019,2,    0.11,2,    -999,9,    -999,9,     -999,9,     -999,    -999,9,     -999,9,    -999,9,   3.0453,2,    -999,9,    -999,9,    -999,    -999,9,    -999,    -999,1,    -999,9,    -999,9,  21.5196, -65.9248,    -999,     -999,    -999,   2.8331,   3.0453,2,-999,9,-999,-999,9,-999,    35.1109,2,-999,9,20120406,       1311
33AT20120324,        A22,      42,          1,         10,         10,2,20120406,       1213,    21.5222,   -65.9259,       5456,  2870.8,   2.8263,  34.9341,2,  34.9345,2,    262.6,2,   261.5,2,   23.89,2,   18.53,2,    0.00,2,    1.26,2,   0.580,2,   0.270,2,   0.022,2,    0.10,2,  2167.0,2, 2322.35,2,   7.7411,2,       25,    -999,9,     -999,9,    -999,9,   2.8267,2,    -999,9,    -999,9,    -999,    -999,9,    -999,    -999,1,    -999,9,    -999,9,  21.5198, -65.9249,    -999,     -999,    -999,   2.5926,   2.8267,2,-999,9,-999,-999,9,-999,    35.0992,2,-999,9,20120406,       1306
33AT20120324,        A22,      42,          1,          9,          9,2,20120406,       1213,    21.5222,   -65.9259,       5456,  3140.7,   2.6094,  34.9180,2,  34.9176,2,    265.4,2,   266.6,2,   23.80,2,   18.12,2,    0.00,2,    1.23,2,   0.840,2,   0.399,2,   0.042,2,    0.17,2,    -999,9,    -999,9,     -999,9,     -999,    -999,9,     -999,9,    -999,9,   2.6090,2,    -999,9,    -999,9,    -999,    -999,9,    -999,    -999,1,    -999,9,    -999,9,  21.5201, -65.9249,    -999,     -999,    -999,   2.3526,   2.6090,2,-999,9,-999,-999,9,-999,    35.0822,2,-999,9,20120406,       1301
33AT20120324,        A22,      42,          1,          8,          8,2,20120406,       1213,    21.5222,   -65.9259,       5456,  3442.6,   2.4485,  34.9077,2,  34.9052,2,    266.7,2,   266.5,2,   26.34,2,   18.34,2,    0.00,2,    1.25,2,   0.756,2,   0.361,2,   0.041,2,    0.14,2,  2168.1,2, 2323.22,2,   7.7367,2,       25,    -999,9,     -999,9,    -999,9,   2.4488,2,    -999,9,    -999,9,    -999,    -999,9,    -999,    -999,1,    -999,9,    -999,9,  21.5203, -65.9251,    -999,     -999,    -999,   2.1635,   2.4488,2,-999,9,-999,-999,9,-999,    35.0698,2,-999,9,20120406,       1255
33AT20120324,        A22,      42,          1,          7,          7,2,20120406,       1213,    21.5222,   -65.9259,       5456,  3754.1,   2.3416,  34.8985,2,  34.8971,2,    267.3,2,   267.8,2,   27.68,2,   18.33,2,    0.00,2,    1.25,2,   0.835,2,   0.422,2,   0.043,2,    0.18,2,    -999,9,    -999,9,     -999,9,     -999,    -999,9,     -999,9,    -999,9,   2.3417,2,    -999,9,    -999,9,    -999,    -999,9,    -999,    -999,1,    -999,9,    -999,9,  21.5206, -65.9252,    -999,     -999,    -999,   2.0254,   2.3417,2,-999,9,-999,-999,9,-999,    35.0617,2,-999,9,20120406,       1249
33AT20120324,        A22,      42,          1,          6,          6,2,20120406,       1213,    21.5222,   -65.9259,       5456,  4060.2,   2.2980,  34.8936,2,  34.8908,2,    266.2,2,   266.1,2,   30.02,2,   18.63,2,    0.00,2,    1.28,2,   0.772,2,   0.368,2,   0.041,2,    0.16,2,  2173.7,2, 2325.05,2,   7.7382,2,       25,    -999,9,     -999,9,    -999,9,   2.2981,2,    -999,9,    -999,9,    -999,    -999,9,    -999,    -999,1,    -999,9,    -999,9,  21.5209, -65.9253,    -999,     -999,    -999,   1.9485,   2.2981,2,-999,9,-999,-999,9,-999,    35.0553,2,-999,9,20120406,       1243