BOTTLE,20220725CCHSIOCBG
EXPOCODE,SECT_ID,STNNBR,CASTNO,SAMPNO,BTLNBR,BTLNBR_FLAG_W,DATE,TIME,LATITUDE,LONGITUDE,DEPTH,CTDPRS,CTDTMP,CTDSAL,CTDSAL_FLAG_W,SALNTY,SALNTY_FLAG_W,CTDOXY,CTDOXY_FLAG_W,OXYGEN,OXYGEN_FLAG_W,SILCAT,SILCAT_FLAG_W,NITRAT,NITRAT_FLAG_W,NITRIT,NITRIT_FLAG_W,PHSPHT,PHSPHT_FLAG_W,CFC-11,CFC-11_FLAG_W,CFC-12,CFC-12_FLAG_W,CFC113,CFC113_FLAG_W,SF6,SF6_FLAG_W,TCARBN,TCARBN_FLAG_W,ALKALI,ALKALI_FLAG_W,PH_TOT,PH_TOT_FLAG_W,PH_TMP,TRITUM,TRITUM_FLAG_W,HELIUM,HELIUM_FLAG_W,DELHE3,DELHE3_FLAG_W,REFTMP,REFTMP_FLAG_W,DELC13,DELC13_FLAG_W,DELC14,DELC14_FLAG_W,C14ERR,NEON,NEON_FLAG_W,NEONER,CCL4,CCL4_FLAG_W,DOC,DOC_FLAG_W,TDN,TDN_FLAG_W,BTL_LAT,BTL_LON,TRITER,HELIER,DELHER,THETA,SBE35,SBE35_FLAG_W,14C-DOC,14C-DOC_FLAG_W,14C-DOCERR,13C-DOC,13C-DOC_FLAG_W,13C-DOCERR,SALTREF,SALTREF_FLAG_W,LAB_DEN,LAB_DEN_FLAG_W,BTL_DATE,BTL_TIME
,,,,,,,,,,,METERS,DBAR,ITS-90,PSS-78,,PSS-78,,UMOL/KG,,UMOL/KG,,UMOL/KG,,UMOL/KG,,UMOL/KG,,UMOL/KG,,PMOL/KG,,PMOL/KG,,PMOL/KG,,FMOL/KG,,UMOL/KG,,UMOL/KG,,,,DEG C,TU,,NMOL/KG,,PERCNT,,DEG C,,/MILLE,,/MILLE,,/MILLE,NMOL/KG,,NMOL/KG,PMOL/KG,,UMOL/KG,,UMOL/KG,,,,TU,NMOL/KG,PERCNT,DEG C,ITS-90,,/MILLE,,/MILLE,/MILLE,,/MILLE,G/KG,,KG/M^3,,,
33AT20120324,        A22,      35,          1,         36,         36,2,20120404,       0336,    26.4217,   -65.6180,       5105,     4.0,  23.0068,  36.8141,2,  36.8149,2,    214.1,2,   214.2,2,    0.43,2,    0.00,2,    0.00,2,    0.00,2,   1.751,2,   1.151,2,   0.143,2,    1.03,4,  2061.7,6, 2408.87,2,   8.0895,2,       25,    -999,9,     -999,9,    -999,9,  23.0069,2,    -999,9,    -999,9,    -999,    -999,9,    -999,    1.59,2,   71.18,2,    3.66,2,  26.4253, -65.6136,    -999,     -999,    -999,  23.0060,  23.0069,2,-999,9,-999,-999,9,-999,    36.9885,2,-999,1,20120404,        610
33AT20120324,        A22,      35,          1,         35,         35,2,20120404,       0336,    26.4217,   -65.6180,       5105,    25.9,  22.9985,  36.8145,2,  36.8145,2,    215.1,2,   214.7,2,    0.35,2,    0.00,2,    0.00,2,    0.00,2,   1.727,2,   1.131,2,   0.142,2,    1.46,4,    -999,9,    -999,9,     -999,9,     -999,    -999,9,     -999,9,    -999,9,  23.0005,2,    -999,9,    -999,9,    -999,    -999,9,    -999,    1.62,2,   70.62,2,    4.42,2,  26.4252, -65.6138,    -999,     -999,    -999,  22.9932,  23.0005,2,-999,9,-999,-999,9,-999,    36.9881,2,-999,1,20120404,        607
33AT20120324,        A22,      35,          1,         34,         34,2,20120404,       0336,    26.4217,   -65.6180,       5105,    50.3,  22.9854,  36.8159,2,  36.8176,2,    215.1,2,   214.8,2,    0.33,2,    0.00,2,    0.00,2,    0.00,2,   1.755,2,   1.144,2,   0.143,2,    1.44,4,  2062.9,2, 2408.93,6,   8.0885,6,       25,    -999,9,     -999,9,    -999,9,  22.9958,2,    -999,9,    -999,9,    -999,    -999,9,    -999,    1.62,2,   72.13,2,    4.55,2,  26.4251, -65.6140,    -999,     -999,    -999,  22.9751,  22.9958,2,-999,9,-999,-999,9,-999,    36.9913,2,-999,1,20120404,        605
33AT20120324,        A22,      35,          1,         33,         33,2,20120404,       0336,    26.4217,   -65.6180,       5105,    76.6,  22.2160,  36.7923,2,  36.7924,2,    215.3,2,   215.7,2,    0.20,2,    0.00,2,    0.00,2,    0.00,2,   1.807,2,   1.165,2,   0.133,2,    0.61,4,  2068.5,2, 2408.57,2,   8.0741,2,       25,    -999,9,     -999,9,    -999,9,  22.2209,2,    -999,9,    -999,9,    -999,    -999,9,    -999,    1.29,2,   69.69,2,    4.59,2,  26.4249, -65.6142,    -999,     -999,    -999,  22.2006,  22.2209,2,-999,9,-999,-999,9,-999,    36.9659,2,-999,1,20120404,        603
33AT20120324,        A22,      35,          1,         32,         32,2,20120404,       0336,    26.4217,   -65.6180,       5105,   101.7,  21.7711,  36.7432,2,  36.7494,2,    215.9,2,   216.0,2,    0.21,2,    0.00,2,    0.00,2,    0.00,2,   1.811,2,   1.197,2,   0.138,2,    2.26,4,  2068.9,2, 2404.39,2,   8.0713,2,       25,    -999,9,     -999,9,    -999,9,  21.7887,2,    -999,9,    -999,9,    -999,    -999,9,    -999,    1.31,2,   68.88,2,    4.69,2,  26.4247, -65.6144,    -999,     -999,    -999,  21.7510,  21.7887,2,-999,9,-999,-999,9,-999,    36.9227,2,-999,1,20120404,        601
33AT20120324,        A22,      35,          1,         31,         31,2,20120404,       0336,    26.4217,   -65.6180,       5105,   152.4,  20.2919,  36.7580,2,  36.7577,2,    196.6,2,   195.3,2,    0.26,2,    0.79,2,    0.04,2,    0.00,2,   1.978,2,   1.267,2,   0.089,2,    1.43,4,  2105.5,2, 2403.42,2,   8.0072,2,       25,    -999,9,     -999,9,    -999,9,  20.2917,2,    -999,9,    -999,9,    -999,    -999,9,    -999,    0.51,2,   60.17,2,    4.09,2,  26.4245, -65.6148,    -999,     -999,    -999,  20.2632,  20.2917,2,-999,9,-999,-999,9,-999,    36.9310,2,-999,1,20120404,        558
33AT20120324,        A22,      35,          1,         30,         30,2,20120404,       0336,    26.4217,   -65.6180,       5105,   205.7,  18.6821,  36.6254,2,  36.6270,2,    194.6,2,   195.1,2,    0.64,2,    3.12,2,    0.01,2,    0.10,2,   2.069,2,   1.327,2,   0.038,2,    0.61,4,  2114.4,2, 2393.56,2,   7.9833,2,       25,    -999,9,     -999,9,    -999,9,  18.6915,2,    -999,9,    -999,9,    -999,    -999,9,    -999,    0.34,2,   52.82,2,    6.21,2,  26.4243, -65.6151,    -999,     -999,    -999,  18.6455,  18.6915,2,-999,9,-999,-999,9,-999,    36.7997,2,-999,1,20120404,        555
33AT20120324,        A22,      35,          1,         29,         29,2,20120404,       0336,    26.4217,   -65.6180,       5105,   249.3,  18.3509,  36.5961,2,  36.5947,2,    199.7,2,   200.4,2,    0.88,2,    3.72,2,    0.00,2,    0.15,2,   2.098,2,   1.346,2,   0.036,2,    1.16,4,    -999,9,    -999,9,     -999,9,     -999,    -999,9,     -999,9,    -999,9,  18.3441,2,    -999,9,    -999,9,    -999,    -999,9,    -999,    0.37,2,   51.98,2,    7.24,2,  26.4242, -65.6153,    -999,     -999,    -999,  18.3070,  18.3441,2,-999,9,-999,-999,9,-999,    36.7672,2,-999,1,20120404,        553
33AT20120324,        A22,      35,          1,         28,         28,2,20120404,       0336,    26.4217,   -65.6180,       5105,   302.6,  18.0994,  36.5695,2,  36.5687,2,    202.3,2,   202.2,2,    1.02,2,    4.04,2,    0.00,2,    0.17,2,   2.132,2,   1.329,2,   0.042,2,    1.82,4,  2112.2,2, 2390.60,2,   7.9813,2,       25,    -999,9,     -999,9,    -999,9,  18.1000,2,    -999,9,    -999,9,    -999,    -999,9,    -999,    0.42,2,   50.80,2,    7.50,2,  26.4242, -65.6154,    -999,     -999,    -999,  18.0466,  18.1000,2,-999,9,-999,-999,9,-999,    36.7411,2,-999,1,20120404,        552
33AT20120324,        A22,      35,          1,         27,         27,2,20120404,       0336,    26.4217,   -65.6180,       5105,   353.2,  17.8541,  36.5334,2,  36.5306,2,    203.4,2,   202.2,2,    1.23,2,    4.52,2,    0.00,2,    0.20,2,   2.110,2,   1.330,2,   0.038,2,    0.41,4,    -999,9,    -999,9,     -999,9,     -999,    -999,9,     -999,9,    -999,9,  17.8461,2,    -999,9,    -999,9,    -999,    -999,9,    -999,    0.41,2,   49.91,2,    8.40,2,  26.4241, -65.6155,    -999,     -999,    -999,  17.7930,  17.8461,2,-999,9,-999,-999,9,-999,    36.7029,2,-999,1,20120404,        550
33AT20120324,        A22,      35,          1,         26,         26,2,20120404,       0336,    26.4217,   -65.6180,       5105,   398.0,  17.5894,  36.4838,2,  36.4882,2,    199.8,2,   199.3,2,    1.37,2,    5.16,2,    0.00,2,    0.24,2,   2.132,2,   1.340,2,   0.039,2,    0.61,4,  2117.8,2, 2385.93,2,   7.9658,2,       25,    -999,9,     -999,9,    -999,9,  17.5958,2,    -999,9,    -999,9,    -999,    -999,9,    -999,    0.42,2,   48.73,2,    9.23,2,  26.4240, -65.6156,    -999,     -999,    -999,  17.5211,  17.5958,2,-999,9,-999,-999,9,-999,    36.6603,2,-999,1,20120404,        548
33AT20120324,        A22,      35,          1,         25,         25,2,20120404,       0336,    26.4217,   -65.6180,       5105,   501.7,  16.1784,  36.2196,2,  36.2294,2,    186.1,2,   186.5,2,    2.59,2,    8.53,2,    0.00,2,    0.47,2,   2.187,2,   1.305,2,   0.032,2,    0.67,4,  2132.8,2, 2371.50,2,   7.9129,2,       25,    -999,9,     -999,9,    -999,9,  16.1897,2,    -999,9,    -999,9,    -999,    -999,9,    -999,    0.44,2,   47.81,2,   13.16,2,  26.4240, -65.6156,    -999,     -999,    -999,  16.0970,  16.1897,2,-999,9,-999,-999,9,-999,    36.4002,2,-999,1,20120404,        545
33AT20120324,        A22,      35,          1,         24,         24,2,20120404,       0336,    26.4217,   -65.6180,       5105,   599.9,  14.2047,  35.8875,2,  35.8991,2,    168.6,2,   170.1,2,    4.75,2,   13.20,2,    0.00,2,    0.77,2,   2.092,2,   1.213,2,   0.030,2,    0.50,4,  2160.6,2, 2356.95,2,   7.8441,2,       25,    -999,9,     -999,9,    -999,9,  14.3041,3,    -999,9,    -999,9,    -999,    -999,9,    -999,    0.32,2,   46.85,2,   17.69,2,  26.4240, -65.6157,    -999,     -999,    -999,  14.1153,  14.3041,3,-999,9,-999,-999,9,-999,    36.0684,2,-999,1,20120404,        542
33AT20120324,        A22,      35,          1,         23,         23,2,20120404,       0336,    26.4217,   -65.6180,       5105,   705.2,  11.7395,  35.5309,2,  35.5333,2,    152.9,2,   152.2,2,    8.82,2,   19.08,2,    0.00,2,    1.17,2,   1.559,2,   0.871,2,   0.022,2,    0.07,4,  2171.9,2, 2335.39,2,   7.7584,2,       25,    -999,9,     -999,9,    -999,9,  11.7532,2,    -999,9,    -999,9,    -999,    -999,9,    -999,    0.26,2,   45.81,2,   22.38,2,  26.4239, -65.6157,    -999,     -999,    -999,  11.6464,  11.7532,2,-999,9,-999,-999,9,-999,    35.7008,2,-999,1,20120404,        540
33AT20120324,        A22,      35,          1,         22,         22,2,20120404,       0336,    26.4217,   -65.6180,       5105,   804.9,   9.5571,  35.2770,2,  35.2777,2,    149.3,2,   148.6,2,   12.65,2,   23.04,2,    0.00,2,    1.44,2,   1.020,2,   0.545,2,   0.013,2,    0.10,4,  2185.1,6, 2325.07,2,   7.7027,2,       25,    -999,9,     -999,9,    -999,9,   9.5704,2,    -999,9,    -999,9,    -999,    -999,9,    -999,    0.23,2,   44.63,2,   25.99,2,  26.4239, -65.6158,    -999,     -999,    -999,   9.4630,   9.5704,2,-999,9,-999,-999,9,-999,    35.4441,2,-999,1,20120404,        537
33AT20120324,        A22,      35,          1,         21,         21,2,20120404,       0336,    26.4217,   -65.6180,       5105,   904.0,   7.6975,  35.1219,2,  35.1225,2,    162.3,2,   162.8,2,   15.09,2,   23.94,2,    0.00,2,    1.54,2,   0.810,2,   0.415,2,   0.016,2,    0.15,4,  2188.1,2, 2320.32,2,   7.6807,6,       25,    -999,9,     -999,9,    -999,9,   7.6880,2,    -999,9,    -999,9,    -999,    -999,9,    -999,    0.33,2,   43.89,2,   27.67,2,  26.4237, -65.6159,    -999,     -999,    -999,   7.6037,   7.6880,2,-999,9,-999,-999,9,-999,    35.2881,2,-999,1,20120404,        534
33AT20120324,        A22,      35,          1,         20,         20,2,20120404,       0336,    26.4217,   -65.6180,       5105,  1009.3,   6.6388,  35.0897,2,  35.0906,2,    182.9,2,   183.1,2,   15.33,2,   22.91,2,    0.00,2,    1.49,2,   0.827,2,   0.437,2,   0.019,2,    0.00,4,  2185.9,2, 2319.50,2,   7.6878,2,       25,    -999,9,     -999,9,    -999,9,   6.6433,2,    -999,9,    -999,9,    -999,    -999,9,    -999,    0.50,2,   43.14,2,   26.23,2,  26.4238, -65.6159,    -999,     -999,    -999,   6.5413,   6.6433,2,-999,9,-999,-999,9,-999,    35.2560,2,-999,1,20120404,        531
33AT20120324,        A22,      35,          1,         19,         19,2,20120404,       0336,    26.4217,   -65.6180,       5105,  1104.5,   5.9411,  35.0809,2,  35.0811,2,    203.9,2,   202.5,2,   14.96,2,   21.60,2,    0.00,2,    1.42,2,   0.850,2,   0.442,2,   0.026,2,    0.00,4,    -999,9,    -999,9,     -999,9,     -999,    -999,9,     -999,9,    -999,9,   5.9444,2,    -999,9,    -999,9,    -999,    -999,9,    -999,    0.65,2,   42.65,2,   25.47,2,  26.4237, -65.6159,    -999,     -999,    -999,   5.8394,   5.9444,2,-999,9,-999,-999,9,-999,    35.2465,2,-999,1,20120404,        528
33AT20120324,        A22,      35,          1,         18,         18,2,20120404,       0336,    26.4217,   -65.6180,       5105,  1211.1,   5.4221,  35.0802,2,  35.0799,2,    221.4,2,   221.5,2,   13.73,2,   19.97,2,    0.00,2,    1.32,2,   1.026,2,   0.538,2,   0.038,2,    0.05,4,  2172.7,2, 2318.03,2,   7.7175,2,       25,    -999,9,     -999,9,    -999,9,   5.4240,2,    -999,9,    -999,9,    -999,    -999,9,    -999,    0.92,2,   42.25,2,   22.60,2,  26.4237, -65.6159,    -999,     -999,    -999,   5.3144,   5.4240,2,-999,9,-999,-999,9,-999,    35.2453,2,-999,1,20120404,        525
33AT20120324,        A22,      35,          1,         17,         17,2,20120404,       0336,    26.4217,   -65.6180,       5105,  1309.1,   5.0616,  35.0706,2,  35.0705,2,    232.1,2,   232.2,2,   13.75,2,   19.31,2,    0.00,2,    1.27,2,   1.053,2,   0.547,2,   0.043,2,    0.11,4,    -999,9,    -999,9,     -999,9,     -999,    -999,9,     -999,9,    -999,9,   5.0611,2,    -999,9,    -999,9,    -999,    -999,9,    -999,    1.03,2,   42.35,2,   22.83,2,  26.4236, -65.6160,    -999,     -999,    -999,   4.9478,   5.0611,2,-999,9,-999,-999,9,-999,    35.2358,2,-999,1,20120404,        523
33AT20120324,        A22,      35,          1,         16,         16,2,20120404,       0336,    26.4217,   -65.6180,       5105,  1414.1,   4.7358,  35.0580,2,  35.0581,2,    238.5,2,   239.4,2,   13.79,2,   19.04,2,    0.00,2,    1.25,2,   0.897,2,   0.469,2,   0.035,2,    0.09,4,  2166.6,2, 2316.93,2,   7.7323,2,       25,    -999,9,     -999,9,    -999,9,   4.7380,2,    -999,9,    -999,9,    -999,    -999,9,    -999,    1.00,2,   42.01,2,   22.75,2,  26.4236, -65.6160,    -999,     -999,    -999,   4.6153,   4.7380,2,-999,9,-999,-999,9,-999,    35.2234,2,-999,1,20120404,        519
33AT20120324,        A22,      35,          1,         15,         15,2,20120404,       0336,    26.4217,   -65.6180,       5105,  1513.4,   4.4916,  35.0455,2,  35.0456,2,    244.4,2,   244.9,2,   14.07,2,   18.75,2,    0.00,2,    1.24,2,   0.854,2,   0.434,2,   0.036,2,    0.12,4,    -999,9,    -999,9,     -999,9,     -999,    -999,9,     -999,9,    -999,9,   4.4904,2,    -999,9,    -999,9,    -999,    -999,9,    -999,    1.01,2,   42.08,2,   22.79,2,  26.4235, -65.6161,    -999,     -999,    -999,   4.3644,   4.4904,2,-999,9,-999,-999,9,-999,    35.2109,2,-999,1,20120404,        516
33AT20120324,        A22,      35,          1,         14,         14,2,20120404,       0336,    26.4217,   -65.6180,       5105,  1614.0,   4.2653,  35.0329,2,  35.0334,2,    248.3,2,   249.0,2,   14.66,2,   18.53,2,    0.00,2,    1.23,2,   0.799,2,   0.405,2,   0.037,2,    0.00,4,  2163.8,2, 2317.94,2,   7.7393,2,       25,    -999,9,     -999,9,    -999,9,   4.2659,2,    -999,9,    -999,9,    -999,    -999,9,    -999,    1.02,2,   42.18,2,   22.29,2,  26.4233, -65.6163,    -999,     -999,    -999,   4.1312,   4.2659,2,-999,9,-999,-999,9,-999,    35.1986,2,-999,1,20120404,        514
33AT20120324,        A22,      35,          1,         13,         13,2,20120404,       0336,    26.4217,   -65.6180,       5105,  1817.1,   3.8989,  35.0126,2,  35.0127,2,    252.0,2,   252.0,2,   16.71,2,   18.59,2,    0.00,2,    1.24,2,   0.564,2,   0.285,2,   0.023,2,    0.00,4,    -999,9,    -999,9,     -999,9,     -999,    -999,9,     -999,9,    -999,9,   3.8985,2,    -999,9,    -999,9,    -999,    -999,9,    -999,    0.85,2,   41.81,2,   20.67,2,  26.4232, -65.6165,    -999,     -999,    -999,   3.7503,   3.8985,2,-999,9,-999,-999,9,-999,    35.1779,2,-999,1,20120404,        509
33AT20120324,        A22,      35,          1,         12,         12,2,20120404,       0336,    26.4217,   -65.6180,       5105,  2020.7,   3.5391,  34.9836,2,  34.9840,2,    256.8,2,   256.3,2,   18.32,2,   18.45,2,    0.00,2,    1.24,2,   0.519,2,   0.277,2,   0.019,2,    0.00,4,  2162.5,2, 2318.21,2,   7.7440,2,       25,    -999,9,     -999,9,    -999,9,   3.5388,2,    -999,9,    -999,9,    -999,    -999,9,    -999,    0.75,2,   42.31,2,   22.29,2,  26.4231, -65.6167,    -999,     -999,    -999,   3.3764,   3.5388,2,-999,9,-999,-999,9,-999,    35.1490,2,-999,1,20120404,        504
33AT20120324,        A22,      35,          1,         11,         11,2,20120404,       0336,    26.4217,   -65.6180,       5105,  2273.9,   3.3136,  34.9757,2,  34.9761,2,    254.1,2,   253.7,2,   22.53,2,   19.09,2,    0.00,2,    1.28,2,   0.209,2,   0.114,2,   0.006,2,    0.00,4,    -999,9,    -999,9,     -999,9,     -999,    -999,9,     -999,9,    -999,9,   3.3133,2,    -999,9,    -999,9,    -999,    -999,9,    -999,    0.44,2,   42.46,2,   22.25,2,  26.4228, -65.6171,    -999,     -999,    -999,   3.1301,   3.3133,2,-999,9,-999,-999,9,-999,    35.1410,2,-999,1,20120404,        459
33AT20120324,        A22,      35,          1,         10,         10,2,20120404,       0336,    26.4217,   -65.6180,       5105,  2531.3,   3.1040,  34.9613,2,  34.9617,2,    252.1,2,   252.5,2,   26.17,2,   19.54,2,    0.00,2,    1.31,2,   0.114,2,   0.065,2,   0.005,2,    0.00,4,  2170.7,2, 2328.39,3,   7.7449,2,       25,    -999,9,     -999,9,    -999,9,   3.1040,2,    -999,9,    -999,9,    -999,    -999,9,    -999,    0.31,2,   42.28,2,   22.94,2,  26.4226, -65.6173,    -999,     -999,    -999,   2.8989,   3.1040,2,-999,9,-999,-999,9,-999,    35.1266,2,-999,1,20120404,        454
33AT20120324,        A22,      35,          1,          9,          9,2,20120404,       0336,    26.4217,   -65.6180,       5105,  2783.6,   2.9227,  34.9460,2,  34.9470,2,    253.8,2,   254.2,2,   27.77,2,   19.47,2,    0.00,2,    1.32,2,   0.125,2,   0.068,2,   0.004,2,    0.00,4,    -999,9,    -999,9,     -999,9,     -999,    -999,9,     -999,9,    -999,9,   2.9223,2,    -999,9,    -999,9,    -999,    -999,9,    -999,    0.30,2,   42.22,2,   22.54,2,  26.4225, -65.6174,    -999,     -999,    -999,   2.6958,   2.9223,2,-999,9,-999,-999,9,-999,    35.1117,2,-999,1,20120404,        449
33AT20120324,        A22,      35,          1,          8,          8,2,20120404,       0336,    26.4217,   -65.6180,       5105,  3038.3,   2.7580,  34.9316,2,  34.9322,2,    257.1,2,   257.2,2,   28.02,2,   19.28,2,    0.00,2,    1.31,2,   0.199,2,   0.105,2,   0.007,2,    0.09,4,  2170.3,2, 2326.47,2,   7.7450,2,       25,    -999,9,     -999,9,    -999,9,   2.7582,2,    -999,9,    -999,9,    -999,    -999,9,    -999,    0.39,2,   42.26,2,   22.30,2,  26.4225, -65.6175,    -999,     -999,    -999,   2.5085,   2.7582,2,-999,9,-999,-999,9,-999,    35.0969,2,-999,1,20120404,        444
33AT20120324,        A22,      35,          1,          7,          7,2,20120404,       0336,    26.4217,   -65.6180,       5105,  3341.3,   2.6031,  34.9192,2,  34.9192,2,    260.5,2,   260.0,2,   28.47,2,   19.11,2,    0.00,2,    1.30,2,   0.272,2,   0.143,2,   0.012,2,    0.04,4,    -999,9,    -999,9,     -999,9,     -999,    -999,9,     -999,9,    -999,9,   2.6058,2,    -999,9,    -999,9,    -999,    -999,9,    -999,    0.49,2,   42.11,2,   22.58,2,  26.4223, -65.6176,    -999,     -999,    -999,   2.3252,   2.6058,2,-999,9,-999,-999,9,-999,    35.0838,2,-999,1,20120404,        437
33AT20120324,        A22,      35,          1,          6,          6,2,20120404,       0336,    26.4217,   -65.6180,       5105,  3641.4,   2.4688,  34.9086,2,  34.9088,2,    262.9,2,   263.2,2,   28.46,2,   18.81,2,    0.00,2,    1.28,2,   0.362,2,   0.197,2,   0.016,2,    0.03,4,  2169.4,2, 2325.35,2,   7.7441,2,       25,    -999,9,     -999,9,    -999,9,   2.4683,2,    -999,9,    -999,9,    -999,    -999,9,    -999,    0.62,2,   42.37,2,   22.36,2,  26.4222, -65.6177,    -999,     -999,    -999,   2.1617,   2.4683,2,-999,9,-999,-999,9,-999,    35.0734,2,-999,1,20120404,        431