BOTTLE,20220725CCHSIOCBG
EXPOCODE,SECT_ID,STNNBR,CASTNO,SAMPNO,BTLNBR,BTLNBR_FLAG_W,DATE,TIME,LATITUDE,LONGITUDE,DEPTH,CTDPRS,CTDTMP,CTDSAL,CTDSAL_FLAG_W,SALNTY,SALNTY_FLAG_W,CTDOXY,CTDOXY_FLAG_W,OXYGEN,OXYGEN_FLAG_W,SILCAT,SILCAT_FLAG_W,NITRAT,NITRAT_FLAG_W,NITRIT,NITRIT_FLAG_W,PHSPHT,PHSPHT_FLAG_W,CFC-11,CFC-11_FLAG_W,CFC-12,CFC-12_FLAG_W,CFC113,CFC113_FLAG_W,SF6,SF6_FLAG_W,TCARBN,TCARBN_FLAG_W,ALKALI,ALKALI_FLAG_W,PH_TOT,PH_TOT_FLAG_W,PH_TMP,TRITUM,TRITUM_FLAG_W,HELIUM,HELIUM_FLAG_W,DELHE3,DELHE3_FLAG_W,REFTMP,REFTMP_FLAG_W,DELC13,DELC13_FLAG_W,DELC14,DELC14_FLAG_W,C14ERR,NEON,NEON_FLAG_W,NEONER,CCL4,CCL4_FLAG_W,DOC,DOC_FLAG_W,TDN,TDN_FLAG_W,BTL_LAT,BTL_LON,TRITER,HELIER,DELHER,THETA,SBE35,SBE35_FLAG_W,14C-DOC,14C-DOC_FLAG_W,14C-DOCERR,13C-DOC,13C-DOC_FLAG_W,13C-DOCERR,SALTREF,SALTREF_FLAG_W,LAB_DEN,LAB_DEN_FLAG_W,BTL_DATE,BTL_TIME
,,,,,,,,,,,METERS,DBAR,ITS-90,PSS-78,,PSS-78,,UMOL/KG,,UMOL/KG,,UMOL/KG,,UMOL/KG,,UMOL/KG,,UMOL/KG,,PMOL/KG,,PMOL/KG,,PMOL/KG,,FMOL/KG,,UMOL/KG,,UMOL/KG,,,,DEG C,TU,,NMOL/KG,,PERCNT,,DEG C,,/MILLE,,/MILLE,,/MILLE,NMOL/KG,,NMOL/KG,PMOL/KG,,UMOL/KG,,UMOL/KG,,,,TU,NMOL/KG,PERCNT,DEG C,ITS-90,,/MILLE,,/MILLE,/MILLE,,/MILLE,G/KG,,KG/M^3,,,
33AT20120324,        A22,      21,          1,          5,          5,2,20120330,       2148,    34.7398,   -66.5807,       5187,  4372.5,   2.2984,  34.8903,2,  34.8896,2,    266.1,2,   266.1,2,   30.50,2,   18.71,2,    0.00,2,    1.28,2,   0.756,2,   0.409,2,   0.048,2,    -999,5,    -999,9,    -999,9,     -999,9,     -999,    -999,9,     -999,9,    -999,9,   2.2985,2,    -999,9,    -999,9,    -999,    -999,9,    -999,    0.76,2,   42.90,2,   22.47,2,  34.7397, -66.5807,    -999,     -999,    -999,   1.9125,   2.2985,2,-999,9,-999,-999,9,-999,    35.0541,2,-999,9,20120330,       2208
33AT20120324,        A22,      21,          1,          4,          4,2,20120330,       2148,    34.7398,   -66.5807,       5187,  4679.5,   2.2718,  34.8842,2,  34.8839,2,    263.3,2,   263.4,2,   33.79,2,   19.18,2,    0.00,2,    1.32,2,   0.685,2,   0.381,2,   0.043,2,    -999,5,  2177.5,2, 2332.45,2,   7.7355,2,       25,    -999,9,     -999,9,    -999,9,   2.2713,2,    -999,9,    -999,9,    -999,    -999,9,    -999,    0.67,2,   42.37,2,   22.90,2,  34.7397, -66.5807,    -999,     -999,    -999,   1.8498,   2.2713,2,-999,9,-999,-999,9,-999,    35.0484,2,-999,9,20120330,       2202
33AT20120324,        A22,      21,          1,          3,          3,2,20120330,       2148,    34.7398,   -66.5807,       5187,  4989.4,   2.2604,  34.8788,2,  34.8782,2,    260.3,2,   260.5,2,   37.22,2,   19.73,2,    0.00,2,    1.36,2,   0.563,2,   0.316,2,   0.035,2,    -999,5,  2182.6,2, 2335.72,2,   7.7338,2,       25,    -999,9,     -999,9,    -999,9,   2.2601,2,    -999,9,    -999,9,    -999,    -999,9,    -999,    0.53,2,   42.19,2,   22.94,2,  34.7398, -66.5807,    -999,     -999,    -999,   1.8004,   2.2601,2,-999,9,-999,-999,9,-999,    35.0427,2,-999,9,20120330,       2156
33AT20120324,        A22,      21,          1,          2,          2,2,20120330,       2148,    34.7398,   -66.5807,       5187,  5143.4,   2.2410,  34.8742,2,  34.8737,2,    257.9,2,   258.0,2,   40.56,2,   20.29,2,    0.00,2,    1.41,2,   0.405,2,   0.233,2,   0.028,2,    -999,5,  2186.4,2, 2339.84,6,   7.7326,6,       25,    -999,9,     -999,9,    -999,9,   2.2410,2,    -999,9,    -999,9,    -999,    -999,9,    -999,    0.39,2,   42.21,2,   22.37,2,  34.7397, -66.5807,    -999,     -999,    -999,   1.7622,   2.2410,2,-999,9,-999,-999,9,-999,    35.0381,2,-999,9,20120330,       2152
33AT20120324,        A22,      21,          1,          1,          1,2,20120330,       2148,    34.7398,   -66.5807,       5187,  5265.4,   2.1989,  34.8670,2,  34.8670,2,    254.6,2,   254.3,2,   45.15,2,   21.05,2,    0.00,2,    1.44,2,   0.266,2,   0.160,2,   0.019,2,    -999,5,  2193.9,6, 2344.39,2,   7.7313,2,       25,    -999,9,     -999,9,    -999,9,   2.1987,2,    -999,9,    -999,9,    -999,    -999,9,    -999,    0.27,2,   42.13,2,   24.27,2,  34.7397, -66.5807,    -999,     -999,    -999,   1.7059,   2.1987,2,-999,9,-999,-999,9,-999,    35.0314,2,-999,9,20120330,       2149