BOTTLE,20220725CCHSIOCBG
EXPOCODE,SECT_ID,STNNBR,CASTNO,SAMPNO,BTLNBR,BTLNBR_FLAG_W,DATE,TIME,LATITUDE,LONGITUDE,DEPTH,CTDPRS,CTDTMP,CTDSAL,CTDSAL_FLAG_W,SALNTY,SALNTY_FLAG_W,CTDOXY,CTDOXY_FLAG_W,OXYGEN,OXYGEN_FLAG_W,SILCAT,SILCAT_FLAG_W,NITRAT,NITRAT_FLAG_W,NITRIT,NITRIT_FLAG_W,PHSPHT,PHSPHT_FLAG_W,CFC-11,CFC-11_FLAG_W,CFC-12,CFC-12_FLAG_W,CFC113,CFC113_FLAG_W,SF6,SF6_FLAG_W,TCARBN,TCARBN_FLAG_W,ALKALI,ALKALI_FLAG_W,PH_TOT,PH_TOT_FLAG_W,PH_TMP,TRITUM,TRITUM_FLAG_W,HELIUM,HELIUM_FLAG_W,DELHE3,DELHE3_FLAG_W,REFTMP,REFTMP_FLAG_W,DELC13,DELC13_FLAG_W,DELC14,DELC14_FLAG_W,C14ERR,NEON,NEON_FLAG_W,NEONER,CCL4,CCL4_FLAG_W,DOC,DOC_FLAG_W,TDN,TDN_FLAG_W,BTL_LAT,BTL_LON,TRITER,HELIER,DELHER,THETA,SBE35,SBE35_FLAG_W,14C-DOC,14C-DOC_FLAG_W,14C-DOCERR,13C-DOC,13C-DOC_FLAG_W,13C-DOCERR,SALTREF,SALTREF_FLAG_W,LAB_DEN,LAB_DEN_FLAG_W,BTL_DATE,BTL_TIME
,,,,,,,,,,,METERS,DBAR,ITS-90,PSS-78,,PSS-78,,UMOL/KG,,UMOL/KG,,UMOL/KG,,UMOL/KG,,UMOL/KG,,UMOL/KG,,PMOL/KG,,PMOL/KG,,PMOL/KG,,FMOL/KG,,UMOL/KG,,UMOL/KG,,,,DEG C,TU,,NMOL/KG,,PERCNT,,DEG C,,/MILLE,,/MILLE,,/MILLE,NMOL/KG,,NMOL/KG,PMOL/KG,,UMOL/KG,,UMOL/KG,,,,TU,NMOL/KG,PERCNT,DEG C,ITS-90,,/MILLE,,/MILLE,/MILLE,,/MILLE,G/KG,,KG/M^3,,,
33AT20120324,        A22,      49,          1,         36,         36,2,20120408,       0728,    18.9840,   -66.0045,       3586,     3.6,  26.6588,  36.0379,2,  36.0382,2,    202.0,2,   201.5,2,    0.81,2,    0.00,2,    0.00,2,    0.00,2,   1.584,2,   1.022,2,   0.116,2,    0.77,4,  2014.6,6, 2355.85,2,   8.0967,2,       25,    -999,9,     -999,9,    -999,9,  26.6623,2,    -999,9,    -999,9,    -999,    -999,9,    -999,    1.59,2,   75.32,2,    4.90,2,  18.9850, -66.0043,    -999,     -999,    -999,  26.6580,  26.6623,2,-999,9,-999,-999,9,-999,    36.2082,2,-999,9,20120408,        906
33AT20120324,        A22,      49,          1,         35,         35,2,20120408,       0728,    18.9840,   -66.0045,       3586,    21.0,  26.3506,  36.1333,2,  36.1322,2,    203.7,2,   203.6,2,    0.91,2,    0.00,2,    0.00,2,    0.00,2,   1.590,2,   1.044,2,   0.119,2,    1.27,4,  2016.6,2, 2366.07,6,   8.1100,6,       25,    -999,9,     -999,9,    -999,9,  26.3495,2,    -999,9,    -999,9,    -999,    -999,9,    -999,    1.58,2,   74.36,2,    4.51,2,  18.9850, -66.0043,    -999,     -999,    -999,  26.3459,  26.3495,2,-999,9,-999,-999,9,-999,    36.3026,2,-999,9,20120408,        904
33AT20120324,        A22,      49,          1,         34,         34,2,20120408,       0728,    18.9840,   -66.0045,       3586,    40.8,  26.1203,  36.1039,2,  36.0972,2,    204.6,2,   204.8,2,    1.06,2,    0.00,2,    0.00,2,    0.00,2,   1.539,2,   1.060,2,   0.122,2,    0.40,4,  2011.3,2, 2367.52,2,   8.1146,2,       25,    -999,9,     -999,9,    -999,9,  26.1193,2,    -999,9,    -999,9,    -999,    -999,9,    -999,    1.31,2,   71.08,2,    3.96,2,  18.9850, -66.0043,    -999,     -999,    -999,  26.1111,  26.1193,2,-999,9,-999,-999,9,-999,    36.2674,2,-999,9,20120408,        902
33AT20120324,        A22,      49,          1,         33,         33,2,20120408,       0728,    18.9840,   -66.0045,       3586,    66.1,  25.9387,  36.1157,2,  36.1197,2,    205.7,2,   204.7,2,    1.05,2,    0.00,2,    0.00,2,    0.00,2,   1.549,2,   1.032,2,   0.123,2,    0.95,4,    -999,9,    -999,9,     -999,9,     -999,    -999,9,     -999,9,    -999,9,  25.9390,2,    -999,9,    -999,9,    -999,    -999,9,    -999,    1.29,2,   68.47,2,    4.87,2,  18.9850, -66.0043,    -999,     -999,    -999,  25.9239,  25.9390,2,-999,9,-999,-999,9,-999,    36.2901,2,-999,9,20120408,        900
33AT20120324,        A22,      49,          1,         32,         32,2,20120408,       0728,    18.9840,   -66.0045,       3586,    90.6,  26.0303,  36.6137,2,  36.6450,2,    199.9,2,   198.6,2,    0.59,2,    0.00,2,    0.00,2,    0.00,2,   1.614,2,   1.056,2,   0.120,2,    0.96,4,  2047.7,2, 2399.91,2,   8.0976,2,       25,    -999,9,     -999,9,    -999,9,  26.0270,2,    -999,9,    -999,9,    -999,    -999,9,    -999,    0.79,2,   65.23,2,    4.13,2,  18.9850, -66.0043,    -999,     -999,    -999,  26.0100,  26.0270,2,-999,9,-999,-999,9,-999,    36.8177,2,-999,9,20120408,        857
33AT20120324,        A22,      49,          1,         31,         31,2,20120408,       0728,    18.9840,   -66.0045,       3586,   116.2,  24.8000,  37.1254,2,  37.1176,2,    183.5,2,   182.6,2,    0.28,2,    0.45,2,    0.05,2,    0.01,2,   1.653,2,   1.106,2,   0.116,2,    0.55,4,    -999,9,    -999,9,     -999,9,     -999,    -999,9,     -999,9,    -999,9,  24.8003,2,    -999,9,    -999,9,    -999,    -999,9,    -999,    0.45,2,   62.48,2,    4.92,2,  18.9849, -66.0043,    -999,     -999,    -999,  24.7747,  24.8003,2,-999,9,-999,-999,9,-999,    37.2926,2,-999,9,20120408,        855
33AT20120324,        A22,      49,          1,         30,         30,2,20120408,       0728,    18.9840,   -66.0045,       3586,   142.8,  22.4999,  36.9626,2,  36.9634,2,    190.1,2,   188.9,2,    0.18,2,    0.45,2,    0.05,2,    0.00,2,   1.800,2,   1.202,2,   0.101,2,    0.54,4,  2100.4,2, 2416.14,2,   8.0332,2,       25,    -999,9,     -999,9,    -999,9,  22.5218,2,    -999,9,    -999,9,    -999,    -999,9,    -999,    0.46,2,   60.12,2,    4.87,2,  18.9849, -66.0043,    -999,     -999,    -999,  22.4709,  22.5218,2,-999,9,-999,-999,9,-999,    37.1377,2,-999,9,20120408,        854
33AT20120324,        A22,      49,          1,         29,         29,2,20120408,       0728,    18.9840,   -66.0045,       3586,   187.1,  19.9248,  36.7667,2,  36.7606,2,    182.3,2,   184.0,2,    0.40,2,    1.93,2,    0.02,2,    0.05,2,   1.999,2,   1.281,2,   0.038,2,    0.93,4,  2118.4,2, 2402.81,2,   7.9845,2,       25,    -999,9,     -999,9,    -999,9,  19.9249,2,    -999,9,    -999,9,    -999,    -999,9,    -999,    0.27,2,   55.58,2,    6.49,2,  18.9849, -66.0043,    -999,     -999,    -999,  19.8899,  19.9249,2,-999,9,-999,-999,9,-999,    36.9339,2,-999,9,20120408,        851
33AT20120324,        A22,      49,          1,         28,         28,2,20120408,       0728,    18.9840,   -66.0045,       3586,   237.2,  18.6734,  36.6295,2,  36.6275,2,    184.8,2,   188.7,2,    0.74,2,    3.92,2,    0.01,2,    0.16,2,   2.059,2,   1.324,2,   0.017,2,    0.74,4,  2118.8,2, 2392.82,2,   7.9706,2,       25,    -999,9,     -999,9,    -999,9,  18.6735,2,    -999,9,    -999,9,    -999,    -999,9,    -999,    0.26,2,   52.56,2,    8.21,2,  18.9849, -66.0043,    -999,     -999,    -999,  18.6311,  18.6735,2,-999,9,-999,-999,9,-999,    36.8002,2,-999,9,20120408,        848
33AT20120324,        A22,      49,          1,         27,         27,2,20120408,       0728,    18.9840,   -66.0045,       3586,   287.0,  18.1018,  36.5521,2,  36.5510,2,    192.1,2,   192.8,2,    1.08,2,    4.80,2,    0.01,2,    0.22,2,   2.128,2,   1.364,2,   0.020,2,    0.83,4,  2116.8,2, 2389.91,2,   7.9669,2,       25,    -999,9,     -999,9,    -999,9,  18.1014,2,    -999,9,    -999,9,    -999,    -999,9,    -999,    0.31,2,   49.29,2,    9.66,2,  18.9848, -66.0044,    -999,     -999,    -999,  18.0517,  18.1014,2,-999,9,-999,-999,9,-999,    36.7234,2,-999,9,20120408,        847
33AT20120324,        A22,      49,          1,         26,         26,2,20120408,       0728,    18.9840,   -66.0045,       3586,   337.4,  17.4008,  36.4359,2,  36.4312,2,    187.1,2,   188.1,2,    1.64,2,    6.50,2,    0.01,2,    0.33,2,   2.134,2,   1.380,2,   0.021,2,    0.60,4,    -999,9,    -999,9,     -999,9,     -999,    -999,9,     -999,9,    -999,9,  17.4002,2,    -999,9,    -999,9,    -999,    -999,9,    -999,    0.32,2,   47.65,2,   10.49,2,  18.9848, -66.0044,    -999,     -999,    -999,  17.3435,  17.4002,2,-999,9,-999,-999,9,-999,    36.6030,2,-999,9,20120408,        845
33AT20120324,        A22,      49,          1,         25,         25,2,20120408,       0728,    18.9840,   -66.0045,       3586,   388.7,  16.1940,  36.2201,2,  36.2189,2,    170.6,2,   170.1,2,    2.72,2,   10.11,2,    0.00,2,    0.57,2,   2.133,2,   1.324,2,   0.021,2,    0.84,4,  2142.6,2, 2369.28,2,   7.8863,2,       25,    -999,9,     -999,9,    -999,9,  16.1947,2,    -999,9,    -999,9,    -999,    -999,9,    -999,    0.28,2,   46.77,2,   13.92,2,  18.9848, -66.0044,    -999,     -999,    -999,  16.1311,  16.1947,2,-999,9,-999,-999,9,-999,    36.3897,2,-999,9,20120408,        843
33AT20120324,        A22,      49,          1,         24,         24,2,20120408,       0728,    18.9840,   -66.0045,       3586,   438.6,  14.7932,  35.9850,2,  35.9788,2,    156.3,2,   156.4,2,    4.20,2,   13.70,2,    0.00,2,    0.80,2,   2.088,2,   1.254,2,   0.016,2,    0.91,4,  2157.6,2, 2355.49,2,   7.8317,2,       25,    -999,9,     -999,9,    -999,9,  14.7905,2,    -999,9,    -999,9,    -999,    -999,9,    -999,    0.25,2,   46.21,2,   17.52,2,  18.9848, -66.0044,    -999,     -999,    -999,  14.7264,  14.7905,2,-999,9,-999,-999,9,-999,    36.1485,2,-999,9,20120408,        841
33AT20120324,        A22,      49,          1,         23,         23,2,20120408,       0728,    18.9840,   -66.0045,       3586,   488.3,  13.4556,  35.7566,2,  35.7487,2,    145.8,2,   145.7,2,    6.22,2,   17.17,2,    0.00,2,    1.03,2,   1.884,2,   1.102,2,   0.017,2,    0.12,4,    -999,9,    -999,9,     -999,9,     -999,    -999,9,     -999,9,    -999,9,  13.4567,2,    -999,9,    -999,9,    -999,    -999,9,    -999,    0.24,2,   45.76,2,   20.63,2,  18.9847, -66.0044,    -999,     -999,    -999,  13.3857,  13.4567,2,-999,9,-999,-999,9,-999,    35.9172,2,-999,9,20120408,        839
33AT20120324,        A22,      49,          1,         22,         22,2,20120408,       0728,    18.9840,   -66.0045,       3586,   567.9,  11.4019,  35.4330,2,  35.4290,2,    137.2,2,   134.9,2,    9.97,2,   22.12,2,    0.00,2,    1.38,2,   1.425,2,   0.815,2,   0.016,2,    0.00,4,  2185.9,2, 2329.83,2,   7.7135,2,       25,    -999,9,     -999,9,    -999,9,  11.4028,2,    -999,9,    -999,9,    -999,    -999,9,    -999,    0.22,2,   45.22,2,   25.61,2,  18.9846, -66.0044,    -999,     -999,    -999,  11.3287,  11.4028,2,-999,9,-999,-999,9,-999,    35.5961,2,-999,9,20120408,        837
33AT20120324,        A22,      49,          1,         21,         21,2,20120408,       0728,    18.9840,   -66.0045,       3586,   669.2,   9.7711,  35.1942,2,  35.1913,2,    130.5,2,   128.7,2,   13.55,2,   25.78,2,    0.00,2,    1.64,2,   1.040,2,   0.565,2,   0.011,2,    0.00,4,    -999,9,    -999,9,     -999,9,     -999,    -999,9,     -999,9,    -999,9,   9.7704,2,    -999,9,    -999,9,    -999,    -999,9,    -999,    0.22,2,   44.76,2,   28.97,2,  18.9846, -66.0044,    -999,     -999,    -999,   9.6925,   9.7704,2,-999,9,-999,-999,9,-999,    35.3573,2,-999,9,20120408,        834
33AT20120324,        A22,      49,          1,         20,         20,2,20120408,       0728,    18.9840,   -66.0045,       3586,   768.9,   8.1043,  34.9843,2,  34.9785,2,    128.6,2,   129.0,2,   17.89,2,   28.97,2,    0.00,2,    1.87,2,   0.625,2,   0.334,2,   0.008,2,    0.13,4,  2205.8,2, 2312.54,2,   7.6193,2,       25,    -999,9,     -999,9,    -999,9,   8.1004,2,    -999,9,    -999,9,    -999,    -999,9,    -999,    0.20,2,   44.41,2,   31.64,2,  18.9845, -66.0045,    -999,     -999,    -999,   8.0231,   8.1004,2,-999,9,-999,-999,9,-999,    35.1434,2,-999,9,20120408,        832
33AT20120324,        A22,      49,          1,         19,         19,2,20120408,       0728,    18.9840,   -66.0045,       3586,   870.5,   6.8036,  34.8473,2,  34.8447,2,    132.2,2,   133.2,2,   21.63,2,   30.79,2,    0.00,2,    2.03,2,   0.325,2,   0.185,2,   0.007,2,    0.04,4,  2211.4,2, 2310.82,2,   7.5946,6,       25,    -999,9,     -999,9,    -999,9,   6.8032,2,    -999,9,    -999,9,    -999,    -999,9,    -999,    0.15,2,   43.78,2,   34.05,2,  18.9845, -66.0045,    -999,     -999,    -999,   6.7196,   6.8032,2,-999,9,-999,-999,9,-999,    35.0090,2,-999,9,20120408,        829
33AT20120324,        A22,      49,          1,         18,         18,2,20120408,       0728,    18.9840,   -66.0045,       3586,   973.0,   6.3818,  34.8848,2,  34.8994,2,    146.9,2,   147.6,2,   21.23,2,   28.95,2,    0.00,2,    1.92,2,   0.323,2,   0.179,2,   0.010,2,    0.12,4,  2206.1,2, 2313.74,2,   7.6191,2,       25,    -999,9,     -999,9,    -999,9,   6.3864,2,    -999,9,    -999,9,    -999,    -999,9,    -999,    0.21,2,   42.89,2,   32.11,2,  18.9844, -66.0045,    -999,     -999,    -999,   6.2902,   6.3864,2,-999,9,-999,-999,9,-999,    35.0640,2,-999,9,20120408,        826
33AT20120324,        A22,      49,          1,         17,         17,2,20120408,       0728,    18.9840,   -66.0045,       3586,  1072.1,   6.0368,  34.9897,2,  34.9915,2,    173.1,2,   179.1,2,   18.32,2,   24.81,2,    0.00,2,    1.66,2,    -999,5,    -999,5,    -999,5,    -999,5,  2191.9,2, 2315.97,2,   7.6660,2,       25,    -999,9,     -999,9,    -999,9,   6.0360,2,    -999,9,    -999,9,    -999,    -999,9,    -999,    -999,5,   42.36,2,   27.69,2,  18.9844, -66.0045,    -999,     -999,    -999,   5.9377,   6.0360,2,-999,9,-999,-999,9,-999,    35.1565,2,-999,9,20120408,        824
33AT20120324,        A22,      49,          1,         16,         16,2,20120408,       0728,    18.9840,   -66.0045,       3586,  1172.3,   5.5946,  35.0449,2,  35.0449,2,    207.3,2,   209.9,2,   14.82,2,   21.31,2,    0.00,2,    1.41,2,   1.002,2,   0.549,2,   0.038,2,    0.18,4,  2179.5,2, 2318.00,2,   7.7006,2,       25,    -999,9,     -999,9,    -999,9,   5.5995,2,    -999,9,    -999,9,    -999,    -999,9,    -999,    0.69,2,   41.87,2,   24.52,2,  18.9844, -66.0045,    -999,     -999,    -999,   5.4892,   5.5995,2,-999,9,-999,-999,9,-999,    35.2101,2,-999,9,20120408,        822
33AT20120324,        A22,      49,          1,         15,         15,2,20120408,       0728,    18.9840,   -66.0045,       3586,  1275.6,   5.1009,  35.0408,2,  35.0403,2,    229.4,2,   232.0,2,   13.10,2,   19.42,2,    0.00,2,    1.29,2,   1.449,2,   0.784,2,   0.066,2,    0.13,4,    -999,9,    -999,9,     -999,9,     -999,    -999,9,     -999,9,    -999,9,   5.1001,2,    -999,9,    -999,9,    -999,    -999,9,    -999,    1.07,2,   41.72,2,   22.82,2,  18.9843, -66.0045,    -999,     -999,    -999,   4.9900,   5.1001,2,-999,9,-999,-999,9,-999,    35.2056,2,-999,9,20120408,        819
33AT20120324,        A22,      49,          1,         14,         14,2,20120408,       0728,    18.9840,   -66.0045,       3586,  1374.6,   4.6820,  35.0186,2,  35.0181,2,    240.6,2,   242.5,2,   13.00,2,   18.84,2,    0.00,2,    1.26,2,   1.534,2,   0.829,2,   0.075,2,    0.28,4,  2167.9,2, 2313.61,2,   7.7219,2,       25,    -999,9,     -999,9,    -999,9,   4.6821,2,    -999,9,    -999,9,    -999,    -999,9,    -999,    1.17,2,   41.63,2,   21.71,2,  18.9844, -66.0045,    -999,     -999,    -999,   4.5659,   4.6821,2,-999,9,-999,-999,9,-999,    35.1832,2,-999,9,20120408,        816
33AT20120324,        A22,      49,          1,         13,         13,2,20120408,       0728,    18.9840,   -66.0045,       3586,  1477.5,   4.3806,  35.0037,2,  35.0097,4,    249.5,2,   250.5,2,   12.69,2,   18.37,2,    0.00,2,    1.23,2,   1.581,2,   0.867,2,   0.081,2,    0.05,4,    -999,9,    -999,9,     -999,9,     -999,    -999,9,     -999,9,    -999,9,   4.3806,2,    -999,9,    -999,9,    -999,    -999,9,    -999,    1.24,2,   41.58,2,   21.13,2,  18.9844, -66.0045,    -999,     -999,    -999,   4.2581,   4.3806,2,-999,9,-999,-999,9,-999,    35.1747,4,-999,9,20120408,        814
33AT20120324,        A22,      49,          1,         12,         12,2,20120408,       0728,    18.9840,   -66.0045,       3586,  1578.5,   4.1361,  34.9897,2,  34.9896,2,    256.0,2,   255.9,2,   12.75,2,   18.06,2,    0.00,2,    1.21,2,   1.609,2,   0.863,2,   0.085,2,    0.61,4,  2162.2,2, 2311.74,2,   7.7295,2,       25,    -999,9,     -999,9,    -999,9,   4.1360,2,    -999,9,    -999,9,    -999,    -999,9,    -999,    1.36,2,   41.32,2,   20.42,2,  18.9844, -66.0045,    -999,     -999,    -999,   4.0070,   4.1360,2,-999,9,-999,-999,9,-999,    35.1546,2,-999,9,20120408,        811
33AT20120324,        A22,      49,          1,         11,         11,2,20120408,       0728,    18.9840,   -66.0045,       3586,  1680.0,   3.9792,  34.9810,2,  34.9815,2,    258.8,2,   258.4,2,   13.09,2,   17.97,2,    0.00,2,    1.21,2,   1.508,2,   0.781,2,   0.076,2,    0.09,4,    -999,9,    -999,9,     -999,9,     -999,    -999,9,     -999,9,    -999,9,   3.9788,2,    -999,9,    -999,9,    -999,    -999,9,    -999,    1.32,2,   41.54,2,   20.72,2,  18.9844, -66.0045,    -999,     -999,    -999,   3.8426,   3.9788,2,-999,9,-999,-999,9,-999,    35.1465,2,-999,9,20120408,        809
33AT20120324,        A22,      49,          1,         10,         10,2,20120408,       0728,    18.9840,   -66.0045,       3586,  1781.8,   3.8297,  34.9728,2,  34.9733,2,    260.8,2,   260.5,2,   13.53,2,   17.90,2,    0.00,2,    1.20,2,   1.359,2,   0.720,2,   0.067,2,    0.00,4,  2161.2,2, 2311.67,2,   7.7330,2,       25,    -999,9,     -999,9,    -999,9,   3.8298,2,    -999,9,    -999,9,    -999,    -999,9,    -999,    1.17,2,   41.21,2,   20.16,2,  18.9844, -66.0045,    -999,     -999,    -999,   3.6855,   3.8298,2,-999,9,-999,-999,9,-999,    35.1382,2,-999,9,20120408,        806
33AT20120324,        A22,      49,          1,          9,          9,2,20120408,       0728,    18.9840,   -66.0045,       3586,  1953.5,   3.6433,  34.9655,2,  34.9659,2,    262.2,2,   262.2,2,   14.76,2,   17.96,2,    0.00,2,    1.21,2,   1.220,2,   0.665,2,   0.059,2,    0.05,4,    -999,9,    -999,9,     -999,9,     -999,    -999,9,     -999,9,    -999,9,   3.6433,2,    -999,9,    -999,9,    -999,    -999,9,    -999,    1.11,2,   41.23,2,   20.51,2,  18.9844, -66.0045,    -999,     -999,    -999,   3.4855,   3.6433,2,-999,9,-999,-999,9,-999,    35.1308,2,-999,9,20120408,        803
33AT20120324,        A22,      49,          1,          8,          8,2,20120408,       0728,    18.9840,   -66.0045,       3586,  2152.8,   3.4267,  34.9598,2,  34.9657,4,    262.6,2,   262.5,2,   16.62,2,   17.99,2,    0.00,2,    1.22,2,   0.959,2,   0.504,2,   0.038,2,    0.06,4,    -999,9,    -999,9,     -999,9,     -999,    -999,9,     -999,9,    -999,9,   3.4266,2,    -999,9,    -999,9,    -999,    -999,9,    -999,    0.94,2,   40.35,2,   20.36,2,  18.9844, -66.0045,    -999,     -999,    -999,   3.2531,   3.4266,2,-999,9,-999,-999,9,-999,    35.1306,4,-999,9,20120408,        758
33AT20120324,        A22,      49,          1,          7,          7,2,20120408,       0728,    18.9840,   -66.0045,       3586,  2360.1,   3.2344,  34.9520,2,  34.9523,2,    263.0,2,   262.7,2,   18.21,2,   18.06,2,    0.00,2,    1.22,2,   0.805,2,   0.431,2,   0.031,2,    0.10,4,  2161.9,2, 2315.65,2,   7.7419,2,       25,    -999,9,     -999,9,    -999,9,   3.2341,2,    -999,9,    -999,9,    -999,    -999,9,    -999,    0.82,2,   40.39,2,   20.81,2,  18.9845, -66.0045,    -999,     -999,    -999,   3.0439,   3.2341,2,-999,9,-999,-999,9,-999,    35.1171,2,-999,9,20120408,        754
33AT20120324,        A22,      49,          1,          6,          6,2,20120408,       0728,    18.9840,   -66.0045,       3586,  2564.3,   3.0461,  34.9434,2,  34.9435,2,    263.2,2,   263.2,2,   19.85,2,   18.10,2,    0.00,2,    1.23,2,   0.710,2,   0.380,2,   0.029,2,    0.00,4,    -999,9,    -999,9,     -999,9,     -999,    -999,9,     -999,9,    -999,9,   3.0460,2,    -999,9,    -999,9,    -999,    -999,9,    -999,    0.72,2,   40.16,2,   20.25,2,  18.9844, -66.0045,    -999,     -999,    -999,   2.8389,   3.0460,2,-999,9,-999,-999,9,-999,    35.1083,2,-999,9,20120408,        750