BOTTLE,20220725CCHSIOCBG
EXPOCODE,SECT_ID,STNNBR,CASTNO,SAMPNO,BTLNBR,BTLNBR_FLAG_W,DATE,TIME,LATITUDE,LONGITUDE,DEPTH,CTDPRS,CTDTMP,CTDSAL,CTDSAL_FLAG_W,SALNTY,SALNTY_FLAG_W,CTDOXY,CTDOXY_FLAG_W,OXYGEN,OXYGEN_FLAG_W,SILCAT,SILCAT_FLAG_W,NITRAT,NITRAT_FLAG_W,NITRIT,NITRIT_FLAG_W,PHSPHT,PHSPHT_FLAG_W,CFC-11,CFC-11_FLAG_W,CFC-12,CFC-12_FLAG_W,CFC113,CFC113_FLAG_W,SF6,SF6_FLAG_W,TCARBN,TCARBN_FLAG_W,ALKALI,ALKALI_FLAG_W,PH_TOT,PH_TOT_FLAG_W,PH_TMP,TRITUM,TRITUM_FLAG_W,HELIUM,HELIUM_FLAG_W,DELHE3,DELHE3_FLAG_W,REFTMP,REFTMP_FLAG_W,DELC13,DELC13_FLAG_W,DELC14,DELC14_FLAG_W,C14ERR,NEON,NEON_FLAG_W,NEONER,CCL4,CCL4_FLAG_W,DOC,DOC_FLAG_W,TDN,TDN_FLAG_W,BTL_LAT,BTL_LON,TRITER,HELIER,DELHER,THETA,SBE35,SBE35_FLAG_W,14C-DOC,14C-DOC_FLAG_W,14C-DOCERR,13C-DOC,13C-DOC_FLAG_W,13C-DOCERR,SALTREF,SALTREF_FLAG_W,LAB_DEN,LAB_DEN_FLAG_W,BTL_DATE,BTL_TIME
,,,,,,,,,,,METERS,DBAR,ITS-90,PSS-78,,PSS-78,,UMOL/KG,,UMOL/KG,,UMOL/KG,,UMOL/KG,,UMOL/KG,,UMOL/KG,,PMOL/KG,,PMOL/KG,,PMOL/KG,,FMOL/KG,,UMOL/KG,,UMOL/KG,,,,DEG C,TU,,NMOL/KG,,PERCNT,,DEG C,,/MILLE,,/MILLE,,/MILLE,NMOL/KG,,NMOL/KG,PMOL/KG,,UMOL/KG,,UMOL/KG,,,,TU,NMOL/KG,PERCNT,DEG C,ITS-90,,/MILLE,,/MILLE,/MILLE,,/MILLE,G/KG,,KG/M^3,,,
33AT20120324,        A22,      43,          1,          5,          5,2,20120406,       1939,    20.8317,   -65.9783,       5387,  4161.7,   2.2641,  34.8900,2,  34.8892,2,    264.1,2,   264.2,2,   31.13,2,   18.75,2,    0.00,2,    1.30,2,   0.635,2,   0.329,2,   0.038,2,    0.08,4,    -999,9,    -999,9,     -999,9,     -999,    -999,9,     -999,9,    -999,9,   2.2645,2,    -999,9,    -999,9,    -999,    -999,9,    -999,    0.80,2,   40.79,2,   22.22,2,  20.8321, -65.9780,    -999,     -999,    -999,   1.9039,   2.2645,2,-999,9,-999,-999,9,-999,    35.0537,2,-999,9,20120406,       2005
33AT20120324,        A22,      43,          1,          4,          4,2,20120406,       1939,    20.8317,   -65.9783,       5387,  4468.3,   2.2439,  34.8848,2,  34.8817,2,    262.1,2,   262.1,2,   34.15,2,   19.20,2,    0.00,2,    1.33,2,   0.569,2,   0.318,2,   0.039,2,    0.00,4,  2180.0,2, 2331.07,2,   7.7411,2,       25,    -999,9,     -999,9,    -999,9,   2.2447,2,    -999,9,    -999,9,    -999,    -999,9,    -999,    0.69,2,   41.92,2,   22.97,2,  20.8320, -65.9781,    -999,     -999,    -999,   1.8483,   2.2447,2,-999,9,-999,-999,9,-999,    35.0462,2,-999,9,20120406,       1959
33AT20120324,        A22,      43,          1,          3,          3,2,20120406,       1939,    20.8317,   -65.9783,       5387,  4777.5,   2.2200,  34.8776,2,  34.8778,2,    259.0,2,   259.3,2,   38.37,2,   19.85,2,    0.00,2,    1.38,2,   0.438,2,   0.238,2,   0.030,2,    0.00,4,  2184.7,2, 2336.52,2,   7.7312,2,       25,    -999,9,     -999,9,    -999,9,   2.2204,2,    -999,9,    -999,9,    -999,    -999,9,    -999,    0.59,2,   41.56,2,   22.24,2,  20.8319, -65.9781,    -999,     -999,    -999,   1.7877,   2.2204,2,-999,9,-999,-999,9,-999,    35.0422,2,-999,9,20120406,       1953
33AT20120324,        A22,      43,          1,          2,          2,2,20120406,       1939,    20.8317,   -65.9783,       5387,  5126.4,   2.1162,  34.8596,2,  34.8599,2,    252.3,2,   252.6,2,   48.01,2,   21.39,2,    0.00,2,    1.48,2,   0.243,2,   0.145,2,   0.024,2,    0.00,4,  2195.4,2, 2341.37,6,   7.7230,2,       25,    -999,9,     -999,9,    -999,9,   2.1159,2,    -999,9,    -999,9,    -999,    -999,9,    -999,    0.41,2,   40.57,2,   23.48,2,  20.8318, -65.9782,    -999,     -999,    -999,   1.6439,   2.1159,2,-999,9,-999,-999,9,-999,    35.0243,2,-999,9,20120406,       1947
33AT20120324,        A22,      43,          1,          1,          1,2,20120406,       1939,    20.8317,   -65.9783,       5387,  5464.3,   1.9326,  34.8317,2,  34.8316,2,    244.3,2,   244.4,2,   61.77,2,   23.58,2,    0.00,2,    1.63,2,   0.101,2,   0.063,2,   0.007,2,    0.00,4,  2210.7,6, 2348.18,2,   7.7046,2,       25,    -999,9,     -999,9,    -999,9,   1.9325,2,    -999,9,    -999,9,    -999,    -999,9,    -999,    0.24,2,   40.17,2,   26.22,2,  20.8317, -65.9783,    -999,     -999,    -999,   1.4237,   1.9325,2,-999,9,-999,-999,9,-999,    34.9958,2,-999,9,20120406,       1940