BOTTLE,20220725CCHSIOCBG
EXPOCODE,SECT_ID,STNNBR,CASTNO,SAMPNO,BTLNBR,BTLNBR_FLAG_W,DATE,TIME,LATITUDE,LONGITUDE,DEPTH,CTDPRS,CTDTMP,CTDSAL,CTDSAL_FLAG_W,SALNTY,SALNTY_FLAG_W,CTDOXY,CTDOXY_FLAG_W,OXYGEN,OXYGEN_FLAG_W,SILCAT,SILCAT_FLAG_W,NITRAT,NITRAT_FLAG_W,NITRIT,NITRIT_FLAG_W,PHSPHT,PHSPHT_FLAG_W,CFC-11,CFC-11_FLAG_W,CFC-12,CFC-12_FLAG_W,CFC113,CFC113_FLAG_W,SF6,SF6_FLAG_W,TCARBN,TCARBN_FLAG_W,ALKALI,ALKALI_FLAG_W,PH_TOT,PH_TOT_FLAG_W,PH_TMP,TRITUM,TRITUM_FLAG_W,HELIUM,HELIUM_FLAG_W,DELHE3,DELHE3_FLAG_W,REFTMP,REFTMP_FLAG_W,DELC13,DELC13_FLAG_W,DELC14,DELC14_FLAG_W,C14ERR,NEON,NEON_FLAG_W,NEONER,CCL4,CCL4_FLAG_W,DOC,DOC_FLAG_W,TDN,TDN_FLAG_W,BTL_LAT,BTL_LON,TRITER,HELIER,DELHER,THETA,SBE35,SBE35_FLAG_W,14C-DOC,14C-DOC_FLAG_W,14C-DOCERR,13C-DOC,13C-DOC_FLAG_W,13C-DOCERR,SALTREF,SALTREF_FLAG_W,LAB_DEN,LAB_DEN_FLAG_W,BTL_DATE,BTL_TIME
,,,,,,,,,,,METERS,DBAR,ITS-90,PSS-78,,PSS-78,,UMOL/KG,,UMOL/KG,,UMOL/KG,,UMOL/KG,,UMOL/KG,,UMOL/KG,,PMOL/KG,,PMOL/KG,,PMOL/KG,,FMOL/KG,,UMOL/KG,,UMOL/KG,,,,DEG C,TU,,NMOL/KG,,PERCNT,,DEG C,,/MILLE,,/MILLE,,/MILLE,NMOL/KG,,NMOL/KG,PMOL/KG,,UMOL/KG,,UMOL/KG,,,,TU,NMOL/KG,PERCNT,DEG C,ITS-90,,/MILLE,,/MILLE,/MILLE,,/MILLE,G/KG,,KG/M^3,,,
33AT20120324,        A22,      31,          1,          5,          5,2,20120402,       2004,    29.2038,   -65.4269,       5100,  4163.1,   2.2752,  34.8917,2,  34.8907,2,    264.9,2,   266.0,3,   30.80,2,   18.94,2,    0.00,2,    1.28,2,   0.627,2,   0.329,2,   0.038,2,    0.00,4,    -999,9,    -999,9,     -999,9,     -999,    -999,9,     -999,9,    -999,9,   2.2755,2,    -999,9,    -999,9,    -999,    -999,9,    -999,    0.87,2,   42.48,2,   21.72,2,  29.2027, -65.4263,    -999,     -999,    -999,   1.9145,   2.2755,2,-999,9,-999,-999,9,-999,    35.0552,2,-999,9,20120402,       2025
33AT20120324,        A22,      31,          1,          4,          4,2,20120402,       2004,    29.2038,   -65.4269,       5100,  4473.5,   2.2373,  34.8840,2,  34.8834,2,     -999,9,    -999,5,   35.00,2,   19.70,2,    0.00,2,    1.33,2,   0.522,2,   0.289,2,   0.032,2,    0.18,4,  2178.3,2, 2332.02,2,   7.7359,2,       25,    -999,9,     -999,9,    -999,9,   2.2370,2,    -999,9,    -999,9,    -999,    -999,9,    -999,    0.70,2,   42.78,2,   22.30,2,  29.2031, -65.4265,    -999,     -999,    -999,   1.8413,   2.2370,2,-999,9,-999,-999,9,-999,    35.0479,2,-999,9,20120402,       2019
33AT20120324,        A22,      31,          1,          3,          3,2,20120402,       2004,    29.2038,   -65.4269,       5100,  4782.2,   2.1989,  34.8752,2,  34.8749,2,    257.7,2,   261.5,3,   40.22,2,   20.65,2,    0.00,2,    1.39,2,   0.361,2,   0.202,2,   0.025,2,    0.10,4,  2185.9,2, 2336.07,2,   7.7316,2,       25,    -999,9,     -999,9,    -999,9,   2.1988,2,    -999,9,    -999,9,    -999,    -999,9,    -999,    0.55,2,   42.14,2,   23.28,2,  29.2033, -65.4266,    -999,     -999,    -999,   1.7667,   2.1988,2,-999,9,-999,-999,9,-999,    35.0394,2,-999,9,20120402,       2013
33AT20120324,        A22,      31,          1,          2,          2,2,20120402,       2004,    29.2038,   -65.4269,       5100,  5004.0,   2.2023,  34.8721,2,  34.8730,2,    256.4,2,   260.2,3,   42.01,2,   20.94,2,    0.00,2,    1.41,2,   0.312,2,   0.182,2,   0.024,2,    0.15,4,  2186.6,2, 2336.23,6,   7.7319,2,       25,    -999,9,     -999,9,    -999,9,   2.2022,2,    -999,9,    -999,9,    -999,    -999,9,    -999,    0.51,2,   42.35,2,   24.94,2,  29.2035, -65.4267,    -999,     -999,    -999,   1.7424,   2.2022,2,-999,9,-999,-999,9,-999,    35.0374,2,-999,9,20120402,       2009
33AT20120324,        A22,      31,          1,          1,          1,2,20120402,       2004,    29.2038,   -65.4269,       5100,  5184.8,   2.2081,  34.8697,2,  34.8702,2,    255.6,2,   256.7,3,   43.24,2,   21.23,2,    0.00,2,    1.42,2,   0.268,2,   0.160,2,   0.022,2,    0.16,4,  2191.3,6, 2342.13,2,   7.7517,3,       25,    -999,9,     -999,9,    -999,9,   2.2088,2,    -999,9,    -999,9,    -999,    -999,9,    -999,    0.47,2,   42.17,2,   25.00,2,  29.2038, -65.4269,    -999,     -999,    -999,   1.7251,   2.2088,2,-999,9,-999,-999,9,-999,    35.0347,2,-999,9,20120402,       2005