BOTTLE,20220725CCHSIOCBG
EXPOCODE,SECT_ID,STNNBR,CASTNO,SAMPNO,BTLNBR,BTLNBR_FLAG_W,DATE,TIME,LATITUDE,LONGITUDE,DEPTH,CTDPRS,CTDTMP,CTDSAL,CTDSAL_FLAG_W,SALNTY,SALNTY_FLAG_W,CTDOXY,CTDOXY_FLAG_W,OXYGEN,OXYGEN_FLAG_W,SILCAT,SILCAT_FLAG_W,NITRAT,NITRAT_FLAG_W,NITRIT,NITRIT_FLAG_W,PHSPHT,PHSPHT_FLAG_W,CFC-11,CFC-11_FLAG_W,CFC-12,CFC-12_FLAG_W,CFC113,CFC113_FLAG_W,SF6,SF6_FLAG_W,TCARBN,TCARBN_FLAG_W,ALKALI,ALKALI_FLAG_W,PH_TOT,PH_TOT_FLAG_W,PH_TMP,TRITUM,TRITUM_FLAG_W,HELIUM,HELIUM_FLAG_W,DELHE3,DELHE3_FLAG_W,REFTMP,REFTMP_FLAG_W,DELC13,DELC13_FLAG_W,DELC14,DELC14_FLAG_W,C14ERR,NEON,NEON_FLAG_W,NEONER,CCL4,CCL4_FLAG_W,DOC,DOC_FLAG_W,TDN,TDN_FLAG_W,BTL_LAT,BTL_LON,TRITER,HELIER,DELHER,THETA,SBE35,SBE35_FLAG_W,14C-DOC,14C-DOC_FLAG_W,14C-DOCERR,13C-DOC,13C-DOC_FLAG_W,13C-DOCERR,SALTREF,SALTREF_FLAG_W,LAB_DEN,LAB_DEN_FLAG_W,BTL_DATE,BTL_TIME
,,,,,,,,,,,METERS,DBAR,ITS-90,PSS-78,,PSS-78,,UMOL/KG,,UMOL/KG,,UMOL/KG,,UMOL/KG,,UMOL/KG,,UMOL/KG,,PMOL/KG,,PMOL/KG,,PMOL/KG,,FMOL/KG,,UMOL/KG,,UMOL/KG,,,,DEG C,TU,,NMOL/KG,,PERCNT,,DEG C,,/MILLE,,/MILLE,,/MILLE,NMOL/KG,,NMOL/KG,PMOL/KG,,UMOL/KG,,UMOL/KG,,,,TU,NMOL/KG,PERCNT,DEG C,ITS-90,,/MILLE,,/MILLE,/MILLE,,/MILLE,G/KG,,KG/M^3,,,
33AT20120324,        A22,      73,          1,          5,          5,2,20120413,       0628,    13.5688,   -69.8089,       4195,  2949.1,   4.1569,  34.9745,2,  34.9732,2,    215.6,2,   215.6,2,   28.74,2,   22.07,2,    0.00,2,    1.50,2,   0.050,2,   0.043,2,   0.006,2,    0.00,4,    -999,9,    -999,9,     -999,9,     -999,    -999,9,     -999,9,    -999,9,   4.1567,2,    -999,9,    -999,9,    -999,    -999,9,    -999,    0.10,2,   40.36,2,   24.32,2,  13.5697, -69.8081,    -999,     -999,    -999,   3.8869,   4.1567,2,-999,9,-999,-999,9,-999,    35.1382,2,-999,9,20120413,        655
33AT20120324,        A22,      73,          1,          4,          4,2,20120413,       0628,    13.5688,   -69.8089,       4195,  3204.4,   4.1827,  34.9747,2,  34.9742,2,    216.0,2,   215.8,2,   28.82,2,   22.06,2,    0.00,2,    1.50,2,   0.051,2,   0.042,2,   0.008,2,    0.00,4,    -999,9,    -999,9,     -999,9,     -999,    -999,9,     -999,9,    -999,9,   4.1828,2,    -999,9,    -999,9,    -999,    -999,9,    -999,    0.10,2,   40.63,2,   24.23,2,  13.5695, -69.8083,    -999,     -999,    -999,   3.8832,   4.1828,2,-999,9,-999,-999,9,-999,    35.1391,2,-999,9,20120413,        650
33AT20120324,        A22,      73,          1,          3,          3,2,20120413,       0628,    13.5688,   -69.8089,       4195,  3455.2,   4.2101,  34.9746,2,  34.9745,2,    216.1,2,   216.1,2,   28.84,2,   22.03,2,    0.00,2,    1.49,2,   0.057,2,   0.046,2,   0.005,2,    0.00,4,    -999,9,    -999,9,     -999,9,     -999,    -999,9,   1.8447,2,    0.90,2,   4.2099,2,    -999,9,    -999,9,    -999,   7.918,2,   0.036,    0.11,2,   41.32,2,   24.14,2,  13.5694, -69.8084,    -999,   0.0074,    0.15,   3.8807,   4.2099,2,-999,9,-999,-999,9,-999,    35.1394,2,-999,9,20120413,        645
33AT20120324,        A22,      73,          1,          2,          2,2,20120413,       0628,    13.5688,   -69.8089,       4195,  3853.8,   4.2574,  34.9747,2,  34.9732,2,    216.3,2,   216.6,2,   28.91,2,   22.00,2,    0.00,2,    1.48,2,   0.071,2,   0.052,2,   0.005,2,    0.00,4,  2202.2,2, 2338.50,6,   7.7120,6,       25,    -999,9,     -999,9,    -999,9,   4.2571,2,    -999,9,    -999,9,    -999,    -999,9,    -999,    0.13,2,   41.44,2,   25.19,2,  13.5691, -69.8086,    -999,     -999,    -999,   3.8786,   4.2571,2,-999,9,-999,-999,9,-999,    35.1381,2,-999,9,20120413,        636
33AT20120324,        A22,      73,          1,          1,          1,2,20120413,       0628,    13.5688,   -69.8089,       4195,  4163.4,   4.2973,  34.9745,2,  34.9747,2,    216.6,2,   216.8,2,   28.95,2,   21.98,2,    0.00,2,    1.49,2,   0.074,2,   0.059,2,   0.007,2,    0.00,4,  2197.7,6, 2340.65,2,   7.7125,2,       25,    -999,9,     -999,9,    -999,9,   4.2975,2,    -999,9,    -999,9,    -999,    -999,9,    -999,    0.14,2,   41.54,2,   24.38,2,  13.5686, -69.8088,    -999,     -999,    -999,   3.8785,   4.2975,2,-999,9,-999,-999,9,-999,    35.1396,2,-999,9,20120413,        623