BOTTLE,20220725CCHSIOCBG
EXPOCODE,SECT_ID,STNNBR,CASTNO,SAMPNO,BTLNBR,BTLNBR_FLAG_W,DATE,TIME,LATITUDE,LONGITUDE,DEPTH,CTDPRS,CTDTMP,CTDSAL,CTDSAL_FLAG_W,SALNTY,SALNTY_FLAG_W,CTDOXY,CTDOXY_FLAG_W,OXYGEN,OXYGEN_FLAG_W,SILCAT,SILCAT_FLAG_W,NITRAT,NITRAT_FLAG_W,NITRIT,NITRIT_FLAG_W,PHSPHT,PHSPHT_FLAG_W,CFC-11,CFC-11_FLAG_W,CFC-12,CFC-12_FLAG_W,CFC113,CFC113_FLAG_W,SF6,SF6_FLAG_W,TCARBN,TCARBN_FLAG_W,ALKALI,ALKALI_FLAG_W,PH_TOT,PH_TOT_FLAG_W,PH_TMP,TRITUM,TRITUM_FLAG_W,HELIUM,HELIUM_FLAG_W,DELHE3,DELHE3_FLAG_W,REFTMP,REFTMP_FLAG_W,DELC13,DELC13_FLAG_W,DELC14,DELC14_FLAG_W,C14ERR,NEON,NEON_FLAG_W,NEONER,CCL4,CCL4_FLAG_W,DOC,DOC_FLAG_W,TDN,TDN_FLAG_W,BTL_LAT,BTL_LON,TRITER,HELIER,DELHER,THETA,SBE35,SBE35_FLAG_W,14C-DOC,14C-DOC_FLAG_W,14C-DOCERR,13C-DOC,13C-DOC_FLAG_W,13C-DOCERR,SALTREF,SALTREF_FLAG_W,LAB_DEN,LAB_DEN_FLAG_W,BTL_DATE,BTL_TIME
,,,,,,,,,,,METERS,DBAR,ITS-90,PSS-78,,PSS-78,,UMOL/KG,,UMOL/KG,,UMOL/KG,,UMOL/KG,,UMOL/KG,,UMOL/KG,,PMOL/KG,,PMOL/KG,,PMOL/KG,,FMOL/KG,,UMOL/KG,,UMOL/KG,,,,DEG C,TU,,NMOL/KG,,PERCNT,,DEG C,,/MILLE,,/MILLE,,/MILLE,NMOL/KG,,NMOL/KG,PMOL/KG,,UMOL/KG,,UMOL/KG,,,,TU,NMOL/KG,PERCNT,DEG C,ITS-90,,/MILLE,,/MILLE,/MILLE,,/MILLE,G/KG,,KG/M^3,,,
33AT20120324,        A22,      44,          1,          5,          5,2,20120407,       0225,    20.3587,   -66.0000,       5979,  4469.8,   2.2542,  34.8850,2,  34.8802,3,    262.7,2,   262.7,2,   33.62,2,   19.23,2,    0.00,2,    1.32,2,   0.768,2,   0.372,2,   0.046,2,    0.07,2,  2180.8,2, 2330.54,2,   7.7352,2,       25,    -999,9,     -999,9,    -999,9,   2.2544,2,    -999,9,    -999,9,    -999,    -999,9,    -999,    -999,1,    -999,9,    -999,9,  20.3592, -65.9998,    -999,     -999,    -999,   1.8581,   2.2544,2,-999,9,-999,-999,9,-999,    35.0447,3,-999,9,20120407,        259
33AT20120324,        A22,      44,          1,          4,          4,2,20120407,       0225,    20.3587,   -66.0000,       5979,  4881.8,   2.2182,  34.8757,2,  34.8705,3,    258.6,2,   258.2,2,   39.47,2,   20.15,2,    0.00,2,    1.39,2,   0.525,2,   0.254,2,   0.029,2,    0.02,2,    -999,9,    -999,9,     -999,9,     -999,   0.098,2,   1.8768,2,    4.61,2,   2.2184,2,    -999,9,    -999,9,    -999,   8.185,2,   0.037,    -999,1,    -999,9,    -999,9,  20.3590, -65.9999,   0.008,   0.0075,    0.15,   1.7731,   2.2184,2,-999,9,-999,-999,9,-999,    35.0350,3,-999,9,20120407,        251
33AT20120324,        A22,      44,          1,          3,          3,2,20120407,       0225,    20.3587,   -66.0000,       5979,  5293.0,   2.0268,  34.8463,2,  34.8438,3,    248.9,2,   248.3,2,   55.01,2,   22.65,2,    0.00,2,    1.55,2,   0.221,2,   0.107,2,   0.013,2,    0.00,2,  2203.2,2, 2346.29,2,   7.7166,2,       25,    -999,9,     -999,9,    -999,9,   2.0276,2,    -999,9,    -999,9,    -999,    -999,9,    -999,    -999,1,    -999,9,    -999,9,  20.3588, -66.0000,    -999,     -999,    -999,   1.5365,   2.0276,2,-999,9,-999,-999,9,-999,    35.0081,3,-999,9,20120407,        243
33AT20120324,        A22,      44,          1,          2,          2,2,20120407,       0225,    20.3587,   -66.0000,       5979,  5706.5,   1.9833,  34.8336,2,  34.8304,3,    243.8,2,   244.9,2,   60.97,2,   23.55,2,    0.00,2,    1.62,2,   0.169,2,   0.079,2,   0.009,2,    0.00,2,  2208.6,2, 2347.47,6,   7.7085,6,       25,    -999,9,     -999,9,    -999,9,   1.9833,2,    -999,9,    -999,9,    -999,    -999,9,    -999,    -999,1,    -999,9,    -999,9,  20.3587, -66.0000,    -999,     -999,    -999,   1.4407,   1.9833,2,-999,9,-999,-999,9,-999,    34.9947,3,-999,9,20120407,        235
33AT20120324,        A22,      44,          1,          1,          1,2,20120407,       0225,    20.3587,   -66.0000,       5979,  6095.7,   2.0208,  34.8312,2,  34.8314,2,    244.3,2,   244.3,2,   61.75,2,   23.64,2,    0.00,2,    1.63,2,   0.178,2,   0.087,2,   0.010,2,    0.00,2,  2212.7,6, 2348.50,2,   7.7069,2,       25,   0.040,2,   1.8869,2,    4.92,2,   2.0211,2,    -999,9,    -999,9,    -999,   8.195,2,   0.037,    -999,1,    -999,9,    -999,9,  20.3588, -66.0000,   0.008,   0.0075,    0.15,   1.4243,   2.0211,2,-999,9,-999,-999,9,-999,    34.9957,2,-999,9,20120407,        226