BOTTLE,20220725CCHSIOCBG
EXPOCODE,SECT_ID,STNNBR,CASTNO,SAMPNO,BTLNBR,BTLNBR_FLAG_W,DATE,TIME,LATITUDE,LONGITUDE,DEPTH,CTDPRS,CTDTMP,CTDSAL,CTDSAL_FLAG_W,SALNTY,SALNTY_FLAG_W,CTDOXY,CTDOXY_FLAG_W,OXYGEN,OXYGEN_FLAG_W,SILCAT,SILCAT_FLAG_W,NITRAT,NITRAT_FLAG_W,NITRIT,NITRIT_FLAG_W,PHSPHT,PHSPHT_FLAG_W,CFC-11,CFC-11_FLAG_W,CFC-12,CFC-12_FLAG_W,CFC113,CFC113_FLAG_W,SF6,SF6_FLAG_W,TCARBN,TCARBN_FLAG_W,ALKALI,ALKALI_FLAG_W,PH_TOT,PH_TOT_FLAG_W,PH_TMP,TRITUM,TRITUM_FLAG_W,HELIUM,HELIUM_FLAG_W,DELHE3,DELHE3_FLAG_W,REFTMP,REFTMP_FLAG_W,DELC13,DELC13_FLAG_W,DELC14,DELC14_FLAG_W,C14ERR,NEON,NEON_FLAG_W,NEONER,CCL4,CCL4_FLAG_W,DOC,DOC_FLAG_W,TDN,TDN_FLAG_W,BTL_LAT,BTL_LON,TRITER,HELIER,DELHER,THETA,SBE35,SBE35_FLAG_W,14C-DOC,14C-DOC_FLAG_W,14C-DOCERR,13C-DOC,13C-DOC_FLAG_W,13C-DOCERR,SALTREF,SALTREF_FLAG_W,LAB_DEN,LAB_DEN_FLAG_W,BTL_DATE,BTL_TIME
,,,,,,,,,,,METERS,DBAR,ITS-90,PSS-78,,PSS-78,,UMOL/KG,,UMOL/KG,,UMOL/KG,,UMOL/KG,,UMOL/KG,,UMOL/KG,,PMOL/KG,,PMOL/KG,,PMOL/KG,,FMOL/KG,,UMOL/KG,,UMOL/KG,,,,DEG C,TU,,NMOL/KG,,PERCNT,,DEG C,,/MILLE,,/MILLE,,/MILLE,NMOL/KG,,NMOL/KG,PMOL/KG,,UMOL/KG,,UMOL/KG,,,,TU,NMOL/KG,PERCNT,DEG C,ITS-90,,/MILLE,,/MILLE,/MILLE,,/MILLE,G/KG,,KG/M^3,,,
33AT20120324,        A22,      58,          1,         22,         22,2,20120409,       1935,    17.7340,   -66.0002,       1005,     3.0,  27.2376,  35.9475,2,  35.9508,2,    201.1,2,   201.7,2,    1.40,2,    0.00,2,    0.00,2,    0.00,2,   1.634,2,   1.054,2,   0.132,2,    1.12,2,  2007.5,6, 2358.98,2,   8.1115,2,       25,    -999,9,     -999,9,    -999,9,  27.2359,2,    -999,9,    -999,9,    -999,    -999,9,    -999,    -999,1,    -999,9,    -999,9,  17.7372, -66.0009,    -999,     -999,    -999,  27.2369,  27.2359,2,-999,9,-999,-999,9,-999,    36.1204,2,-999,9,20120409,       2017
33AT20120324,        A22,      58,          1,         21,         21,2,20120409,       1935,    17.7340,   -66.0002,       1005,    20.7,  26.8299,  36.0103,2,  36.0109,2,    202.7,2,   203.3,2,    1.31,2,    0.00,2,    0.00,2,    0.00,2,   1.648,2,   1.067,2,   0.138,2,    1.26,2,    -999,9,    -999,9,     -999,9,     -999,    -999,9,     -999,9,    -999,9,  26.8339,2,    -999,9,    -999,9,    -999,    -999,9,    -999,    -999,1,    -999,9,    -999,9,  17.7372, -66.0009,    -999,     -999,    -999,  26.8252,  26.8339,2,-999,9,-999,-999,9,-999,    36.1807,2,-999,9,20120409,       2015
33AT20120324,        A22,      58,          1,         20,         20,2,20120409,       1935,    17.7340,   -66.0002,       1005,    40.5,  26.6079,  36.0525,2,  36.0542,2,    205.1,2,   204.3,2,    1.23,2,    0.00,2,    0.00,2,    0.00,2,    -999,5,   0.000,2,   0.138,2,    1.09,2,  2010.7,2,    -999,9,   8.1129,6,       25,    -999,9,     -999,9,    -999,9,  26.6048,2,    -999,9,    -999,9,    -999,    -999,9,    -999,    -999,1,    -999,9,    -999,9,  17.7373, -66.0009,    -999,     -999,    -999,  26.5987,  26.6048,2,-999,9,-999,-999,9,-999,    36.2242,2,-999,9,20120409,       2013
33AT20120324,        A22,      58,          1,         19,         19,2,20120409,       1935,    17.7340,   -66.0002,       1005,    65.7,  26.4418,  36.1477,2,  36.1561,2,    205.5,2,   203.9,2,    1.13,2,    0.00,2,    0.00,2,    0.00,2,   1.660,2,   1.050,2,   0.137,2,    1.12,2,    -999,9,    -999,9,     -999,9,     -999,    -999,9,     -999,9,    -999,9,  26.4416,2,    -999,9,    -999,9,    -999,    -999,9,    -999,    -999,1,    -999,9,    -999,9,  17.7374, -66.0009,    -999,     -999,    -999,  26.4269,  26.4416,2,-999,9,-999,-999,9,-999,    36.3266,2,-999,9,20120409,       2011
33AT20120324,        A22,      58,          1,         18,         18,2,20120409,       1935,    17.7340,   -66.0002,       1005,    91.5,  26.2208,  36.2935,2,  36.3320,2,    200.2,2,   198.3,2,    0.95,2,    0.00,2,    0.00,2,    0.00,2,   1.674,2,   1.072,2,   0.117,2,    1.15,2,  2029.3,2, 2381.86,2,   8.1043,2,       25,    -999,9,     -999,9,    -999,9,  26.2199,2,    -999,9,    -999,9,    -999,    -999,9,    -999,    -999,1,    -999,9,    -999,9,  17.7373, -66.0009,    -999,     -999,    -999,  26.2002,  26.2199,2,-999,9,-999,-999,9,-999,    36.5033,2,-999,9,20120409,       2009
33AT20120324,        A22,      58,          1,         17,         17,2,20120409,       1935,    17.7340,   -66.0002,       1005,   115.4,  25.4285,  36.9100,2,  36.9171,2,    179.8,2,   179.8,2,    0.63,2,    0.34,2,    0.11,2,    0.00,2,   1.754,2,   1.088,2,   0.114,2,    1.14,2,    -999,9,    -999,9,     -999,9,     -999,    -999,9,     -999,9,    -999,9,  25.4345,2,    -999,9,    -999,9,    -999,    -999,9,    -999,    -999,1,    -999,9,    -999,9,  17.7372, -66.0010,    -999,     -999,    -999,  25.4030,  25.4345,2,-999,9,-999,-999,9,-999,    37.0911,2,-999,9,20120409,       2007
33AT20120324,        A22,      58,          1,         16,         16,2,20120409,       1935,    17.7340,   -66.0002,       1005,   140.2,  24.0152,  37.0672,2,  37.0529,2,    167.6,2,   174.9,2,    0.70,2,    1.82,2,    0.05,2,    0.08,2,   1.836,2,   1.164,2,   0.102,2,    1.14,2,  2111.8,2,    -999,9,   8.0245,2,       25,    -999,9,     -999,9,    -999,9,  24.0182,2,    -999,9,    -999,9,    -999,    -999,9,    -999,    -999,1,    -999,9,    -999,9,  17.7370, -66.0010,    -999,     -999,    -999,  23.9854,  24.0182,2,-999,9,-999,-999,9,-999,    37.2276,2,-999,9,20120409,       2005
33AT20120324,        A22,      58,          1,         15,         15,2,20120409,       1935,    17.7340,   -66.0002,       1005,   164.9,  22.8640,  37.0383,2,  37.0394,2,    173.9,2,   175.0,2,    0.59,2,    1.78,2,    0.04,2,    0.06,2,   1.930,2,   1.241,2,   0.094,2,    1.17,2,    -999,9,    -999,9,     -999,9,     -999,    -999,9,     -999,9,    -999,9,  22.8600,2,    -999,9,    -999,9,    -999,    -999,9,    -999,    -999,1,    -999,9,    -999,9,  17.7368, -66.0010,    -999,     -999,    -999,  22.8302,  22.8600,2,-999,9,-999,-999,9,-999,    37.2140,2,-999,9,20120409,       2004
33AT20120324,        A22,      58,          1,         14,         14,2,20120409,       1935,    17.7340,   -66.0002,       1005,   191.4,  21.1546,  36.9257,2,  36.9295,2,    168.7,2,   167.6,2,    0.84,2,    3.22,2,    0.01,2,    0.13,2,   2.047,2,   1.268,2,   0.045,2,    1.12,2,    -999,9,    -999,9,     -999,9,     -999,    -999,9,     -999,9,    -999,9,  21.1774,2,    -999,9,    -999,9,    -999,    -999,9,    -999,    -999,1,    -999,9,    -999,9,  17.7366, -66.0011,    -999,     -999,    -999,  21.1174,  21.1774,2,-999,9,-999,-999,9,-999,    37.1037,2,-999,9,20120409,       2002
33AT20120324,        A22,      58,          1,         13,         13,2,20120409,       1935,    17.7340,   -66.0002,       1005,   216.0,  19.8867,  36.7448,2,  36.7555,2,    159.6,2,   158.0,2,    1.60,2,    5.90,2,    0.01,2,    0.28,2,   2.106,2,   1.295,2,   0.017,2,    1.09,2,    -999,9,    -999,9,     -999,9,     -999,    -999,9,     -999,9,    -999,9,  19.8637,2,    -999,9,    -999,9,    -999,    -999,9,    -999,    -999,1,    -999,9,    -999,9,  17.7363, -66.0010,    -999,     -999,    -999,  19.8465,  19.8637,2,-999,9,-999,-999,9,-999,    36.9288,2,-999,9,20120409,       2000
33AT20120324,        A22,      58,          1,         12,         12,2,20120409,       1935,    17.7340,   -66.0002,       1005,   240.6,  19.1948,  36.6844,2,  36.6882,2,    155.1,2,   166.7,2,    1.37,2,    5.61,2,    0.01,2,    0.26,2,   2.178,2,   1.333,2,   0.024,2,    1.16,2,  2140.5,2, 2396.73,2,   7.9383,2,       25,    -999,9,     -999,9,    -999,9,  19.1943,2,    -999,9,    -999,9,    -999,    -999,9,    -999,    -999,1,    -999,9,    -999,9,  17.7362, -66.0010,    -999,     -999,    -999,  19.1511,  19.1943,2,-999,9,-999,-999,9,-999,    36.8613,2,-999,9,20120409,       1959
33AT20120324,        A22,      58,          1,         11,         11,2,20120409,       1935,    17.7340,   -66.0002,       1005,   285.8,  17.7112,  36.4216,2,  36.4195,2,    159.3,2,   156.2,2,    2.71,2,    9.35,2,    0.01,2,    0.51,2,   2.209,2,   1.263,2,   0.019,2,    0.99,2,    -999,9,    -999,9,     -999,9,     -999,    -999,9,     -999,9,    -999,9,  17.7103,2,    -999,9,    -999,9,    -999,    -999,9,    -999,    -999,1,    -999,9,    -999,9,  17.7361, -66.0010,    -999,     -999,    -999,  17.6621,  17.7103,2,-999,9,-999,-999,9,-999,    36.5912,2,-999,9,20120409,       1957
33AT20120324,        A22,      58,          1,         10,         10,2,20120409,       1935,    17.7340,   -66.0002,       1005,   336.3,  16.0101,  36.1428,2,  36.1445,2,    158.8,2,   155.4,2,    3.87,2,   12.15,2,    0.01,2,    0.69,2,   2.242,2,   1.164,2,   0.014,2,    0.89,2,  2155.7,2,    -999,9,   7.8539,2,       25,    -999,9,     -999,9,    -999,9,  16.0004,2,    -999,9,    -999,9,    -999,    -999,9,    -999,    -999,1,    -999,9,    -999,9,  17.7360, -66.0010,    -999,     -999,    -999,  15.9562,  16.0004,2,-999,9,-999,-999,9,-999,    36.3150,2,-999,9,20120409,       1956
33AT20120324,        A22,      58,          1,          9,          9,2,20120409,       1935,    17.7340,   -66.0002,       1005,   386.7,  13.8352,  35.7134,2,  35.7153,2,    134.0,2,   133.4,2,    6.94,2,   18.09,2,    0.00,2,    1.10,2,   2.077,2,   1.165,2,   0.016,2,    0.62,2,    -999,9,    -999,9,     -999,9,     -999,    -999,9,     -999,9,    -999,9,  13.8372,2,    -999,9,    -999,9,    -999,    -999,9,    -999,    -999,1,    -999,9,    -999,9,  17.7359, -66.0010,    -999,     -999,    -999,  13.7790,  13.8372,2,-999,9,-999,-999,9,-999,    35.8837,2,-999,9,20120409,       1954
33AT20120324,        A22,      58,          1,          8,          8,2,20120409,       1935,    17.7340,   -66.0002,       1005,   416.0,  13.1832,  35.5982,2,  35.5992,2,    129.7,2,   130.4,2,    7.89,2,   19.67,2,    0.00,2,    1.20,2,   2.023,2,   1.067,2,   0.024,2,    0.61,2,  2182.0,2, 2338.10,2,   7.7403,2,       25,    -999,9,     -999,9,    -999,9,  13.1795,2,    -999,9,    -999,9,    -999,    -999,9,    -999,    -999,1,    -999,9,    -999,9,  17.7359, -66.0010,    -999,     -999,    -999,  13.1247,  13.1795,2,-999,9,-999,-999,9,-999,    35.7671,2,-999,9,20120409,       1952
33AT20120324,        A22,      58,          1,          7,          7,2,20120409,       1935,    17.7340,   -66.0002,       1005,   487.7,  11.6400,  35.3760,2,  35.3783,2,    125.2,2,   126.3,2,   10.14,2,   22.84,2,    0.00,2,    1.40,2,   1.757,2,   0.956,2,   0.018,2,    0.43,2,    -999,9,    -999,9,     -999,9,     -999,    -999,9,     -999,9,    -999,9,  11.6393,2,    -999,9,    -999,9,    -999,    -999,9,    -999,    -999,1,    -999,9,    -999,9,  17.7358, -66.0010,    -999,     -999,    -999,  11.5766,  11.6393,2,-999,9,-999,-999,9,-999,    35.5451,2,-999,9,20120409,       1950
33AT20120324,        A22,      58,          1,          6,          6,2,20120409,       1935,    17.7340,   -66.0002,       1005,   568.6,   9.6304,  35.0952,2,  35.0977,2,    122.7,2,   121.7,2,   14.23,2,   26.98,2,    0.00,2,    1.70,2,   1.306,2,   0.699,2,   0.016,2,    0.32,2,  2202.1,2,    -999,9,   7.6392,2,       25,    -999,9,     -999,9,    -999,9,   9.6308,2,    -999,9,    -999,9,    -999,    -999,9,    -999,    -999,1,    -999,9,    -999,9,  17.7356, -66.0009,    -999,     -999,    -999,   9.5646,   9.6308,2,-999,9,-999,-999,9,-999,    35.2632,2,-999,9,20120409,       1948
33AT20120324,        A22,      58,          1,          5,          5,2,20120409,       1935,    17.7340,   -66.0002,       1005,   669.8,   8.1021,  34.9189,2,  34.9255,2,    125.9,2,   124.1,2,   18.27,2,   29.71,2,    0.00,2,    1.89,2,   0.873,2,   0.440,2,   0.018,2,    0.24,2,    -999,9,    -999,9,     -999,9,     -999,    -999,9,     -999,9,    -999,9,   8.1054,2,    -999,9,    -999,9,    -999,    -999,9,    -999,    -999,1,    -999,9,    -999,9,  17.7353, -66.0008,    -999,     -999,    -999,   8.0318,   8.1054,2,-999,9,-999,-999,9,-999,    35.0902,2,-999,9,20120409,       1945
33AT20120324,        A22,      58,          1,          4,          4,2,20120409,       1935,    17.7340,   -66.0002,       1005,   768.9,   7.2322,  34.8712,2,  34.8732,2,    132.7,2,   131.7,2,   20.86,2,   30.23,2,    0.00,2,    1.95,2,   0.585,2,   0.301,2,   0.004,2,    0.21,2,  2211.8,2, 2311.93,2,   7.6011,2,       25,    -999,9,     -999,9,    -999,9,   7.2314,2,    -999,9,    -999,9,    -999,    -999,9,    -999,    -999,1,    -999,9,    -999,9,  17.7349, -66.0007,    -999,     -999,    -999,   7.1560,   7.2314,2,-999,9,-999,-999,9,-999,    35.0376,2,-999,9,20120409,       1943
33AT20120324,        A22,      58,          1,          3,          3,2,20120409,       1935,    17.7340,   -66.0002,       1005,   871.4,   6.1035,  34.8337,2,  34.8379,2,    145.3,2,   145.8,2,   23.57,2,   29.89,2,    0.00,2,    1.96,2,   0.314,2,   0.150,2,   0.007,2,    0.10,2,    -999,9,    -999,9,     -999,9,     -999,    -999,9,     -999,9,    -999,9,   6.1032,2,    -999,9,    -999,9,    -999,    -999,9,    -999,    -999,1,    -999,9,    -999,9,  17.7346, -66.0005,    -999,     -999,    -999,   6.0240,   6.1032,2,-999,9,-999,-999,9,-999,    35.0022,2,-999,9,20120409,       1940
33AT20120324,        A22,      58,          1,          2,          2,2,20120409,       1935,    17.7340,   -66.0002,       1005,   947.3,   5.7337,  34.9050,2,  34.9119,2,    164.2,2,   166.4,2,   23.11,2,   27.17,2,    0.00,2,    1.79,2,   0.308,2,   0.138,2,   0.011,2,    0.11,2,  2205.0,2,    -999,9,   7.6416,2,       25,    -999,9,     -999,9,    -999,9,   5.7357,2,    -999,9,    -999,9,    -999,    -999,9,    -999,    -999,1,    -999,9,    -999,9,  17.7343, -66.0004,    -999,     -999,    -999,   5.6492,   5.7357,2,-999,9,-999,-999,9,-999,    35.0765,2,-999,9,20120409,       1938
33AT20120324,        A22,      58,          1,          1,          1,2,20120409,       1935,    17.7340,   -66.0002,       1005,  1012.5,   5.4071,  34.9276,2,  34.9314,2,    177.5,2,   176.3,2,   23.32,2,   26.02,2,    0.00,2,    1.73,2,   0.289,2,   0.141,2,   0.019,2,    0.11,2,  2203.3,2, 2320.88,2,   7.6552,2,       25,    -999,9,     -999,9,    -999,9,   5.4086,2,    -999,9,    -999,9,    -999,    -999,9,    -999,    -999,1,    -999,9,    -999,9,  17.7340, -66.0002,    -999,     -999,    -999,   5.3188,   5.4086,2,-999,9,-999,-999,9,-999,    35.0961,2,-999,9,20120409,       1936