BOTTLE,20220725CCHSIOCBG
EXPOCODE,SECT_ID,STNNBR,CASTNO,SAMPNO,BTLNBR,BTLNBR_FLAG_W,DATE,TIME,LATITUDE,LONGITUDE,DEPTH,CTDPRS,CTDTMP,CTDSAL,CTDSAL_FLAG_W,SALNTY,SALNTY_FLAG_W,CTDOXY,CTDOXY_FLAG_W,OXYGEN,OXYGEN_FLAG_W,SILCAT,SILCAT_FLAG_W,NITRAT,NITRAT_FLAG_W,NITRIT,NITRIT_FLAG_W,PHSPHT,PHSPHT_FLAG_W,CFC-11,CFC-11_FLAG_W,CFC-12,CFC-12_FLAG_W,CFC113,CFC113_FLAG_W,SF6,SF6_FLAG_W,TCARBN,TCARBN_FLAG_W,ALKALI,ALKALI_FLAG_W,PH_TOT,PH_TOT_FLAG_W,PH_TMP,TRITUM,TRITUM_FLAG_W,HELIUM,HELIUM_FLAG_W,DELHE3,DELHE3_FLAG_W,REFTMP,REFTMP_FLAG_W,DELC13,DELC13_FLAG_W,DELC14,DELC14_FLAG_W,C14ERR,NEON,NEON_FLAG_W,NEONER,CCL4,CCL4_FLAG_W,DOC,DOC_FLAG_W,TDN,TDN_FLAG_W,BTL_LAT,BTL_LON,TRITER,HELIER,DELHER,THETA,SBE35,SBE35_FLAG_W,14C-DOC,14C-DOC_FLAG_W,14C-DOCERR,13C-DOC,13C-DOC_FLAG_W,13C-DOCERR,SALTREF,SALTREF_FLAG_W,LAB_DEN,LAB_DEN_FLAG_W,BTL_DATE,BTL_TIME
,,,,,,,,,,,METERS,DBAR,ITS-90,PSS-78,,PSS-78,,UMOL/KG,,UMOL/KG,,UMOL/KG,,UMOL/KG,,UMOL/KG,,UMOL/KG,,PMOL/KG,,PMOL/KG,,PMOL/KG,,FMOL/KG,,UMOL/KG,,UMOL/KG,,,,DEG C,TU,,NMOL/KG,,PERCNT,,DEG C,,/MILLE,,/MILLE,,/MILLE,NMOL/KG,,NMOL/KG,PMOL/KG,,UMOL/KG,,UMOL/KG,,,,TU,NMOL/KG,PERCNT,DEG C,ITS-90,,/MILLE,,/MILLE,/MILLE,,/MILLE,G/KG,,KG/M^3,,,
33AT20120324,        A22,      70,          1,          5,          5,2,20120412,       1214,    14.6695,   -69.5973,       4176,  2950.3,   4.1598,  34.9745,2,  34.9751,2,    215.2,2,   224.1,4,   28.24,2,   22.06,2,    0.00,2,    1.49,2,   0.066,2,   0.047,2,   0.005,2,    0.14,2,  2192.8,2, 2338.66,2,   7.7101,2,       25,    -999,9,     -999,9,    -999,9,   4.1598,2,    -999,9,    -999,9,    -999,    -999,9,    -999,    -999,1,    -999,9,    -999,9,  14.6695, -69.5973,    -999,     -999,    -999,   3.8896,   4.1598,2,-999,9,-999,-999,9,-999,    35.1400,2,-999,9,20120412,       1240
33AT20120324,        A22,      70,          1,          4,          4,2,20120412,       1214,    14.6695,   -69.5973,       4176,  3240.9,   4.1876,  34.9746,2,  34.9753,2,    215.7,2,   216.4,2,   28.22,2,   21.98,2,    0.00,2,    1.49,2,   0.078,2,   0.050,2,   0.007,2,    0.10,2,    -999,9,    -999,9,     -999,9,     -999,    -999,9,     -999,9,    -999,9,   4.1879,2,    -999,9,    -999,9,    -999,    -999,9,    -999,    -999,1,    -999,9,    -999,9,  14.6695, -69.5973,    -999,     -999,    -999,   3.8838,   4.1879,2,-999,9,-999,-999,9,-999,    35.1402,2,-999,9,20120412,       1234
33AT20120324,        A22,      70,          1,          3,          3,2,20120412,       1214,    14.6695,   -69.5973,       4176,  3546.4,   4.2202,  34.9748,2,  34.9755,2,    215.8,2,   215.8,2,   28.42,2,   21.98,2,    0.00,2,    1.49,2,   0.082,2,   0.055,2,   0.005,2,    0.10,2,    -999,9,    -999,9,     -999,9,     -999,    -999,9,     -999,9,    -999,9,   4.2200,2,    -999,9,    -999,9,    -999,    -999,9,    -999,    -999,1,    -999,9,    -999,9,  14.6694, -69.5973,    -999,     -999,    -999,   3.8797,   4.2200,2,-999,9,-999,-999,9,-999,    35.1405,2,-999,9,20120412,       1228
33AT20120324,        A22,      70,          1,          2,          2,2,20120412,       1214,    14.6695,   -69.5973,       4176,  3905.3,   4.2622,  34.9749,2,  34.9758,2,    216.4,2,   216.7,2,   28.40,2,   21.91,2,    0.00,2,    1.48,2,   0.109,2,   0.069,2,   0.007,2,    0.09,2,  2193.6,2, 2339.79,6,   7.7141,6,       25,    -999,9,     -999,9,    -999,9,   4.2624,2,    -999,9,    -999,9,    -999,    -999,9,    -999,    -999,1,    -999,9,    -999,9,  14.6695, -69.5973,    -999,     -999,    -999,   3.8769,   4.2624,2,-999,9,-999,-999,9,-999,    35.1407,2,-999,9,20120412,       1222
33AT20120324,        A22,      70,          1,          1,          1,2,20120412,       1214,    14.6695,   -69.5973,       4176,  4227.6,   4.3030,  34.9747,2,  34.9764,2,    218.5,2,   218.3,2,   27.56,2,   21.67,2,    0.00,2,    1.46,2,   0.340,2,   0.195,2,   0.018,2,    0.10,2,  2193.8,6, 2338.61,2,   7.7151,2,       25,    -999,9,     -999,9,    -999,9,   4.3029,2,    -999,9,    -999,9,    -999,    -999,9,    -999,    -999,1,    -999,9,    -999,9,  14.6695, -69.5973,    -999,     -999,    -999,   3.8759,   4.3029,2,-999,9,-999,-999,9,-999,    35.1413,2,-999,9,20120412,       1216