BOTTLE,20220725CCHSIOCBG
EXPOCODE,SECT_ID,STNNBR,CASTNO,SAMPNO,BTLNBR,BTLNBR_FLAG_W,DATE,TIME,LATITUDE,LONGITUDE,DEPTH,CTDPRS,CTDTMP,CTDSAL,CTDSAL_FLAG_W,SALNTY,SALNTY_FLAG_W,CTDOXY,CTDOXY_FLAG_W,OXYGEN,OXYGEN_FLAG_W,SILCAT,SILCAT_FLAG_W,NITRAT,NITRAT_FLAG_W,NITRIT,NITRIT_FLAG_W,PHSPHT,PHSPHT_FLAG_W,CFC-11,CFC-11_FLAG_W,CFC-12,CFC-12_FLAG_W,CFC113,CFC113_FLAG_W,SF6,SF6_FLAG_W,TCARBN,TCARBN_FLAG_W,ALKALI,ALKALI_FLAG_W,PH_TOT,PH_TOT_FLAG_W,PH_TMP,TRITUM,TRITUM_FLAG_W,HELIUM,HELIUM_FLAG_W,DELHE3,DELHE3_FLAG_W,REFTMP,REFTMP_FLAG_W,DELC13,DELC13_FLAG_W,DELC14,DELC14_FLAG_W,C14ERR,NEON,NEON_FLAG_W,NEONER,CCL4,CCL4_FLAG_W,DOC,DOC_FLAG_W,TDN,TDN_FLAG_W,BTL_LAT,BTL_LON,TRITER,HELIER,DELHER,THETA,SBE35,SBE35_FLAG_W,14C-DOC,14C-DOC_FLAG_W,14C-DOCERR,13C-DOC,13C-DOC_FLAG_W,13C-DOCERR,SALTREF,SALTREF_FLAG_W,LAB_DEN,LAB_DEN_FLAG_W,BTL_DATE,BTL_TIME
,,,,,,,,,,,METERS,DBAR,ITS-90,PSS-78,,PSS-78,,UMOL/KG,,UMOL/KG,,UMOL/KG,,UMOL/KG,,UMOL/KG,,UMOL/KG,,PMOL/KG,,PMOL/KG,,PMOL/KG,,FMOL/KG,,UMOL/KG,,UMOL/KG,,,,DEG C,TU,,NMOL/KG,,PERCNT,,DEG C,,/MILLE,,/MILLE,,/MILLE,NMOL/KG,,NMOL/KG,PMOL/KG,,UMOL/KG,,UMOL/KG,,,,TU,NMOL/KG,PERCNT,DEG C,ITS-90,,/MILLE,,/MILLE,/MILLE,,/MILLE,G/KG,,KG/M^3,,,
33AT20120324,        A22,      19,          1,         36,         36,2,20120330,       0832,    35.7049,   -67.1733,       5097,     2.9,  19.4412,  36.5385,2,  36.5383,2,    224.9,2,   224.5,2,    0.37,2,    0.27,2,    0.09,2,    0.00,2,   1.994,2,   1.281,2,   0.151,2,    -999,5,  2076.0,6, 2392.56,6,   8.0493,2,       25,    -999,9,     -999,9,    -999,9,  19.4401,2,    0.81,2,    67.7,2,     3.4,    -999,9,    -999,    1.46,2,   67.14,2,    4.21,2,  35.7004, -67.1803,    -999,     -999,    -999,  19.4407,  19.4401,2,-999,9,-999,-999,9,-999,    36.7106,2,-999,9,20120330,       1038
33AT20120324,        A22,      19,          1,         35,         35,2,20120330,       0832,    35.7049,   -67.1733,       5097,    20.3,  19.4413,  36.5378,2,  36.5373,2,    225.5,2,   224.5,2,    0.33,2,    0.18,2,    0.08,2,    0.00,2,   1.944,2,   1.276,2,   0.151,2,    -999,5,  2075.9,2, 2393.08,2,   8.0498,6,       25,    -999,9,     -999,9,    -999,9,  19.4415,2,    -999,9,    -999,9,    -999,    -999,9,    -999,    1.38,2,   66.37,2,    4.58,2,  35.7003, -67.1802,    -999,     -999,    -999,  19.4376,  19.4415,2,-999,9,-999,-999,9,-999,    36.7096,2,-999,9,20120330,       1036
33AT20120324,        A22,      19,          1,         34,         34,2,20120330,       0832,    35.7049,   -67.1733,       5097,    39.9,  19.4522,  36.5378,2,  36.5374,2,    225.1,2,   224.1,2,    0.34,2,    0.35,2,    0.08,2,    0.00,2,   1.975,2,   1.263,2,   0.149,2,    -999,5,  2077.3,2, 2390.35,2,   8.0435,2,       25,    -999,9,     -999,9,    -999,9,  19.4547,2,    -999,9,    -999,9,    -999,    -999,9,    -999,    1.44,2,   66.22,2,    4.91,2,  35.7004, -67.1800,    -999,     -999,    -999,  19.4449,  19.4547,2,-999,9,-999,-999,9,-999,    36.7096,2,-999,9,20120330,       1034
33AT20120324,        A22,      19,          1,         33,         33,2,20120330,       0832,    35.7049,   -67.1733,       5097,    66.0,  19.4640,  36.5392,2,  36.5380,2,    224.8,2,   224.3,2,    0.31,2,    0.19,2,    0.08,2,    0.00,2,   1.984,2,   1.274,2,   0.147,2,    -999,5,  2076.3,2, 2392.55,2,   8.0481,2,       25,    -999,9,     -999,9,    -999,9,  19.4638,2,    -999,9,    -999,9,    -999,    -999,9,    -999,    1.52,2,   65.47,2,    3.90,2,  35.7005, -67.1800,    -999,     -999,    -999,  19.4519,  19.4638,2,-999,9,-999,-999,9,-999,    36.7103,2,-999,9,20120330,       1031
33AT20120324,        A22,      19,          1,         32,         32,2,20120330,       0832,    35.7049,   -67.1733,       5097,    90.7,  19.4671,  36.5401,2,  36.5396,2,    224.5,2,   223.4,2,    0.37,2,    0.30,2,    0.09,2,    0.00,2,   1.995,2,   1.276,2,   0.156,2,    -999,5,  2077.1,2, 2392.36,2,   8.0468,2,       25,    -999,9,     -999,9,    -999,9,  19.4670,2,    -999,9,    -999,9,    -999,    -999,9,    -999,    1.50,2,   62.35,2,    3.91,2,  35.7006, -67.1799,    -999,     -999,    -999,  19.4505,  19.4670,2,-999,9,-999,-999,9,-999,    36.7119,2,-999,9,20120330,       1030
33AT20120324,        A22,      19,          1,         31,         31,2,20120330,       0832,    35.7049,   -67.1733,       5097,   136.0,  19.4585,  36.5448,2,  36.5450,2,    219.6,2,   220.9,2,    0.55,2,    0.59,2,    0.09,2,    0.01,2,   1.971,2,   1.287,2,   0.151,2,    -999,5,  2080.6,2, 2390.75,2,   8.0408,2,       25,    -999,9,     -999,9,    -999,9,  19.4593,2,    0.93,2,    67.0,2,     2.6,    -999,9,    -999,    1.41,2,   60.18,2,    3.92,2,  35.7007, -67.1797,    -999,     -999,    -999,  19.4336,  19.4593,2,-999,9,-999,-999,9,-999,    36.7173,2,-999,9,20120330,       1027
33AT20120324,        A22,      19,          1,         30,         30,2,20120330,       0832,    35.7049,   -67.1733,       5097,   186.3,  19.3666,  36.5611,2,  36.5602,2,    215.9,2,   221.6,2,    0.75,2,    0.61,2,    0.30,2,    0.02,2,   1.984,2,   1.307,2,   0.156,2,    -999,5,  2085.3,2, 2391.79,2,   8.0360,2,       25,    -999,9,     -999,9,    -999,9,  19.3683,2,    -999,9,    -999,9,    -999,    -999,9,    -999,    1.36,2,   58.75,2,    5.04,2,  35.7008, -67.1796,    -999,     -999,    -999,  19.3326,  19.3683,2,-999,9,-999,-999,9,-999,    36.7326,2,-999,9,20120330,       1024
33AT20120324,        A22,      19,          1,         29,         29,2,20120330,       0832,    35.7049,   -67.1733,       5097,   237.0,  19.2780,  36.5592,2,  36.5589,2,    207.4,2,   218.5,2,    0.84,2,    1.11,2,    0.10,2,    0.03,2,   2.020,2,   1.294,2,   0.143,2,    -999,5,  2087.7,2, 2393.07,2,   8.0304,2,       25,    -999,9,     -999,9,    -999,9,  19.2784,2,    0.84,2,    60.8,2,     2.8,    -999,9,    -999,    1.32,2,   56.37,2,    5.47,2,  35.7008, -67.1795,    -999,     -999,    -999,  19.2349,  19.2784,2,-999,9,-999,-999,9,-999,    36.7313,2,-999,9,20120330,       1022
33AT20120324,        A22,      19,          1,         28,         28,2,20120330,       0832,    35.7049,   -67.1733,       5097,   287.8,  19.0756,  36.6297,2,  36.6295,2,    193.3,2,   195.7,2,    0.90,2,    2.89,2,    0.02,2,    0.13,2,   2.067,2,   1.312,2,   0.046,2,    -999,5,  2111.7,2, 2394.24,2,   7.9910,2,       25,    -999,9,     -999,9,    -999,9,  19.0769,2,    0.66,2,    69.3,2,     2.8,    -999,9,    -999,    0.48,2,   54.86,2,    6.95,2,  35.7009, -67.1795,    -999,     -999,    -999,  19.0235,  19.0769,2,-999,9,-999,-999,9,-999,    36.8022,2,-999,9,20120330,       1020
33AT20120324,        A22,      19,          1,         27,         27,2,20120330,       0832,    35.7049,   -67.1733,       5097,   336.1,  18.4974,  36.6000,2,  36.5992,2,    196.0,2,   194.0,2,    1.30,2,    3.99,2,    0.01,2,    0.18,2,   2.069,2,   1.351,2,   0.033,2,    -999,5,    -999,9,    -999,9,     -999,9,     -999,    -999,9,     -999,9,    -999,9,  18.4984,2,    -999,9,    -999,9,    -999,    -999,9,    -999,    0.31,2,   52.28,2,    7.00,2,  35.7009, -67.1794,    -999,     -999,    -999,  18.4378,  18.4984,2,-999,9,-999,-999,9,-999,    36.7718,2,-999,9,20120330,       1018
33AT20120324,        A22,      19,          1,         26,         26,2,20120330,       0832,    35.7049,   -67.1733,       5097,   386.6,  18.2356,  36.5829,2,  36.5823,2,    199.9,2,   199.7,2,    1.32,2,    4.04,2,    0.00,2,    0.18,2,   2.122,2,   1.323,2,   0.034,2,    -999,5,  2115.7,2, 2390.53,2,   7.9810,2,       25,    -999,9,     -999,9,    -999,9,  18.2345,2,    0.66,2,    72.6,2,     2.8,    -999,9,    -999,    0.37,2,   51.22,2,    8.04,2,  35.7010, -67.1792,    -999,     -999,    -999,  18.1676,  18.2345,2,-999,9,-999,-999,9,-999,    36.7548,2,-999,9,20120330,       1016
33AT20120324,        A22,      19,          1,         25,         25,2,20120330,       0832,    35.7049,   -67.1733,       5097,   467.6,  17.8617,  36.5293,2,  36.5263,2,    199.9,2,   199.4,2,    1.52,2,    4.79,2,    0.00,2,    0.22,2,   2.155,2,   1.344,2,   0.038,2,    -999,5,  2118.1,2, 2388.59,2,   7.9713,2,       25,    -999,9,     -999,9,    -999,9,  17.8617,2,    0.68,2,    85.7,2,     3.3,    -999,9,    -999,    0.45,2,   49.88,2,    8.99,2,  35.7010, -67.1792,    -999,     -999,    -999,  17.7805,  17.8617,2,-999,9,-999,-999,9,-999,    36.6985,2,-999,9,20120330,       1014
33AT20120324,        A22,      19,          1,         24,         24,2,20120330,       0832,    35.7049,   -67.1733,       5097,   569.5,  17.0926,  36.3838,2,  36.3781,2,    189.4,2,   190.8,2,    2.16,2,    6.92,2,    0.00,2,    0.36,2,   2.156,2,   1.342,2,   0.031,2,    -999,5,  2128.1,2, 2378.56,2,   7.9387,2,       25,    -999,9,     -999,9,    -999,9,  17.0858,2,    0.67,2,    76.3,2,     2.6,    -999,9,    -999,    0.38,2,   47.24,2,   10.94,2,  35.7011, -67.1791,    -999,     -999,    -999,  16.9965,  17.0858,2,-999,9,-999,-999,9,-999,    36.5497,2,-999,9,20120330,       1011
33AT20120324,        A22,      19,          1,         23,         23,2,20120330,       0832,    35.7049,   -67.1733,       5097,   669.9,  15.2317,  36.0342,2,  36.0309,2,    169.2,2,   167.6,2,    4.27,2,   12.11,2,    0.00,2,    0.70,2,   2.021,2,   1.235,2,   0.022,2,    -999,5,  2150.9,2, 2362.88,2,   7.8634,2,       25,    -999,9,     -999,9,    -999,9,  15.2330,2,    0.64,2,    59.9,2,     3.1,    -999,9,    -999,    0.31,2,   46.76,2,   15.64,2,  35.7011, -67.1789,    -999,     -999,    -999,  15.1269,  15.2330,2,-999,9,-999,-999,9,-999,    36.2008,2,-999,9,20120330,       1009
33AT20120324,        A22,      19,          1,         22,         22,2,20120330,       0832,    35.7049,   -67.1733,       5097,   769.6,  13.2946,  35.7167,2,  35.7213,2,    153.6,2,   152.8,2,    7.13,2,   16.79,2,    0.00,2,    1.01,2,   1.804,2,   1.075,2,   0.023,2,    -999,5,  2168.5,2, 2343.67,2,   7.7949,6,       25,    -999,9,     -999,9,    -999,9,  13.3232,2,    0.62,2,    38.6,2,     2.8,    -999,9,    -999,    0.29,2,   45.87,2,   20.29,2,  35.7011, -67.1789,    -999,     -999,    -999,  13.1842,  13.3232,2,-999,9,-999,-999,9,-999,    35.8897,2,-999,9,20120330,       1006
33AT20120324,        A22,      19,          1,         21,         21,2,20120330,       0832,    35.7049,   -67.1733,       5097,   870.7,  10.5424,  35.3307,2,  35.3264,2,    139.5,2,   137.6,2,   12.35,2,   23.04,2,    0.00,2,    1.43,2,   1.281,2,   0.710,2,   0.015,2,    -999,5,  2189.9,6, 2329.09,2,   7.7030,2,       25,    -999,9,     -999,9,    -999,9,  10.5762,3,    0.57,2,    -5.8,2,     2.7,    -999,9,    -999,    0.28,2,   44.89,2,   26.48,2,  35.7011, -67.1791,    -999,     -999,    -999,  10.4342,  10.5762,3,-999,9,-999,-999,9,-999,    35.4929,2,-999,9,20120330,       1004
33AT20120324,        A22,      19,          1,         20,         20,2,20120330,       0832,    35.7049,   -67.1733,       5097,   973.3,   8.5546,  35.1588,2,  35.1526,2,    153.4,2,   155.2,2,   14.30,2,   23.66,2,    0.00,2,    1.52,2,   1.197,2,   0.667,2,   0.030,2,    -999,5,  2193.0,2, 2320.30,2,   7.6779,2,       25,    -999,9,     -999,9,    -999,9,   8.5509,2,    0.66,2,   -24.0,2,     2.9,    -999,9,    -999,    0.46,2,   44.27,2,   26.77,2,  35.7011, -67.1791,    -999,     -999,    -999,   8.4471,   8.5509,2,-999,9,-999,-999,9,-999,    35.3184,2,-999,9,20120330,       1001
33AT20120324,        A22,      19,          1,         19,         19,2,20120330,       0832,    35.7049,   -67.1733,       5097,  1073.2,   6.8498,  35.0857,2,  35.0853,2,    187.4,2,   189.3,2,   13.56,2,   21.56,2,    0.00,2,    1.41,2,   1.561,2,   0.855,2,   0.056,2,    -999,5,  2186.9,2, 2319.84,2,   7.6886,2,       25,    -999,9,     -999,9,    -999,9,   6.8550,2,    0.69,2,   -27.1,2,     2.4,    -999,9,    -999,    0.80,2,   44.57,2,   24.28,2,  35.7011, -67.1791,    -999,     -999,    -999,   6.7440,   6.8550,2,-999,9,-999,-999,9,-999,    35.2508,2,-999,9,20120330,        958
33AT20120324,        A22,      19,          1,         18,         18,2,20120330,       0832,    35.7049,   -67.1733,       5097,  1176.3,   6.0165,  35.0826,2,  35.0782,2,    210.9,2,   210.6,2,   13.15,2,   20.18,2,    0.00,2,    1.34,2,   1.615,2,   0.871,2,   0.064,2,    -999,5,    -999,9,    -999,9,     -999,9,     -999,    -999,9,     -999,9,    -999,9,   6.0123,2,    -999,9,    -999,9,    -999,    -999,9,    -999,    0.95,2,   44.32,2,   22.67,2,  35.7011, -67.1791,    -999,     -999,    -999,   5.9070,   6.0123,2,-999,9,-999,-999,9,-999,    35.2437,2,-999,9,20120330,        956
33AT20120324,        A22,      19,          1,         17,         17,2,20120330,       0832,    35.7049,   -67.1733,       5097,  1275.0,   5.2645,  35.0348,2,  35.0350,2,    232.6,2,   232.7,2,   11.94,2,   18.76,2,    0.00,2,    1.24,2,   2.111,2,   1.188,2,   0.112,2,    -999,5,    -999,9,    -999,9,     -999,9,     -999,    -999,9,     -999,9,    -999,9,   5.2634,2,    -999,9,    -999,9,    -999,    -999,9,    -999,    1.32,2,   44.85,2,   22.26,2,  35.7010, -67.1792,    -999,     -999,    -999,   5.1521,   5.2634,2,-999,9,-999,-999,9,-999,    35.2002,2,-999,9,20120330,        953
33AT20120324,        A22,      19,          1,         16,         16,2,20120330,       0832,    35.7049,   -67.1733,       5097,  1376.3,   4.9302,  35.0207,2,  35.0208,2,    242.7,2,   242.2,2,   11.84,2,   18.26,2,    0.00,2,    1.21,2,   2.300,2,   1.271,2,   0.128,2,    -999,5,  2172.6,2, 2313.12,2,   7.7127,2,       25,    -999,9,     -999,9,    -999,9,   4.9293,2,    0.81,2,   -18.7,2,     2.8,    -999,9,    -999,    1.54,2,   44.08,2,   20.90,2,  35.7011, -67.1791,    -999,     -999,    -999,   4.8114,   4.9293,2,-999,9,-999,-999,9,-999,    35.1860,2,-999,9,20120330,        950
33AT20120324,        A22,      19,          1,         15,         15,2,20120330,       0832,    35.7049,   -67.1733,       5097,  1479.4,   4.7215,  35.0125,2,  35.0120,2,    246.6,2,   248.0,2,   11.74,2,   17.98,2,    0.00,2,    1.20,2,   2.341,2,   1.290,2,   0.141,2,    -999,5,    -999,9,    -999,9,     -999,9,     -999,    -999,9,     -999,9,    -999,9,   4.7214,2,    -999,9,    -999,9,    -999,    -999,9,    -999,    1.61,2,   44.05,2,   20.93,2,  35.7011, -67.1790,    -999,     -999,    -999,   4.5950,   4.7214,2,-999,9,-999,-999,9,-999,    35.1771,2,-999,9,20120330,        948
33AT20120324,        A22,      19,          1,         14,         14,2,20120330,       0832,    35.7049,   -67.1733,       5097,  1581.0,   4.4218,  34.9850,2,  34.9853,2,    254.0,2,   253.6,2,   11.87,2,   17.85,2,    0.00,2,    1.19,2,   2.314,2,   1.307,2,   0.138,2,    -999,5,  2167.7,2, 2312.74,2,   7.7195,2,       25,    -999,9,     -999,9,    -999,9,   4.4222,2,    0.88,2,   -23.2,2,     2.6,    -999,9,    -999,    1.59,2,   44.67,2,   20.83,2,  35.7012, -67.1788,    -999,     -999,    -999,   4.2891,   4.4222,2,-999,9,-999,-999,9,-999,    35.1502,2,-999,9,20120330,        945
33AT20120324,        A22,      19,          1,         13,         13,2,20120330,       0832,    35.7049,   -67.1733,       5097,  1752.5,   4.2325,  34.9793,2,  34.9790,2,    258.7,2,   258.1,2,   12.06,2,   17.71,2,    0.00,2,    1.18,2,   2.232,2,   1.199,2,   0.136,2,    -999,5,    -999,9,    -999,9,     -999,9,     -999,    -999,9,     -999,9,    -999,9,   4.2319,2,    -999,9,    -999,9,    -999,    -999,9,    -999,    1.97,2,   43.93,2,   20.48,2,  35.7015, -67.1784,    -999,     -999,    -999,   4.0858,   4.2319,2,-999,9,-999,-999,9,-999,    35.1439,2,-999,9,20120330,        941
33AT20120324,        A22,      19,          1,         12,         12,2,20120330,       0832,    35.7049,   -67.1733,       5097,  1955.5,   3.9941,  34.9685,2,  34.9684,2,    261.4,2,   260.5,2,   12.58,2,   17.64,2,    0.00,2,    1.18,2,   2.006,2,   1.063,2,   0.113,2,    -999,5,    -999,9,    -999,9,     -999,9,     -999,    -999,9,     -999,9,    -999,9,   3.9941,2,    -999,9,    -999,9,    -999,    -999,9,    -999,    1.78,2,   43.39,2,   20.37,2,  35.7019, -67.1778,    -999,     -999,    -999,   3.8310,   3.9941,2,-999,9,-999,-999,9,-999,    35.1333,2,-999,9,20120330,        937
33AT20120324,        A22,      19,          1,         11,         11,2,20120330,       0832,    35.7049,   -67.1733,       5097,  2190.3,   3.7378,  34.9579,2,  34.9584,2,    263.2,2,   263.1,2,   13.72,2,   17.63,2,    0.00,2,    1.18,2,   1.667,2,   0.908,2,   0.084,2,    -999,5,  2162.2,2, 2314.64,2,   7.7334,2,       25,    -999,9,     -999,9,    -999,9,   3.7393,2,    1.04,2,   -34.2,2,     2.4,    -999,9,    -999,    1.50,2,   43.92,2,   20.22,2,  35.7023, -67.1773,    -999,     -999,    -999,   3.5556,   3.7393,2,-999,9,-999,-999,9,-999,    35.1232,2,-999,9,20120330,        932
33AT20120324,        A22,      19,          1,         10,         10,2,20120330,       0832,    35.7049,   -67.1733,       5097,  2442.5,   3.4997,  34.9502,2,  34.9505,2,    264.0,2,   264.7,2,   15.20,2,   17.62,2,    0.00,2,    1.18,2,   1.381,2,   0.741,2,   0.066,2,    -999,5,    -999,9,    -999,9,     -999,9,     -999,    -999,9,     -999,9,    -999,9,   3.4996,2,    -999,9,    -999,9,    -999,    -999,9,    -999,    1.33,2,   43.36,2,   20.43,2,  35.7024, -67.1770,    -999,     -999,    -999,   3.2964,   3.4996,2,-999,9,-999,-999,9,-999,    35.1154,2,-999,9,20120330,        927
33AT20120324,        A22,      19,          1,          9,          9,2,20120330,       0832,    35.7049,   -67.1733,       5097,  2699.5,   3.3070,  34.9486,2,  34.9488,2,    264.4,2,   264.3,2,   17.42,2,   17.84,2,    0.00,2,    1.19,2,   1.078,2,   0.556,2,   0.045,2,    -999,5,    -999,9,    -999,9,     -999,9,     -999,    -999,9,     -999,9,    -999,9,   3.3065,2,    -999,9,    -999,9,    -999,    -999,9,    -999,    1.09,2,   43.49,2,   20.72,2,  35.7028, -67.1766,    -999,     -999,    -999,   3.0811,   3.3065,2,-999,9,-999,-999,9,-999,    35.1136,2,-999,9,20120330,        922
33AT20120324,        A22,      19,          1,          8,          8,2,20120330,       0832,    35.7049,   -67.1733,       5097,  2953.9,   3.1008,  34.9424,2,  34.9443,2,    263.9,2,   264.0,2,   19.48,2,   17.94,2,    0.00,2,    1.20,2,   0.861,2,   0.458,2,   0.033,2,    -999,5,  2164.3,2, 2319.62,2,   7.7436,2,       25,    -999,9,     -999,9,    -999,9,   3.1010,2,    -999,9,    -999,9,    -999,    -999,9,    -999,    0.92,2,   43.81,2,   20.96,2,  35.7031, -67.1760,    -999,     -999,    -999,   2.8527,   3.1010,2,-999,9,-999,-999,9,-999,    35.1091,2,-999,9,20120330,        916
33AT20120324,        A22,      19,          1,          7,          7,2,20120330,       0832,    35.7049,   -67.1733,       5097,  3248.7,   2.8671,  34.9294,2,  34.9298,2,    266.0,2,   266.5,2,   20.85,2,   17.88,2,    0.00,2,    1.21,2,   0.828,2,   0.448,2,   0.035,2,    -999,5,    -999,9,    -999,9,     -999,9,     -999,    -999,9,     -999,9,    -999,9,   2.8664,2,    -999,9,    -999,9,    -999,    -999,9,    -999,    0.90,2,   43.38,2,   22.32,2,  35.7035, -67.1756,    -999,     -999,    -999,   2.5929,   2.8664,2,-999,9,-999,-999,9,-999,    35.0945,2,-999,9,20120330,        911
33AT20120324,        A22,      19,          1,          6,          6,2,20120330,       0832,    35.7049,   -67.1733,       5097,  3550.9,   2.6145,  34.9150,2,  34.9170,2,    267.7,2,   267.7,2,   23.01,2,   17.83,2,    0.00,2,    1.21,2,   0.848,2,   0.447,2,   0.038,2,    -999,5,    -999,9,    -999,9,     -999,9,     -999,    -999,9,     -999,9,    -999,9,   2.6140,2,    -999,9,    -999,9,    -999,    -999,9,    -999,    0.93,2,   43.31,2,   22.22,2,  35.7036, -67.1753,    -999,     -999,    -999,   2.3136,   2.6140,2,-999,9,-999,-999,9,-999,    35.0817,2,-999,9,20120330,        905