BOTTLE,20220725CCHSIOCBG
EXPOCODE,SECT_ID,STNNBR,CASTNO,SAMPNO,BTLNBR,BTLNBR_FLAG_W,DATE,TIME,LATITUDE,LONGITUDE,DEPTH,CTDPRS,CTDTMP,CTDSAL,CTDSAL_FLAG_W,SALNTY,SALNTY_FLAG_W,CTDOXY,CTDOXY_FLAG_W,OXYGEN,OXYGEN_FLAG_W,SILCAT,SILCAT_FLAG_W,NITRAT,NITRAT_FLAG_W,NITRIT,NITRIT_FLAG_W,PHSPHT,PHSPHT_FLAG_W,CFC-11,CFC-11_FLAG_W,CFC-12,CFC-12_FLAG_W,CFC113,CFC113_FLAG_W,SF6,SF6_FLAG_W,TCARBN,TCARBN_FLAG_W,ALKALI,ALKALI_FLAG_W,PH_TOT,PH_TOT_FLAG_W,PH_TMP,TRITUM,TRITUM_FLAG_W,HELIUM,HELIUM_FLAG_W,DELHE3,DELHE3_FLAG_W,REFTMP,REFTMP_FLAG_W,DELC13,DELC13_FLAG_W,DELC14,DELC14_FLAG_W,C14ERR,NEON,NEON_FLAG_W,NEONER,CCL4,CCL4_FLAG_W,DOC,DOC_FLAG_W,TDN,TDN_FLAG_W,BTL_LAT,BTL_LON,TRITER,HELIER,DELHER,THETA,SBE35,SBE35_FLAG_W,14C-DOC,14C-DOC_FLAG_W,14C-DOCERR,13C-DOC,13C-DOC_FLAG_W,13C-DOCERR,SALTREF,SALTREF_FLAG_W,LAB_DEN,LAB_DEN_FLAG_W,BTL_DATE,BTL_TIME
,,,,,,,,,,,METERS,DBAR,ITS-90,PSS-78,,PSS-78,,UMOL/KG,,UMOL/KG,,UMOL/KG,,UMOL/KG,,UMOL/KG,,UMOL/KG,,PMOL/KG,,PMOL/KG,,PMOL/KG,,FMOL/KG,,UMOL/KG,,UMOL/KG,,,,DEG C,TU,,NMOL/KG,,PERCNT,,DEG C,,/MILLE,,/MILLE,,/MILLE,NMOL/KG,,NMOL/KG,PMOL/KG,,UMOL/KG,,UMOL/KG,,,,TU,NMOL/KG,PERCNT,DEG C,ITS-90,,/MILLE,,/MILLE,/MILLE,,/MILLE,G/KG,,KG/M^3,,,
33AT20120324,        A22,      76,          1,          3,          3,2,20120413,       1902,    13.1876,   -69.8736,       2535,  2155.2,   4.0946,  34.9739,2,  34.9747,2,    213.0,2,   213.7,2,   28.79,2,   22.21,2,    0.00,2,    1.51,2,   0.032,2,    -999,5,   0.011,2,    0.75,2,    -999,9,    -999,9,     -999,9,     -999,    -999,9,     -999,9,    -999,9,   4.0946,2,    -999,9,    -999,9,    -999,    -999,9,    -999,    -999,1,    -999,9,    -999,9,  13.1873, -69.8738,    -999,     -999,    -999,   3.9102,   4.0946,2,-999,9,-999,-999,9,-999,    35.1396,2,-999,9,20120413,       1912
33AT20120324,        A22,      76,          1,          2,          2,2,20120413,       1902,    13.1876,   -69.8736,       2535,  2350.8,   4.1054,  34.9740,2,  34.9753,2,    212.5,2,   213.1,2,   29.35,2,   22.21,2,    0.00,2,    1.52,2,   0.075,2,    -999,5,   0.009,2,    1.00,2,    -999,9,    -999,9,     -999,9,     -999,    -999,9,     -999,9,    -999,9,   4.1052,2,    -999,9,    -999,9,    -999,    -999,9,    -999,    -999,1,    -999,9,    -999,9,  13.1875, -69.8737,    -999,     -999,    -999,   3.9008,   4.1052,2,-999,9,-999,-999,9,-999,    35.1402,2,-999,9,20120413,       1908
33AT20120324,        A22,      76,          1,          1,          1,2,20120413,       1902,    13.1876,   -69.8736,       2535,  2547.5,   4.1218,  34.9740,2,  34.9744,2,    213.5,2,   213.2,2,   29.36,2,   22.17,2,    0.00,2,    1.51,2,   0.071,2,   0.050,2,   0.007,2,    0.79,2,  2199.9,2, 2340.62,2,   7.7251,3,       25,    -999,9,     -999,9,    -999,9,   4.1218,2,    -999,9,    -999,9,    -999,    -999,9,    -999,    -999,1,    -999,9,    -999,9,  13.1876, -69.8737,    -999,     -999,    -999,   3.8963,   4.1218,2,-999,9,-999,-999,9,-999,    35.1394,2,-999,9,20120413,       1904