BOTTLE,20220725CCHSIOCBG
EXPOCODE,SECT_ID,STNNBR,CASTNO,SAMPNO,BTLNBR,BTLNBR_FLAG_W,DATE,TIME,LATITUDE,LONGITUDE,DEPTH,CTDPRS,CTDTMP,CTDSAL,CTDSAL_FLAG_W,SALNTY,SALNTY_FLAG_W,CTDOXY,CTDOXY_FLAG_W,OXYGEN,OXYGEN_FLAG_W,SILCAT,SILCAT_FLAG_W,NITRAT,NITRAT_FLAG_W,NITRIT,NITRIT_FLAG_W,PHSPHT,PHSPHT_FLAG_W,CFC-11,CFC-11_FLAG_W,CFC-12,CFC-12_FLAG_W,CFC113,CFC113_FLAG_W,SF6,SF6_FLAG_W,TCARBN,TCARBN_FLAG_W,ALKALI,ALKALI_FLAG_W,PH_TOT,PH_TOT_FLAG_W,PH_TMP,TRITUM,TRITUM_FLAG_W,HELIUM,HELIUM_FLAG_W,DELHE3,DELHE3_FLAG_W,REFTMP,REFTMP_FLAG_W,DELC13,DELC13_FLAG_W,DELC14,DELC14_FLAG_W,C14ERR,NEON,NEON_FLAG_W,NEONER,CCL4,CCL4_FLAG_W,DOC,DOC_FLAG_W,TDN,TDN_FLAG_W,BTL_LAT,BTL_LON,TRITER,HELIER,DELHER,THETA,SBE35,SBE35_FLAG_W,14C-DOC,14C-DOC_FLAG_W,14C-DOCERR,13C-DOC,13C-DOC_FLAG_W,13C-DOCERR,SALTREF,SALTREF_FLAG_W,LAB_DEN,LAB_DEN_FLAG_W,BTL_DATE,BTL_TIME
,,,,,,,,,,,METERS,DBAR,ITS-90,PSS-78,,PSS-78,,UMOL/KG,,UMOL/KG,,UMOL/KG,,UMOL/KG,,UMOL/KG,,UMOL/KG,,PMOL/KG,,PMOL/KG,,PMOL/KG,,FMOL/KG,,UMOL/KG,,UMOL/KG,,,,DEG C,TU,,NMOL/KG,,PERCNT,,DEG C,,/MILLE,,/MILLE,,/MILLE,NMOL/KG,,NMOL/KG,PMOL/KG,,UMOL/KG,,UMOL/KG,,,,TU,NMOL/KG,PERCNT,DEG C,ITS-90,,/MILLE,,/MILLE,/MILLE,,/MILLE,G/KG,,KG/M^3,,,
33AT20120324,        A22,      10,          1,          5,          5,2,20120327,       1106,    38.5597,   -69.0260,       3502,  2567.8,   2.8533,  34.9274,2,  34.9264,2,    268.4,2,   268.6,2,   18.82,2,   17.40,2,    0.00,2,    1.17,2,   1.414,2,   0.666,2,   0.057,2,    0.29,2,    -999,9,    -999,9,     -999,9,     -999,    -999,9,     -999,9,    -999,9,   2.8524,2,    -999,9,    -999,9,    -999,    -999,9,    -999,    -999,1,    -999,9,    -999,9,  38.5591, -69.0270,    -999,     -999,    -999,   2.6494,   2.8524,2,-999,9,-999,-999,9,-999,    35.0911,2,-999,9,20120327,       1134
33AT20120324,        A22,      10,          1,          4,          4,2,20120327,       1106,    38.5597,   -69.0260,       3502,  2775.5,   2.7141,  34.9198,2,  34.9191,2,    270.5,2,   270.8,2,   18.77,2,   17.14,2,    0.00,2,    1.16,2,   1.630,2,   0.780,2,   0.071,2,    0.33,2,  2163.4,2, 2315.28,2,   7.7368,2,       25,    -999,9,     -999,9,    -999,9,   2.7141,2,    -999,9,    -999,9,    -999,    -999,9,    -999,    -999,1,    -999,9,    -999,9,  38.5592, -69.0269,    -999,     -999,    -999,   2.4924,   2.7141,2,-999,9,-999,-999,9,-999,    35.0838,2,-999,9,20120327,       1129
33AT20120324,        A22,      10,          1,          3,          3,2,20120327,       1106,    38.5597,   -69.0260,       3502,  2978.5,   2.5364,  34.9109,2,  34.9101,2,    273.2,2,   272.4,2,   19.69,2,   17.03,2,    0.00,2,    1.15,2,   1.734,2,   0.834,2,   0.095,2,    0.42,2,    -999,9,    -999,9,     -999,9,     -999,    -999,9,     -999,9,    -999,9,   2.5360,2,    -999,9,    -999,9,    -999,    -999,9,    -999,    -999,1,    -999,9,    -999,9,  38.5592, -69.0269,    -999,     -999,    -999,   2.2979,   2.5360,2,-999,9,-999,-999,9,-999,    35.0747,2,-999,9,20120327,       1124
33AT20120324,        A22,      10,          1,          2,          2,2,20120327,       1106,    38.5597,   -69.0260,       3502,  3149.3,   2.4096,  34.9043,2,  34.9044,2,    272.6,2,   272.8,2,   21.75,2,   17.22,2,    0.00,2,    1.17,2,   1.600,2,   0.781,2,   0.078,2,    0.34,2,  2166.6,2, 2315.68,6,   7.7366,6,       25,    -999,9,     -999,9,    -999,9,   2.4092,2,    -999,9,    -999,9,    -999,    -999,9,    -999,    -999,1,    -999,9,    -999,9,  38.5592, -69.0268,    -999,     -999,    -999,   2.1565,   2.4092,2,-999,9,-999,-999,9,-999,    35.0690,2,-999,9,20120327,       1121
33AT20120324,        A22,      10,          1,          1,          1,2,20120327,       1106,    38.5597,   -69.0260,       3502,  3491.8,   2.2591,  34.8949,2,  34.8947,2,    273.1,2,   273.2,2,   23.23,2,   17.15,2,    0.00,2,    1.17,2,   1.915,2,   0.943,2,   0.108,2,    0.47,2,  2169.6,6, 2317.16,2,   7.7341,2,       25,    -999,9,     -999,9,    -999,9,   2.2593,2,    -999,9,    -999,9,    -999,    -999,9,    -999,    -999,1,    -999,9,    -999,9,  38.5597, -69.0259,    -999,     -999,    -999,   1.9736,   2.2593,2,-999,9,-999,-999,9,-999,    35.0593,2,-999,9,20120327,       1107