BOTTLE,20220725CCHSIOCBG
EXPOCODE,SECT_ID,STNNBR,CASTNO,SAMPNO,BTLNBR,BTLNBR_FLAG_W,DATE,TIME,LATITUDE,LONGITUDE,DEPTH,CTDPRS,CTDTMP,CTDSAL,CTDSAL_FLAG_W,SALNTY,SALNTY_FLAG_W,CTDOXY,CTDOXY_FLAG_W,OXYGEN,OXYGEN_FLAG_W,SILCAT,SILCAT_FLAG_W,NITRAT,NITRAT_FLAG_W,NITRIT,NITRIT_FLAG_W,PHSPHT,PHSPHT_FLAG_W,CFC-11,CFC-11_FLAG_W,CFC-12,CFC-12_FLAG_W,CFC113,CFC113_FLAG_W,SF6,SF6_FLAG_W,TCARBN,TCARBN_FLAG_W,ALKALI,ALKALI_FLAG_W,PH_TOT,PH_TOT_FLAG_W,PH_TMP,TRITUM,TRITUM_FLAG_W,HELIUM,HELIUM_FLAG_W,DELHE3,DELHE3_FLAG_W,REFTMP,REFTMP_FLAG_W,DELC13,DELC13_FLAG_W,DELC14,DELC14_FLAG_W,C14ERR,NEON,NEON_FLAG_W,NEONER,CCL4,CCL4_FLAG_W,DOC,DOC_FLAG_W,TDN,TDN_FLAG_W,BTL_LAT,BTL_LON,TRITER,HELIER,DELHER,THETA,SBE35,SBE35_FLAG_W,14C-DOC,14C-DOC_FLAG_W,14C-DOCERR,13C-DOC,13C-DOC_FLAG_W,13C-DOCERR,SALTREF,SALTREF_FLAG_W,LAB_DEN,LAB_DEN_FLAG_W,BTL_DATE,BTL_TIME
,,,,,,,,,,,METERS,DBAR,ITS-90,PSS-78,,PSS-78,,UMOL/KG,,UMOL/KG,,UMOL/KG,,UMOL/KG,,UMOL/KG,,UMOL/KG,,PMOL/KG,,PMOL/KG,,PMOL/KG,,FMOL/KG,,UMOL/KG,,UMOL/KG,,,,DEG C,TU,,NMOL/KG,,PERCNT,,DEG C,,/MILLE,,/MILLE,,/MILLE,NMOL/KG,,NMOL/KG,PMOL/KG,,UMOL/KG,,UMOL/KG,,,,TU,NMOL/KG,PERCNT,DEG C,ITS-90,,/MILLE,,/MILLE,/MILLE,,/MILLE,G/KG,,KG/M^3,,,
33AT20120324,        A22,       7,          1,          5,          5,2,20120326,       1621,    39.2582,   -69.4898,       2674,  2162.6,   3.1755,  34.9430,2,  34.9439,2,    265.4,2,   265.7,2,   17.64,2,   17.85,2,    0.00,2,    1.19,2,   1.140,2,   0.597,2,   0.047,2,    -999,5,    -999,9,    -999,9,   7.7385,2,       25,    -999,9,     -999,9,    -999,9,   3.1753,2,    -999,9,    -999,9,    -999,    -999,9,    -999,    0.98,2,   43.88,2,   20.53,2,  39.2582, -69.4905,    -999,     -999,    -999,   3.0051,   3.1753,2,-999,9,-999,-999,9,-999,    35.1087,2,-999,9,20120326,       1635
33AT20120324,        A22,       7,          1,          4,          4,2,20120326,       1621,    39.2582,   -69.4898,       2674,  2364.1,   2.9694,  34.9294,2,  34.9297,2,    268.1,2,   268.8,2,   17.44,2,   17.43,2,    0.00,2,    1.17,2,   1.460,2,   0.754,2,   0.066,2,    -999,5,    -999,9,    -999,9,     -999,9,     -999,    -999,9,     -999,9,    -999,9,   2.9706,2,    -999,9,    -999,9,    -999,    -999,9,    -999,    1.16,2,   43.72,2,   20.65,2,  39.2582, -69.4904,    -999,     -999,    -999,   2.7832,   2.9706,2,-999,9,-999,-999,9,-999,    35.0944,2,-999,9,20120326,       1631
33AT20120324,        A22,       7,          1,          3,          3,2,20120326,       1621,    39.2582,   -69.4898,       2674,  2570.7,   2.7428,  34.9202,2,  34.9215,2,    271.5,2,   271.1,2,   18.16,2,   17.21,2,    0.00,2,    1.15,2,   1.581,2,   0.859,2,   0.083,2,    -999,5,  2159.4,2, 2312.33,2,   7.7352,2,       25,    -999,9,     -999,9,    -999,9,   2.7404,2,    -999,9,    -999,9,    -999,    -999,9,    -999,    1.21,2,   43.36,2,   20.58,2,  39.2582, -69.4901,    -999,     -999,    -999,   2.5408,   2.7404,2,-999,9,-999,-999,9,-999,    35.0861,2,-999,9,20120326,       1626
33AT20120324,        A22,       7,          1,          1,          1,2,20120326,       1621,    39.2582,   -69.4898,       2674,  2663.4,   2.6498,  34.9155,2,  34.9164,2,    271.5,2,   271.1,2,   18.31,2,   17.09,2,    0.00,2,    1.14,2,   1.645,2,   0.884,2,   0.093,2,    -999,5,  2160.5,6, 2314.14,2,   7.7354,6,       25,    -999,9,     -999,9,    -999,9,   2.6494,2,    -999,9,    -999,9,    -999,    -999,9,    -999,    1.23,2,   43.45,2,   20.28,2,  39.2582, -69.4898,    -999,     -999,    -999,   2.4405,   2.6494,2,-999,9,-999,-999,9,-999,    35.0810,2,-999,9,20120326,       1622
33AT20120324,        A22,       7,          1,          2,          2,2,20120326,       1621,    39.2582,   -69.4898,       2674,  2663.5,   2.6490,  34.9159,2,  34.9177,2,     -999,9,    -999,9,   18.54,2,   17.09,2,    0.00,2,    1.15,2,    -999,9,    -999,9,    -999,9,    -999,9,    -999,9,    -999,9,     -999,9,     -999,    -999,9,     -999,9,    -999,9,   2.6488,2,    -999,9,    -999,9,    -999,    -999,9,    -999,    -999,9,    -999,9,    -999,9,  39.2582, -69.4898,    -999,     -999,    -999,   2.4397,   2.6488,2,-999,9,-999,-999,9,-999,    35.0824,2,-999,9,20120326,       1622