BOTTLE,20220725CCHSIOCBG
EXPOCODE,SECT_ID,STNNBR,CASTNO,SAMPNO,BTLNBR,BTLNBR_FLAG_W,DATE,TIME,LATITUDE,LONGITUDE,DEPTH,CTDPRS,CTDTMP,CTDSAL,CTDSAL_FLAG_W,SALNTY,SALNTY_FLAG_W,CTDOXY,CTDOXY_FLAG_W,OXYGEN,OXYGEN_FLAG_W,SILCAT,SILCAT_FLAG_W,NITRAT,NITRAT_FLAG_W,NITRIT,NITRIT_FLAG_W,PHSPHT,PHSPHT_FLAG_W,CFC-11,CFC-11_FLAG_W,CFC-12,CFC-12_FLAG_W,CFC113,CFC113_FLAG_W,SF6,SF6_FLAG_W,TCARBN,TCARBN_FLAG_W,ALKALI,ALKALI_FLAG_W,PH_TOT,PH_TOT_FLAG_W,PH_TMP,TRITUM,TRITUM_FLAG_W,HELIUM,HELIUM_FLAG_W,DELHE3,DELHE3_FLAG_W,REFTMP,REFTMP_FLAG_W,DELC13,DELC13_FLAG_W,DELC14,DELC14_FLAG_W,C14ERR,NEON,NEON_FLAG_W,NEONER,CCL4,CCL4_FLAG_W,DOC,DOC_FLAG_W,TDN,TDN_FLAG_W,BTL_LAT,BTL_LON,TRITER,HELIER,DELHER,THETA,SBE35,SBE35_FLAG_W,14C-DOC,14C-DOC_FLAG_W,14C-DOCERR,13C-DOC,13C-DOC_FLAG_W,13C-DOCERR,SALTREF,SALTREF_FLAG_W,LAB_DEN,LAB_DEN_FLAG_W,BTL_DATE,BTL_TIME
,,,,,,,,,,,METERS,DBAR,ITS-90,PSS-78,,PSS-78,,UMOL/KG,,UMOL/KG,,UMOL/KG,,UMOL/KG,,UMOL/KG,,UMOL/KG,,PMOL/KG,,PMOL/KG,,PMOL/KG,,FMOL/KG,,UMOL/KG,,UMOL/KG,,,,DEG C,TU,,NMOL/KG,,PERCNT,,DEG C,,/MILLE,,/MILLE,,/MILLE,NMOL/KG,,NMOL/KG,PMOL/KG,,UMOL/KG,,UMOL/KG,,,,TU,NMOL/KG,PERCNT,DEG C,ITS-90,,/MILLE,,/MILLE,/MILLE,,/MILLE,G/KG,,KG/M^3,,,
33AT20120324,        A22,      47,          1,          5,          5,2,20120407,       2054,    19.3543,   -66.0016,       7900,  4467.9,   2.2699,  34.8866,2,  34.8847,2,    263.6,2,   263.4,2,   32.68,2,   19.04,2,    0.00,2,    1.31,2,   0.698,2,   0.356,2,   0.047,2,    0.00,4,    -999,9,    -999,9,     -999,9,     -999,    -999,9,     -999,9,    -999,9,   2.2701,2,    -999,9,    -999,9,    -999,    -999,9,    -999,    0.80,2,   40.93,2,   21.46,2,  19.3538, -66.0017,    -999,     -999,    -999,   1.8735,   2.2701,2,-999,9,-999,-999,9,-999,    35.0492,2,-999,1,20120407,       2128
33AT20120324,        A22,      47,          1,          4,          4,2,20120407,       2054,    19.3543,   -66.0016,       7900,  4881.4,   2.2463,  34.8788,2,  34.8782,2,    260.2,2,   260.0,2,   37.55,2,   19.84,2,    0.00,2,    1.37,2,   0.523,2,   0.281,2,   0.035,2,    0.00,4,  2183.5,2, 2333.93,2,   7.7323,2,       25,    -999,9,     -999,9,    -999,9,   2.2467,2,    -999,9,    -999,9,    -999,    -999,9,    -999,    0.63,2,   40.92,2,   21.88,2,  19.3540, -66.0017,    -999,     -999,    -999,   1.8003,   2.2467,2,-999,9,-999,-999,9,-999,    35.0427,2,-999,1,20120407,       2120
33AT20120324,        A22,      47,          1,          3,          3,2,20120407,       2054,    19.3543,   -66.0016,       7900,  5293.0,   2.1561,  34.8614,2,  34.8607,2,    254.0,2,   253.0,2,   47.25,2,   21.40,2,    0.00,2,    1.47,2,   0.270,2,   0.162,2,   0.021,2,    0.12,4,    -999,9,    -999,9,     -999,9,     -999,    -999,9,     -999,9,    -999,9,   2.1560,2,    -999,9,    -999,9,    -999,    -999,9,    -999,    0.36,2,   41.03,2,   23.97,2,  19.3541, -66.0016,    -999,     -999,    -999,   1.6611,   2.1560,2,-999,9,-999,-999,9,-999,    35.0251,2,-999,1,20120407,       2112
33AT20120324,        A22,      47,          1,          2,          2,2,20120407,       2054,    19.3543,   -66.0016,       7900,  5702.9,   2.0147,  34.8375,2,  34.8365,2,    246.4,2,   247.0,2,   59.11,2,   23.26,2,    0.00,2,    1.60,2,   0.118,2,   0.072,2,   0.009,2,    0.00,4,  2206.5,2, 2346.45,6,   7.7091,2,       25,    -999,9,     -999,9,    -999,9,   2.0143,2,    -999,9,    -999,9,    -999,    -999,9,    -999,    0.22,2,   40.69,2,   25.93,2,  19.3542, -66.0016,    -999,     -999,    -999,   1.4714,   2.0143,2,-999,9,-999,-999,9,-999,    35.0008,2,-999,1,20120407,       2103
33AT20120324,        A22,      47,          1,          1,          1,2,20120407,       2054,    19.3543,   -66.0016,       7900,  6117.0,   2.0270,  34.8317,2,  34.8314,2,    244.3,2,   244.5,2,   61.74,2,   23.69,2,    0.00,2,    1.63,2,   0.108,2,   0.065,2,   0.008,2,    0.22,4,  2210.0,6, 2347.73,2,   7.7068,2,       25,    -999,9,     -999,9,    -999,9,   2.0266,2,    -999,9,    -999,9,    -999,    -999,9,    -999,    0.18,2,   40.67,2,   26.15,2,  19.3543, -66.0016,    -999,     -999,    -999,   1.4273,   2.0266,2,-999,9,-999,-999,9,-999,    34.9957,2,-999,1,20120407,       2054