BOTTLE,20220725CCHSIOCBG
EXPOCODE,SECT_ID,STNNBR,CASTNO,SAMPNO,BTLNBR,BTLNBR_FLAG_W,DATE,TIME,LATITUDE,LONGITUDE,DEPTH,CTDPRS,CTDTMP,CTDSAL,CTDSAL_FLAG_W,SALNTY,SALNTY_FLAG_W,CTDOXY,CTDOXY_FLAG_W,OXYGEN,OXYGEN_FLAG_W,SILCAT,SILCAT_FLAG_W,NITRAT,NITRAT_FLAG_W,NITRIT,NITRIT_FLAG_W,PHSPHT,PHSPHT_FLAG_W,CFC-11,CFC-11_FLAG_W,CFC-12,CFC-12_FLAG_W,CFC113,CFC113_FLAG_W,SF6,SF6_FLAG_W,TCARBN,TCARBN_FLAG_W,ALKALI,ALKALI_FLAG_W,PH_TOT,PH_TOT_FLAG_W,PH_TMP,TRITUM,TRITUM_FLAG_W,HELIUM,HELIUM_FLAG_W,DELHE3,DELHE3_FLAG_W,REFTMP,REFTMP_FLAG_W,DELC13,DELC13_FLAG_W,DELC14,DELC14_FLAG_W,C14ERR,NEON,NEON_FLAG_W,NEONER,CCL4,CCL4_FLAG_W,DOC,DOC_FLAG_W,TDN,TDN_FLAG_W,BTL_LAT,BTL_LON,TRITER,HELIER,DELHER,THETA,SBE35,SBE35_FLAG_W,14C-DOC,14C-DOC_FLAG_W,14C-DOCERR,13C-DOC,13C-DOC_FLAG_W,13C-DOCERR,SALTREF,SALTREF_FLAG_W,LAB_DEN,LAB_DEN_FLAG_W,BTL_DATE,BTL_TIME
,,,,,,,,,,,METERS,DBAR,ITS-90,PSS-78,,PSS-78,,UMOL/KG,,UMOL/KG,,UMOL/KG,,UMOL/KG,,UMOL/KG,,UMOL/KG,,PMOL/KG,,PMOL/KG,,PMOL/KG,,FMOL/KG,,UMOL/KG,,UMOL/KG,,,,DEG C,TU,,NMOL/KG,,PERCNT,,DEG C,,/MILLE,,/MILLE,,/MILLE,NMOL/KG,,NMOL/KG,PMOL/KG,,UMOL/KG,,UMOL/KG,,,,TU,NMOL/KG,PERCNT,DEG C,ITS-90,,/MILLE,,/MILLE,/MILLE,,/MILLE,G/KG,,KG/M^3,,,
33AT20120324,        A22,      74,          1,          5,          5,2,20120413,       1101,    13.4759,   -69.8231,       3750,  2832.0,   4.1462,  34.9744,2,  34.9716,4,    215.5,2,   215.3,2,   28.75,2,   22.12,2,    0.00,2,    1.50,2,    -999,9,    -999,9,    -999,9,    -999,9,    -999,9,    -999,9,     -999,9,     -999,    -999,9,     -999,9,    -999,9,   4.1462,2,    -999,9,    -999,9,    -999,    -999,9,    -999,    -999,9,    -999,9,    -999,9,  13.4758, -69.8231,    -999,     -999,    -999,   3.8894,   4.1462,2,-999,9,-999,-999,9,-999,    35.1366,4,-999,9,20120413,       1121
33AT20120324,        A22,      74,          1,          4,          4,2,20120413,       1101,    13.4759,   -69.8231,       3750,  3035.2,   4.1680,  34.9746,2,  34.9722,4,    215.2,2,   215.3,2,   28.73,2,   22.12,2,    0.00,2,    1.50,2,   0.065,2,   0.042,2,   0.007,2,    0.12,2,    -999,9,    -999,9,     -999,9,     -999,    -999,9,     -999,9,    -999,9,   4.1679,2,    -999,9,    -999,9,    -999,    -999,9,    -999,    -999,1,    -999,9,    -999,9,  13.4758, -69.8231,    -999,     -999,    -999,   3.8881,   4.1679,2,-999,9,-999,-999,9,-999,    35.1371,4,-999,9,20120413,       1117
33AT20120324,        A22,      74,          1,          3,          3,2,20120413,       1101,    13.4759,   -69.8231,       3750,  3338.6,   4.2020,  34.9747,2,  34.9727,2,    214.5,2,   215.1,2,   29.06,2,   22.10,2,    0.00,2,    1.50,2,   0.062,2,   0.046,2,   0.007,2,    0.13,2,    -999,9,    -999,9,     -999,9,     -999,    -999,9,     -999,9,    -999,9,   4.2021,2,    -999,9,    -999,9,    -999,    -999,9,    -999,    -999,1,    -999,9,    -999,9,  13.4758, -69.8231,    -999,     -999,    -999,   3.8865,   4.2021,2,-999,9,-999,-999,9,-999,    35.1376,2,-999,9,20120413,       1111
33AT20120324,        A22,      74,          1,          2,          2,2,20120413,       1101,    13.4759,   -69.8231,       3750,  3547.0,   4.2263,  34.9746,2,  34.9729,2,    214.9,2,   215.0,2,   29.00,2,   22.07,2,    0.00,2,    1.50,2,   0.073,2,   0.048,2,   0.007,2,    0.13,2,    -999,9,    -999,9,     -999,9,     -999,    -999,9,     -999,9,    -999,9,   4.2260,2,    -999,9,    -999,9,    -999,    -999,9,    -999,    -999,1,    -999,9,    -999,9,  13.4759, -69.8231,    -999,     -999,    -999,   3.8856,   4.2260,2,-999,9,-999,-999,9,-999,    35.1378,2,-999,9,20120413,       1107
33AT20120324,        A22,      74,          1,          1,          1,2,20120413,       1101,    13.4759,   -69.8231,       3750,  3784.9,   4.2558,  34.9746,2,  34.9736,2,    215.3,2,   215.4,2,   29.07,2,   22.11,2,    0.00,2,    1.49,2,   0.088,2,   0.055,2,   0.008,2,    0.14,2,    -999,9,    -999,9,     -999,9,     -999,    -999,9,     -999,9,    -999,9,   4.2559,2,    -999,9,    -999,9,    -999,    -999,9,    -999,    -999,1,    -999,9,    -999,9,  13.4758, -69.8231,    -999,     -999,    -999,   3.8855,   4.2559,2,-999,9,-999,-999,9,-999,    35.1385,2,-999,9,20120413,       1102