BOTTLE,20220725CCHSIOCBG
EXPOCODE,SECT_ID,STNNBR,CASTNO,SAMPNO,BTLNBR,BTLNBR_FLAG_W,DATE,TIME,LATITUDE,LONGITUDE,DEPTH,CTDPRS,CTDTMP,CTDSAL,CTDSAL_FLAG_W,SALNTY,SALNTY_FLAG_W,CTDOXY,CTDOXY_FLAG_W,OXYGEN,OXYGEN_FLAG_W,SILCAT,SILCAT_FLAG_W,NITRAT,NITRAT_FLAG_W,NITRIT,NITRIT_FLAG_W,PHSPHT,PHSPHT_FLAG_W,CFC-11,CFC-11_FLAG_W,CFC-12,CFC-12_FLAG_W,CFC113,CFC113_FLAG_W,SF6,SF6_FLAG_W,TCARBN,TCARBN_FLAG_W,ALKALI,ALKALI_FLAG_W,PH_TOT,PH_TOT_FLAG_W,PH_TMP,TRITUM,TRITUM_FLAG_W,HELIUM,HELIUM_FLAG_W,DELHE3,DELHE3_FLAG_W,REFTMP,REFTMP_FLAG_W,DELC13,DELC13_FLAG_W,DELC14,DELC14_FLAG_W,C14ERR,NEON,NEON_FLAG_W,NEONER,CCL4,CCL4_FLAG_W,DOC,DOC_FLAG_W,TDN,TDN_FLAG_W,BTL_LAT,BTL_LON,TRITER,HELIER,DELHER,THETA,SBE35,SBE35_FLAG_W,14C-DOC,14C-DOC_FLAG_W,14C-DOCERR,13C-DOC,13C-DOC_FLAG_W,13C-DOCERR,SALTREF,SALTREF_FLAG_W,LAB_DEN,LAB_DEN_FLAG_W,BTL_DATE,BTL_TIME
,,,,,,,,,,,METERS,DBAR,ITS-90,PSS-78,,PSS-78,,UMOL/KG,,UMOL/KG,,UMOL/KG,,UMOL/KG,,UMOL/KG,,UMOL/KG,,PMOL/KG,,PMOL/KG,,PMOL/KG,,FMOL/KG,,UMOL/KG,,UMOL/KG,,,,DEG C,TU,,NMOL/KG,,PERCNT,,DEG C,,/MILLE,,/MILLE,,/MILLE,NMOL/KG,,NMOL/KG,PMOL/KG,,UMOL/KG,,UMOL/KG,,,,TU,NMOL/KG,PERCNT,DEG C,ITS-90,,/MILLE,,/MILLE,/MILLE,,/MILLE,G/KG,,KG/M^3,,,
33AT20120324,        A22,      15,          1,          5,          5,2,20120328,       2029,    37.3760,   -68.2097,       4735,  3758.9,   2.3640,  34.8990,2,  34.8991,2,    269.3,2,   270.1,2,   25.12,2,   17.85,2,    0.00,2,    1.21,2,   1.171,2,   0.621,2,   0.093,2,    -999,5,    -999,9,    -999,9,     -999,9,     -999,    -999,9,     -999,9,    -999,9,   2.3636,2,    -999,9,    -999,9,    -999,    -999,9,    -999,    1.14,2,   43.70,2,   22.24,2,  37.3758, -68.2095,    -999,     -999,    -999,   2.0466,   2.3636,2,-999,9,-999,-999,9,-999,    35.0636,2,-999,9,20120328,       2052
33AT20120324,        A22,      15,          1,          4,          4,2,20120328,       2029,    37.3760,   -68.2097,       4735,  4064.3,   2.2806,  34.8913,2,  34.8914,2,    267.9,2,   267.0,2,   29.28,2,   18.45,2,    0.00,2,    1.25,2,   0.958,2,   0.502,2,   0.078,2,    -999,5,  2172.2,2, 2321.14,2,   7.7351,2,       25,    -999,9,     -999,9,    -999,9,   2.2802,2,    -999,9,    -999,9,    -999,    -999,9,    -999,    1.00,2,   43.15,2,   22.76,2,  37.3761, -68.2097,    -999,     -999,    -999,   1.9311,   2.2802,2,-999,9,-999,-999,9,-999,    35.0559,2,-999,9,20120328,       2046
33AT20120324,        A22,      15,          1,          3,          3,2,20120328,       2029,    37.3760,   -68.2097,       4735,  4373.6,   2.2431,  34.8850,2,  34.8845,2,    264.0,2,   263.2,2,   33.74,2,   19.16,2,    0.00,2,    1.30,2,   0.705,2,   0.369,2,   0.064,2,    -999,5,  2176.5,2, 2327.11,2,   7.7360,2,       25,    -999,9,     -999,9,    -999,9,   2.2428,2,    -999,9,    -999,9,    -999,    -999,9,    -999,    0.82,2,   43.34,2,   22.04,2,  37.3760, -68.2096,    -999,     -999,    -999,   1.8587,   2.2428,2,-999,9,-999,-999,9,-999,    35.0490,2,-999,9,20120328,       2040
33AT20120324,        A22,      15,          1,          2,          2,2,20120328,       2029,    37.3760,   -68.2097,       4735,  4580.7,   2.2351,  34.8814,2,  34.8812,2,    261.9,2,   262.6,2,   35.45,2,   19.45,2,    0.00,2,    1.33,2,   0.641,2,   0.359,2,   0.064,2,    -999,5,  2181.2,2, 2331.72,6,   7.7380,2,       25,    -999,9,     -999,9,    -999,9,   2.2345,2,    -999,9,    -999,9,    -999,    -999,9,    -999,    0.70,2,   43.16,2,   23.23,2,  37.3760, -68.2096,    -999,     -999,    -999,   1.8263,   2.2345,2,-999,9,-999,-999,9,-999,    35.0456,2,-999,9,20120328,       2035
33AT20120324,        A22,      15,          1,          1,          1,2,20120328,       2029,    37.3760,   -68.2097,       4735,  4822.4,   2.2352,  34.8778,2,  34.8786,2,    259.7,2,   259.9,2,   37.90,2,   19.83,2,    0.00,2,    1.36,2,   0.576,2,   0.327,2,   0.057,2,    -999,5,  2184.9,6, 2335.32,2,   7.7332,6,       25,    -999,9,     -999,9,    -999,9,   2.2346,2,    -999,9,    -999,9,    -999,    -999,9,    -999,    0.65,2,   43.78,2,   23.81,2,  37.3760, -68.2097,    -999,     -999,    -999,   1.7968,   2.2346,2,-999,9,-999,-999,9,-999,    35.0431,2,-999,9,20120328,       2029