BOTTLE,20220725CCHSIOCBG
EXPOCODE,SECT_ID,STNNBR,CASTNO,SAMPNO,BTLNBR,BTLNBR_FLAG_W,DATE,TIME,LATITUDE,LONGITUDE,DEPTH,CTDPRS,CTDTMP,CTDSAL,CTDSAL_FLAG_W,SALNTY,SALNTY_FLAG_W,CTDOXY,CTDOXY_FLAG_W,OXYGEN,OXYGEN_FLAG_W,SILCAT,SILCAT_FLAG_W,NITRAT,NITRAT_FLAG_W,NITRIT,NITRIT_FLAG_W,PHSPHT,PHSPHT_FLAG_W,CFC-11,CFC-11_FLAG_W,CFC-12,CFC-12_FLAG_W,CFC113,CFC113_FLAG_W,SF6,SF6_FLAG_W,TCARBN,TCARBN_FLAG_W,ALKALI,ALKALI_FLAG_W,PH_TOT,PH_TOT_FLAG_W,PH_TMP,TRITUM,TRITUM_FLAG_W,HELIUM,HELIUM_FLAG_W,DELHE3,DELHE3_FLAG_W,REFTMP,REFTMP_FLAG_W,DELC13,DELC13_FLAG_W,DELC14,DELC14_FLAG_W,C14ERR,NEON,NEON_FLAG_W,NEONER,CCL4,CCL4_FLAG_W,DOC,DOC_FLAG_W,TDN,TDN_FLAG_W,BTL_LAT,BTL_LON,TRITER,HELIER,DELHER,THETA,SBE35,SBE35_FLAG_W,14C-DOC,14C-DOC_FLAG_W,14C-DOCERR,13C-DOC,13C-DOC_FLAG_W,13C-DOCERR,SALTREF,SALTREF_FLAG_W,LAB_DEN,LAB_DEN_FLAG_W,BTL_DATE,BTL_TIME
,,,,,,,,,,,METERS,DBAR,ITS-90,PSS-78,,PSS-78,,UMOL/KG,,UMOL/KG,,UMOL/KG,,UMOL/KG,,UMOL/KG,,UMOL/KG,,PMOL/KG,,PMOL/KG,,PMOL/KG,,FMOL/KG,,UMOL/KG,,UMOL/KG,,,,DEG C,TU,,NMOL/KG,,PERCNT,,DEG C,,/MILLE,,/MILLE,,/MILLE,NMOL/KG,,NMOL/KG,PMOL/KG,,UMOL/KG,,UMOL/KG,,,,TU,NMOL/KG,PERCNT,DEG C,ITS-90,,/MILLE,,/MILLE,/MILLE,,/MILLE,G/KG,,KG/M^3,,,
33AT20120324,        A22,      18,          1,          5,          5,2,20120330,       0144,    36.1951,   -67.4401,       4994,  4064.1,   2.2699,  34.8905,2,  34.8908,2,    265.5,2,   266.0,2,   30.32,2,   18.56,2,    0.00,2,    1.28,2,   1.001,2,   0.435,2,   0.056,2,    0.22,2,  2173.3,2, 2327.15,2,   7.7352,2,       25,    -999,9,     -999,9,    -999,9,   2.2702,2,    -999,9,    -999,9,    -999,    -999,9,    -999,    -999,1,    -999,9,    -999,9,  36.1948, -67.4404,    -999,     -999,    -999,   1.9207,   2.2702,2,-999,9,-999,-999,9,-999,    35.0553,2,-999,9,20120330,        205
33AT20120324,        A22,      18,          1,          4,          4,2,20120330,       0144,    36.1951,   -67.4401,       4994,  4373.7,   2.2502,  34.8856,2,  34.8857,2,    263.6,2,   263.6,2,   33.03,2,   18.96,2,    0.00,2,    1.31,2,   0.929,2,   0.400,2,   0.050,2,    0.13,2,    -999,9,    -999,9,     -999,9,     -999,   0.173,2,   1.8803,2,    5.06,2,   2.2500,2,    -999,9,    -999,9,    -999,   7.952,2,   0.036,    -999,1,    -999,9,    -999,9,  36.1949, -67.4403,   0.009,   0.0075,    0.15,   1.8656,   2.2500,2,-999,9,-999,-999,9,-999,    35.0502,2,-999,9,20120330,        159
33AT20120324,        A22,      18,          1,          3,          3,2,20120330,       0144,    36.1951,   -67.4401,       4994,  4680.3,   2.2563,  34.8823,2,  34.8823,2,    262.1,2,   262.1,2,   34.97,2,   19.29,2,    0.00,2,    1.33,2,   0.842,2,   0.370,2,   0.044,2,    0.16,2,  2179.3,2, 2332.18,2,   7.7341,2,       25,    -999,9,     -999,9,    -999,9,   2.2562,2,    -999,9,    -999,9,    -999,    -999,9,    -999,    -999,1,    -999,9,    -999,9,  36.1950, -67.4402,    -999,     -999,    -999,   1.8347,   2.2562,2,-999,9,-999,-999,9,-999,    35.0468,2,-999,9,20120330,        153
33AT20120324,        A22,      18,          1,          2,          2,2,20120330,       0144,    36.1951,   -67.4401,       4994,  4887.2,   2.2721,  34.8811,2,  34.8815,2,    261.6,2,   262.2,2,   35.71,2,   19.43,2,    0.00,2,    1.33,2,   0.822,2,   0.349,2,   0.050,2,    0.17,2,  2179.5,2, 2335.42,6,   7.7347,2,       25,    -999,9,     -999,9,    -999,9,   2.2721,2,    -999,9,    -999,9,    -999,    -999,9,    -999,    -999,1,    -999,9,    -999,9,  36.1950, -67.4402,    -999,     -999,    -999,   1.8245,   2.2721,2,-999,9,-999,-999,9,-999,    35.0460,2,-999,9,20120330,        148
33AT20120324,        A22,      18,          1,          1,          1,2,20120330,       0144,    36.1951,   -67.4401,       4994,  5074.9,   2.2911,  34.8804,2,  34.8815,2,    261.6,2,   261.4,2,   35.93,2,   19.44,2,    0.00,2,    1.34,2,   0.816,2,   0.349,2,   0.037,2,    0.19,2,  2181.5,6, 2334.14,2,   7.7339,6,       25,   0.165,2,   1.8837,2,    4.63,2,   2.2910,2,    -999,9,    -999,9,    -999,   8.016,2,   0.036,    -999,1,    -999,9,    -999,9,  36.1951, -67.4401,   0.009,   0.0075,    0.15,   1.8192,   2.2910,2,-999,9,-999,-999,9,-999,    35.0460,2,-999,9,20120330,        144