BOTTLE,20220725CCHSIOCBG
EXPOCODE,SECT_ID,STNNBR,CASTNO,SAMPNO,BTLNBR,BTLNBR_FLAG_W,DATE,TIME,LATITUDE,LONGITUDE,DEPTH,CTDPRS,CTDTMP,CTDSAL,CTDSAL_FLAG_W,SALNTY,SALNTY_FLAG_W,CTDOXY,CTDOXY_FLAG_W,OXYGEN,OXYGEN_FLAG_W,SILCAT,SILCAT_FLAG_W,NITRAT,NITRAT_FLAG_W,NITRIT,NITRIT_FLAG_W,PHSPHT,PHSPHT_FLAG_W,CFC-11,CFC-11_FLAG_W,CFC-12,CFC-12_FLAG_W,CFC113,CFC113_FLAG_W,SF6,SF6_FLAG_W,TCARBN,TCARBN_FLAG_W,ALKALI,ALKALI_FLAG_W,PH_TOT,PH_TOT_FLAG_W,PH_TMP,TRITUM,TRITUM_FLAG_W,HELIUM,HELIUM_FLAG_W,DELHE3,DELHE3_FLAG_W,REFTMP,REFTMP_FLAG_W,DELC13,DELC13_FLAG_W,DELC14,DELC14_FLAG_W,C14ERR,NEON,NEON_FLAG_W,NEONER,CCL4,CCL4_FLAG_W,DOC,DOC_FLAG_W,TDN,TDN_FLAG_W,BTL_LAT,BTL_LON,TRITER,HELIER,DELHER,THETA,SBE35,SBE35_FLAG_W,14C-DOC,14C-DOC_FLAG_W,14C-DOCERR,13C-DOC,13C-DOC_FLAG_W,13C-DOCERR,SALTREF,SALTREF_FLAG_W,LAB_DEN,LAB_DEN_FLAG_W,BTL_DATE,BTL_TIME
,,,,,,,,,,,METERS,DBAR,ITS-90,PSS-78,,PSS-78,,UMOL/KG,,UMOL/KG,,UMOL/KG,,UMOL/KG,,UMOL/KG,,UMOL/KG,,PMOL/KG,,PMOL/KG,,PMOL/KG,,FMOL/KG,,UMOL/KG,,UMOL/KG,,,,DEG C,TU,,NMOL/KG,,PERCNT,,DEG C,,/MILLE,,/MILLE,,/MILLE,NMOL/KG,,NMOL/KG,PMOL/KG,,UMOL/KG,,UMOL/KG,,,,TU,NMOL/KG,PERCNT,DEG C,ITS-90,,/MILLE,,/MILLE,/MILLE,,/MILLE,G/KG,,KG/M^3,,,
33AT20120324,        A22,      38,          1,         36,         36,2,20120405,       0426,    24.3201,   -65.7498,       5794,     3.0,  23.9046,  36.5831,2,  36.5827,2,    210.8,2,   211.3,2,    0.71,2,    0.00,2,    0.00,2,    0.00,2,   1.839,2,   1.150,2,   0.159,2,    1.27,2,  2044.1,6, 2394.87,6,   8.1027,2,       25,   0.479,2,   1.7117,2,   -1.37,2,  23.9042,2,    -999,9,    -999,9,    -999,   6.775,2,   0.030,    -999,1,    -999,9,    -999,9,  24.3210, -65.7530,   0.010,   0.0068,    0.15,  23.9040,  23.9042,2,-999,9,-999,-999,9,-999,    36.7552,2,-999,9,20120405,        645
33AT20120324,        A22,      38,          1,         35,         35,2,20120405,       0426,    24.3201,   -65.7498,       5794,    26.6,  23.9003,  36.5827,2,  36.5821,2,    211.2,2,   211.5,2,    0.68,2,    0.00,2,    0.00,2,    0.00,2,   1.840,2,   1.148,2,   0.150,2,    1.27,2,    -999,9,    -999,9,     -999,9,     -999,    -999,9,     -999,9,    -999,9,  23.9003,2,    -999,9,    -999,9,    -999,    -999,9,    -999,    -999,1,    -999,9,    -999,9,  24.3210, -65.7530,    -999,     -999,    -999,  23.8947,  23.9003,2,-999,9,-999,-999,9,-999,    36.7546,2,-999,9,20120405,        641
33AT20120324,        A22,      38,          1,         34,         34,2,20120405,       0426,    24.3201,   -65.7498,       5794,    50.2,  23.8675,  36.6038,2,  36.5936,2,    211.1,2,   211.6,2,    0.71,2,    0.00,2,    0.00,2,    0.00,2,   1.863,2,   1.130,2,   0.153,2,    1.36,2,  2044.6,2, 2396.97,2,   8.1018,6,       25,    -999,9,     -999,9,    -999,9,  23.8696,2,    -999,9,    -999,9,    -999,    -999,9,    -999,    -999,1,    -999,9,    -999,9,  24.3210, -65.7530,    -999,     -999,    -999,  23.8569,  23.8696,2,-999,9,-999,-999,9,-999,    36.7661,2,-999,9,20120405,        639
33AT20120324,        A22,      38,          1,         33,         33,2,20120405,       0426,    24.3201,   -65.7498,       5794,    76.6,  23.3741,  36.8309,2,  36.8351,2,    215.7,2,   215.4,2,    0.38,2,    0.00,2,    0.00,2,    0.00,2,   1.844,2,   1.170,2,   0.153,2,    1.25,2,  2060.8,2, 2410.16,2,   8.0944,2,       25,   0.522,2,   1.7388,2,   -1.34,2,  23.3733,2,    -999,9,    -999,9,    -999,   6.868,2,   0.031,    -999,1,    -999,9,    -999,9,  24.3209, -65.7529,   0.011,   0.0070,    0.15,  23.3582,  23.3733,2,-999,9,-999,-999,9,-999,    37.0088,2,-999,9,20120405,        637
33AT20120324,        A22,      38,          1,         32,         32,2,20120405,       0426,    24.3201,   -65.7498,       5794,   103.3,  22.5709,  36.8426,2,  36.8419,2,    216.0,2,   214.1,2,    0.36,2,    0.00,2,    0.00,2,    0.00,2,   1.704,2,   1.202,2,   0.148,2,    1.32,2,  2072.3,2, 2409.89,2,   8.0773,2,       25,    -999,9,     -999,9,    -999,9,  22.5746,2,    -999,9,    -999,9,    -999,    -999,9,    -999,    -999,1,    -999,9,    -999,9,  24.3209, -65.7529,    -999,     -999,    -999,  22.5499,  22.5746,2,-999,9,-999,-999,9,-999,    37.0156,2,-999,9,20120405,        634
33AT20120324,        A22,      38,          1,         31,         31,2,20120405,       0426,    24.3201,   -65.7498,       5794,   150.2,  19.9757,  36.7828,2,  36.7814,2,    189.3,2,   187.8,2,    0.46,2,    1.02,2,    0.03,2,    0.01,2,   2.149,2,   1.323,2,   0.074,2,    1.30,2,    -999,9,    -999,9,     -999,9,     -999,   0.530,2,   1.7414,2,   -1.22,2,  19.9757,2,    -999,9,    -999,9,    -999,   6.872,2,   0.031,    -999,1,    -999,9,    -999,9,  24.3209, -65.7529,   0.009,   0.0070,    0.15,  19.9477,  19.9757,2,-999,9,-999,-999,9,-999,    36.9548,2,-999,9,20120405,        632
33AT20120324,        A22,      38,          1,         30,         30,2,20120405,       0426,    24.3201,   -65.7498,       5794,   202.8,  18.6305,  36.6258,2,  36.6272,2,    191.3,2,   193.6,2,    0.88,2,    3.41,2,    0.01,2,    0.12,2,   2.258,2,   1.380,2,   0.034,2,    1.25,2,  2118.0,2, 2394.20,2,   7.9779,2,       25,    -999,9,     -999,9,    -999,9,  18.6326,2,    -999,9,    -999,9,    -999,    -999,9,    -999,    -999,1,    -999,9,    -999,9,  24.3209, -65.7528,    -999,     -999,    -999,  18.5945,  18.6326,2,-999,9,-999,-999,9,-999,    36.8000,2,-999,9,20120405,        629
33AT20120324,        A22,      38,          1,         29,         29,2,20120405,       0426,    24.3201,   -65.7498,       5794,   250.8,  18.2076,  36.5786,2,  36.5789,2,    199.0,2,   201.2,2,    1.03,2,    3.87,2,    0.00,2,    0.17,2,   2.285,2,   1.428,2,   0.039,2,    1.37,2,    -999,9,    -999,9,     -999,9,     -999,   0.476,2,   1.7422,2,   -0.36,2,  18.2130,2,    -999,9,    -999,9,    -999,   7.134,2,   0.032,    -999,1,    -999,9,    -999,9,  24.3208, -65.7527,   0.008,   0.0070,    0.15,  18.1637,  18.2130,2,-999,9,-999,-999,9,-999,    36.7514,2,-999,9,20120405,        627
33AT20120324,        A22,      38,          1,         28,         28,2,20120405,       0426,    24.3201,   -65.7498,       5794,   301.8,  17.9131,  36.5408,2,  36.5416,2,    201.8,2,   201.8,2,    1.16,2,    4.37,2,    0.00,2,    0.19,2,   2.307,2,   1.384,2,   0.039,2,    1.28,2,  2115.1,2, 2389.96,2,   7.9766,2,       25,    -999,9,     -999,9,    -999,9,  17.9136,2,    -999,9,    -999,9,    -999,    -999,9,    -999,    -999,1,    -999,9,    -999,9,  24.3208, -65.7526,    -999,     -999,    -999,  17.8608,  17.9136,2,-999,9,-999,-999,9,-999,    36.7139,2,-999,9,20120405,        625
33AT20120324,        A22,      38,          1,         27,         27,2,20120405,       0426,    24.3201,   -65.7498,       5794,   348.9,  17.4859,  36.4624,2,  36.4612,2,    198.7,2,   196.7,2,    1.51,2,    5.57,2,    0.00,2,    0.27,2,   2.347,2,   1.435,2,   0.037,2,    1.18,2,    -999,9,    -999,9,     -999,9,     -999,    -999,9,   1.7329,2,    0.19,2,  17.4851,2,    -999,9,    -999,9,    -999,   7.088,2,   0.032,    -999,1,    -999,9,    -999,9,  24.3208, -65.7524,    -999,   0.0069,    0.15,  17.4264,  17.4851,2,-999,9,-999,-999,9,-999,    36.6331,2,-999,9,20120405,        623
33AT20120324,        A22,      38,          1,         26,         26,2,20120405,       0426,    24.3201,   -65.7498,       5794,   402.7,  16.8923,  36.3516,2,  36.3552,2,    192.2,2,   191.7,2,    2.08,2,    7.01,2,    0.00,2,    0.37,2,   2.402,2,   1.346,2,   0.033,2,    1.11,2,  2128.1,2, 2377.35,2,   7.9373,2,       25,   0.504,2,   1.7486,2,    0.46,2,  16.8935,2,    -999,9,    -999,9,    -999,   7.075,2,   0.032,    -999,1,    -999,9,    -999,9,  24.3208, -65.7524,   0.008,   0.0070,    0.15,  16.8251,  16.8935,2,-999,9,-999,-999,9,-999,    36.5266,2,-999,9,20120405,        622
33AT20120324,        A22,      38,          1,         25,         25,2,20120405,       0426,    24.3201,   -65.7498,       5794,   501.4,  15.1317,  36.0362,2,  36.0368,2,    174.4,2,   175.1,2,    3.81,2,   11.28,2,    0.00,2,    0.64,2,   2.344,2,   1.347,2,   0.029,2,    0.92,2,  2146.1,2, 2358.94,2,   7.8715,2,       25,   0.520,2,   1.7569,2,    2.55,2,  15.1317,2,    -999,9,    -999,9,    -999,   7.201,2,   0.032,    -999,1,    -999,9,    -999,9,  24.3207, -65.7522,   0.011,   0.0070,    0.15,  15.0540,  15.1317,2,-999,9,-999,-999,9,-999,    36.2067,2,-999,9,20120405,        619
33AT20120324,        A22,      38,          1,         24,         24,2,20120405,       0426,    24.3201,   -65.7498,       5794,   602.8,  12.5959,  35.6443,2,  35.6399,2,    155.5,2,   155.0,2,    7.45,2,   17.46,2,    0.00,2,    1.06,2,   1.925,2,   0.999,2,   0.024,2,    0.57,2,  2168.8,2, 2339.58,2,   7.7811,2,       25,   0.470,2,   1.7528,2,    5.77,2,  12.5960,2,    -999,9,    -999,9,    -999,   7.395,2,   0.033,    -999,1,    -999,9,    -999,9,  24.3207, -65.7520,   0.009,   0.0070,    0.15,  12.5129,  12.5960,2,-999,9,-999,-999,9,-999,    35.8080,2,-999,9,20120405,        616
33AT20120324,        A22,      38,          1,         23,         23,2,20120405,       0426,    24.3201,   -65.7498,       5794,   706.4,  10.2274,  35.3456,2,  35.3462,2,    149.3,2,   147.7,2,   11.44,2,   22.01,2,    0.00,2,    1.38,2,   1.325,2,   0.693,2,   0.024,2,    0.40,2,  2184.7,2, 2326.67,2,   7.7140,2,       25,   0.342,6,   1.7796,2,    7.20,2,  10.2237,2,    -999,9,    -999,9,    -999,   7.518,2,   0.034,    -999,1,    -999,9,    -999,9,  24.3206, -65.7519,   0.009,   0.0071,    0.15,  10.1418,  10.2237,2,-999,9,-999,-999,9,-999,    35.5129,2,-999,9,20120405,        614
33AT20120324,        A22,      38,          1,         22,         22,2,20120405,       0426,    24.3201,   -65.7498,       5794,   806.2,   8.4495,  35.1410,2,  35.1448,2,    144.9,2,   144.9,2,   15.41,2,   25.39,2,    0.00,2,    1.62,2,   0.807,2,   0.418,2,   0.014,2,    0.23,2,  2194.9,6, 2321.96,2,   7.6702,2,       25,   0.224,2,   1.7904,2,    6.68,2,   8.4552,2,    -999,9,    -999,9,    -999,   7.580,2,   0.034,    -999,1,    -999,9,    -999,9,  24.3206, -65.7518,   0.009,   0.0072,    0.15,   8.3619,   8.4552,2,-999,9,-999,-999,9,-999,    35.3106,2,-999,9,20120405,        611
33AT20120324,        A22,      38,          1,         21,         21,2,20120405,       0426,    24.3201,   -65.7498,       5794,   906.9,   7.0956,  35.0479,2,  35.0494,2,    158.9,2,   160.6,2,   17.21,2,   25.48,2,    0.00,2,    1.67,2,   0.664,2,   0.327,2,   0.013,2,    0.15,2,  2197.6,2, 2318.43,2,   7.6642,6,       25,   0.186,2,   1.8016,2,    5.83,2,   7.1043,2,    -999,9,    -999,9,    -999,   7.687,2,   0.035,    -999,1,    -999,9,    -999,9,  24.3206, -65.7516,   0.009,   0.0072,    0.15,   7.0056,   7.1043,2,-999,9,-999,-999,9,-999,    35.2146,2,-999,9,20120405,        608
33AT20120324,        A22,      38,          1,         20,         20,2,20120405,       0426,    24.3201,   -65.7498,       5794,  1007.2,   6.3422,  35.0504,2,  35.0509,2,    180.5,2,   183.5,2,   16.30,2,   23.51,2,    0.00,2,    1.54,2,   0.804,2,   0.399,2,   0.026,2,    0.19,2,  2189.9,2, 2318.57,2,   7.6831,2,       25,   0.205,2,   1.8090,2,    6.09,2,   6.3416,2,    -999,9,    -999,9,    -999,   7.737,2,   0.035,    -999,1,    -999,9,    -999,9,  24.3206, -65.7515,   0.009,   0.0072,    0.15,   6.2472,   6.3416,2,-999,9,-999,-999,9,-999,    35.2162,2,-999,9,20120405,        605
33AT20120324,        A22,      38,          1,         19,         19,2,20120405,       0426,    24.3201,   -65.7498,       5794,  1110.6,   5.7518,  35.0564,2,  35.0570,2,    203.5,2,   205.2,2,   15.03,2,   21.57,2,    0.00,2,    1.42,2,   1.001,2,   0.495,2,   0.031,2,    0.23,2,  2181.1,2, 2318.06,2,   7.7004,2,       25,   0.235,2,   1.8233,2,    6.76,2,   5.7492,2,    -999,9,    -999,9,    -999,   7.823,2,   0.035,    -999,1,    -999,9,    -999,9,  24.3206, -65.7515,   0.009,   0.0073,    0.15,   5.6511,   5.7492,2,-999,9,-999,-999,9,-999,    35.2223,2,-999,9,20120405,        602
33AT20120324,        A22,      38,          1,         18,         18,2,20120405,       0426,    24.3201,   -65.7498,       5794,  1210.3,   5.2811,  35.0562,2,  35.0572,2,    223.5,2,   222.9,2,   13.98,2,   20.07,2,    0.00,2,    1.34,2,   1.181,2,   0.592,2,   0.043,2,    0.26,2,  2174.8,2, 2318.35,2,   7.7153,2,       25,   0.264,2,   1.8327,2,    7.17,2,   5.2802,2,    -999,9,    -999,9,    -999,   7.855,2,   0.035,    -999,1,    -999,9,    -999,9,  24.3205, -65.7514,   0.011,   0.0073,    0.15,   5.1748,   5.2802,2,-999,9,-999,-999,9,-999,    35.2225,2,-999,9,20120405,        559
33AT20120324,        A22,      38,          1,         17,         17,2,20120405,       0426,    24.3201,   -65.7498,       5794,  1309.5,   4.8900,  35.0410,2,  35.0403,2,    234.9,2,   235.0,2,   13.44,2,   19.23,2,    0.00,2,    1.28,2,   1.302,2,   0.660,2,   0.054,2,    0.30,2,    -999,9,    -999,9,     -999,9,     -999,   0.300,2,   1.8285,2,    7.06,2,   4.8877,2,    -999,9,    -999,9,    -999,   7.899,2,   0.036,    -999,1,    -999,9,    -999,9,  24.3205, -65.7513,   0.009,   0.0073,    0.15,   4.7779,   4.8877,2,-999,9,-999,-999,9,-999,    35.2055,2,-999,9,20120405,        557
33AT20120324,        A22,      38,          1,         16,         16,2,20120405,       0426,    24.3201,   -65.7498,       5794,  1411.7,   4.5998,  35.0317,2,  35.0336,2,    241.9,2,   243.8,2,   13.21,2,   18.76,2,    0.00,2,    1.25,2,   1.320,2,   0.655,2,   0.051,2,    0.28,2,  2166.3,2, 2315.36,2,   7.7286,2,       25,   0.314,2,   1.8317,2,    7.47,2,   4.5997,2,    -999,9,    -999,9,    -999,   7.902,2,   0.036,    -999,1,    -999,9,    -999,9,  24.3205, -65.7512,   0.009,   0.0073,    0.15,   4.4810,   4.5997,2,-999,9,-999,-999,9,-999,    35.1988,2,-999,9,20120405,        554
33AT20120324,        A22,      38,          1,         15,         15,2,20120405,       0426,    24.3201,   -65.7498,       5794,  1615.3,   4.1332,  35.0055,2,  35.0055,2,    252.2,2,   253.0,2,   13.75,2,   18.33,2,    0.00,2,    1.22,2,   1.128,2,   0.546,2,   0.044,2,    0.22,2,    -999,9,    -999,9,     -999,9,     -999,    -999,9,     -999,9,    -999,9,   4.1324,2,    -999,9,    -999,9,    -999,    -999,9,    -999,    -999,1,    -999,9,    -999,9,  24.3204, -65.7511,    -999,     -999,    -999,   4.0007,   4.1324,2,-999,9,-999,-999,9,-999,    35.1705,2,-999,9,20120405,        550
33AT20120324,        A22,      38,          1,         14,         14,2,20120405,       0426,    24.3201,   -65.7498,       5794,  1813.8,   3.8383,  34.9904,2,  34.9909,2,    256.8,2,   256.8,2,   15.06,2,   18.28,2,    0.00,2,    1.22,2,   0.985,2,   0.473,2,   0.035,2,    0.19,2,  2160.8,2, 2313.80,2,   7.7396,2,       25,   0.214,2,   1.8488,2,    6.03,2,   3.8389,2,    -999,9,    -999,9,    -999,   8.026,2,   0.036,    -999,1,    -999,9,    -999,9,  24.3204, -65.7510,   0.008,   0.0074,    0.15,   3.6909,   3.8389,2,-999,9,-999,-999,9,-999,    35.1559,2,-999,9,20120405,        545
33AT20120324,        A22,      38,          1,         13,         13,2,20120405,       0426,    24.3201,   -65.7498,       5794,  2019.6,   3.6303,  34.9918,2,  34.9925,2,    254.5,2,   254.4,2,   18.31,2,   18.65,2,    0.00,2,    1.25,2,   0.529,2,   0.244,2,   0.015,2,    0.14,2,    -999,9,    -999,9,     -999,9,     -999,   0.107,2,   1.8355,2,    4.77,2,   3.6296,2,    -999,9,    -999,9,    -999,   8.006,2,   0.036,    -999,1,    -999,9,    -999,9,  24.3204, -65.7507,   0.008,   0.0073,    0.15,   3.4663,   3.6296,2,-999,9,-999,-999,9,-999,    35.1575,2,-999,9,20120405,        541
33AT20120324,        A22,      38,          1,         12,         12,2,20120405,       0426,    24.3201,   -65.7498,       5794,  2273.7,   3.3554,  34.9786,2,  34.9795,2,    252.7,2,   252.9,2,   22.15,2,   19.05,2,    0.00,2,    1.29,2,   0.266,2,   0.128,2,   0.007,2,    0.05,2,  2168.3,2, 2322.24,2,   7.7447,2,       25,   0.060,2,   1.8477,2,    3.74,2,   3.3559,2,    -999,9,    -999,9,    -999,   8.063,2,   0.036,    -999,1,    -999,9,    -999,9,  24.3203, -65.7504,   0.008,   0.0074,    0.15,   3.1712,   3.3559,2,-999,9,-999,-999,9,-999,    35.1444,2,-999,9,20120405,        536
33AT20120324,        A22,      38,          1,         11,         11,2,20120405,       0426,    24.3201,   -65.7498,       5794,  2527.7,   3.0844,  34.9569,2,  34.9572,2,    254.7,2,   255.0,2,   24.47,2,   19.16,2,    0.00,2,    1.30,2,   0.279,2,   0.126,2,   0.010,2,    0.05,2,    -999,9,    -999,9,     -999,9,     -999,   0.053,2,   1.8657,2,    3.59,2,   3.0852,2,    -999,9,    -999,9,    -999,   8.100,2,   0.036,    -999,1,    -999,9,    -999,9,  24.3202, -65.7502,   0.008,   0.0075,    0.15,   2.8801,   3.0852,2,-999,9,-999,-999,9,-999,    35.1221,2,-999,9,20120405,        531
33AT20120324,        A22,      38,          1,         10,         10,2,20120405,       0426,    24.3201,   -65.7498,       5794,  2781.9,   2.8884,  34.9392,2,  34.9385,2,    259.7,2,   259.6,2,   23.96,2,   18.73,2,    0.00,2,    1.28,2,   0.514,2,   0.233,2,   0.020,2,    0.08,2,  2168.6,2, 2322.19,2,   7.7445,2,       25,    -999,9,     -999,9,    -999,9,   2.8894,2,    -999,9,    -999,9,    -999,    -999,9,    -999,    -999,1,    -999,9,    -999,9,  24.3202, -65.7500,    -999,     -999,    -999,   2.6624,   2.8894,2,-999,9,-999,-999,9,-999,    35.1033,2,-999,9,20120405,        526
33AT20120324,        A22,      38,          1,          9,          9,2,20120405,       0426,    24.3201,   -65.7498,       5794,  3039.0,   2.7067,  34.9256,2,  34.9263,2,    258.7,2,   262.2,2,   25.07,2,   18.61,2,    0.00,2,    1.27,2,   0.574,2,   0.266,2,   0.029,2,    0.10,2,    -999,9,    -999,9,     -999,9,     -999,   0.107,2,   1.8623,2,    4.53,2,   2.7061,2,    -999,9,    -999,9,    -999,   8.132,2,   0.037,    -999,1,    -999,9,    -999,9,  24.3201, -65.7499,   0.008,   0.0074,    0.15,   2.4583,   2.7061,2,-999,9,-999,-999,9,-999,    35.0910,2,-999,9,20120405,        520
33AT20120324,        A22,      38,          1,          8,          8,2,20120405,       0426,    24.3201,   -65.7498,       5794,  3345.1,   2.5308,  34.9127,2,  34.9122,2,    264.2,2,   264.9,2,   25.47,2,   18.34,2,    0.00,2,    1.25,2,   0.752,2,   0.350,2,   0.034,2,    0.14,2,  2168.6,2, 2321.29,2,   7.7422,2,       25,    -999,9,     -999,9,    -999,9,   2.5305,2,    -999,9,    -999,9,    -999,    -999,9,    -999,    -999,1,    -999,9,    -999,9,  24.3201, -65.7499,    -999,     -999,    -999,   2.2542,   2.5305,2,-999,9,-999,-999,9,-999,    35.0768,2,-999,9,20120405,        514
33AT20120324,        A22,      38,          1,          7,          7,2,20120405,       0426,    24.3201,   -65.7498,       5794,  3647.1,   2.4027,  34.9035,2,  34.9031,2,    265.2,2,   266.0,2,   27.12,2,   18.37,2,    0.00,2,    1.26,2,   0.758,2,   0.359,2,   0.036,2,    0.17,2,    -999,9,    -999,9,     -999,9,     -999,    -999,9,     -999,9,    -999,9,   2.4030,2,    -999,9,    -999,9,    -999,    -999,9,    -999,    -999,1,    -999,9,    -999,9,  24.3201, -65.7500,    -999,     -999,    -999,   2.0967,   2.4030,2,-999,9,-999,-999,9,-999,    35.0677,2,-999,9,20120405,        509
33AT20120324,        A22,      38,          1,          6,          6,2,20120405,       0426,    24.3201,   -65.7498,       5794,  3960.0,   2.3407,  34.8981,2,  34.8984,2,    264.1,2,   264.3,2,   29.88,2,   18.74,2,    0.00,2,    1.29,2,   0.547,2,   0.250,2,   0.030,2,    0.10,2,  2171.6,2, 2324.52,2,   7.7416,2,       25,   0.126,2,   1.8865,2,    4.81,2,   2.3407,2,    -999,9,    -999,9,    -999,   8.329,2,   0.037,    -999,1,    -999,9,    -999,9,  24.3201, -65.7498,   0.008,   0.0075,    0.15,   2.0014,   2.3407,2,-999,9,-999,-999,9,-999,    35.0630,2,-999,9,20120405,        503