BOTTLE,20220725CCHSIOCBG
EXPOCODE,SECT_ID,STNNBR,CASTNO,SAMPNO,BTLNBR,BTLNBR_FLAG_W,DATE,TIME,LATITUDE,LONGITUDE,DEPTH,CTDPRS,CTDTMP,CTDSAL,CTDSAL_FLAG_W,SALNTY,SALNTY_FLAG_W,CTDOXY,CTDOXY_FLAG_W,OXYGEN,OXYGEN_FLAG_W,SILCAT,SILCAT_FLAG_W,NITRAT,NITRAT_FLAG_W,NITRIT,NITRIT_FLAG_W,PHSPHT,PHSPHT_FLAG_W,CFC-11,CFC-11_FLAG_W,CFC-12,CFC-12_FLAG_W,CFC113,CFC113_FLAG_W,SF6,SF6_FLAG_W,TCARBN,TCARBN_FLAG_W,ALKALI,ALKALI_FLAG_W,PH_TOT,PH_TOT_FLAG_W,PH_TMP,TRITUM,TRITUM_FLAG_W,HELIUM,HELIUM_FLAG_W,DELHE3,DELHE3_FLAG_W,REFTMP,REFTMP_FLAG_W,DELC13,DELC13_FLAG_W,DELC14,DELC14_FLAG_W,C14ERR,NEON,NEON_FLAG_W,NEONER,CCL4,CCL4_FLAG_W,DOC,DOC_FLAG_W,TDN,TDN_FLAG_W,BTL_LAT,BTL_LON,TRITER,HELIER,DELHER,THETA,SBE35,SBE35_FLAG_W,14C-DOC,14C-DOC_FLAG_W,14C-DOCERR,13C-DOC,13C-DOC_FLAG_W,13C-DOCERR,SALTREF,SALTREF_FLAG_W,LAB_DEN,LAB_DEN_FLAG_W,BTL_DATE,BTL_TIME
,,,,,,,,,,,METERS,DBAR,ITS-90,PSS-78,,PSS-78,,UMOL/KG,,UMOL/KG,,UMOL/KG,,UMOL/KG,,UMOL/KG,,UMOL/KG,,PMOL/KG,,PMOL/KG,,PMOL/KG,,FMOL/KG,,UMOL/KG,,UMOL/KG,,,,DEG C,TU,,NMOL/KG,,PERCNT,,DEG C,,/MILLE,,/MILLE,,/MILLE,NMOL/KG,,NMOL/KG,PMOL/KG,,UMOL/KG,,UMOL/KG,,,,TU,NMOL/KG,PERCNT,DEG C,ITS-90,,/MILLE,,/MILLE,/MILLE,,/MILLE,G/KG,,KG/M^3,,,
33AT20120324,        A22,      34,          1,          5,          5,2,20120403,       1950,    27.1173,   -65.5733,       5330,  4161.1,   2.3068,  34.8946,2,  34.8945,2,    265.2,2,   265.3,2,   30.73,2,   18.72,2,    0.00,2,    1.28,2,   0.617,2,   0.288,2,   0.036,2,    0.12,2,  2170.2,2, 2326.08,2,   7.7418,2,       25,    -999,9,     -999,9,    -999,9,   2.3071,2,    -999,9,    -999,9,    -999,    -999,9,    -999,    -999,1,    -999,9,    -999,9,  27.1167, -65.5739,    -999,     -999,    -999,   1.9454,   2.3071,2,-999,9,-999,-999,9,-999,    35.0591,2,-999,9,20120403,       2016
33AT20120324,        A22,      34,          1,          4,          4,2,20120403,       1950,    27.1173,   -65.5733,       5330,  4470.4,   2.2368,  34.8842,2,  34.8841,2,    261.5,2,   261.0,2,   36.04,2,   19.56,2,    0.00,2,    1.34,2,   0.496,2,   0.237,2,   0.034,2,    0.14,2,  2176.1,2, 2331.76,2,   7.7351,2,       25,    -999,9,     -999,9,    -999,9,   2.2371,2,    -999,9,    -999,9,    -999,    -999,9,    -999,    -999,1,    -999,9,    -999,9,  27.1169, -65.5737,    -999,     -999,    -999,   1.8411,   2.2371,2,-999,9,-999,-999,9,-999,    35.0486,2,-999,9,20120403,       2010
33AT20120324,        A22,      34,          1,          3,          3,2,20120403,       1950,    27.1173,   -65.5733,       5330,  4779.4,   2.1834,  34.8733,2,  34.8731,2,    256.8,2,   257.2,2,   41.53,2,   20.47,2,    0.00,2,    1.40,2,   0.379,2,   0.174,2,   0.031,2,    0.15,2,  2183.8,2, 2338.11,2,   7.7296,2,       25,    -999,9,     -999,9,    -999,9,   2.1832,2,    -999,9,    -999,9,    -999,    -999,9,    -999,    -999,1,    -999,9,    -999,9,  27.1170, -65.5735,    -999,     -999,    -999,   1.7521,   2.1832,2,-999,9,-999,-999,9,-999,    35.0375,2,-999,9,20120403,       2003
33AT20120324,        A22,      34,          1,          2,          2,2,20120403,       1950,    27.1173,   -65.5733,       5330,  5109.4,   2.1630,  34.8655,2,  34.8660,2,    253.8,2,   254.6,2,   45.79,2,   21.14,2,    0.00,2,    1.43,2,    -999,5,    -999,5,    -999,5,    -999,5,  2187.4,2, 2342.34,6,   7.7246,2,       25,    -999,9,     -999,9,    -999,9,   2.1625,2,    -999,9,    -999,9,    -999,    -999,9,    -999,    -999,1,    -999,9,    -999,9,  27.1172, -65.5733,    -999,     -999,    -999,   1.6912,   2.1625,2,-999,9,-999,-999,9,-999,    35.0304,2,-999,9,20120403,       1957
33AT20120324,        A22,      34,          1,          1,          1,2,20120403,       1950,    27.1173,   -65.5733,       5330,  5410.7,   2.0964,  34.8527,2,  34.8532,2,    250.2,2,   250.2,2,   52.28,2,   22.18,2,    0.00,2,    1.51,2,   0.217,2,   0.102,2,   0.019,2,    0.12,2,  2197.6,6, 2347.65,2,   7.7188,2,       25,    -999,9,     -999,9,    -999,9,   2.0962,2,    -999,9,    -999,9,    -999,    -999,9,    -999,    -999,1,    -999,9,    -999,9,  27.1173, -65.5732,    -999,     -999,    -999,   1.5884,   2.0962,2,-999,9,-999,-999,9,-999,    35.0176,2,-999,9,20120403,       1950