BOTTLE,20220725CCHSIOCBG
EXPOCODE,SECT_ID,STNNBR,CASTNO,SAMPNO,BTLNBR,BTLNBR_FLAG_W,DATE,TIME,LATITUDE,LONGITUDE,DEPTH,CTDPRS,CTDTMP,CTDSAL,CTDSAL_FLAG_W,SALNTY,SALNTY_FLAG_W,CTDOXY,CTDOXY_FLAG_W,OXYGEN,OXYGEN_FLAG_W,SILCAT,SILCAT_FLAG_W,NITRAT,NITRAT_FLAG_W,NITRIT,NITRIT_FLAG_W,PHSPHT,PHSPHT_FLAG_W,CFC-11,CFC-11_FLAG_W,CFC-12,CFC-12_FLAG_W,CFC113,CFC113_FLAG_W,SF6,SF6_FLAG_W,TCARBN,TCARBN_FLAG_W,ALKALI,ALKALI_FLAG_W,PH_TOT,PH_TOT_FLAG_W,PH_TMP,TRITUM,TRITUM_FLAG_W,HELIUM,HELIUM_FLAG_W,DELHE3,DELHE3_FLAG_W,REFTMP,REFTMP_FLAG_W,DELC13,DELC13_FLAG_W,DELC14,DELC14_FLAG_W,C14ERR,NEON,NEON_FLAG_W,NEONER,CCL4,CCL4_FLAG_W,DOC,DOC_FLAG_W,TDN,TDN_FLAG_W,BTL_LAT,BTL_LON,TRITER,HELIER,DELHER,THETA,SBE35,SBE35_FLAG_W,14C-DOC,14C-DOC_FLAG_W,14C-DOCERR,13C-DOC,13C-DOC_FLAG_W,13C-DOCERR,SALTREF,SALTREF_FLAG_W,LAB_DEN,LAB_DEN_FLAG_W,BTL_DATE,BTL_TIME
,,,,,,,,,,,METERS,DBAR,ITS-90,PSS-78,,PSS-78,,UMOL/KG,,UMOL/KG,,UMOL/KG,,UMOL/KG,,UMOL/KG,,UMOL/KG,,PMOL/KG,,PMOL/KG,,PMOL/KG,,FMOL/KG,,UMOL/KG,,UMOL/KG,,,,DEG C,TU,,NMOL/KG,,PERCNT,,DEG C,,/MILLE,,/MILLE,,/MILLE,NMOL/KG,,NMOL/KG,PMOL/KG,,UMOL/KG,,UMOL/KG,,,,TU,NMOL/KG,PERCNT,DEG C,ITS-90,,/MILLE,,/MILLE,/MILLE,,/MILLE,G/KG,,KG/M^3,,,
33AT20120324,        A22,      50,          1,         36,         36,2,20120408,       1134,    18.9143,   -66.0008,       3011,     3.3,  26.7988,  35.9932,2,  35.9934,2,    201.5,2,   200.3,2,    0.97,2,    0.00,2,    0.00,2,    0.00,2,   1.623,2,   1.058,2,   0.135,2,    1.20,2,  2013.1,6, 2355.14,6,   8.0950,6,       25,   0.462,2,   1.6990,2,   -1.47,2,  26.8042,2,    -999,9,    -999,9,    -999,   6.692,2,   0.030,    -999,1,    -999,9,    -999,9,  18.9195, -65.9991,   0.009,   0.0068,    0.15,  26.7980,  26.8042,2,-999,9,-999,-999,9,-999,    36.1631,2,-999,9,20120408,       1259
33AT20120324,        A22,      50,          1,         35,         35,2,20120408,       1134,    18.9143,   -66.0008,       3011,    25.2,  26.4895,  36.0905,2,  36.1089,2,    203.1,2,   203.7,2,    0.95,2,    0.00,2,    0.00,2,    0.00,2,    -999,9,    -999,9,    -999,9,    -999,9,    -999,9,    -999,9,     -999,9,     -999,    -999,9,     -999,9,    -999,9,  26.4885,2,    -999,9,    -999,9,    -999,    -999,9,    -999,    -999,9,    -999,9,    -999,9,  18.9194, -65.9992,    -999,     -999,    -999,  26.4838,  26.4885,2,-999,9,-999,-999,9,-999,    36.2791,2,-999,9,20120408,       1257
33AT20120324,        A22,      50,          1,         34,         34,2,20120408,       1134,    18.9143,   -66.0008,       3011,    50.1,  26.1795,  36.1133,2,  36.1144,2,    205.3,2,   204.6,2,    1.05,2,    0.00,2,    0.00,2,    0.00,2,   1.654,2,   1.070,2,   0.138,2,    1.19,2,  2014.7,2, 2369.94,2,   8.1122,2,       25,    -999,9,     -999,9,    -999,9,  26.1803,2,    -999,9,    -999,9,    -999,    -999,9,    -999,    -999,1,    -999,9,    -999,9,  18.9193, -65.9992,    -999,     -999,    -999,  26.1682,  26.1803,2,-999,9,-999,-999,9,-999,    36.2847,2,-999,9,20120408,       1255
33AT20120324,        A22,      50,          1,         33,         33,2,20120408,       1134,    18.9143,   -66.0008,       3011,    76.1,  25.8775,  36.1263,2,  36.1386,2,    204.3,2,   203.4,2,    0.96,2,    0.00,2,    0.00,2,    0.00,2,   1.676,2,   1.077,2,   0.135,2,    1.24,2,    -999,9,    -999,9,     -999,9,     -999,   0.466,2,   1.7095,2,   -1.67,2,  25.8784,2,    -999,9,    -999,9,    -999,   6.767,2,   0.030,    -999,1,    -999,9,    -999,9,  18.9192, -65.9992,   0.008,   0.0068,    0.15,  25.8605,  25.8784,2,-999,9,-999,-999,9,-999,    36.3090,2,-999,9,20120408,       1253
33AT20120324,        A22,      50,          1,         32,         32,2,20120408,       1134,    18.9143,   -66.0008,       3011,   100.4,  25.7873,  36.9504,2,  36.9486,2,    196.0,2,   194.9,2,    0.38,2,    0.00,2,    0.00,2,    0.00,2,    -999,9,    -999,9,    -999,9,    -999,9,  2071.5,2, 2416.83,2,   8.0831,2,       25,    -999,9,     -999,9,    -999,9,  25.7861,2,    -999,9,    -999,9,    -999,    -999,9,    -999,    -999,9,    -999,9,    -999,9,  18.9191, -65.9993,    -999,     -999,    -999,  25.7649,  25.7861,2,-999,9,-999,-999,9,-999,    37.1228,2,-999,9,20120408,       1252
33AT20120324,        A22,      50,          1,         31,         31,2,20120408,       1134,    18.9143,   -66.0008,       3011,   126.0,  24.6305,  37.1325,2,  37.1277,2,    181.4,2,   180.1,2,    0.32,2,    0.55,2,    0.05,2,    0.00,2,   1.777,2,   1.138,2,   0.131,2,    1.15,2,    -999,9,    -999,9,     -999,9,     -999,   0.482,2,   1.7043,2,   -1.20,2,  24.6341,2,    -999,9,    -999,9,    -999,   6.765,2,   0.030,    -999,1,    -999,9,    -999,9,  18.9190, -65.9993,   0.009,   0.0068,    0.15,  24.6032,  24.6341,2,-999,9,-999,-999,9,-999,    37.3028,2,-999,9,20120408,       1250
33AT20120324,        A22,      50,          1,         30,         30,2,20120408,       1134,    18.9143,   -66.0008,       3011,   150.1,  23.0822,  37.0085,2,  37.0070,2,    188.7,2,   189.7,2,    0.23,2,    0.28,2,    0.10,2,    0.00,2,   1.905,2,   1.210,2,   0.121,2,    1.21,2,  2099.3,2, 2419.77,2,   8.0421,2,       25,    -999,9,     -999,9,    -999,9,  23.0812,2,    -999,9,    -999,9,    -999,    -999,9,    -999,    -999,1,    -999,9,    -999,9,  18.9189, -65.9993,    -999,     -999,    -999,  23.0512,  23.0812,2,-999,9,-999,-999,9,-999,    37.1815,2,-999,9,20120408,       1248
33AT20120324,        A22,      50,          1,         29,         29,2,20120408,       1134,    18.9143,   -66.0008,       3011,   175.8,  21.2221,  36.8619,2,  36.8609,2,    191.9,2,   190.3,2,    0.24,2,    0.68,2,    0.03,2,    0.00,2,   2.040,2,   1.293,2,   0.101,2,    1.30,2,    -999,9,    -999,9,     -999,9,     -999,   0.471,2,   1.7198,2,   -1.18,2,  21.2251,2,    -999,9,    -999,9,    -999,   6.974,2,   0.031,    -999,1,    -999,9,    -999,9,  18.9188, -65.9994,   0.009,   0.0069,    0.15,  21.1879,  21.2251,2,-999,9,-999,-999,9,-999,    37.0347,2,-999,9,20120408,       1247
33AT20120324,        A22,      50,          1,         28,         28,2,20120408,       1134,    18.9143,   -66.0008,       3011,   200.8,  20.1662,  36.7989,2,  36.8006,2,    178.6,2,   179.5,2,    0.48,2,    2.26,2,    0.01,2,    0.07,2,    -999,9,    -999,9,    -999,9,    -999,9,  2124.4,2, 2405.41,2,   7.9813,2,       25,    -999,9,     -999,9,    -999,9,  20.1753,2,    -999,9,    -999,9,    -999,    -999,9,    -999,    -999,9,    -999,9,    -999,9,  18.9188, -65.9994,    -999,     -999,    -999,  20.1285,  20.1753,2,-999,9,-999,-999,9,-999,    36.9741,2,-999,9,20120408,       1245
33AT20120324,        A22,      50,          1,         27,         27,2,20120408,       1134,    18.9143,   -66.0008,       3011,   225.7,  19.1719,  36.6854,2,  36.6853,2,    186.1,2,   185.8,2,    0.58,2,    2.95,2,    0.01,2,    0.10,2,   2.213,2,   1.376,2,   0.023,2,    1.17,2,    -999,9,    -999,9,     -999,9,     -999,   0.496,2,   1.7229,2,   -0.76,2,  19.1714,2,    -999,9,    -999,9,    -999,   7.020,2,   0.032,    -999,1,    -999,9,    -999,9,  18.9187, -65.9994,   0.009,   0.0069,    0.15,  19.1309,  19.1714,2,-999,9,-999,-999,9,-999,    36.8583,2,-999,9,20120408,       1244
33AT20120324,        A22,      50,          1,         26,         26,2,20120408,       1134,    18.9143,   -66.0008,       3011,   249.7,  18.7460,  36.6397,2,  36.6374,2,    186.5,2,   186.3,2,    0.86,2,    3.97,2,    0.01,2,    0.16,2,   2.246,2,   1.392,2,   0.024,2,    1.25,2,    -999,9,    -999,9,     -999,9,     -999,    -999,9,     -999,9,    -999,9,  18.7433,2,    -999,9,    -999,9,    -999,    -999,9,    -999,    -999,1,    -999,9,    -999,9,  18.9186, -65.9994,    -999,     -999,    -999,  18.7014,  18.7433,2,-999,9,-999,-999,9,-999,    36.8101,2,-999,9,20120408,       1243
33AT20120324,        A22,      50,          1,         25,         25,2,20120408,       1134,    18.9143,   -66.0008,       3011,   301.1,  17.9648,  36.5302,2,  36.5301,2,    194.6,2,   189.9,2,    1.22,2,    5.27,2,    0.01,2,    0.24,2,   2.306,2,   1.408,2,   0.016,2,    1.12,2,  2121.1,2, 2389.05,2,   7.9604,2,       25,   0.515,2,   1.7263,2,    0.20,2,  17.9637,2,    -999,9,    -999,9,    -999,   7.058,2,   0.032,    -999,1,    -999,9,    -999,9,  18.9184, -65.9995,   0.009,   0.0069,    0.15,  17.9125,  17.9637,2,-999,9,-999,-999,9,-999,    36.7024,2,-999,9,20120408,       1241
33AT20120324,        A22,      50,          1,         24,         24,2,20120408,       1134,    18.9143,   -66.0008,       3011,   351.8,  17.2817,  36.4117,2,  36.4099,2,    184.1,2,   183.8,2,    1.77,2,    7.10,2,    0.00,2,    0.37,2,    -999,9,    -999,9,    -999,9,    -999,9,    -999,9,    -999,9,     -999,9,     -999,   0.520,2,   1.7160,2,    1.11,2,  17.2705,2,    -999,9,    -999,9,    -999,   7.101,2,   0.032,    -999,9,    -999,9,    -999,9,  18.9183, -65.9995,   0.009,   0.0069,    0.15,  17.2222,  17.2705,2,-999,9,-999,-999,9,-999,    36.5816,2,-999,9,20120408,       1239
33AT20120324,        A22,      50,          1,         23,         23,2,20120408,       1134,    18.9143,   -66.0008,       3011,   402.3,  16.1162,  36.2091,2,  36.2106,2,    170.1,2,   170.1,2,    2.80,2,   10.18,2,    0.00,2,    0.57,2,   2.339,2,   1.374,2,   0.020,2,    1.00,2,    -999,9,    -999,9,     -999,9,     -999,   0.529,2,   1.7417,2,    1.31,2,  16.1098,2,    -999,9,    -999,9,    -999,   7.099,2,   0.032,    -999,1,    -999,9,    -999,9,  18.9182, -65.9996,   0.009,   0.0070,    0.15,  16.0513,  16.1098,2,-999,9,-999,-999,9,-999,    36.3813,2,-999,9,20120408,       1237
33AT20120324,        A22,      50,          1,         22,         22,2,20120408,       1134,    18.9143,   -66.0008,       3011,   453.6,  14.7369,  35.9700,2,  35.9713,2,    160.3,2,   159.9,2,    4.32,2,   13.54,2,    0.00,2,    0.78,2,   2.260,2,   1.292,2,   0.031,2,    0.79,2,  2154.9,2, 2354.68,2,   7.8371,2,       25,   0.504,2,   1.7502,2,    3.73,2,  14.7502,2,    -999,9,    -999,9,    -999,   7.320,2,   0.033,    -999,1,    -999,9,    -999,9,  18.9181, -65.9996,   0.009,   0.0070,    0.15,  14.6679,  14.7502,2,-999,9,-999,-999,9,-999,    36.1409,2,-999,9,20120408,       1236
33AT20120324,        A22,      50,          1,         21,         21,2,20120408,       1134,    18.9143,   -66.0008,       3011,   503.1,  13.6296,  35.7920,2,  35.7871,2,    152.1,2,   151.2,2,    5.81,2,   16.25,2,    0.00,2,    0.96,2,   2.084,2,   1.146,2,   0.024,2,    0.66,2,    -999,9,    -999,9,     -999,9,     -999,   0.511,2,   1.7618,2,    4.92,2,  13.6256,2,    -999,9,    -999,9,    -999,   7.391,2,   0.033,    -999,1,    -999,9,    -999,9,  18.9180, -65.9996,   0.011,   0.0070,    0.15,  13.5569,  13.6256,2,-999,9,-999,-999,9,-999,    35.9559,2,-999,9,20120408,       1234
33AT20120324,        A22,      50,          1,         20,         20,2,20120408,       1134,    18.9143,   -66.0008,       3011,   602.0,  10.5189,  35.2571,2,  35.2610,2,    129.9,2,   126.3,2,   11.75,2,   24.65,2,    0.00,2,    1.55,2,    -999,9,    -999,9,    -999,9,    -999,9,  2194.4,2, 2321.09,2,   7.6725,2,       25,   0.304,2,     -999,9,    -999,9,  10.5235,2,    -999,9,    -999,9,    -999,    -999,9,    -999,    -999,9,    -999,9,    -999,9,  18.9178, -65.9997,   0.008,     -999,    -999,  10.4451,  10.5235,2,-999,9,-999,-999,9,-999,    35.4273,2,-999,9,20120408,       1232
33AT20120324,        A22,      50,          1,         19,         19,2,20120408,       1134,    18.9143,   -66.0008,       3011,   701.9,   9.1633,  35.1093,2,  35.1066,2,    129.7,2,   128.7,2,   15.20,2,   27.14,2,    0.00,2,    1.73,2,   1.006,2,   0.520,2,   0.014,2,    0.24,2,  2200.5,2, 2315.83,2,   7.6447,6,       25,   0.213,2,   1.7793,2,    5.47,2,   9.1650,2,    -999,9,    -999,9,    -999,   7.512,2,   0.034,    -999,1,    -999,9,    -999,9,  18.9176, -65.9998,   0.008,   0.0071,    0.15,   9.0839,   9.1650,2,-999,9,-999,-999,9,-999,    35.2722,2,-999,9,20120408,       1229
33AT20120324,        A22,      50,          1,         18,         18,2,20120408,       1134,    18.9143,   -66.0008,       3011,   805.0,   7.6279,  34.9406,2,  34.9400,2,    130.3,2,   131.5,2,   19.20,2,   29.51,2,    0.00,2,    1.90,2,   0.608,2,   0.297,2,   0.012,2,    0.14,2,  2206.6,2, 2312.89,2,   7.6139,2,       25,   0.133,2,   1.8032,2,    4.67,2,   7.6352,2,    -999,9,    -999,9,    -999,   7.770,2,   0.035,    -999,1,    -999,9,    -999,9,  18.9174, -65.9998,   0.008,   0.0072,    0.15,   7.5455,   7.6352,2,-999,9,-999,-999,9,-999,    35.1048,2,-999,9,20120408,       1226
33AT20120324,        A22,      50,          1,         17,         17,2,20120408,       1134,    18.9143,   -66.0008,       3011,   902.9,   6.6920,  34.8926,2,  34.8922,2,    139.1,2,   139.9,2,   21.45,2,   29.79,2,    0.00,2,    1.95,2,   0.390,2,   0.174,2,   0.004,2,    0.11,2,    -999,9,    -999,9,     -999,9,     -999,   0.107,2,   1.8173,2,    3.89,2,   6.6917,2,    -999,9,    -999,9,    -999,   7.803,2,   0.035,    -999,1,    -999,9,    -999,9,  18.9172, -65.9999,   0.010,   0.0073,    0.15,   6.6053,   6.6917,2,-999,9,-999,-999,9,-999,    35.0568,2,-999,9,20120408,       1224
33AT20120324,        A22,      50,          1,         16,         16,2,20120408,       1134,    18.9143,   -66.0008,       3011,  1006.5,   6.1888,  34.9496,2,  34.9519,2,    163.8,2,   164.3,2,   19.97,2,   26.87,2,    0.00,2,    1.77,2,    -999,9,    -999,9,    -999,9,    -999,9,    -999,9,    -999,9,     -999,9,     -999,   0.156,2,   1.8413,2,    4.34,2,   6.1661,2,    -999,9,    -999,9,    -999,   7.899,2,   0.036,    -999,9,    -999,9,    -999,9,  18.9170, -65.9999,   0.009,   0.0074,    0.15,   6.0952,   6.1661,2,-999,9,-999,-999,9,-999,    35.1167,2,-999,9,20120408,       1221
33AT20120324,        A22,      50,          1,         15,         15,2,20120408,       1134,    18.9143,   -66.0008,       3011,  1104.0,   5.8893,  35.0379,2,  35.0387,2,    190.0,2,   197.0,2,   15.93,2,   22.58,2,    0.00,2,    1.48,2,   0.964,2,   0.463,2,   0.024,2,    0.26,2,  2182.8,2, 2316.49,2,   7.6904,2,       25,   0.234,2,   1.8163,2,    5.80,2,   5.8882,2,    -999,9,    -999,9,    -999,   7.870,2,   0.035,    -999,1,    -999,9,    -999,9,  18.9168, -66.0000,   0.008,   0.0073,    0.15,   5.7882,   5.8882,2,-999,9,-999,-999,9,-999,    35.2039,2,-999,9,20120408,       1219
33AT20120324,        A22,      50,          1,         14,         14,2,20120408,       1134,    18.9143,   -66.0008,       3011,  1209.3,   5.2766,  35.0438,2,  35.0454,2,    221.3,2,   223.8,2,   13.75,2,   20.10,2,    0.00,2,    1.33,2,   1.407,2,   0.709,2,   0.050,2,    0.38,2,    -999,9,    -999,9,     -999,9,     -999,   0.308,2,   1.8332,2,    7.25,2,   5.2759,2,    -999,9,    -999,9,    -999,   7.993,2,   0.036,    -999,1,    -999,9,    -999,9,  18.9166, -66.0001,   0.009,   0.0073,    0.15,   5.1705,   5.2759,2,-999,9,-999,-999,9,-999,    35.2106,2,-999,9,20120408,       1217
33AT20120324,        A22,      50,          1,         13,         13,2,20120408,       1134,    18.9143,   -66.0008,       3011,  1310.2,   4.7758,  35.0233,2,  35.0237,2,    237.6,2,   238.0,2,   13.34,2,   19.16,2,    0.00,2,    1.27,2,   1.598,2,   0.812,2,   0.073,2,    0.40,2,    -999,9,    -999,9,     -999,9,     -999,   0.339,2,   1.8335,2,    7.15,2,   4.7754,2,    -999,9,    -999,9,    -999,   7.944,2,   0.036,    -999,1,    -999,9,    -999,9,  18.9165, -66.0001,   0.009,   0.0073,    0.15,   4.6648,   4.7754,2,-999,9,-999,-999,9,-999,    35.1889,2,-999,9,20120408,       1214
33AT20120324,        A22,      50,          1,         12,         12,2,20120408,       1134,    18.9143,   -66.0008,       3011,  1411.3,   4.4423,  35.0074,2,  35.0078,2,    248.0,2,   247.8,2,   12.92,2,   18.51,2,    0.00,2,    1.23,2,    -999,9,    -999,9,    -999,9,    -999,9,    -999,9,    -999,9,     -999,9,     -999,   0.357,2,   1.8210,2,    7.87,2,   4.4421,2,    -999,9,    -999,9,    -999,   7.966,2,   0.036,    -999,9,    -999,9,    -999,9,  18.9162, -66.0002,   0.009,   0.0073,    0.15,   4.3253,   4.4421,2,-999,9,-999,-999,9,-999,    35.1729,2,-999,9,20120408,       1212
33AT20120324,        A22,      50,          1,         11,         11,2,20120408,       1134,    18.9143,   -66.0008,       3011,  1510.6,   4.2287,  34.9950,2,  34.9958,2,    253.4,2,   253.2,2,   12.79,2,   18.19,2,    0.00,2,    1.21,2,   1.758,2,    -999,5,   0.081,2,    0.35,2,  2164.6,2, 2311.91,2,   7.7278,2,       25,   0.358,2,   1.8438,2,    7.49,2,   4.2285,2,    -999,9,    -999,9,    -999,   8.048,2,   0.036,    -999,1,    -999,9,    -999,9,  18.9160, -66.0003,   0.009,   0.0074,    0.15,   4.1048,   4.2285,2,-999,9,-999,-999,9,-999,    35.1608,2,-999,9,20120408,       1209
33AT20120324,        A22,      50,          1,         10,         10,2,20120408,       1134,    18.9143,   -66.0008,       3011,  1613.8,   4.0358,  34.9837,2,  34.9841,2,    257.3,2,   257.3,2,   13.07,2,   18.00,2,    0.00,2,    1.20,2,   1.737,2,   0.867,2,   0.083,2,    0.36,2,    -999,9,    -999,9,     -999,9,     -999,    -999,9,     -999,9,    -999,9,   4.0356,2,    -999,9,    -999,9,    -999,    -999,9,    -999,    -999,1,    -999,9,    -999,9,  18.9158, -66.0003,    -999,     -999,    -999,   3.9046,   4.0356,2,-999,9,-999,-999,9,-999,    35.1491,2,-999,9,20120408,       1207
33AT20120324,        A22,      50,          1,          9,          9,2,20120408,       1134,    18.9143,   -66.0008,       3011,  1714.8,   3.8889,  34.9761,2,  34.9770,2,    259.4,2,   259.2,2,   13.61,2,   17.98,2,    0.00,2,    1.20,2,   1.617,2,   0.807,2,   0.072,2,    0.33,2,    -999,9,    -999,9,     -999,9,     -999,   0.326,2,   1.8469,2,    6.88,2,   3.8888,2,    -999,9,    -999,9,    -999,   8.066,2,   0.036,    -999,1,    -999,9,    -999,9,  18.9157, -66.0004,   0.008,   0.0074,    0.15,   3.7502,   3.8888,2,-999,9,-999,-999,9,-999,    35.1420,2,-999,9,20120408,       1204
33AT20120324,        A22,      50,          1,          8,          8,2,20120408,       1134,    18.9143,   -66.0008,       3011,  1818.1,   3.7789,  34.9709,2,  34.9711,2,    260.7,2,   260.3,2,   14.06,2,   17.97,2,    0.00,2,    1.20,2,    -999,9,    -999,9,    -999,9,    -999,9,    -999,9,    -999,9,     -999,9,     -999,    -999,9,     -999,9,    -999,9,   3.7787,2,    -999,9,    -999,9,    -999,    -999,9,    -999,    -999,9,    -999,9,    -999,9,  18.9155, -66.0004,    -999,     -999,    -999,   3.6320,   3.7787,2,-999,9,-999,-999,9,-999,    35.1360,2,-999,9,20120408,       1202
33AT20120324,        A22,      50,          1,          7,          7,2,20120408,       1134,    18.9143,   -66.0008,       3011,  1914.9,   3.6538,  34.9656,2,  34.9660,2,    261.8,2,   261.6,2,   14.75,2,   17.96,2,    0.00,2,    1.20,2,   1.394,2,   0.678,2,   0.065,2,    0.29,2,    -999,9,    -999,9,     -999,9,     -999,    -999,9,     -999,9,    -999,9,   3.6532,2,    -999,9,    -999,9,    -999,    -999,9,    -999,    -999,1,    -999,9,    -999,9,  18.9153, -66.0005,    -999,     -999,    -999,   3.4995,   3.6532,2,-999,9,-999,-999,9,-999,    35.1309,2,-999,9,20120408,       1200
33AT20120324,        A22,      50,          1,          6,          6,2,20120408,       1134,    18.9143,   -66.0008,       3011,  2018.9,   3.5398,  34.9622,2,  34.9635,2,    262.2,2,   262.0,2,   15.57,2,   17.99,2,    0.00,2,    1.20,2,   1.237,2,   0.609,2,   0.047,2,    0.23,2,  2160.8,2, 2314.10,2,   7.7378,2,       25,   0.276,2,   1.8434,2,    7.02,2,   3.5398,2,    -999,9,    -999,9,    -999,   8.163,2,   0.037,    -999,1,    -999,9,    -999,9,  18.9152, -66.0005,   0.009,   0.0074,    0.15,   3.3773,   3.5398,2,-999,9,-999,-999,9,-999,    35.1284,2,-999,9,20120408,       1157