BOTTLE,20220725CCHSIOCBG
EXPOCODE,SECT_ID,STNNBR,CASTNO,SAMPNO,BTLNBR,BTLNBR_FLAG_W,DATE,TIME,LATITUDE,LONGITUDE,DEPTH,CTDPRS,CTDTMP,CTDSAL,CTDSAL_FLAG_W,SALNTY,SALNTY_FLAG_W,CTDOXY,CTDOXY_FLAG_W,OXYGEN,OXYGEN_FLAG_W,SILCAT,SILCAT_FLAG_W,NITRAT,NITRAT_FLAG_W,NITRIT,NITRIT_FLAG_W,PHSPHT,PHSPHT_FLAG_W,CFC-11,CFC-11_FLAG_W,CFC-12,CFC-12_FLAG_W,CFC113,CFC113_FLAG_W,SF6,SF6_FLAG_W,TCARBN,TCARBN_FLAG_W,ALKALI,ALKALI_FLAG_W,PH_TOT,PH_TOT_FLAG_W,PH_TMP,TRITUM,TRITUM_FLAG_W,HELIUM,HELIUM_FLAG_W,DELHE3,DELHE3_FLAG_W,REFTMP,REFTMP_FLAG_W,DELC13,DELC13_FLAG_W,DELC14,DELC14_FLAG_W,C14ERR,NEON,NEON_FLAG_W,NEONER,CCL4,CCL4_FLAG_W,DOC,DOC_FLAG_W,TDN,TDN_FLAG_W,BTL_LAT,BTL_LON,TRITER,HELIER,DELHER,THETA,SBE35,SBE35_FLAG_W,14C-DOC,14C-DOC_FLAG_W,14C-DOCERR,13C-DOC,13C-DOC_FLAG_W,13C-DOCERR,SALTREF,SALTREF_FLAG_W,LAB_DEN,LAB_DEN_FLAG_W,BTL_DATE,BTL_TIME
,,,,,,,,,,,METERS,DBAR,ITS-90,PSS-78,,PSS-78,,UMOL/KG,,UMOL/KG,,UMOL/KG,,UMOL/KG,,UMOL/KG,,UMOL/KG,,PMOL/KG,,PMOL/KG,,PMOL/KG,,FMOL/KG,,UMOL/KG,,UMOL/KG,,,,DEG C,TU,,NMOL/KG,,PERCNT,,DEG C,,/MILLE,,/MILLE,,/MILLE,NMOL/KG,,NMOL/KG,PMOL/KG,,UMOL/KG,,UMOL/KG,,,,TU,NMOL/KG,PERCNT,DEG C,ITS-90,,/MILLE,,/MILLE,/MILLE,,/MILLE,G/KG,,KG/M^3,,,
33AT20120324,        A22,      62,          1,          5,          5,2,20120410,       0733,    17.5025,   -66.0027,       3053,  2425.6,   4.1134,  34.9746,2,  34.9754,2,    218.6,2,   220.0,2,   26.13,2,   21.49,2,    0.00,2,    1.46,2,   0.304,2,   0.146,2,   0.017,2,    0.18,2,  2191.6,2, 2333.40,2,   7.7112,2,       25,    -999,9,     -999,9,    -999,9,   4.1132,2,    -999,9,    -999,9,    -999,    -999,9,    -999,    -999,1,    -999,9,    -999,9,  17.5040, -66.0025,    -999,     -999,    -999,   3.9009,   4.1132,2,-999,9,-999,-999,9,-999,    35.1403,2,-999,9,20120410,        756
33AT20120324,        A22,      62,          1,          4,          4,2,20120410,       0733,    17.5025,   -66.0027,       3053,  2628.2,   4.1285,  34.9744,2,  34.9750,2,    217.3,2,   217.0,2,   27.51,2,   21.85,2,    0.00,2,    1.48,2,    -999,9,    -999,9,    -999,9,    -999,9,    -999,9,    -999,9,     -999,9,     -999,    -999,9,     -999,9,    -999,9,   4.1278,2,    -999,9,    -999,9,    -999,    -999,9,    -999,    -999,9,    -999,9,    -999,9,  17.5037, -66.0025,    -999,     -999,    -999,   3.8942,   4.1278,2,-999,9,-999,-999,9,-999,    35.1399,2,-999,9,20120410,        752
33AT20120324,        A22,      62,          1,          3,          3,2,20120410,       0733,    17.5025,   -66.0027,       3053,  2832.2,   4.1468,  34.9744,2,  34.9752,2,    220.7,2,   221.5,2,   25.91,2,   21.47,2,    0.00,2,    1.45,2,   0.342,2,   0.160,2,   0.018,2,    0.19,2,    -999,9,    -999,9,     -999,9,     -999,    -999,9,     -999,9,    -999,9,   4.1460,2,    -999,9,    -999,9,    -999,    -999,9,    -999,    -999,1,    -999,9,    -999,9,  17.5028, -66.0026,    -999,     -999,    -999,   3.8900,   4.1460,2,-999,9,-999,-999,9,-999,    35.1401,2,-999,9,20120410,        740
33AT20120324,        A22,      62,          1,          2,          2,2,20120410,       0733,    17.5025,   -66.0027,       3053,  2958.2,   4.1595,  34.9743,2,  34.9752,2,    219.0,2,   219.4,2,   26.64,2,   21.60,2,    0.00,2,    1.47,2,   0.281,2,   0.132,2,   0.017,2,    0.17,2,  2191.8,2, 2332.71,6,   7.7148,6,       25,    -999,9,     -999,9,    -999,9,   4.1592,2,    -999,9,    -999,9,    -999,    -999,9,    -999,    -999,1,    -999,9,    -999,9,  17.5027, -66.0026,    -999,     -999,    -999,   3.8884,   4.1592,2,-999,9,-999,-999,9,-999,    35.1401,2,-999,9,20120410,        737
33AT20120324,        A22,      62,          1,          1,          1,2,20120410,       0733,    17.5025,   -66.0027,       3053,  3110.1,   4.1743,  34.9745,2,  34.9752,2,    221.8,2,   221.4,2,   25.64,2,   21.28,2,    0.00,2,    1.44,2,   0.381,2,   0.180,2,   0.017,2,    0.20,2,  2190.0,6, 2333.06,2,   7.7140,2,       25,    -999,9,     -999,9,    -999,9,   4.1738,2,    -999,9,    -999,9,    -999,    -999,9,    -999,    -999,1,    -999,9,    -999,9,  17.5025, -66.0027,    -999,     -999,    -999,   3.8858,   4.1738,2,-999,9,-999,-999,9,-999,    35.1401,2,-999,9,20120410,        733