BOTTLE,20220725CCHSIOCBG
EXPOCODE,SECT_ID,STNNBR,CASTNO,SAMPNO,BTLNBR,BTLNBR_FLAG_W,DATE,TIME,LATITUDE,LONGITUDE,DEPTH,CTDPRS,CTDTMP,CTDSAL,CTDSAL_FLAG_W,SALNTY,SALNTY_FLAG_W,CTDOXY,CTDOXY_FLAG_W,OXYGEN,OXYGEN_FLAG_W,SILCAT,SILCAT_FLAG_W,NITRAT,NITRAT_FLAG_W,NITRIT,NITRIT_FLAG_W,PHSPHT,PHSPHT_FLAG_W,CFC-11,CFC-11_FLAG_W,CFC-12,CFC-12_FLAG_W,CFC113,CFC113_FLAG_W,SF6,SF6_FLAG_W,TCARBN,TCARBN_FLAG_W,ALKALI,ALKALI_FLAG_W,PH_TOT,PH_TOT_FLAG_W,PH_TMP,TRITUM,TRITUM_FLAG_W,HELIUM,HELIUM_FLAG_W,DELHE3,DELHE3_FLAG_W,REFTMP,REFTMP_FLAG_W,DELC13,DELC13_FLAG_W,DELC14,DELC14_FLAG_W,C14ERR,NEON,NEON_FLAG_W,NEONER,CCL4,CCL4_FLAG_W,DOC,DOC_FLAG_W,TDN,TDN_FLAG_W,BTL_LAT,BTL_LON,TRITER,HELIER,DELHER,THETA,SBE35,SBE35_FLAG_W,14C-DOC,14C-DOC_FLAG_W,14C-DOCERR,13C-DOC,13C-DOC_FLAG_W,13C-DOCERR,SALTREF,SALTREF_FLAG_W,LAB_DEN,LAB_DEN_FLAG_W,BTL_DATE,BTL_TIME
,,,,,,,,,,,METERS,DBAR,ITS-90,PSS-78,,PSS-78,,UMOL/KG,,UMOL/KG,,UMOL/KG,,UMOL/KG,,UMOL/KG,,UMOL/KG,,PMOL/KG,,PMOL/KG,,PMOL/KG,,FMOL/KG,,UMOL/KG,,UMOL/KG,,,,DEG C,TU,,NMOL/KG,,PERCNT,,DEG C,,/MILLE,,/MILLE,,/MILLE,NMOL/KG,,NMOL/KG,PMOL/KG,,UMOL/KG,,UMOL/KG,,,,TU,NMOL/KG,PERCNT,DEG C,ITS-90,,/MILLE,,/MILLE,/MILLE,,/MILLE,G/KG,,KG/M^3,,,
33AT20120324,        A22,      13,          1,          5,          5,2,20120328,       0816,    37.8124,   -68.4683,       4430,  2966.2,   2.9399,  34.9302,2,  34.9311,2,    268.4,2,   267.9,2,   19.22,2,   17.60,2,    0.00,2,    1.20,2,   1.043,2,   0.577,2,   0.046,2,    -999,5,  2161.7,2, 2314.24,2,     -999,9,     -999,    -999,9,     -999,9,    -999,9,   2.9394,2,    1.17,2,   -54.9,2,     2.5,    -999,9,    -999,    1.01,2,   43.25,2,   20.67,2,  37.8062, -68.4530,    -999,     -999,    -999,   2.6940,   2.9394,2,-411,2,4,-22.4,2,0.2,    35.0958,2,-999,9,20120328,        847
33AT20120324,        A22,      13,          1,          4,          4,2,20120328,       0816,    37.8124,   -68.4683,       4430,  3264.9,   2.6520,  34.9154,2,     -999,5,    271.0,2,   270.9,2,   20.41,2,   17.33,2,    0.00,2,    1.18,2,   1.173,2,   0.683,2,   0.065,2,    -999,5,    -999,9,    -999,9,     -999,9,     -999,    -999,9,     -999,9,    -999,9,   2.6515,2,    -999,9,    -999,9,    -999,    -999,9,    -999,    1.04,2,   43.11,2,   20.45,2,  37.8075, -68.4564,    -999,     -999,    -999,   2.3811,   2.6515,2,-999,9,-999,-999,9,-999,       -999,5,-999,9,20120328,        840
33AT20120324,        A22,      13,          1,          3,          3,2,20120328,       0816,    37.8124,   -68.4683,       4430,  3549.4,   2.4133,  34.9028,2,  34.9001,2,    271.0,2,   271.1,2,   23.47,2,   17.49,2,    0.00,2,    1.20,2,   1.174,2,   0.679,2,   0.076,2,    -999,5,  2165.9,2, 2318.86,4,   7.7399,2,     -999,    -999,9,     -999,9,    -999,9,   2.4132,2,    1.08,2,   -45.0,2,     2.8,    -999,9,    -999,    1.08,2,   43.57,2,   20.35,2,  37.8090, -68.4597,    -999,     -999,    -999,   2.1177,   2.4132,2,-407,2,4,-22.6,2,0.2,    35.0646,2,-999,9,20120328,        833
33AT20120324,        A22,      13,          1,          2,          2,2,20120328,       0816,    37.8124,   -68.4683,       4430,  3954.5,   2.2504,  34.8899,2,  34.8908,2,    268.7,2,   268.2,2,   28.80,2,   18.16,2,    0.00,2,    1.25,2,   1.062,2,   0.617,2,   0.069,2,    -999,5,  2172.9,2, 2323.26,6,   7.7335,6,       25,    -999,9,     -999,9,    -999,9,   2.2503,2,    1.08,2,   -64.1,2,     3.0,    -999,9,    -999,    0.98,2,   42.56,2,   20.69,2,  37.8107, -68.4636,    -999,     -999,    -999,   1.9142,   2.2503,2,-416,2,4,-22.5,2,0.2,    35.0553,2,-999,9,20120328,        826
33AT20120324,        A22,      13,          1,          1,          1,2,20120328,       0816,    37.8124,   -68.4683,       4430,  4460.6,   2.2006,  34.8793,2,  34.8794,2,    263.6,3,   261.7,2,   36.20,2,   19.41,2,    0.00,2,    1.35,2,   0.716,2,   0.415,2,   0.054,2,    -999,5,  2182.8,6, 2332.11,4,   7.7327,2,       25,    -999,9,     -999,9,    -999,9,   2.2000,2,    -999,9,    -999,9,    -999,    -999,9,    -999,    0.80,2,   42.95,2,   22.07,2,  37.8124, -68.4681,    -999,     -999,    -999,   1.8072,   2.2000,2,-999,9,-999,-999,9,-999,    35.0439,2,-999,9,20120328,        818