BOTTLE,20220725CCHSIOCBG
EXPOCODE,SECT_ID,STNNBR,CASTNO,SAMPNO,BTLNBR,BTLNBR_FLAG_W,DATE,TIME,LATITUDE,LONGITUDE,DEPTH,CTDPRS,CTDTMP,CTDSAL,CTDSAL_FLAG_W,SALNTY,SALNTY_FLAG_W,CTDOXY,CTDOXY_FLAG_W,OXYGEN,OXYGEN_FLAG_W,SILCAT,SILCAT_FLAG_W,NITRAT,NITRAT_FLAG_W,NITRIT,NITRIT_FLAG_W,PHSPHT,PHSPHT_FLAG_W,CFC-11,CFC-11_FLAG_W,CFC-12,CFC-12_FLAG_W,CFC113,CFC113_FLAG_W,SF6,SF6_FLAG_W,TCARBN,TCARBN_FLAG_W,ALKALI,ALKALI_FLAG_W,PH_TOT,PH_TOT_FLAG_W,PH_TMP,TRITUM,TRITUM_FLAG_W,HELIUM,HELIUM_FLAG_W,DELHE3,DELHE3_FLAG_W,REFTMP,REFTMP_FLAG_W,DELC13,DELC13_FLAG_W,DELC14,DELC14_FLAG_W,C14ERR,NEON,NEON_FLAG_W,NEONER,CCL4,CCL4_FLAG_W,DOC,DOC_FLAG_W,TDN,TDN_FLAG_W,BTL_LAT,BTL_LON,TRITER,HELIER,DELHER,THETA,SBE35,SBE35_FLAG_W,14C-DOC,14C-DOC_FLAG_W,14C-DOCERR,13C-DOC,13C-DOC_FLAG_W,13C-DOCERR,SALTREF,SALTREF_FLAG_W,LAB_DEN,LAB_DEN_FLAG_W,BTL_DATE,BTL_TIME
,,,,,,,,,,,METERS,DBAR,ITS-90,PSS-78,,PSS-78,,UMOL/KG,,UMOL/KG,,UMOL/KG,,UMOL/KG,,UMOL/KG,,UMOL/KG,,PMOL/KG,,PMOL/KG,,PMOL/KG,,FMOL/KG,,UMOL/KG,,UMOL/KG,,,,DEG C,TU,,NMOL/KG,,PERCNT,,DEG C,,/MILLE,,/MILLE,,/MILLE,NMOL/KG,,NMOL/KG,PMOL/KG,,UMOL/KG,,UMOL/KG,,,,TU,NMOL/KG,PERCNT,DEG C,ITS-90,,/MILLE,,/MILLE,/MILLE,,/MILLE,G/KG,,KG/M^3,,,
33AT20120324,        A22,      65,          1,          5,          5,2,20120411,       0132,    16.6980,   -67.0801,       4718,  3650.3,   4.2368,  34.9750,2,  34.9752,2,    215.2,2,   215.0,2,   28.86,2,   22.11,2,    0.00,2,    1.48,2,   0.048,2,   0.041,2,   0.006,2,    0.00,4,    -999,9,    -999,9,     -999,9,     -999,    -999,9,     -999,9,    -999,9,   4.2369,2,    -999,9,    -999,9,    -999,    -999,9,    -999,    0.07,2,   40.27,2,   24.16,2,  16.6983, -67.0800,    -999,     -999,    -999,   3.8834,   4.2369,2,-999,9,-999,-999,9,-999,    35.1401,2,-999,9,20120411,        156
33AT20120324,        A22,      65,          1,          4,          4,2,20120411,       0132,    16.6980,   -67.0801,       4718,  3951.2,   4.2728,  34.9751,2,  34.9750,2,    215.2,2,   215.3,2,   28.80,2,   22.06,2,    0.00,2,    1.49,2,   0.054,2,   0.043,2,   0.006,2,    0.00,4,  2196.1,2, 2341.85,2,   7.7113,6,       25,    -999,9,     -999,9,    -999,9,   4.2727,2,    -999,9,    -999,9,    -999,    -999,9,    -999,    0.10,2,   40.59,2,   24.67,2,  16.6983, -67.0800,    -999,     -999,    -999,   3.8815,   4.2727,2,-999,9,-999,-999,9,-999,    35.1399,2,-999,9,20120411,        151
33AT20120324,        A22,      65,          1,          3,          3,2,20120411,       0132,    16.6980,   -67.0801,       4718,  4263.8,   4.3108,  34.9752,2,  34.9754,2,    215.8,2,   215.3,2,   28.90,2,   22.01,2,    0.00,2,    1.48,2,   0.051,2,   0.052,2,   0.004,2,    0.00,4,    -999,9,    -999,9,     -999,9,     -999,    -999,9,     -999,9,    -999,9,   4.3107,2,    -999,9,    -999,9,    -999,    -999,9,    -999,    0.01,2,   41.15,2,   24.86,2,  16.6982, -67.0800,    -999,     -999,    -999,   3.8788,   4.3107,2,-999,9,-999,-999,9,-999,    35.1403,2,-999,9,20120411,        144
33AT20120324,        A22,      65,          1,          2,          2,2,20120411,       0132,    16.6980,   -67.0801,       4718,  4525.9,   4.3449,  34.9750,2,  34.9754,2,    215.3,2,   215.8,2,   28.87,2,   21.96,2,    0.00,2,    1.48,2,   0.063,2,   0.061,2,   0.006,2,    0.00,4,  2197.5,2, 2340.98,2,   7.7120,2,       25,    -999,9,     -999,9,    -999,9,   4.3452,2,    -999,9,    -999,9,    -999,    -999,9,    -999,    0.01,2,   40.63,2,   24.56,2,  16.6981, -67.0801,    -999,     -999,    -999,   3.8778,   4.3452,2,-999,9,-999,-999,9,-999,    35.1403,2,-999,9,20120411,        139
33AT20120324,        A22,      65,          1,          1,          1,2,20120411,       0132,    16.6980,   -67.0801,       4718,  4808.0,   4.3822,  34.9749,2,  34.9754,2,    217.8,2,   217.9,2,   27.83,2,   21.72,2,    0.00,2,    1.47,2,   0.114,2,   0.098,2,   0.009,2,    0.00,4,  2197.0,6, 2338.99,6,   7.7155,2,       25,    -999,9,     -999,9,    -999,9,   4.3823,2,    -999,9,    -999,9,    -999,    -999,9,    -999,    0.04,2,   41.18,2,   24.53,2,  16.6980, -67.0801,    -999,     -999,    -999,   3.8763,   4.3823,2,-999,9,-999,-999,9,-999,    35.1403,2,-999,9,20120411,        133