BOTTLE,20220725CCHSIOCBG
EXPOCODE,SECT_ID,STNNBR,CASTNO,SAMPNO,BTLNBR,BTLNBR_FLAG_W,DATE,TIME,LATITUDE,LONGITUDE,DEPTH,CTDPRS,CTDTMP,CTDSAL,CTDSAL_FLAG_W,SALNTY,SALNTY_FLAG_W,CTDOXY,CTDOXY_FLAG_W,OXYGEN,OXYGEN_FLAG_W,SILCAT,SILCAT_FLAG_W,NITRAT,NITRAT_FLAG_W,NITRIT,NITRIT_FLAG_W,PHSPHT,PHSPHT_FLAG_W,CFC-11,CFC-11_FLAG_W,CFC-12,CFC-12_FLAG_W,CFC113,CFC113_FLAG_W,SF6,SF6_FLAG_W,TCARBN,TCARBN_FLAG_W,ALKALI,ALKALI_FLAG_W,PH_TOT,PH_TOT_FLAG_W,PH_TMP,TRITUM,TRITUM_FLAG_W,HELIUM,HELIUM_FLAG_W,DELHE3,DELHE3_FLAG_W,REFTMP,REFTMP_FLAG_W,DELC13,DELC13_FLAG_W,DELC14,DELC14_FLAG_W,C14ERR,NEON,NEON_FLAG_W,NEONER,CCL4,CCL4_FLAG_W,DOC,DOC_FLAG_W,TDN,TDN_FLAG_W,BTL_LAT,BTL_LON,TRITER,HELIER,DELHER,THETA,SBE35,SBE35_FLAG_W,14C-DOC,14C-DOC_FLAG_W,14C-DOCERR,13C-DOC,13C-DOC_FLAG_W,13C-DOCERR,SALTREF,SALTREF_FLAG_W,LAB_DEN,LAB_DEN_FLAG_W,BTL_DATE,BTL_TIME
,,,,,,,,,,,METERS,DBAR,ITS-90,PSS-78,,PSS-78,,UMOL/KG,,UMOL/KG,,UMOL/KG,,UMOL/KG,,UMOL/KG,,UMOL/KG,,PMOL/KG,,PMOL/KG,,PMOL/KG,,FMOL/KG,,UMOL/KG,,UMOL/KG,,,,DEG C,TU,,NMOL/KG,,PERCNT,,DEG C,,/MILLE,,/MILLE,,/MILLE,NMOL/KG,,NMOL/KG,PMOL/KG,,UMOL/KG,,UMOL/KG,,,,TU,NMOL/KG,PERCNT,DEG C,ITS-90,,/MILLE,,/MILLE,/MILLE,,/MILLE,G/KG,,KG/M^3,,,
33AT20120324,        A22,      67,          1,          5,          5,2,20120411,       1555,    15.9481,   -68.2923,       4273,  2950.5,   4.1596,  34.9747,2,  34.9751,2,    216.4,2,   216.4,2,   28.45,2,   22.02,2,    0.00,2,    1.49,2,   0.063,2,   0.047,2,   0.006,2,    0.00,4,  2196.0,2, 2337.54,2,   7.7106,2,       25,    -999,9,     -999,9,    -999,9,   4.1593,2,    -999,9,    -999,9,    -999,    -999,9,    -999,    0.09,2,   39.75,2,   24.61,2,  15.9481, -68.2923,    -999,     -999,    -999,   3.8894,   4.1593,2,-999,9,-999,-999,9,-999,    35.1401,2,-999,1,20120411,       1622
33AT20120324,        A22,      67,          1,          4,          4,2,20120411,       1555,    15.9481,   -68.2923,       4273,  3240.9,   4.1880,  34.9748,2,  34.9751,2,    216.3,2,   216.5,2,   28.71,2,   22.08,2,    0.00,2,    1.49,2,   0.059,2,   0.047,2,   0.005,2,    0.00,4,    -999,9,    -999,9,     -999,9,     -999,    -999,9,     -999,9,    -999,9,   4.1881,2,    -999,9,    -999,9,    -999,    -999,9,    -999,    0.09,2,   40.51,2,   24.95,2,  15.9479, -68.2924,    -999,     -999,    -999,   3.8841,   4.1881,2,-999,9,-999,-999,9,-999,    35.1401,2,-999,1,20120411,       1617
33AT20120324,        A22,      67,          1,          3,          3,2,20120411,       1555,    15.9481,   -68.2923,       4273,  3548.3,   4.2209,  34.9749,2,  34.9752,2,    216.7,2,   216.7,2,   28.74,2,   21.99,2,    0.00,2,    1.50,2,   0.065,2,   0.050,2,   0.007,2,    0.00,4,    -999,9,    -999,9,     -999,9,     -999,    -999,9,     -999,9,    -999,9,   4.2211,2,    -999,9,    -999,9,    -999,    -999,9,    -999,    0.07,2,   40.39,2,   24.89,2,  15.9479, -68.2924,    -999,     -999,    -999,   3.8801,   4.2211,2,-999,9,-999,-999,9,-999,    35.1401,2,-999,1,20120411,       1611
33AT20120324,        A22,      67,          1,          2,          2,2,20120411,       1555,    15.9481,   -68.2923,       4273,  3955.1,   4.2688,  34.9750,2,  34.9760,2,    216.8,2,   217.5,2,   28.76,2,   21.90,2,    0.00,2,    1.49,2,   0.099,2,   0.071,2,   0.009,2,    0.00,4,  2197.4,2, 2339.40,2,   7.7127,2,       25,    -999,9,     -999,9,    -999,9,   4.2688,2,    -999,9,    -999,9,    -999,    -999,9,    -999,    0.11,2,   40.23,2,   25.11,2,  15.9479, -68.2924,    -999,     -999,    -999,   3.8771,   4.2688,2,-999,9,-999,-999,9,-999,    35.1409,2,-999,1,20120411,       1603
33AT20120324,        A22,      67,          1,          1,          1,2,20120411,       1555,    15.9481,   -68.2923,       4273,  4326.8,   4.3176,  34.9748,2,  34.9758,2,    218.4,2,   218.5,2,   28.47,2,   21.74,2,    0.00,2,    1.49,2,   0.118,2,   0.083,2,   0.009,2,    0.00,4,  2196.0,6, 2339.54,6,   7.7147,2,       25,    -999,9,     -999,9,    -999,9,   4.3179,2,    -999,9,    -999,9,    -999,    -999,9,    -999,    0.14,2,   41.30,2,   24.87,2,  15.9481, -68.2923,    -999,     -999,    -999,   3.8773,   4.3179,2,-999,9,-999,-999,9,-999,    35.1407,2,-999,1,20120411,       1556