BOTTLE,20220725CCHSIOCBG
EXPOCODE,SECT_ID,STNNBR,CASTNO,SAMPNO,BTLNBR,BTLNBR_FLAG_W,DATE,TIME,LATITUDE,LONGITUDE,DEPTH,CTDPRS,CTDTMP,CTDSAL,CTDSAL_FLAG_W,SALNTY,SALNTY_FLAG_W,CTDOXY,CTDOXY_FLAG_W,OXYGEN,OXYGEN_FLAG_W,SILCAT,SILCAT_FLAG_W,NITRAT,NITRAT_FLAG_W,NITRIT,NITRIT_FLAG_W,PHSPHT,PHSPHT_FLAG_W,CFC-11,CFC-11_FLAG_W,CFC-12,CFC-12_FLAG_W,CFC113,CFC113_FLAG_W,SF6,SF6_FLAG_W,TCARBN,TCARBN_FLAG_W,ALKALI,ALKALI_FLAG_W,PH_TOT,PH_TOT_FLAG_W,PH_TMP,TRITUM,TRITUM_FLAG_W,HELIUM,HELIUM_FLAG_W,DELHE3,DELHE3_FLAG_W,REFTMP,REFTMP_FLAG_W,DELC13,DELC13_FLAG_W,DELC14,DELC14_FLAG_W,C14ERR,NEON,NEON_FLAG_W,NEONER,CCL4,CCL4_FLAG_W,DOC,DOC_FLAG_W,TDN,TDN_FLAG_W,BTL_LAT,BTL_LON,TRITER,HELIER,DELHER,THETA,SBE35,SBE35_FLAG_W,14C-DOC,14C-DOC_FLAG_W,14C-DOCERR,13C-DOC,13C-DOC_FLAG_W,13C-DOCERR,SALTREF,SALTREF_FLAG_W,LAB_DEN,LAB_DEN_FLAG_W,BTL_DATE,BTL_TIME
,,,,,,,,,,,METERS,DBAR,ITS-90,PSS-78,,PSS-78,,UMOL/KG,,UMOL/KG,,UMOL/KG,,UMOL/KG,,UMOL/KG,,UMOL/KG,,PMOL/KG,,PMOL/KG,,PMOL/KG,,FMOL/KG,,UMOL/KG,,UMOL/KG,,,,DEG C,TU,,NMOL/KG,,PERCNT,,DEG C,,/MILLE,,/MILLE,,/MILLE,NMOL/KG,,NMOL/KG,PMOL/KG,,UMOL/KG,,UMOL/KG,,,,TU,NMOL/KG,PERCNT,DEG C,ITS-90,,/MILLE,,/MILLE,/MILLE,,/MILLE,G/KG,,KG/M^3,,,
33AT20120324,        A22,      13,          1,         36,         36,2,20120328,       0816,    37.8124,   -68.4683,       4430,     5.2,  23.7696,  36.1741,2,  36.1786,2,    205.3,2,   205.2,2,    0.92,2,    0.10,2,    0.03,2,    0.00,2,   1.691,2,   1.103,2,   0.127,2,    -999,5,  2035.0,6, 2365.78,2,   8.0840,2,       25,    -999,9,     -999,9,    -999,9,  23.7694,2,    0.99,2,    70.2,2,     2.6,    -999,9,    -999,    1.27,2,   70.91,2,    4.94,2,  37.7913, -68.4029,    -999,     -999,    -999,  23.7685,  23.7694,2,-999,9,-999,-999,9,-999,    36.3492,2,-999,9,20120328,       1033
33AT20120324,        A22,      13,          1,         35,         35,2,20120328,       0816,    37.8124,   -68.4683,       4430,    21.6,  23.7874,  36.1735,2,  36.1785,2,    206.5,2,   205.2,2,    1.00,2,    0.10,2,    0.03,2,    0.00,2,   1.704,2,   1.109,2,   0.125,2,    -999,5,  2033.9,2, 2367.16,6,   8.0828,6,       25,    -999,9,     -999,9,    -999,9,  23.7882,2,    1.09,2,    67.7,2,     2.9,    -999,9,    -999,    1.28,2,   71.28,2,    5.50,2,  37.7916, -68.4042,    -999,     -999,    -999,  23.7829,  23.7882,2,-237,2,4,-21.5,2,0.2,    36.3491,2,-999,9,20120328,       1031
33AT20120324,        A22,      13,          1,         34,         34,2,20120328,       0816,    37.8124,   -68.4683,       4430,    41.3,  23.7848,  36.1744,2,  36.1793,2,    206.7,2,   205.3,2,    0.88,2,    0.09,2,    0.03,2,    0.00,2,   1.680,2,   1.115,2,   0.121,2,    -999,5,  2034.0,2, 2367.80,2,   8.0822,2,       25,    -999,9,     -999,9,    -999,9,  23.7866,2,    0.97,2,    68.0,2,     3.4,    -999,9,    -999,    1.21,2,   70.24,2,    5.28,2,  37.7918, -68.4053,    -999,     -999,    -999,  23.7761,  23.7866,2,-999,9,-999,-999,9,-999,    36.3499,2,-999,9,20120328,       1029
33AT20120324,        A22,      13,          1,         33,         33,2,20120328,       0816,    37.8124,   -68.4683,       4430,    71.5,  23.7941,  36.1737,2,  36.1771,2,    206.3,2,   205.6,2,    1.01,2,    0.09,2,    0.03,2,    0.00,2,   1.686,2,   1.112,2,   0.128,2,    -999,5,  2032.2,2, 2368.82,2,   8.0822,2,       25,    -999,9,     -999,9,    -999,9,  23.7929,2,    1.00,2,    68.2,2,     3.3,    -999,9,    -999,    1.19,2,   67.32,2,    5.67,2,  37.7916, -68.4064,    -999,     -999,    -999,  23.7791,  23.7929,2,-999,9,-999,-999,9,-999,    36.3477,2,-999,9,20120328,       1026
33AT20120324,        A22,      13,          1,         32,         32,2,20120328,       0816,    37.8124,   -68.4683,       4430,    95.0,  23.0673,  36.5010,2,  36.5038,2,    206.8,2,   194.5,2,    0.99,2,    0.74,2,    0.19,2,    0.04,2,   1.724,2,   1.159,2,   0.116,2,    -999,5,  2071.4,2, 2390.10,2,   8.0532,2,       25,    -999,9,     -999,9,    -999,9,  23.0368,3,    0.83,2,    80.4,2,     4.4,    -999,9,    -999,    0.90,2,   65.59,2,    5.83,2,  37.7916, -68.4075,    -999,     -999,    -999,  23.0477,  23.0368,3,-999,9,-999,-999,9,-999,    36.6759,2,-999,9,20120328,       1024
33AT20120324,        A22,      13,          1,         31,         31,2,20120328,       0816,    37.8124,   -68.4683,       4430,   118.4,  21.1719,  36.6830,2,  36.6875,2,    192.3,2,   199.8,2,    0.73,2,    1.07,2,    0.08,2,    0.04,2,   1.837,2,   1.236,2,   0.115,2,    -999,5,  2085.8,2, 2395.81,2,   8.0379,2,       25,    -999,9,     -999,9,    -999,9,  21.2347,3,    0.80,2,    56.7,2,     2.8,    -999,9,    -999,    0.93,2,   62.89,2,    5.22,2,  37.7921, -68.4095,    -999,     -999,    -999,  21.1489,  21.2347,3,-266,2,4,-21.3,2,0.2,    36.8605,2,-999,9,20120328,       1021
33AT20120324,        A22,      13,          1,         30,         30,2,20120328,       0816,    37.8124,   -68.4683,       4430,   140.0,  20.3997,  36.6635,2,  36.6467,2,    215.3,2,   217.0,2,    0.36,2,    0.04,2,    0.23,2,    0.00,2,   1.879,2,   1.282,2,   0.146,2,    -999,5,    -999,9,    -999,9,     -999,9,     -999,    -999,9,     -999,9,    -999,9,  20.3985,2,    -999,9,    -999,9,    -999,    -999,9,    -999,    1.24,2,   61.28,2,    4.36,2,  37.7922, -68.4102,    -999,     -999,    -999,  20.3732,  20.3985,2,-999,9,-999,-999,9,-999,    36.8195,2,-999,9,20120328,       1020
33AT20120324,        A22,      13,          1,         29,         29,2,20120328,       0816,    37.8124,   -68.4683,       4430,   186.2,  20.1127,  36.6664,2,  36.6659,2,    218.8,2,   219.8,2,    0.54,2,    0.04,2,    0.25,2,    0.00,2,   1.928,2,   1.271,2,   0.145,2,    -999,5,  2078.8,2, 2396.10,2,   8.0473,2,       25,    -999,9,     -999,9,    -999,9,  20.1123,2,    0.30,2,    39.8,2,     2.6,    -999,9,    -999,    1.20,2,   58.87,2,    4.28,2,  37.7924, -68.4110,    -999,     -999,    -999,  20.0778,  20.1123,2,-999,9,-999,-999,9,-999,    36.8388,2,-999,9,20120328,       1018
33AT20120324,        A22,      13,          1,         28,         28,2,20120328,       0816,    37.8124,   -68.4683,       4430,   239.3,  19.3225,  36.6681,2,  36.6657,2,    191.6,2,   189.2,2,    1.08,2,    2.85,2,    0.01,2,    0.11,2,   2.004,2,   1.301,2,   0.046,2,    -999,5,  2114.6,2, 2396.96,2,   7.9842,2,       25,    -999,9,     -999,9,    -999,9,  19.3654,3,    0.57,2,    80.4,2,     2.6,    -999,9,    -999,    0.27,2,   54.34,2,    6.89,2,  37.7930, -68.4124,    -999,     -999,    -999,  19.2788,  19.3654,3,-308,2,4,-21.5,2,0.2,    36.8386,2,-999,9,20120328,       1016
33AT20120324,        A22,      13,          1,         27,         27,2,20120328,       0816,    37.8124,   -68.4683,       4430,   286.5,  18.4600,  36.6109,2,  36.6124,2,    197.0,2,   199.8,2,    1.22,2,    3.53,2,    0.01,2,    0.16,2,   1.972,2,   1.336,2,   0.036,2,    -999,5,  2110.3,2, 2391.06,2,   7.9848,2,       25,    -999,9,     -999,9,    -999,9,  18.4530,2,    0.65,2,    76.7,2,     3.0,    -999,9,    -999,    0.28,2,   51.31,2,    7.63,2,  37.7935, -68.4137,    -999,     -999,    -999,  18.4093,  18.4530,2,-999,9,-999,-999,9,-999,    36.7850,2,-999,9,20120328,       1014
33AT20120324,        A22,      13,          1,         26,         26,2,20120328,       0816,    37.8124,   -68.4683,       4430,   335.1,  18.0216,  36.5328,2,  36.5335,2,    192.3,2,   190.6,2,    1.72,2,    5.25,2,    0.00,2,    0.26,2,   2.070,2,   1.349,2,   0.028,2,    -999,5,    -999,9,    -999,9,     -999,9,     -999,    -999,9,     -999,9,    -999,9,  18.0218,2,    -999,9,    -999,9,    -999,    -999,9,    -999,    0.25,2,   49.05,2,    9.83,2,  37.7937, -68.4145,    -999,     -999,    -999,  17.9632,  18.0218,2,-999,9,-999,-999,9,-999,    36.7058,2,-999,9,20120328,       1013
33AT20120324,        A22,      13,          1,         25,         25,2,20120328,       0816,    37.8124,   -68.4683,       4430,   386.3,  17.6753,  36.4750,2,  36.4586,2,    176.5,3,   188.7,2,    1.90,2,    6.03,2,    0.00,2,    0.31,2,   2.081,2,   1.332,2,   0.025,2,    -999,5,  2123.8,2, 2384.10,2,   7.9517,2,       25,    -999,9,     -999,9,    -999,9,  17.6749,2,    0.65,2,    67.8,2,     3.6,    -999,9,    -999,    0.27,2,   46.07,2,   10.03,2,  37.7940, -68.4154,    -999,     -999,    -999,  17.6089,  17.6749,2,-999,9,-999,-999,9,-999,    36.6305,2,-999,9,20120328,       1011
33AT20120324,        A22,      13,          1,         24,         24,2,20120328,       0816,    37.8124,   -68.4683,       4430,   439.0,  16.8992,  36.3322,2,  36.3348,2,    164.6,3,   179.3,2,    2.82,2,    8.28,2,    0.00,2,    0.46,2,   2.016,2,   1.300,2,   0.023,2,    -999,5,  2134.2,2, 2374.48,3,   7.9184,2,       25,    -999,9,     -999,9,    -999,9,  16.8993,2,    0.61,2,    74.4,2,     2.8,    -999,9,    -999,    0.24,2,   45.46,2,   12.23,2,  37.7945, -68.4167,    -999,     -999,    -999,  16.8259,  16.8993,2,-357,2,4,-22.9,2,0.2,    36.5062,2,-999,9,20120328,       1009
33AT20120324,        A22,      13,          1,         23,         23,2,20120328,       0816,    37.8124,   -68.4683,       4430,   493.3,  15.4171,  36.0785,2,  36.0871,2,    152.1,3,   175.7,2,    3.84,2,   10.82,2,    0.00,2,    0.62,2,   2.095,2,   1.253,2,   0.033,2,    -999,5,  2140.9,6, 2361.17,2,   7.8809,6,       25,    -999,9,     -999,9,    -999,9,  15.4366,2,    0.58,2,    62.0,2,     2.6,    -999,9,    -999,    0.36,2,   44.36,2,   13.99,2,  37.7951, -68.4182,    -999,     -999,    -999,  15.3397,  15.4366,2,-999,9,-999,-999,9,-999,    36.2572,2,-999,9,20120328,       1007
33AT20120324,        A22,      13,          1,         22,         22,2,20120328,       0816,    37.8124,   -68.4683,       4430,   568.7,  12.9803,  35.6489,2,  35.6490,2,    124.5,2,   138.2,2,    8.65,2,   19.06,2,    0.00,2,    1.17,2,   1.545,2,   0.959,2,   0.016,2,    -999,5,  2177.2,2, 2339.72,2,   7.7629,2,       25,    -999,9,     -999,9,    -999,9,  12.9876,2,    0.59,2,    33.7,2,     2.7,    -999,9,    -999,    0.17,2,   44.55,2,   22.39,2,  37.7956, -68.4196,    -999,     -999,    -999,  12.9006,  12.9876,2,-999,9,-999,-999,9,-999,    35.8171,2,-999,9,20120328,       1004
33AT20120324,        A22,      13,          1,         21,         21,2,20120328,       0816,    37.8124,   -68.4683,       4430,   670.7,  11.5686,  35.4314,2,  35.4174,2,    115.5,2,   130.3,2,   11.26,2,   22.40,2,    0.00,2,    1.40,2,   1.341,2,   0.792,2,   0.013,2,    -999,5,  2187.5,2, 2328.09,2,   7.7129,2,       25,    -999,9,     -999,9,    -999,9,  11.5640,2,    0.58,2,    26.0,2,     2.7,    -999,9,    -999,    0.22,2,   44.67,2,   25.49,2,  37.7959, -68.4208,    -999,     -999,    -999,  11.4810,  11.5640,2,-395,2,4,-22.8,2,0.2,    35.5844,2,-999,9,20120328,       1002
33AT20120324,        A22,      13,          1,         20,         20,2,20120328,       0816,    37.8124,   -68.4683,       4430,   770.6,   9.4189,  35.2002,2,  35.1957,2,    129.5,2,   136.5,2,   14.92,2,   25.01,2,    0.00,2,    1.61,2,   1.004,2,   0.581,2,   0.016,2,    -999,5,    -999,9,    -999,9,     -999,9,     -999,    -999,9,     -999,9,    -999,9,   9.4334,2,    -999,9,    -999,9,    -999,    -999,9,    -999,    0.33,2,   44.33,2,   27.78,2,  37.7966, -68.4225,    -999,     -999,    -999,   9.3299,   9.4334,2,-999,9,-999,-999,9,-999,    35.3617,2,-999,9,20120328,        959
33AT20120324,        A22,      13,          1,         19,         19,2,20120328,       0816,    37.8124,   -68.4683,       4430,   870.8,   6.8643,  35.0765,2,  35.0159,4,    177.6,2,   186.8,2,   13.94,2,   22.14,2,    0.00,2,    1.44,2,   1.446,2,   0.828,2,   0.058,2,    -999,5,  2186.2,2, 2313.33,2,   7.6825,2,       25,    -999,9,     -999,9,    -999,9,   6.8581,2,    0.45,2,   -37.2,2,     2.4,    -999,9,    -999,    0.78,2,   44.17,2,   25.67,2,  37.7966, -68.4234,    -999,     -999,    -999,   6.7795,   6.8581,2,-395,2,4,-22.4,2,0.2,    35.1811,4,-999,9,20120328,        956
33AT20120324,        A22,      13,          1,         18,         18,2,20120328,       0816,    37.8124,   -68.4683,       4430,   978.4,   5.6392,  35.0199,2,  35.0161,2,    218.2,3,   220.1,2,   12.65,2,   19.69,2,    0.00,2,    1.31,2,   2.000,2,   1.204,2,   0.111,2,    -999,5,    -999,9,    -999,9,     -999,9,     -999,    -999,9,     -999,9,    -999,9,   5.6457,2,    -999,9,    -999,9,    -999,    -999,9,    -999,    1.22,2,   44.20,2,   22.91,2,  37.7968, -68.4242,    -999,     -999,    -999,   5.5523,   5.6457,2,-999,9,-999,-999,9,-999,    35.1813,2,-999,9,20120328,        953
33AT20120324,        A22,      13,          1,         17,         17,2,20120328,       0816,    37.8124,   -68.4683,       4430,  1084.5,   5.0831,  35.0128,2,  35.0136,2,    235.8,3,   236.1,2,   12.29,2,   18.70,2,    0.00,2,    1.26,2,   2.157,2,   1.237,2,   0.116,2,    -999,5,  2172.6,2, 2309.98,2,   7.7063,2,       25,    -999,9,     -999,9,    -999,9,   5.0829,2,    0.54,2,   -25.2,2,     2.6,    -999,9,    -999,    1.42,2,   44.34,2,   22.33,2,  37.7968, -68.4251,    -999,     -999,    -999,   4.9905,   5.0829,2,-383,2,4,-22.3,2,0.2,    35.1787,2,-999,9,20120328,        949
33AT20120324,        A22,      13,          1,         16,         16,2,20120328,       0816,    37.8124,   -68.4683,       4430,  1173.6,   4.7445,  34.9928,2,  34.9894,2,    246.7,3,   247.1,2,   11.91,2,   18.20,2,    0.00,2,    1.22,2,   2.366,2,   1.374,2,   0.145,2,    -999,5,    -999,9,    -999,9,     -999,9,     -999,    -999,9,     -999,9,    -999,9,   4.7452,2,    -999,9,    -999,9,    -999,    -999,9,    -999,    1.61,2,   44.04,2,   22.04,2,  37.7968, -68.4259,    -999,     -999,    -999,   4.6466,   4.7452,2,-999,9,-999,-999,9,-999,    35.1544,2,-999,9,20120328,        945
33AT20120324,        A22,      13,          1,         15,         15,2,20120328,       0816,    37.8124,   -68.4683,       4430,  1276.0,   4.5665,  34.9870,2,  34.9878,2,    251.3,3,   251.3,2,   11.92,2,   18.00,2,    0.00,2,    1.20,2,   2.267,2,   1.348,2,   0.144,2,    -999,5,  2166.7,2, 2309.38,2,   7.7138,2,       25,    -999,9,     -999,9,    -999,9,   4.5675,2,    0.86,2,   -21.7,2,     2.8,    -999,9,    -999,    1.52,2,   44.28,2,   22.02,2,  37.7977, -68.4280,    -999,     -999,    -999,   4.4608,   4.5675,2,-384,2,4,-22.0,2,0.2,    35.1528,2,-999,9,20120328,        942
33AT20120324,        A22,      13,          1,         14,         14,2,20120328,       0816,    37.8124,   -68.4683,       4430,  1395.3,   4.4013,  34.9841,2,  34.9847,2,    254.4,3,   254.4,2,   12.05,2,   17.94,2,    0.00,2,    1.20,2,   2.211,2,   1.284,2,   0.131,2,    -999,5,    -999,9,    -999,9,     -999,9,     -999,    -999,9,     -999,9,    -999,9,   4.4030,2,    -999,9,    -999,9,    -999,    -999,9,    -999,    1.57,2,   44.78,2,   22.06,2,  37.7984, -68.4300,    -999,     -999,    -999,   4.2863,   4.4030,2,-999,9,-999,-999,9,-999,    35.1496,2,-999,9,20120328,        938
33AT20120324,        A22,      13,          1,         13,         13,2,20120328,       0816,    37.8124,   -68.4683,       4430,  1482.5,   4.2564,  34.9765,2,     -999,5,    257.3,2,   258.1,2,   12.21,2,   17.84,2,    0.00,2,    1.19,2,   2.203,2,   1.249,2,   0.136,2,    -999,5,    -999,9,    -999,9,     -999,9,     -999,    -999,9,     -999,9,    -999,9,   4.2575,2,    -999,9,    -999,9,    -999,    -999,9,    -999,    1.60,2,   44.29,2,   20.93,2,  37.7989, -68.4313,    -999,     -999,    -999,   4.1349,   4.2575,2,-999,9,-999,-999,9,-999,       -999,5,-999,9,20120328,        935
33AT20120324,        A22,      13,          1,         12,         12,2,20120328,       0816,    37.8124,   -68.4683,       4430,  1593.3,   4.1054,  34.9673,2,  34.9683,2,    260.3,2,   260.0,2,   12.37,2,   17.71,2,    0.00,2,    1.19,2,   2.139,2,   1.252,2,   0.129,2,    -999,5,  2163.9,2, 2307.54,2,   7.7230,2,       25,    -999,9,     -999,9,    -999,9,   4.1042,2,    0.85,2,   -23.7,2,     2.8,    -999,9,    -999,    1.55,2,   44.37,2,   20.43,2,  37.7997, -68.4332,    -999,     -999,    -999,   3.9754,   4.1042,2,-395,2,4,-22.4,2,0.2,    35.1332,2,-999,9,20120328,        931
33AT20120324,        A22,      13,          1,         11,         11,2,20120328,       0816,    37.8124,   -68.4683,       4430,  1701.0,   4.0137,  34.9665,2,  34.9630,2,    261.7,3,   260.9,2,   12.66,2,   17.75,2,    0.00,2,    1.19,2,   1.945,2,   1.115,2,   0.119,2,    -999,5,    -999,9,    -999,9,     -999,9,     -999,    -999,9,     -999,9,    -999,9,   4.0134,2,    -999,9,    -999,9,    -999,    -999,9,    -999,    1.46,2,   44.05,2,   20.38,2,  37.8003, -68.4350,    -999,     -999,    -999,   3.8747,   4.0134,2,-999,9,-999,-999,9,-999,    35.1279,2,-999,9,20120328,        927
33AT20120324,        A22,      13,          1,         10,         10,2,20120328,       0816,    37.8124,   -68.4683,       4430,  1793.5,   3.9400,  34.9671,2,  34.9573,3,    261.8,2,   261.4,2,   13.17,2,   17.75,2,    0.00,2,    1.19,2,   1.752,2,   1.011,2,   0.102,2,    -999,5,    -999,9,    -999,9,     -999,9,     -999,    -999,9,     -999,9,    -999,9,   3.9379,2,    -999,9,    -999,9,    -999,    -999,9,    -999,    1.41,2,   44.62,2,   20.26,2,  37.8006, -68.4364,    -999,     -999,    -999,   3.7932,   3.9379,2,-999,9,-999,-999,9,-999,    35.1221,3,-999,9,20120328,        923
33AT20120324,        A22,      13,          1,          9,          9,2,20120328,       0816,    37.8124,   -68.4683,       4430,  1969.4,   3.7973,  34.9634,2,  34.9587,2,    263.9,2,   263.8,2,   13.70,2,   17.75,2,    0.00,2,    1.19,2,   1.601,2,   0.877,2,   0.083,2,    -999,5,  2160.8,2, 2308.95,2,   7.7331,2,       25,    -999,9,     -999,9,    -999,9,   3.7956,2,    0.99,2,   -35.6,2,     2.9,    -999,9,    -999,    1.39,2,   44.12,2,   20.25,2,  37.8019, -68.4394,    -999,     -999,    -999,   3.6357,   3.7956,2,-407,2,4,-22.2,2,0.2,    35.1235,2,-999,9,20120328,        917
33AT20120324,        A22,      13,          1,          8,          8,2,20120328,       0816,    37.8124,   -68.4683,       4430,  2204.0,   3.5350,  34.9439,2,     -999,5,    266.7,2,   267.5,2,   14.45,2,   17.60,2,    0.00,2,    1.18,2,   1.564,2,   0.866,2,   0.081,2,    -999,5,    -999,9,    -999,9,     -999,9,     -999,    -999,9,     -999,9,    -999,9,   3.5346,2,    -999,9,    -999,9,    -999,    -999,9,    -999,    1.33,2,   43.85,2,   20.26,2,  37.8028, -68.4425,    -999,     -999,    -999,   3.3548,   3.5346,2,-999,9,-999,-999,9,-999,       -999,5,-999,9,20120328,        910
33AT20120324,        A22,      13,          1,          7,          7,2,20120328,       0816,    37.8124,   -68.4683,       4430,  2467.5,   3.3377,  34.9439,2,  34.9431,2,    266.3,2,   267.5,2,   16.18,2,   17.63,2,    0.00,2,    1.19,2,   1.160,2,   0.664,2,   0.052,2,    -999,5,  2160.7,2, 2310.38,2,   7.7391,2,       25,    -999,9,     -999,9,    -999,9,   3.3359,2,    1.06,2,   -37.6,2,     3.7,    -999,9,    -999,    1.04,2,   43.76,2,   20.38,2,  37.8036, -68.4459,    -999,     -999,    -999,   3.1348,   3.3359,2,-402,2,4,-22.5,2,0.2,    35.1079,2,-999,9,20120328,        901
33AT20120324,        A22,      13,          1,          6,          6,2,20120328,       0816,    37.8124,   -68.4683,       4430,  2709.9,   3.1753,  34.9386,2,  34.9323,3,    266.3,2,   266.6,2,   17.65,2,   17.64,2,    0.00,2,    1.19,2,   1.092,2,   0.597,2,   0.045,2,    -999,5,    -999,9,    -999,9,     -999,9,     -999,    -999,9,     -999,9,    -999,9,   3.1747,2,    -999,9,    -999,9,    -999,    -999,9,    -999,    1.01,2,   43.42,2,   20.48,2,  37.8048, -68.4496,    -999,     -999,    -999,   2.9510,   3.1747,2,-999,9,-999,-999,9,-999,    35.0970,3,-999,9,20120328,        854