BOTTLE,20220725CCHSIOCBG
EXPOCODE,SECT_ID,STNNBR,CASTNO,SAMPNO,BTLNBR,BTLNBR_FLAG_W,DATE,TIME,LATITUDE,LONGITUDE,DEPTH,CTDPRS,CTDTMP,CTDSAL,CTDSAL_FLAG_W,SALNTY,SALNTY_FLAG_W,CTDOXY,CTDOXY_FLAG_W,OXYGEN,OXYGEN_FLAG_W,SILCAT,SILCAT_FLAG_W,NITRAT,NITRAT_FLAG_W,NITRIT,NITRIT_FLAG_W,PHSPHT,PHSPHT_FLAG_W,CFC-11,CFC-11_FLAG_W,CFC-12,CFC-12_FLAG_W,CFC113,CFC113_FLAG_W,SF6,SF6_FLAG_W,TCARBN,TCARBN_FLAG_W,ALKALI,ALKALI_FLAG_W,PH_TOT,PH_TOT_FLAG_W,PH_TMP,TRITUM,TRITUM_FLAG_W,HELIUM,HELIUM_FLAG_W,DELHE3,DELHE3_FLAG_W,REFTMP,REFTMP_FLAG_W,DELC13,DELC13_FLAG_W,DELC14,DELC14_FLAG_W,C14ERR,NEON,NEON_FLAG_W,NEONER,CCL4,CCL4_FLAG_W,DOC,DOC_FLAG_W,TDN,TDN_FLAG_W,BTL_LAT,BTL_LON,TRITER,HELIER,DELHER,THETA,SBE35,SBE35_FLAG_W,14C-DOC,14C-DOC_FLAG_W,14C-DOCERR,13C-DOC,13C-DOC_FLAG_W,13C-DOCERR,SALTREF,SALTREF_FLAG_W,LAB_DEN,LAB_DEN_FLAG_W,BTL_DATE,BTL_TIME
,,,,,,,,,,,METERS,DBAR,ITS-90,PSS-78,,PSS-78,,UMOL/KG,,UMOL/KG,,UMOL/KG,,UMOL/KG,,UMOL/KG,,UMOL/KG,,PMOL/KG,,PMOL/KG,,PMOL/KG,,FMOL/KG,,UMOL/KG,,UMOL/KG,,,,DEG C,TU,,NMOL/KG,,PERCNT,,DEG C,,/MILLE,,/MILLE,,/MILLE,NMOL/KG,,NMOL/KG,PMOL/KG,,UMOL/KG,,UMOL/KG,,,,TU,NMOL/KG,PERCNT,DEG C,ITS-90,,/MILLE,,/MILLE,/MILLE,,/MILLE,G/KG,,KG/M^3,,,
33AT20120324,        A22,      63,          1,          5,          5,2,20120410,       1159,    17.3623,   -65.9960,       4566,  3439.2,   4.2121,  34.9751,2,  34.9759,2,    215.5,2,   215.0,2,   28.65,2,   21.97,2,    0.00,2,    1.49,2,   0.063,2,   0.049,2,   0.005,2,    0.12,4,    -999,9,    -999,9,     -999,9,     -999,    -999,9,     -999,9,    -999,9,   4.2121,2,    -999,9,    -999,9,    -999,    -999,9,    -999,    0.09,2,   40.41,2,   24.46,2,  17.3651, -65.9955,    -999,     -999,    -999,   3.8845,   4.2121,2,-999,9,-999,-999,9,-999,    35.1409,2,-999,9,20120410,       1223
33AT20120324,        A22,      63,          1,          4,          4,2,20120410,       1159,    17.3623,   -65.9960,       4566,  3748.4,   4.2474,  34.9750,2,  34.9755,2,    215.5,2,   216.2,2,   28.56,2,   21.93,2,    0.00,2,    1.49,2,   0.070,2,   0.052,2,   0.004,2,    0.00,4,  2196.3,2, 2340.50,2,   7.7121,2,       25,    -999,9,     -999,9,    -999,9,   4.2474,2,    -999,9,    -999,9,    -999,    -999,9,    -999,    0.09,2,   40.45,2,   24.40,2,  17.3652, -65.9955,    -999,     -999,    -999,   3.8818,   4.2474,2,-999,9,-999,-999,9,-999,    35.1405,2,-999,9,20120410,       1217
33AT20120324,        A22,      63,          1,          3,          3,2,20120410,       1159,    17.3623,   -65.9960,       4566,  4056.3,   4.2823,  34.9752,2,  34.9755,2,    216.5,2,   216.7,2,   28.44,2,   21.83,2,    0.00,2,    1.48,2,   0.091,2,   0.068,2,   0.008,2,    0.00,4,    -999,9,    -999,9,     -999,9,     -999,    -999,9,     -999,9,    -999,9,   4.2826,2,    -999,9,    -999,9,    -999,    -999,9,    -999,    0.11,2,   40.56,2,   24.62,2,  17.3641, -65.9957,    -999,     -999,    -999,   3.8775,   4.2826,2,-999,9,-999,-999,9,-999,    35.1405,2,-999,9,20120410,       1212
33AT20120324,        A22,      63,          1,          2,          2,2,20120410,       1159,    17.3623,   -65.9960,       4566,  4303.0,   4.3144,  34.9751,2,  34.9763,2,    216.3,2,   216.6,2,   28.16,2,   21.73,2,    0.00,2,    1.48,2,   0.110,2,   0.075,2,   0.010,2,    0.00,4,  2194.2,2, 2339.41,2,   7.7135,6,       25,    -999,9,     -999,9,    -999,9,   4.3143,2,    -999,9,    -999,9,    -999,    -999,9,    -999,    0.13,2,   40.34,2,   24.65,2,  17.3631, -65.9959,    -999,     -999,    -999,   3.8772,   4.3143,2,-999,9,-999,-999,9,-999,    35.1413,2,-999,9,20120410,       1207
33AT20120324,        A22,      63,          1,          1,          1,2,20120410,       1159,    17.3623,   -65.9960,       4566,  4647.2,   4.3609,  34.9750,2,  34.9757,2,    217.1,2,   216.8,2,   28.15,2,   21.75,2,    0.00,2,    1.47,2,   0.115,2,   0.077,2,   0.010,2,    0.00,4,  2195.3,6, 2339.30,2,   7.7135,2,       25,    -999,9,     -999,9,    -999,9,   4.3605,2,    -999,9,    -999,9,    -999,    -999,9,    -999,    0.14,2,   40.39,2,   24.51,2,  17.3623, -65.9960,    -999,     -999,    -999,   3.8772,   4.3605,2,-999,9,-999,-999,9,-999,    35.1407,2,-999,9,20120410,       1200