BOTTLE,20220725CCHSIOCBG
EXPOCODE,SECT_ID,STNNBR,CASTNO,SAMPNO,BTLNBR,BTLNBR_FLAG_W,DATE,TIME,LATITUDE,LONGITUDE,DEPTH,CTDPRS,CTDTMP,CTDSAL,CTDSAL_FLAG_W,SALNTY,SALNTY_FLAG_W,CTDOXY,CTDOXY_FLAG_W,OXYGEN,OXYGEN_FLAG_W,SILCAT,SILCAT_FLAG_W,NITRAT,NITRAT_FLAG_W,NITRIT,NITRIT_FLAG_W,PHSPHT,PHSPHT_FLAG_W,CFC-11,CFC-11_FLAG_W,CFC-12,CFC-12_FLAG_W,CFC113,CFC113_FLAG_W,SF6,SF6_FLAG_W,TCARBN,TCARBN_FLAG_W,ALKALI,ALKALI_FLAG_W,PH_TOT,PH_TOT_FLAG_W,PH_TMP,TRITUM,TRITUM_FLAG_W,HELIUM,HELIUM_FLAG_W,DELHE3,DELHE3_FLAG_W,REFTMP,REFTMP_FLAG_W,DELC13,DELC13_FLAG_W,DELC14,DELC14_FLAG_W,C14ERR,NEON,NEON_FLAG_W,NEONER,CCL4,CCL4_FLAG_W,DOC,DOC_FLAG_W,TDN,TDN_FLAG_W,BTL_LAT,BTL_LON,TRITER,HELIER,DELHER,THETA,SBE35,SBE35_FLAG_W,14C-DOC,14C-DOC_FLAG_W,14C-DOCERR,13C-DOC,13C-DOC_FLAG_W,13C-DOCERR,SALTREF,SALTREF_FLAG_W,LAB_DEN,LAB_DEN_FLAG_W,BTL_DATE,BTL_TIME
,,,,,,,,,,,METERS,DBAR,ITS-90,PSS-78,,PSS-78,,UMOL/KG,,UMOL/KG,,UMOL/KG,,UMOL/KG,,UMOL/KG,,UMOL/KG,,PMOL/KG,,PMOL/KG,,PMOL/KG,,FMOL/KG,,UMOL/KG,,UMOL/KG,,,,DEG C,TU,,NMOL/KG,,PERCNT,,DEG C,,/MILLE,,/MILLE,,/MILLE,NMOL/KG,,NMOL/KG,PMOL/KG,,UMOL/KG,,UMOL/KG,,,,TU,NMOL/KG,PERCNT,DEG C,ITS-90,,/MILLE,,/MILLE,/MILLE,,/MILLE,G/KG,,KG/M^3,,,
33AT20120324,        A22,      45,          1,          5,          5,2,20120407,       0850,    20.0282,   -65.9936,       7417,  4609.5,   2.2666,  34.8847,2,  34.8829,2,    262.7,2,   262.6,2,   34.04,2,   19.27,2,    0.00,2,    1.33,2,   0.656,2,   0.334,2,   0.043,2,    0.00,4,    -999,9,    -999,9,     -999,9,     -999,    -999,9,     -999,9,    -999,9,   2.2667,2,    -999,9,    -999,9,    -999,    -999,9,    -999,    0.82,2,   40.92,2,   21.63,2,  20.0291, -65.9925,    -999,     -999,    -999,   1.8533,   2.2667,2,-999,9,-999,-999,9,-999,    35.0474,2,-999,9,20120407,        919
33AT20120324,        A22,      45,          1,          4,          4,2,20120407,       0850,    20.0282,   -65.9936,       7417,  5019.0,   2.2245,  34.8743,2,  34.8727,2,    257.9,2,   257.7,2,   40.36,2,   20.28,2,    0.00,2,    1.41,2,   0.439,2,   0.231,2,   0.029,2,    0.10,4,  2187.4,2, 2336.19,2,   7.7297,2,       25,    -999,9,     -999,9,    -999,9,   2.2247,2,    0.99,2,   -94.1,2,     2.4,    -999,9,    -999,    0.64,2,   40.98,2,   22.92,2,  20.0289, -65.9928,    -999,     -999,    -999,   1.7620,   2.2247,2,-454,2,4,-22.8,2,0.2,    35.0371,2,-999,9,20120407,        912
33AT20120324,        A22,      45,          1,          3,          3,2,20120407,       0850,    20.0282,   -65.9936,       7417,  5425.9,   2.0798,  34.8503,2,  34.8489,2,    249.8,2,   249.6,2,   53.31,2,   22.32,2,    0.00,2,    1.54,2,   0.177,2,   0.099,2,   0.012,2,    0.00,4,    -999,9,    -999,9,     -999,9,     -999,    -999,9,     -999,9,    -999,9,   2.0798,2,    -999,9,    -999,9,    -999,    -999,9,    -999,    0.35,2,   40.77,2,   24.51,2,  20.0285, -65.9933,    -999,     -999,    -999,   1.5704,   2.0798,2,-999,9,-999,-999,9,-999,    35.0132,2,-999,9,20120407,        904
33AT20120324,        A22,      45,          1,          2,          2,2,20120407,       0850,    20.0282,   -65.9936,       7417,  5766.9,   2.0145,  34.8365,2,  34.8379,2,    245.1,2,   245.7,2,   59.86,2,   23.35,2,    0.00,2,    1.62,2,   0.114,2,   0.069,2,   0.008,2,    0.00,4,  2206.6,2, 2347.42,6,   7.7067,6,       25,    -999,9,     -999,9,    -999,9,   2.0144,2,    0.93,2,  -115.9,2,     2.2,    -999,9,    -999,    0.25,2,   40.56,2,   25.74,2,  20.0283, -65.9935,    -999,     -999,    -999,   1.4627,   2.0144,2,-456,2,4,-22.0,2,0.2,    35.0022,2,-999,9,20120407,        858
33AT20120324,        A22,      45,          1,          1,          1,2,20120407,       0850,    20.0282,   -65.9936,       7417,  6118.2,   2.0284,  34.8319,2,  34.8330,2,    244.1,2,   244.3,2,   61.97,2,   23.68,2,    0.00,2,    1.63,2,   0.104,2,   0.062,2,   0.007,2,    0.00,4,  2208.7,6, 2347.64,2,   7.7046,2,       25,    -999,9,     -999,9,    -999,9,   2.0290,2,    0.89,2,  -117.1,2,     2.2,    -999,9,    -999,    0.24,2,   40.59,2,   25.69,2,  20.0282, -65.9936,    -999,     -999,    -999,   1.4285,   2.0290,2,-999,9,-999,-999,9,-999,    34.9972,2,-999,9,20120407,        851