BOTTLE,20220725CCHSIOCBG
EXPOCODE,SECT_ID,STNNBR,CASTNO,SAMPNO,BTLNBR,BTLNBR_FLAG_W,DATE,TIME,LATITUDE,LONGITUDE,DEPTH,CTDPRS,CTDTMP,CTDSAL,CTDSAL_FLAG_W,SALNTY,SALNTY_FLAG_W,CTDOXY,CTDOXY_FLAG_W,OXYGEN,OXYGEN_FLAG_W,SILCAT,SILCAT_FLAG_W,NITRAT,NITRAT_FLAG_W,NITRIT,NITRIT_FLAG_W,PHSPHT,PHSPHT_FLAG_W,CFC-11,CFC-11_FLAG_W,CFC-12,CFC-12_FLAG_W,CFC113,CFC113_FLAG_W,SF6,SF6_FLAG_W,TCARBN,TCARBN_FLAG_W,ALKALI,ALKALI_FLAG_W,PH_TOT,PH_TOT_FLAG_W,PH_TMP,TRITUM,TRITUM_FLAG_W,HELIUM,HELIUM_FLAG_W,DELHE3,DELHE3_FLAG_W,REFTMP,REFTMP_FLAG_W,DELC13,DELC13_FLAG_W,DELC14,DELC14_FLAG_W,C14ERR,NEON,NEON_FLAG_W,NEONER,CCL4,CCL4_FLAG_W,DOC,DOC_FLAG_W,TDN,TDN_FLAG_W,BTL_LAT,BTL_LON,TRITER,HELIER,DELHER,THETA,SBE35,SBE35_FLAG_W,14C-DOC,14C-DOC_FLAG_W,14C-DOCERR,13C-DOC,13C-DOC_FLAG_W,13C-DOCERR,SALTREF,SALTREF_FLAG_W,LAB_DEN,LAB_DEN_FLAG_W,BTL_DATE,BTL_TIME
,,,,,,,,,,,METERS,DBAR,ITS-90,PSS-78,,PSS-78,,UMOL/KG,,UMOL/KG,,UMOL/KG,,UMOL/KG,,UMOL/KG,,UMOL/KG,,PMOL/KG,,PMOL/KG,,PMOL/KG,,FMOL/KG,,UMOL/KG,,UMOL/KG,,,,DEG C,TU,,NMOL/KG,,PERCNT,,DEG C,,/MILLE,,/MILLE,,/MILLE,NMOL/KG,,NMOL/KG,PMOL/KG,,UMOL/KG,,UMOL/KG,,,,TU,NMOL/KG,PERCNT,DEG C,ITS-90,,/MILLE,,/MILLE,/MILLE,,/MILLE,G/KG,,KG/M^3,,,
33AT20120324,        A22,      25,          1,          5,          5,2,20120401,       0024,    32.9309,   -65.1968,       4739,  3551.8,   2.3768,  34.9023,2,  34.9009,2,    267.1,2,   267.1,2,   26.20,2,   18.15,2,    0.00,2,    1.24,2,   0.810,2,   0.412,2,   0.046,2,    0.04,4,  2168.2,2, 2317.86,2,   7.7391,2,       25,    -999,9,     -999,9,    -999,9,   2.3768,2,    1.02,2,   -71.7,2,     2.6,    -999,9,    -999,    0.96,2,   43.63,2,   20.72,2,  32.9311, -65.1969,    -999,     -999,    -999,   2.0818,   2.3768,2,-999,9,-999,-999,9,-999,    35.0655,2,-999,9,20120401,         50
33AT20120324,        A22,      25,          1,          4,          4,2,20120401,       0024,    32.9309,   -65.1968,       4739,  3860.3,   2.2742,  34.8930,2,  34.8913,2,    265.3,2,   265.5,2,   29.84,2,   18.59,2,    0.00,2,    1.27,2,   0.788,2,   0.409,2,   0.053,2,    0.09,4,    -999,9,    -999,9,     -999,9,     -999,    -999,9,     -999,9,    -999,9,   2.2746,2,    -999,9,    -999,9,    -999,    -999,9,    -999,    0.93,2,   43.79,2,   20.69,2,  32.9311, -65.1969,    -999,     -999,    -999,   1.9480,   2.2746,2,-999,9,-999,-999,9,-999,    35.0558,2,-999,9,20120401,         44
33AT20120324,        A22,      25,          1,          3,          3,2,20120401,       0024,    32.9309,   -65.1968,       4739,  4164.4,   2.2163,  34.8848,2,  34.8836,2,    262.4,2,   262.7,2,   33.92,2,   19.23,2,    0.00,2,    1.32,2,   0.714,2,   0.371,2,   0.046,2,    0.08,4,  2177.8,2, 2328.12,2,   7.7326,2,       25,    -999,9,     -999,9,    -999,9,   2.2165,2,    1.00,2,   -75.0,2,     2.3,    -999,9,    -999,    0.84,2,   42.88,2,   22.47,2,  32.9310, -65.1968,    -999,     -999,    -999,   1.8572,   2.2165,2,-999,9,-999,-999,9,-999,    35.0481,2,-999,9,20120401,         38
33AT20120324,        A22,      25,          1,          2,          2,2,20120401,       0024,    32.9309,   -65.1968,       4739,  4603.3,   2.2322,  34.8808,2,  34.8801,2,    260.6,2,   260.9,2,   36.13,2,   19.52,2,    0.00,2,    1.34,2,   0.632,2,   0.334,2,   0.046,2,    0.07,4,  2180.4,2, 2331.41,6,   7.7352,2,       25,    -999,9,     -999,9,    -999,9,   2.2319,2,    1.06,2,   -80.8,2,     2.7,    -999,9,    -999,    0.73,2,   42.69,2,   22.66,2,  32.9309, -65.1968,    -999,     -999,    -999,   1.8207,   2.2319,2,-999,9,-999,-999,9,-999,    35.0445,2,-999,9,20120401,         29
33AT20120324,        A22,      25,          1,          1,          1,2,20120401,       0024,    32.9309,   -65.1968,       4739,  4805.6,   2.2282,  34.8772,2,  34.8767,2,    259.0,2,   259.0,2,   38.45,2,   19.94,2,    0.00,2,    1.37,2,   0.509,2,   0.274,2,   0.036,2,    0.06,4,  2186.5,6, 2337.40,3,   7.7356,2,       25,    -999,9,     -999,9,    -999,9,   2.2282,2,    -999,9,    -999,9,    -999,    -999,9,    -999,    0.59,2,   42.42,2,   22.22,2,  32.9309, -65.1968,    -999,     -999,    -999,   1.7922,   2.2282,2,-999,9,-999,-999,9,-999,    35.0412,2,-999,9,20120401,         25