BOTTLE,20220725CCHSIOCBG
EXPOCODE,SECT_ID,STNNBR,CASTNO,SAMPNO,BTLNBR,BTLNBR_FLAG_W,DATE,TIME,LATITUDE,LONGITUDE,DEPTH,CTDPRS,CTDTMP,CTDSAL,CTDSAL_FLAG_W,SALNTY,SALNTY_FLAG_W,CTDOXY,CTDOXY_FLAG_W,OXYGEN,OXYGEN_FLAG_W,SILCAT,SILCAT_FLAG_W,NITRAT,NITRAT_FLAG_W,NITRIT,NITRIT_FLAG_W,PHSPHT,PHSPHT_FLAG_W,CFC-11,CFC-11_FLAG_W,CFC-12,CFC-12_FLAG_W,CFC113,CFC113_FLAG_W,SF6,SF6_FLAG_W,TCARBN,TCARBN_FLAG_W,ALKALI,ALKALI_FLAG_W,PH_TOT,PH_TOT_FLAG_W,PH_TMP,TRITUM,TRITUM_FLAG_W,HELIUM,HELIUM_FLAG_W,DELHE3,DELHE3_FLAG_W,REFTMP,REFTMP_FLAG_W,DELC13,DELC13_FLAG_W,DELC14,DELC14_FLAG_W,C14ERR,NEON,NEON_FLAG_W,NEONER,CCL4,CCL4_FLAG_W,DOC,DOC_FLAG_W,TDN,TDN_FLAG_W,BTL_LAT,BTL_LON,TRITER,HELIER,DELHER,THETA,SBE35,SBE35_FLAG_W,14C-DOC,14C-DOC_FLAG_W,14C-DOCERR,13C-DOC,13C-DOC_FLAG_W,13C-DOCERR,SALTREF,SALTREF_FLAG_W,LAB_DEN,LAB_DEN_FLAG_W,BTL_DATE,BTL_TIME
,,,,,,,,,,,METERS,DBAR,ITS-90,PSS-78,,PSS-78,,UMOL/KG,,UMOL/KG,,UMOL/KG,,UMOL/KG,,UMOL/KG,,UMOL/KG,,PMOL/KG,,PMOL/KG,,PMOL/KG,,FMOL/KG,,UMOL/KG,,UMOL/KG,,,,DEG C,TU,,NMOL/KG,,PERCNT,,DEG C,,/MILLE,,/MILLE,,/MILLE,NMOL/KG,,NMOL/KG,PMOL/KG,,UMOL/KG,,UMOL/KG,,,,TU,NMOL/KG,PERCNT,DEG C,ITS-90,,/MILLE,,/MILLE,/MILLE,,/MILLE,G/KG,,KG/M^3,,,
33AT20120324,        A22,      26,          1,         36,         36,2,20120401,       0550,    32.6475,   -64.9289,       3982,     3.7,  19.5898,  36.5775,2,  36.5754,2,    227.8,2,   228.3,2,    0.00,2,    0.00,2,    0.00,2,    0.00,2,   2.191,2,   1.354,2,   0.172,2,    1.54,2,  2072.3,2, 2396.46,6,   8.0506,6,       25,   0.544,2,   1.7262,2,   -1.29,2,  19.5906,2,    -999,9,    -999,9,    -999,   6.850,2,   0.031,    -999,1,   65.08,2,    3.95,2,  32.6415, -64.9160,   0.010,   0.0069,    0.15,  19.5891,  19.5906,2,-999,9,-999,-999,9,-999,    36.7479,2,-999,9,20120401,        738
33AT20120324,        A22,      26,          1,         35,         35,2,20120401,       0550,    32.6475,   -64.9289,       3982,    27.0,  19.6009,  36.5778,2,  36.5762,2,    228.0,2,   227.8,2,    0.00,2,    0.00,2,    0.00,2,    0.00,2,    -999,9,    -999,9,    -999,9,    -999,9,  2076.6,2, 2395.96,2,   8.0495,2,       25,    -999,9,     -999,9,    -999,9,  19.6013,2,    -999,9,    57.9,2,     1.2,    -999,9,    -999,    -999,9,   65.34,2,    3.96,2,  32.6418, -64.9165,    -999,     -999,    -999,  19.5959,  19.6013,2,-248,2,4,-21.0,2,0.2,    36.7487,2,-999,9,20120401,        736
33AT20120324,        A22,      26,          1,         34,         34,2,20120401,       0550,    32.6475,   -64.9289,       3982,    51.7,  19.5315,  36.5728,2,  36.5715,2,    228.5,2,   226.8,2,    0.00,2,    0.01,2,    0.02,2,    0.00,2,   2.195,2,   1.344,2,   0.166,2,    1.51,2,  2076.3,2, 2394.78,2,   8.0487,2,       25,    -999,9,     -999,9,    -999,9,  19.5327,2,    -999,9,    -999,9,    -999,    -999,9,    -999,    -999,1,   65.22,2,    3.83,2,  32.6420, -64.9170,    -999,     -999,    -999,  19.5220,  19.5327,2,-999,9,-999,-999,9,-999,    36.7439,2,-999,9,20120401,        734
33AT20120324,        A22,      26,          1,         33,         33,2,20120401,       0550,    32.6475,   -64.9289,       3982,    77.6,  19.5055,  36.5697,2,  36.5681,2,    226.9,2,   224.2,2,    0.11,2,    0.08,2,    0.09,2,    0.00,2,   2.205,2,   1.311,2,   0.171,2,    1.40,2,    -999,9,    -999,9,     -999,9,     -999,   0.532,2,   1.7440,2,   -1.25,2,  19.5054,2,    -999,9,    -999,9,    -999,   7.003,2,   0.032,    -999,1,   64.87,2,    4.21,2,  32.6422, -64.9174,   0.009,   0.0070,    0.15,  19.4913,  19.5054,2,-999,9,-999,-999,9,-999,    36.7406,2,-999,9,20120401,        731
33AT20120324,        A22,      26,          1,         32,         32,2,20120401,       0550,    32.6475,   -64.9289,       3982,   102.1,  19.5023,  36.5694,2,  36.5676,2,    226.1,2,   224.8,2,    0.12,2,    0.09,2,    0.09,2,    0.00,2,   2.186,2,   1.353,2,   0.162,2,    1.46,2,  2077.8,2, 2394.20,2,   8.0445,2,       25,    -999,9,     -999,9,    -999,9,  19.5029,2,    -999,9,    -999,9,    -999,    -999,9,    -999,    -999,1,   63.25,2,    4.33,2,  32.6423, -64.9178,    -999,     -999,    -999,  19.4836,  19.5029,2,-999,9,-999,-999,9,-999,    36.7400,2,-999,9,20120401,        729
33AT20120324,        A22,      26,          1,         31,         31,2,20120401,       0550,    32.6475,   -64.9289,       3982,   126.2,  19.4512,  36.5660,2,  36.5642,2,    221.4,2,   223.5,2,    0.11,2,    0.15,2,    0.15,2,    0.00,2,   2.218,2,   1.393,2,   0.168,2,    1.45,2,  2079.3,2, 2395.94,2,   8.0399,2,       25,   0.515,2,   1.7373,2,   -1.34,2,  19.4517,2,    -999,9,    -999,9,    -999,   6.858,2,   0.031,    -999,1,   62.74,2,    4.48,2,  32.6425, -64.9181,   0.012,   0.0069,    0.15,  19.4281,  19.4517,2,-999,9,-999,-999,9,-999,    36.7366,2,-999,9,20120401,        727
33AT20120324,        A22,      26,          1,         30,         30,2,20120401,       0550,    32.6475,   -64.9289,       3982,   151.3,  19.3401,  36.5705,2,  36.5688,2,    215.6,2,   219.5,2,    0.33,2,    0.52,2,    0.28,2,    0.01,2,   2.216,2,   1.320,2,   0.134,2,    1.47,2,    -999,9,    -999,9,     -999,9,     -999,    -999,9,     -999,9,    -999,9,  19.3400,2,    -999,9,    -999,9,    -999,    -999,9,    -999,    -999,1,   60.87,2,    4.50,2,  32.6427, -64.9184,    -999,     -999,    -999,  19.3125,  19.3400,2,-999,9,-999,-999,9,-999,    36.7412,2,-999,9,20120401,        725
33AT20120324,        A22,      26,          1,         29,         29,2,20120401,       0550,    32.6475,   -64.9289,       3982,   201.4,  18.7135,  36.6207,2,  36.6190,2,    194.2,2,   191.5,2,    0.82,2,    3.68,2,    0.01,2,    0.15,2,   2.284,2,   1.381,2,   0.034,2,    1.34,2,  2113.7,2, 2395.82,2,   7.9774,2,       25,   0.442,2,   1.7565,2,   -0.86,2,  18.7111,2,    -999,9,    -999,9,    -999,   6.908,2,   0.031,    -999,1,   58.47,2,    6.96,2,  32.6429, -64.9189,   0.011,   0.0070,    0.15,  18.6776,  18.7111,2,-999,9,-999,-999,9,-999,    36.7917,2,-999,9,20120401,        723
33AT20120324,        A22,      26,          1,         28,         28,2,20120401,       0550,    32.6475,   -64.9289,       3982,   252.1,  18.3214,  36.5966,2,  36.5946,2,    200.5,2,   198.8,2,    0.94,2,    3.87,2,    0.01,2,    0.16,2,   2.305,2,   1.394,2,   0.039,2,    1.41,2,  2109.4,2, 2392.99,2,   7.9841,2,       25,    -999,9,     -999,9,    -999,9,  18.3233,2,    -999,9,    -999,9,    -999,    -999,9,    -999,    -999,1,   54.52,2,    7.06,2,  32.6430, -64.9192,    -999,     -999,    -999,  18.2771,  18.3233,2,-999,9,-999,-999,9,-999,    36.7672,2,-999,9,20120401,        721
33AT20120324,        A22,      26,          1,         27,         27,2,20120401,       0550,    32.6475,   -64.9289,       3982,   302.2,  18.0362,  36.5671,2,  36.5657,2,    203.2,2,   202.0,2,    1.06,2,    4.17,2,    0.00,2,    0.19,2,   2.367,2,   1.445,2,   0.039,2,    1.33,2,  2110.3,2, 2392.70,2,   7.9813,2,       25,   0.482,2,   1.7359,2,   -0.79,2,  18.0382,2,    -999,9,    -999,9,    -999,   7.038,2,   0.032,    -999,1,   52.49,2,    7.87,2,  32.6432, -64.9196,   0.010,   0.0069,    0.15,  17.9836,  18.0382,2,-999,9,-999,-999,9,-999,    36.7381,2,-999,9,20120401,        719
33AT20120324,        A22,      26,          1,         26,         26,2,20120401,       0550,    32.6475,   -64.9289,       3982,   352.3,  17.8164,  36.5336,2,  36.5320,2,    203.5,2,   203.0,2,    1.22,2,    4.52,2,    0.00,2,    0.20,2,   2.360,2,   1.423,2,   0.029,2,    1.33,2,    -999,9,    -999,9,     -999,9,     -999,    -999,9,     -999,9,    -999,9,  17.8178,2,    -999,9,    -999,9,    -999,    -999,9,    -999,    -999,1,   50.36,2,    8.84,2,  32.6433, -64.9199,    -999,     -999,    -999,  17.7555,  17.8178,2,-999,9,-999,-999,9,-999,    36.7043,2,-999,9,20120401,        717
33AT20120324,        A22,      26,          1,         25,         25,2,20120401,       0550,    32.6475,   -64.9289,       3982,   403.1,  17.4633,  36.4671,2,  36.4643,2,    198.7,2,   198.7,2,    1.50,2,    5.47,2,    0.00,2,    0.26,2,   2.388,2,   1.207,2,   0.036,2,    1.23,2,  2115.3,2, 2386.60,2,   7.9604,2,       25,   0.497,2,   1.7456,2,   -0.30,2,  17.4651,2,    -999,9,    -999,9,    -999,   6.967,2,   0.031,    -999,1,   49.25,2,    9.92,2,  32.6435, -64.9203,   0.013,   0.0070,    0.15,  17.3945,  17.4651,2,-999,9,-999,-999,9,-999,    36.6362,2,-999,9,20120401,        715
33AT20120324,        A22,      26,          1,         24,         24,2,20120401,       0550,    32.6475,   -64.9289,       3982,   452.9,  16.9128,  36.3589,2,  36.3574,2,    191.9,2,   192.3,2,    2.02,2,    7.02,2,    0.00,2,    0.36,2,    -999,9,    -999,9,    -999,9,    -999,9,  2122.5,2, 2380.84,2,   7.9383,2,       25,   0.504,2,     -999,9,    -999,9,  16.9173,2,    -999,9,    -999,9,    -999,    -999,9,    -999,    -999,9,   48.17,2,   10.99,2,  32.6436, -64.9206,   0.011,     -999,    -999,  16.8371,  16.9173,2,-999,9,-999,-999,9,-999,    36.5288,2,-999,9,20120401,        713
33AT20120324,        A22,      26,          1,         23,         23,2,20120401,       0550,    32.6475,   -64.9289,       3982,   502.2,  16.0703,  36.1929,2,  36.1915,2,    183.5,2,   183.0,2,    2.79,2,    9.31,2,    0.00,2,    0.52,2,   2.374,2,   1.170,2,   0.024,2,    1.08,2,  2131.6,2, 2369.71,2,   7.9061,2,       25,   0.561,2,   1.7445,2,    1.10,2,  16.0725,2,    -999,9,    -999,9,    -999,   7.097,2,   0.032,    -999,1,   47.62,2,   12.42,2,  32.6438, -64.9209,   0.009,   0.0070,    0.15,  15.9892,  16.0725,2,-999,9,-999,-999,9,-999,    36.3622,2,-999,9,20120401,        711
33AT20120324,        A22,      26,          1,         22,         22,2,20120401,       0550,    32.6475,   -64.9289,       3982,   602.8,  13.9620,  35.8308,2,  35.8311,2,    178.5,2,   170.4,2,    5.28,2,   13.83,2,    0.00,2,    0.82,2,   2.270,2,   0.897,2,   0.040,2,    0.94,2,    -999,9,    -999,9,     -999,9,     -999,   0.477,2,   1.7616,2,    2.68,2,  13.9610,2,    -999,9,    -999,9,    -999,   7.221,2,   0.032,    -999,1,   47.11,2,   17.64,2,  32.6440, -64.9214,   0.011,   0.0070,    0.15,  13.8732,  13.9610,2,-999,9,-999,-999,9,-999,    36.0001,2,-999,9,20120401,        709
33AT20120324,        A22,      26,          1,         21,         21,2,20120401,       0550,    32.6475,   -64.9289,       3982,   705.1,  11.7368,  35.5088,2,  35.5009,2,    155.6,2,   152.9,2,    9.08,2,   19.25,2,    0.00,2,    1.18,2,   1.870,2,   0.912,2,   0.034,2,    0.51,2,  2170.7,2, 2335.29,2,   7.7543,2,       25,   0.363,2,   1.7748,2,    4.57,2,  11.7427,2,    -999,9,    -999,9,    -999,   7.247,3,   0.033,    -999,1,   46.47,2,   22.96,2,  32.6442, -64.9218,   0.011,   0.0071,    0.15,  11.6437,  11.7427,2,-999,9,-999,-999,9,-999,    35.6683,2,-999,9,20120401,        706
33AT20120324,        A22,      26,          1,         20,         20,2,20120401,       0550,    32.6475,   -64.9289,       3982,   806.8,   9.1662,  35.2243,2,  35.2238,2,    155.3,2,   155.0,2,   12.64,2,   22.63,2,    0.00,2,    1.42,2,   1.572,2,   0.750,2,   0.035,2,    0.52,2,  2185.6,6, 2324.34,2,   7.6954,6,       25,   0.349,2,   1.7953,2,    5.88,2,   9.1692,2,    -999,9,    -999,9,    -999,   7.516,2,   0.034,    -999,1,   45.59,2,   26.88,2,  32.6444, -64.9222,   0.010,   0.0072,    0.15,   9.0742,   9.1692,2,-999,9,-999,-999,9,-999,    35.3899,2,-999,9,20120401,        703
33AT20120324,        A22,      26,          1,         19,         19,2,20120401,       0550,    32.6475,   -64.9289,       3982,   908.5,   7.3924,  35.1153,2,  35.1145,2,    179.9,2,   178.1,2,   13.42,2,   22.11,2,    0.00,2,    1.42,2,   1.642,2,   0.768,2,   0.044,2,    0.43,2,  2183.3,2, 2320.94,2,   7.6878,2,       25,   0.353,2,   1.8032,2,    6.58,2,   7.3909,2,    -999,9,    -999,9,    -999,   7.565,2,   0.034,    -999,1,   44.83,2,   26.03,2,  32.6446, -64.9226,   0.010,   0.0072,    0.15,   7.3002,   7.3909,2,-999,9,-999,-999,9,-999,    35.2800,2,-999,9,20120401,        700
33AT20120324,        A22,      26,          1,         18,         18,2,20120401,       0550,    32.6475,   -64.9289,       3982,  1008.2,   6.1945,  35.0759,2,  35.0747,2,    207.0,2,   206.6,2,   12.86,2,   20.46,2,    0.00,2,    1.34,2,   1.947,2,   0.944,2,   0.077,2,    0.52,2,  2177.0,2, 2318.13,2,   7.7014,2,       25,   0.406,2,   1.8483,2,    6.29,2,   6.1893,2,    -999,9,    -999,9,    -999,   7.698,2,   0.035,    -999,1,   44.05,2,   24.36,2,  32.6447, -64.9230,   0.009,   0.0074,    0.15,   6.1005,   6.1893,2,-999,9,-999,-999,9,-999,    35.2401,2,-999,9,20120401,        658
33AT20120324,        A22,      26,          1,         17,         17,2,20120401,       0550,    32.6475,   -64.9289,       3982,  1110.4,   5.4924,  35.0586,2,  35.0580,2,    228.8,2,   226.9,2,   12.17,2,   19.23,2,    0.00,2,    1.26,2,    -999,5,    -999,5,    -999,5,    -999,5,    -999,9,    -999,9,     -999,9,     -999,   0.420,2,   1.8380,2,    6.26,2,   5.4953,2,    -999,9,    -999,9,    -999,   7.747,2,   0.035,    -999,1,   44.37,2,   22.87,2,  32.6449, -64.9234,   0.009,   0.0074,    0.15,   5.3939,   5.4953,2,-999,9,-999,-999,9,-999,    35.2233,2,-999,9,20120401,        655
33AT20120324,        A22,      26,          1,         16,         16,2,20120401,       0550,    32.6475,   -64.9289,       3982,  1210.8,   5.0437,  35.0387,2,  35.0364,2,    238.8,2,   239.8,2,   11.74,2,   18.47,2,    0.00,2,    1.21,2,   2.458,2,   1.194,2,   0.128,2,    0.68,2,  2167.7,2, 2315.58,2,   7.7181,2,       25,   0.446,2,   1.8501,2,    6.20,2,   5.0371,2,    -999,9,    -999,9,    -999,   7.929,2,   0.036,    -999,1,   43.44,2,   22.33,2,  32.6451, -64.9237,   0.009,   0.0074,    0.15,   4.9395,   5.0371,2,-999,9,-999,-999,9,-999,    35.2016,2,-999,9,20120401,        652
33AT20120324,        A22,      26,          1,         15,         15,2,20120401,       0550,    32.6475,   -64.9289,       3982,  1311.9,   4.6576,  35.0071,2,  35.0099,2,    247.5,2,   247.6,2,   11.67,2,   18.18,2,    0.00,2,    1.19,2,   2.567,2,   1.291,2,   0.141,2,    0.68,2,    -999,9,    -999,9,     -999,9,     -999,   0.457,2,   1.8412,2,    6.40,2,   4.6654,2,    -999,9,    -999,9,    -999,   7.884,2,   0.035,    -999,1,   43.30,2,   22.07,2,  32.6452, -64.9241,   0.009,   0.0074,    0.15,   4.5477,   4.6654,2,-999,9,-999,-999,9,-999,    35.1749,2,-999,9,20120401,        650
33AT20120324,        A22,      26,          1,         14,         14,2,20120401,       0550,    32.6475,   -64.9289,       3982,  1412.8,   4.4667,  35.0037,2,  35.0020,2,    251.6,2,   251.7,2,   11.87,2,   18.04,2,    0.00,2,    1.18,2,   2.450,2,   1.219,2,   0.133,2,    0.56,2,    -999,9,    -999,9,     -999,9,     -999,   0.456,2,   1.8727,2,    6.97,2,   4.4676,2,    -999,9,    -999,9,    -999,   7.996,2,   0.036,    -999,1,   42.39,2,   22.07,2,  32.6454, -64.9244,   0.009,   0.0075,    0.15,   4.3493,   4.4676,2,-999,9,-999,-999,9,-999,    35.1671,2,-999,9,20120401,        647
33AT20120324,        A22,      26,          1,         13,         13,2,20120401,       0550,    32.6475,   -64.9289,       3982,  1514.4,   4.3286,  34.9990,2,     -999,5,    254.2,2,   254.4,2,   12.19,2,   17.97,2,    0.00,2,    1.18,2,   2.293,2,   1.124,2,   0.121,2,    0.54,2,  2163.0,2, 2309.94,2,   7.7259,2,       25,   0.428,2,   1.8613,2,    7.12,2,   4.3285,2,    0.89,4,   -27.7,2,     1.2,   7.955,2,   0.036,    -999,1,   43.15,2,   22.08,2,  32.6455, -64.9246,   0.009,   0.0074,    0.15,   4.2033,   4.3285,2,-394,2,4,-22.1,2,0.2,       -999,5,-999,9,20120401,        644
33AT20120324,        A22,      26,          1,         12,         12,2,20120401,       0550,    32.6475,   -64.9289,       3982,  1615.9,   4.1743,  34.9944,2,  34.9926,2,    256.4,2,   256.0,2,   12.47,2,   18.04,2,    0.00,2,    1.18,2,   2.118,2,   1.034,2,   0.105,2,    0.43,2,    -999,9,    -999,9,     -999,9,     -999,   0.400,2,   1.8397,2,    8.02,2,   4.1744,2,    -999,9,    -999,9,    -999,   7.952,2,   0.036,    -999,1,   43.06,2,   22.23,2,  32.6456, -64.9249,   0.009,   0.0074,    0.15,   4.0413,   4.1744,2,-999,9,-999,-999,9,-999,    35.1576,2,-999,9,20120401,        642
33AT20120324,        A22,      26,          1,         11,         11,2,20120401,       0550,    32.6475,   -64.9289,       3982,  1717.2,   4.0278,  34.9860,2,  34.9853,2,    257.4,2,   258.0,2,   12.76,2,   17.89,2,    0.00,2,    1.18,2,   2.015,2,   0.941,2,   0.094,2,    0.37,2,  2160.5,2, 2312.47,2,   7.7311,2,       25,   0.432,2,   1.8856,2,    7.93,2,   4.0285,2,    -999,9,    -999,9,    -999,   8.059,2,   0.036,    -999,1,   42.33,2,   22.37,2,  32.6457, -64.9251,   0.009,   0.0075,    0.15,   3.8870,   4.0285,2,-999,9,-999,-999,9,-999,    35.1503,2,-999,9,20120401,        639
33AT20120324,        A22,      26,          1,         10,         10,2,20120401,       0550,    32.6475,   -64.9289,       3982,  1819.1,   3.9271,  34.9821,2,  34.9816,2,    258.9,2,   258.9,2,   13.42,2,   17.93,2,    0.00,2,    1.18,2,   1.807,2,   0.821,2,   0.085,2,    0.33,2,  2161.3,2, 2313.40,2,   7.7331,2,       25,    -999,9,     -999,9,    -999,9,   3.9271,2,    -999,9,    -999,9,    -999,    -999,9,    -999,    -999,1,   42.43,2,   22.25,2,  32.6458, -64.9253,    -999,     -999,    -999,   3.7780,   3.9271,2,-999,9,-999,-999,9,-999,    35.1466,2,-999,9,20120401,        636
33AT20120324,        A22,      26,          1,          9,          9,2,20120401,       0550,    32.6475,   -64.9289,       3982,  2022.5,   3.7054,  34.9722,2,  34.9718,2,    260.6,2,   260.6,2,   14.64,2,   17.95,2,    0.00,2,    1.19,2,   1.544,2,   0.707,2,   0.058,2,    0.26,2,    -999,9,    -999,9,     -999,9,     -999,   0.360,2,   1.8519,2,    7.43,2,   3.7052,2,    -999,9,    -999,9,    -999,   8.048,2,   0.036,    -999,1,   42.61,2,   20.73,2,  32.6460, -64.9257,   0.009,   0.0074,    0.15,   3.5400,   3.7052,2,-999,9,-999,-999,9,-999,    35.1367,2,-999,9,20120401,        632
33AT20120324,        A22,      26,          1,          8,          8,2,20120401,       0550,    32.6475,   -64.9289,       3982,  2275.5,   3.4677,  34.9676,2,  34.9665,2,    259.8,2,   258.5,2,   17.37,2,   18.19,2,    0.00,2,    1.21,2,   1.082,2,   0.480,2,   0.035,2,    0.19,2,  2161.5,2, 2318.10,2,   7.7416,2,       25,    -999,9,     -999,9,    -999,9,   3.4684,2,    -999,9,    -999,9,    -999,    -999,9,    -999,    -999,1,   43.07,2,   20.73,2,  32.6462, -64.9261,    -999,     -999,    -999,   3.2815,   3.4684,2,-999,9,-999,-999,9,-999,    35.1314,2,-999,9,20120401,        627
33AT20120324,        A22,      26,          1,          7,          7,2,20120401,       0550,    32.6475,   -64.9289,       3982,  2531.5,   3.1284,  34.9503,2,  34.9490,2,    260.9,2,    -999,5,   20.20,2,   18.35,2,    0.00,2,    1.22,2,   0.810,2,   0.360,2,   0.027,2,    0.17,2,    -999,9,    -999,9,     -999,9,     -999,    -999,9,     -999,9,    -999,9,   3.1284,2,    -999,9,    -999,9,    -999,    -999,9,    -999,    -999,1,   42.43,2,   22.24,2,  32.6464, -64.9266,    -999,     -999,    -999,   2.9229,   3.1284,2,-999,9,-999,-999,9,-999,    35.1138,2,-999,9,20120401,        622
33AT20120324,        A22,      26,          1,          6,          6,2,20120401,       0550,    32.6475,   -64.9289,       3982,  2784.2,   2.8634,  34.9337,2,  34.9325,2,    263.2,2,   263.4,2,   21.28,2,   18.12,2,    0.00,2,    1.22,2,   0.818,2,   0.371,2,   0.028,2,    0.17,2,  2162.6,2, 2319.55,2,   7.7490,2,       25,   0.221,2,   1.8871,2,    5.26,2,   2.8633,2,    -999,9,    -999,9,    -999,   8.194,2,   0.037,    -999,1,   42.18,2,   20.89,2,  32.6467, -64.9271,   0.009,   0.0075,    0.15,   2.6377,   2.8633,2,-999,9,-999,-999,9,-999,    35.0973,2,-999,9,20120401,        616