BOTTLE,20220725CCHSIOCBG
EXPOCODE,SECT_ID,STNNBR,CASTNO,SAMPNO,BTLNBR,BTLNBR_FLAG_W,DATE,TIME,LATITUDE,LONGITUDE,DEPTH,CTDPRS,CTDTMP,CTDSAL,CTDSAL_FLAG_W,SALNTY,SALNTY_FLAG_W,CTDOXY,CTDOXY_FLAG_W,OXYGEN,OXYGEN_FLAG_W,SILCAT,SILCAT_FLAG_W,NITRAT,NITRAT_FLAG_W,NITRIT,NITRIT_FLAG_W,PHSPHT,PHSPHT_FLAG_W,CFC-11,CFC-11_FLAG_W,CFC-12,CFC-12_FLAG_W,CFC113,CFC113_FLAG_W,SF6,SF6_FLAG_W,TCARBN,TCARBN_FLAG_W,ALKALI,ALKALI_FLAG_W,PH_TOT,PH_TOT_FLAG_W,PH_TMP,TRITUM,TRITUM_FLAG_W,HELIUM,HELIUM_FLAG_W,DELHE3,DELHE3_FLAG_W,REFTMP,REFTMP_FLAG_W,DELC13,DELC13_FLAG_W,DELC14,DELC14_FLAG_W,C14ERR,NEON,NEON_FLAG_W,NEONER,CCL4,CCL4_FLAG_W,DOC,DOC_FLAG_W,TDN,TDN_FLAG_W,BTL_LAT,BTL_LON,TRITER,HELIER,DELHER,THETA,SBE35,SBE35_FLAG_W,14C-DOC,14C-DOC_FLAG_W,14C-DOCERR,13C-DOC,13C-DOC_FLAG_W,13C-DOCERR,SALTREF,SALTREF_FLAG_W,LAB_DEN,LAB_DEN_FLAG_W,BTL_DATE,BTL_TIME
,,,,,,,,,,,METERS,DBAR,ITS-90,PSS-78,,PSS-78,,UMOL/KG,,UMOL/KG,,UMOL/KG,,UMOL/KG,,UMOL/KG,,UMOL/KG,,PMOL/KG,,PMOL/KG,,PMOL/KG,,FMOL/KG,,UMOL/KG,,UMOL/KG,,,,DEG C,TU,,NMOL/KG,,PERCNT,,DEG C,,/MILLE,,/MILLE,,/MILLE,NMOL/KG,,NMOL/KG,PMOL/KG,,UMOL/KG,,UMOL/KG,,,,TU,NMOL/KG,PERCNT,DEG C,ITS-90,,/MILLE,,/MILLE,/MILLE,,/MILLE,G/KG,,KG/M^3,,,
33AT20120324,        A22,       9,          1,          5,          5,2,20120327,       0318,    38.7936,   -69.2063,       3294,  2702.9,   2.6101,  34.9157,2,  34.9169,2,    272.0,2,   272.0,2,   19.29,2,   17.20,2,    0.00,2,    1.16,2,   1.493,2,   0.791,2,   0.081,2,    -999,5,  2163.4,2, 2314.45,2,   7.7337,6,       25,    -999,9,     -999,9,    -999,9,   2.6102,2,    1.01,2,   -40.2,2,     3.1,    -999,9,    -999,    1.15,2,   43.47,2,   20.60,2,  38.7936, -69.2061,    -999,     -999,    -999,   2.3977,   2.6102,2,-999,9,-999,-999,9,-999,    35.0816,2,-999,9,20120327,        340
33AT20120324,        A22,       9,          1,          4,          4,2,20120327,       0318,    38.7936,   -69.2063,       3294,  2907.3,   2.4561,  34.9072,2,  34.9083,2,    273.2,2,   273.5,2,   20.01,2,   17.00,2,    0.00,2,    1.16,2,   1.634,2,   0.890,2,   0.095,2,    -999,5,    -999,9,    -999,9,     -999,9,     -999,    -999,9,     -999,9,    -999,9,   2.4556,2,    1.01,2,   -34.1,2,     3.1,    -999,9,    -999,    1.24,2,   43.11,2,   20.47,2,  38.7936, -69.2061,    -999,     -999,    -999,   2.2266,   2.4556,2,-999,9,-999,-999,9,-999,    35.0729,2,-999,9,20120327,        335
33AT20120324,        A22,       9,          1,          3,          3,2,20120327,       0318,    38.7936,   -69.2063,       3294,  3109.9,   2.3144,  34.9001,2,  34.9014,2,    274.0,2,   273.9,2,   21.56,2,   17.09,2,    0.00,2,    1.16,2,   1.649,2,   0.928,2,   0.108,2,    -999,5,  2168.9,2, 2315.22,2,     -999,9,     -999,    -999,9,     -999,9,    -999,9,   2.3141,2,    1.00,2,   -37.0,2,     3.6,    -999,9,    -999,    1.22,2,   43.24,2,   20.48,2,  38.7937, -69.2063,    -999,     -999,    -999,   2.0675,   2.3141,2,-999,9,-999,-999,9,-999,    35.0660,2,-999,9,20120327,        330
33AT20120324,        A22,       9,          1,          2,          2,2,20120327,       0318,    38.7936,   -69.2063,       3294,  3196.5,   2.2469,  34.8960,2,  34.8973,2,    273.8,2,   273.9,2,   22.85,2,   17.19,2,    0.00,2,    1.17,2,   1.766,2,   0.958,2,   0.112,2,    -999,5,  2169.3,2, 2317.62,6,   7.7294,6,       25,    -999,9,     -999,9,    -999,9,   2.2465,2,    0.98,2,   -46.3,2,     2.7,    -999,9,    -999,    1.29,2,   43.61,2,   20.38,2,  38.7936, -69.2062,    -999,     -999,    -999,   1.9926,   2.2465,2,-999,9,-999,-999,9,-999,    35.0618,2,-999,9,20120327,        327
33AT20120324,        A22,       9,          1,          1,          1,2,20120327,       0318,    38.7936,   -69.2063,       3294,  3284.3,   2.1859,  34.8909,2,  34.8928,2,    270.9,2,   270.7,2,   26.13,2,   17.70,2,    0.00,2,    1.21,2,   1.531,2,   0.846,2,   0.097,2,    -999,5,  2173.5,6, 2320.07,2,   7.7313,2,       25,    -999,9,     -999,9,    -999,9,   2.1855,2,    0.98,2,   -44.0,2,     2.3,    -999,9,    -999,    1.02,2,   43.30,2,   20.93,2,  38.7937, -69.2064,    -999,     -999,    -999,   1.9240,   2.1855,2,-999,9,-999,-999,9,-999,    35.0573,2,-999,9,20120327,        320