BOTTLE,20220725CCHSIOCBG
EXPOCODE,SECT_ID,STNNBR,CASTNO,SAMPNO,BTLNBR,BTLNBR_FLAG_W,DATE,TIME,LATITUDE,LONGITUDE,DEPTH,CTDPRS,CTDTMP,CTDSAL,CTDSAL_FLAG_W,SALNTY,SALNTY_FLAG_W,CTDOXY,CTDOXY_FLAG_W,OXYGEN,OXYGEN_FLAG_W,SILCAT,SILCAT_FLAG_W,NITRAT,NITRAT_FLAG_W,NITRIT,NITRIT_FLAG_W,PHSPHT,PHSPHT_FLAG_W,CFC-11,CFC-11_FLAG_W,CFC-12,CFC-12_FLAG_W,CFC113,CFC113_FLAG_W,SF6,SF6_FLAG_W,TCARBN,TCARBN_FLAG_W,ALKALI,ALKALI_FLAG_W,PH_TOT,PH_TOT_FLAG_W,PH_TMP,TRITUM,TRITUM_FLAG_W,HELIUM,HELIUM_FLAG_W,DELHE3,DELHE3_FLAG_W,REFTMP,REFTMP_FLAG_W,DELC13,DELC13_FLAG_W,DELC14,DELC14_FLAG_W,C14ERR,NEON,NEON_FLAG_W,NEONER,CCL4,CCL4_FLAG_W,DOC,DOC_FLAG_W,TDN,TDN_FLAG_W,BTL_LAT,BTL_LON,TRITER,HELIER,DELHER,THETA,SBE35,SBE35_FLAG_W,14C-DOC,14C-DOC_FLAG_W,14C-DOCERR,13C-DOC,13C-DOC_FLAG_W,13C-DOCERR,SALTREF,SALTREF_FLAG_W,LAB_DEN,LAB_DEN_FLAG_W,BTL_DATE,BTL_TIME
,,,,,,,,,,,METERS,DBAR,ITS-90,PSS-78,,PSS-78,,UMOL/KG,,UMOL/KG,,UMOL/KG,,UMOL/KG,,UMOL/KG,,UMOL/KG,,PMOL/KG,,PMOL/KG,,PMOL/KG,,FMOL/KG,,UMOL/KG,,UMOL/KG,,,,DEG C,TU,,NMOL/KG,,PERCNT,,DEG C,,/MILLE,,/MILLE,,/MILLE,NMOL/KG,,NMOL/KG,PMOL/KG,,UMOL/KG,,UMOL/KG,,,,TU,NMOL/KG,PERCNT,DEG C,ITS-90,,/MILLE,,/MILLE,/MILLE,,/MILLE,G/KG,,KG/M^3,,,
33AT20120324,        A22,      65,          1,         36,         36,2,20120411,       0132,    16.6980,   -67.0801,       4718,     3.2,  27.1057,  35.6670,2,  35.6676,2,    203.1,2,   201.4,2,    1.80,2,    0.00,2,    0.00,2,    0.00,2,   1.544,2,   1.018,2,   0.119,2,    0.91,4,  1998.0,6, 2339.87,2,   8.1068,2,       25,    -999,9,     -999,9,    -999,9,  27.1053,2,    1.10,2,    50.7,2,     5.4,    -999,9,    -999,    1.40,2,   76.87,2,    4.47,2,  16.6989, -67.0808,    -999,     -999,    -999,  27.1050,  27.1053,2,-999,9,-999,-999,9,-999,    35.8358,2,-999,9,20120411,        334
33AT20120324,        A22,      65,          1,         35,         35,2,20120411,       0132,    16.6980,   -67.0801,       4718,    26.0,  26.9392,  35.7092,2,  35.7092,2,    202.4,2,   202.3,2,    1.73,2,    0.00,2,    0.00,2,    0.00,2,   1.562,2,   1.020,2,   0.122,2,    1.15,4,  1998.8,2, 2342.70,6,   8.1080,2,       25,    -999,9,     -999,9,    -999,9,  26.9391,2,    -999,9,    -999,9,    -999,    -999,9,    -999,    1.42,2,   77.36,2,    4.21,2,  16.6990, -67.0808,    -999,     -999,    -999,  26.9332,  26.9391,2,-999,9,-999,-999,9,-999,    35.8776,2,-999,9,20120411,        332
33AT20120324,        A22,      65,          1,         34,         34,2,20120411,       0132,    16.6980,   -67.0801,       4718,    50.8,  26.7205,  35.9595,2,  35.9453,2,    207.2,2,   204.7,2,    1.39,2,    0.00,2,    0.00,2,    0.00,2,   1.568,2,   1.032,2,   0.119,2,    0.61,4,  2006.8,2, 2358.26,2,   8.1141,2,       25,    -999,9,     -999,9,    -999,9,  26.7248,2,    1.14,2,    47.7,2,     2.7,    -999,9,    -999,    1.28,2,   73.17,2,    3.96,2,  16.6990, -67.0807,    -999,     -999,    -999,  26.7089,  26.7248,2,-999,9,-999,-999,9,-999,    36.1148,2,-999,9,20120411,        330
33AT20120324,        A22,      65,          1,         33,         33,2,20120411,       0132,    16.6980,   -67.0801,       4718,    75.9,  26.4386,  36.2037,2,  36.2317,2,    204.7,2,   204.8,2,    1.14,2,    0.00,2,    0.00,2,    0.00,2,   1.599,2,   1.041,2,   0.119,2,    0.73,4,    -999,9,    -999,9,     -999,9,     -999,    -999,9,     -999,9,    -999,9,  26.4377,2,    -999,9,    -999,9,    -999,    -999,9,    -999,    1.19,2,   69.38,2,    3.85,2,  16.6991, -67.0807,    -999,     -999,    -999,  26.4214,  26.4377,2,-999,9,-999,-999,9,-999,    36.4026,2,-999,9,20120411,        328
33AT20120324,        A22,      65,          1,         32,         32,2,20120411,       0132,    16.6980,   -67.0801,       4718,   100.7,  25.4012,  36.8613,2,  36.8848,2,    185.2,2,   179.0,2,    0.73,2,    0.02,2,    0.01,2,    0.00,2,   1.713,2,   1.108,2,   0.111,2,    0.81,4,  2089.7,2, 2414.35,2,   8.0525,2,       25,    -999,9,     -999,9,    -999,9,  25.3948,2,    0.99,2,    56.9,2,     3.4,    -999,9,    -999,    0.43,2,   64.77,2,    4.62,2,  16.6991, -67.0807,    -999,     -999,    -999,  25.3790,  25.3948,2,-999,9,-999,-999,9,-999,    37.0587,2,-999,9,20120411,        326
33AT20120324,        A22,      65,          1,         31,         31,2,20120411,       0132,    16.6980,   -67.0801,       4718,   151.1,  22.6697,  37.0192,2,  36.9991,2,    161.3,2,   161.4,2,    1.01,2,    3.23,2,    0.03,2,    0.16,2,   1.838,2,   1.199,2,   0.053,2,    0.41,4,    -999,9,    -999,9,     -999,9,     -999,    -999,9,     -999,9,    -999,9,  22.6561,2,    -999,9,    -999,9,    -999,    -999,9,    -999,    0.14,2,   57.26,2,    7.36,2,  16.6991, -67.0807,    -999,     -999,    -999,  22.6389,  22.6561,2,-999,9,-999,-999,9,-999,    37.1736,2,-999,9,20120411,        323
33AT20120324,        A22,      65,          1,         30,         30,2,20120411,       0132,    16.6980,   -67.0801,       4718,   200.9,  19.5353,  36.6877,2,  36.6842,2,    151.4,2,   153.0,2,    2.02,2,    7.01,2,    0.01,2,    0.36,2,   2.007,2,   1.273,2,   0.019,2,    0.74,4,  2153.2,2, 2396.80,2,   7.9181,2,       25,    -999,9,     -999,9,    -999,9,  19.5332,2,    0.54,2,    61.6,2,     2.8,    -999,9,    -999,    0.16,2,   52.81,2,   10.95,2,  16.6991, -67.0807,    -999,     -999,    -999,  19.4984,  19.5332,2,-999,9,-999,-999,9,-999,    36.8572,2,-999,9,20120411,        321
33AT20120324,        A22,      65,          1,         29,         29,2,20120411,       0132,    16.6980,   -67.0801,       4718,   251.1,  17.1284,  36.3203,2,  36.3182,2,    157.7,2,   155.0,2,    3.19,2,   10.45,2,    0.01,2,    0.58,2,   2.105,2,   1.271,2,   0.017,2,    0.51,4,    -999,9,    -999,9,     -999,9,     -999,    -999,9,     -999,9,    -999,9,  17.1279,2,    -999,9,    -999,9,    -999,    -999,9,    -999,    0.24,2,   49.62,2,   14.21,2,  16.6991, -67.0807,    -999,     -999,    -999,  17.0863,  17.1279,2,-999,9,-999,-999,9,-999,    36.4895,2,-999,9,20120411,        319
33AT20120324,        A22,      65,          1,         28,         28,2,20120411,       0132,    16.6980,   -67.0801,       4718,   301.8,  15.1694,  35.9561,2,  35.9566,2,    142.7,2,   141.9,2,    5.29,2,   15.00,2,    0.01,2,    0.89,2,   2.054,2,   1.214,2,   0.018,2,    0.57,4,  2168.7,2, 2355.30,2,   7.8113,6,       25,    -999,9,     -999,9,    -999,9,  15.1688,2,    0.51,2,    48.5,2,     4.9,    -999,9,    -999,    0.26,2,   46.58,2,   18.74,2,  16.6991, -67.0807,    -999,     -999,    -999,  15.1228,  15.1688,2,-999,9,-999,-999,9,-999,    36.1262,2,-999,9,20120411,        317
33AT20120324,        A22,      65,          1,         27,         27,2,20120411,       0132,    16.6980,   -67.0801,       4718,   352.9,  13.8209,  35.7658,2,  35.7618,2,    138.7,2,   139.7,2,    6.94,2,   17.45,2,    0.00,2,    1.04,2,   1.875,2,   1.099,2,   0.018,2,    0.42,4,    -999,9,    -999,9,     -999,9,     -999,    -999,9,     -999,9,    -999,9,  13.8190,2,    -999,9,    -999,9,    -999,    -999,9,    -999,    0.25,2,   45.54,2,   20.97,2,  16.6991, -67.0807,    -999,     -999,    -999,  13.7697,  13.8190,2,-999,9,-999,-999,9,-999,    35.9305,2,-999,9,20120411,        315
33AT20120324,        A22,      65,          1,         26,         26,2,20120411,       0132,    16.6980,   -67.0801,       4718,   402.0,  12.3141,  35.5102,2,  35.5076,2,    132.3,2,   131.8,2,    9.26,2,   20.97,2,    0.00,2,    1.29,2,   1.697,2,   0.949,2,   0.018,2,    0.25,4,  2186.2,2, 2334.04,2,   7.7255,2,       25,    -999,9,     -999,9,    -999,9,  12.3080,2,    0.55,2,    27.6,2,     2.5,    -999,9,    -999,    0.27,2,   45.16,2,   24.18,2,  16.6992, -67.0807,    -999,     -999,    -999,  12.2600,  12.3080,2,-999,9,-999,-999,9,-999,    35.6750,2,-999,9,20120411,        314
33AT20120324,        A22,      65,          1,         25,         25,2,20120411,       0132,    16.6980,   -67.0801,       4718,   452.7,  11.2619,  35.3616,2,  35.3536,2,    129.0,2,   129.1,2,   11.46,2,   23.28,2,    0.00,2,    1.45,2,   1.458,2,   0.797,2,   0.019,2,    0.15,4,  2193.0,2, 2326.31,2,   7.6961,2,       25,    -999,9,     -999,9,    -999,9,  11.2582,2,    0.68,2,     2.3,2,     2.5,    -999,9,    -999,    0.29,2,   44.71,2,   26.85,2,  16.6992, -67.0807,    -999,     -999,    -999,  11.2044,  11.2582,2,-999,9,-999,-999,9,-999,    35.5203,2,-999,9,20120411,        312
33AT20120324,        A22,      65,          1,         24,         24,2,20120411,       0132,    16.6980,   -67.0801,       4718,   503.2,  10.0988,  35.1949,2,  35.1932,2,    126.4,2,   126.9,2,   13.70,2,   25.57,2,    0.00,2,    1.62,2,   1.224,2,   0.665,2,   0.016,2,    0.00,4,  2198.9,6, 2320.24,2,   7.6618,2,       25,    -999,9,     -999,9,    -999,9,  10.1014,2,    0.60,2,    -7.8,2,     2.4,    -999,9,    -999,    0.27,2,   44.80,2,   28.13,2,  16.6991, -67.0807,    -999,     -999,    -999,  10.0390,  10.1014,2,-999,9,-999,-999,9,-999,    35.3592,2,-999,9,20120411,        310
33AT20120324,        A22,      65,          1,         23,         23,2,20120411,       0132,    16.6980,   -67.0801,       4718,   603.9,   8.4290,  34.9832,2,  34.9824,2,    127.0,2,   126.8,2,   17.72,2,   28.66,2,    0.00,2,    1.84,2,   0.826,2,   0.441,2,   0.012,2,    0.14,4,  2208.9,2, 2312.57,2,   7.6198,2,       25,    -999,9,     -999,9,    -999,9,   8.4285,2,    0.62,2,   -47.1,2,     3.1,    -999,9,    -999,    0.26,2,   44.41,2,   31.06,2,  16.6991, -67.0807,    -999,     -999,    -999,   8.3644,   8.4285,2,-999,9,-999,-999,9,-999,    35.1473,2,-999,9,20120411,        307
33AT20120324,        A22,      65,          1,         22,         22,2,20120411,       0132,    16.6980,   -67.0801,       4718,   704.5,   7.1256,  34.8521,2,  34.8498,2,    132.3,2,   130.9,2,   21.22,2,   30.48,2,    0.00,2,    1.99,2,   0.487,2,   0.257,2,   0.007,2,    0.00,4,  2214.5,2, 2310.18,2,   7.5952,2,       25,    -999,9,     -999,9,    -999,9,   7.1218,2,    0.68,2,   -63.0,2,     2.3,    -999,9,    -999,    0.23,2,   43.72,2,   33.05,2,  16.6991, -67.0807,    -999,     -999,    -999,   7.0567,   7.1218,2,-999,9,-999,-999,9,-999,    35.0141,2,-999,9,20120411,        305
33AT20120324,        A22,      65,          1,         21,         21,2,20120411,       0132,    16.6980,   -67.0801,       4718,   805.6,   6.3536,  34.8466,2,  34.8474,2,    144.1,2,   144.0,2,   22.81,2,   29.83,2,    0.00,2,    1.96,2,   0.298,2,   0.164,2,   0.004,2,    0.00,4,  2214.8,2, 2312.97,2,   7.6061,2,       25,    -999,9,     -999,9,    -999,9,   6.3534,2,    0.71,2,   -75.6,2,     2.3,    -999,9,    -999,    0.17,2,   42.78,2,   32.56,2,  16.6990, -67.0808,    -999,     -999,    -999,   6.2789,   6.3534,2,-999,9,-999,-999,9,-999,    35.0117,2,-999,9,20120411,        302
33AT20120324,        A22,      65,          1,         20,         20,2,20120411,       0132,    16.6980,   -67.0801,       4718,   906.0,   5.6036,  34.8781,2,  34.8785,2,    161.8,2,   162.3,2,   24.18,2,   28.04,2,    0.00,2,    1.87,2,   0.158,2,   0.094,2,   0.004,2,    0.00,4,  2209.4,2, 2317.45,2,   7.6301,2,       25,    -999,9,     -999,9,    -999,9,   5.6027,2,    0.72,2,   -91.0,2,     2.2,    -999,9,    -999,    0.15,2,   43.06,2,   31.77,2,  16.6989, -67.0808,    -999,     -999,    -999,   5.5240,   5.6027,2,-999,9,-999,-999,9,-999,    35.0430,2,-999,9,20120411,        259
33AT20120324,        A22,      65,          1,         19,         19,2,20120411,       0132,    16.6980,   -67.0801,       4718,  1007.4,   5.1808,  34.9328,2,  34.9332,2,    181.1,2,   181.6,2,   23.83,2,   25.56,2,    0.00,2,    1.72,2,   0.160,2,   0.093,2,   0.005,2,    0.00,4,  2203.4,2, 2322.81,2,   7.6613,2,       25,    -999,9,     -999,9,    -999,9,   5.1804,2,    0.80,2,   -91.7,2,     2.6,    -999,9,    -999,    0.19,2,   43.02,2,   28.04,2,  16.6988, -67.0809,    -999,     -999,    -999,   5.0947,   5.1804,2,-999,9,-999,-999,9,-999,    35.0979,2,-999,9,20120411,        257
33AT20120324,        A22,      65,          1,         18,         18,2,20120411,       0132,    16.6980,   -67.0801,       4718,  1108.7,   4.8138,  34.9550,2,  34.9550,2,    196.3,2,   195.9,2,   23.70,2,   24.12,2,    0.00,2,    1.62,2,   0.162,2,   0.095,2,   0.006,2,    0.00,4,  2198.2,2, 2325.80,2,   7.6781,2,       25,    -999,9,     -999,9,    -999,9,   4.8142,2,    0.83,2,   -97.6,2,     2.2,    -999,9,    -999,    0.21,2,   42.63,2,   27.66,2,  16.6987, -67.0809,    -999,     -999,    -999,   4.7213,   4.8142,2,-999,9,-999,-999,9,-999,    35.1199,2,-999,9,20120411,        254
33AT20120324,        A22,      65,          1,         17,         17,2,20120411,       0132,    16.6980,   -67.0801,       4718,  1209.3,   4.5575,  34.9634,2,  34.9645,2,    202.4,2,   202.2,2,   24.41,2,   23.34,2,    0.00,2,    1.58,2,   0.123,2,   0.072,2,   0.004,2,    0.07,4,  2196.9,2, 2328.65,2,   7.6872,2,       25,    -999,9,     -999,9,    -999,9,   4.5639,2,    0.85,2,   -96.8,2,     2.3,    -999,9,    -999,    0.18,2,   42.08,2,   26.02,2,  16.6986, -67.0810,    -999,     -999,    -999,   4.4581,   4.5639,2,-999,9,-999,-999,9,-999,    35.1294,2,-999,9,20120411,        251
33AT20120324,        A22,      65,          1,         16,         16,2,20120411,       0132,    16.6980,   -67.0801,       4718,  1310.7,   4.4147,  34.9660,2,  34.9665,2,    206.3,2,   206.0,2,   25.45,2,   23.07,2,    0.00,2,    1.56,2,   0.112,2,   0.067,2,   0.005,2,    0.12,4,  2197.5,2, 2329.42,2,   7.6921,2,       25,    -999,9,     -999,9,    -999,9,   4.4130,2,    0.84,2,   -97.8,2,     2.6,    -999,9,    -999,    0.19,2,   41.75,2,   25.87,2,  16.6986, -67.0810,    -999,     -999,    -999,   4.3074,   4.4130,2,-999,9,-999,-999,9,-999,    35.1314,2,-999,9,20120411,        248
33AT20120324,        A22,      65,          1,         15,         15,2,20120411,       0132,    16.6980,   -67.0801,       4718,  1411.8,   4.3141,  34.9694,2,  34.9696,2,    209.1,2,   209.2,2,   25.72,2,   22.70,2,    0.00,2,    1.53,2,   0.127,2,   0.074,2,   0.007,2,    0.00,4,  2195.5,2, 2331.27,2,   7.6969,2,       25,    -999,9,     -999,9,    -999,9,   4.3140,2,    -999,9,    -999,9,    -999,    -999,9,    -999,    0.21,2,   41.81,2,   25.51,2,  16.6986, -67.0810,    -999,     -999,    -999,   4.1985,   4.3140,2,-999,9,-999,-999,9,-999,    35.1345,2,-999,9,20120411,        246
33AT20120324,        A22,      65,          1,         14,         14,2,20120411,       0132,    16.6980,   -67.0801,       4718,  1512.9,   4.2446,  34.9708,2,  34.9710,2,    211.5,2,   211.1,2,   26.27,2,   22.53,2,    0.00,2,    1.52,2,   0.119,2,   0.068,2,   0.006,2,    0.08,4,  2195.7,2, 2333.60,2,   7.6995,2,       25,    -999,9,     -999,9,    -999,9,   4.2446,2,    -999,9,    -999,9,    -999,    -999,9,    -999,    0.19,2,   40.88,2,   25.43,2,  16.6985, -67.0810,    -999,     -999,    -999,   4.1204,   4.2446,2,-999,9,-999,-999,9,-999,    35.1359,2,-999,9,20120411,        243
33AT20120324,        A22,      65,          1,         13,         13,2,20120411,       0132,    16.6980,   -67.0801,       4718,  1615.8,   4.2024,  34.9719,2,  34.9722,2,    212.8,2,   213.1,2,   26.45,2,   22.40,2,    0.00,2,    1.50,2,   0.123,2,   0.071,2,   0.010,2,    0.00,4,    -999,9,    -999,9,     -999,9,     -999,    -999,9,     -999,9,    -999,9,   4.2024,2,    -999,9,    -999,9,    -999,    -999,9,    -999,    0.22,2,   40.75,2,   25.23,2,  16.6985, -67.0810,    -999,     -999,    -999,   4.0691,   4.2024,2,-999,9,-999,-999,9,-999,    35.1371,2,-999,9,20120411,        240
33AT20120324,        A22,      65,          1,         12,         12,2,20120411,       0132,    16.6980,   -67.0801,       4718,  1816.7,   4.1406,  34.9731,2,  34.9732,2,    213.7,2,   213.0,2,   27.47,2,   22.34,2,    0.00,2,    1.50,2,   0.054,2,   0.041,2,   0.004,2,    0.20,4,  2196.4,2, 2335.82,2,   7.7044,2,       25,    -999,9,     -999,9,    -999,9,   4.1404,2,    -999,9,    -999,9,    -999,    -999,9,    -999,    0.12,2,   40.77,2,   25.19,2,  16.6985, -67.0811,    -999,     -999,    -999,   3.9889,   4.1404,2,-999,9,-999,-999,9,-999,    35.1381,2,-999,9,20120411,        236
33AT20120324,        A22,      65,          1,         11,         11,2,20120411,       0132,    16.6980,   -67.0801,       4718,  2019.3,   4.1151,  34.9739,2,  34.9742,2,    214.1,2,   214.2,2,   27.75,2,   22.19,2,    0.00,2,    1.50,2,   0.047,2,   0.034,2,   0.004,2,    0.74,4,    -999,9,    -999,9,     -999,9,     -999,    -999,9,     -999,9,    -999,9,   4.1148,2,    -999,9,    -999,9,    -999,    -999,9,    -999,    0.11,2,   40.47,2,   25.33,2,  16.6984, -67.0811,    -999,     -999,    -999,   3.9439,   4.1148,2,-999,9,-999,-999,9,-999,    35.1391,2,-999,9,20120411,        232
33AT20120324,        A22,      65,          1,         10,         10,2,20120411,       0132,    16.6980,   -67.0801,       4718,  2272.1,   4.1159,  34.9743,2,  34.9746,2,    214.5,2,   214.1,2,   28.14,2,   22.14,2,    0.00,2,    1.49,2,   0.044,2,   0.037,2,   0.005,2,    0.00,4,  2196.7,2, 2338.11,2,   7.7083,2,       25,    -999,9,     -999,9,    -999,9,   4.1162,2,    -999,9,    -999,9,    -999,    -999,9,    -999,    0.09,2,   40.88,2,   25.06,2,  16.6983, -67.0811,    -999,     -999,    -999,   3.9192,   4.1162,2,-999,9,-999,-999,9,-999,    35.1395,2,-999,9,20120411,        226
33AT20120324,        A22,      65,          1,          9,          9,2,20120411,       0132,    16.6980,   -67.0801,       4718,  2528.1,   4.1277,  34.9746,2,  34.9744,2,    214.3,2,   214.5,2,   28.44,2,   22.14,2,    0.00,2,    1.49,2,   0.043,2,   0.039,2,   0.005,2,    0.00,4,    -999,9,    -999,9,     -999,9,     -999,    -999,9,     -999,9,    -999,9,   4.1278,2,    -999,9,    -999,9,    -999,    -999,9,    -999,    0.08,2,   41.48,2,   25.09,2,  16.6983, -67.0812,    -999,     -999,    -999,   3.9041,   4.1278,2,-999,9,-999,-999,9,-999,    35.1393,2,-999,9,20120411,        221
33AT20120324,        A22,      65,          1,          8,          8,2,20120411,       0132,    16.6980,   -67.0801,       4718,  2782.0,   4.1479,  34.9746,2,  34.9746,2,    214.6,2,   215.2,2,   28.65,2,   22.14,2,    0.00,2,    1.49,2,   0.041,2,   0.036,2,   0.005,2,    0.00,4,  2196.5,2, 2339.49,2,   7.7094,2,       25,    -999,9,     -999,9,    -999,9,   4.1478,2,    -999,9,    -999,9,    -999,    -999,9,    -999,    0.08,2,   40.88,2,   25.31,2,  16.6982, -67.0808,    -999,     -999,    -999,   3.8966,   4.1478,2,-999,9,-999,-999,9,-999,    35.1395,2,-999,9,20120411,        216
33AT20120324,        A22,      65,          1,          7,          7,2,20120411,       0132,    16.6980,   -67.0801,       4718,  3039.2,   4.1716,  34.9747,2,  34.9744,2,    214.8,2,   215.2,2,   28.69,2,   22.11,2,    0.00,2,    1.49,2,   0.104,2,   0.107,2,   0.017,2,    0.12,4,    -999,9,    -999,9,     -999,9,     -999,    -999,9,     -999,9,    -999,9,   4.1721,2,    -999,9,    -999,9,    -999,    -999,9,    -999,    0.07,2,   40.94,2,   25.43,2,  16.6981, -67.0801,    -999,     -999,    -999,   3.8912,   4.1721,2,-999,9,-999,-999,9,-999,    35.1393,2,-999,9,20120411,        210
33AT20120324,        A22,      65,          1,          6,          6,2,20120411,       0132,    16.6980,   -67.0801,       4718,  3344.8,   4.2024,  34.9749,2,  34.9746,2,    214.9,2,   214.9,2,   28.74,2,   21.97,2,    0.00,2,    1.48,2,   0.044,2,   0.037,2,   0.006,2,    0.00,4,    -999,9,    -999,9,     -999,9,     -999,    -999,9,     -999,9,    -999,9,   4.2028,2,    -999,9,    -999,9,    -999,    -999,9,    -999,    0.07,2,   40.76,2,   25.04,2,  16.6982, -67.0800,    -999,     -999,    -999,   3.8861,   4.2028,2,-999,9,-999,-999,9,-999,    35.1395,2,-999,9,20120411,        203