BOTTLE,20220725CCHSIOCBG
EXPOCODE,SECT_ID,STNNBR,CASTNO,SAMPNO,BTLNBR,BTLNBR_FLAG_W,DATE,TIME,LATITUDE,LONGITUDE,DEPTH,CTDPRS,CTDTMP,CTDSAL,CTDSAL_FLAG_W,SALNTY,SALNTY_FLAG_W,CTDOXY,CTDOXY_FLAG_W,OXYGEN,OXYGEN_FLAG_W,SILCAT,SILCAT_FLAG_W,NITRAT,NITRAT_FLAG_W,NITRIT,NITRIT_FLAG_W,PHSPHT,PHSPHT_FLAG_W,CFC-11,CFC-11_FLAG_W,CFC-12,CFC-12_FLAG_W,CFC113,CFC113_FLAG_W,SF6,SF6_FLAG_W,TCARBN,TCARBN_FLAG_W,ALKALI,ALKALI_FLAG_W,PH_TOT,PH_TOT_FLAG_W,PH_TMP,TRITUM,TRITUM_FLAG_W,HELIUM,HELIUM_FLAG_W,DELHE3,DELHE3_FLAG_W,REFTMP,REFTMP_FLAG_W,DELC13,DELC13_FLAG_W,DELC14,DELC14_FLAG_W,C14ERR,NEON,NEON_FLAG_W,NEONER,CCL4,CCL4_FLAG_W,DOC,DOC_FLAG_W,TDN,TDN_FLAG_W,BTL_LAT,BTL_LON,TRITER,HELIER,DELHER,THETA,SBE35,SBE35_FLAG_W,14C-DOC,14C-DOC_FLAG_W,14C-DOCERR,13C-DOC,13C-DOC_FLAG_W,13C-DOCERR,SALTREF,SALTREF_FLAG_W,LAB_DEN,LAB_DEN_FLAG_W,BTL_DATE,BTL_TIME
,,,,,,,,,,,METERS,DBAR,ITS-90,PSS-78,,PSS-78,,UMOL/KG,,UMOL/KG,,UMOL/KG,,UMOL/KG,,UMOL/KG,,UMOL/KG,,PMOL/KG,,PMOL/KG,,PMOL/KG,,FMOL/KG,,UMOL/KG,,UMOL/KG,,,,DEG C,TU,,NMOL/KG,,PERCNT,,DEG C,,/MILLE,,/MILLE,,/MILLE,NMOL/KG,,NMOL/KG,PMOL/KG,,UMOL/KG,,UMOL/KG,,,,TU,NMOL/KG,PERCNT,DEG C,ITS-90,,/MILLE,,/MILLE,/MILLE,,/MILLE,G/KG,,KG/M^3,,,
33AT20120324,        A22,       2,          2,         19,         19,2,20120325,       2154,    39.8966,   -69.9309,        735,     3.0,  10.7076,  33.5930,2,  33.6500,2,    291.1,4,   299.3,2,    0.28,2,    0.32,2,    0.04,2,    0.21,2,   3.701,2,   2.105,2,   0.310,2,    2.19,2,  2027.4,6, 2257.68,6,   7.9426,6,       25,    -999,9,     -999,9,    -999,9,  10.8135,3,    -999,9,    -999,9,    -999,    -999,9,    -999,    -999,1,    -999,9,    -999,9,  39.8948, -69.9312,    -999,     -999,    -999,  10.7072,  10.8135,3,-999,9,-999,-999,9,-999,    33.8087,2,-999,9,20120325,       2236
33AT20120324,        A22,       2,          2,         18,         18,2,20120325,       2154,    39.8966,   -69.9309,        735,    28.4,  13.8027,  34.8538,2,  34.8432,2,    265.7,4,   266.5,2,    0.33,2,    1.07,2,    0.08,2,    0.20,2,   3.020,2,   1.773,2,   0.248,2,    1.87,2,  2058.0,2, 2317.95,2,   7.9689,2,       25,    -999,9,     -999,9,    -999,9,  13.7963,2,    -999,9,    -999,9,    -999,    -999,9,    -999,    -999,1,    -999,9,    -999,9,  39.8948, -69.9312,    -999,     -999,    -999,  13.7987,  13.7963,2,-999,9,-999,-999,9,-999,    35.0075,2,-999,9,20120325,       2233
33AT20120324,        A22,       2,          2,         17,         17,2,20120325,       2154,    39.8966,   -69.9309,        735,    53.1,  12.3177,  34.7546,2,  34.7897,2,    244.9,3,   237.6,2,    2.61,2,    6.40,2,    0.06,2,    0.51,2,   3.022,2,   1.803,2,   0.235,2,    1.25,2,  2096.4,2, 2307.59,2,   7.8836,2,       25,    -999,9,     -999,9,    -999,9,  12.2856,2,    -999,9,    -999,9,    -999,    -999,9,    -999,    -999,1,    -999,9,    -999,9,  39.8949, -69.9312,    -999,     -999,    -999,  12.3107,  12.2856,2,-999,9,-999,-999,9,-999,    34.9538,2,-999,9,20120325,       2231
33AT20120324,        A22,       2,          2,         16,         16,2,20120325,       2154,    39.8966,   -69.9309,        735,    77.2,  13.3932,  35.1368,2,  35.2050,2,    231.7,2,   230.4,2,    2.55,2,    6.31,2,    0.04,2,    0.47,2,   2.809,2,   1.641,2,   0.202,2,    1.30,2,  2101.4,2, 2327.76,2,   7.9076,2,       25,    -999,9,     -999,9,    -999,9,  13.4021,2,    -999,9,    -999,9,    -999,    -999,9,    -999,    -999,1,    -999,9,    -999,9,  39.8950, -69.9312,    -999,     -999,    -999,  13.3824,  13.4021,2,-999,9,-999,-999,9,-999,    35.3710,2,-999,9,20120325,       2229
33AT20120324,        A22,       2,          2,         15,         15,2,20120325,       2154,    39.8966,   -69.9309,        735,   102.1,  14.7316,  35.5982,2,  35.6011,2,    211.7,2,   211.3,2,    3.03,2,    7.58,2,    0.02,2,    0.51,2,   2.555,2,   1.515,2,   0.161,2,    1.52,2,  2115.2,2, 2345.35,2,   7.9042,2,       25,    -999,9,     -999,9,    -999,9,  14.7273,2,    -999,9,    -999,9,    -999,    -999,9,    -999,    -999,1,    -999,9,    -999,9,  39.8952, -69.9312,    -999,     -999,    -999,  14.7163,  14.7273,2,-999,9,-999,-999,9,-999,    35.7690,2,-999,9,20120325,       2227
33AT20120324,        A22,       2,          2,         14,         14,2,20120325,       2154,    39.8966,   -69.9309,        735,   126.4,  14.0317,  35.4815,2,  35.4989,2,    200.0,2,   202.4,2,    4.17,2,    9.34,2,    0.02,2,    0.62,2,   2.514,2,   1.476,2,   0.148,2,    1.31,2,  2124.3,2, 2335.66,2,   7.8816,2,       25,    -999,9,     -999,9,    -999,9,  14.0206,2,    -999,9,    -999,9,    -999,    -999,9,    -999,    -999,1,    -999,9,    -999,9,  39.8953, -69.9312,    -999,     -999,    -999,  14.0134,  14.0206,2,-999,9,-999,-999,9,-999,    35.6663,2,-999,9,20120325,       2225
33AT20120324,        A22,       2,          2,         13,         13,2,20120325,       2154,    39.8966,   -69.9309,        735,   151.4,  14.1257,  35.6890,2,  35.6777,2,    177.7,2,   174.2,2,    5.56,2,   13.01,2,    0.02,2,    0.83,2,   2.217,2,   1.284,2,   0.089,2,    0.86,2,  2148.9,2, 2346.75,2,   7.8379,2,       25,    -999,9,     -999,9,    -999,9,  14.0908,3,    -999,9,    -999,9,    -999,    -999,9,    -999,    -999,1,    -999,9,    -999,9,  39.8954, -69.9312,    -999,     -999,    -999,  14.1036,  14.0908,3,-999,9,-999,-999,9,-999,    35.8459,2,-999,9,20120325,       2223
33AT20120324,        A22,       2,          2,         12,         12,2,20120325,       2154,    39.8966,   -69.9309,        735,   176.1,  13.0579,  35.6559,2,  35.6550,2,     -999,9,    -999,5,    7.98,2,   18.13,2,    0.02,2,    1.12,2,   1.917,2,   1.074,2,   0.016,2,    0.72,2,  2176.6,2, 2341.05,2,   7.7648,2,       25,    -999,9,     -999,9,    -999,9,  13.0589,2,    -999,9,    -999,9,    -999,    -999,9,    -999,    -999,1,    -999,9,    -999,9,  39.8954, -69.9312,    -999,     -999,    -999,  13.0335,  13.0589,2,-999,9,-999,-999,9,-999,    35.8231,2,-999,9,20120325,       2221
33AT20120324,        A22,       2,          2,         11,         11,2,20120325,       2154,    39.8966,   -69.9309,        735,   201.8,  11.3459,  35.4354,2,  35.4335,2,    135.8,2,   135.7,2,   10.59,2,   21.72,2,    0.01,2,    1.36,2,   1.639,2,   0.887,2,   0.021,2,    0.58,2,  2188.0,2, 2346.39,3,   7.7179,2,       25,    -999,9,     -999,9,    -999,9,  11.3547,2,    -999,9,    -999,9,    -999,    -999,9,    -999,    -999,1,    -999,9,    -999,9,  39.8955, -69.9312,    -999,     -999,    -999,  11.3204,  11.3547,2,-999,9,-999,-999,9,-999,    35.6005,2,-999,9,20120325,       2220
33AT20120324,        A22,       2,          2,         10,         10,2,20120325,       2154,    39.8966,   -69.9309,        735,   226.8,  10.5398,  35.3365,2,  35.3246,2,    136.7,2,   137.8,2,   12.45,2,   22.86,2,    0.02,2,    1.44,2,   1.542,2,   0.813,2,   0.021,2,    0.55,2,    -999,9,    -999,9,     -999,9,     -999,    -999,9,     -999,9,    -999,9,  10.5507,2,    -999,9,    -999,9,    -999,    -999,9,    -999,    -999,1,    -999,9,    -999,9,  39.8956, -69.9312,    -999,     -999,    -999,  10.5124,  10.5507,2,-999,9,-999,-999,9,-999,    35.4912,2,-999,9,20120325,       2218
33AT20120324,        A22,       2,          2,          9,          9,2,20120325,       2154,    39.8966,   -69.9309,        735,   252.7,   9.5933,  35.2279,2,  35.2220,2,    137.9,2,   137.5,2,   13.44,2,   24.32,2,    0.04,2,    1.56,2,   1.361,2,   0.713,2,   0.032,2,    0.54,2,  2195.9,2, 2321.81,6,   7.6742,2,       25,    -999,9,     -999,9,    -999,9,   9.5684,2,    -999,9,    -999,9,    -999,    -999,9,    -999,    -999,1,    -999,9,    -999,9,  39.8957, -69.9312,    -999,     -999,    -999,   9.5646,   9.5684,2,-999,9,-999,-999,9,-999,    35.3881,2,-999,9,20120325,       2216
33AT20120324,        A22,       2,          2,          8,          8,2,20120325,       2154,    39.8966,   -69.9309,        735,   303.1,   8.5288,  35.1472,2,  35.1462,2,    149.9,2,   149.7,2,   14.00,2,   24.14,2,    0.04,2,    1.54,2,   1.458,2,   0.753,2,   0.031,2,    0.45,2,  2195.0,2, 2319.00,2,   7.6661,2,       25,    -999,9,     -999,9,    -999,9,   8.5239,2,    -999,9,    -999,9,    -999,    -999,9,    -999,    -999,1,    -999,9,    -999,9,  39.8958, -69.9311,    -999,     -999,    -999,   8.4966,   8.5239,2,-999,9,-999,-999,9,-999,    35.3119,2,-999,9,20120325,       2214
33AT20120324,        A22,       2,          2,          7,          7,2,20120325,       2154,    39.8966,   -69.9309,        735,   353.3,   7.4283,  35.0895,2,  35.0894,2,    175.6,2,   173.5,2,   13.18,2,   22.61,2,    0.03,2,    1.46,2,   1.814,2,   0.952,2,   0.072,2,    0.64,2,    -999,9,    -999,9,     -999,9,     -999,    -999,9,     -999,9,    -999,9,   7.4441,2,    -999,9,    -999,9,    -999,    -999,9,    -999,    -999,1,    -999,9,    -999,9,  39.8959, -69.9311,    -999,     -999,    -999,   7.3936,   7.4441,2,-999,9,-999,-999,9,-999,    35.2549,2,-999,9,20120325,       2211
33AT20120324,        A22,       2,          2,          6,          6,2,20120325,       2154,    39.8966,   -69.9309,        735,   403.9,   6.4772,  35.0392,2,  35.0379,2,    194.0,2,   196.3,2,   12.62,2,   21.17,2,    0.00,2,    1.37,2,   2.212,2,   1.146,2,   0.106,2,    0.82,2,  2184.6,2, 2313.04,2,   7.6811,2,       25,    -999,9,     -999,9,    -999,9,   6.4821,2,    -999,9,    -999,9,    -999,    -999,9,    -999,    -999,1,    -999,9,    -999,9,  39.8960, -69.9311,    -999,     -999,    -999,   6.4404,   6.4821,2,-999,9,-999,-999,9,-999,    35.2031,2,-999,9,20120325,       2209
33AT20120324,        A22,       2,          2,          5,          5,2,20120325,       2154,    39.8966,   -69.9309,        735,   454.7,   6.0641,  35.0184,2,  35.0170,2,    207.7,2,   207.2,2,   12.37,2,   20.48,2,    0.00,2,    1.34,2,   2.384,2,   1.253,2,   0.110,2,    0.81,2,    -999,9,    -999,9,     -999,9,     -999,    -999,9,     -999,9,    -999,9,   6.0631,2,    -999,9,    -999,9,    -999,    -999,9,    -999,    -999,1,    -999,9,    -999,9,  39.8960, -69.9311,    -999,     -999,    -999,   6.0239,   6.0631,2,-999,9,-999,-999,9,-999,    35.1822,2,-999,9,20120325,       2206
33AT20120324,        A22,       2,          2,          4,          4,2,20120325,       2154,    39.8966,   -69.9309,        735,   505.0,   5.6872,  35.0015,2,  34.9982,2,    219.3,2,   218.6,2,   12.06,2,   19.78,2,    0.00,2,    1.29,2,   2.612,2,   1.368,2,   0.131,2,    0.95,2,  2178.0,2, 2310.98,2,   7.6901,2,       25,    -999,9,     -999,9,    -999,9,   5.6905,2,    -999,9,    -999,9,    -999,    -999,9,    -999,    -999,1,    -999,9,    -999,9,  39.8961, -69.9311,    -999,     -999,    -999,   5.6439,   5.6905,2,-999,9,-999,-999,9,-999,    35.1632,2,-999,9,20120325,       2204
33AT20120324,        A22,       2,          2,          3,          3,2,20120325,       2154,    39.8966,   -69.9309,        735,   606.0,   5.0327,  34.9783,2,  34.9771,2,    237.9,2,   239.2,2,   11.35,2,   18.55,2,    0.00,2,    1.22,2,   2.992,2,   1.560,2,   0.172,2,    0.98,2,  2173.7,2, 2309.39,2,   7.7017,2,       25,    -999,9,     -999,9,    -999,9,   5.0332,2,    -999,9,    -999,9,    -999,    -999,9,    -999,    -999,1,    -999,9,    -999,9,  39.8962, -69.9310,    -999,     -999,    -999,   4.9833,   5.0332,2,-999,9,-999,-999,9,-999,    35.1420,2,-999,9,20120325,       2200
33AT20120324,        A22,       2,          2,          2,          2,2,20120325,       2154,    39.8966,   -69.9309,        735,   707.0,   4.7336,  34.9699,2,  34.9679,2,    247.6,2,   249.2,2,   10.92,2,   18.03,2,    0.00,2,    1.19,2,   3.146,2,   1.681,2,   0.186,2,    1.12,2,  2170.9,2, 2309.22,2,   7.7094,2,       25,    -999,9,     -999,9,    -999,9,   4.7331,2,    -999,9,    -999,9,    -999,    -999,9,    -999,    -999,1,    -999,9,    -999,9,  39.8964, -69.9310,    -999,     -999,    -999,   4.6771,   4.7331,2,-999,9,-999,-999,9,-999,    35.1327,2,-999,9,20120325,       2157
33AT20120324,        A22,       2,          2,          1,          1,2,20120325,       2154,    39.8966,   -69.9309,        735,   724.9,   4.7398,  34.9701,2,  34.9686,2,    249.4,2,   248.7,2,   10.97,2,   18.03,2,    0.00,2,    1.19,2,   3.163,2,   1.654,2,   0.196,2,    1.20,2,  2172.6,6, 2309.23,6,   7.7088,6,       25,    -999,9,     -999,9,    -999,9,   4.7396,2,    -999,9,    -999,9,    -999,    -999,9,    -999,    -999,1,    -999,9,    -999,9,  39.8965, -69.9309,    -999,     -999,    -999,   4.6817,   4.7396,2,-999,9,-999,-999,9,-999,    35.1335,2,-999,9,20120325,       2155