BOTTLE,20220725CCHSIOCBG
EXPOCODE,SECT_ID,STNNBR,CASTNO,SAMPNO,BTLNBR,BTLNBR_FLAG_W,DATE,TIME,LATITUDE,LONGITUDE,DEPTH,CTDPRS,CTDTMP,CTDSAL,CTDSAL_FLAG_W,SALNTY,SALNTY_FLAG_W,CTDOXY,CTDOXY_FLAG_W,OXYGEN,OXYGEN_FLAG_W,SILCAT,SILCAT_FLAG_W,NITRAT,NITRAT_FLAG_W,NITRIT,NITRIT_FLAG_W,PHSPHT,PHSPHT_FLAG_W,CFC-11,CFC-11_FLAG_W,CFC-12,CFC-12_FLAG_W,CFC113,CFC113_FLAG_W,SF6,SF6_FLAG_W,TCARBN,TCARBN_FLAG_W,ALKALI,ALKALI_FLAG_W,PH_TOT,PH_TOT_FLAG_W,PH_TMP,TRITUM,TRITUM_FLAG_W,HELIUM,HELIUM_FLAG_W,DELHE3,DELHE3_FLAG_W,REFTMP,REFTMP_FLAG_W,DELC13,DELC13_FLAG_W,DELC14,DELC14_FLAG_W,C14ERR,NEON,NEON_FLAG_W,NEONER,CCL4,CCL4_FLAG_W,DOC,DOC_FLAG_W,TDN,TDN_FLAG_W,BTL_LAT,BTL_LON,TRITER,HELIER,DELHER,THETA,SBE35,SBE35_FLAG_W,14C-DOC,14C-DOC_FLAG_W,14C-DOCERR,13C-DOC,13C-DOC_FLAG_W,13C-DOCERR,SALTREF,SALTREF_FLAG_W,LAB_DEN,LAB_DEN_FLAG_W,BTL_DATE,BTL_TIME
,,,,,,,,,,,METERS,DBAR,ITS-90,PSS-78,,PSS-78,,UMOL/KG,,UMOL/KG,,UMOL/KG,,UMOL/KG,,UMOL/KG,,UMOL/KG,,PMOL/KG,,PMOL/KG,,PMOL/KG,,FMOL/KG,,UMOL/KG,,UMOL/KG,,,,DEG C,TU,,NMOL/KG,,PERCNT,,DEG C,,/MILLE,,/MILLE,,/MILLE,NMOL/KG,,NMOL/KG,PMOL/KG,,UMOL/KG,,UMOL/KG,,,,TU,NMOL/KG,PERCNT,DEG C,ITS-90,,/MILLE,,/MILLE,/MILLE,,/MILLE,G/KG,,KG/M^3,,,
33AT20120324,        A22,      60,          1,         30,         30,2,20120410,       0022,    17.6665,   -66.0007,       1918,     2.7,  27.2122,  36.0516,2,  36.0518,2,    200.6,2,   201.0,2,    1.16,2,    0.00,2,    0.00,2,    0.00,2,   1.632,2,   1.043,2,   0.135,2,    1.16,2,  2014.6,2, 2363.51,2,   8.1116,2,       25,   0.439,2,   1.7062,2,   -1.46,2,  27.2109,2,    -999,9,    -999,9,    -999,   6.711,2,   0.030,    -999,1,    -999,9,    -999,9,  17.6670, -66.0006,   0.009,   0.0068,    0.15,  27.2116,  27.2109,2,-999,9,-999,-999,9,-999,    36.2218,2,-999,9,20120410,        125
33AT20120324,        A22,      60,          1,         29,         29,2,20120410,       0022,    17.6665,   -66.0007,       1918,    35.6,  26.8402,  36.0715,2,  36.0667,2,    203.5,2,   203.8,2,    1.17,2,    0.00,2,    0.00,2,    0.00,2,   1.647,2,   1.059,2,   0.134,2,    1.18,2,  2014.0,2, 2362.33,2,   8.1135,2,       25,    -999,9,     -999,9,    -999,9,  26.8285,2,    -999,9,    -999,9,    -999,    -999,9,    -999,    -999,1,    -999,9,    -999,9,  17.6670, -66.0006,    -999,     -999,    -999,  26.8320,  26.8285,2,-999,9,-999,-999,9,-999,    36.2367,2,-999,9,20120410,        123
33AT20120324,        A22,      60,          1,         28,         28,2,20120410,       0022,    17.6665,   -66.0007,       1918,    60.5,  26.4946,  36.1661,2,  36.1681,2,    205.2,2,   204.3,2,    1.05,2,    0.00,2,    0.00,2,    0.00,2,   1.642,2,   1.062,2,   0.125,2,    1.12,2,    -999,9,    -999,9,     -999,9,     -999,    -999,9,     -999,9,    -999,9,  26.4949,2,    -999,9,    -999,9,    -999,    -999,9,    -999,    -999,1,    -999,9,    -999,9,  17.6670, -66.0006,    -999,     -999,    -999,  26.4809,  26.4949,2,-999,9,-999,-999,9,-999,    36.3387,2,-999,9,20120410,        121
33AT20120324,        A22,      60,          1,         27,         27,2,20120410,       0022,    17.6665,   -66.0007,       1918,    85.5,  26.2801,  36.2154,2,  36.2287,2,    201.6,2,   201.3,2,    0.97,2,    0.00,2,    0.00,2,    0.00,2,   1.639,2,   1.072,2,   0.137,2,    1.19,2,  2023.4,2, 2374.85,2,   8.1063,2,       25,    -999,9,     -999,9,    -999,9,  26.2803,2,    -999,9,    -999,9,    -999,    -999,9,    -999,    -999,1,    -999,9,    -999,9,  17.6671, -66.0006,    -999,     -999,    -999,  26.2608,  26.2803,2,-999,9,-999,-999,9,-999,    36.3995,2,-999,9,20120410,        119
33AT20120324,        A22,      60,          1,         26,         26,2,20120410,       0022,    17.6665,   -66.0007,       1918,   110.0,  25.9105,  36.7233,2,  36.7720,2,    190.1,2,   188.7,2,    0.57,2,    0.04,2,    0.00,2,    0.00,2,   1.718,2,   1.100,2,   0.129,2,    1.18,2,    -999,9,    -999,9,     -999,9,     -999,   0.457,2,     -999,9,    -999,9,  25.9150,2,    -999,9,    -999,9,    -999,    -999,9,    -999,    -999,1,    -999,9,    -999,9,  17.6671, -66.0006,   0.009,     -999,    -999,  25.8859,  25.9150,2,-999,9,-999,-999,9,-999,    36.9454,2,-999,9,20120410,        117
33AT20120324,        A22,      60,          1,         25,         25,2,20120410,       0022,    17.6665,   -66.0007,       1918,   135.1,  24.1866,  37.0874,2,  37.0876,2,    172.9,2,   172.9,2,    0.56,2,    1.50,2,    0.04,2,    0.06,2,   1.823,2,   1.166,2,   0.114,2,    1.18,2,  2112.3,2, 2423.06,2,   8.0280,2,       25,    -999,9,     -999,9,    -999,9,  24.1867,2,    -999,9,    -999,9,    -999,    -999,9,    -999,    -999,1,    -999,9,    -999,9,  17.6671, -66.0006,    -999,     -999,    -999,  24.1577,  24.1867,2,-999,9,-999,-999,9,-999,    37.2625,2,-999,9,20120410,        115
33AT20120324,        A22,      60,          1,         24,         24,2,20120410,       0022,    17.6665,   -66.0007,       1918,   161.3,  23.0229,  37.0809,2,  37.0795,2,    166.5,2,   166.4,2,    0.63,2,    2.35,2,    0.03,2,    0.10,2,   1.884,2,   1.198,2,   0.069,2,    1.18,2,    -999,9,    -999,9,     -999,9,     -999,    -999,9,     -999,9,    -999,9,  23.0214,2,    -999,9,    -999,9,    -999,    -999,9,    -999,    -999,1,    -999,9,    -999,9,  17.6671, -66.0006,    -999,     -999,    -999,  22.9896,  23.0214,2,-999,9,-999,-999,9,-999,    37.2543,2,-999,9,20120410,        114
33AT20120324,        A22,      60,          1,         23,         23,2,20120410,       0022,    17.6665,   -66.0007,       1918,   185.5,  21.9535,  36.9949,2,  36.9905,2,    159.6,2,   159.8,2,    0.88,2,    3.61,2,    0.02,2,    0.17,2,   1.965,2,   1.238,2,   0.061,2,    1.16,2,  2141.1,2, 2415.61,2,   7.9685,2,       25,    -999,9,     -999,9,    -999,9,  21.9501,2,    -999,9,    -999,9,    -999,    -999,9,    -999,    -999,1,    -999,9,    -999,9,  17.6671, -66.0006,    -999,     -999,    -999,  21.9165,  21.9501,2,-999,9,-999,-999,9,-999,    37.1649,2,-999,9,20120410,        112
33AT20120324,        A22,      60,          1,         22,         22,2,20120410,       0022,    17.6665,   -66.0007,       1918,   205.5,  20.4948,  36.8299,2,  36.8243,2,    155.9,2,   157.5,2,    1.34,2,    5.23,2,    0.01,2,    0.25,2,   2.054,2,   1.280,2,   0.025,2,    1.14,2,    -999,9,    -999,9,     -999,9,     -999,    -999,9,     -999,9,    -999,9,  20.4903,2,    -999,9,    -999,9,    -999,    -999,9,    -999,    -999,1,    -999,9,    -999,9,  17.6671, -66.0006,    -999,     -999,    -999,  20.4557,  20.4903,2,-999,9,-999,-999,9,-999,    36.9980,2,-999,9,20120410,        111
33AT20120324,        A22,      60,          1,         21,         21,2,20120410,       0022,    17.6665,   -66.0007,       1918,   227.4,  19.6398,  36.7026,2,  36.6944,2,    154.5,2,   155.3,2,    1.74,2,    6.68,2,    0.01,2,    0.34,2,   2.106,2,   1.302,2,   0.024,2,    1.13,2,    -999,9,    -999,9,     -999,9,     -999,   0.476,2,     -999,9,    -999,9,  19.6407,2,    -999,9,    -999,9,    -999,    -999,9,    -999,    -999,1,    -999,9,    -999,9,  17.6670, -66.0006,   0.009,     -999,    -999,  19.5978,  19.6407,2,-999,9,-999,-999,9,-999,    36.8674,2,-999,9,20120410,        109
33AT20120324,        A22,      60,          1,         20,         20,2,20120410,       0022,    17.6665,   -66.0007,       1918,   265.9,  17.8923,  36.4460,2,  36.4357,2,    155.5,2,   156.2,2,    2.59,2,    9.21,2,    0.01,2,    0.50,2,   2.217,2,   1.321,2,   0.021,2,    1.04,2,  2154.1,2, 2380.90,2,   7.8924,2,       25,    -999,9,     -999,9,    -999,9,  17.8886,2,    -999,9,    -999,9,    -999,    -999,9,    -999,    -999,1,    -999,9,    -999,9,  17.6670, -66.0006,    -999,     -999,    -999,  17.8463,  17.8886,2,-999,9,-999,-999,9,-999,    36.6075,2,-999,9,20120410,        108
33AT20120324,        A22,      60,          1,         19,         19,2,20120410,       0022,    17.6665,   -66.0007,       1918,   316.2,  16.3124,  36.1595,2,  36.1534,2,    147.7,2,   147.6,2,    4.02,2,   12.63,2,    0.01,2,    0.73,2,   2.207,2,   1.334,2,   0.016,2,    0.91,2,    -999,9,    -999,9,     -999,9,     -999,    -999,9,     -999,9,    -999,9,  16.3101,2,    -999,9,    -999,9,    -999,    -999,9,    -999,    -999,1,    -999,9,    -999,9,  17.6670, -66.0006,    -999,     -999,    -999,  16.2611,  16.3101,2,-999,9,-999,-999,9,-999,    36.3239,2,-999,9,20120410,        106
33AT20120324,        A22,      60,          1,         18,         18,2,20120410,       0022,    17.6665,   -66.0007,       1918,   366.6,  14.7825,  35.8909,2,  35.9021,2,    141.7,2,   140.0,2,    5.52,2,   15.66,2,    0.00,2,    0.94,2,   2.142,2,   1.242,2,   0.021,2,    0.78,2,    -999,9,    -999,9,     -999,9,     -999,    -999,9,     -999,9,    -999,9,  14.7948,2,    -999,9,    -999,9,    -999,    -999,9,    -999,    -999,1,    -999,9,    -999,9,  17.6669, -66.0006,    -999,     -999,    -999,  14.7268,  14.7948,2,-999,9,-999,-999,9,-999,    36.0714,2,-999,9,20120410,        104
33AT20120324,        A22,      60,          1,         17,         17,2,20120410,       0022,    17.6665,   -66.0007,       1918,   417.1,  13.2557,  35.6493,2,  35.6457,2,    134.1,2,   134.8,2,    7.42,2,   18.89,2,    0.00,2,    1.15,2,   2.007,2,   1.152,2,   0.021,2,    0.62,2,    -999,9,    -999,9,     -999,9,     -999,   0.379,2,   1.7627,2,    3.27,2,  13.2344,2,    -999,9,    -999,9,    -999,   7.254,2,   0.033,    -999,1,    -999,9,    -999,9,  17.6669, -66.0006,   0.009,   0.0071,    0.15,  13.1968,  13.2344,2,-999,9,-999,-999,9,-999,    35.8138,2,-999,9,20120410,        103
33AT20120324,        A22,      60,          1,         16,         16,2,20120410,       0022,    17.6665,   -66.0007,       1918,   467.4,  12.2489,  35.4859,2,  35.4717,2,    129.4,2,   128.8,2,    9.15,2,   21.45,2,    0.00,2,    1.32,2,   1.814,2,   1.008,2,   0.022,2,    0.50,2,  2188.4,2, 2330.11,2,   7.7164,2,       25,    -999,9,     -999,9,    -999,9,  12.1612,2,    -999,9,    -999,9,    -999,    -999,9,    -999,    -999,1,    -999,9,    -999,9,  17.6669, -66.0006,    -999,     -999,    -999,  12.1861,  12.1612,2,-999,9,-999,-999,9,-999,    35.6389,2,-999,9,20120410,        101
33AT20120324,        A22,      60,          1,         15,         15,2,20120410,       0022,    17.6665,   -66.0007,       1918,   531.7,  10.8899,  35.2783,2,  35.2816,2,    125.4,2,   125.3,2,   11.46,2,   24.14,2,    0.00,2,    1.51,2,   1.577,2,   0.874,2,   0.022,2,    0.43,2,    -999,9,    -999,9,     -999,9,     -999,    -999,9,     -999,9,    -999,9,  10.8777,2,    -999,9,    -999,9,    -999,    -999,9,    -999,    -999,1,    -999,9,    -999,9,  17.6668, -66.0006,    -999,     -999,    -999,  10.8235,  10.8777,2,-999,9,-999,-999,9,-999,    35.4480,2,-999,9,20120410,         59
33AT20120324,        A22,      60,          1,         14,         14,2,20120410,       0022,    17.6665,   -66.0007,       1918,   638.3,   9.0819,  35.0537,2,  35.0506,2,    124.8,2,   124.3,2,   15.84,2,   27.68,2,    0.00,2,    1.76,2,   1.089,2,   0.581,2,   0.019,2,    0.28,2,  2204.1,2, 2314.70,2,   7.6314,2,       25,    -999,9,     -999,9,    -999,9,   9.0864,2,    -999,9,    -999,9,    -999,    -999,9,    -999,    -999,1,    -999,9,    -999,9,  17.6668, -66.0006,    -999,     -999,    -999,   9.0104,   9.0864,2,-999,9,-999,-999,9,-999,    35.2158,2,-999,9,20120410,         56
33AT20120324,        A22,      60,          1,         13,         13,2,20120410,       0022,    17.6665,   -66.0007,       1918,   739.4,   7.5186,  34.8797,2,  34.8788,2,    129.4,2,   128.4,2,   19.92,2,   30.05,2,    0.00,2,    1.95,2,   0.665,2,   0.334,2,   0.011,2,    0.21,2,    -999,9,    -999,9,     -999,9,     -999,   0.129,2,   1.7865,2,    3.53,2,   7.5129,2,    -999,9,    -999,9,    -999,   7.695,2,   0.035,    -999,1,    -999,9,    -999,9,  17.6667, -66.0006,   0.009,   0.0071,    0.15,   7.4439,   7.5129,2,-999,9,-999,-999,9,-999,    35.0432,2,-999,9,20120410,         54
33AT20120324,        A22,      60,          1,         12,         12,2,20120410,       0022,    17.6665,   -66.0007,       1918,   840.1,   6.4402,  34.8663,2,  34.8678,2,    143.8,2,   144.6,2,   22.26,2,   29.27,2,    0.00,2,    1.92,2,   0.400,2,   0.182,2,   0.007,2,    0.12,2,  2210.4,2, 2314.16,2,   7.6115,2,       25,    -999,9,     -999,9,    -999,9,   6.4411,2,    -999,9,    -999,9,    -999,    -999,9,    -999,    -999,1,    -999,9,    -999,9,  17.6667, -66.0006,    -999,     -999,    -999,   6.3615,   6.4411,2,-999,9,-999,-999,9,-999,    35.0322,2,-999,9,20120410,         51
33AT20120324,        A22,      60,          1,         11,         11,2,20120410,       0022,    17.6665,   -66.0007,       1918,   940.9,   5.8632,  34.9055,2,  34.9073,2,    161.8,2,   163.1,2,   22.90,2,   27.32,2,    0.00,2,    1.81,2,   0.320,2,   0.158,2,   0.011,2,    0.10,2,    -999,9,    -999,9,     -999,9,     -999,    -999,9,     -999,9,    -999,9,   5.8652,2,    -999,9,    -999,9,    -999,    -999,9,    -999,    -999,1,    -999,9,    -999,9,  17.6666, -66.0007,    -999,     -999,    -999,   5.7785,   5.8652,2,-999,9,-999,-999,9,-999,    35.0719,2,-999,9,20120410,         49
33AT20120324,        A22,      60,          1,         10,         10,2,20120410,       0022,    17.6665,   -66.0007,       1918,  1041.7,   5.1653,  34.9388,2,  34.9397,2,    182.2,2,   183.8,2,   23.58,2,   25.19,2,    0.00,2,    1.69,2,   0.228,2,   0.105,2,   0.009,2,    0.08,2,  2200.2,2, 2323.34,2,   7.6646,2,       25,    -999,9,     -999,9,    -999,9,   5.1650,2,    -999,9,    -999,9,    -999,    -999,9,    -999,    -999,1,    -999,9,    -999,9,  17.6665, -66.0007,    -999,     -999,    -999,   5.0762,   5.1650,2,-999,9,-999,-999,9,-999,    35.1045,2,-999,9,20120410,         46
33AT20120324,        A22,      60,          1,          9,          9,2,20120410,       0022,    17.6665,   -66.0007,       1918,  1142.8,   4.8774,  34.9548,2,  34.9558,2,    193.8,2,   194.9,2,   23.43,2,   23.99,2,    0.00,2,    1.61,2,   0.248,2,   0.117,2,   0.011,2,    0.08,2,    -999,9,    -999,9,     -999,9,     -999,   0.046,2,   1.8143,2,    2.75,2,   4.8760,2,    -999,9,    -999,9,    -999,   7.900,2,   0.036,    -999,1,    -999,9,    -999,9,  17.6665, -66.0007,   0.009,   0.0073,    0.15,   4.7812,   4.8760,2,-999,9,-999,-999,9,-999,    35.1207,2,-999,9,20120410,         43
33AT20120324,        A22,      60,          1,          8,          8,2,20120410,       0022,    17.6665,   -66.0007,       1918,  1244.4,   4.3722,  34.9687,2,  34.9690,2,    208.7,2,   209.3,2,   24.74,2,   22.60,2,    0.00,2,    1.52,2,   0.232,2,   0.107,2,   0.009,2,    0.07,2,    -999,9,    -999,9,     -999,9,     -999,    -999,9,     -999,9,    -999,9,   4.3735,2,    -999,9,    -999,9,    -999,    -999,9,    -999,    -999,1,    -999,9,    -999,9,  17.6664, -66.0007,    -999,     -999,    -999,   4.2713,   4.3735,2,-999,9,-999,-999,9,-999,    35.1339,2,-999,9,20120410,         41
33AT20120324,        A22,      60,          1,          7,          7,2,20120410,       0022,    17.6665,   -66.0007,       1918,  1345.9,   4.2406,  34.9705,2,  34.9702,2,    210.0,2,   209.9,2,   26.13,2,   22.49,2,    0.00,2,    1.52,2,   0.132,2,   0.066,2,   0.007,2,    0.06,2,    -999,9,    -999,9,     -999,9,     -999,    -999,9,     -999,9,    -999,9,   4.2396,2,    -999,9,    -999,9,    -999,    -999,9,    -999,    -999,1,    -999,9,    -999,9,  17.6664, -66.0007,    -999,     -999,    -999,   4.1318,   4.2396,2,-999,9,-999,-999,9,-999,    35.1351,2,-999,9,20120410,         38
33AT20120324,        A22,      60,          1,          6,          6,2,20120410,       0022,    17.6665,   -66.0007,       1918,  1446.7,   4.1796,  34.9724,2,  34.9725,2,    214.1,2,   214.3,2,   25.47,2,   22.07,2,    0.00,2,    1.48,2,   0.240,2,   0.116,2,   0.009,2,    0.12,2,  2192.7,2, 2331.98,2,   7.7033,2,       25,    -999,9,     -999,9,    -999,9,   4.1793,2,    -999,9,    -999,9,    -999,    -999,9,    -999,    -999,1,    -999,9,    -999,9,  17.6664, -66.0007,    -999,     -999,    -999,   4.0622,   4.1793,2,-999,9,-999,-999,9,-999,    35.1374,2,-999,9,20120410,         36
33AT20120324,        A22,      60,          1,          5,          5,2,20120410,       0022,    17.6665,   -66.0007,       1918,  1547.8,   4.1418,  34.9728,2,  34.9725,2,    213.1,2,   212.9,2,   26.64,2,   22.22,2,    0.00,2,    1.50,2,   0.124,2,   0.057,2,   0.008,2,    0.09,2,    -999,9,    -999,9,     -999,9,     -999,   0.032,2,   1.8269,2,    1.11,2,   4.1418,2,    -999,9,    -999,9,    -999,   7.922,2,   0.036,    -999,1,    -999,9,    -999,9,  17.6664, -66.0007,   0.009,   0.0073,    0.15,   4.0155,   4.1418,2,-999,9,-999,-999,9,-999,    35.1374,2,-999,9,20120410,         33
33AT20120324,        A22,      60,          1,          4,          4,2,20120410,       0022,    17.6665,   -66.0007,       1918,  1649.3,   4.1364,  34.9729,2,  34.9731,2,    213.5,2,   213.2,2,   26.78,2,   22.19,2,    0.00,2,    1.50,2,   0.116,2,   0.057,2,   0.008,2,    0.15,2,  2195.7,2, 2335.33,3,   7.7042,6,       25,    -999,9,     -999,9,    -999,9,   4.1362,2,    -999,9,    -999,9,    -999,    -999,9,    -999,    -999,1,    -999,9,    -999,9,  17.6664, -66.0007,    -999,     -999,    -999,   4.0007,   4.1362,2,-999,9,-999,-999,9,-999,    35.1380,2,-999,9,20120410,         30
33AT20120324,        A22,      60,          1,          3,          3,2,20120410,       0022,    17.6665,   -66.0007,       1918,  1751.0,   4.1208,  34.9735,2,  34.9739,2,    214.9,2,   216.8,2,   26.17,2,   21.93,2,    0.00,2,    1.47,2,   0.201,2,   0.097,2,   0.014,2,    0.17,2,    -999,9,    -999,9,     -999,9,     -999,    -999,9,     -999,9,    -999,9,   4.1207,2,    -999,9,    -999,9,    -999,    -999,9,    -999,    -999,1,    -999,9,    -999,9,  17.6664, -66.0007,    -999,     -999,    -999,   3.9757,   4.1207,2,-999,9,-999,-999,9,-999,    35.1388,2,-999,9,20120410,         28
33AT20120324,        A22,      60,          1,          2,          2,2,20120410,       0022,    17.6665,   -66.0007,       1918,  1852.2,   4.1138,  34.9740,2,  34.9742,2,    218.9,2,   219.2,2,   25.27,2,   21.61,2,    0.00,2,    1.45,2,   0.318,2,   0.155,2,   0.018,2,    0.20,2,  2191.7,2, 2333.13,3,   7.7075,3,       25,    -999,9,     -999,9,    -999,9,   4.1139,2,    -999,9,    -999,9,    -999,    -999,9,    -999,    -999,1,    -999,9,    -999,9,  17.6664, -66.0007,    -999,     -999,    -999,   3.9590,   4.1139,2,-999,9,-999,-999,9,-999,    35.1392,2,-999,9,20120410,         25
33AT20120324,        A22,      60,          1,          1,          1,2,20120410,       0022,    17.6665,   -66.0007,       1918,  1920.2,   4.1113,  34.9740,2,  34.9746,2,    218.6,2,   219.3,2,   25.28,2,   21.59,2,    0.00,2,    1.45,2,   0.339,2,   0.163,2,   0.017,2,    0.21,2,  2192.9,6, 2330.78,3,   7.7090,3,       25,   0.042,2,   1.8313,2,    1.94,2,   4.1119,2,    -999,9,    -999,9,    -999,   7.828,2,   0.035,    -999,1,    -999,9,    -999,9,  17.6665, -66.0007,   0.009,   0.0073,    0.15,   3.9499,   4.1119,2,-999,9,-999,-999,9,-999,    35.1396,2,-999,9,20120410,         23