BOTTLE,20220725CCHSIOCBG
EXPOCODE,SECT_ID,STNNBR,CASTNO,SAMPNO,BTLNBR,BTLNBR_FLAG_W,DATE,TIME,LATITUDE,LONGITUDE,DEPTH,CTDPRS,CTDTMP,CTDSAL,CTDSAL_FLAG_W,SALNTY,SALNTY_FLAG_W,CTDOXY,CTDOXY_FLAG_W,OXYGEN,OXYGEN_FLAG_W,SILCAT,SILCAT_FLAG_W,NITRAT,NITRAT_FLAG_W,NITRIT,NITRIT_FLAG_W,PHSPHT,PHSPHT_FLAG_W,CFC-11,CFC-11_FLAG_W,CFC-12,CFC-12_FLAG_W,CFC113,CFC113_FLAG_W,SF6,SF6_FLAG_W,TCARBN,TCARBN_FLAG_W,ALKALI,ALKALI_FLAG_W,PH_TOT,PH_TOT_FLAG_W,PH_TMP,TRITUM,TRITUM_FLAG_W,HELIUM,HELIUM_FLAG_W,DELHE3,DELHE3_FLAG_W,REFTMP,REFTMP_FLAG_W,DELC13,DELC13_FLAG_W,DELC14,DELC14_FLAG_W,C14ERR,NEON,NEON_FLAG_W,NEONER,CCL4,CCL4_FLAG_W,DOC,DOC_FLAG_W,TDN,TDN_FLAG_W,BTL_LAT,BTL_LON,TRITER,HELIER,DELHER,THETA,SBE35,SBE35_FLAG_W,14C-DOC,14C-DOC_FLAG_W,14C-DOCERR,13C-DOC,13C-DOC_FLAG_W,13C-DOCERR,SALTREF,SALTREF_FLAG_W,LAB_DEN,LAB_DEN_FLAG_W,BTL_DATE,BTL_TIME
,,,,,,,,,,,METERS,DBAR,ITS-90,PSS-78,,PSS-78,,UMOL/KG,,UMOL/KG,,UMOL/KG,,UMOL/KG,,UMOL/KG,,UMOL/KG,,PMOL/KG,,PMOL/KG,,PMOL/KG,,FMOL/KG,,UMOL/KG,,UMOL/KG,,,,DEG C,TU,,NMOL/KG,,PERCNT,,DEG C,,/MILLE,,/MILLE,,/MILLE,NMOL/KG,,NMOL/KG,PMOL/KG,,UMOL/KG,,UMOL/KG,,,,TU,NMOL/KG,PERCNT,DEG C,ITS-90,,/MILLE,,/MILLE,/MILLE,,/MILLE,G/KG,,KG/M^3,,,
33AT20120324,        A22,      14,          1,          5,          5,2,20120328,       1433,    37.6102,   -68.3363,       4604,  3351.1,   2.5991,  34.9130,2,  34.9132,2,    270.6,2,   270.5,2,   20.91,2,   17.32,2,    0.00,2,    1.17,2,   1.543,2,   0.637,2,   0.077,2,    0.33,2,    -999,9,    -999,9,     -999,9,     -999,    -999,9,     -999,9,    -999,9,   2.5982,2,    -999,9,    -999,9,    -999,    -999,9,    -999,    -999,1,    -999,9,    -999,9,  37.6072, -68.3360,    -999,     -999,    -999,   2.3203,   2.5982,2,-999,9,-999,-999,9,-999,    35.0778,2,-999,9,20120328,       1500
33AT20120324,        A22,      14,          1,          4,          4,2,20120328,       1433,    37.6102,   -68.3363,       4604,  3656.6,   2.4052,  34.9020,2,  34.9024,2,    269.1,2,   270.9,3,   24.18,2,   17.62,2,    0.00,2,    1.20,2,   1.385,2,   0.596,2,   0.074,2,    0.29,2,  2170.2,2, 2318.42,2,   7.7374,2,       25,    -999,9,     -999,9,    -999,9,   2.4049,2,    -999,9,    -999,9,    -999,    -999,9,    -999,    -999,1,    -999,9,    -999,9,  37.6078, -68.3361,    -999,     -999,    -999,   2.0981,   2.4049,2,-999,9,-999,-999,9,-999,    35.0669,2,-999,9,20120328,       1453
33AT20120324,        A22,      14,          1,          3,          3,2,20120328,       1433,    37.6102,   -68.3363,       4604,  3962.2,   2.3028,  34.8937,2,     -999,5,    268.6,2,   268.7,2,   27.34,2,   18.02,2,    0.00,2,    1.23,2,   1.298,2,   0.517,2,   0.075,2,    0.23,2,    -999,9,    -999,9,     -999,9,     -999,    -999,9,     -999,9,    -999,9,   2.3023,2,    -999,9,    -999,9,    -999,    -999,9,    -999,    -999,1,    -999,9,    -999,9,  37.6084, -68.3361,    -999,     -999,    -999,   1.9643,   2.3023,2,-999,9,-999,-999,9,-999,       -999,5,-999,9,20120328,       1447
33AT20120324,        A22,      14,          1,          2,          2,2,20120328,       1433,    37.6102,   -68.3363,       4604,  4270.9,   2.2444,  34.8861,2,  34.8874,2,    265.9,2,   265.5,2,   31.42,2,   18.64,2,    0.00,2,    1.28,2,   1.145,2,   0.449,2,   0.063,2,    0.20,2,  2177.6,2, 2326.61,6,   7.7287,2,       25,    -999,9,     -999,9,    -999,9,   2.2439,2,    -999,9,    -999,9,    -999,    -999,9,    -999,    -999,1,    -999,9,    -999,9,  37.6092, -68.3362,    -999,     -999,    -999,   1.8721,   2.2439,2,-999,9,-999,-999,9,-999,    35.0519,2,-999,9,20120328,       1441
33AT20120324,        A22,      14,          1,          1,          1,2,20120328,       1433,    37.6102,   -68.3363,       4604,  4680.5,   2.2119,  34.8776,2,  34.8784,2,    259.1,2,   259.6,2,   38.38,2,   19.79,2,    0.00,2,    1.37,2,   0.789,2,   0.231,2,   0.035,2,    0.17,2,  2186.6,6, 2335.82,2,   7.7315,6,       25,    -999,9,     -999,9,    -999,9,   2.2118,2,    -999,9,    -999,9,    -999,    -999,9,    -999,    -999,1,    -999,9,    -999,9,  37.6102, -68.3363,    -999,     -999,    -999,   1.7917,   2.2118,2,-999,9,-999,-999,9,-999,    35.0429,2,-999,9,20120328,       1433