BOTTLE,20220725CCHSIOCBG
EXPOCODE,SECT_ID,STNNBR,CASTNO,SAMPNO,BTLNBR,BTLNBR_FLAG_W,DATE,TIME,LATITUDE,LONGITUDE,DEPTH,CTDPRS,CTDTMP,CTDSAL,CTDSAL_FLAG_W,SALNTY,SALNTY_FLAG_W,CTDOXY,CTDOXY_FLAG_W,OXYGEN,OXYGEN_FLAG_W,SILCAT,SILCAT_FLAG_W,NITRAT,NITRAT_FLAG_W,NITRIT,NITRIT_FLAG_W,PHSPHT,PHSPHT_FLAG_W,CFC-11,CFC-11_FLAG_W,CFC-12,CFC-12_FLAG_W,CFC113,CFC113_FLAG_W,SF6,SF6_FLAG_W,TCARBN,TCARBN_FLAG_W,ALKALI,ALKALI_FLAG_W,PH_TOT,PH_TOT_FLAG_W,PH_TMP,TRITUM,TRITUM_FLAG_W,HELIUM,HELIUM_FLAG_W,DELHE3,DELHE3_FLAG_W,REFTMP,REFTMP_FLAG_W,DELC13,DELC13_FLAG_W,DELC14,DELC14_FLAG_W,C14ERR,NEON,NEON_FLAG_W,NEONER,CCL4,CCL4_FLAG_W,DOC,DOC_FLAG_W,TDN,TDN_FLAG_W,BTL_LAT,BTL_LON,TRITER,HELIER,DELHER,THETA,SBE35,SBE35_FLAG_W,14C-DOC,14C-DOC_FLAG_W,14C-DOCERR,13C-DOC,13C-DOC_FLAG_W,13C-DOCERR,SALTREF,SALTREF_FLAG_W,LAB_DEN,LAB_DEN_FLAG_W,BTL_DATE,BTL_TIME
,,,,,,,,,,,METERS,DBAR,ITS-90,PSS-78,,PSS-78,,UMOL/KG,,UMOL/KG,,UMOL/KG,,UMOL/KG,,UMOL/KG,,UMOL/KG,,PMOL/KG,,PMOL/KG,,PMOL/KG,,FMOL/KG,,UMOL/KG,,UMOL/KG,,,,DEG C,TU,,NMOL/KG,,PERCNT,,DEG C,,/MILLE,,/MILLE,,/MILLE,NMOL/KG,,NMOL/KG,PMOL/KG,,UMOL/KG,,UMOL/KG,,,,TU,NMOL/KG,PERCNT,DEG C,ITS-90,,/MILLE,,/MILLE,/MILLE,,/MILLE,G/KG,,KG/M^3,,,
33AT20120324,        A22,      27,          1,          5,          5,2,20120401,       1348,    31.9063,   -65.0422,       3878,  2901.4,   2.7940,  34.9306,2,  34.9299,2,    262.8,2,   263.0,2,   22.47,2,   18.35,2,    0.00,2,    1.23,2,   0.607,2,   0.303,2,   0.025,2,    0.10,4,    -999,9,    -999,9,     -999,9,     -999,    -999,9,     -999,9,    -999,9,   2.7938,2,    -999,9,    -999,9,    -999,    -999,9,    -999,    0.68,2,   43.92,2,   20.92,2,  31.9053, -65.0394,    -999,     -999,    -999,   2.5578,   2.7938,2,-999,9,-999,-999,9,-999,    35.0947,2,-999,9,20120401,       1408
33AT20120324,        A22,      27,          1,          4,          4,2,20120401,       1348,    31.9063,   -65.0422,       3878,  3142.6,   2.5662,  34.9159,2,  34.9158,2,    265.3,2,   265.6,2,   23.61,2,   18.05,2,    0.00,2,    1.23,2,   0.714,2,   0.370,2,   0.034,2,    0.16,4,  2172.5,2, 2322.57,2,   7.7415,2,       25,    -999,9,     -999,9,    -999,9,   2.5666,2,    1.14,2,   -63.2,2,     2.3,    -999,9,    -999,    0.81,2,   43.28,2,   20.54,2,  31.9056, -65.0400,    -999,     -999,    -999,   2.3102,   2.5666,2,-404,2,4,-20.2,2,0.2,    35.0804,2,-999,9,20120401,       1404
33AT20120324,        A22,      27,          1,          3,          3,2,20120401,       1348,    31.9063,   -65.0422,       3878,  3448.6,   2.2461,  34.8940,2,  34.8924,2,    264.4,2,   264.8,2,   29.23,2,   18.57,2,    0.00,2,    1.27,2,   0.748,2,   0.392,2,   0.053,2,    0.00,4,    -999,9,    -999,9,     -999,9,     -999,    -999,9,     -999,9,    -999,9,   2.2467,2,    -999,9,    -999,9,    -999,    -999,9,    -999,    0.81,2,   42.51,2,   21.73,2,  31.9059, -65.0410,    -999,     -999,    -999,   1.9655,   2.2467,2,-999,9,-999,-999,9,-999,    35.0569,2,-999,9,20120401,       1358
33AT20120324,        A22,      27,          1,          2,          2,2,20120401,       1348,    31.9063,   -65.0422,       3878,  3682.0,   2.1996,  34.8878,2,  34.8896,2,    262.6,2,   263.1,2,   32.08,2,   18.99,2,    0.00,2,    1.30,2,   0.699,2,   0.374,2,   0.049,2,    0.36,4,  2187.4,3, 2329.53,6,   7.7350,2,       25,    -999,9,     -999,9,    -999,9,   2.1996,2,    1.05,2,   -71.0,2,     2.6,    -999,9,    -999,    0.73,2,   42.49,2,   22.35,2,  31.9061, -65.0417,    -999,     -999,    -999,   1.8951,   2.1996,2,-420,2,4,-20.9,2,0.2,    35.0541,2,-999,9,20120401,       1353
33AT20120324,        A22,      27,          1,          1,          1,2,20120401,       1348,    31.9063,   -65.0422,       3878,  3913.1,   2.1590,  34.8820,2,  34.8814,2,    261.2,2,   260.6,2,   35.39,2,   19.53,2,    0.00,2,    1.31,2,   0.613,2,   0.323,2,   0.053,2,    0.06,4,  2181.7,2, 2332.60,2,   7.7333,2,       25,    -999,9,     -999,9,    -999,9,   2.1588,2,    -999,9,    -999,9,    -999,    -999,9,    -999,    0.69,2,   43.27,2,   22.52,2,  31.9063, -65.0422,    -999,     -999,    -999,   1.8301,   2.1588,2,-999,9,-999,-999,9,-999,    35.0458,2,-999,9,20120401,       1348