BOTTLE,20220725CCHSIOCBG
EXPOCODE,SECT_ID,STNNBR,CASTNO,SAMPNO,BTLNBR,BTLNBR_FLAG_W,DATE,TIME,LATITUDE,LONGITUDE,DEPTH,CTDPRS,CTDTMP,CTDSAL,CTDSAL_FLAG_W,SALNTY,SALNTY_FLAG_W,CTDOXY,CTDOXY_FLAG_W,OXYGEN,OXYGEN_FLAG_W,SILCAT,SILCAT_FLAG_W,NITRAT,NITRAT_FLAG_W,NITRIT,NITRIT_FLAG_W,PHSPHT,PHSPHT_FLAG_W,CFC-11,CFC-11_FLAG_W,CFC-12,CFC-12_FLAG_W,CFC113,CFC113_FLAG_W,SF6,SF6_FLAG_W,TCARBN,TCARBN_FLAG_W,ALKALI,ALKALI_FLAG_W,PH_TOT,PH_TOT_FLAG_W,PH_TMP,TRITUM,TRITUM_FLAG_W,HELIUM,HELIUM_FLAG_W,DELHE3,DELHE3_FLAG_W,REFTMP,REFTMP_FLAG_W,DELC13,DELC13_FLAG_W,DELC14,DELC14_FLAG_W,C14ERR,NEON,NEON_FLAG_W,NEONER,CCL4,CCL4_FLAG_W,DOC,DOC_FLAG_W,TDN,TDN_FLAG_W,BTL_LAT,BTL_LON,TRITER,HELIER,DELHER,THETA,SBE35,SBE35_FLAG_W,14C-DOC,14C-DOC_FLAG_W,14C-DOCERR,13C-DOC,13C-DOC_FLAG_W,13C-DOCERR,SALTREF,SALTREF_FLAG_W,LAB_DEN,LAB_DEN_FLAG_W,BTL_DATE,BTL_TIME
,,,,,,,,,,,METERS,DBAR,ITS-90,PSS-78,,PSS-78,,UMOL/KG,,UMOL/KG,,UMOL/KG,,UMOL/KG,,UMOL/KG,,UMOL/KG,,PMOL/KG,,PMOL/KG,,PMOL/KG,,FMOL/KG,,UMOL/KG,,UMOL/KG,,,,DEG C,TU,,NMOL/KG,,PERCNT,,DEG C,,/MILLE,,/MILLE,,/MILLE,NMOL/KG,,NMOL/KG,PMOL/KG,,UMOL/KG,,UMOL/KG,,,,TU,NMOL/KG,PERCNT,DEG C,ITS-90,,/MILLE,,/MILLE,/MILLE,,/MILLE,G/KG,,KG/M^3,,,
33AT20120324,        A22,      61,          1,          3,          3,2,20120410,       0336,    17.6302,   -66.0003,       2502,  2156.6,   4.0997,  34.9741,2,  34.9750,2,    217.1,2,   217.7,2,   26.64,2,   21.71,2,    0.00,2,    1.48,2,   0.154,2,   0.093,2,   0.009,2,    0.14,4,    -999,9,    -999,9,     -999,9,     -999,    -999,9,     -999,9,    -999,9,   4.0993,2,    -999,9,    -999,9,    -999,    -999,9,    -999,    0.24,2,   40.75,2,   24.23,2,  17.6303, -66.0003,    -999,     -999,    -999,   3.9150,   4.0993,2,-999,9,-999,-999,9,-999,    35.1399,2,-999,9,20120410,        345
33AT20120324,        A22,      61,          1,          2,          2,2,20120410,       0336,    17.6302,   -66.0003,       2502,  2339.5,   4.1097,  34.9743,2,  34.9756,2,    219.6,2,   220.1,2,   25.85,2,   21.45,2,    0.00,2,    1.46,2,   0.235,2,   0.140,2,   0.012,2,    0.07,4,  2194.4,2, 2333.08,6,   7.7117,6,       25,    -999,9,     -999,9,    -999,9,   4.1098,2,    -999,9,    -999,9,    -999,    -999,9,    -999,    0.32,2,   40.94,2,   24.27,2,  17.6302, -66.0003,    -999,     -999,    -999,   3.9062,   4.1098,2,-999,9,-999,-999,9,-999,    35.1405,2,-999,9,20120410,        341
33AT20120324,        A22,      61,          1,          1,          1,2,20120410,       0336,    17.6302,   -66.0003,       2502,  2522.5,   4.1207,  34.9742,2,  34.9750,2,    217.2,2,   217.3,2,   27.13,2,   21.74,2,    0.00,2,    1.48,2,   0.145,2,   0.091,2,   0.012,2,    0.18,4,  2196.6,6, 2335.28,2,   7.7108,2,       25,    -999,9,     -999,9,    -999,9,   4.1201,2,    -999,9,    -999,9,    -999,    -999,9,    -999,    0.24,2,   40.53,2,   24.42,2,  17.6302, -66.0003,    -999,     -999,    -999,   3.8978,   4.1201,2,-999,9,-999,-999,9,-999,    35.1399,2,-999,9,20120410,        337