BOTTLE,20220725CCHSIOCBG
EXPOCODE,SECT_ID,STNNBR,CASTNO,SAMPNO,BTLNBR,BTLNBR_FLAG_W,DATE,TIME,LATITUDE,LONGITUDE,DEPTH,CTDPRS,CTDTMP,CTDSAL,CTDSAL_FLAG_W,SALNTY,SALNTY_FLAG_W,CTDOXY,CTDOXY_FLAG_W,OXYGEN,OXYGEN_FLAG_W,SILCAT,SILCAT_FLAG_W,NITRAT,NITRAT_FLAG_W,NITRIT,NITRIT_FLAG_W,PHSPHT,PHSPHT_FLAG_W,CFC-11,CFC-11_FLAG_W,CFC-12,CFC-12_FLAG_W,CFC113,CFC113_FLAG_W,SF6,SF6_FLAG_W,TCARBN,TCARBN_FLAG_W,ALKALI,ALKALI_FLAG_W,PH_TOT,PH_TOT_FLAG_W,PH_TMP,TRITUM,TRITUM_FLAG_W,HELIUM,HELIUM_FLAG_W,DELHE3,DELHE3_FLAG_W,REFTMP,REFTMP_FLAG_W,DELC13,DELC13_FLAG_W,DELC14,DELC14_FLAG_W,C14ERR,NEON,NEON_FLAG_W,NEONER,CCL4,CCL4_FLAG_W,DOC,DOC_FLAG_W,TDN,TDN_FLAG_W,BTL_LAT,BTL_LON,TRITER,HELIER,DELHER,THETA,SBE35,SBE35_FLAG_W,14C-DOC,14C-DOC_FLAG_W,14C-DOCERR,13C-DOC,13C-DOC_FLAG_W,13C-DOCERR,SALTREF,SALTREF_FLAG_W,LAB_DEN,LAB_DEN_FLAG_W,BTL_DATE,BTL_TIME
,,,,,,,,,,,METERS,DBAR,ITS-90,PSS-78,,PSS-78,,UMOL/KG,,UMOL/KG,,UMOL/KG,,UMOL/KG,,UMOL/KG,,UMOL/KG,,PMOL/KG,,PMOL/KG,,PMOL/KG,,FMOL/KG,,UMOL/KG,,UMOL/KG,,,,DEG C,TU,,NMOL/KG,,PERCNT,,DEG C,,/MILLE,,/MILLE,,/MILLE,NMOL/KG,,NMOL/KG,PMOL/KG,,UMOL/KG,,UMOL/KG,,,,TU,NMOL/KG,PERCNT,DEG C,ITS-90,,/MILLE,,/MILLE,/MILLE,,/MILLE,G/KG,,KG/M^3,,,
33AT20120324,        A22,      40,          1,         36,         36,2,20120405,       2017,    22.9248,   -65.8366,       5838,     3.6,  24.3466,  36.3600,2,  36.3602,2,    210.6,2,   210.8,2,    0.76,2,    0.00,2,    0.00,2,    0.00,2,   1.752,2,   1.008,2,   0.148,2,    1.28,2,  2038.5,6, 2382.65,4,   8.1046,2,       25,   0.472,2,   1.7143,2,   -1.23,2,  24.3478,2,    -999,9,    -999,9,    -999,   6.754,2,   0.030,    -999,1,    -999,9,    -999,9,  22.9167, -65.8398,   0.009,   0.0069,    0.15,  24.3458,  24.3478,2,-999,9,-999,-999,9,-999,    36.5316,2,-999,9,20120405,       2247
33AT20120324,        A22,      40,          1,         35,         35,2,20120405,       2017,    22.9248,   -65.8366,       5838,    21.7,  24.0359,  36.5714,2,  36.5274,2,    212.2,2,   210.9,2,    0.65,2,    0.00,2,    0.00,2,    0.00,2,   1.789,2,   1.103,2,   0.150,2,    1.29,2,  2047.7,2,    -999,9,     -999,9,     -999,    -999,9,     -999,9,    -999,9,  24.0597,2,    -999,9,    -999,9,    -999,    -999,9,    -999,    -999,1,    -999,9,    -999,9,  22.9168, -65.8398,    -999,     -999,    -999,  24.0313,  24.0597,2,-999,9,-999,-999,9,-999,    36.6996,2,-999,9,20120405,       2245
33AT20120324,        A22,      40,          1,         34,         34,2,20120405,       2017,    22.9248,   -65.8366,       5838,    39.7,  23.4767,  36.8081,2,  36.8066,2,    216.0,2,   215.2,2,    0.35,2,    0.00,2,    0.00,2,    0.00,2,   1.833,2,   1.182,2,   0.147,2,    1.27,2,  2064.0,2, 2408.56,2,   8.0951,2,       25,    -999,9,     -999,9,    -999,9,  23.4312,3,    -999,9,    -999,9,    -999,    -999,9,    -999,    -999,1,    -999,9,    -999,9,  22.9168, -65.8397,    -999,     -999,    -999,  23.4684,  23.4312,3,-999,9,-999,-999,9,-999,    36.9801,2,-999,9,20120405,       2244
33AT20120324,        A22,      40,          1,         33,         33,2,20120405,       2017,    22.9248,   -65.8366,       5838,    64.7,  22.7348,  36.8531,2,  36.8522,2,    217.9,2,   217.7,2,    0.24,2,    0.00,2,    0.00,2,    0.00,2,   1.887,2,   1.094,2,   0.162,2,    1.36,2,  2073.1,2, 2410.44,2,     -999,9,     -999,   0.523,2,   1.7326,2,   -1.42,2,  22.7361,2,    -999,9,    -999,9,    -999,   6.909,2,   0.031,    -999,1,    -999,9,    -999,9,  22.9169, -65.8397,   0.009,   0.0069,    0.15,  22.7216,  22.7361,2,-999,9,-999,-999,9,-999,    37.0260,2,-999,9,20120405,       2241
33AT20120324,        A22,      40,          1,         32,         32,2,20120405,       2017,    22.9248,   -65.8366,       5838,    90.0,  22.5090,  36.8235,2,  36.8276,2,    217.4,2,   216.4,2,    0.26,2,    0.00,2,    0.00,2,    0.00,2,   1.889,2,   1.216,2,   0.155,2,    1.33,2,  2072.5,2, 2408.26,2,   8.0841,2,       25,    -999,9,     -999,9,    -999,9,  22.4912,2,    -999,9,    -999,9,    -999,    -999,9,    -999,    -999,1,    -999,9,    -999,9,  22.9170, -65.8397,    -999,     -999,    -999,  22.4908,  22.4912,2,-999,9,-999,-999,9,-999,    37.0013,2,-999,9,20120405,       2239
33AT20120324,        A22,      40,          1,         31,         31,2,20120405,       2017,    22.9248,   -65.8366,       5838,   136.9,  20.3010,  36.7470,2,  36.7502,2,    197.3,2,   196.6,2,    0.29,2,    0.52,2,    0.04,2,    0.00,2,   2.093,2,   1.324,2,   0.102,2,    1.31,2,  2112.1,2,    -999,9,     -999,9,     -999,   0.515,2,   1.7309,2,   -1.03,2,  20.3119,2,    -999,9,    -999,9,    -999,   6.980,2,   0.031,    -999,1,    -999,9,    -999,9,  22.9172, -65.8396,   0.009,   0.0069,    0.15,  20.2752,  20.3119,2,-999,9,-999,-999,9,-999,    36.9235,2,-999,9,20120405,       2236
33AT20120324,        A22,      40,          1,         30,         30,2,20120405,       2017,    22.9248,   -65.8366,       5838,   187.2,  18.9634,  36.6516,2,  36.6511,2,    190.5,2,   192.3,2,    0.60,2,    2.65,2,    0.01,2,    0.08,2,   2.205,2,   1.395,2,   0.034,2,    1.31,2,  2120.0,2, 2395.94,2,   7.9851,2,       25,    -999,9,     -999,9,    -999,9,  18.9550,2,    -999,9,    -999,9,    -999,    -999,9,    -999,    -999,1,    -999,9,    -999,9,  22.9174, -65.8395,    -999,     -999,    -999,  18.9297,  18.9550,2,-999,9,-999,-999,9,-999,    36.8239,2,-999,9,20120405,       2234
33AT20120324,        A22,      40,          1,         29,         29,2,20120405,       2017,    22.9248,   -65.8366,       5838,   236.8,  18.3460,  36.5926,2,  36.5900,2,    196.2,2,   199.2,2,    0.83,2,    3.78,2,    0.00,2,    0.15,2,   2.262,2,   1.429,2,   0.037,2,    1.27,2,    -999,9,    -999,9,     -999,9,     -999,   0.496,2,   1.7255,2,   -0.15,2,  18.3451,2,    -999,9,    -999,9,    -999,   7.062,2,   0.032,    -999,1,    -999,9,    -999,9,  22.9175, -65.8395,   0.009,   0.0069,    0.15,  18.3043,  18.3451,2,-999,9,-999,-999,9,-999,    36.7626,2,-999,9,20120405,       2232
33AT20120324,        A22,      40,          1,         28,         28,2,20120405,       2017,    22.9248,   -65.8366,       5838,   287.1,  18.0524,  36.5576,2,  36.5589,2,    198.6,2,   200.0,2,    1.03,2,    4.26,2,    0.00,2,    0.19,2,   2.294,2,   1.438,2,   0.034,2,    1.24,2,  2118.1,2, 2390.35,2,   7.9791,2,       25,    -999,9,     -999,9,    -999,9,  18.0531,2,    -999,9,    -999,9,    -999,    -999,9,    -999,    -999,1,    -999,9,    -999,9,  22.9176, -65.8394,    -999,     -999,    -999,  18.0024,  18.0531,2,-999,9,-999,-999,9,-999,    36.7313,2,-999,9,20120405,       2230
33AT20120324,        A22,      40,          1,         27,         27,2,20120405,       2017,    22.9248,   -65.8366,       5838,   338.6,  17.7613,  36.5099,2,  36.5106,2,    198.6,2,   197.9,2,    1.24,2,    4.95,2,    0.00,2,    0.23,2,   2.308,2,   1.433,2,   0.027,2,    1.24,2,    -999,9,    -999,9,     -999,9,     -999,   0.505,2,   1.7327,2,    0.24,2,  17.7626,2,    -999,9,    -999,9,    -999,   7.097,2,   0.032,    -999,1,    -999,9,    -999,9,  22.9177, -65.8394,   0.009,   0.0069,    0.15,  17.7029,  17.7626,2,-999,9,-999,-999,9,-999,    36.6827,2,-999,9,20120405,       2228
33AT20120324,        A22,      40,          1,         26,         26,2,20120405,       2017,    22.9248,   -65.8366,       5838,   388.9,  17.2249,  36.4109,2,  36.4093,2,    192.7,2,   192.5,2,    1.70,2,    6.38,2,    0.00,2,    0.32,2,   2.332,2,   1.430,2,   0.031,2,    1.09,2,  2127.5,2, 2380.95,2,   7.9463,2,       25,    -999,9,     -999,9,    -999,9,  17.2278,2,    -999,9,    -999,9,    -999,    -999,9,    -999,    -999,1,    -999,9,    -999,9,  22.9178, -65.8393,    -999,     -999,    -999,  17.1592,  17.2278,2,-999,9,-999,-999,9,-999,    36.5810,2,-999,9,20120405,       2227
33AT20120324,        A22,      40,          1,         25,         25,2,20120405,       2017,    22.9248,   -65.8366,       5838,   466.9,  15.7486,  36.1435,2,  36.1548,2,    178.5,2,   178.9,2,    3.08,2,    9.89,2,    0.00,2,    0.55,2,   2.337,2,   1.396,2,   0.029,2,    0.97,2,    -999,9,    -999,9,     -999,9,     -999,   0.511,2,   1.7433,2,    2.22,2,  15.7453,2,    -999,9,    -999,9,    -999,   7.146,2,   0.032,    -999,1,    -999,9,    -999,9,  22.9179, -65.8393,   0.009,   0.0070,    0.15,  15.6743,  15.7453,2,-999,9,-999,-999,9,-999,    36.3253,2,-999,9,20120405,       2224
33AT20120324,        A22,      40,          1,         24,         24,2,20120405,       2017,    22.9248,   -65.8366,       5838,   570.6,  13.4280,  35.7703,2,  35.7735,2,    163.4,2,   163.1,2,    5.79,2,   15.20,2,    0.00,2,    0.90,2,   2.108,2,   1.201,2,   0.027,2,    0.77,2,  2163.3,2, 2347.88,2,   7.8152,6,       25,   0.483,2,   1.7497,2,    4.78,2,  13.4720,3,    -999,9,    -999,9,    -999,   7.304,2,   0.033,    -999,1,    -999,9,    -999,9,  22.9181, -65.8392,   0.009,   0.0070,    0.15,  13.3462,  13.4720,3,-999,9,-999,-999,9,-999,    35.9422,2,-999,9,20120405,       2222
33AT20120324,        A22,      40,          1,         23,         23,2,20120405,       2017,    22.9248,   -65.8366,       5838,   670.9,  10.9993,  35.4311,2,  35.4362,2,    145.3,2,   146.6,2,    9.97,2,   21.00,2,    0.00,2,    1.30,2,   1.482,2,   0.800,2,   0.015,2,    0.39,2,  2184.2,2, 2331.57,2,     -999,9,     -999,   0.386,2,   1.7730,2,    7.36,2,  10.9925,2,    -999,9,    -999,9,    -999,   7.472,2,   0.034,    -999,1,    -999,9,    -999,9,  22.9183, -65.8392,   0.009,   0.0071,    0.15,  10.9144,  10.9925,2,-999,9,-999,-999,9,-999,    35.6033,2,-999,9,20120405,       2219
33AT20120324,        A22,      40,          1,         22,         22,2,20120405,       2017,    22.9248,   -65.8366,       5838,   770.0,   9.1495,  35.1925,2,  35.1962,2,    139.4,2,   139.1,2,   14.18,2,   25.06,2,    0.00,2,    1.58,2,   0.927,2,   0.473,2,   0.009,2,    0.25,2,  2196.4,6, 2322.07,2,   7.6763,2,       25,   0.274,2,   1.7950,2,    6.91,2,   9.1635,2,    -999,9,    -999,9,    -999,   7.563,2,   0.034,    -999,1,    -999,9,    -999,9,  22.9184, -65.8391,   0.009,   0.0072,    0.15,   9.0620,   9.1635,2,-999,9,-999,-999,9,-999,    35.3621,2,-999,9,20120405,       2216
33AT20120324,        A22,      40,          1,         21,         21,2,20120405,       2017,    22.9248,   -65.8366,       5838,   869.9,   7.7004,  35.0596,2,  35.0623,2,    147.0,2,   146.4,2,   17.11,2,   26.50,2,    0.00,2,    1.72,2,   0.633,2,   0.305,2,   0.008,2,    0.15,2,  2202.9,2, 2319.68,2,     -999,9,     -999,   0.181,2,   1.8007,2,    5.80,2,   7.7012,2,    -999,9,    -999,9,    -999,   7.626,2,   0.034,    -999,1,    -999,9,    -999,9,  22.9186, -65.8390,   0.009,   0.0072,    0.15,   7.6104,   7.7012,2,-999,9,-999,-999,9,-999,    35.2276,2,-999,9,20120405,       2214
33AT20120324,        A22,      40,          1,         20,         20,2,20120405,       2017,    22.9248,   -65.8366,       5838,   973.2,   6.5478,  35.0199,2,  35.0194,2,    164.3,2,   167.5,2,   17.99,2,   25.49,2,    0.00,2,    1.67,2,   0.574,2,   0.289,2,   0.010,2,    0.13,2,  2198.9,2, 2318.95,2,   7.6637,2,       25,   0.154,2,     -999,9,    -999,9,   6.5517,2,    -999,9,    -999,9,    -999,    -999,9,    -999,    -999,1,    -999,9,    -999,9,  22.9188, -65.8390,   0.009,     -999,    -999,   6.4548,   6.5517,2,-999,9,-999,-999,9,-999,    35.1845,2,-999,9,20120405,       2211
33AT20120324,        A22,      40,          1,         19,         19,2,20120405,       2017,    22.9248,   -65.8366,       5838,  1074.2,   6.0092,  35.0459,2,  35.0469,2,    194.5,2,   190.9,2,   16.36,2,   23.03,2,    0.00,2,    1.52,2,   0.753,2,   0.365,2,   0.019,2,    0.14,2,    -999,9,    -999,9,     -999,9,     -999,   0.200,2,   1.8143,2,    6.21,2,   6.0148,2,    -999,9,    -999,9,    -999,   7.838,2,   0.035,    -999,1,    -999,9,    -999,9,  22.9190, -65.8389,   0.009,   0.0073,    0.15,   5.9100,   6.0148,2,-999,9,-999,-999,9,-999,    35.2122,2,-999,9,20120405,       2208
33AT20120324,        A22,      40,          1,         18,         18,2,20120405,       2017,    22.9248,   -65.8366,       5838,  1173.9,   5.4852,  35.0632,2,  35.0633,2,    218.7,2,   218.3,2,   13.76,2,   20.30,2,    0.00,2,    1.34,2,   1.310,2,   0.672,2,   0.043,2,    0.31,2,  2178.4,2, 2317.64,2,   7.7108,2,       25,   0.293,2,   1.8325,2,    7.29,2,   5.4899,2,    -999,9,    -999,9,    -999,   7.923,2,   0.036,    -999,1,    -999,9,    -999,9,  22.9191, -65.8388,   0.008,   0.0073,    0.15,   5.3806,   5.4899,2,-999,9,-999,-999,9,-999,    35.2286,2,-999,9,20120405,       2205
33AT20120324,        A22,      40,          1,         17,         17,2,20120405,       2017,    22.9248,   -65.8366,       5838,  1275.5,   4.9748,  35.0477,2,  35.0479,2,    233.4,2,   233.1,2,   13.44,2,   19.36,2,    0.00,2,    1.28,2,   1.285,2,   0.642,2,   0.045,2,    0.29,2,    -999,9,    -999,9,     -999,9,     -999,    -999,9,   1.8329,2,    7.35,2,   4.9753,2,    -999,9,    -999,9,    -999,   7.923,2,   0.036,    -999,1,    -999,9,    -999,9,  22.9194, -65.8387,    -999,   0.0073,    0.15,   4.8651,   4.9753,2,-999,9,-999,-999,9,-999,    35.2132,2,-999,9,20120405,       2202
33AT20120324,        A22,      40,          1,         16,         16,2,20120405,       2017,    22.9248,   -65.8366,       5838,  1377.1,   4.7719,  35.0520,2,  35.0515,2,    240.6,2,   239.4,2,   13.28,2,   18.89,2,    0.00,2,    1.25,2,   1.180,2,   0.601,2,   0.047,2,    0.25,2,  2171.1,2, 2317.55,2,   7.7321,2,       25,   0.264,2,   1.8448,2,    7.35,2,   4.7663,2,    -999,9,    -999,9,    -999,   8.013,2,   0.036,    -999,1,    -999,9,    -999,9,  22.9195, -65.8387,   0.009,   0.0074,    0.15,   4.6546,   4.7663,2,-999,9,-999,-999,9,-999,    35.2168,2,-999,9,20120405,       2159
33AT20120324,        A22,      40,          1,         15,         15,2,20120405,       2017,    22.9248,   -65.8366,       5838,  1550.5,   4.2772,  35.0182,2,  35.0200,2,    249.2,2,   250.3,2,   13.62,2,   18.45,2,    0.00,2,    1.22,2,   1.174,2,   0.592,2,   0.050,2,    0.19,2,    -999,9,    -999,9,     -999,9,     -999,    -999,9,   1.8569,2,    7.23,2,   4.2771,2,    -999,9,    -999,9,    -999,   8.006,2,   0.036,    -999,1,    -999,9,    -999,9,  22.9198, -65.8386,    -999,   0.0074,    0.15,   4.1490,   4.2771,2,-999,9,-999,-999,9,-999,    35.1851,2,-999,9,20120405,       2155
33AT20120324,        A22,      40,          1,         14,         14,2,20120405,       2017,    22.9248,   -65.8366,       5838,  1749.5,   3.9006,  34.9927,2,  34.9926,2,    255.0,2,   256.3,2,   14.49,2,   18.22,2,    0.00,2,    1.22,2,   1.044,2,   0.516,2,   0.044,2,    0.17,2,  2164.5,2, 2314.60,2,   7.7379,2,       25,   0.221,2,   1.8589,2,    6.53,2,   3.8998,2,    -999,9,    -999,9,    -999,   8.000,2,   0.036,    -999,1,    -999,9,    -999,9,  22.9201, -65.8384,   0.009,   0.0074,    0.15,   3.7584,   3.8998,2,-999,9,-999,-999,9,-999,    35.1576,2,-999,9,20120405,       2150
33AT20120324,        A22,      40,          1,         13,         13,2,20120405,       2017,    22.9248,   -65.8366,       5838,  1954.1,   3.6434,  34.9818,2,     -999,5,    258.3,2,   258.3,2,   16.46,2,   18.31,2,    0.00,2,    1.23,2,   0.834,2,   0.400,2,   0.029,2,    0.07,2,    -999,9,    -999,9,     -999,9,     -999,   0.173,2,   1.8867,2,    5.33,2,   3.6454,2,    -999,9,    -999,9,    -999,   8.234,2,   0.037,    -999,1,    -999,9,    -999,9,  22.9204, -65.8383,   0.010,   0.0075,    0.15,   3.4855,   3.6454,2,-999,9,-999,-999,9,-999,       -999,5,-999,9,20120405,       2146
33AT20120324,        A22,      40,          1,         12,         12,2,20120405,       2017,    22.9248,   -65.8366,       5838,  2186.5,   3.3662,  34.9673,2,  34.9676,2,    259.5,2,   258.6,2,   18.76,2,   18.36,2,    0.00,2,    1.24,2,   0.655,2,   0.313,2,   0.015,2,    0.10,2,  2164.5,2, 2318.80,2,   7.7439,2,       25,   0.122,2,   1.8494,2,    4.89,2,   3.3652,2,    -999,9,    -999,9,    -999,   8.085,2,   0.036,    -999,1,    -999,9,    -999,9,  22.9207, -65.8382,   0.008,   0.0074,    0.15,   3.1903,   3.3652,2,-999,9,-999,-999,9,-999,    35.1325,2,-999,9,20120405,       2141
33AT20120324,        A22,      40,          1,         11,         11,2,20120405,       2017,    22.9248,   -65.8366,       5838,  2443.5,   3.1328,  34.9567,2,  34.9560,2,    257.4,2,   257.8,2,   22.03,2,   18.71,2,    0.00,2,    1.27,2,   0.465,2,   0.220,2,   0.017,2,    0.10,2,    -999,9,    -999,9,     -999,9,     -999,   0.088,2,   1.8779,2,    4.21,2,   3.1322,2,    -999,9,    -999,9,    -999,   8.154,2,   0.037,    -999,1,    -999,9,    -999,9,  22.9211, -65.8380,   0.009,   0.0075,    0.15,   2.9359,   3.1322,2,-999,9,-999,-999,9,-999,    35.1209,2,-999,9,20120405,       2135
33AT20120324,        A22,      40,          1,         10,         10,2,20120405,       2017,    22.9248,   -65.8366,       5838,  2697.2,   2.9237,  34.9437,2,  34.9444,2,    257.0,2,   257.4,2,   25.42,2,   19.03,2,    0.00,2,    1.29,2,   0.331,2,   0.155,2,   0.013,2,    0.08,2,  2170.9,2, 2325.60,2,   7.7471,6,       25,    -999,9,     -999,9,    -999,9,   2.9234,2,    -999,9,    -999,9,    -999,    -999,9,    -999,    -999,1,    -999,9,    -999,9,  22.9215, -65.8379,    -999,     -999,    -999,   2.7056,   2.9234,2,-999,9,-999,-999,9,-999,    35.1092,2,-999,9,20120405,       2130
33AT20120324,        A22,      40,          1,          9,          9,2,20120405,       2017,    22.9248,   -65.8366,       5838,  2952.9,   2.7550,  34.9309,2,  34.9312,2,    258.8,2,   258.9,2,   26.65,2,   19.06,2,    0.00,2,    1.30,2,   0.370,2,   0.181,2,   0.014,2,    0.08,2,    -999,9,    -999,9,     -999,9,     -999,   0.092,2,   1.8597,2,    4.19,2,   2.7550,2,    -999,9,    -999,9,    -999,   8.072,2,   0.036,    -999,1,    -999,9,    -999,9,  22.9219, -65.8377,   0.008,   0.0074,    0.15,   2.5144,   2.7550,2,-999,9,-999,-999,9,-999,    35.0960,2,-999,9,20120405,       2125
33AT20120324,        A22,      40,          1,          8,          8,2,20120405,       2017,    22.9248,   -65.8366,       5838,  3245.7,   2.5680,  34.9170,2,  34.9171,2,    261.6,2,   261.8,2,   27.71,2,   18.89,2,    0.00,2,    1.29,2,   0.433,2,   0.197,2,   0.016,2,    0.06,2,  2170.9,2, 2326.09,2,   7.7439,2,       25,    -999,9,     -999,9,    -999,9,   2.5686,2,    -999,9,    -999,9,    -999,    -999,9,    -999,    -999,1,    -999,9,    -999,9,  22.9222, -65.8376,    -999,     -999,    -999,   2.3011,   2.5686,2,-999,9,-999,-999,9,-999,    35.0817,2,-999,9,20120405,       2119
33AT20120324,        A22,      40,          1,          7,          7,2,20120405,       2017,    22.9248,   -65.8366,       5838,  3550.5,   2.4245,  34.9057,2,  34.9051,2,    265.4,2,   265.8,2,   26.96,2,   18.42,2,    0.00,2,    1.26,2,   0.699,2,   0.333,2,   0.034,2,    0.06,2,    -999,9,    -999,9,     -999,9,     -999,    -999,9,     -999,9,    -999,9,   2.4245,2,    -999,9,    -999,9,    -999,    -999,9,    -999,    -999,1,    -999,9,    -999,9,  22.9225, -65.8375,    -999,     -999,    -999,   2.1285,   2.4245,2,-999,9,-999,-999,9,-999,    35.0697,2,-999,9,20120405,       2113
33AT20120324,        A22,      40,          1,          6,          6,2,20120405,       2017,    22.9248,   -65.8366,       5838,  3922.9,   2.3307,  34.8969,2,  34.8968,2,    265.9,2,   266.3,2,   28.40,2,   18.43,2,    0.00,2,    1.26,2,   0.766,2,   0.372,2,   0.048,2,    0.06,2,  2172.6,2, 2325.95,2,   7.7386,2,       25,   0.173,2,   1.8748,2,    5.47,2,   2.3304,2,    -999,9,    -999,9,    -999,   8.274,2,   0.037,    -999,1,    -999,9,    -999,9,  22.9228, -65.8374,   0.009,   0.0075,    0.15,   1.9959,   2.3304,2,-999,9,-999,-999,9,-999,    35.0614,2,-999,9,20120405,       2105