BOTTLE,20220725CCHSIOCBG
EXPOCODE,SECT_ID,STNNBR,CASTNO,SAMPNO,BTLNBR,BTLNBR_FLAG_W,DATE,TIME,LATITUDE,LONGITUDE,DEPTH,CTDPRS,CTDTMP,CTDSAL,CTDSAL_FLAG_W,SALNTY,SALNTY_FLAG_W,CTDOXY,CTDOXY_FLAG_W,OXYGEN,OXYGEN_FLAG_W,SILCAT,SILCAT_FLAG_W,NITRAT,NITRAT_FLAG_W,NITRIT,NITRIT_FLAG_W,PHSPHT,PHSPHT_FLAG_W,CFC-11,CFC-11_FLAG_W,CFC-12,CFC-12_FLAG_W,CFC113,CFC113_FLAG_W,SF6,SF6_FLAG_W,TCARBN,TCARBN_FLAG_W,ALKALI,ALKALI_FLAG_W,PH_TOT,PH_TOT_FLAG_W,PH_TMP,TRITUM,TRITUM_FLAG_W,HELIUM,HELIUM_FLAG_W,DELHE3,DELHE3_FLAG_W,REFTMP,REFTMP_FLAG_W,DELC13,DELC13_FLAG_W,DELC14,DELC14_FLAG_W,C14ERR,NEON,NEON_FLAG_W,NEONER,CCL4,CCL4_FLAG_W,DOC,DOC_FLAG_W,TDN,TDN_FLAG_W,BTL_LAT,BTL_LON,TRITER,HELIER,DELHER,THETA,SBE35,SBE35_FLAG_W,14C-DOC,14C-DOC_FLAG_W,14C-DOCERR,13C-DOC,13C-DOC_FLAG_W,13C-DOCERR,SALTREF,SALTREF_FLAG_W,LAB_DEN,LAB_DEN_FLAG_W,BTL_DATE,BTL_TIME
,,,,,,,,,,,METERS,DBAR,ITS-90,PSS-78,,PSS-78,,UMOL/KG,,UMOL/KG,,UMOL/KG,,UMOL/KG,,UMOL/KG,,UMOL/KG,,PMOL/KG,,PMOL/KG,,PMOL/KG,,FMOL/KG,,UMOL/KG,,UMOL/KG,,,,DEG C,TU,,NMOL/KG,,PERCNT,,DEG C,,/MILLE,,/MILLE,,/MILLE,NMOL/KG,,NMOL/KG,PMOL/KG,,UMOL/KG,,UMOL/KG,,,,TU,NMOL/KG,PERCNT,DEG C,ITS-90,,/MILLE,,/MILLE,/MILLE,,/MILLE,G/KG,,KG/M^3,,,
33AT20120324,        A22,      41,          1,          5,          5,2,20120406,       0423,    22.2308,   -65.8925,       5760,  4366.9,   2.2798,  34.8898,2,  34.8896,2,    263.7,2,   265.5,4,   31.95,2,   18.85,2,    0.00,2,    1.31,2,   0.570,2,   0.293,2,   0.032,2,    0.00,4,    -999,9,    -999,9,     -999,9,     -999,    -999,9,     -999,9,    -999,9,   2.2800,2,    -999,9,    -999,9,    -999,    -999,9,    -999,    0.78,2,   41.69,2,   22.85,2,  22.2313, -65.8928,    -999,     -999,    -999,   1.8951,   2.2800,2,-999,9,-999,-999,9,-999,    35.0541,2,-999,9,20120406,        452
33AT20120324,        A22,      41,          1,          4,          4,2,20120406,       0423,    22.2308,   -65.8925,       5760,  4770.6,   2.2572,  34.8826,2,  34.8823,2,    260.4,2,   260.6,2,   36.16,2,   19.56,2,    0.00,2,    1.36,2,   0.409,2,   0.221,2,   0.027,2,    0.00,4,  2180.4,2, 2333.22,2,   7.7364,2,       25,    -999,9,     -999,9,    -999,9,   2.2576,2,    -999,9,    -999,9,    -999,    -999,9,    -999,    0.56,2,   41.98,2,   22.24,2,  22.2312, -65.8927,    -999,     -999,    -999,   1.8245,   2.2576,2,-999,9,-999,-999,9,-999,    35.0468,2,-999,9,20120406,        444
33AT20120324,        A22,      41,          1,          3,          3,2,20120406,       0423,    22.2308,   -65.8925,       5760,  5188.2,   2.1230,  34.8600,2,  34.8601,2,    253.1,2,   252.4,2,   48.47,2,   21.40,2,    0.00,2,    1.49,2,   0.162,2,   0.097,2,   0.012,2,    0.06,4,  2192.5,2, 2341.40,2,   7.7247,2,       25,    -999,9,     -999,9,    -999,9,   2.1228,2,    -999,9,    -999,9,    -999,    -999,9,    -999,    0.29,2,   41.41,2,   25.01,2,  22.2310, -65.8926,    -999,     -999,    -999,   1.6426,   2.1228,2,-999,9,-999,-999,9,-999,    35.0245,2,-999,9,20120406,        436
33AT20120324,        A22,      41,          1,          2,          2,2,20120406,       0423,    22.2308,   -65.8925,       5760,  5520.1,   2.0576,  34.8465,2,  34.8469,2,    247.4,2,   248.5,2,   54.87,2,   22.58,2,    0.00,2,    1.57,2,   0.116,2,   0.073,2,   0.011,2,    0.00,4,  2200.5,2, 2345.14,6,   7.7160,6,       25,    -999,9,     -999,9,    -999,9,   2.0580,2,    -999,9,    -999,9,    -999,    -999,9,    -999,    0.24,2,   41.54,2,   26.07,2,  22.2309, -65.8926,    -999,     -999,    -999,   1.5367,   2.0580,2,-999,9,-999,-999,9,-999,    35.0112,2,-999,9,20120406,        430
33AT20120324,        A22,      41,          1,          1,          1,2,20120406,       0423,    22.2308,   -65.8925,       5760,  5837.7,   2.0782,  34.8428,2,  34.8428,2,    247.6,2,   247.6,2,   56.53,2,   22.81,2,    0.00,2,    1.59,2,   0.121,2,   0.076,2,   0.011,2,    0.00,4,  2203.3,6, 2348.62,2,   7.7150,2,       25,    -999,9,     -999,9,    -999,9,   2.0786,2,    -999,9,    -999,9,    -999,    -999,9,    -999,    0.26,2,   42.11,2,   25.75,2,  22.2308, -65.8925,    -999,     -999,    -999,   1.5144,   2.0786,2,-999,9,-999,-999,9,-999,    35.0071,2,-999,9,20120406,        423