BOTTLE,20220725CCHSIOCBG
EXPOCODE,SECT_ID,STNNBR,CASTNO,SAMPNO,BTLNBR,BTLNBR_FLAG_W,DATE,TIME,LATITUDE,LONGITUDE,DEPTH,CTDPRS,CTDTMP,CTDSAL,CTDSAL_FLAG_W,SALNTY,SALNTY_FLAG_W,CTDOXY,CTDOXY_FLAG_W,OXYGEN,OXYGEN_FLAG_W,SILCAT,SILCAT_FLAG_W,NITRAT,NITRAT_FLAG_W,NITRIT,NITRIT_FLAG_W,PHSPHT,PHSPHT_FLAG_W,CFC-11,CFC-11_FLAG_W,CFC-12,CFC-12_FLAG_W,CFC113,CFC113_FLAG_W,SF6,SF6_FLAG_W,TCARBN,TCARBN_FLAG_W,ALKALI,ALKALI_FLAG_W,PH_TOT,PH_TOT_FLAG_W,PH_TMP,TRITUM,TRITUM_FLAG_W,HELIUM,HELIUM_FLAG_W,DELHE3,DELHE3_FLAG_W,REFTMP,REFTMP_FLAG_W,DELC13,DELC13_FLAG_W,DELC14,DELC14_FLAG_W,C14ERR,NEON,NEON_FLAG_W,NEONER,CCL4,CCL4_FLAG_W,DOC,DOC_FLAG_W,TDN,TDN_FLAG_W,BTL_LAT,BTL_LON,TRITER,HELIER,DELHER,THETA,SBE35,SBE35_FLAG_W,14C-DOC,14C-DOC_FLAG_W,14C-DOCERR,13C-DOC,13C-DOC_FLAG_W,13C-DOCERR,SALTREF,SALTREF_FLAG_W,LAB_DEN,LAB_DEN_FLAG_W,BTL_DATE,BTL_TIME
,,,,,,,,,,,METERS,DBAR,ITS-90,PSS-78,,PSS-78,,UMOL/KG,,UMOL/KG,,UMOL/KG,,UMOL/KG,,UMOL/KG,,UMOL/KG,,PMOL/KG,,PMOL/KG,,PMOL/KG,,FMOL/KG,,UMOL/KG,,UMOL/KG,,,,DEG C,TU,,NMOL/KG,,PERCNT,,DEG C,,/MILLE,,/MILLE,,/MILLE,NMOL/KG,,NMOL/KG,PMOL/KG,,UMOL/KG,,UMOL/KG,,,,TU,NMOL/KG,PERCNT,DEG C,ITS-90,,/MILLE,,/MILLE,/MILLE,,/MILLE,G/KG,,KG/M^3,,,
33AT20120324,        A22,      56,          1,          5,          5,2,20120409,       1100,    17.9571,   -65.1337,       4509,  3337.1,   3.9140,  34.9748,2,  34.9748,2,    258.6,2,   258.6,2,   14.99,2,   18.15,2,    0.00,2,    1.23,2,   0.999,2,   0.496,2,   0.056,2,    0.67,2,  2163.8,2, 2316.02,2,   7.7398,2,       25,    -999,9,     -999,9,    -999,9,   3.9141,2,    -999,9,    -999,9,    -999,    -999,9,    -999,    -999,1,   40.89,2,   21.23,2,  17.9576, -65.1338,    -999,     -999,    -999,   3.6054,   3.9141,2,-999,9,-999,-999,9,-999,    35.1397,2,-999,9,20120409,       1124
33AT20120324,        A22,      56,          1,          4,          4,2,20120409,       1100,    17.9571,   -65.1337,       4509,  3648.9,   3.9512,  34.9748,2,  34.9748,2,    258.4,2,   259.2,2,   15.08,2,   18.17,2,    0.00,2,    1.23,2,   0.992,2,   0.484,2,   0.059,2,    0.72,2,  2163.0,2, 2317.16,2,   7.7397,2,       25,    -999,9,     -999,9,    -999,9,   3.9512,2,    -999,9,    -999,9,    -999,    -999,9,    -999,    -999,1,   40.54,2,   21.16,2,  17.9576, -65.1338,    -999,     -999,    -999,   3.6051,   3.9512,2,-999,9,-999,-999,9,-999,    35.1398,2,-999,9,20120409,       1118
33AT20120324,        A22,      56,          1,          3,          3,2,20120409,       1100,    17.9571,   -65.1337,       4509,  3952.4,   3.9882,  34.9747,2,  34.9748,2,    258.4,2,   258.6,2,   15.03,2,   18.15,2,    0.00,2,    1.23,2,   0.993,2,   0.491,2,   0.061,2,    0.83,2,  2164.2,2, 2316.79,2,   7.7393,2,       25,    -999,9,     -999,9,    -999,9,   3.9880,2,    -999,9,    -999,9,    -999,    -999,9,    -999,    -999,1,   40.69,2,   21.03,2,  17.9574, -65.1338,    -999,     -999,    -999,   3.6044,   3.9880,2,-999,9,-999,-999,9,-999,    35.1397,2,-999,9,20120409,       1113
33AT20120324,        A22,      56,          1,          2,          2,2,20120409,       1100,    17.9571,   -65.1337,       4509,  4262.0,   4.0272,  34.9745,2,  34.9748,2,    258.6,2,   258.7,2,   15.07,2,   18.20,2,    0.00,2,    1.23,2,   1.010,2,   0.507,2,   0.063,2,    0.86,2,  2165.2,2, 2316.37,6,   7.7403,6,       25,    -999,9,     -999,9,    -999,9,   4.0272,2,    -999,9,    -999,9,    -999,    -999,9,    -999,    -999,1,   39.72,2,   21.70,2,  17.9572, -65.1338,    -999,     -999,    -999,   3.6036,   4.0272,2,-999,9,-999,-999,9,-999,    35.1397,2,-999,9,20120409,       1107
33AT20120324,        A22,      56,          1,          1,          1,2,20120409,       1100,    17.9571,   -65.1337,       4509,  4574.7,   4.0697,  34.9742,2,  34.9748,2,    258.9,2,   259.0,2,   15.01,2,   18.15,2,    0.00,2,    1.23,2,   1.009,2,   0.499,2,   0.063,2,    0.93,2,  2165.8,6, 2315.49,2,   7.7404,2,       25,    -999,9,     -999,9,    -999,9,   4.0699,2,    -999,9,    -999,9,    -999,    -999,9,    -999,    -999,1,   40.64,2,   21.77,2,  17.9571, -65.1337,    -999,     -999,    -999,   3.6045,   4.0699,2,-999,9,-999,-999,9,-999,    35.1397,2,-999,9,20120409,       1101
33AT20120324,        A22,      57,          1,         14,         14,2,20120409,       1730,    17.9366,   -65.9970,        437,     3.9,  27.6238,  35.8299,2,  35.8346,2,    200.7,2,   200.8,2,    1.28,2,    0.00,2,    0.00,2,    0.00,2,   1.531,2,   1.033,2,   0.118,2,    1.07,4,  1993.2,6, 2337.34,3,   8.1008,2,       25,    -999,9,     -999,9,    -999,9,  27.6180,2,    -999,9,    -999,9,    -999,    -999,9,    -999,    1.30,2,    -999,9,    -999,9,  17.9361, -65.9969,    -999,     -999,    -999,  27.6229,  27.6180,2,-999,9,-999,-999,9,-999,    36.0036,2,-999,9,20120409,       1758
33AT20120324,        A22,      57,          1,         13,         13,2,20120409,       1730,    17.9366,   -65.9970,        437,    36.0,  26.5585,  36.0058,2,  36.0016,2,    202.1,2,   202.1,2,    1.20,2,    0.00,2,    0.00,2,    0.00,2,   1.593,2,   1.039,2,   0.121,2,    1.12,4,    -999,9,    -999,9,     -999,9,     -999,    -999,9,     -999,9,    -999,9,  26.5633,2,    -999,9,    -999,9,    -999,    -999,9,    -999,    1.36,2,    -999,9,    -999,9,  17.9361, -65.9969,    -999,     -999,    -999,  26.5503,  26.5633,2,-999,9,-999,-999,9,-999,    36.1714,2,-999,9,20120409,       1755
33AT20120324,        A22,      57,          1,         12,         12,2,20120409,       1730,    17.9366,   -65.9970,        437,    61.3,  26.4248,  36.1569,2,  36.1685,2,    201.5,2,   202.6,2,    1.09,2,    0.00,2,    0.00,2,    0.00,2,   1.609,2,   1.042,2,   0.119,2,    0.83,4,  2017.6,2, 2372.38,2,   8.1086,2,       25,    -999,9,     -999,9,    -999,9,  26.4262,2,    -999,9,    -999,9,    -999,    -999,9,    -999,    1.34,2,    -999,9,    -999,9,  17.9361, -65.9969,    -999,     -999,    -999,  26.4109,  26.4262,2,-999,9,-999,-999,9,-999,    36.3391,2,-999,9,20120409,       1752
33AT20120324,        A22,      57,          1,         11,         11,2,20120409,       1730,    17.9366,   -65.9970,        437,    85.8,  25.8853,  36.6449,2,  36.6472,2,    188.8,2,   188.5,2,    0.76,2,    0.03,2,    0.10,2,    0.00,2,   1.657,2,   1.081,2,   0.111,2,    1.09,4,    -999,9,    -999,9,     -999,9,     -999,    -999,9,     -999,9,    -999,9,  25.8847,2,    -999,9,    -999,9,    -999,    -999,9,    -999,    0.73,2,    -999,9,    -999,9,  17.9362, -65.9969,    -999,     -999,    -999,  25.8661,  25.8847,2,-999,9,-999,-999,9,-999,    36.8200,2,-999,9,20120409,       1750
33AT20120324,        A22,      57,          1,         10,         10,2,20120409,       1730,    17.9366,   -65.9970,        437,   111.0,  25.4511,  36.8493,2,  36.8549,2,    181.2,2,   181.1,2,    0.65,2,    0.32,2,    0.17,2,    0.01,2,   1.713,2,   1.132,2,   0.108,2,    0.95,4,  2080.2,2, 2409.16,6,   8.0593,6,       25,    -999,9,     -999,9,    -999,9,  25.4502,2,    -999,9,    -999,9,    -999,    -999,9,    -999,    0.56,2,    -999,9,    -999,9,  17.9363, -65.9969,    -999,     -999,    -999,  25.4265,  25.4502,2,-999,9,-999,-999,9,-999,    37.0287,2,-999,9,20120409,       1746
33AT20120324,        A22,      57,          1,          9,          9,2,20120409,       1730,    17.9366,   -65.9970,        437,   135.2,  24.7834,  37.0022,2,  37.0056,2,    178.0,2,   178.2,2,    0.56,2,    0.93,2,    0.09,2,    0.04,2,   1.755,2,   1.128,2,   0.106,2,    0.89,4,    -999,9,    -999,9,     -999,9,     -999,    -999,9,     -999,9,    -999,9,  24.7814,2,    -999,9,    -999,9,    -999,    -999,9,    -999,    0.48,2,    -999,9,    -999,9,  17.9364, -65.9970,    -999,     -999,    -999,  24.7540,  24.7814,2,-999,9,-999,-999,9,-999,    37.1801,2,-999,9,20120409,       1745
33AT20120324,        A22,      57,          1,          8,          8,2,20120409,       1730,    17.9366,   -65.9970,        437,   160.3,  23.3523,  37.0565,2,  37.0554,2,    173.5,2,   173.6,2,    0.65,2,    1.77,2,    0.04,2,    0.08,2,   1.848,2,   1.197,2,   0.084,2,    0.76,4,    -999,9,    -999,9,     -999,9,     -999,    -999,9,     -999,9,    -999,9,  23.3809,2,    -999,9,    -999,9,    -999,    -999,9,    -999,    0.34,2,    -999,9,    -999,9,  17.9364, -65.9970,    -999,     -999,    -999,  23.3189,  23.3809,2,-999,9,-999,-999,9,-999,    37.2301,2,-999,9,20120409,       1743
33AT20120324,        A22,      57,          1,          7,          7,2,20120409,       1730,    17.9366,   -65.9970,        437,   186.3,  21.3542,  36.9465,2,  36.9190,2,    167.5,2,   168.0,2,    0.87,2,    3.22,2,    0.02,2,    0.15,2,   1.986,2,   1.299,2,   0.044,2,    0.79,4,  2133.5,2, 2413.26,2,   7.9720,2,       25,    -999,9,     -999,9,    -999,9,  21.3616,2,    -999,9,    -999,9,    -999,    -999,9,    -999,    0.20,2,    -999,9,    -999,9,  17.9364, -65.9970,    -999,     -999,    -999,  21.3178,  21.3616,2,-999,9,-999,-999,9,-999,    37.0931,2,-999,9,20120409,       1741
33AT20120324,        A22,      57,          1,          6,          6,2,20120409,       1730,    17.9366,   -65.9970,        437,   211.0,  19.6745,  36.7583,2,  36.7560,2,    169.7,2,   168.5,2,    1.17,2,    4.71,2,    0.01,2,    0.22,2,   2.104,2,   1.323,2,   0.024,2,    1.26,4,  2137.9,2,    -999,9,   7.9495,2,       25,    -999,9,     -999,9,    -999,9,  19.6676,2,    -999,9,    -999,9,    -999,    -999,9,    -999,    0.23,2,    -999,9,    -999,9,  17.9365, -65.9970,    -999,     -999,    -999,  19.6355,  19.6676,2,-999,9,-999,-999,9,-999,    36.9294,2,-999,9,20120409,       1739
33AT20120324,        A22,      57,          1,          5,          5,2,20120409,       1730,    17.9366,   -65.9970,        437,   236.1,  18.9043,  36.6516,2,  36.6388,2,    172.8,2,   173.0,2,    1.38,2,    5.57,2,    0.01,2,    0.27,2,   2.159,2,   1.354,2,   0.021,2,    1.31,4,    -999,9,    -999,9,     -999,9,     -999,    -999,9,     -999,9,    -999,9,  18.9060,2,    -999,9,    -999,9,    -999,    -999,9,    -999,    0.27,2,    -999,9,    -999,9,  17.9366, -65.9970,    -999,     -999,    -999,  18.8619,  18.9060,2,-999,9,-999,-999,9,-999,    36.8116,2,-999,9,20120409,       1738
33AT20120324,        A22,      57,          1,          4,          4,2,20120409,       1730,    17.9366,   -65.9970,        437,   266.3,  18.0335,  36.5296,2,  36.5318,2,    177.1,2,   177.4,2,    1.61,2,    6.32,2,    0.00,2,    0.32,2,   2.188,2,   1.378,2,   0.020,2,    0.75,4,  2133.4,2, 2387.91,2,   7.9376,6,       25,    -999,9,     -999,9,    -999,9,  18.0413,2,    -999,9,    -999,9,    -999,    -999,9,    -999,    0.30,2,    -999,9,    -999,9,  17.9366, -65.9970,    -999,     -999,    -999,  17.9872,  18.0413,2,-999,9,-999,-999,9,-999,    36.7040,2,-999,9,20120409,       1736
33AT20120324,        A22,      57,          1,          3,          3,2,20120409,       1730,    17.9366,   -65.9970,        437,   316.5,  17.2461,  36.3913,2,  36.3767,2,    172.7,2,   172.5,2,    2.30,2,    8.38,2,    0.00,2,    0.46,2,   2.206,2,   1.352,2,   0.021,2,    0.82,4,    -999,9,    -999,9,     -999,9,     -999,    -999,9,     -999,9,    -999,9,  17.2367,2,    -999,9,    -999,9,    -999,    -999,9,    -999,    0.32,2,    -999,9,    -999,9,  17.9367, -65.9970,    -999,     -999,    -999,  17.1927,  17.2367,2,-999,9,-999,-999,9,-999,    36.5482,2,-999,9,20120409,       1734
33AT20120324,        A22,      57,          1,          2,          2,2,20120409,       1730,    17.9366,   -65.9970,        437,   366.5,  16.2657,  36.2091,2,  36.2108,2,    162.2,2,   161.9,2,    3.32,2,   10.92,2,    0.00,2,    0.62,2,   2.170,2,   1.320,2,   0.019,2,    0.51,4,  2149.9,2, 2370.37,2,   7.8736,2,       25,    -999,9,     -999,9,    -999,9,  16.2597,2,    -999,9,    -999,9,    -999,    -999,9,    -999,    0.29,2,    -999,9,    -999,9,  17.9366, -65.9970,    -999,     -999,    -999,  16.2062,  16.2597,2,-999,9,-999,-999,9,-999,    36.3815,2,-999,9,20120409,       1733
33AT20120324,        A22,      57,          1,          1,          1,2,20120409,       1730,    17.9366,   -65.9970,        437,   421.4,  14.4474,  35.8899,2,  35.9153,2,    148.9,2,   148.3,2,    5.30,2,   15.05,2,    0.00,2,    0.90,2,   2.039,2,   1.183,2,   0.020,2,    0.35,4,  2164.3,2, 2353.44,6,   7.8129,2,       25,    -999,9,     -999,9,    -999,9,  14.5952,3,    -999,9,    -999,9,    -999,    -999,9,    -999,    0.30,2,    -999,9,    -999,9,  17.9366, -65.9970,    -999,     -999,    -999,  14.3842,  14.5952,3,-999,9,-999,-999,9,-999,    36.0847,2,-999,9,20120409,       1731