BOTTLE,20220725CCHSIOCBG
EXPOCODE,SECT_ID,STNNBR,CASTNO,SAMPNO,BTLNBR,BTLNBR_FLAG_W,DATE,TIME,LATITUDE,LONGITUDE,DEPTH,CTDPRS,CTDTMP,CTDSAL,CTDSAL_FLAG_W,SALNTY,SALNTY_FLAG_W,CTDOXY,CTDOXY_FLAG_W,OXYGEN,OXYGEN_FLAG_W,SILCAT,SILCAT_FLAG_W,NITRAT,NITRAT_FLAG_W,NITRIT,NITRIT_FLAG_W,PHSPHT,PHSPHT_FLAG_W,CFC-11,CFC-11_FLAG_W,CFC-12,CFC-12_FLAG_W,CFC113,CFC113_FLAG_W,SF6,SF6_FLAG_W,TCARBN,TCARBN_FLAG_W,ALKALI,ALKALI_FLAG_W,PH_TOT,PH_TOT_FLAG_W,PH_TMP,TRITUM,TRITUM_FLAG_W,HELIUM,HELIUM_FLAG_W,DELHE3,DELHE3_FLAG_W,REFTMP,REFTMP_FLAG_W,DELC13,DELC13_FLAG_W,DELC14,DELC14_FLAG_W,C14ERR,NEON,NEON_FLAG_W,NEONER,CCL4,CCL4_FLAG_W,DOC,DOC_FLAG_W,TDN,TDN_FLAG_W,BTL_LAT,BTL_LON,TRITER,HELIER,DELHER,THETA,SBE35,SBE35_FLAG_W,14C-DOC,14C-DOC_FLAG_W,14C-DOCERR,13C-DOC,13C-DOC_FLAG_W,13C-DOCERR,SALTREF,SALTREF_FLAG_W,LAB_DEN,LAB_DEN_FLAG_W,BTL_DATE,BTL_TIME
,,,,,,,,,,,METERS,DBAR,ITS-90,PSS-78,,PSS-78,,UMOL/KG,,UMOL/KG,,UMOL/KG,,UMOL/KG,,UMOL/KG,,UMOL/KG,,PMOL/KG,,PMOL/KG,,PMOL/KG,,FMOL/KG,,UMOL/KG,,UMOL/KG,,,,DEG C,TU,,NMOL/KG,,PERCNT,,DEG C,,/MILLE,,/MILLE,,/MILLE,NMOL/KG,,NMOL/KG,PMOL/KG,,UMOL/KG,,UMOL/KG,,,,TU,NMOL/KG,PERCNT,DEG C,ITS-90,,/MILLE,,/MILLE,/MILLE,,/MILLE,G/KG,,KG/M^3,,,
33AT20120324,        A22,      34,          1,         36,         36,2,20120403,       1950,    27.1173,   -65.5733,       5330,     4.0,  22.2509,  36.8077,2,  36.8082,2,    216.8,2,   217.3,2,    0.20,2,    0.00,2,    0.00,2,    0.00,2,   1.953,2,   1.213,2,   0.165,2,    1.39,2,  2067.1,6, 2406.65,2,   8.0796,2,       25,    -999,9,     -999,9,    -999,9,  22.2499,2,    -999,9,    -999,9,    -999,    -999,9,    -999,    -999,1,    -999,9,    -999,9,  27.1158, -65.5750,    -999,     -999,    -999,  22.2501,  22.2499,2,-999,9,-999,-999,9,-999,    36.9817,2,-999,9,20120403,       2203
33AT20120324,        A22,      34,          1,         35,         35,3,20120403,       1950,    27.1173,   -65.5733,       5330,    22.0,  22.2615,  36.8081,2,  36.5131,4,    218.1,2,   195.8,4,    1.37,4,    4.65,4,    0.00,4,    0.24,4,   2.272,2,   1.383,2,   0.075,2,    1.11,2,    -999,9,    -999,9,     -999,9,     -999,    -999,9,     -999,9,    -999,9,  22.2561,2,    -999,9,    -999,9,    -999,    -999,9,    -999,    -999,1,    -999,9,    -999,9,  27.1158, -65.5750,    -999,     -999,    -999,  22.2571,  22.2561,2,-999,9,-999,-999,9,-999,    36.6853,4,-999,9,20120403,       2201
33AT20120324,        A22,      34,          1,         34,         34,2,20120403,       1950,    27.1173,   -65.5733,       5330,    41.0,  22.1418,  36.8269,2,  36.8276,2,    218.1,2,   217.4,2,    0.14,2,    0.00,2,    0.00,2,    0.00,2,   1.971,2,   1.257,2,   0.164,2,    1.33,2,  2068.2,2, 2408.98,6,   8.0770,2,       25,    -999,9,     -999,9,    -999,9,  22.1453,2,    -999,9,    -999,9,    -999,    -999,9,    -999,    -999,1,    -999,9,    -999,9,  27.1157, -65.5750,    -999,     -999,    -999,  22.1336,  22.1453,2,-999,9,-999,-999,9,-999,    37.0013,2,-999,9,20120403,       2159
33AT20120324,        A22,      34,          1,         33,         33,2,20120403,       1950,    27.1173,   -65.5733,       5330,    67.0,  22.1014,  36.8392,2,  36.8393,2,    218.0,2,   217.4,2,    0.17,2,    0.00,2,    0.00,2,    0.00,2,   1.990,2,   1.266,2,   0.165,2,    1.38,2,  2074.3,2, 2408.65,2,   8.0754,6,       25,    -999,9,     -999,9,    -999,9,  22.0986,2,    -999,9,    -999,9,    -999,    -999,9,    -999,    -999,1,    -999,9,    -999,9,  27.1157, -65.5751,    -999,     -999,    -999,  22.0880,  22.0986,2,-999,9,-999,-999,9,-999,    37.0130,2,-999,9,20120403,       2157
33AT20120324,        A22,      34,          1,         32,         32,2,20120403,       1950,    27.1173,   -65.5733,       5330,    91.4,  21.7679,  36.8082,2,  36.8100,2,    218.7,2,   219.1,2,    0.16,2,    0.00,2,    0.00,2,    0.00,2,   2.011,2,   1.275,2,   0.170,2,    1.38,2,  2077.3,3, 2407.40,2,   8.0713,2,       25,    -999,9,     -999,9,    -999,9,  21.7719,2,    -999,9,    -999,9,    -999,    -999,9,    -999,    -999,1,    -999,9,    -999,9,  27.1157, -65.5751,    -999,     -999,    -999,  21.7498,  21.7719,2,-999,9,-999,-999,9,-999,    36.9835,2,-999,9,20120403,       2154
33AT20120324,        A22,      34,          1,         31,         31,2,20120403,       1950,    27.1173,   -65.5733,       5330,   135.6,  20.2353,  36.8046,2,  36.8054,2,    193.4,2,   189.4,2,    0.27,2,    0.65,2,    0.04,2,    0.00,2,   2.163,2,   1.324,2,   0.087,2,    1.26,2,    -999,9,    -999,9,     -999,9,     -999,    -999,9,     -999,9,    -999,9,  20.2350,2,    -999,9,    -999,9,    -999,    -999,9,    -999,    -999,1,    -999,9,    -999,9,  27.1157, -65.5751,    -999,     -999,    -999,  20.2098,  20.2350,2,-999,9,-999,-999,9,-999,    36.9790,2,-999,9,20120403,       2152
33AT20120324,        A22,      34,          1,         30,         30,2,20120403,       1950,    27.1173,   -65.5733,       5330,   185.1,  19.2340,  36.7116,2,  36.7100,2,    185.5,2,   185.1,2,    0.56,2,    2.51,2,    0.01,2,    0.06,2,   2.249,2,   1.367,2,   0.031,2,    1.22,2,  2128.1,3, 2398.79,2,   7.9698,3,       25,    -999,9,     -999,9,    -999,9,  19.2300,2,    -999,9,    -999,9,    -999,    -999,9,    -999,    -999,1,    -999,9,    -999,9,  27.1157, -65.5750,    -999,     -999,    -999,  19.2004,  19.2300,2,-999,9,-999,-999,9,-999,    36.8831,2,-999,9,20120403,       2149
33AT20120324,        A22,      34,          1,         29,         29,2,20120403,       1950,    27.1173,   -65.5733,       5330,   234.7,  18.2995,  36.5864,2,  36.5896,2,    192.4,2,   192.8,2,    0.93,2,    4.17,2,    0.00,2,    0.17,2,   2.336,2,   1.438,2,   0.031,2,    1.27,2,    -999,9,    -999,9,     -999,9,     -999,    -999,9,     -999,9,    -999,9,  18.3032,2,    -999,9,    -999,9,    -999,    -999,9,    -999,    -999,1,    -999,9,    -999,9,  27.1157, -65.5751,    -999,     -999,    -999,  18.2583,  18.3032,2,-999,9,-999,-999,9,-999,    36.7622,2,-999,9,20120403,       2147
33AT20120324,        A22,      34,          1,         28,         28,2,20120403,       1950,    27.1173,   -65.5733,       5330,   286.3,  18.0539,  36.5580,2,  36.5593,2,    199.5,2,   199.6,2,    0.90,2,    4.24,2,    0.00,2,    0.18,2,   2.333,2,   1.399,2,   0.033,2,    1.26,2,  2119.1,3, 2390.21,2,   7.9761,2,       25,    -999,9,     -999,9,    -999,9,  18.0613,2,    -999,9,    -999,9,    -999,    -999,9,    -999,    -999,1,    -999,9,    -999,9,  27.1158, -65.5750,    -999,     -999,    -999,  18.0040,  18.0613,2,-999,9,-999,-999,9,-999,    36.7317,2,-999,9,20120403,       2145
33AT20120324,        A22,      34,          1,         27,         27,2,20120403,       1950,    27.1173,   -65.5733,       5330,   337.6,  17.7730,  36.5129,2,  36.5114,2,    197.2,2,   198.5,2,    1.19,2,    4.88,2,    0.00,2,    0.22,2,   2.371,2,   1.409,2,   0.038,2,    1.19,2,  2121.5,3,    -999,9,     -999,9,     -999,    -999,9,     -999,9,    -999,9,  17.7713,2,    -999,9,    -999,9,    -999,    -999,9,    -999,    -999,1,    -999,9,    -999,9,  27.1158, -65.5750,    -999,     -999,    -999,  17.7148,  17.7713,2,-999,9,-999,-999,9,-999,    36.6835,2,-999,9,20120403,       2143
33AT20120324,        A22,      34,          1,         26,         26,9,20120403,       1950,    27.1173,   -65.5733,       5330,   386.1,  17.3887,  36.4465,2,     -999,9,     -999,9,    -999,9,    -999,9,    -999,9,    -999,9,    -999,9,    -999,9,    -999,9,    -999,9,    -999,9,    -999,9,    -999,9,     -999,9,     -999,    -999,9,     -999,9,    -999,9,  17.3887,2,    -999,9,    -999,9,    -999,    -999,9,    -999,    -999,9,    -999,9,    -999,9,  27.1157, -65.5751,    -999,     -999,    -999,  17.3230,  17.3887,2,-999,9,-999,-999,9,-999,       -999,9,-999,9,20120403,       2141
33AT20120324,        A22,      34,          1,         25,         25,2,20120403,       1950,    27.1173,   -65.5733,       5330,   468.6,  16.4895,  36.2810,2,  36.2842,2,    189.3,2,   187.4,2,    2.27,2,    7.89,2,    0.00,2,    0.42,2,   2.425,2,   1.410,2,   0.021,2,    1.18,2,  2131.5,2, 2374.52,2,   7.9193,2,       25,    -999,9,     -999,9,    -999,9,  16.4939,2,    -999,9,    -999,9,    -999,    -999,9,    -999,    -999,1,    -999,9,    -999,9,  27.1156, -65.5752,    -999,     -999,    -999,  16.4125,  16.4939,2,-999,9,-999,-999,9,-999,    36.4553,2,-999,9,20120403,       2139
33AT20120324,        A22,      34,          1,         24,         24,2,20120403,       1950,    27.1173,   -65.5733,       5330,   566.7,  14.7679,  35.9735,2,  35.9697,2,    174.6,2,   174.0,2,    4.03,2,   12.04,2,    0.00,2,    0.69,2,   2.360,2,   1.293,2,   0.031,2,    0.98,2,  2148.0,2, 2356.66,2,   7.8656,2,       25,    -999,9,     -999,9,    -999,9,  14.7604,2,    -999,9,    -999,9,    -999,    -999,9,    -999,    -999,1,    -999,9,    -999,9,  27.1155, -65.5753,    -999,     -999,    -999,  14.6813,  14.7604,2,-999,9,-999,-999,9,-999,    36.1393,2,-999,9,20120403,       2136
33AT20120324,        A22,      34,          1,         23,         23,2,20120403,       1950,    27.1173,   -65.5733,       5330,   670.5,  12.2743,  35.5995,2,  35.6023,2,    159.1,2,   156.4,2,    7.65,2,   17.76,2,    0.00,2,    1.08,2,   1.928,2,   1.035,2,   0.012,2,    0.65,2,  2169.8,2, 2339.84,2,     -999,9,     -999,    -999,9,     -999,9,    -999,9,  12.2830,2,    -999,9,    -999,9,    -999,    -999,9,    -999,    -999,1,    -999,9,    -999,9,  27.1155, -65.5753,    -999,     -999,    -999,  12.1833,  12.2830,2,-999,9,-999,-999,9,-999,    35.7702,2,-999,9,20120403,       2133
33AT20120324,        A22,      34,          1,         22,         22,2,20120403,       1950,    27.1173,   -65.5733,       5330,   768.1,  10.0496,  35.3290,2,  35.3323,2,    149.6,2,   148.5,2,   11.54,2,   22.06,2,    0.00,2,    1.38,2,   1.346,2,   0.693,2,   0.018,2,    0.43,2,  2184.5,2, 2328.03,2,   7.7128,6,       25,    -999,9,     -999,9,    -999,9,  10.0251,2,    -999,9,    -999,9,    -999,    -999,9,    -999,    -999,1,    -999,9,    -999,9,  27.1155, -65.5754,    -999,     -999,    -999,   9.9573,  10.0251,2,-999,9,-999,-999,9,-999,    35.4989,2,-999,9,20120403,       2130
33AT20120324,        A22,      34,          1,         21,         21,2,20120403,       1950,    27.1173,   -65.5733,       5330,   871.3,   8.3424,  35.1644,2,  35.1662,2,    153.5,2,   154.2,2,   14.33,2,   24.01,2,    0.00,2,    1.53,2,   1.030,2,   0.501,2,   0.016,2,    0.26,2,  2190.8,6, 2322.65,2,   7.6839,2,       25,    -999,9,     -999,9,    -999,9,   8.3514,2,    -999,9,    -999,9,    -999,    -999,9,    -999,    -999,1,    -999,9,    -999,9,  27.1155, -65.5753,    -999,     -999,    -999,   8.2480,   8.3514,2,-999,9,-999,-999,9,-999,    35.3321,2,-999,9,20120403,       2127
33AT20120324,        A22,      34,          1,         20,         20,2,20120403,       1950,    27.1173,   -65.5733,       5330,   971.6,   6.9492,  35.0985,2,  35.0989,2,    179.0,2,   179.9,2,   14.55,2,   22.79,2,    0.00,2,    1.47,2,   1.138,2,   0.567,2,   0.031,2,    0.29,2,  2188.4,2, 2320.62,2,   7.6869,2,       25,    -999,9,     -999,9,    -999,9,   6.9521,2,    -999,9,    -999,9,    -999,    -999,9,    -999,    -999,1,    -999,9,    -999,9,  27.1155, -65.5753,    -999,     -999,    -999,   6.8533,   6.9521,2,-999,9,-999,-999,9,-999,    35.2644,2,-999,9,20120403,       2125
33AT20120324,        A22,      34,          1,         19,         19,2,20120403,       1950,    27.1173,   -65.5733,       5330,  1074.4,   6.0741,  35.0955,2,  35.0956,2,    201.7,2,   203.1,2,   14.34,2,   21.21,2,    0.00,2,    1.39,2,   1.175,2,   0.587,2,   0.023,2,    0.29,2,  2182.3,2,    -999,9,     -999,9,     -999,    -999,9,     -999,9,    -999,9,   6.0747,2,    -999,9,    -999,9,    -999,    -999,9,    -999,    -999,1,    -999,9,    -999,9,  27.1156, -65.5752,    -999,     -999,    -999,   5.9743,   6.0747,2,-999,9,-999,-999,9,-999,    35.2611,2,-999,9,20120403,       2122
33AT20120324,        A22,      34,          1,         18,         18,2,20120403,       1950,    27.1173,   -65.5733,       5330,  1175.3,   5.6571,  35.1027,2,  35.1033,2,    217.9,2,   216.9,2,   13.61,2,   20.17,2,    0.00,2,    1.32,2,   1.252,2,   0.623,2,   0.044,2,    0.33,2,  2176.0,2, 2320.37,2,   7.7130,2,       25,    -999,9,     -999,9,    -999,9,   5.6546,2,    -999,9,    -999,9,    -999,    -999,9,    -999,    -999,1,    -999,9,    -999,9,  27.1156, -65.5752,    -999,     -999,    -999,   5.5508,   5.6546,2,-999,9,-999,-999,9,-999,    35.2688,2,-999,9,20120403,       2119
33AT20120324,        A22,      34,          1,         17,         17,2,20120403,       1950,    27.1173,   -65.5733,       5330,  1275.3,   5.2184,  35.0887,2,  35.0889,2,    230.0,2,   229.7,2,   13.28,2,   19.32,2,    0.00,2,    1.27,2,   1.306,2,   0.656,2,   0.048,2,    0.28,2,    -999,9,    -999,9,     -999,9,     -999,    -999,9,     -999,9,    -999,9,   5.2208,2,    -999,9,    -999,9,    -999,    -999,9,    -999,    -999,1,    -999,9,    -999,9,  27.1156, -65.5752,    -999,     -999,    -999,   5.1063,   5.2208,2,-999,9,-999,-999,9,-999,    35.2543,2,-999,9,20120403,       2116
33AT20120324,        A22,      34,          1,         16,         16,2,20120403,       1950,    27.1173,   -65.5733,       5330,  1377.5,   4.8995,  35.0793,2,  35.0787,2,    237.1,2,   237.5,2,   13.54,2,   18.91,2,    0.00,2,    1.24,2,   1.210,2,   0.591,2,   0.041,2,    0.26,2,    -999,9,    -999,9,     -999,9,     -999,    -999,9,     -999,9,    -999,9,   4.8982,2,    -999,9,    -999,9,    -999,    -999,9,    -999,    -999,1,    -999,9,    -999,9,  27.1155, -65.5753,    -999,     -999,    -999,   4.7808,   4.8982,2,-999,9,-999,-999,9,-999,    35.2441,2,-999,9,20120403,       2114
33AT20120324,        A22,      34,          1,         15,         15,2,20120403,       1950,    27.1173,   -65.5733,       5330,  1546.5,   4.4967,  35.0565,2,  35.0566,2,    245.6,2,   245.5,2,   14.34,2,   18.62,2,    0.00,2,    1.22,2,   1.105,2,   0.538,2,   0.038,2,    0.14,2,  2166.5,2, 2321.12,2,   7.7340,2,       25,    -999,9,     -999,9,    -999,9,   4.4986,2,    -999,9,    -999,9,    -999,    -999,9,    -999,    -999,1,    -999,9,    -999,9,  27.1155, -65.5753,    -999,     -999,    -999,   4.3663,   4.4986,2,-999,9,-999,-999,9,-999,    35.2219,2,-999,9,20120403,       2110
33AT20120324,        A22,      34,          1,         14,         14,2,20120403,       1950,    27.1173,   -65.5733,       5330,  1753.6,   4.1204,  35.0321,2,  35.0318,2,    250.1,2,   250.0,2,   15.76,2,   18.59,2,    0.00,2,    1.23,2,   0.898,2,   0.426,2,   0.033,2,    0.14,2,    -999,9,    -999,9,     -999,9,     -999,    -999,9,     -999,9,    -999,9,   4.1169,2,    -999,9,    -999,9,    -999,    -999,9,    -999,    -999,1,    -999,9,    -999,9,  27.1155, -65.5754,    -999,     -999,    -999,   3.9749,   4.1169,2,-999,9,-999,-999,9,-999,    35.1970,2,-999,9,20120403,       2105
33AT20120324,        A22,      34,          1,         13,         13,2,20120403,       1950,    27.1173,   -65.5733,       5330,  1957.2,   3.7384,  35.0013,2,  35.0013,2,    254.5,2,   254.2,2,   17.61,2,   18.61,2,    0.00,2,    1.24,2,   0.637,2,   0.304,2,   0.022,2,    0.09,2,    -999,9,    -999,9,     -999,9,     -999,    -999,9,     -999,9,    -999,9,   3.7384,2,    -999,9,    -999,9,    -999,    -999,9,    -999,    -999,1,    -999,9,    -999,9,  27.1156, -65.5752,    -999,     -999,    -999,   3.5787,   3.7384,2,-999,9,-999,-999,9,-999,    35.1664,2,-999,9,20120403,       2101
33AT20120324,        A22,      34,          1,         12,         12,2,20120403,       1950,    27.1173,   -65.5733,       5330,  2191.1,   3.4363,  34.9838,2,  34.9840,2,    253.7,2,   254.0,2,   20.65,2,   18.86,2,    0.00,2,    1.27,2,   0.365,2,   0.171,2,   0.017,2,    0.07,2,  2165.6,2, 2320.34,2,   7.7406,2,       25,    -999,9,     -999,9,    -999,9,   3.4385,2,    -999,9,    -999,9,    -999,    -999,9,    -999,    -999,1,    -999,9,    -999,9,  27.1156, -65.5752,    -999,     -999,    -999,   3.2588,   3.4385,2,-999,9,-999,-999,9,-999,    35.1490,2,-999,9,20120403,       2056
33AT20120324,        A22,      34,          1,         11,         11,2,20120403,       1950,    27.1173,   -65.5733,       5330,  2442.3,   3.2131,  34.9677,2,  34.9675,2,    254.1,2,   254.4,2,   23.40,2,   19.17,2,    0.00,2,    1.29,2,   0.273,2,   0.126,2,   0.012,2,    0.07,2,    -999,9,    -999,9,     -999,9,     -999,    -999,9,     -999,9,    -999,9,   3.2124,2,    -999,9,    -999,9,    -999,    -999,9,    -999,    -999,1,    -999,9,    -999,9,  27.1156, -65.5752,    -999,     -999,    -999,   3.0148,   3.2124,2,-999,9,-999,-999,9,-999,    35.1324,2,-999,9,20120403,       2051
33AT20120324,        A22,      34,          1,         10,         10,2,20120403,       1950,    27.1173,   -65.5733,       5330,  2698.5,   3.0042,  34.9507,2,  34.9504,2,    256.1,2,   256.0,2,   25.05,2,   19.11,2,    0.00,2,    1.30,2,   0.296,2,   0.136,2,   0.017,2,    0.03,2,    -999,9,    -999,9,     -999,9,     -999,    -999,9,     -999,9,    -999,9,   3.0046,2,    -999,9,    -999,9,    -999,    -999,9,    -999,    -999,1,    -999,9,    -999,9,  27.1158, -65.5749,    -999,     -999,    -999,   2.7843,   3.0046,2,-999,9,-999,-999,9,-999,    35.1152,2,-999,9,20120403,       2046
33AT20120324,        A22,      34,          1,          9,          9,2,20120403,       1950,    27.1173,   -65.5733,       5330,  2953.3,   2.8074,  34.9346,2,  34.9346,2,    259.2,2,   259.5,2,   25.83,2,   18.86,2,    0.00,2,    1.28,2,   0.406,2,   0.182,2,   0.015,2,    0.14,2,  2166.2,2, 2319.97,2,   7.7461,2,       25,    -999,9,     -999,9,    -999,9,   2.8070,2,    -999,9,    -999,9,    -999,    -999,9,    -999,    -999,1,    -999,9,    -999,9,  27.1160, -65.5747,    -999,     -999,    -999,   2.5656,   2.8070,2,-999,9,-999,-999,9,-999,    35.0994,2,-999,9,20120403,       2040
33AT20120324,        A22,      34,          1,          8,          8,2,20120403,       1950,    27.1173,   -65.5733,       5330,  3243.1,   2.6303,  34.9213,2,  34.9215,2,    262.4,2,   262.9,2,   26.11,2,   18.67,2,    0.00,2,    1.28,2,   0.484,2,   0.228,2,   0.027,2,    0.09,2,    -999,9,    -999,9,     -999,9,     -999,    -999,9,     -999,9,    -999,9,   2.6302,2,    -999,9,    -999,9,    -999,    -999,9,    -999,    -999,1,    -999,9,    -999,9,  27.1162, -65.5745,    -999,     -999,    -999,   2.3622,   2.6302,2,-999,9,-999,-999,9,-999,    35.0861,2,-999,9,20120403,       2035
33AT20120324,        A22,      34,          1,          7,          7,2,20120403,       1950,    27.1173,   -65.5733,       5330,  3550.3,   2.4814,  34.9107,2,  34.9106,2,    265.2,2,   264.6,2,   27.00,2,   18.53,2,    0.00,2,    1.27,2,   0.497,2,   0.227,2,   0.016,2,    0.07,2,  2165.5,2, 2322.10,2,   7.7421,2,       25,    -999,9,     -999,9,    -999,9,   2.4811,2,    -999,9,    -999,9,    -999,    -999,9,    -999,    -999,1,    -999,9,    -999,9,  27.1164, -65.5743,    -999,     -999,    -999,   2.1839,   2.4811,2,-999,9,-999,-999,9,-999,    35.0752,2,-999,9,20120403,       2029
33AT20120324,        A22,      34,          1,          6,          6,2,20120403,       1950,    27.1173,   -65.5733,       5330,  3858.2,   2.3639,  34.9008,2,  34.9012,2,    265.6,2,   266.2,2,   28.06,2,   18.46,2,    0.00,2,    1.26,2,   0.623,2,   0.297,2,   0.034,2,    0.13,2,    -999,9,    -999,9,     -999,9,     -999,    -999,9,     -999,9,    -999,9,   2.3635,2,    -999,9,    -999,9,    -999,    -999,9,    -999,    -999,1,    -999,9,    -999,9,  27.1166, -65.5741,    -999,     -999,    -999,   2.0354,   2.3635,2,-999,9,-999,-999,9,-999,    35.0658,2,-999,9,20120403,       2023