BOTTLE,20220725CCHSIOCBG
EXPOCODE,SECT_ID,STNNBR,CASTNO,SAMPNO,BTLNBR,BTLNBR_FLAG_W,DATE,TIME,LATITUDE,LONGITUDE,DEPTH,CTDPRS,CTDTMP,CTDSAL,CTDSAL_FLAG_W,SALNTY,SALNTY_FLAG_W,CTDOXY,CTDOXY_FLAG_W,OXYGEN,OXYGEN_FLAG_W,SILCAT,SILCAT_FLAG_W,NITRAT,NITRAT_FLAG_W,NITRIT,NITRIT_FLAG_W,PHSPHT,PHSPHT_FLAG_W,CFC-11,CFC-11_FLAG_W,CFC-12,CFC-12_FLAG_W,CFC113,CFC113_FLAG_W,SF6,SF6_FLAG_W,TCARBN,TCARBN_FLAG_W,ALKALI,ALKALI_FLAG_W,PH_TOT,PH_TOT_FLAG_W,PH_TMP,TRITUM,TRITUM_FLAG_W,HELIUM,HELIUM_FLAG_W,DELHE3,DELHE3_FLAG_W,REFTMP,REFTMP_FLAG_W,DELC13,DELC13_FLAG_W,DELC14,DELC14_FLAG_W,C14ERR,NEON,NEON_FLAG_W,NEONER,CCL4,CCL4_FLAG_W,DOC,DOC_FLAG_W,TDN,TDN_FLAG_W,BTL_LAT,BTL_LON,TRITER,HELIER,DELHER,THETA,SBE35,SBE35_FLAG_W,14C-DOC,14C-DOC_FLAG_W,14C-DOCERR,13C-DOC,13C-DOC_FLAG_W,13C-DOCERR,SALTREF,SALTREF_FLAG_W,LAB_DEN,LAB_DEN_FLAG_W,BTL_DATE,BTL_TIME
,,,,,,,,,,,METERS,DBAR,ITS-90,PSS-78,,PSS-78,,UMOL/KG,,UMOL/KG,,UMOL/KG,,UMOL/KG,,UMOL/KG,,UMOL/KG,,PMOL/KG,,PMOL/KG,,PMOL/KG,,FMOL/KG,,UMOL/KG,,UMOL/KG,,,,DEG C,TU,,NMOL/KG,,PERCNT,,DEG C,,/MILLE,,/MILLE,,/MILLE,NMOL/KG,,NMOL/KG,PMOL/KG,,UMOL/KG,,UMOL/KG,,,,TU,NMOL/KG,PERCNT,DEG C,ITS-90,,/MILLE,,/MILLE,/MILLE,,/MILLE,G/KG,,KG/M^3,,,
33AT20120324,        A22,      28,          1,         36,         36,2,20120401,       2100,    31.3098,   -65.2875,       4653,     3.3,  19.9168,  36.6083,2,  36.6076,2,    225.0,2,   226.3,2,    0.21,2,   -0.01,2,    0.01,2,    0.00,2,   2.134,2,   1.342,2,   0.162,2,    1.46,2,  2078.8,6, 2396.60,2,   8.0479,2,       25,   0.520,2,   1.7287,2,   -1.47,2,  19.9181,2,    -999,9,    -999,9,    -999,   7.029,2,   0.032,    -999,1,    -999,9,    -999,9,  31.3100, -65.2876,   0.009,   0.0069,    0.15,  19.9162,  19.9181,2,-999,9,-999,-999,9,-999,    36.7802,2,-999,1,20120401,       2259
33AT20120324,        A22,      28,          1,         35,         35,2,20120401,       2100,    31.3098,   -65.2875,       4653,    20.6,  19.9235,  36.6082,2,  36.6072,2,    225.9,2,   225.2,2,    0.16,2,   -0.01,2,    0.01,2,    0.01,2,   2.131,2,   1.195,2,   0.164,2,    1.48,2,  2079.8,2, 2393.78,6,   8.0484,2,       25,    -999,9,     -999,9,    -999,9,  19.9240,2,    -999,9,    -999,9,    -999,    -999,9,    -999,    -999,1,    -999,9,    -999,9,  31.3099, -65.2876,    -999,     -999,    -999,  19.9197,  19.9240,2,-999,9,-999,-999,9,-999,    36.7798,2,-999,1,20120401,       2257
33AT20120324,        A22,      28,          1,         34,         34,2,20120401,       2100,    31.3098,   -65.2875,       4653,    41.4,  19.9139,  36.6114,2,  36.6096,2,    226.1,2,   225.3,2,    0.16,2,   -0.01,2,    0.01,2,   -0.01,2,   2.141,2,   1.275,2,   0.169,2,    1.48,2,  2079.6,2, 2395.12,2,   8.0493,6,       25,    -999,9,     -999,9,    -999,9,  19.9143,2,    -999,9,    -999,9,    -999,    -999,9,    -999,    -999,1,    -999,9,    -999,9,  31.3100, -65.2876,    -999,     -999,    -999,  19.9062,  19.9143,2,-999,9,-999,-999,9,-999,    36.7822,2,-999,1,20120401,       2255
33AT20120324,        A22,      28,          1,         33,         33,2,20120401,       2100,    31.3098,   -65.2875,       4653,    66.4,  19.8693,  36.6164,2,  36.6155,2,    223.9,2,   223.4,2,    0.23,2,    0.01,2,    0.04,2,   -0.01,2,   2.127,2,   1.281,2,   0.179,2,    1.51,2,  2080.5,2, 2395.75,2,   8.0477,2,       25,   0.517,2,   1.7461,2,   -1.53,2,  19.8690,2,    -999,9,    -999,9,    -999,   7.092,2,   0.032,    -999,1,    -999,9,    -999,9,  31.3100, -65.2876,   0.009,   0.0070,    0.15,  19.8570,  19.8690,2,-999,9,-999,-999,9,-999,    36.7882,2,-999,1,20120401,       2253
33AT20120324,        A22,      28,          1,         32,         32,2,20120401,       2100,    31.3098,   -65.2875,       4653,    90.4,  19.8486,  36.6143,2,  36.6133,2,    222.3,2,   222.3,2,    0.19,2,    0.07,2,    0.12,2,   -0.01,2,   2.130,2,   1.307,2,   0.155,2,    1.52,2,  2083.1,2, 2396.79,2,   8.0435,2,       25,    -999,9,     -999,9,    -999,9,  19.8500,2,    -999,9,    -999,9,    -999,    -999,9,    -999,    -999,1,    -999,9,    -999,9,  31.3099, -65.2876,    -999,     -999,    -999,  19.8318,  19.8500,2,-999,9,-999,-999,9,-999,    36.7860,2,-999,1,20120401,       2251
33AT20120324,        A22,      28,          1,         31,         31,2,20120401,       2100,    31.3098,   -65.2875,       4653,   136.5,  19.4197,  36.5580,2,  36.5566,2,    218.6,2,   218.8,2,    0.20,2,    0.72,2,    0.15,2,    0.02,2,   2.159,2,   1.311,2,   0.164,2,    1.46,2,  2086.9,2, 2391.63,2,   8.0321,2,       25,   0.472,2,   1.7592,2,   -1.97,2,  19.4203,2,    -999,9,    -999,9,    -999,   7.064,2,   0.032,    -999,1,    -999,9,    -999,9,  31.3100, -65.2876,   0.008,   0.0070,    0.15,  19.3948,  19.4203,2,-999,9,-999,-999,9,-999,    36.7290,2,-999,1,20120401,       2248
33AT20120324,        A22,      28,          1,         30,         30,2,20120401,       2100,    31.3098,   -65.2875,       4653,   186.8,  19.2814,  36.5547,2,  36.5549,2,    220.3,2,   219.5,2,    0.12,2,    0.58,2,    0.29,2,    0.02,2,   2.185,2,   1.346,2,   0.161,2,    1.47,2,  2086.7,2, 2391.78,2,   8.0286,2,       25,    -999,9,     -999,9,    -999,9,  19.2829,2,    -999,9,    -999,9,    -999,    -999,9,    -999,    -999,1,    -999,9,    -999,9,  31.3099, -65.2875,    -999,     -999,    -999,  19.2474,  19.2829,2,-999,9,-999,-999,9,-999,    36.7272,2,-999,1,20120401,       2246
33AT20120324,        A22,      28,          1,         29,         29,2,20120401,       2100,    31.3098,   -65.2875,       4653,   237.1,  18.8819,  36.6335,2,  36.6329,2,    188.9,2,   190.1,2,    0.68,2,    3.45,2,    0.01,2,    0.14,2,   2.264,2,   1.395,2,   0.033,2,    1.36,2,  2116.8,2, 2392.97,2,   7.9809,2,       25,   0.484,2,   1.7510,2,   -0.81,2,  18.8789,2,    -999,9,    -999,9,    -999,   7.055,2,   0.032,    -999,1,    -999,9,    -999,9,  31.3099, -65.2876,   0.009,   0.0070,    0.15,  18.8393,  18.8789,2,-999,9,-999,-999,9,-999,    36.8057,2,-999,1,20120401,       2244
33AT20120324,        A22,      28,          1,         28,         28,2,20120401,       2100,    31.3098,   -65.2875,       4653,   287.0,  18.3527,  36.5993,2,  36.5982,2,    197.8,2,   198.5,2,    0.86,2,    3.77,2,    0.01,2,    0.16,2,   2.292,2,   1.350,2,   0.047,2,    1.43,2,  2113.4,2, 2391.45,2,   7.9814,2,       25,    -999,9,     -999,9,    -999,9,  18.3553,2,    -999,9,    -999,9,    -999,    -999,9,    -999,    -999,1,    -999,9,    -999,9,  31.3099, -65.2876,    -999,     -999,    -999,  18.3021,  18.3553,2,-999,9,-999,-999,9,-999,    36.7708,2,-999,1,20120401,       2242
33AT20120324,        A22,      28,          1,         27,         27,2,20120401,       2100,    31.3098,   -65.2875,       4653,   338.5,  18.1235,  36.5768,2,  36.5767,2,    201.6,2,   201.6,2,    0.89,2,    3.99,2,    0.01,2,    0.18,2,   2.300,2,   1.378,2,   0.035,2,    1.34,2,  2117.4,2, 2391.33,2,   7.9808,2,       25,   0.524,2,   1.7366,2,   -0.78,2,  18.1244,2,    -999,9,    -999,9,    -999,   7.051,2,   0.032,    -999,1,    -999,9,    -999,9,  31.3099, -65.2876,   0.009,   0.0069,    0.15,  18.0643,  18.1244,2,-999,9,-999,-999,9,-999,    36.7492,2,-999,1,20120401,       2240
33AT20120324,        A22,      28,          1,         26,         26,2,20120401,       2100,    31.3098,   -65.2875,       4653,   386.8,  17.8885,  36.5461,2,  36.5454,2,    203.0,2,   204.2,2,    1.07,2,    4.31,2,    0.00,2,    0.19,2,   2.345,2,   1.440,2,   0.030,2,    1.42,2,  2118.0,2, 2389.91,2,   7.9762,6,       25,    -999,9,     -999,9,    -999,9,  17.8894,2,    -999,9,    -999,9,    -999,    -999,9,    -999,    -999,1,    -999,9,    -999,9,  31.3099, -65.2875,    -999,     -999,    -999,  17.8214,  17.8894,2,-999,9,-999,-999,9,-999,    36.7178,2,-999,1,20120401,       2238
33AT20120324,        A22,      28,          1,         25,         25,2,20120401,       2100,    31.3098,   -65.2875,       4653,   440.3,  17.6464,  36.5036,2,  36.5032,2,    200.3,2,   201.8,2,    1.19,2,    4.85,2,    0.00,2,    0.23,2,   2.333,2,   1.412,2,   0.044,2,    1.35,2,  2120.9,2, 2387.83,2,   7.9681,2,       25,   0.505,2,   1.7468,2,   -0.55,2,  17.6470,2,    -999,9,    -999,9,    -999,   7.200,2,   0.032,    -999,1,    -999,9,    -999,9,  31.3098, -65.2875,   0.012,   0.0070,    0.15,  17.5706,  17.6470,2,-999,9,-999,-999,9,-999,    36.6753,2,-999,1,20120401,       2237
33AT20120324,        A22,      28,          1,         24,         24,2,20120401,       2100,    31.3098,   -65.2875,       4653,   487.0,  17.1274,  36.3995,2,  36.3972,2,    203.4,2,   194.4,2,    1.62,2,    6.46,2,    0.00,2,    0.33,2,   2.349,2,   1.404,2,   0.032,2,    1.21,2,  2127.4,2, 2379.63,2,   7.9438,2,       25,   0.491,2,   1.7289,2,   -0.05,2,  17.1325,2,    -999,9,    -999,9,    -999,   7.130,2,   0.032,    -999,1,    -999,9,    -999,9,  31.3098, -65.2875,   0.009,   0.0069,    0.15,  17.0452,  17.1325,2,-999,9,-999,-999,9,-999,    36.5688,2,-999,1,20120401,       2235
33AT20120324,        A22,      28,          1,         23,         23,2,20120401,       2100,    31.3098,   -65.2875,       4653,   567.5,  16.2057,  36.2237,2,  36.2254,2,    191.9,2,   190.4,2,    2.44,2,    8.27,2,    0.00,2,    0.45,2,   2.401,2,   1.450,2,   0.028,2,    1.17,2,  2135.7,2, 2371.17,2,   7.9163,2,       25,   0.530,2,   1.7322,2,    0.59,2,  16.2020,2,    -999,9,    -999,9,    -999,   7.206,2,   0.032,    -999,1,    -999,9,    -999,9,  31.3098, -65.2874,   0.009,   0.0069,    0.15,  16.1133,  16.2020,2,-999,9,-999,-999,9,-999,    36.3962,2,-999,1,20120401,       2233
33AT20120324,        A22,      28,          1,         22,         22,2,20120401,       2100,    31.3098,   -65.2875,       4653,   669.4,  13.8460,  35.8108,2,  35.7997,2,    170.0,2,   168.6,2,    5.49,2,   14.24,2,    0.00,2,    0.86,2,   2.239,2,   1.304,2,   0.028,2,    0.90,2,  2159.4,2, 2348.59,2,   7.8260,2,       25,   0.475,2,   1.7697,2,    2.70,2,  13.8279,2,    -999,9,    -999,9,    -999,   7.361,2,   0.033,    -999,1,    -999,9,    -999,9,  31.3098, -65.2874,   0.008,   0.0071,    0.15,  13.7477,  13.8279,2,-999,9,-999,-999,9,-999,    35.9685,2,-999,1,20120401,       2230
33AT20120324,        A22,      28,          1,         21,         21,2,20120401,       2100,    31.3098,   -65.2875,       4653,   770.4,  11.5320,  35.4766,2,  35.4805,2,    149.4,2,   147.8,2,    9.44,2,   19.90,2,    0.00,2,    1.24,2,   1.755,2,   0.950,2,   0.033,2,    0.65,2,  2181.2,2, 2332.40,2,   7.7420,2,       25,   0.378,2,   1.7829,2,    4.81,2,  11.5506,2,    -999,9,    -999,9,    -999,   7.532,2,   0.034,    -999,1,    -999,9,    -999,9,  31.3097, -65.2873,   0.009,   0.0071,    0.15,  11.4311,  11.5506,2,-999,9,-999,-999,9,-999,    35.6478,2,-999,1,20120401,       2227
33AT20120324,        A22,      28,          1,         20,         20,2,20120401,       2100,    31.3098,   -65.2875,       4653,   871.9,   9.0315,  35.2052,2,  35.2060,2,    149.1,2,   150.2,2,   13.15,2,   23.32,2,    0.00,2,    1.49,2,   1.377,2,   0.725,2,   0.019,2,    0.51,2,  2194.9,6, 2320.46,6,   7.6838,2,       25,   0.299,2,   1.7991,2,    5.83,2,   9.0377,2,    -999,9,    -999,9,    -999,   7.626,2,   0.034,    -999,1,    -999,9,    -999,9,  31.3097, -65.2872,   0.009,   0.0072,    0.15,   8.9327,   9.0377,2,-999,9,-999,-999,9,-999,    35.3720,2,-999,1,20120401,       2225
33AT20120324,        A22,      28,          1,         19,         19,2,20120401,       2100,    31.3098,   -65.2875,       4653,   972.8,   7.1440,  35.1092,2,  35.1100,2,    181.2,2,   182.1,2,   13.25,2,   21.85,2,    0.00,2,    1.42,2,   1.604,2,   0.864,2,   0.047,2,    0.43,2,  2188.6,2, 2317.65,2,   7.6888,2,       25,   0.352,2,   1.8216,2,    6.40,2,   7.1540,2,    -999,9,    -999,9,    -999,   7.832,2,   0.035,    -999,1,    -999,9,    -999,9,  31.3096, -65.2872,   0.008,   0.0073,    0.15,   7.0466,   7.1540,2,-999,9,-999,-999,9,-999,    35.2756,2,-999,1,20120401,       2222
33AT20120324,        A22,      28,          1,         18,         18,2,20120401,       2100,    31.3098,   -65.2875,       4653,  1074.8,   5.9969,  35.0764,2,  35.0762,2,    209.8,2,   210.5,2,   12.52,2,   20.08,2,    0.00,2,    1.33,2,   1.894,2,   0.986,2,   0.078,2,    0.55,2,  2181.9,2, 2317.07,2,   7.7000,2,       25,   0.379,2,   1.8116,2,    6.60,2,   6.0058,2,    -999,9,    -999,9,    -999,   7.860,2,   0.035,    -999,1,    -999,9,    -999,9,  31.3096, -65.2872,   0.011,   0.0072,    0.15,   5.8977,   6.0058,2,-999,9,-999,-999,9,-999,    35.2416,2,-999,1,20120401,       2219
33AT20120324,        A22,      28,          1,         17,         17,2,20120401,       2100,    31.3098,   -65.2875,       4653,  1173.6,   5.4025,  35.0594,2,  35.0592,2,    227.4,2,   227.6,2,   12.17,2,   18.99,2,    0.00,2,    1.26,2,   2.119,2,   1.108,2,   0.114,2,    0.59,2,  2176.6,2, 2314.12,2,   7.7118,2,       25,   0.412,2,   1.8381,2,    6.78,2,   5.4045,2,    -999,9,    -999,9,    -999,   8.000,2,   0.036,    -999,1,    -999,9,    -999,9,  31.3096, -65.2871,   0.014,   0.0074,    0.15,   5.2987,   5.4045,2,-999,9,-999,-999,9,-999,    35.2245,2,-999,1,20120401,       2216
33AT20120324,        A22,      28,          1,         16,         16,2,20120401,       2100,    31.3098,   -65.2875,       4653,  1277.2,   5.0163,  35.0446,2,  35.0444,2,    238.8,2,   238.2,2,   12.00,2,   18.51,2,    0.00,2,    1.23,2,   2.209,2,   1.138,2,   0.113,2,    0.59,2,  2173.9,2, 2313.31,2,   7.7186,2,       25,   0.380,2,   1.8600,2,    6.76,2,   5.0209,2,    -999,9,    -999,9,    -999,   8.072,2,   0.036,    -999,1,    -999,9,    -999,9,  31.3096, -65.2871,   0.010,   0.0074,    0.15,   4.9061,   5.0209,2,-999,9,-999,-999,9,-999,    35.2097,2,-999,1,20120401,       2214
33AT20120324,        A22,      28,          1,         15,         15,2,20120401,       2100,    31.3098,   -65.2875,       4653,  1378.1,   4.7236,  35.0283,2,  35.0283,2,    245.5,2,   245.6,2,   11.95,2,   18.19,2,    0.00,2,    1.21,2,   2.275,2,   1.200,2,   0.116,2,    0.59,2,  2171.1,2, 2312.33,2,   7.7201,2,       25,   0.399,2,   1.8496,2,    7.12,2,   4.7237,2,    -999,9,    -999,9,    -999,   8.033,2,   0.036,    -999,1,    -999,9,    -999,9,  31.3097, -65.2872,   0.010,   0.0074,    0.15,   4.6067,   4.7237,2,-999,9,-999,-999,9,-999,    35.1935,2,-999,1,20120401,       2211
33AT20120324,        A22,      28,          1,         14,         14,2,20120401,       2100,    31.3098,   -65.2875,       4653,  1480.8,   4.4967,  35.0137,2,  35.0135,2,    251.0,2,   250.5,2,   11.91,2,   17.96,2,    0.00,2,    1.19,2,   2.334,2,   1.190,2,   0.124,2,    0.57,2,  2167.8,2, 2314.20,2,   7.7251,2,       25,   0.411,2,   1.8642,2,    7.07,2,   4.5011,2,    -999,9,    -999,9,    -999,   7.980,2,   0.036,    -999,1,    -999,9,    -999,9,  31.3097, -65.2873,   0.010,   0.0075,    0.15,   4.3726,   4.5011,2,-999,9,-999,-999,9,-999,    35.1786,2,-999,1,20120401,       2208
33AT20120324,        A22,      28,          1,         13,         13,2,20120401,       2100,    31.3098,   -65.2875,       4653,  1582.2,   4.3038,  35.0032,2,  35.0029,2,    253.0,2,   253.4,2,   12.18,2,   17.94,2,    0.00,2,    1.19,2,   2.178,2,   1.092,2,   0.115,2,    0.43,2,  2166.3,2, 2313.29,2,   7.7259,2,       25,    -999,9,   1.8617,2,    7.60,2,   4.3036,2,    -999,9,    -999,9,    -999,   7.956,2,   0.036,    -999,1,    -999,9,    -999,9,  31.3097, -65.2873,    -999,   0.0074,    0.15,   4.1724,   4.3036,2,-999,9,-999,-999,9,-999,    35.1679,2,-999,1,20120401,       2206
33AT20120324,        A22,      28,          1,         12,         12,2,20120401,       2100,    31.3098,   -65.2875,       4653,  1752.0,   4.0142,  34.9841,2,  34.9836,2,    257.0,2,   257.4,2,   12.88,2,   17.81,2,    0.00,2,    1.19,2,   1.981,2,   0.982,2,   0.103,2,    0.36,2,  2163.3,2, 2312.21,2,   7.7302,2,       25,   0.343,2,   1.8505,2,    7.94,2,   4.0149,2,    -999,9,    -999,9,    -999,   7.980,2,   0.036,    -999,1,    -999,9,    -999,9,  31.3098, -65.2875,   0.010,   0.0074,    0.15,   3.8703,   4.0149,2,-999,9,-999,-999,9,-999,    35.1486,2,-999,1,20120401,       2202
33AT20120324,        A22,      28,          1,         11,         11,2,20120401,       2100,    31.3098,   -65.2875,       4653,  1954.7,   3.7494,  34.9782,2,  34.9781,2,    258.7,2,   258.7,2,   14.57,2,   17.89,2,    0.00,2,    1.20,2,   1.495,2,   0.698,2,   0.064,2,    0.24,2,  2162.6,2, 2313.85,2,   7.7349,2,       25,   0.347,2,   1.8705,2,    7.44,2,   3.7502,2,    -999,9,    -999,9,    -999,   8.067,2,   0.036,    -999,1,    -999,9,    -999,9,  31.3100, -65.2876,   0.011,   0.0075,    0.15,   3.5899,   3.7502,2,-999,9,-999,-999,9,-999,    35.1430,2,-999,1,20120401,       2158
33AT20120324,        A22,      28,          1,         10,         10,2,20120401,       2100,    31.3098,   -65.2875,       4653,  2189.1,   3.4486,  34.9630,2,  34.9625,2,    260.3,2,   260.2,2,   16.73,2,   17.96,2,    0.00,2,    1.21,2,   1.206,2,   0.579,2,   0.050,2,    0.19,2,  2165.6,6, 2316.63,2,   7.7368,2,       25,    -999,9,     -999,9,    -999,9,   3.4487,2,    -999,9,    -999,9,    -999,    -999,9,    -999,    -999,1,    -999,9,    -999,9,  31.3100, -65.2878,    -999,     -999,    -999,   3.2712,   3.4487,2,-999,9,-999,-999,9,-999,    35.1274,2,-999,1,20120401,       2153
33AT20120324,        A22,      28,          1,          9,          9,2,20120401,       2100,    31.3098,   -65.2875,       4653,  2444.7,   3.2025,  34.9527,2,  34.9521,2,    259.8,2,   259.9,2,   19.18,2,   18.17,2,    0.00,2,    1.22,2,   0.936,2,   0.449,2,   0.030,2,    0.18,2,  2163.9,2, 2318.68,2,   7.7393,2,       25,   0.204,2,   1.8554,2,    5.70,2,   3.2034,2,    -999,9,    -999,9,    -999,   7.991,2,   0.036,    -999,1,    -999,9,    -999,9,  31.3100, -65.2878,   0.011,   0.0074,    0.15,   3.0043,   3.2034,2,-999,9,-999,-999,9,-999,    35.1169,2,-999,1,20120401,       2147
33AT20120324,        A22,      28,          1,          8,          8,2,20120401,       2100,    31.3098,   -65.2875,       4653,  2699.6,   2.9765,  34.9430,2,  34.9428,2,    259.7,2,   260.3,2,   21.78,2,   18.42,2,    0.00,2,    1.24,2,   0.716,2,   0.333,2,   0.022,2,    0.15,2,  2164.6,2, 2321.19,2,   7.7409,2,       25,    -999,9,     -999,9,    -999,9,   2.9766,2,    -999,9,    -999,9,    -999,    -999,9,    -999,    -999,1,    -999,9,    -999,9,  31.3100, -65.2878,    -999,     -999,    -999,   2.7571,   2.9766,2,-999,9,-999,-999,9,-999,    35.1076,2,-999,1,20120401,       2142
33AT20120324,        A22,      28,          1,          7,          7,2,20120401,       2100,    31.3098,   -65.2875,       4653,  2953.6,   2.7416,  34.9281,2,  34.9273,2,    262.3,2,   262.3,2,   23.02,2,   18.22,2,    0.00,2,    1.24,2,   0.724,2,   0.335,2,   0.025,2,    0.19,2,  2165.2,2, 2321.38,2,   7.7431,2,       25,    -999,9,     -999,9,    -999,9,   2.7423,2,    -999,9,    -999,9,    -999,    -999,9,    -999,    -999,1,    -999,9,    -999,9,  31.3100, -65.2878,    -999,     -999,    -999,   2.5012,   2.7423,2,-999,9,-999,-999,9,-999,    35.0920,2,-999,1,20120401,       2136
33AT20120324,        A22,      28,          1,          6,          6,2,20120401,       2100,    31.3098,   -65.2875,       4653,  3243.1,   2.5020,  34.9132,2,  34.9123,2,    265.1,2,   265.2,2,   24.37,2,   18.04,2,    0.00,2,    1.23,2,   0.739,2,   0.348,2,   0.032,2,    0.15,2,  2166.1,2, 2322.15,2,   7.7430,2,       25,   0.165,2,   1.8764,2,    5.34,2,   2.5029,2,    -999,9,    -999,9,    -999,   8.053,2,   0.036,    -999,1,    -999,9,    -999,9,  31.3100, -65.2878,   0.010,   0.0075,    0.15,   2.2369,   2.5029,2,-999,9,-999,-999,9,-999,    35.0769,2,-999,1,20120401,       2130