BOTTLE,20220725CCHSIOCBG
EXPOCODE,SECT_ID,STNNBR,CASTNO,SAMPNO,BTLNBR,BTLNBR_FLAG_W,DATE,TIME,LATITUDE,LONGITUDE,DEPTH,CTDPRS,CTDTMP,CTDSAL,CTDSAL_FLAG_W,SALNTY,SALNTY_FLAG_W,CTDOXY,CTDOXY_FLAG_W,OXYGEN,OXYGEN_FLAG_W,SILCAT,SILCAT_FLAG_W,NITRAT,NITRAT_FLAG_W,NITRIT,NITRIT_FLAG_W,PHSPHT,PHSPHT_FLAG_W,CFC-11,CFC-11_FLAG_W,CFC-12,CFC-12_FLAG_W,CFC113,CFC113_FLAG_W,SF6,SF6_FLAG_W,TCARBN,TCARBN_FLAG_W,ALKALI,ALKALI_FLAG_W,PH_TOT,PH_TOT_FLAG_W,PH_TMP,TRITUM,TRITUM_FLAG_W,HELIUM,HELIUM_FLAG_W,DELHE3,DELHE3_FLAG_W,REFTMP,REFTMP_FLAG_W,DELC13,DELC13_FLAG_W,DELC14,DELC14_FLAG_W,C14ERR,NEON,NEON_FLAG_W,NEONER,CCL4,CCL4_FLAG_W,DOC,DOC_FLAG_W,TDN,TDN_FLAG_W,BTL_LAT,BTL_LON,TRITER,HELIER,DELHER,THETA,SBE35,SBE35_FLAG_W,14C-DOC,14C-DOC_FLAG_W,14C-DOCERR,13C-DOC,13C-DOC_FLAG_W,13C-DOCERR,SALTREF,SALTREF_FLAG_W,LAB_DEN,LAB_DEN_FLAG_W,BTL_DATE,BTL_TIME
,,,,,,,,,,,METERS,DBAR,ITS-90,PSS-78,,PSS-78,,UMOL/KG,,UMOL/KG,,UMOL/KG,,UMOL/KG,,UMOL/KG,,UMOL/KG,,PMOL/KG,,PMOL/KG,,PMOL/KG,,FMOL/KG,,UMOL/KG,,UMOL/KG,,,,DEG C,TU,,NMOL/KG,,PERCNT,,DEG C,,/MILLE,,/MILLE,,/MILLE,NMOL/KG,,NMOL/KG,PMOL/KG,,UMOL/KG,,UMOL/KG,,,,TU,NMOL/KG,PERCNT,DEG C,ITS-90,,/MILLE,,/MILLE,/MILLE,,/MILLE,G/KG,,KG/M^3,,,
33AT20120324,        A22,      51,          1,         33,         33,2,20120408,       1558,    18.8375,   -66.0016,       2528,     3.2,  26.9257,  35.8138,2,  35.8171,2,    201.8,2,   202.1,2,    1.40,2,    0.00,2,    0.00,2,    0.00,2,   1.578,2,   1.014,2,   0.125,2,    1.15,4,  2004.7,6, 2349.26,6,   8.1016,2,       25,    -999,9,     -999,9,    -999,9,  26.9282,2,    -999,9,    -999,9,    -999,    -999,9,    -999,    1.66,2,   73.78,2,    4.44,2,  18.8358, -66.0018,    -999,     -999,    -999,  26.9250,  26.9282,2,-999,9,-999,-999,9,-999,    35.9860,2,-999,9,20120408,       1718
33AT20120324,        A22,      51,          1,         32,         32,2,20120408,       1558,    18.8375,   -66.0016,       2528,    37.3,  26.1924,  36.1179,2,  36.1176,2,    205.2,2,   204.5,2,    1.06,2,    0.00,2,    0.00,2,    0.00,2,   1.605,2,   1.030,2,   0.124,2,    1.09,4,  2011.6,2, 2366.33,2,   8.1103,2,       25,    -999,9,     -999,9,    -999,9,  26.1918,2,    -999,9,    -999,9,    -999,    -999,9,    -999,    1.61,2,   72.69,2,    4.64,2,  18.8360, -66.0018,    -999,     -999,    -999,  26.1840,  26.1918,2,-999,9,-999,-999,9,-999,    36.2879,2,-999,9,20120408,       1714
33AT20120324,        A22,      51,          1,         31,         31,2,20120408,       1558,    18.8375,   -66.0016,       2528,    62.3,  25.7343,  36.2268,2,  36.2438,2,    205.7,2,   203.9,2,    0.87,2,    0.00,2,    0.00,2,    0.00,2,   1.647,2,   1.058,2,   0.122,2,    0.91,4,    -999,9,    -999,9,     -999,9,     -999,    -999,9,     -999,9,    -999,9,  25.7342,2,    -999,9,    -999,9,    -999,    -999,9,    -999,    1.34,2,   70.51,2,    4.55,2,  18.8360, -66.0018,    -999,     -999,    -999,  25.7204,  25.7342,2,-999,9,-999,-999,9,-999,    36.4147,2,-999,9,20120408,       1712
33AT20120324,        A22,      51,          1,         30,         30,2,20120408,       1558,    18.8375,   -66.0016,       2528,    87.6,  25.2704,  36.4773,2,  36.5256,2,    208.6,2,   205.1,2,    0.59,2,    0.00,2,    0.00,2,    0.00,2,   1.681,2,   1.072,2,   0.120,2,    0.82,4,  2033.9,2, 2391.34,2,   8.1043,2,       25,    -999,9,     -999,9,    -999,9,  25.2650,2,    -999,9,    -999,9,    -999,    -999,9,    -999,    1.22,2,   67.71,2,    4.61,2,  18.8361, -66.0018,    -999,     -999,    -999,  25.2511,  25.2650,2,-999,9,-999,-999,9,-999,    36.6979,2,-999,9,20120408,       1710
33AT20120324,        A22,      51,          1,         29,         29,2,20120408,       1558,    18.8375,   -66.0016,       2528,   110.0,  25.1128,  37.0818,2,  37.0850,2,    191.5,2,   185.5,2,    0.31,2,    0.11,2,    0.07,2,    0.00,2,   1.713,2,   1.075,2,   0.117,2,    0.51,4,    -999,9,    -999,9,     -999,9,     -999,    -999,9,     -999,9,    -999,9,  25.1107,2,    -999,9,    -999,9,    -999,    -999,9,    -999,    0.57,2,   64.37,2,    4.33,2,  18.8362, -66.0018,    -999,     -999,    -999,  25.0887,  25.1107,2,-999,9,-999,-999,9,-999,    37.2599,2,-999,9,20120408,       1707
33AT20120324,        A22,      51,          1,         28,         28,2,20120408,       1558,    18.8375,   -66.0016,       2528,   134.9,  23.6589,  37.1111,2,  37.1091,2,    179.3,2,   182.1,2,    0.28,2,    0.78,2,    0.04,2,    0.02,2,   1.786,2,   1.133,2,   0.111,2,    1.75,4,  2105.1,2, 2425.21,2,   8.0348,2,       25,    -999,9,     -999,9,    -999,9,  23.6587,2,    -999,9,    -999,9,    -999,    -999,9,    -999,    0.51,2,   60.34,2,    4.90,2,  18.8363, -66.0018,    -999,     -999,    -999,  23.6305,  23.6587,2,-999,9,-999,-999,9,-999,    37.2841,2,-999,9,20120408,       1705
33AT20120324,        A22,      51,          1,         27,         27,2,20120408,       1558,    18.8375,   -66.0016,       2528,   160.3,  22.1592,  36.9981,2,  36.9943,2,    170.1,2,   172.1,2,    0.56,2,    2.12,2,    0.03,2,    0.09,2,   1.862,2,   1.186,2,   0.070,2,    0.70,4,    -999,9,    -999,9,     -999,9,     -999,    -999,9,     -999,9,    -999,9,  22.1663,2,    -999,9,    -999,9,    -999,    -999,9,    -999,    0.32,2,   56.79,2,    6.06,2,  18.8363, -66.0018,    -999,     -999,    -999,  22.1270,  22.1663,2,-999,9,-999,-999,9,-999,    37.1687,2,-999,9,20120408,       1704
33AT20120324,        A22,      51,          1,         26,         26,2,20120408,       1558,    18.8375,   -66.0016,       2528,   185.9,  20.6639,  36.8135,2,  36.8115,2,    189.3,2,   188.0,2,    0.31,2,    1.07,2,    0.02,2,    0.01,2,   1.985,2,   1.270,2,   0.065,2,    0.93,4,  2109.5,2, 2405.21,2,   7.9980,6,       25,    -999,9,     -999,9,    -999,9,  20.6620,2,    -999,9,    -999,9,    -999,    -999,9,    -999,    0.37,2,   51.97,2,    4.88,2,  18.8364, -66.0018,    -999,     -999,    -999,  20.6284,  20.6620,2,-999,9,-999,-999,9,-999,    36.9851,2,-999,9,20120408,       1702
33AT20120324,        A22,      51,          1,         25,         25,2,20120408,       1558,    18.8375,   -66.0016,       2528,   211.9,  19.4720,  36.7433,2,  36.7342,2,    175.5,2,   176.3,2,    0.79,2,    3.80,2,    0.01,2,    0.15,2,   2.080,2,   1.304,2,   0.020,2,    0.61,4,  2128.0,2, 2398.60,2,   7.9600,2,       25,    -999,9,     -999,9,    -999,9,  19.4721,2,    -999,9,    -999,9,    -999,    -999,9,    -999,    0.24,2,   48.21,2,    7.05,2,  18.8364, -66.0017,    -999,     -999,    -999,  19.4331,  19.4721,2,-999,9,-999,-999,9,-999,    36.9074,2,-999,9,20120408,       1700
33AT20120324,        A22,      51,          1,         24,         24,2,20120408,       1558,    18.8375,   -66.0016,       2528,   267.1,  18.3067,  36.5831,2,  36.5831,2,    188.1,2,   189.9,2,    1.03,2,    4.65,2,    0.01,2,    0.20,2,   2.204,2,   1.375,2,   0.019,2,    1.03,4,  2118.3,2, 2385.55,2,   7.9637,2,       25,    -999,9,     -999,9,    -999,9,  18.3081,2,    -999,9,    -999,9,    -999,    -999,9,    -999,    0.34,2,   51.32,2,    8.34,2,  18.8365, -66.0017,    -999,     -999,    -999,  18.2597,  18.3081,2,-999,9,-999,-999,9,-999,    36.7556,2,-999,9,20120408,       1659
33AT20120324,        A22,      51,          1,         23,         23,2,20120408,       1558,    18.8375,   -66.0016,       2528,   317.4,  17.7855,  36.5043,2,  36.5031,2,    187.3,2,   192.8,2,    1.30,2,    5.37,2,    0.01,2,    0.26,2,   2.217,2,   1.360,2,   0.021,2,    0.90,4,    -999,9,    -999,9,     -999,9,     -999,    -999,9,     -999,9,    -999,9,  17.7838,2,    -999,9,    -999,9,    -999,    -999,9,    -999,    0.41,2,   52.33,2,    9.30,2,  18.8366, -66.0017,    -999,     -999,    -999,  17.7307,  17.7838,2,-999,9,-999,-999,9,-999,    36.6752,2,-999,9,20120408,       1657
33AT20120324,        A22,      51,          1,         22,         22,2,20120408,       1558,    18.8375,   -66.0016,       2528,   367.3,  17.0570,  36.3706,2,  36.3712,2,    180.3,2,   180.6,2,    2.03,2,    7.93,2,    0.01,2,    0.42,2,   2.231,2,   1.369,2,   0.021,2,    0.83,4,  2131.7,2, 2376.68,2,   7.9205,2,       25,    -999,9,     -999,9,    -999,9,  17.0563,2,    -999,9,    -999,9,    -999,    -999,9,    -999,    0.34,2,   49.65,2,   10.44,2,  18.8367, -66.0017,    -999,     -999,    -999,  16.9954,  17.0563,2,-999,9,-999,-999,9,-999,    36.5427,2,-999,9,20120408,       1655
33AT20120324,        A22,      51,          1,         21,         21,2,20120408,       1558,    18.8375,   -66.0016,       2528,   415.5,  15.6120,  36.1149,2,  36.1080,2,    164.0,2,   162.9,2,    3.54,2,   11.81,2,    0.00,2,    0.68,2,   2.202,2,   1.283,2,   0.019,2,    0.93,4,    -999,9,    -999,9,     -999,9,     -999,    -999,9,     -999,9,    -999,9,  15.6116,2,    -999,9,    -999,9,    -999,    -999,9,    -999,    0.32,2,   47.72,2,   14.38,2,  18.8367, -66.0017,    -999,     -999,    -999,  15.5464,  15.6116,2,-999,9,-999,-999,9,-999,    36.2782,2,-999,9,20120408,       1653
33AT20120324,        A22,      51,          1,         20,         20,2,20120408,       1558,    18.8375,   -66.0016,       2528,   467.4,  14.0722,  35.8497,2,  35.8480,2,    150.2,2,   149.4,2,    5.45,2,   15.76,2,    0.00,2,    0.93,2,   2.062,2,   1.167,2,   0.021,2,    0.39,4,  2164.5,2, 2357.98,2,   7.8017,2,       25,    -999,9,     -999,9,    -999,9,  14.0724,2,    -999,9,    -999,9,    -999,    -999,9,    -999,    0.29,2,   46.21,2,   18.48,2,  18.8368, -66.0017,    -999,     -999,    -999,  14.0033,  14.0724,2,-999,9,-999,-999,9,-999,    36.0171,2,-999,9,20120408,       1651
33AT20120324,        A22,      51,          1,         19,         19,2,20120408,       1558,    18.8375,   -66.0016,       2528,   538.4,  12.5165,  35.5970,2,  35.5843,2,    142.2,2,   139.5,2,    7.85,2,   19.56,2,    0.00,2,    1.20,2,   1.758,2,   0.974,2,   0.020,2,    0.23,4,    -999,9,    -999,9,     -999,9,     -999,    -999,9,     -999,9,    -999,9,  12.5153,2,    -999,9,    -999,9,    -999,    -999,9,    -999,    0.28,2,   45.21,2,   22.06,2,  18.8369, -66.0017,    -999,     -999,    -999,  12.4429,  12.5153,2,-999,9,-999,-999,9,-999,    35.7521,2,-999,9,20120408,       1649
33AT20120324,        A22,      51,          1,         18,         18,2,20120408,       1558,    18.8375,   -66.0016,       2528,   639.1,  10.2801,  35.2650,2,  35.2800,2,    131.6,2,   131.5,2,   12.15,2,   24.40,2,    0.00,2,    1.53,2,   1.229,2,   0.636,2,   0.017,2,    0.33,4,  2192.6,2, 2322.59,2,   7.6793,2,       25,    -999,9,     -999,9,    -999,9,  10.3030,2,    -999,9,    -999,9,    -999,    -999,9,    -999,    0.30,2,   44.32,2,   27.35,2,  18.8369, -66.0016,    -999,     -999,    -999,  10.2027,  10.3030,2,-999,9,-999,-999,9,-999,    35.4464,2,-999,9,20120408,       1647
33AT20120324,        A22,      51,          1,         17,         17,2,20120408,       1558,    18.8375,   -66.0016,       2528,   740.9,   8.5038,  35.0276,2,  35.0305,2,    127.2,2,   127.3,2,   16.81,2,   28.26,2,    0.00,2,    1.82,2,   0.761,2,   0.414,2,   0.008,2,    0.17,4,  2203.6,2, 2321.37,2,   7.6278,2,       25,    -999,9,     -999,9,    -999,9,   8.5030,2,    -999,9,    -999,9,    -999,    -999,9,    -999,    0.25,2,   43.48,2,   32.08,2,  18.8370, -66.0016,    -999,     -999,    -999,   8.4234,   8.5030,2,-999,9,-999,-999,9,-999,    35.1957,2,-999,9,20120408,       1644
33AT20120324,        A22,      51,          1,         16,         16,2,20120408,       1558,    18.8375,   -66.0016,       2528,   839.2,   7.0817,  34.8845,2,  34.8908,2,    133.5,2,   133.4,2,   20.75,2,   30.06,2,    0.00,2,    1.97,2,   0.415,2,   0.221,2,   0.005,2,    0.00,4,  2209.7,2, 2311.60,2,   7.6044,2,       25,    -999,9,     -999,9,    -999,9,   7.0807,2,    -999,9,    -999,9,    -999,    -999,9,    -999,    0.21,2,   42.89,2,   32.78,2,  18.8371, -66.0016,    -999,     -999,    -999,   6.9991,   7.0807,2,-999,9,-999,-999,9,-999,    35.0554,2,-999,9,20120408,       1641
33AT20120324,        A22,      51,          1,         15,         15,2,20120408,       1558,    18.8375,   -66.0016,       2528,   941.2,   6.7222,  34.9556,2,  34.9631,2,    150.3,2,   151.7,2,   19.64,2,   27.65,2,    0.00,2,    1.82,2,   0.431,2,   0.220,2,   0.010,2,    0.00,4,  2203.5,2, 2315.46,2,   7.6351,2,       25,    -999,9,     -999,9,    -999,9,   6.7214,2,    -999,9,    -999,9,    -999,    -999,9,    -999,    0.27,2,   42.26,2,   31.57,2,  18.8371, -66.0016,    -999,     -999,    -999,   6.6313,   6.7214,2,-999,9,-999,-999,9,-999,    35.1279,2,-999,9,20120408,       1639
33AT20120324,        A22,      51,          1,         14,         14,2,20120408,       1558,    18.8375,   -66.0016,       2528,  1042.3,   6.2051,  35.0228,2,  35.0247,2,    178.2,2,   182.6,2,   17.11,2,   24.06,2,    0.00,2,    1.59,2,   0.688,2,   0.352,2,   0.018,2,    0.09,4,  2190.2,2, 2319.46,2,   7.6740,2,       25,    -999,9,     -999,9,    -999,9,   6.2077,2,    -999,9,    -999,9,    -999,    -999,9,    -999,    0.53,2,   41.76,2,   26.89,2,  18.8372, -66.0016,    -999,     -999,    -999,   6.1076,   6.2077,2,-999,9,-999,-999,9,-999,    35.1898,2,-999,9,20120408,       1636
33AT20120324,        A22,      51,          1,         13,         13,2,20120408,       1558,    18.8375,   -66.0016,       2528,  1143.4,   5.7176,  35.0432,2,  35.0452,2,    203.9,2,   206.5,2,   15.19,2,   21.66,2,    0.00,2,    1.44,2,   1.005,2,   0.501,2,   0.039,2,    0.21,4,    -999,9,    -999,9,     -999,9,     -999,    -999,9,     -999,9,    -999,9,   5.7180,2,    -999,9,    -999,9,    -999,    -999,9,    -999,    0.87,2,   41.23,2,   24.33,2,  18.8372, -66.0016,    -999,     -999,    -999,   5.6140,   5.7180,2,-999,9,-999,-999,9,-999,    35.2104,2,-999,9,20120408,       1634
33AT20120324,        A22,      51,          1,         12,         12,2,20120408,       1558,    18.8375,   -66.0016,       2528,  1246.0,   5.0981,  35.0373,2,  35.0383,2,    228.3,2,   230.1,2,   13.39,2,   19.58,2,    0.00,2,    1.31,2,   1.472,2,   0.745,2,   0.070,2,    0.65,4,    -999,9,    -999,9,     -999,9,     -999,    -999,9,     -999,9,    -999,9,   5.0989,2,    -999,9,    -999,9,    -999,    -999,9,    -999,    1.34,2,   41.03,2,   21.91,2,  18.8373, -66.0016,    -999,     -999,    -999,   4.9901,   5.0989,2,-999,9,-999,-999,9,-999,    35.2035,2,-999,9,20120408,       1631
33AT20120324,        A22,      51,          1,         11,         11,2,20120408,       1558,    18.8375,   -66.0016,       2528,  1347.9,   4.6609,  35.0177,2,  35.0194,2,    242.4,2,   259.4,4,   13.19,2,   18.89,2,    0.00,2,    1.26,2,   1.532,2,   0.766,2,   0.075,2,    0.71,4,    -999,9,    -999,9,     -999,9,     -999,    -999,9,     -999,9,    -999,9,   4.6607,2,    -999,9,    -999,9,    -999,    -999,9,    -999,    1.45,2,   41.50,2,   21.12,2,  18.8373, -66.0016,    -999,     -999,    -999,   4.5475,   4.6607,2,-999,9,-999,-999,9,-999,    35.1845,2,-999,9,20120408,       1628
33AT20120324,        A22,      51,          1,         10,         10,2,20120408,       1558,    18.8375,   -66.0016,       2528,  1446.2,   4.3978,  35.0048,2,  35.0057,2,    250.7,2,   250.1,2,   12.71,2,   18.34,2,    0.00,2,    1.23,2,   1.650,2,   0.844,2,   0.085,2,    0.22,4,    -999,9,    -999,9,     -999,9,     -999,    -999,9,     -999,9,    -999,9,   4.3960,2,    -999,9,    -999,9,    -999,    -999,9,    -999,    1.62,2,   41.32,2,   20.60,2,  18.8374, -66.0016,    -999,     -999,    -999,   4.2780,   4.3960,2,-999,9,-999,-999,9,-999,    35.1707,2,-999,9,20120408,       1626
33AT20120324,        A22,      51,          1,          9,          9,2,20120408,       1558,    18.8375,   -66.0016,       2528,  1548.9,   4.1461,  34.9902,2,  34.9917,2,    255.9,2,   256.1,2,   12.85,2,   18.06,2,    0.00,2,    1.21,2,   1.648,2,   0.807,2,   0.080,2,    0.13,4,  2165.4,2, 2312.14,2,   7.7274,2,       25,    -999,9,     -999,9,    -999,9,   4.1461,2,    -999,9,    -999,9,    -999,    -999,9,    -999,    1.78,2,   41.52,2,   20.74,2,  18.8375, -66.0016,    -999,     -999,    -999,   4.0196,   4.1461,2,-999,9,-999,-999,9,-999,    35.1567,2,-999,9,20120408,       1623
33AT20120324,        A22,      51,          1,          8,          8,2,20120408,       1558,    18.8375,   -66.0016,       2528,  1645.6,   3.9474,  34.9793,2,  34.9813,2,    259.5,2,   258.8,2,   13.20,2,   17.96,2,    0.00,2,    1.20,2,   1.499,2,   0.807,2,   0.070,2,    0.00,4,    -999,9,    -999,9,     -999,9,     -999,    -999,9,     -999,9,    -999,9,   3.9481,2,    -999,9,    -999,9,    -999,    -999,9,    -999,    1.84,2,   41.33,2,   20.31,2,  18.8376, -66.0016,    -999,     -999,    -999,   3.8144,   3.9481,2,-999,9,-999,-999,9,-999,    35.1462,2,-999,9,20120408,       1621
33AT20120324,        A22,      51,          1,          7,          7,2,20120408,       1558,    18.8375,   -66.0016,       2528,  1750.9,   3.8124,  34.9720,2,  34.9740,2,    261.4,2,   262.3,2,   13.68,2,   17.92,2,    0.00,2,    1.20,2,   1.475,2,   0.790,2,   0.070,2,    0.00,4,    -999,9,    -999,9,     -999,9,     -999,    -999,9,     -999,9,    -999,9,   3.8120,2,    -999,9,    -999,9,    -999,    -999,9,    -999,    1.83,2,   41.37,2,   20.73,2,  18.8376, -66.0016,    -999,     -999,    -999,   3.6713,   3.8120,2,-999,9,-999,-999,9,-999,    35.1389,2,-999,9,20120408,       1618
33AT20120324,        A22,      51,          1,          6,          6,2,20120408,       1558,    18.8375,   -66.0016,       2528,  1852.8,   3.7096,  34.9678,2,  34.9689,2,    261.8,2,   261.6,2,   14.27,2,   17.94,2,    0.00,2,    1.20,2,   1.347,2,   0.701,2,   0.064,2,    0.00,4,    -999,9,    -999,9,     -999,9,     -999,    -999,9,     -999,9,    -999,9,   3.7096,2,    -999,9,    -999,9,    -999,    -999,9,    -999,    1.50,2,   41.41,2,   20.55,2,  18.8376, -66.0015,    -999,     -999,    -999,   3.5604,   3.7096,2,-999,9,-999,-999,9,-999,    35.1338,2,-999,9,20120408,       1615
33AT20120324,        A22,      51,          1,          5,          5,2,20120408,       1558,    18.8375,   -66.0016,       2528,  1954.3,   3.5931,  34.9633,2,  34.9648,2,    262.4,2,   262.8,2,   15.03,2,   17.92,2,    0.00,2,    1.20,2,   1.287,2,   0.641,2,   0.058,2,    0.41,4,    -999,9,    -999,9,     -999,9,     -999,    -999,9,     -999,9,    -999,9,   3.5924,2,    -999,9,    -999,9,    -999,    -999,9,    -999,    1.73,2,   41.44,2,   20.34,2,  18.8376, -66.0015,    -999,     -999,    -999,   3.4359,   3.5924,2,-999,9,-999,-999,9,-999,    35.1297,2,-999,9,20120408,       1613
33AT20120324,        A22,      51,          1,          4,          4,2,20120408,       1558,    18.8375,   -66.0016,       2528,  2083.7,   3.4836,  34.9598,2,  34.9619,2,    262.2,2,   262.7,2,   15.89,2,   17.95,2,    0.00,2,    1.21,2,   1.144,2,   0.570,2,   0.048,2,    0.00,4,  2162.8,2, 2313.42,3,   7.7363,6,       25,    -999,9,     -999,9,    -999,9,   3.4831,2,    -999,9,    -999,9,    -999,    -999,9,    -999,    1.59,2,   40.35,2,   20.95,2,  18.8376, -66.0016,    -999,     -999,    -999,   3.3158,   3.4831,2,-999,9,-999,-999,9,-999,    35.1268,2,-999,9,20120408,       1610
33AT20120324,        A22,      51,          1,          3,          3,2,20120408,       1558,    18.8375,   -66.0016,       2528,  2289.0,   3.2746,  34.9530,2,  34.9544,2,    262.7,2,   263.0,2,   17.80,2,   18.04,2,    0.00,2,    1.22,2,   0.909,2,   0.454,2,   0.031,2,    0.00,4,    -999,9,    -999,9,     -999,9,     -999,    -999,9,     -999,9,    -999,9,   3.2772,2,    -999,9,    -999,9,    -999,    -999,9,    -999,    1.30,2,   40.03,2,   20.63,2,  18.8376, -66.0016,    -999,     -999,    -999,   3.0904,   3.2772,2,-999,9,-999,-999,9,-999,    35.1193,2,-999,9,20120408,       1605