BOTTLE,20220725CCHSIOCBG
EXPOCODE,SECT_ID,STNNBR,CASTNO,SAMPNO,BTLNBR,BTLNBR_FLAG_W,DATE,TIME,LATITUDE,LONGITUDE,DEPTH,CTDPRS,CTDTMP,CTDSAL,CTDSAL_FLAG_W,SALNTY,SALNTY_FLAG_W,CTDOXY,CTDOXY_FLAG_W,OXYGEN,OXYGEN_FLAG_W,SILCAT,SILCAT_FLAG_W,NITRAT,NITRAT_FLAG_W,NITRIT,NITRIT_FLAG_W,PHSPHT,PHSPHT_FLAG_W,CFC-11,CFC-11_FLAG_W,CFC-12,CFC-12_FLAG_W,CFC113,CFC113_FLAG_W,SF6,SF6_FLAG_W,TCARBN,TCARBN_FLAG_W,ALKALI,ALKALI_FLAG_W,PH_TOT,PH_TOT_FLAG_W,PH_TMP,TRITUM,TRITUM_FLAG_W,HELIUM,HELIUM_FLAG_W,DELHE3,DELHE3_FLAG_W,REFTMP,REFTMP_FLAG_W,DELC13,DELC13_FLAG_W,DELC14,DELC14_FLAG_W,C14ERR,NEON,NEON_FLAG_W,NEONER,CCL4,CCL4_FLAG_W,DOC,DOC_FLAG_W,TDN,TDN_FLAG_W,BTL_LAT,BTL_LON,TRITER,HELIER,DELHER,THETA,SBE35,SBE35_FLAG_W,14C-DOC,14C-DOC_FLAG_W,14C-DOCERR,13C-DOC,13C-DOC_FLAG_W,13C-DOCERR,SALTREF,SALTREF_FLAG_W,LAB_DEN,LAB_DEN_FLAG_W,BTL_DATE,BTL_TIME
,,,,,,,,,,,METERS,DBAR,ITS-90,PSS-78,,PSS-78,,UMOL/KG,,UMOL/KG,,UMOL/KG,,UMOL/KG,,UMOL/KG,,UMOL/KG,,PMOL/KG,,PMOL/KG,,PMOL/KG,,FMOL/KG,,UMOL/KG,,UMOL/KG,,,,DEG C,TU,,NMOL/KG,,PERCNT,,DEG C,,/MILLE,,/MILLE,,/MILLE,NMOL/KG,,NMOL/KG,PMOL/KG,,UMOL/KG,,UMOL/KG,,,,TU,NMOL/KG,PERCNT,DEG C,ITS-90,,/MILLE,,/MILLE,/MILLE,,/MILLE,G/KG,,KG/M^3,,,
33AT20120324,        A22,      36,          1,         36,         36,2,20120404,       1250,    25.7187,   -65.6621,       5156,     3.7,  23.0891,  36.7659,2,  36.7664,2,    212.0,2,   213.6,2,    0.54,2,    0.00,2,    0.00,2,    0.00,2,   1.868,2,   1.182,2,   0.150,2,    1.28,2,  2058.2,6, 2411.39,2,   8.0930,6,       25,    -999,9,     -999,9,    -999,9,  23.0907,2,    -999,9,    -999,9,    -999,    -999,9,    -999,    -999,1,    -999,9,    -999,9,  25.7178, -65.6647,    -999,     -999,    -999,  23.0883,  23.0907,2,-999,9,-999,-999,9,-999,    36.9398,2,-999,9,20120404,       1456
33AT20120324,        A22,      36,          1,         35,         35,2,20120404,       1250,    25.7187,   -65.6621,       5156,    35.7,  23.0140,  36.7679,2,  36.7696,2,    215.1,2,   214.0,2,    0.55,2,    0.00,2,    0.00,2,    0.00,2,   1.870,2,   1.176,2,   0.157,2,    1.36,2,  2056.9,2, 2412.94,2,   8.0932,2,       25,    -999,9,     -999,9,    -999,9,  23.0263,2,    -999,9,    -999,9,    -999,    -999,9,    -999,    -999,1,    -999,9,    -999,9,  25.7178, -65.6647,    -999,     -999,    -999,  23.0067,  23.0263,2,-999,9,-999,-999,9,-999,    36.9429,2,-999,9,20120404,       1453
33AT20120324,        A22,      36,          1,         34,         34,2,20120404,       1250,    25.7187,   -65.6621,       5156,    62.7,  22.7220,  36.8363,2,  36.8348,2,    216.9,2,   216.2,2,    0.38,2,    0.00,2,    0.00,2,    0.00,2,   1.896,2,   1.190,2,   0.152,2,    1.34,2,    -999,9,    -999,9,     -999,9,     -999,    -999,9,     -999,9,    -999,9,  22.7321,2,    -999,9,    -999,9,    -999,    -999,9,    -999,    -999,1,    -999,9,    -999,9,  25.7178, -65.6647,    -999,     -999,    -999,  22.7092,  22.7321,2,-999,9,-999,-999,9,-999,    37.0085,2,-999,9,20120404,       1451
33AT20120324,        A22,      36,          1,         33,         33,2,20120404,       1250,    25.7187,   -65.6621,       5156,    86.1,  22.5634,  36.8392,2,  36.8402,2,    217.6,2,   216.4,2,    0.26,2,    0.00,2,    0.00,2,    0.00,2,   1.932,2,   1.244,2,   0.172,2,    1.21,2,  2066.0,2, 2408.87,2,   8.0855,2,       25,    -999,9,     -999,9,    -999,9,  22.5672,2,    -999,9,    -999,9,    -999,    -999,9,    -999,    -999,1,    -999,9,    -999,9,  25.7178, -65.6647,    -999,     -999,    -999,  22.5459,  22.5672,2,-999,9,-999,-999,9,-999,    37.0139,2,-999,9,20120404,       1449
33AT20120324,        A22,      36,          1,         32,         32,2,20120404,       1250,    25.7187,   -65.6621,       5156,   117.1,  22.1625,  36.8370,2,  36.8400,2,    213.5,2,   211.0,2,    0.32,2,    0.00,2,    0.00,2,    0.00,2,   1.984,2,   1.264,2,   0.146,2,    1.28,2,  2079.9,2, 2408.91,2,   8.0649,2,       25,    -999,9,     -999,9,    -999,9,  22.1363,2,    -999,9,    -999,9,    -999,    -999,9,    -999,    -999,1,    -999,9,    -999,9,  25.7178, -65.6647,    -999,     -999,    -999,  22.1390,  22.1363,2,-999,9,-999,-999,9,-999,    37.0137,2,-999,9,20120404,       1447
33AT20120324,        A22,      36,          1,         31,         31,2,20120404,       1250,    25.7187,   -65.6621,       5156,   169.0,  19.9266,  36.7329,2,  36.7364,2,    191.7,2,   192.5,2,    0.52,2,    1.10,2,    0.03,2,    0.00,2,   2.144,2,   1.330,2,   0.078,2,    1.23,2,    -999,9,    -999,9,     -999,9,     -999,    -999,9,     -999,9,    -999,9,  19.9398,2,    -999,9,    -999,9,    -999,    -999,9,    -999,    -999,1,    -999,9,    -999,9,  25.7178, -65.6647,    -999,     -999,    -999,  19.8951,  19.9398,2,-999,9,-999,-999,9,-999,    36.9096,2,-999,9,20120404,       1444
33AT20120324,        A22,      36,          1,         30,         30,2,20120404,       1250,    25.7187,   -65.6621,       5156,   215.3,  18.7792,  36.6361,2,  36.6382,2,    194.7,2,   194.7,2,    0.77,2,    2.91,2,    0.01,2,    0.09,2,   2.261,2,   1.386,2,   0.033,2,    1.22,2,  2116.6,2, 2394.60,2,   7.9852,2,       25,    -999,9,     -999,9,    -999,9,  18.7612,2,    -999,9,    -999,9,    -999,    -999,9,    -999,    -999,1,    -999,9,    -999,9,  25.7178, -65.6647,    -999,     -999,    -999,  18.7407,  18.7612,2,-999,9,-999,-999,9,-999,    36.8110,2,-999,9,20120404,       1442
33AT20120324,        A22,      36,          1,         29,         29,2,20120404,       1250,    25.7187,   -65.6621,       5156,   269.3,  18.2549,  36.5846,2,  36.5857,2,    200.9,2,   200.4,2,    0.98,2,    3.86,2,    0.00,2,    0.16,2,   2.308,2,   1.406,2,   0.033,2,    1.32,2,    -999,9,    -999,9,     -999,9,     -999,    -999,9,     -999,9,    -999,9,  18.2568,2,    -999,9,    -999,9,    -999,    -999,9,    -999,    -999,1,    -999,9,    -999,9,  25.7178, -65.6647,    -999,     -999,    -999,  18.2076,  18.2568,2,-999,9,-999,-999,9,-999,    36.7582,2,-999,9,20120404,       1440
33AT20120324,        A22,      36,          1,         28,         28,2,20120404,       1250,    25.7187,   -65.6621,       5156,   315.3,  17.9885,  36.5506,2,  36.5518,2,    202.1,2,   201.6,2,    1.13,2,    4.30,2,    0.00,2,    0.19,2,   2.350,2,   1.457,2,   0.040,2,    1.24,2,  2116.8,2, 2389.26,2,   7.9782,2,       25,    -999,9,     -999,9,    -999,9,  17.9887,2,    -999,9,    -999,9,    -999,    -999,9,    -999,    -999,1,    -999,9,    -999,9,  25.7178, -65.6647,    -999,     -999,    -999,  17.9337,  17.9887,2,-999,9,-999,-999,9,-999,    36.7242,2,-999,9,20120404,       1438
33AT20120324,        A22,      36,          1,         27,         27,2,20120404,       1250,    25.7187,   -65.6621,       5156,   368.1,  17.7560,  36.5150,2,  36.5169,2,    199.3,2,   201.7,2,    1.35,2,    4.73,2,    0.00,2,    0.22,2,   2.352,2,   1.429,2,   0.038,2,    1.26,2,    -999,9,    -999,9,     -999,9,     -999,    -999,9,     -999,9,    -999,9,  17.7565,2,    -999,9,    -999,9,    -999,    -999,9,    -999,    -999,1,    -999,9,    -999,9,  25.7178, -65.6647,    -999,     -999,    -999,  17.6925,  17.7565,2,-999,9,-999,-999,9,-999,    36.6891,2,-999,9,20120404,       1436
33AT20120324,        A22,      36,          1,         26,         26,2,20120404,       1250,    25.7187,   -65.6621,       5156,   439.0,  17.0951,  36.3918,2,  36.3953,2,    193.7,2,   195.5,2,    1.87,2,    6.41,2,    0.00,2,    0.32,2,   2.380,2,   1.420,2,   0.024,2,    1.23,2,  2127.1,2, 2379.96,2,   7.9469,2,       25,    -999,9,     -999,9,    -999,9,  17.0926,2,    -999,9,    -999,9,    -999,    -999,9,    -999,    -999,1,    -999,9,    -999,9,  25.7178, -65.6647,    -999,     -999,    -999,  17.0212,  17.0926,2,-999,9,-999,-999,9,-999,    36.5669,2,-999,9,20120404,       1434
33AT20120324,        A22,      36,          1,         25,         25,2,20120404,       1250,    25.7187,   -65.6621,       5156,   537.8,  15.2738,  36.0594,2,  36.0695,2,    175.8,2,   172.6,2,    3.52,2,   11.24,2,    0.00,2,    0.63,2,   2.373,2,   1.374,2,   0.024,2,    0.88,2,  2148.4,2, 2362.26,2,   7.8739,2,       25,    -999,9,     -999,9,    -999,9,  15.2566,2,    -999,9,    -999,9,    -999,    -999,9,    -999,    -999,1,    -999,9,    -999,9,  25.7178, -65.6647,    -999,     -999,    -999,  15.1898,  15.2566,2,-999,9,-999,-999,9,-999,    36.2396,2,-999,9,20120404,       1431
33AT20120324,        A22,      36,          1,         24,         24,2,20120404,       1250,    25.7187,   -65.6621,       5156,   639.9,  12.9408,  35.6962,2,  35.6975,2,    160.1,2,   159.4,2,    6.68,2,   16.37,2,    0.00,2,    0.99,2,   2.053,2,   1.114,2,   0.029,2,    0.74,2,  2166.3,2, 2342.69,2,   7.7958,2,       25,    -999,9,     -999,9,    -999,9,  12.9289,2,    -999,9,    -999,9,    -999,    -999,9,    -999,    -999,1,    -999,9,    -999,9,  25.7178, -65.6647,    -999,     -999,    -999,  12.8510,  12.9289,2,-999,9,-999,-999,9,-999,    35.8658,2,-999,9,20120404,       1429
33AT20120324,        A22,      36,          1,         23,         23,2,20120404,       1250,    25.7187,   -65.6621,       5156,   730.9,  10.7575,  35.4049,2,  35.4057,2,    148.3,2,   147.8,2,   10.61,2,   21.22,2,    0.00,2,    1.32,2,   1.476,2,   0.775,2,   0.016,2,    0.52,2,  2183.8,2, 2330.23,2,   7.7282,2,       25,    -999,9,     -999,9,    -999,9,  10.7509,2,    -999,9,    -999,9,    -999,    -999,9,    -999,    -999,1,    -999,9,    -999,9,  25.7178, -65.6646,    -999,     -999,    -999,  10.6660,  10.7509,2,-999,9,-999,-999,9,-999,    35.5726,2,-999,9,20120404,       1426
33AT20120324,        A22,      36,          1,         22,         22,2,20120404,       1250,    25.7187,   -65.6621,       5156,   841.6,   8.6487,  35.1583,2,  35.1617,2,    143.9,2,   144.5,2,   15.18,2,   25.08,2,    0.00,2,    1.60,2,   0.883,2,   0.444,2,   0.009,2,    0.32,2,  2196.4,2, 2323.13,2,   7.6725,2,       25,    -999,9,     -999,9,    -999,9,   8.6498,2,    -999,9,    -999,9,    -999,    -999,9,    -999,    -999,1,    -999,9,    -999,9,  25.7178, -65.6646,    -999,     -999,    -999,   8.5558,   8.6498,2,-999,9,-999,-999,9,-999,    35.3275,2,-999,9,20120404,       1423
33AT20120324,        A22,      36,          1,         21,         21,2,20120404,       1250,    25.7187,   -65.6621,       5156,   940.5,   7.4052,  35.0709,2,  35.0731,2,    155.2,2,   155.6,2,   17.03,2,   25.69,2,    0.00,2,    1.66,2,   0.645,2,   0.313,2,   0.006,2,    0.17,2,  2196.9,6, 2319.41,2,   7.6627,2,       25,    -999,9,     -999,9,    -999,9,   7.4045,2,    -999,9,    -999,9,    -999,    -999,9,    -999,    -999,1,    -999,9,    -999,9,  25.7179, -65.6645,    -999,     -999,    -999,   7.3095,   7.4045,2,-999,9,-999,-999,9,-999,    35.2385,2,-999,9,20120404,       1421
33AT20120324,        A22,      36,          1,         20,         20,2,20120404,       1250,    25.7187,   -65.6621,       5156,  1043.5,   6.4185,  35.0540,2,  35.0554,2,    181.7,2,   180.4,2,   16.55,2,   23.93,2,    0.00,2,    1.57,2,   0.693,2,   0.343,2,   0.012,2,    0.14,2,  2192.4,2, 2319.77,2,   7.6787,2,       25,    -999,9,     -999,9,    -999,9,   6.4153,2,    -999,9,    -999,9,    -999,    -999,9,    -999,    -999,1,    -999,9,    -999,9,  25.7179, -65.6645,    -999,     -999,    -999,   6.3192,   6.4153,2,-999,9,-999,-999,9,-999,    35.2207,2,-999,9,20120404,       1418
33AT20120324,        A22,      36,          1,         19,         19,2,20120404,       1250,    25.7187,   -65.6621,       5156,  1143.9,   5.7987,  35.0691,2,  35.0701,2,    204.1,2,   203.9,2,   15.08,2,   21.66,2,    0.00,2,    1.44,2,   0.885,2,   0.431,2,   0.028,2,    0.21,2,  2182.4,2, 2319.59,2,   7.6999,2,       25,    -999,9,     -999,9,    -999,9,   5.8025,2,    -999,9,    -999,9,    -999,    -999,9,    -999,    -999,1,    -999,9,    -999,9,  25.7179, -65.6644,    -999,     -999,    -999,   5.6943,   5.8025,2,-999,9,-999,-999,9,-999,    35.2355,2,-999,9,20120404,       1416
33AT20120324,        A22,      36,          1,         18,         18,2,20120404,       1250,    25.7187,   -65.6621,       5156,  1245.2,   5.3100,  35.0666,2,  35.0680,2,    224.6,2,   216.9,3,   13.56,2,   19.88,2,    0.00,2,    1.32,2,   1.220,2,   0.616,2,   0.038,2,    0.27,2,    -999,9,    -999,9,     -999,9,     -999,    -999,9,     -999,9,    -999,9,   5.3119,2,    -999,9,    -999,9,    -999,    -999,9,    -999,    -999,1,    -999,9,    -999,9,  25.7179, -65.6643,    -999,     -999,    -999,   5.2000,   5.3119,2,-999,9,-999,-999,9,-999,    35.2333,2,-999,9,20120404,       1413
33AT20120324,        A22,      36,          1,         17,         17,2,20120404,       1250,    25.7187,   -65.6621,       5156,  1348.8,   4.9611,  35.0591,2,  35.0595,2,    233.1,2,   234.5,2,   13.42,2,   19.24,2,    0.00,2,    1.28,2,   1.165,2,   0.588,2,   0.038,2,    0.22,2,  2169.5,2, 2317.93,2,   7.7276,2,       25,    -999,9,     -999,9,    -999,9,   4.9607,2,    -999,9,    -999,9,    -999,    -999,9,    -999,    -999,1,    -999,9,    -999,9,  25.7180, -65.6641,    -999,     -999,    -999,   4.8445,   4.9607,2,-999,9,-999,-999,9,-999,    35.2248,2,-999,9,20120404,       1410
33AT20120324,        A22,      36,          1,         16,         16,2,20120404,       1250,    25.7187,   -65.6621,       5156,  1445.5,   4.7119,  35.0535,2,  35.0550,2,    240.9,2,   240.7,2,   13.64,2,   18.89,2,    0.00,2,    1.25,2,   1.052,2,   0.522,2,   0.032,2,    0.14,2,    -999,9,    -999,9,     -999,9,     -999,    -999,9,     -999,9,    -999,9,   4.7115,2,    -999,9,    -999,9,    -999,    -999,9,    -999,    -999,1,    -999,9,    -999,9,  25.7181, -65.6640,    -999,     -999,    -999,   4.5887,   4.7115,2,-999,9,-999,-999,9,-999,    35.2203,2,-999,9,20120404,       1408
33AT20120324,        A22,      36,          1,         15,         15,2,20120404,       1250,    25.7187,   -65.6621,       5156,  1548.5,   4.4484,  35.0402,2,  35.0410,2,    246.0,2,   246.0,2,   13.96,2,   18.69,2,    0.00,2,    1.23,2,   0.983,2,   0.481,2,   0.037,2,    0.16,2,  2164.9,2, 2317.59,2,   7.7344,2,       25,    -999,9,     -999,9,    -999,9,   4.4480,2,    -999,9,    -999,9,    -999,    -999,9,    -999,    -999,1,    -999,9,    -999,9,  25.7181, -65.6638,    -999,     -999,    -999,   4.3184,   4.4480,2,-999,9,-999,-999,9,-999,    35.2062,2,-999,9,20120404,       1405
33AT20120324,        A22,      36,          1,         14,         14,2,20120404,       1250,    25.7187,   -65.6621,       5156,  1676.4,   4.1866,  35.0263,2,  35.0276,2,    250.6,2,   250.0,2,   14.79,2,   18.57,2,    0.00,2,    1.24,2,   0.861,2,   0.410,2,   0.032,2,    0.14,2,    -999,9,    -999,9,     -999,9,     -999,    -999,9,     -999,9,    -999,9,   4.1862,2,    -999,9,    -999,9,    -999,    -999,9,    -999,    -999,1,    -999,9,    -999,9,  25.7181, -65.6637,    -999,     -999,    -999,   4.0476,   4.1862,2,-999,9,-999,-999,9,-999,    35.1928,2,-999,9,20120404,       1402
33AT20120324,        A22,      36,          1,         13,         13,2,20120404,       1250,    25.7187,   -65.6621,       5156,  1880.3,   3.8935,  35.0151,2,  35.0160,2,    251.9,2,   252.1,2,   17.19,2,   18.68,2,    0.00,2,    1.25,2,   0.557,2,   0.262,2,   0.029,2,    0.09,2,  2165.1,2, 2319.92,2,   7.7421,2,       25,    -999,9,     -999,9,    -999,9,   3.8936,2,    -999,9,    -999,9,    -999,    -999,9,    -999,    -999,1,    -999,9,    -999,9,  25.7182, -65.6635,    -999,     -999,    -999,   3.7389,   3.8936,2,-999,9,-999,-999,9,-999,    35.1811,2,-999,9,20120404,       1358
33AT20120324,        A22,      36,          1,         12,         12,2,20120404,       1250,    25.7187,   -65.6621,       5156,  2104.7,   3.5534,  34.9950,2,  34.9957,2,    252.9,2,   251.5,2,   20.21,2,   18.94,2,    0.00,2,    1.28,2,   0.306,2,   0.146,2,   0.008,2,    0.09,2,  2167.2,2, 2323.72,2,   7.7435,2,       25,    -999,9,     -999,9,    -999,9,   3.5557,2,    -999,9,    -999,9,    -999,    -999,9,    -999,    -999,1,    -999,9,    -999,9,  25.7182, -65.6635,    -999,     -999,    -999,   3.3823,   3.5557,2,-999,9,-999,-999,9,-999,    35.1607,2,-999,9,20120404,       1353
33AT20120324,        A22,      36,          1,         11,         11,2,20120404,       1250,    25.7187,   -65.6621,       5156,  2362.1,   3.2407,  34.9718,2,  34.9727,2,    253.0,2,   253.1,2,   24.23,2,   19.29,2,    0.00,2,    1.30,2,   0.200,2,   0.092,2,   0.010,2,    0.09,2,  2170.7,2, 2325.75,2,   7.7435,2,       25,    -999,9,     -999,9,    -999,9,   3.2404,2,    -999,9,    -999,9,    -999,    -999,9,    -999,    -999,1,    -999,9,    -999,9,  25.7182, -65.6634,    -999,     -999,    -999,   3.0498,   3.2404,2,-999,9,-999,-999,9,-999,    35.1376,2,-999,9,20120404,       1348
33AT20120324,        A22,      36,          1,         10,         10,2,20120404,       1250,    25.7187,   -65.6621,       5156,  2612.5,   3.0381,  34.9561,2,  34.9567,2,    253.2,2,   252.9,2,   26.53,2,   19.50,2,    0.00,2,    1.32,2,   0.159,2,   0.072,2,   0.011,2,    0.06,2,    -999,9,    -999,9,     -999,9,     -999,    -999,9,     -999,9,    -999,9,   3.0382,2,    -999,9,    -999,9,    -999,    -999,9,    -999,    -999,1,    -999,9,    -999,9,  25.7183, -65.6633,    -999,     -999,    -999,   2.8262,   3.0382,2,-999,9,-999,-999,9,-999,    35.1216,2,-999,9,20120404,       1342
33AT20120324,        A22,      36,          1,          9,          9,2,20120404,       1250,    25.7187,   -65.6621,       5156,  2867.1,   2.8736,  34.9420,2,  34.9426,2,    254.8,2,   255.5,2,   28.10,2,   19.57,2,    0.00,2,    1.32,2,   0.172,2,   0.072,2,   0.007,2,    0.05,2,  2172.2,2, 2329.07,2,   7.7490,2,       25,    -999,9,     -999,9,    -999,9,   2.8735,2,    -999,9,    -999,9,    -999,    -999,9,    -999,    -999,1,    -999,9,    -999,9,  25.7183, -65.6631,    -999,     -999,    -999,   2.6392,   2.8735,2,-999,9,-999,-999,9,-999,    35.1073,2,-999,9,20120404,       1337
33AT20120324,        A22,      36,          1,          8,          8,2,20120404,       1250,    25.7187,   -65.6621,       5156,  3142.1,   2.7039,  34.9282,2,  34.9284,2,    257.6,2,   258.1,2,   28.85,2,   19.42,2,    0.00,2,    1.31,2,   0.225,2,   0.100,2,   0.006,2,    0.05,2,    -999,9,    -999,9,     -999,9,     -999,    -999,9,     -999,9,    -999,9,   2.7042,2,    -999,9,    -999,9,    -999,    -999,9,    -999,    -999,1,    -999,9,    -999,9,  25.7184, -65.6628,    -999,     -999,    -999,   2.4447,   2.7042,2,-999,9,-999,-999,9,-999,    35.0931,2,-999,9,20120404,       1332
33AT20120324,        A22,      36,          1,          7,          7,2,20120404,       1250,    25.7187,   -65.6621,       5156,  3444.5,   2.5523,  34.9154,2,  34.9166,2,    261.4,2,   261.5,2,   29.43,2,   19.16,2,    0.00,2,    1.30,2,   0.312,2,   0.139,2,   0.012,2,    0.07,2,  2171.2,2, 2327.29,2,   7.7453,2,       25,    -999,9,     -999,9,    -999,9,   2.5519,2,    -999,9,    -999,9,    -999,    -999,9,    -999,    -999,1,    -999,9,    -999,9,  25.7185, -65.6626,    -999,     -999,    -999,   2.2645,   2.5519,2,-999,9,-999,-999,9,-999,    35.0812,2,-999,9,20120404,       1326
33AT20120324,        A22,      36,          1,          6,          6,2,20120404,       1250,    25.7187,   -65.6621,       5156,  3754.2,   2.4085,  34.9047,2,  34.9054,2,    264.1,2,   264.1,2,   29.20,2,   18.73,2,    0.00,2,    1.28,2,   0.438,2,   0.198,2,   0.021,2,    0.06,2,    -999,9,    -999,9,     -999,9,     -999,    -999,9,     -999,9,    -999,9,   2.4087,2,    -999,9,    -999,9,    -999,    -999,9,    -999,    -999,1,    -999,9,    -999,9,  25.7186, -65.6624,    -999,     -999,    -999,   2.0905,   2.4087,2,-999,9,-999,-999,9,-999,    35.0700,2,-999,9,20120404,       1320