BOTTLE,20220725CCHSIOCBG
EXPOCODE,SECT_ID,STNNBR,CASTNO,SAMPNO,BTLNBR,BTLNBR_FLAG_W,DATE,TIME,LATITUDE,LONGITUDE,DEPTH,CTDPRS,CTDTMP,CTDSAL,CTDSAL_FLAG_W,SALNTY,SALNTY_FLAG_W,CTDOXY,CTDOXY_FLAG_W,OXYGEN,OXYGEN_FLAG_W,SILCAT,SILCAT_FLAG_W,NITRAT,NITRAT_FLAG_W,NITRIT,NITRIT_FLAG_W,PHSPHT,PHSPHT_FLAG_W,CFC-11,CFC-11_FLAG_W,CFC-12,CFC-12_FLAG_W,CFC113,CFC113_FLAG_W,SF6,SF6_FLAG_W,TCARBN,TCARBN_FLAG_W,ALKALI,ALKALI_FLAG_W,PH_TOT,PH_TOT_FLAG_W,PH_TMP,TRITUM,TRITUM_FLAG_W,HELIUM,HELIUM_FLAG_W,DELHE3,DELHE3_FLAG_W,REFTMP,REFTMP_FLAG_W,DELC13,DELC13_FLAG_W,DELC14,DELC14_FLAG_W,C14ERR,NEON,NEON_FLAG_W,NEONER,CCL4,CCL4_FLAG_W,DOC,DOC_FLAG_W,TDN,TDN_FLAG_W,BTL_LAT,BTL_LON,TRITER,HELIER,DELHER,THETA,SBE35,SBE35_FLAG_W,14C-DOC,14C-DOC_FLAG_W,14C-DOCERR,13C-DOC,13C-DOC_FLAG_W,13C-DOCERR,SALTREF,SALTREF_FLAG_W,LAB_DEN,LAB_DEN_FLAG_W,BTL_DATE,BTL_TIME
,,,,,,,,,,,METERS,DBAR,ITS-90,PSS-78,,PSS-78,,UMOL/KG,,UMOL/KG,,UMOL/KG,,UMOL/KG,,UMOL/KG,,UMOL/KG,,PMOL/KG,,PMOL/KG,,PMOL/KG,,FMOL/KG,,UMOL/KG,,UMOL/KG,,,,DEG C,TU,,NMOL/KG,,PERCNT,,DEG C,,/MILLE,,/MILLE,,/MILLE,NMOL/KG,,NMOL/KG,PMOL/KG,,UMOL/KG,,UMOL/KG,,,,TU,NMOL/KG,PERCNT,DEG C,ITS-90,,/MILLE,,/MILLE,/MILLE,,/MILLE,G/KG,,KG/M^3,,,
33AT20120324,        A22,      80,          1,         19,         19,2,20120414,       0703,    12.6776,   -69.9680,        812,     3.0,  26.7613,  36.5376,2,  36.5432,2,    200.4,2,   200.3,2,    0.63,2,    0.00,2,    0.00,2,    0.00,2,   1.576,2,   1.043,2,   0.126,2,    1.17,2,  2059.0,6, 2391.01,2,   8.0717,2,       25,    -999,9,     -999,9,    -999,9,  26.7620,2,    -999,9,    -999,9,    -999,    -999,9,    -999,    -999,1,    -999,9,    -999,9,  12.6776, -69.9680,    -999,     -999,    -999,  26.7606,  26.7620,2,-999,9,-999,-999,9,-999,    36.7155,2,-999,9,20120414,        738
33AT20120324,        A22,      80,          1,         18,         18,2,20120414,       0703,    12.6776,   -69.9680,        812,    25.9,  25.9072,  36.6776,2,  36.6891,2,    201.9,2,   202.0,2,    0.33,2,    0.00,2,    0.00,2,    0.01,2,   1.716,2,   1.095,2,   0.106,2,    1.13,2,  2070.4,2, 2397.76,2,   8.0622,2,       25,    -999,9,     -999,9,    -999,9,  25.8637,2,    -999,9,    -999,9,    -999,    -999,9,    -999,    -999,1,    -999,9,    -999,9,  12.6776, -69.9680,    -999,     -999,    -999,  25.9014,  25.8637,2,-999,9,-999,-999,9,-999,    36.8621,2,-999,9,20120414,        736
33AT20120324,        A22,      80,          1,         17,         17,2,20120414,       0703,    12.6776,   -69.9680,        812,    51.0,  25.1434,  36.7714,2,  36.7857,2,    198.6,2,   197.1,2,    0.69,2,    0.21,2,    0.10,2,    0.02,2,   1.780,2,   1.145,2,   0.113,2,    1.15,2,    -999,9,    -999,9,     -999,9,     -999,    -999,9,     -999,9,    -999,9,  25.1454,2,    -999,9,    -999,9,    -999,    -999,9,    -999,    -999,1,    -999,9,    -999,9,  12.6776, -69.9680,    -999,     -999,    -999,  25.1322,  25.1454,2,-999,9,-999,-999,9,-999,    36.9592,2,-999,9,20120414,        734
33AT20120324,        A22,      80,          1,         16,         16,2,20120414,       0703,    12.6776,   -69.9680,        812,    75.7,  23.3511,  36.8264,2,  36.8270,2,    157.1,2,   157.2,2,    2.06,2,    4.30,2,    0.09,2,    0.23,2,   1.867,2,   1.188,2,   0.073,2,    1.10,2,  2130.5,2, 2402.47,2,   7.9677,2,       25,    -999,9,     -999,9,    -999,9,  23.3504,2,    -999,9,    -999,9,    -999,    -999,9,    -999,    -999,1,    -999,9,    -999,9,  12.6776, -69.9680,    -999,     -999,    -999,  23.3354,  23.3504,2,-999,9,-999,-999,9,-999,    37.0006,2,-999,9,20120414,        731
33AT20120324,        A22,      80,          1,         15,         15,2,20120414,       0703,    12.6776,   -69.9680,        812,   100.7,  21.8562,  36.7826,2,  36.7841,2,    139.7,2,   139.7,2,    3.12,2,    6.82,2,    0.07,2,    0.37,2,   1.951,2,   1.241,2,   0.051,2,    1.12,2,    -999,9,    -999,9,     -999,9,     -999,    -999,9,     -999,9,    -999,9,  21.8514,2,    -999,9,    -999,9,    -999,    -999,9,    -999,    -999,1,    -999,9,    -999,9,  12.6776, -69.9680,    -999,     -999,    -999,  21.8362,  21.8514,2,-999,9,-999,-999,9,-999,    36.9576,2,-999,9,20120414,        729
33AT20120324,        A22,      80,          1,         14,         14,2,20120414,       0703,    12.6776,   -69.9680,        812,   125.5,  21.1639,  36.7523,2,  36.7514,2,    135.9,2,   135.3,2,    3.18,2,    7.79,2,    0.05,2,    0.42,2,   2.000,2,   1.255,2,   0.039,2,    1.11,2,  2155.7,2, 2398.89,2,   7.9097,2,       25,    -999,9,     -999,9,    -999,9,  21.1603,2,    -999,9,    -999,9,    -999,    -999,9,    -999,    -999,1,    -999,9,    -999,9,  12.6776, -69.9680,    -999,     -999,    -999,  21.1395,  21.1603,2,-999,9,-999,-999,9,-999,    36.9247,2,-999,9,20120414,        727
33AT20120324,        A22,      80,          1,         13,         13,2,20120414,       0703,    12.6776,   -69.9680,        812,   150.3,  20.5785,  36.7152,2,  36.7167,2,    133.3,2,   133.4,2,    3.26,2,    8.48,2,    0.04,2,    0.45,2,   2.033,2,   1.274,2,   0.038,2,    1.05,2,  2160.4,2, 2396.29,2,   7.8994,2,       25,    -999,9,     -999,9,    -999,9,  20.5744,2,    -999,9,    -999,9,    -999,    -999,9,    -999,    -999,1,    -999,9,    -999,9,  12.6776, -69.9680,    -999,     -999,    -999,  20.5499,  20.5744,2,-999,9,-999,-999,9,-999,    36.8898,2,-999,9,20120414,        726
33AT20120324,        A22,      80,          1,         12,         12,2,20120414,       0703,    12.6776,   -69.9680,        812,   175.6,  18.7198,  36.5251,2,  36.5140,2,    140.4,2,   139.8,2,    3.25,2,    9.87,2,    0.02,2,    0.55,2,   2.119,2,   1.301,2,   0.010,2,    0.97,2,  2161.2,2, 2381.58,2,   7.8780,2,       25,    -999,9,     -999,9,    -999,9,  18.7206,2,    -999,9,    -999,9,    -999,    -999,9,    -999,    -999,1,    -999,9,    -999,9,  12.6776, -69.9680,    -999,     -999,    -999,  18.6885,  18.7206,2,-999,9,-999,-999,9,-999,    36.6862,2,-999,9,20120414,        724
33AT20120324,        A22,      80,          1,         11,         11,2,20120414,       0703,    12.6776,   -69.9680,        812,   201.1,  16.9204,  36.2480,2,  36.2524,2,    138.2,2,   138.5,2,    4.48,2,   12.59,2,    0.02,2,    0.72,2,   2.139,2,   1.278,2,   0.012,2,    0.87,2,    -999,9,    -999,9,     -999,9,     -999,    -999,9,     -999,9,    -999,9,  16.9329,2,    -999,9,    -999,9,    -999,    -999,9,    -999,    -999,1,    -999,9,    -999,9,  12.6776, -69.9680,    -999,     -999,    -999,  16.8870,  16.9329,2,-999,9,-999,-999,9,-999,    36.4234,2,-999,9,20120414,        723
33AT20120324,        A22,      80,          1,         10,         10,2,20120414,       0703,    12.6776,   -69.9680,        812,   226.2,  16.0400,  36.1004,2,  36.0961,2,    137.6,2,   137.6,2,    5.14,2,   14.08,2,    0.01,2,    0.83,2,   2.125,2,   1.269,2,   0.015,2,    0.84,2,  2169.1,2, 2361.09,2,   7.8229,2,       25,    -999,9,     -999,9,    -999,9,  16.0540,2,    -999,9,    -999,9,    -999,    -999,9,    -999,    -999,1,    -999,9,    -999,9,  12.6775, -69.9680,    -999,     -999,    -999,  16.0038,  16.0540,2,-999,9,-999,-999,9,-999,    36.2663,2,-999,9,20120414,        721
33AT20120324,        A22,      80,          1,          9,          9,2,20120414,       0703,    12.6776,   -69.9680,        812,   250.6,  15.0692,  35.9363,2,  35.9069,2,    135.9,2,   136.0,2,    6.13,2,   16.08,2,    0.01,2,    0.98,2,   2.092,2,   1.216,2,   0.012,2,    0.74,2,    -999,9,    -999,9,     -999,9,     -999,    -999,9,     -999,9,    -999,9,  14.9970,2,    -999,9,    -999,9,    -999,    -999,9,    -999,    -999,1,    -999,9,    -999,9,  12.6775, -69.9680,    -999,     -999,    -999,  15.0308,  14.9970,2,-999,9,-999,-999,9,-999,    36.0762,2,-999,9,20120414,        720
33AT20120324,        A22,      80,          1,          8,          8,2,20120414,       0703,    12.6776,   -69.9680,        812,   301.8,  12.7717,  35.5360,2,  35.5322,2,    126.7,2,   126.3,2,    9.00,2,   20.74,2,    0.01,2,    1.29,2,   1.889,2,   1.069,2,   0.016,2,    0.51,2,  2186.0,2, 2332.46,2,   7.7230,2,       25,    -999,9,     -999,9,    -999,9,  12.7541,2,    -999,9,    -999,9,    -999,    -999,9,    -999,    -999,1,    -999,9,    -999,9,  12.6775, -69.9680,    -999,     -999,    -999,  12.7303,  12.7541,2,-999,9,-999,-999,9,-999,    35.6997,2,-999,9,20120414,        719
33AT20120324,        A22,      80,          1,          7,          7,2,20120414,       0703,    12.6776,   -69.9680,        812,   352.0,  11.0331,  35.2544,2,  35.2591,2,    122.0,2,   122.4,2,   11.65,2,   24.32,2,    0.00,2,    1.53,2,   1.661,2,   0.912,2,   0.013,2,    0.50,2,    -999,9,    -999,9,     -999,9,     -999,    -999,9,     -999,9,    -999,9,  11.0471,2,    -999,9,    -999,9,    -999,    -999,9,    -999,    -999,1,    -999,9,    -999,9,  12.6775, -69.9680,    -999,     -999,    -999,  10.9892,  11.0471,2,-999,9,-999,-999,9,-999,    35.4254,2,-999,9,20120414,        717
33AT20120324,        A22,      80,          1,          6,          6,2,20120414,       0703,    12.6776,   -69.9680,        812,   401.9,   9.8985,  35.0869,2,  35.0860,2,    119.2,2,   119.5,2,   13.93,2,   26.84,2,    0.00,2,    1.72,2,   1.433,2,   0.789,2,   0.019,2,    0.35,2,  2202.7,2, 2312.09,2,   7.6344,2,       25,    -999,9,     -999,9,    -999,9,   9.8931,2,    -999,9,    -999,9,    -999,    -999,9,    -999,    -999,1,    -999,9,    -999,9,  12.6775, -69.9680,    -999,     -999,    -999,   9.8516,   9.8931,2,-999,9,-999,-999,9,-999,    35.2514,2,-999,9,20120414,        715
33AT20120324,        A22,      80,          1,          5,          5,2,20120414,       0703,    12.6776,   -69.9680,        812,   452.5,   9.0481,  34.9718,2,  34.9726,2,    118.7,2,   118.4,2,   15.90,2,   28.61,2,    0.00,2,    1.83,2,   1.216,2,   0.638,2,   0.016,2,    0.32,2,    -999,9,    -999,9,     -999,9,     -999,    -999,9,     -999,9,    -999,9,   9.0479,2,    -999,9,    -999,9,    -999,    -999,9,    -999,    -999,1,    -999,9,    -999,9,  12.6775, -69.9680,    -999,     -999,    -999,   8.9981,   9.0479,2,-999,9,-999,-999,9,-999,    35.1375,2,-999,9,20120414,        713
33AT20120324,        A22,      80,          1,          4,          4,2,20120414,       0703,    12.6776,   -69.9680,        812,   503.6,   8.3286,  34.8966,2,  34.8945,2,    120.0,2,   119.7,2,   17.79,2,   29.97,2,    0.00,2,    1.93,2,    -999,5,    -999,5,    -999,5,    0.25,2,  2211.2,2, 2304.61,2,   7.5917,2,       25,    -999,9,     -999,9,    -999,9,   8.3288,2,    -999,9,    -999,9,    -999,    -999,9,    -999,    -999,1,    -999,9,    -999,9,  12.6776, -69.9680,    -999,     -999,    -999,   8.2755,   8.3288,2,-999,9,-999,-999,9,-999,    35.0590,2,-999,9,20120414,        712
33AT20120324,        A22,      80,          1,          3,          3,2,20120414,       0703,    12.6776,   -69.9680,        812,   604.1,   7.3255,  34.7970,2,  34.7979,2,    123.0,2,   122.4,2,   20.85,2,   31.51,2,    0.00,2,    2.05,2,   0.690,2,   0.275,2,   0.006,2,    0.21,2,  2214.8,2, 2303.63,6,   7.5756,6,       25,    -999,9,     -999,9,    -999,9,   7.3245,2,    -999,9,    -999,9,    -999,    -999,9,    -999,    -999,1,    -999,9,    -999,9,  12.6776, -69.9680,    -999,     -999,    -999,   7.2660,   7.3245,2,-999,9,-999,-999,9,-999,    34.9620,2,-999,9,20120414,        709
33AT20120324,        A22,      80,          1,          2,          2,2,20120414,       0703,    12.6776,   -69.9680,        812,   704.7,   6.7033,  34.7611,2,  34.7612,2,    127.1,2,   128.3,2,   22.81,2,   31.96,2,    0.00,2,    2.11,2,   0.517,2,   0.244,2,   0.011,2,    0.15,2,    -999,9,    -999,9,     -999,9,     -999,    -999,9,     -999,9,    -999,9,   6.7031,2,    -999,9,    -999,9,    -999,    -999,9,    -999,    -999,1,    -999,9,    -999,9,  12.6776, -69.9680,    -999,     -999,    -999,   6.6367,   6.7031,2,-999,9,-999,-999,9,-999,    34.9251,2,-999,9,20120414,        706
33AT20120324,        A22,      80,          1,          1,          1,2,20120414,       0703,    12.6776,   -69.9680,        812,   804.1,   6.2596,  34.7671,2,  34.7678,2,    135.1,2,   134.8,2,   24.03,2,   31.55,2,    0.00,2,    2.10,2,   0.374,2,   0.175,2,   0.006,2,    0.14,2,  2216.2,6, 2307.46,2,   7.5794,2,       25,    -999,9,     -999,9,    -999,9,   6.2614,2,    -999,9,    -999,9,    -999,    -999,9,    -999,    -999,1,    -999,9,    -999,9,  12.6776, -69.9680,    -999,     -999,    -999,   6.1857,   6.2614,2,-999,9,-999,-999,9,-999,    34.9318,2,-999,9,20120414,        704
33AT20120324,        A22,      81,          1,         11,         11,2,20120414,       0921,    12.6031,   -69.9937,        304,     3.5,  26.5409,  36.5712,2,  36.5717,2,    200.5,2,   200.5,2,    0.60,2,    0.02,2,    0.00,2,    0.02,2,   1.600,2,   1.021,2,   0.112,2,    1.49,4,  2061.3,6, 2392.20,2,   8.0695,2,       25,    -999,9,     -999,9,    -999,9,  26.5373,2,    -999,9,    -999,9,    -999,    -999,9,    -999,    1.35,2,    -999,9,    -999,9,  12.6065, -69.9943,    -999,     -999,    -999,  26.5401,  26.5373,2,-999,9,-999,-999,9,-999,    36.7442,2,-999,9,20120414,        939
33AT20120324,        A22,      81,          1,         10,         10,2,20120414,       0921,    12.6031,   -69.9937,        304,    36.2,  25.3699,  36.7233,2,  36.7309,2,    198.4,2,   197.5,2,    0.33,2,    0.19,2,    0.08,2,    0.04,2,   1.702,2,   1.073,2,   0.101,2,    1.15,4,    -999,9,    -999,9,     -999,9,     -999,    -999,9,     -999,9,    -999,9,  25.3792,2,    -999,9,    -999,9,    -999,    -999,9,    -999,    1.06,2,    -999,9,    -999,9,  12.6060, -69.9942,    -999,     -999,    -999,  25.3619,  25.3792,2,-999,9,-999,-999,9,-999,    36.9042,2,-999,9,20120414,        937
33AT20120324,        A22,      81,          1,          9,          9,2,20120414,       0921,    12.6031,   -69.9937,        304,    61.0,  24.0753,  36.7925,2,  36.7912,2,    179.4,2,   178.5,2,    1.03,2,    1.91,2,    0.34,2,    0.13,2,   1.762,2,   1.117,2,   0.087,2,    0.84,4,  2108.8,2, 2403.06,2,   8.0072,2,       25,    -999,9,     -999,9,    -999,9,  24.0669,2,    -999,9,    -999,9,    -999,    -999,9,    -999,    0.78,2,    -999,9,    -999,9,  12.6057, -69.9942,    -999,     -999,    -999,  24.0623,  24.0669,2,-999,9,-999,-999,9,-999,    36.9647,2,-999,9,20120414,        935
33AT20120324,        A22,      81,          1,          8,          8,2,20120414,       0921,    12.6031,   -69.9937,        304,    85.7,  23.2704,  36.8156,2,  36.8170,2,    162.7,2,   162.0,2,    1.70,2,    3.96,2,    0.18,2,    0.21,2,   1.815,2,   1.145,2,   0.073,2,    0.91,4,    -999,9,    -999,9,     -999,9,     -999,    -999,9,     -999,9,    -999,9,  23.2711,2,    -999,9,    -999,9,    -999,    -999,9,    -999,    0.64,2,    -999,9,    -999,9,  12.6053, -69.9941,    -999,     -999,    -999,  23.2526,  23.2711,2,-999,9,-999,-999,9,-999,    36.9906,2,-999,9,20120414,        933
33AT20120324,        A22,      81,          1,          7,          7,2,20120414,       0921,    12.6031,   -69.9937,        304,   111.1,  22.8401,  36.8172,2,  36.8182,2,    155.7,2,   154.8,2,    2.01,2,    4.83,2,    0.11,2,    0.26,2,   1.842,2,   1.137,2,   0.065,2,    0.77,4,  2134.1,2, 2403.35,6,   7.9585,6,       25,    -999,9,     -999,9,    -999,9,  22.8463,2,    -999,9,    -999,9,    -999,    -999,9,    -999,    0.52,2,    -999,9,    -999,9,  12.6050, -69.9941,    -999,     -999,    -999,  22.8174,  22.8463,2,-999,9,-999,-999,9,-999,    36.9918,2,-999,9,20120414,        931
33AT20120324,        A22,      81,          1,          6,          6,2,20120414,       0921,    12.6031,   -69.9937,        304,   135.4,  21.0169,  36.7436,2,  36.7428,2,    134.7,2,   134.4,2,    3.15,2,    7.94,2,    0.04,2,    0.43,2,   1.940,2,   1.212,2,   0.037,2,    0.53,4,    -999,9,    -999,9,     -999,9,     -999,    -999,9,     -999,9,    -999,9,  21.0177,2,    -999,9,    -999,9,    -999,    -999,9,    -999,    0.27,2,    -999,9,    -999,9,  12.6047, -69.9940,    -999,     -999,    -999,  20.9908,  21.0177,2,-999,9,-999,-999,9,-999,    36.9161,2,-999,9,20120414,        929
33AT20120324,        A22,      81,          1,          5,          5,2,20120414,       0921,    12.6031,   -69.9937,        304,   159.3,  19.1042,  36.5643,2,  36.5628,2,    135.6,2,   134.9,2,    3.52,2,    9.89,2,    0.03,2,    0.55,2,   2.026,2,   1.228,2,   0.020,2,    0.84,4,  2162.6,2, 2385.00,2,   7.8793,2,       25,    -999,9,     -999,9,    -999,9,  19.1042,2,    -999,9,    -999,9,    -999,    -999,9,    -999,    0.17,2,    -999,9,    -999,9,  12.6044, -69.9939,    -999,     -999,    -999,  19.0754,  19.1042,2,-999,9,-999,-999,9,-999,    36.7352,2,-999,9,20120414,        928
33AT20120324,        A22,      81,          1,          4,          4,2,20120414,       0921,    12.6031,   -69.9937,        304,   186.1,  17.5757,  36.3506,2,  36.3484,2,    139.8,2,   140.4,2,    3.99,2,   11.44,2,    0.03,2,    0.65,2,   2.073,2,   1.239,2,   0.014,2,    1.02,4,    -999,9,    -999,9,     -999,9,     -999,    -999,9,     -999,9,    -999,9,  17.5860,2,    -999,9,    -999,9,    -999,    -999,9,    -999,    0.20,2,    -999,9,    -999,9,  12.6041, -69.9939,    -999,     -999,    -999,  17.5440,  17.5860,2,-999,9,-999,-999,9,-999,    36.5198,2,-999,9,20120414,        926
33AT20120324,        A22,      81,          1,          3,          3,2,20120414,       0921,    12.6031,   -69.9937,        304,   211.8,  16.1886,  36.1237,2,  36.1222,2,    136.6,2,   136.3,2,    5.29,2,   14.00,2,    0.02,2,    0.83,2,   2.054,2,   1.211,2,   0.014,2,    0.48,4,  2168.6,2, 2362.59,2,   7.8236,2,       25,    -999,9,     -999,9,    -999,9,  16.1933,2,    -999,9,    -999,9,    -999,    -999,9,    -999,    0.23,2,    -999,9,    -999,9,  12.6038, -69.9939,    -999,     -999,    -999,  16.1545,  16.1933,2,-999,9,-999,-999,9,-999,    36.2925,2,-999,9,20120414,        925
33AT20120324,        A22,      81,          1,          2,          2,2,20120414,       0921,    12.6031,   -69.9937,        304,   236.4,  14.9259,  35.9068,2,  35.8932,2,    133.1,2,   132.1,2,    6.68,2,   16.60,2,    0.01,2,    1.00,2,   1.961,2,   0.001,2,   0.016,2,    0.86,4,    -999,9,    -999,9,     -999,9,     -999,    -999,9,     -999,9,    -999,9,  14.9244,2,    -999,9,    -999,9,    -999,    -999,9,    -999,    0.24,2,    -999,9,    -999,9,  12.6036, -69.9938,    -999,     -999,    -999,  14.8899,  14.9244,2,-999,9,-999,-999,9,-999,    36.0625,2,-999,9,20120414,        923
33AT20120324,        A22,      81,          1,          1,          1,2,20120414,       0921,    12.6031,   -69.9937,        304,   289.5,  14.0072,  35.7493,2,  35.7534,2,    130.2,2,   129.7,2,    7.77,2,   18.31,2,    0.02,2,    1.12,2,   1.905,2,   0.000,2,   0.017,2,    0.78,4,  2180.0,2, 2346.57,2,   7.7612,2,       25,    -999,9,     -999,9,    -999,9,  14.0059,2,    -999,9,    -999,9,    -999,    -999,9,    -999,    0.30,2,    -999,9,    -999,9,  12.6032, -69.9937,    -999,     -999,    -999,  13.9649,  14.0059,2,-999,9,-999,-999,9,-999,    35.9220,2,-999,9,20120414,        921