BOTTLE,20220725CCHSIOCBG
EXPOCODE,SECT_ID,STNNBR,CASTNO,SAMPNO,BTLNBR,BTLNBR_FLAG_W,DATE,TIME,LATITUDE,LONGITUDE,DEPTH,CTDPRS,CTDTMP,CTDSAL,CTDSAL_FLAG_W,SALNTY,SALNTY_FLAG_W,CTDOXY,CTDOXY_FLAG_W,OXYGEN,OXYGEN_FLAG_W,SILCAT,SILCAT_FLAG_W,NITRAT,NITRAT_FLAG_W,NITRIT,NITRIT_FLAG_W,PHSPHT,PHSPHT_FLAG_W,CFC-11,CFC-11_FLAG_W,CFC-12,CFC-12_FLAG_W,CFC113,CFC113_FLAG_W,SF6,SF6_FLAG_W,TCARBN,TCARBN_FLAG_W,ALKALI,ALKALI_FLAG_W,PH_TOT,PH_TOT_FLAG_W,PH_TMP,TRITUM,TRITUM_FLAG_W,HELIUM,HELIUM_FLAG_W,DELHE3,DELHE3_FLAG_W,REFTMP,REFTMP_FLAG_W,DELC13,DELC13_FLAG_W,DELC14,DELC14_FLAG_W,C14ERR,NEON,NEON_FLAG_W,NEONER,CCL4,CCL4_FLAG_W,DOC,DOC_FLAG_W,TDN,TDN_FLAG_W,BTL_LAT,BTL_LON,TRITER,HELIER,DELHER,THETA,SBE35,SBE35_FLAG_W,14C-DOC,14C-DOC_FLAG_W,14C-DOCERR,13C-DOC,13C-DOC_FLAG_W,13C-DOCERR,SALTREF,SALTREF_FLAG_W,LAB_DEN,LAB_DEN_FLAG_W,BTL_DATE,BTL_TIME
,,,,,,,,,,,METERS,DBAR,ITS-90,PSS-78,,PSS-78,,UMOL/KG,,UMOL/KG,,UMOL/KG,,UMOL/KG,,UMOL/KG,,UMOL/KG,,PMOL/KG,,PMOL/KG,,PMOL/KG,,FMOL/KG,,UMOL/KG,,UMOL/KG,,,,DEG C,TU,,NMOL/KG,,PERCNT,,DEG C,,/MILLE,,/MILLE,,/MILLE,NMOL/KG,,NMOL/KG,PMOL/KG,,UMOL/KG,,UMOL/KG,,,,TU,NMOL/KG,PERCNT,DEG C,ITS-90,,/MILLE,,/MILLE,/MILLE,,/MILLE,G/KG,,KG/M^3,,,
33AT20120324,        A22,      32,          1,         36,         36,2,20120403,       0340,    28.5185,   -65.4755,       5227,     4.0,  21.2580,  36.7390,2,  36.7373,2,    219.6,2,   219.6,2,    0.44,2,    0.00,2,    0.00,2,    0.00,2,   2.058,2,   1.297,2,   0.168,2,    1.38,2,  2074.0,6, 2403.40,6,   8.0626,6,       25,   0.514,2,   1.7026,2,   -1.33,2,  21.2570,2,    -999,9,    -999,9,    -999,   6.927,2,   0.031,    -999,1,    -999,9,    -999,9,  28.5087, -65.4739,   0.009,   0.0068,    0.15,  21.2572,  21.2570,2,-999,9,-999,-999,9,-999,    36.9106,2,-999,9,20120403,        548
33AT20120324,        A22,      32,          1,         35,         35,2,20120403,       0340,    28.5185,   -65.4755,       5227,    25.7,  21.2624,  36.7422,2,  36.7405,2,    219.8,2,   219.7,2,    0.41,2,    0.00,2,    0.00,2,    0.00,2,   2.046,2,   1.272,2,   0.164,2,    1.33,2,    -999,9,    -999,9,     -999,9,     -999,    -999,9,     -999,9,    -999,9,  21.2626,2,    -999,9,    -999,9,    -999,    -999,9,    -999,    -999,1,    -999,9,    -999,9,  28.5092, -65.4739,    -999,     -999,    -999,  21.2574,  21.2626,2,-999,9,-999,-999,9,-999,    36.9138,2,-999,9,20120403,        545
33AT20120324,        A22,      32,          1,         34,         34,2,20120403,       0340,    28.5185,   -65.4755,       5227,    50.2,  21.2037,  36.7381,2,  36.7379,2,    220.5,2,   220.2,2,    0.42,2,    0.00,2,    0.00,2,    0.00,2,   1.942,2,   1.254,2,   0.163,2,    1.42,2,  2075.2,2, 2403.08,2,   8.0627,2,       25,    -999,9,     -999,9,    -999,9,  21.2072,2,    -999,9,    -999,9,    -999,    -999,9,    -999,    -999,1,    -999,9,    -999,9,  28.5095, -65.4740,    -999,     -999,    -999,  21.1940,  21.2072,2,-999,9,-999,-999,9,-999,    36.9112,2,-999,9,20120403,        543
33AT20120324,        A22,      32,          1,         33,         33,2,20120403,       0340,    28.5185,   -65.4755,       5227,    75.6,  21.0892,  36.7320,2,  36.7320,2,    220.7,2,   220.4,2,    0.43,2,    0.00,2,    0.00,2,    0.00,2,   2.055,2,   1.335,2,   0.167,2,    1.40,2,    -999,9,    -999,9,     -999,9,     -999,   0.523,2,   1.7348,2,   -1.36,2,  21.0905,2,    -999,9,    -999,9,    -999,   6.936,2,   0.031,    -999,1,    -999,9,    -999,9,  28.5099, -65.4740,   0.010,   0.0069,    0.15,  21.0746,  21.0905,2,-999,9,-999,-999,9,-999,    36.9052,2,-999,9,20120403,        541
33AT20120324,        A22,      32,          1,         32,         32,2,20120403,       0340,    28.5185,   -65.4755,       5227,   102.8,  21.0108,  36.7181,2,  36.7213,2,    219.6,2,   219.6,2,    0.26,2,    0.00,2,    0.00,2,    0.00,2,   2.079,2,   1.312,2,   0.163,2,    1.39,2,  2075.8,2, 2402.99,2,   8.0592,2,       25,    -999,9,     -999,9,    -999,9,  21.0290,2,    -999,9,    -999,9,    -999,    -999,9,    -999,    -999,1,    -999,9,    -999,9,  28.5101, -65.4740,    -999,     -999,    -999,  20.9910,  21.0290,2,-999,9,-999,-999,9,-999,    36.8944,2,-999,9,20120403,        538
33AT20120324,        A22,      32,          1,         31,         31,2,20120403,       0340,    28.5185,   -65.4755,       5227,   151.9,  19.0972,  36.6525,2,  36.6523,2,    192.0,2,   191.6,2,    0.68,2,    2.15,2,    0.01,2,    0.09,2,   2.240,2,   1.339,2,   0.050,2,    1.31,2,    -999,9,    -999,9,     -999,9,     -999,   0.516,2,   1.7267,2,   -1.03,2,  19.1085,2,    -999,9,    -999,9,    -999,   6.906,2,   0.031,    -999,1,    -999,9,    -999,9,  28.5102, -65.4740,   0.010,   0.0069,    0.15,  19.0698,  19.1085,2,-999,9,-999,-999,9,-999,    36.8251,2,-999,9,20120403,        535
33AT20120324,        A22,      32,          1,         30,         30,2,20120403,       0340,    28.5185,   -65.4755,       5227,   199.8,  18.5263,  36.6161,2,  36.6158,2,    197.2,2,   198.4,2,    0.90,2,    2.88,2,    0.01,2,    0.14,2,   2.311,2,   1.412,2,   0.034,2,    1.30,2,  2111.5,2, 2393.91,2,   7.9853,2,       25,    -999,9,     -999,9,    -999,9,  18.5260,2,    -999,9,    -999,9,    -999,    -999,9,    -999,    -999,1,    -999,9,    -999,9,  28.5103, -65.4740,    -999,     -999,    -999,  18.4909,  18.5260,2,-999,9,-999,-999,9,-999,    36.7885,2,-999,9,20120403,        533
33AT20120324,        A22,      32,          1,         29,         29,2,20120403,       0340,    28.5185,   -65.4755,       5227,   250.8,  18.2682,  36.5952,2,  36.5952,2,    201.9,2,   201.8,2,    1.08,2,    3.17,2,    0.00,2,    0.16,2,   2.305,2,   1.399,2,   0.039,2,    1.38,2,    -999,9,    -999,9,     -999,9,     -999,   0.487,2,   1.7446,2,   -0.76,2,  18.2683,2,    -999,9,    -999,9,    -999,   7.068,2,   0.032,    -999,1,    -999,9,    -999,9,  28.5105, -65.4740,   0.011,   0.0070,    0.15,  18.2242,  18.2683,2,-999,9,-999,-999,9,-999,    36.7678,2,-999,9,20120403,        531
33AT20120324,        A22,      32,          1,         28,         28,2,20120403,       0340,    28.5185,   -65.4755,       5227,   302.1,  18.0616,  36.5641,2,  36.5641,2,    201.8,2,   201.0,2,    1.23,2,    3.61,2,    0.01,2,    0.19,2,   2.336,2,   1.292,2,   0.038,2,    1.26,2,  2111.7,2, 2390.06,2,   7.9786,2,       25,    -999,9,     -999,9,    -999,9,  18.0612,2,    -999,9,    -999,9,    -999,    -999,9,    -999,    -999,1,    -999,9,    -999,9,  28.5106, -65.4740,    -999,     -999,    -999,  18.0089,  18.0612,2,-999,9,-999,-999,9,-999,    36.7366,2,-999,9,20120403,        529
33AT20120324,        A22,      32,          1,         27,         27,2,20120403,       0340,    28.5185,   -65.4755,       5227,   353.8,  17.8458,  36.5303,2,  36.5311,2,    201.0,2,   201.3,2,    1.63,2,    4.79,2,    0.00,2,    0.26,2,   2.382,2,   1.431,2,   0.029,2,    1.35,2,  2113.5,2, 2389.62,2,   7.9829,2,       25,   0.497,2,   1.7316,2,   -0.31,2,  17.8440,2,    -999,9,    -999,9,    -999,   7.047,2,   0.032,    -999,1,    -999,9,    -999,9,  28.5109, -65.4739,   0.009,   0.0069,    0.15,  17.7846,  17.8440,2,-999,9,-999,-999,9,-999,    36.7033,2,-999,9,20120403,        528
33AT20120324,        A22,      32,          1,         26,         26,2,20120403,       0340,    28.5185,   -65.4755,       5227,   405.8,  17.4859,  36.4707,2,  36.4692,2,    198.8,2,   199.7,2,    1.69,2,    4.80,2,    0.00,2,    0.26,2,   2.363,2,   1.410,2,   0.049,2,    1.28,2,  2117.9,2, 2385.35,2,   7.9611,2,       25,    -999,9,     -999,9,    -999,9,  17.4854,2,    -999,9,    -999,9,    -999,    -999,9,    -999,    -999,1,    -999,9,    -999,9,  28.5111, -65.4739,    -999,     -999,    -999,  17.4166,  17.4854,2,-999,9,-999,-999,9,-999,    36.6412,2,-999,9,20120403,        526
33AT20120324,        A22,      32,          1,         25,         25,2,20120403,       0340,    28.5185,   -65.4755,       5227,   506.6,  16.4220,  36.2605,2,  36.2621,2,    189.7,2,   185.9,2,    2.63,2,    7.87,2,    0.00,2,    0.46,2,   2.420,2,   1.439,2,   0.026,2,    1.11,2,  2131.4,2, 2373.39,2,   7.9167,2,       25,   0.450,2,   1.7424,2,    0.92,2,  16.3982,2,    -999,9,    -999,9,    -999,   7.127,2,   0.032,    -999,1,    -999,9,    -999,9,  28.5116, -65.4739,   0.011,   0.0070,    0.15,  16.3389,  16.3982,2,-999,9,-999,-999,9,-999,    36.4331,2,-999,9,20120403,        523
33AT20120324,        A22,      32,          1,         24,         24,2,20120403,       0340,    28.5185,   -65.4755,       5227,   604.3,  14.6919,  35.9634,2,  35.9725,2,    173.3,2,   171.9,2,    4.27,2,   11.83,2,    0.00,2,    0.71,2,   2.362,2,   1.336,2,   0.020,2,    0.95,2,  2146.4,2, 2357.64,2,   7.8589,2,       25,   0.447,2,   1.7685,2,    2.53,2,  14.7350,3,    -999,9,    -999,9,    -999,   7.186,2,   0.032,    -999,1,    -999,9,    -999,9,  28.5121, -65.4738,   0.009,   0.0071,    0.15,  14.5998,  14.7350,3,-999,9,-999,-999,9,-999,    36.1422,2,-999,9,20120403,        520
33AT20120324,        A22,      32,          1,         23,         23,2,20120403,       0340,    28.5185,   -65.4755,       5227,   699.3,  12.8515,  35.6868,2,  35.6867,2,    160.6,2,   158.8,2,    6.79,2,   16.47,2,    0.00,2,    1.00,2,   1.939,2,   1.104,2,   0.027,2,    0.69,2,  2163.4,2, 2342.90,2,   7.7941,2,       25,   0.469,2,   1.7697,2,    5.15,2,  12.8577,2,    -999,9,    -999,9,    -999,   7.365,2,   0.033,    -999,1,    -999,9,    -999,9,  28.5130, -65.4740,   0.012,   0.0071,    0.15,  12.7536,  12.8577,2,-999,9,-999,-999,9,-999,    35.8550,2,-999,9,20120403,        518
33AT20120324,        A22,      32,          1,         22,         22,2,20120403,       0340,    28.5185,   -65.4755,       5227,   802.7,  10.7379,  35.3943,2,  35.3951,2,    145.7,2,   145.7,2,   10.67,2,   21.62,2,    0.00,2,    1.35,2,   1.463,2,   0.775,2,   0.018,2,    0.45,2,  2180.8,6, 2328.36,2,   7.7245,2,       25,   0.347,2,   1.7781,2,    6.73,2,  10.7397,2,    -999,9,    -999,9,    -999,   7.474,2,   0.034,    -999,1,    -999,9,    -999,9,  28.5139, -65.4743,   0.009,   0.0071,    0.15,  10.6372,  10.7397,2,-999,9,-999,-999,9,-999,    35.5620,2,-999,9,20120403,        515
33AT20120324,        A22,      32,          1,         21,         21,2,20120403,       0340,    28.5185,   -65.4755,       5227,   905.7,   8.6745,  35.1774,2,  35.1762,2,    148.9,2,   150.2,2,   14.32,2,   24.40,2,    0.00,2,    1.54,2,   1.053,2,   0.537,2,   0.015,2,    0.33,2,  2189.2,2, 2321.57,2,   7.6813,2,       25,   0.257,2,   1.7959,2,    6.59,2,   8.6727,2,    -999,9,    -999,9,    -999,   7.650,2,   0.034,    -999,1,    -999,9,    -999,9,  28.5146, -65.4745,   0.010,   0.0072,    0.15,   8.5740,   8.6727,2,-999,9,-999,-999,9,-999,    35.3421,2,-999,9,20120403,        512
33AT20120324,        A22,      32,          1,         20,         20,2,20120403,       0340,    28.5185,   -65.4755,       5227,  1008.9,   7.0857,  35.1004,2,  35.1006,2,    178.0,2,   176.7,2,   14.85,2,   23.21,2,    0.00,2,    1.49,2,   1.167,2,   0.595,2,   0.028,2,    0.32,2,  2185.7,2, 2318.84,2,   7.6853,2,       25,   0.242,2,   1.7769,2,    6.67,2,   7.0930,2,    -999,9,    -999,9,    -999,   7.756,2,   0.035,    -999,1,    -999,9,    -999,9,  28.5153, -65.4746,   0.009,   0.0071,    0.15,   6.9849,   7.0930,2,-999,9,-999,-999,9,-999,    35.2661,2,-999,9,20120403,        510
33AT20120324,        A22,      32,          1,         19,         19,2,20120403,       0340,    28.5185,   -65.4755,       5227,  1109.9,   6.1041,  35.0868,2,  35.0866,2,    204.3,2,   206.8,2,   13.50,2,   20.72,2,    0.00,2,    1.36,2,   1.555,2,   0.775,2,   0.050,2,    0.42,2,  2178.9,2, 2318.04,2,   7.7027,2,       25,   0.329,2,   1.7971,2,    6.88,2,   6.1089,2,    -999,9,    -999,9,    -999,   7.832,2,   0.035,    -999,1,    -999,9,    -999,9,  28.5157, -65.4748,   0.010,   0.0072,    0.15,   6.0005,   6.1089,2,-999,9,-999,-999,9,-999,    35.2520,2,-999,9,20120403,        507
33AT20120324,        A22,      32,          1,         18,         18,2,20120403,       0340,    28.5185,   -65.4755,       5227,  1208.7,   5.4963,  35.0768,2,  35.0770,2,    223.8,2,   224.8,2,   12.92,2,   19.48,2,    0.00,2,    1.29,2,   1.788,2,   0.908,2,   0.070,2,    0.44,2,  2172.2,2, 2318.16,2,   7.7114,2,       25,   0.388,2,     -999,9,    -999,9,   5.4970,2,    -999,9,    -999,9,    -999,    -999,9,    -999,    -999,1,    -999,9,    -999,9,  28.5160, -65.4748,   0.009,     -999,    -999,   5.3882,   5.4970,2,-999,9,-999,-999,9,-999,    35.2424,2,-999,9,20120403,        504
33AT20120324,        A22,      32,          1,         17,         17,2,20120403,       0340,    28.5185,   -65.4755,       5227,  1312.2,   5.0578,  35.0523,2,  35.0532,2,    237.3,2,   237.1,2,   12.39,2,   18.69,2,    0.00,2,    1.24,2,   2.032,2,   1.037,2,   0.095,2,    0.50,2,    -999,9,    -999,9,     -999,9,     -999,    -999,9,   1.8352,2,    7.05,2,   5.0615,2,    -999,9,    -999,9,    -999,   8.036,2,   0.036,    -999,1,    -999,9,    -999,9,  28.5162, -65.4749,    -999,   0.0073,    0.15,   4.9438,   5.0615,2,-999,9,-999,-999,9,-999,    35.2184,2,-999,9,20120403,        502
33AT20120324,        A22,      32,          1,         16,         16,2,20120403,       0340,    28.5185,   -65.4755,       5227,  1412.3,   4.7437,  35.0383,2,  35.0382,2,    245.6,2,   245.2,2,   12.52,2,   18.39,2,    0.00,2,    1.22,2,   2.021,2,   1.007,2,   0.095,2,    0.45,2,  2167.7,2, 2314.13,2,   7.7251,2,       25,   0.392,2,   1.8331,2,    7.35,2,   4.7442,2,    -999,9,    -999,9,    -999,   7.998,2,   0.036,    -999,1,    -999,9,    -999,9,  28.5163, -65.4749,   0.009,   0.0073,    0.15,   4.6234,   4.7442,2,-999,9,-999,-999,9,-999,    35.2034,2,-999,9,20120403,        459
33AT20120324,        A22,      32,          1,         15,         15,2,20120403,       0340,    28.5185,   -65.4755,       5227,  1615.3,   4.3029,  35.0195,2,  35.0201,2,    251.5,2,   251.4,2,   13.45,2,   18.28,2,    0.00,2,    1.21,2,   1.532,2,   0.754,2,   0.071,2,    0.27,2,    -999,9,    -999,9,     -999,9,     -999,   0.353,2,     -999,9,    -999,9,   4.3028,2,    -999,9,    -999,9,    -999,    -999,9,    -999,    -999,1,    -999,9,    -999,9,  28.5165, -65.4749,   0.009,     -999,    -999,   4.1683,   4.3028,2,-999,9,-999,-999,9,-999,    35.1852,2,-999,9,20120403,        455
33AT20120324,        A22,      32,          1,         14,         14,2,20120403,       0340,    28.5185,   -65.4755,       5227,  1818.6,   3.9218,  34.9911,2,  34.9922,2,    257.9,2,   257.4,2,   14.41,2,   18.14,2,    0.00,2,    1.20,2,   1.421,2,   0.699,2,   0.064,2,    0.27,2,  2161.7,2, 2314.07,2,   7.7360,2,       25,   0.335,2,   1.8476,2,    7.34,2,   3.9215,2,    -999,9,    -999,9,    -999,   8.098,2,   0.036,    -999,1,    -999,9,    -999,9,  28.5168, -65.4750,   0.009,   0.0074,    0.15,   3.7728,   3.9215,2,-999,9,-999,-999,9,-999,    35.1572,2,-999,9,20120403,        450
33AT20120324,        A22,      32,          1,         13,         13,2,20120403,       0340,    28.5185,   -65.4755,       5227,  2020.9,   3.6725,  34.9811,2,  34.9810,2,    258.8,2,   258.9,2,   16.02,2,   18.16,2,    0.00,2,    1.21,2,   1.051,2,   0.484,2,   0.041,2,    0.21,2,    -999,9,    -999,9,     -999,9,     -999,   0.249,2,   1.8693,2,    6.21,2,   3.6745,2,    -999,9,    -999,9,    -999,   8.178,2,   0.037,    -999,1,    -999,9,    -999,9,  28.5170, -65.4751,   0.009,   0.0075,    0.15,   3.5078,   3.6745,2,-999,9,-999,-999,9,-999,    35.1459,2,-999,9,20120403,        446
33AT20120324,        A22,      32,          1,         12,         12,2,20120403,       0340,    28.5185,   -65.4755,       5227,  2275.3,   3.3804,  34.9642,2,  34.9644,2,    260.4,2,   260.6,2,   18.17,2,   18.16,2,    0.00,2,    1.22,2,   0.871,2,   0.403,2,   0.033,2,    0.16,2,  2162.2,2, 2316.36,2,   7.7430,2,       25,   0.201,2,   1.8454,2,    5.50,2,   3.3804,2,    -999,9,    -999,9,    -999,   8.109,2,   0.036,    -999,1,    -999,9,    -999,9,  28.5172, -65.4751,   0.009,   0.0074,    0.15,   3.1957,   3.3804,2,-999,9,-999,-999,9,-999,    35.1293,2,-999,9,20120403,        441
33AT20120324,        A22,      32,          1,         11,         11,2,20120403,       0340,    28.5185,   -65.4755,       5227,  2531.8,   3.1210,  34.9502,2,  34.9501,2,    261.3,2,   261.6,2,   20.21,2,   18.24,2,    0.00,2,    1.23,2,   0.719,2,   0.327,2,   0.021,2,    0.12,2,    -999,9,    -999,9,     -999,9,     -999,   0.171,2,   1.8688,2,    5.09,2,   3.1211,2,    -999,9,    -999,9,    -999,   8.047,2,   0.036,    -999,1,    -999,9,    -999,9,  28.5174, -65.4752,   0.009,   0.0075,    0.15,   2.9156,   3.1211,2,-999,9,-999,-999,9,-999,    35.1149,2,-999,9,20120403,        436
33AT20120324,        A22,      32,          1,         10,         10,2,20120403,       0340,    28.5185,   -65.4755,       5227,  2784.3,   2.8655,  34.9351,2,  34.9346,2,    263.4,2,   263.5,2,   21.73,2,   18.15,2,    0.00,2,    1.23,2,   0.700,2,   0.325,2,   0.019,2,    0.12,2,  2162.6,2, 2319.69,2,   7.7454,2,       25,    -999,9,     -999,9,    -999,9,   2.8651,2,    -999,9,    -999,9,    -999,    -999,9,    -999,    -999,1,    -999,9,    -999,9,  28.5177, -65.4753,    -999,     -999,    -999,   2.6398,   2.8651,2,-999,9,-999,-999,9,-999,    35.0993,2,-999,9,20120403,        431
33AT20120324,        A22,      32,          1,          9,          9,2,20120403,       0340,    28.5185,   -65.4755,       5227,  3038.2,   2.6574,  34.9215,2,  34.9214,2,    265.7,2,   265.9,2,   22.94,2,   18.07,2,    0.00,2,    1.22,2,   0.821,2,   0.378,2,   0.034,2,    0.14,2,    -999,9,    -999,9,     -999,9,     -999,   0.180,2,   1.8683,2,    5.39,2,   2.6565,2,    -999,9,    -999,9,    -999,   8.249,2,   0.037,    -999,1,    -999,9,    -999,9,  28.5177, -65.4753,   0.009,   0.0075,    0.15,   2.4101,   2.6565,2,-999,9,-999,-999,9,-999,    35.0860,2,-999,9,20120403,        426
33AT20120324,        A22,      32,          1,          8,          8,2,20120403,       0340,    28.5185,   -65.4755,       5227,  3346.9,   2.4881,  34.9112,2,  34.9108,2,    266.7,2,   266.9,2,   24.50,2,   18.11,2,    0.00,2,    1.23,2,   0.822,2,   0.381,2,   0.037,2,    0.14,2,  2164.3,2, 2319.81,2,   7.7485,2,       25,    -999,9,     -999,9,    -999,9,   2.4881,2,    -999,9,    -999,9,    -999,    -999,9,    -999,    -999,1,    -999,9,    -999,9,  28.5178, -65.4753,    -999,     -999,    -999,   2.2124,   2.4881,2,-999,9,-999,-999,9,-999,    35.0754,2,-999,9,20120403,        420
33AT20120324,        A22,      32,          1,          7,          7,2,20120403,       0340,    28.5185,   -65.4755,       5227,  3652.2,   2.3646,  34.9019,2,  34.9015,2,    266.8,2,   267.1,2,   26.72,2,   18.21,2,    0.00,2,    1.24,2,   0.826,2,   0.381,2,   0.039,2,    0.11,2,    -999,9,    -999,9,     -999,9,     -999,    -999,9,     -999,9,    -999,9,   2.3647,2,    -999,9,    -999,9,    -999,    -999,9,    -999,    -999,1,    -999,9,    -999,9,  28.5180, -65.4754,    -999,     -999,    -999,   2.0590,   2.3647,2,-999,9,-999,-999,9,-999,    35.0661,2,-999,9,20120403,        414
33AT20120324,        A22,      32,          1,          6,          6,2,20120403,       0340,    28.5185,   -65.4755,       5227,  3959.7,   2.3059,  34.8957,2,  34.8958,2,    266.0,2,   266.1,2,   28.93,2,   18.42,2,    0.00,2,    1.26,2,   0.816,2,   0.378,2,   0.038,2,    0.11,2,  2170.0,2, 2323.80,2,   7.7391,2,       25,   0.179,2,   1.8636,2,    5.51,2,   2.3061,2,    -999,9,    -999,9,    -999,   8.106,2,   0.036,    -999,1,    -999,9,    -999,9,  28.5180, -65.4754,   0.009,   0.0075,    0.15,   1.9676,   2.3061,2,-999,9,-999,-999,9,-999,    35.0604,2,-999,9,20120403,        408