BOTTLE,20220725CCHSIOCBG
EXPOCODE,SECT_ID,STNNBR,CASTNO,SAMPNO,BTLNBR,BTLNBR_FLAG_W,DATE,TIME,LATITUDE,LONGITUDE,DEPTH,CTDPRS,CTDTMP,CTDSAL,CTDSAL_FLAG_W,SALNTY,SALNTY_FLAG_W,CTDOXY,CTDOXY_FLAG_W,OXYGEN,OXYGEN_FLAG_W,SILCAT,SILCAT_FLAG_W,NITRAT,NITRAT_FLAG_W,NITRIT,NITRIT_FLAG_W,PHSPHT,PHSPHT_FLAG_W,CFC-11,CFC-11_FLAG_W,CFC-12,CFC-12_FLAG_W,CFC113,CFC113_FLAG_W,SF6,SF6_FLAG_W,TCARBN,TCARBN_FLAG_W,ALKALI,ALKALI_FLAG_W,PH_TOT,PH_TOT_FLAG_W,PH_TMP,TRITUM,TRITUM_FLAG_W,HELIUM,HELIUM_FLAG_W,DELHE3,DELHE3_FLAG_W,REFTMP,REFTMP_FLAG_W,DELC13,DELC13_FLAG_W,DELC14,DELC14_FLAG_W,C14ERR,NEON,NEON_FLAG_W,NEONER,CCL4,CCL4_FLAG_W,DOC,DOC_FLAG_W,TDN,TDN_FLAG_W,BTL_LAT,BTL_LON,TRITER,HELIER,DELHER,THETA,SBE35,SBE35_FLAG_W,14C-DOC,14C-DOC_FLAG_W,14C-DOCERR,13C-DOC,13C-DOC_FLAG_W,13C-DOCERR,SALTREF,SALTREF_FLAG_W,LAB_DEN,LAB_DEN_FLAG_W,BTL_DATE,BTL_TIME
,,,,,,,,,,,METERS,DBAR,ITS-90,PSS-78,,PSS-78,,UMOL/KG,,UMOL/KG,,UMOL/KG,,UMOL/KG,,UMOL/KG,,UMOL/KG,,PMOL/KG,,PMOL/KG,,PMOL/KG,,FMOL/KG,,UMOL/KG,,UMOL/KG,,,,DEG C,TU,,NMOL/KG,,PERCNT,,DEG C,,/MILLE,,/MILLE,,/MILLE,NMOL/KG,,NMOL/KG,PMOL/KG,,UMOL/KG,,UMOL/KG,,,,TU,NMOL/KG,PERCNT,DEG C,ITS-90,,/MILLE,,/MILLE,/MILLE,,/MILLE,G/KG,,KG/M^3,,,
33AT20120324,        A22,      11,          1,         36,         36,2,20120327,       1755,    38.3162,   -68.8299,       3897,     6.5,  18.9406,  35.5605,2,  35.5537,2,    237.2,2,   234.7,2,    0.60,2,    0.14,2,    0.03,2,    0.05,2,   2.141,2,   1.393,2,   0.173,2,    -999,5,  2039.1,6, 2344.83,2,   7.9396,4,       25,    -999,9,     -999,9,    -999,9,  18.9450,2,    -999,9,    -999,9,    -999,    -999,9,    -999,    1.55,2,   73.21,2,    3.76,2,  38.2997, -68.7983,    -999,     -999,    -999,  18.9394,  18.9450,2,-999,9,-999,-999,9,-999,    35.7214,2,-999,9,20120327,       1951
33AT20120324,        A22,      11,          1,         35,         35,2,20120327,       1755,    38.3162,   -68.8299,       3897,    24.7,  17.8130,  35.3832,2,  35.3922,2,    237.2,2,   239.9,2,    0.71,2,    0.18,2,    0.04,2,    0.07,2,   2.324,2,   1.459,2,   0.196,2,    -999,5,  2040.9,2, 2336.86,6,   7.9980,3,       25,    -999,9,     -999,9,    -999,9,  17.7439,3,    -999,9,    -999,9,    -999,    -999,9,    -999,    1.75,2,   72.28,2,    4.84,2,  38.3008, -68.8002,    -999,     -999,    -999,  17.8088,  17.7439,3,-999,9,-999,-999,9,-999,    35.5591,2,-999,9,20120327,       1948
33AT20120324,        A22,      11,          1,         34,         34,2,20120327,       1755,    38.3162,   -68.8299,       3897,    49.8,  13.9174,  34.8389,2,  34.8383,2,    247.9,2,   263.9,2,    0.75,2,    0.52,2,    0.06,2,    0.15,2,   2.805,2,   1.747,2,   0.231,2,    -999,5,  2050.1,2, 2313.02,4,   8.0127,2,       25,    -999,9,     -999,9,    -999,9,  13.9186,2,    -999,9,    -999,9,    -999,    -999,9,    -999,    2.08,2,   65.33,2,    4.91,2,  38.3016, -68.8019,    -999,     -999,    -999,  13.9103,  13.9186,2,-999,9,-999,-999,9,-999,    35.0026,2,-999,9,20120327,       1945
33AT20120324,        A22,      11,          1,         33,         33,2,20120327,       1755,    38.3162,   -68.8299,       3897,    75.9,  14.7529,  35.4372,2,  35.4630,2,    241.2,2,   221.9,2,    2.23,2,    4.92,2,    0.32,2,    0.38,2,   2.457,2,   1.566,2,   0.176,2,    -999,5,  2097.0,2, 2338.16,2,   7.9411,2,       25,    -999,9,     -999,9,    -999,9,  14.7434,2,    -999,9,    -999,9,    -999,    -999,9,    -999,    1.39,2,   63.24,2,    8.50,2,  38.3026, -68.8039,    -999,     -999,    -999,  14.7415,  14.7434,2,-999,9,-999,-999,9,-999,    35.6302,2,-999,9,20120327,       1942
33AT20120324,        A22,      11,          1,         32,         32,2,20120327,       1755,    38.3162,   -68.8299,       3897,    98.7,  14.5455,  35.4782,2,  35.4632,2,    217.0,2,   224.1,2,    2.56,2,    5.69,2,    0.18,2,    0.41,2,   2.494,2,   1.568,2,   0.178,2,    -999,5,  2101.1,2, 2339.94,2,   7.9115,3,       25,    -999,9,     -999,9,    -999,9,  14.5772,2,    -999,9,    -999,9,    -999,    -999,9,    -999,    1.39,2,   60.49,2,    9.48,2,  38.3035, -68.8058,    -999,     -999,    -999,  14.5308,  14.5772,2,-999,9,-999,-999,9,-999,    35.6305,2,-999,9,20120327,       1939
33AT20120324,        A22,      11,          1,         31,         31,2,20120327,       1755,    38.3162,   -68.8299,       3897,   126.4,  15.1058,  35.7428,2,  35.7346,2,    214.8,2,   219.6,2,    2.65,2,    6.18,2,    0.04,2,    0.40,2,   2.391,2,   1.507,2,   0.164,2,    -999,5,    -999,9,    -999,9,   7.9803,3,       25,    -999,9,     -999,9,    -999,9,  15.0969,2,    -999,9,    -999,9,    -999,    -999,9,    -999,    1.18,2,   58.24,2,   10.23,2,  38.3039, -68.8065,    -999,     -999,    -999,  15.0865,  15.0969,2,-999,9,-999,-999,9,-999,    35.9031,2,-999,9,20120327,       1937
33AT20120324,        A22,      11,          1,         30,         30,2,20120327,       1755,    38.3162,   -68.8299,       3897,   146.5,  14.9246,  35.7636,2,  35.7688,2,    200.3,2,   204.1,2,    3.61,2,    8.15,2,    0.03,2,    0.52,2,   2.264,2,   1.443,2,   0.130,2,    -999,5,  2119.8,2, 2351.59,2,   7.9631,4,       25,    -999,9,     -999,9,    -999,9,  14.9325,2,    -999,9,    -999,9,    -999,    -999,9,    -999,    0.86,2,   54.36,2,   12.44,2,  38.3041, -68.8072,    -999,     -999,    -999,  14.9024,  14.9325,2,-999,9,-999,-999,9,-999,    35.9375,2,-999,9,20120327,       1935
33AT20120324,        A22,      11,          1,         29,         29,2,20120327,       1755,    38.3162,   -68.8299,       3897,   200.0,  13.8735,  35.7479,2,  35.7390,2,    151.3,2,   154.7,2,    7.08,2,   15.66,2,    0.02,2,    0.97,2,   1.850,2,   1.135,2,   0.048,2,    -999,5,  2160.2,2, 2344.25,2,   7.8916,4,       25,    -999,9,     -999,9,    -999,9,  13.8777,2,    -999,9,    -999,9,    -999,    -999,9,    -999,    0.38,2,   48.41,2,   19.65,2,  38.3046, -68.8082,    -999,     -999,    -999,  13.8446,  13.8777,2,-999,9,-999,-999,9,-999,    35.9075,2,-999,9,20120327,       1933
33AT20120324,        A22,      11,          1,         28,         28,2,20120327,       1755,    38.3162,   -68.8299,       3897,   251.9,  11.5909,  35.4720,2,  35.4741,2,    136.1,2,   135.3,2,   10.76,2,   21.41,2,    0.02,2,    1.34,2,   1.535,2,   0.875,2,   0.028,2,    -999,5,  2183.8,6, 2330.99,2,   7.7011,4,       25,    -999,9,     -999,9,    -999,9,  11.5872,2,    -999,9,    -999,9,    -999,    -999,9,    -999,    0.18,2,   47.31,2,   25.50,2,  38.3051, -68.8091,    -999,     -999,    -999,  11.5585,  11.5872,2,-999,9,-999,-999,9,-999,    35.6414,2,-999,9,20120327,       1930
33AT20120324,        A22,      11,          1,         27,         27,2,20120327,       1755,    38.3162,   -68.8299,       3897,   302.5,   9.5358,  35.2227,2,  35.2264,2,    137.6,2,   134.9,2,   14.04,2,   24.82,2,    0.01,2,    1.58,2,   1.149,2,   0.632,2,   0.018,2,    -999,5,  2194.7,2, 2322.03,2,   7.6529,2,       25,    -999,9,     -999,9,    -999,9,   9.5651,2,    -999,9,    -999,9,    -999,    -999,9,    -999,    0.21,2,   46.03,2,   27.82,2,  38.3055, -68.8098,    -999,     -999,    -999,   9.5014,   9.5651,2,-999,9,-999,-999,9,-999,    35.3925,2,-999,9,20120327,       1929
33AT20120324,        A22,      11,          1,         26,         26,2,20120327,       1755,    38.3162,   -68.8299,       3897,   350.4,   8.4576,  35.1348,2,  35.1336,2,    146.1,2,   146.0,2,   15.40,2,   25.14,2,    0.01,2,    1.63,2,   1.109,2,   0.603,2,   0.026,2,    -999,5,    -999,9,    -999,9,     -999,9,     -999,    -999,9,     -999,9,    -999,9,   8.4555,2,    -999,9,    -999,9,    -999,    -999,9,    -999,    0.30,2,   45.51,2,   28.43,2,  38.3061, -68.8107,    -999,     -999,    -999,   8.4205,   8.4555,2,-999,9,-999,-999,9,-999,    35.2993,2,-999,9,20120327,       1927
33AT20120324,        A22,      11,          1,         25,         25,2,20120327,       1755,    38.3162,   -68.8299,       3897,   404.9,   7.4843,  35.0939,2,  35.0940,2,    166.4,2,   167.1,2,   15.06,2,   23.78,2,    0.00,2,    1.55,2,   1.219,2,   0.661,2,   0.042,2,    -999,5,  2189.5,2, 2316.36,2,   7.6637,2,       25,    -999,9,     -999,9,    -999,9,   7.5066,2,    -999,9,    -999,9,    -999,    -999,9,    -999,    0.51,2,   45.35,2,   27.23,2,  38.3067, -68.8115,    -999,     -999,    -999,   7.4443,   7.5066,2,-999,9,-999,-999,9,-999,    35.2595,2,-999,9,20120327,       1924
33AT20120324,        A22,      11,          1,         24,         24,2,20120327,       1755,    38.3162,   -68.8299,       3897,   456.0,   6.7840,  35.0779,2,  35.0793,2,    185.3,2,   186.2,2,   14.08,2,   22.19,2,    0.00,2,    1.46,2,   1.536,2,   0.809,2,   0.059,2,    -999,5,    -999,9,    -999,9,     -999,9,     -999,    -999,9,     -999,9,    -999,9,   6.7749,2,    -999,9,    -999,9,    -999,    -999,9,    -999,    0.77,2,   44.93,2,   25.71,2,  38.3072, -68.8124,    -999,     -999,    -999,   6.7412,   6.7749,2,-999,9,-999,-999,9,-999,    35.2447,2,-999,9,20120327,       1922
33AT20120324,        A22,      11,          1,         23,         23,2,20120327,       1755,    38.3162,   -68.8299,       3897,   502.3,   6.1564,  35.0696,2,  35.0700,2,    203.0,2,   204.4,2,   13.45,2,   20.90,2,    0.00,2,    1.39,2,   1.671,2,   0.881,2,   0.064,2,    -999,5,  2178.8,2, 2315.42,4,   7.6932,2,       25,    -999,9,     -999,9,    -999,9,   6.1590,2,    -999,9,    -999,9,    -999,    -999,9,    -999,    0.97,2,   44.61,2,   24.32,2,  38.3077, -68.8133,    -999,     -999,    -999,   6.1114,   6.1590,2,-999,9,-999,-999,9,-999,    35.2354,2,-999,9,20120327,       1920
33AT20120324,        A22,      11,          1,         22,         22,2,20120327,       1755,    38.3162,   -68.8299,       3897,   604.3,   5.2053,  35.0224,2,  35.0226,2,    232.0,2,   231.9,2,   12.31,2,   19.12,2,    0.00,2,    1.28,2,   2.231,2,   1.227,2,   0.120,2,    -999,5,  2172.1,2, 2312.45,2,   7.6835,2,       25,    -999,9,     -999,9,    -999,9,   5.2055,2,    -999,9,    -999,9,    -999,    -999,9,    -999,    1.36,2,   44.14,2,   22.40,2,  38.3083, -68.8143,    -999,     -999,    -999,   5.1552,   5.2055,2,-999,9,-999,-999,9,-999,    35.1878,2,-999,9,20120327,       1917
33AT20120324,        A22,      11,          1,         21,         21,2,20120327,       1755,    38.3162,   -68.8299,       3897,   706.5,   4.8760,  35.0028,2,  35.0033,2,    243.1,2,   241.8,2,   11.71,2,   18.56,2,    0.00,2,    1.24,2,   2.495,2,   1.353,2,   0.138,2,    -999,5,    -999,9,    -999,9,     -999,9,     -999,    -999,9,     -999,9,    -999,9,   4.8753,2,    -999,9,    -999,9,    -999,    -999,9,    -999,    1.50,2,   45.61,2,   22.08,2,  38.3089, -68.8153,    -999,     -999,    -999,   4.8187,   4.8753,2,-999,9,-999,-999,9,-999,    35.1684,2,-999,9,20120327,       1914
33AT20120324,        A22,      11,          1,         20,         20,2,20120327,       1755,    38.3162,   -68.8299,       3897,   807.1,   4.6516,  34.9999,2,  35.0010,2,    246.2,2,   249.2,2,   11.57,2,   18.30,2,    0.00,2,    1.22,2,   2.471,2,   1.346,2,   0.141,2,    -999,5,    -999,9,    -999,9,     -999,9,     -999,    -999,9,     -999,9,    -999,9,   4.6519,2,    -999,9,    -999,9,    -999,    -999,9,    -999,    1.60,2,   44.90,2,   22.03,2,  38.3098, -68.8168,    -999,     -999,    -999,   4.5870,   4.6519,2,-999,9,-999,-999,9,-999,    35.1660,2,-999,9,20120327,       1910
33AT20120324,        A22,      11,          1,         19,         19,2,20120327,       1755,    38.3162,   -68.8299,       3897,   911.1,   4.4792,  34.9907,2,  34.9920,2,    253.0,2,   252.9,2,   11.78,2,   18.08,2,    0.00,2,    1.21,2,   2.494,2,   1.311,2,   0.140,2,    -999,5,    -999,9,    -999,9,     -999,9,     -999,    -999,9,     -999,9,    -999,9,   4.4795,2,    -999,9,    -999,9,    -999,    -999,9,    -999,    1.60,2,   44.63,2,   22.23,2,  38.3103, -68.8176,    -999,     -999,    -999,   4.4068,   4.4795,2,-999,9,-999,-999,9,-999,    35.1570,2,-999,9,20120327,       1907
33AT20120324,        A22,      11,          1,         18,         18,2,20120327,       1755,    38.3162,   -68.8299,       3897,  1011.6,   4.3912,  34.9956,2,  34.9965,2,    255.9,2,   253.2,2,   12.08,2,   18.12,2,    0.00,2,    1.21,2,   2.257,2,   1.205,2,   0.131,2,    -999,5,  2163.9,2, 2309.74,2,   7.7194,2,       25,    -999,9,     -999,9,    -999,9,   4.3925,2,    -999,9,    -999,9,    -999,    -999,9,    -999,    1.60,2,   44.39,2,   22.45,2,  38.3109, -68.8186,    -999,     -999,    -999,   4.3107,   4.3925,2,-999,9,-999,-999,9,-999,    35.1615,2,-999,9,20120327,       1904
33AT20120324,        A22,      11,          1,         17,         17,2,20120327,       1755,    38.3162,   -68.8299,       3897,  1110.2,   4.2535,  34.9890,2,  34.9898,2,    256.9,2,   256.0,2,   12.22,2,   17.88,2,    0.00,2,    1.20,2,   2.254,2,   1.150,2,   0.119,2,    -999,5,    -999,9,    -999,9,     -999,9,     -999,    -999,9,     -999,9,    -999,9,   4.2534,2,    -999,9,    -999,9,    -999,    -999,9,    -999,    1.77,2,   44.21,2,   22.28,2,  38.3114, -68.8194,    -999,     -999,    -999,   4.1655,   4.2534,2,-999,9,-999,-999,9,-999,    35.1548,2,-999,9,20120327,       1901
33AT20120324,        A22,      11,          1,         16,         16,2,20120327,       1755,    38.3162,   -68.8299,       3897,  1212.4,   4.1076,  34.9773,2,  34.9778,2,    259.4,2,   259.0,2,   12.26,2,   17.87,2,    0.00,2,    1.20,2,   2.267,2,   1.166,2,   0.122,2,    -999,5,  2161.3,2, 2309.38,2,   7.7264,2,       25,    -999,9,     -999,9,    -999,9,   4.1078,2,    -999,9,    -999,9,    -999,    -999,9,    -999,    1.78,2,   44.62,2,   20.55,2,  38.3117, -68.8199,    -999,     -999,    -999,   4.0120,   4.1078,2,-999,9,-999,-999,9,-999,    35.1428,2,-999,9,20120327,       1859
33AT20120324,        A22,      11,          1,         15,         15,2,20120327,       1755,    38.3162,   -68.8299,       3897,  1314.7,   3.9841,  34.9696,2,  34.9698,2,    260.8,2,   261.2,2,   12.34,2,   17.81,2,    0.00,2,    1.20,2,   2.120,2,   1.119,2,   0.117,2,    -999,5,    -999,9,    -999,9,     -999,9,     -999,    -999,9,     -999,9,    -999,9,   3.9850,2,    -999,9,    -999,9,    -999,    -999,9,    -999,    1.74,2,   44.35,2,   20.85,2,  38.3118, -68.8201,    -999,     -999,    -999,   3.8807,   3.9850,2,-999,9,-999,-999,9,-999,    35.1347,2,-999,9,20120327,       1856
33AT20120324,        A22,      11,          1,         14,         14,2,20120327,       1755,    38.3162,   -68.8299,       3897,  1415.2,   3.9089,  34.9684,2,  34.9694,2,    262.6,2,   262.0,2,   12.87,2,   17.76,2,    0.00,2,    1.20,2,   2.004,2,   1.021,2,   0.105,2,    -999,5,  2160.4,2, 2309.12,2,   7.7348,2,       25,    -999,9,     -999,9,    -999,9,   3.9106,2,    -999,9,    -999,9,    -999,    -999,9,    -999,    1.86,2,   44.29,2,   20.96,2,  38.3121, -68.8206,    -999,     -999,    -999,   3.7973,   3.9106,2,-999,9,-999,-999,9,-999,    35.1343,2,-999,9,20120327,       1853
33AT20120324,        A22,      11,          1,         13,         13,2,20120327,       1755,    38.3162,   -68.8299,       3897,  1517.3,   3.7816,  34.9609,2,  34.9607,2,    264.2,2,   264.3,2,   13.29,2,   17.74,2,    0.00,2,    1.20,2,   1.948,2,   0.972,2,   0.097,2,    -999,5,    -999,9,    -999,9,     -999,9,     -999,    -999,9,     -999,9,    -999,9,   3.7818,2,    -999,9,    -999,9,    -999,    -999,9,    -999,    1.98,2,   44.65,2,   20.68,2,  38.3123, -68.8210,    -999,     -999,    -999,   3.6623,   3.7818,2,-999,9,-999,-999,9,-999,    35.1256,2,-999,9,20120327,       1850
33AT20120324,        A22,      11,          1,         12,         12,2,20120327,       1755,    38.3162,   -68.8299,       3897,  1618.9,   3.6830,  34.9554,2,  34.9560,2,    265.0,2,   264.8,2,   13.53,2,   17.66,2,    0.00,2,    1.19,2,   1.846,2,   0.950,2,   0.094,2,    -999,5,  2158.7,2, 2309.13,2,   7.7410,2,       25,    -999,9,     -999,9,    -999,9,   3.6833,2,    -999,9,    -999,9,    -999,    -999,9,    -999,    1.98,2,   44.28,2,   20.74,2,  38.3126, -68.8215,    -999,     -999,    -999,   3.5557,   3.6833,2,-999,9,-999,-999,9,-999,    35.1208,2,-999,9,20120327,       1847
33AT20120324,        A22,      11,          1,         11,         11,2,20120327,       1755,    38.3162,   -68.8299,       3897,  1720.1,   3.6094,  34.9502,2,     -999,5,    266.0,2,   265.9,2,   13.64,2,   17.65,2,    0.00,2,    1.19,2,   1.801,2,   0.927,2,   0.088,2,    -999,5,    -999,9,    -999,9,     -999,9,     -999,    -999,9,     -999,9,    -999,9,   3.6089,2,    -999,9,    -999,9,    -999,    -999,9,    -999,    2.07,2,   44.35,2,   20.84,2,  38.3128, -68.8218,    -999,     -999,    -999,   3.4739,   3.6089,2,-999,9,-999,-999,9,-999,       -999,5,-999,9,20120327,       1844
33AT20120324,        A22,      11,          1,         10,         10,2,20120327,       1755,    38.3162,   -68.8299,       3897,  1822.7,   3.5292,  34.9477,2,  34.9610,4,    266.2,2,   267.0,2,   14.17,2,   17.65,2,    0.00,2,    1.19,2,   1.746,2,   0.870,2,   0.080,2,    -999,5,  2158.8,2, 2309.61,2,   7.7268,2,       25,    -999,9,     -999,9,    -999,9,   3.5294,2,    -999,9,    -999,9,    -999,    -999,9,    -999,    2.06,2,   44.78,2,   20.62,2,  38.3130, -68.8221,    -999,     -999,    -999,   3.3853,   3.5294,2,-999,9,-999,-999,9,-999,    35.1258,4,-999,9,20120327,       1841
33AT20120324,        A22,      11,          1,          9,          9,2,20120327,       1755,    38.3162,   -68.8299,       3897,  2025.8,   3.3856,  34.9467,2,     -999,5,    267.0,2,   267.2,2,   15.42,2,   17.71,2,    0.00,2,    1.19,2,   1.479,2,   0.740,2,   0.064,2,    -999,5,    -999,9,    -999,9,     -999,9,     -999,    -999,9,     -999,9,    -999,9,   3.3841,2,    -999,9,    -999,9,    -999,    -999,9,    -999,    1.99,2,   44.08,2,   20.70,2,  38.3135, -68.8228,    -999,     -999,    -999,   3.2248,   3.3841,2,-999,9,-999,-999,9,-999,       -999,5,-999,9,20120327,       1837
33AT20120324,        A22,      11,          1,          8,          8,2,20120327,       1755,    38.3162,   -68.8299,       3897,  2227.7,   3.1971,  34.9394,2,  34.9405,2,    266.4,2,   267.8,2,   16.57,2,   17.60,2,    0.00,2,    1.19,2,   1.371,2,   0.731,2,   0.059,2,    -999,5,    -999,9,    -999,9,     -999,9,     -999,    -999,9,     -999,9,    -999,9,   3.1972,2,    -999,9,    -999,9,    -999,    -999,9,    -999,    2.05,2,   43.66,2,   20.56,2,  38.3138, -68.8233,    -999,     -999,    -999,   3.0201,   3.1972,2,-999,9,-999,-999,9,-999,    35.1053,2,-999,9,20120327,       1832
33AT20120324,        A22,      11,          1,          7,          7,2,20120327,       1755,    38.3162,   -68.8299,       3897,  2429.4,   3.0425,  34.9369,2,  34.9383,2,    266.6,2,   266.9,2,   18.05,2,   17.65,2,    0.00,2,    1.20,2,   1.226,2,   0.605,2,   0.064,2,    -999,5,  2160.6,2, 2313.73,2,   7.7330,2,       25,    -999,9,     -999,9,    -999,9,   3.0410,2,    -999,9,    -999,9,    -999,    -999,9,    -999,    1.98,2,   43.44,2,   20.43,2,  38.3142, -68.8242,    -999,     -999,    -999,   2.8487,   3.0410,2,-999,9,-999,-999,9,-999,    35.1031,2,-999,9,20120327,       1828
33AT20120324,        A22,      11,          1,          6,          6,2,20120327,       1755,    38.3162,   -68.8299,       3897,  2635.9,   2.8821,  34.9303,2,  34.9279,2,    267.7,2,   268.3,2,   19.76,2,   17.64,2,    0.00,2,    1.20,2,   0.698,2,   0.527,2,   0.045,2,    -999,5,    -999,9,    -999,9,     -999,9,     -999,    -999,9,     -999,9,    -999,9,   2.8826,2,    -999,9,    -999,9,    -999,    -999,9,    -999,    0.69,2,   43.34,2,   20.44,2,  38.3144, -68.8248,    -999,     -999,    -999,   2.6710,   2.8826,2,-999,9,-999,-999,9,-999,    35.0926,2,-999,9,20120327,       1823