BOTTLE,20220725CCHSIOCBG
EXPOCODE,SECT_ID,STNNBR,CASTNO,SAMPNO,BTLNBR,BTLNBR_FLAG_W,DATE,TIME,LATITUDE,LONGITUDE,DEPTH,CTDPRS,CTDTMP,CTDSAL,CTDSAL_FLAG_W,SALNTY,SALNTY_FLAG_W,CTDOXY,CTDOXY_FLAG_W,OXYGEN,OXYGEN_FLAG_W,SILCAT,SILCAT_FLAG_W,NITRAT,NITRAT_FLAG_W,NITRIT,NITRIT_FLAG_W,PHSPHT,PHSPHT_FLAG_W,CFC-11,CFC-11_FLAG_W,CFC-12,CFC-12_FLAG_W,CFC113,CFC113_FLAG_W,SF6,SF6_FLAG_W,TCARBN,TCARBN_FLAG_W,ALKALI,ALKALI_FLAG_W,PH_TOT,PH_TOT_FLAG_W,PH_TMP,TRITUM,TRITUM_FLAG_W,HELIUM,HELIUM_FLAG_W,DELHE3,DELHE3_FLAG_W,REFTMP,REFTMP_FLAG_W,DELC13,DELC13_FLAG_W,DELC14,DELC14_FLAG_W,C14ERR,NEON,NEON_FLAG_W,NEONER,CCL4,CCL4_FLAG_W,DOC,DOC_FLAG_W,TDN,TDN_FLAG_W,BTL_LAT,BTL_LON,TRITER,HELIER,DELHER,THETA,SBE35,SBE35_FLAG_W,14C-DOC,14C-DOC_FLAG_W,14C-DOCERR,13C-DOC,13C-DOC_FLAG_W,13C-DOCERR,SALTREF,SALTREF_FLAG_W,LAB_DEN,LAB_DEN_FLAG_W,BTL_DATE,BTL_TIME
,,,,,,,,,,,METERS,DBAR,ITS-90,PSS-78,,PSS-78,,UMOL/KG,,UMOL/KG,,UMOL/KG,,UMOL/KG,,UMOL/KG,,UMOL/KG,,PMOL/KG,,PMOL/KG,,PMOL/KG,,FMOL/KG,,UMOL/KG,,UMOL/KG,,,,DEG C,TU,,NMOL/KG,,PERCNT,,DEG C,,/MILLE,,/MILLE,,/MILLE,NMOL/KG,,NMOL/KG,PMOL/KG,,UMOL/KG,,UMOL/KG,,,,TU,NMOL/KG,PERCNT,DEG C,ITS-90,,/MILLE,,/MILLE,/MILLE,,/MILLE,G/KG,,KG/M^3,,,
33AT20120324,        A22,      11,          1,          5,          5,2,20120327,       1755,    38.3162,   -68.8299,       3897,  2838.2,   2.7153,  34.9218,2,     -999,5,    269.4,2,   268.3,2,   19.90,2,   17.50,2,    0.00,2,    1.19,2,   0.785,2,   0.574,2,   0.051,2,    -999,5,    -999,9,    -999,9,     -999,9,     -999,    -999,9,     -999,9,    -999,9,   2.7156,2,    -999,9,    -999,9,    -999,    -999,9,    -999,    0.75,2,   44.12,2,   20.34,2,  38.3147, -68.8254,    -999,     -999,    -999,   2.4872,   2.7156,2,-999,9,-999,-999,9,-999,       -999,5,-999,9,20120327,       1819
33AT20120324,        A22,      11,          1,          4,          4,2,20120327,       1755,    38.3162,   -68.8299,       3897,  3043.3,   2.5202,  34.9114,2,  34.9120,2,    271.3,2,   270.9,2,   21.01,2,   17.38,2,    0.00,2,    1.19,2,   0.888,2,   0.643,2,   0.062,2,    -999,5,  2167.7,2, 2315.78,2,   7.7422,2,       25,    -999,9,     -999,9,    -999,9,   2.5203,2,    -999,9,    -999,9,    -999,    -999,9,    -999,    0.79,2,   43.87,2,   20.24,2,  38.3151, -68.8265,    -999,     -999,    -999,   2.2755,   2.5203,2,-999,9,-999,-999,9,-999,    35.0766,2,-999,9,20120327,       1813
33AT20120324,        A22,      11,          1,          3,          3,2,20120327,       1755,    38.3162,   -68.8299,       3897,  3351.1,   2.3409,  34.9003,2,  34.9016,2,    271.8,2,   271.7,2,   23.25,2,   17.52,2,    0.00,2,    1.21,2,   0.736,2,   0.551,2,   0.062,2,    -999,5,    -999,9,    -999,9,     -999,9,     -999,    -999,9,     -999,9,    -999,9,   2.3402,2,    -999,9,    -999,9,    -999,    -999,9,    -999,    0.59,2,   43.51,2,   20.22,2,  38.3156, -68.8276,    -999,     -999,    -999,   2.0683,   2.3402,2,-999,9,-999,-999,9,-999,    35.0662,2,-999,9,20120327,       1807
33AT20120324,        A22,      11,          1,          2,          2,2,20120327,       1755,    38.3162,   -68.8299,       3897,  3605.4,   2.2485,  34.8931,2,  34.8941,2,    271.4,2,   271.0,2,   25.48,2,   17.68,2,    0.00,2,    1.22,2,   0.823,2,   0.601,2,   0.072,2,    -999,5,  2169.7,2, 2318.39,6,   7.7309,2,       25,    -999,9,     -999,9,    -999,9,   2.2503,2,    -999,9,    -999,9,    -999,    -999,9,    -999,    0.60,2,   43.61,2,   20.24,2,  38.3159, -68.8288,    -999,     -999,    -999,   1.9510,   2.2503,2,-999,9,-999,-999,9,-999,    35.0587,2,-999,9,20120327,       1801
33AT20120324,        A22,      11,          1,          1,          1,2,20120327,       1755,    38.3162,   -68.8299,       3897,  3886.9,   2.1472,  34.8814,2,  34.8829,2,    263.5,2,   263.8,2,   34.15,2,   19.14,2,    0.00,2,    1.32,2,   0.485,2,   0.370,2,   0.043,2,    -999,5,  2179.2,6, 2329.32,2,   7.7341,6,       25,    -999,9,     -999,9,    -999,9,   2.1475,2,    -999,9,    -999,9,    -999,    -999,9,    -999,    0.30,2,   44.08,2,   22.47,2,  38.3162, -68.8298,    -999,     -999,    -999,   1.8215,   2.1475,2,-999,9,-999,-999,9,-999,    35.0474,2,-999,9,20120327,       1756