BOTTLE,20220725CCHSIOCBG
EXPOCODE,SECT_ID,STNNBR,CASTNO,SAMPNO,BTLNBR,BTLNBR_FLAG_W,DATE,TIME,LATITUDE,LONGITUDE,DEPTH,CTDPRS,CTDTMP,CTDSAL,CTDSAL_FLAG_W,SALNTY,SALNTY_FLAG_W,CTDOXY,CTDOXY_FLAG_W,OXYGEN,OXYGEN_FLAG_W,SILCAT,SILCAT_FLAG_W,NITRAT,NITRAT_FLAG_W,NITRIT,NITRIT_FLAG_W,PHSPHT,PHSPHT_FLAG_W,CFC-11,CFC-11_FLAG_W,CFC-12,CFC-12_FLAG_W,CFC113,CFC113_FLAG_W,SF6,SF6_FLAG_W,TCARBN,TCARBN_FLAG_W,ALKALI,ALKALI_FLAG_W,PH_TOT,PH_TOT_FLAG_W,PH_TMP,TRITUM,TRITUM_FLAG_W,HELIUM,HELIUM_FLAG_W,DELHE3,DELHE3_FLAG_W,REFTMP,REFTMP_FLAG_W,DELC13,DELC13_FLAG_W,DELC14,DELC14_FLAG_W,C14ERR,NEON,NEON_FLAG_W,NEONER,CCL4,CCL4_FLAG_W,DOC,DOC_FLAG_W,TDN,TDN_FLAG_W,BTL_LAT,BTL_LON,TRITER,HELIER,DELHER,THETA,SBE35,SBE35_FLAG_W,14C-DOC,14C-DOC_FLAG_W,14C-DOCERR,13C-DOC,13C-DOC_FLAG_W,13C-DOCERR,SALTREF,SALTREF_FLAG_W,LAB_DEN,LAB_DEN_FLAG_W,BTL_DATE,BTL_TIME
,,,,,,,,,,,METERS,DBAR,ITS-90,PSS-78,,PSS-78,,UMOL/KG,,UMOL/KG,,UMOL/KG,,UMOL/KG,,UMOL/KG,,UMOL/KG,,PMOL/KG,,PMOL/KG,,PMOL/KG,,FMOL/KG,,UMOL/KG,,UMOL/KG,,,,DEG C,TU,,NMOL/KG,,PERCNT,,DEG C,,/MILLE,,/MILLE,,/MILLE,NMOL/KG,,NMOL/KG,PMOL/KG,,UMOL/KG,,UMOL/KG,,,,TU,NMOL/KG,PERCNT,DEG C,ITS-90,,/MILLE,,/MILLE,/MILLE,,/MILLE,G/KG,,KG/M^3,,,
33AT20120324,        A22,      59,          1,         25,         25,2,20120409,       2144,    17.6997,   -65.9999,       1459,     4.8,  27.2361,  35.9456,2,  35.9861,2,    202.0,2,   201.5,2,    1.27,2,    0.00,2,    0.00,2,    0.00,2,   1.567,2,   1.014,2,   0.118,2,    1.07,4,  2007.9,2, 2357.63,2,   8.1120,2,       25,    -999,9,     -999,9,    -999,9,  27.2361,2,    -999,9,    -999,9,    -999,    -999,9,    -999,    1.56,2,   73.89,2,    4.92,2,  17.7024, -65.9990,    -999,     -999,    -999,  27.2350,  27.2361,2,-999,9,-999,-999,9,-999,    36.1557,2,-999,9,20120409,       2236
33AT20120324,        A22,      59,          1,         24,         24,2,20120409,       2144,    17.6997,   -65.9999,       1459,    25.8,  27.0577,  35.9838,2,  36.0061,2,    204.2,2,   202.6,2,    1.30,2,    0.00,2,    0.00,2,    0.00,2,   1.577,2,   1.015,2,   0.117,2,    0.91,4,  2010.3,2, 2360.67,2,   8.1138,2,       25,    -999,9,     -999,9,    -999,9,  27.0583,2,    -999,9,    -999,9,    -999,    -999,9,    -999,    1.55,2,   73.81,2,    4.96,2,  17.7023, -65.9991,    -999,     -999,    -999,  27.0518,  27.0583,2,-999,9,-999,-999,9,-999,    36.1758,2,-999,9,20120409,       2234
33AT20120324,        A22,      59,          1,         23,         23,2,20120409,       2144,    17.6997,   -65.9999,       1459,    50.9,  26.7059,  36.1341,2,  36.1364,2,    207.7,2,   204.8,2,    1.02,2,    0.00,2,    0.00,2,    0.00,2,   1.588,2,   1.029,2,   0.122,2,    0.97,4,  2015.0,2, 2368.45,2,   8.1120,2,       25,    -999,9,     -999,9,    -999,9,  26.7055,2,    -999,9,    -999,9,    -999,    -999,9,    -999,    1.38,2,   72.63,2,    5.03,2,  17.7021, -65.9991,    -999,     -999,    -999,  26.6943,  26.7055,2,-999,9,-999,-999,9,-999,    36.3068,2,-999,9,20120409,       2232
33AT20120324,        A22,      59,          1,         22,         22,2,20120409,       2144,    17.6997,   -65.9999,       1459,    75.7,  26.3738,  36.1883,2,  36.1889,2,    205.6,2,   203.1,2,    1.02,2,    0.00,2,    0.00,2,    0.00,2,   1.594,2,   1.035,2,   0.120,2,    1.06,4,    -999,9,    -999,9,     -999,9,     -999,    -999,9,   1.7256,2,   -1.45,2,  26.3740,2,    -999,9,    -999,9,    -999,   6.741,2,   0.030,    1.34,2,   71.20,2,    4.61,2,  17.7020, -65.9992,    -999,   0.0069,    0.15,  26.3567,  26.3740,2,-999,9,-999,-999,9,-999,    36.3595,2,-999,9,20120409,       2230
33AT20120324,        A22,      59,          1,         21,         21,2,20120409,       2144,    17.6997,   -65.9999,       1459,   100.4,  26.0380,  36.4639,2,  36.4692,2,    196.9,2,   195.6,2,    0.84,2,    0.00,2,    0.00,2,    0.00,2,   1.639,2,   1.058,2,   0.121,2,    0.97,4,  2041.1,2, 2386.53,2,   8.0946,2,       25,    -999,9,     -999,9,    -999,9,  26.0384,2,    -999,9,    -999,9,    -999,    -999,9,    -999,    1.01,2,   72.84,2,    5.14,2,  17.7019, -65.9992,    -999,     -999,    -999,  26.0155,  26.0384,2,-999,9,-999,-999,9,-999,    36.6411,2,-999,9,20120409,       2228
33AT20120324,        A22,      59,          1,         20,         20,2,20120409,       2144,    17.6997,   -65.9999,       1459,   126.4,  24.1175,  37.0186,2,  37.0320,2,    168.5,2,   169.8,2,    0.66,2,    1.93,2,    0.04,2,    0.09,2,   1.786,2,   1.141,2,   0.085,2,    0.99,4,    -999,9,    -999,9,     -999,9,     -999,    -999,9,     -999,9,    -999,9,  24.1172,2,    -999,9,    -999,9,    -999,    -999,9,    -999,    0.35,2,   64.17,2,    5.82,2,  17.7018, -65.9993,    -999,     -999,    -999,  24.0906,  24.1172,2,-999,9,-999,-999,9,-999,    37.2066,2,-999,9,20120409,       2226
33AT20120324,        A22,      59,          1,         19,         19,2,20120409,       2144,    17.6997,   -65.9999,       1459,   150.7,  23.0399,  37.0451,2,  37.0441,2,    174.3,2,   173.4,2,    0.54,2,    1.79,2,    0.03,2,    0.07,2,   1.834,2,   1.186,2,   0.082,2,    0.95,4,    -999,9,    -999,9,     -999,9,     -999,    -999,9,     -999,9,    -999,9,  23.0507,2,    -999,9,    -999,9,    -999,    -999,9,    -999,    0.32,2,   57.75,2,    6.86,2,  17.7018, -65.9993,    -999,     -999,    -999,  23.0088,  23.0507,2,-999,9,-999,-999,9,-999,    37.2188,2,-999,9,20120409,       2224
33AT20120324,        A22,      59,          1,         18,         18,2,20120409,       2144,    17.6997,   -65.9999,       1459,   176.1,  21.8594,  36.9802,2,  36.9746,2,    167.9,2,   168.5,2,    0.69,2,    2.75,2,    0.02,2,    0.12,2,   1.922,2,   1.217,2,   0.054,2,    0.77,4,    -999,9,    -999,9,     -999,9,     -999,    -999,9,     -999,9,    -999,9,  21.8568,2,    -999,9,    -999,9,    -999,    -999,9,    -999,    0.22,2,   55.17,2,    7.69,2,  17.7018, -65.9993,    -999,     -999,    -999,  21.8244,  21.8568,2,-999,9,-999,-999,9,-999,    37.1490,2,-999,9,20120409,       2223
33AT20120324,        A22,      59,          1,         17,         17,2,20120409,       2144,    17.6997,   -65.9999,       1459,   201.5,  20.8378,  36.8740,2,  36.8613,2,    157.6,2,   160.8,2,    1.13,2,    4.47,2,    0.01,2,    0.20,2,   1.973,2,   1.227,2,   0.035,2,    0.53,4,  2142.0,2, 2405.75,2,   7.9549,2,       25,    -999,9,     -999,9,    -999,9,  20.8369,2,    -999,9,    -999,9,    -999,    -999,9,    -999,    0.18,2,   52.32,2,    7.71,2,  17.7018, -65.9993,    -999,     -999,    -999,  20.7990,  20.8369,2,-999,9,-999,-999,9,-999,    37.0351,2,-999,9,20120409,       2221
33AT20120324,        A22,      59,          1,         16,         16,2,20120409,       2144,    17.6997,   -65.9999,       1459,   226.3,  19.3053,  36.6533,2,  36.6506,2,    154.1,2,   154.3,2,    1.93,2,    7.22,2,    0.01,2,    0.38,2,   2.069,2,   1.277,2,   0.019,2,    0.59,4,    -999,9,    -999,9,     -999,9,     -999,    -999,9,     -999,9,    -999,9,  19.3054,2,    -999,9,    -999,9,    -999,    -999,9,    -999,    0.19,2,   50.73,2,   11.26,2,  17.7018, -65.9993,    -999,     -999,    -999,  19.2641,  19.3054,2,-999,9,-999,-999,9,-999,    36.8234,2,-999,9,20120409,       2220
33AT20120324,        A22,      59,          1,         15,         15,2,20120409,       2144,    17.6997,   -65.9999,       1459,   251.1,  18.5511,  36.5714,2,  36.5695,2,    162.0,2,   160.4,2,    1.94,2,    7.47,2,    0.00,2,    0.40,2,   2.129,2,   1.318,2,   0.019,2,    0.54,4,    -999,9,    -999,9,     -999,9,     -999,    -999,9,     -999,9,    -999,9,  18.5459,2,    -999,9,    -999,9,    -999,    -999,9,    -999,    0.22,2,   48.82,2,   11.36,2,  17.7018, -65.9992,    -999,     -999,    -999,  18.5066,  18.5459,2,-999,9,-999,-999,9,-999,    36.7420,2,-999,9,20120409,       2218
33AT20120324,        A22,      59,          1,         14,         14,2,20120409,       2144,    17.6997,   -65.9999,       1459,   297.7,  17.1532,  36.3471,2,  36.3457,2,    160.4,2,   161.5,2,    2.75,2,    9.64,2,    0.00,2,    0.54,2,   2.154,2,   1.310,2,   0.019,2,    0.71,4,  2148.8,2, 2374.78,2,   7.8902,2,       25,    -999,9,     -999,9,    -999,9,  17.1553,2,    -999,9,    -999,9,    -999,    -999,9,    -999,    0.29,2,   47.52,2,   13.35,2,  17.7019, -65.9992,    -999,     -999,    -999,  17.1032,  17.1553,2,-999,9,-999,-999,9,-999,    36.5171,2,-999,9,20120409,       2217
33AT20120324,        A22,      59,          1,         13,         13,2,20120409,       2144,    17.6997,   -65.9999,       1459,   351.9,  15.1826,  35.9550,2,  35.9475,2,    140.7,2,   140.1,2,    5.31,2,   15.31,2,    0.00,2,    0.93,2,   2.103,2,   1.246,2,   0.016,2,    0.49,4,    -999,9,    -999,9,     -999,9,     -999,    -999,9,   1.7647,2,    1.73,2,  15.1791,2,    -999,9,    -999,9,    -999,   7.182,2,   0.032,    0.25,2,   45.77,2,   19.21,2,  17.7020, -65.9992,    -999,   0.0071,    0.15,  15.1282,  15.1791,2,-999,9,-999,-999,9,-999,    36.1170,2,-999,9,20120409,       2215
33AT20120324,        A22,      59,          1,         12,         12,2,20120409,       2144,    17.6997,   -65.9999,       1459,   402.2,  13.4062,  35.6432,2,  35.6416,2,    131.8,2,   132.0,2,    7.47,2,   19.04,2,    0.00,2,    1.18,2,   1.964,2,   1.121,2,   0.019,2,    0.58,4,  2179.3,2, 2339.05,2,   7.7496,2,       25,    -999,9,     -999,9,    -999,9,  13.3982,2,    -999,9,    -999,9,    -999,    -999,9,    -999,    0.27,2,   43.55,2,   22.97,2,  17.7020, -65.9991,    -999,     -999,    -999,  13.3490,  13.3982,2,-999,9,-999,-999,9,-999,    35.8096,2,-999,9,20120409,       2213
33AT20120324,        A22,      59,          1,         11,         11,2,20120409,       2144,    17.6997,   -65.9999,       1459,   450.3,  12.3874,  35.4902,2,  35.4822,2,    128.3,2,   128.6,2,    8.90,2,   21.26,2,    0.00,2,    1.32,2,   1.821,2,   1.019,2,   0.018,2,    0.72,4,    -999,9,    -999,9,     -999,9,     -999,    -999,9,     -999,9,    -999,9,  12.3860,2,    -999,9,    -999,9,    -999,    -999,9,    -999,    0.27,2,   42.33,2,   24.95,2,  17.7020, -65.9991,    -999,     -999,    -999,  12.3265,  12.3860,2,-999,9,-999,-999,9,-999,    35.6495,2,-999,9,20120409,       2211
33AT20120324,        A22,      59,          1,         10,         10,2,20120409,       2144,    17.6997,   -65.9999,       1459,   503.1,  11.5004,  35.3668,2,  35.3668,2,    126.8,2,   126.7,2,   10.26,2,   22.89,2,    0.00,2,    1.43,2,   1.629,2,   0.914,2,   0.019,2,    0.38,4,  2189.5,2, 2326.16,2,   7.6953,6,       25,    -999,9,     -999,9,    -999,9,  11.5007,2,    -999,9,    -999,9,    -999,    -999,9,    -999,    0.28,2,   41.78,2,   25.68,2,  17.7020, -65.9992,    -999,     -999,    -999,  11.4355,  11.5007,2,-999,9,-999,-999,9,-999,    35.5336,2,-999,9,20120409,       2209
33AT20120324,        A22,      59,          1,          9,          9,2,20120409,       2144,    17.6997,   -65.9999,       1459,   604.1,   9.3308,  35.0615,2,  35.0625,2,    122.3,2,   122.9,2,   14.91,2,   27.52,2,    0.00,2,    1.76,2,   1.124,2,   0.596,2,   0.012,2,    0.37,4,  2203.5,6, 2315.18,2,   7.6318,2,       25,    -999,9,     -999,9,    -999,9,   9.3287,2,    -999,9,    -999,9,    -999,    -999,9,    -999,    0.29,2,   42.05,2,   30.19,2,  17.7019, -65.9992,    -999,     -999,    -999,   9.2621,   9.3287,2,-999,9,-999,-999,9,-999,    35.2278,2,-999,9,20120409,       2207
33AT20120324,        A22,      59,          1,          8,          8,2,20120409,       2144,    17.6997,   -65.9999,       1459,   704.2,   7.8266,  34.9116,2,  34.9134,2,    127.5,2,   127.4,2,   19.09,2,   29.76,2,    0.00,2,    1.93,2,   0.668,2,   0.356,2,   0.008,2,    0.43,4,  2208.8,2,    -999,9,   7.6052,2,       25,    -999,9,     -999,9,    -999,9,   7.8307,2,    -999,9,    -999,9,    -999,    -999,9,    -999,    0.24,2,   40.82,2,   32.51,2,  17.7017, -65.9993,    -999,     -999,    -999,   7.7540,   7.8307,2,-999,9,-999,-999,9,-999,    35.0780,2,-999,9,20120409,       2204
33AT20120324,        A22,      59,          1,          7,          7,2,20120409,       2144,    17.6997,   -65.9999,       1459,   805.5,   6.6710,  34.8582,2,  34.8581,2,    138.8,2,   139.7,2,   21.93,2,   29.92,2,    0.00,2,    1.97,2,   0.358,2,   0.198,2,   0.006,2,    0.37,4,    -999,9,    -999,9,     -999,9,     -999,    -999,9,     -999,9,    -999,9,   6.6735,2,    -999,9,    -999,9,    -999,    -999,9,    -999,    0.19,2,   40.36,2,   32.76,2,  17.7016, -65.9994,    -999,     -999,    -999,   6.5944,   6.6735,2,-999,9,-999,-999,9,-999,    35.0225,2,-999,9,20120409,       2201
33AT20120324,        A22,      59,          1,          6,          6,2,20120409,       2144,    17.6997,   -65.9999,       1459,   906.8,   6.0118,  34.8970,2,  34.8979,2,    159.4,2,   157.5,2,   22.67,2,   27.89,2,    0.00,2,    1.85,2,    -999,5,    -999,5,    -999,5,    -999,5,  2205.8,2, 2317.84,2,   7.6320,2,       25,    -999,9,     -999,9,    -999,9,   6.0148,2,    -999,9,    -999,9,    -999,    -999,9,    -999,    -999,5,   40.63,2,   30.47,2,  17.7015, -65.9995,    -999,     -999,    -999,   5.9293,   6.0148,2,-999,9,-999,-999,9,-999,    35.0624,2,-999,9,20120409,       2159
33AT20120324,        A22,      59,          1,          5,          5,2,20120409,       2144,    17.6997,   -65.9999,       1459,  1007.0,   5.3264,  34.9356,2,  34.9364,2,    180.9,2,   180.1,2,   23.25,2,   25.64,2,    0.00,2,    1.71,2,   0.207,2,   0.119,2,   0.005,2,    0.00,4,    -999,9,    -999,9,     -999,9,     -999,    -999,9,     -999,9,    -999,9,   5.3270,2,    -999,9,    -999,9,    -999,    -999,9,    -999,    0.19,2,   41.28,2,   28.49,2,  17.7014, -65.9995,    -999,     -999,    -999,   5.2393,   5.3270,2,-999,9,-999,-999,9,-999,    35.1012,2,-999,9,20120409,       2156
33AT20120324,        A22,      59,          1,          4,          4,2,20120409,       2144,    17.6997,   -65.9999,       1459,  1108.2,   4.8775,  34.9547,2,  34.9555,2,    195.6,2,   194.7,2,   23.50,2,   24.15,2,    0.00,2,    1.62,2,   0.186,2,   0.111,2,   0.006,2,    0.14,4,  2194.3,2, 2328.08,2,   7.6789,2,       25,    -999,9,     -999,9,    -999,9,   4.8770,2,    -999,9,    -999,9,    -999,    -999,9,    -999,    0.21,2,   41.31,2,   26.53,2,  17.7011, -65.9997,    -999,     -999,    -999,   4.7845,   4.8770,2,-999,9,-999,-999,9,-999,    35.1204,2,-999,9,20120409,       2153
33AT20120324,        A22,      59,          1,          3,          3,2,20120409,       2144,    17.6997,   -65.9999,       1459,  1209.7,   4.4882,  34.9662,2,  34.9667,2,    207.4,2,   206.4,2,   24.21,2,   22.97,2,    0.00,2,    1.56,2,   0.168,2,   0.101,2,   0.008,2,    0.00,4,    -999,9,    -999,9,     -999,9,     -999,    -999,9,     -999,9,    -999,9,   4.4887,2,    -999,9,    -999,9,    -999,    -999,9,    -999,    0.22,2,   41.18,2,   25.84,2,  17.7008, -65.9998,    -999,     -999,    -999,   4.3894,   4.4887,2,-999,9,-999,-999,9,-999,    35.1316,2,-999,9,20120409,       2150
33AT20120324,        A22,      59,          1,          2,          2,2,20120409,       2144,    17.6997,   -65.9999,       1459,  1335.5,   4.2871,  34.9702,2,  34.9712,2,    211.1,2,   211.3,2,   25.06,2,   22.48,2,    0.00,2,    1.52,2,   0.166,2,   0.098,2,   0.007,2,    0.12,4,  2193.3,2, 2327.68,6,   7.6996,2,       25,    -999,9,     -999,9,    -999,9,   4.2869,2,    -999,9,    -999,9,    -999,    -999,9,    -999,    0.22,2,   40.64,2,   25.31,2,  17.7003, -65.9999,    -999,     -999,    -999,   4.1788,   4.2869,2,-999,9,-999,-999,9,-999,    35.1361,2,-999,9,20120409,       2147
33AT20120324,        A22,      59,          1,          1,          1,2,20120409,       2144,    17.6997,   -65.9999,       1459,  1463.5,   4.1836,  34.9725,2,  34.9736,2,    216.4,2,   215.8,2,   24.53,2,   21.90,2,    0.00,2,    1.48,2,   0.266,2,   0.151,2,   0.019,2,    0.10,4,  2191.0,2, 2327.27,2,   7.7056,2,       25,    -999,9,     -999,9,    -999,9,   4.1850,2,    -999,9,    -999,9,    -999,    -999,9,    -999,    0.37,2,   40.33,2,   24.19,2,  17.6997, -65.9999,    -999,     -999,    -999,   4.0647,   4.1850,2,-999,9,-999,-999,9,-999,    35.1385,2,-999,9,20120409,       2144