BOTTLE,20220725CCHSIOCBG
EXPOCODE,SECT_ID,STNNBR,CASTNO,SAMPNO,BTLNBR,BTLNBR_FLAG_W,DATE,TIME,LATITUDE,LONGITUDE,DEPTH,CTDPRS,CTDTMP,CTDSAL,CTDSAL_FLAG_W,SALNTY,SALNTY_FLAG_W,CTDOXY,CTDOXY_FLAG_W,OXYGEN,OXYGEN_FLAG_W,SILCAT,SILCAT_FLAG_W,NITRAT,NITRAT_FLAG_W,NITRIT,NITRIT_FLAG_W,PHSPHT,PHSPHT_FLAG_W,CFC-11,CFC-11_FLAG_W,CFC-12,CFC-12_FLAG_W,CFC113,CFC113_FLAG_W,SF6,SF6_FLAG_W,TCARBN,TCARBN_FLAG_W,ALKALI,ALKALI_FLAG_W,PH_TOT,PH_TOT_FLAG_W,PH_TMP,TRITUM,TRITUM_FLAG_W,HELIUM,HELIUM_FLAG_W,DELHE3,DELHE3_FLAG_W,REFTMP,REFTMP_FLAG_W,DELC13,DELC13_FLAG_W,DELC14,DELC14_FLAG_W,C14ERR,NEON,NEON_FLAG_W,NEONER,CCL4,CCL4_FLAG_W,DOC,DOC_FLAG_W,TDN,TDN_FLAG_W,BTL_LAT,BTL_LON,TRITER,HELIER,DELHER,THETA,SBE35,SBE35_FLAG_W,14C-DOC,14C-DOC_FLAG_W,14C-DOCERR,13C-DOC,13C-DOC_FLAG_W,13C-DOCERR,SALTREF,SALTREF_FLAG_W,LAB_DEN,LAB_DEN_FLAG_W,BTL_DATE,BTL_TIME
,,,,,,,,,,,METERS,DBAR,ITS-90,PSS-78,,PSS-78,,UMOL/KG,,UMOL/KG,,UMOL/KG,,UMOL/KG,,UMOL/KG,,UMOL/KG,,PMOL/KG,,PMOL/KG,,PMOL/KG,,FMOL/KG,,UMOL/KG,,UMOL/KG,,,,DEG C,TU,,NMOL/KG,,PERCNT,,DEG C,,/MILLE,,/MILLE,,/MILLE,NMOL/KG,,NMOL/KG,PMOL/KG,,UMOL/KG,,UMOL/KG,,,,TU,NMOL/KG,PERCNT,DEG C,ITS-90,,/MILLE,,/MILLE,/MILLE,,/MILLE,G/KG,,KG/M^3,,,
33AT20120324,        A22,      33,          1,         36,         36,2,20120403,       1154,    27.8159,   -65.5239,       5270,     5.7,  21.7295,  36.7599,2,  36.7599,2,    219.1,2,   218.9,2,    0.63,2,    0.00,2,    0.00,2,    0.00,2,   1.849,2,   1.228,2,   0.142,2,    1.65,4,  2070.2,6, 2404.29,6,   8.0704,6,       25,    -999,9,     -999,9,    -999,9,  21.7278,2,    0.89,2,    56.0,2,     3.0,    -999,9,    -999,    1.75,2,   69.43,2,    4.72,2,  27.8082, -65.5327,    -999,     -999,    -999,  21.7284,  21.7278,2,-999,9,-999,-999,9,-999,    36.9333,2,-999,9,20120403,       1402
33AT20120324,        A22,      33,          1,         35,         35,3,20120403,       1154,    27.8159,   -65.5239,       5270,    36.4,  21.4969,  36.7365,2,  36.1579,4,    223.0,2,   222.1,4,    7.35,4,    6.68,4,    0.00,4,    0.45,4,   1.407,2,   0.881,2,   0.081,2,    0.55,4,  2116.4,4, 2372.73,3,   7.9458,4,       25,    -999,9,     -999,9,    -999,9,  21.4836,2,    0.93,2,    25.0,2,     3.2,    -999,9,    -999,    1.09,2,    -999,9,    -999,9,  27.8083, -65.5325,    -999,     -999,    -999,  21.4898,  21.4836,2,-999,9,-999,-999,9,-999,    36.3284,4,-999,9,20120403,       1359
33AT20120324,        A22,      33,          1,         34,         34,2,20120403,       1154,    27.8159,   -65.5239,       5270,    60.5,  20.9214,  36.6823,2,  36.6818,2,    222.8,2,   223.1,2,    0.59,2,    0.00,2,    0.00,2,    0.00,2,   1.925,2,   1.279,2,   0.147,2,    1.03,4,  2074.7,2, 2399.90,2,   8.0580,2,       25,    -999,9,     -999,9,    -999,9,  20.9221,2,    -999,9,    -999,9,    -999,    -999,9,    -999,    1.78,2,   65.38,2,    5.30,2,  27.8085, -65.5323,    -999,     -999,    -999,  20.9098,  20.9221,2,-999,9,-999,-999,9,-999,    36.8548,2,-999,9,20120403,       1357
33AT20120324,        A22,      33,          1,         33,         33,2,20120403,       1154,    27.8159,   -65.5239,       5270,    87.7,  20.8973,  36.6803,2,  36.6796,2,    224.1,2,   222.3,2,    0.58,2,    0.00,2,    0.00,2,    0.00,2,   1.921,2,   1.264,2,   0.149,2,    1.22,4,    -999,9,    -999,9,     -999,9,     -999,    -999,9,     -999,9,    -999,9,  20.8960,2,    -999,9,    -999,9,    -999,    -999,9,    -999,    1.80,2,   63.72,2,    4.77,2,  27.8086, -65.5322,    -999,     -999,    -999,  20.8804,  20.8960,2,-999,9,-999,-999,9,-999,    36.8526,2,-999,9,20120403,       1355
33AT20120324,        A22,      33,          1,         32,         32,2,20120403,       1154,    27.8159,   -65.5239,       5270,   115.0,  20.8430,  36.6981,2,  36.6963,2,    221.0,2,   222.2,2,    0.58,2,    0.00,2,    0.00,2,    0.00,2,   1.897,2,   1.274,2,   0.160,2,    0.76,4,  2077.7,2, 2400.50,2,   8.0560,2,       25,    -999,9,     -999,9,    -999,9,  20.8560,2,    0.89,2,    64.9,2,     3.3,    -999,9,    -999,    1.59,2,   61.58,2,    4.75,2,  27.8087, -65.5320,    -999,     -999,    -999,  20.8209,  20.8560,2,-999,9,-999,-999,9,-999,    36.8693,2,-999,9,20120403,       1353
33AT20120324,        A22,      33,          1,         31,         31,2,20120403,       1154,    27.8159,   -65.5239,       5270,   166.4,  20.0744,  36.6143,2,  36.6047,2,    211.9,2,   210.0,2,    0.70,2,    0.90,2,    0.01,2,    0.02,2,   1.947,2,   1.293,2,   0.118,2,    0.98,4,  2088.8,2, 2395.57,2,   8.0289,2,       25,    -999,9,     -999,9,    -999,9,  20.0757,2,    0.78,2,    56.1,2,     2.6,    -999,9,    -999,    1.13,2,   58.74,2,    5.49,2,  27.8089, -65.5318,    -999,     -999,    -999,  20.0433,  20.0757,2,-999,9,-999,-999,9,-999,    36.7773,2,-999,9,20120403,       1351
33AT20120324,        A22,      33,          1,         30,         30,2,20120403,       1154,    27.8159,   -65.5239,       5270,   216.4,  18.9177,  36.6353,2,  36.6346,2,    191.6,2,   192.3,2,    1.06,2,    3.05,2,    0.01,2,    0.12,2,   2.002,2,   1.346,2,   0.040,2,    1.13,4,  2116.5,2, 2394.17,2,   7.9820,2,       25,    -999,9,     -999,9,    -999,9,  18.9159,2,    0.64,2,    71.8,2,     2.8,    -999,9,    -999,    0.32,2,   55.98,2,    6.62,2,  27.8090, -65.5317,    -999,     -999,    -999,  18.8788,  18.9159,2,-999,9,-999,-999,9,-999,    36.8073,2,-999,9,20120403,       1348
33AT20120324,        A22,      33,          1,         29,         29,2,20120403,       1154,    27.8159,   -65.5239,       5270,   248.9,  18.5811,  36.6130,2,  36.6122,2,    197.8,2,   196.3,2,    1.11,2,    3.44,2,    0.00,2,    0.14,2,   2.026,2,   1.368,2,   0.039,2,    0.94,4,  2114.5,2, 2394.05,2,   7.9821,2,       25,    -999,9,     -999,9,    -999,9,  18.5745,2,    0.63,2,    65.8,2,     2.8,    -999,9,    -999,    0.35,2,   53.08,2,    7.57,2,  27.8091, -65.5316,    -999,     -999,    -999,  18.5369,  18.5745,2,-999,9,-999,-999,9,-999,    36.7848,2,-999,9,20120403,       1346
33AT20120324,        A22,      33,          1,         28,         28,2,20120403,       1154,    27.8159,   -65.5239,       5270,   317.2,  18.1341,  36.5754,2,  36.5755,2,    202.3,2,   201.6,2,    1.28,2,    4.03,2,    0.00,2,    0.19,2,   2.052,2,   1.349,2,   0.039,2,    1.33,4,    -999,9,    -999,9,     -999,9,     -999,    -999,9,     -999,9,    -999,9,  18.1329,2,    -999,9,    -999,9,    -999,    -999,9,    -999,    0.37,2,   51.63,2,    8.22,2,  27.8093, -65.5313,    -999,     -999,    -999,  18.0786,  18.1329,2,-999,9,-999,-999,9,-999,    36.7480,2,-999,9,20120403,       1344
33AT20120324,        A22,      33,          1,         27,         27,2,20120403,       1154,    27.8159,   -65.5239,       5270,   366.6,  17.8768,  36.5412,2,  36.5414,2,    204.3,2,   204.0,2,    1.33,2,    4.36,2,    0.00,2,    0.20,2,   2.083,2,   1.391,2,   0.041,2,    0.67,4,  2114.8,2, 2389.01,2,   7.9762,2,       25,    -999,9,     -999,9,    -999,9,  17.8793,2,    0.66,2,    71.1,2,     2.6,    -999,9,    -999,    0.41,2,   49.28,2,    9.27,2,  27.8095, -65.5312,    -999,     -999,    -999,  17.8133,  17.8793,2,-999,9,-999,-999,9,-999,    36.7137,2,-999,9,20120403,       1343
33AT20120324,        A22,      33,          1,         26,         26,2,20120403,       1154,    27.8159,   -65.5239,       5270,   438.1,  17.4598,  36.4708,2,  36.4677,2,    202.5,2,   203.4,2,    1.62,2,    5.11,2,    0.00,2,    0.25,2,   2.168,2,   1.447,2,   0.047,2,    1.20,4,  2118.6,2, 2384.74,2,   7.9643,2,       25,    -999,9,     -999,9,    -999,9,  17.4593,2,    0.66,2,    80.0,2,     2.8,    -999,9,    -999,    0.53,2,   48.01,2,    8.96,2,  27.8096, -65.5310,    -999,     -999,    -999,  17.3850,  17.4593,2,-999,9,-999,-999,9,-999,    36.6397,2,-999,9,20120403,       1340
33AT20120324,        A22,      33,          1,         25,         25,2,20120403,       1154,    27.8159,   -65.5239,       5270,   539.0,  15.9581,  36.1742,2,  36.1790,2,    180.3,2,   180.4,2,    3.20,2,    9.57,2,    0.00,2,    0.54,2,   2.188,2,   1.353,2,   0.025,2,    0.53,4,  2137.8,2, 2368.24,6,   7.8993,2,       25,    -999,9,     -999,9,    -999,9,  15.9577,2,    0.64,2,    62.5,2,     2.8,    -999,9,    -999,    0.38,2,   47.11,2,   13.35,2,  27.8098, -65.5309,    -999,     -999,    -999,  15.8714,  15.9577,2,-999,9,-999,-999,9,-999,    36.3496,2,-999,9,20120403,       1338
33AT20120324,        A22,      33,          1,         24,         24,2,20120403,       1154,    27.8159,   -65.5239,       5270,   641.7,  13.6570,  35.7967,2,  35.7953,2,    167.9,2,   165.4,2,    5.88,2,   14.82,2,    0.00,2,    0.89,2,   2.008,2,   1.226,2,   0.029,2,    0.32,4,    -999,9,    -999,9,     -999,9,     -999,    -999,9,     -999,9,    -999,9,  13.6543,2,    -999,9,    -999,9,    -999,    -999,9,    -999,    0.34,2,   46.23,2,   18.72,2,  27.8099, -65.5307,    -999,     -999,    -999,  13.5637,  13.6543,2,-999,9,-999,-999,9,-999,    35.9641,2,-999,9,20120403,       1335
33AT20120324,        A22,      33,          1,         23,         23,2,20120403,       1154,    27.8159,   -65.5239,       5270,   739.5,  11.5209,  35.5016,2,  35.5028,2,    152.2,2,   151.9,2,    9.35,2,   19.64,2,    0.00,2,    1.21,2,   1.549,2,   0.887,2,   0.016,2,    0.21,4,  2175.4,2, 2334.15,2,   7.7486,2,       25,    -999,9,     -999,9,    -999,9,  11.5196,2,    0.57,2,     5.0,2,     2.8,    -999,9,    -999,    0.28,2,   45.68,2,   23.47,2,  27.8101, -65.5305,    -999,     -999,    -999,  11.4242,  11.5196,2,-999,9,-999,-999,9,-999,    35.6702,2,-999,9,20120403,       1332
33AT20120324,        A22,      33,          1,         22,         22,2,20120403,       1154,    27.8159,   -65.5239,       5270,   843.2,   9.1502,  35.2327,2,  35.2341,2,    149.1,2,   149.2,2,   13.59,2,   23.58,2,    0.00,2,    1.49,2,   0.983,2,   0.548,2,   0.012,2,    0.12,4,  2187.9,6, 2324.16,2,   7.6914,2,       25,    -999,9,     -999,9,    -999,9,   9.1537,2,    0.67,2,   -29.3,2,     2.4,    -999,9,    -999,    0.27,2,   45.13,2,   27.33,2,  27.8102, -65.5303,    -999,     -999,    -999,   9.0540,   9.1537,2,-999,9,-999,-999,9,-999,    35.4003,2,-999,9,20120403,       1330
33AT20120324,        A22,      33,          1,         21,         21,2,20120403,       1154,    27.8159,   -65.5239,       5270,   942.1,   7.7152,  35.1228,2,  35.1232,2,    162.8,2,   162.6,2,   15.41,2,   24.18,2,    0.00,2,    1.56,2,   0.829,2,   0.447,2,   0.015,2,    0.00,4,  2189.4,2, 2321.20,2,   7.6778,6,       25,    -999,9,     -999,9,    -999,9,   7.7163,2,    0.76,2,   -50.1,2,     2.3,    -999,9,    -999,    0.35,2,   44.39,2,   28.45,2,  27.8104, -65.5301,    -999,     -999,    -999,   7.6171,   7.7163,2,-999,9,-999,-999,9,-999,    35.2889,2,-999,9,20120403,       1327
33AT20120324,        A22,      33,          1,         20,         20,2,20120403,       1154,    27.8159,   -65.5239,       5270,  1044.3,   6.5419,  35.0860,2,  35.0862,2,    185.2,2,   188.9,2,   15.20,2,   22.62,2,    0.00,2,    1.48,2,   0.883,2,   0.477,2,   0.020,2,    0.00,4,  2185.3,2, 2320.76,2,   7.6918,2,       25,    -999,9,     -999,9,    -999,9,   6.5400,2,    0.82,2,   -54.2,2,     2.3,    -999,9,    -999,    0.55,2,   44.33,2,   25.76,2,  27.8107, -65.5298,    -999,     -999,    -999,   6.4415,   6.5400,2,-999,9,-999,-999,9,-999,    35.2517,2,-999,9,20120403,       1324
33AT20120324,        A22,      33,          1,         19,         19,2,20120403,       1154,    27.8159,   -65.5239,       5270,  1145.9,   5.9062,  35.0928,2,  35.0925,2,    206.9,2,   208.1,2,   14.29,2,   20.99,2,    0.00,2,    1.39,2,   1.008,2,   0.537,2,   0.028,2,    0.00,4,    -999,9,    -999,9,     -999,9,     -999,    -999,9,     -999,9,    -999,9,   5.9061,2,    -999,9,    -999,9,    -999,    -999,9,    -999,    0.76,2,   43.64,2,   24.22,2,  27.8110, -65.5295,    -999,     -999,    -999,   5.8007,   5.9061,2,-999,9,-999,-999,9,-999,    35.2580,2,-999,9,20120403,       1322
33AT20120324,        A22,      33,          1,         18,         18,2,20120403,       1154,    27.8159,   -65.5239,       5270,  1246.5,   5.4525,  35.0935,2,  35.0939,2,    222.1,2,   222.7,2,   13.82,2,   19.93,2,    0.00,2,    1.32,2,   1.055,2,   0.562,2,   0.041,2,    0.13,4,  2175.1,2, 2319.55,2,   7.7178,2,       25,    -999,9,     -999,9,    -999,9,   5.4539,2,    0.90,2,   -49.5,2,     2.5,    -999,9,    -999,    0.91,2,   43.12,2,   23.64,2,  27.8112, -65.5292,    -999,     -999,    -999,   5.3410,   5.4539,2,-999,9,-999,-999,9,-999,    35.2594,2,-999,9,20120403,       1319
33AT20120324,        A22,      33,          1,         17,         17,2,20120403,       1154,    27.8159,   -65.5239,       5270,  1344.3,   5.1184,  35.0823,2,  35.0823,2,    233.2,2,   232.6,2,   13.57,2,   19.29,2,    0.00,2,    1.28,2,   1.125,2,   0.608,2,   0.048,2,    0.30,4,    -999,9,    -999,9,     -999,9,     -999,    -999,9,     -999,9,    -999,9,   5.1180,2,    -999,9,    -999,9,    -999,    -999,9,    -999,    1.01,2,   42.77,2,   22.55,2,  27.8115, -65.5288,    -999,     -999,    -999,   5.0006,   5.1180,2,-999,9,-999,-999,9,-999,    35.2477,2,-999,9,20120403,       1316
33AT20120324,        A22,      33,          1,         16,         16,2,20120403,       1154,    27.8159,   -65.5239,       5270,  1478.7,   4.6486,  35.0577,2,  35.0585,2,    243.4,2,   243.5,2,   13.66,2,   18.80,2,    0.00,2,    1.24,2,   1.105,2,   0.592,2,   0.047,2,    0.09,4,  2167.5,2, 2315.92,2,   7.7326,2,       25,    -999,9,     -999,9,    -999,9,   4.6482,2,    0.98,2,   -47.5,2,     2.5,    -999,9,    -999,    1.13,2,   42.36,2,   22.23,2,  27.8119, -65.5285,    -999,     -999,    -999,   4.5229,   4.6482,2,-999,9,-999,-999,9,-999,    35.2238,2,-999,9,20120403,       1313
33AT20120324,        A22,      33,          1,         15,         15,2,20120403,       1154,    27.8159,   -65.5239,       5270,  1678.0,   4.2079,  35.0317,2,  35.0323,2,    250.6,2,   249.9,2,   15.07,2,   18.63,2,    0.00,2,    1.23,2,   0.861,2,   0.453,2,   0.034,2,    0.00,4,  2165.8,2, 2317.30,2,   7.7346,2,       25,    -999,9,     -999,9,    -999,9,   4.2070,2,    1.01,2,   -54.9,2,     2.5,    -999,9,    -999,    1.04,2,   42.75,2,   22.09,2,  27.8122, -65.5280,    -999,     -999,    -999,   4.0685,   4.2070,2,-999,9,-999,-999,9,-999,    35.1975,2,-999,9,20120403,       1309
33AT20120324,        A22,      33,          1,         14,         14,2,20120403,       1154,    27.8159,   -65.5239,       5270,  1884.7,   3.8631,  35.0032,2,  35.0035,2,    255.8,2,   255.3,2,   16.13,2,   18.55,2,    0.00,2,    1.22,2,   0.757,2,   0.401,2,   0.031,2,    0.18,4,  2163.8,2, 2317.59,2,   7.7414,2,       25,    -999,9,     -999,9,    -999,9,   3.8627,2,    -999,9,    -999,9,    -999,    -999,9,    -999,    0.96,2,   42.53,2,   22.64,2,  27.8126, -65.5277,    -999,     -999,    -999,   3.7086,   3.8627,2,-999,9,-999,-999,9,-999,    35.1686,2,-999,9,20120403,       1304
33AT20120324,        A22,      33,          1,         13,         13,2,20120403,       1154,    27.8159,   -65.5239,       5270,  2109.1,   3.5870,  34.9943,2,  34.9943,2,    254.8,2,   254.8,2,   19.59,2,   18.59,2,    0.00,2,    1.25,2,   0.378,2,   0.210,2,   0.022,2,    0.04,4,    -999,9,    -999,9,     -999,9,     -999,    -999,9,     -999,9,    -999,9,   3.5882,2,    -999,9,    -999,9,    -999,    -999,9,    -999,    0.67,2,   42.19,2,   22.49,2,  27.8131, -65.5271,    -999,     -999,    -999,   3.4150,   3.5882,2,-999,9,-999,-999,9,-999,    35.1593,2,-999,9,20120403,       1300
33AT20120324,        A22,      33,          1,         12,         12,2,20120403,       1154,    27.8159,   -65.5239,       5270,  2361.2,   3.3348,  34.9799,2,  34.9797,2,    252.4,2,   252.5,2,   23.67,2,   19.16,2,    0.00,2,    1.28,2,   0.183,2,   0.110,2,   0.006,2,    0.00,4,    -999,9,    -999,9,     -999,9,     -999,    -999,9,     -999,9,    -999,9,   3.3349,2,    -999,9,    -999,9,    -999,    -999,9,    -999,    0.41,2,   42.15,2,   22.28,2,  27.8134, -65.5267,    -999,     -999,    -999,   3.1424,   3.3349,2,-999,9,-999,-999,9,-999,    35.1447,2,-999,9,20120403,       1255
33AT20120324,        A22,      33,          1,         11,         11,2,20120403,       1154,    27.8159,   -65.5239,       5270,  2616.1,   3.0914,  34.9580,2,  34.9581,2,    255.5,2,   255.5,2,   24.84,2,   19.10,2,    0.00,2,    1.29,2,   0.193,2,   0.111,2,   0.007,2,    0.75,4,  2168.3,2, 2325.69,2,   7.7443,2,       25,    -999,9,     -999,9,    -999,9,   3.0908,2,    1.06,2,   -90.2,2,     2.6,    -999,9,    -999,    0.41,2,   42.07,2,   22.27,2,  27.8138, -65.5263,    -999,     -999,    -999,   2.8781,   3.0908,2,-999,9,-999,-999,9,-999,    35.1229,2,-999,9,20120403,       1250
33AT20120324,        A22,      33,          1,         10,         10,2,20120403,       1154,    27.8159,   -65.5239,       5270,  2871.1,   2.8974,  34.9413,2,  34.9412,2,    258.4,2,   258.3,2,   25.53,2,   18.84,2,    0.00,2,    1.29,2,   0.279,2,   0.154,2,   0.009,2,    0.05,4,    -999,9,    -999,9,     -999,9,     -999,    -999,9,     -999,9,    -999,9,   2.8971,2,    -999,9,    -999,9,    -999,    -999,9,    -999,    0.48,2,   42.66,2,   21.00,2,  27.8142, -65.5258,    -999,     -999,    -999,   2.6621,   2.8971,2,-999,9,-999,-999,9,-999,    35.1059,2,-999,9,20120403,       1244
33AT20120324,        A22,      33,          1,          9,          9,2,20120403,       1154,    27.8159,   -65.5239,       5270,  3141.3,   2.7358,  34.9295,2,  34.9294,2,    259.5,2,   259.9,2,   27.19,2,   18.96,2,    0.00,2,    1.30,2,   0.264,2,   0.144,2,   0.012,2,    0.07,4,  2168.7,2, 2326.58,3,   7.7443,2,       25,    -999,9,     -999,9,    -999,9,   2.7360,2,    1.07,2,   -91.3,2,     3.0,    -999,9,    -999,    0.47,2,   42.31,2,   22.28,2,  27.8147, -65.5253,    -999,     -999,    -999,   2.4760,   2.7360,2,-999,9,-999,-999,9,-999,    35.0941,2,-999,9,20120403,       1239
33AT20120324,        A22,      33,          1,          8,          8,2,20120403,       1154,    27.8159,   -65.5239,       5270,  3449.1,   2.5566,  34.9157,2,  34.9150,2,    264.1,2,   264.8,2,   26.73,2,   18.51,2,    0.00,2,    1.26,2,   0.414,2,   0.226,2,   0.017,2,    0.10,4,    -999,9,    -999,9,     -999,9,     -999,    -999,9,     -999,9,    -999,9,   2.5567,2,    -999,9,    -999,9,    -999,    -999,9,    -999,    0.66,2,   42.18,2,   22.42,2,  27.8150, -65.5250,    -999,     -999,    -999,   2.2682,   2.5567,2,-999,9,-999,-999,9,-999,    35.0796,2,-999,9,20120403,       1233
33AT20120324,        A22,      33,          1,          7,          7,2,20120403,       1154,    27.8159,   -65.5239,       5270,  3752.5,   2.4279,  34.9057,2,  34.9057,2,    266.8,2,   267.5,2,   26.73,2,   18.22,2,    0.00,2,    1.25,2,   0.523,2,   0.278,2,   0.027,2,    0.08,4,  2166.9,2, 2322.86,2,   7.7423,2,       25,    -999,9,     -999,9,    -999,9,   2.4278,2,    1.06,2,   -82.0,2,     2.4,    -999,9,    -999,    0.81,2,   42.33,2,   22.45,2,  27.8153, -65.5247,    -999,     -999,    -999,   2.1095,   2.4278,2,-999,9,-999,-999,9,-999,    35.0703,2,-999,9,20120403,       1227
33AT20120324,        A22,      33,          1,          6,          6,2,20120403,       1154,    27.8159,   -65.5239,       5270,  4060.5,   2.3453,  34.8981,2,  34.8975,2,    267.0,2,   266.4,2,   28.59,2,   18.43,2,    0.00,2,    1.26,2,   0.559,2,   0.294,2,   0.031,2,    0.00,4,    -999,9,    -999,9,     -999,9,     -999,    -999,9,     -999,9,    -999,9,   2.3450,2,    -999,9,    -999,9,    -999,    -999,9,    -999,    0.85,2,   42.56,2,   22.77,2,  27.8154, -65.5245,    -999,     -999,    -999,   1.9944,   2.3450,2,-999,9,-999,-999,9,-999,    35.0620,2,-999,9,20120403,       1221