BOTTLE,20220725CCHSIOCBG
EXPOCODE,SECT_ID,STNNBR,CASTNO,SAMPNO,BTLNBR,BTLNBR_FLAG_W,DATE,TIME,LATITUDE,LONGITUDE,DEPTH,CTDPRS,CTDTMP,CTDSAL,CTDSAL_FLAG_W,SALNTY,SALNTY_FLAG_W,CTDOXY,CTDOXY_FLAG_W,OXYGEN,OXYGEN_FLAG_W,SILCAT,SILCAT_FLAG_W,NITRAT,NITRAT_FLAG_W,NITRIT,NITRIT_FLAG_W,PHSPHT,PHSPHT_FLAG_W,CFC-11,CFC-11_FLAG_W,CFC-12,CFC-12_FLAG_W,CFC113,CFC113_FLAG_W,SF6,SF6_FLAG_W,TCARBN,TCARBN_FLAG_W,ALKALI,ALKALI_FLAG_W,PH_TOT,PH_TOT_FLAG_W,PH_TMP,TRITUM,TRITUM_FLAG_W,HELIUM,HELIUM_FLAG_W,DELHE3,DELHE3_FLAG_W,REFTMP,REFTMP_FLAG_W,DELC13,DELC13_FLAG_W,DELC14,DELC14_FLAG_W,C14ERR,NEON,NEON_FLAG_W,NEONER,CCL4,CCL4_FLAG_W,DOC,DOC_FLAG_W,TDN,TDN_FLAG_W,BTL_LAT,BTL_LON,TRITER,HELIER,DELHER,THETA,SBE35,SBE35_FLAG_W,14C-DOC,14C-DOC_FLAG_W,14C-DOCERR,13C-DOC,13C-DOC_FLAG_W,13C-DOCERR,SALTREF,SALTREF_FLAG_W,LAB_DEN,LAB_DEN_FLAG_W,BTL_DATE,BTL_TIME
,,,,,,,,,,,METERS,DBAR,ITS-90,PSS-78,,PSS-78,,UMOL/KG,,UMOL/KG,,UMOL/KG,,UMOL/KG,,UMOL/KG,,UMOL/KG,,PMOL/KG,,PMOL/KG,,PMOL/KG,,FMOL/KG,,UMOL/KG,,UMOL/KG,,,,DEG C,TU,,NMOL/KG,,PERCNT,,DEG C,,/MILLE,,/MILLE,,/MILLE,NMOL/KG,,NMOL/KG,PMOL/KG,,UMOL/KG,,UMOL/KG,,,,TU,NMOL/KG,PERCNT,DEG C,ITS-90,,/MILLE,,/MILLE,/MILLE,,/MILLE,G/KG,,KG/M^3,,,
33AT20120324,        A22,      20,          1,         36,         36,2,20120330,       1510,    35.2237,   -66.8849,       5101,     5.4,  19.6028,  36.5759,2,  36.5755,2,    226.8,2,   228.2,2,    0.36,2,    0.01,2,    0.03,2,    0.00,2,   2.160,2,   1.333,2,   0.164,2,    1.42,2,  2076.1,6, 2397.08,2,   8.0490,6,       25,    -999,9,     -999,9,    -999,9,  19.6028,2,    -999,9,    -999,9,    -999,    -999,9,    -999,    -999,1,    -999,9,    -999,9,  35.2184, -66.8957,    -999,     -999,    -999,  19.6018,  19.6028,2,-999,9,-999,-999,9,-999,    36.7480,2,-999,9,20120330,       1718
33AT20120324,        A22,      20,          1,         35,         35,2,20120330,       1510,    35.2237,   -66.8849,       5101,    26.7,  19.5706,  36.5738,2,  36.5741,2,    226.9,2,   227.7,2,    0.21,2,    0.01,2,    0.03,2,    0.00,2,   2.181,2,   1.335,2,   0.169,2,    1.47,2,  2073.2,2, 2396.02,6,   8.0479,2,       25,    -999,9,     -999,9,    -999,9,  19.5714,2,    -999,9,    -999,9,    -999,    -999,9,    -999,    -999,1,    -999,9,    -999,9,  35.2186, -66.8955,    -999,     -999,    -999,  19.5657,  19.5714,2,-999,9,-999,-999,9,-999,    36.7466,2,-999,9,20120330,       1715
33AT20120324,        A22,      20,          1,         34,         34,2,20120330,       1510,    35.2237,   -66.8849,       5101,    52.2,  19.5630,  36.5739,2,  36.5741,2,    226.9,2,   227.5,2,    0.30,2,    0.01,2,    0.03,2,    0.00,2,   2.176,2,   1.337,2,   0.161,2,    1.47,2,  2074.6,2, 2397.38,2,   8.0470,2,       25,    -999,9,     -999,9,    -999,9,  19.5632,2,    -999,9,    -999,9,    -999,    -999,9,    -999,    -999,1,    -999,9,    -999,9,  35.2187, -66.8953,    -999,     -999,    -999,  19.5534,  19.5632,2,-999,9,-999,-999,9,-999,    36.7466,2,-999,9,20120330,       1713
33AT20120324,        A22,      20,          1,         33,         33,2,20120330,       1510,    35.2237,   -66.8849,       5101,    77.5,  19.5623,  36.5748,2,  36.5749,2,    227.9,2,   226.7,2,    0.35,2,    0.02,2,    0.04,2,    0.00,2,   2.167,2,   1.327,2,   0.175,2,    1.51,2,  2076.1,2, 2396.26,2,   8.0429,2,       25,    -999,9,     -999,9,    -999,9,  19.5618,2,    -999,9,    -999,9,    -999,    -999,9,    -999,    -999,1,    -999,9,    -999,9,  35.2188, -66.8951,    -999,     -999,    -999,  19.5481,  19.5618,2,-999,9,-999,-999,9,-999,    36.7474,2,-999,9,20120330,       1711
33AT20120324,        A22,      20,          1,         32,         32,2,20120330,       1510,    35.2237,   -66.8849,       5101,   101.4,  19.5518,  36.5792,2,  36.5795,2,    227.7,2,   225.9,2,    0.33,2,    0.09,2,    0.08,2,    0.00,2,   2.169,2,   1.336,2,   0.176,2,    1.46,2,  2078.8,2, 2397.36,2,   8.0114,3,       25,    -999,9,     -999,9,    -999,9,  19.5522,2,    -999,9,    -999,9,    -999,    -999,9,    -999,    -999,1,    -999,9,    -999,9,  35.2189, -66.8948,    -999,     -999,    -999,  19.5332,  19.5522,2,-999,9,-999,-999,9,-999,    36.7520,2,-999,9,20120330,       1708
33AT20120324,        A22,      20,          1,         31,         31,2,20120330,       1510,    35.2237,   -66.8849,       5101,   151.5,  19.3388,  36.6098,2,  36.6075,2,    208.1,2,   207.6,2,    0.79,2,    1.71,2,    0.05,2,    0.07,2,   2.182,2,   1.341,2,   0.111,2,    1.45,2,  2099.1,2, 2396.76,2,   7.9774,3,       25,    -999,9,     -999,9,    -999,9,  19.3384,2,    -999,9,    -999,9,    -999,    -999,9,    -999,    -999,1,    -999,9,    -999,9,  35.2191, -66.8945,    -999,     -999,    -999,  19.3112,  19.3384,2,-999,9,-999,-999,9,-999,    36.7801,2,-999,9,20120330,       1706
33AT20120324,        A22,      20,          1,         30,         30,2,20120330,       1510,    35.2237,   -66.8849,       5101,   201.2,  18.5239,  36.6032,2,  36.6021,2,    196.4,2,   195.1,2,    1.18,2,    3.78,2,    0.02,2,    0.17,2,   2.286,2,   1.373,2,   0.037,2,    1.25,2,  2117.7,2, 2394.21,2,   7.9734,2,       25,    -999,9,     -999,9,    -999,9,  18.5363,2,    -999,9,    -999,9,    -999,    -999,9,    -999,    -999,1,    -999,9,    -999,9,  35.2193, -66.8942,    -999,     -999,    -999,  18.4883,  18.5363,2,-999,9,-999,-999,9,-999,    36.7747,2,-999,9,20120330,       1703
33AT20120324,        A22,      20,          1,         29,         29,2,20120330,       1510,    35.2237,   -66.8849,       5101,   254.6,  18.1546,  36.5726,2,  36.5710,2,    201.6,2,   199.9,2,    1.29,2,    4.13,2,    0.01,2,    0.19,2,   2.315,2,   1.395,2,   0.024,2,    1.29,2,  2117.6,2, 2392.78,2,     -999,9,     -999,    -999,9,     -999,9,    -999,9,  18.1548,2,    -999,9,    -999,9,    -999,    -999,9,    -999,    -999,1,    -999,9,    -999,9,  35.2194, -66.8940,    -999,     -999,    -999,  18.1101,  18.1548,2,-999,9,-999,-999,9,-999,    36.7434,2,-999,9,20120330,       1701
33AT20120324,        A22,      20,          1,         28,         28,2,20120330,       1510,    35.2237,   -66.8849,       5101,   301.7,  17.9857,  36.5531,2,  36.5525,2,    203.0,2,   201.7,2,    1.41,2,    4.38,2,    0.01,2,    0.20,2,   2.316,2,   1.408,2,   0.035,2,    1.21,2,  2118.9,2, 2392.17,2,   7.9758,2,       25,    -999,9,     -999,9,    -999,9,  17.9862,2,    -999,9,    -999,9,    -999,    -999,9,    -999,    -999,1,    -999,9,    -999,9,  35.2195, -66.8939,    -999,     -999,    -999,  17.9333,  17.9862,2,-999,9,-999,-999,9,-999,    36.7249,2,-999,9,20120330,       1659
33AT20120324,        A22,      20,          1,         27,         27,2,20120330,       1510,    35.2237,   -66.8849,       5101,   351.3,  17.7866,  36.5244,2,  36.5228,2,    201.9,2,   202.2,2,    1.52,2,    4.71,2,    0.01,2,    0.22,2,   2.346,2,   1.411,2,   0.037,2,    1.28,2,    -999,9,    -999,9,     -999,9,     -999,    -999,9,     -999,9,    -999,9,  17.7843,2,    -999,9,    -999,9,    -999,    -999,9,    -999,    -999,1,    -999,9,    -999,9,  35.2195, -66.8938,    -999,     -999,    -999,  17.7259,  17.7843,2,-999,9,-999,-999,9,-999,    36.6950,2,-999,9,20120330,       1658
33AT20120324,        A22,      20,          1,         26,         26,2,20120330,       1510,    35.2237,   -66.8849,       5101,   402.2,  17.5843,  36.4897,2,  36.4889,2,    200.7,2,   202.2,2,    1.70,2,    5.08,2,    0.01,2,    0.24,2,   2.376,2,   1.447,2,   0.046,2,    1.29,2,  2119.4,2, 2388.00,2,   7.9638,2,       25,    -999,9,     -999,9,    -999,9,  17.5846,2,    -999,9,    -999,9,    -999,    -999,9,    -999,    -999,1,    -999,9,    -999,9,  35.2196, -66.8937,    -999,     -999,    -999,  17.5153,  17.5846,2,-999,9,-999,-999,9,-999,    36.6610,2,-999,9,20120330,       1656
33AT20120324,        A22,      20,          1,         25,         25,2,20120330,       1510,    35.2237,   -66.8849,       5101,   503.0,  16.6770,  36.3104,2,  36.3097,2,    188.0,2,   189.9,2,    2.56,2,    7.69,2,    0.01,2,    0.41,2,   2.388,2,   1.400,2,   0.037,2,    1.09,2,  2130.7,2, 2378.38,2,   7.9279,2,       25,    -999,9,     -999,9,    -999,9,  16.6822,2,    -999,9,    -999,9,    -999,    -999,9,    -999,    -999,1,    -999,9,    -999,9,  35.2197, -66.8934,    -999,     -999,    -999,  16.5937,  16.6822,2,-999,9,-999,-999,9,-999,    36.4809,2,-999,9,20120330,       1653
33AT20120324,        A22,      20,          1,         24,         24,2,20120330,       1510,    35.2237,   -66.8849,       5101,   599.8,  15.0515,  36.0028,2,  35.9932,2,    181.8,2,   171.6,2,    4.57,2,   12.18,2,    0.00,2,    0.71,2,   2.280,2,   1.308,2,   0.044,2,    1.01,2,    -999,9,    -999,9,     -999,9,     -999,    -999,9,     -999,9,    -999,9,  15.0507,2,    -999,9,    -999,9,    -999,    -999,9,    -999,    -999,1,    -999,9,    -999,9,  35.2198, -66.8932,    -999,     -999,    -999,  14.9586,  15.0507,2,-999,9,-999,-999,9,-999,    36.1629,2,-999,9,20120330,       1650
33AT20120324,        A22,      20,          1,         23,         23,2,20120330,       1510,    35.2237,   -66.8849,       5101,   706.2,  13.2200,  35.7159,2,  35.7101,2,    174.0,2,   169.8,2,    6.61,2,   15.26,2,    0.00,2,    0.93,2,   2.176,2,   1.232,2,   0.038,2,    0.89,2,  2160.3,2, 2344.68,2,   7.8087,2,       25,    -999,9,     -999,9,    -999,9,  13.2248,2,    -999,9,    -999,9,    -999,    -999,9,    -999,    -999,1,    -999,9,    -999,9,  35.2200, -66.8929,    -999,     -999,    -999,  13.1193,  13.2248,2,-999,9,-999,-999,9,-999,    35.8784,2,-999,9,20120330,       1648
33AT20120324,        A22,      20,          1,         22,         22,2,20120330,       1510,    35.2237,   -66.8849,       5101,   804.8,  11.1376,  35.4304,2,  35.4271,2,    155.8,2,   153.1,2,   10.20,2,   20.14,2,    0.00,2,    1.26,2,   1.820,2,   1.004,2,   0.031,2,    0.73,2,  2178.6,2, 2331.55,2,   7.7373,2,       25,    -999,9,     -999,9,    -999,9,  11.1381,2,    -999,9,    -999,9,    -999,    -999,9,    -999,    -999,1,    -999,9,    -999,9,  35.2201, -66.8927,    -999,     -999,    -999,  11.0344,  11.1381,2,-999,9,-999,-999,9,-999,    35.5942,2,-999,9,20120330,       1645
33AT20120324,        A22,      20,          1,         21,         21,2,20120330,       1510,    35.2237,   -66.8849,       5101,   907.0,   9.1521,  35.2120,2,  35.2044,2,    152.1,2,   152.2,2,   13.51,2,   23.14,2,    0.00,2,    1.48,2,   1.448,2,   0.754,2,   0.036,2,    0.53,2,  2188.0,2, 2323.07,2,   7.6878,2,       25,    -999,9,     -999,9,    -999,9,   9.1496,2,    -999,9,    -999,9,    -999,    -999,9,    -999,    -999,1,    -999,9,    -999,9,  35.2201, -66.8925,    -999,     -999,    -999,   9.0483,   9.1496,2,-999,9,-999,-999,9,-999,    35.3704,2,-999,9,20120330,       1642
33AT20120324,        A22,      20,          1,         20,         20,2,20120330,       1510,    35.2237,   -66.8849,       5101,  1006.7,   7.4417,  35.1214,2,  35.1211,2,    182.8,2,   181.0,2,   13.47,2,   21.74,2,    0.00,2,    1.41,2,   1.910,2,   0.878,2,   0.051,2,    0.51,2,  2185.7,2, 2318.67,2,   7.6873,2,       25,    -999,9,     -999,9,    -999,9,   7.4402,2,    -999,9,    -999,9,    -999,    -999,9,    -999,    -999,1,    -999,9,    -999,9,  35.2202, -66.8923,    -999,     -999,    -999,   7.3385,   7.4402,2,-999,9,-999,-999,9,-999,    35.2867,2,-999,9,20120330,       1640
33AT20120324,        A22,      20,          1,         19,         19,2,20120330,       1510,    35.2237,   -66.8849,       5101,  1110.6,   6.1855,  35.0573,2,  35.0563,2,    209.4,2,   206.2,2,   13.12,2,   20.51,2,    0.00,2,    1.36,2,   2.017,2,   1.047,2,   0.083,2,    0.55,2,    -999,9,    -999,9,     -999,9,     -999,    -999,9,     -999,9,    -999,9,   6.1854,2,    -999,9,    -999,9,    -999,    -999,9,    -999,    -999,1,    -999,9,    -999,9,  35.2204, -66.8920,    -999,     -999,    -999,   6.0812,   6.1854,2,-999,9,-999,-999,9,-999,    35.2216,2,-999,9,20120330,       1637
33AT20120324,        A22,      20,          1,         18,         18,2,20120330,       1510,    35.2237,   -66.8849,       5101,  1210.7,   5.5961,  35.0523,2,  35.0526,2,    226.0,2,   224.5,2,   12.52,2,   19.32,2,    0.00,2,    1.28,2,   2.232,2,   1.165,2,   0.106,2,    0.59,2,  2174.7,2, 2313.87,2,   7.7056,2,       25,    -999,9,   1.8387,2,    6.60,2,   5.5978,2,    -999,9,    -999,9,    -999,   7.879,2,   0.035,    -999,1,    -999,9,    -999,9,  35.2205, -66.8917,    -999,   0.0074,    0.15,   5.4869,   5.5978,2,-999,9,-999,-999,9,-999,    35.2179,2,-999,9,20120330,       1634
33AT20120324,        A22,      20,          1,         17,         17,2,20120330,       1510,    35.2237,   -66.8849,       5101,  1313.8,   5.1562,  35.0352,2,  35.0343,2,    238.4,2,   237.3,2,   12.14,2,   18.54,2,    0.00,2,    1.23,2,   2.443,2,   1.264,2,   0.114,2,    0.59,2,    -999,9,    -999,9,     -999,9,     -999,    -999,9,     -999,9,    -999,9,   5.1560,2,    -999,9,    -999,9,    -999,    -999,9,    -999,    -999,1,    -999,9,    -999,9,  35.2206, -66.8914,    -999,     -999,    -999,   5.0411,   5.1560,2,-999,9,-999,-999,9,-999,    35.1995,2,-999,9,20120330,       1631
33AT20120324,        A22,      20,          1,         16,         16,2,20120330,       1510,    35.2237,   -66.8849,       5101,  1414.5,   4.8220,  35.0170,2,  35.0156,2,    247.0,2,   246.3,2,   11.88,2,   18.14,2,    0.00,2,    1.20,2,   2.604,2,   1.354,2,   0.129,2,    0.75,2,  2167.8,2, 2312.60,2,   7.7159,2,       25,    -999,9,     -999,9,    -999,9,   4.8222,2,    -999,9,    -999,9,    -999,    -999,9,    -999,    -999,1,    -999,9,    -999,9,  35.2208, -66.8912,    -999,     -999,    -999,   4.7007,   4.8222,2,-999,9,-999,-999,9,-999,    35.1807,2,-999,9,20120330,       1628
33AT20120324,        A22,      20,          1,         15,         15,2,20120330,       1510,    35.2237,   -66.8849,       5101,  1514.1,   4.5620,  35.0007,2,  34.9995,2,    252.1,2,   252.5,2,   11.82,2,   17.90,2,    0.00,2,    1.19,2,   2.671,2,   1.362,2,   0.149,2,    0.71,2,  2167.4,2, 2312.43,2,   7.7192,2,       25,    -999,9,     -999,9,    -999,9,   4.5616,2,    -999,9,    -999,9,    -999,    -999,9,    -999,    -999,1,    -999,9,    -999,9,  35.2209, -66.8910,    -999,     -999,    -999,   4.4340,   4.5616,2,-999,9,-999,-999,9,-999,    35.1645,2,-999,9,20120330,       1626
33AT20120324,        A22,      20,          1,         14,         14,2,20120330,       1510,    35.2237,   -66.8849,       5101,  1616.5,   4.3664,  34.9871,2,  34.9871,2,    255.9,2,   256.2,2,   11.97,2,   17.81,2,    0.00,2,    1.18,2,   2.589,2,   1.334,2,   0.147,2,    0.68,2,    -999,9,    -999,9,     -999,9,     -999,    -999,9,     -999,9,    -999,9,   4.3691,2,    -999,9,    -999,9,    -999,    -999,9,    -999,    -999,1,    -999,9,    -999,9,  35.2210, -66.8908,    -999,     -999,    -999,   4.2310,   4.3691,2,-999,9,-999,-999,9,-999,    35.1520,2,-999,9,20120330,       1623
33AT20120324,        A22,      20,          1,         13,         13,2,20120330,       1510,    35.2237,   -66.8849,       5101,  1818.9,   4.0958,  34.9753,2,  34.9751,2,    260.4,2,   260.6,2,   12.49,2,   17.71,2,    0.00,2,    1.18,2,   2.330,2,   1.168,2,   0.120,2,    0.47,2,  2162.5,2, 2309.31,2,   7.7262,2,       25,    -999,9,     -999,9,    -999,9,   4.0956,2,    -999,9,    -999,9,    -999,    -999,9,    -999,    -999,1,    -999,9,    -999,9,  35.2211, -66.8904,    -999,     -999,    -999,   3.9445,   4.0956,2,-999,9,-999,-999,9,-999,    35.1400,2,-999,9,20120330,       1618
33AT20120324,        A22,      20,          1,         12,         12,2,20120330,       1510,    35.2237,   -66.8849,       5101,  2024.6,   3.8612,  34.9640,2,  34.9635,2,    263.5,2,   263.2,2,   13.19,2,   17.70,2,    0.00,2,    1.18,2,   2.064,2,   1.024,2,   0.099,2,    0.42,2,    -999,9,    -999,9,     -999,9,     -999,    -999,9,     -999,9,    -999,9,   3.8619,2,    -999,9,    -999,9,    -999,    -999,9,    -999,    -999,1,    -999,9,    -999,9,  35.2213, -66.8901,    -999,     -999,    -999,   3.6933,   3.8619,2,-999,9,-999,-999,9,-999,    35.1283,2,-999,9,20120330,       1614
33AT20120324,        A22,      20,          1,         11,         11,2,20120330,       1510,    35.2237,   -66.8849,       5101,  2274.3,   3.6135,  34.9539,2,  34.9532,2,    264.9,2,   265.5,2,   14.45,2,   17.70,2,    0.00,2,    1.18,2,   1.730,2,   0.841,2,   0.075,2,    0.32,2,  2160.8,2, 2312.50,2,   7.7343,2,       25,    -999,9,     -999,9,    -999,9,   3.6134,2,    -999,9,    -999,9,    -999,    -999,9,    -999,    -999,1,    -999,9,    -999,9,  35.2215, -66.8896,    -999,     -999,    -999,   3.4250,   3.6134,2,-999,9,-999,-999,9,-999,    35.1180,2,-999,9,20120330,       1609
33AT20120324,        A22,      20,          1,         10,         10,2,20120330,       1510,    35.2237,   -66.8849,       5101,  2531.7,   3.4209,  34.9503,2,  34.9493,2,    265.6,2,   265.1,2,   16.14,2,   17.78,2,    0.00,2,    1.19,2,   1.415,2,   0.683,2,   0.053,2,    0.27,2,  2160.8,2, 2314.69,2,   7.7373,2,       25,    -999,9,     -999,9,    -999,9,   3.4206,2,    -999,9,    -999,9,    -999,    -999,9,    -999,    -999,1,    -999,9,    -999,9,  35.2217, -66.8892,    -999,     -999,    -999,   3.2100,   3.4206,2,-999,9,-999,-999,9,-999,    35.1141,2,-999,9,20120330,       1604
33AT20120324,        A22,      20,          1,          9,          9,2,20120330,       1510,    35.2237,   -66.8849,       5101,  2785.6,   3.2265,  34.9453,2,  34.9448,2,    265.2,2,   264.8,2,   18.10,2,   17.87,2,    0.00,2,    1.20,2,   1.168,2,   0.564,2,   0.036,2,    0.23,2,  2160.7,2, 2316.86,2,   7.7408,2,       25,    -999,9,     -999,9,    -999,9,   3.2268,2,    -999,9,    -999,9,    -999,    -999,9,    -999,    -999,1,    -999,9,    -999,9,  35.2219, -66.8888,    -999,     -999,    -999,   2.9933,   3.2268,2,-999,9,-999,-999,9,-999,    35.1095,2,-999,9,20120330,       1558
33AT20120324,        A22,      20,          1,          8,          8,2,20120330,       1510,    35.2237,   -66.8849,       5101,  3041.2,   3.0021,  34.9359,2,  34.9357,2,    265.7,2,   265.4,2,   19.98,2,   17.85,2,    0.00,2,    1.20,2,   1.064,2,   0.502,2,   0.036,2,    0.23,2,    -999,9,    -999,9,     -999,9,     -999,    -999,9,     -999,9,    -999,9,   3.0019,2,    -999,9,    -999,9,    -999,    -999,9,    -999,    -999,1,    -999,9,    -999,9,  35.2221, -66.8884,    -999,     -999,    -999,   2.7469,   3.0019,2,-999,9,-999,-999,9,-999,    35.1005,2,-999,9,20120330,       1553
33AT20120324,        A22,      20,          1,          7,          7,2,20120330,       1510,    35.2237,   -66.8849,       5101,  3349.2,   2.7456,  34.9233,2,  34.9227,2,    266.7,2,   267.3,2,   22.11,2,   17.87,2,    0.00,2,    1.22,2,    -999,9,    -999,9,    -999,9,    -999,9,  2162.5,2, 2318.40,2,   7.7402,2,       25,    -999,9,     -999,9,    -999,9,   2.7450,2,    -999,9,    -999,9,    -999,    -999,9,    -999,    -999,9,    -999,9,    -999,9,  35.2223, -66.8878,    -999,     -999,    -999,   2.4634,   2.7450,2,-999,9,-999,-999,9,-999,    35.0874,2,-999,9,20120330,       1547
33AT20120324,        A22,      20,          1,          6,          6,2,20120330,       1510,    35.2237,   -66.8849,       5101,  3655.3,   2.4970,  34.9078,2,  34.9078,2,    267.7,2,   268.4,2,   23.98,2,   17.80,2,    0.00,2,    1.22,2,   1.081,2,   0.521,2,   0.051,2,    0.23,2,    -999,9,    -999,9,     -999,9,     -999,    -999,9,   1.8757,2,    5.40,2,   2.4982,2,    -999,9,    -999,9,    -999,   8.176,2,   0.037,    -999,1,    -999,9,    -999,9,  35.2225, -66.8872,    -999,   0.0075,    0.15,   2.1876,   2.4982,2,-999,9,-999,-999,9,-999,    35.0724,2,-999,9,20120330,       1541