BOTTLE,20220725CCHSIOCBG
EXPOCODE,SECT_ID,STNNBR,CASTNO,SAMPNO,BTLNBR,BTLNBR_FLAG_W,DATE,TIME,LATITUDE,LONGITUDE,DEPTH,CTDPRS,CTDTMP,CTDSAL,CTDSAL_FLAG_W,SALNTY,SALNTY_FLAG_W,CTDOXY,CTDOXY_FLAG_W,OXYGEN,OXYGEN_FLAG_W,SILCAT,SILCAT_FLAG_W,NITRAT,NITRAT_FLAG_W,NITRIT,NITRIT_FLAG_W,PHSPHT,PHSPHT_FLAG_W,CFC-11,CFC-11_FLAG_W,CFC-12,CFC-12_FLAG_W,CFC113,CFC113_FLAG_W,SF6,SF6_FLAG_W,TCARBN,TCARBN_FLAG_W,ALKALI,ALKALI_FLAG_W,PH_TOT,PH_TOT_FLAG_W,PH_TMP,TRITUM,TRITUM_FLAG_W,HELIUM,HELIUM_FLAG_W,DELHE3,DELHE3_FLAG_W,REFTMP,REFTMP_FLAG_W,DELC13,DELC13_FLAG_W,DELC14,DELC14_FLAG_W,C14ERR,NEON,NEON_FLAG_W,NEONER,CCL4,CCL4_FLAG_W,DOC,DOC_FLAG_W,TDN,TDN_FLAG_W,BTL_LAT,BTL_LON,TRITER,HELIER,DELHER,THETA,SBE35,SBE35_FLAG_W,14C-DOC,14C-DOC_FLAG_W,14C-DOCERR,13C-DOC,13C-DOC_FLAG_W,13C-DOCERR,SALTREF,SALTREF_FLAG_W,LAB_DEN,LAB_DEN_FLAG_W,BTL_DATE,BTL_TIME
,,,,,,,,,,,METERS,DBAR,ITS-90,PSS-78,,PSS-78,,UMOL/KG,,UMOL/KG,,UMOL/KG,,UMOL/KG,,UMOL/KG,,UMOL/KG,,PMOL/KG,,PMOL/KG,,PMOL/KG,,FMOL/KG,,UMOL/KG,,UMOL/KG,,,,DEG C,TU,,NMOL/KG,,PERCNT,,DEG C,,/MILLE,,/MILLE,,/MILLE,NMOL/KG,,NMOL/KG,PMOL/KG,,UMOL/KG,,UMOL/KG,,,,TU,NMOL/KG,PERCNT,DEG C,ITS-90,,/MILLE,,/MILLE,/MILLE,,/MILLE,G/KG,,KG/M^3,,,
33AT20120324,        A22,      31,          1,         36,         36,2,20120402,       2004,    29.2038,   -65.4269,       5100,     3.0,  20.9838,  36.7129,2,  36.7125,2,    222.5,2,   222.0,2,    0.24,2,    0.00,2,    0.00,2,    0.00,2,   1.913,2,   1.283,2,   0.146,2,    1.56,4,  2079.1,6, 2402.94,6,   8.0579,2,       25,    -999,9,     -999,9,    -999,9,  20.9870,2,    -999,9,    -999,9,    -999,    -999,9,    -999,    1.67,2,   65.21,2,    5.03,2,  29.1994, -65.4245,    -999,     -999,    -999,  20.9832,  20.9870,2,-999,9,-999,-999,9,-999,    36.8856,2,-999,9,20120402,       2210
33AT20120324,        A22,      31,          1,         35,         35,2,20120402,       2004,    29.2038,   -65.4269,       5100,    21.0,  20.9895,  36.7123,2,  36.7109,2,    223.0,2,   228.5,3,    0.27,2,    0.00,2,    0.00,2,    0.00,2,   1.897,2,   1.301,2,   0.142,2,    1.59,4,    -999,9,    -999,9,     -999,9,     -999,    -999,9,     -999,9,    -999,9,  20.9895,2,    -999,9,    -999,9,    -999,    -999,9,    -999,    1.71,2,   65.68,2,    4.33,2,  29.1995, -65.4245,    -999,     -999,    -999,  20.9855,  20.9895,2,-999,9,-999,-999,9,-999,    36.8841,2,-999,9,20120402,       2208
33AT20120324,        A22,      31,          1,         34,         34,2,20120402,       2004,    29.2038,   -65.4269,       5100,    41.6,  20.7228,  36.7009,2,  36.6998,2,    223.4,2,   223.2,2,    0.28,2,    0.00,2,    0.00,2,    0.00,2,   1.936,2,   1.229,2,   0.147,2,    1.47,4,  2078.9,2, 2401.86,2,   8.0575,6,       25,    -999,9,     -999,9,    -999,9,  20.7217,2,    -999,9,    -999,9,    -999,    -999,9,    -999,    1.75,2,   64.56,2,    4.37,2,  29.1996, -65.4246,    -999,     -999,    -999,  20.7149,  20.7217,2,-999,9,-999,-999,9,-999,    36.8729,2,-999,9,20120402,       2206
33AT20120324,        A22,      31,          1,         33,         33,2,20120402,       2004,    29.2038,   -65.4269,       5100,    66.2,  20.6310,  36.6998,2,  36.6992,2,    222.1,2,   224.0,2,    0.29,2,    0.00,2,    0.00,2,    0.00,2,   1.948,2,   1.277,2,   0.152,2,    1.21,4,  2079.3,2, 2401.70,2,   8.0586,2,       25,    -999,9,     -999,9,    -999,9,  20.6305,2,    -999,9,    -999,9,    -999,    -999,9,    -999,    1.73,2,   64.95,2,    3.58,2,  29.1996, -65.4246,    -999,     -999,    -999,  20.6184,  20.6305,2,-999,9,-999,-999,9,-999,    36.8723,2,-999,9,20120402,       2204
33AT20120324,        A22,      31,          1,         32,         32,2,20120402,       2004,    29.2038,   -65.4269,       5100,    91.4,  20.4731,  36.6690,2,  36.6636,2,    223.3,2,   223.0,2,    0.35,2,    0.01,2,    0.00,2,    0.00,2,   1.950,2,   1.298,2,   0.148,2,    1.07,4,  2079.5,2, 2399.41,2,   8.0535,2,       25,    -999,9,     -999,9,    -999,9,  20.4870,2,    -999,9,    -999,9,    -999,    -999,9,    -999,    1.61,2,   64.03,2,    3.79,2,  29.1997, -65.4246,    -999,     -999,    -999,  20.4558,  20.4870,2,-999,9,-999,-999,9,-999,    36.8364,2,-999,9,20120402,       2202
33AT20120324,        A22,      31,          1,         31,         31,2,20120402,       2004,    29.2038,   -65.4269,       5100,   136.7,  19.9033,  36.5934,2,  36.5932,2,    220.4,2,   220.8,2,    0.39,2,    0.00,2,    0.13,2,    0.00,2,   2.014,2,   1.303,2,   0.147,2,    2.02,4,    -999,9,    -999,9,     -999,9,     -999,    -999,9,     -999,9,    -999,9,  19.9034,2,    -999,9,    -999,9,    -999,    -999,9,    -999,    1.55,2,   56.34,2,    4.68,2,  29.1997, -65.4246,    -999,     -999,    -999,  19.8779,  19.9034,2,-999,9,-999,-999,9,-999,    36.7657,2,-999,9,20120402,       2158
33AT20120324,        A22,      31,          1,         30,         30,2,20120402,       2004,    29.2038,   -65.4269,       5100,   186.3,  19.1360,  36.6411,2,  36.6404,2,    194.0,2,   192.2,2,    0.73,2,    1.89,2,    0.01,2,    0.11,2,   2.083,2,   1.342,2,   0.049,2,    1.80,4,  2115.0,2, 2394.96,2,   7.9871,2,       25,    -999,9,     -999,9,    -999,9,  19.1334,2,    -999,9,    -999,9,    -999,    -999,9,    -999,    0.40,2,   54.06,2,    4.49,2,  29.1997, -65.4246,    -999,     -999,    -999,  19.1023,  19.1334,2,-999,9,-999,-999,9,-999,    36.8131,2,-999,9,20120402,       2156
33AT20120324,        A22,      31,          1,         29,         29,2,20120402,       2004,    29.2038,   -65.4269,       5100,   236.7,  18.4821,  36.6067,2,  36.6063,2,    199.6,2,   197.2,2,    0.94,2,    2.68,2,    0.00,2,    0.15,2,   2.090,2,   1.357,2,   0.041,2,    0.95,4,    -999,9,    -999,9,     -999,9,     -999,    -999,9,     -999,9,    -999,9,  18.4824,2,    -999,9,    -999,9,    -999,    -999,9,    -999,    0.36,2,   51.51,2,    6.23,2,  29.1998, -65.4247,    -999,     -999,    -999,  18.4402,  18.4824,2,-999,9,-999,-999,9,-999,    36.7789,2,-999,9,20120402,       2154
33AT20120324,        A22,      31,          1,         28,         28,2,20120402,       2004,    29.2038,   -65.4269,       5100,   286.1,  18.1639,  36.5802,2,  36.5791,2,    202.9,2,   202.5,2,    1.02,2,    3.00,2,    0.00,2,    0.18,2,   2.131,2,   1.360,2,   0.038,2,    0.91,4,  2115.0,2, 2388.52,2,   7.9828,2,       25,    -999,9,     -999,9,    -999,9,  18.1641,2,    -999,9,    -999,9,    -999,    -999,9,    -999,    0.41,2,   50.71,2,    6.75,2,  29.1999, -65.4248,    -999,     -999,    -999,  18.1138,  18.1641,2,-999,9,-999,-999,9,-999,    36.7516,2,-999,9,20120402,       2152
33AT20120324,        A22,      31,          1,         27,         27,2,20120402,       2004,    29.2038,   -65.4269,       5100,   336.4,  17.9670,  36.5583,2,  36.5571,2,    204.9,2,   214.2,3,    1.13,2,    3.19,2,    0.00,2,    0.19,2,   2.172,2,   1.382,2,   0.040,2,    0.94,4,    -999,9,    -999,9,     -999,9,     -999,    -999,9,     -999,9,    -999,9,  17.9675,2,    -999,9,    -999,9,    -999,    -999,9,    -999,    0.44,2,   48.29,2,    7.05,2,  29.1999, -65.4248,    -999,     -999,    -999,  17.9085,  17.9675,2,-999,9,-999,-999,9,-999,    36.7295,2,-999,9,20120402,       2150
33AT20120324,        A22,      31,          1,         26,         26,2,20120402,       2004,    29.2038,   -65.4269,       5100,   387.9,  17.7133,  36.5169,2,  36.5167,2,    203.5,2,   204.7,2,    1.29,2,    3.64,2,    0.00,2,    0.21,2,   2.179,2,   1.396,2,   0.043,2,    1.67,4,  2116.8,2, 2386.20,2,   7.9737,6,       25,    -999,9,     -999,9,    -999,9,  17.7121,2,    -999,9,    -999,9,    -999,    -999,9,    -999,    0.46,2,   47.80,2,    7.33,2,  29.2000, -65.4248,    -999,     -999,    -999,  17.6465,  17.7121,2,-999,9,-999,-999,9,-999,    36.6889,2,-999,9,20120402,       2149
33AT20120324,        A22,      31,          1,         25,         25,2,20120402,       2004,    29.2038,   -65.4269,       5100,   467.5,  16.9136,  36.3512,2,  36.3523,2,    190.5,2,   188.7,2,    2.01,2,    6.26,2,    0.00,2,    0.37,2,   2.246,2,   1.378,2,   0.029,2,    0.47,4,    -999,9,    -999,9,     -999,9,     -999,    -999,9,     -999,9,    -999,9,  16.9136,2,    -999,9,    -999,9,    -999,    -999,9,    -999,    0.42,2,   46.66,2,    9.76,2,  29.2001, -65.4248,    -999,     -999,    -999,  16.8354,  16.9136,2,-999,9,-999,-999,9,-999,    36.5237,2,-999,9,20120402,       2146
33AT20120324,        A22,      31,          1,         24,         24,2,20120402,       2004,    29.2038,   -65.4269,       5100,   569.2,  15.0130,  36.0069,2,  35.9985,2,    172.7,2,   171.2,2,    4.18,2,   11.54,2,    0.00,2,    0.69,2,   2.128,2,   1.301,2,   0.028,2,    0.76,4,  2147.6,2, 2358.88,2,   7.8624,2,       25,    -999,9,     -999,9,    -999,9,  15.0131,2,    -999,9,    -999,9,    -999,    -999,9,    -999,    0.36,2,   46.70,2,   14.66,2,  29.2001, -65.4249,    -999,     -999,    -999,  14.9251,  15.0131,2,-999,9,-999,-999,9,-999,    36.1683,2,-999,9,20120402,       2144
33AT20120324,        A22,      31,          1,         23,         23,2,20120402,       2004,    29.2038,   -65.4269,       5100,   669.7,  12.8030,  35.6600,2,  35.6653,2,    159.9,2,   166.1,2,    7.25,2,   16.76,2,    0.00,2,    1.01,2,   1.865,2,   1.103,2,   0.031,2,    0.56,4,  2165.3,2,    -999,9,     -999,9,     -999,    -999,9,     -999,9,    -999,9,  12.8271,2,    -999,9,    -999,9,    -999,    -999,9,    -999,    0.38,2,   44.38,2,   19.93,2,  29.2002, -65.4249,    -999,     -999,    -999,  12.7096,  12.8271,2,-999,9,-999,-999,9,-999,    35.8334,2,-999,9,20120402,       2141
33AT20120324,        A22,      31,          1,         22,         22,2,20120402,       2004,    29.2038,   -65.4269,       5100,   771.3,  10.4657,  35.3559,2,  35.3642,2,    147.5,2,   145.7,2,   11.24,2,   22.58,2,    0.00,2,    1.37,2,   1.318,2,   0.735,2,   0.017,2,    0.45,4,  2184.8,6, 2328.52,2,   7.7172,2,       25,    -999,9,     -999,9,    -999,9,  10.4774,2,    -999,9,    -999,9,    -999,    -999,9,    -999,    0.30,2,   44.41,2,   25.48,2,  29.2002, -65.4249,    -999,     -999,    -999,  10.3706,  10.4774,2,-999,9,-999,-999,9,-999,    35.5310,2,-999,9,20120402,       2138
33AT20120324,        A22,      31,          1,         21,         21,2,20120402,       2004,    29.2038,   -65.4269,       5100,   871.0,   8.4555,  35.1610,2,  35.1619,2,    151.7,2,   152.6,2,   14.32,2,   25.08,2,    0.00,2,    1.53,2,   0.970,2,   0.531,2,   0.016,2,    0.00,4,  2191.2,2,    -999,9,     -999,9,     -999,    -999,9,     -999,9,    -999,9,   8.4579,2,    -999,9,    -999,9,    -999,    -999,9,    -999,    0.34,2,   43.92,2,   27.63,2,  29.2003, -65.4249,    -999,     -999,    -999,   8.3604,   8.4579,2,-999,9,-999,-999,9,-999,    35.3277,2,-999,9,20120402,       2135
33AT20120324,        A22,      31,          1,         20,         20,2,20120402,       2004,    29.2038,   -65.4269,       5100,   973.5,   7.0310,  35.0926,2,  35.0926,2,    172.7,2,   175.7,2,   15.28,2,   24.36,2,    0.00,2,    1.51,2,   0.866,2,   0.115,2,   0.018,2,    0.08,4,  2189.5,2, 2320.02,2,   7.6823,2,       25,    -999,9,     -999,9,    -999,9,   7.0294,2,    -999,9,    -999,9,    -999,    -999,9,    -999,    0.45,2,   43.55,2,   26.87,2,  29.2003, -65.4250,    -999,     -999,    -999,   6.9344,   7.0294,2,-999,9,-999,-999,9,-999,    35.2580,2,-999,9,20120402,       2132
33AT20120324,        A22,      31,          1,         19,         19,2,20120402,       2004,    29.2038,   -65.4269,       5100,  1074.8,   6.2736,  35.0840,2,  35.0837,2,    193.9,2,   195.8,2,   14.76,2,   22.80,2,    0.00,2,    1.43,2,   0.969,2,   0.516,2,   0.027,2,    0.35,4,    -999,9,    -999,9,     -999,9,     -999,    -999,9,     -999,9,    -999,9,   6.2766,2,    -999,9,    -999,9,    -999,    -999,9,    -999,    0.66,2,   43.70,2,   25.00,2,  29.2003, -65.4250,    -999,     -999,    -999,   6.1722,   6.2766,2,-999,9,-999,-999,9,-999,    35.2491,2,-999,9,20120402,       2130
33AT20120324,        A22,      31,          1,         18,         18,2,20120402,       2004,    29.2038,   -65.4269,       5100,  1173.5,   5.6484,  35.0834,2,  35.0835,2,    213.4,2,   230.6,3,   13.62,2,   20.84,2,    0.00,2,    1.33,2,   1.153,2,   0.622,2,   0.039,2,    0.19,4,  2177.0,2, 2318.93,2,   7.7117,2,       25,    -999,9,     -999,9,    -999,9,   5.6508,2,    -999,9,    -999,9,    -999,    -999,9,    -999,    0.91,2,   43.25,2,   22.99,2,  29.2004, -65.4250,    -999,     -999,    -999,   5.5424,   5.6508,2,-999,9,-999,-999,9,-999,    35.2489,2,-999,9,20120402,       2127
33AT20120324,        A22,      31,          1,         17,         17,2,20120402,       2004,    29.2038,   -65.4269,       5100,  1276.2,   5.2602,  35.0786,2,  35.0788,2,    227.4,2,   228.7,2,   13.26,2,   19.73,2,    0.00,2,    1.28,2,   1.218,2,   0.644,2,   0.052,2,    0.21,4,    -999,9,    -999,9,     -999,9,     -999,    -999,9,     -999,9,    -999,9,   5.2599,2,    -999,9,    -999,9,    -999,    -999,9,    -999,    1.12,2,   43.01,2,   22.92,2,  29.2004, -65.4250,    -999,     -999,    -999,   5.1477,   5.2599,2,-999,9,-999,-999,9,-999,    35.2442,2,-999,9,20120402,       2125
33AT20120324,        A22,      31,          1,         16,         16,2,20120402,       2004,    29.2038,   -65.4269,       5100,  1376.2,   4.8828,  35.0555,2,  35.0563,2,    238.9,2,   239.6,2,   12.94,2,   19.15,2,    0.00,2,    1.24,2,   1.440,2,   0.747,2,   0.067,2,    0.20,4,  2168.9,2, 2316.77,2,   7.7257,2,       25,    -999,9,     -999,9,    -999,9,   4.8879,2,    -999,9,    -999,9,    -999,    -999,9,    -999,    1.37,2,   43.02,2,   22.48,2,  29.2005, -65.4250,    -999,     -999,    -999,   4.7644,   4.8879,2,-999,9,-999,-999,9,-999,    35.2216,2,-999,9,20120402,       2122
33AT20120324,        A22,      31,          1,         15,         15,2,20120402,       2004,    29.2038,   -65.4269,       5100,  1550.2,   4.3712,  35.0148,2,  35.0136,2,    251.7,2,   251.7,2,   12.86,2,   18.43,2,    0.00,2,    1.20,2,   1.603,2,   0.847,2,   0.083,2,    0.07,4,    -999,9,    -999,9,     -999,9,     -999,    -999,9,     -999,9,    -999,9,   4.3706,2,    -999,9,    -999,9,    -999,    -999,9,    -999,    1.60,2,   42.33,2,   22.05,2,  29.2006, -65.4251,    -999,     -999,    -999,   4.2420,   4.3706,2,-999,9,-999,-999,9,-999,    35.1787,2,-999,9,20120402,       2118
33AT20120324,        A22,      31,          1,         14,         14,2,20120402,       2004,    29.2038,   -65.4269,       5100,  1752.4,   4.0237,  34.9977,2,  34.9967,2,    257.2,2,   257.0,2,   13.88,2,   18.33,2,    0.00,2,    1.20,2,   1.297,2,   0.685,2,   0.066,2,    0.08,4,  2162.9,2, 2313.65,2,   7.7358,2,       25,    -999,9,     -999,9,    -999,9,   4.0251,2,    -999,9,    -999,9,    -999,    -999,9,    -999,    1.46,2,   42.64,2,   20.77,2,  29.2008, -65.4252,    -999,     -999,    -999,   3.8796,   4.0251,2,-999,9,-999,-999,9,-999,    35.1617,2,-999,9,20120402,       2114
33AT20120324,        A22,      31,          1,         13,         13,2,20120402,       2004,    29.2038,   -65.4269,       5100,  1956.4,   3.7463,  34.9817,2,  34.9814,2,    260.1,2,   260.4,2,   12.83,3,   18.43,2,    0.00,2,    1.20,2,   1.100,2,   0.564,2,   0.051,2,    0.00,4,    -999,9,    -999,9,     -999,9,     -999,    -999,9,     -999,9,    -999,9,   3.7446,2,    -999,9,    -999,9,    -999,    -999,9,    -999,    1.26,2,   43.23,2,   20.98,2,  29.2009, -65.4253,    -999,     -999,    -999,   3.5867,   3.7446,2,-999,9,-999,-999,9,-999,    35.1463,2,-999,9,20120402,       2110
33AT20120324,        A22,      31,          1,         12,         12,2,20120402,       2004,    29.2038,   -65.4269,       5100,  2189.1,   3.4976,  34.9715,2,  34.9713,2,    260.8,2,   283.4,4,   17.34,2,   18.42,2,    0.00,2,    1.22,2,   0.818,2,   0.427,2,   0.031,2,    0.06,4,  2163.0,2, 2316.29,2,   7.7428,2,       25,    -999,9,     -999,9,    -999,9,   3.4974,2,    -999,9,    -999,9,    -999,    -999,9,    -999,    1.02,2,   42.57,2,   20.69,2,  29.2010, -65.4253,    -999,     -999,    -999,   3.3193,   3.4974,2,-999,9,-999,-999,9,-999,    35.1362,2,-999,9,20120402,       2105
33AT20120324,        A22,      31,          1,         11,         11,2,20120402,       2004,    29.2038,   -65.4269,       5100,  2440.6,   3.2486,  34.9593,2,  34.9599,2,    261.0,2,   261.4,2,   19.61,2,   18.55,2,    0.00,2,    1.23,2,   0.558,2,   0.299,2,   0.019,2,    0.09,4,    -999,9,    -999,9,     -999,9,     -999,    -999,9,     -999,9,    -999,9,   3.2485,2,    -999,9,    -999,9,    -999,    -999,9,    -999,    0.80,2,   42.42,2,   20.79,2,  29.2011, -65.4254,    -999,     -999,    -999,   3.0499,   3.2485,2,-999,9,-999,-999,9,-999,    35.1248,2,-999,9,20120402,       2100
33AT20120324,        A22,      31,          1,         10,         10,2,20120402,       2004,    29.2038,   -65.4269,       5100,  2699.9,   2.9732,  34.9420,2,  34.9414,2,    262.9,2,   263.0,2,   21.08,2,   18.44,2,    0.00,2,    1.23,2,   0.561,2,   0.296,2,   0.020,2,    0.00,4,  2163.6,2, 2319.95,2,   7.7455,2,       25,    -999,9,     -999,9,    -999,9,   2.9729,2,    -999,9,    -999,9,    -999,    -999,9,    -999,    0.82,2,   43.12,2,   20.47,2,  29.2012, -65.4254,    -999,     -999,    -999,   2.7538,   2.9729,2,-999,9,-999,-999,9,-999,    35.1062,2,-999,9,20120402,       2054
33AT20120324,        A22,      31,          1,          9,          9,2,20120402,       2004,    29.2038,   -65.4269,       5100,  2952.0,   2.7532,  34.9282,2,  34.9278,2,    265.2,2,   265.2,2,   22.21,2,   18.31,2,    0.00,2,    1.22,2,   0.615,2,   0.320,2,   0.023,2,    0.12,4,    -999,9,    -999,9,     -999,9,     -999,    -999,9,     -999,9,    -999,9,   2.7533,2,    -999,9,    -999,9,    -999,    -999,9,    -999,    0.88,2,   42.87,2,   22.22,2,  29.2014, -65.4256,    -999,     -999,    -999,   2.5127,   2.7533,2,-999,9,-999,-999,9,-999,    35.0925,2,-999,9,20120402,       2049
33AT20120324,        A22,      31,          1,          8,          8,2,20120402,       2004,    29.2038,   -65.4269,       5100,  3245.2,   2.5385,  34.9147,2,  34.9147,2,    266.5,2,   266.8,2,   24.07,2,   18.31,2,    0.00,2,    1.22,2,   0.642,2,   0.347,2,   0.030,2,    0.00,4,  2166.0,2, 2321.46,2,   7.7436,2,       25,    -999,9,     -999,9,    -999,9,   2.5391,2,    -999,9,    -999,9,    -999,    -999,9,    -999,    0.88,2,   42.47,2,   20.69,2,  29.2017, -65.4257,    -999,     -999,    -999,   2.2723,   2.5391,2,-999,9,-999,-999,9,-999,    35.0793,2,-999,9,20120402,       2043
33AT20120324,        A22,      31,          1,          7,          7,2,20120402,       2004,    29.2038,   -65.4269,       5100,  3551.1,   2.3832,  34.9038,2,  34.9037,2,    267.3,2,   272.2,4,   25.86,2,   18.25,2,    0.00,2,    1.23,2,   0.705,2,   0.376,2,   0.040,2,    0.00,4,    -999,9,    -999,9,     -999,9,     -999,    -999,9,     -999,9,    -999,9,   2.3836,2,    -999,9,    -999,9,    -999,    -999,9,    -999,    0.96,2,   42.84,2,   20.73,2,  29.2020, -65.4259,    -999,     -999,    -999,   2.0881,   2.3836,2,-999,9,-999,-999,9,-999,    35.0682,2,-999,9,20120402,       2037
33AT20120324,        A22,      31,          1,          6,          6,2,20120402,       2004,    29.2038,   -65.4269,       5100,  3857.8,   2.3087,  34.8970,2,  34.8968,2,    266.4,2,   267.2,3,   28.30,2,   18.55,2,    0.00,2,    1.26,2,   0.676,2,   0.361,2,   0.038,2,    0.00,4,  2170.1,2, 2324.67,2,   7.7407,2,       25,    -999,9,     -999,9,    -999,9,   2.3089,2,    -999,9,    -999,9,    -999,    -999,9,    -999,    0.95,2,   42.61,2,   20.88,2,  29.2023, -65.4260,    -999,     -999,    -999,   1.9818,   2.3089,2,-999,9,-999,-999,9,-999,    35.0613,2,-999,9,20120402,       2031