BOTTLE,20220725CCHSIOCBG
EXPOCODE,SECT_ID,STNNBR,CASTNO,SAMPNO,BTLNBR,BTLNBR_FLAG_W,DATE,TIME,LATITUDE,LONGITUDE,DEPTH,CTDPRS,CTDTMP,CTDSAL,CTDSAL_FLAG_W,SALNTY,SALNTY_FLAG_W,CTDOXY,CTDOXY_FLAG_W,OXYGEN,OXYGEN_FLAG_W,SILCAT,SILCAT_FLAG_W,NITRAT,NITRAT_FLAG_W,NITRIT,NITRIT_FLAG_W,PHSPHT,PHSPHT_FLAG_W,CFC-11,CFC-11_FLAG_W,CFC-12,CFC-12_FLAG_W,CFC113,CFC113_FLAG_W,SF6,SF6_FLAG_W,TCARBN,TCARBN_FLAG_W,ALKALI,ALKALI_FLAG_W,PH_TOT,PH_TOT_FLAG_W,PH_TMP,TRITUM,TRITUM_FLAG_W,HELIUM,HELIUM_FLAG_W,DELHE3,DELHE3_FLAG_W,REFTMP,REFTMP_FLAG_W,DELC13,DELC13_FLAG_W,DELC14,DELC14_FLAG_W,C14ERR,NEON,NEON_FLAG_W,NEONER,CCL4,CCL4_FLAG_W,DOC,DOC_FLAG_W,TDN,TDN_FLAG_W,BTL_LAT,BTL_LON,TRITER,HELIER,DELHER,THETA,SBE35,SBE35_FLAG_W,14C-DOC,14C-DOC_FLAG_W,14C-DOCERR,13C-DOC,13C-DOC_FLAG_W,13C-DOCERR,SALTREF,SALTREF_FLAG_W,LAB_DEN,LAB_DEN_FLAG_W,BTL_DATE,BTL_TIME
,,,,,,,,,,,METERS,DBAR,ITS-90,PSS-78,,PSS-78,,UMOL/KG,,UMOL/KG,,UMOL/KG,,UMOL/KG,,UMOL/KG,,UMOL/KG,,PMOL/KG,,PMOL/KG,,PMOL/KG,,FMOL/KG,,UMOL/KG,,UMOL/KG,,,,DEG C,TU,,NMOL/KG,,PERCNT,,DEG C,,/MILLE,,/MILLE,,/MILLE,NMOL/KG,,NMOL/KG,PMOL/KG,,UMOL/KG,,UMOL/KG,,,,TU,NMOL/KG,PERCNT,DEG C,ITS-90,,/MILLE,,/MILLE,/MILLE,,/MILLE,G/KG,,KG/M^3,,,
33AT20120324,        A22,      44,          1,         36,         36,2,20120407,       0225,    20.3587,   -66.0000,       5979,     3.0,  25.8517,  36.1647,2,  36.1656,2,    204.5,2,   204.4,2,    0.91,2,    0.00,2,    0.00,2,    0.00,2,   1.681,2,   1.019,2,   0.141,2,    1.21,2,  2023.5,6, 2370.31,2,   8.1071,2,       25,   0.478,2,   1.7086,2,   -1.13,2,  25.8515,2,    -999,9,    -999,9,    -999,   6.763,2,   0.030,    -999,1,    -999,9,    -999,9,  20.3629, -65.9977,   0.009,   0.0068,    0.15,  25.8510,  25.8515,2,-999,9,-999,-999,9,-999,    36.3361,2,-999,9,20120407,        449
33AT20120324,        A22,      44,          1,         35,         35,2,20120407,       0225,    20.3587,   -66.0000,       5979,    25.3,  25.5288,  36.1153,2,  36.1150,2,    206.5,2,   206.1,2,    0.95,2,    0.00,2,    0.00,2,    0.00,2,   1.695,2,   1.089,2,   0.133,2,    1.21,2,    -999,9,    -999,9,     -999,9,     -999,    -999,9,     -999,9,    -999,9,  25.5271,2,    -999,9,    -999,9,    -999,    -999,9,    -999,    -999,1,    -999,9,    -999,9,  20.3627, -65.9978,    -999,     -999,    -999,  25.5232,  25.5271,2,-999,9,-999,-999,9,-999,    36.2852,2,-999,9,20120407,        446
33AT20120324,        A22,      44,          1,         34,         34,2,20120407,       0225,    20.3587,   -66.0000,       5979,    50.5,  25.3544,  36.1275,2,  36.1276,2,    207.5,2,   207.2,2,    0.86,2,    0.00,2,    0.00,2,    0.00,2,   1.707,2,   1.085,2,   0.139,2,    1.19,2,  2021.1,2, 2369.87,6,   8.1084,6,       25,    -999,9,     -999,9,    -999,9,  25.3551,2,    -999,9,    -999,9,    -999,    -999,9,    -999,    -999,1,    -999,9,    -999,9,  20.3625, -65.9979,    -999,     -999,    -999,  25.3433,  25.3551,2,-999,9,-999,-999,9,-999,    36.2980,2,-999,9,20120407,        443
33AT20120324,        A22,      44,          1,         33,         33,2,20120407,       0225,    20.3587,   -66.0000,       5979,    75.4,  25.2621,  36.3243,2,  36.3299,2,    208.6,2,   207.0,2,    0.66,2,    0.00,2,    0.00,2,    0.00,2,   1.725,2,   1.095,2,   0.147,2,    1.15,2,    -999,9,    -999,9,     -999,9,     -999,   0.487,2,   1.7221,2,   -1.29,2,  25.2622,2,    -999,9,    -999,9,    -999,   6.773,2,   0.030,    -999,1,    -999,9,    -999,9,  20.3624, -65.9980,   0.009,   0.0069,    0.15,  25.2455,  25.2622,2,-999,9,-999,-999,9,-999,    36.5012,2,-999,9,20120407,        441
33AT20120324,        A22,      44,          1,         32,         32,2,20120407,       0225,    20.3587,   -66.0000,       5979,   100.6,  24.9742,  36.6969,2,  36.6986,2,    209.1,2,   208.3,2,    0.37,2,    0.00,2,    0.00,2,    0.00,2,   1.760,2,   1.123,2,   0.148,2,    1.24,2,  2051.5,2, 2401.29,2,   8.1002,2,       25,    -999,9,     -999,9,    -999,9,  24.9764,2,    -999,9,    -999,9,    -999,    -999,9,    -999,    -999,1,    -999,9,    -999,9,  20.3623, -65.9981,    -999,     -999,    -999,  24.9523,  24.9764,2,-999,9,-999,-999,9,-999,    36.8717,2,-999,9,20120407,        439
33AT20120324,        A22,      44,          1,         31,         31,2,20120407,       0225,    20.3587,   -66.0000,       5979,   150.3,  22.9194,  37.0478,2,  37.0486,2,    186.0,2,   208.7,4,    0.14,2,    0.51,2,    0.03,2,    0.00,2,   1.910,2,   1.206,2,   0.121,2,    1.24,2,    -999,9,    -999,9,     -999,9,     -999,   0.509,2,   1.7182,2,   -1.06,2,  22.8636,2,    -999,9,    -999,9,    -999,   6.811,2,   0.031,    -999,1,    -999,9,    -999,9,  20.3621, -65.9982,   0.009,   0.0069,    0.15,  22.8885,  22.8636,2,-999,9,-999,-999,9,-999,    37.2233,2,-999,9,20120407,        437
33AT20120324,        A22,      44,          1,         30,         30,2,20120407,       0225,    20.3587,   -66.0000,       5979,   200.1,  20.3731,  36.8223,2,  36.8220,2,    179.6,2,   185.4,2,    0.36,2,    1.95,2,    0.01,2,    0.05,2,   2.106,2,   1.314,2,   0.044,2,    1.20,2,  2126.1,2, 2405.54,2,   7.9856,2,       25,    -999,9,     -999,9,    -999,9,  20.3602,2,    -999,9,    -999,9,    -999,    -999,9,    -999,    -999,1,    -999,9,    -999,9,  20.3619, -65.9983,    -999,     -999,    -999,  20.3352,  20.3602,2,-999,9,-999,-999,9,-999,    36.9957,2,-999,9,20120407,        434
33AT20120324,        A22,      44,          1,         29,         29,2,20120407,       0225,    20.3587,   -66.0000,       5979,   248.7,  18.9288,  36.6605,2,  36.6624,2,    181.1,2,   180.5,2,    0.68,2,    3.73,2,    0.00,2,    0.14,2,   2.218,2,   1.361,2,   0.025,2,    1.11,2,    -999,9,    -999,9,     -999,9,     -999,   0.479,2,   1.7384,2,   -0.89,2,  18.9307,2,    -999,9,    -999,9,    -999,   6.967,2,   0.031,    -999,1,    -999,9,    -999,9,  20.3618, -65.9983,   0.009,   0.0070,    0.15,  18.8841,  18.9307,2,-999,9,-999,-999,9,-999,    36.8352,2,-999,9,20120407,        432
33AT20120324,        A22,      44,          1,         28,         28,2,20120407,       0225,    20.3587,   -66.0000,       5979,   302.4,  18.2030,  36.5648,2,  36.5652,2,    188.8,2,   190.1,2,    0.96,2,    4.81,2,    0.00,2,    0.20,2,   2.288,2,   1.390,2,   0.023,2,    1.21,2,  2125.9,2, 2387.59,2,   7.9625,2,       25,    -999,9,     -999,9,    -999,9,  18.1990,2,    -999,9,    -999,9,    -999,    -999,9,    -999,    -999,1,    -999,9,    -999,9,  20.3617, -65.9984,    -999,     -999,    -999,  18.1500,  18.1990,2,-999,9,-999,-999,9,-999,    36.7376,2,-999,9,20120407,        430
33AT20120324,        A22,      44,          1,         27,         27,2,20120407,       0225,    20.3587,   -66.0000,       5979,   349.5,  17.7108,  36.4845,2,  36.4840,2,    187.2,2,   187.0,2,    1.34,2,    6.07,2,    0.00,2,    0.29,2,   2.301,2,   1.383,2,   0.025,2,    1.02,2,    -999,9,    -999,9,     -999,9,     -999,   0.476,2,   1.7412,2,    0.03,2,  17.7086,2,    -999,9,    -999,9,    -999,   7.088,2,   0.032,    -999,1,    -999,9,    -999,9,  20.3616, -65.9984,   0.009,   0.0070,    0.15,  17.6506,  17.7086,2,-999,9,-999,-999,9,-999,    36.6560,2,-999,9,20120407,        428
33AT20120324,        A22,      44,          1,         26,         26,2,20120407,       0225,    20.3587,   -66.0000,       5979,   400.2,  16.9593,  36.3483,2,  36.3509,2,    178.2,2,   178.5,2,    2.05,2,    8.07,2,    0.00,2,    0.43,2,   2.317,2,   1.392,2,   0.022,2,    0.81,2,  2139.7,2, 2375.79,2,   7.9182,2,       25,    -999,9,     -999,9,    -999,9,  16.9677,2,    -999,9,    -999,9,    -999,    -999,9,    -999,    -999,1,    -999,9,    -999,9,  20.3615, -65.9985,    -999,     -999,    -999,  16.8924,  16.9677,2,-999,9,-999,-999,9,-999,    36.5223,2,-999,9,20120407,        427
33AT20120324,        A22,      44,          1,         25,         25,2,20120407,       0225,    20.3587,   -66.0000,       5979,   502.6,  14.3150,  35.8752,2,  35.8751,2,    148.9,2,   148.6,2,    5.04,2,   15.34,2,    0.00,2,    0.91,2,   2.174,2,   1.237,2,   0.022,2,    0.76,2,  2170.8,2, 2351.65,2,   7.8086,2,       25,   0.500,2,   1.7579,2,    3.35,2,  14.3149,2,    -999,9,    -999,9,    -999,   7.240,2,   0.033,    -999,1,    -999,9,    -999,9,  20.3614, -65.9985,   0.009,   0.0070,    0.15,  14.2400,  14.3149,2,-999,9,-999,-999,9,-999,    36.0443,2,-999,9,20120407,        424
33AT20120324,        A22,      44,          1,         24,         24,2,20120407,       0225,    20.3587,   -66.0000,       5979,   603.7,  12.2584,  35.5677,2,  35.5665,2,    138.0,2,   138.7,2,    8.31,2,   20.04,2,    0.00,2,    1.22,2,   1.771,2,    -999,5,   0.015,2,    0.43,2,  2185.2,2, 2335.61,2,   7.7420,2,       25,   0.389,2,   1.7674,2,    5.08,2,  12.2436,2,    -999,9,    -999,9,    -999,   7.375,2,   0.033,    -999,1,    -999,9,    -999,9,  20.3614, -65.9986,   0.008,   0.0071,    0.15,  12.1768,  12.2436,2,-999,9,-999,-999,9,-999,    35.7343,2,-999,9,20120407,        421
33AT20120324,        A22,      44,          1,         23,         23,2,20120407,       0225,    20.3587,   -66.0000,       5979,   703.9,  10.1900,  35.2573,2,  35.2562,2,    129.8,2,   131.0,2,   12.45,2,   24.81,2,    0.00,2,    1.56,2,   1.264,2,   0.627,2,   0.012,2,    0.32,2,  2198.0,6, 2321.08,2,   7.6774,6,       25,   0.290,2,   1.8210,2,    5.40,2,  10.1932,2,    -999,9,    -999,9,    -999,   7.651,2,   0.034,    -999,1,    -999,9,    -999,9,  20.3613, -65.9986,   0.010,   0.0073,    0.15,  10.1050,  10.1932,2,-999,9,-999,-999,9,-999,    35.4224,2,-999,9,20120407,        419
33AT20120324,        A22,      44,          1,         22,         22,2,20120407,       0225,    20.3587,   -66.0000,       5979,   806.1,   8.5759,  35.0672,2,  35.0655,2,    130.3,2,   131.0,2,   16.26,2,   27.51,2,    0.00,2,    1.77,2,   0.818,2,   0.408,2,   0.017,2,    0.16,2,  2207.7,2, 2316.55,2,   7.6399,2,       25,   0.225,2,   1.7884,2,    5.78,2,   8.5777,2,    -999,9,    -999,9,    -999,   7.621,2,   0.034,    -999,1,    -999,9,    -999,9,  20.3612, -65.9987,   0.010,   0.0072,    0.15,   8.4877,   8.5777,2,-999,9,-999,-999,9,-999,    35.2309,2,-999,9,20120407,        416
33AT20120324,        A22,      44,          1,         21,         21,2,20120407,       0225,    20.3587,   -66.0000,       5979,   906.4,   7.5493,  34.9832,2,  34.9831,2,    136.9,2,   137.6,2,   18.60,2,   28.39,2,    0.00,2,    1.84,2,   0.561,2,   0.271,2,   0.011,2,    0.13,2,  2209.2,2, 2313.66,2,   7.6302,2,       25,   0.159,2,   1.8016,2,    4.76,2,   7.5489,2,    -999,9,    -999,9,    -999,   7.658,2,   0.034,    -999,1,    -999,9,    -999,9,  20.3610, -65.9988,   0.008,   0.0072,    0.15,   7.4564,   7.5489,2,-999,9,-999,-999,9,-999,    35.1480,2,-999,9,20120407,        413
33AT20120324,        A22,      44,          1,         20,         20,2,20120407,       0225,    20.3587,   -66.0000,       5979,  1007.7,   6.6277,  34.9263,2,  34.9260,2,    146.8,2,   145.0,2,   20.69,2,   28.83,2,    0.00,2,    1.91,2,   0.360,2,   0.168,2,   0.005,2,    0.03,2,  2212.1,2, 2313.73,2,   7.6230,2,       25,   0.098,2,   1.8073,2,    3.74,2,   6.6262,2,    -999,9,    -999,9,    -999,   7.800,2,   0.035,    -999,1,    -999,9,    -999,9,  20.3609, -65.9988,   0.008,   0.0072,    0.15,   6.5307,   6.6262,2,-999,9,-999,-999,9,-999,    35.0907,2,-999,9,20120407,        411
33AT20120324,        A22,      44,          1,         19,         19,2,20120407,       0225,    20.3587,   -66.0000,       5979,  1108.6,   6.0920,  34.9715,2,  34.9717,2,    174.0,2,   171.9,2,   18.82,2,   25.67,2,    0.00,2,    1.72,2,   0.591,2,   0.296,2,   0.015,2,    0.11,2,  2201.7,2, 2317.75,2,   7.6566,2,       25,   0.147,2,   1.8043,2,    4.77,2,   6.0915,2,    -999,9,    -999,9,    -999,   7.857,2,   0.035,    -999,1,    -999,9,    -999,9,  20.3609, -65.9989,   0.008,   0.0072,    0.15,   5.9889,   6.0915,2,-999,9,-999,-999,9,-999,    35.1366,2,-999,9,20120407,        408
33AT20120324,        A22,      44,          1,         18,         18,2,20120407,       0225,    20.3587,   -66.0000,       5979,  1208.6,   5.6795,  35.0452,2,  35.0449,2,    204.4,2,   205.2,2,   15.14,2,   21.66,2,    0.00,2,    1.44,2,   1.026,2,   0.506,2,   0.034,2,    0.22,2,  2185.5,2, 2318.18,2,   7.6995,2,       25,   0.201,2,   1.8259,2,    6.52,2,   5.6820,2,    -999,9,    -999,9,    -999,   7.852,2,   0.035,    -999,1,    -999,9,    -999,9,  20.3608, -65.9989,   0.009,   0.0073,    0.15,   5.5698,   5.6820,2,-999,9,-999,-999,9,-999,    35.2101,2,-999,9,20120407,        406
33AT20120324,        A22,      44,          1,         17,         17,2,20120407,       0225,    20.3587,   -66.0000,       5979,  1309.3,   5.2313,  35.0479,2,  35.0468,2,    225.7,2,   225.5,2,   13.40,2,   19.79,2,    0.00,2,    1.32,2,   1.410,2,   0.723,2,   0.059,2,    0.29,2,  2178.1,2, 2316.86,2,   7.7165,2,       25,   0.313,2,   1.8402,2,    7.26,2,   5.2294,2,    -999,9,    -999,9,    -999,   7.866,2,   0.035,    -999,1,    -999,9,    -999,9,  20.3608, -65.9989,   0.010,   0.0074,    0.15,   5.1159,   5.2294,2,-999,9,-999,-999,9,-999,    35.2121,2,-999,9,20120407,        404
33AT20120324,        A22,      44,          1,         16,         16,2,20120407,       0225,    20.3587,   -66.0000,       5979,  1410.8,   4.7552,  35.0291,2,  35.0258,2,    239.6,2,   240.2,2,   12.79,2,   18.92,2,    0.00,2,    1.26,2,   1.564,2,   0.789,2,   0.066,2,    0.30,2,  2172.3,2, 2314.84,2,   7.7215,2,       25,   0.302,2,   1.8304,2,    7.67,2,   4.7551,2,    -999,9,    -999,9,    -999,   7.879,2,   0.035,    -999,1,    -999,9,    -999,9,  20.3607, -65.9990,   0.008,   0.0073,    0.15,   4.6349,   4.7551,2,-999,9,-999,-999,9,-999,    35.1909,2,-999,9,20120407,        401
33AT20120324,        A22,      44,          1,         15,         15,2,20120407,       0225,    20.3587,   -66.0000,       5979,  1615.3,   4.2015,  34.9946,2,  34.9929,2,    254.0,2,   254.3,2,   12.60,2,   18.06,2,    0.00,2,    1.21,2,   1.776,2,   0.886,2,   0.091,2,    0.32,2,  2169.6,2, 2310.64,2,   7.7225,2,       25,   0.339,2,   1.8430,2,    7.65,2,   4.2025,2,    -999,9,    -999,9,    -999,   8.020,2,   0.036,    -999,1,    -999,9,    -999,9,  20.3605, -65.9991,   0.009,   0.0074,    0.15,   4.0682,   4.2025,2,-999,9,-999,-999,9,-999,    35.1579,2,-999,9,20120407,        357
33AT20120324,        A22,      44,          1,         14,         14,2,20120407,       0225,    20.3587,   -66.0000,       5979,  1817.8,   3.8234,  34.9739,2,  34.9725,2,    259.9,2,   260.0,2,   13.62,2,   17.95,2,    0.00,2,    1.20,2,   1.528,2,   0.763,2,   0.065,2,    0.21,2,    -999,9,    -999,9,     -999,9,     -999,   0.293,2,   1.9361,3,    7.32,2,   3.8231,2,    -999,9,    -999,9,    -999,   8.339,3,   0.038,    -999,1,    -999,9,    -999,9,  20.3604, -65.9992,   0.009,   0.0077,    0.15,   3.6759,   3.8231,2,-999,9,-999,-999,9,-999,    35.1374,2,-999,9,20120407,        353
33AT20120324,        A22,      44,          1,         13,         13,2,20120407,       0225,    20.3587,   -66.0000,       5979,  2021.3,   3.5651,  34.9636,2,  34.9612,2,    261.9,2,   261.8,2,   15.09,2,   17.95,2,    0.00,2,    1.20,2,   1.257,2,   0.606,2,   0.052,2,    0.15,2,  2165.0,2, 2314.92,2,   7.7386,2,       25,    -999,9,   1.8829,2,    6.61,2,   3.5650,2,    -999,9,    -999,9,    -999,   8.064,2,   0.036,    -999,1,    -999,9,    -999,9,  20.3602, -65.9992,    -999,   0.0075,    0.15,   3.4020,   3.5650,2,-999,9,-999,-999,9,-999,    35.1261,2,-999,9,20120407,        348
33AT20120324,        A22,      44,          1,         12,         12,2,20120407,       0225,    20.3587,   -66.0000,       5979,  2274.2,   3.3042,  34.9566,2,  34.9504,3,    261.3,2,   261.5,2,   17.68,2,   18.09,2,    0.00,2,    1.22,2,   0.934,2,   0.447,2,   0.031,2,    0.11,2,    -999,9,    -999,9,     -999,9,     -999,   0.194,2,   1.8497,2,    6.04,2,   3.3033,2,    -999,9,    -999,9,    -999,   8.076,2,   0.036,    -999,1,    -999,9,    -999,9,  20.3601, -65.9993,   0.010,   0.0074,    0.15,   3.1209,   3.3033,2,-999,9,-999,-999,9,-999,    35.1152,3,-999,9,20120407,        343
33AT20120324,        A22,      44,          1,         11,         11,2,20120407,       0225,    20.3587,   -66.0000,       5979,  2527.6,   3.0642,  34.9452,2,  34.9402,3,    261.7,2,   272.7,4,   19.71,2,   18.15,2,    0.00,2,    1.23,2,   0.814,2,   0.383,2,   0.033,2,    0.07,2,    -999,9,    -999,9,     -999,9,     -999,   0.144,2,   1.9183,3,    4.85,3,   3.0643,2,    -999,9,    -999,9,    -999,   8.313,3,   0.037,    -999,1,    -999,9,    -999,9,  20.3600, -65.9994,   0.008,   0.0077,    0.15,   2.8603,   3.0643,2,-999,9,-999,-999,9,-999,    35.1049,3,-999,9,20120407,        338
33AT20120324,        A22,      44,          1,         10,         10,2,20120407,       0225,    20.3587,   -66.0000,       5979,  2783.2,   2.8268,  34.9322,2,  34.9286,3,    262.8,2,   262.9,2,   21.94,2,   18.23,2,    0.00,2,    1.24,2,   0.794,2,   0.376,2,   0.033,2,    0.07,2,  2169.1,2, 2320.93,2,   7.7407,2,       25,    -999,9,     -999,9,    -999,9,   2.8269,2,    -999,9,    -999,9,    -999,    -999,9,    -999,    -999,1,    -999,9,    -999,9,  20.3600, -65.9994,    -999,     -999,    -999,   2.6020,   2.8269,2,-999,9,-999,-999,9,-999,    35.0933,3,-999,9,20120407,        332
33AT20120324,        A22,      44,          1,          9,          9,2,20120407,       0225,    20.3587,   -66.0000,       5979,  3038.8,   2.6058,  34.9185,2,  34.9138,3,    264.8,2,   264.7,2,   23.86,2,   18.26,2,    0.00,2,    1.24,2,   0.807,2,   0.379,2,   0.036,2,    0.05,2,    -999,9,    -999,9,     -999,9,     -999,   0.155,2,   1.8784,2,    5.22,2,   2.6060,2,    -999,9,    -999,9,    -999,   8.167,2,   0.037,    -999,1,    -999,9,    -999,9,  20.3599, -65.9994,   0.009,   0.0075,    0.15,   2.3596,   2.6060,2,-999,9,-999,-999,9,-999,    35.0784,3,-999,9,20120407,        327
33AT20120324,        A22,      44,          1,          8,          8,2,20120407,       0225,    20.3587,   -66.0000,       5979,  3344.4,   2.4229,  34.9059,2,  34.9004,3,    265.9,2,   266.5,2,   25.31,2,   18.17,2,    0.00,2,    1.24,2,   0.907,2,   0.437,2,   0.046,2,    0.08,2,  2172.0,2, 2321.73,6,   7.7432,2,       25,    -999,9,     -999,9,    -999,9,   2.4222,2,    -999,9,    -999,9,    -999,    -999,9,    -999,    -999,1,    -999,9,    -999,9,  20.3598, -65.9995,    -999,     -999,    -999,   2.1490,   2.4222,2,-999,9,-999,-999,9,-999,    35.0650,3,-999,9,20120407,        321
33AT20120324,        A22,      44,          1,          7,          7,2,20120407,       0225,    20.3587,   -66.0000,       5979,  3651.6,   2.3157,  34.8975,2,  34.8939,3,    266.0,2,   266.3,2,   27.38,2,   18.31,2,    0.00,2,    1.25,2,   0.925,2,   0.454,2,   0.050,2,    0.13,2,    -999,9,    -999,9,     -999,9,     -999,    -999,9,     -999,9,    -999,9,   2.3159,2,    -999,9,    -999,9,    -999,    -999,9,    -999,    -999,1,    -999,9,    -999,9,  20.3596, -65.9996,    -999,     -999,    -999,   2.0114,   2.3159,2,-999,9,-999,-999,9,-999,    35.0585,3,-999,9,20120407,        315
33AT20120324,        A22,      44,          1,          6,          6,2,20120407,       0225,    20.3587,   -66.0000,       5979,  4061.2,   2.2725,  34.8910,2,  34.8867,3,    264.5,2,   264.8,2,   30.21,2,   18.68,2,    0.00,2,    1.28,2,   0.891,2,   0.428,2,   0.048,2,    0.12,2,    -999,9,    -999,9,     -999,9,     -999,   0.177,6,   1.9010,2,    5.54,2,   2.2731,2,    -999,9,    -999,9,    -999,   8.263,2,   0.037,    -999,1,    -999,9,    -999,9,  20.3594, -65.9997,   0.009,   0.0076,    0.15,   1.9236,   2.2731,2,-999,9,-999,-999,9,-999,    35.0512,3,-999,9,20120407,        307