BOTTLE,20220725CCHSIOCBG
EXPOCODE,SECT_ID,STNNBR,CASTNO,SAMPNO,BTLNBR,BTLNBR_FLAG_W,DATE,TIME,LATITUDE,LONGITUDE,DEPTH,CTDPRS,CTDTMP,CTDSAL,CTDSAL_FLAG_W,SALNTY,SALNTY_FLAG_W,CTDOXY,CTDOXY_FLAG_W,OXYGEN,OXYGEN_FLAG_W,SILCAT,SILCAT_FLAG_W,NITRAT,NITRAT_FLAG_W,NITRIT,NITRIT_FLAG_W,PHSPHT,PHSPHT_FLAG_W,CFC-11,CFC-11_FLAG_W,CFC-12,CFC-12_FLAG_W,CFC113,CFC113_FLAG_W,SF6,SF6_FLAG_W,TCARBN,TCARBN_FLAG_W,ALKALI,ALKALI_FLAG_W,PH_TOT,PH_TOT_FLAG_W,PH_TMP,TRITUM,TRITUM_FLAG_W,HELIUM,HELIUM_FLAG_W,DELHE3,DELHE3_FLAG_W,REFTMP,REFTMP_FLAG_W,DELC13,DELC13_FLAG_W,DELC14,DELC14_FLAG_W,C14ERR,NEON,NEON_FLAG_W,NEONER,CCL4,CCL4_FLAG_W,DOC,DOC_FLAG_W,TDN,TDN_FLAG_W,BTL_LAT,BTL_LON,TRITER,HELIER,DELHER,THETA,SBE35,SBE35_FLAG_W,14C-DOC,14C-DOC_FLAG_W,14C-DOCERR,13C-DOC,13C-DOC_FLAG_W,13C-DOCERR,SALTREF,SALTREF_FLAG_W,LAB_DEN,LAB_DEN_FLAG_W,BTL_DATE,BTL_TIME
,,,,,,,,,,,METERS,DBAR,ITS-90,PSS-78,,PSS-78,,UMOL/KG,,UMOL/KG,,UMOL/KG,,UMOL/KG,,UMOL/KG,,UMOL/KG,,PMOL/KG,,PMOL/KG,,PMOL/KG,,FMOL/KG,,UMOL/KG,,UMOL/KG,,,,DEG C,TU,,NMOL/KG,,PERCNT,,DEG C,,/MILLE,,/MILLE,,/MILLE,NMOL/KG,,NMOL/KG,PMOL/KG,,UMOL/KG,,UMOL/KG,,,,TU,NMOL/KG,PERCNT,DEG C,ITS-90,,/MILLE,,/MILLE,/MILLE,,/MILLE,G/KG,,KG/M^3,,,
33AT20120324,        A22,      48,          1,         36,         36,2,20120408,       0246,    19.0282,   -66.0089,       4637,     2.8,  26.5899,  36.0794,2,  36.0786,2,    202.0,2,   202.2,2,    0.84,2,    0.00,2,    0.00,2,    0.00,2,   1.625,2,   1.097,2,   0.134,2,    1.21,2,  2016.0,6, 2359.49,6,   8.0987,2,       25,    -999,9,     -999,9,    -999,9,  26.5903,2,    -999,9,    -999,9,    -999,    -999,9,    -999,    -999,1,    -999,9,    -999,9,  19.0287, -66.0090,    -999,     -999,    -999,  26.5893,  26.5903,2,-999,9,-999,-999,9,-999,    36.2487,2,-999,9,20120408,        444
33AT20120324,        A22,      48,          1,         35,         35,2,20120408,       0246,    19.0282,   -66.0089,       4637,    35.5,  26.0980,  36.1282,2,  36.1264,2,    204.7,2,   204.9,2,    0.96,2,    0.00,2,    0.00,2,    0.00,2,   1.653,2,   1.063,2,   0.129,2,    1.28,2,    -999,9,    -999,9,     -999,9,     -999,    -999,9,     -999,9,    -999,9,  26.0994,2,    -999,9,    -999,9,    -999,    -999,9,    -999,    -999,1,    -999,9,    -999,9,  19.0286, -66.0090,    -999,     -999,    -999,  26.0900,  26.0994,2,-999,9,-999,-999,9,-999,    36.2968,2,-999,9,20120408,        441
33AT20120324,        A22,      48,          1,         34,         34,2,20120408,       0246,    19.0282,   -66.0089,       4637,    60.6,  25.9666,  36.1191,2,  36.1272,2,    206.1,2,   205.3,2,    0.97,2,    0.00,2,    0.00,2,    0.00,2,   1.655,2,   1.096,2,   0.140,2,    1.26,2,  2013.8,2, 2367.88,2,   8.1119,6,       25,    -999,9,     -999,9,    -999,9,  25.9673,2,    -999,9,    -999,9,    -999,    -999,9,    -999,    -999,1,    -999,9,    -999,9,  19.0286, -66.0089,    -999,     -999,    -999,  25.9530,  25.9673,2,-999,9,-999,-999,9,-999,    36.2976,2,-999,9,20120408,        438
33AT20120324,        A22,      48,          1,         33,         33,2,20120408,       0246,    19.0282,   -66.0089,       4637,    85.5,  25.9922,  36.3754,2,  36.4057,2,    201.0,2,   200.7,2,    0.72,2,    0.00,2,    0.00,2,    0.00,2,   1.681,2,   1.073,2,   0.133,2,    1.21,2,    -999,9,    -999,9,     -999,9,     -999,    -999,9,     -999,9,    -999,9,  25.9910,2,    -999,9,    -999,9,    -999,    -999,9,    -999,    -999,1,    -999,9,    -999,9,  19.0285, -66.0089,    -999,     -999,    -999,  25.9730,  25.9910,2,-999,9,-999,-999,9,-999,    36.5774,2,-999,9,20120408,        436
33AT20120324,        A22,      48,          1,         32,         32,2,20120408,       0246,    19.0282,   -66.0089,       4637,   117.5,  24.8172,  37.1254,2,  37.1030,2,    184.5,2,   183.9,2,    0.25,2,    0.43,2,    0.06,2,    0.01,2,   1.801,2,   1.140,2,   0.119,2,    1.20,2,  2095.9,2, 2425.96,2,   8.1119,6,       25,    -999,9,     -999,9,    -999,9,  24.8116,2,    -999,9,    -999,9,    -999,    -999,9,    -999,    -999,1,    -999,9,    -999,9,  19.0285, -66.0089,    -999,     -999,    -999,  24.7916,  24.8116,2,-999,9,-999,-999,9,-999,    37.2779,2,-999,9,20120408,        433
33AT20120324,        A22,      48,          1,         31,         31,2,20120408,       0246,    19.0282,   -66.0089,       4637,   164.7,  21.1107,  36.8487,2,  36.8462,2,    189.1,2,   189.5,2,    0.19,2,    0.78,2,    0.02,2,    0.01,2,   2.061,2,   1.248,2,   0.079,2,    1.30,2,  2109.9,2, 2406.29,2,   8.1119,6,       25,    -999,9,     -999,9,    -999,9,  21.1085,2,    -999,9,    -999,9,    -999,    -999,9,    -999,    -999,1,    -999,9,    -999,9,  19.0285, -66.0089,    -999,     -999,    -999,  21.0788,  21.1085,2,-999,9,-999,-999,9,-999,    37.0200,2,-999,9,20120408,        431
33AT20120324,        A22,      48,          1,         30,         30,2,20120408,       0246,    19.0282,   -66.0089,       4637,   217.0,  19.2624,  36.7022,2,  36.5787,4,    180.7,2,   183.1,2,    0.61,2,    3.22,2,    0.01,2,    0.11,2,   2.187,2,   1.342,2,   0.019,2,    1.27,2,    -999,9,    -999,9,     -999,9,     -999,    -999,9,   1.7361,2,   -0.65,2,  19.2618,2,    -999,9,    -999,9,    -999,   7.020,2,   0.032,    -999,1,    -999,9,    -999,9,  19.0284, -66.0089,    -999,   0.0069,    0.15,  19.2229,  19.2618,2,-999,9,-999,-999,9,-999,    36.7512,4,-999,9,20120408,        428
33AT20120324,        A22,      48,          1,         29,         29,2,20120408,       0246,    19.0282,   -66.0089,       4637,   267.2,  18.2951,  36.5801,2,  36.5789,2,    192.5,2,   193.4,2,    0.91,2,    4.32,2,    0.01,2,    0.19,2,   2.286,2,   1.392,2,   0.020,2,    1.22,2,  2117.8,2, 2389.20,2,   7.9617,2,       25,    -999,9,     -999,9,    -999,9,  18.2949,2,    -999,9,    -999,9,    -999,    -999,9,    -999,    -999,1,    -999,9,    -999,9,  19.0284, -66.0089,    -999,     -999,    -999,  18.2481,  18.2949,2,-999,9,-999,-999,9,-999,    36.7514,2,-999,9,20120408,        426
33AT20120324,        A22,      48,          1,         28,         28,2,20120408,       0246,    19.0282,   -66.0089,       4637,   315.8,  17.7790,  36.5046,2,  36.5004,2,    196.0,2,   193.9,2,    1.22,2,    5.33,2,    0.01,2,    0.26,2,   2.333,2,   1.368,2,   0.022,2,    1.18,2,    -999,9,    -999,9,     -999,9,     -999,    -999,9,     -999,9,    -999,9,  17.7813,2,    -999,9,    -999,9,    -999,    -999,9,    -999,    -999,1,    -999,9,    -999,9,  19.0284, -66.0089,    -999,     -999,    -999,  17.7245,  17.7813,2,-999,9,-999,-999,9,-999,    36.6725,2,-999,9,20120408,        425
33AT20120324,        A22,      48,          1,         27,         27,2,20120408,       0246,    19.0282,   -66.0089,       4637,   365.0,  16.9284,  36.3513,2,  36.3443,2,    181.8,2,   180.1,2,    1.99,2,    8.04,2,    0.01,2,    0.43,2,   2.357,2,   1.393,2,   0.026,2,    1.10,2,  2136.1,2, 2376.39,2,   7.9160,2,       25,    -999,9,     -999,9,    -999,9,  16.9304,2,    -999,9,    -999,9,    -999,    -999,9,    -999,    -999,1,    -999,9,    -999,9,  19.0284, -66.0089,    -999,     -999,    -999,  16.8675,  16.9304,2,-999,9,-999,-999,9,-999,    36.5157,2,-999,9,20120408,        423
33AT20120324,        A22,      48,          1,         26,         26,2,20120408,       0246,    19.0282,   -66.0089,       4637,   416.5,  15.5445,  36.1061,2,  36.1019,2,    168.8,2,   165.8,2,    3.36,2,   11.55,2,    0.00,2,    0.66,2,   2.321,2,   1.218,2,   0.027,2,    0.93,2,    -999,9,    -999,9,     -999,9,     -999,    -999,9,     -999,9,    -999,9,  15.5427,2,    -999,9,    -999,9,    -999,    -999,9,    -999,    -999,1,    -999,9,    -999,9,  19.0284, -66.0089,    -999,     -999,    -999,  15.4789,  15.5427,2,-999,9,-999,-999,9,-999,    36.2721,2,-999,9,20120408,        421
33AT20120324,        A22,      48,          1,         25,         25,2,20120408,       0246,    19.0282,   -66.0089,       4637,   467.8,  14.3577,  35.9021,2,  35.8997,2,    146.7,2,   153.6,2,    4.84,2,   14.70,2,    0.00,2,    0.87,2,   2.217,2,   1.210,2,   0.024,2,    0.74,2,  2162.6,2, 2351.32,2,   7.8158,2,       25,    -999,9,     -999,9,    -999,9,  14.3568,2,    -999,9,    -999,9,    -999,    -999,9,    -999,    -999,1,    -999,9,    -999,9,  19.0284, -66.0089,    -999,     -999,    -999,  14.2878,  14.3568,2,-999,9,-999,-999,9,-999,    36.0689,2,-999,9,20120408,        420
33AT20120324,        A22,      48,          1,         24,         24,2,20120408,       0246,    19.0282,   -66.0089,       4637,   538.6,  12.4064,  35.5745,2,  35.5693,2,    139.1,2,   138.2,2,    8.22,2,   19.92,2,    0.00,2,    1.22,2,   1.639,2,   0.949,2,   0.020,2,    0.55,2,  2180.8,2, 2336.19,2,   7.7417,2,       25,    -999,9,     -999,9,    -999,9,  12.4046,2,    -999,9,    -999,9,    -999,    -999,9,    -999,    -999,1,    -999,9,    -999,9,  19.0284, -66.0089,    -999,     -999,    -999,  12.3332,  12.4046,2,-999,9,-999,-999,9,-999,    35.7370,2,-999,9,20120408,        418
33AT20120324,        A22,      48,          1,         23,         23,2,20120408,       0246,    19.0282,   -66.0089,       4637,   641.2,   9.6624,  35.0851,2,  35.0825,2,    121.9,2,   121.6,2,   13.90,2,   27.11,2,    0.00,2,    1.72,2,   1.343,2,   0.709,2,   0.018,2,    0.33,2,  2202.3,2, 2314.02,2,   7.6353,6,       25,    -999,9,     -999,9,    -999,9,   9.6614,2,    -999,9,    -999,9,    -999,    -999,9,    -999,    -999,1,    -999,9,    -999,9,  19.0283, -66.0089,    -999,     -999,    -999,   9.5878,   9.6614,2,-999,9,-999,-999,9,-999,    35.2479,2,-999,9,20120408,        415
33AT20120324,        A22,      48,          1,         22,         22,2,20120408,       0246,    19.0282,   -66.0089,       4637,   740.1,   8.4502,  34.9752,2,  34.9736,2,    124.1,2,   124.2,2,   17.05,2,   29.08,2,    0.00,2,    1.86,2,   0.908,2,   0.447,2,   0.015,2,    0.29,2,  2208.0,2, 2312.00,2,   7.6129,2,       25,    -999,9,     -999,9,    -999,9,   8.4488,2,    -999,9,    -999,9,    -999,    -999,9,    -999,    -999,1,    -999,9,    -999,9,  19.0283, -66.0089,    -999,     -999,    -999,   8.3703,   8.4488,2,-999,9,-999,-999,9,-999,    35.1385,2,-999,9,20120408,        413
33AT20120324,        A22,      48,          1,         21,         21,2,20120408,       0246,    19.0282,   -66.0089,       4637,   839.5,   7.2557,  34.8692,2,  34.8668,2,    127.9,2,   128.3,2,   20.48,2,   30.73,2,    0.00,2,    2.00,2,   0.543,2,   0.255,2,   0.008,2,    0.12,2,  2211.6,2, 2309.76,2,   7.5942,2,       25,    -999,9,     -999,9,    -999,9,   7.2551,2,    -999,9,    -999,9,    -999,    -999,9,    -999,    -999,1,    -999,9,    -999,9,  19.0283, -66.0089,    -999,     -999,    -999,   7.1720,   7.2551,2,-999,9,-999,-999,9,-999,    35.0312,2,-999,9,20120408,        410
33AT20120324,        A22,      48,          1,         20,         20,2,20120408,       0246,    19.0282,   -66.0089,       4637,   942.6,   6.3625,  34.8315,2,  34.8294,2,    138.1,2,   138.8,2,   22.84,2,   30.76,2,    0.00,2,    2.03,2,   0.327,2,   0.153,2,   0.008,2,    0.07,2,    -999,9,    -999,9,     -999,9,     -999,    -999,9,     -999,9,    -999,9,   6.3616,2,    -999,9,    -999,9,    -999,    -999,9,    -999,    -999,1,    -999,9,    -999,9,  19.0283, -66.0089,    -999,     -999,    -999,   6.2742,   6.3616,2,-999,9,-999,-999,9,-999,    34.9937,2,-999,9,20120408,        408
33AT20120324,        A22,      48,          1,         19,         19,2,20120408,       0246,    19.0282,   -66.0089,       4637,  1042.7,   6.2114,  34.9665,2,  34.9679,2,    168.5,2,   168.1,2,   19.28,2,   26.22,2,    0.00,2,    1.73,2,   0.575,2,   0.274,2,   0.012,2,    0.16,2,  2196.4,2, 2317.16,2,   7.6501,2,       25,    -999,9,     -999,9,    -999,9,   6.2129,2,    -999,9,    -999,9,    -999,    -999,9,    -999,    -999,1,    -999,9,    -999,9,  19.0282, -66.0089,    -999,     -999,    -999,   6.1139,   6.2129,2,-999,9,-999,-999,9,-999,    35.1328,2,-999,9,20120408,        405
33AT20120324,        A22,      48,          1,         18,         18,2,20120408,       0246,    19.0282,   -66.0089,       4637,  1142.8,   5.8943,  35.0325,2,  35.0319,2,    195.3,2,   196.9,2,   16.14,2,   22.64,2,    0.00,2,    1.50,2,   0.925,2,   0.441,2,   0.024,2,    0.25,2,    -999,9,    -999,9,     -999,9,     -999,    -999,9,     -999,9,    -999,9,   5.8930,2,    -999,9,    -999,9,    -999,    -999,9,    -999,    -999,1,    -999,9,    -999,9,  19.0282, -66.0089,    -999,     -999,    -999,   5.7893,   5.8930,2,-999,9,-999,-999,9,-999,    35.1971,2,-999,9,20120408,        402
33AT20120324,        A22,      48,          1,         17,         17,2,20120408,       0246,    19.0282,   -66.0089,       4637,  1244.3,   5.2863,  35.0452,2,  35.0451,2,    224.3,2,   222.8,2,   13.85,2,   20.14,2,    0.00,2,    1.34,2,   1.351,2,   0.662,2,   0.053,2,    0.36,2,  2174.2,2, 2315.78,2,   7.7124,2,       25,    -999,9,     -999,9,    -999,9,   5.2887,2,    -999,9,    -999,9,    -999,    -999,9,    -999,    -999,1,    -999,9,    -999,9,  19.0281, -66.0089,    -999,     -999,    -999,   5.1767,   5.2887,2,-999,9,-999,-999,9,-999,    35.2103,2,-999,9,20120408,        400
33AT20120324,        A22,      48,          1,         16,         16,2,20120408,       0246,    19.0282,   -66.0089,       4637,  1347.9,   4.8803,  35.0253,2,  35.0244,2,    237.5,2,   236.6,2,   13.34,2,   19.21,2,    0.00,2,    1.28,2,   1.654,2,   0.830,2,   0.072,2,    0.43,2,    -999,9,    -999,9,     -999,9,     -999,    -999,9,   1.8612,2,    6.99,2,   4.8794,2,    -999,9,    -999,9,    -999,   8.050,2,   0.036,    -999,1,    -999,9,    -999,9,  19.0281, -66.0089,    -999,   0.0074,    0.15,   4.7647,   4.8794,2,-999,9,-999,-999,9,-999,    35.1896,2,-999,9,20120408,        357
33AT20120324,        A22,      48,          1,         15,         15,2,20120408,       0246,    19.0282,   -66.0089,       4637,  1447.2,   4.5166,  35.0108,2,  35.0100,2,    247.6,2,   247.2,2,   12.72,2,   18.48,2,    0.00,2,    1.22,2,   1.807,2,   0.892,2,   0.086,2,    0.47,2,    -999,9,    -999,9,     -999,9,     -999,    -999,9,     -999,9,    -999,9,   4.5155,2,    -999,9,    -999,9,    -999,    -999,9,    -999,    -999,1,    -999,9,    -999,9,  19.0281, -66.0089,    -999,     -999,    -999,   4.3955,   4.5155,2,-999,9,-999,-999,9,-999,    35.1751,2,-999,9,20120408,        355
33AT20120324,        A22,      48,          1,         14,         14,2,20120408,       0246,    19.0282,   -66.0089,       4637,  1549.7,   4.2215,  34.9948,2,  34.9937,2,    253.8,2,   254.7,2,   12.70,2,   18.11,2,    0.00,2,    1.21,2,   1.819,2,   0.905,2,   0.092,2,    0.40,2,    -999,9,    -999,9,     -999,9,     -999,    -999,9,     -999,9,    -999,9,   4.2216,2,    -999,9,    -999,9,    -999,    -999,9,    -999,    -999,1,    -999,9,    -999,9,  19.0281, -66.0089,    -999,     -999,    -999,   4.0941,   4.2216,2,-999,9,-999,-999,9,-999,    35.1587,2,-999,9,20120408,        352
33AT20120324,        A22,      48,          1,         13,         13,2,20120408,       0246,    19.0282,   -66.0089,       4637,  1680.2,   3.9954,  34.9815,2,  34.9809,2,    257.9,2,   260.0,2,   13.10,2,   17.97,2,    0.00,2,    1.20,2,   1.729,2,   0.855,2,   0.084,2,    0.37,2,  2160.7,2, 2311.19,2,   7.7295,2,       25,    -999,9,     -999,9,    -999,9,   3.9952,2,    -999,9,    -999,9,    -999,    -999,9,    -999,    -999,1,    -999,9,    -999,9,  19.0281, -66.0089,    -999,     -999,    -999,   3.8586,   3.9952,2,-999,9,-999,-999,9,-999,    35.1459,2,-999,9,20120408,        349
33AT20120324,        A22,      48,          1,         12,         12,2,20120408,       0246,    19.0282,   -66.0089,       4637,  1883.0,   3.7204,  34.9690,2,  34.9691,2,    261.7,2,   262.1,2,   14.15,2,   17.85,2,    0.00,2,    1.20,2,   1.479,2,   0.716,2,   0.063,2,    0.29,2,    -999,9,    -999,9,     -999,9,     -999,    -999,9,     -999,9,    -999,9,   3.7203,2,    -999,9,    -999,9,    -999,    -999,9,    -999,    -999,1,    -999,9,    -999,9,  19.0280, -66.0089,    -999,     -999,    -999,   3.5682,   3.7203,2,-999,9,-999,-999,9,-999,    35.1340,2,-999,9,20120408,        345
33AT20120324,        A22,      48,          1,         11,         11,2,20120408,       0246,    19.0282,   -66.0089,       4637,  2106.2,   3.5097,  34.9625,2,  34.9622,2,    262.9,2,   262.8,2,   15.86,2,   17.93,2,    0.00,2,    1.21,2,   1.195,2,   0.571,2,   0.044,2,    0.21,2,    -999,9,    -999,9,     -999,9,     -999,    -999,9,     -999,9,    -999,9,   3.5078,2,    -999,9,    -999,9,    -999,    -999,9,    -999,    -999,1,    -999,9,    -999,9,  19.0278, -66.0089,    -999,     -999,    -999,   3.3393,   3.5078,2,-999,9,-999,-999,9,-999,    35.1271,2,-999,9,20120408,        340
33AT20120324,        A22,      48,          1,         10,         10,2,20120408,       0246,    19.0282,   -66.0089,       4637,  2360.0,   3.2509,  34.9522,2,  34.9524,2,    263.2,2,   262.8,2,   18.00,2,   17.98,2,    0.00,2,    1.22,2,   0.956,2,   0.455,2,   0.036,2,    0.20,2,    -999,9,    -999,9,     -999,9,     -999,    -999,9,     -999,9,    -999,9,   3.2510,2,    -999,9,    -999,9,    -999,    -999,9,    -999,    -999,1,    -999,9,    -999,9,  19.0278, -66.0089,    -999,     -999,    -999,   3.0601,   3.2510,2,-999,9,-999,-999,9,-999,    35.1172,2,-999,9,20120408,        335
33AT20120324,        A22,      48,          1,          9,          9,2,20120408,       0246,    19.0282,   -66.0089,       4637,  2613.9,   3.0376,  34.9428,2,  34.9429,2,    263.7,2,   263.9,2,   19.93,2,   18.08,2,    0.00,2,    1.22,2,   0.846,2,   0.398,2,   0.026,2,    0.17,2,  2162.3,2, 2317.09,2,   7.7389,2,       25,    -999,9,     -999,9,    -999,9,   3.0375,2,    -999,9,    -999,9,    -999,    -999,9,    -999,    -999,1,    -999,9,    -999,9,  19.0278, -66.0089,    -999,     -999,    -999,   2.8256,   3.0375,2,-999,9,-999,-999,9,-999,    35.1077,2,-999,9,20120408,        330
33AT20120324,        A22,      48,          1,          8,          8,2,20120408,       0246,    19.0282,   -66.0089,       4637,  2868.7,   2.8226,  34.9305,2,  34.9305,2,    264.8,2,   265.3,2,   21.51,2,   18.06,2,    0.00,2,    1.23,2,   0.861,2,   0.405,2,   0.029,2,    0.16,2,    -999,9,    -999,9,     -999,9,     -999,    -999,9,     -999,9,    -999,9,   2.8226,2,    -999,9,    -999,9,    -999,    -999,9,    -999,    -999,1,    -999,9,    -999,9,  19.0279, -66.0089,    -999,     -999,    -999,   2.5892,   2.8226,2,-999,9,-999,-999,9,-999,    35.0953,2,-999,9,20120408,        324
33AT20120324,        A22,      48,          1,          7,          7,2,20120408,       0246,    19.0282,   -66.0089,       4637,  3140.2,   2.6621,  34.9200,2,  34.9197,2,    266.4,2,   267.2,2,   22.61,2,   18.01,2,    0.00,2,    1.22,2,   0.930,2,   0.439,2,   0.042,2,    0.19,2,    -999,9,    -999,9,     -999,9,     -999,    -999,9,     -999,9,    -999,9,   2.6622,2,    -999,9,    -999,9,    -999,    -999,9,    -999,    -999,1,    -999,9,    -999,9,  19.0280, -66.0089,    -999,     -999,    -999,   2.4041,   2.6622,2,-999,9,-999,-999,9,-999,    35.0844,2,-999,9,20120408,        319
33AT20120324,        A22,      48,          1,          6,          6,2,20120408,       0246,    19.0282,   -66.0089,       4637,  3445.7,   2.4521,  34.9065,2,  34.9065,2,    267.4,2,   267.5,2,   24.75,2,   18.02,2,    0.00,2,    1.23,2,   0.996,2,    -999,5,   0.046,2,    0.20,2,  2166.0,2, 2320.06,2,   7.7389,2,       25,    -999,9,     -999,9,    -999,9,   2.4523,2,    -999,9,    -999,9,    -999,    -999,9,    -999,    -999,1,    -999,9,    -999,9,  19.0281, -66.0089,    -999,     -999,    -999,   2.1667,   2.4523,2,-999,9,-999,-999,9,-999,    35.0711,2,-999,9,20120408,        313