BOTTLE,20220725CCHSIOCBG
EXPOCODE,SECT_ID,STNNBR,CASTNO,SAMPNO,BTLNBR,BTLNBR_FLAG_W,DATE,TIME,LATITUDE,LONGITUDE,DEPTH,CTDPRS,CTDTMP,CTDSAL,CTDSAL_FLAG_W,SALNTY,SALNTY_FLAG_W,CTDOXY,CTDOXY_FLAG_W,OXYGEN,OXYGEN_FLAG_W,SILCAT,SILCAT_FLAG_W,NITRAT,NITRAT_FLAG_W,NITRIT,NITRIT_FLAG_W,PHSPHT,PHSPHT_FLAG_W,CFC-11,CFC-11_FLAG_W,CFC-12,CFC-12_FLAG_W,CFC113,CFC113_FLAG_W,SF6,SF6_FLAG_W,TCARBN,TCARBN_FLAG_W,ALKALI,ALKALI_FLAG_W,PH_TOT,PH_TOT_FLAG_W,PH_TMP,TRITUM,TRITUM_FLAG_W,HELIUM,HELIUM_FLAG_W,DELHE3,DELHE3_FLAG_W,REFTMP,REFTMP_FLAG_W,DELC13,DELC13_FLAG_W,DELC14,DELC14_FLAG_W,C14ERR,NEON,NEON_FLAG_W,NEONER,CCL4,CCL4_FLAG_W,DOC,DOC_FLAG_W,TDN,TDN_FLAG_W,BTL_LAT,BTL_LON,TRITER,HELIER,DELHER,THETA,SBE35,SBE35_FLAG_W,14C-DOC,14C-DOC_FLAG_W,14C-DOCERR,13C-DOC,13C-DOC_FLAG_W,13C-DOCERR,SALTREF,SALTREF_FLAG_W,LAB_DEN,LAB_DEN_FLAG_W,BTL_DATE,BTL_TIME
,,,,,,,,,,,METERS,DBAR,ITS-90,PSS-78,,PSS-78,,UMOL/KG,,UMOL/KG,,UMOL/KG,,UMOL/KG,,UMOL/KG,,UMOL/KG,,PMOL/KG,,PMOL/KG,,PMOL/KG,,FMOL/KG,,UMOL/KG,,UMOL/KG,,,,DEG C,TU,,NMOL/KG,,PERCNT,,DEG C,,/MILLE,,/MILLE,,/MILLE,NMOL/KG,,NMOL/KG,PMOL/KG,,UMOL/KG,,UMOL/KG,,,,TU,NMOL/KG,PERCNT,DEG C,ITS-90,,/MILLE,,/MILLE,/MILLE,,/MILLE,G/KG,,KG/M^3,,,
33AT20120324,        A22,      78,          1,         25,         25,2,20120414,       0117,    13.0691,   -69.8933,       1470,     3.2,  27.0941,  36.2943,2,  36.2957,2,    202.0,2,   200.8,2,    0.62,2,    0.00,2,    0.00,2,    0.01,2,   1.643,2,   0.916,2,   0.125,2,    1.14,2,  2046.1,6, 2376.22,2,   8.0738,2,       25,    -999,9,     -999,9,    -999,9,  27.0932,2,    -999,9,    -999,9,    -999,    -999,9,    -999,    -999,1,    -999,9,    -999,9,  13.0685, -69.8935,    -999,     -999,    -999,  27.0934,  27.0932,2,-999,9,-999,-999,9,-999,    36.4668,2,-999,9,20120414,        213
33AT20120324,        A22,      78,          1,         24,         24,2,20120414,       0117,    13.0691,   -69.8933,       1470,    35.4,  26.8132,  36.3777,2,  36.3943,2,    202.7,2,   203.4,2,    0.54,2,    0.00,2,    0.00,2,    0.01,2,   1.666,2,   0.726,2,   0.127,2,    1.25,2,    -999,9,    -999,9,     -999,9,     -999,    -999,9,     -999,9,    -999,9,  26.8118,2,    -999,9,    -999,9,    -999,    -999,9,    -999,    -999,1,    -999,9,    -999,9,  13.0686, -69.8935,    -999,     -999,    -999,  26.8051,  26.8118,2,-999,9,-999,-999,9,-999,    36.5659,2,-999,9,20120414,        210
33AT20120324,        A22,      78,          1,         23,         23,2,20120414,       0117,    13.0691,   -69.8933,       1470,    60.3,  26.1589,  36.5767,2,  36.5621,2,    204.8,2,   204.2,2,    0.54,2,    0.00,2,    0.00,2,    0.01,2,   1.714,2,   1.039,2,   0.129,2,    1.15,2,  2077.3,2, 2391.77,2,   8.0439,2,       25,    -999,9,     -999,9,    -999,9,  26.1659,2,    -999,9,    -999,9,    -999,    -999,9,    -999,    -999,1,    -999,9,    -999,9,  13.0686, -69.8935,    -999,     -999,    -999,  26.1453,  26.1659,2,-999,9,-999,-999,9,-999,    36.7345,2,-999,9,20120414,        208
33AT20120324,        A22,      78,          1,         22,         22,2,20120414,       0117,    13.0691,   -69.8933,       1470,    86.4,  23.2466,  36.7307,2,  36.9102,2,    151.3,2,   157.5,2,    1.58,2,    3.49,2,    0.08,2,    0.19,2,   1.889,2,   0.982,2,   0.092,2,    1.15,2,    -999,9,    -999,9,     -999,9,     -999,    -999,9,     -999,9,    -999,9,  23.2466,2,    -999,9,    -999,9,    -999,    -999,9,    -999,    -999,1,    -999,9,    -999,9,  13.0687, -69.8934,    -999,     -999,    -999,  23.2287,  23.2466,2,-999,9,-999,-999,9,-999,    37.0842,2,-999,9,20120414,        206
33AT20120324,        A22,      78,          1,         21,         21,2,20120414,       0117,    13.0691,   -69.8933,       1470,   111.0,  21.6009,  36.8903,2,  36.8673,2,    151.9,2,   147.6,2,    1.96,2,    5.72,2,    0.05,2,    0.31,2,   1.998,2,   1.227,2,   0.056,2,    1.07,2,  2151.3,2, 2405.97,2,   7.9401,6,       25,    -999,9,     -999,9,    -999,9,  21.6041,2,    -999,9,    -999,9,    -999,    -999,9,    -999,    -999,1,    -999,9,    -999,9,  13.0688, -69.8934,    -999,     -999,    -999,  21.5790,  21.6041,2,-999,9,-999,-999,9,-999,    37.0412,2,-999,9,20120414,        204
33AT20120324,        A22,      78,          1,         20,         20,2,20120414,       0117,    13.0691,   -69.8933,       1470,   136.0,  19.7223,  36.6587,2,  36.6584,2,    132.6,2,   136.0,2,    2.88,2,    8.93,2,    0.03,2,    0.49,2,   2.093,2,   1.203,2,   0.025,2,    1.04,2,    -999,9,    -999,9,     -999,9,     -999,    -999,9,     -999,9,    -999,9,  19.7198,2,    -999,9,    -999,9,    -999,    -999,9,    -999,    -999,1,    -999,9,    -999,9,  13.0688, -69.8934,    -999,     -999,    -999,  19.6972,  19.7198,2,-999,9,-999,-999,9,-999,    36.8313,2,-999,9,20120414,        202
33AT20120324,        A22,      78,          1,         19,         19,2,20120414,       0117,    13.0691,   -69.8933,       1470,   161.0,  18.7953,  36.5559,2,  36.5367,2,    141.1,2,   144.1,2,    2.99,2,    9.40,2,    0.02,2,    0.52,2,   2.152,2,   1.257,2,   0.013,2,    1.01,2,  2162.7,2, 2383.92,2,   7.8852,2,       25,    -999,9,     -999,9,    -999,9,  18.7796,2,    -999,9,    -999,9,    -999,    -999,9,    -999,    -999,1,    -999,9,    -999,9,  13.0689, -69.8934,    -999,     -999,    -999,  18.7665,  18.7796,2,-999,9,-999,-999,9,-999,    36.7090,2,-999,9,20120414,        200
33AT20120324,        A22,      78,          1,         18,         18,2,20120414,       0117,    13.0691,   -69.8933,       1470,   184.6,  17.6294,  36.4112,2,  36.4111,2,    150.9,2,   150.8,2,    3.12,2,   10.04,2,    0.01,2,    0.57,2,   2.207,2,   1.174,2,   0.018,2,    0.97,2,    -999,9,    -999,9,     -999,9,     -999,    -999,9,     -999,9,    -999,9,  17.6370,2,    -999,9,    -999,9,    -999,    -999,9,    -999,    -999,1,    -999,9,    -999,9,  13.0689, -69.8934,    -999,     -999,    -999,  17.5979,  17.6370,2,-999,9,-999,-999,9,-999,    36.5828,2,-999,9,20120414,        158
33AT20120324,        A22,      78,          1,         17,         17,2,20120414,       0117,    13.0691,   -69.8933,       1470,   202.4,  16.9091,  36.2820,2,  36.2632,2,    148.0,2,   149.7,2,    3.74,2,   11.50,2,    0.01,2,    0.67,2,   2.220,2,   1.278,2,   0.018,2,    0.92,2,  2160.5,2, 2367.89,2,   7.8593,2,       25,    -999,9,     -999,9,    -999,9,  16.9084,2,    -999,9,    -999,9,    -999,    -999,9,    -999,    -999,1,    -999,9,    -999,9,  13.0689, -69.8934,    -999,     -999,    -999,  16.8755,  16.9084,2,-999,9,-999,-999,9,-999,    36.4342,2,-999,9,20120414,        157
33AT20120324,        A22,      78,          1,         16,         16,2,20120414,       0117,    13.0691,   -69.8933,       1470,   236.3,  15.1605,  35.9532,2,  35.9469,2,    137.9,2,   136.5,2,    5.60,2,   15.66,2,    0.01,2,    0.95,2,   2.153,2,   1.008,2,   0.017,2,    0.80,2,    -999,9,    -999,9,     -999,9,     -999,    -999,9,     -999,9,    -999,9,  15.1581,2,    -999,9,    -999,9,    -999,    -999,9,    -999,    -999,1,    -999,9,    -999,9,  13.0690, -69.8934,    -999,     -999,    -999,  15.1241,  15.1581,2,-999,9,-999,-999,9,-999,    36.1164,2,-999,9,20120414,        155
33AT20120324,        A22,      78,          1,         15,         15,2,20120414,       0117,    13.0691,   -69.8933,       1470,   266.1,  13.8720,  35.7189,2,  35.7027,2,    132.9,2,   131.6,2,    7.22,2,   18.37,2,    0.01,2,    1.14,2,   2.081,2,   0.962,2,   0.015,2,    0.68,2,  2180.6,2, 2339.07,2,   7.7568,2,       25,    -999,9,     -999,9,    -999,9,  13.8854,2,    -999,9,    -999,9,    -999,    -999,9,    -999,    -999,1,    -999,9,    -999,9,  13.0690, -69.8934,    -999,     -999,    -999,  13.8334,  13.8854,2,-999,9,-999,-999,9,-999,    35.8711,2,-999,9,20120414,        154
33AT20120324,        A22,      78,          1,         14,         14,2,20120414,       0117,    13.0691,   -69.8933,       1470,   317.4,  12.1801,  35.4227,2,  35.4160,2,    125.1,2,   126.2,2,    9.52,2,   21.85,2,    0.01,2,    1.39,2,   1.921,2,   1.040,2,   0.025,2,    0.53,2,    -999,9,    -999,9,     -999,9,     -999,    -999,9,     -999,9,    -999,9,  12.1796,2,    -999,9,    -999,9,    -999,    -999,9,    -999,    -999,1,    -999,9,    -999,9,  13.0690, -69.8934,    -999,     -999,    -999,  12.1379,  12.1796,2,-999,9,-999,-999,9,-999,    35.5830,2,-999,9,20120414,        152
33AT20120324,        A22,      78,          1,         13,         13,2,20120414,       0117,    13.0691,   -69.8933,       1470,   367.3,  10.4808,  35.1553,2,  35.1549,2,    121.4,2,   121.5,2,   12.40,2,   25.51,2,    0.01,2,    1.62,2,   1.651,2,   0.883,2,   0.023,2,    0.39,2,  2200.0,2, 2313.41,2,   7.6521,2,       25,    -999,9,     -999,9,    -999,9,  10.4807,2,    -999,9,    -999,9,    -999,    -999,9,    -999,    -999,1,    -999,9,    -999,9,  13.0691, -69.8934,    -999,     -999,    -999,  10.4364,  10.4807,2,-999,9,-999,-999,9,-999,    35.3207,2,-999,9,20120414,        150
33AT20120324,        A22,      78,          1,         12,         12,2,20120414,       0117,    13.0691,   -69.8933,       1470,   417.4,   9.2962,  34.9823,2,  34.9848,2,    118.8,2,   119.6,2,   15.00,2,   28.01,2,    0.00,2,    1.80,2,   1.396,2,   0.635,2,   0.022,2,    0.31,2,    -999,9,    -999,9,     -999,9,     -999,    -999,9,     -999,9,    -999,9,   9.2963,2,    -999,9,    -999,9,    -999,    -999,9,    -999,    -999,1,    -999,9,    -999,9,  13.0691, -69.8934,    -999,     -999,    -999,   9.2494,   9.2963,2,-999,9,-999,-999,9,-999,    35.1498,2,-999,9,20120414,        148
33AT20120324,        A22,      78,          1,         11,         11,2,20120414,       0117,    13.0691,   -69.8933,       1470,   467.4,   8.5230,  34.8909,2,  34.8908,2,    119.5,2,   120.0,2,   16.85,2,   29.50,2,    0.00,2,    1.90,2,   1.193,2,   0.593,2,   0.023,2,    0.28,2,  2211.0,2, 2304.57,2,   7.5966,2,       25,    -999,9,     -999,9,    -999,9,   8.5228,2,    -999,9,    -999,9,    -999,    -999,9,    -999,    -999,1,    -999,9,    -999,9,  13.0691, -69.8934,    -999,     -999,    -999,   8.4731,   8.5228,2,-999,9,-999,-999,9,-999,    35.0553,2,-999,9,20120414,        146
33AT20120324,        A22,      78,          1,         10,         10,2,20120414,       0117,    13.0691,   -69.8933,       1470,   537.7,   7.8328,  34.8279,2,  34.8252,2,    120.2,2,   120.3,2,   19.08,2,   30.81,2,    0.00,2,    2.00,2,   0.915,2,   0.443,2,   0.018,2,    0.19,2,    -999,9,    -999,9,     -999,9,     -999,    -999,9,     -999,9,    -999,9,   7.8234,2,    -999,9,    -999,9,    -999,    -999,9,    -999,    -999,1,    -999,9,    -999,9,  13.0691, -69.8934,    -999,     -999,    -999,   7.7780,   7.8234,2,-999,9,-999,-999,9,-999,    34.9895,2,-999,9,20120414,        143
33AT20120324,        A22,      78,          1,          9,          9,2,20120414,       0117,    13.0691,   -69.8933,       1470,   638.8,   6.7615,  34.7276,2,  34.7303,2,    126.3,2,   125.8,2,   22.31,2,   32.30,2,    0.00,2,    2.13,2,   0.619,2,   0.252,2,   0.012,2,    0.15,2,  2217.6,2, 2302.69,6,   7.5671,2,       25,    -999,9,     -999,9,    -999,9,   6.7609,2,    -999,9,    -999,9,    -999,    -999,9,    -999,    -999,1,    -999,9,    -999,9,  13.0691, -69.8934,    -999,     -999,    -999,   6.7012,   6.7609,2,-999,9,-999,-999,9,-999,    34.8940,2,-999,9,20120414,        141
33AT20120324,        A22,      78,          1,          8,          8,2,20120414,       0117,    13.0691,   -69.8933,       1470,   739.4,   6.1895,  34.7230,2,  34.7234,2,    132.8,2,   132.2,2,   24.33,2,   32.30,2,    0.00,2,    2.14,2,   0.395,2,   0.167,2,   0.007,2,    0.09,2,    -999,9,    -999,9,     -999,9,     -999,    -999,9,     -999,9,    -999,9,   6.1922,2,    -999,9,    -999,9,    -999,    -999,9,    -999,    -999,1,    -999,9,    -999,9,  13.0691, -69.8934,    -999,     -999,    -999,   6.1223,   6.1922,2,-999,9,-999,-999,9,-999,    34.8871,2,-999,9,20120414,        138
33AT20120324,        A22,      78,          1,          7,          7,2,20120414,       0117,    13.0691,   -69.8933,       1470,   841.2,   5.8014,  34.8037,2,  34.8071,2,    146.8,2,   147.3,2,   24.68,2,   30.13,2,    0.00,2,    2.01,2,   0.250,2,   0.120,2,   0.004,2,    0.08,2,  2213.4,2, 2310.58,2,   7.5991,2,       25,    -999,9,     -999,9,    -999,9,   5.8011,2,    -999,9,    -999,9,    -999,    -999,9,    -999,    -999,1,    -999,9,    -999,9,  13.0690, -69.8934,    -999,     -999,    -999,   5.7267,   5.8011,2,-999,9,-999,-999,9,-999,    34.9713,2,-999,9,20120414,        135
33AT20120324,        A22,      78,          1,          6,          6,2,20120414,       0117,    13.0691,   -69.8933,       1470,   941.4,   5.3621,  34.8920,2,  34.8925,2,    167.6,2,   168.1,2,   24.71,2,   27.23,2,    0.00,2,    1.83,2,   0.168,2,   0.071,2,   0.004,2,    0.06,2,    -999,9,    -999,9,     -999,9,     -999,    -999,9,     -999,9,    -999,9,   5.3617,2,    -999,9,    -999,9,    -999,    -999,9,    -999,    -999,1,    -999,9,    -999,9,  13.0690, -69.8934,    -999,     -999,    -999,   5.2809,   5.3617,2,-999,9,-999,-999,9,-999,    35.0570,2,-999,9,20120414,        132
33AT20120324,        A22,      78,          1,          5,          5,2,20120414,       0117,    13.0691,   -69.8933,       1470,  1041.8,   4.9075,  34.9374,2,  34.9377,2,    186.2,2,   186.7,2,   24.83,2,   25.01,2,    0.00,2,    1.70,2,   0.121,2,   0.061,2,   0.002,2,    0.05,2,  2201.4,2, 2322.62,2,   7.6660,6,       25,    -999,9,     -999,9,    -999,9,   4.9080,2,    -999,9,    -999,9,    -999,    -999,9,    -999,    -999,1,    -999,9,    -999,9,  13.0690, -69.8934,    -999,     -999,    -999,   4.8204,   4.9080,2,-999,9,-999,-999,9,-999,    35.1024,2,-999,9,20120414,        129
33AT20120324,        A22,      78,          1,          4,          4,2,20120414,       0117,    13.0691,   -69.8933,       1470,  1143.3,   4.6657,  34.9536,2,  34.9544,2,    196.1,2,   196.3,2,   24.51,2,   24.00,2,    0.00,2,    1.63,2,   0.124,2,   0.056,2,   0.003,2,    0.03,2,    -999,9,    -999,9,     -999,9,     -999,    -999,9,     -999,9,    -999,9,   4.6649,2,    -999,9,    -999,9,    -999,    -999,9,    -999,    -999,1,    -999,9,    -999,9,  13.0690, -69.8934,    -999,     -999,    -999,   4.5713,   4.6649,2,-999,9,-999,-999,9,-999,    35.1192,2,-999,9,20120414,        126
33AT20120324,        A22,      78,          1,          3,          3,2,20120414,       0117,    13.0691,   -69.8933,       1470,  1243.5,   4.5160,  34.9614,2,  34.9624,2,    202.4,2,   202.1,2,   24.69,2,   23.37,2,    0.00,2,    1.58,2,   0.124,2,   0.062,2,   0.004,2,    0.06,2,    -999,9,    -999,9,     -999,9,     -999,    -999,9,     -999,9,    -999,9,   4.5159,2,    -999,9,    -999,9,    -999,    -999,9,    -999,    -999,1,    -999,9,    -999,9,  13.0690, -69.8934,    -999,     -999,    -999,   4.4138,   4.5159,2,-999,9,-999,-999,9,-999,    35.1273,2,-999,9,20120414,        124
33AT20120324,        A22,      78,          1,          2,          2,2,20120414,       0117,    13.0691,   -69.8933,       1470,  1361.8,   4.3566,  34.9682,2,  34.9695,2,    208.3,2,   208.4,2,   25.09,2,   22.74,2,    0.00,2,    1.54,2,   0.116,2,   0.058,2,   0.002,2,    0.06,2,    -999,9,    -999,9,     -999,9,     -999,    -999,9,     -999,9,    -999,9,   4.3564,2,    -999,9,    -999,9,    -999,    -999,9,    -999,    -999,1,    -999,9,    -999,9,  13.0691, -69.8933,    -999,     -999,    -999,   4.2452,   4.3564,2,-999,9,-999,-999,9,-999,    35.1344,2,-999,9,20120414,        121
33AT20120324,        A22,      78,          1,          1,          1,2,20120414,       0117,    13.0691,   -69.8933,       1470,  1469.2,   4.2770,  34.9697,2,  34.9717,2,    209.3,2,   209.3,2,   25.96,2,   22.61,2,    0.00,2,    1.54,2,   0.128,2,   0.057,2,   0.003,2,    0.12,2,  2196.3,2, 2329.84,2,   7.6979,2,       25,    -999,9,     -999,9,    -999,9,   4.2775,2,    -999,9,    -999,9,    -999,    -999,9,    -999,    -999,1,    -999,9,    -999,9,  13.0691, -69.8934,    -999,     -999,    -999,   4.1565,   4.2775,2,-999,9,-999,-999,9,-999,    35.1366,2,-999,9,20120414,        118