BOTTLE,20220725CCHSIOCBG
EXPOCODE,SECT_ID,STNNBR,CASTNO,SAMPNO,BTLNBR,BTLNBR_FLAG_W,DATE,TIME,LATITUDE,LONGITUDE,DEPTH,CTDPRS,CTDTMP,CTDSAL,CTDSAL_FLAG_W,SALNTY,SALNTY_FLAG_W,CTDOXY,CTDOXY_FLAG_W,OXYGEN,OXYGEN_FLAG_W,SILCAT,SILCAT_FLAG_W,NITRAT,NITRAT_FLAG_W,NITRIT,NITRIT_FLAG_W,PHSPHT,PHSPHT_FLAG_W,CFC-11,CFC-11_FLAG_W,CFC-12,CFC-12_FLAG_W,CFC113,CFC113_FLAG_W,SF6,SF6_FLAG_W,TCARBN,TCARBN_FLAG_W,ALKALI,ALKALI_FLAG_W,PH_TOT,PH_TOT_FLAG_W,PH_TMP,TRITUM,TRITUM_FLAG_W,HELIUM,HELIUM_FLAG_W,DELHE3,DELHE3_FLAG_W,REFTMP,REFTMP_FLAG_W,DELC13,DELC13_FLAG_W,DELC14,DELC14_FLAG_W,C14ERR,NEON,NEON_FLAG_W,NEONER,CCL4,CCL4_FLAG_W,DOC,DOC_FLAG_W,TDN,TDN_FLAG_W,BTL_LAT,BTL_LON,TRITER,HELIER,DELHER,THETA,SBE35,SBE35_FLAG_W,14C-DOC,14C-DOC_FLAG_W,14C-DOCERR,13C-DOC,13C-DOC_FLAG_W,13C-DOCERR,SALTREF,SALTREF_FLAG_W,LAB_DEN,LAB_DEN_FLAG_W,BTL_DATE,BTL_TIME
,,,,,,,,,,,METERS,DBAR,ITS-90,PSS-78,,PSS-78,,UMOL/KG,,UMOL/KG,,UMOL/KG,,UMOL/KG,,UMOL/KG,,UMOL/KG,,PMOL/KG,,PMOL/KG,,PMOL/KG,,FMOL/KG,,UMOL/KG,,UMOL/KG,,,,DEG C,TU,,NMOL/KG,,PERCNT,,DEG C,,/MILLE,,/MILLE,,/MILLE,NMOL/KG,,NMOL/KG,PMOL/KG,,UMOL/KG,,UMOL/KG,,,,TU,NMOL/KG,PERCNT,DEG C,ITS-90,,/MILLE,,/MILLE,/MILLE,,/MILLE,G/KG,,KG/M^3,,,
33AT20120324,        A22,      36,          1,          5,          5,2,20120404,       1250,    25.7187,   -65.6621,       5156,  4061.7,   2.3397,  34.8978,2,  34.8983,2,    265.3,2,   264.8,2,   30.35,2,   18.69,2,    0.00,2,    1.29,2,   0.488,2,   0.221,2,   0.026,2,    0.08,2,  2172.8,2, 2327.18,2,   7.7355,2,       25,    -999,9,     -999,9,    -999,9,   2.3390,2,    -999,9,    -999,9,    -999,    -999,9,    -999,    -999,1,    -999,9,    -999,9,  25.7187, -65.6620,    -999,     -999,    -999,   1.9888,   2.3390,2,-999,9,-999,-999,9,-999,    35.0629,2,-999,9,20120404,       1314
33AT20120324,        A22,      36,          1,          4,          4,2,20120404,       1250,    25.7187,   -65.6621,       5156,  4362.6,   2.2766,  34.8895,2,  34.8908,2,    262.9,2,   262.7,2,   33.84,2,   19.12,2,    0.00,2,    1.32,2,   0.444,2,   0.205,2,   0.024,2,    0.09,2,    -999,9,    -999,9,     -999,9,     -999,    -999,9,     -999,9,    -999,9,   2.2767,2,    -999,9,    -999,9,    -999,    -999,9,    -999,    -999,1,    -999,9,    -999,9,  25.7187, -65.6619,    -999,     -999,    -999,   1.8925,   2.2767,2,-999,9,-999,-999,9,-999,    35.0553,2,-999,9,20120404,       1308
33AT20120324,        A22,      36,          1,          3,          3,2,20120404,       1250,    25.7187,   -65.6621,       5156,  4678.4,   2.2022,  34.8772,2,  34.8776,2,    258.5,2,   258.9,2,   39.46,2,   20.06,2,    0.00,2,    1.39,2,   0.374,2,   0.170,2,   0.019,2,    0.08,2,  2182.9,2, 2335.91,2,   7.7414,2,       25,    -999,9,     -999,9,    -999,9,   2.2024,2,    -999,9,    -999,9,    -999,    -999,9,    -999,    -999,1,    -999,9,    -999,9,  25.7187, -65.6620,    -999,     -999,    -999,   1.7826,   2.2024,2,-999,9,-999,-999,9,-999,    35.0421,2,-999,9,20120404,       1302
33AT20120324,        A22,      36,          1,          2,          2,2,20120404,       1250,    25.7187,   -65.6621,       5156,  4958.5,   2.1578,  34.8675,2,  34.8682,2,    255.2,2,   255.5,2,   44.69,2,   20.91,2,    0.00,2,    1.44,2,   0.285,2,   0.133,2,   0.016,2,    0.07,2,  2190.0,2, 2339.17,2,   7.7295,6,       25,    -999,9,     -999,9,    -999,9,   2.1574,2,    -999,9,    -999,9,    -999,    -999,9,    -999,    -999,1,    -999,9,    -999,9,  25.7187, -65.6621,    -999,     -999,    -999,   1.7052,   2.1574,2,-999,9,-999,-999,9,-999,    35.0326,2,-999,9,20120404,       1256
33AT20120324,        A22,      36,          1,          1,          1,2,20120404,       1250,    25.7187,   -65.6621,       5156,  5239.4,   2.1330,  34.8595,2,  34.8607,2,    252.8,2,   253.0,2,   48.33,2,   21.48,2,    0.00,2,    1.48,2,   0.247,2,   0.105,2,   0.014,2,    0.07,2,  2195.1,6, 2342.68,2,   7.7266,2,       25,    -999,9,     -999,9,    -999,9,   2.1331,2,    -999,9,    -999,9,    -999,    -999,9,    -999,    -999,1,    -999,9,    -999,9,  25.7187, -65.6621,    -999,     -999,    -999,   1.6457,   2.1331,2,-999,9,-999,-999,9,-999,    35.0251,2,-999,9,20120404,       1250