BOTTLE,20220725CCHSIOCBG
EXPOCODE,SECT_ID,STNNBR,CASTNO,SAMPNO,BTLNBR,BTLNBR_FLAG_W,DATE,TIME,LATITUDE,LONGITUDE,DEPTH,CTDPRS,CTDTMP,CTDSAL,CTDSAL_FLAG_W,SALNTY,SALNTY_FLAG_W,CTDOXY,CTDOXY_FLAG_W,OXYGEN,OXYGEN_FLAG_W,SILCAT,SILCAT_FLAG_W,NITRAT,NITRAT_FLAG_W,NITRIT,NITRIT_FLAG_W,PHSPHT,PHSPHT_FLAG_W,CFC-11,CFC-11_FLAG_W,CFC-12,CFC-12_FLAG_W,CFC113,CFC113_FLAG_W,SF6,SF6_FLAG_W,TCARBN,TCARBN_FLAG_W,ALKALI,ALKALI_FLAG_W,PH_TOT,PH_TOT_FLAG_W,PH_TMP,TRITUM,TRITUM_FLAG_W,HELIUM,HELIUM_FLAG_W,DELHE3,DELHE3_FLAG_W,REFTMP,REFTMP_FLAG_W,DELC13,DELC13_FLAG_W,DELC14,DELC14_FLAG_W,C14ERR,NEON,NEON_FLAG_W,NEONER,CCL4,CCL4_FLAG_W,DOC,DOC_FLAG_W,TDN,TDN_FLAG_W,BTL_LAT,BTL_LON,TRITER,HELIER,DELHER,THETA,SBE35,SBE35_FLAG_W,14C-DOC,14C-DOC_FLAG_W,14C-DOCERR,13C-DOC,13C-DOC_FLAG_W,13C-DOCERR,SALTREF,SALTREF_FLAG_W,LAB_DEN,LAB_DEN_FLAG_W,BTL_DATE,BTL_TIME
,,,,,,,,,,,METERS,DBAR,ITS-90,PSS-78,,PSS-78,,UMOL/KG,,UMOL/KG,,UMOL/KG,,UMOL/KG,,UMOL/KG,,UMOL/KG,,PMOL/KG,,PMOL/KG,,PMOL/KG,,FMOL/KG,,UMOL/KG,,UMOL/KG,,,,DEG C,TU,,NMOL/KG,,PERCNT,,DEG C,,/MILLE,,/MILLE,,/MILLE,NMOL/KG,,NMOL/KG,PMOL/KG,,UMOL/KG,,UMOL/KG,,,,TU,NMOL/KG,PERCNT,DEG C,ITS-90,,/MILLE,,/MILLE,/MILLE,,/MILLE,G/KG,,KG/M^3,,,
33AT20120324,        A22,      27,          1,         36,         36,2,20120401,       1348,    31.9063,   -65.0422,       3878,     5.2,  20.1725,  36.6327,2,  36.6328,2,    222.4,2,   224.2,2,    0.43,2,    0.00,2,    0.00,2,    0.00,2,   2.040,2,   1.328,2,   0.160,2,    1.61,4,  2077.5,6, 2396.73,2,   8.0496,2,       25,    -999,9,     -999,9,    -999,9,  20.1738,2,    -999,9,    -999,9,    -999,    -999,9,    -999,    1.76,2,   65.36,2,    3.53,2,  31.9041, -65.0368,    -999,     -999,    -999,  20.1715,  20.1738,2,-999,9,-999,-999,9,-999,    36.8055,2,-999,9,20120401,       1533
33AT20120324,        A22,      27,          1,         35,         35,2,20120401,       1348,    31.9063,   -65.0422,       3878,    36.7,  20.1374,  36.6298,2,  36.6306,2,    224.7,2,   224.2,2,    0.39,2,    0.00,2,    0.00,2,    0.00,2,   2.047,2,   1.339,2,   0.159,2,    1.36,4,  2078.5,2, 2396.85,6,   8.0486,6,       25,    -999,9,     -999,9,    -999,9,  20.1472,2,    0.86,2,    60.1,2,     2.8,    -999,9,    -999,    1.78,2,   65.21,2,    4.22,2,  31.9040, -65.0367,    -999,     -999,    -999,  20.1305,  20.1472,2,-256,2,4,-20.7,2,0.2,    36.8033,2,-999,9,20120401,       1530
33AT20120324,        A22,      27,          1,         34,         34,2,20120401,       1348,    31.9063,   -65.0422,       3878,    61.8,  19.8342,  36.5956,2,  36.5961,2,    226.7,2,   221.9,2,    0.46,2,    0.19,2,    0.14,2,    0.04,2,   2.067,2,   1.342,2,   0.160,2,    1.69,4,  2081.7,2, 2395.14,2,   8.0407,2,       25,    -999,9,     -999,9,    -999,9,  19.8341,2,    -999,9,    -999,9,    -999,    -999,9,    -999,    1.65,2,   62.99,2,    4.36,2,  31.9040, -65.0366,    -999,     -999,    -999,  19.8228,  19.8341,2,-999,9,-999,-999,9,-999,    36.7686,2,-999,9,20120401,       1528
33AT20120324,        A22,      27,          1,         33,         33,2,20120401,       1348,    31.9063,   -65.0422,       3878,    86.8,  19.7237,  36.5968,2,  36.5961,2,    227.9,2,   225.9,2,    0.56,2,    0.00,2,    0.00,2,    0.02,2,   2.062,2,   1.364,2,   0.173,2,    1.03,4,    -999,9,    -999,9,     -999,9,     -999,    -999,9,     -999,9,    -999,9,  19.7225,2,    -999,9,    -999,9,    -999,    -999,9,    -999,    1.71,2,   63.31,2,    4.58,2,  31.9040, -65.0366,    -999,     -999,    -999,  19.7077,  19.7225,2,-999,9,-999,-999,9,-999,    36.7686,2,-999,9,20120401,       1526
33AT20120324,        A22,      27,          1,         32,         32,2,20120401,       1348,    31.9063,   -65.0422,       3878,   111.4,  19.6957,  36.5934,2,  36.5927,2,    226.2,2,   225.5,2,    0.55,2,    0.02,2,    0.03,2,    0.01,2,   2.005,2,   1.380,2,   0.156,2,    1.58,4,  2078.5,2, 2394.56,2,   8.0447,2,       25,    -999,9,     -999,9,    -999,9,  19.6959,2,    0.86,2,    65.3,2,     2.6,    -999,9,    -999,    1.64,2,   60.47,2,    4.67,2,  31.9041, -65.0366,    -999,     -999,    -999,  19.6752,  19.6959,2,-258,2,4,-19.6,2,0.2,    36.7652,2,-999,9,20120401,       1524
33AT20120324,        A22,      27,          1,         31,         31,2,20120401,       1348,    31.9063,   -65.0422,       3878,   136.6,  19.6563,  36.5899,2,  36.5895,2,    222.8,2,   224.0,2,    0.46,2,    0.12,2,    0.09,2,    0.01,2,   2.031,2,   1.392,2,   0.156,2,    1.36,4,  2078.9,2, 2396.45,2,   8.0432,2,       25,    -999,9,     -999,9,    -999,9,  19.6558,2,    -999,9,    -999,9,    -999,    -999,9,    -999,    1.70,2,   58.40,2,    4.66,2,  31.9040, -65.0366,    -999,     -999,    -999,  19.6311,  19.6558,2,-999,9,-999,-999,9,-999,    36.7621,2,-999,9,20120401,       1522
33AT20120324,        A22,      27,          1,         30,         30,2,20120401,       1348,    31.9063,   -65.0422,       3878,   166.8,  19.5400,  36.5817,2,  36.5812,2,    221.2,2,   221.5,2,    0.37,2,    0.40,2,    0.15,2,    0.02,2,   2.001,2,   1.423,2,   0.148,2,    1.45,4,    -999,9,    -999,9,     -999,9,     -999,    -999,9,     -999,9,    -999,9,  19.5437,2,    -999,9,    -999,9,    -999,    -999,9,    -999,    1.52,2,   57.14,2,    5.48,2,  31.9041, -65.0367,    -999,     -999,    -999,  19.5094,  19.5437,2,-999,9,-999,-999,9,-999,    36.7537,2,-999,9,20120401,       1520
33AT20120324,        A22,      27,          1,         29,         29,2,20120401,       1348,    31.9063,   -65.0422,       3878,   218.2,  18.7812,  36.6122,2,  36.6111,2,    195.6,2,   196.0,2,    0.97,2,    3.26,2,    0.02,2,    0.15,2,   2.116,2,   1.393,2,   0.055,2,    0.71,4,  2110.4,2, 2394.01,2,   7.9855,2,       25,    -999,9,     -999,9,    -999,9,  18.7748,2,    0.64,2,    72.7,2,     2.9,    -999,9,    -999,    0.48,2,   56.41,2,    6.69,2,  31.9041, -65.0367,    -999,     -999,    -999,  18.7422,  18.7748,2,-318,2,4,-21.5,2,0.2,    36.7837,2,-999,9,20120401,       1518
33AT20120324,        A22,      27,          1,         28,         28,2,20120401,       1348,    31.9063,   -65.0422,       3878,   268.3,  18.2113,  36.5839,2,  36.5842,2,    197.7,2,   200.0,2,    1.24,2,    3.98,2,    0.01,2,    0.19,2,   2.172,2,   1.394,2,   0.038,2,    1.11,4,  2112.5,2, 2390.89,2,   7.9801,2,       25,    -999,9,     -999,9,    -999,9,  18.2116,2,    0.66,2,    68.9,2,     2.8,    -999,9,    -999,    0.41,2,   54.26,2,    7.23,2,  31.9041, -65.0367,    -999,     -999,    -999,  18.1643,  18.2116,2,-999,9,-999,-999,9,-999,    36.7567,2,-999,9,20120401,       1516
33AT20120324,        A22,      27,          1,         27,         27,2,20120401,       1348,    31.9063,   -65.0422,       3878,   317.2,  18.0137,  36.5594,2,  36.5590,2,    201.2,2,   200.9,2,    1.31,2,    4.28,2,    0.00,2,    0.20,2,   2.228,2,   1.411,2,   0.040,2,    0.89,4,    -999,9,    -999,9,     -999,9,     -999,    -999,9,     -999,9,    -999,9,  18.0102,2,    -999,9,    -999,9,    -999,    -999,9,    -999,    0.46,2,   52.27,2,    7.43,2,  31.9041, -65.0367,    -999,     -999,    -999,  17.9585,  18.0102,2,-999,9,-999,-999,9,-999,    36.7314,2,-999,9,20120401,       1514
33AT20120324,        A22,      27,          1,         26,         26,2,20120401,       1348,    31.9063,   -65.0422,       3878,   367.7,  17.7360,  36.5162,2,  36.5158,2,    201.5,2,   201.1,2,    1.51,2,    4.80,2,    0.00,2,    0.24,2,   2.165,2,   1.406,2,   0.042,2,    0.47,4,  2115.4,2, 2388.52,2,   7.7370,4,       25,    -999,9,     -999,9,    -999,9,  17.7373,2,    -999,9,    -999,9,    -999,    -999,9,    -999,    0.44,2,   51.38,2,    7.64,2,  31.9041, -65.0367,    -999,     -999,    -999,  17.6726,  17.7373,2,-999,9,-999,-999,9,-999,    36.6879,2,-999,9,20120401,       1512
33AT20120324,        A22,      27,          1,         25,         25,2,20120401,       1348,    31.9063,   -65.0422,       3878,   418.6,  17.5615,  36.4902,2,  36.4896,2,     -999,9,    -999,5,    1.49,2,    4.97,2,    0.00,2,    0.25,2,   2.203,2,   1.389,2,   0.048,2,    0.71,4,  2117.3,2, 2385.73,2,   7.9659,2,       25,    -999,9,     -999,9,    -999,9,  17.5631,2,    0.63,2,    71.2,2,     2.9,    -999,9,    -999,    0.50,2,   50.52,2,    7.82,2,  31.9041, -65.0367,    -999,     -999,    -999,  17.4897,  17.5631,2,-340,2,4,-21.0,2,0.2,    36.6617,2,-999,9,20120401,       1510
33AT20120324,        A22,      27,          1,         24,         24,2,20120401,       1348,    31.9063,   -65.0422,       3878,   468.3,  17.0476,  36.3852,2,  36.3852,2,    195.4,2,   194.0,2,    2.05,2,    6.57,2,    0.00,2,    0.35,2,   2.175,2,   1.378,2,   0.041,2,    0.76,4,    -999,9,    -999,9,     -999,9,     -999,    -999,9,     -999,9,    -999,9,  17.0586,2,    -999,9,    -999,9,    -999,    -999,9,    -999,    0.43,2,   49.63,2,    9.63,2,  31.9040, -65.0367,    -999,     -999,    -999,  16.9689,  17.0586,2,-999,9,-999,-999,9,-999,    36.5568,2,-999,9,20120401,       1508
33AT20120324,        A22,      27,          1,         23,         23,2,20120401,       1348,    31.9063,   -65.0422,       3878,   538.5,  15.9028,  36.1642,2,  36.1601,2,    182.9,2,   182.4,2,    3.23,2,    9.49,2,    0.00,2,    0.55,2,   2.189,2,   1.368,2,   0.034,2,    0.89,4,  2135.8,2, 2367.66,2,   7.8983,2,       25,    -999,9,     -999,9,    -999,9,  15.9068,2,    -999,9,    -999,9,    -999,    -999,9,    -999,    0.42,2,   48.41,2,   13.22,2,  31.9041, -65.0368,    -999,     -999,    -999,  15.8164,  15.9068,2,-999,9,-999,-999,9,-999,    36.3306,2,-999,9,20120401,       1506
33AT20120324,        A22,      27,          1,         22,         22,2,20120401,       1348,    31.9063,   -65.0422,       3878,   638.7,  13.4634,  35.7559,2,  35.7604,2,    170.7,2,   168.2,2,    6.08,2,   14.75,2,    0.00,2,    0.91,2,   1.969,2,   1.220,2,   0.036,2,    0.28,4,  2157.1,2, 2348.95,2,   7.8185,2,       25,    -999,9,     -999,9,    -999,9,  13.4818,2,    0.62,2,    38.6,2,     2.6,    -999,9,    -999,    0.38,2,   46.72,2,   17.96,2,  31.9042, -65.0370,    -999,     -999,    -999,  13.3714,  13.4818,2,-364,2,4,-22.2,2,0.2,    35.9291,2,-999,9,20120401,       1503
33AT20120324,        A22,      27,          1,         21,         21,2,20120401,       1348,    31.9063,   -65.0422,       3878,   740.5,  10.9408,  35.4032,2,  35.4049,2,    146.0,2,   145.0,2,   10.80,2,   21.26,2,    0.00,2,    1.33,2,   1.443,2,   0.863,2,   0.022,2,    0.27,4,  2182.3,2, 2330.33,2,   7.7243,2,       25,    -999,9,     -999,9,    -999,9,  10.9686,2,    0.62,2,     8.0,2,     3.0,    -999,9,    -999,    0.30,2,   45.38,2,   23.95,2,  31.9043, -65.0372,    -999,     -999,    -999,  10.8471,  10.9686,2,-999,9,-999,-999,9,-999,    35.5718,2,-999,9,20120401,       1500
33AT20120324,        A22,      27,          1,         20,         20,2,20120401,       1348,    31.9063,   -65.0422,       3878,   841.6,   8.5909,  35.1705,2,  35.1684,2,    156.2,2,   155.0,2,   13.76,2,   23.43,2,    0.00,2,    1.50,2,   1.226,2,   0.704,2,   0.026,2,    0.15,4,  2189.5,2, 2319.95,2,   7.6797,6,       25,    -999,9,     -999,9,    -999,9,   8.5844,2,    0.57,2,   -26.5,2,     2.6,    -999,9,    -999,    0.47,2,   44.54,2,   25.77,2,  31.9043, -65.0371,    -999,     -999,    -999,   8.4984,   8.5844,2,-407,2,4,-21.1,2,0.2,    35.3342,2,-999,9,20120401,       1457
33AT20120324,        A22,      27,          1,         19,         19,2,20120401,       1348,    31.9063,   -65.0422,       3878,   941.3,   6.8506,  35.1007,2,  35.1001,2,    190.9,2,   190.0,2,   13.29,2,   21.35,2,    0.00,2,    1.40,2,   1.518,2,   0.867,2,   0.054,2,    0.05,4,    -999,9,    -999,9,     -999,9,     -999,    -999,9,     -999,9,    -999,9,   6.8598,2,    -999,9,    -999,9,    -999,    -999,9,    -999,    0.81,2,   44.03,2,   23.82,2,  31.9043, -65.0371,    -999,     -999,    -999,   6.7586,   6.8598,2,-999,9,-999,-999,9,-999,    35.2656,2,-999,9,20120401,       1455
33AT20120324,        A22,      27,          1,         18,         18,2,20120401,       1348,    31.9063,   -65.0422,       3878,  1043.2,   5.9065,  35.0749,2,  35.0752,2,    215.0,2,   214.3,2,   12.53,2,   19.95,2,    0.00,2,    1.31,2,   1.771,2,   0.994,2,   0.081,2,    0.32,4,  2183.3,2, 2317.46,2,   7.7038,2,       25,    -999,9,     -999,9,    -999,9,   5.9079,2,    0.84,2,   -27.4,2,     2.7,    -999,9,    -999,    1.10,2,   43.79,2,   22.22,2,  31.9043, -65.0372,    -999,     -999,    -999,   5.8112,   5.9079,2,-403,2,4,-21.9,2,0.2,    35.2406,2,-999,9,20120401,       1452
33AT20120324,        A22,      27,          1,         17,         17,2,20120401,       1348,    31.9063,   -65.0422,       3878,  1143.8,   5.4339,  35.0621,2,  35.0622,2,    227.7,2,   227.5,2,   12.43,2,   19.10,2,    0.00,2,    1.26,2,   1.922,2,   1.111,2,   0.097,2,    0.20,4,  2175.5,2, 2315.54,2,   7.7105,2,       25,    -999,9,     -999,9,    -999,9,   5.4344,2,    -999,9,    -999,9,    -999,    -999,9,    -999,    1.30,2,   43.67,2,   22.62,2,  31.9044, -65.0373,    -999,     -999,    -999,   5.3327,   5.4344,2,-999,9,-999,-999,9,-999,    35.2276,2,-999,9,20120401,       1449
33AT20120324,        A22,      27,          1,         16,         16,2,20120401,       1348,    31.9063,   -65.0422,       3878,  1247.3,   4.9794,  35.0411,2,  35.0398,2,    240.5,2,   240.5,2,   12.04,2,   18.43,2,    0.00,2,    1.22,2,   2.137,2,   1.167,2,   0.113,2,    0.08,4,  2170.3,2, 2313.36,2,   7.7181,2,       25,    -999,9,     -999,9,    -999,9,   4.9824,2,    0.87,2,   -25.7,2,     2.8,    -999,9,    -999,    1.61,2,   43.51,2,   20.50,2,  31.9044, -65.0373,    -999,     -999,    -999,   4.8724,   4.9824,2,-382,2,4,-21.2,2,0.2,    35.2050,2,-999,9,20120401,       1447
33AT20120324,        A22,      27,          1,         15,         15,2,20120401,       1348,    31.9063,   -65.0422,       3878,  1347.3,   4.6981,  35.0262,2,  35.0260,2,    247.0,2,   246.6,2,   11.96,2,   18.17,2,    0.00,2,    1.20,2,   2.143,2,   1.169,2,   0.127,2,    0.23,4,    -999,9,    -999,9,     -999,9,     -999,    -999,9,     -999,9,    -999,9,   4.6985,2,    -999,9,    -999,9,    -999,    -999,9,    -999,    1.57,2,   43.55,2,   20.54,2,  31.9044, -65.0373,    -999,     -999,    -999,   4.5844,   4.6985,2,-999,9,-999,-999,9,-999,    35.1912,2,-999,9,20120401,       1444
33AT20120324,        A22,      27,          1,         14,         14,2,20120401,       1348,    31.9063,   -65.0422,       3878,  1446.5,   4.4569,  35.0093,2,  35.0087,2,    251.4,2,   251.3,2,   12.02,2,   17.98,2,    0.00,2,    1.19,2,   2.093,2,   1.141,2,   0.128,2,    0.50,4,  2166.9,2, 2309.83,2,   7.7257,2,       25,    -999,9,     -999,9,    -999,9,   4.4552,2,    -999,9,    -999,9,    -999,    -999,9,    -999,    1.63,2,   42.93,2,   20.32,2,  31.9044, -65.0373,    -999,     -999,    -999,   4.3365,   4.4552,2,-999,9,-999,-999,9,-999,    35.1738,2,-999,9,20120401,       1442
33AT20120324,        A22,      27,          1,         13,         13,2,20120401,       1348,    31.9063,   -65.0422,       3878,  1550.2,   4.1643,  34.9865,2,  34.9866,2,    257.2,2,   257.7,2,   12.05,2,   17.80,2,    0.00,2,    1.18,2,   2.089,2,   1.154,2,   0.128,2,    0.17,4,  2164.3,2, 2309.78,2,   7.7232,2,       25,    -999,9,     -999,9,    -999,9,   4.1655,2,    0.94,2,   -31.0,2,     2.7,    -999,9,    -999,    1.77,2,   43.52,2,   20.45,2,  31.9044, -65.0374,    -999,     -999,    -999,   4.0375,   4.1655,2,-383,2,4,-21.3,2,0.2,    35.1516,2,-999,9,20120401,       1439
33AT20120324,        A22,      27,          1,         12,         12,2,20120401,       1348,    31.9063,   -65.0422,       3878,  1651.3,   4.0647,  34.9831,2,  34.9813,2,    257.9,2,   257.7,2,   12.68,2,   17.82,2,    0.00,2,    1.18,2,   1.951,2,   1.009,2,   0.112,2,    0.11,4,  2163.8,2, 2311.90,2,   7.7240,2,       25,    -999,9,     -999,9,    -999,9,   4.0643,2,    -999,9,    -999,9,    -999,    -999,9,    -999,    1.71,2,   43.35,2,   21.03,2,  31.9044, -65.0374,    -999,     -999,    -999,   3.9297,   4.0643,2,-999,9,-999,-999,9,-999,    35.1463,2,-999,9,20120401,       1436
33AT20120324,        A22,      27,          1,         11,         11,2,20120401,       1348,    31.9063,   -65.0422,       3878,  1752.3,   4.0048,  34.9928,2,  34.9929,2,    256.0,2,   256.8,2,   13.64,2,   18.01,2,    0.00,2,    1.20,2,   1.545,2,   0.798,2,   0.087,2,    0.22,4,    -999,9,    -999,9,     -999,9,     -999,    -999,9,     -999,9,    -999,9,   4.0053,2,    -999,9,    -999,9,    -999,    -999,9,    -999,    1.39,2,   43.47,2,   20.52,2,  31.9045, -65.0375,    -999,     -999,    -999,   3.8610,   4.0053,2,-999,9,-999,-999,9,-999,    35.1579,2,-999,9,20120401,       1433
33AT20120324,        A22,      27,          1,         10,         10,2,20120401,       1348,    31.9063,   -65.0422,       3878,  1884.4,   3.7880,  34.9772,2,  34.9783,2,    258.5,2,   258.9,2,   14.42,2,   18.00,2,    0.00,2,    1.19,2,   1.404,2,   0.754,2,   0.073,2,    0.09,4,  2161.4,2, 2313.45,2,   7.7341,2,       25,    -999,9,     -999,9,    -999,9,   3.7900,2,    1.11,2,   -40.8,2,     2.6,    -999,9,    -999,    1.30,2,   43.29,2,   20.72,2,  31.9045, -65.0375,    -999,     -999,    -999,   3.6346,   3.7900,2,-414,2,4,-20.6,2,0.2,    35.1433,2,-999,9,20120401,       1430
33AT20120324,        A22,      27,          1,          9,          9,2,20120401,       1348,    31.9063,   -65.0422,       3878,  2088.5,   3.5713,  34.9740,2,  34.9725,2,    259.1,2,   259.3,2,   16.49,2,   18.14,2,    0.00,2,    1.20,2,   1.009,2,   0.525,2,   0.044,2,    0.11,4,  2163.2,2, 2316.37,2,   7.7386,2,       25,    -999,9,     -999,9,    -999,9,   3.5714,2,    -999,9,    -999,9,    -999,    -999,9,    -999,    1.00,2,   43.46,2,   20.78,2,  31.9046, -65.0378,    -999,     -999,    -999,   3.4016,   3.5714,2,-999,9,-999,-999,9,-999,    35.1374,2,-999,9,20120401,       1426
33AT20120324,        A22,      27,          1,          8,          8,2,20120401,       1348,    31.9063,   -65.0422,       3878,  2288.8,   3.3498,  34.9623,2,  34.9620,2,    259.6,2,   259.8,2,   18.36,2,   18.23,2,    0.00,2,    1.21,2,   0.802,2,   0.412,2,   0.037,2,    0.10,4,  2164.7,2, 2319.76,2,   7.7395,2,       25,    -999,9,     -999,9,    -999,9,   3.3501,2,    1.09,2,   -61.9,2,     2.6,    -999,9,    -999,    0.87,2,   43.00,2,   21.11,2,  31.9048, -65.0381,    -999,     -999,    -999,   3.1643,   3.3501,2,-411,2,4,-21.5,2,0.2,    35.1269,2,-999,9,20120401,       1421
33AT20120324,        A22,      27,          1,          7,          7,2,20120401,       1348,    31.9063,   -65.0422,       3878,  2494.6,   3.1508,  34.9545,2,  34.9538,2,    258.5,2,   259.5,2,   21.02,2,   18.53,2,    0.00,2,    1.24,2,   0.571,2,   0.287,2,   0.024,2,    0.07,4,    -999,9,    -999,9,     -999,9,     -999,    -999,9,     -999,9,    -999,9,   3.1505,2,    -999,9,    -999,9,    -999,    -999,9,    -999,    0.64,2,   43.19,2,   21.34,2,  31.9049, -65.0384,    -999,     -999,    -999,   2.9485,   3.1505,2,-999,9,-999,-999,9,-999,    35.1186,2,-999,9,20120401,       1417
33AT20120324,        A22,      27,          1,          6,          6,2,20120401,       1348,    31.9063,   -65.0422,       3878,  2696.9,   2.9799,  34.9446,2,  34.9449,2,    258.9,2,   259.5,2,   22.45,2,   18.59,2,    0.00,2,    1.26,2,   0.424,2,   0.219,2,   0.016,2,    0.08,4,  2167.2,2, 2323.34,2,   7.7445,2,       25,    -999,9,     -999,9,    -999,9,   2.9793,2,    1.05,2,   -76.0,2,     2.4,    -999,9,    -999,    0.52,2,   43.50,2,   20.73,2,  31.9051, -65.0387,    -999,     -999,    -999,   2.7607,   2.9793,2,-426,2,4,-999,9,-999,    35.1097,2,-999,9,20120401,       1413