BOTTLE,20220725CCHSIOCBG
EXPOCODE,SECT_ID,STNNBR,CASTNO,SAMPNO,BTLNBR,BTLNBR_FLAG_W,DATE,TIME,LATITUDE,LONGITUDE,DEPTH,CTDPRS,CTDTMP,CTDSAL,CTDSAL_FLAG_W,SALNTY,SALNTY_FLAG_W,CTDOXY,CTDOXY_FLAG_W,OXYGEN,OXYGEN_FLAG_W,SILCAT,SILCAT_FLAG_W,NITRAT,NITRAT_FLAG_W,NITRIT,NITRIT_FLAG_W,PHSPHT,PHSPHT_FLAG_W,CFC-11,CFC-11_FLAG_W,CFC-12,CFC-12_FLAG_W,CFC113,CFC113_FLAG_W,SF6,SF6_FLAG_W,TCARBN,TCARBN_FLAG_W,ALKALI,ALKALI_FLAG_W,PH_TOT,PH_TOT_FLAG_W,PH_TMP,TRITUM,TRITUM_FLAG_W,HELIUM,HELIUM_FLAG_W,DELHE3,DELHE3_FLAG_W,REFTMP,REFTMP_FLAG_W,DELC13,DELC13_FLAG_W,DELC14,DELC14_FLAG_W,C14ERR,NEON,NEON_FLAG_W,NEONER,CCL4,CCL4_FLAG_W,DOC,DOC_FLAG_W,TDN,TDN_FLAG_W,BTL_LAT,BTL_LON,TRITER,HELIER,DELHER,THETA,SBE35,SBE35_FLAG_W,14C-DOC,14C-DOC_FLAG_W,14C-DOCERR,13C-DOC,13C-DOC_FLAG_W,13C-DOCERR,SALTREF,SALTREF_FLAG_W,LAB_DEN,LAB_DEN_FLAG_W,BTL_DATE,BTL_TIME
,,,,,,,,,,,METERS,DBAR,ITS-90,PSS-78,,PSS-78,,UMOL/KG,,UMOL/KG,,UMOL/KG,,UMOL/KG,,UMOL/KG,,UMOL/KG,,PMOL/KG,,PMOL/KG,,PMOL/KG,,FMOL/KG,,UMOL/KG,,UMOL/KG,,,,DEG C,TU,,NMOL/KG,,PERCNT,,DEG C,,/MILLE,,/MILLE,,/MILLE,NMOL/KG,,NMOL/KG,PMOL/KG,,UMOL/KG,,UMOL/KG,,,,TU,NMOL/KG,PERCNT,DEG C,ITS-90,,/MILLE,,/MILLE,/MILLE,,/MILLE,G/KG,,KG/M^3,,,
33AT20120324,        A22,      40,          1,          5,          5,2,20120405,       2017,    22.9248,   -65.8366,       5838,  4329.2,   2.2933,  34.8909,2,  34.8906,2,    264.5,2,   264.8,2,   31.23,2,   18.80,2,    0.00,2,    1.29,2,   0.693,2,   0.343,2,   0.042,2,    0.07,2,    -999,9,    -999,9,     -999,9,     -999,    -999,9,     -999,9,    -999,9,   2.2934,2,    -999,9,    -999,9,    -999,    -999,9,    -999,    -999,1,    -999,9,    -999,9,  22.9231, -65.8373,    -999,     -999,    -999,   1.9126,   2.2934,2,-999,9,-999,-999,9,-999,    35.0551,2,-999,9,20120405,       2057
33AT20120324,        A22,      40,          1,          4,          4,2,20120405,       2017,    22.9248,   -65.8366,       5838,  4739.3,   2.2729,  34.8840,2,  34.8837,2,    261.6,2,   261.6,2,   35.18,2,   19.41,2,    0.00,2,    1.34,2,   0.559,2,   0.282,2,   0.031,2,    0.07,2,  2180.8,2, 2333.78,2,   7.7372,2,       25,   0.109,2,   1.8639,2,    4.44,2,   2.2724,2,    -999,9,    -999,9,    -999,   8.056,2,   0.036,    -999,1,    -999,9,    -999,9,  22.9234, -65.8371,   0.009,   0.0075,    0.15,   1.8435,   2.2724,2,-999,9,-999,-999,9,-999,    35.0482,2,-999,9,20120405,       2049
33AT20120324,        A22,      40,          1,          3,          3,2,20120405,       2017,    22.9248,   -65.8366,       5838,  5151.4,   2.1956,  34.8688,2,  34.8686,2,    255.8,2,   255.4,2,   43.87,2,   20.73,2,    0.00,2,    1.43,2,   0.296,2,   0.155,2,   0.021,2,    0.09,2,    -999,9,    -999,9,     -999,9,     -999,    -999,9,     -999,9,    -999,9,   2.1949,2,    -999,9,    -999,9,    -999,    -999,9,    -999,    -999,1,    -999,9,    -999,9,  22.9238, -65.8370,    -999,     -999,    -999,   1.7173,   2.1949,2,-999,9,-999,-999,9,-999,    35.0330,2,-999,9,20120405,       2041
33AT20120324,        A22,      40,          1,          2,          2,2,20120405,       2017,    22.9248,   -65.8366,       5838,  5561.9,   2.0887,  34.8494,2,  34.8493,2,    248.4,2,   249.8,2,   53.63,2,   22.38,2,    0.00,2,    1.54,2,    -999,5,    -999,5,    -999,5,    -999,5,  2201.4,2, 2346.19,6,   7.7161,2,       25,    -999,9,     -999,9,    -999,9,   2.0887,2,    -999,9,    -999,9,    -999,    -999,9,    -999,    -999,1,    -999,9,    -999,9,  22.9242, -65.8368,    -999,     -999,    -999,   1.5612,   2.0887,2,-999,9,-999,-999,9,-999,    35.0136,2,-999,9,20120405,       2030
33AT20120324,        A22,      40,          1,          1,          1,2,20120405,       2017,    22.9248,   -65.8366,       5838,  5935.2,   2.0964,  34.8429,2,  34.8438,2,    247.1,2,   247.2,2,   56.04,2,   22.83,2,    0.00,2,    1.56,2,   0.185,2,   0.090,2,   0.013,2,    0.04,2,  2204.7,6, 2350.49,2,   7.7148,2,       25,   0.060,2,   1.8809,2,    4.83,2,   2.0964,2,    -999,9,    -999,9,    -999,   8.180,2,   0.037,    -999,1,    -999,9,    -999,9,  22.9248, -65.8366,   0.009,   0.0075,    0.15,   1.5187,   2.0964,2,-999,9,-999,-999,9,-999,    35.0081,2,-999,9,20120405,       2017