BOTTLE,20220725CCHSIOCBG
EXPOCODE,SECT_ID,STNNBR,CASTNO,SAMPNO,BTLNBR,BTLNBR_FLAG_W,DATE,TIME,LATITUDE,LONGITUDE,DEPTH,CTDPRS,CTDTMP,CTDSAL,CTDSAL_FLAG_W,SALNTY,SALNTY_FLAG_W,CTDOXY,CTDOXY_FLAG_W,OXYGEN,OXYGEN_FLAG_W,SILCAT,SILCAT_FLAG_W,NITRAT,NITRAT_FLAG_W,NITRIT,NITRIT_FLAG_W,PHSPHT,PHSPHT_FLAG_W,CFC-11,CFC-11_FLAG_W,CFC-12,CFC-12_FLAG_W,CFC113,CFC113_FLAG_W,SF6,SF6_FLAG_W,TCARBN,TCARBN_FLAG_W,ALKALI,ALKALI_FLAG_W,PH_TOT,PH_TOT_FLAG_W,PH_TMP,TRITUM,TRITUM_FLAG_W,HELIUM,HELIUM_FLAG_W,DELHE3,DELHE3_FLAG_W,REFTMP,REFTMP_FLAG_W,DELC13,DELC13_FLAG_W,DELC14,DELC14_FLAG_W,C14ERR,NEON,NEON_FLAG_W,NEONER,CCL4,CCL4_FLAG_W,DOC,DOC_FLAG_W,TDN,TDN_FLAG_W,BTL_LAT,BTL_LON,TRITER,HELIER,DELHER,THETA,SBE35,SBE35_FLAG_W,14C-DOC,14C-DOC_FLAG_W,14C-DOCERR,13C-DOC,13C-DOC_FLAG_W,13C-DOCERR,SALTREF,SALTREF_FLAG_W,LAB_DEN,LAB_DEN_FLAG_W,BTL_DATE,BTL_TIME
,,,,,,,,,,,METERS,DBAR,ITS-90,PSS-78,,PSS-78,,UMOL/KG,,UMOL/KG,,UMOL/KG,,UMOL/KG,,UMOL/KG,,UMOL/KG,,PMOL/KG,,PMOL/KG,,PMOL/KG,,FMOL/KG,,UMOL/KG,,UMOL/KG,,,,DEG C,TU,,NMOL/KG,,PERCNT,,DEG C,,/MILLE,,/MILLE,,/MILLE,NMOL/KG,,NMOL/KG,PMOL/KG,,UMOL/KG,,UMOL/KG,,,,TU,NMOL/KG,PERCNT,DEG C,ITS-90,,/MILLE,,/MILLE,/MILLE,,/MILLE,G/KG,,KG/M^3,,,
33AT20120324,        A22,      67,          1,         36,         36,2,20120411,       1555,    15.9481,   -68.2923,       4273,     3.3,  27.2382,  35.7626,2,  35.7626,2,    201.6,2,   203.0,2,    1.61,2,    0.00,2,    0.00,2,    0.00,2,   1.569,2,   1.017,2,   0.122,2,    1.34,4,  1998.7,6, 2346.33,2,   8.1010,2,       25,    -999,9,     -999,9,    -999,9,  27.2368,2,    -999,9,    -999,9,    -999,    -999,9,    -999,    1.59,2,   75.52,2,    4.38,2,  15.9488, -68.2922,    -999,     -999,    -999,  27.2374,  27.2368,2,-999,9,-999,-999,9,-999,    35.9312,2,-999,1,20120411,       1746
33AT20120324,        A22,      67,          1,         35,         35,2,20120411,       1555,    15.9481,   -68.2923,       4273,    21.1,  27.0272,  35.7576,2,  35.7571,2,    204.8,2,   203.1,2,    1.63,2,    0.00,2,    0.00,2,    0.00,2,   1.554,2,   1.015,2,   0.120,2,    1.36,4,    -999,9,    -999,9,     -999,9,     -999,    -999,9,     -999,9,    -999,9,  27.0281,2,    -999,9,    -999,9,    -999,    -999,9,    -999,    1.49,2,   74.47,2,    4.82,2,  15.9488, -68.2922,    -999,     -999,    -999,  27.0223,  27.0281,2,-999,9,-999,-999,9,-999,    35.9257,2,-999,1,20120411,       1744
33AT20120324,        A22,      67,          1,         34,         34,2,20120411,       1555,    15.9481,   -68.2923,       4273,    40.8,  26.5655,  35.7043,2,  35.7049,2,    208.4,2,   205.9,2,    1.76,2,    0.00,2,    0.00,2,    0.00,2,   1.573,2,   1.019,2,   0.123,2,    0.77,4,  1997.5,2, 2343.14,6,   8.1012,2,       25,    -999,9,     -999,9,    -999,9,  26.5653,2,    -999,9,    -999,9,    -999,    -999,9,    -999,    1.44,2,   71.70,2,    5.21,2,  15.9488, -68.2921,    -999,     -999,    -999,  26.5562,  26.5653,2,-999,9,-999,-999,9,-999,    35.8733,2,-999,1,20120411,       1742
33AT20120324,        A22,      67,          1,         33,         33,2,20120411,       1555,    15.9481,   -68.2923,       4273,    65.5,  26.1875,  35.9321,2,  35.9402,2,    203.6,2,   199.7,2,    1.56,2,    0.00,2,    0.00,2,    0.00,2,   1.592,2,   1.023,2,   0.122,2,    0.98,4,    -999,9,    -999,9,     -999,9,     -999,    -999,9,     -999,9,    -999,9,  26.1876,2,    -999,9,    -999,9,    -999,    -999,9,    -999,    1.17,2,   68.67,2,    4.83,2,  15.9488, -68.2921,    -999,     -999,    -999,  26.1728,  26.1876,2,-999,9,-999,-999,9,-999,    36.1097,2,-999,1,20120411,       1740
33AT20120324,        A22,      67,          1,         32,         32,2,20120411,       1555,    15.9481,   -68.2923,       4273,    90.6,  25.0869,  36.5973,2,  36.6198,2,     -999,9,    -999,5,    0.58,2,    0.03,2,    0.01,2,    0.00,2,   1.715,2,   1.094,2,   0.106,2,    1.12,4,  2063.7,2, 2397.63,2,   8.0633,6,       25,    -999,9,     -999,9,    -999,9,  25.0837,2,    -999,9,    -999,9,    -999,    -999,9,    -999,    0.59,2,   62.70,2,    5.38,2,  15.9489, -68.2921,    -999,     -999,    -999,  25.0671,  25.0837,2,-999,9,-999,-999,9,-999,    36.7925,2,-999,1,20120411,       1737
33AT20120324,        A22,      67,          1,         31,         31,2,20120411,       1555,    15.9481,   -68.2923,       4273,   115.2,  24.2048,  37.0025,2,     -999,5,    178.6,2,   173.1,2,    1.01,2,    1.44,2,    0.09,2,    0.06,2,   1.725,2,   1.103,2,   0.092,2,    0.77,4,    -999,9,    -999,9,     -999,9,     -999,    -999,9,     -999,9,    -999,9,  24.1995,2,    -999,9,    -999,9,    -999,    -999,9,    -999,    0.33,2,   58.06,2,    5.66,2,  15.9489, -68.2921,    -999,     -999,    -999,  24.1802,  24.1995,2,-999,9,-999,-999,9,-999,       -999,5,-999,1,20120411,       1735
33AT20120324,        A22,      67,          1,         30,         30,2,20120411,       1555,    15.9481,   -68.2923,       4273,   142.0,  22.5994,  36.8627,2,  36.8731,2,    178.9,2,   176.5,2,    1.15,2,    2.28,2,    0.03,2,    0.10,2,   1.844,2,   1.165,2,   0.068,2,    1.01,4,  2106.4,2, 2410.04,2,   8.0098,2,       25,    -999,9,     -999,9,    -999,9,  22.6043,2,    -999,9,    -999,9,    -999,    -999,9,    -999,    0.32,2,   53.72,2,    6.53,2,  15.9489, -68.2921,    -999,     -999,    -999,  22.5705,  22.6043,2,-999,9,-999,-999,9,-999,    37.0470,2,-999,1,20120411,       1733
33AT20120324,        A22,      67,          1,         29,         29,2,20120411,       1555,    15.9481,   -68.2923,       4273,   186.2,  20.5584,  36.8533,2,  36.8466,2,    163.0,2,   163.7,2,    1.37,2,    4.32,2,    0.02,2,    0.20,2,   1.962,2,   1.221,2,   0.029,2,    0.61,4,  2136.3,2, 2407.47,2,   7.9527,2,       25,    -999,9,     -999,9,    -999,9,  20.5643,2,    -999,9,    -999,9,    -999,    -999,9,    -999,    0.19,2,   49.10,2,    8.38,2,  15.9489, -68.2921,    -999,     -999,    -999,  20.5229,  20.5643,2,-999,9,-999,-999,9,-999,    37.0203,2,-999,1,20120411,       1731
33AT20120324,        A22,      67,          1,         28,         28,2,20120411,       1555,    15.9481,   -68.2923,       4273,   236.8,  18.2942,  36.5122,2,  36.5104,2,    157.9,2,   155.9,2,    2.62,2,    8.55,2,    0.01,2,    0.47,2,   2.044,2,   1.259,2,   0.014,2,    0.57,4,  2147.1,2, 2387.08,2,   7.8993,2,       25,    -999,9,     -999,9,    -999,9,  18.2921,2,    -999,9,    -999,9,    -999,    -999,9,    -999,    0.22,2,   47.71,2,   12.58,2,  15.9489, -68.2921,    -999,     -999,    -999,  18.2526,  18.2921,2,-999,9,-999,-999,9,-999,    36.6826,2,-999,1,20120411,       1729
33AT20120324,        A22,      67,          1,         27,         27,2,20120411,       1555,    15.9481,   -68.2923,       4273,   286.2,  16.4657,  36.1966,2,  36.1944,2,    149.8,2,   150.4,2,    4.13,2,   12.10,2,    0.01,2,    0.70,2,   2.087,2,   1.222,2,   0.017,2,    0.60,4,  2155.3,2, 2367.95,2,   7.8526,2,       25,    -999,9,     -999,9,    -999,9,  16.4652,2,    -999,9,    -999,9,    -999,    -999,9,    -999,    0.27,2,   46.73,2,   15.91,2,  15.9489, -68.2921,    -999,     -999,    -999,  16.4190,  16.4652,2,-999,9,-999,-999,9,-999,    36.3651,2,-999,1,20120411,       1727
33AT20120324,        A22,      67,          1,         26,         26,2,20120411,       1555,    15.9481,   -68.2923,       4273,   334.6,  15.0276,  35.9491,2,  35.9481,2,    140.9,2,   144.7,2,    5.46,2,   14.98,2,    0.01,2,    0.90,2,   2.073,2,   1.193,2,   0.017,2,    0.38,4,    -999,9,    -999,9,     -999,9,     -999,    -999,9,     -999,9,    -999,9,  15.0238,2,    -999,9,    -999,9,    -999,    -999,9,    -999,    0.27,2,   44.05,2,   18.51,2,  15.9489, -68.2921,    -999,     -999,    -999,  14.9763,  15.0238,2,-999,9,-999,-999,9,-999,    36.1176,2,-999,1,20120411,       1725
33AT20120324,        A22,      67,          1,         25,         25,2,20120411,       1555,    15.9481,   -68.2923,       4273,   387.0,  13.4274,  35.6657,2,  35.6613,2,    133.9,2,   134.9,2,    7.66,2,   18.72,2,    0.01,2,    1.15,2,   1.942,2,   1.084,2,   0.019,2,    0.28,4,  2174.1,2, 2340.63,2,   7.7556,2,       25,    -999,9,     -999,9,    -999,9,  13.4280,2,    -999,9,    -999,9,    -999,    -999,9,    -999,    0.29,2,   44.38,2,   22.03,2,  15.9489, -68.2921,    -999,     -999,    -999,  13.3723,  13.4280,2,-999,9,-999,-999,9,-999,    35.8295,2,-999,1,20120411,       1724
33AT20120324,        A22,      67,          1,         24,         24,2,20120411,       1555,    15.9481,   -68.2923,       4273,   437.4,  12.2588,  35.4783,2,  35.4767,2,    129.6,2,   130.1,2,    9.37,2,   21.30,2,    0.00,2,    1.33,2,   1.767,2,   0.970,2,   0.020,2,    0.49,4,  2181.2,2, 2332.10,2,   7.7169,2,       25,    -999,9,     -999,9,    -999,9,  12.2592,2,    -999,9,    -999,9,    -999,    -999,9,    -999,    0.30,2,   43.18,2,   23.84,2,  15.9489, -68.2921,    -999,     -999,    -999,  12.2001,  12.2592,2,-999,9,-999,-999,9,-999,    35.6439,2,-999,1,20120411,       1722
33AT20120324,        A22,      67,          1,         23,         23,2,20120411,       1555,    15.9481,   -68.2923,       4273,   488.0,  11.2791,  35.3375,2,  35.3321,2,    126.3,2,   126.7,2,   11.27,2,   23.57,2,    0.00,2,    1.47,2,   1.540,2,   0.833,2,   0.017,2,    0.25,4,  2188.0,2, 2325.35,2,   7.6857,2,       25,    -999,9,     -999,9,    -999,9,  11.2785,2,    -999,9,    -999,9,    -999,    -999,9,    -999,    0.31,2,   42.93,2,   25.82,2,  15.9489, -68.2921,    -999,     -999,    -999,  11.2169,  11.2785,2,-999,9,-999,-999,9,-999,    35.4987,2,-999,1,20120411,       1720
33AT20120324,        A22,      67,          1,         22,         22,2,20120411,       1555,    15.9481,   -68.2923,       4273,   568.9,   9.6220,  35.1110,2,  35.1133,2,    125.0,2,   124.7,2,   14.74,2,   26.78,2,    0.00,2,    1.70,2,   1.172,2,   0.612,2,   0.014,2,    0.00,4,  2196.1,2, 2316.07,2,   7.6423,2,       25,    -999,9,     -999,9,    -999,9,   9.6214,2,    -999,9,    -999,9,    -999,    -999,9,    -999,    0.31,2,   42.27,2,   29.45,2,  15.9488, -68.2921,    -999,     -999,    -999,   9.5562,   9.6214,2,-999,9,-999,-999,9,-999,    35.2789,2,-999,1,20120411,       1718
33AT20120324,        A22,      67,          1,         21,         21,2,20120411,       1555,    15.9481,   -68.2923,       4273,   668.8,   7.8752,  34.9203,2,  34.9204,2,    128.9,2,   127.5,2,   19.20,2,   29.67,2,    0.00,2,    1.91,2,   0.681,2,   0.350,2,   0.012,2,    0.07,4,  2204.6,2, 2310.44,2,   7.6064,2,       25,    -999,9,     -999,9,    -999,9,   7.8790,2,    -999,9,    -999,9,    -999,    -999,9,    -999,    0.28,2,   41.56,2,   32.27,2,  15.9487, -68.2922,    -999,     -999,    -999,   7.8061,   7.8790,2,-999,9,-999,-999,9,-999,    35.0851,2,-999,1,20120411,       1715
33AT20120324,        A22,      67,          1,         20,         20,2,20120411,       1555,    15.9481,   -68.2923,       4273,   769.7,   6.7303,  34.8436,2,  34.8398,2,    137.5,2,   137.4,2,   22.41,2,   30.45,2,    0.00,2,    2.00,2,   0.385,2,   0.207,2,   0.006,2,    0.20,4,  2207.8,2, 2310.14,2,   7.5962,2,       25,    -999,9,     -999,9,    -999,9,   6.7287,2,    -999,9,    -999,9,    -999,    -999,9,    -999,    0.25,2,   40.76,2,   33.02,2,  15.9486, -68.2922,    -999,     -999,    -999,   6.6570,   6.7287,2,-999,9,-999,-999,9,-999,    35.0041,2,-999,1,20120411,       1713
33AT20120324,        A22,      67,          1,         19,         19,2,20120411,       1555,    15.9481,   -68.2923,       4273,   871.3,   6.0644,  34.8804,2,  34.8785,2,    155.2,2,   154.0,2,   23.39,2,   28.65,2,    0.00,2,    1.90,2,   0.253,2,   0.138,2,   0.003,2,    0.29,4,  2204.0,2, 2315.03,2,   7.6214,2,       25,    -999,9,     -999,9,    -999,9,   6.0604,2,    -999,9,    -999,9,    -999,    -999,9,    -999,    0.19,2,   40.62,2,   31.28,2,  15.9485, -68.2922,    -999,     -999,    -999,   5.9851,   6.0604,2,-999,9,-999,-999,9,-999,    35.0430,2,-999,1,20120411,       1710
33AT20120324,        A22,      67,          1,         18,         18,2,20120411,       1555,    15.9481,   -68.2923,       4273,   972.7,   5.3860,  34.9113,2,  34.9120,2,    175.2,2,   173.0,2,   24.30,2,   26.74,2,    0.00,2,    1.79,2,   0.157,2,   0.089,2,   0.004,2,    0.00,4,  2198.3,2, 2322.76,2,   7.6467,2,       25,    -999,9,     -999,9,    -999,9,   5.3862,2,    -999,9,    -999,9,    -999,    -999,9,    -999,    0.19,2,   40.49,2,   29.55,2,  15.9485, -68.2922,    -999,     -999,    -999,   5.3017,   5.3862,2,-999,9,-999,-999,9,-999,    35.0766,2,-999,1,20120411,       1708
33AT20120324,        A22,      67,          1,         17,         17,3,20120411,       1555,    15.9481,   -68.2923,       4273,  1071.6,   4.9637,  34.9444,2,  36.1952,4,    191.2,2,   150.1,4,    4.15,4,   12.15,4,    0.00,4,    0.71,4,   2.067,4,   1.263,4,   0.015,4,    0.45,4,  2156.8,4, 2368.70,4,   7.8526,4,       25,    -999,9,     -999,9,    -999,9,   4.9629,2,    -999,9,    -999,9,    -999,    -999,9,    -999,    0.26,4,    -999,9,    -999,9,  15.9484, -68.2922,    -999,     -999,    -999,   4.8734,   4.9629,2,-999,9,-999,-999,9,-999,    36.3659,4,-999,1,20120411,       1705
33AT20120324,        A22,      67,          1,         16,         16,2,20120411,       1555,    15.9481,   -68.2923,       4273,  1174.3,   4.6857,  34.9563,2,  34.9575,2,    198.0,2,   198.2,2,   24.47,2,   23.95,2,    0.00,2,    1.61,2,   0.109,2,   0.064,2,   0.005,2,    0.00,4,  2192.0,2, 2326.05,2,   7.6805,2,       25,    -999,9,     -999,9,    -999,9,   4.6843,2,    -999,9,    -999,9,    -999,    -999,9,    -999,    0.22,2,   41.04,2,   26.29,2,  15.9484, -68.2923,    -999,     -999,    -999,   4.5883,   4.6843,2,-999,9,-999,-999,9,-999,    35.1223,2,-999,1,20120411,       1702
33AT20120324,        A22,      67,          1,         15,         15,2,20120411,       1555,    15.9481,   -68.2923,       4273,  1274.8,   4.5415,  34.9650,2,  34.9663,2,    205.5,2,   205.2,2,   24.20,2,   23.25,2,    0.00,2,    1.57,2,   0.131,2,   0.078,2,   0.007,2,    0.00,4,  2190.2,2, 2328.04,2,   7.6900,2,       25,    -999,9,     -999,9,    -999,9,   4.5414,2,    -999,9,    -999,9,    -999,    -999,9,    -999,    0.38,2,   41.32,2,   25.63,2,  15.9484, -68.2923,    -999,     -999,    -999,   4.4362,   4.5414,2,-999,9,-999,-999,9,-999,    35.1312,2,-999,1,20120411,       1700
33AT20120324,        A22,      67,          1,         14,         14,2,20120411,       1555,    15.9481,   -68.2923,       4273,  1376.2,   4.4156,  34.9683,2,  34.9695,2,    208.2,2,   208.5,2,   24.97,2,   22.98,2,    0.00,2,    1.55,2,   0.111,2,   0.062,2,   0.007,2,    0.00,4,  2190.5,2, 2328.55,2,   7.6944,2,       25,    -999,9,     -999,9,    -999,9,   4.4152,2,    -999,9,    -999,9,    -999,    -999,9,    -999,    0.22,2,   40.56,2,   25.12,2,  15.9483, -68.2923,    -999,     -999,    -999,   4.3022,   4.4152,2,-999,9,-999,-999,9,-999,    35.1344,2,-999,1,20120411,       1657
33AT20120324,        A22,      67,          1,         13,         13,2,20120411,       1555,    15.9481,   -68.2923,       4273,  1477.8,   4.3196,  34.9707,2,  34.9717,2,    210.3,2,   211.2,2,   25.41,2,   22.66,2,    0.00,2,    1.53,2,   0.101,2,   0.063,2,   0.003,2,    0.00,4,  2191.2,2, 2330.18,2,   7.6979,2,       25,    -999,9,     -999,9,    -999,9,   4.3200,2,    -999,9,    -999,9,    -999,    -999,9,    -999,    0.22,2,   40.13,2,   24.97,2,  15.9483, -68.2923,    -999,     -999,    -999,   4.1978,   4.3200,2,-999,9,-999,-999,9,-999,    35.1366,2,-999,1,20120411,       1654
33AT20120324,        A22,      67,          1,         12,         12,2,20120411,       1555,    15.9481,   -68.2923,       4273,  1578.4,   4.2546,  34.9717,2,  34.9727,2,    212.0,2,   211.6,2,   26.07,2,   22.50,2,    0.00,2,    1.53,2,   0.092,2,   0.057,2,   0.005,2,    0.00,4,    -999,9,    -999,9,     -999,9,     -999,    -999,9,     -999,9,    -999,9,   4.2548,2,    -999,9,    -999,9,    -999,    -999,9,    -999,    0.18,2,   40.74,2,   25.25,2,  15.9483, -68.2923,    -999,     -999,    -999,   4.1242,   4.2548,2,-999,9,-999,-999,9,-999,    35.1376,2,-999,1,20120411,       1652
33AT20120324,        A22,      67,          1,         11,         11,2,20120411,       1555,    15.9481,   -68.2923,       4273,  1680.2,   4.2024,  34.9723,2,  34.9731,2,    213.4,2,   213.9,2,   26.62,2,   22.45,2,    0.00,2,    1.52,2,   0.087,2,   0.055,2,   0.005,2,    0.00,4,    -999,9,    -999,9,     -999,9,     -999,    -999,9,     -999,9,    -999,9,   4.2023,2,    -999,9,    -999,9,    -999,    -999,9,    -999,    0.15,2,   40.86,2,   25.01,2,  15.9482, -68.2923,    -999,     -999,    -999,   4.0630,   4.2023,2,-999,9,-999,-999,9,-999,    35.1380,2,-999,1,20120411,       1649
33AT20120324,        A22,      67,          1,         10,         10,2,20120411,       1555,    15.9481,   -68.2923,       4273,  1782.1,   4.1700,  34.9730,2,  34.9741,2,    214.4,2,   214.3,2,   26.77,2,   22.25,2,    0.00,2,    1.51,2,   0.091,2,   0.058,2,   0.005,2,    0.04,4,    -999,9,    -999,9,     -999,9,     -999,    -999,9,     -999,9,    -999,9,   4.1699,2,    -999,9,    -999,9,    -999,    -999,9,    -999,    0.16,2,   39.48,2,   24.56,2,  15.9483, -68.2923,    -999,     -999,    -999,   4.0212,   4.1699,2,-999,9,-999,-999,9,-999,    35.1390,2,-999,1,20120411,       1647
33AT20120324,        A22,      67,          1,          9,          9,2,20120411,       1555,    15.9481,   -68.2923,       4273,  1953.8,   4.1343,  34.9736,2,  34.9743,2,    215.7,2,   215.7,2,   27.16,2,   22.13,2,    0.00,2,    1.50,2,   0.089,2,   0.055,2,   0.006,2,    0.00,4,  2193.9,2, 2335.37,2,   7.7059,6,       25,    -999,9,     -999,9,    -999,9,   4.1340,2,    -999,9,    -999,9,    -999,    -999,9,    -999,    0.16,2,   39.71,2,   24.13,2,  15.9483, -68.2923,    -999,     -999,    -999,   3.9693,   4.1340,2,-999,9,-999,-999,9,-999,    35.1392,2,-999,1,20120411,       1643
33AT20120324,        A22,      67,          1,          8,          8,2,20120411,       1555,    15.9481,   -68.2923,       4273,  2187.8,   4.1158,  34.9743,2,  34.9753,2,    216.8,2,   216.6,2,   27.54,2,   22.03,2,    0.00,2,    1.50,2,   0.085,2,   0.057,2,   0.005,2,    0.00,4,    -999,9,    -999,9,     -999,9,     -999,    -999,9,     -999,9,    -999,9,   4.1162,2,    -999,9,    -999,9,    -999,    -999,9,    -999,    0.13,2,   39.57,2,   24.57,2,  15.9483, -68.2923,    -999,     -999,    -999,   3.9277,   4.1162,2,-999,9,-999,-999,9,-999,    35.1402,2,-999,1,20120411,       1638
33AT20120324,        A22,      67,          1,          7,          7,2,20120411,       1555,    15.9481,   -68.2923,       4273,  2441.0,   4.1208,  34.9744,2,  34.9745,2,    216.6,2,   216.6,2,   28.01,2,   22.05,2,    0.00,2,    1.49,2,   0.069,2,   0.049,2,   0.006,2,    0.00,4,    -999,9,    -999,9,     -999,9,     -999,    -999,9,     -999,9,    -999,9,   4.1209,2,    -999,9,    -999,9,    -999,    -999,9,    -999,    0.10,2,   40.36,2,   24.65,2,  15.9483, -68.2923,    -999,     -999,    -999,   3.9065,   4.1209,2,-999,9,-999,-999,9,-999,    35.1394,2,-999,1,20120411,       1632
33AT20120324,        A22,      67,          1,          6,          6,2,20120411,       1555,    15.9481,   -68.2923,       4273,  2695.9,   4.1368,  34.9746,2,  34.9749,2,    216.4,2,   216.4,2,   28.27,2,   22.04,2,    0.00,2,    1.49,2,   0.064,2,   0.051,2,   0.005,2,    0.00,4,    -999,9,    -999,9,     -999,9,     -999,    -999,9,     -999,9,    -999,9,   4.1366,2,    -999,9,    -999,9,    -999,    -999,9,    -999,    0.09,2,   40.61,2,   24.59,2,  15.9482, -68.2923,    -999,     -999,    -999,   3.8950,   4.1366,2,-999,9,-999,-999,9,-999,    35.1399,2,-999,1,20120411,       1627