BOTTLE,20220725CCHSIOCBG
EXPOCODE,SECT_ID,STNNBR,CASTNO,SAMPNO,BTLNBR,BTLNBR_FLAG_W,DATE,TIME,LATITUDE,LONGITUDE,DEPTH,CTDPRS,CTDTMP,CTDSAL,CTDSAL_FLAG_W,SALNTY,SALNTY_FLAG_W,CTDOXY,CTDOXY_FLAG_W,OXYGEN,OXYGEN_FLAG_W,SILCAT,SILCAT_FLAG_W,NITRAT,NITRAT_FLAG_W,NITRIT,NITRIT_FLAG_W,PHSPHT,PHSPHT_FLAG_W,CFC-11,CFC-11_FLAG_W,CFC-12,CFC-12_FLAG_W,CFC113,CFC113_FLAG_W,SF6,SF6_FLAG_W,TCARBN,TCARBN_FLAG_W,ALKALI,ALKALI_FLAG_W,PH_TOT,PH_TOT_FLAG_W,PH_TMP,TRITUM,TRITUM_FLAG_W,HELIUM,HELIUM_FLAG_W,DELHE3,DELHE3_FLAG_W,REFTMP,REFTMP_FLAG_W,DELC13,DELC13_FLAG_W,DELC14,DELC14_FLAG_W,C14ERR,NEON,NEON_FLAG_W,NEONER,CCL4,CCL4_FLAG_W,DOC,DOC_FLAG_W,TDN,TDN_FLAG_W,BTL_LAT,BTL_LON,TRITER,HELIER,DELHER,THETA,SBE35,SBE35_FLAG_W,14C-DOC,14C-DOC_FLAG_W,14C-DOCERR,13C-DOC,13C-DOC_FLAG_W,13C-DOCERR,SALTREF,SALTREF_FLAG_W,LAB_DEN,LAB_DEN_FLAG_W,BTL_DATE,BTL_TIME
,,,,,,,,,,,METERS,DBAR,ITS-90,PSS-78,,PSS-78,,UMOL/KG,,UMOL/KG,,UMOL/KG,,UMOL/KG,,UMOL/KG,,UMOL/KG,,PMOL/KG,,PMOL/KG,,PMOL/KG,,FMOL/KG,,UMOL/KG,,UMOL/KG,,,,DEG C,TU,,NMOL/KG,,PERCNT,,DEG C,,/MILLE,,/MILLE,,/MILLE,NMOL/KG,,NMOL/KG,PMOL/KG,,UMOL/KG,,UMOL/KG,,,,TU,NMOL/KG,PERCNT,DEG C,ITS-90,,/MILLE,,/MILLE,/MILLE,,/MILLE,G/KG,,KG/M^3,,,
33AT20120324,        A22,      77,          1,         31,         31,2,20120413,       2222,    13.1321,   -69.8827,       1979,     2.8,  27.0838,  36.1745,2,  36.1844,2,    198.5,2,   201.2,2,    0.66,2,    0.00,2,    0.00,2,    0.01,2,   1.578,2,   1.030,2,   0.119,2,    0.63,4,  2040.9,2, 2369.08,2,   8.0738,2,       25,    -999,9,     -999,9,    -999,9,  27.0849,2,    1.18,2,    54.0,2,     3.0,    -999,9,    -999,    1.53,2,   71.95,2,    6.11,2,  13.1326, -69.8825,    -999,     -999,    -999,  27.0832,  27.0849,2,-999,9,-999,-999,9,-999,    36.3550,2,-999,9,20120413,       2325
33AT20120324,        A22,      77,          1,         30,         30,2,20120413,       2222,    13.1321,   -69.8827,       1979,    24.7,  26.9894,  36.4119,2,  36.4190,2,    202.8,2,   201.6,2,    0.62,2,    0.00,2,    0.00,2,    0.00,2,   1.559,2,   1.017,2,   0.113,2,    0.86,4,  2053.8,2, 2382.17,2,   8.0695,2,       25,    -999,9,     -999,9,    -999,9,  26.9892,2,    1.14,2,    58.3,2,     2.6,    -999,9,    -999,    1.55,2,   72.32,2,    6.04,2,  13.1326, -69.8825,    -999,     -999,    -999,  26.9837,  26.9892,2,-999,9,-999,-999,9,-999,    36.5907,2,-999,9,20120413,       2324
33AT20120324,        A22,      77,          1,         29,         29,2,20120413,       2222,    13.1321,   -69.8827,       1979,    49.5,  26.6281,  36.5511,2,  36.5486,2,    201.5,2,   202.0,2,    0.55,2,    0.00,2,    0.00,2,    0.00,2,   1.575,2,   1.025,2,   0.110,2,    1.33,4,  2060.9,2, 2390.45,2,   8.0661,2,       25,    -999,9,     -999,9,    -999,9,  26.6376,2,    -999,9,    -999,9,    -999,    -999,9,    -999,    1.52,2,   73.42,2,    6.22,2,  13.1326, -69.8825,    -999,     -999,    -999,  26.6168,  26.6376,2,-999,9,-999,-999,9,-999,    36.7209,2,-999,9,20120413,       2322
33AT20120324,        A22,      77,          1,         28,         28,2,20120413,       2222,    13.1321,   -69.8827,       1979,    74.6,  25.7554,  36.5607,2,  36.5754,2,    190.2,2,   189.5,2,    0.93,2,    0.18,2,    0.14,2,    0.04,2,   1.639,2,   1.042,2,   0.106,2,    0.80,4,  2074.9,2, 2393.18,2,   8.0457,2,       25,    -999,9,     -999,9,    -999,9,  25.7514,2,    -999,9,    -999,9,    -999,    -999,9,    -999,    1.14,2,   71.42,2,    5.82,2,  13.1326, -69.8825,    -999,     -999,    -999,  25.7388,  25.7514,2,-999,9,-999,-999,9,-999,    36.7478,2,-999,9,20120413,       2320
33AT20120324,        A22,      77,          1,         27,         27,2,20120413,       2222,    13.1321,   -69.8827,       1979,   100.0,  22.4571,  36.6797,2,  36.7310,2,    136.4,2,   135.5,2,    2.61,2,    6.05,2,    0.05,2,    0.35,2,   1.802,2,   1.143,2,   0.066,2,    0.67,4,    -999,9,    -999,9,     -999,9,     -999,    -999,9,     -999,9,    -999,9,  22.4140,2,    -999,9,    -999,9,    -999,    -999,9,    -999,    0.37,2,   62.05,2,    9.93,2,  13.1325, -69.8825,    -999,     -999,    -999,  22.4369,  22.4140,2,-999,9,-999,-999,9,-999,    36.9042,2,-999,9,20120413,       2318
33AT20120324,        A22,      77,          1,         26,         26,2,20120413,       2222,    13.1321,   -69.8827,       1979,   124.0,  20.2145,  36.7204,2,  36.7120,2,    139.7,2,   139.2,2,    2.61,2,    8.02,2,    0.02,2,    0.43,2,   1.934,2,   1.206,2,   0.023,2,    0.76,4,  2158.2,2, 2398.46,2,   7.9024,2,       25,    -999,9,     -999,9,    -999,9,  20.2190,2,    0.52,2,    59.5,2,     2.6,    -999,9,    -999,    0.14,2,   54.71,2,   11.82,2,  13.1325, -69.8826,    -999,     -999,    -999,  20.1912,  20.2190,2,-999,9,-999,-999,9,-999,    36.8851,2,-999,9,20120413,       2316
33AT20120324,        A22,      77,          1,         25,         25,2,20120413,       2222,    13.1321,   -69.8827,       1979,   150.3,  18.6514,  36.5292,2,  36.5242,2,    141.8,2,   142.4,2,    3.03,2,    9.59,2,    0.01,2,    0.53,2,   2.033,2,   1.243,2,   0.015,2,    0.64,4,    -999,9,    -999,9,     -999,9,     -999,    -999,9,     -999,9,    -999,9,  18.6602,2,    -999,9,    -999,9,    -999,    -999,9,    -999,    0.19,2,   53.74,2,   13.23,2,  13.1325, -69.8826,    -999,     -999,    -999,  18.6247,  18.6602,2,-999,9,-999,-999,9,-999,    36.6965,2,-999,9,20120413,       2315
33AT20120324,        A22,      77,          1,         24,         24,2,20120413,       2222,    13.1321,   -69.8827,       1979,   175.2,  17.8152,  36.4382,2,  36.4497,2,    153.3,2,   152.1,2,    2.87,2,    9.54,2,    0.01,2,    0.53,2,   2.047,2,   1.255,2,   0.015,2,    0.81,4,  2154.7,2, 2380.76,2,   7.8854,2,       25,    -999,9,     -999,9,    -999,9,  17.8266,2,    0.53,2,    90.6,3,     4.0,    -999,9,    -999,    0.23,2,   52.67,2,   13.58,2,  13.1324, -69.8826,    -999,     -999,    -999,  17.7851,  17.8266,2,-999,9,-999,-999,9,-999,    36.6216,2,-999,9,20120413,       2313
33AT20120324,        A22,      77,          1,         23,         23,2,20120413,       2222,    13.1321,   -69.8827,       1979,   201.1,  17.0128,  36.2995,2,  36.2725,2,    151.5,2,   151.3,2,    3.69,2,   11.16,2,    0.01,2,    0.64,2,   2.078,2,   1.242,2,   0.001,2,    0.76,4,    -999,9,    -999,9,     -999,9,     -999,    -999,9,     -999,9,    -999,9,  17.0060,2,    -999,9,    -999,9,    -999,    -999,9,    -999,    0.23,2,   51.71,2,   15.08,2,  13.1324, -69.8826,    -999,     -999,    -999,  16.9793,  17.0060,2,-999,9,-999,-999,9,-999,    36.4436,2,-999,9,20120413,       2312
33AT20120324,        A22,      77,          1,         22,         22,2,20120413,       2222,    13.1321,   -69.8827,       1979,   225.6,  15.7602,  36.0607,2,  36.0399,2,    141.3,2,   140.6,2,    5.06,2,   14.31,2,    0.01,2,    0.86,2,   2.088,2,   1.223,2,   0.017,2,    0.66,4,  2166.9,2, 2357.93,2,   7.8185,2,       25,    -999,9,     -999,9,    -999,9,  15.7564,2,    0.52,2,    54.4,2,     4.3,    -999,9,    -999,    0.25,2,   50.59,2,   17.78,2,  13.1324, -69.8826,    -999,     -999,    -999,  15.7245,  15.7564,2,-999,9,-999,-999,9,-999,    36.2098,2,-999,9,20120413,       2310
33AT20120324,        A22,      77,          1,         21,         21,2,20120413,       2222,    13.1321,   -69.8827,       1979,   251.2,  14.6902,  35.8677,2,  35.8638,2,    134.5,2,   135.5,2,    6.15,2,   16.44,2,    0.01,2,    1.00,2,   1.991,2,   1.201,2,   0.018,2,    0.37,4,    -999,9,    -999,9,     -999,9,     -999,    -999,9,     -999,9,    -999,9,  14.6894,2,    -999,9,    -999,9,    -999,    -999,9,    -999,    0.26,2,   49.54,2,   21.15,2,  13.1323, -69.8826,    -999,     -999,    -999,  14.6524,  14.6894,2,-999,9,-999,-999,9,-999,    36.0329,2,-999,9,20120413,       2309
33AT20120324,        A22,      77,          1,         20,         20,2,20120413,       2222,    13.1321,   -69.8827,       1979,   301.6,  12.8388,  35.5373,2,  35.5319,2,    126.9,2,   127.9,2,    8.51,2,   20.38,2,    0.01,2,    1.28,2,   1.870,2,   1.045,2,   0.019,2,    1.01,4,  2183.8,2, 2332.27,2,   7.7270,2,       25,    -999,9,     -999,9,    -999,9,  12.8247,2,    0.53,2,    46.6,2,     4.5,    -999,9,    -999,    0.33,2,   48.28,2,   25.14,2,  13.1323, -69.8826,    -999,     -999,    -999,  12.7973,  12.8247,2,-999,9,-999,-999,9,-999,    35.6994,2,-999,9,20120413,       2307
33AT20120324,        A22,      77,          1,         19,         19,2,20120413,       2222,    13.1321,   -69.8827,       1979,   351.2,  11.2679,  35.2814,2,  35.2793,2,    122.9,2,   122.4,2,   10.93,2,   23.77,2,    0.00,2,    1.51,2,   1.673,2,   0.909,2,   0.019,2,    0.38,4,    -999,9,    -999,9,     -999,9,     -999,    -999,9,     -999,9,    -999,9,  11.2439,2,    -999,9,    -999,9,    -999,    -999,9,    -999,    0.35,2,   47.41,2,   27.98,2,  13.1322, -69.8827,    -999,     -999,    -999,  11.2235,  11.2439,2,-999,9,-999,-999,9,-999,    35.4457,2,-999,9,20120413,       2306
33AT20120324,        A22,      77,          1,         18,         18,2,20120413,       2222,    13.1321,   -69.8827,       1979,   401.9,  10.0175,  35.0819,2,  35.0812,2,    121.3,2,   120.0,2,   13.33,2,   26.45,2,    0.00,2,    1.71,2,   1.457,2,   0.779,2,   0.021,2,    0.20,4,  2200.2,2, 2312.88,2,   7.6377,2,       25,    -999,9,     -999,9,    -999,9,  10.0163,2,    0.58,2,    -3.5,2,     3.1,    -999,9,    -999,    0.37,2,   46.33,2,   31.46,2,  13.1322, -69.8827,    -999,     -999,    -999,   9.9703,  10.0163,2,-999,9,-999,-999,9,-999,    35.2466,2,-999,9,20120413,       2304
33AT20120324,        A22,      77,          1,         17,         17,2,20120413,       2222,    13.1321,   -69.8827,       1979,   452.6,   9.1285,  34.9692,2,  34.9517,2,    120.0,2,   119.8,2,   15.66,2,   28.55,2,    0.00,2,    1.84,2,   1.201,2,   0.622,2,   0.022,2,    0.16,4,    -999,9,    -999,9,     -999,9,     -999,    -999,9,     -999,9,    -999,9,   9.1236,2,    -999,9,    -999,9,    -999,    -999,9,    -999,    0.41,2,   44.97,2,   33.35,2,  13.1322, -69.8827,    -999,     -999,    -999,   9.0782,   9.1236,2,-999,9,-999,-999,9,-999,    35.1165,2,-999,9,20120413,       2302
33AT20120324,        A22,      77,          1,         16,         16,2,20120413,       2222,    13.1321,   -69.8827,       1979,   502.4,   8.3529,  34.8779,2,  34.8781,2,    119.7,2,   119.6,2,   17.46,2,   29.87,2,    0.00,2,    1.94,2,   1.000,2,   0.520,2,   0.016,2,    0.14,4,  2209.3,2, 2305.03,2,   7.5932,2,       25,    -999,9,     -999,9,    -999,9,   8.3518,2,    0.60,2,   -36.8,2,     2.5,    -999,9,    -999,    0.37,2,   44.81,2,   34.94,2,  13.1322, -69.8827,    -999,     -999,    -999,   8.2998,   8.3518,2,-999,9,-999,-999,9,-999,    35.0426,2,-999,9,20120413,       2300
33AT20120324,        A22,      77,          1,         15,         15,2,20120413,       2222,    13.1321,   -69.8827,       1979,   603.0,   7.1996,  34.7622,2,  34.7627,2,    123.2,2,   123.2,2,   20.91,2,   31.79,2,    0.00,2,    2.09,2,   0.668,2,   0.344,2,   0.013,2,    0.00,4,  2214.3,2, 2302.84,2,   7.5710,2,       25,    -999,9,     -999,9,    -999,9,   7.2022,2,    0.64,2,   -60.6,2,     2.5,    -999,9,    -999,    0.34,2,   43.98,2,   35.32,2,  13.1323, -69.8826,    -999,     -999,    -999,   7.1408,   7.2022,2,-999,9,-999,-999,9,-999,    34.9266,2,-999,9,20120413,       2257
33AT20120324,        A22,      77,          1,         14,         14,2,20120413,       2222,    13.1321,   -69.8827,       1979,   704.0,   6.6911,  34.7466,2,  34.7480,2,    126.9,2,   127.0,2,   22.77,2,   32.11,2,    0.00,2,    2.13,2,   0.454,2,   0.234,2,   0.008,2,    0.13,4,  2216.4,6, 2303.97,2,   7.5699,2,       25,    -999,9,     -999,9,    -999,9,   6.6926,2,    0.67,2,   -69.9,2,     2.4,    -999,9,    -999,    0.26,2,   43.33,2,   35.88,2,  13.1323, -69.8826,    -999,     -999,    -999,   6.6246,   6.6926,2,-999,9,-999,-999,9,-999,    34.9118,2,-999,9,20120413,       2255
33AT20120324,        A22,      77,          1,         13,         13,2,20120413,       2222,    13.1321,   -69.8827,       1979,   804.8,   5.9772,  34.7665,2,  34.7688,2,    138.4,2,   140.0,2,   24.69,2,   31.26,2,    0.00,2,    2.10,2,   0.233,2,   0.129,2,   0.005,2,    0.25,4,  2214.5,2, 2307.89,2,   7.5846,6,       25,    -999,9,     -999,9,    -999,9,   5.9763,2,    0.66,2,   -90.2,2,     2.7,    -999,9,    -999,    0.18,2,   42.81,2,   34.74,2,  13.1323, -69.8826,    -999,     -999,    -999,   5.9050,   5.9763,2,-999,9,-999,-999,9,-999,    34.9328,2,-999,9,20120413,       2252
33AT20120324,        A22,      77,          1,         12,         12,2,20120413,       2222,    13.1321,   -69.8827,       1979,   906.3,   5.5504,  34.8579,2,  34.8599,2,    156.9,2,   159.1,2,   24.74,2,   28.44,2,    0.00,2,    1.92,2,   0.146,2,   0.080,2,   0.005,2,    0.00,4,  2208.1,2, 2314.01,2,   7.6212,2,       25,    -999,9,     -999,9,    -999,9,   5.5502,2,    0.74,2,   -92.7,2,     3.2,    -999,9,    -999,    0.15,2,   41.78,2,   31.61,2,  13.1323, -69.8826,    -999,     -999,    -999,   5.4712,   5.5502,2,-999,9,-999,-999,9,-999,    35.0242,2,-999,9,20120413,       2250
33AT20120324,        A22,      77,          1,         11,         11,2,20120413,       2222,    13.1321,   -69.8827,       1979,  1005.9,   5.1001,  34.9225,2,  34.9224,2,    176.8,2,   178.5,2,   24.79,2,   25.92,2,    0.00,2,    1.77,2,   0.093,2,   0.056,2,   0.004,2,    0.07,4,  2203.0,2, 2320.10,2,   7.6542,2,       25,    -999,9,     -999,9,    -999,9,   5.1039,2,    0.83,2,   -89.6,2,     2.3,    -999,9,    -999,    0.14,2,   41.24,2,   29.67,2,  13.1323, -69.8826,    -999,     -999,    -999,   5.0148,   5.1039,2,-999,9,-999,-999,9,-999,    35.0871,2,-999,9,20120413,       2247
33AT20120324,        A22,      77,          1,         10,         10,2,20120413,       2222,    13.1321,   -69.8827,       1979,  1108.7,   4.8190,  34.9438,2,  34.9449,2,    190.1,2,   189.7,2,   24.81,2,   24.61,2,    0.00,2,    1.69,2,   0.079,2,   0.045,2,   0.003,2,    0.00,4,    -999,9,    -999,9,     -999,9,     -999,    -999,9,     -999,9,    -999,9,   4.8215,2,    -999,9,    -999,9,    -999,    -999,9,    -999,    0.14,2,   40.75,2,   28.05,2,  13.1323, -69.8826,    -999,     -999,    -999,   4.7265,   4.8215,2,-999,9,-999,-999,9,-999,    35.1096,2,-999,9,20120413,       2244
33AT20120324,        A22,      77,          1,          9,          9,2,20120413,       2222,    13.1321,   -69.8827,       1979,  1209.2,   4.6407,  34.9556,2,  34.9569,2,    198.5,2,   197.9,2,   24.50,2,   23.76,2,    0.00,2,    1.63,2,   0.082,2,   0.049,2,   0.002,2,    0.00,4,    -999,9,    -999,9,     -999,9,     -999,    -999,9,     -999,9,    -999,9,   4.6412,2,    -999,9,    -999,9,    -999,    -999,9,    -999,    0.16,2,   40.61,2,   27.35,2,  13.1323, -69.8826,    -999,     -999,    -999,   4.5405,   4.6412,2,-999,9,-999,-999,9,-999,    35.1217,2,-999,9,20120413,       2242
33AT20120324,        A22,      77,          1,          8,          8,2,20120413,       2222,    13.1321,   -69.8827,       1979,  1309.3,   4.4551,  34.9640,2,  34.9655,2,    204.6,2,   204.7,2,   24.99,2,   23.13,2,    0.00,2,    1.58,2,   0.078,2,   0.048,2,   0.003,2,    0.25,4,    -999,9,    -999,9,     -999,9,     -999,    -999,9,     -999,9,    -999,9,   4.4553,2,    -999,9,    -999,9,    -999,    -999,9,    -999,    0.16,2,   40.16,2,   26.14,2,  13.1323, -69.8827,    -999,     -999,    -999,   4.3475,   4.4553,2,-999,9,-999,-999,9,-999,    35.1304,2,-999,9,20120413,       2239
33AT20120324,        A22,      77,          1,          7,          7,2,20120413,       2222,    13.1321,   -69.8827,       1979,  1412.0,   4.3327,  34.9684,2,  34.9703,2,    207.2,2,   208.8,2,   25.67,2,   22.75,2,    0.00,2,    1.56,2,   0.075,2,   0.049,2,   0.004,2,    0.15,4,    -999,9,    -999,9,     -999,9,     -999,    -999,9,     -999,9,    -999,9,   4.3312,2,    -999,9,    -999,9,    -999,    -999,9,    -999,    0.16,2,   41.01,2,   26.77,2,  13.1322, -69.8827,    -999,     -999,    -999,   4.2169,   4.3312,2,-999,9,-999,-999,9,-999,    35.1351,2,-999,9,20120413,       2237
33AT20120324,        A22,      77,          1,          6,          6,2,20120413,       2222,    13.1321,   -69.8827,       1979,  1512.5,   4.2537,  34.9703,2,  34.9726,2,    209.3,2,   209.8,2,   26.34,2,   22.52,2,    0.00,2,    1.54,2,   0.067,2,   0.048,2,   0.004,2,    0.38,4,  2195.7,2, 2332.82,2,   7.6991,2,       25,    -999,9,     -999,9,    -999,9,   4.2536,2,    0.83,2,   -92.0,2,     2.3,    -999,9,    -999,    0.14,2,   39.85,2,   25.03,2,  13.1322, -69.8827,    -999,     -999,    -999,   4.1294,   4.2536,2,-999,9,-999,-999,9,-999,    35.1375,2,-999,9,20120413,       2234
33AT20120324,        A22,      77,          1,          5,          5,2,20120413,       2222,    13.1321,   -69.8827,       1979,  1613.9,   4.1970,  34.9715,2,  34.9726,2,    211.2,2,   211.6,2,   26.72,2,   22.37,2,    0.00,2,    1.53,2,   0.063,2,   0.044,2,   0.004,2,    0.00,4,    -999,9,    -999,9,     -999,9,     -999,    -999,9,     -999,9,    -999,9,   4.1972,2,    -999,9,    -999,9,    -999,    -999,9,    -999,    0.15,2,   40.12,2,   25.85,2,  13.1322, -69.8827,    -999,     -999,    -999,   4.0639,   4.1972,2,-999,9,-999,-999,9,-999,    35.1375,2,-999,9,20120413,       2232
33AT20120324,        A22,      77,          1,          4,          4,2,20120413,       2222,    13.1321,   -69.8827,       1979,  1715.6,   4.1523,  34.9728,2,  34.9752,2,    212.5,2,   212.4,2,   27.32,2,   22.24,2,    0.00,2,    1.52,2,   0.050,2,   0.038,2,   0.005,2,    0.19,4,    -999,9,    -999,9,     -999,9,     -999,    -999,9,     -999,9,    -999,9,   4.1523,2,    -999,9,    -999,9,    -999,    -999,9,    -999,    0.13,2,   39.87,2,   25.07,2,  13.1322, -69.8827,    -999,     -999,    -999,   4.0101,   4.1523,2,-999,9,-999,-999,9,-999,    35.1401,2,-999,9,20120413,       2229
33AT20120324,        A22,      77,          1,          3,          3,2,20120413,       2222,    13.1321,   -69.8827,       1979,  1814.9,   4.1103,  34.9731,2,  34.9746,2,    213.3,2,   215.6,4,   27.99,2,   22.16,2,    0.00,2,    1.52,2,   0.043,2,   0.034,2,   0.004,2,    0.47,4,    -999,9,    -999,9,     -999,9,     -999,    -999,9,     -999,9,    -999,9,   4.1099,2,    -999,9,    -999,9,    -999,    -999,9,    -999,    0.11,2,   41.05,2,   24.97,2,  13.1322, -69.8827,    -999,     -999,    -999,   3.9592,   4.1099,2,-999,9,-999,-999,9,-999,    35.1395,2,-999,9,20120413,       2226
33AT20120324,        A22,      77,          1,          2,          2,2,20120413,       2222,    13.1321,   -69.8827,       1979,  1897.2,   4.0877,  34.9737,2,  34.9750,2,    213.0,2,   215.5,4,   28.72,2,   22.15,2,    0.00,2,    1.52,2,   0.038,2,   0.034,2,   0.005,2,    0.48,4,    -999,9,    -999,9,     -999,9,     -999,    -999,9,     -999,9,    -999,9,   4.0879,2,    -999,9,    -999,9,    -999,    -999,9,    -999,    0.10,2,   40.56,2,   24.67,2,  13.1321, -69.8827,    -999,     -999,    -999,   3.9289,   4.0879,2,-999,9,-999,-999,9,-999,    35.1399,2,-999,9,20120413,       2224
33AT20120324,        A22,      77,          1,          1,          1,2,20120413,       2222,    13.1321,   -69.8827,       1979,  1980.5,   4.0835,  34.9738,2,  34.9758,2,    213.0,2,   213.1,2,   28.97,2,   22.14,2,    0.00,2,    1.52,2,   0.038,2,   0.034,2,   0.006,2,    0.52,4,  2199.9,2, 2336.89,2,   7.7092,2,       25,    -999,9,     -999,9,    -999,9,   4.0841,2,    0.88,2,   -88.4,2,     2.6,    -999,9,    -999,    0.13,2,   40.52,2,   24.71,2,  13.1321, -69.8827,    -999,     -999,    -999,   3.9166,   4.0841,2,-999,9,-999,-999,9,-999,    35.1407,2,-999,9,20120413,       2222