BOTTLE,20220725CCHSIOCBG
EXPOCODE,SECT_ID,STNNBR,CASTNO,SAMPNO,BTLNBR,BTLNBR_FLAG_W,DATE,TIME,LATITUDE,LONGITUDE,DEPTH,CTDPRS,CTDTMP,CTDSAL,CTDSAL_FLAG_W,SALNTY,SALNTY_FLAG_W,CTDOXY,CTDOXY_FLAG_W,OXYGEN,OXYGEN_FLAG_W,SILCAT,SILCAT_FLAG_W,NITRAT,NITRAT_FLAG_W,NITRIT,NITRIT_FLAG_W,PHSPHT,PHSPHT_FLAG_W,CFC-11,CFC-11_FLAG_W,CFC-12,CFC-12_FLAG_W,CFC113,CFC113_FLAG_W,SF6,SF6_FLAG_W,TCARBN,TCARBN_FLAG_W,ALKALI,ALKALI_FLAG_W,PH_TOT,PH_TOT_FLAG_W,PH_TMP,TRITUM,TRITUM_FLAG_W,HELIUM,HELIUM_FLAG_W,DELHE3,DELHE3_FLAG_W,REFTMP,REFTMP_FLAG_W,DELC13,DELC13_FLAG_W,DELC14,DELC14_FLAG_W,C14ERR,NEON,NEON_FLAG_W,NEONER,CCL4,CCL4_FLAG_W,DOC,DOC_FLAG_W,TDN,TDN_FLAG_W,BTL_LAT,BTL_LON,TRITER,HELIER,DELHER,THETA,SBE35,SBE35_FLAG_W,14C-DOC,14C-DOC_FLAG_W,14C-DOCERR,13C-DOC,13C-DOC_FLAG_W,13C-DOCERR,SALTREF,SALTREF_FLAG_W,LAB_DEN,LAB_DEN_FLAG_W,BTL_DATE,BTL_TIME
,,,,,,,,,,,METERS,DBAR,ITS-90,PSS-78,,PSS-78,,UMOL/KG,,UMOL/KG,,UMOL/KG,,UMOL/KG,,UMOL/KG,,UMOL/KG,,PMOL/KG,,PMOL/KG,,PMOL/KG,,FMOL/KG,,UMOL/KG,,UMOL/KG,,,,DEG C,TU,,NMOL/KG,,PERCNT,,DEG C,,/MILLE,,/MILLE,,/MILLE,NMOL/KG,,NMOL/KG,PMOL/KG,,UMOL/KG,,UMOL/KG,,,,TU,NMOL/KG,PERCNT,DEG C,ITS-90,,/MILLE,,/MILLE,/MILLE,,/MILLE,G/KG,,KG/M^3,,,
33AT20120324,        A22,      45,          1,         36,         36,2,20120407,       0850,    20.0282,   -65.9936,       7417,     3.0,  25.8774,  36.2263,2,  36.2248,2,    205.3,2,   204.5,2,    0.88,2,    0.00,2,    0.00,2,    0.00,2,   1.604,2,   1.067,2,   0.127,2,    0.78,4,  2022.0,6, 2374.55,2,   8.1067,6,       25,    -999,9,     -999,9,    -999,9,  25.8829,2,    1.08,2,    55.2,2,     2.6,    -999,9,    -999,    1.58,2,   74.08,2,    4.38,2,  20.0288, -65.9928,    -999,     -999,    -999,  25.8767,  25.8829,2,-999,9,-999,-999,9,-999,    36.3956,2,-999,9,20120407,       1109
33AT20120324,        A22,      45,          1,         35,         35,2,20120407,       0850,    20.0282,   -65.9936,       7417,    35.2,  25.5148,  36.2201,2,  36.2174,2,    207.3,2,   206.6,2,    0.88,2,    0.00,2,    0.00,2,    0.00,2,   1.645,2,   1.065,2,   0.121,2,    1.10,4,  2021.2,2, 2375.03,6,   8.1088,2,       25,    -999,9,     -999,9,    -999,9,  25.5183,2,    1.11,2,    46.7,2,     2.8,    -999,9,    -999,    1.60,2,   73.42,2,    3.61,2,  20.0287, -65.9929,    -999,     -999,    -999,  25.5070,  25.5183,2,-223,2,4,-21.8,2,0.2,    36.3882,2,-999,9,20120407,       1106
33AT20120324,        A22,      45,          1,         34,         34,2,20120407,       0850,    20.0282,   -65.9936,       7417,    59.7,  25.3635,  36.2709,2,  36.2703,2,    207.9,2,   207.8,2,    0.81,2,    0.00,2,    0.00,2,    0.00,2,   1.657,2,   1.060,2,   0.122,2,    0.64,4,  2022.9,2, 2379.12,2,   8.0941,2,       25,    -999,9,     -999,9,    -999,9,  25.3652,2,    1.08,2,    43.8,2,     4.1,    -999,9,    -999,    1.55,2,   74.72,2,    5.21,2,  20.0288, -65.9929,    -999,     -999,    -999,  25.3504,  25.3652,2,-999,9,-999,-999,9,-999,    36.4413,2,-999,9,20120407,       1104
33AT20120324,        A22,      45,          1,         33,         33,2,20120407,       0850,    20.0282,   -65.9936,       7417,    85.2,  25.2663,  36.7121,2,  36.7145,2,    206.8,2,   205.7,2,    0.37,2,    0.00,2,    0.00,2,    0.00,2,   1.692,2,   1.081,2,   0.122,2,    1.29,4,    -999,9,    -999,9,     -999,9,     -999,    -999,9,     -999,9,    -999,9,  25.2649,2,    -999,9,    -999,9,    -999,    -999,9,    -999,    0.97,2,   73.91,2,    5.19,2,  20.0288, -65.9928,    -999,     -999,    -999,  25.2476,  25.2649,2,-999,9,-999,-999,9,-999,    36.8877,2,-999,9,20120407,       1102
33AT20120324,        A22,      45,          1,         32,         32,2,20120407,       0850,    20.0282,   -65.9936,       7417,   118.3,  24.0515,  36.9416,2,  36.9413,2,    201.3,2,   201.4,2,    0.12,2,    0.00,2,    0.00,2,    0.00,2,   1.798,2,   1.150,2,   0.128,2,    1.23,4,  2077.8,2, 2415.91,2,   8.0691,2,       25,    -999,9,     -999,9,    -999,9,  24.0548,2,    1.01,2,    58.3,2,     2.8,    -999,9,    -999,    0.70,2,   66.33,2,    4.57,2,  20.0288, -65.9928,    -999,     -999,    -999,  24.0264,  24.0548,2,-243,2,4,-21.5,2,0.2,    37.1155,2,-999,9,20120407,       1059
33AT20120324,        A22,      45,          1,         31,         31,2,20120407,       0850,    20.0282,   -65.9936,       7417,   168.0,  21.3268,  36.8809,2,  36.8798,2,    187.2,2,   187.2,2,    0.17,2,    0.84,2,    0.02,2,    0.01,2,   1.943,2,   1.226,2,   0.078,2,    0.96,4,  2111.0,2, 2410.37,2,   8.0112,2,       25,    -999,9,     -999,9,    -999,9,  21.3246,2,    0.86,2,    62.6,2,     2.8,    -999,9,    -999,    0.39,2,   58.65,2,    5.28,2,  20.0289, -65.9928,    -999,     -999,    -999,  21.2940,  21.3246,2,-999,9,-999,-999,9,-999,    37.0537,2,-999,9,20120407,       1057
33AT20120324,        A22,      45,          1,         30,         30,2,20120407,       0850,    20.0282,   -65.9936,       7417,   216.3,  19.7244,  36.7525,2,  36.7590,2,    178.8,2,   180.0,2,    0.50,2,    2.69,2,    0.01,2,    0.09,2,   2.060,2,   1.285,2,   0.022,2,    0.62,4,  2124.9,2, 2402.82,2,   7.9754,2,       25,    -999,9,     -999,9,    -999,9,  19.7636,2,    0.62,2,    71.6,2,     3.0,    -999,9,    -999,    0.21,2,   54.53,2,    6.09,2,  20.0289, -65.9927,    -999,     -999,    -999,  19.6844,  19.7636,2,-320,2,4,-22.3,2,0.2,    36.9323,2,-999,9,20120407,       1054
33AT20120324,        A22,      45,          1,         29,         29,2,20120407,       0850,    20.0282,   -65.9936,       7417,   267.8,  18.5313,  36.6109,2,  36.6083,2,    190.2,2,   189.2,2,    0.80,2,    4.20,2,    0.00,2,    0.18,2,   2.127,2,   1.361,2,   0.019,2,    0.51,4,  2120.5,2, 2392.34,2,   7.9696,2,       25,    -999,9,     -999,9,    -999,9,  18.5423,2,    0.62,2,    64.0,2,     2.8,    -999,9,    -999,    0.28,2,   50.93,2,    7.66,2,  20.0289, -65.9927,    -999,     -999,    -999,  18.4838,  18.5423,2,-999,9,-999,-999,9,-999,    36.7809,2,-999,9,20120407,       1052
33AT20120324,        A22,      45,          1,         28,         28,2,20120407,       0850,    20.0282,   -65.9936,       7417,   316.7,  17.9451,  36.5278,2,  36.5264,2,    188.7,2,   192.6,2,    1.13,2,    5.15,2,    0.00,2,    0.24,2,   2.189,2,   1.340,2,   0.018,2,    0.58,4,    -999,9,    -999,9,     -999,9,     -999,    -999,9,     -999,9,    -999,9,  17.9360,2,    -999,9,    -999,9,    -999,    -999,9,    -999,    0.33,2,   48.07,2,    8.77,2,  20.0289, -65.9926,    -999,     -999,    -999,  17.8901,  17.9360,2,-999,9,-999,-999,9,-999,    36.6986,2,-999,9,20120407,       1051
33AT20120324,        A22,      45,          1,         27,         27,2,20120407,       0850,    20.0282,   -65.9936,       7417,   366.7,  17.2412,  36.4048,2,  36.3913,2,    184.2,2,   184.3,2,    1.78,2,    7.31,2,    0.00,2,    0.39,2,   2.202,2,   1.326,2,   0.019,2,    0.34,4,  2131.4,2, 2379.95,2,   7.9298,2,       25,    -999,9,     -999,9,    -999,9,  17.2378,2,    0.62,2,    57.4,2,     4.1,    -999,9,    -999,    0.33,2,   46.43,2,   11.03,2,  20.0290, -65.9926,    -999,     -999,    -999,  17.1792,  17.2378,2,-999,9,-999,-999,9,-999,    36.5629,2,-999,9,20120407,       1049
33AT20120324,        A22,      45,          1,         26,         26,2,20120407,       0850,    20.0282,   -65.9936,       7417,   435.6,  15.9656,  36.1742,2,  36.1607,2,    164.7,2,   164.8,2,    3.07,2,   11.17,2,    0.00,2,    0.63,2,   2.137,2,   1.250,2,   0.021,2,    0.55,4,  2150.2,2, 2366.24,2,   7.8683,2,       25,    -999,9,     -999,9,    -999,9,  15.9639,2,    0.57,2,    53.3,2,     3.5,    -999,9,    -999,    0.28,2,   45.07,2,   14.79,2,  20.0290, -65.9926,    -999,     -999,    -999,  15.8957,  15.9639,2,-353,2,4,-999,9,-999,    36.3312,2,-999,9,20120407,       1047
33AT20120324,        A22,      45,          1,         25,         25,2,20120407,       0850,    20.0282,   -65.9936,       7417,   539.6,  13.5690,  35.7697,2,  35.7695,2,    145.9,2,   146.1,2,    6.01,2,   16.88,2,    0.00,2,    1.01,2,   1.917,2,   1.085,2,   0.017,2,    0.18,4,  2170.2,2, 2346.00,2,   7.7849,2,       25,    -999,9,     -999,9,    -999,9,  13.5810,2,    0.60,2,    37.0,2,     2.6,    -999,9,    -999,    0.26,2,   43.43,2,   20.06,2,  20.0290, -65.9926,    -999,     -999,    -999,  13.4912,  13.5810,2,-999,9,-999,-999,9,-999,    35.9382,2,-999,9,20120407,       1044
33AT20120324,        A22,      45,          1,         24,         24,2,20120407,       0850,    20.0282,   -65.9936,       7417,   638.7,  11.3409,  35.4295,2,  35.4346,2,    135.0,2,   135.3,2,    9.86,2,   22.05,2,    0.00,2,    1.37,2,   1.477,2,   0.844,2,   0.017,2,    0.07,4,  2187.4,2, 2329.37,2,   7.7130,2,       25,    -999,9,     -999,9,    -999,9,  11.3952,2,    0.58,2,    12.8,2,     2.6,    -999,9,    -999,    0.25,2,   42.36,2,   25.33,2,  20.0291, -65.9925,    -999,     -999,    -999,  11.2586,  11.3952,2,-395,2,4,-22.6,2,0.2,    35.6017,2,-999,9,20120407,       1042
33AT20120324,        A22,      45,          1,         23,         23,2,20120407,       0850,    20.0282,   -65.9936,       7417,   742.0,   9.4364,  35.1588,2,  35.1582,2,    128.9,2,   128.8,2,   14.32,2,   26.40,2,    0.00,2,    1.68,2,   0.957,2,   0.503,2,   0.010,2,    0.00,4,  2200.6,2, 2318.45,2,   7.6552,2,       25,    -999,9,     -999,9,    -999,9,   9.4398,2,    0.66,2,   -23.8,2,     2.6,    -999,9,    -999,    0.23,2,   42.19,2,   28.44,2,  20.0291, -65.9925,    -999,     -999,    -999,   9.3507,   9.4398,2,-999,9,-999,-999,9,-999,    35.3239,2,-999,9,20120407,       1039
33AT20120324,        A22,      45,          1,         22,         22,2,20120407,       0850,    20.0282,   -65.9936,       7417,   839.4,   8.0677,  35.0076,2,  35.0091,2,    132.2,2,   132.7,2,   17.69,2,   28.42,2,    0.00,2,    1.83,2,   0.636,2,   0.330,2,   0.008,2,    0.00,4,  2204.6,6, 2314.90,2,   7.6302,6,       25,    -999,9,     -999,9,    -999,9,   8.0587,2,    0.65,2,   -53.6,2,     2.4,    -999,9,    -999,    0.22,2,   41.16,2,   30.69,2,  20.0291, -65.9925,    -999,     -999,    -999,   7.9788,   8.0587,2,-441,2,4,-999,9,-999,    35.1742,2,-999,9,20120407,       1037
33AT20120324,        A22,      45,          1,         21,         21,2,20120407,       0850,    20.0282,   -65.9936,       7417,   942.5,   7.2644,  34.9954,2,  34.9958,2,    146.2,2,   148.2,2,   18.53,2,   27.40,2,    0.00,2,    1.80,2,   0.529,2,   0.271,2,   0.009,2,    0.00,4,  2203.8,2, 2315.41,2,   7.6420,2,       25,    -999,9,     -999,9,    -999,9,   7.2528,2,    0.73,2,   -63.4,2,     2.5,    -999,9,    -999,    0.27,2,   41.84,2,   29.97,2,  20.0291, -65.9925,    -999,     -999,    -999,   7.1696,   7.2528,2,-999,9,-999,-999,9,-999,    35.1608,2,-999,9,20120407,       1034
33AT20120324,        A22,      45,          1,         20,         20,2,20120407,       0850,    20.0282,   -65.9936,       7417,  1042.8,   6.3798,  34.9860,2,  34.9861,2,    165.5,2,   166.7,2,   18.74,2,   26.01,2,    0.00,2,    1.73,2,   0.511,2,   0.266,2,   0.016,2,    0.00,4,  2197.9,2, 2315.85,2,   7.6538,2,       25,    -999,9,     -999,9,    -999,9,   6.3828,2,    0.74,2,   -62.7,2,     2.5,    -999,9,    -999,    0.36,2,   41.21,2,   28.62,2,  20.0292, -65.9924,    -999,     -999,    -999,   6.2810,   6.3828,2,-441,2,4,-22.4,2,0.2,    35.1511,2,-999,9,20120407,       1031
33AT20120324,        A22,      45,          1,         19,         19,2,20120407,       0850,    20.0282,   -65.9936,       7417,  1143.1,   5.7667,  35.0061,2,  35.0060,2,    186.7,2,   195.5,2,   16.57,2,   22.99,2,    0.00,2,    1.52,2,   0.907,2,   0.495,2,   0.039,2,    0.26,4,  2187.6,2, 2316.79,2,   7.6821,2,       25,    -999,9,     -999,9,    -999,9,   5.7701,2,    0.82,2,   -54.9,2,     3.2,    -999,9,    -999,    0.74,2,   40.95,2,   25.67,2,  20.0292, -65.9924,    -999,     -999,    -999,   5.6628,   5.7701,2,-999,9,-999,-999,9,-999,    35.1711,2,-999,9,20120407,       1029
33AT20120324,        A22,      45,          1,         18,         18,2,20120407,       0850,    20.0282,   -65.9936,       7417,  1244.9,   5.3758,  35.0441,2,  35.0442,2,    214.3,2,   219.0,2,   14.28,2,   20.64,2,    0.00,2,    1.37,2,   1.115,2,   0.583,2,   0.042,2,    0.22,4,  2177.3,2, 2315.68,2,   7.7096,2,       25,    -999,9,     -999,9,    -999,9,   5.3747,2,    0.85,2,   -47.4,2,     2.5,    -999,9,    -999,    1.01,2,   40.98,2,   22.79,2,  20.0293, -65.9923,    -999,     -999,    -999,   5.2653,   5.3747,2,-999,9,-999,-999,9,-999,    35.2094,2,-999,9,20120407,       1026
33AT20120324,        A22,      45,          1,         17,         17,2,20120407,       0850,    20.0282,   -65.9936,       7417,  1345.6,   4.9377,  35.0381,2,  35.0377,2,    232.3,2,   235.1,2,   13.07,2,   19.25,2,    0.00,2,    1.28,2,   1.370,2,   0.683,2,   0.061,2,    0.51,4,  2172.4,2, 2314.77,2,   7.7203,2,       25,    -999,9,     -999,9,    -999,9,   4.9366,2,    0.92,2,   -39.7,2,     3.1,    -999,9,    -999,    1.33,2,   40.28,2,   21.93,2,  20.0293, -65.9923,    -999,     -999,    -999,   4.8217,   4.9366,2,-406,2,4,-22.3,2,0.2,    35.2029,2,-999,9,20120407,       1024
33AT20120324,        A22,      45,          1,         16,         16,2,20120407,       0850,    20.0282,   -65.9936,       7417,  1474.5,   4.4715,  35.0102,2,  35.0090,2,    246.4,2,   249.3,2,   12.45,2,   18.35,2,    0.00,2,    1.22,2,   1.718,2,   0.910,2,   0.088,2,    0.16,4,    -999,9,    -999,9,     -999,9,     -999,    -999,9,     -999,9,    -999,9,   4.4674,2,    -999,9,    -999,9,    -999,    -999,9,    -999,    1.63,2,   41.02,2,   20.76,2,  20.0294, -65.9922,    -999,     -999,    -999,   4.3483,   4.4674,2,-999,9,-999,-999,9,-999,    35.1740,2,-999,9,20120407,       1021
33AT20120324,        A22,      45,          1,         15,         15,2,20120407,       0850,    20.0282,   -65.9936,       7417,  1678.4,   3.9967,  34.9826,2,  34.9814,2,    257.8,2,   257.9,2,   13.10,2,   18.06,2,    0.00,2,    1.20,2,   1.576,2,   0.766,2,   0.075,2,    0.12,4,    -999,9,    -999,9,     -999,9,     -999,    -999,9,     -999,9,    -999,9,   3.9976,2,    -999,9,    -999,9,    -999,    -999,9,    -999,    1.72,2,   40.97,2,   20.09,2,  20.0295, -65.9921,    -999,     -999,    -999,   3.8600,   3.9976,2,-999,9,-999,-999,9,-999,    35.1464,2,-999,9,20120407,       1016
33AT20120324,        A22,      45,          1,         14,         14,2,20120407,       0850,    20.0282,   -65.9936,       7417,  1885.2,   3.7344,  34.9699,2,  34.9698,2,    261.6,2,   261.5,2,   14.17,2,   17.96,2,    0.00,2,    1.21,2,   1.344,2,   0.649,2,   0.062,2,    0.17,4,  2162.2,2, 2311.10,2,   7.7342,2,       25,    -999,9,     -999,9,    -999,9,   3.7341,2,    1.00,2,   -43.2,2,     2.9,    -999,9,    -999,    1.79,2,   40.77,2,   20.33,2,  20.0295, -65.9920,    -999,     -999,    -999,   3.5817,   3.7341,2,-411,2,4,-22.4,2,0.2,    35.1347,2,-999,9,20120407,       1012
33AT20120324,        A22,      45,          1,         13,         13,2,20120407,       0850,    20.0282,   -65.9936,       7417,  2106.6,   3.4886,  34.9623,2,  34.9620,2,    262.6,2,   262.9,2,   16.10,2,   18.06,2,    0.00,2,    1.21,2,   1.030,2,   0.499,2,   0.045,2,    0.06,4,  2162.4,2, 2313.53,2,   7.7395,2,       25,    -999,9,     -999,9,    -999,9,   3.4883,2,    1.04,2,   -49.2,2,     3.2,    -999,9,    -999,    1.34,2,   40.75,2,   20.96,2,  20.0296, -65.9919,    -999,     -999,    -999,   3.3185,   3.4883,2,-999,9,-999,-999,9,-999,    35.1268,2,-999,9,20120407,       1007
33AT20120324,        A22,      45,          1,         12,         12,2,20120407,       0850,    20.0282,   -65.9936,       7417,  2359.8,   3.2204,  34.9538,2,  34.9478,2,    262.2,2,   262.1,2,   18.67,2,   18.18,2,    0.00,2,    1.23,2,   0.731,2,   0.364,2,   0.028,2,    0.15,4,    -999,9,    -999,9,     -999,9,     -999,    -999,9,     -999,9,    -999,9,   3.2202,2,    -999,9,    -999,9,    -999,    -999,9,    -999,    1.01,2,   40.97,2,   20.77,2,  20.0294, -65.9921,    -999,     -999,    -999,   3.0302,   3.2202,2,-999,9,-999,-999,9,-999,    35.1126,2,-999,9,20120407,       1002
33AT20120324,        A22,      45,          1,         11,         11,2,20120407,       0850,    20.0282,   -65.9936,       7417,  2613.3,   2.9929,  34.9421,2,  34.9417,2,    262.7,2,   262.7,2,   20.86,2,   18.36,2,    0.00,2,    1.24,2,   0.656,2,   0.328,2,   0.022,2,    0.09,4,  2166.3,2, 2318.26,6,   7.7408,2,       25,    -999,9,     -999,9,    -999,9,   2.9928,2,    1.05,2,   -72.9,2,     2.6,    -999,9,    -999,    0.94,2,   41.16,2,   20.74,2,  20.0294, -65.9922,    -999,     -999,    -999,   2.7818,   2.9928,2,-425,2,4,-22.7,2,0.2,    35.1065,2,-999,9,20120407,        957
33AT20120324,        A22,      45,          1,         10,         10,2,20120407,       0850,    20.0282,   -65.9936,       7417,  2868.8,   2.7824,  34.9292,2,  34.9277,2,    263.8,2,   263.6,2,   22.50,2,   18.24,2,    0.00,2,    1.24,2,   0.705,2,   0.343,2,   0.031,2,    0.05,4,    -999,9,    -999,9,     -999,9,     -999,    -999,9,     -999,9,    -999,9,   2.7825,2,    -999,9,    -999,9,    -999,    -999,9,    -999,    0.95,2,   41.19,2,   20.67,2,  20.0293, -65.9922,    -999,     -999,    -999,   2.5498,   2.7825,2,-999,9,-999,-999,9,-999,    35.0924,2,-999,9,20120407,        952
33AT20120324,        A22,      45,          1,          9,          9,2,20120407,       0850,    20.0282,   -65.9936,       7417,  3139.0,   2.5456,  34.9138,2,  34.9100,2,    266.2,2,   266.9,2,   23.77,2,   18.05,2,    0.00,2,    1.24,2,   0.834,2,   0.408,2,   0.042,2,    0.14,4,    -999,9,    -999,9,     -999,9,     -999,    -999,9,     -999,9,    -999,9,   2.5455,2,    -999,9,    -999,9,    -999,    -999,9,    -999,    1.07,2,   40.49,2,   20.41,2,  20.0294, -65.9921,    -999,     -999,    -999,   2.2904,   2.5455,2,-999,9,-999,-999,9,-999,    35.0746,2,-999,9,20120407,        947
33AT20120324,        A22,      45,          1,          8,          8,2,20120407,       0850,    20.0282,   -65.9936,       7417,  3446.2,   2.4002,  34.9035,2,  34.9020,2,    267.4,2,   267.4,2,   25.58,2,   18.14,2,    0.00,2,    1.24,2,   0.870,2,   0.437,2,   0.048,2,    0.14,4,  2170.2,2, 2321.58,2,   7.7375,2,       25,    -999,9,     -999,9,    -999,9,   2.3998,2,    1.07,2,   -69.3,2,     2.6,    -999,9,    -999,    1.09,2,   40.36,2,   20.30,2,  20.0294, -65.9921,    -999,     -999,    -999,   2.1160,   2.3998,2,-415,2,4,-22.7,2,0.2,    35.0665,2,-999,9,20120407,        941
33AT20120324,        A22,      45,          1,          7,          7,2,20120407,       0850,    20.0282,   -65.9936,       7417,  3787.6,   2.3077,  34.8956,2,  34.8949,2,    266.7,2,   267.5,2,   28.17,2,   18.43,2,    0.00,2,    1.26,2,   0.860,2,   0.420,2,   0.050,2,    0.15,4,    -999,9,    -999,9,     -999,9,     -999,    -999,9,     -999,9,    -999,9,   2.3073,2,    -999,9,    -999,9,    -999,    -999,9,    -999,    1.09,2,   40.52,2,   20.69,2,  20.0294, -65.9921,    -999,     -999,    -999,   1.9887,   2.3073,2,-999,9,-999,-999,9,-999,    35.0594,2,-999,9,20120407,        934
33AT20120324,        A22,      45,          1,          6,          6,2,20120407,       0850,    20.0282,   -65.9936,       7417,  4198.9,   2.2786,  34.8902,2,  34.8902,2,    265.3,2,   265.3,2,   30.70,2,   18.75,2,    0.00,2,    1.29,2,   0.783,2,   0.387,2,   0.048,2,    0.05,4,  2176.8,2, 2326.05,2,   7.7340,2,       25,    -999,9,     -999,9,    -999,9,   2.2788,2,    1.00,2,   -81.6,2,     2.5,    -999,9,    -999,    1.00,2,   40.54,2,   21.23,2,  20.0293, -65.9923,    -999,     -999,    -999,   1.9136,   2.2788,2,-418,2,4,-22.4,2,0.2,    35.0547,2,-999,9,20120407,        927