BOTTLE,20220725CCHSIOCBG
EXPOCODE,SECT_ID,STNNBR,CASTNO,SAMPNO,BTLNBR,BTLNBR_FLAG_W,DATE,TIME,LATITUDE,LONGITUDE,DEPTH,CTDPRS,CTDTMP,CTDSAL,CTDSAL_FLAG_W,SALNTY,SALNTY_FLAG_W,CTDOXY,CTDOXY_FLAG_W,OXYGEN,OXYGEN_FLAG_W,SILCAT,SILCAT_FLAG_W,NITRAT,NITRAT_FLAG_W,NITRIT,NITRIT_FLAG_W,PHSPHT,PHSPHT_FLAG_W,CFC-11,CFC-11_FLAG_W,CFC-12,CFC-12_FLAG_W,CFC113,CFC113_FLAG_W,SF6,SF6_FLAG_W,TCARBN,TCARBN_FLAG_W,ALKALI,ALKALI_FLAG_W,PH_TOT,PH_TOT_FLAG_W,PH_TMP,TRITUM,TRITUM_FLAG_W,HELIUM,HELIUM_FLAG_W,DELHE3,DELHE3_FLAG_W,REFTMP,REFTMP_FLAG_W,DELC13,DELC13_FLAG_W,DELC14,DELC14_FLAG_W,C14ERR,NEON,NEON_FLAG_W,NEONER,CCL4,CCL4_FLAG_W,DOC,DOC_FLAG_W,TDN,TDN_FLAG_W,BTL_LAT,BTL_LON,TRITER,HELIER,DELHER,THETA,SBE35,SBE35_FLAG_W,14C-DOC,14C-DOC_FLAG_W,14C-DOCERR,13C-DOC,13C-DOC_FLAG_W,13C-DOCERR,SALTREF,SALTREF_FLAG_W,LAB_DEN,LAB_DEN_FLAG_W,BTL_DATE,BTL_TIME
,,,,,,,,,,,METERS,DBAR,ITS-90,PSS-78,,PSS-78,,UMOL/KG,,UMOL/KG,,UMOL/KG,,UMOL/KG,,UMOL/KG,,UMOL/KG,,PMOL/KG,,PMOL/KG,,PMOL/KG,,FMOL/KG,,UMOL/KG,,UMOL/KG,,,,DEG C,TU,,NMOL/KG,,PERCNT,,DEG C,,/MILLE,,/MILLE,,/MILLE,NMOL/KG,,NMOL/KG,PMOL/KG,,UMOL/KG,,UMOL/KG,,,,TU,NMOL/KG,PERCNT,DEG C,ITS-90,,/MILLE,,/MILLE,/MILLE,,/MILLE,G/KG,,KG/M^3,,,
33AT20120324,        A22,       4,          1,         26,         26,2,20120326,       0339,    39.7911,   -69.8517,       1464,     6.3,  12.2449,  33.9248,2,  33.9254,2,    562.2,4,   288.6,2,    0.60,2,    0.03,2,    0.01,2,    0.14,2,   3.315,2,   1.914,2,   0.273,2,    -999,5,  2027.8,2, 2268.51,2,   7.9305,2,       25,   1.179,2,   1.7793,2,   -1.30,2,  12.2453,2,    -999,9,    -999,9,    -999,   7.528,2,   0.034,    -999,1,    -999,9,    -999,9,  39.7908, -69.8542,   0.012,   0.0071,    0.15,  12.2441,  12.2453,2,-999,9,-999,-999,9,-999,    34.0854,2,-999,9,20120326,        451
33AT20120324,        A22,       4,          1,         25,         25,2,20120326,       0339,    39.7911,   -69.8517,       1464,    21.9,  11.2056,  33.9542,2,  33.9628,2,    502.2,4,   281.9,2,    1.37,2,    2.13,2,    0.09,2,    0.27,2,   3.349,2,   1.933,2,   0.278,2,    -999,5,  2052.1,2, 2269.22,2,   7.9146,2,       25,    -999,9,     -999,9,    -999,9,  11.1944,2,    -999,9,    -999,9,    -999,    -999,9,    -999,    -999,1,    -999,9,    -999,9,  39.7908, -69.8542,    -999,     -999,    -999,  11.2029,  11.1944,2,-999,9,-999,-999,9,-999,    34.1230,2,-999,9,20120326,        449
33AT20120324,        A22,       4,          1,         24,         24,2,20120326,       0339,    39.7911,   -69.8517,       1464,    42.1,  13.8321,  35.1147,2,  35.0739,2,    249.3,4,   249.4,2,    1.16,2,    2.73,2,    0.29,2,    0.27,2,   2.789,2,   1.648,2,   0.220,2,    -999,5,  2082.6,2, 2321.92,2,   7.9435,2,       25,    -999,9,     -999,9,    -999,9,  13.8615,2,    -999,9,    -999,9,    -999,    -999,9,    -999,    -999,1,    -999,9,    -999,9,  39.7908, -69.8542,    -999,     -999,    -999,  13.8261,  13.8615,2,-999,9,-999,-999,9,-999,    35.2392,2,-999,9,20120326,        446
33AT20120324,        A22,       4,          1,         23,         23,2,20120326,       0339,    39.7911,   -69.8517,       1464,    67.2,  14.2824,  35.4214,2,  35.4143,2,    220.5,3,   225.2,2,    2.45,2,    6.22,2,    0.05,2,    0.42,2,   2.551,2,   1.510,2,   0.184,2,    -999,5,    -999,9,    -999,9,     -999,9,     -999,   0.756,2,   1.7549,2,   -0.72,2,  14.2811,2,    -999,9,    -999,9,    -999,   7.326,2,   0.033,    -999,1,    -999,9,    -999,9,  39.7908, -69.8543,   0.010,   0.0070,    0.15,  14.2726,  14.2811,2,-999,9,-999,-999,9,-999,    35.5813,2,-999,9,20120326,        443
33AT20120324,        A22,       4,          1,         22,         22,2,20120326,       0339,    39.7911,   -69.8517,       1464,    92.1,  14.7596,  35.6245,2,  35.6729,2,    203.2,2,   203.7,2,    3.36,2,    8.28,2,    0.02,2,    0.52,2,   2.387,2,   1.404,2,   0.134,2,    -999,5,  2123.3,2, 2348.31,2,   7.9021,2,       25,    -999,9,     -999,9,    -999,9,  14.7577,2,    -999,9,    -999,9,    -999,    -999,9,    -999,    -999,1,    -999,9,    -999,9,  39.7908, -69.8542,    -999,     -999,    -999,  14.7458,  14.7577,2,-999,9,-999,-999,9,-999,    35.8411,2,-999,9,20120326,        441
33AT20120324,        A22,       4,          1,         21,         21,2,20120326,       0339,    39.7911,   -69.8517,       1464,   115.7,  14.5344,  35.7226,2,  35.7311,2,    178.9,2,   179.8,2,    4.74,2,   11.43,2,    0.00,2,    0.70,2,   2.218,2,   1.277,2,   0.094,2,    -999,5,    -999,9,    -999,9,     -999,9,     -999,   0.561,2,   1.7637,2,    1.03,2,  14.5475,2,    -999,9,    -999,9,    -999,   7.339,2,   0.033,    -999,1,    -999,9,    -999,9,  39.7908, -69.8541,   0.010,   0.0071,    0.15,  14.5172,  14.5475,2,-999,9,-999,-999,9,-999,    35.8996,2,-999,9,20120326,        438
33AT20120324,        A22,       4,          1,         20,         20,2,20120326,       0339,    39.7911,   -69.8517,       1464,   142.6,  13.9590,  35.7416,2,  35.7459,2,    150.4,2,   152.3,2,    6.48,2,   15.41,2,    0.00,2,    0.95,2,   2.041,2,   1.154,2,   0.051,2,    -999,5,  2164.2,2, 2344.95,2,   7.8077,2,       25,    -999,9,     -999,9,    -999,9,  13.9535,2,    -999,9,    -999,9,    -999,    -999,9,    -999,    -999,1,    -999,9,    -999,9,  39.7907, -69.8540,    -999,     -999,    -999,  13.9383,  13.9535,2,-999,9,-999,-999,9,-999,    35.9144,2,-999,9,20120326,        436
33AT20120324,        A22,       4,          1,         19,         19,2,20120326,       0339,    39.7911,   -69.8517,       1464,   166.7,  12.2832,  35.5480,2,  35.5571,2,    141.3,2,   140.9,2,    8.93,2,   19.32,2,    0.00,2,    1.20,2,   1.757,2,   0.962,2,   0.032,2,    -999,5,    -999,9,    -999,9,     -999,9,     -999,   0.404,2,     -999,9,    -999,9,  12.3127,3,    -999,9,    -999,9,    -999,    -999,9,    -999,    -999,1,    -999,9,    -999,9,  39.7907, -69.8540,   0.010,     -999,    -999,  12.2610,  12.3127,3,-999,9,-999,-999,9,-999,    35.7247,2,-999,9,20120326,        434
33AT20120324,        A22,       4,          1,         18,         18,2,20120326,       0339,    39.7911,   -69.8517,       1464,   191.6,  11.7160,  35.4845,2,  35.4783,2,    136.9,2,   136.5,2,   10.12,2,   21.12,2,    0.00,2,    1.32,2,   1.593,2,   0.863,2,   0.023,2,    -999,5,  2185.9,2, 2337.48,2,   7.7267,6,       25,    -999,9,     -999,9,    -999,9,  11.7173,2,    -999,9,    -999,9,    -999,    -999,9,    -999,    -999,1,    -999,9,    -999,9,  39.7907, -69.8539,    -999,     -999,    -999,  11.6913,  11.7173,2,-999,9,-999,-999,9,-999,    35.6456,2,-999,9,20120326,        431
33AT20120324,        A22,       4,          1,         17,         17,2,20120326,       0339,    39.7911,   -69.8517,       1464,   217.3,  10.7453,  35.3577,2,  35.3421,2,    133.6,2,   133.4,2,   12.17,2,   23.26,2,    0.00,2,    1.46,2,   1.390,2,   0.734,2,   0.018,2,    -999,5,    -999,9,    -999,9,     -999,9,     -999,   0.304,2,   1.8019,2,    4.66,2,  10.7237,2,    -999,9,    -999,9,    -999,   7.702,2,   0.035,    -999,1,    -999,9,    -999,9,  39.7907, -69.8538,   0.010,   0.0072,    0.15,  10.7188,  10.7237,2,-999,9,-999,-999,9,-999,    35.5087,2,-999,9,20120326,        429
33AT20120324,        A22,       4,          1,         16,         16,2,20120326,       0339,    39.7911,   -69.8517,       1464,   242.8,   9.7934,  35.2445,2,  35.2492,2,    137.4,2,   135.2,2,   13.44,2,   24.18,2,    0.00,2,    1.53,2,   1.310,2,   0.644,2,   0.025,2,    -999,5,  2196.4,6, 2324.44,2,   7.6747,2,       25,    -999,9,     -999,9,    -999,9,   9.8012,2,    -999,9,    -999,9,    -999,    -999,9,    -999,    -999,1,    -999,9,    -999,9,  39.7906, -69.8537,    -999,     -999,    -999,   9.7654,   9.8012,2,-999,9,-999,-999,9,-999,    35.4154,2,-999,9,20120326,        427
33AT20120324,        A22,       4,          1,         15,         15,2,20120326,       0339,    39.7911,   -69.8517,       1464,   287.6,   8.3842,  35.1253,2,  35.1235,2,    150.5,2,   153.3,2,   14.05,2,   24.03,2,    0.00,2,    1.55,2,   1.415,2,   0.741,2,   0.047,2,    -999,5,    -999,9,    -999,9,     -999,9,     -999,   0.311,2,   1.8149,2,    5.26,2,   8.3864,2,    -999,9,    -999,9,    -999,   7.850,2,   0.035,    -999,1,    -999,9,    -999,9,  39.7906, -69.8535,   0.010,   0.0073,    0.15,   8.3540,   8.3864,2,-999,9,-999,-999,9,-999,    35.2892,2,-999,9,20120326,        425
33AT20120324,        A22,       4,          1,         14,         14,2,20120326,       0339,    39.7911,   -69.8517,       1464,   337.9,   7.4434,  35.0892,2,  35.0875,2,    172.3,2,   171.5,2,   13.79,2,   22.89,2,    0.00,2,    1.49,2,   1.609,2,   0.831,2,   0.057,2,    -999,5,    -999,9,    -999,9,     -999,9,     -999,   0.355,2,   1.8501,2,    5.61,2,   7.4444,2,    -999,9,    -999,9,    -999,   7.937,2,   0.036,    -999,1,    -999,9,    -999,9,  39.7905, -69.8533,   0.010,   0.0074,    0.15,   7.4102,   7.4444,2,-999,9,-999,-999,9,-999,    35.2529,2,-999,9,20120326,        423
33AT20120324,        A22,       4,          1,         13,         13,2,20120326,       0339,    39.7911,   -69.8517,       1464,   389.1,   6.4615,  35.0343,2,  35.0335,2,    194.9,2,   196.8,2,   12.90,2,   21.12,2,    0.00,2,    1.39,2,   2.053,2,   1.073,2,   0.084,2,    -999,5,    -999,9,    -999,9,     -999,9,     -999,   0.401,2,   1.8701,2,    5.54,2,   6.4389,3,    -999,9,    -999,9,    -999,   8.049,2,   0.036,    -999,1,    -999,9,    -999,9,  39.7905, -69.8530,   0.010,   0.0075,    0.15,   6.4261,   6.4389,3,-999,9,-999,-999,9,-999,    35.1987,2,-999,9,20120326,        420
33AT20120324,        A22,       4,          1,         12,         12,2,20120326,       0339,    39.7911,   -69.8517,       1464,   439.8,   5.8827,  35.0119,2,  35.0113,2,    212.8,2,   210.7,2,   12.54,2,   20.18,2,    0.00,2,    1.33,2,   2.261,2,   1.208,2,   0.109,2,    -999,5,    -999,9,    -999,9,     -999,9,     -999,   0.452,2,   1.8624,2,    5.60,2,   5.8838,2,    -999,9,    -999,9,    -999,   8.088,2,   0.036,    -999,1,    -999,9,    -999,9,  39.7905, -69.8525,   0.010,   0.0074,    0.15,   5.8445,   5.8838,2,-999,9,-999,-999,9,-999,    35.1764,2,-999,9,20120326,        418
33AT20120324,        A22,       4,          1,         11,         11,2,20120326,       0339,    39.7911,   -69.8517,       1464,   490.3,   5.6066,  35.0083,2,  35.0071,2,    220.6,2,   220.0,2,   12.15,2,   19.67,2,    0.00,2,    1.30,2,   2.352,2,   1.237,2,   0.117,2,    -999,5,    -999,9,    -999,9,     -999,9,     -999,   0.457,2,   1.8471,2,    5.56,2,   5.6070,2,    -999,9,    -999,9,    -999,   7.969,2,   0.036,    -999,1,    -999,9,    -999,9,  39.7905, -69.8521,   0.010,   0.0074,    0.15,   5.5649,   5.6070,2,-999,9,-999,-999,9,-999,    35.1722,2,-999,9,20120326,        415
33AT20120324,        A22,       4,          1,         10,         10,2,20120326,       0339,    39.7911,   -69.8517,       1464,   571.1,   5.1299,  34.9811,2,  34.9805,2,    237.4,2,   236.6,2,   11.34,2,   18.69,2,    0.00,2,    1.23,2,   2.813,2,   1.477,2,   0.165,2,    -999,5,    -999,9,    -999,9,     -999,9,     -999,   0.477,2,   1.8245,2,    4.87,2,   5.1304,2,    -999,9,    -999,9,    -999,   8.008,2,   0.036,    -999,1,    -999,9,    -999,9,  39.7905, -69.8517,   0.010,   0.0073,    0.15,   5.0831,   5.1304,2,-999,9,-999,-999,9,-999,    35.1455,2,-999,9,20120326,        412
33AT20120324,        A22,       4,          1,          9,          9,2,20120326,       0339,    39.7911,   -69.8517,       1464,   672.2,   4.7864,  34.9687,2,  34.9673,2,    248.6,2,   248.4,2,   10.95,2,   17.99,2,    0.00,2,    1.19,2,   3.040,2,   1.585,2,   0.183,2,    -999,5,    -999,9,    -999,9,     -999,9,     -999,   0.522,2,   1.8415,2,    4.71,2,   4.7873,2,    -999,9,    -999,9,    -999,   8.031,2,   0.036,    -999,1,    -999,9,    -999,9,  39.7905, -69.8512,   0.010,   0.0074,    0.15,   4.7326,   4.7873,2,-999,9,-999,-999,9,-999,    35.1322,2,-999,9,20120326,        408
33AT20120324,        A22,       4,          1,          8,          8,2,20120326,       0339,    39.7911,   -69.8517,       1464,   774.2,   4.5661,  34.9618,2,  34.9606,2,    255.2,2,   255.1,2,   10.71,2,   17.68,2,    0.00,2,    1.18,2,   3.156,2,   1.673,2,   0.207,2,    -999,5,  2169.3,2, 2305.35,2,   7.7119,2,       25,    -999,9,     -999,9,    -999,9,   4.5666,2,    -999,9,    -999,9,    -999,    -999,9,    -999,    -999,1,    -999,9,    -999,9,  39.7905, -69.8507,    -999,     -999,    -999,   4.5049,   4.5666,2,-999,9,-999,-999,9,-999,    35.1255,2,-999,9,20120326,        405
33AT20120324,        A22,       4,          1,          7,          7,2,20120326,       0339,    39.7911,   -69.8517,       1464,   873.5,   4.4201,  34.9573,2,  34.9563,2,    259.3,2,   259.1,2,   10.69,2,   17.48,2,    0.00,2,    1.16,2,   3.208,2,   1.698,2,   0.208,2,    -999,5,    -999,9,    -999,9,     -999,9,     -999,    -999,9,   1.8353,2,    4.67,2,   4.4202,2,    -999,9,    -999,9,    -999,   8.024,2,   0.036,    -999,1,    -999,9,    -999,9,  39.7906, -69.8503,    -999,   0.0073,    0.15,   4.3513,   4.4202,2,-999,9,-999,-999,9,-999,    35.1211,2,-999,9,20120326,        401
33AT20120324,        A22,       4,          1,          6,          6,2,20120326,       0339,    39.7911,   -69.8517,       1464,   975.1,   4.3962,  34.9608,2,  34.9604,2,    258.9,2,   259.0,2,   10.89,2,   17.53,2,    0.00,2,    1.15,2,   3.103,2,   1.639,2,   0.206,2,    -999,5,  2169.0,2, 2308.38,2,   7.7132,2,       25,    -999,9,     -999,9,    -999,9,   4.3970,2,    -999,9,    -999,9,    -999,    -999,9,    -999,    -999,1,    -999,9,    -999,9,  39.7906, -69.8505,    -999,     -999,    -999,   4.3189,   4.3970,2,-999,9,-999,-999,9,-999,    35.1252,2,-999,9,20120326,        358
33AT20120324,        A22,       4,          1,          5,          5,2,20120326,       0339,    39.7911,   -69.8517,       1464,  1075.4,   4.3722,  34.9712,2,  34.9714,2,    258.2,2,   257.5,2,   10.86,2,   17.68,2,    0.00,2,    1.17,2,   2.853,2,   1.497,2,   0.168,2,    -999,5,    -999,9,    -999,9,     -999,9,     -999,   0.471,2,   1.8643,2,    5.48,2,   4.3724,2,    -999,9,    -999,9,    -999,   8.135,2,   0.037,    -999,1,    -999,9,    -999,9,  39.7908, -69.8509,   0.010,   0.0075,    0.15,   4.2863,   4.3724,2,-999,9,-999,-999,9,-999,    35.1363,2,-999,9,20120326,        354
33AT20120324,        A22,       4,          1,          4,          4,2,20120326,       0339,    39.7911,   -69.8517,       1464,  1177.3,   4.2583,  34.9717,2,  34.9708,2,    259.0,2,   259.5,2,   11.25,2,   17.72,2,    0.00,2,    1.18,2,   2.694,2,   1.385,2,   0.141,2,    -999,5,    -999,9,    -999,9,     -999,9,     -999,   0.482,2,     -999,9,    -999,9,   4.2579,2,    -999,9,    -999,9,    -999,    -999,9,    -999,    -999,1,    -999,9,    -999,9,  39.7909, -69.8511,   0.010,     -999,    -999,   4.1644,   4.2579,2,-999,9,-999,-999,9,-999,    35.1357,2,-999,9,20120326,        350
33AT20120324,        A22,       4,          1,          3,          3,2,20120326,       0339,    39.7911,   -69.8517,       1464,  1279.6,   4.1627,  34.9711,2,  34.9715,2,    260.2,2,   259.1,2,   11.64,2,   17.72,2,    0.00,2,    1.18,2,   2.529,2,   1.276,2,   0.140,2,    -999,5,    -999,9,    -999,9,     -999,9,     -999,   0.470,2,   1.8484,2,    7.11,2,   4.1620,2,    -999,9,    -999,9,    -999,   8.035,2,   0.036,    -999,1,    -999,9,    -999,9,  39.7910, -69.8514,   0.010,   0.0074,    0.15,   4.0606,   4.1620,2,-999,9,-999,-999,9,-999,    35.1364,2,-999,9,20120326,        347
33AT20120324,        A22,       4,          1,          2,          2,2,20120326,       0339,    39.7911,   -69.8517,       1464,  1380.3,   4.0193,  34.9580,2,  34.9579,2,    262.7,2,   262.5,2,   11.74,2,   17.55,2,    0.00,2,    1.16,2,    -999,5,    -999,5,    -999,5,    -999,5,  2165.8,2, 2307.83,2,   7.7248,2,       25,    -999,9,     -999,9,    -999,9,   4.0198,2,    -999,9,    -999,9,    -999,    -999,9,    -999,    -999,1,    -999,9,    -999,9,  39.7911, -69.8516,    -999,     -999,    -999,   3.9097,   4.0198,2,-999,9,-999,-999,9,-999,    35.1228,2,-999,9,20120326,        343
33AT20120324,        A22,       4,          1,          1,          1,2,20120326,       0339,    39.7911,   -69.8517,       1464,  1453.7,   3.9828,  34.9555,2,  34.9563,2,    263.0,2,   263.2,2,   11.86,2,   17.57,2,    0.00,2,    1.16,2,   2.625,2,   1.330,2,   0.146,2,    -999,5,  2166.6,2, 2306.82,3,   7.7222,2,       25,   0.447,2,   1.8514,2,    6.82,2,   3.9832,2,    -999,9,    -999,9,    -999,   8.122,2,   0.037,    -999,1,    -999,9,    -999,9,  39.7912, -69.8517,   0.010,   0.0074,    0.15,   3.8670,   3.9832,2,-999,9,-999,-999,9,-999,    35.1212,2,-999,9,20120326,        341