BOTTLE,20220725CCHSIOCBG
EXPOCODE,SECT_ID,STNNBR,CASTNO,SAMPNO,BTLNBR,BTLNBR_FLAG_W,DATE,TIME,LATITUDE,LONGITUDE,DEPTH,CTDPRS,CTDTMP,CTDSAL,CTDSAL_FLAG_W,SALNTY,SALNTY_FLAG_W,CTDOXY,CTDOXY_FLAG_W,OXYGEN,OXYGEN_FLAG_W,SILCAT,SILCAT_FLAG_W,NITRAT,NITRAT_FLAG_W,NITRIT,NITRIT_FLAG_W,PHSPHT,PHSPHT_FLAG_W,CFC-11,CFC-11_FLAG_W,CFC-12,CFC-12_FLAG_W,CFC113,CFC113_FLAG_W,SF6,SF6_FLAG_W,TCARBN,TCARBN_FLAG_W,ALKALI,ALKALI_FLAG_W,PH_TOT,PH_TOT_FLAG_W,PH_TMP,TRITUM,TRITUM_FLAG_W,HELIUM,HELIUM_FLAG_W,DELHE3,DELHE3_FLAG_W,REFTMP,REFTMP_FLAG_W,DELC13,DELC13_FLAG_W,DELC14,DELC14_FLAG_W,C14ERR,NEON,NEON_FLAG_W,NEONER,CCL4,CCL4_FLAG_W,DOC,DOC_FLAG_W,TDN,TDN_FLAG_W,BTL_LAT,BTL_LON,TRITER,HELIER,DELHER,THETA,SBE35,SBE35_FLAG_W,14C-DOC,14C-DOC_FLAG_W,14C-DOCERR,13C-DOC,13C-DOC_FLAG_W,13C-DOCERR,SALTREF,SALTREF_FLAG_W,LAB_DEN,LAB_DEN_FLAG_W,BTL_DATE,BTL_TIME
,,,,,,,,,,,METERS,DBAR,ITS-90,PSS-78,,PSS-78,,UMOL/KG,,UMOL/KG,,UMOL/KG,,UMOL/KG,,UMOL/KG,,UMOL/KG,,PMOL/KG,,PMOL/KG,,PMOL/KG,,FMOL/KG,,UMOL/KG,,UMOL/KG,,,,DEG C,TU,,NMOL/KG,,PERCNT,,DEG C,,/MILLE,,/MILLE,,/MILLE,NMOL/KG,,NMOL/KG,PMOL/KG,,UMOL/KG,,UMOL/KG,,,,TU,NMOL/KG,PERCNT,DEG C,ITS-90,,/MILLE,,/MILLE,/MILLE,,/MILLE,G/KG,,KG/M^3,,,
33AT20120324,        A22,      39,          1,         36,         36,2,20120405,       1225,    23.6221,   -65.8120,       5837,     3.4,  23.8746,  36.6502,2,  36.6519,2,    209.7,2,   211.3,2,    0.74,2,    0.00,2,    0.00,2,    0.00,2,   1.697,2,   1.113,2,   0.129,2,    0.74,4,  2048.4,6, 2399.57,6,   8.0976,2,       25,    -999,9,     -999,9,    -999,9,  23.8775,2,    0.99,2,    53.8,2,     4.0,    -999,9,    -999,    1.80,2,   69.27,2,    3.96,2,  23.6263, -65.8249,    -999,     -999,    -999,  23.8739,  23.8775,2,-999,9,-999,-999,9,-999,    36.8247,2,-999,9,20120405,       1445
33AT20120324,        A22,      39,          1,         35,         35,2,20120405,       1225,    23.6221,   -65.8120,       5837,    37.0,  23.7377,  36.7243,2,  36.7258,2,    214.7,2,   213.2,2,    0.96,2,    0.00,2,    0.00,2,    0.00,2,   1.725,2,   1.108,2,   0.123,2,    0.80,4,    -999,9,    -999,9,     -999,9,     -999,    -999,9,     -999,9,    -999,9,  23.7321,2,    -999,9,    -999,9,    -999,    -999,9,    -999,    1.70,2,   66.85,2,    4.30,2,  23.6261, -65.8246,    -999,     -999,    -999,  23.7299,  23.7321,2,-999,9,-999,-999,9,-999,    36.8990,2,-999,9,20120405,       1442
33AT20120324,        A22,      39,          1,         34,         34,2,20120405,       1225,    23.6221,   -65.8120,       5837,    61.4,  22.6440,  36.8414,2,  36.8429,2,    216.3,2,   216.1,2,    0.64,2,    0.00,2,    0.00,2,    0.00,2,   1.810,2,   1.164,2,   0.124,2,    0.88,4,  2068.2,2, 2409.48,2,   8.0802,2,       25,    -999,9,     -999,9,    -999,9,  22.6504,2,    -999,9,    -999,9,    -999,    -999,9,    -999,    1.35,2,   65.41,2,    4.32,2,  23.6261, -65.8243,    -999,     -999,    -999,  22.6315,  22.6504,2,-999,9,-999,-999,9,-999,    37.0166,2,-999,9,20120405,       1440
33AT20120324,        A22,      39,          1,         33,         33,2,20120405,       1225,    23.6221,   -65.8120,       5837,    86.3,  21.6103,  36.8086,2,  36.8104,2,    204.9,2,   207.5,2,    0.55,2,    0.00,2,    0.00,2,    0.00,2,   1.846,2,   1.202,2,   0.116,2,    1.05,4,  2088.4,2, 2407.76,2,   8.0474,2,       25,    -999,9,     -999,9,    -999,9,  21.5846,2,    -999,9,    -999,9,    -999,    -999,9,    -999,    0.89,2,   62.98,2,    3.72,2,  23.6260, -65.8240,    -999,     -999,    -999,  21.5933,  21.5846,2,-999,9,-999,-999,9,-999,    36.9839,2,-999,9,20120405,       1438
33AT20120324,        A22,      39,          1,         32,         32,2,20120405,       1225,    23.6221,   -65.8120,       5837,   115.7,  20.0962,  36.7592,2,  36.7590,2,    190.5,2,   191.2,2,    0.65,2,    0.75,2,    0.03,2,    0.00,2,   1.933,2,   1.224,2,   0.066,2,    1.22,4,  2112.7,2, 2404.99,2,   7.9995,2,       25,    -999,9,     -999,9,    -999,9,  20.0966,2,    -999,9,    -999,9,    -999,    -999,9,    -999,    0.44,2,   61.31,2,    4.46,2,  23.6259, -65.8237,    -999,     -999,    -999,  20.0745,  20.0966,2,-999,9,-999,-999,9,-999,    36.9323,2,-999,9,20120405,       1436
33AT20120324,        A22,      39,          1,         31,         31,2,20120405,       1225,    23.6221,   -65.8120,       5837,   170.5,  18.8135,  36.6386,2,  36.6392,2,    193.9,2,   194.4,2,    0.99,2,    2.93,2,    0.01,2,    0.10,2,   2.100,2,   1.295,2,   0.031,2,    0.98,4,  2113.6,2, 2395.33,2,   7.9840,2,       25,    -999,9,     -999,9,    -999,9,  18.8135,2,    0.77,2,    62.2,2,     2.9,    -999,9,    -999,    0.37,2,   57.77,2,    6.23,2,  23.6258, -65.8233,    -999,     -999,    -999,  18.7830,  18.8135,2,-999,9,-999,-999,9,-999,    36.8120,2,-999,9,20120405,       1433
33AT20120324,        A22,      39,          1,         30,         30,2,20120405,       1225,    23.6221,   -65.8120,       5837,   214.6,  18.3574,  36.5984,2,  36.5990,2,    201.5,2,   201.2,2,    1.15,2,    3.65,2,    0.00,2,    0.14,2,   2.155,2,   1.350,2,   0.032,2,    1.25,4,    -999,9,    -999,9,     -999,9,     -999,    -999,9,     -999,9,    -999,9,  18.3574,2,    -999,9,    -999,9,    -999,    -999,9,    -999,    0.45,2,   52.63,2,    7.56,2,  23.6257, -65.8230,    -999,     -999,    -999,  18.3196,  18.3574,2,-999,9,-999,-999,9,-999,    36.7716,2,-999,9,20120405,       1430
33AT20120324,        A22,      39,          1,         29,         29,2,20120405,       1225,    23.6221,   -65.8120,       5837,   267.0,  18.0672,  36.5641,2,  36.5651,2,    202.2,2,   202.0,2,    1.30,2,    4.13,2,    0.00,2,    0.18,2,   2.151,2,   1.364,2,   0.035,2,    1.39,4,  2111.3,2, 2390.95,2,   7.9794,2,       25,    -999,9,     -999,9,    -999,9,  18.0669,2,    0.63,2,    67.5,2,     2.8,    -999,9,    -999,    0.45,2,   49.88,2,    7.78,2,  23.6256, -65.8227,    -999,     -999,    -999,  18.0207,  18.0669,2,-999,9,-999,-999,9,-999,    36.7375,2,-999,9,20120405,       1428
33AT20120324,        A22,      39,          1,         28,         28,2,20120405,       1225,    23.6221,   -65.8120,       5837,   318.8,  17.7827,  36.5197,2,  36.5221,2,    201.0,2,   201.8,2,    1.45,2,    4.65,2,    0.00,2,    0.20,2,   2.162,2,   1.373,2,   0.033,2,    0.88,4,    -999,9,    -999,9,     -999,9,     -999,    -999,9,     -999,9,    -999,9,  17.7870,2,    -999,9,    -999,9,    -999,    -999,9,    -999,    0.47,2,   47.85,2,    8.33,2,  23.6255, -65.8225,    -999,     -999,    -999,  17.7277,  17.7870,2,-999,9,-999,-999,9,-999,    36.6943,2,-999,9,20120405,       1427
33AT20120324,        A22,      39,          1,         27,         27,2,20120405,       1225,    23.6221,   -65.8120,       5837,   366.4,  17.3541,  36.4391,2,  36.4409,2,    198.8,2,   196.1,2,    1.80,2,    5.86,2,    0.00,2,    0.28,2,   2.168,2,   1.369,2,   0.029,2,    0.90,4,  2120.1,2, 2383.62,2,   7.9538,2,       25,    -999,9,     -999,9,    -999,9,  17.3533,2,    0.68,2,    73.0,2,     5.1,    -999,9,    -999,    0.45,2,   46.74,2,    8.98,2,  23.6254, -65.8222,    -999,     -999,    -999,  17.2919,  17.3533,2,-999,9,-999,-999,9,-999,    36.6127,2,-999,9,20120405,       1425
33AT20120324,        A22,      39,          1,         26,         26,2,20120405,       1225,    23.6221,   -65.8120,       5837,   436.6,  16.2888,  36.2383,2,  36.2421,2,    184.8,2,   185.0,2,    2.75,2,    8.62,2,    0.00,2,    0.47,2,   2.228,2,   1.349,2,   0.029,2,    0.55,4,  2131.8,2, 2371.23,2,   7.9132,2,       25,    -999,9,     -999,9,    -999,9,  16.2858,2,    0.62,2,    64.8,2,     2.6,    -999,9,    -999,    0.43,2,   45.71,2,   11.87,2,  23.6253, -65.8219,    -999,     -999,    -999,  16.2177,  16.2858,2,-999,9,-999,-999,9,-999,    36.4130,2,-999,9,20120405,       1423
33AT20120324,        A22,      39,          1,         25,         25,2,20120405,       1225,    23.6221,   -65.8120,       5837,   538.0,  13.7315,  35.8158,2,  35.8174,2,    161.5,2,   159.9,2,    5.71,2,   15.06,2,    0.00,2,    0.89,2,   2.023,2,   1.145,2,   0.027,2,    0.39,4,  2158.6,2, 2349.96,2,   7.8168,2,       25,    -999,9,     -999,9,    -999,9,  13.7326,2,    0.63,2,    48.1,2,     2.6,    -999,9,    -999,    0.36,2,   45.22,2,   18.24,2,  23.6252, -65.8215,    -999,     -999,    -999,  13.6533,  13.7326,2,-999,9,-999,-999,9,-999,    35.9863,2,-999,9,20120405,       1420
33AT20120324,        A22,      39,          1,         24,         24,2,20120405,       1225,    23.6221,   -65.8120,       5837,   638.7,  11.4075,  35.4881,2,  35.4893,2,    149.3,2,   147.2,2,    9.45,2,   20.27,2,    0.00,2,    1.24,2,   1.471,2,   0.805,2,   0.018,2,    0.25,4,  2178.5,2, 2334.39,2,   7.7421,2,       25,    -999,9,     -999,9,    -999,9,  11.4006,2,    0.66,2,    14.2,2,     2.7,    -999,9,    -999,    0.25,2,   44.69,2,   23.49,2,  23.6250, -65.8211,    -999,     -999,    -999,  11.3249,  11.4006,2,-999,9,-999,-999,9,-999,    35.6567,2,-999,9,20120405,       1417
33AT20120324,        A22,      39,          1,         23,         23,2,20120405,       1225,    23.6221,   -65.8120,       5837,   739.9,   9.3723,  35.2251,2,  35.2265,2,    140.9,2,   140.2,2,   13.98,2,   24.74,2,    0.00,2,    1.56,2,   0.857,2,   0.463,2,   0.008,2,    0.09,4,  2191.1,2, 2322.81,2,   7.6810,2,       25,    -999,9,     -999,9,    -999,9,   9.3701,2,    0.67,2,   -24.4,2,     3.1,    -999,9,    -999,    0.19,2,   44.15,2,   27.52,2,  23.6249, -65.8208,    -999,     -999,    -999,   9.2872,   9.3701,2,-999,9,-999,-999,9,-999,    35.3926,2,-999,9,20120405,       1415
33AT20120324,        A22,      39,          1,         22,         22,2,20120405,       1225,    23.6221,   -65.8120,       5837,   841.9,   7.8972,  35.0718,2,  35.0739,2,    142.6,2,   140.2,2,   17.51,2,   27.12,2,    0.00,2,    1.74,2,   0.462,2,   0.242,2,   0.005,2,    0.00,4,  2199.4,6, 2318.85,2,   7.6484,2,       25,    -999,9,     -999,9,    -999,9,   7.9001,2,    0.70,2,   -51.0,2,     2.6,    -999,9,    -999,    0.16,2,   43.84,2,   29.74,2,  23.6248, -65.8204,    -999,     -999,    -999,   7.8090,   7.9001,2,-999,9,-999,-999,9,-999,    35.2393,2,-999,9,20120405,       1412
33AT20120324,        A22,      39,          1,         21,         21,2,20120405,       1225,    23.6221,   -65.8120,       5837,   940.2,   6.7627,  34.9905,2,  34.9910,2,    153.5,2,   152.5,2,   19.41,2,   27.28,2,    0.00,2,    1.79,2,   0.307,2,   0.169,2,   0.004,2,    0.09,4,  2200.4,2, 2316.90,2,   7.6425,6,       25,    -999,9,     -999,9,    -999,9,   6.7633,2,    0.74,2,   -75.2,2,     3.0,    -999,9,    -999,    0.18,2,   44.17,2,   29.82,2,  23.6247, -65.8201,    -999,     -999,    -999,   6.6716,   6.7633,2,-999,9,-999,-999,9,-999,    35.1560,2,-999,9,20120405,       1409
33AT20120324,        A22,      39,          1,         20,         20,2,20120405,       1225,    23.6221,   -65.8120,       5837,  1042.4,   6.2149,  35.0268,2,  35.0278,2,    183.9,2,   180.7,2,   17.44,2,   24.31,2,    0.00,2,    1.60,2,   0.566,2,   0.297,2,   0.014,2,    0.13,4,  2189.9,2, 2318.24,2,   7.6741,2,       25,    -999,9,     -999,9,    -999,9,   6.2136,2,    0.77,2,   -60.3,2,     1.8,    -999,9,    -999,    0.41,2,   43.45,2,   26.76,2,  23.6246, -65.8197,    -999,     -999,    -999,   6.1173,   6.2136,2,-999,9,-999,-999,9,-999,    35.1930,2,-999,9,20120405,       1406
33AT20120324,        A22,      39,          1,         19,         19,2,20120405,       1225,    23.6221,   -65.8120,       5837,  1143.3,   5.6726,  35.0579,2,  35.0584,2,    210.5,2,   208.8,2,   14.80,2,   21.26,2,    0.00,2,    1.41,2,   0.927,2,   0.481,2,   0.028,2,    0.07,4,    -999,9,    -999,9,     -999,9,     -999,    -999,9,     -999,9,    -999,9,   5.6712,2,    -999,9,    -999,9,    -999,    -999,9,    -999,    0.76,2,   42.74,2,   23.98,2,  23.6245, -65.8194,    -999,     -999,    -999,   5.5694,   5.6712,2,-999,9,-999,-999,9,-999,    35.2237,2,-999,9,20120405,       1404
33AT20120324,        A22,      39,          1,         18,         18,2,20120405,       1225,    23.6221,   -65.8120,       5837,  1243.7,   5.2227,  35.0583,2,  35.0596,2,    227.5,2,   227.6,2,   13.50,2,   19.77,2,    0.00,2,    1.31,2,   1.119,2,   0.578,2,   0.040,2,    0.23,4,  2171.4,2, 2317.35,2,   7.7246,2,       25,    -999,9,     -999,9,    -999,9,   5.2229,2,    0.91,2,   -52.6,2,     2.5,    -999,9,    -999,    1.00,2,   41.96,2,   22.63,2,  23.6244, -65.8191,    -999,     -999,    -999,   5.1137,   5.2229,2,-999,9,-999,-999,9,-999,    35.2249,2,-999,9,20120405,       1401
33AT20120324,        A22,      39,          1,         17,         17,2,20120405,       1225,    23.6221,   -65.8120,       5837,  1348.2,   4.8020,  35.0468,2,  35.0487,2,    238.8,2,   238.1,2,   13.44,2,   19.10,2,    0.00,2,    1.26,2,   1.027,2,   0.518,2,   0.040,2,    0.00,4,    -999,9,    -999,9,     -999,9,     -999,    -999,9,     -999,9,    -999,9,   4.8044,2,    -999,9,    -999,9,    -999,    -999,9,    -999,    1.08,2,   41.03,2,   22.43,2,  23.6243, -65.8189,    -999,     -999,    -999,   4.6871,   4.8044,2,-999,9,-999,-999,9,-999,    35.2140,2,-999,9,20120405,       1358
33AT20120324,        A22,      39,          1,         16,         16,2,20120405,       1225,    23.6221,   -65.8120,       5837,  1478.3,   4.6045,  35.0575,2,  35.0598,2,    248.9,2,   241.2,2,   14.33,2,   18.97,2,    0.00,2,    1.26,2,   0.771,2,   0.392,2,   0.029,2,    0.00,4,  2166.4,2, 2318.57,2,   7.7340,2,       25,    -999,9,     -999,9,    -999,9,   4.6048,2,    0.99,2,   -55.4,2,     2.6,    -999,9,    -999,    0.94,2,   42.42,2,   22.56,2,  23.6242, -65.8186,    -999,     -999,    -999,   4.4793,   4.6048,2,-999,9,-999,-999,9,-999,    35.2251,2,-999,9,20120405,       1355
33AT20120324,        A22,      39,          1,         15,         15,2,20120405,       1225,    23.6221,   -65.8120,       5837,  1680.8,   4.0279,  35.0105,2,  35.0121,2,    253.5,2,   253.0,2,   15.08,2,   18.48,2,    0.00,2,    1.22,2,   0.787,2,   0.392,2,   0.031,2,    0.06,4,  2163.0,2, 2317.63,2,   7.7400,2,       25,    -999,9,     -999,9,    -999,9,   4.0280,2,    1.01,2,   -59.7,2,     2.5,    -999,9,    -999,    0.98,2,   42.13,2,   22.34,2,  23.6241, -65.8182,    -999,     -999,    -999,   3.8905,   4.0280,2,-999,9,-999,-999,9,-999,    35.1772,2,-999,9,20120405,       1351
33AT20120324,        A22,      39,          1,         14,         14,2,20120405,       1225,    23.6221,   -65.8120,       5837,  1883.8,   3.6378,  34.9711,2,  34.9724,2,    262.2,2,   261.2,2,   15.23,2,   18.03,2,    0.00,2,    1.21,2,   1.057,2,   0.537,2,   0.045,2,    0.24,4,    -999,9,    -999,9,     -999,9,     -999,    -999,9,     -999,9,    -999,9,   3.6378,2,    -999,9,    -999,9,    -999,    -999,9,    -999,    1.15,2,   42.11,2,   22.22,2,  23.6240, -65.8178,    -999,     -999,    -999,   3.4866,   3.6378,2,-999,9,-999,-999,9,-999,    35.1373,2,-999,9,20120405,       1346
33AT20120324,        A22,      39,          1,         13,         13,2,20120405,       1225,    23.6221,   -65.8120,       5837,  2106.3,   3.4246,  34.9653,2,  34.9671,2,    261.5,2,   261.9,2,   17.31,2,   18.19,2,    0.00,2,    1.22,2,   0.802,2,   0.394,2,   0.032,2,    0.09,4,  2161.7,2, 2314.50,2,   7.7412,2,       25,    -999,9,     -999,9,    -999,9,   3.4245,2,    1.03,2,   -53.4,2,     2.8,    -999,9,    -999,    0.96,2,   42.29,2,   20.79,2,  23.6238, -65.8174,    -999,     -999,    -999,   3.2555,   3.4245,2,-999,9,-999,-999,9,-999,    35.1320,2,-999,9,20120405,       1342
33AT20120324,        A22,      39,          1,         12,         12,2,20120405,       1225,    23.6221,   -65.8120,       5837,  2362.1,   3.1899,  34.9572,2,  34.9581,2,    260.6,2,   259.6,2,   20.29,2,   18.43,2,    0.00,2,    1.24,2,   0.515,2,   0.253,2,   0.018,2,    0.00,4,    -999,9,    -999,9,     -999,9,     -999,    -999,9,     -999,9,    -999,9,   3.1894,2,    -999,9,    -999,9,    -999,    -999,9,    -999,    0.69,2,   42.33,2,   20.97,2,  23.6237, -65.8168,    -999,     -999,    -999,   3.0000,   3.1894,2,-999,9,-999,-999,9,-999,    35.1229,2,-999,9,20120405,       1337
33AT20120324,        A22,      39,          1,         11,         11,2,20120405,       1225,    23.6221,   -65.8120,       5837,  2612.9,   2.9998,  34.9487,2,  34.9520,3,    257.4,2,   257.7,2,   24.13,2,   19.00,2,    0.00,2,    1.29,2,   0.297,2,   0.161,2,   0.010,2,    0.00,4,  2168.5,2, 2324.41,2,   7.7434,2,       25,    -999,9,     -999,9,    -999,9,   2.9993,2,    1.04,2,   -79.2,2,     2.4,    -999,9,    -999,    0.46,2,   42.11,2,   22.67,2,  23.6235, -65.8163,    -999,     -999,    -999,   2.7886,   2.9993,2,-999,9,-999,-999,9,-999,    35.1168,3,-999,9,20120405,       1332
33AT20120324,        A22,      39,          1,         10,         10,2,20120405,       1225,    23.6221,   -65.8120,       5837,  2866.7,   2.7963,  34.9313,2,  34.9323,2,    262.6,2,   262.5,2,   23.22,2,   18.46,2,    0.00,2,    1.25,2,   0.541,2,   0.278,2,   0.023,2,    0.00,4,    -999,9,    -999,9,     -999,9,     -999,    -999,9,   1.8525,2,    5.00,2,   2.7961,2,    -999,9,    -999,9,    -999,   8.113,2,   0.037,    0.70,2,   41.69,2,   20.95,2,  23.6234, -65.8159,    -999,   0.0074,    0.15,   2.5636,   2.7961,2,-999,9,-999,-999,9,-999,    35.0970,2,-999,9,20120405,       1327
33AT20120324,        A22,      39,          1,          9,          9,2,20120405,       1225,    23.6221,   -65.8120,       5837,  3139.2,   2.6154,  34.9189,2,  34.9197,2,    264.5,2,   265.4,2,   24.25,2,   18.31,2,    0.00,2,    1.24,2,   0.647,2,   0.323,2,   0.032,2,    0.10,4,  2166.4,2, 2321.27,2,   7.7426,2,       25,    -999,9,     -999,9,    -999,9,   2.6158,2,    -999,9,    -999,9,    -999,    -999,9,    -999,    0.81,2,   42.21,2,   20.63,2,  23.6233, -65.8156,    -999,     -999,    -999,   2.3586,   2.6158,2,-999,9,-999,-999,9,-999,    35.0844,2,-999,9,20120405,       1321
33AT20120324,        A22,      39,          1,          8,          8,2,20120405,       1225,    23.6221,   -65.8120,       5837,  3446.0,   2.4757,  34.9086,2,  34.9093,2,    266.8,2,   267.3,2,   25.28,2,   18.26,2,    0.00,2,    1.24,2,   0.727,2,   0.369,2,   0.035,2,    0.06,4,    -999,9,    -999,9,     -999,9,     -999,    -999,9,     -999,9,    -999,9,   2.4754,2,    -999,9,    -999,9,    -999,    -999,9,    -999,    0.87,2,   42.08,2,   20.48,2,  23.6231, -65.8152,    -999,     -999,    -999,   2.1897,   2.4754,2,-999,9,-999,-999,9,-999,    35.0739,2,-999,9,20120405,       1315
33AT20120324,        A22,      39,          1,          7,          7,2,20120405,       1225,    23.6221,   -65.8120,       5837,  3753.4,   2.3770,  34.9016,2,  34.9029,2,    265.8,2,   267.0,2,   28.09,2,   18.55,2,    0.00,2,    1.26,2,   0.552,2,   0.283,2,   0.028,2,    0.11,4,  2169.2,2, 2325.41,2,   7.7419,2,       25,    -999,9,     -999,9,    -999,9,   2.3765,2,    -999,9,    -999,9,    -999,    -999,9,    -999,    0.82,2,   41.74,2,   22.40,2,  23.6230, -65.8148,    -999,     -999,    -999,   2.0599,   2.3765,2,-999,9,-999,-999,9,-999,    35.0675,2,-999,9,20120405,       1310
33AT20120324,        A22,      39,          1,          6,          6,2,20120405,       1225,    23.6221,   -65.8120,       5837,  4097.1,   2.3218,  34.8953,2,  34.9025,3,    265.8,2,   265.4,2,   29.80,2,   18.67,2,    0.00,2,    1.28,2,   0.568,2,   0.296,2,   0.035,2,    0.09,4,    -999,9,    -999,9,     -999,9,     -999,    -999,9,     -999,9,    -999,9,   2.3213,2,    -999,9,    -999,9,    -999,    -999,9,    -999,    0.78,2,   42.25,2,   22.28,2,  23.6229, -65.8145,    -999,     -999,    -999,   1.9673,   2.3213,2,-999,9,-999,-999,9,-999,    35.0671,3,-999,9,20120405,       1303