BOTTLE,20220725CCHSIOCBG
EXPOCODE,SECT_ID,STNNBR,CASTNO,SAMPNO,BTLNBR,BTLNBR_FLAG_W,DATE,TIME,LATITUDE,LONGITUDE,DEPTH,CTDPRS,CTDTMP,CTDSAL,CTDSAL_FLAG_W,SALNTY,SALNTY_FLAG_W,CTDOXY,CTDOXY_FLAG_W,OXYGEN,OXYGEN_FLAG_W,SILCAT,SILCAT_FLAG_W,NITRAT,NITRAT_FLAG_W,NITRIT,NITRIT_FLAG_W,PHSPHT,PHSPHT_FLAG_W,CFC-11,CFC-11_FLAG_W,CFC-12,CFC-12_FLAG_W,CFC113,CFC113_FLAG_W,SF6,SF6_FLAG_W,TCARBN,TCARBN_FLAG_W,ALKALI,ALKALI_FLAG_W,PH_TOT,PH_TOT_FLAG_W,PH_TMP,TRITUM,TRITUM_FLAG_W,HELIUM,HELIUM_FLAG_W,DELHE3,DELHE3_FLAG_W,REFTMP,REFTMP_FLAG_W,DELC13,DELC13_FLAG_W,DELC14,DELC14_FLAG_W,C14ERR,NEON,NEON_FLAG_W,NEONER,CCL4,CCL4_FLAG_W,DOC,DOC_FLAG_W,TDN,TDN_FLAG_W,BTL_LAT,BTL_LON,TRITER,HELIER,DELHER,THETA,SBE35,SBE35_FLAG_W,14C-DOC,14C-DOC_FLAG_W,14C-DOCERR,13C-DOC,13C-DOC_FLAG_W,13C-DOCERR,SALTREF,SALTREF_FLAG_W,LAB_DEN,LAB_DEN_FLAG_W,BTL_DATE,BTL_TIME
,,,,,,,,,,,METERS,DBAR,ITS-90,PSS-78,,PSS-78,,UMOL/KG,,UMOL/KG,,UMOL/KG,,UMOL/KG,,UMOL/KG,,UMOL/KG,,PMOL/KG,,PMOL/KG,,PMOL/KG,,FMOL/KG,,UMOL/KG,,UMOL/KG,,,,DEG C,TU,,NMOL/KG,,PERCNT,,DEG C,,/MILLE,,/MILLE,,/MILLE,NMOL/KG,,NMOL/KG,PMOL/KG,,UMOL/KG,,UMOL/KG,,,,TU,NMOL/KG,PERCNT,DEG C,ITS-90,,/MILLE,,/MILLE,/MILLE,,/MILLE,G/KG,,KG/M^3,,,
33AT20120324,        A22,      72,          1,          5,          5,2,20120413,       0119,    13.6174,   -69.8098,       4950,  3751.1,   4.2475,  34.9748,2,  34.9731,2,    213.7,2,   214.0,4,   28.38,2,   21.94,2,    0.00,2,    1.49,2,   0.094,2,   0.040,2,   0.010,2,    0.09,2,    -999,9,    -999,9,     -999,9,     -999,    -999,9,     -999,9,    -999,9,   4.2475,2,    -999,9,    -999,9,    -999,    -999,9,    -999,    -999,1,    -999,9,    -999,9,  13.6176, -69.8097,    -999,     -999,    -999,   3.8815,   4.2475,2,-999,9,-999,-999,9,-999,    35.1380,2,-999,9,20120413,        145
33AT20120324,        A22,      72,          1,          4,          4,2,20120413,       0119,    13.6174,   -69.8098,       4950,  4058.3,   4.2841,  34.9748,2,  34.9740,2,    214.2,2,   214.1,2,   28.48,2,   21.94,2,    0.00,2,    1.48,2,   0.096,2,   0.041,2,   0.010,2,    0.09,2,    -999,9,    -999,9,     -999,9,     -999,    -999,9,     -999,9,    -999,9,   4.2839,2,    -999,9,    -999,9,    -999,    -999,9,    -999,    -999,1,    -999,9,    -999,9,  13.6175, -69.8097,    -999,     -999,    -999,   3.8790,   4.2839,2,-999,9,-999,-999,9,-999,    35.1390,2,-999,9,20120413,        138
33AT20120324,        A22,      72,          1,          3,          3,2,20120413,       0119,    13.6174,   -69.8098,       4950,  4366.4,   4.3233,  34.9749,2,  34.9748,2,    214.7,2,   224.3,4,   28.66,2,   21.92,2,    0.00,2,    1.48,2,   0.118,2,    -999,5,   0.020,2,    0.06,2,    -999,9,    -999,9,     -999,9,     -999,    -999,9,     -999,9,    -999,9,   4.3231,2,    -999,9,    -999,9,    -999,    -999,9,    -999,    -999,1,    -999,9,    -999,9,  13.6174, -69.8098,    -999,     -999,    -999,   3.8777,   4.3231,2,-999,9,-999,-999,9,-999,    35.1397,2,-999,9,20120413,        132
33AT20120324,        A22,      72,          1,          2,          2,2,20120413,       0119,    13.6174,   -69.8098,       4950,  4689.4,   4.3675,  34.9748,2,  34.9748,2,    214.7,2,   214.9,2,   28.63,2,   21.90,2,    0.00,2,    1.48,2,   0.120,2,   0.048,2,   0.008,2,    0.07,2,  2195.9,2, 2337.81,6,   7.7119,2,       25,    -999,9,     -999,9,    -999,9,   4.3672,2,    -999,9,    -999,9,    -999,    -999,9,    -999,    -999,1,    -999,9,    -999,9,  13.6174, -69.8097,    -999,     -999,    -999,   3.8780,   4.3672,2,-999,9,-999,-999,9,-999,    35.1397,2,-999,9,20120413,        126
33AT20120324,        A22,      72,          1,          1,          1,2,20120413,       0119,    13.6174,   -69.8098,       4950,  5015.2,   4.4135,  34.9747,2,  34.9757,2,    215.2,2,   221.5,4,   28.65,2,   21.90,2,    0.00,2,    1.47,2,   0.155,2,   0.057,2,   0.014,2,    0.13,2,  2198.6,6, 2340.46,2,   7.7134,2,       25,    -999,9,     -999,9,    -999,9,   4.4131,2,    -999,9,    -999,9,    -999,    -999,9,    -999,    -999,1,    -999,9,    -999,9,  13.6174, -69.8098,    -999,     -999,    -999,   3.8783,   4.4131,2,-999,9,-999,-999,9,-999,    35.1406,2,-999,9,20120413,        119