BOTTLE,20220725CCHSIOCBG
EXPOCODE,SECT_ID,STNNBR,CASTNO,SAMPNO,BTLNBR,BTLNBR_FLAG_W,DATE,TIME,LATITUDE,LONGITUDE,DEPTH,CTDPRS,CTDTMP,CTDSAL,CTDSAL_FLAG_W,SALNTY,SALNTY_FLAG_W,CTDOXY,CTDOXY_FLAG_W,OXYGEN,OXYGEN_FLAG_W,SILCAT,SILCAT_FLAG_W,NITRAT,NITRAT_FLAG_W,NITRIT,NITRIT_FLAG_W,PHSPHT,PHSPHT_FLAG_W,CFC-11,CFC-11_FLAG_W,CFC-12,CFC-12_FLAG_W,CFC113,CFC113_FLAG_W,SF6,SF6_FLAG_W,TCARBN,TCARBN_FLAG_W,ALKALI,ALKALI_FLAG_W,PH_TOT,PH_TOT_FLAG_W,PH_TMP,TRITUM,TRITUM_FLAG_W,HELIUM,HELIUM_FLAG_W,DELHE3,DELHE3_FLAG_W,REFTMP,REFTMP_FLAG_W,DELC13,DELC13_FLAG_W,DELC14,DELC14_FLAG_W,C14ERR,NEON,NEON_FLAG_W,NEONER,CCL4,CCL4_FLAG_W,DOC,DOC_FLAG_W,TDN,TDN_FLAG_W,BTL_LAT,BTL_LON,TRITER,HELIER,DELHER,THETA,SBE35,SBE35_FLAG_W,14C-DOC,14C-DOC_FLAG_W,14C-DOCERR,13C-DOC,13C-DOC_FLAG_W,13C-DOCERR,SALTREF,SALTREF_FLAG_W,LAB_DEN,LAB_DEN_FLAG_W,BTL_DATE,BTL_TIME
,,,,,,,,,,,METERS,DBAR,ITS-90,PSS-78,,PSS-78,,UMOL/KG,,UMOL/KG,,UMOL/KG,,UMOL/KG,,UMOL/KG,,UMOL/KG,,PMOL/KG,,PMOL/KG,,PMOL/KG,,FMOL/KG,,UMOL/KG,,UMOL/KG,,,,DEG C,TU,,NMOL/KG,,PERCNT,,DEG C,,/MILLE,,/MILLE,,/MILLE,NMOL/KG,,NMOL/KG,PMOL/KG,,UMOL/KG,,UMOL/KG,,,,TU,NMOL/KG,PERCNT,DEG C,ITS-90,,/MILLE,,/MILLE,/MILLE,,/MILLE,G/KG,,KG/M^3,,,
33AT20120324,        A22,       3,          1,         22,         22,2,20120326,       0048,    39.8572,   -69.9265,       1172,     3.5,  12.3105,  34.1003,2,  34.0168,2,    229.4,4,   289.7,2,    0.74,2,    0.15,2,    0.02,2,    0.16,2,   3.100,2,   1.867,2,   0.267,2,    -999,5,  2029.7,6, 2274.92,6,     -999,5,     -999,    -999,9,     -999,9,    -999,9,  12.3136,2,    -999,9,    -999,9,    -999,    -999,9,    -999,    2.46,2,   73.85,2,    4.23,2,  39.8577, -69.9265,    -999,     -999,    -999,  12.3100,  12.3136,2,-999,9,-999,-999,9,-999,    34.1773,2,-999,9,20120326,        139
33AT20120324,        A22,       3,          1,         21,         21,2,20120326,       0048,    39.8572,   -69.9265,       1172,    36.7,  13.4297,  35.0253,2,  35.0051,2,    261.8,3,   256.1,2,    1.10,2,    2.54,2,    0.28,2,    0.26,2,   2.594,2,   1.561,2,   0.209,2,    -999,5,  2076.7,2, 2318.45,2,   7.9419,2,       25,    -999,9,     -999,9,    -999,9,  13.4198,2,    -999,9,    -999,9,    -999,    -999,9,    -999,    1.60,2,   73.07,2,    7.02,2,  39.8576, -69.9265,    -999,     -999,    -999,  13.4246,  13.4198,2,-999,9,-999,-999,9,-999,    35.1702,2,-999,9,20120326,        137
33AT20120324,        A22,       3,          1,         20,         20,9,20120326,       0048,    39.8572,   -69.9265,       1172,    60.4,  13.3429,  35.0459,2,     -999,9,     -999,5,    -999,9,    -999,9,    -999,9,    -999,9,    -999,9,    -999,9,    -999,9,    -999,9,    -999,9,    -999,9,    -999,9,     -999,9,     -999,    -999,9,     -999,9,    -999,9,  13.2829,3,    -999,9,    -999,9,    -999,    -999,9,    -999,    -999,9,    -999,9,    -999,9,  39.8576, -69.9265,    -999,     -999,    -999,  13.3345,  13.2829,3,-999,9,-999,-999,9,-999,       -999,9,-999,9,20120326,        134
33AT20120324,        A22,       3,          1,         19,         19,2,20120326,       0048,    39.8572,   -69.9265,       1172,    86.5,  14.4816,  35.4853,2,  35.4796,2,    235.5,2,   225.8,2,    2.56,2,    6.06,2,    0.04,2,    0.41,2,   2.503,2,   1.497,2,   0.181,2,    -999,5,  2103.1,2, 2341.04,2,   7.9297,2,       25,    -999,9,     -999,9,    -999,9,  14.4863,2,    -999,9,    -999,9,    -999,    -999,9,    -999,    1.48,2,   60.89,2,   10.45,2,  39.8576, -69.9265,    -999,     -999,    -999,  14.4688,  14.4863,2,-999,9,-999,-999,9,-999,    35.6469,2,-999,9,20120326,        132
33AT20120324,        A22,       3,          1,         18,         18,2,20120326,       0048,    39.8572,   -69.9265,       1172,   111.6,  14.4085,  35.5630,2,  35.5593,2,    218.2,2,   209.7,2,    3.45,2,    8.02,2,    0.03,2,    0.52,2,   2.370,2,   1.420,2,   0.146,2,    -999,5,    -999,9,    -999,9,     -999,9,     -999,    -999,9,     -999,9,    -999,9,  14.4204,2,    -999,9,    -999,9,    -999,    -999,9,    -999,    1.16,2,   57.11,2,   12.87,2,  39.8575, -69.9265,    -999,     -999,    -999,  14.3920,  14.4204,2,-999,9,-999,-999,9,-999,    35.7270,2,-999,9,20120326,        130
33AT20120324,        A22,       3,          1,         17,         17,2,20120326,       0048,    39.8572,   -69.9265,       1172,   136.8,  14.1059,  35.7477,2,  35.7462,2,    180.9,2,   160.4,2,    6.13,2,   14.30,2,    0.02,2,    0.87,2,   2.023,2,   1.171,2,   0.062,2,    -999,5,  2160.5,2, 2346.77,2,   7.8296,2,       25,    -999,9,     -999,9,    -999,9,  14.1057,2,    -999,9,    -999,9,    -999,    -999,9,    -999,    0.56,2,   56.01,2,   18.66,2,  39.8574, -69.9265,    -999,     -999,    -999,  14.0859,  14.1057,2,-999,9,-999,-999,9,-999,    35.9148,2,-999,9,20120326,        128
33AT20120324,        A22,       3,          1,         16,         16,2,20120326,       0048,    39.8572,   -69.9265,       1172,   165.6,  13.2829,  35.6850,2,  35.6921,2,    147.7,2,   144.1,2,    7.80,2,   17.40,2,    0.02,2,    1.05,2,   1.883,2,   1.050,2,   0.035,2,    -999,5,    -999,9,    -999,9,   7.9623,4,       25,    -999,9,     -999,9,    -999,9,  13.3210,2,    -999,9,    -999,9,    -999,    -999,9,    -999,    0.42,2,   54.55,2,   22.25,2,  39.8574, -69.9265,    -999,     -999,    -999,  13.2597,  13.3210,2,-999,9,-999,-999,9,-999,    35.8604,2,-999,9,20120326,        126
33AT20120324,        A22,       3,          1,         15,         15,2,20120326,       0048,    39.8572,   -69.9265,       1172,   186.4,  12.0317,  35.5295,2,  35.5341,2,    141.7,2,   137.7,2,    9.72,2,   20.36,2,    0.00,2,    1.25,2,   1.648,2,   0.911,2,   0.028,2,    -999,5,  2182.4,2, 2334.03,2,   7.7432,2,       25,    -999,9,     -999,9,    -999,9,  12.0744,2,    -999,9,    -999,9,    -999,    -999,9,    -999,    0.35,2,   52.90,2,   23.86,2,  39.8574, -69.9265,    -999,     -999,    -999,  12.0072,  12.0744,2,-999,9,-999,-999,9,-999,    35.7016,2,-999,9,20120326,        125
33AT20120324,        A22,       3,          1,         14,         14,2,20120326,       0048,    39.8572,   -69.9265,       1172,   212.3,  11.1250,  35.4055,2,  35.4053,2,    137.1,2,   134.1,2,   11.37,2,   22.37,2,    0.00,2,    1.40,2,   1.456,2,   0.788,2,   0.022,2,    -999,5,    -999,9,    -999,9,     -999,9,     -999,    -999,9,     -999,9,    -999,9,  11.1202,3,    -999,9,    -999,9,    -999,    -999,9,    -999,    0.35,2,   51.55,2,   26.30,2,  39.8574, -69.9265,    -999,     -999,    -999,  11.0985,  11.1202,3,-999,9,-999,-999,9,-999,    35.5722,2,-999,9,20120326,        123
33AT20120324,        A22,       3,          1,         13,         13,2,20120326,       0048,    39.8572,   -69.9265,       1172,   237.2,   9.9966,  35.2671,2,  35.2691,2,    135.7,2,   132.8,2,   13.20,2,   24.29,2,    0.00,2,    1.52,2,   1.225,2,   0.660,2,   0.017,2,    -999,5,  2194.9,2, 2321.83,2,   7.6768,2,       25,    -999,9,     -999,9,    -999,9,  10.0138,2,    -999,9,    -999,9,    -999,    -999,9,    -999,    0.37,2,   50.06,2,   27.68,2,  39.8574, -69.9265,    -999,     -999,    -999,   9.9689,  10.0138,2,-999,9,-999,-999,9,-999,    35.4354,2,-999,9,20120326,        121
33AT20120324,        A22,       3,          1,         12,         12,2,20120326,       0048,    39.8572,   -69.9265,       1172,   267.7,   9.3770,  35.2000,2,  35.1984,2,    142.8,2,   139.3,2,   13.68,2,   24.24,2,    0.00,2,    1.53,2,   1.270,2,   0.637,2,   0.040,2,    -999,5,    -999,9,    -999,9,     -999,9,     -999,    -999,9,     -999,9,    -999,9,   9.3811,2,    -999,9,    -999,9,    -999,    -999,9,    -999,    0.49,2,   48.68,2,   27.36,2,  39.8574, -69.9265,    -999,     -999,    -999,   9.3470,   9.3811,2,-999,9,-999,-999,9,-999,    35.3643,2,-999,9,20120326,        119
33AT20120324,        A22,       3,          1,         11,         11,2,20120326,       0048,    39.8572,   -69.9265,       1172,   318.0,   8.1622,  35.1180,2,  35.1184,2,    156.6,2,   153.9,2,   14.56,2,   24.24,2,    0.00,2,    1.55,2,   1.085,5,   4.858,5,   0.040,5,    -999,5,    -999,9,    -999,9,     -999,9,     -999,    -999,9,     -999,9,    -999,9,   8.1678,2,    -999,9,    -999,9,    -999,    -999,9,    -999,    0.58,5,   47.56,2,   27.48,2,  39.8573, -69.9265,    -999,     -999,    -999,   8.1293,   8.1678,2,-999,9,-999,-999,9,-999,    35.2840,2,-999,9,20120326,        117
33AT20120324,        A22,       3,          1,         10,         10,2,20120326,       0048,    39.8572,   -69.9265,       1172,   368.1,   6.9812,  35.0587,2,  35.0598,2,    181.4,2,   182.0,2,   13.50,2,   22.07,2,    0.00,2,    1.42,2,   1.764,2,   0.913,2,   0.084,2,    -999,5,  2188.4,2, 2313.08,2,   7.6728,2,       25,    -999,9,     -999,9,    -999,9,   6.9953,2,    -999,9,    -999,9,    -999,    -999,9,    -999,    1.08,2,   46.54,2,   25.62,2,  39.8573, -69.9265,    -999,     -999,    -999,   6.9463,   6.9953,2,-999,9,-999,-999,9,-999,    35.2251,2,-999,9,20120326,        115
33AT20120324,        A22,       3,          1,          9,          9,2,20120326,       0048,    39.8572,   -69.9265,       1172,   419.6,   6.2690,  35.0188,2,  35.0186,2,    203.8,2,   201.6,2,   12.81,2,   20.81,2,    0.00,2,    1.36,2,   2.088,2,   1.122,2,   0.108,2,    -999,5,    -999,9,    -999,9,     -999,9,     -999,    -999,9,     -999,9,    -999,9,   6.2698,2,    -999,9,    -999,9,    -999,    -999,9,    -999,    1.29,2,   46.10,2,   23.58,2,  39.8573, -69.9265,    -999,     -999,    -999,   6.2314,   6.2698,2,-999,9,-999,-999,9,-999,    35.1837,2,-999,9,20120326,        113
33AT20120324,        A22,       3,          1,          8,          8,2,20120326,       0048,    39.8572,   -69.9265,       1172,   470.0,   5.9078,  35.0176,2,  35.0153,2,    214.5,2,   211.3,2,   12.61,2,   20.27,2,    0.00,2,    1.32,2,   2.108,2,   1.153,2,   0.114,2,    -999,5,    -999,9,    -999,9,     -999,9,     -999,    -999,9,     -999,9,    -999,9,   5.9110,2,    -999,9,    -999,9,    -999,    -999,9,    -999,    1.30,2,   45.41,2,   23.26,2,  39.8573, -69.9265,    -999,     -999,    -999,   5.8668,   5.9110,2,-999,9,-999,-999,9,-999,    35.1804,2,-999,9,20120326,        111
33AT20120324,        A22,       3,          1,          7,          7,2,20120326,       0048,    39.8572,   -69.9265,       1172,   540.6,   5.5542,  35.0092,2,  35.0098,2,    225.8,2,   222.5,2,   12.12,2,   19.59,2,    0.00,2,    1.29,2,   2.214,2,   1.216,2,   0.130,2,    -999,5,  2176.1,2, 2308.84,2,   7.6929,2,       25,    -999,9,     -999,9,    -999,9,   5.5517,2,    -999,9,    -999,9,    -999,    -999,9,    -999,    1.42,2,   45.40,2,   22.87,2,  39.8572, -69.9265,    -999,     -999,    -999,   5.5082,   5.5517,2,-999,9,-999,-999,9,-999,    35.1749,2,-999,9,20120326,        108
33AT20120324,        A22,       3,          1,          6,          6,2,20120326,       0048,    39.8572,   -69.9265,       1172,   640.5,   4.9496,  34.9736,2,  34.9728,2,    244.5,2,   242.1,2,   11.24,2,   18.39,2,    0.00,2,    1.21,2,   2.667,2,   1.506,2,   0.175,2,    -999,5,    -999,9,    -999,9,     -999,9,     -999,    -999,9,     -999,9,    -999,9,   4.9575,2,    -999,9,    -999,9,    -999,    -999,9,    -999,    1.74,2,   45.49,2,   21.31,2,  39.8572, -69.9265,    -999,     -999,    -999,   4.8977,   4.9575,2,-999,9,-999,-999,9,-999,    35.1377,2,-999,9,20120326,        105
33AT20120324,        A22,       3,          1,          5,          5,2,20120326,       0048,    39.8572,   -69.9265,       1172,   741.2,   4.7477,  34.9687,2,  34.9677,2,    251.3,2,   249.6,2,   11.08,2,   17.98,2,    0.00,2,    1.18,2,   2.800,2,   1.602,2,   0.188,2,    -999,5,  2169.4,2, 2307.13,2,   7.7123,2,       25,    -999,9,     -999,9,    -999,9,   4.7500,2,    -999,9,    -999,9,    -999,    -999,9,    -999,    1.88,2,   45.47,2,   20.54,2,  39.8571, -69.9265,    -999,     -999,    -999,   4.6882,   4.7500,2,-999,9,-999,-999,9,-999,    35.1326,2,-999,9,20120326,        101
33AT20120324,        A22,       3,          1,          4,          4,2,20120326,       0048,    39.8572,   -69.9265,       1172,   843.2,   4.5291,  34.9623,2,  34.9620,2,    258.0,2,   256.1,2,   10.90,2,   17.67,2,    0.00,2,    1.16,2,   3.158,2,   1.692,2,   0.212,2,    -999,5,    -999,9,    -999,9,     -999,9,     -999,    -999,9,     -999,9,    -999,9,   4.5313,2,    -999,9,    -999,9,    -999,    -999,9,    -999,    2.19,2,   45.96,2,   20.52,2,  39.8572, -69.9265,    -999,     -999,    -999,   4.4622,   4.5313,2,-999,9,-999,-999,9,-999,    35.1269,2,-999,9,20120326,         58
33AT20120324,        A22,       3,          1,          3,          3,2,20120326,       0048,    39.8572,   -69.9265,       1172,   944.5,   4.4084,  34.9612,2,  34.9604,2,    260.6,2,   258.8,2,   10.94,2,   17.58,2,    0.00,2,    1.15,2,   2.794,2,   1.650,2,   0.202,2,    -999,5,    -999,9,    -999,9,     -999,9,     -999,    -999,9,     -999,9,    -999,9,   4.4096,2,    -999,9,    -999,9,    -999,    -999,9,    -999,    2.03,2,   45.41,2,   20.28,2,  39.8572, -69.9265,    -999,     -999,    -999,   4.3336,   4.4096,2,-999,9,-999,-999,9,-999,    35.1253,2,-999,9,20120326,         55
33AT20120324,        A22,       3,          1,          2,          2,2,20120326,       0048,    39.8572,   -69.9265,       1172,  1044.9,   4.3097,  34.9613,2,  34.9604,2,    261.4,2,   259.7,2,   11.03,2,   17.58,2,    0.00,2,    1.15,2,   2.839,2,   1.635,2,   0.199,2,    -999,5,  2165.9,2, 2305.72,2,   7.7129,2,       25,    -999,9,     -999,9,    -999,9,   4.3101,2,    -999,9,    -999,9,    -999,    -999,9,    -999,    2.03,2,   45.86,2,   20.36,2,  39.8572, -69.9265,    -999,     -999,    -999,   4.2270,   4.3101,2,-999,9,-999,-999,9,-999,    35.1253,2,-999,9,20120326,         52
33AT20120324,        A22,       3,          1,          1,          1,2,20120326,       0048,    39.8572,   -69.9265,       1172,  1161.9,   4.2575,  34.9598,2,  34.9602,2,    258.8,2,   258.2,2,   11.19,2,   17.61,2,    0.00,2,    1.16,2,   2.015,2,   1.377,2,   0.153,2,    -999,5,  2166.4,6, 2309.44,6,   7.7170,6,       25,    -999,9,     -999,9,    -999,9,   4.2576,2,    -999,9,    -999,9,    -999,    -999,9,    -999,    1.08,2,   45.70,2,   20.58,2,  39.8572, -69.9266,    -999,     -999,    -999,   4.1650,   4.2576,2,-999,9,-999,-999,9,-999,    35.1251,2,-999,9,20120326,         49