BOTTLE,20220725CCHSIOCBG
EXPOCODE,SECT_ID,STNNBR,CASTNO,SAMPNO,BTLNBR,BTLNBR_FLAG_W,DATE,TIME,LATITUDE,LONGITUDE,DEPTH,CTDPRS,CTDTMP,CTDSAL,CTDSAL_FLAG_W,SALNTY,SALNTY_FLAG_W,CTDOXY,CTDOXY_FLAG_W,OXYGEN,OXYGEN_FLAG_W,SILCAT,SILCAT_FLAG_W,NITRAT,NITRAT_FLAG_W,NITRIT,NITRIT_FLAG_W,PHSPHT,PHSPHT_FLAG_W,CFC-11,CFC-11_FLAG_W,CFC-12,CFC-12_FLAG_W,CFC113,CFC113_FLAG_W,SF6,SF6_FLAG_W,TCARBN,TCARBN_FLAG_W,ALKALI,ALKALI_FLAG_W,PH_TOT,PH_TOT_FLAG_W,PH_TMP,TRITUM,TRITUM_FLAG_W,HELIUM,HELIUM_FLAG_W,DELHE3,DELHE3_FLAG_W,REFTMP,REFTMP_FLAG_W,DELC13,DELC13_FLAG_W,DELC14,DELC14_FLAG_W,C14ERR,NEON,NEON_FLAG_W,NEONER,CCL4,CCL4_FLAG_W,DOC,DOC_FLAG_W,TDN,TDN_FLAG_W,BTL_LAT,BTL_LON,TRITER,HELIER,DELHER,THETA,SBE35,SBE35_FLAG_W,14C-DOC,14C-DOC_FLAG_W,14C-DOCERR,13C-DOC,13C-DOC_FLAG_W,13C-DOCERR,SALTREF,SALTREF_FLAG_W,LAB_DEN,LAB_DEN_FLAG_W,BTL_DATE,BTL_TIME
,,,,,,,,,,,METERS,DBAR,ITS-90,PSS-78,,PSS-78,,UMOL/KG,,UMOL/KG,,UMOL/KG,,UMOL/KG,,UMOL/KG,,UMOL/KG,,PMOL/KG,,PMOL/KG,,PMOL/KG,,FMOL/KG,,UMOL/KG,,UMOL/KG,,,,DEG C,TU,,NMOL/KG,,PERCNT,,DEG C,,/MILLE,,/MILLE,,/MILLE,NMOL/KG,,NMOL/KG,PMOL/KG,,UMOL/KG,,UMOL/KG,,,,TU,NMOL/KG,PERCNT,DEG C,ITS-90,,/MILLE,,/MILLE,/MILLE,,/MILLE,G/KG,,KG/M^3,,,
33AT20120324,        A22,      70,          1,         36,         36,2,20120412,       1214,    14.6695,   -69.5973,       4176,     3.9,  27.4352,  35.5799,2,  35.5800,2,    194.2,2,   200.4,2,    1.35,2,    0.00,2,    0.00,2,    0.00,2,   1.604,2,   1.022,2,   0.126,2,    1.17,2,  1991.7,6, 2335.24,2,   8.1042,2,       25,    -999,9,     -999,9,    -999,9,  27.4366,2,    -999,9,    -999,9,    -999,    -999,9,    -999,    -999,1,    -999,9,    -999,9,  14.6722, -69.5967,    -999,     -999,    -999,  27.4343,  27.4366,2,-999,9,-999,-999,9,-999,    35.7478,2,-999,9,20120412,       1358
33AT20120324,        A22,      70,          1,         35,         35,2,20120412,       1214,    14.6695,   -69.5973,       4176,    20.4,  27.4024,  35.6141,2,  35.6210,2,    201.0,2,   200.6,2,    1.33,2,    0.00,2,    0.00,2,    0.00,2,   1.615,2,   1.030,2,   0.129,2,    1.01,2,    -999,9,    -999,9,     -999,9,     -999,    -999,9,     -999,9,    -999,9,  27.3973,2,    -999,9,    -999,9,    -999,    -999,9,    -999,    -999,1,    -999,9,    -999,9,  14.6720, -69.5968,    -999,     -999,    -999,  27.3977,  27.3973,2,-999,9,-999,-999,9,-999,    35.7890,2,-999,9,20120412,       1356
33AT20120324,        A22,      70,          1,         34,         34,2,20120412,       1214,    14.6695,   -69.5973,       4176,    41.1,  27.0825,  35.6859,2,  35.6860,2,    202.4,2,   201.9,2,    1.34,2,    0.00,2,    0.00,2,    0.00,2,   1.625,2,   1.046,2,   0.131,2,    1.06,2,  2000.2,2, 2340.03,2,   8.1017,6,       25,    -999,9,     -999,9,    -999,9,  27.0867,2,    -999,9,    -999,9,    -999,    -999,9,    -999,    -999,1,    -999,9,    -999,9,  14.6718, -69.5968,    -999,     -999,    -999,  27.0730,  27.0867,2,-999,9,-999,-999,9,-999,    35.8543,2,-999,9,20120412,       1355
33AT20120324,        A22,      70,          1,         33,         33,2,20120412,       1214,    14.6695,   -69.5973,       4176,    66.1,  26.5701,  35.8041,2,  35.8142,2,    201.9,2,   202.2,2,    1.38,2,    0.00,2,    0.00,2,    0.00,2,   1.658,2,   1.063,2,   0.138,2,    1.09,2,  2004.9,2, 2347.18,6,   8.1041,2,       25,    -999,9,     -999,9,    -999,9,  26.5690,2,    -999,9,    -999,9,    -999,    -999,9,    -999,    -999,1,    -999,9,    -999,9,  14.6716, -69.5968,    -999,     -999,    -999,  26.5551,  26.5690,2,-999,9,-999,-999,9,-999,    35.9831,2,-999,9,20120412,       1353
33AT20120324,        A22,      70,          1,         32,         32,2,20120412,       1214,    14.6695,   -69.5973,       4176,    90.9,  26.4312,  35.9619,2,  35.9664,2,    197.5,2,   203.4,2,    0.93,2,    0.00,2,    0.22,2,    0.02,2,   1.657,2,   1.055,2,   0.139,2,    1.20,2,  2022.3,2, 2357.78,2,   8.0839,2,       25,    -999,9,     -999,9,    -999,9,  26.4280,2,    -999,9,    -999,9,    -999,    -999,9,    -999,    -999,1,    -999,9,    -999,9,  14.6715, -69.5969,    -999,     -999,    -999,  26.4106,  26.4280,2,-999,9,-999,-999,9,-999,    36.1360,2,-999,9,20120412,       1351
33AT20120324,        A22,      70,          1,         31,         31,2,20120412,       1214,    14.6695,   -69.5973,       4176,   116.1,  26.1706,  36.4947,2,  36.5041,2,    182.5,2,   180.3,2,    0.81,2,    0.01,2,    0.19,2,    0.02,2,   1.723,2,   1.093,2,   0.121,2,    1.21,2,  2067.1,2, 2389.67,2,   8.0535,2,       25,    -999,9,     -999,9,    -999,9,  26.1911,2,    -999,9,    -999,9,    -999,    -999,9,    -999,    -999,1,    -999,9,    -999,9,  14.6713, -69.5969,    -999,     -999,    -999,  26.1444,  26.1911,2,-999,9,-999,-999,9,-999,    36.6762,2,-999,9,20120412,       1349
33AT20120324,        A22,      70,          1,         30,         30,2,20120412,       1214,    14.6695,   -69.5973,       4176,   145.2,  24.1986,  37.0069,2,  37.0076,2,    162.6,2,   163.9,2,    0.92,2,    2.59,2,    0.03,2,    0.14,2,   1.830,2,   1.155,2,   0.076,2,    1.19,2,  2114.4,2, 2416.83,2,   8.0145,2,       25,    -999,9,     -999,9,    -999,9,  24.1972,2,    -999,9,    -999,9,    -999,    -999,9,    -999,    -999,1,    -999,9,    -999,9,  14.6711, -69.5970,    -999,     -999,    -999,  24.1676,  24.1972,2,-999,9,-999,-999,9,-999,    37.1821,2,-999,9,20120412,       1347
33AT20120324,        A22,      70,          1,         29,         29,2,20120412,       1214,    14.6695,   -69.5973,       4176,   186.7,  20.8206,  36.8283,2,  36.8199,2,    149.1,2,   151.5,2,    1.79,2,    6.29,2,    0.01,2,    0.33,2,   2.040,2,   1.257,2,   0.025,2,    1.05,2,  2151.7,2, 2403.43,2,   7.9282,2,       25,    -999,9,     -999,9,    -999,9,  20.8282,2,    -999,9,    -999,9,    -999,    -999,9,    -999,    -999,1,    -999,9,    -999,9,  14.6708, -69.5970,    -999,     -999,    -999,  20.7847,  20.8282,2,-999,9,-999,-999,9,-999,    36.9935,2,-999,9,20120412,       1345
33AT20120324,        A22,      70,          1,         28,         28,2,20120412,       1214,    14.6695,   -69.5973,       4176,   235.0,  17.6339,  36.4397,2,  36.4410,2,    153.8,2,   154.3,2,    2.69,2,    9.53,2,    0.01,2,    0.53,2,   2.221,2,   1.327,2,   0.005,2,    0.94,2,  2153.8,2, 2379.67,2,   7.8863,2,       25,    -999,9,     -999,9,    -999,9,  17.6422,2,    -999,9,    -999,9,    -999,    -999,9,    -999,    -999,1,    -999,9,    -999,9,  14.6705, -69.5971,    -999,     -999,    -999,  17.5937,  17.6422,2,-999,9,-999,-999,9,-999,    36.6128,2,-999,9,20120412,       1343
33AT20120324,        A22,      70,          1,         27,         27,2,20120412,       1214,    14.6695,   -69.5973,       4176,   286.2,  15.3189,  35.9886,2,  35.9871,2,    138.9,2,   141.1,2,    5.02,2,   14.87,2,    0.01,2,    0.89,2,   2.184,2,   1.259,2,   0.007,2,    0.80,2,  2166.2,2, 2354.99,2,   7.8112,2,       25,    -999,9,     -999,9,    -999,9,  15.3181,2,    -999,9,    -999,9,    -999,    -999,9,    -999,    -999,1,    -999,9,    -999,9,  14.6703, -69.5971,    -999,     -999,    -999,  15.2745,  15.3181,2,-999,9,-999,-999,9,-999,    36.1567,2,-999,9,20120412,       1342
33AT20120324,        A22,      70,          1,         26,         26,2,20120412,       1214,    14.6695,   -69.5973,       4176,   338.1,  13.3320,  35.6021,2,  35.6096,2,    129.6,2,   130.4,2,    7.80,2,   19.40,2,    0.01,2,    1.21,2,   2.051,2,   1.149,2,   0.013,2,    0.60,2,    -999,9,    -999,9,     -999,9,     -999,    -999,9,     -999,9,    -999,9,  13.3463,2,    -999,9,    -999,9,    -999,    -999,9,    -999,    -999,1,    -999,9,    -999,9,  14.6701, -69.5972,    -999,     -999,    -999,  13.2842,  13.3463,2,-999,9,-999,-999,9,-999,    35.7775,2,-999,9,20120412,       1340
33AT20120324,        A22,      70,          1,         25,         25,2,20120412,       1214,    14.6695,   -69.5973,       4176,   389.4,  11.5385,  35.3101,2,  35.3091,2,    124.1,2,   123.8,2,   10.39,2,   23.17,2,    0.01,2,    1.46,2,   1.829,2,   1.004,2,   0.013,2,    0.48,2,  2190.0,2, 2321.01,2,   7.6851,2,       25,    -999,9,     -999,9,    -999,9,  11.5380,2,    -999,9,    -999,9,    -999,    -999,9,    -999,    -999,1,    -999,9,    -999,9,  14.6700, -69.5972,    -999,     -999,    -999,  11.4884,  11.5380,2,-999,9,-999,-999,9,-999,    35.4756,2,-999,9,20120412,       1338
33AT20120324,        A22,      70,          1,         24,         24,2,20120412,       1214,    14.6695,   -69.5973,       4176,   434.9,  10.5584,  35.1623,2,  35.1631,2,    121.6,2,   121.8,2,   12.21,2,   25.36,2,    0.00,2,    1.62,2,   1.647,2,   0.884,2,   0.012,2,    0.42,2,    -999,9,    -999,9,     -999,9,     -999,    -999,9,     -999,9,    -999,9,  10.5595,2,    -999,9,    -999,9,    -999,    -999,9,    -999,    -999,1,    -999,9,    -999,9,  14.6699, -69.5972,    -999,     -999,    -999,  10.5055,  10.5595,2,-999,9,-999,-999,9,-999,    35.3289,2,-999,9,20120412,       1337
33AT20120324,        A22,      70,          1,         23,         23,2,20120412,       1214,    14.6695,   -69.5973,       4176,   487.9,   9.8102,  35.0846,2,  35.0851,2,    121.0,2,   120.0,2,   13.78,2,   26.93,2,    0.00,2,    1.72,2,   1.411,2,   0.753,2,   0.014,2,    0.39,2,  2199.8,2, 2313.11,2,   7.6348,2,       25,    -999,9,     -999,9,    -999,9,   9.8099,2,    -999,9,    -999,9,    -999,    -999,9,    -999,    -999,1,    -999,9,    -999,9,  14.6699, -69.5972,    -999,     -999,    -999,   9.7533,   9.8099,2,-999,9,-999,-999,9,-999,    35.2506,2,-999,9,20120412,       1335
33AT20120324,        A22,      70,          1,         22,         22,2,20120412,       1214,    14.6695,   -69.5973,       4176,   568.4,   8.4279,  34.9058,2,  34.9051,2,    120.4,2,   119.7,2,   17.16,2,   29.73,2,    0.00,2,    1.92,2,   1.054,2,   0.539,2,   0.013,2,    0.28,2,  2206.6,2, 2306.38,2,   7.5970,2,       25,    -999,9,     -999,9,    -999,9,   8.4282,2,    -999,9,    -999,9,    -999,    -999,9,    -999,    -999,1,    -999,9,    -999,9,  14.6698, -69.5973,    -999,     -999,    -999,   8.3673,   8.4282,2,-999,9,-999,-999,9,-999,    35.0697,2,-999,9,20120412,       1333
33AT20120324,        A22,      70,          1,         21,         21,2,20120412,       1214,    14.6695,   -69.5973,       4176,   669.3,   7.3564,  34.7910,2,  34.7899,2,    123.2,2,   122.9,2,   20.31,2,   31.55,2,    0.00,2,    2.06,2,   0.747,2,   0.381,2,   0.009,2,    0.20,2,  2209.8,6, 2304.24,2,   7.5754,2,       25,    -999,9,     -999,9,    -999,9,   7.3516,2,    -999,9,    -999,9,    -999,    -999,9,    -999,    -999,1,    -999,9,    -999,9,  14.6697, -69.5973,    -999,     -999,    -999,   7.2900,   7.3516,2,-999,9,-999,-999,9,-999,    34.9539,2,-999,9,20120412,       1331
33AT20120324,        A22,      70,          1,         20,         20,2,20120412,       1214,    14.6695,   -69.5973,       4176,   770.3,   6.5542,  34.7445,2,  34.7448,2,    128.3,2,   128.6,2,   22.96,2,   32.19,2,    0.00,2,    2.11,2,   0.463,2,   0.225,2,   0.007,2,    0.12,2,  2213.3,2, 2306.22,2,   7.5694,2,       25,    -999,9,     -999,9,    -999,9,   6.5541,2,    -999,9,    -999,9,    -999,    -999,9,    -999,    -999,1,    -999,9,    -999,9,  14.6697, -69.5973,    -999,     -999,    -999,   6.4819,   6.5541,2,-999,9,-999,-999,9,-999,    34.9087,2,-999,9,20120412,       1328
33AT20120324,        A22,      70,          1,         19,         19,2,20120412,       1214,    14.6695,   -69.5973,       4176,   870.5,   6.0022,  34.7631,2,  34.7655,2,    138.1,2,   139.8,2,   24.44,2,   31.51,2,    0.00,2,    2.09,2,   0.290,2,   0.143,2,   0.002,2,    0.10,2,  2211.6,2, 2309.08,2,   7.5829,2,       25,    -999,9,   1.8225,2,    2.41,2,   6.0019,2,    -999,9,    -999,9,    -999,   7.803,2,   0.035,    -999,1,    -999,9,    -999,9,  14.6695, -69.5973,    -999,   0.0073,    0.15,   5.9235,   6.0019,2,-999,9,-999,-999,9,-999,    34.9294,2,-999,9,20120412,       1326
33AT20120324,        A22,      70,          1,         18,         18,2,20120412,       1214,    14.6695,   -69.5973,       4176,   971.3,   5.6474,  34.8354,2,  34.8379,2,    153.5,2,   154.1,2,   24.66,2,   29.22,2,    0.00,2,    1.96,2,   0.200,2,   0.102,2,   0.004,2,    0.07,2,  2207.0,2, 2314.53,2,   7.6121,2,       25,    -999,9,     -999,9,    -999,9,   5.6478,2,    -999,9,    -999,9,    -999,    -999,9,    -999,    -999,1,    -999,9,    -999,9,  14.6694, -69.5973,    -999,     -999,    -999,   5.5614,   5.6478,2,-999,9,-999,-999,9,-999,    35.0022,2,-999,9,20120412,       1323
33AT20120324,        A22,      70,          1,         17,         17,2,20120412,       1214,    14.6695,   -69.5973,       4176,  1073.0,   5.2516,  34.9047,2,  34.9058,2,    170.5,2,   172.7,2,   24.67,2,   26.65,2,    0.00,2,    1.81,2,   0.141,2,   0.068,2,   0.001,2,    0.06,2,  2199.7,2, 2321.06,2,   7.6453,2,       25,    -999,9,     -999,9,    -999,9,   5.2511,2,    -999,9,    -999,9,    -999,    -999,9,    -999,    -999,1,    -999,9,    -999,9,  14.6694, -69.5973,    -999,     -999,    -999,   5.1589,   5.2511,2,-999,9,-999,-999,9,-999,    35.0704,2,-999,9,20120412,       1321
33AT20120324,        A22,      70,          1,         16,         16,2,20120412,       1214,    14.6695,   -69.5973,       4176,  1174.2,   4.9252,  34.9425,2,  34.9422,2,    185.5,2,   188.3,2,   24.38,2,   24.92,2,    0.00,2,    1.68,2,    -999,5,    -999,5,    -999,5,    -999,5,    -999,9,    -999,9,     -999,9,     -999,    -999,9,     -999,9,    -999,9,   4.9230,2,    -999,9,    -999,9,    -999,    -999,9,    -999,    -999,1,    -999,9,    -999,9,  14.6693, -69.5974,    -999,     -999,    -999,   4.8257,   4.9230,2,-999,9,-999,-999,9,-999,    35.1069,2,-999,9,20120412,       1318
33AT20120324,        A22,      70,          1,         15,         15,2,20120412,       1214,    14.6695,   -69.5973,       4176,  1274.7,   4.6849,  34.9535,2,  34.9550,2,    194.6,2,   195.6,2,   24.53,2,   24.00,2,    0.00,2,    1.62,2,   0.106,2,    -999,5,   0.001,2,    0.04,2,  2191.8,2, 2325.97,2,   7.6788,2,       25,    -999,9,     -999,9,    -999,9,   4.6854,2,    -999,9,    -999,9,    -999,    -999,9,    -999,    -999,1,    -999,9,    -999,9,  14.6693, -69.5974,    -999,     -999,    -999,   4.5783,   4.6854,2,-999,9,-999,-999,9,-999,    35.1198,2,-999,9,20120412,       1316
33AT20120324,        A22,      70,          1,         14,         14,2,20120412,       1214,    14.6695,   -69.5973,       4176,  1374.5,   4.5410,  34.9624,2,  34.9619,2,    200.7,2,   201.6,2,   24.41,2,   23.36,2,    0.00,2,    1.58,2,   0.126,2,   0.061,2,   0.002,2,    0.09,2,    -999,9,    -999,9,     -999,9,     -999,    -999,9,     -999,9,    -999,9,   4.5413,2,    -999,9,    -999,9,    -999,    -999,9,    -999,    -999,1,    -999,9,    -999,9,  14.6693, -69.5974,    -999,     -999,    -999,   4.4265,   4.5413,2,-999,9,-999,-999,9,-999,    35.1267,2,-999,9,20120412,       1313
33AT20120324,        A22,      70,          1,         13,         13,2,20120412,       1214,    14.6695,   -69.5973,       4176,  1466.8,   4.4369,  34.9683,2,  34.9694,2,    207.0,2,   206.8,2,   24.31,2,   22.81,2,    0.00,2,    1.54,2,   0.153,2,   0.056,2,   0.004,2,    0.07,2,    -999,9,    -999,9,     -999,9,     -999,    -999,9,     -999,9,    -999,9,   4.4367,2,    -999,9,    -999,9,    -999,    -999,9,    -999,    -999,1,    -999,9,    -999,9,  14.6692, -69.5974,    -999,     -999,    -999,   4.3149,   4.4367,2,-999,9,-999,-999,9,-999,    35.1343,2,-999,9,20120412,       1311
33AT20120324,        A22,      70,          1,         12,         12,2,20120412,       1214,    14.6695,   -69.5973,       4176,  1577.2,   4.3225,  34.9705,2,  34.9710,2,    209.9,2,   209.6,2,   25.16,2,   22.59,2,    0.00,2,    1.53,2,   0.126,2,   0.056,2,   0.001,2,    0.06,2,  2189.2,2, 2328.60,2,   7.6980,2,       25,    -999,9,     -999,9,    -999,9,   4.3226,2,    -999,9,    -999,9,    -999,    -999,9,    -999,    -999,1,    -999,9,    -999,9,  14.6692, -69.5974,    -999,     -999,    -999,   4.1914,   4.3226,2,-999,9,-999,-999,9,-999,    35.1359,2,-999,9,20120412,       1309
33AT20120324,        A22,      70,          1,         11,         11,2,20120412,       1214,    14.6695,   -69.5973,       4176,  1678.0,   4.2501,  34.9715,2,  34.9740,2,    211.1,2,   211.2,2,   25.81,2,   22.44,2,    0.00,2,    1.52,2,   0.112,2,   0.056,2,   0.004,2,    0.08,2,    -999,9,    -999,9,     -999,9,     -999,    -999,9,     -999,9,    -999,9,   4.2498,2,    -999,9,    -999,9,    -999,    -999,9,    -999,    -999,1,    -999,9,    -999,9,  14.6692, -69.5974,    -999,     -999,    -999,   4.1103,   4.2498,2,-999,9,-999,-999,9,-999,    35.1389,2,-999,9,20120412,       1306
33AT20120324,        A22,      70,          1,         10,         10,2,20120412,       1214,    14.6695,   -69.5973,       4176,  1723.6,   4.2194,  34.9719,2,  34.9726,2,    211.7,2,   211.5,2,   26.07,2,   22.37,2,    0.00,2,    1.51,2,   0.104,2,   0.051,2,   0.006,2,    0.08,2,  2189.6,2, 2332.37,2,   7.7016,2,       25,    -999,9,     -999,9,    -999,9,   4.2189,2,    -999,9,    -999,9,    -999,    -999,9,    -999,    -999,1,    -999,9,    -999,9,  14.6692, -69.5974,    -999,     -999,    -999,   4.0756,   4.2189,2,-999,9,-999,-999,9,-999,    35.1375,2,-999,9,20120412,       1304
33AT20120324,        A22,      70,          1,          9,          9,2,20120412,       1214,    14.6695,   -69.5973,       4176,  1853.0,   4.1676,  34.9724,2,  34.9738,2,    213.3,2,   212.4,2,   27.14,2,   22.40,2,    0.00,2,    1.52,2,   0.063,2,   0.035,2,   0.002,2,    0.20,2,    -999,9,    -999,9,     -999,9,     -999,    -999,9,   1.8435,2,    1.10,2,   4.1678,2,    -999,9,    -999,9,    -999,   7.926,2,   0.036,    -999,1,    -999,9,    -999,9,  14.6692, -69.5974,    -999,   0.0074,    0.15,   4.0120,   4.1678,2,-999,9,-999,-999,9,-999,    35.1388,2,-999,9,20120412,       1301
33AT20120324,        A22,      70,          1,          8,          8,2,20120412,       1214,    14.6695,   -69.5973,       4176,  2187.4,   4.1249,  34.9737,2,  34.9748,2,    214.0,2,   218.8,4,   27.70,2,   22.19,2,    0.00,2,    1.50,2,   0.055,2,   0.038,2,   0.004,2,    0.33,2,  2191.6,2, 2336.45,2,   7.7069,2,       25,    -999,9,     -999,9,    -999,9,   4.1249,2,    -999,9,    -999,9,    -999,    -999,9,    -999,    -999,1,    -999,9,    -999,9,  14.6692, -69.5974,    -999,     -999,    -999,   3.9367,   4.1249,2,-999,9,-999,-999,9,-999,    35.1398,2,-999,9,20120412,       1255
33AT20120324,        A22,      70,          1,          7,          7,2,20120412,       1214,    14.6695,   -69.5973,       4176,  2441.4,   4.1238,  34.9742,2,  34.9753,2,    215.1,2,   215.0,2,   28.00,2,   22.10,2,    0.00,2,    1.49,2,   0.060,2,   0.046,2,   0.004,2,    0.30,2,    -999,9,    -999,9,     -999,9,     -999,    -999,9,     -999,9,    -999,9,   4.1234,2,    -999,9,    -999,9,    -999,    -999,9,    -999,    -999,1,    -999,9,    -999,9,  14.6693, -69.5974,    -999,     -999,    -999,   3.9094,   4.1234,2,-999,9,-999,-999,9,-999,    35.1402,2,-999,9,20120412,       1250
33AT20120324,        A22,      70,          1,          6,          6,2,20120412,       1214,    14.6695,   -69.5973,       4176,  2695.2,   4.1383,  34.9743,2,  34.9753,2,    214.7,2,   215.0,2,   28.14,2,   22.04,2,    0.00,2,    1.49,2,   0.060,2,   0.047,2,   0.005,2,    0.17,2,    -999,9,    -999,9,     -999,9,     -999,    -999,9,     -999,9,    -999,9,   4.1382,2,    -999,9,    -999,9,    -999,    -999,9,    -999,    -999,1,    -999,9,    -999,9,  14.6694, -69.5973,    -999,     -999,    -999,   3.8966,   4.1382,2,-999,9,-999,-999,9,-999,    35.1402,2,-999,9,20120412,       1245