BOTTLE,20220725CCHSIOCBG
EXPOCODE,SECT_ID,STNNBR,CASTNO,SAMPNO,BTLNBR,BTLNBR_FLAG_W,DATE,TIME,LATITUDE,LONGITUDE,DEPTH,CTDPRS,CTDTMP,CTDSAL,CTDSAL_FLAG_W,SALNTY,SALNTY_FLAG_W,CTDOXY,CTDOXY_FLAG_W,OXYGEN,OXYGEN_FLAG_W,SILCAT,SILCAT_FLAG_W,NITRAT,NITRAT_FLAG_W,NITRIT,NITRIT_FLAG_W,PHSPHT,PHSPHT_FLAG_W,CFC-11,CFC-11_FLAG_W,CFC-12,CFC-12_FLAG_W,CFC113,CFC113_FLAG_W,SF6,SF6_FLAG_W,TCARBN,TCARBN_FLAG_W,ALKALI,ALKALI_FLAG_W,PH_TOT,PH_TOT_FLAG_W,PH_TMP,TRITUM,TRITUM_FLAG_W,HELIUM,HELIUM_FLAG_W,DELHE3,DELHE3_FLAG_W,REFTMP,REFTMP_FLAG_W,DELC13,DELC13_FLAG_W,DELC14,DELC14_FLAG_W,C14ERR,NEON,NEON_FLAG_W,NEONER,CCL4,CCL4_FLAG_W,DOC,DOC_FLAG_W,TDN,TDN_FLAG_W,BTL_LAT,BTL_LON,TRITER,HELIER,DELHER,THETA,SBE35,SBE35_FLAG_W,14C-DOC,14C-DOC_FLAG_W,14C-DOCERR,13C-DOC,13C-DOC_FLAG_W,13C-DOCERR,SALTREF,SALTREF_FLAG_W,LAB_DEN,LAB_DEN_FLAG_W,BTL_DATE,BTL_TIME
,,,,,,,,,,,METERS,DBAR,ITS-90,PSS-78,,PSS-78,,UMOL/KG,,UMOL/KG,,UMOL/KG,,UMOL/KG,,UMOL/KG,,UMOL/KG,,PMOL/KG,,PMOL/KG,,PMOL/KG,,FMOL/KG,,UMOL/KG,,UMOL/KG,,,,DEG C,TU,,NMOL/KG,,PERCNT,,DEG C,,/MILLE,,/MILLE,,/MILLE,NMOL/KG,,NMOL/KG,PMOL/KG,,UMOL/KG,,UMOL/KG,,,,TU,NMOL/KG,PERCNT,DEG C,ITS-90,,/MILLE,,/MILLE,/MILLE,,/MILLE,G/KG,,KG/M^3,,,
33AT20120324,        A22,      17,          1,         36,         36,2,20120329,       1757,    36.5496,   -67.7568,       4946,     4.7,  18.9424,  36.4778,2,  36.4784,2,    226.1,3,   229.9,2,    0.19,2,    0.43,2,    0.12,2,    0.01,2,   2.025,2,   1.317,2,   0.156,2,    -999,5,  2078.5,6, 2391.24,6,   8.0372,6,       25,    -999,9,     -999,9,    -999,9,  18.9433,2,    -999,9,    -999,9,    -999,    -999,9,    -999,    1.51,2,   68.48,2,    4.99,2,  36.5184, -67.7818,    -999,     -999,    -999,  18.9416,  18.9433,2,-999,9,-999,-999,9,-999,    36.6504,2,-999,9,20120329,       2012
33AT20120324,        A22,      17,          1,         35,         35,2,20120329,       1757,    36.5496,   -67.7568,       4946,    27.5,  18.9422,  36.4778,2,  36.4778,2,    230.1,3,   229.6,2,    0.19,2,    0.37,2,    0.12,2,    0.00,2,   2.011,2,   1.320,2,   0.165,2,    -999,5,  2078.2,2, 2391.12,2,   8.0325,2,       25,    -999,9,     -999,9,    -999,9,  18.9428,2,    -999,9,    -999,9,    -999,    -999,9,    -999,    1.50,2,   67.58,2,    5.02,2,  36.5191, -67.7816,    -999,     -999,    -999,  18.9373,  18.9428,2,-999,9,-999,-999,9,-999,    36.6498,2,-999,9,20120329,       2011
33AT20120324,        A22,      17,          1,         34,         34,2,20120329,       1757,    36.5496,   -67.7568,       4946,    52.0,  18.8806,  36.4748,2,  36.4746,2,    232.3,3,   228.4,2,    0.19,2,    0.42,2,    0.14,2,    0.01,2,   1.956,2,   1.309,2,   0.160,2,    -999,5,  2079.1,2, 2391.72,2,   8.0405,2,       25,    -999,9,     -999,9,    -999,9,  18.8812,2,    -999,9,    -999,9,    -999,    -999,9,    -999,    1.39,2,   67.25,2,    4.98,2,  36.5199, -67.7814,    -999,     -999,    -999,  18.8713,  18.8812,2,-999,9,-999,-999,9,-999,    36.6466,2,-999,9,20120329,       2009
33AT20120324,        A22,      17,          1,         33,         33,2,20120329,       1757,    36.5496,   -67.7568,       4946,    77.3,  18.8715,  36.4745,2,  36.4742,2,    232.9,3,   228.1,2,    0.28,2,    0.47,2,    0.15,2,    0.01,2,   1.998,2,   1.290,2,   0.166,2,    -999,5,  2079.8,2, 2389.89,2,   8.0323,2,       25,    -999,9,     -999,9,    -999,9,  18.8727,2,    -999,9,    -999,9,    -999,    -999,9,    -999,    1.47,2,   67.03,2,    4.60,2,  36.5208, -67.7811,    -999,     -999,    -999,  18.8577,  18.8727,2,-999,9,-999,-999,9,-999,    36.6462,2,-999,9,20120329,       2007
33AT20120324,        A22,      17,          1,         32,         32,2,20120329,       1757,    36.5496,   -67.7568,       4946,   102.6,  18.8704,  36.4743,2,  36.4741,2,    232.1,3,   227.6,2,    0.32,2,    0.47,2,    0.16,2,    0.01,2,   2.034,2,   1.336,2,   0.169,2,    -999,5,  2080.9,2, 2387.42,2,   8.0213,2,       25,    -999,9,     -999,9,    -999,9,  18.8707,2,    -999,9,    -999,9,    -999,    -999,9,    -999,    1.49,2,   63.92,2,    4.37,2,  36.5216, -67.7807,    -999,     -999,    -999,  18.8521,  18.8707,2,-999,9,-999,-999,9,-999,    36.6461,2,-999,9,20120329,       2005
33AT20120324,        A22,      17,          1,         31,         31,2,20120329,       1757,    36.5496,   -67.7568,       4946,   152.2,  18.8540,  36.4695,2,  36.4693,2,    227.4,2,   227.2,2,    0.35,2,    0.52,2,    0.16,2,    0.01,2,   2.036,2,   1.306,2,   0.164,2,    -999,5,  2081.3,2, 2390.79,2,   8.0334,2,       25,    -999,9,     -999,9,    -999,9,  18.8536,2,    -999,9,    -999,9,    -999,    -999,9,    -999,    1.49,2,   60.34,2,    4.84,2,  36.5226, -67.7803,    -999,     -999,    -999,  18.8268,  18.8536,2,-999,9,-999,-999,9,-999,    36.6413,2,-999,9,20120329,       2002
33AT20120324,        A22,      17,          1,         30,         30,2,20120329,       1757,    36.5496,   -67.7568,       4946,   204.1,  18.6431,  36.4223,2,  36.4230,2,    223.9,2,   223.6,2,    0.67,2,    1.34,2,    0.10,2,    0.06,2,   2.046,2,   1.353,2,   0.169,2,    -999,5,  2086.0,2, 2388.57,2,   8.0161,2,       25,    -999,9,     -999,9,    -999,9,  18.6445,2,    -999,9,    -999,9,    -999,    -999,9,    -999,    1.38,2,   56.77,2,    6.00,2,  36.5236, -67.7798,    -999,     -999,    -999,  18.6068,  18.6445,2,-999,9,-999,-999,9,-999,    36.5947,2,-999,9,20120329,       2000
33AT20120324,        A22,      17,          1,         29,         29,2,20120329,       1757,    36.5496,   -67.7568,       4946,   252.8,  18.3552,  36.4410,2,  36.4329,2,    205.3,2,   207.9,2,    1.10,2,    3.10,2,    0.03,2,    0.15,2,   2.075,2,   1.351,2,   0.112,2,    -999,5,    -999,9,    -999,9,     -999,9,     -999,    -999,9,     -999,9,    -999,9,  18.3543,2,    -999,9,    -999,9,    -999,    -999,9,    -999,    0.94,2,   53.67,2,    6.28,2,  36.5244, -67.7795,    -999,     -999,    -999,  18.3107,  18.3543,2,-999,9,-999,-999,9,-999,    36.6046,2,-999,9,20120329,       1958
33AT20120324,        A22,      17,          1,         28,         28,2,20120329,       1757,    36.5496,   -67.7568,       4946,   303.5,  17.2723,  36.4052,2,  36.4067,2,    191.1,2,   192.5,2,    1.90,2,    6.32,2,    0.01,2,    0.32,2,   2.163,2,   1.360,2,   0.038,2,    -999,5,  2124.8,2, 2382.20,3,   7.9471,2,       25,    -999,9,     -999,9,    -999,9,  17.2688,2,    -999,9,    -999,9,    -999,    -999,9,    -999,    0.37,2,   52.75,2,    9.67,2,  36.5249, -67.7791,    -999,     -999,    -999,  17.2210,  17.2688,2,-999,9,-999,-999,9,-999,    36.5784,2,-999,9,20120329,       1956
33AT20120324,        A22,      17,          1,         27,         27,2,20120329,       1757,    36.5496,   -67.7568,       4946,   351.7,  16.7683,  36.3102,2,  36.3105,2,    186.4,2,   187.9,2,    2.40,2,    7.60,2,    0.00,2,    0.41,2,   2.189,2,   1.361,2,   0.038,2,    -999,5,    -999,9,    -999,9,     -999,9,     -999,    -999,9,     -999,9,    -999,9,  16.7618,2,    -999,9,    -999,9,    -999,    -999,9,    -999,    0.36,2,   51.67,2,   11.29,2,  36.5254, -67.7787,    -999,     -999,    -999,  16.7100,  16.7618,2,-999,9,-999,-999,9,-999,    36.4817,2,-999,9,20120329,       1954
33AT20120324,        A22,      17,          1,         26,         26,2,20120329,       1757,    36.5496,   -67.7568,       4946,   404.7,  15.9806,  36.1643,2,  36.1670,2,    179.2,2,   180.2,2,    2.96,2,    9.59,2,    0.00,2,    0.54,2,   2.135,2,   1.332,2,   0.030,2,    -999,5,  2138.6,2, 2370.70,3,   7.8975,2,       25,    -999,9,     -999,9,    -999,9,  15.9909,2,    -999,9,    -999,9,    -999,    -999,9,    -999,    0.34,2,   50.51,2,   12.87,2,  36.5260, -67.7782,    -999,     -999,    -999,  15.9157,  15.9909,2,-999,9,-999,-999,9,-999,    36.3375,2,-999,9,20120329,       1952
33AT20120324,        A22,      17,          1,         25,         25,2,20120329,       1757,    36.5496,   -67.7568,       4946,   505.1,  14.2072,  35.8592,2,  35.8603,2,    171.4,2,   171.5,2,    5.00,2,   13.36,2,    0.00,2,    0.79,2,   2.087,2,   1.248,2,   0.040,2,    -999,5,  2153.3,2,    -999,9,   7.8407,2,       25,    -999,9,     -999,9,    -999,9,  14.2047,2,    -999,9,    -999,9,    -999,    -999,9,    -999,    0.41,2,   49.02,2,   16.54,2,  36.5270, -67.7776,    -999,     -999,    -999,  14.1322,  14.2047,2,-999,9,-999,-999,9,-999,    36.0294,2,-999,9,20120329,       1949
33AT20120324,        A22,      17,          1,         24,         24,2,20120329,       1757,    36.5496,   -67.7568,       4946,   608.6,  12.0824,  35.5451,2,  35.5452,2,    151.9,2,   149.1,2,    8.97,2,   19.18,2,    0.00,2,    1.17,2,   1.660,2,   0.962,2,   0.026,2,    -999,5,  2175.7,2, 2339.66,3,   7.7656,2,       25,    -999,9,     -999,9,    -999,9,  12.0825,2,    -999,9,    -999,9,    -999,    -999,9,    -999,    0.31,2,   48.89,2,   22.74,2,  36.5277, -67.7771,    -999,     -999,    -999,  12.0009,  12.0825,2,-999,9,-999,-999,9,-999,    35.7128,2,-999,9,20120329,       1946
33AT20120324,        A22,      17,          1,         23,         23,2,20120329,       1757,    36.5496,   -67.7568,       4946,   710.2,   9.8796,  35.2656,2,  35.2688,2,    141.7,2,   141.6,2,   13.08,2,   23.53,2,    0.00,2,    1.47,2,   1.235,2,   0.684,2,   0.020,2,    -999,5,  2190.2,6, 2328.04,3,   7.6913,2,       25,    -999,9,     -999,9,    -999,9,   9.8881,2,    -999,9,    -999,9,    -999,    -999,9,    -999,    0.31,2,   47.55,2,   26.64,2,  36.5285, -67.7765,    -999,     -999,    -999,   9.7954,   9.8881,2,-999,9,-999,-999,9,-999,    35.4351,2,-999,9,20120329,       1944
33AT20120324,        A22,      17,          1,         22,         22,2,20120329,       1757,    36.5496,   -67.7568,       4946,   793.5,   8.4259,  35.1586,2,  35.1589,2,    157.0,2,   158.3,2,   13.89,2,   23.48,2,    0.00,2,    1.49,2,   1.275,2,   0.698,2,   0.031,2,    -999,5,  2191.1,2, 2324.31,2,   7.6858,2,       25,    -999,9,     -999,9,    -999,9,   8.4261,2,    -999,9,    -999,9,    -999,    -999,9,    -999,    0.49,2,   46.21,2,   25.62,2,  36.5292, -67.7761,    -999,     -999,    -999,   8.3399,   8.4261,2,-999,9,-999,-999,9,-999,    35.3247,2,-999,9,20120329,       1941
33AT20120324,        A22,      17,          1,         21,         21,2,20120329,       1757,    36.5496,   -67.7568,       4946,   908.8,   6.9610,  35.0907,2,  35.0911,2,    187.1,2,   186.5,2,   13.50,2,   21.86,2,    0.00,2,    1.41,2,   1.561,2,   0.832,2,   0.055,2,    -999,5,  2183.4,2,    -999,9,   7.6868,2,       25,    -999,9,     -999,9,    -999,9,   6.9604,2,    -999,9,    -999,9,    -999,    -999,9,    -999,    0.79,2,   45.74,2,   23.93,2,  36.5301, -67.7754,    -999,     -999,    -999,   6.8716,   6.9604,2,-999,9,-999,-999,9,-999,    35.2566,2,-999,9,20120329,       1938
33AT20120324,        A22,      17,          1,         20,         20,2,20120329,       1757,    36.5496,   -67.7568,       4946,  1010.0,   5.9477,  35.0633,2,  35.0632,2,    210.7,2,   213.3,2,   12.71,2,   20.20,2,    0.00,2,    1.31,2,   1.829,2,   1.004,2,   0.083,2,    -999,5,  2177.6,2, 2319.03,2,   7.7126,2,       25,    -999,9,     -999,9,    -999,9,   5.9516,2,    -999,9,    -999,9,    -999,    -999,9,    -999,    1.07,2,   45.23,2,   22.25,2,  36.5309, -67.7749,    -999,     -999,    -999,   5.8554,   5.9516,2,-999,9,-999,-999,9,-999,    35.2285,2,-999,9,20120329,       1935
33AT20120324,        A22,      17,          1,         19,         19,2,20120329,       1757,    36.5496,   -67.7568,       4946,  1110.6,   5.4652,  35.0625,2,  35.0632,2,    231.4,2,   226.8,2,   12.37,2,   19.29,2,    0.00,2,    1.26,2,   1.867,2,   1.039,2,   0.090,2,    -999,5,    -999,9,    -999,9,     -999,9,     -999,    -999,9,     -999,9,    -999,9,   5.4631,2,    -999,9,    -999,9,    -999,    -999,9,    -999,    1.19,2,   45.11,2,   22.43,2,  36.5317, -67.7742,    -999,     -999,    -999,   5.3669,   5.4631,2,-999,9,-999,-999,9,-999,    35.2285,2,-999,9,20120329,       1932
33AT20120324,        A22,      17,          1,         18,         18,2,20120329,       1757,    36.5496,   -67.7568,       4946,  1213.6,   4.9855,  35.0271,2,  35.0277,2,    239.5,2,   240.5,2,   11.87,2,   18.56,2,    0.00,2,    1.22,2,   2.238,2,   1.218,2,   0.125,2,    -999,5,    -999,9,    -999,9,     -999,9,     -999,    -999,9,     -999,9,    -999,9,   4.9858,2,    -999,9,    -999,9,    -999,    -999,9,    -999,    1.53,2,   45.16,2,   22.36,2,  36.5322, -67.7738,    -999,     -999,    -999,   4.8816,   4.9858,2,-999,9,-999,-999,9,-999,    35.1929,2,-999,9,20120329,       1930
33AT20120324,        A22,      17,          1,         17,         17,2,20120329,       1757,    36.5496,   -67.7568,       4946,  1312.7,   4.6597,  35.0063,2,  35.0063,2,    248.9,2,   249.5,2,   11.65,2,   18.06,2,    0.00,2,    1.19,2,   2.414,2,   1.339,2,   0.141,2,    -999,5,    -999,9,    -999,9,     -999,9,     -999,    -999,9,     -999,9,    -999,9,   4.6604,2,    -999,9,    -999,9,    -999,    -999,9,    -999,    1.68,2,   44.59,2,   21.56,2,  36.5327, -67.7733,    -999,     -999,    -999,   4.5497,   4.6604,2,-999,9,-999,-999,9,-999,    35.1714,2,-999,9,20120329,       1927
33AT20120324,        A22,      17,          1,         16,         16,2,20120329,       1757,    36.5496,   -67.7568,       4946,  1419.9,   4.4585,  34.9919,2,  34.9921,2,    254.8,2,   253.7,2,   11.58,2,   17.97,2,    0.00,2,    1.18,2,   2.423,2,   1.321,2,   0.146,2,    -999,5,    -999,9,    -999,9,     -999,9,     -999,    -999,9,     -999,9,    -999,9,   4.4595,2,    -999,9,    -999,9,    -999,    -999,9,    -999,    1.70,2,   43.54,2,   21.70,2,  36.5331, -67.7726,    -999,     -999,    -999,   4.3406,   4.4595,2,-999,9,-999,-999,9,-999,    35.1571,2,-999,9,20120329,       1923
33AT20120324,        A22,      17,          1,         15,         15,2,20120329,       1757,    36.5496,   -67.7568,       4946,  1519.7,   4.3315,  34.9847,2,  34.9847,2,    256.4,2,   256.5,2,   11.71,2,   17.89,2,    0.00,2,    1.17,2,   2.349,2,   1.250,2,   0.146,2,    -999,5,  2165.5,2, 2312.06,2,   7.7255,2,       25,    -999,9,     -999,9,    -999,9,   4.3302,2,    -999,9,    -999,9,    -999,    -999,9,    -999,    1.69,2,   43.37,2,   21.33,2,  36.5334, -67.7723,    -999,     -999,    -999,   4.2057,   4.3302,2,-999,9,-999,-999,9,-999,    35.1496,2,-999,9,20120329,       1921
33AT20120324,        A22,      17,          1,         14,         14,2,20120329,       1757,    36.5496,   -67.7568,       4946,  1619.9,   4.1990,  34.9781,2,  34.9778,2,    258.6,2,   259.1,2,   11.98,2,   17.83,2,    0.00,2,    1.17,2,   2.290,2,   1.228,2,   0.125,2,    -999,5,    -999,9,    -999,9,     -999,9,     -999,    -999,9,     -999,9,    -999,9,   4.1995,2,    -999,9,    -999,9,    -999,    -999,9,    -999,    1.68,2,   43.41,2,   21.29,2,  36.5337, -67.7720,    -999,     -999,    -999,   4.0653,   4.1995,2,-999,9,-999,-999,9,-999,    35.1427,2,-999,9,20120329,       1917
33AT20120324,        A22,      17,          1,         13,         13,2,20120329,       1757,    36.5496,   -67.7568,       4946,  1826.7,   3.9385,  34.9680,2,  34.9679,2,    261.7,2,   261.9,2,   12.74,2,   17.79,2,    0.00,2,    1.17,2,   1.955,2,   1.036,2,   0.115,2,    -999,5,    -999,9,    -999,9,     -999,9,     -999,    -999,9,     -999,9,    -999,9,   3.9389,2,    -999,9,    -999,9,    -999,    -999,9,    -999,    1.64,2,   44.03,2,   21.16,2,  36.5343, -67.7712,    -999,     -999,    -999,   3.7886,   3.9389,2,-999,9,-999,-999,9,-999,    35.1328,2,-999,9,20120329,       1912
33AT20120324,        A22,      17,          1,         12,         12,2,20120329,       1757,    36.5496,   -67.7568,       4946,  2028.0,   3.7475,  34.9599,2,  34.9595,2,    264.0,2,   263.7,2,   13.50,2,   17.72,2,    0.00,2,    1.18,2,   1.708,2,   0.891,2,   0.089,2,    -999,5,  2161.9,2, 2311.73,2,   7.7305,2,       25,    -999,9,     -999,9,    -999,9,   3.7477,2,    -999,9,    -999,9,    -999,    -999,9,    -999,    1.46,2,   44.21,2,   21.02,2,  36.5350, -67.7704,    -999,     -999,    -999,   3.5810,   3.7477,2,-999,9,-999,-999,9,-999,    35.1243,2,-999,9,20120329,       1907
33AT20120324,        A22,      17,          1,         11,         11,2,20120329,       1757,    36.5496,   -67.7568,       4946,  2285.0,   3.5321,  34.9530,2,  34.9520,2,    265.5,2,   265.0,2,   14.83,2,   17.72,2,    0.00,2,    1.18,2,   1.417,2,   0.752,2,   0.066,2,    -999,5,    -999,9,    -999,9,     -999,9,     -999,    -999,9,     -999,9,    -999,9,   3.5328,2,    -999,9,    -999,9,    -999,    -999,9,    -999,    1.28,2,   43.25,2,   20.25,2,  36.5359, -67.7693,    -999,     -999,    -999,   3.3439,   3.5328,2,-999,9,-999,-999,9,-999,    35.1168,2,-999,9,20120329,       1900
33AT20120324,        A22,      17,          1,         10,         10,2,20120329,       1757,    36.5496,   -67.7568,       4946,  2537.7,   3.3015,  34.9498,2,  34.9496,2,    264.1,2,   263.8,2,   17.25,2,   17.88,2,    0.00,2,    1.19,2,   1.058,2,   0.534,2,   0.044,2,    -999,5,    -999,9,    -999,9,     -999,9,     -999,    -999,9,     -999,9,    -999,9,   3.3009,2,    -999,9,    -999,9,    -999,    -999,9,    -999,    1.02,2,   43.65,2,   20.23,2,  36.5367, -67.7683,    -999,     -999,    -999,   3.0922,   3.3009,2,-999,9,-999,-999,9,-999,    35.1144,2,-999,9,20120329,       1854
33AT20120324,        A22,      17,          1,          9,          9,2,20120329,       1757,    36.5496,   -67.7568,       4946,  2789.8,   3.0824,  34.9409,2,  34.9412,2,    264.2,2,   264.5,2,   19.22,2,   17.93,2,    0.00,2,    1.21,2,   0.921,2,   0.481,2,   0.038,2,    -999,5,    -999,9,    -999,9,     -999,9,     -999,    -999,9,     -999,9,    -999,9,   3.0825,2,    -999,9,    -999,9,    -999,    -999,9,    -999,    0.89,2,   43.78,2,   20.72,2,  36.5381, -67.7670,    -999,     -999,    -999,   2.8517,   3.0825,2,-999,9,-999,-999,9,-999,    35.1059,2,-999,9,20120329,       1848
33AT20120324,        A22,      17,          1,          8,          8,2,20120329,       1757,    36.5496,   -67.7568,       4946,  3041.6,   2.8693,  34.9309,2,  34.9309,2,    265.8,2,   266.1,2,   20.87,2,   17.93,2,    0.00,2,    1.21,2,   0.813,2,   0.428,2,   0.037,2,    -999,5,  2164.0,2, 2319.35,2,   7.7314,2,       25,    -999,9,     -999,9,    -999,9,   2.8694,2,    -999,9,    -999,9,    -999,    -999,9,    -999,    0.80,2,   43.65,2,   21.36,2,  36.5395, -67.7657,    -999,     -999,    -999,   2.6170,   2.8694,2,-999,9,-999,-999,9,-999,    35.0956,2,-999,9,20120329,       1843
33AT20120324,        A22,      17,          1,          7,          7,2,20120329,       1757,    36.5496,   -67.7568,       4946,  3344.4,   2.6156,  34.9155,2,  34.9152,2,    268.0,2,   268.4,2,   22.01,2,   17.67,2,    0.00,2,    1.20,2,   0.962,2,   0.506,2,   0.051,2,    -999,5,    -999,9,    -999,9,     -999,9,     -999,    -999,9,     -999,9,    -999,9,   2.6154,2,    -999,9,    -999,9,    -999,    -999,9,    -999,    0.91,2,   43.42,2,   21.35,2,  36.5409, -67.7645,    -999,     -999,    -999,   2.3371,   2.6154,2,-999,9,-999,-999,9,-999,    35.0798,2,-999,9,20120329,       1837
33AT20120324,        A22,      17,          1,          6,          6,2,20120329,       1757,    36.5496,   -67.7568,       4946,  3652.2,   2.4404,  34.9047,2,  34.9048,2,    268.1,2,   268.6,2,   24.92,2,   17.96,2,    0.00,2,    1.22,2,   0.874,2,   0.465,2,   0.058,2,    -999,5,  2167.7,2, 2324.83,2,   7.7367,2,       25,    -999,9,     -999,9,    -999,9,   2.4404,2,    -999,9,    -999,9,    -999,    -999,9,    -999,    0.84,2,   42.92,2,   21.47,2,  36.5429, -67.7628,    -999,     -999,    -999,   2.1328,   2.4404,2,-999,9,-999,-999,9,-999,    35.0694,2,-999,9,20120329,       1829