BOTTLE,20220725CCHSIOCBG
EXPOCODE,SECT_ID,STNNBR,CASTNO,SAMPNO,BTLNBR,BTLNBR_FLAG_W,DATE,TIME,LATITUDE,LONGITUDE,DEPTH,CTDPRS,CTDTMP,CTDSAL,CTDSAL_FLAG_W,SALNTY,SALNTY_FLAG_W,CTDOXY,CTDOXY_FLAG_W,OXYGEN,OXYGEN_FLAG_W,SILCAT,SILCAT_FLAG_W,NITRAT,NITRAT_FLAG_W,NITRIT,NITRIT_FLAG_W,PHSPHT,PHSPHT_FLAG_W,CFC-11,CFC-11_FLAG_W,CFC-12,CFC-12_FLAG_W,CFC113,CFC113_FLAG_W,SF6,SF6_FLAG_W,TCARBN,TCARBN_FLAG_W,ALKALI,ALKALI_FLAG_W,PH_TOT,PH_TOT_FLAG_W,PH_TMP,TRITUM,TRITUM_FLAG_W,HELIUM,HELIUM_FLAG_W,DELHE3,DELHE3_FLAG_W,REFTMP,REFTMP_FLAG_W,DELC13,DELC13_FLAG_W,DELC14,DELC14_FLAG_W,C14ERR,NEON,NEON_FLAG_W,NEONER,CCL4,CCL4_FLAG_W,DOC,DOC_FLAG_W,TDN,TDN_FLAG_W,BTL_LAT,BTL_LON,TRITER,HELIER,DELHER,THETA,SBE35,SBE35_FLAG_W,14C-DOC,14C-DOC_FLAG_W,14C-DOCERR,13C-DOC,13C-DOC_FLAG_W,13C-DOCERR,SALTREF,SALTREF_FLAG_W,LAB_DEN,LAB_DEN_FLAG_W,BTL_DATE,BTL_TIME
,,,,,,,,,,,METERS,DBAR,ITS-90,PSS-78,,PSS-78,,UMOL/KG,,UMOL/KG,,UMOL/KG,,UMOL/KG,,UMOL/KG,,UMOL/KG,,PMOL/KG,,PMOL/KG,,PMOL/KG,,FMOL/KG,,UMOL/KG,,UMOL/KG,,,,DEG C,TU,,NMOL/KG,,PERCNT,,DEG C,,/MILLE,,/MILLE,,/MILLE,NMOL/KG,,NMOL/KG,PMOL/KG,,UMOL/KG,,UMOL/KG,,,,TU,NMOL/KG,PERCNT,DEG C,ITS-90,,/MILLE,,/MILLE,/MILLE,,/MILLE,G/KG,,KG/M^3,,,
33AT20120324,        A22,      64,          1,          5,          5,2,20120410,       1822,    17.0720,   -66.4716,       4754,  3547.0,   4.2259,  34.9751,2,  34.9746,2,    214.6,2,   214.5,2,   28.77,2,   22.05,2,    0.00,2,    1.49,2,   0.067,2,   0.044,2,   0.011,2,    0.16,2,    -999,9,    -999,9,     -999,9,     -999,    -999,9,     -999,9,    -999,9,   4.2258,2,    -999,9,    -999,9,    -999,    -999,9,    -999,    -999,1,    -999,9,    -999,9,  17.0727, -66.4713,    -999,     -999,    -999,   3.8852,   4.2258,2,-999,9,-999,-999,9,-999,    35.1396,2,-999,9,20120410,       1847
33AT20120324,        A22,      64,          1,          4,          4,2,20120410,       1822,    17.0720,   -66.4716,       4754,  3853.7,   4.2612,  34.9751,2,  34.9752,2,    214.7,2,   214.3,2,   28.83,2,   22.05,2,    0.00,2,    1.49,2,   0.079,2,   0.051,2,   0.008,2,    0.15,2,  2196.8,2, 2339.85,2,   7.7106,2,       25,    -999,9,     -999,9,    -999,9,   4.2616,2,    -999,9,    -999,9,    -999,    -999,9,    -999,    -999,1,    -999,9,    -999,9,  17.0724, -66.4714,    -999,     -999,    -999,   3.8823,   4.2616,2,-999,9,-999,-999,9,-999,    35.1401,2,-999,9,20120410,       1841
33AT20120324,        A22,      64,          1,          3,          3,2,20120410,       1822,    17.0720,   -66.4716,       4754,  4160.6,   4.2983,  34.9752,2,  34.9748,2,    215.2,2,   215.0,2,   28.94,2,   22.00,2,    0.00,2,    1.49,2,   0.105,2,   0.051,2,   0.012,2,    0.10,2,  2196.3,2, 2341.13,2,   7.7107,2,       25,    -999,9,     -999,9,    -999,9,   4.2982,2,    -999,9,    -999,9,    -999,    -999,9,    -999,    -999,1,    -999,9,    -999,9,  17.0723, -66.4714,    -999,     -999,    -999,   3.8799,   4.2982,2,-999,9,-999,-999,9,-999,    35.1397,2,-999,9,20120410,       1835
33AT20120324,        A22,      64,          1,          2,          2,2,20120410,       1822,    17.0720,   -66.4716,       4754,  4509.8,   4.3425,  34.9752,2,  34.9754,2,    215.6,2,   216.2,2,   28.78,2,   21.91,2,    0.00,2,    1.48,2,   0.129,2,   0.069,2,   0.016,2,    0.08,2,  2196.4,2, 2340.51,2,   7.7116,2,       25,    -999,9,     -999,9,    -999,9,   4.3425,2,    -999,9,    -999,9,    -999,    -999,9,    -999,    -999,1,    -999,9,    -999,9,  17.0722, -66.4715,    -999,     -999,    -999,   3.8776,   4.3425,2,-999,9,-999,-999,9,-999,    35.1403,2,-999,9,20120410,       1829
33AT20120324,        A22,      64,          1,          1,          1,2,20120410,       1822,    17.0720,   -66.4716,       4754,  4846.6,   4.3867,  34.9750,2,  34.9748,2,    218.0,2,   218.0,2,   27.69,2,   21.65,2,    0.00,2,    1.46,2,   0.224,2,   0.114,2,   0.012,2,    0.08,2,  2196.4,6, 2340.53,6,   7.7168,2,       25,    -999,9,     -999,9,    -999,9,   4.3865,2,    -999,9,    -999,9,    -999,    -999,9,    -999,    -999,1,    -999,9,    -999,9,  17.0720, -66.4716,    -999,     -999,    -999,   3.8754,   4.3865,2,-999,9,-999,-999,9,-999,    35.1397,2,-999,9,20120410,       1822