BOTTLE,20220725CCHSIOCBG
EXPOCODE,SECT_ID,STNNBR,CASTNO,SAMPNO,BTLNBR,BTLNBR_FLAG_W,DATE,TIME,LATITUDE,LONGITUDE,DEPTH,CTDPRS,CTDTMP,CTDSAL,CTDSAL_FLAG_W,SALNTY,SALNTY_FLAG_W,CTDOXY,CTDOXY_FLAG_W,OXYGEN,OXYGEN_FLAG_W,SILCAT,SILCAT_FLAG_W,NITRAT,NITRAT_FLAG_W,NITRIT,NITRIT_FLAG_W,PHSPHT,PHSPHT_FLAG_W,CFC-11,CFC-11_FLAG_W,CFC-12,CFC-12_FLAG_W,CFC113,CFC113_FLAG_W,SF6,SF6_FLAG_W,TCARBN,TCARBN_FLAG_W,ALKALI,ALKALI_FLAG_W,PH_TOT,PH_TOT_FLAG_W,PH_TMP,TRITUM,TRITUM_FLAG_W,HELIUM,HELIUM_FLAG_W,DELHE3,DELHE3_FLAG_W,REFTMP,REFTMP_FLAG_W,DELC13,DELC13_FLAG_W,DELC14,DELC14_FLAG_W,C14ERR,NEON,NEON_FLAG_W,NEONER,CCL4,CCL4_FLAG_W,DOC,DOC_FLAG_W,TDN,TDN_FLAG_W,BTL_LAT,BTL_LON,TRITER,HELIER,DELHER,THETA,SBE35,SBE35_FLAG_W,14C-DOC,14C-DOC_FLAG_W,14C-DOCERR,13C-DOC,13C-DOC_FLAG_W,13C-DOCERR,SALTREF,SALTREF_FLAG_W,LAB_DEN,LAB_DEN_FLAG_W,BTL_DATE,BTL_TIME
,,,,,,,,,,,METERS,DBAR,ITS-90,PSS-78,,PSS-78,,UMOL/KG,,UMOL/KG,,UMOL/KG,,UMOL/KG,,UMOL/KG,,UMOL/KG,,PMOL/KG,,PMOL/KG,,PMOL/KG,,FMOL/KG,,UMOL/KG,,UMOL/KG,,,,DEG C,TU,,NMOL/KG,,PERCNT,,DEG C,,/MILLE,,/MILLE,,/MILLE,NMOL/KG,,NMOL/KG,PMOL/KG,,UMOL/KG,,UMOL/KG,,,,TU,NMOL/KG,PERCNT,DEG C,ITS-90,,/MILLE,,/MILLE,/MILLE,,/MILLE,G/KG,,KG/M^3,,,
33AT20120324,        A22,      32,          1,          5,          5,2,20120403,       0340,    28.5185,   -65.4755,       5227,  4268.5,   2.2722,  34.8901,2,  34.8897,2,    264.0,2,   264.4,2,   31.83,2,   18.94,2,    0.00,2,    1.29,2,   0.720,2,   0.340,2,   0.037,2,    0.15,2,    -999,9,    -999,9,     -999,9,     -999,    -999,9,     -999,9,    -999,9,   2.2719,2,    -999,9,    -999,9,    -999,    -999,9,    -999,    -999,1,    -999,9,    -999,9,  28.5180, -65.4754,    -999,     -999,    -999,   1.8993,   2.2719,2,-999,9,-999,-999,9,-999,    35.0543,2,-999,9,20120403,        402
33AT20120324,        A22,      32,          1,          4,          4,2,20120403,       0340,    28.5185,   -65.4755,       5227,  4574.5,   2.2419,  34.8832,2,  34.8830,2,    261.5,2,   261.5,2,   35.78,2,   19.61,2,    0.00,2,    1.33,2,   0.620,2,   0.287,2,   0.033,2,    0.14,2,  2179.8,2, 2328.77,2,   7.7352,2,       25,   0.129,2,   1.8877,2,    4.88,2,   2.2417,2,    -999,9,    -999,9,    -999,   8.242,2,   0.037,    -999,1,    -999,9,    -999,9,  28.5183, -65.4755,   0.009,   0.0076,    0.15,   1.8336,   2.2417,2,-999,9,-999,-999,9,-999,    35.0475,2,-999,9,20120403,        356
33AT20120324,        A22,      32,          1,          3,          3,2,20120403,       0340,    28.5185,   -65.4755,       5227,  4882.9,   2.1925,  34.8730,2,  34.8728,2,    256.5,2,   256.8,2,   42.12,2,   20.70,2,    0.00,2,    1.41,2,   0.432,2,   0.207,2,   0.019,2,    0.10,2,    -999,9,    -999,9,     -999,9,     -999,    -999,9,     -999,9,    -999,9,   2.1926,2,    -999,9,    -999,9,    -999,    -999,9,    -999,    -999,1,    -999,9,    -999,9,  28.5182, -65.4755,    -999,     -999,    -999,   1.7481,   2.1926,2,-999,9,-999,-999,9,-999,    35.0373,2,-999,9,20120403,        350
33AT20120324,        A22,      32,          1,          2,          2,2,20120403,       0340,    28.5185,   -65.4755,       5227,  5141.4,   2.1991,  34.8694,2,  34.8693,2,    255.1,2,   255.8,2,   43.88,2,   20.93,2,    0.00,2,    1.42,2,   0.358,2,   0.170,2,   0.018,2,    0.10,2,  2187.7,2, 2339.81,2,   7.7302,2,       25,    -999,9,     -999,9,    -999,9,   2.1987,2,    -999,9,    -999,9,    -999,    -999,9,    -999,    -999,1,    -999,9,    -999,9,  28.5183, -65.4755,    -999,     -999,    -999,   1.7220,   2.1987,2,-999,9,-999,-999,9,-999,    35.0337,2,-999,9,20120403,        345
33AT20120324,        A22,      32,          1,          1,          1,2,20120403,       0340,    28.5185,   -65.4755,       5227,  5308.1,   2.1998,  34.8664,2,  34.8676,2,    254.6,2,   254.5,2,   45.38,2,   21.15,2,    0.00,2,    1.43,2,   0.322,2,   0.159,2,   0.017,2,    0.08,2,  2191.6,6, 2339.96,6,   7.7303,6,       25,   0.056,2,   1.8812,2,    4.44,2,   2.1993,2,    -999,9,    -999,9,    -999,   8.291,2,   0.037,    -999,1,    -999,9,    -999,9,  28.5185, -65.4755,   0.009,   0.0075,    0.15,   1.7013,   2.1993,2,-999,9,-999,-999,9,-999,    35.0320,2,-999,9,20120403,        341