BOTTLE,20220725CCHSIOCBG
EXPOCODE,SECT_ID,STNNBR,CASTNO,SAMPNO,BTLNBR,BTLNBR_FLAG_W,DATE,TIME,LATITUDE,LONGITUDE,DEPTH,CTDPRS,CTDTMP,CTDSAL,CTDSAL_FLAG_W,SALNTY,SALNTY_FLAG_W,CTDOXY,CTDOXY_FLAG_W,OXYGEN,OXYGEN_FLAG_W,SILCAT,SILCAT_FLAG_W,NITRAT,NITRAT_FLAG_W,NITRIT,NITRIT_FLAG_W,PHSPHT,PHSPHT_FLAG_W,CFC-11,CFC-11_FLAG_W,CFC-12,CFC-12_FLAG_W,CFC113,CFC113_FLAG_W,SF6,SF6_FLAG_W,TCARBN,TCARBN_FLAG_W,ALKALI,ALKALI_FLAG_W,PH_TOT,PH_TOT_FLAG_W,PH_TMP,TRITUM,TRITUM_FLAG_W,HELIUM,HELIUM_FLAG_W,DELHE3,DELHE3_FLAG_W,REFTMP,REFTMP_FLAG_W,DELC13,DELC13_FLAG_W,DELC14,DELC14_FLAG_W,C14ERR,NEON,NEON_FLAG_W,NEONER,CCL4,CCL4_FLAG_W,DOC,DOC_FLAG_W,TDN,TDN_FLAG_W,BTL_LAT,BTL_LON,TRITER,HELIER,DELHER,THETA,SBE35,SBE35_FLAG_W,14C-DOC,14C-DOC_FLAG_W,14C-DOCERR,13C-DOC,13C-DOC_FLAG_W,13C-DOCERR,SALTREF,SALTREF_FLAG_W,LAB_DEN,LAB_DEN_FLAG_W,BTL_DATE,BTL_TIME
,,,,,,,,,,,METERS,DBAR,ITS-90,PSS-78,,PSS-78,,UMOL/KG,,UMOL/KG,,UMOL/KG,,UMOL/KG,,UMOL/KG,,UMOL/KG,,PMOL/KG,,PMOL/KG,,PMOL/KG,,FMOL/KG,,UMOL/KG,,UMOL/KG,,,,DEG C,TU,,NMOL/KG,,PERCNT,,DEG C,,/MILLE,,/MILLE,,/MILLE,NMOL/KG,,NMOL/KG,PMOL/KG,,UMOL/KG,,UMOL/KG,,,,TU,NMOL/KG,PERCNT,DEG C,ITS-90,,/MILLE,,/MILLE,/MILLE,,/MILLE,G/KG,,KG/M^3,,,
33AT20120324,        A22,      22,          1,          5,          5,2,20120331,       0440,    34.2609,   -66.2935,       5219,  4166.9,   2.2984,  34.8921,2,  34.8919,2,    266.0,2,   266.0,2,   29.45,2,   18.51,2,    0.00,2,    1.27,2,   0.911,2,   0.443,2,   0.044,2,    0.17,2,    -999,9,    -999,9,     -999,9,     -999,    -999,9,     -999,9,    -999,9,   2.2983,2,    -999,9,    -999,9,    -999,    -999,9,    -999,    -999,1,    -999,9,    -999,9,  34.2602, -66.2933,    -999,     -999,    -999,   1.9366,   2.2983,2,-999,9,-999,-999,9,-999,    35.0564,2,-999,9,20120331,        503
33AT20120324,        A22,      22,          1,          4,          4,2,20120331,       0440,    34.2609,   -66.2935,       5219,  4476.4,   2.2787,  34.8876,2,  34.8866,2,    264.7,2,   264.0,2,   32.14,2,   18.87,2,    0.00,2,    1.30,2,   0.853,2,   0.398,2,   0.043,2,    0.16,2,  2178.7,2, 2329.57,2,   7.7333,2,       25,   0.172,2,     -999,9,    -999,9,   2.2786,2,    -999,9,    -999,9,    -999,    -999,9,    -999,    -999,1,    -999,9,    -999,9,  34.2603, -66.2934,   0.009,     -999,    -999,   1.8810,   2.2786,2,-999,9,-999,-999,9,-999,    35.0511,2,-999,9,20120331,        457
33AT20120324,        A22,      22,          1,          3,          3,2,20120331,       0440,    34.2609,   -66.2935,       5219,  4781.9,   2.2683,  34.8831,2,  34.8811,2,    261.6,2,   262.5,2,   34.66,2,   19.28,2,    0.00,2,    1.33,2,   0.805,2,   0.379,2,   0.038,2,    0.14,2,  2179.5,2, 2331.15,2,   7.7345,2,       25,    -999,9,     -999,9,    -999,9,   2.2688,2,    -999,9,    -999,9,    -999,    -999,9,    -999,    -999,1,    -999,9,    -999,9,  34.2605, -66.2934,    -999,     -999,    -999,   1.8339,   2.2688,2,-999,9,-999,-999,9,-999,    35.0456,2,-999,9,20120331,        451
33AT20120324,        A22,      22,          1,          2,          2,2,20120331,       0440,    34.2609,   -66.2935,       5219,  5038.8,   2.2614,  34.8784,2,  34.8778,2,    259.8,2,   259.6,2,   37.78,2,   19.80,2,    0.00,2,    1.37,2,   0.651,2,   0.305,2,   0.040,2,    0.16,2,  2183.3,2, 2333.92,6,   7.7339,6,       25,    -999,9,   1.8533,2,    5.33,2,   2.2613,2,    -999,9,    -999,9,    -999,   8.274,2,   0.037,    -999,1,    -999,9,    -999,9,  34.2607, -66.2935,    -999,   0.0074,    0.15,   1.7951,   2.2613,2,-999,9,-999,-999,9,-999,    35.0422,2,-999,9,20120331,        446
33AT20120324,        A22,      22,          1,          1,          1,2,20120331,       0440,    34.2609,   -66.2935,       5219,  5304.2,   2.1934,  34.8657,2,  34.8658,2,    252.9,2,   253.1,2,   45.93,2,   21.17,2,    0.00,2,    1.45,2,   0.329,2,   0.170,2,   0.023,2,    0.11,2,  2196.5,6, 2341.98,2,   7.7305,2,       25,   0.103,2,   1.8865,2,    4.36,2,   2.1937,2,    -999,9,    -999,9,    -999,   8.280,2,   0.037,    -999,1,    -999,9,    -999,9,  34.2609, -66.2936,   0.010,   0.0075,    0.15,   1.6956,   2.1937,2,-999,9,-999,-999,9,-999,    35.0302,2,-999,9,20120331,        441