BOTTLE,20220725CCHSIOCBG
EXPOCODE,SECT_ID,STNNBR,CASTNO,SAMPNO,BTLNBR,BTLNBR_FLAG_W,DATE,TIME,LATITUDE,LONGITUDE,DEPTH,CTDPRS,CTDTMP,CTDSAL,CTDSAL_FLAG_W,SALNTY,SALNTY_FLAG_W,CTDOXY,CTDOXY_FLAG_W,OXYGEN,OXYGEN_FLAG_W,SILCAT,SILCAT_FLAG_W,NITRAT,NITRAT_FLAG_W,NITRIT,NITRIT_FLAG_W,PHSPHT,PHSPHT_FLAG_W,CFC-11,CFC-11_FLAG_W,CFC-12,CFC-12_FLAG_W,CFC113,CFC113_FLAG_W,SF6,SF6_FLAG_W,TCARBN,TCARBN_FLAG_W,ALKALI,ALKALI_FLAG_W,PH_TOT,PH_TOT_FLAG_W,PH_TMP,TRITUM,TRITUM_FLAG_W,HELIUM,HELIUM_FLAG_W,DELHE3,DELHE3_FLAG_W,REFTMP,REFTMP_FLAG_W,DELC13,DELC13_FLAG_W,DELC14,DELC14_FLAG_W,C14ERR,NEON,NEON_FLAG_W,NEONER,CCL4,CCL4_FLAG_W,DOC,DOC_FLAG_W,TDN,TDN_FLAG_W,BTL_LAT,BTL_LON,TRITER,HELIER,DELHER,THETA,SBE35,SBE35_FLAG_W,14C-DOC,14C-DOC_FLAG_W,14C-DOCERR,13C-DOC,13C-DOC_FLAG_W,13C-DOCERR,SALTREF,SALTREF_FLAG_W,LAB_DEN,LAB_DEN_FLAG_W,BTL_DATE,BTL_TIME
,,,,,,,,,,,METERS,DBAR,ITS-90,PSS-78,,PSS-78,,UMOL/KG,,UMOL/KG,,UMOL/KG,,UMOL/KG,,UMOL/KG,,UMOL/KG,,PMOL/KG,,PMOL/KG,,PMOL/KG,,FMOL/KG,,UMOL/KG,,UMOL/KG,,,,DEG C,TU,,NMOL/KG,,PERCNT,,DEG C,,/MILLE,,/MILLE,,/MILLE,NMOL/KG,,NMOL/KG,PMOL/KG,,UMOL/KG,,UMOL/KG,,,,TU,NMOL/KG,PERCNT,DEG C,ITS-90,,/MILLE,,/MILLE,/MILLE,,/MILLE,G/KG,,KG/M^3,,,
33AT20120324,        A22,      66,          1,          5,          5,2,20120411,       0853,    16.3283,   -67.6865,       4642,  3442.9,   4.2089,  34.9748,2,  34.9750,2,    215.5,2,   215.9,2,   28.49,2,   21.98,2,    0.00,2,    1.50,2,   0.094,2,   0.055,2,   0.005,2,    0.09,2,    -999,9,    -999,9,     -999,9,     -999,    -999,9,     -999,9,    -999,9,   4.2090,2,    -999,9,    -999,9,    -999,    -999,9,    -999,    -999,1,    -999,9,    -999,9,  16.3298, -67.6862,    -999,     -999,    -999,   3.8809,   4.2090,2,-999,9,-999,-999,9,-999,    35.1399,2,-999,9,20120411,        918
33AT20120324,        A22,      66,          1,          4,          4,2,20120411,       0853,    16.3283,   -67.6865,       4642,  3751.1,   4.2436,  34.9750,2,  34.9756,2,    216.7,2,   216.7,2,   28.31,2,   21.89,2,    0.00,2,    1.49,2,   0.125,2,   0.067,2,   0.006,2,    0.08,2,    -999,9,    -999,9,     -999,9,     -999,    -999,9,     -999,9,    -999,9,   4.2435,2,    -999,9,    -999,9,    -999,    -999,9,    -999,    -999,1,    -999,9,    -999,9,  16.3295, -67.6863,    -999,     -999,    -999,   3.8777,   4.2435,2,-999,9,-999,-999,9,-999,    35.1405,2,-999,9,20120411,        913
33AT20120324,        A22,      66,          1,          3,          3,2,20120411,       0853,    16.3283,   -67.6865,       4642,  4057.2,   4.2812,  34.9750,2,  34.9758,2,    216.8,2,   217.0,2,   28.54,2,   21.91,2,    0.00,2,    1.49,2,   0.137,2,   0.080,2,   0.005,2,    0.06,2,    -999,9,    -999,9,     -999,9,     -999,    -999,9,     -999,9,    -999,9,   4.2810,2,    -999,9,    -999,9,    -999,    -999,9,    -999,    -999,1,    -999,9,    -999,9,  16.3292, -67.6863,    -999,     -999,    -999,   3.8763,   4.2810,2,-999,9,-999,-999,9,-999,    35.1407,2,-999,9,20120411,        907
33AT20120324,        A22,      66,          1,          2,          2,2,20120411,       0853,    16.3283,   -67.6865,       4642,  4380.7,   4.3227,  34.9750,2,  34.9758,2,    217.6,2,   217.9,2,   27.98,2,   21.71,2,    0.00,2,    1.49,2,   0.182,2,   0.099,2,   0.012,2,    0.09,2,  2193.5,2, 2339.65,6,   7.7140,6,       25,    -999,9,     -999,9,    -999,9,   4.3223,2,    -999,9,    -999,9,    -999,    -999,9,    -999,    -999,1,    -999,9,    -999,9,  16.3288, -67.6864,    -999,     -999,    -999,   3.8752,   4.3223,2,-999,9,-999,-999,9,-999,    35.1407,2,-999,9,20120411,        901
33AT20120324,        A22,      66,          1,          1,          1,2,20120411,       0853,    16.3283,   -67.6865,       4642,  4731.9,   4.3702,  34.9748,2,  34.9756,2,    219.1,2,   219.0,2,   27.55,2,   21.60,2,    0.00,2,    1.48,2,   0.263,2,   0.125,2,   0.019,2,    0.11,2,  2194.3,6, 2339.50,2,   7.7156,2,       25,    -999,9,     -999,9,    -999,9,   4.3703,2,    -999,9,    -999,9,    -999,    -999,9,    -999,    -999,1,    -999,9,    -999,9,  16.3284, -67.6865,    -999,     -999,    -999,   3.8749,   4.3703,2,-999,9,-999,-999,9,-999,    35.1405,2,-999,9,20120411,        854