BOTTLE,20220725CCHSIOCBG
EXPOCODE,SECT_ID,STNNBR,CASTNO,SAMPNO,BTLNBR,BTLNBR_FLAG_W,DATE,TIME,LATITUDE,LONGITUDE,DEPTH,CTDPRS,CTDTMP,CTDSAL,CTDSAL_FLAG_W,SALNTY,SALNTY_FLAG_W,CTDOXY,CTDOXY_FLAG_W,OXYGEN,OXYGEN_FLAG_W,SILCAT,SILCAT_FLAG_W,NITRAT,NITRAT_FLAG_W,NITRIT,NITRIT_FLAG_W,PHSPHT,PHSPHT_FLAG_W,CFC-11,CFC-11_FLAG_W,CFC-12,CFC-12_FLAG_W,CFC113,CFC113_FLAG_W,SF6,SF6_FLAG_W,TCARBN,TCARBN_FLAG_W,ALKALI,ALKALI_FLAG_W,PH_TOT,PH_TOT_FLAG_W,PH_TMP,TRITUM,TRITUM_FLAG_W,HELIUM,HELIUM_FLAG_W,DELHE3,DELHE3_FLAG_W,REFTMP,REFTMP_FLAG_W,DELC13,DELC13_FLAG_W,DELC14,DELC14_FLAG_W,C14ERR,NEON,NEON_FLAG_W,NEONER,CCL4,CCL4_FLAG_W,DOC,DOC_FLAG_W,TDN,TDN_FLAG_W,BTL_LAT,BTL_LON,TRITER,HELIER,DELHER,THETA,SBE35,SBE35_FLAG_W,14C-DOC,14C-DOC_FLAG_W,14C-DOCERR,13C-DOC,13C-DOC_FLAG_W,13C-DOCERR,SALTREF,SALTREF_FLAG_W,LAB_DEN,LAB_DEN_FLAG_W,BTL_DATE,BTL_TIME
,,,,,,,,,,,METERS,DBAR,ITS-90,PSS-78,,PSS-78,,UMOL/KG,,UMOL/KG,,UMOL/KG,,UMOL/KG,,UMOL/KG,,UMOL/KG,,PMOL/KG,,PMOL/KG,,PMOL/KG,,FMOL/KG,,UMOL/KG,,UMOL/KG,,,,DEG C,TU,,NMOL/KG,,PERCNT,,DEG C,,/MILLE,,/MILLE,,/MILLE,NMOL/KG,,NMOL/KG,PMOL/KG,,UMOL/KG,,UMOL/KG,,,,TU,NMOL/KG,PERCNT,DEG C,ITS-90,,/MILLE,,/MILLE,/MILLE,,/MILLE,G/KG,,KG/M^3,,,
33AT20120324,        A22,       8,          1,          5,          5,2,20120326,       2134,    39.0179,   -69.3341,       3099,  2432.2,   2.9537,  34.9344,2,  34.9351,2,    266.1,2,   266.6,2,   18.93,2,   17.76,2,    0.00,2,    1.19,2,   1.242,2,   0.581,2,   0.038,2,    0.24,2,  2159.2,6, 2312.59,2,   7.7386,2,       25,    -999,9,     -999,9,    -999,9,   2.9533,2,    -999,9,    -999,9,    -999,    -999,9,    -999,    -999,1,    -999,9,    -999,9,  39.0180, -69.3352,    -999,     -999,    -999,   2.7612,   2.9533,2,-999,9,-999,-999,9,-999,    35.0999,2,-999,9,20120326,       2153
33AT20120324,        A22,       8,          1,          4,          4,2,20120326,       2134,    39.0179,   -69.3341,       3099,  2636.4,   2.7496,  34.9220,2,  34.9229,2,    269.1,2,   269.5,2,   18.80,2,   17.34,2,    0.00,2,    1.17,2,    -999,9,    -999,9,    -999,9,    -999,9,    -999,9,    -999,9,     -999,9,     -999,    -999,9,   1.8702,2,    6.32,2,   2.7489,2,    -999,9,    -999,9,    -999,   8.254,2,   0.037,    -999,9,    -999,9,    -999,9,  39.0180, -69.3349,    -999,   0.0075,    0.15,   2.5410,   2.7489,2,-999,9,-999,-999,9,-999,    35.0876,2,-999,9,20120326,       2148
33AT20120324,        A22,       8,          1,          3,          3,2,20120326,       2134,    39.0179,   -69.3341,       3099,  2839.5,   2.5258,  34.9109,2,  34.9119,2,    272.5,2,   272.3,2,   19.41,2,   17.07,2,    0.00,2,    1.16,2,   1.766,2,   0.878,2,   0.090,2,    0.39,2,    -999,9,    -999,9,     -999,9,     -999,    -999,9,     -999,9,    -999,9,   2.5252,2,    -999,9,    -999,9,    -999,    -999,9,    -999,    -999,1,    -999,9,    -999,9,  39.0180, -69.3345,    -999,     -999,    -999,   2.3016,   2.5252,2,-999,9,-999,-999,9,-999,    35.0765,2,-999,9,20120326,       2143
33AT20120324,        A22,       8,          1,          2,          2,2,20120326,       2134,    39.0179,   -69.3341,       3099,  2941.4,   2.4303,  34.9062,2,  34.9070,2,    273.0,2,   273.6,2,   19.90,2,   17.01,2,    0.00,2,    1.16,2,   1.892,2,   0.932,2,   0.104,2,    0.43,2,  2163.0,6, 2313.13,2,     -999,9,     -999,    -999,9,     -999,9,    -999,9,   2.4306,2,    -999,9,    -999,9,    -999,    -999,9,    -999,    -999,1,    -999,9,    -999,9,  39.0179, -69.3342,    -999,     -999,    -999,   2.1979,   2.4306,2,-999,9,-999,-999,9,-999,    35.0716,2,-999,9,20120326,       2140
33AT20120324,        A22,       8,          1,          1,          1,2,20120326,       2134,    39.0179,   -69.3341,       3099,  3089.0,   2.3296,  34.9003,2,  34.9015,2,    273.0,2,   272.9,2,   21.66,2,   17.12,2,    0.00,2,    1.17,2,   1.923,2,   0.950,2,   0.103,2,    0.49,2,  2167.9,2, 2315.59,6,   7.7359,6,       25,    -999,9,   1.8612,2,    6.30,2,   2.3299,2,    -999,9,    -999,9,    -999,   8.216,2,   0.037,    -999,1,    -999,9,    -999,9,  39.0179, -69.3341,    -999,   0.0074,    0.15,   2.0845,   2.3299,2,-999,9,-999,-999,9,-999,    35.0661,2,-999,9,20120326,       2135