BOTTLE,20081222PRINUNIVRMKPRINUNIVRMK
# 3/1/07 Initialized README file 
# Data from S. van Heuven 2/23/07 
# Ship: Tyro (PIBQ) 
# Cruise: 64TR90_3; WOCE AR07Ea 
# Dates: 7/1-7/12/1990 
# EXPOCODE 64TR19900701 
# Region: N. Atlantic 
# Chief Scientist -H.M. van Aken 
# 33 stations with 24 place Rosette (12L bottles) 
# Hydro: Who - van Aken; Status - final 
# 	Notes: Neil Brown Mk3 
# 	Temperature calibration against electronic reversing therms 
# 	CTDSAL only (bottle salt used only for calibration and 
# 		not reported) 
# Nuts/O2: Who - M.Manuels;K.Bakker; Status - final 
# 	Notes: O2 with high precision photometric end point determination 
# 	Duplicate RMS of 0.5umol/kg 
# 	Technicon TRAACS; RMS of duplicate analysis: 
# 		PO4 - 0.07umol/kg 
# 		Si - 0.09umol/kg 
# 		NO3 - 0.2umol/kg 
# 		NO2 - not stated 
# TCO2: Who - M. Stoll; Status - final 
# 	Notes: Coulometer; 
# H-3: Who - B.Kers; Status - final; S Plus - up to date 
# 	Notes: beta counting 
EXPOCODE,SECT_ID,STNNBR,CASTNO,BTLNBR,BTLNBR_FLAG_W,DATE,LATITUDE,LONGITUDE,DEPTH,CTDPRS,CTDTMP,CTDSAL,CTDSAL_FLAG_W,SALNTY,SALNTY_FLAG_W,CTDOXY,CTDOXY_FLAG_W,OXYGEN,OXYGEN_FLAG_W,SILCAT,SILCAT_FLAG_W,NITRAT,NITRAT_FLAG_W,NITRIT,NITRIT_FLAG_W,PHSPHT,PHSPHT_FLAG_W,TCARBN,TCARBN_FLAG_W,TRITUM,TRITER,TRITUM_FLAG_W,THETA
,,,,,,,,,METERS,DBARS,ITS-90,PSS-78,,PSS-78,,UMOL/KG,,UMOL/KG,,UMOL/KG,,UMOL/KG,,UMOL/KG,,UMOL/KG,,UMOL/KG,,TU,TU,,DEGC
  64TR19900701,AR07Ea,     1,  1,      6,2,19900702, 52.3383, -14.0033,  329,      5.0,  13.5997,  35.4370,2,-999.0000,9,   -999.0,9,   -999.0,9,     0.53,2,     1.11,2,     0.18,2,     0.11,2,   -999.0,9, -999.000, -999.000,9,  13.5990
  64TR19900701,AR07Ea,     1,  1,      5,2,19900702, 52.3383, -14.0033,  329,    120.0,  10.1666,  35.4520,2,-999.0000,9,   -999.0,9,    257.2,2,     4.76,2,    11.39,2,     0.02,2,     0.71,2,   -999.0,9, -999.000, -999.000,9,  10.1525
  64TR19900701,AR07Ea,     1,  1,      4,2,19900702, 52.3383, -14.0033,  329,    170.0,  10.1156,  35.4630,2,-999.0000,9,   -999.0,9,   -999.0,9,     4.60,2,    11.15,2,     0.01,2,     0.71,2,   -999.0,9, -999.000, -999.000,9,  10.0956
  64TR19900701,AR07Ea,     1,  1,      3,2,19900702, 52.3383, -14.0033,  329,    220.0,   9.9856,  35.4500,2,-999.0000,9,   -999.0,9,    243.3,2,     4.84,2,    11.32,2,     0.03,2,     0.71,2,   -999.0,9, -999.000, -999.000,9,   9.9599
  64TR19900701,AR07Ea,     1,  1,      2,2,19900702, 52.3383, -14.0033,  329,    270.0,   9.9496,  35.4610,2,-999.0000,9,   -999.0,9,   -999.0,9,     5.15,2,    11.16,2,     0.05,2,     0.71,2,   -999.0,9, -999.000, -999.000,9,   9.9181
  64TR19900701,AR07Ea,     1,  1,      1,2,19900702, 52.3383, -14.0033,  329,    321.0,   9.9036,  35.4580,2,  35.4580,2,   -999.0,9,    239.1,2,     6.06,2,    11.63,2,     0.06,2,     0.81,2,   -999.0,9, -999.000, -999.000,9,   9.8661
  64TR19900701,AR07Ea,     2,  1,      9,2,19900702, 52.3333, -14.8333,  581,      3.0,  13.4838,  35.4740,2,-999.0000,9,   -999.0,9,    272.1,2,     0.59,2,     2.19,2,     0.12,2,     0.19,2,   -999.0,9, -999.000, -999.000,9,  13.4834
  64TR19900701,AR07Ea,     2,  1,      8,2,19900702, 52.3333, -14.8333,  581,     68.0,  11.2373,  35.5470,2,  35.5480,2,   -999.0,9,   -999.0,9,     4.31,2,    10.91,2,     0.04,2,     0.67,2,   -999.0,9, -999.000, -999.000,9,  11.2288
  64TR19900701,AR07Ea,     2,  1,      7,2,19900702, 52.3333, -14.8333,  581,    171.0,  10.7094,  35.4780,2,-999.0000,9,   -999.0,9,    259.9,2,     4.85,2,    11.47,2,     0.02,2,     0.73,2,   -999.0,9, -999.000, -999.000,9,  10.6886
  64TR19900701,AR07Ea,     2,  1,      6,2,19900702, 52.3333, -14.8333,  581,    272.0,  10.2965,  35.4240,2,  35.4230,2,   -999.0,9,   -999.0,9,     5.31,2,    12.09,2,     0.04,2,     0.67,2,   -999.0,9, -999.000, -999.000,9,  10.2641
  64TR19900701,AR07Ea,     2,  1,      5,2,19900702, 52.3333, -14.8333,  581,    371.0,  10.2335,  35.4440,2,-999.0000,9,   -999.0,9,    273.8,2,     4.98,2,    11.68,2,     0.03,2,     0.75,2,   -999.0,9, -999.000, -999.000,9,  10.1892
  64TR19900701,AR07Ea,     2,  1,      4,2,19900702, 52.3333, -14.8333,  581,    422.0,  10.1386,  35.4390,2,  35.4370,2,   -999.0,9,   -999.0,9,     5.06,2,    11.75,2,     0.02,2,     0.74,2,   -999.0,9, -999.000, -999.000,9,  10.0884
  64TR19900701,AR07Ea,     2,  1,      3,2,19900702, 52.3333, -14.8333,  581,    473.0,  10.0426,  35.4370,2,-999.0000,9,   -999.0,9,    295.8,2,     5.10,2,    11.78,2,     0.02,2,     0.79,2,   -999.0,9, -999.000, -999.000,9,   9.9865
  64TR19900701,AR07Ea,     2,  1,      2,2,19900702, 52.3333, -14.8333,  581,    523.0,  10.0476,  35.4370,2,  35.4370,2,   -999.0,9,   -999.0,9,     5.11,2,    11.80,2,     0.03,2,     0.76,2,   -999.0,9, -999.000, -999.000,9,   9.9854
  64TR19900701,AR07Ea,     2,  1,      1,2,19900702, 52.3333, -14.8333,  581,    564.0,  10.0556,  35.4470,2,-999.0000,9,   -999.0,9,    276.0,2,     5.01,2,    11.65,2,     0.02,2,     0.77,2,   -999.0,9, -999.000, -999.000,9,   9.9883
  64TR19900701,AR07Ea,     3,  1,     20,2,19900702, 52.3333, -15.3083, 1620,      4.0,  13.4078,  35.4810,2,  35.4830,2,   -999.0,9,   -999.0,9,     0.51,2,     0.20,2,     0.05,2,     0.14,2,   -999.0,9, -999.000, -999.000,9,  13.4072
  64TR19900701,AR07Ea,     3,  1,     19,2,19900702, 52.3333, -15.3083, 1620,     14.0,  13.3378,  35.4810,2,-999.0000,9,   -999.0,9,    279.6,2,     0.53,2,     1.03,2,     0.09,2,     0.18,2,   2032.0,2, -999.000, -999.000,9,  13.3358
  64TR19900701,AR07Ea,     3,  1,     18,2,19900702, 52.3333, -15.3083, 1620,    117.0,  11.0833,  35.5270,2,  35.5280,2,   -999.0,9,   -999.0,9,     4.44,2,    11.12,2,     0.05,2,     0.68,2,   -999.0,9, -999.000, -999.000,9,  11.0688
  64TR19900701,AR07Ea,     3,  1,     17,2,19900702, 52.3333, -15.3083, 1620,    216.0,  10.7414,  35.5020,2,-999.0000,9,   -999.0,9,    260.6,2,     4.33,2,    10.93,2,     0.02,2,     0.64,2,   2116.2,2, -999.000, -999.000,9,  10.7150
  64TR19900701,AR07Ea,     3,  1,     16,2,19900702, 52.3333, -15.3083, 1620,    318.0,  10.4805,  35.4700,2,  35.4700,2,   -999.0,9,   -999.0,9,     4.58,2,    11.30,2,     0.04,2,     0.69,2,   -999.0,9, -999.000, -999.000,9,  10.4420
  64TR19900701,AR07Ea,     3,  1,     15,2,19900702, 52.3333, -15.3083, 1620,    418.0,  10.3015,  35.4460,2,-999.0000,9,   -999.0,9,    267.6,2,     4.83,2,    11.64,2,     0.01,2,     0.70,2,   2118.7,2, -999.000, -999.000,9,  10.2513
  64TR19900701,AR07Ea,     3,  1,     14,2,19900702, 52.3333, -15.3083, 1620,    520.0,  10.1106,  35.4260,2,  35.4250,2,   -999.0,9,   -999.0,9,     5.12,2,    12.03,2,     0.01,2,     0.73,2,   -999.0,9, -999.000, -999.000,9,  10.0485
  64TR19900701,AR07Ea,     3,  1,     13,2,19900702, 52.3333, -15.3083, 1620,    620.0,   9.5947,  35.3540,2,-999.0000,9,   -999.0,9,    286.4,2,     6.23,2,    13.49,2,     0.02,2,     0.84,2,   2127.4,2, -999.000, -999.000,9,   9.5227
  64TR19900701,AR07Ea,     3,  1,     12,2,19900702, 52.3333, -15.3083, 1620,    721.0,   9.0878,  35.2990,2,  35.2980,2,   -999.0,9,   -999.0,9,     7.54,2,    15.03,2,     0.01,2,     0.94,2,   -999.0,9, -999.000, -999.000,9,   9.0063
  64TR19900701,AR07Ea,     3,  1,     11,2,19900702, 52.3333, -15.3083, 1620,    825.0,   8.2420,  35.1960,2,-999.0000,9,   -999.0,9,    212.3,2,     9.46,2,    17.00,2,     0.01,2,     1.15,2,   2148.2,2, -999.000, -999.000,9,   8.1534
  64TR19900701,AR07Ea,     3,  1,     10,2,19900702, 52.3333, -15.3083, 1620,    922.0,   7.7691,  35.2310,2,  35.2300,2,   -999.0,9,   -999.0,9,    10.66,2,    18.13,2,     0.00,2,     1.12,2,   -999.0,9, -999.000, -999.000,9,   7.6727
  64TR19900701,AR07Ea,     3,  1,      9,2,19900702, 52.3333, -15.3083, 1620,   1026.0,   6.7754,  35.1580,2,-999.0000,9,   -999.0,9,    212.9,2,    11.29,2,    18.10,2,     0.02,2,     1.18,2,   2162.7,2, -999.000, -999.000,9,   6.6750
  64TR19900701,AR07Ea,     3,  1,      8,2,19900702, 52.3333, -15.3083, 1620,   1125.0,   6.1315,  35.1280,2,  35.1250,2,   -999.0,9,   -999.0,9,    11.49,2,    18.11,2,     0.01,2,     1.25,2,   -999.0,9, -999.000, -999.000,9,   6.0261
  64TR19900701,AR07Ea,     3,  1,      7,2,19900702, 52.3333, -15.3083, 1620,   1229.0,   5.5517,  35.0740,2,-999.0000,9,   -999.0,9,    232.1,3,    11.48,2,    18.12,2,     0.00,2,     1.16,2,   2159.7,2, -999.000, -999.000,9,   5.4411
  64TR19900701,AR07Ea,     3,  1,      6,2,19900702, 52.3333, -15.3083, 1620,   1330.0,   4.9268,  35.0160,2,  35.0170,2,   -999.0,9,   -999.0,9,    11.53,2,    18.10,2,     0.02,2,     1.18,2,   -999.0,9, -999.000, -999.000,9,   4.8125
  64TR19900701,AR07Ea,     3,  1,      5,2,19900702, 52.3333, -15.3083, 1620,   1429.0,   4.5909,  34.9850,2,-999.0000,9,   -999.0,9,    252.0,2,    11.46,2,    18.05,2,     0.02,2,     1.13,2,   2153.4,2, -999.000, -999.000,9,   4.4707
  64TR19900701,AR07Ea,     3,  1,      4,2,19900702, 52.3333, -15.3083, 1620,   1480.0,   4.4099,  34.9690,2,  34.9690,2,   -999.0,9,   -999.0,9,    11.44,2,    17.87,2,     0.01,2,     1.19,2,   -999.0,9, -999.000, -999.000,9,   4.2869
  64TR19900701,AR07Ea,     3,  1,      3,2,19900702, 52.3333, -15.3083, 1620,   1533.0,   4.2560,  34.9550,2,-999.0000,9,   -999.0,9,    259.0,2,    11.41,2,    17.79,2,     0.01,2,     1.15,2,   2149.4,2, -999.000, -999.000,9,   4.1299
  64TR19900701,AR07Ea,     3,  1,      2,2,19900702, 52.3333, -15.3083, 1620,   1581.0,   4.1570,  34.9470,2,  34.9530,2,   -999.0,9,   -999.0,9,    11.42,2,    17.71,2,     0.02,2,     1.11,2,   -999.0,9, -999.000, -999.000,9,   4.0275
  64TR19900701,AR07Ea,     3,  1,      1,2,19900702, 52.3333, -15.3083, 1620,   1630.0,   4.0550,  34.9380,2,-999.0000,9,   -999.0,9,    264.2,2,    11.42,2,    17.73,2,     0.01,2,     1.10,2,   2149.2,2, -999.000, -999.000,9,   3.9222
  64TR19900701,AR07Ea,     4,  1,     24,2,19900702, 52.3317, -15.6700, 3128,      2.0,  13.3848,  35.4130,2,  35.4040,2,   -999.0,9,   -999.0,9,     0.29,2,     0.22,2,     0.05,2,     0.16,2,   -999.0,9, -999.000, -999.000,9,  13.3845
  64TR19900701,AR07Ea,     4,  1,     23,2,19900702, 52.3317, -15.6700, 3128,     97.0,  11.5282,  35.5870,2,-999.0000,9,   -999.0,9,    247.8,2,     4.18,2,    10.49,2,     0.02,2,     0.58,2,   -999.0,9, -999.000, -999.000,9,  11.5158
  64TR19900701,AR07Ea,     4,  1,     22,2,19900702, 52.3317, -15.6700, 3128,    200.0,  11.0553,  35.5170,2,  35.5160,2,   -999.0,9,   -999.0,9,     4.81,2,    11.20,2,     0.01,2,     0.67,2,   -999.0,9, -999.000, -999.000,9,  11.0304
  64TR19900701,AR07Ea,     4,  1,     21,2,19900702, 52.3317, -15.6700, 3128,    302.0,  10.3575,  35.4030,2,-999.0000,9,   -999.0,9,    213.7,2,     5.78,2,    12.73,2,     0.02,2,     0.78,2,   -999.0,9, -999.000, -999.000,9,  10.3213
  64TR19900701,AR07Ea,     4,  1,     20,2,19900702, 52.3317, -15.6700, 3128,    401.0,   9.9126,  35.3460,2,  35.3460,2,   -999.0,9,   -999.0,9,     6.17,2,    12.93,2,     0.01,2,     0.80,2,   -999.0,9, -999.000, -999.000,9,   9.8656
  64TR19900701,AR07Ea,     4,  1,     19,2,19900702, 52.3317, -15.6700, 3128,    502.0,   9.3937,  35.2830,2,-999.0000,9,   -999.0,9,    240.7,2,     6.72,2,    13.57,2,     0.01,2,     0.85,2,   -999.0,9, -999.000, -999.000,9,   9.3365
  64TR19900701,AR07Ea,     4,  1,     18,2,19900702, 52.3317, -15.6700, 3128,    755.0,   8.6019,  35.2680,2,  35.2660,2,   -999.0,9,   -999.0,9,     6.92,2,    14.16,2,     0.01,2,     0.91,2,   -999.0,9, -999.000, -999.000,9,   8.5191
  64TR19900701,AR07Ea,     4,  1,     17,2,19900702, 52.3317, -15.6700, 3128,   1013.0,   6.9233,  35.2120,2,-999.0000,9,   -999.0,9,    212.0,2,    11.17,2,    18.21,2,     0.00,2,     1.18,2,   -999.0,9, -999.000, -999.000,9,   6.8231
  64TR19900701,AR07Ea,     4,  1,     16,2,19900702, 52.3317, -15.6700, 3128,   1266.0,   5.0348,  35.0320,2,  35.0330,2,   -999.0,9,   -999.0,9,    11.39,2,    17.93,2,     0.00,2,     1.15,2,   -999.0,9, -999.000, -999.000,9,   4.9255
  64TR19900701,AR07Ea,     4,  1,     15,2,19900702, 52.3317, -15.6700, 3128,   1517.0,   4.1170,  34.9390,2,-999.0000,9,   -999.0,9,    262.6,2,    11.08,2,    17.46,2,     0.00,2,     1.13,2,   -999.0,9, -999.000, -999.000,9,   3.9940
  64TR19900701,AR07Ea,     4,  1,     14,2,19900702, 52.3317, -15.6700, 3128,   1769.0,   3.7011,  34.9080,2,  34.9090,2,   -999.0,9,   -999.0,9,    11.06,2,    17.01,2,     0.03,2,     1.13,2,   -999.0,9, -999.000, -999.000,9,   3.5600
  64TR19900701,AR07Ea,     4,  1,     13,2,19900702, 52.3317, -15.6700, 3128,   2028.0,   3.5831,  34.9220,2,-999.0000,9,   -999.0,9,    273.1,2,    11.12,2,    17.09,2,     0.01,2,     1.14,2,   -999.0,9, -999.000, -999.000,9,   3.4192
  64TR19900701,AR07Ea,     4,  1,     12,2,19900702, 52.3317, -15.6700, 3128,   2229.0,   3.5122,  34.9440,2,  34.9450,2,   -999.0,9,   -999.0,9,    14.06,2,    17.03,2,     0.01,2,     1.12,2,   -999.0,9, -999.000, -999.000,9,   3.3299
  64TR19900701,AR07Ea,     4,  1,     11,2,19900702, 52.3317, -15.6700, 3128,   2335.0,   3.4252,  34.9480,2,-999.0000,9,   -999.0,9,    266.7,2,    15.21,2,    17.17,2,     0.00,2,     1.11,2,   -999.0,9, -999.000, -999.000,9,   3.2339
  64TR19900701,AR07Ea,     4,  1,     10,2,19900702, 52.3317, -15.6700, 3128,   2433.0,   3.3352,  34.9510,2,  34.9510,2,   -999.0,9,   -999.0,9,    16.86,2,    17.28,2,     0.00,2,     1.16,2,   -999.0,9, -999.000, -999.000,9,   3.1358
  64TR19900701,AR07Ea,     4,  1,      9,2,19900702, 52.3317, -15.6700, 3128,   2535.0,   3.2092,  34.9530,2,-999.0000,9,   -999.0,9,    262.4,2,    19.22,2,    17.48,2,     0.02,2,     1.20,2,   -999.0,9, -999.000, -999.000,9,   3.0019
  64TR19900701,AR07Ea,     4,  1,      8,2,19900702, 52.3317, -15.6700, 3128,   2638.0,   3.1093,  34.9540,2,  34.9530,2,   -999.0,9,   -999.0,9,    21.78,2,    17.97,2,     0.01,2,     1.23,2,   -999.0,9, -999.000, -999.000,9,   2.8935
  64TR19900701,AR07Ea,     4,  1,      7,2,19900702, 52.3317, -15.6700, 3128,   2739.0,   2.9973,  34.9530,2,-999.0000,9,   -999.0,9,    256.0,2,    25.28,2,    18.45,2,     0.00,2,     1.11,3,   -999.0,9, -999.000, -999.000,9,   2.7734
  64TR19900701,AR07Ea,     4,  1,      6,2,19900702, 52.3317, -15.6700, 3128,   2841.0,   2.8913,  34.9490,2,  34.9480,2,   -999.0,9,   -999.0,9,    28.90,2,    19.16,2,     0.00,2,     1.32,2,   -999.0,9, -999.000, -999.000,9,   2.6592
  64TR19900701,AR07Ea,     4,  1,      5,2,19900702, 52.3317, -15.6700, 3128,   2955.0,   2.7673,  34.9420,2,-999.0000,9,   -999.0,9,    248.0,2,    33.38,2,    19.93,2,     0.01,2,     1.37,2,   -999.0,9, -999.000, -999.000,9,   2.5261
  64TR19900701,AR07Ea,     4,  1,      4,2,19900702, 52.3317, -15.6700, 3128,   3006.0,   2.7074,  34.9370,2,  34.9360,2,   -999.0,9,   -999.0,9,    34.86,2,    20.28,2,     0.00,2,     1.40,2,   -999.0,9, -999.000, -999.000,9,   2.4623
  64TR19900701,AR07Ea,     4,  1,      3,2,19900702, 52.3317, -15.6700, 3128,   3059.0,   2.6254,  34.9290,2,-999.0000,9,   -999.0,9,    244.6,2,    37.95,2,    20.64,2,     0.00,2,     1.42,2,   -999.0,9, -999.000, -999.000,9,   2.3767
  64TR19900701,AR07Ea,     4,  1,      2,2,19900702, 52.3317, -15.6700, 3128,   3109.0,   2.5414,  34.9220,2,-999.0000,9,   -999.0,9,   -999.0,9,    38.44,2,    20.92,2,     0.03,2,     1.43,2,   -999.0,9, -999.000, -999.000,9,   2.2894
  64TR19900701,AR07Ea,     4,  1,      1,2,19900702, 52.3317, -15.6700, 3128,   3158.0,   2.4234,  34.9090,2,  34.9100,2,   -999.0,9,    239.9,2,    43.74,2,    21.85,2,     0.01,2,     1.50,2,   -999.0,9, -999.000, -999.000,9,   2.1690