BOTTLE,20081222PRINUNIVRMKPRINUNIVRMK
EXPOCODE,SECT_ID,STNNBR,CASTNO,BTLNBR,BTLNBR_FLAG_W,DATE,LATITUDE,LONGITUDE,DEPTH,CTDPRS,CTDTMP,CTDSAL,CTDSAL_FLAG_W,SALNTY,SALNTY_FLAG_W,CTDOXY,CTDOXY_FLAG_W,OXYGEN,OXYGEN_FLAG_W,SILCAT,SILCAT_FLAG_W,NITRAT,NITRAT_FLAG_W,NITRIT,NITRIT_FLAG_W,PHSPHT,PHSPHT_FLAG_W,TCARBN,TCARBN_FLAG_W,TRITUM,TRITER,TRITUM_FLAG_W,THETA
,,,,,,,,,METERS,DBARS,ITS-90,PSS-78,,PSS-78,,UMOL/KG,,UMOL/KG,,UMOL/KG,,UMOL/KG,,UMOL/KG,,UMOL/KG,,UMOL/KG,,TU,TU,,DEGC
  64TR19900701,AR07Ea,    14,  1,     24,2,19900706, 53.6033, -23.7517, 3557,      5.0,  11.6512,  35.2610,2,  35.2600,2,    277.3,2,   -999.0,9,     0.66,2,     5.01,2,     0.12,2,     0.39,2,   -999.0,9, -999.000, -999.000,9,  11.6506
  64TR19900701,AR07Ea,    14,  1,     23,2,19900706, 53.6033, -23.7517, 3557,     98.0,   9.6307,  35.3110,2,-999.0000,9,    256.8,2,    255.5,2,     6.20,2,    13.18,2,     0.03,2,     0.85,2,   2127.4,2, -999.000, -999.000,9,   9.6196
  64TR19900701,AR07Ea,    14,  1,     22,2,19900706, 53.6033, -23.7517, 3557,    200.0,   8.7559,  35.2040,2,  35.2050,2,    257.8,2,   -999.0,9,     7.16,2,    14.00,2,     0.01,2,     0.93,2,   -999.0,9, -999.000, -999.000,9,   8.7345
  64TR19900701,AR07Ea,    14,  1,     21,2,19900706, 53.6033, -23.7517, 3557,    302.0,   8.0611,  35.1260,2,-999.0000,9,    263.1,2,    258.4,2,     7.71,2,    14.74,2,     0.01,2,     0.99,2,   2129.7,2, -999.000, -999.000,9,   8.0301
  64TR19900701,AR07Ea,    14,  1,     20,2,19900706, 53.6033, -23.7517, 3557,    403.0,   7.1983,  35.0180,2,  35.0170,2,    250.3,2,   -999.0,9,     8.98,2,    16.25,2,     0.02,2,     1.09,2,   -999.0,9, -999.000, -999.000,9,   7.1594
  64TR19900701,AR07Ea,    14,  1,     19,2,19900706, 53.6033, -23.7517, 3557,    507.0,   6.4934,  35.0090,2,-999.0000,9,    228.8,2,    227.1,2,    10.73,2,    18.14,2,     0.01,2,     1.20,2,   2155.3,2, -999.000, -999.000,9,   6.4468
  64TR19900701,AR07Ea,    14,  1,     18,2,19900706, 53.6033, -23.7517, 3557,    760.0,   4.7659,  34.9510,2,  34.9520,2,    246.3,2,   -999.0,9,    11.09,2,    18.29,2,     0.00,2,     1.22,2,   -999.0,9, -999.000, -999.000,9,   4.7047
  64TR19900701,AR07Ea,    14,  1,     17,2,19900706, 53.6033, -23.7517, 3557,   1013.0,   4.0800,  34.9260,2,-999.0000,9,    261.6,2,    261.1,2,    10.97,2,    17.82,2,     0.01,2,     1.18,2,   2150.7,2, -999.000, -999.000,9,   4.0019
  64TR19900701,AR07Ea,    14,  1,     16,4,19900706, 53.6033, -23.7517, 3557,   1264.0,   3.7091,  34.9010,2,-999.0000,9,    271.1,2,   -999.0,9,  -999.00,9,  -999.00,9,  -999.00,9,  -999.00,9,   -999.0,9, -999.000, -999.000,9,   3.6129
  64TR19900701,AR07Ea,    14,  1,     15,2,19900706, 53.6033, -23.7517, 3557,   1519.0,   3.5042,  34.8900,2,-999.0000,9,    276.9,2,    278.2,2,    10.83,2,    17.11,2,     0.01,2,     1.15,2,   2145.2,2, -999.000, -999.000,9,   3.3881
  64TR19900701,AR07Ea,    14,  1,     14,2,19900706, 53.6033, -23.7517, 3557,   1773.0,   3.4652,  34.9040,2,  34.9030,2,    274.8,2,   -999.0,9,    11.39,2,    17.11,2,     0.02,2,     1.15,2,   -999.0,9, -999.000, -999.000,9,   3.3269
  64TR19900701,AR07Ea,    14,  1,     13,2,19900706, 53.6033, -23.7517, 3557,   2026.0,   3.4212,  34.9280,2,-999.0000,9,    272.1,2,    272.7,2,    12.16,2,    16.95,2,     0.02,2,     1.16,2,   2146.3,2, -999.000, -999.000,9,   3.2599
  64TR19900701,AR07Ea,    14,  1,     12,3,19900706, 53.6033, -23.7517, 3557,   2283.0,   3.3092,  34.9390,2,  35.0490,0,    270.1,2,   -999.0,9,     9.42,4,    14.79,4,     0.00,4,     1.01,4,   -999.0,9, -999.000, -999.000,9,   3.1250
  64TR19900701,AR07Ea,    14,  1,     11,2,19900706, 53.6033, -23.7517, 3557,   2533.0,   3.1392,  34.9500,2,-999.0000,9,    268.9,2,    270.1,2,    14.76,2,    16.84,2,     0.00,2,     1.15,2,   2150.4,2, -999.000, -999.000,9,   2.9334
  64TR19900701,AR07Ea,    14,  1,     10,2,19900706, 53.6033, -23.7517, 3557,   2790.0,   2.9753,  34.9550,2,  34.9510,2,    264.6,2,   -999.0,9,    19.14,2,    17.45,2,     0.01,2,     1.18,2,   -999.0,9, -999.000, -999.000,9,   2.7467
  64TR19900701,AR07Ea,    14,  1,      9,2,19900706, 53.6033, -23.7517, 3557,   2967.0,   2.8573,  34.9550,2,-999.0000,9,    264.6,2,    265.1,2,    20.90,2,    17.52,2,     0.00,2,     1.19,2,   2161.4,2, -999.000, -999.000,9,   2.6129
  64TR19900701,AR07Ea,    14,  1,      8,2,19900706, 53.6033, -23.7517, 3557,   3071.0,   2.8353,  34.9530,2,  34.9520,2,    263.4,2,   -999.0,9,    21.91,2,    17.77,2,     0.01,2,     1.22,2,   -999.0,9, -999.000, -999.000,9,   2.5806
  64TR19900701,AR07Ea,    14,  1,      7,2,19900706, 53.6033, -23.7517, 3557,   3172.0,   2.7963,  34.9510,2,-999.0000,9,    262.3,2,    261.5,2,    24.18,2,    18.18,2,     0.01,2,     1.26,2,   2165.0,2, -999.000, -999.000,9,   2.5318
  64TR19900701,AR07Ea,    14,  1,      6,2,19900706, 53.6033, -23.7517, 3557,   3276.0,   2.7623,  34.9480,2,  34.9460,2,    260.3,2,   -999.0,9,    26.15,2,    18.48,2,     0.00,2,     1.28,2,   -999.0,9, -999.000, -999.000,9,   2.4875
  64TR19900701,AR07Ea,    14,  1,      5,2,19900706, 53.6033, -23.7517, 3557,   3376.0,   2.7233,  34.9430,2,-999.0000,9,    255.8,2,    255.9,2,    28.58,2,    19.01,2,     0.02,2,     1.31,2,   2172.5,2, -999.000, -999.000,9,   2.4387
  64TR19900701,AR07Ea,    14,  1,      4,2,19900706, 53.6033, -23.7517, 3557,   3428.0,   2.6624,  34.9330,2,  34.9320,2,    250.6,2,   -999.0,9,    34.76,2,    20.18,2,     0.00,2,     1.38,2,   -999.0,9, -999.000, -999.000,9,   2.3736
  64TR19900701,AR07Ea,    14,  1,      3,2,19900706, 53.6033, -23.7517, 3557,   3479.0,   2.5924,  34.9240,2,-999.0000,9,    247.1,2,    244.4,2,    38.69,2,    21.00,2,     0.01,2,     1.46,2,   2186.7,2, -999.000, -999.000,9,   2.2999
  64TR19900701,AR07Ea,    14,  1,      2,2,19900706, 53.6033, -23.7517, 3557,   3512.0,   2.5714,  34.9210,2,  34.9190,2,    246.0,2,   -999.0,9,    40.57,2,    21.28,2,     0.00,2,     1.47,2,   -999.0,9, -999.000, -999.000,9,   2.2758
  64TR19900701,AR07Ea,    14,  1,      1,2,19900706, 53.6033, -23.7517, 3557,   3562.0,   2.5194,  34.9140,2,-999.0000,9,    243.9,2,    241.0,2,    42.70,2,    21.79,2,     0.01,2,     1.52,2,   2191.7,2, -999.000, -999.000,9,   2.2197
  64TR19900701,AR07Ea,    15,  1,     24,2,19900706, 53.8333, -24.5000, 3316,      5.0,  10.5855,  35.0780,2,  35.0770,2,    269.0,2,   -999.0,9,     3.64,2,     7.11,2,     0.20,2,     0.56,2,   -999.0,9, -999.000, -999.000,9,  10.5849
  64TR19900701,AR07Ea,    15,  1,     23,4,19900706, 53.8333, -24.5000, 3316,    102.0,   7.9221,  35.0730,2,-999.0000,9,    266.7,2,   -999.0,9,  -999.00,9,  -999.00,9,  -999.00,9,  -999.00,9,   -999.0,9, -999.000, -999.000,9,   7.9119
  64TR19900701,AR07Ea,    15,  1,     22,2,19900706, 53.8333, -24.5000, 3316,    201.0,   7.3112,  35.0350,2,  35.0340,2,    263.9,2,   -999.0,9,     8.34,2,    15.43,2,     0.03,2,     1.03,2,   -999.0,9, -999.000, -999.000,9,   7.2919
  64TR19900701,AR07Ea,    15,  1,     21,2,19900706, 53.8333, -24.5000, 3316,    301.0,   6.4035,  34.9790,2,-999.0000,9,    248.0,2,    246.9,2,     9.79,2,    17.28,2,     0.03,2,     1.17,2,   -999.0,9, -999.000, -999.000,9,   6.3765
  64TR19900701,AR07Ea,    15,  1,     20,2,19900706, 53.8333, -24.5000, 3316,    403.0,   5.8826,  34.9920,2,  34.9920,2,    235.7,2,   -999.0,9,    10.96,2,    18.35,2,     0.02,2,     1.23,2,   -999.0,9, -999.000, -999.000,9,   5.8477
  64TR19900701,AR07Ea,    15,  1,     19,2,19900706, 53.8333, -24.5000, 3316,    507.0,   5.3497,  34.9950,2,-999.0000,9,    238.4,2,    235.1,2,    11.29,2,    18.62,2,     0.01,2,     1.24,2,   -999.0,9, -999.000, -999.000,9,   5.3075
  64TR19900701,AR07Ea,    15,  1,     18,2,19900706, 53.8333, -24.5000, 3316,    754.0,   4.1850,  34.9270,2,  34.9150,0,    260.3,2,   -999.0,9,    10.99,2,    18.04,2,     0.00,2,     1.20,2,   -999.0,9, -999.000, -999.000,9,   4.1277
  64TR19900701,AR07Ea,    15,  1,     17,2,19900706, 53.8333, -24.5000, 3316,   1012.0,   3.7031,  34.8980,2,-999.0000,9,    273.1,2,    274.0,2,    10.61,2,    17.36,2,     0.01,2,     1.19,2,   -999.0,9, -999.000, -999.000,9,   3.6281
  64TR19900701,AR07Ea,    15,  1,     16,2,19900706, 53.8333, -24.5000, 3316,   1266.0,   3.5082,  34.8870,2,  34.8870,2,    277.5,2,   -999.0,9,    10.61,2,    17.21,2,     0.00,2,     1.18,2,   -999.0,9, -999.000, -999.000,9,   3.4138
  64TR19900701,AR07Ea,    15,  1,     15,4,19900706, 53.8333, -24.5000, 3316,   1524.0,   3.4582,  34.9000,2,-999.0000,9,    277.1,2,   -999.0,9,  -999.00,9,  -999.00,9,  -999.00,9,  -999.00,9,   -999.0,9, -999.000, -999.000,9,   3.3422
  64TR19900701,AR07Ea,    15,  1,     14,2,19900706, 53.8333, -24.5000, 3316,   1776.0,   3.4322,  34.9200,2,  34.9190,2,    275.4,2,   -999.0,9,    11.70,2,    17.00,2,     0.00,2,     1.15,2,   -999.0,9, -999.000, -999.000,9,   3.2940
  64TR19900701,AR07Ea,    15,  1,     13,2,19900706, 53.8333, -24.5000, 3316,   2026.0,   3.3592,  34.9380,2,-999.0000,9,    272.3,2,    272.1,2,    12.67,2,    17.01,2,     0.00,2,     1.17,2,   -999.0,9, -999.000, -999.000,9,   3.1988
  64TR19900701,AR07Ea,    15,  1,     12,2,19900706, 53.8333, -24.5000, 3316,   2280.0,   3.2242,  34.9490,2,  34.9480,2,    270.9,2,   -999.0,9,    13.42,2,    17.03,2,     0.01,2,     1.15,2,   -999.0,9, -999.000, -999.000,9,   3.0417
  64TR19900701,AR07Ea,    15,  1,     11,2,19900706, 53.8333, -24.5000, 3316,   2533.0,   3.0933,  34.9560,2,-999.0000,9,    269.3,2,    270.0,2,    15.22,2,    16.93,2,     0.00,2,     1.18,2,   -999.0,9, -999.000, -999.000,9,   2.8883
  64TR19900701,AR07Ea,    15,  1,     10,2,19900706, 53.8333, -24.5000, 3316,   2656.0,   3.0043,  34.9580,2,  34.9560,2,    267.9,2,   -999.0,9,    16.74,2,    17.08,2,     0.01,2,     1.18,2,   -999.0,9, -999.000, -999.000,9,   2.7887
  64TR19900701,AR07Ea,    15,  1,      9,3,19900706, 53.8333, -24.5000, 3316,   2761.0,   2.9123,  34.9580,2,-999.0000,9,    266.5,2,    285.0,4,  -999.00,9,  -999.00,9,  -999.00,9,  -999.00,9,   -999.0,9, -999.000, -999.000,9,   2.6879
  64TR19900701,AR07Ea,    15,  1,      8,2,19900706, 53.8333, -24.5000, 3316,   2861.0,   2.8333,  34.9550,2,  34.9520,2,    263.5,2,   -999.0,9,    22.20,2,    18.06,2,     0.01,2,     1.22,2,   -999.0,9, -999.000, -999.000,9,   2.6004
  64TR19900701,AR07Ea,    15,  1,      7,2,19900706, 53.8333, -24.5000, 3316,   2966.0,   2.8063,  34.9550,2,-999.0000,9,    265.2,2,    266.4,2,    21.72,2,    17.84,2,     0.02,2,     1.22,2,   -999.0,9, -999.000, -999.000,9,   2.5631
  64TR19900701,AR07Ea,    15,  1,      6,2,19900706, 53.8333, -24.5000, 3316,   3066.0,   2.8003,  34.9530,2,  34.9310,0,    265.0,2,   -999.0,9,    22.17,2,    17.97,2,     0.00,2,     1.22,2,   -999.0,9, -999.000, -999.000,9,   2.5469
  64TR19900701,AR07Ea,    15,  1,      5,2,19900706, 53.8333, -24.5000, 3316,   3169.0,   2.7883,  34.9530,2,-999.0000,9,    264.8,2,    266.3,2,    23.14,2,    18.12,2,     0.01,2,     1.24,2,   -999.0,9, -999.000, -999.000,9,   2.5243
  64TR19900701,AR07Ea,    15,  1,      4,2,19900706, 53.8333, -24.5000, 3316,   3221.0,   2.7833,  34.9520,2,  34.9500,2,    264.8,2,   -999.0,9,    23.84,2,    18.10,2,     0.01,2,     1.24,2,   -999.0,9, -999.000, -999.000,9,   2.5139
  64TR19900701,AR07Ea,    15,  1,      3,2,19900706, 53.8333, -24.5000, 3316,   3271.0,   2.7793,  34.9500,2,-999.0000,9,    263.1,2,    261.5,2,    24.86,2,    18.39,2,     0.00,2,     1.26,2,   -999.0,9, -999.000, -999.000,9,   2.5046
  64TR19900701,AR07Ea,    15,  1,      2,3,19900706, 53.8333, -24.5000, 3316,   3323.0,   2.7713,  34.9480,2,  34.9470,2,    263.1,2,   -999.0,9,  -999.00,9,  -999.00,9,  -999.00,9,  -999.00,9,   -999.0,9, -999.000, -999.000,9,   2.4912
  64TR19900701,AR07Ea,    15,  1,      1,2,19900706, 53.8333, -24.5000, 3316,   3360.0,   2.7383,  34.9460,2,-999.0000,9,    260.6,2,    258.4,2,    27.35,2,    18.82,2,     0.02,2,     1.31,2,   -999.0,9, -999.000, -999.000,9,   2.4550
  64TR19900701,AR07Ea,    16,  1,     24,2,19900707, 54.1000, -25.2550, 3083,      3.0,  10.0526,  34.9600,2,  34.9600,2,    278.4,2,   -999.0,9,     2.80,2,     6.81,2,     0.17,2,     0.54,2,   -999.0,9, -999.000, -999.000,9,  10.0523
  64TR19900701,AR07Ea,    16,  1,     23,2,19900707, 54.1000, -25.2550, 3083,     98.0,   8.6129,  35.1790,2,-999.0000,9,    263.0,2,    266.7,2,     6.87,2,    14.01,2,     0.07,2,     0.92,2,   -999.0,9, -999.000, -999.000,9,   8.6026
  64TR19900701,AR07Ea,    16,  1,     22,2,19900707, 54.1000, -25.2550, 3083,    201.0,   7.5542,  35.0730,2,  35.0760,2,    267.4,2,   -999.0,9,     7.99,2,    15.11,2,     0.01,2,     1.02,2,   -999.0,9, -999.000, -999.000,9,   7.5345
  64TR19900701,AR07Ea,    16,  1,     21,2,19900707, 54.1000, -25.2550, 3083,    304.0,   6.7404,  34.9840,2,-999.0000,9,    256.5,2,    256.7,2,     9.05,2,    16.43,2,     0.00,2,     1.08,2,   -999.0,9, -999.000, -999.000,9,   6.7123
  64TR19900701,AR07Ea,    16,  1,     20,2,19900707, 54.1000, -25.2550, 3083,    405.0,   5.7156,  34.9280,2,  34.9280,2,    238.1,2,   -999.0,9,    10.50,2,    17.99,2,     0.00,2,     1.20,2,   -999.0,9, -999.000, -999.000,9,   5.6811
  64TR19900701,AR07Ea,    16,  1,     19,2,19900707, 54.1000, -25.2550, 3083,    505.0,   5.0548,  34.9090,2,-999.0000,9,    255.5,2,    256.3,2,    10.27,2,    17.87,2,     0.00,2,     1.18,2,   -999.0,9, -999.000, -999.000,9,   5.0140
  64TR19900701,AR07Ea,    16,  1,     18,2,19900707, 54.1000, -25.2550, 3083,    757.0,   4.4119,  34.9380,2,  34.9410,2,    255.0,2,   -999.0,9,    11.13,2,    18.25,2,     0.00,2,     1.22,2,   -999.0,9, -999.000, -999.000,9,   4.3530
  64TR19900701,AR07Ea,    16,  1,     17,2,19900707, 54.1000, -25.2550, 3083,   1008.0,   3.9031,  34.9110,2,-999.0000,9,    267.2,2,    267.7,2,    10.90,2,    17.77,2,     0.00,2,     1.16,2,   -999.0,9, -999.000, -999.000,9,   3.8268
  64TR19900701,AR07Ea,    16,  1,     16,2,19900707, 54.1000, -25.2550, 3083,   1263.0,   3.6181,  34.9000,2,  34.9090,0,    273.8,2,   -999.0,9,    10.86,2,    17.69,2,     0.00,2,     1.17,2,   -999.0,9, -999.000, -999.000,9,   3.5229
  64TR19900701,AR07Ea,    16,  1,     15,2,19900707, 54.1000, -25.2550, 3083,   1516.0,   3.4792,  34.9050,2,-999.0000,9,    276.3,2,    275.9,2,    11.42,2,    17.25,2,     0.00,2,     1.16,2,   -999.0,9, -999.000, -999.000,9,   3.3636
  64TR19900701,AR07Ea,    16,  1,     14,2,19900707, 54.1000, -25.2550, 3083,   1769.0,   3.4152,  34.9250,2,  34.9260,2,    273.3,2,   -999.0,9,    12.11,2,    17.18,2,     0.00,2,     1.14,2,   -999.0,9, -999.000, -999.000,9,   3.2778
  64TR19900701,AR07Ea,    16,  1,     13,2,19900707, 54.1000, -25.2550, 3083,   2023.0,   3.2562,  34.9440,2,-999.0000,9,    271.0,2,    271.2,2,    13.93,2,    17.08,2,     0.01,2,     1.15,2,   -999.0,9, -999.000, -999.000,9,   3.0976
  64TR19900701,AR07Ea,    16,  1,     12,2,19900707, 54.1000, -25.2550, 3083,   2189.0,   3.1023,  34.9510,2,  34.9510,2,    269.0,2,   -999.0,9,    15.53,2,    17.16,2,     0.00,2,     1.16,2,   -999.0,9, -999.000, -999.000,9,   2.9305
  64TR19900701,AR07Ea,    16,  1,     11,2,19900707, 54.1000, -25.2550, 3083,   2289.0,   3.0093,  34.9530,2,-999.0000,9,    267.8,2,    267.3,2,    17.38,2,    17.45,2,     0.00,2,     1.22,2,   -999.0,9, -999.000, -999.000,9,   2.8295
  64TR19900701,AR07Ea,    16,  1,     10,2,19900707, 54.1000, -25.2550, 3083,   2390.0,   2.9583,  34.9540,2,  34.9550,2,    267.0,2,   -999.0,9,    18.30,2,    17.52,2,     0.00,2,     1.18,2,   -999.0,9, -999.000, -999.000,9,   2.7697
  64TR19900701,AR07Ea,    16,  1,      9,2,19900707, 54.1000, -25.2550, 3083,   2495.0,   2.8823,  34.9530,2,-999.0000,9,    264.2,2,    263.5,2,    21.15,2,    17.89,2,     0.02,2,     1.22,2,   -999.0,9, -999.000, -999.000,9,   2.6849
  64TR19900701,AR07Ea,    16,  1,      8,2,19900707, 54.1000, -25.2550, 3083,   2599.0,   2.8333,  34.9500,2,  34.9510,2,    262.7,2,   -999.0,9,    23.39,2,    18.27,2,     0.01,2,     1.26,2,   -999.0,9, -999.000, -999.000,9,   2.6267
  64TR19900701,AR07Ea,    16,  1,      7,2,19900707, 54.1000, -25.2550, 3083,   2700.0,   2.7793,  34.9510,2,-999.0000,9,    262.5,2,    262.5,2,    23.20,2,    18.12,2,     0.00,2,     1.24,2,   -999.0,9, -999.000, -999.000,9,   2.5637
  64TR19900701,AR07Ea,    16,  1,      6,2,19900707, 54.1000, -25.2550, 3083,   2801.0,   2.7443,  34.9510,2,  34.9520,2,    262.0,2,   -999.0,9,    24.23,2,    18.27,2,     0.00,2,     1.24,2,   -999.0,9, -999.000, -999.000,9,   2.5193
  64TR19900701,AR07Ea,    16,  1,      5,2,19900707, 54.1000, -25.2550, 3083,   2907.0,   2.7213,  34.9490,2,-999.0000,9,    262.7,2,    260.1,2,    25.53,2,    18.63,2,     0.01,2,     1.26,2,   -999.0,9, -999.000, -999.000,9,   2.4860
  64TR19900701,AR07Ea,    16,  1,      4,2,19900707, 54.1000, -25.2550, 3083,   2954.0,   2.7213,  34.9490,2,  34.9490,2,    261.7,2,   -999.0,9,    25.82,2,    18.54,2,     0.00,2,     1.28,2,   -999.0,9, -999.000, -999.000,9,   2.4812
  64TR19900701,AR07Ea,    16,  1,      3,2,19900707, 54.1000, -25.2550, 3083,   3005.0,   2.7103,  34.9470,2,-999.0000,9,    261.4,2,    257.5,2,    27.18,2,    18.78,2,     0.00,2,     1.30,2,   -999.0,9, -999.000, -999.000,9,   2.4652
  64TR19900701,AR07Ea,    16,  1,      2,2,19900707, 54.1000, -25.2550, 3083,   3056.0,   2.6944,  34.9450,2,  34.9430,2,    259.3,2,   -999.0,9,    29.06,2,    19.19,2,     0.00,2,     1.32,2,   -999.0,9, -999.000, -999.000,9,   2.4444
  64TR19900701,AR07Ea,    16,  1,      1,2,19900707, 54.1000, -25.2550, 3083,   3108.0,   2.6724,  34.9400,2,-999.0000,9,    257.9,2,    254.0,2,    30.59,2,    19.50,2,     0.01,2,     1.36,2,   -999.0,9, -999.000, -999.000,9,   2.4175