BOTTLE,20081222PRINUNIVRMKPRINUNIVRMK
EXPOCODE,SECT_ID,STNNBR,CASTNO,BTLNBR,BTLNBR_FLAG_W,DATE,LATITUDE,LONGITUDE,DEPTH,CTDPRS,CTDTMP,CTDSAL,CTDSAL_FLAG_W,SALNTY,SALNTY_FLAG_W,CTDOXY,CTDOXY_FLAG_W,OXYGEN,OXYGEN_FLAG_W,SILCAT,SILCAT_FLAG_W,NITRAT,NITRAT_FLAG_W,NITRIT,NITRIT_FLAG_W,PHSPHT,PHSPHT_FLAG_W,TCARBN,TCARBN_FLAG_W,TRITUM,TRITER,TRITUM_FLAG_W,THETA
,,,,,,,,,METERS,DBARS,ITS-90,PSS-78,,PSS-78,,UMOL/KG,,UMOL/KG,,UMOL/KG,,UMOL/KG,,UMOL/KG,,UMOL/KG,,UMOL/KG,,TU,TU,,DEGC
  64TR19900701,AR07Ea,    26,  2,     22,2,19900711, 58.7483, -28.6533, 2001,      5.0,   9.6617,  35.0290,2,  35.0290,2,    285.0,2,   -999.0,9,     1.77,2,     7.30,2,     0.10,2,     0.51,2,   -999.0,9, -999.000, -999.000,9,   9.6611
  64TR19900701,AR07Ea,    26,  2,     21,2,19900711, 58.7483, -28.6533, 2001,    100.0,   7.5182,  35.1010,2,-999.0000,9,    270.1,2,    270.3,2,     7.80,2,    14.91,2,     0.02,2,     1.01,2,   2140.1,2, -999.000, -999.000,9,   7.5085
  64TR19900701,AR07Ea,    26,  2,     20,3,19900711, 58.7483, -28.6533, 2001,    204.0,   6.8544,  35.0780,2,  35.0820,2,    273.9,2,   -999.0,9,     6.71,3,    13.63,3,     0.04,3,     0.93,3,   -999.0,9, -999.000, -999.000,9,   6.8355
  64TR19900701,AR07Ea,    26,  2,     19,2,19900711, 58.7483, -28.6533, 2001,    304.0,   6.6024,  35.0710,2,-999.0000,9,    277.2,2,    272.8,2,     8.15,2,    15.50,2,     0.01,2,     1.05,2,   2143.5,2, -999.000, -999.000,9,   6.5746
  64TR19900701,AR07Ea,    26,  2,     18,4,19900711, 58.7483, -28.6533, 2001,    404.0,   6.6984,  35.1120,2,-999.0000,9,    279.0,2,   -999.0,9,  -999.00,9,  -999.00,9,  -999.00,9,  -999.00,9,   -999.0,9, -999.000, -999.000,9,   6.6608
  64TR19900701,AR07Ea,    26,  2,     17,2,19900711, 58.7483, -28.6533, 2001,    504.0,   6.5524,  35.1000,2,-999.0000,9,    275.0,2,    274.0,2,     8.03,2,    15.35,2,     0.00,2,     1.05,2,   2142.4,2, -999.000, -999.000,9,   6.5057
  64TR19900701,AR07Ea,    26,  2,     16,2,19900711, 58.7483, -28.6533, 2001,    602.0,   6.0785,  35.0340,2,  35.0310,2,    256.3,2,   -999.0,9,     9.25,2,    16.59,2,     0.01,2,     1.15,2,   -999.0,9, -999.000, -999.000,9,   6.0246
  64TR19900701,AR07Ea,    26,  2,     15,2,19900711, 58.7483, -28.6533, 2001,    708.0,   5.4807,  34.9890,2,-999.0000,9,    241.5,2,    238.2,2,    11.08,2,    18.24,2,     0.02,2,     1.26,2,   2163.6,2, -999.000, -999.000,9,   5.4200
  64TR19900701,AR07Ea,    26,  2,     14,2,19900711, 58.7483, -28.6533, 2001,    807.0,   5.0808,  34.9890,2,  34.9880,2,    242.8,2,   -999.0,9,    11.16,2,    18.25,2,     0.00,2,     1.24,2,   -999.0,9, -999.000, -999.000,9,   5.0135
  64TR19900701,AR07Ea,    26,  2,     13,2,19900711, 58.7483, -28.6533, 2001,    910.0,   4.6329,  34.9620,2,-999.0000,9,    250.1,2,    248.9,2,    11.20,2,    18.17,2,     0.00,2,     1.26,2,   2163.6,2, -999.000, -999.000,9,   4.5595
  64TR19900701,AR07Ea,    26,  2,     12,2,19900711, 58.7483, -28.6533, 2001,   1012.0,   4.2960,  34.9390,2,  34.9400,2,    260.0,2,   -999.0,9,    11.01,2,    17.97,2,     0.00,2,     1.24,2,   -999.0,9, -999.000, -999.000,9,   4.2163
  64TR19900701,AR07Ea,    26,  2,     11,2,19900711, 58.7483, -28.6533, 2001,   1163.0,   4.0010,  34.9280,2,-999.0000,9,    264.5,2,    266.1,2,    10.73,2,    17.43,2,     0.00,2,     1.21,2,   2156.6,2, -999.000, -999.000,9,   3.9107
  64TR19900701,AR07Ea,    26,  2,     10,2,19900711, 58.7483, -28.6533, 2001,   1263.0,   3.8481,  34.9190,2,  34.9200,2,    270.3,2,   -999.0,9,    10.88,2,    17.23,2,     0.00,2,     1.19,2,   -999.0,9, -999.000, -999.000,9,   3.7506
  64TR19900701,AR07Ea,    26,  2,      9,2,19900711, 58.7483, -28.6533, 2001,   1366.0,   3.6621,  34.9080,2,-999.0000,9,    274.3,2,    274.1,2,    10.76,2,    17.06,2,     0.00,2,     1.18,2,   2152.9,2, -999.000, -999.000,9,   3.5576
  64TR19900701,AR07Ea,    26,  2,      8,2,19900711, 58.7483, -28.6533, 2001,   1464.0,   3.6141,  34.9130,2,  34.9140,2,    272.8,2,   -999.0,9,    10.92,2,    16.91,2,     0.00,2,     1.18,2,   -999.0,9, -999.000, -999.000,9,   3.5016
  64TR19900701,AR07Ea,    26,  2,      7,2,19900711, 58.7483, -28.6533, 2001,   1568.0,   3.5751,  34.9250,2,-999.0000,9,    272.5,2,    274.2,2,    11.10,2,    16.95,2,     0.00,2,     1.17,2,   2152.8,2, -999.000, -999.000,9,   3.4538
  64TR19900701,AR07Ea,    26,  2,      6,2,19900711, 58.7483, -28.6533, 2001,   1670.0,   3.5601,  34.9410,2,  34.9420,2,    271.4,2,   -999.0,9,    11.43,2,    16.87,2,     0.00,2,     1.17,2,   -999.0,9,    1.710, -999.000,2,   3.4298
  64TR19900701,AR07Ea,    26,  2,      5,2,19900711, 58.7483, -28.6533, 2001,   1773.0,   3.4632,  34.9510,2,-999.0000,9,    270.4,2,    271.1,2,    11.88,2,    16.69,2,     0.00,2,     1.15,2,   2155.6,2, -999.000, -999.000,9,   3.3247
  64TR19900701,AR07Ea,    26,  2,      4,2,19900711, 58.7483, -28.6533, 2001,   1826.0,   3.4182,  34.9610,2,  34.9620,2,    270.5,2,   -999.0,9,    11.85,2,    16.41,2,     0.00,2,     1.15,2,   -999.0,9,    1.350, -999.000,2,   3.2755
  64TR19900701,AR07Ea,    26,  2,      3,2,19900711, 58.7483, -28.6533, 2001,   1876.0,   3.3342,  34.9660,2,-999.0000,9,    270.3,2,    271.3,2,    12.20,2,    16.39,2,     0.01,2,     1.13,2,   2157.4,2, -999.000, -999.000,9,   3.1880
  64TR19900701,AR07Ea,    26,  2,      2,2,19900711, 58.7483, -28.6533, 2001,   1926.0,   3.2622,  34.9690,2,  34.9690,2,    271.2,2,   -999.0,9,    12.40,2,    16.26,2,     0.01,2,     1.15,2,   -999.0,9,    1.450, -999.000,2,   3.1125
  64TR19900701,AR07Ea,    26,  2,      1,2,19900711, 58.7483, -28.6533, 2001,   1979.0,   3.1862,  34.9720,2,-999.0000,9,    271.0,2,    271.1,2,    12.16,2,    16.20,2,     0.02,2,     1.12,2,   2160.3,2, -999.000, -999.000,9,   3.0327
  64TR19900701,AR07Ea,    27,  1,     20,2,19900711, 59.2000, -29.0567, 1711,      4.0,   9.8966,  35.0680,2,  35.0690,2,    282.7,2,   -999.0,9,     1.92,2,     6.53,2,     0.12,2,     0.41,2,   -999.0,9, -999.000, -999.000,9,   9.8961
  64TR19900701,AR07Ea,    27,  1,     19,2,19900711, 59.2000, -29.0567, 1711,    120.0,   6.9793,  35.1120,2,-999.0000,9,    274.7,2,    273.6,2,     7.91,2,    15.45,2,     0.02,2,     1.03,2,   -999.0,9, -999.000, -999.000,9,   6.9681
  64TR19900701,AR07Ea,    27,  1,     18,2,19900711, 59.2000, -29.0567, 1711,    222.0,   6.8464,  35.1310,2,  35.1330,2,    278.4,2,   -999.0,9,     7.61,2,    15.26,2,     0.03,2,     1.04,2,   -999.0,9,    2.750, -999.000,2,   6.8258
  64TR19900701,AR07Ea,    27,  1,     17,2,19900711, 59.2000, -29.0567, 1711,    321.0,   6.8004,  35.1360,2,-999.0000,9,    277.9,2,    275.6,2,     7.61,2,    15.00,2,     0.03,2,     1.04,2,   -999.0,9, -999.000, -999.000,9,   6.7705
  64TR19900701,AR07Ea,    27,  1,     16,2,19900711, 59.2000, -29.0567, 1711,    422.0,   6.6964,  35.1330,2,  35.1320,2,    276.2,2,   -999.0,9,     7.72,2,    15.22,2,     0.03,2,     1.04,2,   -999.0,9,    2.600, -999.000,2,   6.6571
  64TR19900701,AR07Ea,    27,  1,     15,2,19900711, 59.2000, -29.0567, 1711,    524.0,   6.5054,  35.1220,2,-999.0000,9,    272.0,2,    271.4,2,     8.02,2,    15.48,2,     0.02,2,     0.99,2,   -999.0,9, -999.000, -999.000,9,   6.4570
  64TR19900701,AR07Ea,    27,  1,     14,2,19900711, 59.2000, -29.0567, 1711,    623.0,   6.3435,  35.1030,2,  35.1040,2,    270.9,2,   -999.0,9,     8.47,2,    15.91,2,     0.02,2,     1.09,2,   -999.0,9,    3.050, -999.000,2,   6.2863
  64TR19900701,AR07Ea,    27,  1,     13,2,19900711, 59.2000, -29.0567, 1711,    726.0,   5.9896,  35.0780,2,-999.0000,9,    261.1,2,    261.4,2,     9.17,2,    16.49,2,     0.03,2,     1.13,2,   -999.0,9, -999.000, -999.000,9,   5.9244
  64TR19900701,AR07Ea,    27,  1,     12,2,19900711, 59.2000, -29.0567, 1711,    830.0,   5.4777,  35.0420,2,  35.0410,2,    255.5,2,   -999.0,9,    10.03,2,    17.32,2,     0.03,2,     1.16,2,   -999.0,9,    2.090, -999.000,2,   5.4058
  64TR19900701,AR07Ea,    27,  1,     11,2,19900711, 59.2000, -29.0567, 1711,    930.0,   4.8818,  34.9970,2,-999.0000,9,    254.2,2,    250.4,2,    10.74,2,    17.85,2,     0.03,2,     1.22,2,   -999.0,9, -999.000, -999.000,9,   4.8049
  64TR19900701,AR07Ea,    27,  1,     10,2,19900711, 59.2000, -29.0567, 1711,   1031.0,   4.5269,  34.9800,2,  34.9800,2,    259.0,2,   -999.0,9,    10.60,2,    17.27,2,     0.02,2,     0.97,3,   -999.0,9,    1.830, -999.000,2,   4.4437
  64TR19900701,AR07Ea,    27,  1,      9,2,19900711, 59.2000, -29.0567, 1711,   1133.0,   4.2250,  34.9690,2,-999.0000,9,    265.4,2,    264.6,2,    10.52,2,    17.05,2,     0.03,2,     1.16,2,   -999.0,9, -999.000, -999.000,9,   4.1353
  64TR19900701,AR07Ea,    27,  1,      8,2,19900711, 59.2000, -29.0567, 1711,   1233.0,   4.0320,  34.9630,2,  34.9620,2,    268.0,2,   -999.0,9,    10.46,2,    16.77,2,     0.01,2,     1.15,2,   -999.0,9,    1.920, -999.000,2,   3.9353
  64TR19900701,AR07Ea,    27,  1,      7,2,19900711, 59.2000, -29.0567, 1711,   1332.0,   3.7311,  34.9420,2,-999.0000,9,    270.6,2,    273.3,2,    10.90,2,    16.93,3,     0.03,2,     1.18,2,   -999.0,9, -999.000, -999.000,9,   3.6288
  64TR19900701,AR07Ea,    27,  1,      6,2,19900711, 59.2000, -29.0567, 1711,   1437.0,   3.7351,  34.9580,2,  34.9580,2,    271.2,2,   -999.0,9,    10.80,2,    16.59,2,     0.02,2,     1.16,2,   -999.0,9,    1.720, -999.000,2,   3.6235
  64TR19900701,AR07Ea,    27,  1,      5,2,19900711, 59.2000, -29.0567, 1711,   1537.0,   3.6021,  34.9710,2,-999.0000,9,    270.8,2,    272.2,2,    10.88,2,    16.24,2,     0.02,2,     0.92,3,   -999.0,9, -999.000, -999.000,9,   3.4831
  64TR19900701,AR07Ea,    27,  1,      4,2,19900711, 59.2000, -29.0567, 1711,   1597.0,   3.4802,  34.9820,2,  34.9820,2,    272.1,2,   -999.0,9,    10.87,2,    16.02,2,     0.02,2,     0.77,4,   -999.0,9,    1.750, -999.000,2,   3.3573
  64TR19900701,AR07Ea,    27,  1,      3,2,19900711, 59.2000, -29.0567, 1711,   1641.0,   3.4462,  34.9830,2,-999.0000,9,    271.8,2,    272.4,2,    10.99,2,    16.20,2,     0.02,2,     1.13,2,   -999.0,9, -999.000, -999.000,9,   3.3198
  64TR19900701,AR07Ea,    27,  1,      2,2,19900711, 59.2000, -29.0567, 1711,   1688.0,   3.4492,  34.9830,2,  34.9830,2,    272.5,2,   -999.0,9,    11.08,2,    16.26,2,     0.02,2,     1.16,2,   -999.0,9,    1.560, -999.000,2,   3.3185
  64TR19900701,AR07Ea,    27,  1,      1,2,19900711, 59.2000, -29.0567, 1711,   1733.0,   3.4502,  34.9820,2,-999.0000,9,    272.6,2,    272.0,2,    10.90,2,    16.08,2,     0.02,2,     1.14,2,   -999.0,9, -999.000, -999.000,9,   3.3155
  64TR19900701,AR07Ea,    28,  1,     18,2,19900712, 59.6150, -29.3367, 1492,      4.0,   9.2598,  34.9820,2,  34.9830,2,    296.3,2,   -999.0,9,     1.06,2,     7.39,2,     0.11,2,     0.52,2,   -999.0,9, -999.000, -999.000,9,   9.2594
  64TR19900701,AR07Ea,    28,  1,     17,2,19900712, 59.6150, -29.3367, 1492,     68.0,   7.4002,  34.9430,2,-999.0000,9,    296.7,2,    296.9,2,     1.71,2,    10.53,2,     0.16,2,     0.82,2,   -999.0,9, -999.000, -999.000,9,   7.3937
  64TR19900701,AR07Ea,    28,  1,     16,2,19900712, 59.6150, -29.3367, 1492,    170.0,   6.0106,  35.0120,2,  35.0130,2,    285.1,2,   -999.0,9,     8.10,2,    15.43,2,     0.20,2,     1.08,2,   -999.0,9, -999.000, -999.000,9,   5.9960
  64TR19900701,AR07Ea,    28,  1,     15,2,19900712, 59.6150, -29.3367, 1492,    272.0,   5.3867,  34.9910,2,-999.0000,9,    283.9,2,    282.0,2,     8.95,2,    16.46,2,     0.04,2,     1.13,2,   -999.0,9, -999.000, -999.000,9,   5.3644
  64TR19900701,AR07Ea,    28,  1,     14,2,19900712, 59.6150, -29.3367, 1492,    374.0,   5.0848,  34.9810,2,  34.9810,2,    275.9,2,   -999.0,9,     9.44,2,    16.86,2,     0.01,2,     1.15,2,   -999.0,9, -999.000, -999.000,9,   5.0548
  64TR19900701,AR07Ea,    28,  1,     13,2,19900712, 59.6150, -29.3367, 1492,    476.0,   4.8938,  34.9760,2,-999.0000,9,    272.0,2,    276.9,2,     9.71,2,    17.09,2,     0.03,2,     1.18,2,   -999.0,9, -999.000, -999.000,9,   4.8560
  64TR19900701,AR07Ea,    28,  1,     12,2,19900712, 59.6150, -29.3367, 1492,    575.0,   4.7119,  34.9820,2,  34.9820,2,    259.3,2,   -999.0,9,    10.31,2,    17.39,2,     0.02,2,     1.19,2,   -999.0,9, -999.000, -999.000,9,   4.6666
  64TR19900701,AR07Ea,    28,  1,     11,2,19900712, 59.6150, -29.3367, 1492,    676.0,   4.6209,  34.9820,2,-999.0000,9,    259.2,2,    256.8,2,    10.60,2,    17.48,2,     0.01,2,     1.20,2,   -999.0,9, -999.000, -999.000,9,   4.5676
  64TR19900701,AR07Ea,    28,  1,     10,2,19900712, 59.6150, -29.3367, 1492,    778.0,   4.3020,  34.9640,2,  34.9640,2,    265.2,2,   -999.0,9,    10.51,2,    17.28,2,     0.02,2,     1.18,2,   -999.0,9, -999.000, -999.000,9,   4.2420
  64TR19900701,AR07Ea,    28,  1,      9,2,19900712, 59.6150, -29.3367, 1492,    880.0,   4.1880,  34.9740,2,-999.0000,9,    264.9,2,    264.4,2,    10.39,2,    16.89,2,     0.03,2,     1.16,2,   -999.0,9, -999.000, -999.000,9,   4.1202
  64TR19900701,AR07Ea,    28,  1,      8,2,19900712, 59.6150, -29.3367, 1492,    981.0,   4.0640,  34.9750,2,  34.9780,2,    266.8,2,   -999.0,9,    10.37,2,    16.74,2,     0.02,2,     1.16,2,   -999.0,9, -999.000, -999.000,9,   3.9886
  64TR19900701,AR07Ea,    28,  1,      7,2,19900712, 59.6150, -29.3367, 1492,   1081.0,   3.9501,  34.9770,2,-999.0000,9,    266.4,2,    267.8,2,    10.35,2,    16.60,2,     0.03,2,     1.17,2,   -999.0,9, -999.000, -999.000,9,   3.8672
  64TR19900701,AR07Ea,    28,  1,      6,2,19900712, 59.6150, -29.3367, 1492,   1183.0,   3.9351,  34.9770,2,  34.9780,2,    265.9,2,   -999.0,9,    10.39,2,    16.48,2,     0.02,2,     1.14,2,   -999.0,9, -999.000, -999.000,9,   3.8436
  64TR19900701,AR07Ea,    28,  1,      5,2,19900712, 59.6150, -29.3367, 1492,   1284.0,   3.9141,  34.9770,2,-999.0000,9,    267.4,2,    268.4,2,    10.56,2,    16.53,2,     0.03,2,     1.16,2,   -999.0,9, -999.000, -999.000,9,   3.8141
  64TR19900701,AR07Ea,    28,  1,      4,2,19900712, 59.6150, -29.3367, 1492,   1334.0,   3.9141,  34.9760,2,  34.9770,2,    267.4,2,   -999.0,9,    10.51,2,    16.53,2,     0.03,2,     1.15,2,   -999.0,9, -999.000, -999.000,9,   3.8097
  64TR19900701,AR07Ea,    28,  1,      3,2,19900712, 59.6150, -29.3367, 1492,   1385.0,   3.9151,  34.9770,2,-999.0000,9,    268.0,2,    268.2,2,    10.59,2,    16.48,2,     0.03,2,     1.14,2,   -999.0,9, -999.000, -999.000,9,   3.8061
  64TR19900701,AR07Ea,    28,  1,      2,2,19900712, 59.6150, -29.3367, 1492,   1434.0,   3.9051,  34.9770,2,  34.9770,2,    267.6,2,   -999.0,9,    10.53,2,    16.55,2,     0.03,2,     1.15,2,   -999.0,9, -999.000, -999.000,9,   3.7919
  64TR19900701,AR07Ea,    28,  1,      1,2,19900712, 59.6150, -29.3367, 1492,   1490.0,   3.8991,  34.9770,2,-999.0000,9,    268.2,2,    268.8,2,    10.58,2,    16.66,2,     0.03,2,     1.15,2,   -999.0,9, -999.000, -999.000,9,   3.7809
  64TR19900701,AR07Ea,    29,  1,     16,2,19900712, 59.9983, -29.6367, 1226,      4.0,   8.9039,  35.0030,2,  35.0030,2,    285.9,2,   -999.0,9,     2.11,2,     8.52,2,     0.13,2,     0.58,2,   -999.0,9, -999.000, -999.000,9,   8.9035
  64TR19900701,AR07Ea,    29,  1,     15,2,19900712, 59.9983, -29.6367, 1226,    100.0,   6.7874,  35.1050,2,-999.0000,9,    278.5,2,    276.0,2,     7.85,2,    15.33,2,     0.04,2,     1.03,2,   -999.0,9, -999.000, -999.000,9,   6.7782
  64TR19900701,AR07Ea,    29,  1,     14,2,19900712, 59.9983, -29.6367, 1226,    201.0,   6.7464,  35.1270,2,  35.1260,2,    278.7,2,   -999.0,9,     7.66,2,    15.07,2,     0.03,2,     1.05,2,   -999.0,9, -999.000, -999.000,9,   6.7279
  64TR19900701,AR07Ea,    29,  1,     13,2,19900712, 59.9983, -29.6367, 1226,    302.0,   6.6654,  35.1320,2,-999.0000,9,    277.0,2,    274.1,2,     7.79,2,    15.12,2,     0.03,2,     1.04,2,   -999.0,9, -999.000, -999.000,9,   6.6376
  64TR19900701,AR07Ea,    29,  1,     12,2,19900712, 59.9983, -29.6367, 1226,    402.0,   6.4954,  35.1230,2,  35.1220,2,   2778.0,2,   -999.0,9,     7.91,2,    15.35,2,     0.02,2,     1.06,2,   -999.0,9, -999.000, -999.000,9,   6.4586
  64TR19900701,AR07Ea,    29,  1,     11,2,19900712, 59.9983, -29.6367, 1226,    504.0,   6.2965,  35.1040,2,-999.0000,9,    271.0,2,    270.2,2,     8.28,2,    15.69,2,     0.02,2,     1.09,2,   -999.0,9, -999.000, -999.000,9,   6.2508
  64TR19900701,AR07Ea,    29,  1,     10,2,19900712, 59.9983, -29.6367, 1226,    605.0,   5.8586,  35.0640,2,  35.0630,2,    260.7,2,   -999.0,9,     9.52,2,    16.82,2,     0.03,2,     1.16,2,   -999.0,9, -999.000, -999.000,9,   5.8054
  64TR19900701,AR07Ea,    29,  1,      9,2,19900712, 59.9983, -29.6367, 1226,    706.0,   5.2307,  35.0010,2,-999.0000,9,    269.8,2,    268.7,2,     9.66,2,    16.83,2,     0.03,2,     1.16,2,   -999.0,9, -999.000, -999.000,9,   5.1716
  64TR19900701,AR07Ea,    29,  1,      8,2,19900712, 59.9983, -29.6367, 1226,    808.0,   4.7309,  34.9780,2,  34.9760,2,    265.9,2,   -999.0,9,    10.27,2,    17.08,2,     0.02,2,     1.21,2,   -999.0,9, -999.000, -999.000,9,   4.6657
  64TR19900701,AR07Ea,    29,  1,      7,2,19900712, 59.9983, -29.6367, 1226,    906.0,   4.4399,  34.9740,2,-999.0000,9,    262.4,2,    264.0,2,    10.60,2,    17.02,2,     0.03,2,     1.18,2,   -999.0,9, -999.000, -999.000,9,   4.3682
  64TR19900701,AR07Ea,    29,  1,      6,2,19900712, 59.9983, -29.6367, 1226,   1009.0,   4.3130,  34.9760,2,  34.9750,2,    262.3,2,   -999.0,9,    10.76,2,    16.98,2,     0.02,2,     1.18,2,   -999.0,9, -999.000, -999.000,9,   4.2334
  64TR19900701,AR07Ea,    29,  1,      5,2,19900712, 59.9983, -29.6367, 1226,   1060.0,   4.2300,  34.9710,2,-999.0000,9,    263.7,2,    264.2,2,    10.65,2,    16.96,2,     0.02,2,     1.20,2,   -999.0,9, -999.000, -999.000,9,   4.1466
  64TR19900701,AR07Ea,    29,  1,      4,2,19900712, 59.9983, -29.6367, 1226,   1110.0,   4.1920,  34.9700,2,  34.9700,2,    262.5,2,   -999.0,9,    10.81,2,    17.10,2,     0.03,2,     1.18,2,   -999.0,9, -999.000, -999.000,9,   4.1046
  64TR19900701,AR07Ea,    29,  1,      3,2,19900712, 59.9983, -29.6367, 1226,   1160.0,   4.1940,  34.9700,2,-999.0000,9,    263.0,2,    264.5,2,    10.76,2,    17.14,2,     0.04,2,     1.20,2,   -999.0,9, -999.000, -999.000,9,   4.1022
  64TR19900701,AR07Ea,    29,  1,      2,2,19900712, 59.9983, -29.6367, 1226,   1212.0,   4.1990,  34.9710,2,  34.9720,2,    263.9,2,   -999.0,9,    10.73,2,    16.99,2,     0.03,2,     1.19,2,   -999.0,9, -999.000, -999.000,9,   4.1026
  64TR19900701,AR07Ea,    29,  1,      1,2,19900712, 59.9983, -29.6367, 1226,   1245.0,   4.1970,  34.9700,2,-999.0000,9,    263.2,2,    264.8,2,    10.68,2,    16.99,2,     0.02,2,     1.17,2,   -999.0,9, -999.000, -999.000,9,   4.0977