BOTTLE,20081222PRINUNIVRMKPRINUNIVRMK
EXPOCODE,SECT_ID,STNNBR,CASTNO,BTLNBR,BTLNBR_FLAG_W,DATE,LATITUDE,LONGITUDE,DEPTH,CTDPRS,CTDTMP,CTDSAL,CTDSAL_FLAG_W,SALNTY,SALNTY_FLAG_W,CTDOXY,CTDOXY_FLAG_W,OXYGEN,OXYGEN_FLAG_W,SILCAT,SILCAT_FLAG_W,NITRAT,NITRAT_FLAG_W,NITRIT,NITRIT_FLAG_W,PHSPHT,PHSPHT_FLAG_W,TCARBN,TCARBN_FLAG_W,TRITUM,TRITER,TRITUM_FLAG_W,THETA
,,,,,,,,,METERS,DBARS,ITS-90,PSS-78,,PSS-78,,UMOL/KG,,UMOL/KG,,UMOL/KG,,UMOL/KG,,UMOL/KG,,UMOL/KG,,UMOL/KG,,TU,TU,,DEGC
  64TR19900701,AR07Ea,    23,  1,     24,2,19900709, 57.2967, -27.8333, 2684,      3.0,  10.3235,  35.0620,2,  35.0620,2,    283.5,2,   -999.0,9,     1.94,2,     6.14,2,     0.09,2,     0.49,2,   -999.0,9,    2.330, -999.000,2,  10.3231
  64TR19900701,AR07Ea,    23,  1,     23,2,19900709, 57.2967, -27.8333, 2684,     98.0,   7.6072,  35.1060,2,-999.0000,9,    272.5,2,    270.5,2,     7.76,2,    14.79,2,     0.02,2,     1.00,2,   -999.0,9, -999.000, -999.000,9,   7.5976
  64TR19900701,AR07Ea,    23,  1,     22,2,19900709, 57.2967, -27.8333, 2684,    202.0,   6.7694,  35.0440,2,  35.0460,2,    270.9,2,   -999.0,9,     8.36,2,    15.64,2,     0.03,2,     1.08,2,   -999.0,9,    2.470, -999.000,2,   6.7508
  64TR19900701,AR07Ea,    23,  1,     21,2,19900709, 57.2967, -27.8333, 2684,    301.0,   6.6424,  35.0750,2,-999.0000,9,    269.8,2,    267.2,2,     8.41,2,    15.81,2,     0.00,2,     1.07,2,   -999.0,9, -999.000, -999.000,9,   6.6148
  64TR19900701,AR07Ea,    23,  1,     20,2,19900709, 57.2967, -27.8333, 2684,    401.0,   6.2145,  35.0370,2,  35.0480,2,    254.4,2,   -999.0,9,     9.20,2,    16.51,2,     0.01,2,     1.15,2,   -999.0,9,    2.450, -999.000,2,   6.1787
  64TR19900701,AR07Ea,    23,  1,     19,2,19900709, 57.2967, -27.8333, 2684,    501.0,   5.5777,  34.9810,2,-999.0000,9,    243.4,2,    244.7,2,    10.57,2,    17.11,2,     0.30,3,     0.79,4,   -999.0,9, -999.000, -999.000,9,   5.5352
  64TR19900701,AR07Ea,    23,  1,     18,2,19900709, 57.2967, -27.8333, 2684,    754.0,   4.5849,  34.9580,2,  34.9580,2,    250.0,2,   -999.0,9,    11.35,2,    18.17,2,     0.02,2,     1.24,2,   -999.0,9,    1.680, -999.000,2,   4.5253
  64TR19900701,AR07Ea,    23,  1,     17,2,19900709, 57.2967, -27.8333, 2684,   1007.0,   4.0190,  34.9240,2,-999.0000,9,    264.0,2,    265.5,2,    10.89,2,    17.43,2,     0.01,2,     1.20,2,   -999.0,9, -999.000, -999.000,9,   3.9419
  64TR19900701,AR07Ea,    23,  1,     16,2,19900709, 57.2967, -27.8333, 2684,   1263.0,   3.6661,  34.8980,2,  34.8980,2,    274.0,2,   -999.0,9,    10.80,2,    17.30,2,     0.00,2,     1.17,2,   -999.0,9,    1.790, -999.000,2,   3.5704
  64TR19900701,AR07Ea,    23,  1,     15,2,19900709, 57.2967, -27.8333, 2684,   1491.0,   3.5501,  34.8980,2,-999.0000,9,    276.5,2,    277.3,2,    10.90,2,    17.34,2,     0.00,2,     1.18,2,   -999.0,9, -999.000, -999.000,9,   3.4359
  64TR19900701,AR07Ea,    23,  1,     14,2,19900709, 57.2967, -27.8333, 2684,   1592.0,   3.5332,  34.9050,2,  34.9050,2,    275.8,2,   -999.0,9,    11.11,2,    17.07,2,     0.00,2,     1.18,2,   -999.0,9,    1.530, -999.000,2,   3.4103
  64TR19900701,AR07Ea,    23,  1,     13,2,19900709, 57.2967, -27.8333, 2684,   1695.0,   3.6261,  34.9370,2,-999.0000,9,    272.3,2,    272.7,2,    11.22,2,    16.74,2,     0.00,2,     1.15,2,   -999.0,9, -999.000, -999.000,9,   3.4927
  64TR19900701,AR07Ea,    23,  1,     12,2,19900709, 57.2967, -27.8333, 2684,   1798.0,   3.6031,  34.9530,2,  34.9550,2,    271.5,2,   -999.0,9,    11.33,2,    16.64,2,     0.02,2,     1.16,2,   -999.0,9,    1.540, -999.000,2,   3.4605
  64TR19900701,AR07Ea,    23,  1,     11,2,19900709, 57.2967, -27.8333, 2684,   1898.0,   3.4922,  34.9570,2,-999.0000,9,    271.2,2,    271.4,2,    11.92,2,    16.63,2,     0.01,2,     1.14,2,   -999.0,9, -999.000, -999.000,9,   3.3418
  64TR19900701,AR07Ea,    23,  1,     10,2,19900709, 57.2967, -27.8333, 2684,   2002.0,   3.3452,  34.9510,2,  34.9500,2,    271.2,2,   -999.0,9,    13.25,2,    16.74,2,     0.00,2,     1.13,2,   -999.0,9,    1.080, -999.000,2,   3.1872
  64TR19900701,AR07Ea,    23,  1,      9,2,19900709, 57.2967, -27.8333, 2684,   2100.0,   3.2472,  34.9560,2,-999.0000,9,    271.1,2,    270.0,2,    13.72,2,    16.87,2,     0.00,2,     1.15,2,   -999.0,9, -999.000, -999.000,9,   3.0815
  64TR19900701,AR07Ea,    23,  1,      8,2,19900709, 57.2967, -27.8333, 2684,   2206.0,   3.1592,  34.9620,2,  34.9630,2,    270.9,2,   -999.0,9,    14.30,2,    16.79,2,     0.00,2,     1.17,2,   -999.0,9,    1.100, -999.000,2,   2.9848
  64TR19900701,AR07Ea,    23,  1,      7,2,19900709, 57.2967, -27.8333, 2684,   2306.0,   3.0713,  34.9680,2,-999.0000,9,    271.1,2,    270.5,2,    14.34,2,    16.58,2,     0.01,2,     0.66,4,   -999.0,9, -999.000, -999.000,9,   2.8888
  64TR19900701,AR07Ea,    23,  1,      6,2,19900709, 57.2967, -27.8333, 2684,   2411.0,   2.9263,  34.9680,2,  34.9680,2,    270.3,2,   -999.0,9,    16.06,2,    16.64,2,     0.04,2,     1.15,2,   -999.0,9,    1.050, -999.000,2,   2.7362
  64TR19900701,AR07Ea,    23,  1,      5,2,19900709, 57.2967, -27.8333, 2684,   2512.0,   2.8253,  34.9680,2,-999.0000,9,    272.0,2,    271.5,2,    16.19,2,    16.60,2,     0.01,2,     1.17,2,   -999.0,9, -999.000, -999.000,9,   2.6273
  64TR19900701,AR07Ea,    23,  1,      4,2,19900709, 57.2967, -27.8333, 2684,   2561.0,   2.7823,  34.9690,2,  34.9700,2,    272.1,2,   -999.0,9,    16.23,2,    16.43,2,     0.05,3,     1.16,2,   -999.0,9,    1.110, -999.000,2,   2.5803
  64TR19900701,AR07Ea,    23,  1,      3,2,19900709, 57.2967, -27.8333, 2684,   2614.0,   2.7463,  34.9710,2,-999.0000,9,    272.1,2,    271.4,2,    15.67,2,    16.44,2,     0.01,2,     1.16,2,   -999.0,9, -999.000, -999.000,9,   2.5398
  64TR19900701,AR07Ea,    23,  1,      2,2,19900709, 57.2967, -27.8333, 2684,   2665.0,   2.7263,  34.9710,2,  34.9720,2,    272.3,2,    271.5,2,    16.00,2,    16.37,2,     0.01,2,     1.16,2,   -999.0,9,    1.300, -999.000,2,   2.5151
  64TR19900701,AR07Ea,    23,  1,      1,2,19900709, 57.2967, -27.8333, 2684,   2717.0,   2.7313,  34.9720,2,-999.0000,9,    272.8,2,   -999.0,9,    15.63,2,    16.51,2,     0.22,3,     1.33,3,   -999.0,9, -999.000, -999.000,9,   2.5149
  64TR19900701,AR07Ea,    24,  1,     24,2,19900711, 57.7700, -28.1767, 2264,      3.0,   9.7757,  35.0110,2,  35.0120,2,    286.3,2,   -999.0,9,     2.32,2,     7.27,2,     0.12,2,     0.56,2,   -999.0,9, -999.000, -999.000,9,   9.7754
  64TR19900701,AR07Ea,    24,  1,     23,2,19900711, 57.7700, -28.1767, 2264,    100.0,   7.5502,  35.1230,2,-999.0000,9,    266.8,2,    268.8,2,     7.86,2,    15.01,2,     0.06,2,     1.01,2,   -999.0,9, -999.000, -999.000,9,   7.5405
  64TR19900701,AR07Ea,    24,  1,     22,2,19900711, 57.7700, -28.1767, 2264,    199.0,   7.0203,  35.0940,2,  35.0950,2,    274.8,2,   -999.0,9,     8.08,2,    15.31,2,     0.01,2,     1.03,2,   -999.0,9, -999.000, -999.000,9,   7.0016
  64TR19900701,AR07Ea,    24,  1,     21,2,19900711, 57.7700, -28.1767, 2264,    299.0,   6.8054,  35.1020,2,-999.0000,9,    277.0,2,    276.5,2,     7.68,2,    15.08,2,     0.01,2,     1.03,2,   -999.0,9, -999.000, -999.000,9,   6.7776
  64TR19900701,AR07Ea,    24,  1,     20,2,19900711, 57.7700, -28.1767, 2264,    403.0,   6.7544,  35.1180,2,  35.1180,2,    276.3,2,   -999.0,9,     7.67,2,    15.06,2,     0.00,2,     1.04,2,   -999.0,9, -999.000, -999.000,9,   6.7167
  64TR19900701,AR07Ea,    24,  1,     19,2,19900711, 57.7700, -28.1767, 2264,    506.0,   6.6744,  35.1220,2,-999.0000,9,    277.8,2,    276.4,2,     7.69,2,    15.25,2,     0.00,2,     1.05,2,   -999.0,9, -999.000, -999.000,9,   6.6271
  64TR19900701,AR07Ea,    24,  1,     18,2,19900711, 57.7700, -28.1767, 2264,    758.0,   5.2977,  35.0020,2,  35.0030,2,    242.5,2,   -999.0,9,    11.21,2,    18.43,2,     0.00,2,     1.27,2,   -999.0,9, -999.000, -999.000,9,   5.2335
  64TR19900701,AR07Ea,    24,  1,     17,2,19900711, 57.7700, -28.1767, 2264,    858.0,   4.6899,  34.9540,2,-999.0000,9,    250.0,2,    248.1,2,    11.15,2,    18.36,2,     0.00,2,     1.26,2,   -999.0,9, -999.000, -999.000,9,   4.6207
  64TR19900701,AR07Ea,    24,  1,     16,2,19900711, 57.7700, -28.1767, 2264,    956.0,   4.3270,  34.9420,2,  34.9430,2,    255.9,2,   -999.0,9,    11.08,2,    18.07,2,     0.00,2,     1.23,2,   -999.0,9, -999.000, -999.000,9,   4.2519
  64TR19900701,AR07Ea,    24,  1,     15,2,19900711, 57.7700, -28.1767, 2264,   1060.0,   4.0700,  34.9290,2,-999.0000,9,    264.9,2,    263.9,2,    11.00,2,    17.76,2,     0.00,2,     1.08,3,   -999.0,9, -999.000, -999.000,9,   3.9880
  64TR19900701,AR07Ea,    24,  1,     14,2,19900711, 57.7700, -28.1767, 2264,   1164.0,   3.8451,  34.9090,2,  34.9100,2,    270.5,2,   -999.0,9,    11.01,2,    17.65,2,     0.00,2,     1.21,2,   -999.0,9, -999.000, -999.000,9,   3.7562
  64TR19900701,AR07Ea,    24,  1,     13,2,19900711, 57.7700, -28.1767, 2264,   1264.0,   3.7121,  34.9020,2,-999.0000,9,    273.6,2,    273.6,2,    10.95,2,    17.54,2,     0.00,2,     1.22,2,   -999.0,9, -999.000, -999.000,9,   3.6159
  64TR19900701,AR07Ea,    24,  1,     12,2,19900711, 57.7700, -28.1767, 2264,   1366.0,   3.6311,  34.8980,2,  34.8980,2,    275.6,2,   -999.0,9,    10.92,2,    17.27,2,     0.00,2,     1.19,2,   -999.0,9, -999.000, -999.000,9,   3.5269
  64TR19900701,AR07Ea,    24,  1,     11,2,19900711, 57.7700, -28.1767, 2264,   1470.0,   3.5591,  34.8960,2,-999.0000,9,    278.2,2,    277.4,2,    10.92,2,    17.26,2,     0.00,2,     1.20,2,   -999.0,9, -999.000, -999.000,9,   3.4467
  64TR19900701,AR07Ea,    24,  1,     10,2,19900711, 57.7700, -28.1767, 2264,   1569.0,   3.5032,  34.9010,2,  34.9000,2,    278.7,2,   -999.0,9,    11.14,2,    17.18,2,     0.00,2,     1.20,2,   -999.0,9, -999.000, -999.000,9,   3.3827
  64TR19900701,AR07Ea,    24,  1,      9,2,19900711, 57.7700, -28.1767, 2264,   1671.0,   3.5002,  34.9110,2,-999.0000,9,    276.2,2,    275.9,2,    11.36,2,    17.26,2,     0.00,2,     1.20,2,   -999.0,9, -999.000, -999.000,9,   3.3706
  64TR19900701,AR07Ea,    24,  1,      8,2,19900711, 57.7700, -28.1767, 2264,   1772.0,   3.4862,  34.9260,2,  34.9260,2,    274.0,2,   -999.0,9,    11.81,2,    17.04,2,     0.00,2,     1.20,2,   -999.0,9, -999.000, -999.000,9,   3.3476
  64TR19900701,AR07Ea,    24,  1,      7,2,19900711, 57.7700, -28.1767, 2264,   1873.0,   3.4482,  34.9390,2,-999.0000,9,    272.9,2,    273.0,2,    12.39,2,    17.09,2,     0.00,2,     1.21,2,   -999.0,9, -999.000, -999.000,9,   3.3008
  64TR19900701,AR07Ea,    24,  1,      6,2,19900711, 57.7700, -28.1767, 2264,   1977.0,   3.3862,  34.9470,2,  34.9480,2,    271.8,2,   -999.0,9,    12.78,2,    16.92,2,     0.00,2,     1.19,2,   -999.0,9, -999.000, -999.000,9,   3.2300
  64TR19900701,AR07Ea,    24,  1,      5,2,19900711, 57.7700, -28.1767, 2264,   2079.0,   3.2722,  34.9640,2,-999.0000,9,    272.9,2,    270.8,2,    13.01,2,    16.10,3,     0.06,3,     1.03,3,   -999.0,9, -999.000, -999.000,9,   3.1081
  64TR19900701,AR07Ea,    24,  1,      4,2,19900711, 57.7700, -28.1767, 2264,   2130.0,   3.1612,  34.9650,2,  34.9650,2,    273.0,2,   -999.0,9,    13.94,2,    16.67,2,     0.00,2,     1.18,2,   -999.0,9, -999.000, -999.000,9,   2.9940
  64TR19900701,AR07Ea,    24,  1,      3,2,19900711, 57.7700, -28.1767, 2264,   2180.0,   3.0933,  34.9660,2,-999.0000,9,    271.7,2,    271.7,2,    14.54,2,    16.73,2,     0.00,2,     1.18,2,   -999.0,9, -999.000, -999.000,9,   2.9225
  64TR19900701,AR07Ea,    24,  1,      2,2,19900711, 57.7700, -28.1767, 2264,   2233.0,   2.9513,  34.9690,2,  34.9700,2,    272.3,2,   -999.0,9,    14.96,2,    16.60,2,     0.00,2,     1.18,2,   -999.0,9, -999.000, -999.000,9,   2.7778
  64TR19900701,AR07Ea,    24,  1,      1,2,19900711, 57.7700, -28.1767, 2264,   2283.0,   2.9003,  34.9710,2,-999.0000,9,    272.4,2,    270.8,2,    14.72,2,    16.60,2,     0.00,2,     1.16,2,   -999.0,9, -999.000, -999.000,9,   2.7229
  64TR19900701,AR07Ea,    25,  1,     24,2,19900711, 58.2650, -28.4967, 2265,      4.0,   9.8126,  35.0440,2,  35.0460,2,    281.4,2,   -999.0,9,     1.77,2,     6.96,2,     0.10,2,     0.51,2,   -999.0,9,    2.680, -999.000,2,   9.8121
  64TR19900701,AR07Ea,    25,  1,     23,2,19900711, 58.2650, -28.4967, 2265,     99.0,   7.5162,  35.1290,2,-999.0000,9,    271.7,2,    269.9,2,     7.89,2,    15.25,2,     0.07,2,     1.13,2,   2137.4,2, -999.000, -999.000,9,   7.5066
  64TR19900701,AR07Ea,    25,  1,     22,2,19900711, 58.2650, -28.4967, 2265,    200.0,   6.9423,  35.0930,2,  35.0930,2,    276.4,2,   -999.0,9,     8.04,2,    15.32,2,     0.01,2,     1.08,2,   -999.0,9,    2.140, -999.000,2,   6.9236
  64TR19900701,AR07Ea,    25,  1,     21,2,19900711, 58.2650, -28.4967, 2265,    301.0,   6.7514,  35.1050,2,-999.0000,9,    279.2,2,    275.3,2,     7.88,2,    15.40,2,     0.00,2,     1.05,2,   2136.5,2, -999.000, -999.000,9,   6.7235
  64TR19900701,AR07Ea,    25,  1,     20,2,19900711, 58.2650, -28.4967, 2265,    400.0,   6.6574,  35.1060,2,  35.1060,2,    279.7,2,   -999.0,9,     7.89,2,    15.49,2,     0.00,2,     1.08,2,   -999.0,9,    2.310, -999.000,2,   6.6203
  64TR19900701,AR07Ea,    25,  1,     19,2,19900711, 58.2650, -28.4967, 2265,    502.0,   6.6474,  35.1150,2,-999.0000,9,    279.3,2,    275.2,2,     7.81,2,    15.31,2,     0.00,2,     1.06,2,   2138.8,2, -999.000, -999.000,9,   6.6006
  64TR19900701,AR07Ea,    25,  1,     18,2,19900711, 58.2650, -28.4967, 2265,    757.0,   5.5587,  35.0060,2,  35.0100,2,    239.6,2,   -999.0,9,    11.03,2,    18.37,2,     0.00,2,     1.26,2,   -999.0,9,    1.950, -999.000,2,   5.4931
  64TR19900701,AR07Ea,    25,  1,     17,2,19900711, 58.2650, -28.4967, 2265,    858.0,   5.0548,  34.9950,2,-999.0000,9,    246.3,2,    250.0,2,    10.86,2,    18.01,2,     0.00,2,     1.24,2,   2165.1,2, -999.000, -999.000,9,   4.9831
  64TR19900701,AR07Ea,    25,  1,     16,2,19900711, 58.2650, -28.4967, 2265,    957.0,   4.4849,  34.9500,2,  34.9530,2,    252.9,2,   -999.0,9,    11.21,2,    18.40,2,     0.00,2,     1.33,2,   -999.0,9,    1.900, -999.000,2,   4.4085
  64TR19900701,AR07Ea,    25,  1,     15,2,19900711, 58.2650, -28.4967, 2265,   1058.0,   4.1710,  34.9300,2,-999.0000,9,    260.2,2,    260.1,2,    11.04,2,    18.05,2,     0.00,2,     1.24,2,   2157.3,2, -999.000, -999.000,9,   4.0883
  64TR19900701,AR07Ea,    25,  1,     14,2,19900711, 58.2650, -28.4967, 2265,   1164.0,   3.9770,  34.9220,2,  34.9250,2,    267.2,2,   -999.0,9,    11.00,2,    17.73,2,     0.00,2,     1.24,2,   -999.0,9,    1.890, -999.000,2,   3.8869
  64TR19900701,AR07Ea,    25,  1,     13,2,19900711, 58.2650, -28.4967, 2265,   1262.0,   3.8351,  34.9140,2,-999.0000,9,    270.6,2,    270.2,2,    10.93,2,    17.52,2,     0.00,2,     1.22,2,   -999.0,9, -999.000, -999.000,9,   3.7379
  64TR19900701,AR07Ea,    25,  1,     12,2,19900711, 58.2650, -28.4967, 2265,   1365.0,   3.7431,  34.9130,2,  34.9150,2,    273.0,2,   -999.0,9,    10.82,2,    17.36,2,     0.00,2,     1.20,2,   -999.0,9,    1.910, -999.000,2,   3.6378
  64TR19900701,AR07Ea,    25,  1,     11,2,19900711, 58.2650, -28.4967, 2265,   1464.0,   3.6621,  34.9150,2,-999.0000,9,    275.0,2,    274.4,2,    10.87,2,    17.21,2,     0.01,2,     1.25,2,   2150.7,2, -999.000, -999.000,9,   3.5490
  64TR19900701,AR07Ea,    25,  1,     10,2,19900711, 58.2650, -28.4967, 2265,   1570.0,   3.5831,  34.9220,2,  34.9230,2,    274.8,2,   -999.0,9,    11.19,2,    17.12,2,     0.00,2,     1.20,2,   -999.0,9,    1.920, -999.000,2,   3.4615
  64TR19900701,AR07Ea,    25,  1,      9,2,19900711, 58.2650, -28.4967, 2265,   1671.0,   3.5641,  34.9400,2,-999.0000,9,    273.1,2,    271.9,2,    11.44,2,    17.00,2,     0.00,2,     1.18,2,   2150.5,2, -999.000, -999.000,9,   3.4336
  64TR19900701,AR07Ea,    25,  1,      8,2,19900711, 58.2650, -28.4967, 2265,   1773.0,   3.5022,  34.9560,2,  34.9570,2,    272.0,2,   -999.0,9,    11.68,2,    16.79,2,     0.00,2,     1.16,2,   -999.0,9,    1.570, -999.000,2,   3.3632
  64TR19900701,AR07Ea,    25,  1,      7,2,19900711, 58.2650, -28.4967, 2265,   1874.0,   3.4192,  34.9640,2,-999.0000,9,    271.6,2,    271.7,2,    11.94,2,    16.65,2,     0.00,2,     1.18,2,   2153.0,2, -999.000, -999.000,9,   3.2720
  64TR19900701,AR07Ea,    25,  1,      6,2,19900711, 58.2650, -28.4967, 2265,   1977.0,   3.1962,  34.9800,2,  34.9800,2,    272.9,2,   -999.0,9,    11.90,2,    16.23,2,     0.00,2,     1.13,2,   -999.0,9,    1.700, -999.000,2,   3.0427
  64TR19900701,AR07Ea,    25,  1,      5,2,19900711, 58.2650, -28.4967, 2265,   2076.0,   3.0353,  34.9790,2,-999.0000,9,    273.0,2,    273.9,2,    12.36,2,    16.20,2,     0.00,2,     1.15,2,   2153.2,2, -999.000, -999.000,9,   2.8751
  64TR19900701,AR07Ea,    25,  1,      4,2,19900711, 58.2650, -28.4967, 2265,   2129.0,   2.9723,  34.9780,2,  34.9790,2,    273.9,2,   -999.0,9,    12.73,2,    16.16,2,     0.00,2,     1.13,2,   -999.0,9,    1.380, -999.000,2,   2.8081
  64TR19900701,AR07Ea,    25,  1,      3,2,19900711, 58.2650, -28.4967, 2265,   2180.0,   2.9373,  34.9780,2,-999.0000,9,    273.1,2,    273.5,2,    12.79,2,    16.20,2,     0.00,2,     1.13,2,   2156.6,2, -999.000, -999.000,9,   2.7689
  64TR19900701,AR07Ea,    25,  1,      2,2,19900711, 58.2650, -28.4967, 2265,   2230.0,   2.9473,  34.9780,2,  34.9800,2,    273.6,2,   -999.0,9,    12.81,2,    16.15,2,     0.00,2,     1.10,2,   -999.0,9,    1.510, -999.000,2,   2.7741
  64TR19900701,AR07Ea,    25,  1,      1,2,19900711, 58.2650, -28.4967, 2265,   2275.0,   2.9373,  34.9780,2,-999.0000,9,    273.4,2,    272.7,2,    12.52,2,    16.27,2,     0.02,2,     1.15,2,   2157.0,2, -999.000, -999.000,9,   2.7600