BOTTLE,20081222PRINUNIVRMKPRINUNIVRMK
EXPOCODE,SECT_ID,STNNBR,CASTNO,BTLNBR,BTLNBR_FLAG_W,DATE,LATITUDE,LONGITUDE,DEPTH,CTDPRS,CTDTMP,CTDSAL,CTDSAL_FLAG_W,SALNTY,SALNTY_FLAG_W,CTDOXY,CTDOXY_FLAG_W,OXYGEN,OXYGEN_FLAG_W,SILCAT,SILCAT_FLAG_W,NITRAT,NITRAT_FLAG_W,NITRIT,NITRIT_FLAG_W,PHSPHT,PHSPHT_FLAG_W,TCARBN,TCARBN_FLAG_W,TRITUM,TRITER,TRITUM_FLAG_W,THETA
,,,,,,,,,METERS,DBARS,ITS-90,PSS-78,,PSS-78,,UMOL/KG,,UMOL/KG,,UMOL/KG,,UMOL/KG,,UMOL/KG,,UMOL/KG,,UMOL/KG,,TU,TU,,DEGC
  64TR19900701,AR07Ea,     5,  1,     24,2,19900702, 52.3317, -16.4650, 3554,      4.0,  13.6817,  35.5340,2,  35.5350,2,   -999.0,9,   -999.0,9,     0.46,2,     1.07,2,     0.08,2,     0.17,2,   -999.0,9, -999.000, -999.000,9,  13.6811
  64TR19900701,AR07Ea,     5,  1,     23,2,19900702, 52.3317, -16.4650, 3554,     98.0,  11.8572,  35.6410,2,-999.0000,9,   -999.0,9,    248.6,2,     3.76,2,     9.65,2,     0.02,2,     0.56,2,   2108.2,2, -999.000, -999.000,9,  11.8445
  64TR19900701,AR07Ea,     5,  1,     22,2,19900702, 52.3317, -16.4650, 3554,    199.0,  11.3933,  35.5710,2,  35.5710,2,   -999.0,9,   -999.0,9,     4.28,2,    10.70,2,     0.01,2,     0.61,2,   -999.0,9, -999.000, -999.000,9,  11.3680
  64TR19900701,AR07Ea,     5,  1,     21,2,19900702, 52.3317, -16.4650, 3554,    299.0,  11.1423,  35.5340,2,-999.0000,9,   -999.0,9,    283.3,2,     4.48,2,    10.78,2,     0.02,2,     0.64,2,   2113.1,2, -999.000, -999.000,9,  11.1047
  64TR19900701,AR07Ea,     5,  1,     20,2,19900702, 52.3317, -16.4650, 3554,    403.0,  10.5715,  35.4370,2,  35.4370,2,   -999.0,9,   -999.0,9,     5.54,2,    12.19,2,     0.02,2,     0.78,2,   -999.0,9, -999.000, -999.000,9,  10.5223
  64TR19900701,AR07Ea,     5,  1,     19,2,19900702, 52.3317, -16.4650, 3554,    504.0,  10.3635,  35.4410,2,-999.0000,9,   -999.0,9,    243.1,2,     5.05,2,    11.81,2,     0.01,2,     0.66,2,   2119.4,2, -999.000, -999.000,9,  10.3025
  64TR19900701,AR07Ea,     5,  1,     18,2,19900702, 52.3317, -16.4650, 3554,    754.0,   8.5919,  35.2040,2,  35.2040,2,   -999.0,9,   -999.0,9,     7.41,2,    14.56,2,     0.01,2,     0.90,2,   -999.0,9, -999.000, -999.000,9,   8.5094
  64TR19900701,AR07Ea,     5,  1,     17,2,19900702, 52.3317, -16.4650, 3554,   1009.0,   6.9293,  35.1220,2,-999.0000,9,   -999.0,9,    217.6,2,    10.71,2,    18.26,2,     0.02,2,     1.18,2,   2157.4,2, -999.000, -999.000,9,   6.8296
  64TR19900701,AR07Ea,     5,  1,     16,4,19900702, 52.3317, -16.4650, 3554,   1259.0,   5.4667,  35.0730,2,-999.0000,9,   -999.0,9,   -999.0,9,  -999.00,9,  -999.00,9,  -999.00,9,  -999.00,9,   -999.0,9, -999.000, -999.000,9,   5.3539
  64TR19900701,AR07Ea,     5,  1,     15,2,19900702, 52.3317, -16.4650, 3554,   1516.0,   4.1920,  34.9380,2,-999.0000,9,   -999.0,9,    260.9,2,    10.86,2,    17.72,2,     0.01,2,     1.07,2,   2150.3,2, -999.000, -999.000,9,   4.0682
  64TR19900701,AR07Ea,     5,  1,     14,2,19900702, 52.3317, -16.4650, 3554,   1769.0,   3.7591,  34.9050,2,  34.9060,2,   -999.0,9,   -999.0,9,    10.85,2,    17.20,2,     0.08,2,     1.15,2,   -999.0,9, -999.000, -999.000,9,   3.6172
  64TR19900701,AR07Ea,     5,  1,     13,2,19900702, 52.3317, -16.4650, 3554,   2022.0,   3.5931,  34.9050,2,-999.0000,9,   -999.0,9,    275.7,2,    11.14,2,    16.63,2,     0.20,2,     1.14,2,   2147.3,2, -999.000, -999.000,9,   3.4297
  64TR19900701,AR07Ea,     5,  1,     12,2,19900702, 52.3317, -16.4650, 3554,   2279.0,   3.5671,  34.9350,2,  34.9420,2,   -999.0,9,   -999.0,9,    12.80,2,    17.03,2,     0.05,2,     1.14,2,   -999.0,9, -999.000, -999.000,9,   3.3790
  64TR19900701,AR07Ea,     5,  1,     11,2,19900702, 52.3317, -16.4650, 3554,   2534.0,   3.3662,  34.9500,2,-999.0000,9,   -999.0,9,    265.6,2,    16.44,2,    17.50,2,     0.02,2,     1.18,2,   2155.7,2, -999.000, -999.000,9,   3.1561
  64TR19900701,AR07Ea,     5,  1,     10,2,19900702, 52.3317, -16.4650, 3554,   2786.0,   3.1193,  34.9520,2,  34.9530,2,   -999.0,9,   -999.0,9,    21.58,2,    18.36,2,     0.00,2,     1.24,2,   -999.0,9, -999.000, -999.000,9,   2.8882
  64TR19900701,AR07Ea,     5,  1,      9,2,19900702, 52.3317, -16.4650, 3554,   2985.0,   2.9333,  34.9490,2,-999.0000,9,   -999.0,9,    253.0,2,    28.30,2,    19.32,2,     0.02,2,     1.33,2,   2175.4,2, -999.000, -999.000,9,   2.6855
  64TR19900701,AR07Ea,     5,  1,      8,2,19900702, 52.3317, -16.4650, 3554,   3087.0,   2.8663,  34.9450,2,  34.9450,2,   -999.0,9,   -999.0,9,    30.56,2,    19.69,2,     0.02,2,     1.36,2,   -999.0,9, -999.000, -999.000,9,   2.6092
  64TR19900701,AR07Ea,     5,  1,      7,2,19900702, 52.3317, -16.4650, 3554,   3190.0,   2.8073,  34.9420,2,-999.0000,9,   -999.0,9,    248.8,2,    32.95,2,    19.60,2,     0.18,2,     1.20,3,   2181.1,2, -999.000, -999.000,9,   2.5407
  64TR19900701,AR07Ea,     5,  1,      6,2,19900702, 52.3317, -16.4650, 3554,   3291.0,   2.7373,  34.9370,2,  34.9360,2,   -999.0,9,   -999.0,9,    34.22,2,    20.33,2,     0.03,2,     1.40,2,   -999.0,9, -999.000, -999.000,9,   2.4615
  64TR19900701,AR07Ea,     5,  1,      5,2,19900702, 52.3317, -16.4650, 3554,   3396.0,   2.6684,  34.9300,2,-999.0000,9,   -999.0,9,    246.2,2,    37.19,2,    21.02,2,     0.02,2,     1.44,2,   2187.2,2, -999.000, -999.000,9,   2.3830
  64TR19900701,AR07Ea,     5,  1,      4,2,19900702, 52.3317, -16.4650, 3554,   3444.0,   2.6344,  34.9260,2,  34.9250,2,   -999.0,9,   -999.0,9,    38.57,2,    21.15,2,     0.00,2,     1.46,2,   -999.0,9, -999.000, -999.000,9,   2.3446
  64TR19900701,AR07Ea,     5,  1,      3,2,19900702, 52.3317, -16.4650, 3554,   3497.0,   2.6004,  34.9220,2,-999.0000,9,   -999.0,9,    242.9,2,    40.09,2,    21.07,2,     0.01,2,     1.48,2,   2190.9,2, -999.000, -999.000,9,   2.3057
  64TR19900701,AR07Ea,     5,  1,      2,2,19900702, 52.3317, -16.4650, 3554,   3550.0,   2.5394,  34.9160,2,  34.9170,2,   -999.0,9,   -999.0,9,    41.99,2,    21.57,2,     0.01,2,     1.48,2,   -999.0,9, -999.000, -999.000,9,   2.2405
  64TR19900701,AR07Ea,     5,  1,      1,2,19900702, 52.3317, -16.4650, 3554,   3603.0,   2.4934,  34.9110,2,-999.0000,9,   -999.0,9,    240.5,2,    43.47,2,    21.86,2,     0.02,2,     1.50,2,   2195.9,2, -999.000, -999.000,9,   2.1898
  64TR19900701,AR07Ea,     6,  1,     24,2,19900703, 52.3333, -17.3333, 4207,      5.0,  13.3158,  35.4840,2,  35.4850,2,   -999.0,9,   -999.0,9,     0.35,2,     0.91,2,     0.08,2,     0.20,2,   -999.0,9, -999.000, -999.000,9,  13.3151
  64TR19900701,AR07Ea,     6,  1,     23,2,19900703, 52.3333, -17.3333, 4207,     99.0,  11.4662,  35.5790,2,-999.0000,9,   -999.0,9,    248.7,2,     3.81,2,    10.49,2,     0.06,2,     0.68,2,   -999.0,9, -999.000, -999.000,9,  11.4536
  64TR19900701,AR07Ea,     6,  1,     22,2,19900703, 52.3333, -17.3333, 4207,    200.0,  10.9464,  35.5100,2,  35.5090,2,   -999.0,9,   -999.0,9,     4.33,2,    11.04,2,     0.03,2,     0.69,2,   -999.0,9, -999.000, -999.000,9,  10.9217
  64TR19900701,AR07Ea,     6,  1,     21,2,19900703, 52.3333, -17.3333, 4207,    302.0,  10.7094,  35.4880,2,-999.0000,9,   -999.0,9,    246.7,2,     4.38,2,    11.10,2,     0.02,2,     0.73,2,   -999.0,9, -999.000, -999.000,9,  10.6724
  64TR19900701,AR07Ea,     6,  1,     20,2,19900703, 52.3333, -17.3333, 4207,    406.0,  10.5005,  35.4690,2,  35.4690,2,   -999.0,9,   -999.0,9,     4.47,2,    11.43,2,     0.03,2,     0.73,2,   -999.0,9, -999.000, -999.000,9,  10.4511
  64TR19900701,AR07Ea,     6,  1,     19,2,19900703, 52.3333, -17.3333, 4207,    505.0,  10.3635,  35.4570,2,-999.0000,9,   -999.0,9,    250.1,2,     4.62,2,    11.49,2,     0.02,2,     0.77,2,   -999.0,9, -999.000, -999.000,9,  10.3023
  64TR19900701,AR07Ea,     6,  1,     18,2,19900703, 52.3333, -17.3333, 4207,    756.0,   9.3757,  35.3280,2,  35.3270,2,   -999.0,9,   -999.0,9,     6.29,2,    13.60,2,     0.02,2,     0.84,2,   -999.0,9, -999.000, -999.000,9,   9.2885
  64TR19900701,AR07Ea,     6,  1,     17,2,19900703, 52.3333, -17.3333, 4207,   1014.0,   7.7391,  35.2410,2,-999.0000,9,   -999.0,9,    203.5,2,    10.55,2,    18.16,2,     0.01,2,     1.20,2,   -999.0,9, -999.000, -999.000,9,   7.6327
  64TR19900701,AR07Ea,     6,  1,     16,2,19900703, 52.3333, -17.3333, 4207,   1267.0,   5.7216,  35.0900,2,  35.0910,2,   -999.0,9,   -999.0,9,    11.30,2,    18.44,2,     0.01,2,     1.22,2,   -999.0,9, -999.000, -999.000,9,   5.6056
  64TR19900701,AR07Ea,     6,  1,     15,2,19900703, 52.3333, -17.3333, 4207,   1520.0,   4.3999,  34.9620,2,-999.0000,9,   -999.0,9,    256.3,2,    11.12,2,    17.84,2,     0.01,2,     1.19,2,   -999.0,9, -999.000, -999.000,9,   4.2733
  64TR19900701,AR07Ea,     6,  1,     14,2,19900703, 52.3333, -17.3333, 4207,   1773.0,   3.8551,  34.9170,2,  34.9170,2,   -999.0,9,   -999.0,9,    10.97,2,    17.52,2,     0.02,2,     1.13,2,   -999.0,9, -999.000, -999.000,9,   3.7115
  64TR19900701,AR07Ea,     6,  1,     13,2,19900703, 52.3333, -17.3333, 4207,   2025.0,   3.6261,  34.9110,2,-999.0000,9,   -999.0,9,    273.4,2,    11.37,2,    17.04,2,     0.01,2,     1.16,2,   -999.0,9, -999.000, -999.000,9,   3.4619
  64TR19900701,AR07Ea,     6,  1,     12,2,19900703, 52.3333, -17.3333, 4207,   2280.0,   3.5441,  34.9350,2,  34.9370,2,   -999.0,9,   -999.0,9,    13.01,2,    17.13,2,     0.02,2,     1.16,2,   -999.0,9, -999.000, -999.000,9,   3.3563
  64TR19900701,AR07Ea,     6,  1,     11,2,19900703, 52.3333, -17.3333, 4207,   2532.0,   3.3592,  34.9490,2,-999.0000,9,   -999.0,9,    266.1,2,    16.17,2,    17.40,2,     0.01,2,     1.19,2,   -999.0,9, -999.000, -999.000,9,   3.1494
  64TR19900701,AR07Ea,     6,  1,     10,2,19900703, 52.3333, -17.3333, 4207,   2792.0,   3.1272,  34.9530,2,  34.9530,2,   -999.0,9,   -999.0,9,    21.14,2,    17.93,2,     0.06,2,     1.21,2,   -999.0,9, -999.000, -999.000,9,   2.8953
  64TR19900701,AR07Ea,     6,  1,      9,2,19900703, 52.3333, -17.3333, 4207,   3051.0,   2.8473,  34.9460,2,-999.0000,9,   -999.0,9,    251.7,2,    30.36,2,    19.52,2,     0.01,2,     1.36,2,   -999.0,9, -999.000, -999.000,9,   2.5944
  64TR19900701,AR07Ea,     6,  1,      8,4,19900703, 52.3333, -17.3333, 4207,   3302.0,   2.6864,  34.9330,2,-999.0000,9,   -999.0,9,   -999.0,9,  -999.00,9,  -999.00,9,  -999.00,9,  -999.00,9,   -999.0,9, -999.000, -999.000,9,   2.4107
  64TR19900701,AR07Ea,     6,  1,      7,2,19900703, 52.3333, -17.3333, 4207,   3560.0,   2.5674,  34.9210,2,-999.0000,9,   -999.0,9,    242.9,2,    40.93,2,    21.18,2,     0.06,2,     1.42,2,   -999.0,9, -999.000, -999.000,9,   2.2666
  64TR19900701,AR07Ea,     6,  1,      6,2,19900703, 52.3333, -17.3333, 4207,   3814.0,   2.5254,  34.9140,2,  34.9150,2,   -999.0,9,   -999.0,9,    42.61,2,    21.57,2,     0.05,2,     1.49,2,   -999.0,9, -999.000, -999.000,9,   2.1975
  64TR19900701,AR07Ea,     6,  1,      5,2,19900703, 52.3333, -17.3333, 4207,   4073.0,   2.5024,  34.9060,2,-999.0000,9,   -999.0,9,    241.6,2,    44.85,2,    22.00,2,     0.02,2,     1.54,2,   -999.0,9, -999.000, -999.000,9,   2.1456
  64TR19900701,AR07Ea,     6,  1,      4,2,19900703, 52.3333, -17.3333, 4207,   4132.0,   2.5054,  34.9060,2,  34.9050,2,   -999.0,9,   -999.0,9,    45.10,2,    22.15,2,     0.01,2,     1.53,2,   -999.0,9, -999.000, -999.000,9,   2.1416
  64TR19900701,AR07Ea,     6,  1,      3,2,19900703, 52.3333, -17.3333, 4207,   4185.0,   2.5084,  34.9050,2,-999.0000,9,   -999.0,9,    241.0,2,    45.16,2,    22.01,2,     0.01,2,     1.55,2,   -999.0,9, -999.000, -999.000,9,   2.1383
  64TR19900701,AR07Ea,     6,  1,      2,4,19900703, 52.3333, -17.3333, 4207,   4235.0,   2.5134,  34.9050,2,-999.0000,9,   -999.0,9,   -999.0,9,  -999.00,9,  -999.00,9,  -999.00,9,  -999.00,9,   -999.0,9, -999.000, -999.000,9,   2.1373
  64TR19900701,AR07Ea,     6,  1,      1,2,19900703, 52.3333, -17.3333, 4207,   4284.0,   2.5184,  34.9060,2,-999.0000,9,   -999.0,9,    239.2,2,    44.60,2,    22.14,2,     0.02,2,     1.46,2,   -999.0,9, -999.000, -999.000,9,   2.1363
  64TR19900701,AR07Ea,     7,  1,     24,2,19900703, 52.3367, -18.1317, 4300,      3.0,  13.9217,  35.6310,2,  35.6300,2,   -999.0,9,   -999.0,9,     1.09,2,     1.23,2,     0.09,2,     0.15,2,   -999.0,9, -999.000, -999.000,9,  13.9213
  64TR19900701,AR07Ea,     7,  1,     23,2,19900703, 52.3367, -18.1317, 4300,     99.0,  11.1613,  35.5420,2,-999.0000,9,   -999.0,9,    251.6,2,     4.35,2,    10.52,2,     0.04,2,     0.92,2,   -999.0,9, -999.000, -999.000,9,  11.1490
  64TR19900701,AR07Ea,     7,  1,     22,2,19900703, 52.3367, -18.1317, 4300,    201.0,  10.8404,  35.5120,2,  35.5110,2,   -999.0,9,   -999.0,9,     4.46,2,    10.63,2,     0.01,2,     0.68,2,   -999.0,9, -999.000, -999.000,9,  10.8157
  64TR19900701,AR07Ea,     7,  1,     21,2,19900703, 52.3367, -18.1317, 4300,    303.0,  10.6035,  35.4820,2,-999.0000,9,   -999.0,9,    250.0,2,     4.68,2,    10.95,2,     0.01,2,     0.69,2,   -999.0,9, -999.000, -999.000,9,  10.5666
  64TR19900701,AR07Ea,     7,  1,     20,2,19900703, 52.3367, -18.1317, 4300,    405.0,  10.3705,  35.4500,2,  35.4500,2,   -999.0,9,   -999.0,9,     5.06,2,    11.58,2,     0.02,2,     0.76,2,   -999.0,9, -999.000, -999.000,9,  10.3217
  64TR19900701,AR07Ea,     7,  1,     19,2,19900703, 52.3367, -18.1317, 4300,    507.0,   9.9716,  35.3830,2,-999.0000,9,   -999.0,9,    243.7,2,     5.98,2,    12.72,2,     0.03,2,     0.80,2,   -999.0,9, -999.000, -999.000,9,   9.9117
  64TR19900701,AR07Ea,     7,  1,     18,2,19900703, 52.3367, -18.1317, 4300,    758.0,   7.8601,  35.1500,2,  35.1530,2,   -999.0,9,   -999.0,9,    10.55,2,    17.89,2,     0.08,2,     1.17,2,   -999.0,9, -999.000, -999.000,9,   7.7812
  64TR19900701,AR07Ea,     7,  1,     17,2,19900703, 52.3367, -18.1317, 4300,   1012.0,   6.3295,  35.1530,2,-999.0000,9,   -999.0,9,    219.3,2,    11.71,2,    18.48,2,     0.01,2,     1.14,2,   -999.0,9, -999.000, -999.000,9,   6.2339
  64TR19900701,AR07Ea,     7,  1,     16,4,19900703, 52.3367, -18.1317, 4300,   1263.0,   4.6549,  34.9900,2,-999.0000,9,   -999.0,9,   -999.0,9,  -999.00,9,  -999.00,9,  -999.00,9,  -999.00,9,   -999.0,9, -999.000, -999.000,9,   4.5496
  64TR19900701,AR07Ea,     7,  1,     15,2,19900703, 52.3367, -18.1317, 4300,   1517.0,   3.9141,  34.9160,2,-999.0000,9,   -999.0,9,    269.2,2,    11.00,2,    17.33,2,     0.02,2,     1.16,2,   -999.0,9, -999.000, -999.000,9,   3.7934
  64TR19900701,AR07Ea,     7,  1,     14,2,19900703, 52.3367, -18.1317, 4300,   1771.0,   3.6481,  34.9000,2,  34.8990,2,   -999.0,9,   -999.0,9,    11.11,2,    17.06,2,     0.00,2,     1.15,2,   -999.0,9, -999.000, -999.000,9,   3.5075
  64TR19900701,AR07Ea,     7,  1,     13,2,19900703, 52.3367, -18.1317, 4300,   2027.0,   3.5941,  34.9210,2,-999.0000,9,   -999.0,9,    272.6,2,    12.23,2,    17.11,2,     0.02,2,     1.17,2,   -999.0,9, -999.000, -999.000,9,   3.4301
  64TR19900701,AR07Ea,     7,  1,     12,2,19900703, 52.3367, -18.1317, 4300,   2280.0,   3.4982,  34.9390,2,  34.9380,2,   -999.0,9,   -999.0,9,    13.53,2,    17.08,2,     0.00,2,     1.11,2,   -999.0,9, -999.000, -999.000,9,   3.3111
  64TR19900701,AR07Ea,     7,  1,     11,2,19900703, 52.3367, -18.1317, 4300,   2536.0,   3.3202,  34.9480,2,-999.0000,9,   -999.0,9,    269.1,2,    15.32,2,    17.10,2,     0.04,2,     1.16,2,   -999.0,9, -999.000, -999.000,9,   3.1107
  64TR19900701,AR07Ea,     7,  1,     10,2,19900703, 52.3367, -18.1317, 4300,   2792.0,   3.1462,  34.9560,2,  34.9540,2,   -999.0,9,   -999.0,9,    19.86,2,    17.72,2,     0.02,2,     1.17,2,   -999.0,9, -999.000, -999.000,9,   2.9139
  64TR19900701,AR07Ea,     7,  1,      9,2,19900703, 52.3367, -18.1317, 4300,   3047.0,   2.9583,  34.9520,2,-999.0000,9,   -999.0,9,    256.0,2,    27.00,2,    18.90,2,     0.03,2,     1.30,2,   -999.0,9, -999.000, -999.000,9,   2.7034
  64TR19900701,AR07Ea,     7,  1,      8,2,19900703, 52.3367, -18.1317, 4300,   3304.0,   2.7933,  34.9430,2,  34.9410,2,   -999.0,9,   -999.0,9,    32.30,2,    19.68,2,     0.01,2,     1.37,2,   -999.0,9, -999.000, -999.000,9,   2.5148
  64TR19900701,AR07Ea,     7,  1,      7,2,19900703, 52.3367, -18.1317, 4300,   3559.0,   2.6884,  34.9320,2,-999.0000,9,   -999.0,9,    247.3,2,    36.19,2,    20.39,2,     0.01,2,     1.43,2,   -999.0,9, -999.000, -999.000,9,   2.3846
  64TR19900701,AR07Ea,     7,  1,      6,2,19900703, 52.3367, -18.1317, 4300,   3815.0,   2.5864,  34.9190,2,  34.9210,2,   -999.0,9,   -999.0,9,    41.08,2,    20.89,2,     0.10,2,     1.46,2,   -999.0,9, -999.000, -999.000,9,   2.2567
  64TR19900701,AR07Ea,     7,  1,      5,2,19900703, 52.3367, -18.1317, 4300,   4070.0,   2.5334,  34.9100,2,-999.0000,9,   -999.0,9,    243.8,2,    44.07,2,    21.82,2,     0.00,2,     1.48,2,   -999.0,9, -999.000, -999.000,9,   2.1760
  64TR19900701,AR07Ea,     7,  1,      4,2,19900703, 52.3367, -18.1317, 4300,   4226.0,   2.5194,  34.9070,2,  34.9040,2,   -999.0,9,   -999.0,9,    45.28,2,    22.17,2,     0.01,2,     1.40,3,   -999.0,9, -999.000, -999.000,9,   2.1442
  64TR19900701,AR07Ea,     7,  1,      3,2,19900703, 52.3367, -18.1317, 4300,   4278.0,   2.5204,  34.9060,2,-999.0000,9,   -999.0,9,    243.1,2,    45.41,2,    22.16,2,     0.00,2,     1.54,2,   -999.0,9, -999.000, -999.000,9,   2.1390
  64TR19900701,AR07Ea,     7,  1,      2,2,19900703, 52.3367, -18.1317, 4300,   4328.0,   2.5264,  34.9050,2,  34.9050,2,   -999.0,9,   -999.0,9,    45.43,2,    22.17,2,     0.00,2,     1.54,2,   -999.0,9, -999.000, -999.000,9,   2.1389
  64TR19900701,AR07Ea,     7,  1,      1,2,19900703, 52.3367, -18.1317, 4300,   4371.0,   2.5314,  34.9050,2,-999.0000,9,   -999.0,9,    239.6,2,    45.16,2,    21.93,2,     0.00,2,     1.48,2,   -999.0,9, -999.000, -999.000,9,   2.1386