BOTTLE,20081222PRINUNIVRMKPRINUNIVRMK
EXPOCODE,SECT_ID,STNNBR,CASTNO,BTLNBR,BTLNBR_FLAG_W,DATE,LATITUDE,LONGITUDE,DEPTH,CTDPRS,CTDTMP,CTDSAL,CTDSAL_FLAG_W,SALNTY,SALNTY_FLAG_W,CTDOXY,CTDOXY_FLAG_W,OXYGEN,OXYGEN_FLAG_W,SILCAT,SILCAT_FLAG_W,NITRAT,NITRAT_FLAG_W,NITRIT,NITRIT_FLAG_W,PHSPHT,PHSPHT_FLAG_W,TCARBN,TCARBN_FLAG_W,TRITUM,TRITER,TRITUM_FLAG_W,THETA
,,,,,,,,,METERS,DBARS,ITS-90,PSS-78,,PSS-78,,UMOL/KG,,UMOL/KG,,UMOL/KG,,UMOL/KG,,UMOL/KG,,UMOL/KG,,UMOL/KG,,TU,TU,,DEGC
  64TR19900701,AR07Ea,    30,  1,     19,2,19900712, 60.0683, -30.6700, 1587,      3.0,   8.5240,  35.0000,2,-999.0000,9,    291.4,2,    290.6,2,     2.60,2,     9.48,2,     0.14,2,     0.64,2,   2102.7,2, -999.000, -999.000,9,   8.5237
  64TR19900701,AR07Ea,    30,  1,     18,2,19900712, 60.0683, -30.6700, 1587,      3.0,   8.5240,  35.0000,2,  34.9410,0,    291.4,2,   -999.0,9,     2.53,2,     9.49,2,     0.15,2,     0.66,2,   -999.0,9, -999.000, -999.000,9,   8.5237
  64TR19900701,AR07Ea,    30,  1,     17,2,19900712, 60.0683, -30.6700, 1587,     99.0,   6.5274,  35.0860,2,-999.0000,9,    281.3,2,    277.7,2,     7.90,2,    15.47,2,     0.02,2,     1.07,2,   2140.6,2, -999.000, -999.000,9,   6.5185
  64TR19900701,AR07Ea,    30,  1,     16,2,19900712, 60.0683, -30.6700, 1587,    199.0,   6.4325,  35.1010,2,  35.1010,2,    281.5,2,   -999.0,9,     7.88,2,    15.38,2,     0.02,2,     1.07,2,   -999.0,9, -999.000, -999.000,9,   6.4147
  64TR19900701,AR07Ea,    30,  1,     15,2,19900712, 60.0683, -30.6700, 1587,    303.0,   5.6866,  35.0210,2,-999.0000,9,    282.6,2,    281.3,2,     8.61,2,    16.11,2,     0.01,2,     1.13,2,   2141.6,2, -999.000, -999.000,9,   5.6610
  64TR19900701,AR07Ea,    30,  1,     14,2,19900712, 60.0683, -30.6700, 1587,    403.0,   5.4707,  35.0110,2,  35.0100,2,    293.4,2,   -999.0,9,     8.43,2,    15.89,2,     0.02,2,     1.12,2,   -999.0,9, -999.000, -999.000,9,   5.4371
  64TR19900701,AR07Ea,    30,  1,     13,2,19900712, 60.0683, -30.6700, 1587,    502.0,   5.4517,  35.0090,2,-999.0000,9,    289.9,2,    290.9,2,     8.48,2,    15.90,2,     0.02,2,     1.12,2,   2140.6,2, -999.000, -999.000,9,   5.4095
  64TR19900701,AR07Ea,    30,  1,     12,2,19900712, 60.0683, -30.6700, 1587,    602.0,   5.2157,  34.9830,2,  34.9840,2,    290.2,2,   -999.0,9,     8.73,2,    16.14,2,     0.01,2,     1.13,2,   -999.0,9, -999.000, -999.000,9,   5.1658
  64TR19900701,AR07Ea,    30,  1,     11,2,19900712, 60.0683, -30.6700, 1587,    706.0,   4.7908,  34.9470,2,-999.0000,9,    293.9,2,    294.1,2,     8.82,2,    16.31,2,     0.01,2,     1.14,2,   2141.0,2, -999.000, -999.000,9,   4.7341
  64TR19900701,AR07Ea,    30,  1,     10,2,19900712, 60.0683, -30.6700, 1587,    807.0,   4.7159,  34.9480,2,  34.9480,2,    282.9,2,   -999.0,9,     9.42,2,    16.82,2,     0.01,2,     1.18,2,   -999.0,9, -999.000, -999.000,9,   4.6510
  64TR19900701,AR07Ea,    30,  1,      9,2,19900712, 60.0683, -30.6700, 1587,    909.0,   4.9478,  34.9380,2,-999.0000,9,    280.2,2,    283.2,2,     9.68,2,    17.08,2,     0.01,2,     1.20,2,   2147.7,2, -999.000, -999.000,9,   4.8724
  64TR19900701,AR07Ea,    30,  1,      8,2,19900712, 60.0683, -30.6700, 1587,   1009.0,   4.1880,  34.9230,2,  34.9240,2,    276.1,2,   -999.0,9,     9.97,2,    17.27,2,     0.02,2,     1.24,2,   -999.0,9, -999.000, -999.000,9,   4.1094
  64TR19900701,AR07Ea,    30,  1,      7,2,19900712, 60.0683, -30.6700, 1587,   1111.0,   3.9840,  34.9210,2,-999.0000,9,    272.1,2,    273.2,2,    10.28,2,    17.15,2,     0.01,2,     1.20,2,   2149.7,2, -999.000, -999.000,9,   3.8984
  64TR19900701,AR07Ea,    30,  1,      6,2,19900712, 60.0683, -30.6700, 1587,   1214.0,   3.8711,  34.9390,2,  34.9390,2,    271.1,2,   -999.0,9,    10.69,2,    16.97,2,     0.02,2,     1.17,2,   -999.0,9, -999.000, -999.000,9,   3.7776
  64TR19900701,AR07Ea,    30,  1,      5,2,19900712, 60.0683, -30.6700, 1587,   1313.0,   3.7571,  34.9420,2,-999.0000,9,    272.2,2,    269.5,2,    10.78,2,    16.85,2,     0.04,2,     1.15,2,   2148.8,2, -999.000, -999.000,9,   3.6562
  64TR19900701,AR07Ea,    30,  1,      4,2,19900712, 60.0683, -30.6700, 1587,   1416.0,   3.6941,  34.9410,2,  34.9410,2,    271.7,2,   -999.0,9,    10.89,2,    16.79,2,     0.00,2,     1.18,2,   -999.0,9, -999.000, -999.000,9,   3.5848
  64TR19900701,AR07Ea,    30,  1,      3,2,19900712, 60.0683, -30.6700, 1587,   1468.0,   3.6561,  34.9390,2,-999.0000,9,    272.4,2,    273.2,2,    11.03,2,    16.84,2,     0.02,2,     1.16,2,   2149.3,2, -999.000, -999.000,9,   3.5427
  64TR19900701,AR07Ea,    30,  1,      2,2,19900712, 60.0683, -30.6700, 1587,   1518.0,   3.6441,  34.9370,2,  34.9380,2,    272.9,2,   -999.0,9,    11.02,2,    16.95,2,     0.01,2,     1.16,2,   -999.0,9, -999.000, -999.000,9,   3.5264
  64TR19900701,AR07Ea,    30,  1,      1,2,19900712, 60.0683, -30.6700, 1587,   1568.0,   3.6241,  34.9360,2,-999.0000,9,    273.3,2,    273.5,2,    10.99,2,    16.81,2,     0.01,2,     1.19,2,   2150.3,2, -999.000, -999.000,9,   3.5022
  64TR19900701,AR07Ea,    31,  1,     24,2,19900712, 60.1183, -31.6650, 2087,      5.0,   8.8939,  34.9210,2,  34.9210,2,    298.0,2,   -999.0,9,     0.47,2,     8.49,2,     0.10,2,     0.61,2,   -999.0,9, -999.000, -999.000,9,   8.8934
  64TR19900701,AR07Ea,    31,  1,     23,2,19900712, 60.1183, -31.6650, 2087,     99.0,   5.6476,  34.9470,2,-999.0000,9,    296.3,2,    295.7,2,     8.47,2,    14.49,2,     0.44,2,     1.06,2,   2136.1,2, -999.000, -999.000,9,   5.6394
  64TR19900701,AR07Ea,    31,  1,     22,2,19900712, 60.1183, -31.6650, 2087,    200.0,   4.4529,  34.9360,2,  34.9360,2,    287.0,2,   -999.0,9,     9.37,2,    17.01,2,     0.02,2,     1.16,2,   -999.0,9, -999.000, -999.000,9,   4.4381
  64TR19900701,AR07Ea,    31,  1,     21,2,19900712, 60.1183, -31.6650, 2087,    300.0,   4.1330,  34.9210,2,-999.0000,9,    279.1,2,    278.2,2,     9.96,2,    17.30,2,     0.02,2,     1.18,2,   2149.0,2, -999.000, -999.000,9,   4.1114
  64TR19900701,AR07Ea,    31,  1,     20,3,19900712, 60.1183, -31.6650, 2087,    401.0,   4.0450,  34.9220,2,  34.9250,2,    276.7,2,   -999.0,9,     8.77,3,    16.01,3,     0.07,3,     1.11,3,   -999.0,9, -999.000, -999.000,9,   4.0161
  64TR19900701,AR07Ea,    31,  1,     19,2,19900712, 60.1183, -31.6650, 2087,    503.0,   3.9231,  34.9160,2,-999.0000,9,    277.5,2,    275.2,2,    10.25,2,    17.34,2,     0.01,2,     1.19,2,   2151.1,2, -999.000, -999.000,9,   3.8869
  64TR19900701,AR07Ea,    31,  1,     18,2,19900712, 60.1183, -31.6650, 2087,    606.0,   3.8081,  34.9110,2,  34.9100,2,    275.0,2,   -999.0,9,    10.23,2,    17.19,2,     0.01,2,     1.17,2,   -999.0,9, -999.000, -999.000,9,   3.7645
  64TR19900701,AR07Ea,    31,  1,     17,2,19900712, 60.1183, -31.6650, 2087,    705.0,   3.5991,  34.8940,2,-999.0000,9,    280.4,2,    282.4,2,    10.04,2,    17.00,2,     0.00,2,     1.18,2,   2149.7,2, -999.000, -999.000,9,   3.5491
  64TR19900701,AR07Ea,    31,  1,     16,2,19900712, 60.1183, -31.6650, 2087,    806.0,   3.4452,  34.8800,2,  34.8820,2,    286.0,2,   -999.0,9,     9.83,2,    16.91,2,     0.00,2,     1.15,2,   -999.0,9, -999.000, -999.000,9,   3.3884
  64TR19900701,AR07Ea,    31,  1,     15,2,19900712, 60.1183, -31.6650, 2087,    908.0,   3.4552,  34.8870,2,-999.0000,9,    281.2,2,    283.4,2,    10.07,2,    16.91,2,     0.01,2,     1.16,2,   2147.7,2, -999.000, -999.000,9,   3.3904
  64TR19900701,AR07Ea,    31,  1,     14,2,19900712, 60.1183, -31.6650, 2087,   1009.0,   3.6771,  34.9290,2,  34.9290,2,    274.5,2,   -999.0,9,    10.54,2,    16.88,2,     0.00,2,     1.16,2,   -999.0,9, -999.000, -999.000,9,   3.6025
  64TR19900701,AR07Ea,    31,  1,     13,2,19900712, 60.1183, -31.6650, 2087,   1111.0,   3.5372,  34.9130,2,-999.0000,9,    278.1,2,    278.5,2,    10.47,2,    16.76,2,     0.00,2,     1.15,2,   2149.1,2, -999.000, -999.000,9,   3.4554
  64TR19900701,AR07Ea,    31,  1,     12,2,19900712, 60.1183, -31.6650, 2087,   1212.0,   3.5611,  34.9220,2,  34.9210,2,    276.6,2,   -999.0,9,    10.47,2,    16.73,2,     0.00,2,     1.15,2,   -999.0,9, -999.000, -999.000,9,   3.4707
  64TR19900701,AR07Ea,    31,  1,     11,2,19900712, 60.1183, -31.6650, 2087,   1314.0,   3.4152,  34.9030,2,-999.0000,9,    280.5,2,    280.4,2,    10.56,2,    16.82,2,     0.00,2,     1.14,2,   2147.0,2, -999.000, -999.000,9,   3.3177
  64TR19900701,AR07Ea,    31,  1,     10,2,19900712, 60.1183, -31.6650, 2087,   1416.0,   3.4132,  34.9120,2,  34.9100,2,    278.7,2,   -999.0,9,    10.79,2,    16.80,2,     0.00,2,     1.15,2,   -999.0,9, -999.000, -999.000,9,   3.3070
  64TR19900701,AR07Ea,    31,  1,      9,2,19900712, 60.1183, -31.6650, 2087,   1516.0,   3.4592,  34.9280,2,-999.0000,9,    275.4,2,    275.6,2,    11.16,2,    16.78,2,     0.00,2,     1.16,2,   2149.2,2, -999.000, -999.000,9,   3.3438
  64TR19900701,AR07Ea,    31,  1,      8,2,19900712, 60.1183, -31.6650, 2087,   1618.0,   3.4192,  34.9330,2,  34.9310,2,    275.5,2,   -999.0,9,    11.41,2,    16.74,2,     0.01,2,     1.19,2,   -999.0,9, -999.000, -999.000,9,   3.2953
  64TR19900701,AR07Ea,    31,  1,      7,2,19900712, 60.1183, -31.6650, 2087,   1721.0,   3.3552,  34.9400,2,-999.0000,9,    274.9,2,    273.7,2,    11.84,2,    16.67,2,     0.01,2,     1.17,2,   2149.3,2, -999.000, -999.000,9,   3.2229
  64TR19900701,AR07Ea,    31,  1,      6,2,19900712, 60.1183, -31.6650, 2087,   1823.0,   3.2862,  34.9420,2,  34.9410,2,    274.3,2,   -999.0,9,    12.34,2,    16.79,2,     0.01,2,     1.15,2,   -999.0,9, -999.000, -999.000,9,   3.1456
  64TR19900701,AR07Ea,    31,  1,      5,2,19900712, 60.1183, -31.6650, 2087,   1924.0,   3.2312,  34.9440,2,-999.0000,9,    274.9,2,    273.9,2,    12.33,2,    16.66,2,     0.00,2,     1.17,2,   2149.9,2, -999.000, -999.000,9,   3.0822
  64TR19900701,AR07Ea,    31,  1,      4,2,19900712, 60.1183, -31.6650, 2087,   1976.0,   3.2082,  34.9440,2,  34.9440,2,    275.1,2,   -999.0,9,    12.69,2,    16.62,2,     0.00,2,     1.17,2,   -999.0,9, -999.000, -999.000,9,   3.0547
  64TR19900701,AR07Ea,    31,  1,      3,2,19900712, 60.1183, -31.6650, 2087,   2026.0,   3.2012,  34.9440,2,-999.0000,9,    275.3,2,    273.2,2,    12.82,2,    16.59,2,     0.02,2,     1.17,2,   2150.6,2, -999.000, -999.000,9,   3.0432
  64TR19900701,AR07Ea,    31,  1,      2,2,19900712, 60.1183, -31.6650, 2087,   2098.0,   3.1982,  34.9450,2,  34.9440,2,    276.0,2,   -999.0,9,    12.92,2,    16.72,2,     0.00,2,     1.15,2,   -999.0,9, -999.000, -999.000,9,   3.0335
  64TR19900701,AR07Ea,    31,  1,      1,2,19900712, 60.1183, -31.6650, 2087,   2148.0,   3.1952,  34.9450,2,-999.0000,9,    275.7,2,    272.8,2,    12.98,2,    16.70,2,     0.00,2,     1.18,2,   2148.9,2, -999.000, -999.000,9,   3.0258
  64TR19900701,AR07Ea,    32,  1,     24,2,19900712, 60.1633, -32.6800, 2410,      5.0,   8.3330,  34.9080,2,  34.9080,2,    298.9,2,   -999.0,9,     2.01,2,     8.71,2,     0.12,2,     0.63,2,   -999.0,9,    2.350, -999.000,2,   8.3325
  64TR19900701,AR07Ea,    32,  1,     23,2,19900712, 60.1633, -32.6800, 2410,    100.0,   6.1485,  35.0690,2,-999.0000,9,    281.2,2,    280.0,2,     8.13,2,    15.89,2,     0.03,2,     1.07,2,   -999.0,9, -999.000, -999.000,9,   6.1398
  64TR19900701,AR07Ea,    32,  1,     22,2,19900712, 60.1633, -32.6800, 2410,    200.0,   5.2917,  34.9930,2,  34.9950,2,    277.5,2,   -999.0,9,     9.16,2,    16.69,2,     0.01,2,     1.15,2,   -999.0,9,    2.370, -999.000,2,   5.2756
  64TR19900701,AR07Ea,    32,  1,     21,2,19900712, 60.1633, -32.6800, 2410,    305.0,   4.8648,  34.9780,2,-999.0000,9,    285.1,2,    285.0,2,     9.16,2,    16.73,2,     0.02,2,     1.14,2,   -999.0,9, -999.000, -999.000,9,   4.8410
  64TR19900701,AR07Ea,    32,  1,     20,2,19900712, 60.1633, -32.6800, 2410,    400.0,   4.5279,  34.9480,2,  34.9480,2,    285.0,2,   -999.0,9,     9.27,2,    16.88,2,     0.02,2,     1.16,2,   -999.0,9,    2.510, -999.000,2,   4.4975
  64TR19900701,AR07Ea,    32,  1,     19,2,19900712, 60.1633, -32.6800, 2410,    504.0,   4.2050,  34.9260,2,-999.0000,9,    286.0,2,    289.3,2,     9.42,2,    16.83,2,     0.03,2,     1.16,2,   -999.0,9, -999.000, -999.000,9,   4.1676
  64TR19900701,AR07Ea,    32,  1,     18,2,19900712, 60.1633, -32.6800, 2410,    758.0,   3.6071,  34.8840,2,  34.8830,2,    287.3,2,   -999.0,9,     9.62,2,    17.12,2,     0.01,2,     1.18,2,   -999.0,9,    2.530, -999.000,2,   3.5530
  64TR19900701,AR07Ea,    32,  1,     17,2,19900712, 60.1633, -32.6800, 2410,   1012.0,   3.4012,  34.8710,2,-999.0000,9,    288.3,2,    292.2,2,     9.67,2,    16.64,2,     0.02,2,     1.16,2,   -999.0,9, -999.000, -999.000,9,   3.3286
  64TR19900701,AR07Ea,    32,  1,     16,2,19900712, 60.1633, -32.6800, 2410,   1110.0,   3.4172,  34.8780,2,  34.8780,2,    286.0,2,   -999.0,9,     9.86,2,    16.82,2,     0.00,2,     1.16,2,   -999.0,9,    2.130, -999.000,2,   3.3366
  64TR19900701,AR07Ea,    32,  1,     15,2,19900712, 60.1633, -32.6800, 2410,   1212.0,   3.3282,  34.8680,2,-999.0000,9,    288.3,2,    289.9,2,     9.80,2,    16.83,2,     0.02,2,     1.16,2,   -999.0,9, -999.000, -999.000,9,   3.2401
  64TR19900701,AR07Ea,    32,  1,     14,2,19900712, 60.1633, -32.6800, 2410,   1312.0,   3.4542,  34.8920,2,  34.8940,2,    281.4,2,   -999.0,9,    10.32,2,    16.91,2,     0.01,2,     1.18,2,   -999.0,9,    2.190, -999.000,2,   3.3565
  64TR19900701,AR07Ea,    32,  1,     13,2,19900712, 60.1633, -32.6800, 2410,   1414.0,   3.5382,  34.9150,2,-999.0000,9,    278.0,2,    278.9,2,    10.50,2,    16.95,2,     0.01,2,     1.16,2,   -999.0,9, -999.000, -999.000,9,   3.4308
  64TR19900701,AR07Ea,    32,  1,     12,2,19900712, 60.1633, -32.6800, 2410,   1515.0,   3.5441,  34.9220,2,  34.9210,2,    277.4,2,   -999.0,9,    10.64,2,    16.84,2,     0.01,2,     1.16,2,   -999.0,9,    1.980, -999.000,2,   3.4278
  64TR19900701,AR07Ea,    32,  1,     11,2,19900712, 60.1633, -32.6800, 2410,   1621.0,   3.4892,  34.9170,2,-999.0000,9,    279.1,2,    278.3,2,    10.73,2,    16.90,2,     0.03,2,     1.18,2,   -999.0,9, -999.000, -999.000,9,   3.3642
  64TR19900701,AR07Ea,    32,  1,     10,2,19900712, 60.1633, -32.6800, 2410,   1723.0,   3.4552,  34.9200,2,  34.9190,2,    278.2,2,   -999.0,9,    10.85,2,    16.80,2,     0.01,2,     1.18,2,   -999.0,9,    1.950, -999.000,2,   3.3215
  64TR19900701,AR07Ea,    32,  1,      9,2,19900712, 60.1633, -32.6800, 2410,   1825.0,   3.4252,  34.9250,2,-999.0000,9,    277.7,2,    276.4,2,    11.19,2,    16.83,2,     0.01,2,     1.17,2,   -999.0,9, -999.000, -999.000,9,   3.2826
  64TR19900701,AR07Ea,    32,  1,      8,2,19900712, 60.1633, -32.6800, 2410,   1926.0,   3.4072,  34.9370,2,  34.9380,2,    275.6,2,   -999.0,9,    11.54,2,    16.94,2,     0.01,2,     1.15,2,   -999.0,9,    1.680, -999.000,2,   3.2555
  64TR19900701,AR07Ea,    32,  1,      7,2,19900712, 60.1633, -32.6800, 2410,   2027.0,   3.3032,  34.9440,2,-999.0000,9,    275.0,2,    273.5,2,    12.36,2,    16.73,2,     0.01,2,     1.18,2,   -999.0,9, -999.000, -999.000,9,   3.1435
  64TR19900701,AR07Ea,    32,  1,      6,2,19900712, 60.1633, -32.6800, 2410,   2126.0,   3.2322,  34.9450,2,  34.9440,2,    275.7,2,   -999.0,9,    12.59,2,    16.80,2,     0.01,2,     1.17,2,   -999.0,9,    1.470, -999.000,2,   3.0643
  64TR19900701,AR07Ea,    32,  1,      5,2,19900712, 60.1633, -32.6800, 2410,   2230.0,   3.2072,  34.9440,2,-999.0000,9,    275.4,2,    274.6,2,    12.43,2,    16.43,2,     0.03,2,     1.14,2,   -999.0,9, -999.000, -999.000,9,   3.0298
  64TR19900701,AR07Ea,    32,  1,      4,2,19900712, 60.1633, -32.6800, 2410,   2283.0,   3.1992,  34.9450,2,  34.9450,2,    276.6,2,   -999.0,9,    13.01,2,    16.69,2,     0.03,2,     1.18,2,   -999.0,9,    1.430, -999.000,2,   3.0168
  64TR19900701,AR07Ea,    32,  1,      3,2,19900712, 60.1633, -32.6800, 2410,   2334.0,   3.2042,  34.9440,2,-999.0000,9,    276.5,2,    273.3,2,    12.71,2,    16.73,2,     0.02,2,     1.16,2,   -999.0,9, -999.000, -999.000,9,   3.0168
  64TR19900701,AR07Ea,    32,  1,      2,2,19900712, 60.1633, -32.6800, 2410,   2386.0,   3.2082,  34.9440,2,  34.9440,2,    276.7,2,   -999.0,9,    12.92,2,    16.79,2,     0.01,2,     1.16,2,   -999.0,9,    1.600, -999.000,2,   3.0157
  64TR19900701,AR07Ea,    32,  1,      1,2,19900712, 60.1633, -32.6800, 2410,   2441.0,   3.2082,  34.9430,2,-999.0000,9,    276.2,2,    273.1,2,    12.85,2,    16.74,2,     0.02,2,     1.17,2,   -999.0,9, -999.000, -999.000,9,   3.0103