BOTTLE,20081222PRINUNIVRMKPRINUNIVRMK
EXPOCODE,SECT_ID,STNNBR,CASTNO,BTLNBR,BTLNBR_FLAG_W,DATE,LATITUDE,LONGITUDE,DEPTH,CTDPRS,CTDTMP,CTDSAL,CTDSAL_FLAG_W,SALNTY,SALNTY_FLAG_W,CTDOXY,CTDOXY_FLAG_W,OXYGEN,OXYGEN_FLAG_W,SILCAT,SILCAT_FLAG_W,NITRAT,NITRAT_FLAG_W,NITRIT,NITRIT_FLAG_W,PHSPHT,PHSPHT_FLAG_W,TCARBN,TCARBN_FLAG_W,TRITUM,TRITER,TRITUM_FLAG_W,THETA
,,,,,,,,,METERS,DBARS,ITS-90,PSS-78,,PSS-78,,UMOL/KG,,UMOL/KG,,UMOL/KG,,UMOL/KG,,UMOL/KG,,UMOL/KG,,UMOL/KG,,TU,TU,,DEGC
  64TR19900701,AR07Ea,    11,  1,     24,2,19900705, 52.8333, -21.5017, 3843,      4.0,  11.8981,  35.2740,2,  35.2750,2,    276.3,2,   -999.0,9,     0.55,2,     4.13,2,     0.11,2,     0.33,2,   -999.0,9,    2.240, -999.000,2,  11.8976
  64TR19900701,AR07Ea,    11,  1,     23,2,19900705, 52.8333, -21.5017, 3843,     98.0,  10.2065,  35.3800,2,-999.0000,9,    249.4,2,    249.8,2,     5.81,2,    12.69,2,     0.01,2,     0.79,2,   2122.0,2, -999.000, -999.000,9,  10.1950
  64TR19900701,AR07Ea,    11,  1,     22,2,19900705, 52.8333, -21.5017, 3843,    200.0,   8.9568,  35.2210,2,  35.2190,2,    254.3,2,   -999.0,9,     7.02,2,    13.81,2,     0.05,2,     0.94,2,   -999.0,9,    2.280, -999.000,2,   8.9351
  64TR19900701,AR07Ea,    11,  1,     21,2,19900705, 52.8333, -21.5017, 3843,    307.0,   8.6229,  35.2220,2,-999.0000,9,    265.5,2,    260.2,2,     6.80,2,    13.83,2,     0.02,2,     0.90,2,   2128.0,2, -999.000, -999.000,9,   8.5901
  64TR19900701,AR07Ea,    11,  1,     20,2,19900705, 52.8333, -21.5017, 3843,    402.0,   8.3540,  35.1990,2,  35.1980,2,    270.9,2,   -999.0,9,     6.70,2,    13.64,2,     0.02,2,     0.91,2,   -999.0,9,    2.230, -999.000,2,   8.3116
  64TR19900701,AR07Ea,    11,  1,     19,2,19900705, 52.8333, -21.5017, 3843,    507.0,   7.5672,  35.0860,2,-999.0000,9,    250.4,2,    255.4,2,     8.30,2,    15.52,2,     0.01,2,     1.03,2,   2134.5,2, -999.000, -999.000,9,   7.5164
  64TR19900701,AR07Ea,    11,  1,     18,2,19900705, 52.8333, -21.5017, 3843,    753.0,   6.0705,  35.0680,2,  35.0710,2,    225.3,2,   -999.0,9,    11.19,2,    18.56,2,     0.01,2,     1.26,2,   -999.0,9,    1.730, -999.000,2,   6.0023
  64TR19900701,AR07Ea,    11,  1,     17,2,19900705, 52.8333, -21.5017, 3843,   1012.0,   4.5959,  34.9680,2,-999.0000,9,    250.2,2,    249.6,2,    11.17,2,    18.22,2,     0.02,2,     1.20,2,   2153.9,2, -999.000, -999.000,9,   4.5138
  64TR19900701,AR07Ea,    11,  1,     16,2,19900705, 52.8333, -21.5017, 3843,   1266.0,   3.9670,  34.9190,2,  34.9210,2,    265.3,2,   -999.0,9,    10.89,2,    17.61,2,     0.02,2,     1.16,2,   -999.0,9,    1.690, -999.000,2,   3.8681
  64TR19900701,AR07Ea,    11,  1,     15,2,19900705, 52.8333, -21.5017, 3843,   1517.0,   3.6771,  34.9050,2,-999.0000,9,    270.0,2,    273.7,2,    11.04,2,    17.32,2,     0.03,2,     1.19,2,   2145.9,2, -999.000, -999.000,9,   3.5592
  64TR19900701,AR07Ea,    11,  1,     14,2,19900705, 52.8333, -21.5017, 3843,   1772.0,   3.5352,  34.9080,2,  34.9070,2,    273.8,2,   -999.0,9,    11.54,2,    17.28,2,     0.03,2,     1.22,2,   -999.0,9,    1.400, -999.000,2,   3.3960
  64TR19900701,AR07Ea,    11,  1,     13,2,19900705, 52.8333, -21.5017, 3843,   2023.0,   3.4822,  34.9280,2,-999.0000,9,    270.2,2,    271.3,2,    12.51,2,    17.12,2,     0.00,2,     1.15,2,   2145.5,2, -999.000, -999.000,9,   3.3203
  64TR19900701,AR07Ea,    11,  1,     12,2,19900705, 52.8333, -21.5017, 3843,   2281.0,   3.3252,  34.9460,2,  34.9470,2,    265.3,2,   -999.0,9,    14.89,2,    17.16,2,     0.02,2,     1.11,2,   -999.0,9,    0.760, -999.000,2,   3.1409
  64TR19900701,AR07Ea,    11,  1,     11,2,19900705, 52.8333, -21.5017, 3843,   2534.0,   3.1073,  34.9510,2,-999.0000,9,    261.0,2,    262.1,2,    20.20,2,    17.94,2,     0.02,2,     1.25,2,   2156.9,2, -999.000, -999.000,9,   2.9019
  64TR19900701,AR07Ea,    11,  1,     10,2,19900705, 52.8333, -21.5017, 3843,   2791.0,   2.8893,  34.9510,2,  34.9470,2,    259.4,2,   -999.0,9,    24.33,2,    18.25,2,     0.01,2,     1.24,2,   -999.0,9,    0.580, -999.000,2,   2.6624
  64TR19900701,AR07Ea,    11,  1,      9,2,19900705, 52.8333, -21.5017, 3843,   3047.0,   2.7803,  34.9460,2,-999.0000,9,    256.1,2,    257.2,2,    26.94,2,    18.75,2,     0.01,2,     1.29,2,   2168.0,2, -999.000, -999.000,9,   2.5293
  64TR19900701,AR07Ea,    11,  1,      8,2,19900705, 52.8333, -21.5017, 3843,   3300.0,   2.7004,  34.9370,2,  34.9360,2,    253.0,2,   -999.0,9,    32.07,2,    19.71,2,     0.02,2,     1.39,2,   -999.0,9,    0.070, -999.000,2,   2.4245
  64TR19900701,AR07Ea,    11,  1,      7,2,19900705, 52.8333, -21.5017, 3843,   3479.0,   2.6244,  34.9270,2,-999.0000,9,    248.2,2,    247.6,2,    36.95,2,    20.67,2,     0.01,2,     1.45,2,   2182.5,2, -999.000, -999.000,9,   2.3310
  64TR19900701,AR07Ea,    11,  1,      6,2,19900705, 52.8333, -21.5017, 3843,   3584.0,   2.5874,  34.9220,2,  34.9210,2,    247.3,2,   -999.0,9,    39.69,2,    21.21,2,     0.02,2,     1.46,2,   -999.0,9,    0.000, -999.000,2,   2.2835
  64TR19900701,AR07Ea,    11,  1,      5,2,19900705, 52.8333, -21.5017, 3843,   3683.0,   2.5524,  34.9160,2,-999.0000,9,    244.8,2,    242.7,2,    40.87,2,    21.45,2,     0.02,2,     1.52,2,   2189.0,2, -999.000, -999.000,9,   2.2385
  64TR19900701,AR07Ea,    11,  1,      4,2,19900705, 52.8333, -21.5017, 3843,   3736.0,   2.5324,  34.9140,2,  34.9130,2,    243.8,2,   -999.0,9,    42.93,2,    21.75,2,     0.01,2,     1.53,2,   -999.0,9,    0.000, -999.000,2,   2.2131
  64TR19900701,AR07Ea,    11,  1,      3,2,19900705, 52.8333, -21.5017, 3843,   3787.0,   2.5104,  34.9090,2,-999.0000,9,    244.4,2,    239.8,2,    44.14,2,    21.93,2,     0.05,2,     1.50,2,   2193.3,2, -999.000, -999.000,9,   2.1860
  64TR19900701,AR07Ea,    11,  1,      2,2,19900705, 52.8333, -21.5017, 3843,   3837.0,   2.5034,  34.9090,2,  34.9090,2,    243.2,2,   -999.0,9,    44.35,2,    22.04,2,     0.02,2,     1.51,2,   -999.0,9,    0.000, -999.000,2,   2.1735
  64TR19900701,AR07Ea,    11,  1,      1,2,19900705, 52.8333, -21.5017, 3843,   3893.0,   2.5074,  34.9090,2,-999.0000,9,    244.1,2,    239.8,2,    43.91,2,    22.00,2,     0.03,2,     1.54,2,   2194.3,2, -999.000, -999.000,9,   2.1711
  64TR19900701,AR07Ea,    12,  1,     24,2,19900706, 53.0833, -22.2583, 4019,      5.0,  11.6212,-999.0000,9,  35.3110,2,    277.7,3,   -999.0,9,     1.25,2,     5.14,2,     0.14,2,     0.45,2,   -999.0,9, -999.000, -999.000,9,  11.6206
  64TR19900701,AR07Ea,    12,  1,     23,2,19900706, 53.0833, -22.2583, 4019,     92.0,   9.6497,-999.0000,9,  35.3060,2,    259.2,3,    256.5,2,     6.04,2,    13.21,2,     0.04,2,     0.87,2,   -999.0,9, -999.000, -999.000,9,   9.6393
  64TR19900701,AR07Ea,    12,  1,     22,2,19900706, 53.0833, -22.2583, 4019,    200.0,   8.6889,-999.0000,9,  35.2070,2,    258.9,3,   -999.0,9,     6.91,2,    13.92,2,     0.05,2,     0.95,2,   -999.0,9, -999.000, -999.000,9,   8.6676
  64TR19900701,AR07Ea,    12,  1,     21,2,19900706, 53.0833, -22.2583, 4019,    301.0,   8.5569,-999.0000,9,  35.2310,2,    268.4,3,    272.0,2,     6.42,2,    13.47,2,     0.05,2,     0.94,2,   -999.0,9, -999.000, -999.000,9,   8.5249
  64TR19900701,AR07Ea,    12,  1,     20,2,19900706, 53.0833, -22.2583, 4019,    404.0,   8.5330,-999.0000,9,  35.2300,2,    269.4,3,   -999.0,9,     6.27,2,    13.30,2,     0.04,2,     0.89,2,   -999.0,9, -999.000, -999.000,9,   8.4898
  64TR19900701,AR07Ea,    12,  1,     19,2,19900706, 53.0833, -22.2583, 4019,    505.0,   8.4720,-999.0000,9,  35.2200,2,    271.3,3,    270.0,2,     6.36,2,    13.41,2,     0.03,2,     0.97,2,   -999.0,9, -999.000, -999.000,9,   8.4179
  64TR19900701,AR07Ea,    12,  1,     18,2,19900706, 53.0833, -22.2583, 4019,    756.0,   7.0053,-999.0000,9,  35.0390,2,    237.8,3,   -999.0,9,     9.61,2,    17.14,2,     0.01,2,     1.14,2,   -999.0,9, -999.000, -999.000,9,   6.9315
  64TR19900701,AR07Ea,    12,  1,     17,2,19900706, 53.0833, -22.2583, 4019,   1011.0,   5.1238,-999.0000,9,  34.9660,2,    236.8,3,    240.0,2,    11.07,2,    18.47,2,     0.02,2,     1.24,2,   -999.0,9, -999.000, -999.000,9,   5.0378
  64TR19900701,AR07Ea,    12,  1,     16,2,19900706, 53.0833, -22.2583, 4019,   1262.0,   4.1980,-999.0000,9,  34.9270,2,    252.5,3,   -999.0,9,    10.92,2,    17.98,2,     0.03,2,     1.23,2,   -999.0,9, -999.000, -999.000,9,   4.0973
  64TR19900701,AR07Ea,    12,  1,     15,2,19900706, 53.0833, -22.2583, 4019,   1517.0,   3.7891,-999.0000,9,  34.9080,2,    265.7,3,    271.0,2,    11.03,2,    17.62,2,     0.02,2,     1.19,2,   -999.0,9, -999.000, -999.000,9,   3.6699
  64TR19900701,AR07Ea,    12,  1,     14,2,19900706, 53.0833, -22.2583, 4019,   1771.0,   3.5711,-999.0000,9,  34.8970,2,    272.6,3,   -999.0,9,    11.00,2,    17.27,2,     0.01,2,     1.17,2,   -999.0,9, -999.000, -999.000,9,   3.4315
  64TR19900701,AR07Ea,    12,  1,     13,2,19900706, 53.0833, -22.2583, 4019,   2026.0,   3.5192,-999.0000,9,  34.9030,2,    273.0,3,    275.2,2,    11.46,2,    17.12,2,     0.03,2,     1.14,2,   -999.0,9, -999.000, -999.000,9,   3.3565
  64TR19900701,AR07Ea,    12,  1,     12,2,19900706, 53.0833, -22.2583, 4019,   2280.0,   3.4502,-999.0000,9,  34.9340,2,    269.2,3,   -999.0,9,    12.32,2,    17.16,2,     0.03,2,     1.19,2,   -999.0,9, -999.000, -999.000,9,   3.2640
  64TR19900701,AR07Ea,    12,  1,     11,2,19900706, 53.0833, -22.2583, 4019,   2536.0,   3.3162,-999.0000,9,  34.9440,2,    268.7,3,    269.8,2,    13.85,2,    17.05,2,     0.02,2,     1.15,2,   -999.0,9, -999.000, -999.000,9,   3.1068
  64TR19900701,AR07Ea,    12,  1,     10,2,19900706, 53.0833, -22.2583, 4019,   2795.0,   3.1472,-999.0000,9,  34.9510,2,    268.2,3,   -999.0,9,    16.53,2,    17.33,2,     0.02,2,     1.19,2,   -999.0,9, -999.000, -999.000,9,   2.9146
  64TR19900701,AR07Ea,    12,  1,      9,2,19900706, 53.0833, -22.2583, 4019,   3045.0,   2.9853,-999.0000,9,  34.9530,2,    263.1,3,    263.1,2,    20.64,2,    17.94,2,     0.04,2,     1.25,2,   -999.0,9, -999.000, -999.000,9,   2.7300
  64TR19900701,AR07Ea,    12,  1,      8,2,19900706, 53.0833, -22.2583, 4019,   3303.0,   2.8533,-999.0000,9,  34.9490,2,    260.9,3,   -999.0,9,    25.19,2,    18.42,2,     0.02,2,     1.27,2,   -999.0,9, -999.000, -999.000,9,   2.5734
  64TR19900701,AR07Ea,    12,  1,      7,2,19900706, 53.0833, -22.2583, 4019,   3558.0,   2.7403,-999.0000,9,  34.9390,2,    256.1,3,    253.0,2,    31.27,2,    19.57,2,     0.02,2,     1.38,2,   -999.0,9, -999.000, -999.000,9,   2.4353
  64TR19900701,AR07Ea,    12,  1,      6,2,19900706, 53.0833, -22.2583, 4019,   3765.0,   2.6434,-999.0000,9,  34.9200,2,    250.6,3,   -999.0,9,    38.09,2,    20.93,2,     0.02,2,     1.45,2,   -999.0,9, -999.000, -999.000,9,   2.3179
  64TR19900701,AR07Ea,    12,  1,      5,3,19900706, 53.0833, -22.2583, 4019,   3866.0,   2.6124,-999.0000,9,  34.9180,0,    248.1,3,    247.6,3,  -999.00,9,  -999.00,9,  -999.00,9,  -999.00,9,   -999.0,9, -999.000, -999.000,9,-999.0000
  64TR19900701,AR07Ea,    12,  1,      4,2,19900706, 53.0833, -22.2583, 4019,   3916.0,   2.5974,-999.0000,9,  34.9170,2,    247.6,3,   -999.0,9,    41.28,2,    21.69,2,     0.04,2,     1.53,2,   -999.0,9, -999.000, -999.000,9,   2.2559
  64TR19900701,AR07Ea,    12,  1,      3,2,19900706, 53.0833, -22.2583, 4019,   3968.0,   2.5734,-999.0000,9,  34.9130,2,    246.4,3,    240.6,2,    42.69,2,    22.05,2,     0.04,2,     1.54,2,   -999.0,9, -999.000, -999.000,9,   2.2267
  64TR19900701,AR07Ea,    12,  1,      2,2,19900706, 53.0833, -22.2583, 4019,   4022.0,   2.5584,-999.0000,9,  34.9120,2,    245.4,3,   -999.0,9,    43.54,2,    22.08,2,     0.02,2,     1.54,2,   -999.0,9, -999.000, -999.000,9,   2.2059
  64TR19900701,AR07Ea,    12,  1,      1,2,19900706, 53.0833, -22.2583, 4019,   4082.0,   2.5224,-999.0000,9,  34.9070,2,    243.6,3,    238.4,2,    45.16,2,    22.48,2,     0.05,2,     1.56,2,   -999.0,9, -999.000, -999.000,9,   2.1639
  64TR19900701,AR07Ea,    13,  1,     24,2,19900706, 53.3333, -23.0000, 3983,      5.0,  11.6882,-999.0000,9,  35.2640,2,    260.1,3,   -999.0,9,     0.65,2,     4.58,2,     0.13,2,     0.38,2,   -999.0,9, -999.000, -999.000,9,  11.6876
  64TR19900701,AR07Ea,    13,  1,     23,2,19900706, 53.3333, -23.0000, 3983,    103.0,   9.3648,-999.0000,9,  35.2280,2,    251.4,3,    262.7,2,     6.74,2,    13.67,2,     0.03,2,     0.90,2,   2133.9,2, -999.000, -999.000,9,   9.3533
  64TR19900701,AR07Ea,    13,  1,     22,2,19900706, 53.3333, -23.0000, 3983,    202.0,   8.8339,-999.0000,9,  35.2240,2,    254.2,3,   -999.0,9,     6.79,2,    13.85,2,     0.02,2,     0.92,2,   -999.0,9, -999.000, -999.000,9,   8.8121
  64TR19900701,AR07Ea,    13,  1,     21,2,19900706, 53.3333, -23.0000, 3983,    301.0,   8.5759,-999.0000,9,  35.2290,2,    265.2,3,    267.3,2,     6.45,2,    13.44,2,     0.01,2,     0.89,2,   2127.7,2, -999.000, -999.000,9,   8.5438
  64TR19900701,AR07Ea,    13,  1,     20,2,19900706, 53.3333, -23.0000, 3983,    403.0,   8.5380,-999.0000,9,  35.2300,2,    268.0,3,   -999.0,9,     6.30,2,    13.33,2,     0.03,2,     0.89,2,   -999.0,9, -999.000, -999.000,9,   8.4949
  64TR19900701,AR07Ea,    13,  1,     19,2,19900706, 53.3333, -23.0000, 3983,    505.0,   8.5010,-999.0000,9,  35.2230,2,    270.1,3,    268.5,2,     6.39,2,    13.45,2,     0.01,2,     0.89,2,   2126.4,2, -999.000, -999.000,9,   8.4468
  64TR19900701,AR07Ea,    13,  1,     18,2,19900706, 53.3333, -23.0000, 3983,    757.0,   6.8783,-999.0000,9,  35.0140,2,    245.4,3,   -999.0,9,     9.69,2,    17.09,2,     0.03,2,     1.17,2,   -999.0,9, -999.000, -999.000,9,   6.8052
  64TR19900701,AR07Ea,    13,  1,     17,2,19900706, 53.3333, -23.0000, 3983,   1007.0,   5.4277,-999.0000,9,  35.0110,2,    227.6,3,    233.9,2,    11.31,2,    18.54,2,     0.01,2,     1.22,2,   2161.6,2, -999.000, -999.000,9,   5.3397
  64TR19900701,AR07Ea,    13,  1,     16,4,19900706, 53.3333, -23.0000, 3983,   1265.0,   4.2760,-999.0000,9,-999.0000,9,    254.1,3,   -999.0,9,  -999.00,9,  -999.00,9,  -999.00,9,  -999.00,9,   -999.0,9, -999.000, -999.000,9,-999.0000
  64TR19900701,AR07Ea,    13,  1,     15,2,19900706, 53.3333, -23.0000, 3983,   1516.0,   3.8231,-999.0000,9,  34.9060,2,    267.5,3,    270.6,2,    10.77,2,    17.42,2,     0.02,2,     1.18,2,   2149.8,2, -999.000, -999.000,9,   3.7036
  64TR19900701,AR07Ea,    13,  1,     14,2,19900706, 53.3333, -23.0000, 3983,   1771.0,   3.5891,-999.0000,9,  34.8900,2,    275.0,3,   -999.0,9,    10.66,2,    17.22,2,     0.00,2,     1.15,2,   -999.0,9, -999.000, -999.000,9,   3.4493
  64TR19900701,AR07Ea,    13,  1,     13,2,19900706, 53.3333, -23.0000, 3983,   2024.0,   3.5132,-999.0000,9,  34.9000,2,    276.5,3,    276.6,2,    11.06,2,    17.02,2,     0.02,2,     1.16,2,   2145.7,2, -999.000, -999.000,9,   3.3508
  64TR19900701,AR07Ea,    13,  1,     12,2,19900706, 53.3333, -23.0000, 3983,   2279.0,   3.5152,-999.0000,9,  34.9230,2,    273.1,3,   -999.0,9,    11.86,2,    17.03,2,     0.01,2,     1.11,2,   -999.0,9, -999.000, -999.000,9,   3.3280
  64TR19900701,AR07Ea,    13,  1,     11,2,19900706, 53.3333, -23.0000, 3983,   2533.0,   3.4172,-999.0000,9,  34.9380,2,    271.3,3,    272.4,2,    13.17,2,    17.05,2,     0.00,2,     1.16,2,   2148.6,2, -999.000, -999.000,9,   3.2063
  64TR19900701,AR07Ea,    13,  1,     10,2,19900706, 53.3333, -23.0000, 3983,   2792.0,   3.2242,-999.0000,9,  34.9510,2,    266.4,3,   -999.0,9,    18.00,2,    17.69,2,     0.00,2,     1.22,2,   -999.0,9, -999.000, -999.000,9,   2.9904
  64TR19900701,AR07Ea,    13,  1,      9,2,19900706, 53.3333, -23.0000, 3983,   3045.0,   2.9863,-999.0000,9,  34.9480,2,    260.6,3,    256.4,2,    24.66,2,    18.70,2,     0.01,2,     1.27,2,   2167.1,2, -999.000, -999.000,9,   2.7310
  64TR19900701,AR07Ea,    13,  1,      8,2,19900706, 53.3333, -23.0000, 3983,   3305.0,   2.8403,-999.0000,9,  34.9470,2,    262.3,3,   -999.0,9,    26.35,2,    18.77,2,     0.00,2,     1.30,2,   -999.0,9, -999.000, -999.000,9,   2.5605
  64TR19900701,AR07Ea,    13,  1,      7,2,19900706, 53.3333, -23.0000, 3983,   3561.0,   2.7393,-999.0000,9,  34.9370,2,    258.8,3,    252.4,2,    31.64,2,    19.74,2,     0.00,2,     1.37,2,   2177.4,2, -999.000, -999.000,9,   2.4340
  64TR19900701,AR07Ea,    13,  1,      6,2,19900706, 53.3333, -23.0000, 3983,   3737.0,   2.6614,-999.0000,9,  34.9270,2,    254.4,3,   -999.0,9,    36.67,2,    20.64,2,     0.01,2,     1.43,2,   -999.0,9, -999.000, -999.000,9,   2.3385
  64TR19900701,AR07Ea,    13,  1,      5,2,19900706, 53.3333, -23.0000, 3983,   3842.0,   2.6074,-999.0000,9,  34.9210,2,    251.8,3,    246.7,2,    39.57,2,    21.19,2,     0.01,2,     1.42,2,   2188.3,2, -999.000, -999.000,9,   2.2741
  64TR19900701,AR07Ea,    13,  1,      4,2,19900706, 53.3333, -23.0000, 3983,   3892.0,   2.5884,-999.0000,9,  34.9170,2,    250.3,3,   -999.0,9,    41.40,2,    21.56,2,     0.01,2,     1.53,2,   -999.0,9, -999.000, -999.000,9,   2.2499
  64TR19900701,AR07Ea,    13,  1,      3,2,19900706, 53.3333, -23.0000, 3983,   3943.0,   2.5634,-999.0000,9,  34.9130,2,    248.5,3,    240.6,2,    42.96,2,    21.80,2,     0.01,2,     1.52,2,   2193.1,2, -999.000, -999.000,9,   2.2198
  64TR19900701,AR07Ea,    13,  1,      2,2,19900706, 53.3333, -23.0000, 3983,   3995.0,   2.5444,-999.0000,9,  34.9100,2,    247.6,3,   -999.0,9,    44.08,2,    22.01,2,     0.01,2,     1.55,2,   -999.0,9, -999.000, -999.000,9,   2.1954
  64TR19900701,AR07Ea,    13,  1,      1,2,19900706, 53.3333, -23.0000, 3983,   4049.0,   2.5434,-999.0000,9,  34.9100,2,    246.4,3,    239.1,2,    43.79,2,    22.02,2,     0.00,2,     1.54,2,   2194.4,2, -999.000, -999.000,9,   2.1882