BOTTLE,20081222PRINUNIVRMKPRINUNIVRMK
EXPOCODE,SECT_ID,STNNBR,CASTNO,BTLNBR,BTLNBR_FLAG_W,DATE,LATITUDE,LONGITUDE,DEPTH,CTDPRS,CTDTMP,CTDSAL,CTDSAL_FLAG_W,SALNTY,SALNTY_FLAG_W,CTDOXY,CTDOXY_FLAG_W,OXYGEN,OXYGEN_FLAG_W,SILCAT,SILCAT_FLAG_W,NITRAT,NITRAT_FLAG_W,NITRIT,NITRIT_FLAG_W,PHSPHT,PHSPHT_FLAG_W,TCARBN,TCARBN_FLAG_W,TRITUM,TRITER,TRITUM_FLAG_W,THETA
,,,,,,,,,METERS,DBARS,ITS-90,PSS-78,,PSS-78,,UMOL/KG,,UMOL/KG,,UMOL/KG,,UMOL/KG,,UMOL/KG,,UMOL/KG,,UMOL/KG,,TU,TU,,DEGC
  64TR19900701,AR07Ea,    20,  1,     24,2,19900709, 55.8650, -26.8833, 2870,      4.0,   9.0938,  34.9100,2,  34.9110,2,    287.1,2,   -999.0,9,     2.85,2,     8.77,2,     0.15,2,     0.67,2,   -999.0,9, -999.000, -999.000,9,   9.0934
  64TR19900701,AR07Ea,    20,  1,     23,2,19900709, 55.8650, -26.8833, 2870,     96.0,   7.4142,  35.0220,2,-999.0000,9,    268.1,2,    267.6,2,     8.21,2,    15.12,2,     0.01,2,     1.01,2,   2130.8,2, -999.000, -999.000,9,   7.4050
  64TR19900701,AR07Ea,    20,  1,     22,2,19900709, 55.8650, -26.8833, 2870,    197.0,   6.1695,  34.9530,2,  34.9460,2,    261.0,2,   -999.0,9,     9.56,2,    16.32,2,     0.01,2,     1.08,2,   -999.0,9, -999.000, -999.000,9,   6.1523
  64TR19900701,AR07Ea,    20,  1,     21,2,19900709, 55.8650, -26.8833, 2870,    301.0,   6.3295,  35.0350,2,-999.0000,9,    276.4,2,    273.1,2,     8.24,2,    15.41,2,     0.00,2,     1.02,2,   2139.9,2, -999.000, -999.000,9,   6.3026
  64TR19900701,AR07Ea,    20,  1,     20,2,19900709, 55.8650, -26.8833, 2870,    401.0,   5.9876,  35.0070,2,  35.0080,2,    278.4,2,   -999.0,9,     8.30,2,    15.67,2,     0.00,2,     1.03,2,   -999.0,9, -999.000, -999.000,9,   5.9526
  64TR19900701,AR07Ea,    20,  1,     19,2,19900709, 55.8650, -26.8833, 2870,    505.0,   5.4957,  34.9820,2,-999.0000,9,    241.0,2,    240.2,2,    11.13,2,    18.10,2,     0.00,2,     1.19,2,   2158.5,2, -999.000, -999.000,9,   5.4531
  64TR19900701,AR07Ea,    20,  1,     18,2,19900709, 55.8650, -26.8833, 2870,    755.0,   4.4409,  34.9470,2,  34.9460,2,    252.3,2,   -999.0,9,    11.12,2,    18.01,2,     0.01,2,     1.21,2,   -999.0,9, -999.000, -999.000,9,   4.3820
  64TR19900701,AR07Ea,    20,  1,     17,2,19900709, 55.8650, -26.8833, 2870,   1010.0,   3.8271,  34.9070,2,-999.0000,9,    268.5,2,    268.9,2,    10.69,2,    17.34,2,     0.00,2,     1.15,2,   2150.9,2, -999.000, -999.000,9,   3.7513
  64TR19900701,AR07Ea,    20,  1,     16,2,19900709, 55.8650, -26.8833, 2870,   1266.0,   3.5881,  34.8960,2,  34.8960,2,    276.1,2,   -999.0,9,    10.66,2,    17.01,2,     0.00,2,     1.13,2,   -999.0,9, -999.000, -999.000,9,   3.4929
  64TR19900701,AR07Ea,    20,  1,     15,2,19900709, 55.8650, -26.8833, 2870,   1518.0,   3.4882,  34.9040,2,-999.0000,9,    274.3,2,    276.6,2,    11.06,2,    16.86,2,     0.00,2,     1.13,2,   2147.5,2, -999.000, -999.000,9,   3.3724
  64TR19900701,AR07Ea,    20,  1,     14,2,19900709, 55.8650, -26.8833, 2870,   1771.0,   3.4772,  34.9310,2,  34.9300,2,    273.9,2,   -999.0,9,    11.57,2,    16.65,2,     0.00,2,     1.13,2,   -999.0,9, -999.000, -999.000,9,   3.3388
  64TR19900701,AR07Ea,    20,  1,     13,2,19900709, 55.8650, -26.8833, 2870,   1925.0,   3.3832,  34.9410,2,-999.0000,9,    271.7,2,    271.2,2,    12.69,2,    16.77,2,     0.00,2,     1.14,2,   2150.1,2, -999.000, -999.000,9,   3.2319
  64TR19900701,AR07Ea,    20,  1,     12,2,19900709, 55.8650, -26.8833, 2870,   2024.0,   3.2972,  34.9450,2,  34.9450,2,    271.4,2,   -999.0,9,    13.36,2,    16.86,2,     0.00,2,     1.10,2,   -999.0,9, -999.000, -999.000,9,   3.1379
  64TR19900701,AR07Ea,    20,  1,     11,2,19900709, 55.8650, -26.8833, 2870,   2127.0,   3.2282,  34.9580,2,-999.0000,9,    271.5,2,    270.1,2,    13.54,2,    16.60,2,     0.00,2,     1.08,2,   2152.1,2, -999.000, -999.000,9,   3.0602
  64TR19900701,AR07Ea,    20,  1,     10,2,19900709, 55.8650, -26.8833, 2870,   2226.0,   3.1542,  34.9620,2,  34.9610,2,    270.7,2,   -999.0,9,    14.15,2,    16.49,2,     0.00,2,     1.12,2,   -999.0,9, -999.000, -999.000,9,   2.9780
  64TR19900701,AR07Ea,    20,  1,      9,2,19900709, 55.8650, -26.8833, 2870,   2332.0,   3.0183,  34.9610,2,-999.0000,9,    266.9,2,    268.1,2,    16.53,2,    16.80,2,     0.01,2,     1.18,2,   2156.5,2, -999.000, -999.000,9,   2.8342
  64TR19900701,AR07Ea,    20,  1,      8,2,19900709, 55.8650, -26.8833, 2870,   2435.0,   2.9093,  34.9590,2,  34.9580,2,    266.7,2,   -999.0,9,    18.89,2,    17.18,2,     0.01,2,     1.24,2,   -999.0,9, -999.000, -999.000,9,   2.7172
  64TR19900701,AR07Ea,    20,  1,      7,2,19900709, 55.8650, -26.8833, 2870,   2536.0,   2.8433,  34.9580,2,-999.0000,9,    265.0,2,    265.8,2,    20.21,2,    17.26,2,     0.00,2,     1.18,2,   2160.0,2, -999.000, -999.000,9,   2.6426
  64TR19900701,AR07Ea,    20,  1,      6,2,19900709, 55.8650, -26.8833, 2870,   2638.0,   2.8013,  34.9580,2,  34.9560,2,    264.7,2,   -999.0,9,    21.28,2,    17.45,2,     0.00,2,     1.20,2,   -999.0,9, -999.000, -999.000,9,   2.5914
  64TR19900701,AR07Ea,    20,  1,      5,2,19900709, 55.8650, -26.8833, 2870,   2741.0,   2.7543,  34.9570,2,-999.0000,9,    264.9,2,    263.8,2,    22.08,2,    17.63,2,     0.00,2,     1.20,2,   2162.6,2, -999.000, -999.000,9,   2.5351
  64TR19900701,AR07Ea,    20,  1,      4,2,19900709, 55.8650, -26.8833, 2870,   2792.0,   2.7363,  34.9580,2,  34.9570,2,    265.5,2,   -999.0,9,    22.51,2,    17.63,2,     0.00,2,     1.22,2,   -999.0,9, -999.000, -999.000,9,   2.5123
  64TR19900701,AR07Ea,    20,  1,      3,2,19900709, 55.8650, -26.8833, 2870,   2843.0,   2.7203,  34.9570,2,-999.0000,9,    263.8,2,    262.4,2,    23.22,2,    17.60,2,     0.01,2,     1.23,2,   2164.6,2, -999.000, -999.000,9,   2.4915
  64TR19900701,AR07Ea,    20,  1,      2,2,19900709, 55.8650, -26.8833, 2870,   2883.0,   2.7153,  34.9580,2,  34.9570,2,    264.7,2,   -999.0,9,    23.06,2,    17.44,2,     0.01,2,     1.22,2,   -999.0,9, -999.000, -999.000,9,   2.4825
  64TR19900701,AR07Ea,    20,  1,      1,2,19900709, 55.8650, -26.8833, 2870,   2925.0,   2.7233,  34.9590,2,-999.0000,9,    266.3,2,    263.6,2,    22.59,2,    17.40,2,     0.01,2,     1.22,2,   2165.6,2, -999.000, -999.000,9,   2.4861
  64TR19900701,AR07Ea,    21,  1,     24,2,19900709, 56.3917, -27.1983, 2736,      2.0,   9.7577,  35.0760,2,  35.0770,2,    280.0,2,   -999.0,9,     3.77,2,     8.49,2,     0.17,2,     0.63,2,   -999.0,9,    2.270, -999.000,2,   9.7575
  64TR19900701,AR07Ea,    21,  1,     23,2,19900709, 56.3917, -27.1983, 2736,     98.0,   7.7121,  35.1650,2,-999.0000,9,    272.4,2,    272.4,2,     7.25,2,    14.39,2,     0.01,2,     0.93,2,   2129.1,2, -999.000, -999.000,9,   7.7024
  64TR19900701,AR07Ea,    21,  1,     22,2,19900709, 56.3917, -27.1983, 2736,    199.0,   7.1683,  35.1140,2,  35.1130,2,    270.4,2,   -999.0,9,     7.91,2,    15.14,2,     0.01,2,     1.01,2,   -999.0,9,    2.260, -999.000,2,   7.1494
  64TR19900701,AR07Ea,    21,  1,     21,2,19900709, 56.3917, -27.1983, 2736,    302.0,   6.8624,  35.1170,2,-999.0000,9,    278.7,2,    277.7,2,     7.51,2,    14.81,2,     0.02,2,     1.00,2,   2129.5,2, -999.000, -999.000,9,   6.8341
  64TR19900701,AR07Ea,    21,  1,     20,2,19900709, 56.3917, -27.1983, 2736,    400.0,   6.7294,  35.1140,2,  35.1140,2,    281.4,2,   -999.0,9,     7.51,2,    14.83,2,     0.01,2,     1.00,2,   -999.0,9,    2.210, -999.000,2,   6.6921
  64TR19900701,AR07Ea,    21,  1,     19,2,19900709, 56.3917, -27.1983, 2736,    502.0,   6.6824,  35.1150,2,-999.0000,9,    284.2,2,    281.3,2,     7.52,2,    14.80,2,     0.00,2,     0.99,2,   2129.9,2, -999.000, -999.000,9,   6.6354
  64TR19900701,AR07Ea,    21,  1,     18,2,19900709, 56.3917, -27.1983, 2736,    754.0,   6.5434,  35.1090,2,  35.1090,2,    279.2,2,   -999.0,9,     7.85,2,    15.11,2,     0.02,2,     1.01,2,   -999.0,9,    2.360, -999.000,2,   6.4724
  64TR19900701,AR07Ea,    21,  1,     17,2,19900709, 56.3917, -27.1983, 2736,   1010.0,   4.6199,  34.9560,2,-999.0000,9,    250.6,2,    248.4,2,    11.27,2,    18.22,2,     0.00,2,     1.21,2,   2153.8,2, -999.000, -999.000,9,   4.5378
  64TR19900701,AR07Ea,    21,  1,     16,4,19900709, 56.3917, -27.1983, 2736,   1264.0,   3.8201,  34.9050,2,-999.0000,9,    269.7,2,   -999.0,9,  -999.00,9,  -999.00,9,  -999.00,9,  -999.00,9,   -999.0,9,    2.280, -999.000,2,   3.7229
  64TR19900701,AR07Ea,    21,  1,     15,4,19900709, 56.3917, -27.1983, 2736,   1558.0,   3.5302,  34.8940,2,-999.0000,9,    277.2,2,   -999.0,9,  -999.00,9,  -999.00,9,  -999.00,9,  -999.00,9,   -999.0,9, -999.000, -999.000,9,   3.4104
  64TR19900701,AR07Ea,    21,  1,     14,2,19900709, 56.3917, -27.1983, 2736,   1654.0,   3.5082,  34.8980,2,  34.8990,2,    277.5,2,   -999.0,9,    10.95,2,    17.10,2,     0.00,2,     1.16,2,   -999.0,9,    1.530, -999.000,2,   3.3801
  64TR19900701,AR07Ea,    21,  1,     13,2,19900709, 56.3917, -27.1983, 2736,   1765.0,   3.5012,  34.9110,2,-999.0000,9,    275.4,2,    275.3,2,    11.32,2,    16.90,2,     0.01,2,     1.14,2,   2144.6,2, -999.000, -999.000,9,   3.3631
  64TR19900701,AR07Ea,    21,  1,     12,2,19900709, 56.3917, -27.1983, 2736,   1866.0,   3.4992,  34.9270,2,  34.9270,2,    274.1,2,   -999.0,9,    11.79,2,    16.97,2,     0.00,2,     1.14,2,   -999.0,9,    1.460, -999.000,2,   3.3518
  64TR19900701,AR07Ea,    21,  1,     11,2,19900709, 56.3917, -27.1983, 2736,   1965.0,   3.4692,  34.9410,2,-999.0000,9,    271.8,2,    271.5,2,    12.07,2,    16.86,2,     0.00,2,     1.13,2,   2146.7,2, -999.000, -999.000,9,   3.3129
  64TR19900701,AR07Ea,    21,  1,     10,2,19900709, 56.3917, -27.1983, 2736,   2066.0,   3.3892,  34.9530,2,  34.9530,2,    272.0,2,   -999.0,9,    12.48,2,    16.66,2,     0.01,2,     1.13,2,   -999.0,9,    1.100, -999.000,2,   3.2245
  64TR19900701,AR07Ea,    21,  1,      9,2,19900709, 56.3917, -27.1983, 2736,   2166.0,   3.3182,  34.9630,2,-999.0000,9,    271.3,2,    271.2,2,    12.46,2,    16.41,2,     0.00,2,     1.11,2,   2147.8,2, -999.000, -999.000,9,   3.1451
  64TR19900701,AR07Ea,    21,  1,      8,2,19900709, 56.3917, -27.1983, 2736,   2269.0,   3.1702,  34.9670,2,  34.9670,2,    271.3,2,   -999.0,9,    13.32,2,    16.49,2,     0.01,2,     1.12,2,   -999.0,9,    1.130, -999.000,2,   2.9896
  64TR19900701,AR07Ea,    21,  1,      7,2,19900709, 56.3917, -27.1983, 2736,   2372.0,   3.0433,  34.9670,2,-999.0000,9,    269.6,2,    270.3,2,    15.04,2,    16.81,2,     0.00,2,     1.13,2,   2150.3,2, -999.000, -999.000,9,   2.8549
  64TR19900701,AR07Ea,    21,  1,      6,2,19900709, 56.3917, -27.1983, 2736,   2476.0,   2.9303,  34.9680,2,  34.9680,2,    269.7,2,   -999.0,9,    15.74,2,    16.66,2,     0.01,2,     1.14,2,   -999.0,9,    1.060, -999.000,2,   2.7338
  64TR19900701,AR07Ea,    21,  1,      5,2,19900709, 56.3917, -27.1983, 2736,   2579.0,   2.8253,  34.9670,2,-999.0000,9,    270.4,2,    270.0,2,    17.18,2,    16.74,2,     0.02,2,     1.15,2,   2155.2,2, -999.000, -999.000,9,   2.6207
  64TR19900701,AR07Ea,    21,  1,      4,2,19900709, 56.3917, -27.1983, 2736,   2626.0,   2.8003,  34.9680,2,  34.9680,2,    270.8,2,   -999.0,9,    16.55,2,    16.58,2,     0.00,2,     1.13,2,   -999.0,9,    1.000, -999.000,2,   2.5915
  64TR19900701,AR07Ea,    21,  1,      3,2,19900709, 56.3917, -27.1983, 2736,   2683.0,   2.7763,  34.9690,2,-999.0000,9,    270.8,2,    270.3,2,    17.20,2,    16.55,2,     0.04,2,     1.17,2,   2156.0,2, -999.000, -999.000,9,   2.5624
  64TR19900701,AR07Ea,    21,  1,      2,2,19900709, 56.3917, -27.1983, 2736,   2731.0,   2.7473,  34.9670,2,  34.9670,2,    269.0,2,   -999.0,9,    18.22,2,    16.70,2,     0.00,2,     1.14,2,   -999.0,9,    1.130, -999.000,2,   2.5292
  64TR19900701,AR07Ea,    21,  1,      1,2,19900709, 56.3917, -27.1983, 2736,   2779.0,   2.7513,  34.9670,2,-999.0000,9,    270.1,2,    268.3,2,    18.50,2,    16.81,2,     0.01,2,     1.15,2,   2157.8,2, -999.000, -999.000,9,   2.5283
  64TR19900701,AR07Ea,    22,  1,     24,2,19900709, 56.8367, -27.5417, 2805,      4.0,   9.4227,  34.9610,2,  34.9610,2,    287.9,2,   -999.0,9,     2.97,2,     8.43,2,     0.14,2,     0.64,2,   -999.0,9, -999.000, -999.000,9,   9.4223
  64TR19900701,AR07Ea,    22,  1,     23,2,19900709, 56.8367, -27.5417, 2805,    100.0,   7.7131,  35.0500,2,-999.0000,9,    270.5,2,    269.4,2,     7.53,2,    14.44,2,     0.15,2,     0.99,2,   -999.0,9, -999.000, -999.000,9,   7.7032
  64TR19900701,AR07Ea,    22,  1,     22,2,19900709, 56.8367, -27.5417, 2805,    202.0,   6.2475,  34.9500,2,  34.9550,2,    272.9,2,   -999.0,9,     8.89,2,    16.02,2,     0.01,2,     1.09,2,   -999.0,9, -999.000, -999.000,9,   6.2297
  64TR19900701,AR07Ea,    22,  1,     21,2,19900709, 56.8367, -27.5417, 2805,    303.0,   5.9466,  34.9640,2,-999.0000,9,    276.5,2,    275.6,2,     8.71,2,    15.97,2,     0.01,2,     1.10,2,   -999.0,9, -999.000, -999.000,9,   5.9204
  64TR19900701,AR07Ea,    22,  1,     20,2,19900709, 56.8367, -27.5417, 2805,    400.0,   5.8456,  34.9840,2,  34.9840,2,    257.9,2,   -999.0,9,     9.42,2,    16.66,2,     0.01,2,     1.13,2,   -999.0,9, -999.000, -999.000,9,   5.8111
  64TR19900701,AR07Ea,    22,  1,     19,2,19900709, 56.8367, -27.5417, 2805,    502.0,   5.6157,  35.0060,2,-999.0000,9,    238.6,2,    233.4,2,    11.13,2,    18.39,2,     0.00,2,     1.27,2,   -999.0,9, -999.000, -999.000,9,   5.5729
  64TR19900701,AR07Ea,    22,  1,     18,2,19900709, 56.8367, -27.5417, 2805,    757.0,   4.3490,  34.9310,2,  34.9310,2,    252.8,2,   -999.0,9,    11.02,2,    18.15,2,     0.00,2,     1.23,2,   -999.0,9, -999.000, -999.000,9,   4.2905
  64TR19900701,AR07Ea,    22,  1,     17,2,19900709, 56.8367, -27.5417, 2805,   1010.0,   3.8721,  34.9060,2,-999.0000,9,    266.2,2,    268.6,2,    10.78,2,    17.56,2,     0.00,2,     1.20,2,   -999.0,9, -999.000, -999.000,9,   3.7959
  64TR19900701,AR07Ea,    22,  1,     16,2,19900709, 56.8367, -27.5417, 2805,   1263.0,   3.6121,  34.8940,2,  34.8940,2,    274.7,2,   -999.0,9,    10.63,2,    17.02,2,     0.00,2,     1.16,2,   -999.0,9, -999.000, -999.000,9,   3.5170
  64TR19900701,AR07Ea,    22,  1,     15,2,19900709, 56.8367, -27.5417, 2805,   1516.0,   3.4812,  34.8940,2,-999.0000,9,    277.4,2,    278.5,2,    10.93,2,    17.22,2,     0.01,2,     1.14,2,   -999.0,9, -999.000, -999.000,9,   3.3656
  64TR19900701,AR07Ea,    22,  1,     14,2,19900709, 56.8367, -27.5417, 2805,   1719.0,   3.4822,  34.9160,2,  34.9150,2,    274.6,2,   -999.0,9,    11.39,2,    17.09,2,     0.00,2,     1.18,2,   -999.0,9, -999.000, -999.000,9,   3.3485
  64TR19900701,AR07Ea,    22,  1,     13,2,19900709, 56.8367, -27.5417, 2805,   1823.0,   3.4862,  34.9300,2,-999.0000,9,    271.9,2,    272.9,2,    11.82,2,    16.98,2,     0.00,2,     1.17,2,   -999.0,9, -999.000, -999.000,9,   3.3429
  64TR19900701,AR07Ea,    22,  1,     12,2,19900709, 56.8367, -27.5417, 2805,   1921.0,   3.4552,  34.9430,2,  34.9430,2,    271.2,2,   -999.0,9,    12.02,2,    16.83,2,     0.00,2,     1.16,2,   -999.0,9, -999.000, -999.000,9,   3.3032
  64TR19900701,AR07Ea,    22,  1,     11,2,19900709, 56.8367, -27.5417, 2805,   2026.0,   3.3782,  34.9540,2,-999.0000,9,    269.8,2,    270.9,2,    12.33,2,    16.69,2,     0.00,2,     1.15,2,   -999.0,9, -999.000, -999.000,9,   3.2175
  64TR19900701,AR07Ea,    22,  1,     10,2,19900709, 56.8367, -27.5417, 2805,   2130.0,   3.3192,  34.9590,2,  34.9640,2,    271.0,2,   -999.0,9,    13.55,2,    16.66,2,     0.00,2,     1.16,2,   -999.0,9, -999.000, -999.000,9,   3.1495
  64TR19900701,AR07Ea,    22,  1,      9,2,19900709, 56.8367, -27.5417, 2805,   2230.0,   3.2002,  34.9650,2,-999.0000,9,    269.8,2,    270.8,2,    13.25,2,    16.57,2,     0.00,2,     1.15,2,   -999.0,9, -999.000, -999.000,9,   3.0229
  64TR19900701,AR07Ea,    22,  1,      8,2,19900709, 56.8367, -27.5417, 2805,   2329.0,   3.0943,  34.9680,2,  34.9680,2,    270.0,2,   -999.0,9,    13.97,2,    16.61,2,     0.00,2,     1.14,2,   -999.0,9, -999.000, -999.000,9,   2.9092
  64TR19900701,AR07Ea,    22,  1,      7,2,19900709, 56.8367, -27.5417, 2805,   2432.0,   2.9853,  34.9700,2,-999.0000,9,    270.0,2,    270.5,2,    14.79,2,    16.52,2,     0.00,2,     1.15,2,   -999.0,9, -999.000, -999.000,9,   2.7921
  64TR19900701,AR07Ea,    22,  1,      6,2,19900709, 56.8367, -27.5417, 2805,   2534.0,   2.8913,  34.9690,2,  34.9690,2,    269.2,2,   -999.0,9,    15.72,2,    16.64,2,     0.01,2,     1.17,2,   -999.0,9, -999.000, -999.000,9,   2.6899
  64TR19900701,AR07Ea,    22,  1,      5,2,19900709, 56.8367, -27.5417, 2805,   2635.0,   2.8003,  34.9660,2,-999.0000,9,    268.5,2,    268.3,2,    17.96,2,    16.13,2,     0.05,3,     1.15,2,   -999.0,9, -999.000, -999.000,9,   2.5907
  64TR19900701,AR07Ea,    22,  1,      4,2,19900709, 56.8367, -27.5417, 2805,   2687.0,   2.7883,  34.9680,2,  34.9680,2,    269.7,2,   -999.0,9,    17.24,2,    16.72,2,     0.00,2,     1.17,2,   -999.0,9, -999.000, -999.000,9,   2.5737
  64TR19900701,AR07Ea,    22,  1,      3,2,19900709, 56.8367, -27.5417, 2805,   2742.0,   2.7773,  34.9690,2,-999.0000,9,    270.4,2,    269.4,2,    16.58,2,    16.75,2,     0.00,2,     1.16,2,   -999.0,9, -999.000, -999.000,9,   2.5575
  64TR19900701,AR07Ea,    22,  1,      2,2,19900709, 56.8367, -27.5417, 2805,   2792.0,   2.7703,  34.9700,2,  34.9690,2,    270.8,2,   -999.0,9,    16.88,2,    16.49,2,     0.00,2,     1.16,2,   -999.0,9, -999.000, -999.000,9,   2.5456
  64TR19900701,AR07Ea,    22,  1,      1,2,19900709, 56.8367, -27.5417, 2805,   2851.0,   2.7713,  34.9700,2,-999.0000,9,    271.5,2,    269.5,2,    16.96,2,    16.68,2,     0.00,2,     1.15,2,   -999.0,9, -999.000, -999.000,9,   2.5406