BOTTLE,20081222PRINUNIVRMKPRINUNIVRMK
EXPOCODE,SECT_ID,STNNBR,CASTNO,BTLNBR,BTLNBR_FLAG_W,DATE,LATITUDE,LONGITUDE,DEPTH,CTDPRS,CTDTMP,CTDSAL,CTDSAL_FLAG_W,SALNTY,SALNTY_FLAG_W,CTDOXY,CTDOXY_FLAG_W,OXYGEN,OXYGEN_FLAG_W,SILCAT,SILCAT_FLAG_W,NITRAT,NITRAT_FLAG_W,NITRIT,NITRIT_FLAG_W,PHSPHT,PHSPHT_FLAG_W,TCARBN,TCARBN_FLAG_W,TRITUM,TRITER,TRITUM_FLAG_W,THETA
,,,,,,,,,METERS,DBARS,ITS-90,PSS-78,,PSS-78,,UMOL/KG,,UMOL/KG,,UMOL/KG,,UMOL/KG,,UMOL/KG,,UMOL/KG,,UMOL/KG,,TU,TU,,DEGC
  64TR19900701,AR07Ea,     8,  1,     24,2,19900703, 52.3333, -19.0000, 4110,      1.0,  13.0839,  35.3900,2,  35.3900,2,   -999.0,9,   -999.0,9,     0.30,2,     0.02,2,     0.02,2,     0.18,2,   -999.0,9, -999.000, -999.000,9,  13.0838
  64TR19900701,AR07Ea,     8,  1,     23,2,19900703, 52.3333, -19.0000, 4110,    101.0,  10.1446,  35.3860,2,-999.0000,9,   -999.0,9,    249.3,2,     5.91,2,    12.80,2,     0.07,2,     0.86,2,   2126.6,2, -999.000, -999.000,9,  10.1328
  64TR19900701,AR07Ea,     8,  1,     22,2,19900703, 52.3333, -19.0000, 4110,    203.0,   9.2128,  35.2580,2,  35.2590,2,   -999.0,9,   -999.0,9,     7.00,2,    13.78,2,     0.00,2,     0.86,2,   -999.0,9, -999.000, -999.000,9,   9.1903
  64TR19900701,AR07Ea,     8,  1,     21,2,19900703, 52.3333, -19.0000, 4110,    306.0,   8.6909,  35.2060,2,-999.0000,9,   -999.0,9,    249.7,2,     7.25,2,    14.14,2,     0.00,2,     0.91,2,   2131.7,2, -999.000, -999.000,9,   8.6580
  64TR19900701,AR07Ea,     8,  1,     20,2,19900703, 52.3333, -19.0000, 4110,    407.0,   7.8011,  35.0940,2,  35.1130,2,   -999.0,9,   -999.0,9,     8.13,2,    15.17,2,     0.02,2,     1.02,2,   -999.0,9, -999.000, -999.000,9,   7.7599
  64TR19900701,AR07Ea,     8,  1,     19,2,19900703, 52.3333, -19.0000, 4110,    507.0,   6.9833,  35.0400,2,-999.0000,9,   -999.0,9,    221.4,2,    10.69,2,    17.91,2,     0.00,2,     1.15,2,   2154.3,2, -999.000, -999.000,9,   6.9348
  64TR19900701,AR07Ea,     8,  1,     18,2,19900703, 52.3333, -19.0000, 4110,    758.0,   5.8906,  35.0750,2,  35.0760,2,   -999.0,9,   -999.0,9,    11.55,2,    18.61,2,     0.01,2,     1.16,2,   -999.0,9, -999.000, -999.000,9,   5.8229
  64TR19900701,AR07Ea,     8,  1,     17,2,19900703, 52.3333, -19.0000, 4110,   1022.0,   4.4489,  34.9580,2,-999.0000,9,   -999.0,9,    252.3,2,    11.23,2,    18.05,2,     0.01,2,     1.16,2,   2155.0,2, -999.000, -999.000,9,   4.3671
  64TR19900701,AR07Ea,     8,  1,     16,2,19900703, 52.3333, -19.0000, 4110,   1269.0,   3.9680,  34.9250,2,  34.9270,2,   -999.0,9,   -999.0,9,    11.13,2,    17.42,2,     0.00,2,     1.17,2,   -999.0,9, -999.000, -999.000,9,   3.8688
  64TR19900701,AR07Ea,     8,  1,     15,2,19900703, 52.3333, -19.0000, 4110,   1524.0,   3.6191,  34.8980,2,-999.0000,9,   -999.0,9,    275.5,2,    11.03,2,    17.21,2,     0.02,2,     1.13,2,   2146.9,2, -999.000, -999.000,9,   3.5012
  64TR19900701,AR07Ea,     8,  1,     14,2,19900703, 52.3333, -19.0000, 4110,   1773.0,   3.4792,  34.8950,2,  34.8950,2,   -999.0,9,   -999.0,9,    11.08,2,    16.89,2,     0.00,2,     1.08,2,   -999.0,9, -999.000, -999.000,9,   3.3407
  64TR19900701,AR07Ea,     8,  1,     13,2,19900703, 52.3333, -19.0000, 4110,   2030.0,   3.4942,  34.9240,2,-999.0000,9,   -999.0,9,    272.5,2,    12.41,2,    17.07,2,     0.02,2,     1.12,2,   2147.0,2, -999.000, -999.000,9,   3.3315
  64TR19900701,AR07Ea,     8,  1,     12,2,19900703, 52.3333, -19.0000, 4110,   2281.0,   3.3922,  34.9440,2,  34.9450,2,   -999.0,9,   -999.0,9,    14.30,2,    17.19,2,     0.00,2,     1.16,2,   -999.0,9, -999.000, -999.000,9,   3.2068
  64TR19900701,AR07Ea,     8,  1,     11,2,19900703, 52.3333, -19.0000, 4110,   2537.0,   3.1952,  34.9520,2,-999.0000,9,   -999.0,9,    264.7,2,    18.26,2,    17.81,2,     0.02,2,     1.25,2,   2155.3,2, -999.000, -999.000,9,   2.9879
  64TR19900701,AR07Ea,     8,  1,     10,2,19900703, 52.3333, -19.0000, 4110,   2787.0,   2.9883,  34.9530,2,  34.9530,2,   -999.0,9,   -999.0,9,    22.56,2,    18.05,2,     0.00,2,     1.21,2,   -999.0,9, -999.000, -999.000,9,   2.7597
  64TR19900701,AR07Ea,     8,  1,      9,2,19900703, 52.3333, -19.0000, 4110,   3044.0,   2.8223,  34.9470,2,-999.0000,9,   -999.0,9,    251.7,2,    30.67,2,    19.59,2,     0.00,2,     1.32,2,   2174.2,2, -999.000, -999.000,9,   2.5707
  64TR19900701,AR07Ea,     8,  1,      8,4,19900703, 52.3333, -19.0000, 4110,   3295.0,   2.6954,  34.9350,2,-999.0000,9,   -999.0,9,   -999.0,9,  -999.00,9,  -999.00,9,  -999.00,9,  -999.00,9,   -999.0,9, -999.000, -999.000,9,   2.4202
  64TR19900701,AR07Ea,     8,  1,      7,2,19900703, 52.3333, -19.0000, 4110,   3556.0,   2.5754,  34.9210,2,-999.0000,9,   -999.0,9,    243.2,2,    41.22,2,    21.37,2,     0.00,2,     1.42,2,   2189.3,2, -999.000, -999.000,9,   2.2749
  64TR19900701,AR07Ea,     8,  1,      6,2,19900703, 52.3333, -19.0000, 4110,   3813.0,   2.5174,  34.9130,2,  34.9120,2,   -999.0,9,   -999.0,9,    43.45,2,    22.01,2,     0.00,2,     1.55,2,   -999.0,9, -999.000, -999.000,9,   2.1898
  64TR19900701,AR07Ea,     8,  1,      5,2,19900703, 52.3333, -19.0000, 4110,   3961.0,   2.5064,  34.9090,2,-999.0000,9,   -999.0,9,    243.2,2,    44.36,2,    22.07,2,     0.00,2,     1.48,2,   2192.0,2, -999.000, -999.000,9,   2.1623
  64TR19900701,AR07Ea,     8,  1,      4,2,19900703, 52.3333, -19.0000, 4110,   4016.0,   2.5054,  34.9070,2,  34.9070,2,   -999.0,9,   -999.0,9,    45.15,2,    22.16,2,     0.00,2,     1.55,2,   -999.0,9, -999.000, -999.000,9,   2.1551
  64TR19900701,AR07Ea,     8,  1,      3,2,19900703, 52.3333, -19.0000, 4110,   4049.0,   2.5034,  34.9070,2,-999.0000,9,   -999.0,9,    239.8,2,    45.19,2,    22.05,2,     0.00,2,     1.55,2,   2193.8,2, -999.000, -999.000,9,   2.1493
  64TR19900701,AR07Ea,     8,  1,      2,2,19900703, 52.3333, -19.0000, 4110,   4092.0,   2.5024,  34.9070,2,  34.9060,2,   -999.0,9,   -999.0,9,    45.39,2,    22.09,2,     0.01,2,     1.50,2,   -999.0,9, -999.000, -999.000,9,   2.1433
  64TR19900701,AR07Ea,     8,  1,      1,2,19900703, 52.3333, -19.0000, 4110,   4147.0,   2.5034,  34.9050,2,-999.0000,9,   -999.0,9,    239.3,2,    45.46,2,    22.07,2,     0.01,2,     1.47,2,   2194.8,2, -999.000, -999.000,9,   2.1379
  64TR19900701,AR07Ea,     9,  1,     24,2,19900705, 52.3383, -19.9933, 3154,      3.0,  12.7369,  35.4210,2,  35.4190,2,    272.0,2,   -999.0,9,     0.50,2,     2.81,2,     0.12,2,     0.25,2,   -999.0,9, -999.000, -999.000,9,  12.7365
  64TR19900701,AR07Ea,     9,  1,     23,2,19900705, 52.3383, -19.9933, 3154,     98.0,  10.6454,  35.4510,2,-999.0000,9,    252.6,2,    250.9,2,     4.99,2,    12.04,2,     0.01,2,     0.75,2,   -999.0,9, -999.000, -999.000,9,  10.6336
  64TR19900701,AR07Ea,     9,  1,     22,2,19900705, 52.3383, -19.9933, 3154,    201.0,  10.0356,  35.3810,2,  35.3790,2,    253.7,2,   -999.0,9,     5.73,2,    12.71,2,     0.01,2,     0.82,2,   -999.0,9, -999.000, -999.000,9,  10.0121
  64TR19900701,AR07Ea,     9,  1,     21,2,19900705, 52.3383, -19.9933, 3154,    301.0,   9.2348,  35.2650,2,-999.0000,9,    250.1,2,    246.8,2,     6.83,2,    13.93,2,     0.01,2,     0.93,2,   -999.0,9, -999.000, -999.000,9,   9.2012
  64TR19900701,AR07Ea,     9,  1,     20,2,19900705, 52.3383, -19.9933, 3154,    402.0,   8.6559,  35.2070,2,  35.2010,2,    232.4,2,   -999.0,9,     8.38,2,    15.95,2,     0.04,2,     1.06,2,   -999.0,9, -999.000, -999.000,9,   8.6126
  64TR19900701,AR07Ea,     9,  1,     19,2,19900705, 52.3383, -19.9933, 3154,    503.0,   7.7671,  35.1090,2,-999.0000,9,    222.8,2,    223.3,2,     9.65,2,    17.43,2,     0.00,2,     1.14,2,   -999.0,9, -999.000, -999.000,9,   7.7160
  64TR19900701,AR07Ea,     9,  1,     18,2,19900705, 52.3383, -19.9933, 3154,    755.0,   5.6876,  35.0170,2,  35.0120,2,    231.6,2,   -999.0,9,    11.28,2,    18.44,2,     0.00,2,     1.23,2,   -999.0,9, -999.000, -999.000,9,   5.6214
  64TR19900701,AR07Ea,     9,  1,     17,2,19900705, 52.3383, -19.9933, 3154,   1009.0,   4.3540,  34.9290,2,-999.0000,9,    256.3,2,    256.6,2,    10.83,2,    17.89,2,     0.00,2,     1.20,2,   -999.0,9, -999.000, -999.000,9,   4.2741
  64TR19900701,AR07Ea,     9,  1,     16,2,19900705, 52.3383, -19.9933, 3154,   1260.0,   3.8641,  34.9090,2,  34.9080,2,    270.6,2,   -999.0,9,    10.67,2,    17.45,2,     0.01,2,     1.15,2,   -999.0,9, -999.000, -999.000,9,   3.7668
  64TR19900701,AR07Ea,     9,  1,     15,2,19900705, 52.3383, -19.9933, 3154,   1517.0,   3.6051,  34.8930,2,-999.0000,9,    276.3,2,    277.2,2,    10.60,2,    17.03,2,     0.01,2,     1.15,2,   -999.0,9, -999.000, -999.000,9,   3.4880
  64TR19900701,AR07Ea,     9,  1,     14,2,19900705, 52.3383, -19.9933, 3154,   1771.0,   3.5362,  34.9060,2,  34.9040,2,    275.0,2,   -999.0,9,    11.14,2,    17.04,2,     0.00,2,     1.15,2,   -999.0,9, -999.000, -999.000,9,   3.3971
  64TR19900701,AR07Ea,     9,  1,     13,2,19900705, 52.3383, -19.9933, 3154,   2025.0,   3.4772,  34.9170,2,-999.0000,9,    274.0,2,    274.9,2,    11.53,2,    17.00,2,     0.01,2,     1.13,2,   -999.0,9, -999.000, -999.000,9,   3.3152
  64TR19900701,AR07Ea,     9,  1,     12,2,19900705, 52.3383, -19.9933, 3154,   2282.0,   3.3772,  34.9390,2,  34.9390,2,    268.9,2,   -999.0,9,    13.09,2,    16.94,2,     0.00,2,     1.15,2,   -999.0,9, -999.000, -999.000,9,   3.1920
  64TR19900701,AR07Ea,     9,  1,     11,2,19900705, 52.3383, -19.9933, 3154,   2384.0,   3.3072,  34.9460,2,-999.0000,9,    269.0,2,    270.2,2,    13.85,2,    16.96,2,     0.00,2,     1.15,2,   -999.0,9, -999.000, -999.000,9,   3.1131
  64TR19900701,AR07Ea,     9,  1,     10,2,19900705, 52.3383, -19.9933, 3154,   2481.0,   3.2452,  34.9480,2,  34.9470,2,    269.0,2,   -999.0,9,    14.65,2,    17.02,2,     0.01,2,     1.16,2,   -999.0,9, -999.000, -999.000,9,   3.0426
  64TR19900701,AR07Ea,     9,  1,      9,2,19900705, 52.3383, -19.9933, 3154,   2587.0,   3.1862,  34.9510,2,-999.0000,9,    265.3,2,    265.8,2,    17.37,2,    17.44,2,     0.00,2,     1.10,2,   -999.0,9, -999.000, -999.000,9,   2.9741
  64TR19900701,AR07Ea,     9,  1,      8,2,19900705, 52.3383, -19.9933, 3154,   2687.0,   3.0963,  34.9510,2,  34.9420,0,    259.8,2,   -999.0,9,    26.74,2,    18.96,2,     0.01,2,     1.32,2,   -999.0,9, -999.000, -999.000,9,   2.8758
  64TR19900701,AR07Ea,     9,  1,      7,2,19900705, 52.3383, -19.9933, 3154,   2787.0,   2.9743,  34.9460,2,-999.0000,9,    252.9,2,    253.9,2,    27.03,2,    19.17,2,     0.02,2,     1.35,2,   -999.0,9, -999.000, -999.000,9,   2.7461
  64TR19900701,AR07Ea,     9,  1,      6,2,19900705, 52.3383, -19.9933, 3154,   2891.0,   2.6544,  34.9330,2,  34.9320,2,    248.4,2,   -999.0,9,    34.45,2,    20.22,2,     0.05,2,     1.42,2,   -999.0,9, -999.000, -999.000,9,   2.4222
  64TR19900701,AR07Ea,     9,  1,      5,2,19900705, 52.3383, -19.9933, 3154,   2996.0,   2.6294,  34.9290,2,-999.0000,9,    249.0,2,    248.2,2,    35.30,2,    20.36,2,     0.03,2,     1.42,2,   -999.0,9, -999.000, -999.000,9,   2.3871
  64TR19900701,AR07Ea,     9,  1,      4,2,19900705, 52.3383, -19.9933, 3154,   3045.0,   2.6744,  34.9320,2,  34.9320,2,    249.3,2,   -999.0,9,    34.59,2,    20.34,2,     0.07,2,     1.47,2,   -999.0,9, -999.000, -999.000,9,   2.4260
  64TR19900701,AR07Ea,     9,  1,      3,2,19900705, 52.3383, -19.9933, 3154,   3099.0,   2.5474,  34.9220,2,-999.0000,9,    246.2,2,    244.2,2,    39.23,2,    21.20,2,     0.02,2,     1.49,2,   -999.0,9, -999.000, -999.000,9,   2.2963
  64TR19900701,AR07Ea,     9,  1,      2,2,19900705, 52.3383, -19.9933, 3154,   3150.0,   2.4844,  34.9150,2,  34.9150,2,    242.6,2,   -999.0,9,    42.01,2,    21.67,2,     0.02,2,     1.51,2,   -999.0,9, -999.000, -999.000,9,   2.2294
  64TR19900701,AR07Ea,     9,  1,      1,2,19900705, 52.3383, -19.9933, 3154,   3208.0,   2.4234,  34.9070,2,-999.0000,9,    241.6,2,    240.1,2,    44.45,2,    22.16,2,     0.03,2,     1.55,2,   -999.0,9, -999.000, -999.000,9,   2.1638
  64TR19900701,AR07Ea,    10,  1,     24,2,19900705, 52.5917, -20.7550, 3706,      5.0,  11.9671,  35.2490,2,  35.2470,2,    276.7,2,   -999.0,9,     1.73,2,     3.98,2,     0.15,2,     0.40,2,   -999.0,9, -999.000, -999.000,9,  11.9665
  64TR19900701,AR07Ea,    10,  1,     23,2,19900705, 52.5917, -20.7550, 3706,    105.0,   7.9661,  35.1080,2,-999.0000,9,    270.6,2,    269.6,2,     7.55,2,    14.69,2,     0.06,2,     0.94,2,   2130.0,2, -999.000, -999.000,9,   7.9555
  64TR19900701,AR07Ea,    10,  1,     22,2,19900705, 52.5917, -20.7550, 3706,    208.0,   7.3922,  35.0430,2,  35.0420,2,    264.0,2,   -999.0,9,     8.24,2,    15.35,2,     0.04,2,     1.01,2,   -999.0,9, -999.000, -999.000,9,   7.3721
  64TR19900701,AR07Ea,    10,  1,     21,2,19900705, 52.5917, -20.7550, 3706,    305.0,   6.7944,  35.0040,2,-999.0000,9,    249.0,2,    248.6,2,     9.45,2,    16.76,2,     0.03,2,     1.12,2,   2143.5,2, -999.000, -999.000,9,   6.7661
  64TR19900701,AR07Ea,    10,  1,     20,2,19900705, 52.5917, -20.7550, 3706,    410.0,   6.2645,  34.9870,2,  34.9860,2,    233.5,2,   -999.0,9,    10.53,2,    18.03,2,     0.01,2,     1.19,2,   -999.0,9, -999.000, -999.000,9,   6.2278
  64TR19900701,AR07Ea,    10,  1,     19,2,19900705, 52.5917, -20.7550, 3706,    511.0,   5.9676,  35.0490,2,-999.0000,9,    228.4,2,    225.2,2,    11.27,2,    18.58,2,     0.01,2,     1.23,2,   2161.3,2, -999.000, -999.000,9,   5.9226
  64TR19900701,AR07Ea,    10,  1,     18,2,19900705, 52.5917, -20.7550, 3706,    756.0,   4.7639,  34.9730,2,  34.9750,2,    246.1,2,   -999.0,9,    11.30,2,    18.34,2,     0.01,2,     1.22,2,   -999.0,9, -999.000, -999.000,9,   4.7030
  64TR19900701,AR07Ea,    10,  1,     17,2,19900705, 52.5917, -20.7550, 3706,   1008.0,   4.1220,  34.9360,2,-999.0000,9,    260.8,2,    262.2,2,    11.31,2,    17.71,2,     0.03,2,     1.19,2,   2153.2,2, -999.000, -999.000,9,   4.0440
  64TR19900701,AR07Ea,    10,  1,     16,2,19900705, 52.5917, -20.7550, 3706,   1258.0,   3.7211,  34.9070,2,  34.9080,2,    267.8,2,   -999.0,9,    11.03,2,    17.30,2,     0.01,2,     1.15,2,   -999.0,9, -999.000, -999.000,9,   3.6253
  64TR19900701,AR07Ea,    10,  1,     15,2,19900705, 52.5917, -20.7550, 3706,   1517.0,   3.5202,  34.9010,2,-999.0000,9,    275.3,2,    276.9,2,    11.30,2,    17.14,2,     0.01,2,     1.17,2,   2145.0,2, -999.000, -999.000,9,   3.4041
  64TR19900701,AR07Ea,    10,  1,     14,2,19900705, 52.5917, -20.7550, 3706,   1777.0,   3.4912,  34.9180,2,  34.9220,2,    271.4,2,   -999.0,9,    12.32,2,    17.02,2,     0.01,2,     1.15,2,   -999.0,9, -999.000, -999.000,9,   3.3521
  64TR19900701,AR07Ea,    10,  1,     13,2,19900705, 52.5917, -20.7550, 3706,   2028.0,   3.3582,  34.9430,2,-999.0000,9,    267.6,2,    268.7,2,    13.95,2,    17.17,2,     0.02,2,     1.16,2,   2148.5,2, -999.000, -999.000,9,   3.1976
  64TR19900701,AR07Ea,    10,  1,     12,2,19900705, 52.5917, -20.7550, 3706,   2278.0,   3.1832,  34.9490,2,  34.9490,2,    266.5,2,   -999.0,9,    15.13,2,    16.96,2,     0.01,2,     1.15,2,   -999.0,9, -999.000, -999.000,9,   3.0016
  64TR19900701,AR07Ea,    10,  1,     11,2,19900705, 52.5917, -20.7550, 3706,   2540.0,   3.0293,  34.9480,2,-999.0000,9,    264.4,2,    267.1,2,    17.88,2,    17.22,2,     0.01,2,     1.18,2,   2154.9,2, -999.000, -999.000,9,   2.8248
  64TR19900701,AR07Ea,    10,  1,     10,2,19900705, 52.5917, -20.7550, 3706,   2788.0,   2.8613,  34.9490,2,  34.9500,2,    257.7,2,   -999.0,9,    24.21,2,    18.28,2,     0.01,2,     1.28,2,   -999.0,9, -999.000, -999.000,9,   2.6352
  64TR19900701,AR07Ea,    10,  1,      9,2,19900705, 52.5917, -20.7550, 3706,   3046.0,   2.7223,  34.9330,2,-999.0000,9,    250.8,2,    251.0,2,    32.70,2,    19.80,2,     0.02,2,     1.39,2,   2177.6,2, -999.000, -999.000,9,   2.4728
  64TR19900701,AR07Ea,    10,  1,      8,2,19900705, 52.5917, -20.7550, 3706,   3252.0,   2.6564,  34.9270,2,  34.9320,2,    248.7,2,   -999.0,9,    34.60,2,    20.16,2,     0.02,2,     1.40,2,   -999.0,9, -999.000, -999.000,9,   2.3867
  64TR19900701,AR07Ea,    10,  1,      7,2,19900705, 52.5917, -20.7550, 3706,   3351.0,   2.5974,  34.9200,2,-999.0000,9,    245.0,2,    245.5,2,    38.66,2,    20.97,2,     0.01,2,     1.46,2,   2186.2,2, -999.000, -999.000,9,   2.3186
  64TR19900701,AR07Ea,    10,  1,      6,2,19900705, 52.5917, -20.7550, 3706,   3454.0,   2.5474,  34.9150,2,  34.9180,2,    243.1,2,   -999.0,9,    41.23,2,    21.50,2,     0.01,2,     1.49,2,   -999.0,9, -999.000, -999.000,9,   2.2587
  64TR19900701,AR07Ea,    10,  1,      5,2,19900705, 52.5917, -20.7550, 3706,   3556.0,   2.5084,  34.9130,2,-999.0000,9,    242.2,2,    241.1,2,    43.21,2,    22.01,2,     0.01,2,     1.52,2,   2193.4,2, -999.000, -999.000,9,   2.2096
  64TR19900701,AR07Ea,    10,  1,      4,2,19900705, 52.5917, -20.7550, 3706,   3607.0,   2.5034,  34.9090,2,  34.9110,2,    242.0,2,   -999.0,9,    43.84,2,    21.90,2,     0.01,2,     1.51,2,   -999.0,9, -999.000, -999.000,9,   2.1991
  64TR19900701,AR07Ea,    10,  1,      3,2,19900705, 52.5917, -20.7550, 3706,   3659.0,   2.4944,  34.9060,2,-999.0000,9,    242.2,2,    240.0,2,    44.21,2,    21.98,2,     0.00,2,     1.52,2,   2194.9,2, -999.000, -999.000,9,   2.1847
  64TR19900701,AR07Ea,    10,  1,      2,2,19900705, 52.5917, -20.7550, 3706,   3699.0,   2.4804,  34.9080,2,  34.9070,2,    242.1,2,   -999.0,9,    45.09,2,    22.16,2,     0.01,2,     1.53,2,   -999.0,9, -999.000, -999.000,9,   2.1666
  64TR19900701,AR07Ea,    10,  1,      1,2,19900705, 52.5917, -20.7550, 3706,   3746.0,   2.4734,  34.9070,2,-999.0000,9,    242.4,2,    239.4,2,    45.13,2,    22.05,2,     0.03,2,     1.42,2,   2196.2,2, -999.000, -999.000,9,   2.1545