BOTTLE,20081222PRINUNIVRMKPRINUNIVRMK
EXPOCODE,SECT_ID,STNNBR,CASTNO,BTLNBR,BTLNBR_FLAG_W,DATE,LATITUDE,LONGITUDE,DEPTH,CTDPRS,CTDTMP,CTDSAL,CTDSAL_FLAG_W,SALNTY,SALNTY_FLAG_W,CTDOXY,CTDOXY_FLAG_W,OXYGEN,OXYGEN_FLAG_W,SILCAT,SILCAT_FLAG_W,NITRAT,NITRAT_FLAG_W,NITRIT,NITRIT_FLAG_W,PHSPHT,PHSPHT_FLAG_W,TCARBN,TCARBN_FLAG_W,TRITUM,TRITER,TRITUM_FLAG_W,THETA
,,,,,,,,,METERS,DBARS,ITS-90,PSS-78,,PSS-78,,UMOL/KG,,UMOL/KG,,UMOL/KG,,UMOL/KG,,UMOL/KG,,UMOL/KG,,UMOL/KG,,TU,TU,,DEGC
  64TR19900701,AR07Ea,    33,  1,     24,2,19900712, 60.2083, -33.7117, 2621,      4.0,   8.3510,  34.8730,2,  34.8720,2,    297.8,2,   -999.0,9,     1.53,2,     8.79,2,     0.13,2,     0.64,2,   -999.0,9, -999.000, -999.000,9,   8.3506
  64TR19900701,AR07Ea,    33,  1,     23,2,19900712, 60.2083, -33.7117, 2621,    101.0,   5.2517,  34.9770,2,-999.0000,9,    281.5,2,    283.7,2,     9.00,2,    16.46,2,     0.06,2,     1.14,2,   -999.0,9, -999.000, -999.000,9,   5.2437
  64TR19900701,AR07Ea,    33,  1,     22,2,19900712, 60.2083, -33.7117, 2621,    203.0,   4.7839,  34.9610,2,  34.9630,2,    284.2,2,   -999.0,9,     9.32,2,    16.74,2,     0.02,2,     1.15,2,   -999.0,9, -999.000, -999.000,9,   4.7684
  64TR19900701,AR07Ea,    33,  1,     21,2,19900712, 60.2083, -33.7117, 2621,    302.0,   4.4479,  34.9400,2,-999.0000,9,    281.1,2,    280.3,2,     9.52,2,    17.17,2,     0.02,2,     1.16,2,   -999.0,9, -999.000, -999.000,9,   4.4254
  64TR19900701,AR07Ea,    33,  1,     20,2,19900712, 60.2083, -33.7117, 2621,    402.0,   4.1930,  34.9260,2,  34.9260,2,    285.1,2,   -999.0,9,     9.51,2,    17.10,2,     0.02,2,     1.17,2,   -999.0,9, -999.000, -999.000,9,   4.1635
  64TR19900701,AR07Ea,    33,  1,     19,2,19900712, 60.2083, -33.7117, 2621,    501.0,   3.9391,  34.9070,2,-999.0000,9,    283.2,2,    283.3,2,     9.80,2,    16.97,2,     0.06,2,     1.16,2,   -999.0,9, -999.000, -999.000,9,   3.9030
  64TR19900701,AR07Ea,    33,  1,     18,2,19900712, 60.2083, -33.7117, 2621,    756.0,   3.4802,  34.8730,2,  34.8740,2,    292.2,2,   -999.0,9,     9.45,2,    16.78,2,     0.03,2,     1.15,2,   -999.0,9, -999.000, -999.000,9,   3.4270
  64TR19900701,AR07Ea,    33,  1,     17,2,19900712, 60.2083, -33.7117, 2621,   1009.0,   3.3372,  34.8640,2,-999.0000,9,    293.1,2,    295.5,2,     9.54,2,    16.76,2,     0.02,2,     1.15,2,   -999.0,9, -999.000, -999.000,9,   3.2653
  64TR19900701,AR07Ea,    33,  1,     16,2,19900712, 60.2083, -33.7117, 2621,   1265.0,   3.3092,  34.8700,2,  34.8670,2,    287.9,2,   -999.0,9,    10.03,2,    16.80,2,     0.01,2,     1.16,2,   -999.0,9, -999.000, -999.000,9,   3.2169
  64TR19900701,AR07Ea,    33,  1,     15,2,19900712, 60.2083, -33.7117, 2621,   1452.0,   3.2182,  34.8590,2,-999.0000,9,    289.6,2,    292.2,2,     9.82,2,    16.72,2,     0.03,2,     1.16,2,   -999.0,9, -999.000, -999.000,9,   3.1112
  64TR19900701,AR07Ea,    33,  1,     14,2,19900712, 60.2083, -33.7117, 2621,   1550.0,   3.1762,  34.8560,2,  34.8570,2,    289.8,2,   -999.0,9,     9.94,2,    16.89,2,     0.01,2,     1.15,2,   -999.0,9, -999.000, -999.000,9,   3.0613
  64TR19900701,AR07Ea,    33,  1,     13,2,19900712, 60.2083, -33.7117, 2621,   1654.0,   3.2352,  34.8700,2,-999.0000,9,    287.3,2,    288.4,2,    10.16,2,    16.69,2,     0.03,2,     1.16,2,   -999.0,9, -999.000, -999.000,9,   3.1106
  64TR19900701,AR07Ea,    33,  1,     12,2,19900712, 60.2083, -33.7117, 2621,   1755.0,   3.3392,  34.8950,2,  34.8940,2,    281.5,2,   -999.0,9,    10.74,2,    16.78,2,     0.02,2,     1.19,2,   -999.0,9, -999.000, -999.000,9,   3.2042
  64TR19900701,AR07Ea,    33,  1,     11,2,19900712, 60.2083, -33.7117, 2621,   1859.0,   3.4192,  34.9220,2,-999.0000,9,    275.4,2,    276.3,2,    11.07,2,    16.83,2,     0.01,2,     1.17,2,   -999.0,9, -999.000, -999.000,9,   3.2735
  64TR19900701,AR07Ea,    33,  1,     10,2,19900712, 60.2083, -33.7117, 2621,   1960.0,   3.3932,  34.9300,2,  34.9300,2,    275.4,2,   -999.0,9,    11.53,2,    16.83,2,     0.02,2,     1.14,2,   -999.0,9, -999.000, -999.000,9,   3.2385
  64TR19900701,AR07Ea,    33,  1,      9,2,19900712, 60.2083, -33.7117, 2621,   2059.0,   3.3642,  34.9360,2,-999.0000,9,    275.9,2,    273.8,2,    11.94,2,    16.77,2,     0.01,2,     1.16,2,   -999.0,9, -999.000, -999.000,9,   3.2006
  64TR19900701,AR07Ea,    33,  1,      8,2,19900712, 60.2083, -33.7117, 2621,   2165.0,   3.3262,  34.9440,2,  34.9430,2,    275.5,2,   -999.0,9,    12.31,2,    16.67,2,     0.01,2,     1.16,2,   -999.0,9, -999.000, -999.000,9,   3.1531
  64TR19900701,AR07Ea,    33,  1,      7,2,19900712, 60.2083, -33.7117, 2621,   2267.0,   3.2412,  34.9420,2,-999.0000,9,    275.5,2,    273.4,2,    12.45,2,    16.76,2,     0.03,2,     1.16,2,   -999.0,9, -999.000, -999.000,9,   3.0597
  64TR19900701,AR07Ea,    33,  1,      6,2,19900712, 60.2083, -33.7117, 2621,   2367.0,   3.1512,  34.9440,2,  34.9420,2,    276.2,2,   -999.0,9,    13.01,2,    16.59,2,     0.04,2,     1.15,2,   -999.0,9, -999.000, -999.000,9,   2.9615
  64TR19900701,AR07Ea,    33,  1,      5,2,19900712, 60.2083, -33.7117, 2621,   2467.0,   3.1103,  34.9410,2,-999.0000,9,    276.9,2,    275.9,2,    12.75,2,    16.56,2,     0.02,2,     1.16,2,   -999.0,9, -999.000, -999.000,9,   2.9116
  64TR19900701,AR07Ea,    33,  1,      4,2,19900712, 60.2083, -33.7117, 2621,   2520.0,   3.0983,  34.9410,2,  34.9400,2,    277.4,2,   -999.0,9,    13.09,2,    16.63,2,     0.02,2,     1.16,2,   -999.0,9, -999.000, -999.000,9,   2.8945
  64TR19900701,AR07Ea,    33,  1,      3,2,19900712, 60.2083, -33.7117, 2621,   2573.0,   3.0953,  34.9410,2,-999.0000,9,    277.2,2,    273.8,2,    13.37,2,    16.51,2,     0.02,2,     1.17,2,   -999.0,9, -999.000, -999.000,9,   2.8863
  64TR19900701,AR07Ea,    33,  1,      2,2,19900712, 60.2083, -33.7117, 2621,   2623.0,   3.0963,  34.9400,2,  34.9400,2,    279.1,2,   -999.0,9,    13.18,2,    16.56,2,     0.01,2,     1.17,2,   -999.0,9, -999.000, -999.000,9,   2.8823
  64TR19900701,AR07Ea,    33,  1,      1,2,19900712, 60.2083, -33.7117, 2621,   2670.0,   3.0923,  34.9420,2,-999.0000,9,    278.4,2,    274.5,2,    13.43,2,    16.69,2,     0.02,2,     1.18,2,   -999.0,9, -999.000, -999.000,9,   2.8736