BOTTLE,20081222PRINUNIVRMKPRINUNIVRMK
EXPOCODE,SECT_ID,STNNBR,CASTNO,BTLNBR,BTLNBR_FLAG_W,DATE,LATITUDE,LONGITUDE,DEPTH,CTDPRS,CTDTMP,CTDSAL,CTDSAL_FLAG_W,SALNTY,SALNTY_FLAG_W,CTDOXY,CTDOXY_FLAG_W,OXYGEN,OXYGEN_FLAG_W,SILCAT,SILCAT_FLAG_W,NITRAT,NITRAT_FLAG_W,NITRIT,NITRIT_FLAG_W,PHSPHT,PHSPHT_FLAG_W,TCARBN,TCARBN_FLAG_W,TRITUM,TRITER,TRITUM_FLAG_W,THETA
,,,,,,,,,METERS,DBARS,ITS-90,PSS-78,,PSS-78,,UMOL/KG,,UMOL/KG,,UMOL/KG,,UMOL/KG,,UMOL/KG,,UMOL/KG,,UMOL/KG,,TU,TU,,DEGC
  64TR19900701,AR07Ea,    17,  1,     23,2,19900707, 54.3350, -26.0000, 3231,    100.0,   8.0351,  35.0930,2,-999.0000,9,    261.1,2,    261.4,2,     7.69,2,    14.92,2,     0.03,2,     0.97,2,   2127.3,2, -999.000, -999.000,9,   8.0250
  64TR19900701,AR07Ea,    17,  1,     22,2,19900707, 54.3350, -26.0000, 3231,    204.0,   7.3222,  35.0280,2,  35.0320,2,    264.4,2,   -999.0,9,     8.16,2,    15.33,2,     0.02,2,     1.01,2,   -999.0,9, -999.000, -999.000,9,   7.3026
  64TR19900701,AR07Ea,    17,  1,     21,2,19900707, 54.3350, -26.0000, 3231,    301.0,   6.4944,  34.9640,2,-999.0000,9,    254.1,2,    251.4,2,     9.53,2,    16.66,2,     0.04,2,     1.13,2,   2146.1,2, -999.000, -999.000,9,   6.4672
  64TR19900701,AR07Ea,    17,  1,     20,2,19900707, 54.3350, -26.0000, 3231,    405.0,   6.0266,  34.9650,2,  34.9660,2,    237.4,2,   -999.0,9,    10.47,2,    17.96,2,     0.02,2,     1.20,2,   -999.0,9, -999.000, -999.000,9,   5.9911
  64TR19900701,AR07Ea,    17,  1,     19,2,19900707, 54.3350, -26.0000, 3231,    506.0,   5.4857,  34.9660,2,-999.0000,9,    235.9,2,    233.6,2,    11.07,2,    18.50,2,     0.02,2,     1.23,2,   2162.8,2, -999.000, -999.000,9,   5.4431
  64TR19900701,AR07Ea,    17,  1,     18,2,19900707, 54.3350, -26.0000, 3231,    758.0,   4.4839,  34.9480,2,  34.9490,2,    250.7,2,   -999.0,9,    11.08,2,    18.16,2,     0.02,2,     1.21,2,   -999.0,9, -999.000, -999.000,9,   4.4245
  64TR19900701,AR07Ea,    17,  1,     17,2,19900707, 54.3350, -26.0000, 3231,   1008.0,   3.9131,  34.9140,2,-999.0000,9,    265.4,2,    266.0,2,    10.96,2,    17.83,2,     0.02,2,     1.17,2,   2154.5,2, -999.000, -999.000,9,   3.8367
  64TR19900701,AR07Ea,    17,  1,     16,2,19900707, 54.3350, -26.0000, 3231,   1265.0,   3.6541,  34.9000,2,  34.9030,2,    273.0,2,   -999.0,9,    11.00,2,    17.42,2,     0.02,2,     1.18,2,   -999.0,9, -999.000, -999.000,9,   3.5584
  64TR19900701,AR07Ea,    17,  1,     15,4,19900707, 54.3350, -26.0000, 3231,   1518.0,   3.4792,  34.9000,2,-999.0000,9,    275.6,2,   -999.0,9,  -999.00,9,  -999.00,9,  -999.00,9,  -999.00,9,   -999.0,9, -999.000, -999.000,9,   3.3635
  64TR19900701,AR07Ea,    17,  1,     14,2,19900707, 54.3350, -26.0000, 3231,   1769.0,   3.4422,  34.9170,2,  34.9210,2,    273.8,2,   -999.0,9,    12.00,2,    17.10,2,     0.02,2,     1.18,2,   -999.0,9, -999.000, -999.000,9,   3.3045
  64TR19900701,AR07Ea,    17,  1,     13,2,19900707, 54.3350, -26.0000, 3231,   2024.0,   3.3502,  34.9350,2,-999.0000,9,    271.1,2,    269.4,2,    12.87,2,    16.84,2,     0.03,2,     1.14,2,   2151.5,2, -999.000, -999.000,9,   3.1902
  64TR19900701,AR07Ea,    17,  1,     12,2,19900707, 54.3350, -26.0000, 3231,   2279.0,   3.1992,  34.9450,2,  34.9470,2,    269.5,2,   -999.0,9,    14.51,2,    17.12,2,     0.02,2,     1.18,2,   -999.0,9, -999.000, -999.000,9,   3.0172
  64TR19900701,AR07Ea,    17,  1,     11,2,19900707, 54.3350, -26.0000, 3231,   2463.0,   3.0953,  34.9480,2,-999.0000,9,    268.1,2,    268.3,2,    15.99,2,    17.05,2,     0.01,2,     1.18,2,   2158.3,2, -999.000, -999.000,9,   2.8972
  64TR19900701,AR07Ea,    17,  1,     10,2,19900707, 54.3350, -26.0000, 3231,   2562.0,   3.0463,  34.9530,2,  34.9570,2,    269.2,2,   -999.0,9,    15.68,2,    17.01,2,     0.01,2,     1.11,2,   -999.0,9, -999.000, -999.000,9,   2.8393
  64TR19900701,AR07Ea,    17,  1,      9,2,19900707, 54.3350, -26.0000, 3231,   2685.0,   2.9783,  34.9550,2,-999.0000,9,    267.5,2,    267.3,2,    17.41,2,    17.19,2,     0.00,2,     1.11,2,   2159.1,2, -999.000, -999.000,9,   2.7603
  64TR19900701,AR07Ea,    17,  1,      8,2,19900707, 54.3350, -26.0000, 3231,   2767.0,   2.9253,  34.9560,2,  34.9550,2,    265.9,2,   -999.0,9,    21.23,2,    17.71,2,     0.01,2,     1.20,2,   -999.0,9, -999.000, -999.000,9,   2.7000
  64TR19900701,AR07Ea,    17,  1,      7,2,19900707, 54.3350, -26.0000, 3231,   2870.0,   2.8473,  34.9540,2,-999.0000,9,    264.7,2,    265.3,2,    21.02,2,    17.59,2,     0.03,2,     1.25,2,   2166.4,2, -999.000, -999.000,9,   2.6131
  64TR19900701,AR07Ea,    17,  1,      6,2,19900707, 54.3350, -26.0000, 3231,   2973.0,   2.8013,  34.9500,2,  34.9540,2,    262.9,2,   -999.0,9,    22.87,2,    18.02,2,     0.01,2,     1.26,2,   -999.0,9, -999.000, -999.000,9,   2.5575
  64TR19900701,AR07Ea,    17,  1,      5,2,19900707, 54.3350, -26.0000, 3231,   3076.0,   2.7383,  34.9460,2,-999.0000,9,    260.5,2,    260.4,2,    26.03,2,    18.44,2,     0.01,2,     1.25,2,   2172.7,2, -999.000, -999.000,9,   2.4852
  64TR19900701,AR07Ea,    17,  1,      4,2,19900707, 54.3350, -26.0000, 3231,   3127.0,   2.7293,  34.9440,2,  34.9480,2,    260.5,2,   -999.0,9,    26.78,2,    18.81,2,     0.01,2,     1.24,2,   -999.0,9, -999.000, -999.000,9,   2.4711
  64TR19900701,AR07Ea,    17,  1,      3,2,19900707, 54.3350, -26.0000, 3231,   3180.0,   2.7223,  34.9440,2,-999.0000,9,    260.6,2,    257.5,2,    27.29,2,    18.71,2,     0.01,2,     1.26,2,   2176.4,2, -999.000, -999.000,9,   2.4586
  64TR19900701,AR07Ea,    17,  1,      2,2,19900707, 54.3350, -26.0000, 3231,   3230.0,   2.7233,  34.9440,2,  34.9470,2,    261.1,2,   -999.0,9,    27.47,2,    18.82,2,     0.02,2,     1.32,2,   -999.0,9, -999.000, -999.000,9,   2.4543
  64TR19900701,AR07Ea,    17,  1,      1,2,19900707, 54.3350, -26.0000, 3231,   3284.0,   2.7313,  34.9460,2,-999.0000,9,    261.0,2,    258.1,2,    26.72,2,    18.57,2,     0.00,2,     1.28,2,   2173.3,2, -999.000, -999.000,9,   2.4564
  64TR19900701,AR07Ea,    18,  1,     24,2,19900708, 54.8917, -26.1517, 3366,      6.0,  10.3095,  35.1440,2,  35.1430,2,    277.0,2,   -999.0,9,     3.28,2,     7.85,2,     0.19,2,     0.60,2,   -999.0,9, -999.000, -999.000,9,  10.3088
  64TR19900701,AR07Ea,    18,  1,     23,2,19900708, 54.8917, -26.1517, 3366,     97.0,   8.1191,  35.1050,2,-999.0000,9,    265.6,2,    265.6,2,     7.57,2,    14.85,2,     0.03,2,     1.01,2,   -999.0,9, -999.000, -999.000,9,   8.1092
  64TR19900701,AR07Ea,    18,  1,     22,2,19900708, 54.8917, -26.1517, 3366,    200.0,   7.5812,  35.0600,2,  35.0610,2,    271.5,2,   -999.0,9,     7.75,3,    14.97,3,     0.02,3,     1.01,3,   -999.0,9, -999.000, -999.000,9,   7.5616
  64TR19900701,AR07Ea,    18,  1,     21,2,19900708, 54.8917, -26.1517, 3366,    297.0,   7.0823,  35.0200,2,-999.0000,9,    262.1,2,    261.7,2,     8.54,2,    15.96,2,     0.02,2,     1.05,2,   -999.0,9, -999.000, -999.000,9,   7.0541
  64TR19900701,AR07Ea,    18,  1,     20,2,19900708, 54.8917, -26.1517, 3366,    402.0,   7.3562,  35.1170,2,  35.1170,2,    258.1,2,   -999.0,9,     8.34,2,    15.86,2,     0.04,2,     1.06,2,   -999.0,9, -999.000, -999.000,9,   7.3168
  64TR19900701,AR07Ea,    18,  1,     19,2,19900708, 54.8917, -26.1517, 3366,    500.0,   6.7534,  35.0670,2,-999.0000,9,    249.1,2,    253.5,2,     9.07,2,    16.71,2,     0.02,2,     1.11,2,   -999.0,9, -999.000, -999.000,9,   6.7064
  64TR19900701,AR07Ea,    18,  1,     18,2,19900708, 54.8917, -26.1517, 3366,    754.0,   4.6999,  34.9240,2,  34.9240,2,    246.0,2,   -999.0,9,    11.03,2,    18.42,2,     0.02,2,     1.24,2,   -999.0,9, -999.000, -999.000,9,   4.6396
  64TR19900701,AR07Ea,    18,  1,     17,2,19900708, 54.8917, -26.1517, 3366,   1009.0,   3.9840,  34.9140,2,-999.0000,9,    264.6,2,    266.2,2,    10.83,2,    18.04,2,     0.03,2,     1.19,2,   -999.0,9, -999.000, -999.000,9,   3.9070
  64TR19900701,AR07Ea,    18,  1,     16,2,19900708, 54.8917, -26.1517, 3366,   1249.0,   3.6721,  34.8950,2,  34.8940,2,    273.8,2,   -999.0,9,    10.61,2,    17.57,2,     0.01,2,     1.17,2,   -999.0,9, -999.000, -999.000,9,   3.5776
  64TR19900701,AR07Ea,    18,  1,     15,2,19900708, 54.8917, -26.1517, 3366,   1516.0,   3.5072,  34.8890,2,-999.0000,9,    276.6,3,    280.0,2,    10.74,2,    17.25,2,     0.01,2,     1.18,2,   -999.0,9, -999.000, -999.000,9,   3.3914
  64TR19900701,AR07Ea,    18,  1,     14,2,19900708, 54.8917, -26.1517, 3366,   1770.0,   3.4562,  34.9010,2,  34.9010,2,    277.3,2,   -999.0,9,    11.13,2,    17.24,2,     0.01,2,     1.16,2,   -999.0,9, -999.000, -999.000,9,   3.3183
  64TR19900701,AR07Ea,    18,  1,     13,2,19900708, 54.8917, -26.1517, 3366,   2024.0,   3.4412,  34.9250,2,-999.0000,9,    273.9,2,    274.3,2,    12.12,2,    17.22,2,     0.01,2,     1.18,2,   -999.0,9, -999.000, -999.000,9,   3.2798
  64TR19900701,AR07Ea,    18,  1,     12,2,19900708, 54.8917, -26.1517, 3366,   2282.0,   3.3252,  34.9440,2,  34.9430,2,    272.8,2,   -999.0,9,    13.12,2,    17.01,2,     0.00,2,     1.16,2,   -999.0,9, -999.000, -999.000,9,   3.1408
  64TR19900701,AR07Ea,    18,  1,     11,2,19900708, 54.8917, -26.1517, 3366,   2534.0,   3.1572,  34.9510,2,-999.0000,9,    271.3,2,    271.0,2,    14.52,2,    17.02,2,     0.00,2,     1.18,2,   -999.0,9, -999.000, -999.000,9,   2.9509
  64TR19900701,AR07Ea,    18,  1,     10,2,19900708, 54.8917, -26.1517, 3366,   2687.0,   3.0593,  34.9540,2,  34.9530,2,    271.1,2,   -999.0,9,    15.69,2,    17.18,2,     0.00,2,     1.17,2,   -999.0,9, -999.000, -999.000,9,   2.8395
  64TR19900701,AR07Ea,    18,  1,      9,2,19900708, 54.8917, -26.1517, 3366,   2786.0,   2.9933,  34.9560,2,-999.0000,9,    270.2,2,    268.6,2,    16.64,2,    17.25,2,     0.01,2,     1.18,2,   -999.0,9, -999.000, -999.000,9,   2.7647
  64TR19900701,AR07Ea,    18,  1,      8,2,19900708, 54.8917, -26.1517, 3366,   2891.0,   2.9093,  34.9570,2,  34.9540,2,    268.0,2,   -999.0,9,    20.77,2,    17.85,2,     0.01,2,     1.25,2,   -999.0,9, -999.000, -999.000,9,   2.6717
  64TR19900701,AR07Ea,    18,  1,      7,2,19900708, 54.8917, -26.1517, 3366,   2993.0,   2.8513,  34.9570,2,-999.0000,9,    265.9,2,    264.5,2,    21.33,2,    18.01,2,     0.00,2,     1.24,2,   -999.0,9, -999.000, -999.000,9,   2.6043
  64TR19900701,AR07Ea,    18,  1,      6,2,19900708, 54.8917, -26.1517, 3366,   3094.0,   2.8003,  34.9540,2,  34.9520,2,    264.7,2,   -999.0,9,    23.41,2,    18.19,2,     0.00,2,     1.27,2,   -999.0,9, -999.000, -999.000,9,   2.5439
  64TR19900701,AR07Ea,    18,  1,      5,2,19900708, 54.8917, -26.1517, 3366,   3201.0,   2.7803,  34.9550,2,-999.0000,9,    263.8,2,    261.4,2,    24.02,2,    18.29,2,     0.01,2,     1.28,2,   -999.0,9, -999.000, -999.000,9,   2.5130
  64TR19900701,AR07Ea,    18,  1,      4,2,19900708, 54.8917, -26.1517, 3366,   3250.0,   2.7703,  34.9530,2,  34.9510,2,    264.7,2,   -999.0,9,    24.88,2,    18.45,2,     0.01,2,     1.29,2,   -999.0,9, -999.000, -999.000,9,   2.4981
  64TR19900701,AR07Ea,    18,  1,      3,2,19900708, 54.8917, -26.1517, 3366,   3305.0,   2.7593,  34.9510,2,-999.0000,9,    263.7,2,    260.1,2,    25.68,2,    18.63,2,     0.02,2,     1.29,2,   -999.0,9, -999.000, -999.000,9,   2.4814
  64TR19900701,AR07Ea,    18,  1,      2,2,19900708, 54.8917, -26.1517, 3366,   3357.0,   2.7563,  34.9510,2,  34.9520,2,    263.9,2,   -999.0,9,    25.72,2,    18.68,2,     0.01,2,     1.30,2,   -999.0,9, -999.000, -999.000,9,   2.4729
  64TR19900701,AR07Ea,    18,  1,      1,2,19900708, 54.8917, -26.1517, 3366,   3404.0,   2.7523,  34.9500,2,-999.0000,9,    263.7,2,    259.0,2,    26.55,2,    18.74,2,     0.01,2,     1.30,2,   -999.0,9, -999.000, -999.000,9,   2.4639
  64TR19900701,AR07Ea,    19,  1,     24,2,19900709, 55.3500, -26.8967, 3357,      3.0,  10.1236,  35.0970,2,  35.0970,2,    278.5,2,   -999.0,9,     3.55,2,     8.31,2,     0.19,2,     0.61,2,   -999.0,9,    2.480, -999.000,2,  10.1233
  64TR19900701,AR07Ea,    19,  1,     23,2,19900709, 55.3500, -26.8967, 3357,     98.0,   8.4960,  35.1810,2,-999.0000,9,    267.0,2,    266.5,2,     7.10,2,    14.46,2,     0.03,2,     0.97,2,   -999.0,9, -999.000, -999.000,9,   8.4857
  64TR19900701,AR07Ea,    19,  1,     22,2,19900709, 55.3500, -26.8967, 3357,    203.0,   7.4992,  35.0680,2,  35.0670,2,    266.7,2,   -999.0,9,     8.10,2,    15.61,2,     0.01,2,     1.04,2,   -999.0,9,    2.660, -999.000,2,   7.4794
  64TR19900701,AR07Ea,    19,  1,     21,2,19900709, 55.3500, -26.8967, 3357,    302.0,   7.4122,  35.1170,2,-999.0000,9,    250.0,2,    256.9,2,     8.29,2,    15.85,2,     0.02,2,     1.07,2,   -999.0,9, -999.000, -999.000,9,   7.3827
  64TR19900701,AR07Ea,    19,  1,     20,2,19900709, 55.3500, -26.8967, 3357,    403.0,   6.5204,  35.0410,2,  35.0430,2,    231.2,2,   -999.0,9,    10.46,2,    18.09,2,     0.02,2,     1.24,2,   -999.0,9,    2.290, -999.000,2,   6.4835
  64TR19900701,AR07Ea,    19,  1,     19,2,19900709, 55.3500, -26.8967, 3357,    505.0,   6.0445,  35.0500,2,-999.0000,9,    237.1,2,    239.4,2,    10.50,2,    18.07,2,     0.02,2,     1.22,2,   -999.0,9, -999.000, -999.000,9,   5.9997
  64TR19900701,AR07Ea,    19,  1,     18,2,19900709, 55.3500, -26.8967, 3357,    758.0,   4.4479,  34.9310,2,  34.9310,2,    254.5,2,   -999.0,9,    11.13,2,    18.39,2,     0.01,2,     1.24,2,   -999.0,9,    2.350, -999.000,2,   4.3888
  64TR19900701,AR07Ea,    19,  1,     17,2,19900709, 55.3500, -26.8967, 3357,   1011.0,   3.8911,  34.9070,2,-999.0000,9,    269.1,2,    268.9,2,    10.86,2,    17.83,2,     0.01,2,     1.21,2,   -999.0,9, -999.000, -999.000,9,   3.8147
  64TR19900701,AR07Ea,    19,  1,     16,2,19900709, 55.3500, -26.8967, 3357,   1263.0,   3.5771,  34.8910,2,  34.8900,2,    277.2,2,   -999.0,9,    10.74,2,    17.49,2,     0.02,2,     1.19,2,   -999.0,9,    1.910, -999.000,2,   3.4823
  64TR19900701,AR07Ea,    19,  1,     15,4,19900709, 55.3500, -26.8967, 3357,   1517.0,   4.4689,  34.8900,2,-999.0000,9,    278.5,2,   -999.0,9,  -999.00,9,  -999.00,9,  -999.00,9,  -999.00,9,   -999.0,9, -999.000, -999.000,9,   4.3420
  64TR19900701,AR07Ea,    19,  1,     14,2,19900709, 55.3500, -26.8967, 3357,   1770.0,   3.4502,  34.9090,2,  34.9080,2,    276.6,2,   -999.0,9,    11.59,2,    17.36,2,     0.02,2,     1.19,2,   -999.0,9,    1.750, -999.000,2,   3.3123
  64TR19900701,AR07Ea,    19,  1,     13,2,19900709, 55.3500, -26.8967, 3357,   2028.0,   3.4032,  34.9280,2,-999.0000,9,    274.7,2,    273.7,2,    12.43,2,    17.35,2,     0.01,2,     1.21,2,   -999.0,9, -999.000, -999.000,9,   3.2420
  64TR19900701,AR07Ea,    19,  1,     12,2,19900709, 55.3500, -26.8967, 3357,   2279.0,   3.3022,  34.9430,2,  34.9420,2,    272.8,2,   -999.0,9,    13.13,2,    17.18,2,     0.02,2,     1.18,2,   -999.0,9,    1.290, -999.000,2,   3.1185
  64TR19900701,AR07Ea,    19,  1,     11,2,19900709, 55.3500, -26.8967, 3357,   2577.0,   3.1272,  34.9570,2,-999.0000,9,    271.2,2,    269.3,2,    15.52,2,    17.27,2,     0.03,2,     1.19,2,   -999.0,9, -999.000, -999.000,9,   2.9172
  64TR19900701,AR07Ea,    19,  1,     10,2,19900709, 55.3500, -26.8967, 3357,   2681.0,   3.0703,  34.9590,2,  34.9580,2,    270.6,2,   -999.0,9,    16.39,2,    17.38,2,     0.03,2,     1.20,2,   -999.0,9,    1.170, -999.000,2,   2.8509
  64TR19900701,AR07Ea,    19,  1,      9,2,19900709, 55.3500, -26.8967, 3357,   2781.0,   3.0013,  34.9590,2,-999.0000,9,    268.8,2,    267.6,2,    17.86,2,    17.44,2,     0.02,2,     1.17,2,   -999.0,9, -999.000, -999.000,9,   2.7731
  64TR19900701,AR07Ea,    19,  1,      8,2,19900709, 55.3500, -26.8967, 3357,   2885.0,   2.9083,  34.9610,2,  34.9580,2,    268.6,2,   -999.0,9,    19.85,2,    17.74,2,     0.03,2,     1.24,2,   -999.0,9,    1.040, -999.000,2,   2.6713
  64TR19900701,AR07Ea,    19,  1,      7,2,19900709, 55.3500, -26.8967, 3357,   2987.0,   2.8233,  34.9580,2,-999.0000,9,    265.7,2,    264.9,2,    21.88,2,    18.00,2,     0.03,2,     1.25,2,   -999.0,9, -999.000, -999.000,9,   2.5776
  64TR19900701,AR07Ea,    19,  1,      6,2,19900709, 55.3500, -26.8967, 3357,   3090.0,   2.7923,  34.9570,2,  34.9550,2,    266.4,2,   -999.0,9,    22.73,2,    18.12,2,     0.04,2,     1.27,2,   -999.0,9,    1.080, -999.000,2,   2.5365
  64TR19900701,AR07Ea,    19,  1,      5,2,19900709, 55.3500, -26.8967, 3357,   3192.0,   2.7703,  34.9590,2,-999.0000,9,    266.5,2,    263.2,2,    22.86,2,    18.23,2,     0.01,2,     1.27,2,   -999.0,9, -999.000, -999.000,9,   2.5042
  64TR19900701,AR07Ea,    19,  1,      4,2,19900709, 55.3500, -26.8967, 3357,   3242.0,   2.7633,  34.9590,2,  34.9570,2,    266.9,2,   -999.0,9,    23.43,2,    18.26,2,     0.03,2,     1.29,2,   -999.0,9,    1.150, -999.000,2,   2.4921
  64TR19900701,AR07Ea,    19,  1,      3,2,19900709, 55.3500, -26.8967, 3357,   3290.0,   2.7673,  34.9580,2,-999.0000,9,    266.4,2,    264.6,2,    23.18,2,    18.05,2,     0.04,2,     1.29,2,   -999.0,9, -999.000, -999.000,9,   2.4908
  64TR19900701,AR07Ea,    19,  1,      2,2,19900709, 55.3500, -26.8967, 3357,   3345.0,   2.7653,  34.9590,2,  34.9580,2,    267.0,2,   -999.0,9,    23.47,2,    18.15,2,     0.03,2,     1.26,2,   -999.0,9,    1.170, -999.000,2,   2.4829
  64TR19900701,AR07Ea,    19,  1,      1,2,19900709, 55.3500, -26.8967, 3357,   3399.0,   2.7703,  34.9590,2,-999.0000,9,    268.0,3,    263.4,2,    23.53,2,    18.19,2,     0.03,2,     1.27,2,   -999.0,9, -999.000, -999.000,9,   2.4819