BOTTLE,20141031SIOCCHAMB
EXPOCODE,SECT_ID,STNNBR,CASTNO,SAMPNO,BTLNBR,BTLNBR_FLAG_W,DATE,TIME,LATITUDE,LONGITUDE,DEPTH,CTDPRS,CTDTMP,CTDSAL,CTDSAL_FLAG_W,SALNTY,SALNTY_FLAG_W,CTDOXY,CTDOXY_FLAG_W,OXYGEN,OXYGEN_FLAG_W,SILCAT,SILCAT_FLAG_W,PHSPHT,PHSPHT_FLAG_W,REVPRS,CTDRAW,THETA,NO2+NO3,NO2+NO3_FLAG_W,REVTMP
,,,,,,,,,,,METERS,DBAR,ITS-90,PSS-78,,PSS-78,,UMOL/KG,,UMOL/KG,,UMOL/KG,,UMOL/KG,,DBAR,DBAR,ITS-90,UMOL/KG,,DEG C
33KI20120529,       PRS2,       2,          6,         24,       8024,2,20120531,       0555,  22.762667,-157.9813333,       4704,     5.6,  24.2647,  35.1242,2,-999.0000,5,    211.6,1,  -999.0,9, -999.00,9, -999.00,9,  -999.0,       6,    24.2636, -999.00,9,     -999.0
33KI20120529,       PRS2,       2,          6,         23,       8023,2,20120531,       0555,  22.762667,-157.9813333,       4704,     5.6,  24.2639,  35.1240,2,  35.1238,2,    211.5,1,  -999.0,9, -999.00,9, -999.00,9,  -999.0,       4,    24.2627, -999.00,9,     -999.0
33KI20120529,       PRS2,       2,          6,         22,       8022,2,20120531,       0555,  22.762667,-157.9813333,       4704,    26.0,  24.2786,  35.1573,2,  35.1593,2,    211.8,1,  -999.0,9, -999.00,9, -999.00,9,  -999.0,      26,    24.2731, -999.00,9,     -999.0
33KI20120529,       PRS2,       2,          6,         21,       8021,2,20120531,       0555,  22.762667,-157.9813333,       4704,    46.0,  23.6787,  35.3227,2,  35.3185,2,    215.7,1,  -999.0,9, -999.00,9, -999.00,9,  -999.0,      46,    23.6691, -999.00,9,     -999.0
33KI20120529,       PRS2,       2,          6,         20,       8020,2,20120531,       0555,  22.762667,-157.9813333,       4704,    73.0,  23.1922,  35.3589,2,  35.3573,2,    219.8,1,  -999.0,9, -999.00,9, -999.00,9,  -999.0,      71,    23.1772, -999.00,9,     -999.0
33KI20120529,       PRS2,       2,          6,         19,       8019,2,20120531,       0555,  22.762667,-157.9813333,       4704,   100.3,  22.5109,  35.3806,2,  35.3817,2,    217.4,1,  -999.0,9, -999.00,9, -999.00,9,  -999.0,     100,    22.4908, -999.00,9,     -999.0
33KI20120529,       PRS2,       2,          6,         18,       8018,2,20120531,       0555,  22.762667,-157.9813333,       4704,   105.0,  22.4208,  35.3902,2,-999.0000,5,    215.0,1,  -999.0,9, -999.00,9, -999.00,9,  -999.0,     104,    22.3997, -999.00,9,     -999.0
33KI20120529,       PRS2,       2,          6,         17,       8017,2,20120531,       0555,  22.762667,-157.9813333,       4704,   110.4,  22.3961,  35.3963,2,-999.0000,5,    214.8,1,  -999.0,9, -999.00,9, -999.00,9,  -999.0,     110,    22.3740, -999.00,9,     -999.0
33KI20120529,       PRS2,       2,          6,         16,       8016,2,20120531,       0555,  22.762667,-157.9813333,       4704,   115.0,  22.3872,  35.3955,2,-999.0000,5,    214.6,1,  -999.0,9, -999.00,9, -999.00,9,  -999.0,     115,    22.3641, -999.00,9,     -999.0
33KI20120529,       PRS2,       2,          6,         15,       8015,2,20120531,       0555,  22.762667,-157.9813333,       4704,   120.8,  22.3390,  35.3979,2,-999.0000,5,    214.6,1,  -999.0,9, -999.00,9, -999.00,9,  -999.0,     120,    22.3148, -999.00,9,     -999.0
33KI20120529,       PRS2,       2,          6,         14,       8014,2,20120531,       0555,  22.762667,-157.9813333,       4704,   125.1,  22.2592,  35.3910,2,  35.3896,2,    213.5,1,  -999.0,9, -999.00,9, -999.00,9,  -999.0,     125,    22.2342, -999.00,9,     -999.0
33KI20120529,       PRS2,       2,          6,         13,       8025,2,20120531,       0555,  22.762667,-157.9813333,       4704,   130.2,  22.2376,  35.3909,2,-999.0000,5,    212.5,1,  -999.0,9, -999.00,9, -999.00,9,  -999.0,     131,    22.2116, -999.00,9,     -999.0
33KI20120529,       PRS2,       2,          6,         12,       8012,2,20120531,       0555,  22.762667,-157.9813333,       4704,   134.5,  22.1783,  35.3886,2,-999.0000,5,    212.2,1,  -999.0,9, -999.00,9, -999.00,9,  -999.0,     134,    22.1515, -999.00,9,     -999.0
33KI20120529,       PRS2,       2,          6,         11,       8011,2,20120531,       0555,  22.762667,-157.9813333,       4704,   140.3,  22.0829,  35.3819,2,-999.0000,5,    212.2,1,  -999.0,9, -999.00,9, -999.00,9,  -999.0,     140,    22.0551, -999.00,9,     -999.0
33KI20120529,       PRS2,       2,          6,         10,       8010,2,20120531,       0555,  22.762667,-157.9813333,       4704,   144.8,  21.9499,  35.3695,2,-999.0000,5,    210.9,1,  -999.0,9, -999.00,9, -999.00,9,  -999.0,     145,    21.9212, -999.00,9,     -999.0
33KI20120529,       PRS2,       2,          6,          9,       8009,2,20120531,       0555,  22.762667,-157.9813333,       4704,   149.5,  21.8284,  35.3555,2,  35.3616,2,    210.5,1,  -999.0,9, -999.00,9, -999.00,9,  -999.0,     149,    21.7989, -999.00,9,     -999.0
33KI20120529,       PRS2,       2,          6,          8,       8008,2,20120531,       0555,  22.762667,-157.9813333,       4704,   155.9,  21.6887,  35.3408,2,-999.0000,5,    207.7,1,  -999.0,9, -999.00,9, -999.00,9,  -999.0,     156,    21.6581, -999.00,9,     -999.0
33KI20120529,       PRS2,       2,          6,          7,       8026,2,20120531,       0555,  22.762667,-157.9813333,       4704,   160.8,  21.5380,  35.3274,2,-999.0000,5,    206.3,1,  -999.0,9, -999.00,9, -999.00,9,  -999.0,     161,    21.5066, -999.00,9,     -999.0
33KI20120529,       PRS2,       2,          6,          6,       8006,2,20120531,       0555,  22.762667,-157.9813333,       4704,   166.7,  21.1676,  35.2894,2,-999.0000,5,    207.5,1,  -999.0,9, -999.00,9, -999.00,9,  -999.0,     166,    21.1355, -999.00,9,     -999.0
33KI20120529,       PRS2,       2,          6,          5,       8005,2,20120531,       0555,  22.762667,-157.9813333,       4704,   167.9,  21.0086,  35.2689,2,-999.0000,5,    207.7,1,  -999.0,9, -999.00,9, -999.00,9,  -999.0,     167,    20.9764, -999.00,9,     -999.0
33KI20120529,       PRS2,       2,          6,          4,       8004,2,20120531,       0555,  22.762667,-157.9813333,       4704,   173.4,  20.8550,  35.2434,2,  35.2432,2,    205.2,1,  -999.0,9, -999.00,9, -999.00,9,  -999.0,     172,    20.8219, -999.00,9,     -999.0
33KI20120529,       PRS2,       2,          6,          3,       8003,2,20120531,       0555,  22.762667,-157.9813333,       4704,   198.1,  18.6791,  34.9302,2,-999.0000,5,    196.2,1,  -999.0,9, -999.00,9, -999.00,9,  -999.0,     196,    18.6442, -999.00,9,     -999.0
33KI20120529,       PRS2,       2,          6,          2,       8002,2,20120531,       0555,  22.762667,-157.9813333,       4704,   500.4,   7.2281,  34.0504,2,  34.0497,2,    110.1,1,  -999.0,9, -999.00,9, -999.00,9,  -999.0,     500,     7.1801, -999.00,9,     -999.0
33KI20120529,       PRS2,       2,          6,          1,       8001,2,20120531,       0555,  22.762667,-157.9813333,       4704,  1020.4,   3.8812,  34.4671,2,  34.4667,2,     37.7,1,  -999.0,9, -999.00,9, -999.00,9,  -999.0,    1020,     3.8048, -999.00,9,     -999.0
33KI20120529,       PRS2,       2,          7,         13,       8025,2,20120531,       0904,  22.751000,-158.0046667,       4714,     4.9,  24.2719,  35.1654,2,  35.1648,2,    210.9,1,  -999.0,9, -999.00,9, -999.00,9,  -999.0,       5,    24.2709, -999.00,9,     -999.0
33KI20120529,       PRS2,       2,          7,         12,       8012,2,20120531,       0904,  22.751000,-158.0046667,       4714,     4.9,  24.2720,  35.1653,2,-999.0000,5,    210.8,1,  -999.0,9, -999.00,9, -999.00,9,  -999.0,       4,    24.2709, -999.00,9,     -999.0
33KI20120529,       PRS2,       2,          7,         11,       8011,2,20120531,       0904,  22.751000,-158.0046667,       4714,    25.5,  24.2599,  35.2410,2,  35.2361,2,    211.7,1,  -999.0,9, -999.00,9, -999.00,9,  -999.0,      26,    24.2545, -999.00,9,     -999.0
33KI20120529,       PRS2,       2,          7,         10,       8010,2,20120531,       0904,  22.751000,-158.0046667,       4714,    25.3,  24.2664,  35.2370,2,  35.2345,2,    211.6,1,  -999.0,9, -999.00,9, -999.00,9,  -999.0,      25,    24.2610, -999.00,9,     -999.0
33KI20120529,       PRS2,       2,          7,          9,       8009,2,20120531,       0904,  22.751000,-158.0046667,       4714,    45.2,  23.3353,  35.3506,2,  35.3480,2,    218.4,1,  -999.0,9, -999.00,9, -999.00,9,  -999.0,      45,    23.3259, -999.00,9,     -999.0
33KI20120529,       PRS2,       2,          7,          8,       8008,2,20120531,       0904,  22.751000,-158.0046667,       4714,    75.2,  22.8295,  35.3669,2,  35.3656,2,    219.4,1,  -999.0,9, -999.00,9, -999.00,9,  -999.0,      78,    22.8142, -999.00,9,     -999.0
33KI20120529,       PRS2,       2,          7,          7,       8026,2,20120531,       0904,  22.751000,-158.0046667,       4714,    99.9,  22.5827,  35.3784,2,  35.3774,2,    218.5,1,  -999.0,9, -999.00,9, -999.00,9,  -999.0,      99,    22.5626, -999.00,9,     -999.0
33KI20120529,       PRS2,       2,          7,          6,       8006,2,20120531,       0904,  22.751000,-158.0046667,       4714,   124.6,  22.2557,  35.3865,2,  35.3847,2,    212.6,1,  -999.0,9, -999.00,9, -999.00,9,  -999.0,     124,    22.2308, -999.00,9,     -999.0
33KI20120529,       PRS2,       2,          7,          5,       8005,2,20120531,       0904,  22.751000,-158.0046667,       4714,   135.0,  22.1142,  35.3846,2,  35.3807,2,    210.7,1,  -999.0,9, -999.00,9, -999.00,9,  -999.0,     135,    22.0873, -999.00,9,     -999.0
33KI20120529,       PRS2,       2,          7,          4,       8004,2,20120531,       0904,  22.751000,-158.0046667,       4714,   150.6,  21.5398,  35.3243,2,  35.3271,2,    205.1,1,  -999.0,9, -999.00,9, -999.00,9,  -999.0,     150,    21.5104, -999.00,9,     -999.0
33KI20120529,       PRS2,       2,          7,          3,       8003,2,20120531,       0904,  22.751000,-158.0046667,       4714,   175.9,  20.3532,  35.1730,2,  35.1738,2,    199.6,1,  -999.0,9, -999.00,9, -999.00,9,  -999.0,     175,    20.3202, -999.00,9,     -999.0
33KI20120529,       PRS2,       2,          7,          2,       8002,2,20120531,       0904,  22.751000,-158.0046667,       4714,   500.4,   7.6332,  34.0515,2,  34.0513,2,    125.3,1,  -999.0,9, -999.00,9, -999.00,9,  -999.0,     500,     7.5837, -999.00,9,     -999.0
33KI20120529,       PRS2,       2,          7,          1,       8001,2,20120531,       0904,  22.751000,-158.0046667,       4714,  1020.4,   3.8890,  34.4659,2,  34.4675,2,     37.3,1,  -999.0,9, -999.00,9, -999.00,9,  -999.0,    1020,     3.8125, -999.00,9,     -999.0
33KI20120529,       PRS2,       2,          8,         14,       8014,2,20120531,       1155,  22.754167,-157.9790000,       4705,     5.0,  24.2324,  35.1555,2,  35.1547,2,    210.8,1,  -999.0,9, -999.00,9, -999.00,9,  -999.0,       5,    24.2313, -999.00,9,     -999.0
33KI20120529,       PRS2,       2,          8,         13,       8025,2,20120531,       1155,  22.754167,-157.9790000,       4705,     4.9,  24.2324,  35.1555,2,  35.1553,2,    210.7,1,  -999.0,9, -999.00,9, -999.00,9,  -999.0,       5,    24.2314, -999.00,9,     -999.0
33KI20120529,       PRS2,       2,          8,         12,       8012,2,20120531,       1155,  22.754167,-157.9790000,       4705,    24.6,  24.2436,  35.2129,2,  35.1723,3,    210.9,1,  -999.0,9, -999.00,9, -999.00,9,  -999.0,      25,    24.2384, -999.00,9,     -999.0
33KI20120529,       PRS2,       2,          8,         11,       8011,2,20120531,       1155,  22.754167,-157.9790000,       4705,    24.6,  24.2434,  35.1817,2,  35.1729,2,    211.1,1,  -999.0,9, -999.00,9, -999.00,9,  -999.0,      25,    24.2382, -999.00,9,     -999.0
33KI20120529,       PRS2,       2,          8,         10,       8010,2,20120531,       1155,  22.754167,-157.9790000,       4705,    52.6,  23.3700,  35.3500,2,  35.3463,2,    218.2,1,  -999.0,9, -999.00,9, -999.00,9,  -999.0,      53,    23.3592, -999.00,9,     -999.0
33KI20120529,       PRS2,       2,          8,          9,       8009,2,20120531,       1155,  22.754167,-157.9790000,       4705,    51.0,  23.3899,  35.3477,2,  35.3425,2,    218.2,1,  -999.0,9, -999.00,9, -999.00,9,  -999.0,      51,    23.3793, -999.00,9,     -999.0
33KI20120529,       PRS2,       2,          8,          8,       8008,2,20120531,       1155,  22.754167,-157.9790000,       4705,    75.1,  22.9266,  35.3650,2,  35.3628,2,    217.8,1,  -999.0,9, -999.00,9, -999.00,9,  -999.0,      75,    22.9112, -999.00,9,     -999.0
33KI20120529,       PRS2,       2,          8,          7,       8026,2,20120531,       1155,  22.754167,-157.9790000,       4705,    75.7,  22.9147,  35.3647,2,  35.3624,2,    217.6,1,  -999.0,9, -999.00,9, -999.00,9,  -999.0,      75,    22.8993, -999.00,9,     -999.0
33KI20120529,       PRS2,       2,          8,          6,       8006,2,20120531,       1155,  22.754167,-157.9790000,       4705,    99.6,  22.6591,  35.3720,2,  35.3719,2,    218.2,1,  -999.0,9, -999.00,9, -999.00,9,  -999.0,      99,    22.6389, -999.00,9,     -999.0
33KI20120529,       PRS2,       2,          8,          5,       8005,2,20120531,       1155,  22.754167,-157.9790000,       4705,    99.7,  22.6556,  35.3724,2,  35.3715,2,    218.2,1,  -999.0,9, -999.00,9, -999.00,9,  -999.0,     100,    22.6355, -999.00,9,     -999.0
33KI20120529,       PRS2,       2,          8,          4,       8004,2,20120531,       1155,  22.754167,-157.9790000,       4705,   125.8,  22.2842,  35.3906,2,  35.3918,2,    213.8,1,  -999.0,9, -999.00,9, -999.00,9,  -999.0,     126,    22.2591, -999.00,9,     -999.0
33KI20120529,       PRS2,       2,          8,          3,       8003,2,20120531,       1155,  22.754167,-157.9790000,       4705,   125.7,  22.2848,  35.3912,2,  35.3932,2,    213.6,1,  -999.0,9, -999.00,9, -999.00,9,  -999.0,     125,    22.2597, -999.00,9,     -999.0
33KI20120529,       PRS2,       2,          8,          2,       8002,2,20120531,       1155,  22.754167,-157.9790000,       4705,   540.9,   6.8073,  34.0497,2,  34.0492,2,     95.8,1,  -999.0,9, -999.00,9, -999.00,9,  -999.0,     541,     6.7570, -999.00,9,     -999.0
33KI20120529,       PRS2,       2,          8,          1,       8001,2,20120531,       1155,  22.754167,-157.9790000,       4705,  1022.1,   3.9363,  34.4582,2,  34.4571,2,     35.4,1,  -999.0,9, -999.00,9, -999.00,9,  -999.0,    1023,     3.8593, -999.00,9,     -999.0