BOTTLE,20141031SIOCCHAMB
EXPOCODE,SECT_ID,STNNBR,CASTNO,SAMPNO,BTLNBR,BTLNBR_FLAG_W,DATE,TIME,LATITUDE,LONGITUDE,DEPTH,CTDPRS,CTDTMP,CTDSAL,CTDSAL_FLAG_W,SALNTY,SALNTY_FLAG_W,CTDOXY,CTDOXY_FLAG_W,OXYGEN,OXYGEN_FLAG_W,SILCAT,SILCAT_FLAG_W,PHSPHT,PHSPHT_FLAG_W,REVPRS,CTDRAW,THETA,NO2+NO3,NO2+NO3_FLAG_W,REVTMP
,,,,,,,,,,,METERS,DBAR,ITS-90,PSS-78,,PSS-78,,UMOL/KG,,UMOL/KG,,UMOL/KG,,UMOL/KG,,DBAR,DBAR,ITS-90,UMOL/KG,,DEG C
33KI20120529,       PRS2,       2,         12,         23,       8023,2,20120531,       2355,  22.757000,-157.9911667,       4700,     5.0,  24.2626,  35.1114,2,  35.1112,2,    211.5,1,  -999.0,9, -999.00,9, -999.00,9,  -999.0,       5,    24.2615, -999.00,9,     -999.0
33KI20120529,       PRS2,       2,         12,         22,       8022,2,20120531,       2355,  22.757000,-157.9911667,       4700,    24.7,  24.1832,  35.1310,2,  35.1354,2,    211.7,1,  -999.0,9, -999.00,9, -999.00,9,  -999.0,      24,    24.1780, -999.00,9,     -999.0
33KI20120529,       PRS2,       2,         12,         21,       8021,2,20120531,       2355,  22.757000,-157.9911667,       4700,    44.8,  23.6867,  35.3237,2,  35.3228,2,    216.4,1,  -999.0,9, -999.00,9, -999.00,9,  -999.0,      45,    23.6773, -999.00,9,     -999.0
33KI20120529,       PRS2,       2,         12,         20,       8020,2,20120531,       2355,  22.757000,-157.9911667,       4700,    76.2,  23.0367,  35.3505,2,  35.3514,2,    218.3,1,  -999.0,9, -999.00,9, -999.00,9,  -999.0,      76,    23.0211, -999.00,9,     -999.0
33KI20120529,       PRS2,       2,         12,         19,       8019,2,20120531,       2355,  22.757000,-157.9911667,       4700,    98.8,  22.4705,  35.3822,2,  35.3819,2,    216.6,1,  -999.0,9, -999.00,9, -999.00,9,  -999.0,      99,    22.4506, -999.00,9,     -999.0
33KI20120529,       PRS2,       2,         12,         18,       8018,2,20120531,       2355,  22.757000,-157.9911667,       4700,   124.4,  22.2949,  35.3915,2,  35.3908,2,    213.2,1,  -999.0,9, -999.00,9, -999.00,9,  -999.0,     124,    22.2700, -999.00,9,     -999.0
33KI20120529,       PRS2,       2,         12,         17,       8017,2,20120531,       2355,  22.757000,-157.9911667,       4700,   149.8,  21.9572,  35.3667,2,  35.3650,2,    210.3,1,  -999.0,9, -999.00,9, -999.00,9,  -999.0,     150,    21.9276, -999.00,9,     -999.0
33KI20120529,       PRS2,       2,         12,         16,       8016,2,20120531,       2355,  22.757000,-157.9911667,       4700,   199.5,  19.9673,  35.1136,2,-999.0000,5,    199.0,1,  -999.0,9, -999.00,9, -999.00,9,  -999.0,     200,    19.9304, -999.00,9,     -999.0
33KI20120529,       PRS2,       2,         12,         15,       8015,2,20120531,       2355,  22.757000,-157.9911667,       4700,   199.4,  19.9650,  35.1142,2,-999.0000,5,    199.0,1,  -999.0,9, -999.00,9, -999.00,9,  -999.0,     200,    19.9281, -999.00,9,     -999.0
33KI20120529,       PRS2,       2,         12,         14,       8014,2,20120531,       2355,  22.757000,-157.9911667,       4700,   250.7,  16.9127,  34.6997,2,  34.6946,2,    200.5,1,  -999.0,9, -999.00,9, -999.00,9,  -999.0,     250,    16.8715, -999.00,9,     -999.0
33KI20120529,       PRS2,       2,         12,         13,       8025,2,20120531,       2355,  22.757000,-157.9911667,       4700,   299.6,  13.8753,  34.3520,2,-999.0000,5,    207.2,1,  -999.0,9, -999.00,9, -999.00,9,  -999.0,     298,    13.8324, -999.00,9,     -999.0
33KI20120529,       PRS2,       2,         12,         12,       8012,2,20120531,       2355,  22.757000,-157.9911667,       4700,   299.5,  13.8928,  34.3539,2,  34.3711,3,    206.9,1,  -999.0,9, -999.00,9, -999.00,9,  -999.0,     299,    13.8498, -999.00,9,     -999.0
33KI20120529,       PRS2,       2,         12,         11,       8011,2,20120531,       2355,  22.757000,-157.9911667,       4700,   348.8,  12.1312,  34.2374,2,-999.0000,5,    207.3,1,  -999.0,9, -999.00,9, -999.00,9,  -999.0,     349,    12.0854, -999.00,9,     -999.0
33KI20120529,       PRS2,       2,         12,         10,       8010,2,20120531,       2355,  22.757000,-157.9911667,       4700,   400.8,  10.6029,  34.1604,2,-999.0000,5,    202.7,1,  -999.0,9, -999.00,9, -999.00,9,  -999.0,     401,    10.5547, -999.00,9,     -999.0
33KI20120529,       PRS2,       2,         12,          9,       8009,2,20120531,       2355,  22.757000,-157.9911667,       4700,   500.9,   7.9615,  34.0634,2,-999.0000,5,    127.5,1,  -999.0,9, -999.00,9, -999.00,9,  -999.0,     501,     7.9107, -999.00,9,     -999.0
33KI20120529,       PRS2,       2,         12,          8,       8008,2,20120531,       2355,  22.757000,-157.9911667,       4700,   500.1,   7.9641,  34.0633,2,-999.0000,5,    127.2,1,  -999.0,9, -999.00,9, -999.00,9,  -999.0,     500,     7.9133, -999.00,9,     -999.0
33KI20120529,       PRS2,       2,         12,          7,       8026,2,20120531,       2355,  22.757000,-157.9911667,       4700,   551.4,   6.6646,  34.0496,2,  34.0476,2,     93.1,1,  -999.0,9, -999.00,9, -999.00,9,  -999.0,     551,     6.6139, -999.00,9,     -999.0
33KI20120529,       PRS2,       2,         12,          6,       8006,2,20120531,       2355,  22.757000,-157.9911667,       4700,   600.9,   5.8273,  34.0733,2,-999.0000,5,     66.9,1,  -999.0,9, -999.00,9, -999.00,9,  -999.0,     600,     5.7756, -999.00,9,     -999.0
33KI20120529,       PRS2,       2,         12,          5,       8005,2,20120531,       2355,  22.757000,-157.9911667,       4700,   701.2,   5.0167,  34.2003,2,-999.0000,5,     30.5,1,  -999.0,9, -999.00,9, -999.00,9,  -999.0,     701,     4.9600, -999.00,9,     -999.0
33KI20120529,       PRS2,       2,         12,          4,       8004,2,20120531,       2355,  22.757000,-157.9911667,       4700,   771.5,   4.6320,  34.2646,2,-999.0000,5,     22.5,1,  -999.0,9, -999.00,9, -999.00,9,  -999.0,     771,     4.5715, -999.00,9,     -999.0
33KI20120529,       PRS2,       2,         12,          3,       8003,2,20120531,       2355,  22.757000,-157.9911667,       4700,   800.6,   4.5160,  34.2995,2,-999.0000,5,     22.2,1,  -999.0,9, -999.00,9, -999.00,9,  -999.0,     800,     4.4537, -999.00,9,     -999.0
33KI20120529,       PRS2,       2,         12,          2,       8002,2,20120531,       2355,  22.757000,-157.9911667,       4700,   894.4,   4.3130,  34.3831,2,-999.0000,5,     26.8,1,  -999.0,9, -999.00,9, -999.00,9,  -999.0,     894,     4.2441, -999.00,9,     -999.0
33KI20120529,       PRS2,       2,         12,          1,       8001,2,20120531,       2355,  22.757000,-157.9911667,       4700,  1018.7,   3.8948,  34.4646,2,  34.4659,2,     37.0,1,  -999.0,9, -999.00,9, -999.00,9,  -999.0,    1018,     3.8185, -999.00,9,     -999.0
33KI20120529,       PRS2,       2,         13,         23,       8023,2,20120601,       0257,  22.750667,-158.0178333,       4718,     4.9,  24.2606,  35.1366,2,  35.1368,2,    211.0,2,  -999.0,5, -999.00,9, -999.00,9,  -999.0,       4,    24.2595, -999.00,9,     -999.0
33KI20120529,       PRS2,       2,         13,         22,       8022,2,20120601,       0257,  22.750667,-158.0178333,       4718,     4.9,  24.2610,  35.1366,2,-999.0000,5,    210.9,2,   211.6,2, -999.00,9, -999.00,9,  -999.0,       5,    24.2599, -999.00,9,     -999.0
33KI20120529,       PRS2,       2,         13,         21,       8021,2,20120601,       0257,  22.750667,-158.0178333,       4718,    14.8,  24.2650,  35.1390,2,  35.1390,2,    210.9,2,  -999.0,5, -999.00,9, -999.00,9,  -999.0,      14,    24.2619, -999.00,9,     -999.0
33KI20120529,       PRS2,       2,         13,         20,       8020,2,20120601,       0257,  22.750667,-158.0178333,       4718,    24.4,  24.2602,  35.1561,2,  35.1553,2,    211.0,2,  -999.0,5, -999.00,9, -999.00,9,  -999.0,      24,    24.2550, -999.00,9,     -999.0
33KI20120529,       PRS2,       2,         13,         19,       8019,2,20120601,       0257,  22.750667,-158.0178333,       4718,    24.4,  24.2601,  35.1563,2,-999.0000,5,    211.1,2,   211.7,2, -999.00,9, -999.00,9,  -999.0,      24,    24.2549, -999.00,9,     -999.0
33KI20120529,       PRS2,       2,         13,         18,       8018,2,20120601,       0257,  22.750667,-158.0178333,       4718,    36.1,  24.2387,  35.1778,2,  35.1829,2,    210.5,2,  -999.0,5, -999.00,9, -999.00,9,  -999.0,      36,    24.2310, -999.00,9,     -999.0
33KI20120529,       PRS2,       2,         13,         17,       8017,2,20120601,       0257,  22.750667,-158.0178333,       4718,    45.5,  24.0691,  35.2693,2,  35.2737,2,    213.1,2,   214.0,2, -999.00,9, -999.00,9,  -999.0,      45,    24.0595, -999.00,9,     -999.0
33KI20120529,       PRS2,       2,         13,         16,       8016,2,20120601,       0257,  22.750667,-158.0178333,       4718,    59.5,  23.4314,  35.3492,2,  35.3508,2,    219.2,2,  -999.0,5, -999.00,9, -999.00,9,  -999.0,      60,    23.4190, -999.00,9,     -999.0
33KI20120529,       PRS2,       2,         13,         15,       8015,2,20120601,       0257,  22.750667,-158.0178333,       4718,    74.9,  23.2226,  35.3536,2,  35.3537,2,    219.6,2,   219.2,2, -999.00,9, -999.00,9,  -999.0,      74,    23.2072, -999.00,9,     -999.0
33KI20120529,       PRS2,       2,         13,         14,       8014,2,20120601,       0257,  22.750667,-158.0178333,       4718,    84.2,  23.1561,  35.3533,2,  35.3537,2,    218.9,2,   219.2,2, -999.00,9, -999.00,9,  -999.0,      84,    23.1388, -999.00,9,     -999.0
33KI20120529,       PRS2,       2,         13,         13,       8025,2,20120601,       0257,  22.750667,-158.0178333,       4718,    90.7,  22.9925,  35.3528,2,  35.3535,2,    218.7,2,  -999.0,5, -999.00,9, -999.00,9,  -999.0,      90,    22.9739, -999.00,9,     -999.0
33KI20120529,       PRS2,       2,         13,         12,       8012,2,20120601,       0257,  22.750667,-158.0178333,       4718,    99.7,  22.8022,  35.3609,2,  35.3638,2,    218.4,2,   218.4,2, -999.00,9, -999.00,9,  -999.0,     100,    22.7819, -999.00,9,     -999.0
33KI20120529,       PRS2,       2,         13,         11,       8011,2,20120601,       0257,  22.750667,-158.0178333,       4718,   110.2,  22.4679,  35.3848,2,  35.3837,2,    215.9,2,  -999.0,5, -999.00,9, -999.00,9,  -999.0,     110,    22.4457, -999.00,9,     -999.0
33KI20120529,       PRS2,       2,         13,         10,       8010,2,20120601,       0257,  22.750667,-158.0178333,       4718,   115.9,  22.3682,  35.3918,2,  35.3904,2,    214.0,2,   214.6,2, -999.00,9, -999.00,9,  -999.0,     116,    22.3450, -999.00,9,     -999.0
33KI20120529,       PRS2,       2,         13,          9,       8009,2,20120601,       0257,  22.750667,-158.0178333,       4718,   126.1,  22.2716,  35.3940,2,  35.3926,2,    212.4,2,   212.8,2, -999.00,9, -999.00,9,  -999.0,     126,    22.2464, -999.00,9,     -999.0
33KI20120529,       PRS2,       2,         13,          8,       8008,2,20120601,       0257,  22.750667,-158.0178333,       4718,   131.8,  22.2132,  35.3916,2,  35.3904,2,    211.9,2,  -999.0,5, -999.00,9, -999.00,9,  -999.0,     131,    22.1869, -999.00,9,     -999.0
33KI20120529,       PRS2,       2,         13,          7,       8026,2,20120601,       0257,  22.750667,-158.0178333,       4718,   148.5,  21.7137,  35.3460,2,  35.3480,2,    208.6,2,   208.6,2, -999.00,9, -999.00,9,  -999.0,     149,    21.6846, -999.00,9,     -999.0
33KI20120529,       PRS2,       2,         13,          6,       8006,2,20120601,       0257,  22.750667,-158.0178333,       4718,   163.8,  21.2169,  35.2851,2,  35.2869,2,    205.4,2,   204.1,2, -999.00,9, -999.00,9,  -999.0,     164,    21.1852, -999.00,9,     -999.0
33KI20120529,       PRS2,       2,         13,          5,       8005,2,20120601,       0257,  22.750667,-158.0178333,       4718,   175.6,  20.7783,  35.2346,2,  35.2345,2,    204.9,2,   204.0,2, -999.00,9, -999.00,9,  -999.0,     178,    20.7449, -999.00,9,     -999.0
33KI20120529,       PRS2,       2,         13,          4,       8004,2,20120601,       0257,  22.750667,-158.0178333,       4718,   200.1,  18.9159,  34.9629,2,  34.9626,2,    196.4,2,   196.9,2, -999.00,9, -999.00,9,  -999.0,     201,    18.8803, -999.00,9,     -999.0
33KI20120529,       PRS2,       2,         13,          3,       8003,2,20120601,       0257,  22.750667,-158.0178333,       4718,   541.0,   6.5923,  34.0513,2,  34.0503,2,     91.6,2,    90.4,2, -999.00,9, -999.00,9,  -999.0,     540,     6.5428, -999.00,9,     -999.0
33KI20120529,       PRS2,       2,         13,          2,       8002,2,20120601,       0257,  22.750667,-158.0178333,       4718,   770.4,   4.5681,  34.2799,2,  34.2832,2,     22.3,2,    22.3,2, -999.00,9, -999.00,9,  -999.0,     770,     4.5081, -999.00,9,     -999.0
33KI20120529,       PRS2,       2,         13,          1,       8001,2,20120601,       0257,  22.750667,-158.0178333,       4718,  1021.1,   3.9002,  34.4650,2,  34.4656,2,     37.2,2,    38.3,2, -999.00,9, -999.00,9,  -999.0,    1021,     3.8237, -999.00,9,     -999.0
33KI20120529,       PRS2,       2,         14,         24,       8024,2,20120601,       0556,  22.684333,-158.0543333,       5163,     5.4,  24.2493,  35.1313,2,  35.1309,2,    210.9,1,  -999.0,9, -999.00,9, -999.00,9,  -999.0,       5,    24.2482, -999.00,9,     -999.0
33KI20120529,       PRS2,       2,         14,         23,       8023,2,20120601,       0556,  22.684333,-158.0543333,       5163,     5.4,  24.2490,  35.1312,2,  35.1309,2,    210.8,1,  -999.0,9, -999.00,9, -999.00,9,  -999.0,       5,    24.2478, -999.00,9,     -999.0
33KI20120529,       PRS2,       2,         14,         22,       8022,2,20120601,       0556,  22.684333,-158.0543333,       5163,     5.4,  24.2485,  35.1314,2,  35.1307,2,    210.7,1,  -999.0,9, -999.00,9, -999.00,9,  -999.0,       5,    24.2473, -999.00,9,     -999.0
33KI20120529,       PRS2,       2,         14,         21,       8021,2,20120601,       0556,  22.684333,-158.0543333,       5163,    26.2,  24.2549,  35.1361,2,  35.1343,2,    210.7,1,  -999.0,9, -999.00,9, -999.00,9,  -999.0,      26,    24.2494, -999.00,9,     -999.0
33KI20120529,       PRS2,       2,         14,         20,       8020,2,20120601,       0556,  22.684333,-158.0543333,       5163,    26.2,  24.2554,  35.1354,2,  35.1352,2,    210.7,1,  -999.0,9, -999.00,9, -999.00,9,  -999.0,      25,    24.2498, -999.00,9,     -999.0
33KI20120529,       PRS2,       2,         14,         19,       8019,2,20120601,       0556,  22.684333,-158.0543333,       5163,    46.9,  23.5600,  35.3402,2,  35.3234,3,    218.4,1,  -999.0,9, -999.00,9, -999.00,9,  -999.0,      45,    23.5503, -999.00,9,     -999.0
33KI20120529,       PRS2,       2,         14,         18,       8018,2,20120601,       0556,  22.684333,-158.0543333,       5163,    46.8,  23.5715,  35.3364,2,  35.3236,2,    218.4,1,  -999.0,9, -999.00,9, -999.00,9,  -999.0,      45,    23.5617, -999.00,9,     -999.0
33KI20120529,       PRS2,       2,         14,         17,       8017,2,20120601,       0556,  22.684333,-158.0543333,       5163,    58.9,  23.2728,  35.3687,2,  35.3679,2,    218.8,1,  -999.0,9, -999.00,9, -999.00,9,  -999.0,      59,    23.2607, -999.00,9,     -999.0
33KI20120529,       PRS2,       2,         14,         16,       8016,2,20120601,       0556,  22.684333,-158.0543333,       5163,    75.1,  23.0991,  35.3593,2,  35.3610,2,    217.9,1,  -999.0,9, -999.00,9, -999.00,9,  -999.0,      75,    23.0836, -999.00,9,     -999.0
33KI20120529,       PRS2,       2,         14,         15,       8015,2,20120601,       0556,  22.684333,-158.0543333,       5163,    75.2,  23.0943,  35.3588,2,  35.3604,2,    217.9,1,  -999.0,9, -999.00,9, -999.00,9,  -999.0,      75,    23.0789, -999.00,9,     -999.0
33KI20120529,       PRS2,       2,         14,         14,       8014,2,20120601,       0556,  22.684333,-158.0543333,       5163,    88.4,  22.8125,  35.3571,2,  35.3518,2,    218.5,1,  -999.0,9, -999.00,9, -999.00,9,  -999.0,      87,    22.7945, -999.00,9,     -999.0
33KI20120529,       PRS2,       2,         14,         13,       8025,2,20120601,       0556,  22.684333,-158.0543333,       5163,    97.3,  22.5933,  35.3768,2,  35.3766,2,    217.2,1,  -999.0,9, -999.00,9, -999.00,9,  -999.0,      97,    22.5736, -999.00,9,     -999.0
33KI20120529,       PRS2,       2,         14,         12,       8012,2,20120601,       0556,  22.684333,-158.0543333,       5163,    98.1,  22.5776,  35.3782,2,  35.3778,2,    216.3,1,  -999.0,9, -999.00,9, -999.00,9,  -999.0,      99,    22.5578, -999.00,9,     -999.0
33KI20120529,       PRS2,       2,         14,         11,       8011,2,20120601,       0556,  22.684333,-158.0543333,       5163,   115.3,  22.2807,  35.3907,2,  35.3902,2,    212.6,1,  -999.0,9, -999.00,9, -999.00,9,  -999.0,     115,    22.2577, -999.00,9,     -999.0
33KI20120529,       PRS2,       2,         14,         10,       8010,2,20120601,       0556,  22.684333,-158.0543333,       5163,   124.7,  22.0690,  35.3782,2,  35.3821,2,    209.6,1,  -999.0,9, -999.00,9, -999.00,9,  -999.0,     127,    22.0443, -999.00,9,     -999.0
33KI20120529,       PRS2,       2,         14,          9,       8009,2,20120601,       0556,  22.684333,-158.0543333,       5163,   125.1,  22.0432,  35.3757,2,  35.3831,2,    209.3,1,  -999.0,9, -999.00,9, -999.00,9,  -999.0,     126,    22.0184, -999.00,9,     -999.0
33KI20120529,       PRS2,       2,         14,          8,       8008,2,20120601,       0556,  22.684333,-158.0543333,       5163,   135.3,  21.6531,  35.3420,2,  35.3451,2,    207.7,1,  -999.0,9, -999.00,9, -999.00,9,  -999.0,     135,    21.6266, -999.00,9,     -999.0
33KI20120529,       PRS2,       2,         14,          7,       8026,2,20120601,       0556,  22.684333,-158.0543333,       5163,   135.0,  21.6441,  35.3428,2,  35.3447,2,    207.7,1,  -999.0,9, -999.00,9, -999.00,9,  -999.0,     135,    21.6176, -999.00,9,     -999.0
33KI20120529,       PRS2,       2,         14,          6,       8006,2,20120601,       0556,  22.684333,-158.0543333,       5163,   150.5,  21.1201,  35.2836,2,  35.2854,2,    207.7,1,  -999.0,9, -999.00,9, -999.00,9,  -999.0,     150,    21.0912, -999.00,9,     -999.0
33KI20120529,       PRS2,       2,         14,          5,       8005,2,20120601,       0556,  22.684333,-158.0543333,       5163,   150.4,  21.1164,  35.2836,2,  35.2861,2,    207.7,1,  -999.0,9, -999.00,9, -999.00,9,  -999.0,     150,    21.0875, -999.00,9,     -999.0
33KI20120529,       PRS2,       2,         14,          4,       8004,2,20120601,       0556,  22.684333,-158.0543333,       5163,   176.8,  19.5202,  35.0420,2,  35.0581,2,    198.5,1,  -999.0,9, -999.00,9, -999.00,9,  -999.0,     176,    19.4881, -999.00,9,     -999.0
33KI20120529,       PRS2,       2,         14,          3,       8003,2,20120601,       0556,  22.684333,-158.0543333,       5163,   176.8,  19.5263,  35.0446,2,  35.0547,2,    198.6,1,  -999.0,9, -999.00,9, -999.00,9,  -999.0,     178,    19.4942, -999.00,9,     -999.0
33KI20120529,       PRS2,       2,         14,          2,       8002,2,20120601,       0556,  22.684333,-158.0543333,       5163,   499.2,   7.4911,  34.0489,2,  34.0490,2,    118.9,1,  -999.0,9, -999.00,9, -999.00,9,  -999.0,     501,     7.4422, -999.00,9,     -999.0
33KI20120529,       PRS2,       2,         14,          1,       8001,2,20120601,       0556,  22.684333,-158.0543333,       5163,  1018.8,   3.9100,  34.4620,2,  34.4636,2,     36.8,1,  -999.0,9, -999.00,9, -999.00,9,  -999.0,    1019,     3.8336, -999.00,9,     -999.0