BOTTLE,20141031SIOCCHAMB
EXPOCODE,SECT_ID,STNNBR,CASTNO,SAMPNO,BTLNBR,BTLNBR_FLAG_W,DATE,TIME,LATITUDE,LONGITUDE,DEPTH,CTDPRS,CTDTMP,CTDSAL,CTDSAL_FLAG_W,SALNTY,SALNTY_FLAG_W,CTDOXY,CTDOXY_FLAG_W,OXYGEN,OXYGEN_FLAG_W,SILCAT,SILCAT_FLAG_W,PHSPHT,PHSPHT_FLAG_W,REVPRS,CTDRAW,THETA,NO2+NO3,NO2+NO3_FLAG_W,REVTMP
,,,,,,,,,,,METERS,DBAR,ITS-90,PSS-78,,PSS-78,,UMOL/KG,,UMOL/KG,,UMOL/KG,,UMOL/KG,,DBAR,DBAR,ITS-90,UMOL/KG,,DEG C
33KI20120529,       PRS2,       1,          1,         24,       8024,2,20120529,       2230,  21.342167,-158.2741667,       1544,     4.9,  24.9360,  35.0426,2,  35.0437,2,    209.6,2,   209.5,2, -999.00,9, -999.00,9,  -999.0,       5,    24.9349, -999.00,9,     -999.0
33KI20120529,       PRS2,       1,          1,         23,       8023,2,20120529,       2230,  21.342167,-158.2741667,       1544,     4.8,  24.9358,  35.0425,2,  35.0431,2,    209.4,2,   209.5,2, -999.00,9, -999.00,9,  -999.0,       5,    24.9348, -999.00,9,     -999.0
33KI20120529,       PRS2,       1,          1,         22,       8022,2,20120529,       2230,  21.342167,-158.2741667,       1544,    24.6,  24.8813,  35.0432,2,  35.0439,2,    210.0,2,   209.9,2, -999.00,9, -999.00,9,  -999.0,      24,    24.8760, -999.00,9,     -999.0
33KI20120529,       PRS2,       1,          1,         21,       8021,2,20120529,       2230,  21.342167,-158.2741667,       1544,    44.4,  24.8700,  35.0429,2,  35.0439,2,    209.7,2,   209.7,2, -999.00,9, -999.00,9,  -999.0,      44,    24.8604, -999.00,9,     -999.0
33KI20120529,       PRS2,       1,          1,         20,       8020,2,20120529,       2230,  21.342167,-158.2741667,       1544,    59.9,  24.4148,  35.0906,2,  35.0967,2,    212.2,2,   213.5,2, -999.00,9, -999.00,9,  -999.0,      60,    24.4020, -999.00,9,     -999.0
33KI20120529,       PRS2,       1,          1,         19,       8019,2,20120529,       2230,  21.342167,-158.2741667,       1544,    74.8,  23.7870,  35.1088,2,  35.1124,2,    214.4,2,   213.3,2, -999.00,9, -999.00,9,  -999.0,      75,    23.7713, -999.00,9,     -999.0
33KI20120529,       PRS2,       1,          1,         18,       8018,2,20120529,       2230,  21.342167,-158.2741667,       1544,   100.2,  23.0282,  35.1603,2,  35.1605,2,    207.7,2,   208.3,2, -999.00,9, -999.00,9,  -999.0,     100,    23.0077, -999.00,9,     -999.0
33KI20120529,       PRS2,       1,          1,         17,       8017,2,20120529,       2230,  21.342167,-158.2741667,       1544,   115.2,  22.5674,  35.1688,2,  35.1583,2,    204.9,2,   202.3,2, -999.00,9, -999.00,9,  -999.0,     115,    22.5442, -999.00,9,     -999.0
33KI20120529,       PRS2,       1,          1,         16,       8016,2,20120529,       2230,  21.342167,-158.2741667,       1544,   124.1,  22.2372,  35.1327,2,  35.1343,2,    195.8,2,   198.4,2, -999.00,9, -999.00,9,  -999.0,     124,    22.2125, -999.00,9,     -999.0
33KI20120529,       PRS2,       1,          1,         15,       8015,2,20120529,       2230,  21.342167,-158.2741667,       1544,   149.7,  21.7576,  35.1887,2,  35.1735,3,    197.1,3,   195.9,2, -999.00,9, -999.00,9,  -999.0,     149,    21.7282, -999.00,9,     -999.0
33KI20120529,       PRS2,       1,          1,         14,       8014,2,20120529,       2230,  21.342167,-158.2741667,       1544,   173.5,  19.9965,  35.0185,2,  34.9872,4,    185.6,3,   185.5,2, -999.00,9, -999.00,9,  -999.0,     173,    19.9644, -999.00,9,     -999.0
33KI20120529,       PRS2,       1,          1,         13,       8025,2,20120529,       2230,  21.342167,-158.2741667,       1544,   199.5,  18.3498,  34.8306,2,  34.8281,2,    183.8,2,   183.8,2, -999.00,9, -999.00,9,  -999.0,     200,    18.3151, -999.00,9,     -999.0
33KI20120529,       PRS2,       1,          1,         12,       8012,2,20120529,       2230,  21.342167,-158.2741667,       1544,   225.0,  16.9116,  34.6774,2,  34.6702,2,    183.0,2,   183.0,2, -999.00,9, -999.00,9,  -999.0,     225,    16.8747, -999.00,9,     -999.0
33KI20120529,       PRS2,       1,          1,         11,       8011,2,20120529,       2230,  21.342167,-158.2741667,       1544,   249.3,  15.0171,  34.4687,2,  34.4671,2,    177.3,2,   178.1,2, -999.00,9, -999.00,9,  -999.0,     249,    14.9794, -999.00,9,     -999.0
33KI20120529,       PRS2,       1,          1,         10,       8010,2,20120529,       2230,  21.342167,-158.2741667,       1544,   300.1,  11.7315,  34.2285,2,  34.2254,2,    167.0,2,   167.1,2, -999.00,9, -999.00,9,  -999.0,     300,    11.6931, -999.00,9,     -999.0
33KI20120529,       PRS2,       1,          1,          9,       8009,2,20120529,       2230,  21.342167,-158.2741667,       1544,   351.5,  10.1643,  34.1579,2,  34.1577,2,    154.5,2,   154.8,2, -999.00,9, -999.00,9,  -999.0,     352,    10.1232, -999.00,9,     -999.0
33KI20120529,       PRS2,       1,          1,          8,       8008,2,20120529,       2230,  21.342167,-158.2741667,       1544,   399.9,   9.0482,  34.1426,2,  34.1425,2,    132.6,2,   132.0,2, -999.00,9, -999.00,9,  -999.0,     400,     9.0046, -999.00,9,     -999.0
33KI20120529,       PRS2,       1,          1,          7,       8026,2,20120529,       2230,  21.342167,-158.2741667,       1544,   496.1,   7.2716,  34.1746,2,  34.1773,2,     76.9,2,    76.4,2, -999.00,9, -999.00,9,  -999.0,     495,     7.2238, -999.00,9,     -999.0
33KI20120529,       PRS2,       1,          1,          6,       8006,2,20120529,       2230,  21.342167,-158.2741667,       1544,   599.0,   6.0358,  34.2684,2,  34.2685,2,     42.0,2,    41.1,2, -999.00,9, -999.00,9,  -999.0,     598,     5.9831, -999.00,9,     -999.0
33KI20120529,       PRS2,       1,          1,          5,       8005,2,20120529,       2230,  21.342167,-158.2741667,       1544,   701.0,   5.3637,  34.3404,2,  34.3407,2,     34.8,2,    35.0,2, -999.00,9, -999.00,9,  -999.0,     700,     5.3051, -999.00,9,     -999.0
33KI20120529,       PRS2,       1,          1,          4,       8004,2,20120529,       2230,  21.342167,-158.2741667,       1544,   749.4,   5.2307,  34.3663,2,  34.3664,2,     34.4,2,    33.9,2, -999.00,9, -999.00,9,  -999.0,     750,     5.1684, -999.00,9,     -999.0
33KI20120529,       PRS2,       1,          1,          3,       8003,2,20120529,       2230,  21.342167,-158.2741667,       1544,   900.6,   4.6922,  34.4440,2,  34.4449,2,     38.4,2,    39.7,2, -999.00,9, -999.00,9,  -999.0,     901,     4.6201, -999.00,9,     -999.0
33KI20120529,       PRS2,       1,          1,          2,       8002,2,20120529,       2230,  21.342167,-158.2741667,       1544,   900.4,   4.6923,  34.4440,2,  34.4455,2,     38.4,2,    39.4,2, -999.00,9, -999.00,9,  -999.0,     900,     4.6201, -999.00,9,     -999.0
33KI20120529,       PRS2,       1,          1,          1,       8001,2,20120529,       2230,  21.342167,-158.2741667,       1544,  1019.9,   4.4115,  34.4809,2,  34.4826,2,     41.5,2,    40.6,2, -999.00,9, -999.00,9,  -999.0,    1019,     4.3310, -999.00,9,     -999.0
33KI20120529,       PRS2,       2,          1,         22,       8022,2,20120530,       1138,  22.731333,-158.0000000,       4715,     4.5,  24.2110,  35.1189,2,  35.1189,2,    212.0,1,  -999.0,9, -999.00,9, -999.00,9,  -999.0,       4,    24.2100, -999.00,9,     -999.0
33KI20120529,       PRS2,       2,          1,         21,       8021,2,20120530,       1138,  22.731333,-158.0000000,       4715,     4.5,  24.2087,  35.1191,2,  35.1181,2,    211.9,1,  -999.0,9, -999.00,9, -999.00,9,  -999.0,       4,    24.2077, -999.00,9,     -999.0
33KI20120529,       PRS2,       2,          1,         20,       8020,2,20120530,       1138,  22.731333,-158.0000000,       4715,     4.5,  24.2072,  35.1193,2,  35.1191,2,    212.0,1,  -999.0,9, -999.00,9, -999.00,9,  -999.0,       4,    24.2063, -999.00,9,     -999.0
33KI20120529,       PRS2,       2,          1,         19,       8019,2,20120530,       1138,  22.731333,-158.0000000,       4715,    24.6,  24.2239,  35.1321,2,  35.1313,2,    212.1,1,  -999.0,9, -999.00,9, -999.00,9,  -999.0,      24,    24.2187, -999.00,9,     -999.0
33KI20120529,       PRS2,       2,          1,         18,       8018,2,20120530,       1138,  22.731333,-158.0000000,       4715,    24.3,  24.2250,  35.1364,2,  35.1311,2,    211.9,1,  -999.0,9, -999.00,9, -999.00,9,  -999.0,      24,    24.2198, -999.00,9,     -999.0
33KI20120529,       PRS2,       2,          1,         17,       8017,2,20120530,       1138,  22.731333,-158.0000000,       4715,    24.4,  24.2229,  35.1335,2,  35.1335,2,    212.0,1,  -999.0,9, -999.00,9, -999.00,9,  -999.0,      24,    24.2177, -999.00,9,     -999.0
33KI20120529,       PRS2,       2,          1,         16,       8016,2,20120530,       1138,  22.731333,-158.0000000,       4715,    45.1,  23.5545,  35.3321,2,  35.3336,2,    218.0,1,  -999.0,9, -999.00,9, -999.00,9,  -999.0,      44,    23.5451, -999.00,9,     -999.0
33KI20120529,       PRS2,       2,          1,         15,       8015,2,20120530,       1138,  22.731333,-158.0000000,       4715,    45.3,  23.5587,  35.3323,2,  35.3332,2,    218.1,1,  -999.0,9, -999.00,9, -999.00,9,  -999.0,      45,    23.5493, -999.00,9,     -999.0
33KI20120529,       PRS2,       2,          1,         14,       8014,2,20120530,       1138,  22.731333,-158.0000000,       4715,    45.6,  23.5638,  35.3337,2,  35.3332,2,    218.2,1,  -999.0,9, -999.00,9, -999.00,9,  -999.0,      46,    23.5543, -999.00,9,     -999.0
33KI20120529,       PRS2,       2,          1,         13,       8025,2,20120530,       1138,  22.731333,-158.0000000,       4715,    73.5,  22.9652,  35.3649,2,  35.3640,2,    220.3,1,  -999.0,9, -999.00,9, -999.00,9,  -999.0,      73,    22.9502, -999.00,9,     -999.0
33KI20120529,       PRS2,       2,          1,         12,       8012,2,20120530,       1138,  22.731333,-158.0000000,       4715,    74.1,  22.9652,  35.3646,2,  35.3640,2,    220.4,1,  -999.0,9, -999.00,9, -999.00,9,  -999.0,      75,    22.9501, -999.00,9,     -999.0
33KI20120529,       PRS2,       2,          1,         11,       8011,2,20120530,       1138,  22.731333,-158.0000000,       4715,    73.8,  22.9661,  35.3645,2,  35.3640,2,    220.4,1,  -999.0,9, -999.00,9, -999.00,9,  -999.0,      74,    22.9510, -999.00,9,     -999.0
33KI20120529,       PRS2,       2,          1,         10,       8010,2,20120530,       1138,  22.731333,-158.0000000,       4715,   102.7,  22.5066,  35.3807,2,  35.3809,2,    217.8,1,  -999.0,9, -999.00,9, -999.00,9,  -999.0,     103,    22.4860, -999.00,9,     -999.0
33KI20120529,       PRS2,       2,          1,          9,       8009,2,20120530,       1138,  22.731333,-158.0000000,       4715,   102.0,  22.5090,  35.3806,2,  35.3807,2,    217.7,1,  -999.0,9, -999.00,9, -999.00,9,  -999.0,     101,    22.4885, -999.00,9,     -999.0
33KI20120529,       PRS2,       2,          1,          8,       8008,2,20120530,       1138,  22.731333,-158.0000000,       4715,   100.9,  22.5131,  35.3811,2,  35.3802,2,    217.5,1,  -999.0,9, -999.00,9, -999.00,9,  -999.0,     101,    22.4927, -999.00,9,     -999.0
33KI20120529,       PRS2,       2,          1,          7,       8026,2,20120530,       1138,  22.731333,-158.0000000,       4715,   123.9,  22.3635,  35.3841,2,  35.3841,2,    215.7,1,  -999.0,9, -999.00,9, -999.00,9,  -999.0,     124,    22.3387, -999.00,9,     -999.0
33KI20120529,       PRS2,       2,          1,          6,       8006,2,20120530,       1138,  22.731333,-158.0000000,       4715,   123.9,  22.3402,  35.3811,2,  35.3817,2,    215.3,1,  -999.0,9, -999.00,9, -999.00,9,  -999.0,     125,    22.3154, -999.00,9,     -999.0
33KI20120529,       PRS2,       2,          1,          5,       8005,2,20120530,       1138,  22.731333,-158.0000000,       4715,   123.9,  22.3361,  35.3818,2,  35.3815,2,    215.2,1,  -999.0,9, -999.00,9, -999.00,9,  -999.0,     124,    22.3113, -999.00,9,     -999.0
33KI20120529,       PRS2,       2,          1,          4,       8004,2,20120530,       1138,  22.731333,-158.0000000,       4715,   148.9,  21.9742,  35.3624,2,  35.3604,2,    208.9,1,  -999.0,9, -999.00,9, -999.00,9,  -999.0,     148,    21.9447, -999.00,9,     -999.0
33KI20120529,       PRS2,       2,          1,          3,       8003,2,20120530,       1138,  22.731333,-158.0000000,       4715,   177.2,  20.8051,  35.2505,2,  35.2515,2,    209.4,1,  -999.0,9, -999.00,9, -999.00,9,  -999.0,     178,    20.7713, -999.00,9,     -999.0
33KI20120529,       PRS2,       2,          1,          2,       8002,2,20120530,       1138,  22.731333,-158.0000000,       4715,   499.8,   7.4542,  34.0531,2,  34.0543,2,    116.3,1,  -999.0,9, -999.00,9, -999.00,9,  -999.0,     499,     7.4054, -999.00,9,     -999.0
33KI20120529,       PRS2,       2,          1,          1,       8001,2,20120530,       1138,  22.731333,-158.0000000,       4715,  1022.0,   3.9072,  34.4630,2,  34.4646,2,     36.6,1,  -999.0,9, -999.00,9, -999.00,9,  -999.0,    1022,     3.8305, -999.00,9,     -999.0
33KI20120529,       PRS2,       2,          2,         24,       8024,2,20120530,       1607,  22.750667,-157.9998333,       4712,     5.4,  24.1954,  35.1432,2,  35.1421,2,    212.0,2,   211.0,2,    1.06,2,    0.12,2,  -999.0,       4,    24.1942,    0.03,2,     -999.0
33KI20120529,       PRS2,       2,          2,         23,       8023,2,20120530,       1607,  22.750667,-157.9998333,       4712,   500.5,   7.4401,  34.0538,2,  34.0531,2,    114.3,2,   114.2,2,   44.42,2,    2.06,2,  -999.0,     501,     7.3913,   28.88,2,     -999.0
33KI20120529,       PRS2,       2,          2,         22,       8022,2,20120530,       1607,  22.750667,-157.9998333,       4712,   750.1,   4.7110,  34.2530,2,  34.2503,2,     24.2,2,    23.9,2,   93.80,2,    2.99,2,  -999.0,     750,     4.6518,   41.24,2,     -999.0
33KI20120529,       PRS2,       2,          2,         21,       8021,2,20120530,       1607,  22.750667,-157.9998333,       4712,   998.4,   3.9602,  34.4529,2,  34.4532,2,     35.2,2,    35.1,2,  111.24,2,    3.02,2,  -999.0,     999,     3.8851,   41.66,2,     -999.0
33KI20120529,       PRS2,       2,          2,         20,       8020,2,20120530,       1607,  22.750667,-157.9998333,       4712,  1199.6,   3.4451,  34.5241,2,  34.5242,2,     50.0,2,    51.2,2,  120.98,2,    2.96,2,  -999.0,    1199,     3.3576,   41.22,2,     -999.0
33KI20120529,       PRS2,       2,          2,         19,       8019,2,20120530,       1607,  22.750667,-157.9998333,       4712,  1398.7,   3.0018,  34.5564,2,  34.5559,2,     59.7,2,    60.3,2,  130.70,2,    2.93,2,  -999.0,    1398,     2.9024,   40.95,2,     -999.0
33KI20120529,       PRS2,       2,          2,         18,       8018,2,20120530,       1607,  22.750667,-157.9998333,       4712,  1600.4,   2.6382,  34.5815,2,  34.5811,2,     72.3,2,    71.5,2,  138.54,2,    2.87,2,  -999.0,    1601,     2.5263,   40.43,2,     -999.0
33KI20120529,       PRS2,       2,          2,         17,       8017,2,20120530,       1607,  22.750667,-157.9998333,       4712,  1800.2,   2.3751,  34.5998,2,  34.6000,2,     78.2,2,    77.8,2,  144.37,2,    2.85,2,  -999.0,    1800,     2.2501,   40.19,2,     -999.0
33KI20120529,       PRS2,       2,          2,         16,       8016,2,20120530,       1607,  22.750667,-157.9998333,       4712,  2001.1,   2.1252,  34.6165,2,  34.6162,2,     85.2,2,    85.8,2,  150.88,2,    2.80,2,  -999.0,    2001,     1.9868,   39.60,2,     -999.0
33KI20120529,       PRS2,       2,          2,         15,       8015,2,20120530,       1607,  22.750667,-157.9998333,       4712,  2199.0,   1.9045,  34.6327,2,  34.6328,2,     93.4,2,    95.7,3,  155.96,2,    2.75,2,  -999.0,    2199,     1.7527,   39.11,2,     -999.0
33KI20120529,       PRS2,       2,          2,         14,       8014,2,20120530,       1607,  22.750667,-157.9998333,       4712,  2400.1,   1.7798,  34.6445,2,  34.6445,2,    102.9,2,   103.3,2,  156.84,2,    2.70,2,  -999.0,    2401,     1.6125,   38.54,2,     -999.0
33KI20120529,       PRS2,       2,          2,         13,       8025,2,20120530,       1607,  22.750667,-157.9998333,       4712,  2599.9,   1.6750,  34.6542,2,  34.6537,2,    110.6,2,   111.5,2,  158.47,2,    2.67,2,  -999.0,    2599,     1.4918,   38.12,2,     -999.0
33KI20120529,       PRS2,       2,          2,         12,       8012,2,20120530,       1607,  22.750667,-157.9998333,       4712,  2799.2,   1.6122,  34.6610,2,  34.6608,2,    117.0,2,   117.1,2,  158.90,2,    2.65,2,  -999.0,    2799,     1.4120,   37.56,2,     -999.0
33KI20120529,       PRS2,       2,          2,         11,       8011,2,20120530,       1607,  22.750667,-157.9998333,       4712,  2999.6,   1.5498,  34.6679,2,  34.6675,2,    124.3,2,   124.6,2,  157.41,2,    2.59,2,  -999.0,    2999,     1.3320,   37.20,2,     -999.0
33KI20120529,       PRS2,       2,          2,         10,       8010,2,20120530,       1607,  22.750667,-157.9998333,       4712,  3200.8,   1.5127,  34.6728,2,  34.6728,2,    130.1,2,   129.8,2,  156.49,2,    2.56,2,  -999.0,    3202,     1.2762,   36.74,2,     -999.0
33KI20120529,       PRS2,       2,          2,          9,       8009,2,20120530,       1607,  22.750667,-157.9998333,       4712,  3399.8,   1.4779,  34.6774,2,  34.6775,2,    136.4,2,   136.6,2,  154.83,2,    2.54,2,  -999.0,    3399,     1.2225,   36.51,2,     -999.0
33KI20120529,       PRS2,       2,          2,          8,       8008,2,20120530,       1607,  22.750667,-157.9998333,       4712,  3599.6,   1.4591,  34.6808,2,  34.6810,2,    141.1,2,   141.3,2,  153.25,2,    2.51,2,  -999.0,    3599,     1.1838,   36.14,2,     -999.0
33KI20120529,       PRS2,       2,          2,          7,       8026,2,20120530,       1607,  22.750667,-157.9998333,       4712,  3799.4,   1.4584,  34.6824,2,  34.6822,2,    144.0,2,   144.0,2,  151.88,2,    2.49,2,  -999.0,    3799,     1.1622,   35.78,2,     -999.0
33KI20120529,       PRS2,       2,          2,          6,       8006,2,20120530,       1607,  22.750667,-157.9998333,       4712,  3999.0,   1.4586,  34.6847,2,  34.6846,2,    147.3,2,   146.7,2,  150.81,2,    2.48,2,  -999.0,    3999,     1.1410,   35.68,2,     -999.0
33KI20120529,       PRS2,       2,          2,          5,       8005,2,20120530,       1607,  22.750667,-157.9998333,       4712,  4200.1,   1.4660,  34.6857,2,  34.6853,2,    149.6,2,   149.1,2,  148.98,2,    2.47,2,  -999.0,    4201,     1.1260,   35.59,2,     -999.0
33KI20120529,       PRS2,       2,          2,          4,       8004,2,20120530,       1607,  22.750667,-157.9998333,       4712,  4401.1,   1.4786,  34.6866,2,  34.6867,2,    151.2,2,   150.7,2,  148.53,2,    2.47,2,  -999.0,    4401,     1.1156,   35.63,2,     -999.0
33KI20120529,       PRS2,       2,          2,          3,       8003,2,20120530,       1607,  22.750667,-157.9998333,       4712,  4500.3,   1.4869,  34.6869,2,  34.6871,2,    151.8,2,   151.6,2,  148.20,2,    2.47,2,  -999.0,    4501,     1.1123,   35.56,2,     -999.0
33KI20120529,       PRS2,       2,          2,          2,       8002,2,20120530,       1607,  22.750667,-157.9998333,       4712,  4601.4,   1.4954,  34.6872,2,  34.6879,2,    152.3,2,   152.0,2,  147.74,2,    2.47,2,  -999.0,    4602,     1.1088,   35.42,2,     -999.0
33KI20120529,       PRS2,       2,          2,          1,       8001,2,20120530,       1607,  22.750667,-157.9998333,       4712,  4809.9,   1.5153,  34.6877,2,  34.6887,2,    153.0,2,   152.9,2,  146.40,2,    2.46,2,  -999.0,    4811,     1.1035,   35.34,2,     -999.0