BOTTLE,20141031SIOCCHAMB
EXPOCODE,SECT_ID,STNNBR,CASTNO,SAMPNO,BTLNBR,BTLNBR_FLAG_W,DATE,TIME,LATITUDE,LONGITUDE,DEPTH,CTDPRS,CTDTMP,CTDSAL,CTDSAL_FLAG_W,SALNTY,SALNTY_FLAG_W,CTDOXY,CTDOXY_FLAG_W,OXYGEN,OXYGEN_FLAG_W,SILCAT,SILCAT_FLAG_W,PHSPHT,PHSPHT_FLAG_W,REVPRS,CTDRAW,THETA,NO2+NO3,NO2+NO3_FLAG_W,REVTMP
,,,,,,,,,,,METERS,DBAR,ITS-90,PSS-78,,PSS-78,,UMOL/KG,,UMOL/KG,,UMOL/KG,,UMOL/KG,,DBAR,DBAR,ITS-90,UMOL/KG,,DEG C
33KI20120529,       PRS2,       2,         15,         12,       8012,2,20120601,       0900,  22.748833,-158.0010000,       4710,     5.2,  24.2055,  35.1516,2,  35.1520,2,    211.6,2,   212.0,2, -999.00,9, -999.00,9,  -999.0,       5,    24.2044, -999.00,9,     -999.0
33KI20120529,       PRS2,       2,         15,         11,       8011,2,20120601,       0900,  22.748833,-158.0010000,       4710,    70.9,  23.1540,  35.3531,2,  35.3528,2,    218.3,2,   219.0,2, -999.00,9, -999.00,9,  -999.0,      71,    23.1395, -999.00,9,     -999.0
33KI20120529,       PRS2,       2,         15,         10,       8010,2,20120601,       0900,  22.748833,-158.0010000,       4710,   530.9,   7.1156,  34.0484,2,  34.0488,2,    104.9,2,   113.1,3, -999.00,9, -999.00,9,  -999.0,     529,     7.0650, -999.00,9,     -999.0
33KI20120529,       PRS2,       2,         15,          9,       8009,2,20120601,       0900,  22.748833,-158.0010000,       4710,   781.5,   4.5427,  34.3031,2,  34.3007,2,     22.9,2,    21.9,2, -999.00,9, -999.00,9,  -999.0,     780,     4.4818, -999.00,9,     -999.0
33KI20120529,       PRS2,       2,         15,          8,       8008,2,20120601,       0900,  22.748833,-158.0010000,       4710,   996.7,   3.9441,  34.4566,2,  34.4567,2,     35.6,2,  -999.0,5, -999.00,9, -999.00,9,  -999.0,     996,     3.8693, -999.00,9,     -999.0
33KI20120529,       PRS2,       2,         15,          7,       8026,2,20120601,       0900,  22.748833,-158.0010000,       4710,  2001.0,   2.1179,  34.6167,2,-999.0000,5,     84.8,2,  -999.0,5, -999.00,9, -999.00,9,  -999.0,    2002,     1.9796, -999.00,9,     -999.0
33KI20120529,       PRS2,       2,         15,          6,       8006,2,20120601,       0900,  22.748833,-158.0010000,       4710,  2000.5,   2.1176,  34.6168,2,  34.6168,2,     84.8,2,    85.9,2, -999.00,9, -999.00,9,  -999.0,    2000,     1.9794, -999.00,9,     -999.0
33KI20120529,       PRS2,       2,         15,          5,       8005,2,20120601,       0900,  22.748833,-158.0010000,       4710,  2999.8,   1.5591,  34.6667,2,-999.0000,5,    122.9,2,  -999.0,5, -999.00,9, -999.00,9,  -999.0,    3001,     1.3410, -999.00,9,     -999.0
33KI20120529,       PRS2,       2,         15,          4,       8004,2,20120601,       0900,  22.748833,-158.0010000,       4710,  2999.5,   1.5590,  34.6667,2,  34.6661,2,    122.9,2,   124.3,2, -999.00,9, -999.00,9,  -999.0,    3000,     1.3410, -999.00,9,     -999.0
33KI20120529,       PRS2,       2,         15,          3,       8003,2,20120601,       0900,  22.748833,-158.0010000,       4710,  4000.5,   1.4520,  34.6848,2,-999.0000,5,    148.0,2,  -999.0,5, -999.00,9, -999.00,9,  -999.0,    4002,     1.1344, -999.00,9,     -999.0
33KI20120529,       PRS2,       2,         15,          2,       8002,2,20120601,       0900,  22.748833,-158.0010000,       4710,  4000.0,   1.4517,  34.6848,2,  34.6848,2,    148.0,2,   148.0,2, -999.00,9, -999.00,9,  -999.0,    4001,     1.1342, -999.00,9,     -999.0
33KI20120529,       PRS2,       2,         15,          1,       8001,2,20120601,       0900,  22.748833,-158.0010000,       4710,  4805.0,   1.5171,  34.6872,2,  34.6875,2,    152.5,2,   152.8,2, -999.00,9, -999.00,9,  -999.0,    4805,     1.1058, -999.00,9,     -999.0
33KI20120529,       PRS2,      52,          1,         21,       8021,2,20120601,       1410,  22.678333,-157.9863333,       4737,     5.4,  24.2230,  35.0810,2,-999.0000,9,    211.6,1,  -999.0,9, -999.00,9, -999.00,9,  -999.0,       5,    24.2219, -999.00,9,     -999.0
33KI20120529,       PRS2,      52,          1,         20,       8020,2,20120601,       1410,  22.678333,-157.9863333,       4737,     5.3,  24.2232,  35.0810,2,-999.0000,9,    211.6,1,  -999.0,9, -999.00,9, -999.00,9,  -999.0,       5,    24.2220, -999.00,9,     -999.0
33KI20120529,       PRS2,      52,          1,         19,       8019,2,20120601,       1410,  22.678333,-157.9863333,       4737,    24.8,  24.2141,  35.0968,2,-999.0000,9,    211.3,1,  -999.0,9, -999.00,9, -999.00,9,  -999.0,      24,    24.2089, -999.00,9,     -999.0
33KI20120529,       PRS2,      52,          1,         18,       8018,2,20120601,       1410,  22.678333,-157.9863333,       4737,    25.2,  24.2108,  35.0994,2,-999.0000,9,    210.8,1,  -999.0,9, -999.00,9, -999.00,9,  -999.0,      25,    24.2055, -999.00,9,     -999.0
33KI20120529,       PRS2,      52,          1,         17,       8017,2,20120601,       1410,  22.678333,-157.9863333,       4737,    25.0,  24.2118,  35.0988,2,-999.0000,9,    210.7,1,  -999.0,9, -999.00,9, -999.00,9,  -999.0,      25,    24.2065, -999.00,9,     -999.0
33KI20120529,       PRS2,      52,          1,         16,       8016,2,20120601,       1410,  22.678333,-157.9863333,       4737,    24.9,  24.2164,  35.0954,2,-999.0000,9,    210.8,1,  -999.0,9, -999.00,9, -999.00,9,  -999.0,      25,    24.2111, -999.00,9,     -999.0
33KI20120529,       PRS2,      52,          1,         15,       8015,2,20120601,       1410,  22.678333,-157.9863333,       4737,    25.0,  24.2141,  35.0967,2,-999.0000,9,    210.8,1,  -999.0,9, -999.00,9, -999.00,9,  -999.0,      25,    24.2088, -999.00,9,     -999.0
33KI20120529,       PRS2,      52,          1,         14,       8014,2,20120601,       1410,  22.678333,-157.9863333,       4737,    24.8,  24.2151,  35.0954,2,-999.0000,9,    210.8,1,  -999.0,9, -999.00,9, -999.00,9,  -999.0,      24,    24.2098, -999.00,9,     -999.0
33KI20120529,       PRS2,      52,          1,         13,       8025,2,20120601,       1410,  22.678333,-157.9863333,       4737,    24.8,  24.2183,  35.0937,2,-999.0000,9,    210.7,1,  -999.0,9, -999.00,9, -999.00,9,  -999.0,      24,    24.2131, -999.00,9,     -999.0
33KI20120529,       PRS2,      52,          1,         12,       8012,2,20120601,       1410,  22.678333,-157.9863333,       4737,    25.0,  24.2185,  35.0944,2,-999.0000,9,    210.7,1,  -999.0,9, -999.00,9, -999.00,9,  -999.0,      25,    24.2132, -999.00,9,     -999.0
33KI20120529,       PRS2,      52,          1,         11,       8011,2,20120601,       1410,  22.678333,-157.9863333,       4737,    44.9,  23.3618,  35.3554,2,-999.0000,9,    218.3,1,  -999.0,9, -999.00,9, -999.00,9,  -999.0,      44,    23.3525, -999.00,9,     -999.0
33KI20120529,       PRS2,      52,          1,         10,       8010,4,20120601,       1410,  22.678333,-157.9863333,       4737,    44.8,  23.3617,  35.3552,2,-999.0000,9,    218.4,1,  -999.0,9, -999.00,9, -999.00,9,  -999.0,      45,    23.3525, -999.00,9,     -999.0
33KI20120529,       PRS2,      52,          1,          9,       8009,2,20120601,       1410,  22.678333,-157.9863333,       4737,    74.9,  23.0688,  35.3647,2,-999.0000,9,    218.6,1,  -999.0,9, -999.00,9, -999.00,9,  -999.0,      74,    23.0535, -999.00,9,     -999.0
33KI20120529,       PRS2,      52,          1,          8,       8008,2,20120601,       1410,  22.678333,-157.9863333,       4737,    74.6,  23.0693,  35.3650,2,-999.0000,9,    218.8,1,  -999.0,9, -999.00,9, -999.00,9,  -999.0,      76,    23.0540, -999.00,9,     -999.0
33KI20120529,       PRS2,      52,          1,          7,       8026,2,20120601,       1410,  22.678333,-157.9863333,       4737,   100.0,  22.5233,  35.3827,2,-999.0000,9,    217.2,1,  -999.0,9, -999.00,9, -999.00,9,  -999.0,      99,    22.5032, -999.00,9,     -999.0
33KI20120529,       PRS2,      52,          1,          6,       8006,2,20120601,       1410,  22.678333,-157.9863333,       4737,    99.6,  22.5236,  35.3826,2,-999.0000,9,    217.0,1,  -999.0,9, -999.00,9, -999.00,9,  -999.0,     100,    22.5035, -999.00,9,     -999.0
33KI20120529,       PRS2,      52,          1,          5,       8005,2,20120601,       1410,  22.678333,-157.9863333,       4737,   125.2,  22.1562,  35.3797,2,-999.0000,9,    214.0,1,  -999.0,9, -999.00,9, -999.00,9,  -999.0,     125,    22.1313, -999.00,9,     -999.0
33KI20120529,       PRS2,      52,          1,          4,       8004,2,20120601,       1410,  22.678333,-157.9863333,       4737,   150.2,  21.6318,  35.3308,2,-999.0000,9,    206.5,1,  -999.0,9, -999.00,9, -999.00,9,  -999.0,     150,    21.6024, -999.00,9,     -999.0
33KI20120529,       PRS2,      52,          1,          3,       8003,2,20120601,       1410,  22.678333,-157.9863333,       4737,   150.3,  21.6109,  35.3324,2,-999.0000,9,    206.7,1,  -999.0,9, -999.00,9, -999.00,9,  -999.0,     150,    21.5815, -999.00,9,     -999.0
33KI20120529,       PRS2,      52,          1,          2,       8002,2,20120601,       1410,  22.678333,-157.9863333,       4737,   173.9,  20.5715,  35.2104,2,-999.0000,9,    202.5,1,  -999.0,9, -999.00,9, -999.00,9,  -999.0,     175,    20.5387, -999.00,9,     -999.0
33KI20120529,       PRS2,      52,          1,          1,       8001,2,20120601,       1410,  22.678333,-157.9863333,       4737,   200.9,  18.8216,  34.9518,2,-999.0000,9,    196.3,1,  -999.0,9, -999.00,9, -999.00,9,  -999.0,     201,    18.7860, -999.00,9,     -999.0