BOTTLE,20141031SIOCCHAMB
EXPOCODE,SECT_ID,STNNBR,CASTNO,SAMPNO,BTLNBR,BTLNBR_FLAG_W,DATE,TIME,LATITUDE,LONGITUDE,DEPTH,CTDPRS,CTDTMP,CTDSAL,CTDSAL_FLAG_W,SALNTY,SALNTY_FLAG_W,CTDOXY,CTDOXY_FLAG_W,OXYGEN,OXYGEN_FLAG_W,SILCAT,SILCAT_FLAG_W,PHSPHT,PHSPHT_FLAG_W,REVPRS,CTDRAW,THETA,NO2+NO3,NO2+NO3_FLAG_W,REVTMP
,,,,,,,,,,,METERS,DBAR,ITS-90,PSS-78,,PSS-78,,UMOL/KG,,UMOL/KG,,UMOL/KG,,UMOL/KG,,DBAR,DBAR,ITS-90,UMOL/KG,,DEG C
33KI20120529,       PRS2,       2,          3,         24,       8024,2,20120530,       2126,  22.749667,-158.0011667,       4712,     5.0,  24.2690,  35.1370,2,  35.1374,2,    211.5,2,   210.9,2,    1.16,2,    0.11,2,  -999.0,       6,    24.2679,    0.04,2,     -999.0
33KI20120529,       PRS2,       2,          3,         23,       8023,2,20120530,       2126,  22.749667,-158.0011667,       4712,    35.5,  23.9607,  35.3045,2,  35.3021,2,    214.2,2,   213.9,2,    1.14,2,    0.08,2,  -999.0,      35,    23.9532,    0.05,2,     -999.0
33KI20120529,       PRS2,       2,          3,         22,       8022,2,20120530,       2126,  22.749667,-158.0011667,       4712,    74.4,  22.7783,  35.3666,2,  35.3650,2,    219.5,2,   218.8,2,    1.17,2,    0.05,2,  -999.0,      75,    22.7632,    0.05,2,     -999.0
33KI20120529,       PRS2,       2,          3,         21,       8021,2,20120530,       2126,  22.749667,-158.0011667,       4712,   114.0,  22.3433,  35.3871,2,  35.3865,2,    214.9,2,   214.5,2,    1.19,2,    0.05,2,  -999.0,     113,    22.3204,    0.03,2,     -999.0
33KI20120529,       PRS2,       2,          3,         20,       8020,2,20120530,       2126,  22.749667,-158.0011667,       4712,   159.1,  21.5409,  35.3258,2,  35.3256,2,    208.8,2,   206.4,3,    1.49,2,    0.08,2,  -999.0,     159,    21.5098,    0.58,2,     -999.0
33KI20120529,       PRS2,       2,          3,         19,       8019,2,20120530,       2126,  22.749667,-158.0011667,       4712,   207.4,  19.6587,  35.0664,2,  35.0683,2,    198.5,2,   199.6,2,    2.33,2,    0.17,2,  -999.0,     208,    19.6208,    1.77,2,     -999.0
33KI20120529,       PRS2,       2,          3,         18,       8018,2,20120530,       2126,  22.749667,-158.0011667,       4712,   258.7,  16.5530,  34.6471,2,  34.6598,2,    201.0,2,   201.8,2,    4.22,2,    0.32,2,  -999.0,     257,    16.5112,    4.05,2,     -999.0
33KI20120529,       PRS2,       2,          3,         17,       8017,2,20120530,       2126,  22.749667,-158.0011667,       4712,   304.0,  13.8620,  34.3595,2,  34.3631,2,    208.4,2,   207.1,2,    7.29,2,    0.55,2,  -999.0,     304,    13.8185,    7.53,2,     -999.0
33KI20120529,       PRS2,       2,          3,         16,       8016,2,20120530,       2126,  22.749667,-158.0011667,       4712,   346.7,  12.4706,  34.2577,2,  34.2585,2,    206.6,2,   207.1,2,   10.04,2,    0.73,2,  -999.0,     346,    12.4243,   10.31,2,     -999.0
33KI20120529,       PRS2,       2,          3,         15,       8015,2,20120530,       2126,  22.749667,-158.0011667,       4712,   400.7,  10.4654,  34.1465,2,  34.1552,2,    201.3,2,   200.1,2,   16.76,2,    1.05,2,  -999.0,     403,    10.4175,   15.14,2,     -999.0
33KI20120529,       PRS2,       2,          3,         14,       8014,2,20120530,       2126,  22.749667,-158.0011667,       4712,   457.6,   8.7556,  34.0719,2,  34.0719,2,    165.5,2,   164.7,2,   28.95,2,    1.54,2,  -999.0,     457,     8.7066,   21.88,2,     -999.0
33KI20120529,       PRS2,       2,          3,         13,       8025,2,20120530,       2126,  22.749667,-158.0011667,       4712,   506.2,   7.7456,  34.0547,2,  34.0531,2,    127.0,2,   128.0,2,   39.86,2,    1.94,2,  -999.0,     506,     7.6951,   27.44,2,     -999.0
33KI20120529,       PRS2,       2,          3,         12,       8012,2,20120530,       2126,  22.749667,-158.0011667,       4712,   528.7,   7.2625,  34.0561,2,  34.0554,2,    108.6,2,   109.4,2,   46.26,2,    2.13,2,  -999.0,     528,     7.2116,   29.85,2,     -999.0
33KI20120529,       PRS2,       2,          3,         11,       8011,2,20120530,       2126,  22.749667,-158.0011667,       4712,   561.9,   6.5350,  34.0551,2,  34.0546,2,     88.8,2,    88.8,2,   55.68,2,    2.35,2,  -999.0,     562,     6.4837,   32.90,2,     -999.0
33KI20120529,       PRS2,       2,          3,         10,       8010,2,20120530,       2126,  22.749667,-158.0011667,       4712,   606.9,   5.8251,  34.0730,2,  34.0637,4,     64.2,3,    73.9,3,   62.15,2,    2.50,2,  -999.0,     606,     5.7729,   35.05,2,     -999.0
33KI20120529,       PRS2,       2,          3,          9,       8009,2,20120530,       2126,  22.749667,-158.0011667,       4712,   650.9,   5.3431,  34.1291,2,  34.1287,2,     45.8,2,    45.8,2,   78.07,2,    2.78,2,  -999.0,     652,     5.2892,   38.45,2,     -999.0
33KI20120529,       PRS2,       2,          3,          8,       8008,2,20120530,       2126,  22.749667,-158.0011667,       4712,   706.6,   4.9878,  34.2131,2,  34.2117,2,     28.6,2,    27.7,2,   87.73,2,    2.94,2,  -999.0,     706,     4.9309,   40.61,2,     -999.0
33KI20120529,       PRS2,       2,          3,          7,       8026,2,20120530,       2126,  22.749667,-158.0011667,       4712,   738.6,   4.7451,  34.2470,2,  34.2470,2,     25.6,2,    25.1,2,   93.20,2,    2.97,2,  -999.0,     738,     4.6868,   41.19,2,     -999.0
33KI20120529,       PRS2,       2,          3,          6,       8006,2,20120530,       2126,  22.749667,-158.0011667,       4712,   774.4,   4.5840,  34.2831,2,  34.2830,2,     22.9,2,    22.4,2,   97.45,2,    3.01,2,  -999.0,     775,     4.5235,   41.73,2,     -999.0
33KI20120529,       PRS2,       2,          3,          5,       8005,2,20120530,       2126,  22.749667,-158.0011667,       4712,   823.5,   4.4886,  34.3303,2,  34.3309,2,     24.2,2,    24.1,2,  100.46,2,    3.02,2,  -999.0,     823,     4.4245,   41.76,2,     -999.0
33KI20120529,       PRS2,       2,          3,          4,       8004,2,20120530,       2126,  22.749667,-158.0011667,       4712,   868.8,   4.3492,  34.3767,2,  34.3776,2,     27.1,2,    26.4,2,  103.74,2,    3.02,2,  -999.0,     868,     4.2822,   42.11,2,     -999.0
33KI20120529,       PRS2,       2,          3,          3,       8003,2,20120530,       2126,  22.749667,-158.0011667,       4712,   938.7,   4.0709,  34.4217,2,  34.4220,2,     30.2,2,  -999.0,5,  109.46,2,    3.02,2,  -999.0,     939,     4.0000,   42.18,2,     -999.0
33KI20120529,       PRS2,       2,          3,          2,       8002,2,20120530,       2126,  22.749667,-158.0011667,       4712,  1006.8,   3.9229,  34.4599,2,  34.4606,2,     36.1,2,    35.9,2,  112.50,2,    3.01,2,  -999.0,    1006,     3.8473,   42.09,2,     -999.0
33KI20120529,       PRS2,       2,          3,          1,       8001,2,20120530,       2126,  22.749667,-158.0011667,       4712,  1020.7,   3.8996,  34.4651,2,  34.4665,2,     37.4,2,    37.5,2,  112.34,2,    2.98,2,  -999.0,    1021,     3.8230,   41.70,2,     -999.0
33KI20120529,       PRS2,       2,          4,         23,       8023,2,20120531,       0112,  22.782000,-157.9778333,       4692,     5.0,  24.3438,  35.1298,2,  35.1303,2,    212.4,1,  -999.0,9, -999.00,9, -999.00,9,  -999.0,       6,    24.3428, -999.00,9,     -999.0
33KI20120529,       PRS2,       2,          4,         22,       8022,2,20120531,       0112,  22.782000,-157.9778333,       4692,    10.5,  24.3362,  35.1302,2,-999.0000,5,    212.4,1,  -999.0,9, -999.00,9, -999.00,9,  -999.0,      10,    24.3340, -999.00,9,     -999.0
33KI20120529,       PRS2,       2,          4,         21,       8021,2,20120531,       0112,  22.782000,-157.9778333,       4692,    10.8,  24.3367,  35.1298,2,-999.0000,5,    212.5,1,  -999.0,9, -999.00,9, -999.00,9,  -999.0,      11,    24.3344, -999.00,9,     -999.0
33KI20120529,       PRS2,       2,          4,         20,       8020,2,20120531,       0112,  22.782000,-157.9778333,       4692,    10.7,  24.3378,  35.1295,2,-999.0000,5,    212.7,1,  -999.0,9, -999.00,9, -999.00,9,  -999.0,      11,    24.3356, -999.00,9,     -999.0
33KI20120529,       PRS2,       2,          4,         19,       8019,2,20120531,       0112,  22.782000,-157.9778333,       4692,    10.4,  24.3386,  35.1293,2,-999.0000,5,    212.9,1,  -999.0,9, -999.00,9, -999.00,9,  -999.0,       9,    24.3364, -999.00,9,     -999.0
33KI20120529,       PRS2,       2,          4,         18,       8018,2,20120531,       0112,  22.782000,-157.9778333,       4692,    10.4,  24.3390,  35.1293,2,-999.0000,5,    213.2,1,  -999.0,9, -999.00,9, -999.00,9,  -999.0,      10,    24.3367, -999.00,9,     -999.0
33KI20120529,       PRS2,       2,          4,         17,       8017,2,20120531,       0112,  22.782000,-157.9778333,       4692,    10.8,  24.3384,  35.1293,2,-999.0000,5,    213.4,1,  -999.0,9, -999.00,9, -999.00,9,  -999.0,      11,    24.3361, -999.00,9,     -999.0
33KI20120529,       PRS2,       2,          4,         16,       8016,2,20120531,       0112,  22.782000,-157.9778333,       4692,    10.8,  24.3389,  35.1294,2,-999.0000,5,    213.6,1,  -999.0,9, -999.00,9, -999.00,9,  -999.0,      11,    24.3366, -999.00,9,     -999.0
33KI20120529,       PRS2,       2,          4,         15,       8015,2,20120531,       0112,  22.782000,-157.9778333,       4692,    10.5,  24.3391,  35.1297,2,-999.0000,5,    213.7,1,  -999.0,9, -999.00,9, -999.00,9,  -999.0,      10,    24.3369, -999.00,9,     -999.0
33KI20120529,       PRS2,       2,          4,         14,       8014,2,20120531,       0112,  22.782000,-157.9778333,       4692,    25.5,  24.2423,  35.1889,2,-999.0000,5,    213.6,1,  -999.0,9, -999.00,9, -999.00,9,  -999.0,      24,    24.2369, -999.00,9,     -999.0
33KI20120529,       PRS2,       2,          4,         13,       8025,2,20120531,       0112,  22.782000,-157.9778333,       4692,    25.7,  24.2425,  35.1881,2,  35.1900,2,    213.6,1,  -999.0,9, -999.00,9, -999.00,9,  -999.0,      25,    24.2370, -999.00,9,     -999.0
33KI20120529,       PRS2,       2,          4,         12,       8012,2,20120531,       0112,  22.782000,-157.9778333,       4692,    45.1,  23.8173,  35.3193,2,  35.3208,2,    215.5,1,  -999.0,9, -999.00,9, -999.00,9,  -999.0,      45,    23.8078, -999.00,9,     -999.0
33KI20120529,       PRS2,       2,          4,         11,       8011,2,20120531,       0112,  22.782000,-157.9778333,       4692,    75.3,  23.1579,  35.3524,2,  35.3500,2,    219.0,1,  -999.0,9, -999.00,9, -999.00,9,  -999.0,      75,    23.1424, -999.00,9,     -999.0
33KI20120529,       PRS2,       2,          4,         10,       8010,2,20120531,       0112,  22.782000,-157.9778333,       4692,   100.5,  22.4841,  35.3825,2,  35.3807,2,    216.6,1,  -999.0,9, -999.00,9, -999.00,9,  -999.0,     100,    22.4639, -999.00,9,     -999.0
33KI20120529,       PRS2,       2,          4,          9,       8009,2,20120531,       0112,  22.782000,-157.9778333,       4692,   125.4,  22.2965,  35.3928,2,  35.3922,2,    214.7,1,  -999.0,9, -999.00,9, -999.00,9,  -999.0,     125,    22.2714, -999.00,9,     -999.0
33KI20120529,       PRS2,       2,          4,          8,       8008,2,20120531,       0112,  22.782000,-157.9778333,       4692,   152.3,  21.7555,  35.3343,2,  35.3435,2,    209.3,1,  -999.0,9, -999.00,9, -999.00,9,  -999.0,     152,    21.7256, -999.00,9,     -999.0
33KI20120529,       PRS2,       2,          4,          7,       8026,2,20120531,       0112,  22.782000,-157.9778333,       4692,   174.5,  20.6237,  35.1873,2,  35.1876,2,    194.4,1,  -999.0,9, -999.00,9, -999.00,9,  -999.0,     173,    20.5907, -999.00,9,     -999.0
33KI20120529,       PRS2,       2,          4,          6,       8006,2,20120531,       0112,  22.782000,-157.9778333,       4692,   201.6,  19.7484,  35.0810,2,  35.0862,2,    200.4,1,  -999.0,9, -999.00,9, -999.00,9,  -999.0,     201,    19.7114, -999.00,9,     -999.0
33KI20120529,       PRS2,       2,          4,          5,       8005,2,20120531,       0112,  22.782000,-157.9778333,       4692,   250.7,  15.7723,  34.5453,2,  34.5539,2,    203.8,1,  -999.0,9, -999.00,9, -999.00,9,  -999.0,     250,    15.7331, -999.00,9,     -999.0
33KI20120529,       PRS2,       2,          4,          4,       8004,2,20120531,       0112,  22.782000,-157.9778333,       4692,   350.7,  11.3500,  34.2103,2,  34.2103,2,    208.1,1,  -999.0,9, -999.00,9, -999.00,9,  -999.0,     350,    11.3060, -999.00,9,     -999.0
33KI20120529,       PRS2,       2,          4,          3,       8003,2,20120531,       0112,  22.782000,-157.9778333,       4692,   350.5,  11.3523,  34.2104,2,  34.2109,2,    208.1,1,  -999.0,9, -999.00,9, -999.00,9,  -999.0,     351,    11.3083, -999.00,9,     -999.0
33KI20120529,       PRS2,       2,          4,          2,       8002,2,20120531,       0112,  22.782000,-157.9778333,       4692,   520.3,   7.3094,  34.0535,2,  34.0529,2,    111.2,1,  -999.0,9, -999.00,9, -999.00,9,  -999.0,     520,     7.2591, -999.00,9,     -999.0
33KI20120529,       PRS2,       2,          4,          1,       8001,2,20120531,       0112,  22.782000,-157.9778333,       4692,  1019.6,   3.8989,  34.4639,2,  34.4640,2,     37.0,1,  -999.0,9, -999.00,9, -999.00,9,  -999.0,    1019,     3.8225, -999.00,9,     -999.0
33KI20120529,       PRS2,       2,          5,         22,       8022,2,20120531,       0303,  22.762667,-158.0046667,       4701,     5.4,  24.3176,  35.1321,2,-999.0000,5,    212.2,1,  -999.0,9, -999.00,9, -999.00,9,  -999.0,       5,    24.3164, -999.00,9,     -999.0
33KI20120529,       PRS2,       2,          5,         21,       8021,2,20120531,       0303,  22.762667,-158.0046667,       4701,     5.5,  24.3170,  35.1322,2,  35.1356,2,    212.3,1,  -999.0,9, -999.00,9, -999.00,9,  -999.0,       6,    24.3158, -999.00,9,     -999.0
33KI20120529,       PRS2,       2,          5,         20,       8020,2,20120531,       0303,  22.762667,-158.0046667,       4701,    25.8,  24.2472,  35.2252,2,-999.0000,5,    212.3,1,  -999.0,9, -999.00,9, -999.00,9,  -999.0,      25,    24.2417, -999.00,9,     -999.0
33KI20120529,       PRS2,       2,          5,         19,       8019,2,20120531,       0303,  22.762667,-158.0046667,       4701,    25.4,  24.2516,  35.2216,2,  35.2083,2,    212.4,1,  -999.0,9, -999.00,9, -999.00,9,  -999.0,      24,    24.2462, -999.00,9,     -999.0
33KI20120529,       PRS2,       2,          5,         18,       8018,2,20120531,       0303,  22.762667,-158.0046667,       4701,    44.0,  23.8129,  35.3210,2,-999.0000,5,    215.2,1,  -999.0,9, -999.00,9, -999.00,9,  -999.0,      44,    23.8037, -999.00,9,     -999.0
33KI20120529,       PRS2,       2,          5,         17,       8017,2,20120531,       0303,  22.762667,-158.0046667,       4701,    44.5,  23.8050,  35.3204,2,  35.3049,3,    215.3,1,  -999.0,9, -999.00,9, -999.00,9,  -999.0,      45,    23.7957, -999.00,9,     -999.0
33KI20120529,       PRS2,       2,          5,         16,       8016,2,20120531,       0303,  22.762667,-158.0046667,       4701,    74.6,  23.3697,  35.3511,2,-999.0000,5,    218.5,1,  -999.0,9, -999.00,9, -999.00,9,  -999.0,      75,    23.3542, -999.00,9,     -999.0
33KI20120529,       PRS2,       2,          5,         15,       8015,2,20120531,       0303,  22.762667,-158.0046667,       4701,    74.6,  23.3670,  35.3516,2,  35.3510,2,    218.6,1,  -999.0,9, -999.00,9, -999.00,9,  -999.0,      75,    23.3516, -999.00,9,     -999.0
33KI20120529,       PRS2,       2,          5,         14,       8014,2,20120531,       0303,  22.762667,-158.0046667,       4701,   100.8,  22.9533,  35.3626,2,-999.0000,5,    221.0,1,  -999.0,9, -999.00,9, -999.00,9,  -999.0,     100,    22.9327, -999.00,9,     -999.0
33KI20120529,       PRS2,       2,          5,         13,       8025,2,20120531,       0303,  22.762667,-158.0046667,       4701,   100.6,  22.9540,  35.3628,2,  35.3624,2,    221.0,1,  -999.0,9, -999.00,9, -999.00,9,  -999.0,     100,    22.9335, -999.00,9,     -999.0
33KI20120529,       PRS2,       2,          5,         12,       8012,2,20120531,       0303,  22.762667,-158.0046667,       4701,   125.3,  22.3432,  35.3880,2,-999.0000,5,    214.6,1,  -999.0,9, -999.00,9, -999.00,9,  -999.0,     125,    22.3181, -999.00,9,     -999.0
33KI20120529,       PRS2,       2,          5,         11,       8011,2,20120531,       0303,  22.762667,-158.0046667,       4701,   125.2,  22.3439,  35.3878,2,  35.3873,2,    214.7,1,  -999.0,9, -999.00,9, -999.00,9,  -999.0,     125,    22.3188, -999.00,9,     -999.0
33KI20120529,       PRS2,       2,          5,         10,       8010,2,20120531,       0303,  22.762667,-158.0046667,       4701,   151.2,  21.9314,  35.3661,2,-999.0000,5,    211.5,1,  -999.0,9, -999.00,9, -999.00,9,  -999.0,     151,    21.9015, -999.00,9,     -999.0
33KI20120529,       PRS2,       2,          5,          9,       8009,2,20120531,       0303,  22.762667,-158.0046667,       4701,   150.8,  21.9403,  35.3676,2,  35.3689,2,    211.3,1,  -999.0,9, -999.00,9, -999.00,9,  -999.0,     150,    21.9105, -999.00,9,     -999.0
33KI20120529,       PRS2,       2,          5,          8,       8008,2,20120531,       0303,  22.762667,-158.0046667,       4701,   175.8,  20.8452,  35.2499,2,-999.0000,5,    208.0,1,  -999.0,9, -999.00,9, -999.00,9,  -999.0,     175,    20.8117, -999.00,9,     -999.0
33KI20120529,       PRS2,       2,          5,          7,       8026,2,20120531,       0303,  22.762667,-158.0046667,       4701,   175.9,  20.8411,  35.2495,2,  35.2481,2,    207.9,1,  -999.0,9, -999.00,9, -999.00,9,  -999.0,     175,    20.8075, -999.00,9,     -999.0
33KI20120529,       PRS2,       2,          5,          6,       8006,2,20120531,       0303,  22.762667,-158.0046667,       4701,   201.0,  18.5454,  34.9113,2,  34.9164,2,    197.4,1,  -999.0,9, -999.00,9, -999.00,9,  -999.0,     200,    18.5102, -999.00,9,     -999.0
33KI20120529,       PRS2,       2,          5,          5,       8005,2,20120531,       0303,  22.762667,-158.0046667,       4701,   250.0,  15.0380,  34.4631,2,  34.4675,2,    204.7,1,  -999.0,9, -999.00,9, -999.00,9,  -999.0,     250,    15.0001, -999.00,9,     -999.0
33KI20120529,       PRS2,       2,          5,          4,       8004,2,20120531,       0303,  22.762667,-158.0046667,       4701,   351.9,  11.0700,  34.1973,2,  34.2007,2,    207.4,1,  -999.0,9, -999.00,9, -999.00,9,  -999.0,     352,    11.0265, -999.00,9,     -999.0
33KI20120529,       PRS2,       2,          5,          3,       8003,2,20120531,       0303,  22.762667,-158.0046667,       4701,   352.1,  11.0565,  34.1956,2,  34.2001,2,    207.3,1,  -999.0,9, -999.00,9, -999.00,9,  -999.0,     352,    11.0130, -999.00,9,     -999.0
33KI20120529,       PRS2,       2,          5,          2,       8002,2,20120531,       0303,  22.762667,-158.0046667,       4701,   500.4,   7.6565,  34.0512,2,-999.0000,5,    126.2,1,  -999.0,9, -999.00,9, -999.00,9,  -999.0,     501,     7.6069, -999.00,9,     -999.0
33KI20120529,       PRS2,       2,          5,          1,       8001,2,20120531,       0303,  22.762667,-158.0046667,       4701,  1020.9,   3.8400,  34.4746,2,  34.4763,2,     39.1,1,  -999.0,9, -999.00,9, -999.00,9,  -999.0,    1021,     3.7640, -999.00,9,     -999.0