BOTTLE,20141031SIOCCHAMB
EXPOCODE,SECT_ID,STNNBR,CASTNO,SAMPNO,BTLNBR,BTLNBR_FLAG_W,DATE,TIME,LATITUDE,LONGITUDE,DEPTH,CTDPRS,CTDTMP,CTDSAL,CTDSAL_FLAG_W,SALNTY,SALNTY_FLAG_W,CTDOXY,CTDOXY_FLAG_W,OXYGEN,OXYGEN_FLAG_W,SILCAT,SILCAT_FLAG_W,PHSPHT,PHSPHT_FLAG_W,REVPRS,CTDRAW,THETA,NO2+NO3,NO2+NO3_FLAG_W,REVTMP
,,,,,,,,,,,METERS,DBAR,ITS-90,PSS-78,,PSS-78,,UMOL/KG,,UMOL/KG,,UMOL/KG,,UMOL/KG,,DBAR,DBAR,ITS-90,UMOL/KG,,DEG C
33KI20120529,       PRS2,       2,          9,         24,       8024,2,20120531,       1455,  22.750500,-158.0020000,       4713,     5.1,  24.1914,  35.1558,2,  35.1545,2,    211.3,1,  -999.0,9, -999.00,9, -999.00,9,  -999.0,       5,    24.1903, -999.00,9,     -999.0
33KI20120529,       PRS2,       2,          9,         23,       8023,2,20120531,       1455,  22.750500,-158.0020000,       4713,     5.1,  24.1915,  35.1557,2,-999.0000,5,    211.5,1,  -999.0,9, -999.00,9, -999.00,9,  -999.0,       5,    24.1904, -999.00,9,     -999.0
33KI20120529,       PRS2,       2,          9,         22,       8022,2,20120531,       1455,  22.750500,-158.0020000,       4713,     5.1,  24.1918,  35.1558,2,-999.0000,5,    211.7,1,  -999.0,9, -999.00,9, -999.00,9,  -999.0,       5,    24.1907, -999.00,9,     -999.0
33KI20120529,       PRS2,       2,          9,         21,       8021,2,20120531,       1455,  22.750500,-158.0020000,       4713,     5.0,  24.1896,  35.1559,2,-999.0000,5,    211.8,1,  -999.0,9, -999.00,9, -999.00,9,  -999.0,       5,    24.1885, -999.00,9,     -999.0
33KI20120529,       PRS2,       2,          9,         20,       8020,2,20120531,       1455,  22.750500,-158.0020000,       4713,     5.0,  24.1885,  35.1560,2,-999.0000,5,    212.0,1,  -999.0,9, -999.00,9, -999.00,9,  -999.0,       4,    24.1874, -999.00,9,     -999.0
33KI20120529,       PRS2,       2,          9,         19,       8019,2,20120531,       1455,  22.750500,-158.0020000,       4713,     5.1,  24.1897,  35.1559,2,-999.0000,5,    212.0,1,  -999.0,9, -999.00,9, -999.00,9,  -999.0,       5,    24.1886, -999.00,9,     -999.0
33KI20120529,       PRS2,       2,          9,         18,       8018,2,20120531,       1455,  22.750500,-158.0020000,       4713,     5.2,  24.1908,  35.1557,2,-999.0000,5,    212.1,1,  -999.0,9, -999.00,9, -999.00,9,  -999.0,       5,    24.1897, -999.00,9,     -999.0
33KI20120529,       PRS2,       2,          9,         17,       8017,2,20120531,       1455,  22.750500,-158.0020000,       4713,    24.9,  24.1944,  35.1565,2,-999.0000,5,    212.1,1,  -999.0,9, -999.00,9, -999.00,9,  -999.0,      25,    24.1892, -999.00,9,     -999.0
33KI20120529,       PRS2,       2,          9,         16,       8016,2,20120531,       1455,  22.750500,-158.0020000,       4713,    34.5,  24.2410,  35.2103,2,-999.0000,5,    212.0,1,  -999.0,9, -999.00,9, -999.00,9,  -999.0,      35,    24.2337, -999.00,9,     -999.0
33KI20120529,       PRS2,       2,          9,         15,       8015,2,20120531,       1455,  22.750500,-158.0020000,       4713,    45.0,  23.8415,  35.3193,2,-999.0000,5,    212.8,1,  -999.0,9, -999.00,9, -999.00,9,  -999.0,      45,    23.8321, -999.00,9,     -999.0
33KI20120529,       PRS2,       2,          9,         14,       8014,2,20120531,       1455,  22.750500,-158.0020000,       4713,    59.6,  23.3156,  35.3510,2,-999.0000,5,    218.8,1,  -999.0,9, -999.00,9, -999.00,9,  -999.0,      59,    23.3033, -999.00,9,     -999.0
33KI20120529,       PRS2,       2,          9,         13,       8025,2,20120531,       1455,  22.750500,-158.0020000,       4713,    74.3,  23.0551,  35.3616,2,-999.0000,5,    219.1,1,  -999.0,9, -999.00,9, -999.00,9,  -999.0,      75,    23.0399, -999.00,9,     -999.0
33KI20120529,       PRS2,       2,          9,         12,       8012,2,20120531,       1455,  22.750500,-158.0020000,       4713,    84.8,  22.7452,  35.3626,2,-999.0000,5,    218.8,1,  -999.0,9, -999.00,9, -999.00,9,  -999.0,      84,    22.7280, -999.00,9,     -999.0
33KI20120529,       PRS2,       2,          9,         11,       8011,2,20120531,       1455,  22.750500,-158.0020000,       4713,    90.0,  22.6686,  35.3681,2,-999.0000,5,    218.4,1,  -999.0,9, -999.00,9, -999.00,9,  -999.0,      90,    22.6505, -999.00,9,     -999.0
33KI20120529,       PRS2,       2,          9,         10,       8010,2,20120531,       1455,  22.750500,-158.0020000,       4713,    99.8,  22.5540,  35.3823,2,-999.0000,5,    217.2,1,  -999.0,9, -999.00,9, -999.00,9,  -999.0,     100,    22.5339, -999.00,9,     -999.0
33KI20120529,       PRS2,       2,          9,          9,       8009,2,20120531,       1455,  22.750500,-158.0020000,       4713,   110.3,  22.4159,  35.3845,2,-999.0000,5,    215.4,1,  -999.0,9, -999.00,9, -999.00,9,  -999.0,     110,    22.3938, -999.00,9,     -999.0
33KI20120529,       PRS2,       2,          9,          8,       8008,2,20120531,       1455,  22.750500,-158.0020000,       4713,   115.4,  22.3768,  35.3842,2,-999.0000,5,    215.0,1,  -999.0,9, -999.00,9, -999.00,9,  -999.0,     115,    22.3536, -999.00,9,     -999.0
33KI20120529,       PRS2,       2,          9,          7,       8026,2,20120531,       1455,  22.750500,-158.0020000,       4713,   125.4,  22.2125,  35.3808,2,-999.0000,5,    212.4,1,  -999.0,9, -999.00,9, -999.00,9,  -999.0,     125,    22.1875, -999.00,9,     -999.0
33KI20120529,       PRS2,       2,          9,          6,       8006,2,20120531,       1455,  22.750500,-158.0020000,       4713,   129.4,  22.1526,  35.3757,2,-999.0000,5,    211.0,1,  -999.0,9, -999.00,9, -999.00,9,  -999.0,     129,    22.1268, -999.00,9,     -999.0
33KI20120529,       PRS2,       2,          9,          5,       8005,2,20120531,       1455,  22.750500,-158.0020000,       4713,   149.9,  21.3977,  35.3211,2,-999.0000,5,    209.4,1,  -999.0,9, -999.00,9, -999.00,9,  -999.0,     150,    21.3686, -999.00,9,     -999.0
33KI20120529,       PRS2,       2,          9,          4,       8004,2,20120531,       1455,  22.750500,-158.0020000,       4713,   165.2,  20.4489,  35.1921,2,-999.0000,5,    202.6,1,  -999.0,9, -999.00,9, -999.00,9,  -999.0,     165,    20.4179, -999.00,9,     -999.0
33KI20120529,       PRS2,       2,          9,          3,       8003,2,20120531,       1455,  22.750500,-158.0020000,       4713,   175.1,  19.7182,  35.0781,2,-999.0000,5,    199.1,1,  -999.0,9, -999.00,9, -999.00,9,  -999.0,     175,    19.6861, -999.00,9,     -999.0
33KI20120529,       PRS2,       2,          9,          2,       8002,2,20120531,       1455,  22.750500,-158.0020000,       4713,   535.1,   6.8319,  34.0500,2,  34.0507,2,     97.5,1,  -999.0,9, -999.00,9, -999.00,9,  -999.0,     535,     6.7820, -999.00,9,     -999.0
33KI20120529,       PRS2,       2,          9,          1,       8001,2,20120531,       1455,  22.750500,-158.0020000,       4713,  1023.1,   3.8906,  34.4657,2,  34.4669,2,     37.4,1,  -999.0,9, -999.00,9, -999.00,9,  -999.0,    1023,     3.8139, -999.00,9,     -999.0
33KI20120529,       PRS2,       2,         10,         23,       8023,2,20120531,       1758,  22.774167,-157.9231667,       4676,     5.6,  24.1989,  35.0842,2,-999.0000,5,    211.5,1,  -999.0,9, -999.00,9, -999.00,9,  -999.0,       5,    24.1977, -999.00,9,     -999.0
33KI20120529,       PRS2,       2,         10,         22,       8022,2,20120531,       1758,  22.774167,-157.9231667,       4676,     5.6,  24.1982,  35.0843,2,  35.0835,2,    211.4,1,  -999.0,9, -999.00,9, -999.00,9,  -999.0,       6,    24.1970, -999.00,9,     -999.0
33KI20120529,       PRS2,       2,         10,         21,       8021,2,20120531,       1758,  22.774167,-157.9231667,       4676,    24.3,  24.2012,  35.0844,2,-999.0000,5,    211.3,1,  -999.0,9, -999.00,9, -999.00,9,  -999.0,      24,    24.1961, -999.00,9,     -999.0
33KI20120529,       PRS2,       2,         10,         20,       8020,2,20120531,       1758,  22.774167,-157.9231667,       4676,    24.4,  24.2020,  35.0838,2,  35.0848,2,    211.3,1,  -999.0,9, -999.00,9, -999.00,9,  -999.0,      24,    24.1969, -999.00,9,     -999.0
33KI20120529,       PRS2,       2,         10,         19,       8019,2,20120531,       1758,  22.774167,-157.9231667,       4676,    45.4,  23.7015,  35.3250,2,-999.0000,5,    216.2,1,  -999.0,9, -999.00,9, -999.00,9,  -999.0,      45,    23.6920, -999.00,9,     -999.0
33KI20120529,       PRS2,       2,         10,         18,       8018,2,20120531,       1758,  22.774167,-157.9231667,       4676,    45.7,  23.7000,  35.3252,2,  35.3246,2,    216.1,1,  -999.0,9, -999.00,9, -999.00,9,  -999.0,      46,    23.6905, -999.00,9,     -999.0
33KI20120529,       PRS2,       2,         10,         17,       8017,2,20120531,       1758,  22.774167,-157.9231667,       4676,    75.3,  23.0574,  35.3564,2,-999.0000,5,    220.2,1,  -999.0,9, -999.00,9, -999.00,9,  -999.0,      76,    23.0419, -999.00,9,     -999.0
33KI20120529,       PRS2,       2,         10,         16,       8016,2,20120531,       1758,  22.774167,-157.9231667,       4676,    75.3,  23.0570,  35.3566,2,  35.3565,2,    220.0,1,  -999.0,9, -999.00,9, -999.00,9,  -999.0,      75,    23.0416, -999.00,9,     -999.0
33KI20120529,       PRS2,       2,         10,         15,       8015,2,20120531,       1758,  22.774167,-157.9231667,       4676,    99.5,  22.6242,  35.3691,2,-999.0000,5,    217.9,1,  -999.0,9, -999.00,9, -999.00,9,  -999.0,     100,    22.6040, -999.00,9,     -999.0
33KI20120529,       PRS2,       2,         10,         14,       8014,2,20120531,       1758,  22.774167,-157.9231667,       4676,    99.5,  22.6237,  35.3692,2,  35.3719,2,    218.0,1,  -999.0,9, -999.00,9, -999.00,9,  -999.0,     100,    22.6036, -999.00,9,     -999.0
33KI20120529,       PRS2,       2,         10,         13,       8025,2,20120531,       1758,  22.774167,-157.9231667,       4676,   125.5,  22.2527,  35.3904,2,-999.0000,5,    211.7,1,  -999.0,9, -999.00,9, -999.00,9,  -999.0,     125,    22.2276, -999.00,9,     -999.0
33KI20120529,       PRS2,       2,         10,         12,       8012,2,20120531,       1758,  22.774167,-157.9231667,       4676,   125.3,  22.2470,  35.3905,2,  35.3882,2,    211.9,1,  -999.0,9, -999.00,9, -999.00,9,  -999.0,     125,    22.2220, -999.00,9,     -999.0
33KI20120529,       PRS2,       2,         10,         11,       8011,2,20120531,       1758,  22.774167,-157.9231667,       4676,   150.6,  21.7435,  35.3313,2,-999.0000,5,    204.8,1,  -999.0,9, -999.00,9, -999.00,9,  -999.0,     151,    21.7139, -999.00,9,     -999.0
33KI20120529,       PRS2,       2,         10,         10,       8010,2,20120531,       1758,  22.774167,-157.9231667,       4676,   150.4,  21.7423,  35.3314,2,  35.3313,2,    204.5,1,  -999.0,9, -999.00,9, -999.00,9,  -999.0,     150,    21.7127, -999.00,9,     -999.0
33KI20120529,       PRS2,       2,         10,          9,       8009,2,20120531,       1758,  22.774167,-157.9231667,       4676,   175.4,  20.0777,  35.1273,2,-999.0000,5,    198.3,1,  -999.0,9, -999.00,9, -999.00,9,  -999.0,     174,    20.0452, -999.00,9,     -999.0
33KI20120529,       PRS2,       2,         10,          8,       8008,2,20120531,       1758,  22.774167,-157.9231667,       4676,   175.3,  20.0778,  35.1276,2,  35.1163,2,    198.2,1,  -999.0,9, -999.00,9, -999.00,9,  -999.0,     175,    20.0453, -999.00,9,     -999.0
33KI20120529,       PRS2,       2,         10,          7,       8026,2,20120531,       1758,  22.774167,-157.9231667,       4676,   199.8,  18.9226,  34.9647,2,-999.0000,5,    196.8,1,  -999.0,9, -999.00,9, -999.00,9,  -999.0,     200,    18.8871, -999.00,9,     -999.0
33KI20120529,       PRS2,       2,         10,          6,       8006,2,20120531,       1758,  22.774167,-157.9231667,       4676,   350.3,  11.1969,  34.2019,2,-999.0000,5,    207.0,1,  -999.0,9, -999.00,9, -999.00,9,  -999.0,     350,    11.1533, -999.00,9,     -999.0
33KI20120529,       PRS2,       2,         10,          5,       8005,2,20120531,       1758,  22.774167,-157.9231667,       4676,   498.3,   7.4495,  34.0509,2,-999.0000,5,    116.8,1,  -999.0,9, -999.00,9, -999.00,9,  -999.0,     498,     7.4009, -999.00,9,     -999.0
33KI20120529,       PRS2,       2,         10,          4,       8004,2,20120531,       1758,  22.774167,-157.9231667,       4676,   530.2,   6.8541,  34.0469,2,  34.0468,2,     99.3,1,  -999.0,9, -999.00,9, -999.00,9,  -999.0,     529,     6.8046, -999.00,9,     -999.0
33KI20120529,       PRS2,       2,         10,          3,       8003,2,20120531,       1758,  22.774167,-157.9231667,       4676,   649.8,   5.2515,  34.1667,2,-999.0000,5,     34.0,1,  -999.0,9, -999.00,9, -999.00,9,  -999.0,     650,     5.1981, -999.00,9,     -999.0
33KI20120529,       PRS2,       2,         10,          2,       8002,2,20120531,       1758,  22.774167,-157.9231667,       4676,   784.0,   4.5873,  34.2894,2,-999.0000,5,     23.1,1,  -999.0,9, -999.00,9, -999.00,9,  -999.0,     784,     4.5260, -999.00,9,     -999.0
33KI20120529,       PRS2,       2,         10,          1,       8001,2,20120531,       1758,  22.774167,-157.9231667,       4676,  1019.9,   3.8383,  34.4755,2,  34.4781,2,     39.4,1,  -999.0,9, -999.00,9, -999.00,9,  -999.0,    1019,     3.7623, -999.00,9,     -999.0
33KI20120529,       PRS2,       2,         11,         11,       8011,2,20120531,       2056,  22.756000,-158.0046667,       4714,     4.7,  24.1983,  35.1493,2,  35.1484,2,    211.9,1,  -999.0,9, -999.00,9, -999.00,9,  -999.0,       4,    24.1973, -999.00,9,     -999.0
33KI20120529,       PRS2,       2,         11,         10,       8010,2,20120531,       2056,  22.756000,-158.0046667,       4714,     4.6,  24.1982,  35.1493,2,-999.0000,5,    211.7,1,  -999.0,9, -999.00,9, -999.00,9,  -999.0,       5,    24.1972, -999.00,9,     -999.0
33KI20120529,       PRS2,       2,         11,          9,       8009,2,20120531,       2056,  22.756000,-158.0046667,       4714,    25.0,  24.2007,  35.1517,2,-999.0000,5,    211.3,1,  -999.0,9, -999.00,9, -999.00,9,  -999.0,      24,    24.1954, -999.00,9,     -999.0
33KI20120529,       PRS2,       2,         11,          8,       8008,2,20120531,       2056,  22.756000,-158.0046667,       4714,    45.7,  23.9269,  35.3155,2,-999.0000,5,    214.7,1,  -999.0,9, -999.00,9, -999.00,9,  -999.0,      45,    23.9173, -999.00,9,     -999.0
33KI20120529,       PRS2,       2,         11,          7,       8026,2,20120531,       2056,  22.756000,-158.0046667,       4714,    76.6,  23.2926,  35.3538,2,-999.0000,5,    218.6,1,  -999.0,9, -999.00,9, -999.00,9,  -999.0,      76,    23.2768, -999.00,9,     -999.0
33KI20120529,       PRS2,       2,         11,          6,       8006,2,20120531,       2056,  22.756000,-158.0046667,       4714,   101.7,  22.5379,  35.3776,2,-999.0000,5,    217.3,1,  -999.0,9, -999.00,9, -999.00,9,  -999.0,     102,    22.5174, -999.00,9,     -999.0
33KI20120529,       PRS2,       2,         11,          5,       8005,2,20120531,       2056,  22.756000,-158.0046667,       4714,   124.7,  22.2017,  35.3843,2,-999.0000,5,    213.2,1,  -999.0,9, -999.00,9, -999.00,9,  -999.0,     124,    22.1769, -999.00,9,     -999.0
33KI20120529,       PRS2,       2,         11,          4,       8004,2,20120531,       2056,  22.756000,-158.0046667,       4714,   149.7,  21.8562,  35.3540,2,-999.0000,5,    210.0,1,  -999.0,9, -999.00,9, -999.00,9,  -999.0,     149,    21.8267, -999.00,9,     -999.0
33KI20120529,       PRS2,       2,         11,          3,       8003,2,20120531,       2056,  22.756000,-158.0046667,       4714,   175.7,  20.8640,  35.2318,2,-999.0000,5,    202.2,1,  -999.0,9, -999.00,9, -999.00,9,  -999.0,     175,    20.8305, -999.00,9,     -999.0
33KI20120529,       PRS2,       2,         11,          2,       8002,2,20120531,       2056,  22.756000,-158.0046667,       4714,   527.9,   7.0493,  34.0526,2,  34.0523,2,    105.2,1,  -999.0,9, -999.00,9, -999.00,9,  -999.0,     528,     6.9992, -999.00,9,     -999.0
33KI20120529,       PRS2,       2,         11,          1,       8001,2,20120531,       2056,  22.756000,-158.0046667,       4714,  1014.8,   3.9017,  34.4637,2,  34.4657,2,     37.0,1,  -999.0,9, -999.00,9, -999.00,9,  -999.0,    1015,     3.8256, -999.00,9,     -999.0