BOTTLE,20141031SIOCCHAMB
EXPOCODE,SECT_ID,STNNBR,CASTNO,SAMPNO,BTLNBR,BTLNBR_FLAG_W,DATE,TIME,LATITUDE,LONGITUDE,DEPTH,CTDPRS,CTDTMP,CTDSAL,CTDSAL_FLAG_W,SALNTY,SALNTY_FLAG_W,CTDOXY,CTDOXY_FLAG_W,OXYGEN,OXYGEN_FLAG_W,SILCAT,SILCAT_FLAG_W,PHSPHT,PHSPHT_FLAG_W,REVPRS,CTDRAW,THETA,NO2+NO3,NO2+NO3_FLAG_W,REVTMP
,,,,,,,,,,,METERS,DBAR,ITS-90,PSS-78,,PSS-78,,UMOL/KG,,UMOL/KG,,UMOL/KG,,UMOL/KG,,DBAR,DBAR,ITS-90,UMOL/KG,,DEG C
33KB20120730,       PRS2,       1,          1,         24,       8024,2,20120730,       2328,  21.343500,-158.2733333,       1561,    10.5,  25.5754,  35.1764,2,  35.1819,2,    206.9,2,   207.2,2, -999.00,9, -999.00,9,  -999.0,       9,    25.5731, -999.00,9,     -999.0
33KB20120730,       PRS2,       1,          1,         23,       8023,2,20120730,       2328,  21.343500,-158.2733333,       1561,    10.5,  25.5110,  35.1751,2,  35.1780,2,    207.2,2,   206.6,2, -999.00,9, -999.00,9,  -999.0,      10,    25.5087, -999.00,9,     -999.0
33KB20120730,       PRS2,       1,          1,         22,       8022,2,20120730,       2328,  21.343500,-158.2733333,       1561,    25.4,  25.4172,  35.1736,2,  35.1742,2,    207.4,2,   207.0,2, -999.00,9, -999.00,9,  -999.0,      25,    25.4117, -999.00,9,     -999.0
33KB20120730,       PRS2,       1,          1,         21,       8021,2,20120730,       2328,  21.343500,-158.2733333,       1561,    45.3,  25.3361,  35.1833,2,  35.1849,2,    208.6,2,   209.3,2, -999.00,9, -999.00,9,  -999.0,      45,    25.3262, -999.00,9,     -999.0
33KB20120730,       PRS2,       1,          1,         20,       8020,2,20120730,       2328,  21.343500,-158.2733333,       1561,    60.7,  25.2595,  35.1955,2,  35.2030,2,    209.0,2,   208.6,2, -999.00,9, -999.00,9,  -999.0,      60,    25.2463, -999.00,9,     -999.0
33KB20120730,       PRS2,       1,          1,         19,       8019,2,20120730,       2328,  21.343500,-158.2733333,       1561,    75.1,  25.0271,  35.3202,2,  35.3258,2,    210.4,2,   210.5,2, -999.00,9, -999.00,9,  -999.0,      75,    25.0108, -999.00,9,     -999.0
33KB20120730,       PRS2,       1,          1,         18,       8018,2,20120730,       2328,  21.343500,-158.2733333,       1561,   100.6,  24.2578,  35.3228,2,  35.3248,2,    214.5,2,   213.5,2, -999.00,9, -999.00,9,  -999.0,     100,    24.2364, -999.00,9,     -999.0
33KB20120730,       PRS2,       1,          1,         17,       8017,2,20120730,       2328,  21.343500,-158.2733333,       1561,   115.3,  23.5642,  35.2933,2,  35.2997,2,    217.1,2,   217.5,2, -999.00,9, -999.00,9,  -999.0,     115,    23.5402, -999.00,9,     -999.0
33KB20120730,       PRS2,       1,          1,         16,       8016,2,20120730,       2328,  21.343500,-158.2733333,       1561,   125.3,  22.6745,  35.3341,2,  35.3287,2,    217.4,2,   217.5,2, -999.00,9, -999.00,9,  -999.0,     125,    22.6491, -999.00,9,     -999.0
33KB20120730,       PRS2,       1,          1,         15,       8015,2,20120730,       2328,  21.343500,-158.2733333,       1561,   150.0,  20.6136,  35.1632,2,  35.1675,2,    202.5,2,   203.0,2, -999.00,9, -999.00,9,  -999.0,     149,    20.5853, -999.00,9,     -999.0
33KB20120730,       PRS2,       1,          1,         14,       8014,2,20120730,       2328,  21.343500,-158.2733333,       1561,   175.1,  18.9968,  34.9565,2,  34.9522,2,    203.0,2,   202.6,2, -999.00,9, -999.00,9,  -999.0,     175,    18.9655, -999.00,9,     -999.0
33KB20120730,       PRS2,       1,          1,         13,       8025,2,20120730,       2328,  21.343500,-158.2733333,       1561,   200.2,  18.0873,  34.8348,2,  34.8330,2,    199.4,2,   199.7,2, -999.00,9, -999.00,9,  -999.0,     200,    18.0529, -999.00,9,     -999.0
33KB20120730,       PRS2,       1,          1,         12,       8012,2,20120730,       2328,  21.343500,-158.2733333,       1561,   225.0,  16.6519,  34.6445,2,  34.6388,2,    191.1,2,   191.3,2, -999.00,9, -999.00,9,  -999.0,     225,    16.6154, -999.00,9,     -999.0
33KB20120730,       PRS2,       1,          1,         11,       8011,2,20120730,       2328,  21.343500,-158.2733333,       1561,   249.6,  15.1779,  34.4701,2,  34.4626,2,    185.4,2,   186.0,2, -999.00,9, -999.00,9,  -999.0,     249,    15.1399, -999.00,9,     -999.0
33KB20120730,       PRS2,       1,          1,         10,       8010,2,20120730,       2328,  21.343500,-158.2733333,       1561,   299.9,  12.6881,  34.2590,2,  34.2587,2,    175.8,2,   176.5,2, -999.00,9, -999.00,9,  -999.0,     299,    12.6476, -999.00,9,     -999.0
33KB20120730,       PRS2,       1,          1,          9,       8009,2,20120730,       2328,  21.343500,-158.2733333,       1561,   350.2,  11.2119,  34.1437,2,  34.1411,2,    177.7,2,   177.3,2, -999.00,9, -999.00,9,  -999.0,     350,    11.1683, -999.00,9,     -999.0
33KB20120730,       PRS2,       1,          1,          8,       8008,2,20120730,       2328,  21.343500,-158.2733333,       1561,   400.3,   9.1482,  34.1150,2,  34.1162,2,    147.7,2,   146.1,2, -999.00,9, -999.00,9,  -999.0,     400,     9.1043, -999.00,9,     -999.0
33KB20120730,       PRS2,       1,          1,          7,       8026,2,20120730,       2328,  21.343500,-158.2733333,       1561,   500.1,   6.5456,  34.1543,2,  34.1554,2,     67.0,2,    68.5,2, -999.00,9, -999.00,9,  -999.0,     500,     6.5001, -999.00,9,     -999.0
33KB20120730,       PRS2,       1,          1,          6,       8006,2,20120730,       2328,  21.343500,-158.2733333,       1561,   600.2,   5.6706,  34.2845,2,  34.2870,2,     39.2,2,    38.3,2, -999.00,9, -999.00,9,  -999.0,     600,     5.6195, -999.00,9,     -999.0
33KB20120730,       PRS2,       1,          1,          5,       8005,2,20120730,       2328,  21.343500,-158.2733333,       1561,   700.1,   5.1598,  34.3462,2,  34.3513,2,     36.7,2,    36.7,2, -999.00,9, -999.00,9,  -999.0,     700,     5.1023, -999.00,9,     -999.0
33KB20120730,       PRS2,       1,          1,          4,       8004,2,20120730,       2328,  21.343500,-158.2733333,       1561,   750.2,   4.8541,  34.3802,2,  34.3819,2,     37.6,2,    37.4,2, -999.00,9, -999.00,9,  -999.0,     750,     4.7939, -999.00,9,     -999.0
33KB20120730,       PRS2,       1,          1,          3,       8003,2,20120730,       2328,  21.343500,-158.2733333,       1561,   900.5,   4.2976,  34.4722,2,  34.4750,2,     44.5,2,    44.1,2, -999.00,9, -999.00,9,  -999.0,     900,     4.2281, -999.00,9,     -999.0
33KB20120730,       PRS2,       1,          1,          2,       8002,2,20120730,       2328,  21.343500,-158.2733333,       1561,   900.5,   4.2907,  34.4733,2,  34.4754,2,     44.5,2,    45.0,2, -999.00,9, -999.00,9,  -999.0,     900,     4.2212, -999.00,9,     -999.0
33KB20120730,       PRS2,       1,          1,          1,       8001,2,20120730,       2328,  21.343500,-158.2733333,       1561,  1020.2,   3.9622,  34.5061,2,  34.5072,2,     49.4,2,    49.6,2, -999.00,9, -999.00,9,  -999.0,    1020,     3.8852, -999.00,9,     -999.0
33KB20120730,       PRS2,       2,          1,         13,       8025,2,20120731,       0936,  22.761500,-157.9856667,       4730,   200.0,  19.6525,  35.0845,2,-999.0000,9,    200.9,1,  -999.0,9, -999.00,9, -999.00,9,  -999.0,     200,    19.6159, -999.00,9,     -999.0
33KB20120730,       PRS2,       2,          1,         12,       8012,2,20120731,       0936,  22.761500,-157.9856667,       4730,   200.0,  19.6511,  35.0839,2,-999.0000,9,    200.7,1,  -999.0,9, -999.00,9, -999.00,9,  -999.0,     200,    19.6146, -999.00,9,     -999.0
33KB20120730,       PRS2,       2,          1,         11,       8011,2,20120731,       0936,  22.761500,-157.9856667,       4730,   200.1,  19.6458,  35.0830,2,-999.0000,9,    200.6,1,  -999.0,9, -999.00,9, -999.00,9,  -999.0,     200,    19.6093, -999.00,9,     -999.0
33KB20120730,       PRS2,       2,          1,         10,       8010,2,20120731,       0936,  22.761500,-157.9856667,       4730,   200.2,  19.6421,  35.0832,2,-999.0000,9,    200.5,1,  -999.0,9, -999.00,9, -999.00,9,  -999.0,     200,    19.6056, -999.00,9,     -999.0
33KB20120730,       PRS2,       2,          1,          9,       8009,2,20120731,       0936,  22.761500,-157.9856667,       4730,   200.3,  19.6411,  35.0830,2,-999.0000,9,    200.2,1,  -999.0,9, -999.00,9, -999.00,9,  -999.0,     200,    19.6045, -999.00,9,     -999.0
33KB20120730,       PRS2,       2,          1,          8,       8008,2,20120731,       0936,  22.761500,-157.9856667,       4730,   200.3,  19.6387,  35.0809,2,-999.0000,9,    200.0,1,  -999.0,9, -999.00,9, -999.00,9,  -999.0,     200,    19.6021, -999.00,9,     -999.0
33KB20120730,       PRS2,       2,          1,          7,       8026,2,20120731,       0936,  22.761500,-157.9856667,       4730,   200.4,  19.6370,  35.0815,2,-999.0000,9,    199.8,1,  -999.0,9, -999.00,9, -999.00,9,  -999.0,     200,    19.6004, -999.00,9,     -999.0
33KB20120730,       PRS2,       2,          1,          6,       8006,2,20120731,       0936,  22.761500,-157.9856667,       4730,   200.4,  19.6370,  35.0815,2,-999.0000,9,    199.6,1,  -999.0,9, -999.00,9, -999.00,9,  -999.0,     200,    19.6003, -999.00,9,     -999.0
33KB20120730,       PRS2,       2,          1,          5,       8005,2,20120731,       0936,  22.761500,-157.9856667,       4730,   200.5,  19.6393,  35.0818,2,-999.0000,9,    199.5,1,  -999.0,9, -999.00,9, -999.00,9,  -999.0,     200,    19.6027, -999.00,9,     -999.0
33KB20120730,       PRS2,       2,          1,          4,       8004,2,20120731,       0936,  22.761500,-157.9856667,       4730,   200.4,  19.6432,  35.0817,2,-999.0000,9,    199.4,1,  -999.0,9, -999.00,9, -999.00,9,  -999.0,     200,    19.6066, -999.00,9,     -999.0
33KB20120730,       PRS2,       2,          1,          3,       8003,2,20120731,       0936,  22.761500,-157.9856667,       4730,   200.4,  19.6441,  35.0829,2,-999.0000,9,    199.3,1,  -999.0,9, -999.00,9, -999.00,9,  -999.0,     200,    19.6075, -999.00,9,     -999.0
33KB20120730,       PRS2,       2,          1,          2,       8002,2,20120731,       0936,  22.761500,-157.9856667,       4730,   200.5,  19.6517,  35.0841,2,-999.0000,9,    199.2,1,  -999.0,9, -999.00,9, -999.00,9,  -999.0,     200,    19.6151, -999.00,9,     -999.0
33KB20120730,       PRS2,       2,          1,          1,       8001,2,20120731,       0936,  22.761500,-157.9856667,       4730,   200.5,  19.6517,  35.0841,2,-999.0000,9,    199.1,1,  -999.0,9, -999.00,9, -999.00,9,  -999.0,     200,    19.6150, -999.00,9,     -999.0
33KB20120730,       PRS2,       2,          2,         22,       8022,2,20120731,       1210,  22.761167,-157.9770000,       4729,     6.6,  25.0005,  35.1664,2,  35.1666,2,    208.3,1,  -999.0,9, -999.00,9, -999.00,9,  -999.0,       6,    24.9990, -999.00,9,     -999.0
33KB20120730,       PRS2,       2,          2,         21,       8021,2,20120731,       1210,  22.761167,-157.9770000,       4729,     6.7,  25.0014,  35.1665,2,  35.1664,2,    208.4,1,  -999.0,9, -999.00,9, -999.00,9,  -999.0,       6,    24.9999, -999.00,9,     -999.0
33KB20120730,       PRS2,       2,          2,         20,       8020,2,20120731,       1210,  22.761167,-157.9770000,       4729,     6.7,  25.0018,  35.1663,2,  35.1662,2,    208.4,1,  -999.0,9, -999.00,9, -999.00,9,  -999.0,       7,    25.0003, -999.00,9,     -999.0
33KB20120730,       PRS2,       2,          2,         19,       8019,2,20120731,       1210,  22.761167,-157.9770000,       4729,    24.3,  25.0075,  35.1664,2,  35.1658,2,    208.5,1,  -999.0,9, -999.00,9, -999.00,9,  -999.0,      24,    25.0022, -999.00,9,     -999.0
33KB20120730,       PRS2,       2,          2,         18,       8018,2,20120731,       1210,  22.761167,-157.9770000,       4729,    24.5,  25.0036,  35.1657,2,  35.1654,2,    208.6,1,  -999.0,9, -999.00,9, -999.00,9,  -999.0,      24,    24.9983, -999.00,9,     -999.0
33KB20120730,       PRS2,       2,          2,         17,       8017,2,20120731,       1210,  22.761167,-157.9770000,       4729,    24.4,  25.0025,  35.1653,2,  35.1654,2,    208.9,1,  -999.0,9, -999.00,9, -999.00,9,  -999.0,      25,    24.9972, -999.00,9,     -999.0
33KB20120730,       PRS2,       2,          2,         16,       8016,2,20120731,       1210,  22.761167,-157.9770000,       4729,    45.2,  24.9225,  35.2356,2,  35.2390,2,    210.6,1,  -999.0,9, -999.00,9, -999.00,9,  -999.0,      45,    24.9127, -999.00,9,     -999.0
33KB20120730,       PRS2,       2,          2,         15,       8015,2,20120731,       1210,  22.761167,-157.9770000,       4729,    45.4,  24.9172,  35.2375,2,  35.2414,2,    210.7,1,  -999.0,9, -999.00,9, -999.00,9,  -999.0,      45,    24.9074, -999.00,9,     -999.0
33KB20120730,       PRS2,       2,          2,         14,       8014,2,20120731,       1210,  22.761167,-157.9770000,       4729,    45.4,  24.9358,  35.2308,2,  35.2487,3,    210.9,1,  -999.0,9, -999.00,9, -999.00,9,  -999.0,      45,    24.9260, -999.00,9,     -999.0
33KB20120730,       PRS2,       2,          2,         13,       8025,2,20120731,       1210,  22.761167,-157.9770000,       4729,    75.4,  23.2747,  35.2812,2,  35.2810,2,    221.2,1,  -999.0,9, -999.00,9, -999.00,9,  -999.0,      75,    23.2592, -999.00,9,     -999.0
33KB20120730,       PRS2,       2,          2,         12,       8012,2,20120731,       1210,  22.761167,-157.9770000,       4729,    75.5,  23.2747,  35.2811,2,  35.2790,2,    221.0,1,  -999.0,9, -999.00,9, -999.00,9,  -999.0,      75,    23.2592, -999.00,9,     -999.0
33KB20120730,       PRS2,       2,          2,         11,       8011,2,20120731,       1210,  22.761167,-157.9770000,       4729,    75.7,  23.2751,  35.2808,2,  35.2790,2,    220.8,1,  -999.0,9, -999.00,9, -999.00,9,  -999.0,      76,    23.2595, -999.00,9,     -999.0
33KB20120730,       PRS2,       2,          2,         10,       8010,2,20120731,       1210,  22.761167,-157.9770000,       4729,   100.1,  22.3171,  35.2854,2,  35.2942,2,    214.1,1,  -999.0,9, -999.00,9, -999.00,9,  -999.0,     100,    22.2971, -999.00,9,     -999.0
33KB20120730,       PRS2,       2,          2,          9,       8009,2,20120731,       1210,  22.761167,-157.9770000,       4729,   100.2,  22.3192,  35.2875,2,  35.2954,2,    214.2,1,  -999.0,9, -999.00,9, -999.00,9,  -999.0,     100,    22.2991, -999.00,9,     -999.0
33KB20120730,       PRS2,       2,          2,          8,       8008,2,20120731,       1210,  22.761167,-157.9770000,       4729,   100.3,  22.3208,  35.2902,2,  35.2986,2,    214.3,1,  -999.0,9, -999.00,9, -999.00,9,  -999.0,     100,    22.3008, -999.00,9,     -999.0
33KB20120730,       PRS2,       2,          2,          7,       8026,2,20120731,       1210,  22.761167,-157.9770000,       4729,   123.9,  21.8008,  35.3190,2,  35.3118,2,    209.6,1,  -999.0,9, -999.00,9, -999.00,9,  -999.0,     123,    21.7764, -999.00,9,     -999.0
33KB20120730,       PRS2,       2,          2,          6,       8006,2,20120731,       1210,  22.761167,-157.9770000,       4729,   124.3,  21.7738,  35.3151,2,  35.3088,2,    209.0,1,  -999.0,9, -999.00,9, -999.00,9,  -999.0,     124,    21.7494, -999.00,9,     -999.0
33KB20120730,       PRS2,       2,          2,          5,       8005,2,20120731,       1210,  22.761167,-157.9770000,       4729,   124.6,  21.7680,  35.3154,2,  35.3053,2,    208.8,1,  -999.0,9, -999.00,9, -999.00,9,  -999.0,     125,    21.7435, -999.00,9,     -999.0
33KB20120730,       PRS2,       2,          2,          4,       8004,2,20120731,       1210,  22.761167,-157.9770000,       4729,   150.3,  21.0790,  35.2817,2,  35.2867,2,    209.1,1,  -999.0,9, -999.00,9, -999.00,9,  -999.0,     150,    21.0501, -999.00,9,     -999.0
33KB20120730,       PRS2,       2,          2,          3,       8003,2,20120731,       1210,  22.761167,-157.9770000,       4729,   175.8,  20.1639,  35.1653,2,  35.1360,3,    202.9,1,  -999.0,9, -999.00,9, -999.00,9,  -999.0,     175,    20.1312, -999.00,9,     -999.0
33KB20120730,       PRS2,       2,          2,          2,       8002,2,20120731,       1210,  22.761167,-157.9770000,       4729,   440.8,   8.4796,  34.0645,2,  34.0642,2,    148.3,1,  -999.0,9, -999.00,9, -999.00,9,  -999.0,     441,     8.4333, -999.00,9,     -999.0
33KB20120730,       PRS2,       2,          2,          1,       8001,2,20120731,       1210,  22.761167,-157.9770000,       4729,  1020.3,   4.0484,  34.4939,2,  34.4960,2,     37.5,1,  -999.0,9, -999.00,9, -999.00,9,  -999.0,    1021,     3.9707, -999.00,9,     -999.0