BOTTLE,20141031SIOCCHAMB
EXPOCODE,SECT_ID,STNNBR,CASTNO,SAMPNO,BTLNBR,BTLNBR_FLAG_W,DATE,TIME,LATITUDE,LONGITUDE,DEPTH,CTDPRS,CTDTMP,CTDSAL,CTDSAL_FLAG_W,SALNTY,SALNTY_FLAG_W,CTDOXY,CTDOXY_FLAG_W,OXYGEN,OXYGEN_FLAG_W,SILCAT,SILCAT_FLAG_W,PHSPHT,PHSPHT_FLAG_W,REVPRS,CTDRAW,THETA,NO2+NO3,NO2+NO3_FLAG_W,REVTMP
,,,,,,,,,,,METERS,DBAR,ITS-90,PSS-78,,PSS-78,,UMOL/KG,,UMOL/KG,,UMOL/KG,,UMOL/KG,,DBAR,DBAR,ITS-90,UMOL/KG,,DEG C
33KB20120730,       PRS2,       2,          3,         24,       8024,2,20120731,       1526,  22.749333,-157.9996667,       4742,    11.6,  24.9721,  35.1356,2,  35.1358,2,    209.3,2,   209.0,2,    1.37,2,    0.11,2,  -999.0,      12,    24.9696,    0.06,2,     -999.0
33KB20120730,       PRS2,       2,          3,         23,       8023,2,20120731,       1526,  22.749333,-157.9996667,       4742,   499.9,   7.4505,  34.0810,2,  34.0789,2,     99.2,2,    99.5,2,   45.63,2,    2.15,2,  -999.0,     500,     7.4016,   29.89,2,     -999.0
33KB20120730,       PRS2,       2,          3,         22,       8022,2,20120731,       1526,  22.749333,-157.9996667,       4742,   749.7,   4.9002,  34.3230,2,  34.3223,2,     25.1,2,    24.7,2,   91.62,2,    2.98,2,  -999.0,     749,     4.8399,   41.21,2,     -999.0
33KB20120730,       PRS2,       2,          3,         21,       8021,2,20120731,       1526,  22.749333,-157.9996667,       4742,   999.6,   4.0469,  34.4961,2,  34.4956,2,     38.0,2,    37.7,2,  108.47,2,    3.01,2,  -999.0,     999,     3.9709,   41.78,2,     -999.0
33KB20120730,       PRS2,       2,          3,         20,       8020,2,20120731,       1526,  22.749333,-157.9996667,       4742,  1200.4,   3.5260,  34.5328,2,  34.5321,2,     48.9,2,    49.1,2,  119.21,2,    2.97,2,  -999.0,    1200,     3.4376,   41.60,2,     -999.0
33KB20120730,       PRS2,       2,          3,         19,       8019,2,20120731,       1526,  22.749333,-157.9996667,       4742,  1400.1,   3.0147,  34.5645,2,  34.5641,2,     60.3,2,    60.4,2,  130.20,2,    2.93,2,  -999.0,    1400,     2.9150,   41.13,2,     -999.0
33KB20120730,       PRS2,       2,          3,         18,       8018,2,20120731,       1526,  22.749333,-157.9996667,       4742,  1600.7,   2.6607,  34.5875,2,  34.5875,2,     70.0,2,    70.5,2,  137.67,2,    2.88,2,  -999.0,    1600,     2.5485,   40.65,2,     -999.0
33KB20120730,       PRS2,       2,          3,         17,       8017,2,20120731,       1526,  22.749333,-157.9996667,       4742,  1799.4,   2.3995,  34.6029,2,  34.6022,2,     77.5,2,    77.5,2,  143.88,2,    2.84,2,  -999.0,    1799,     2.2741,   40.23,2,     -999.0
33KB20120730,       PRS2,       2,          3,         16,       8016,2,20120731,       1526,  22.749333,-157.9996667,       4742,  2000.3,   2.1548,  34.6199,2,  34.6197,2,     87.6,2,    87.9,2,  148.59,2,    2.79,2,  -999.0,    2000,     2.0161,   39.63,2,     -999.0
33KB20120730,       PRS2,       2,          3,         15,       8015,2,20120731,       1526,  22.749333,-157.9996667,       4742,  2200.2,   1.9806,  34.6323,2,  34.6311,2,     94.5,2,    95.1,2,  152.76,2,    2.74,2,  -999.0,    2200,     1.8274,   39.22,2,     -999.0
33KB20120730,       PRS2,       2,          3,         14,       8014,2,20120731,       1526,  22.749333,-157.9996667,       4742,  2400.6,   1.8420,  34.6417,2,  34.6405,2,    101.6,2,   100.8,2,  155.85,2,    2.72,2,  -999.0,    2401,     1.6736,   38.86,2,     -999.0
33KB20120730,       PRS2,       2,          3,         13,       8025,2,20120731,       1526,  22.749333,-157.9996667,       4742,  2599.3,   1.7426,  34.6503,2,  34.6496,2,    107.3,2,   107.2,2,  157.33,2,    2.68,2,  -999.0,    2599,     1.5582,   38.50,2,     -999.0
33KB20120730,       PRS2,       2,          3,         12,       8012,2,20120731,       1526,  22.749333,-157.9996667,       4742,  2799.5,   1.6385,  34.6602,2,  34.6596,2,    115.8,2,   116.2,2,  158.17,2,    2.65,2,  -999.0,    2800,     1.4377,   37.97,2,     -999.0
33KB20120730,       PRS2,       2,          3,         11,       8011,2,20120731,       1526,  22.749333,-157.9996667,       4742,  2999.8,   1.5773,  34.6664,2,  34.6657,2,    121.7,2,   122.0,2,  158.05,2,    2.60,2,  -999.0,    2999,     1.3589,   37.52,2,     -999.0
33KB20120730,       PRS2,       2,          3,         10,       8010,2,20120731,       1526,  22.749333,-157.9996667,       4742,  3199.6,   1.5250,  34.6728,2,  34.6734,2,    129.3,2,   129.9,2,  156.29,2,    2.57,2,  -999.0,    3200,     1.2883,   36.98,2,     -999.0
33KB20120730,       PRS2,       2,          3,          9,       8009,2,20120731,       1526,  22.749333,-157.9996667,       4742,  3399.2,   1.4848,  34.6783,2,  34.6785,2,    135.1,2,   134.6,2,  155.92,2,    2.54,2,  -999.0,    3400,     1.2292,   36.72,2,     -999.0
33KB20120730,       PRS2,       2,          3,          8,       8008,2,20120731,       1526,  22.749333,-157.9996667,       4742,  3600.0,   1.4719,  34.6810,2,  34.6806,2,    139.1,2,   139.2,2,  154.38,2,    2.53,2,  -999.0,    3600,     1.1962,   36.40,2,     -999.0
33KB20120730,       PRS2,       2,          3,          7,       8026,2,20120731,       1526,  22.749333,-157.9996667,       4742,  3800.0,   1.4584,  34.6839,2,  34.6834,2,    144.5,2,   143.9,2,  151.65,2,    2.49,2,  -999.0,    3800,     1.1621,   36.10,2,     -999.0
33KB20120730,       PRS2,       2,          3,          6,       8006,2,20120731,       1526,  22.749333,-157.9996667,       4742,  3999.0,   1.4612,  34.6854,2,  34.6846,2,    147.0,2,   146.1,2,  150.57,2,    2.49,2,  -999.0,    3999,     1.1435,   35.91,2,     -999.0
33KB20120730,       PRS2,       2,          3,          5,       8005,2,20120731,       1526,  22.749333,-157.9996667,       4742,  4200.7,   1.4663,  34.6870,2,  34.6865,2,    149.4,2,  -999.0,5,  148.62,2,    2.48,2,  -999.0,    4201,     1.1263,   35.76,2,     -999.0
33KB20120730,       PRS2,       2,          3,          4,       8004,2,20120731,       1526,  22.749333,-157.9996667,       4742,  4400.6,   1.4804,  34.6877,2,  34.6873,2,    150.6,2,   151.2,2,  147.87,2,    2.47,2,  -999.0,    4401,     1.1175,   35.68,2,     -999.0
33KB20120730,       PRS2,       2,          3,          3,       8003,2,20120731,       1526,  22.749333,-157.9996667,       4742,  4501.2,   1.4894,  34.6880,2,  34.6873,2,    151.3,2,   151.0,2,  147.70,2,    2.47,2,  -999.0,    4501,     1.1146,   35.64,2,     -999.0
33KB20120730,       PRS2,       2,          3,          2,       8002,2,20120731,       1526,  22.749333,-157.9996667,       4742,  4600.3,   1.4988,  34.6880,2,  34.6877,2,    151.4,2,   151.8,2,  146.81,2,    2.47,2,  -999.0,    4600,     1.1123,   35.69,2,     -999.0
33KB20120730,       PRS2,       2,          3,          1,       8001,2,20120731,       1526,  22.749333,-157.9996667,       4742,  4809.2,   1.5222,  34.6881,2,  34.6889,2,    151.5,2,   151.4,2,  146.60,2,    2.46,2,  -999.0,    4809,     1.1102,   35.50,2,     -999.0
33KB20120730,       PRS2,       2,          4,         24,       8024,2,20120731,       2205,  22.750000,-158.0000000,       4742,     9.6,  25.0583,  35.1324,2,  35.1335,2,    210.0,2,   208.3,2,    1.25,2,    0.12,2,  -999.0,       9,    25.0563,    0.01,2,     -999.0
33KB20120730,       PRS2,       2,          4,         23,       8023,2,20120731,       2205,  22.750000,-158.0000000,       4742,    60.5,  23.7301,  35.2563,2,  35.2548,2,    220.0,2,   220.4,2,    1.18,2,    0.09,2,  -999.0,      60,    23.7175,    0.01,2,     -999.0
33KB20120730,       PRS2,       2,          4,         22,       8022,2,20120731,       2205,  22.750000,-158.0000000,       4742,   107.0,  22.3278,  35.2962,2,  35.2966,2,    214.2,2,   212.9,2,    1.23,2,    0.11,2,  -999.0,     107,    22.3064,    0.02,2,     -999.0
33KB20120730,       PRS2,       2,          4,         21,       8021,2,20120731,       2205,  22.750000,-158.0000000,       4742,   149.5,  21.1341,  35.2028,2,  35.2042,2,    198.8,2,   201.4,2,    1.57,2,    0.17,2,  -999.0,     149,    21.1053,    0.86,2,     -999.0
33KB20120730,       PRS2,       2,          4,         20,       8020,2,20120731,       2205,  22.750000,-158.0000000,       4742,   190.8,  19.2152,  34.9373,2,  34.9111,3,    189.3,3,   190.2,2,    1.73,2,    0.29,2,  -999.0,     190,    19.1809,    2.82,2,     -999.0
33KB20120730,       PRS2,       2,          4,         19,       8019,2,20120731,       2205,  22.750000,-158.0000000,       4742,   254.4,  15.4045,  34.4214,2,  34.4031,3,    191.4,3,   191.6,2,    4.73,2,    0.52,2,  -999.0,     254,    15.3654,    6.23,2,     -999.0
33KB20120730,       PRS2,       2,          4,         18,       8018,2,20120731,       2205,  22.750000,-158.0000000,       4742,   320.4,  12.3567,  34.1878,2,  34.1756,2,    198.5,2,   194.6,2,    9.95,2,    0.85,2,  -999.0,     320,    12.3142,   11.33,2,     -999.0
33KB20120730,       PRS2,       2,          4,         17,       8017,2,20120731,       2205,  22.750000,-158.0000000,       4742,   359.0,  10.5879,  34.0908,2,  34.0923,2,    185.3,2,   183.6,2,   15.97,2,    1.15,2,  -999.0,     359,    10.5449,   15.80,2,     -999.0
33KB20120730,       PRS2,       2,          4,         16,       8016,2,20120731,       2205,  22.750000,-158.0000000,       4742,   412.3,   8.9003,  34.0736,2,  34.0752,2,    160.1,2,   162.0,2,   26.98,2,    1.53,2,  -999.0,     412,     8.8558,   21.48,2,     -999.0
33KB20120730,       PRS2,       2,          4,         15,       8015,2,20120731,       2205,  22.750000,-158.0000000,       4742,   450.3,   7.9475,  34.0711,2,  34.0654,2,    116.3,2,   129.9,2,   35.63,2,    1.87,2,  -999.0,     450,     7.9020,   25.85,2,     -999.0
33KB20120730,       PRS2,       2,          4,         14,       8014,3,20120731,       2205,  22.750000,-158.0000000,       4742,   478.3,   7.4416,  34.0807,2,  34.0813,2,     95.5,2,    99.4,2,   44.53,2,    2.18,2,  -999.0,     478,     7.3950,   29.75,2,     -999.0
33KB20120730,       PRS2,       2,          4,         13,       8025,2,20120731,       2205,  22.750000,-158.0000000,       4742,   513.3,   6.8253,  34.0799,2,  34.0776,2,     85.0,2,    81.9,2,   53.03,2,    2.39,2,  -999.0,     513,     6.7775,   32.92,2,     -999.0
33KB20120730,       PRS2,       2,          4,         12,       8012,2,20120731,       2205,  22.750000,-158.0000000,       4742,   561.5,   5.9288,  34.0863,2,  34.0882,2,     60.1,2,    60.4,2,   65.70,2,    2.66,2,  -999.0,     561,     5.8802,   36.33,2,     -999.0
33KB20120730,       PRS2,       2,          4,         11,       8011,2,20120731,       2205,  22.750000,-158.0000000,       4742,   610.3,   5.3684,  34.1478,2,  34.1434,2,     38.8,2,    40.3,2,   76.80,2,    2.83,2,  -999.0,     610,     5.3179,   38.80,2,     -999.0
33KB20120730,       PRS2,       2,          4,         10,       8010,2,20120731,       2205,  22.750000,-158.0000000,       4742,   670.7,   5.1150,  34.2492,2,  34.3117,4,     25.0,3,   200.8,4,    6.03,4,    0.57,4,  -999.0,     670,     5.0604,    7.47,4,     -999.0
33KB20120730,       PRS2,       2,          4,          9,       8009,2,20120731,       2205,  22.750000,-158.0000000,       4742,   713.5,   4.9533,  34.2977,2,  34.2915,3,     24.3,3,    23.4,2,   88.97,2,    3.00,2,  -999.0,     713,     4.8958,   41.01,2,     -999.0
33KB20120730,       PRS2,       2,          4,          8,       8008,2,20120731,       2205,  22.750000,-158.0000000,       4742,   754.3,   4.8604,  34.3354,2,  34.3358,2,     24.0,2,    22.9,2,   91.52,2,    3.03,2,  -999.0,     754,     4.7999,   41.37,2,     -999.0
33KB20120730,       PRS2,       2,          4,          7,       8026,2,20120731,       2205,  22.750000,-158.0000000,       4742,   805.6,   4.5939,  34.3601,2,  34.3598,2,     24.4,2,  -999.0,5,   97.33,2,    3.04,2,  -999.0,     806,     4.5306,   41.71,2,     -999.0
33KB20120730,       PRS2,       2,          4,          6,       8006,2,20120731,       2205,  22.750000,-158.0000000,       4742,   856.1,   4.4078,  34.3940,2,  34.3955,2,     27.4,2,    27.2,2,  100.95,2,    3.03,2,  -999.0,     856,     4.3414,   41.75,2,     -999.0
33KB20120730,       PRS2,       2,          4,          5,       8005,2,20120731,       2205,  22.750000,-158.0000000,       4742,   894.9,   4.3437,  34.4211,2,  34.4228,2,     30.7,2,    30.6,2,  101.76,2,    3.02,2,  -999.0,     895,     4.2744,   41.62,2,     -999.0
33KB20120730,       PRS2,       2,          4,          4,       8004,2,20120731,       2205,  22.750000,-158.0000000,       4742,   935.4,   4.2686,  34.4460,2,  34.4473,2,     34.0,2,    33.3,2,  103.36,2,    3.02,2,  -999.0,     935,     4.1964,   41.81,2,     -999.0
33KB20120730,       PRS2,       2,          4,          3,       8003,2,20120731,       2205,  22.750000,-158.0000000,       4742,   974.7,   4.1904,  34.4679,2,  34.4687,2,     35.8,2,    36.1,2,  104.38,2,    3.02,2,  -999.0,     975,     4.1155,   41.71,2,     -999.0
33KB20120730,       PRS2,       2,          4,          2,       8002,2,20120731,       2205,  22.750000,-158.0000000,       4742,  1013.4,   4.1119,  34.4881,2,  34.4895,2,     37.3,2,    36.3,2,  106.21,2,    3.02,2,  -999.0,    1013,     4.0343,   41.91,2,     -999.0
33KB20120730,       PRS2,       2,          4,          1,       8001,2,20120731,       2205,  22.750000,-158.0000000,       4742,  1020.2,   4.0988,  34.4893,2,  34.4889,2,     37.0,2,    37.3,2,  105.77,2,    3.01,2,  -999.0,    1020,     4.0207,   41.65,2,     -999.0
33KB20120730,       PRS2,       2,          5,         14,       8014,3,20120801,       0027,  22.750167,-158.0000000,       4743,    10.4,  25.1019,  35.1308,2,  35.1309,2,    208.6,1,  -999.0,9, -999.00,9, -999.00,9,  -999.0,      10,    25.0997, -999.00,9,     -999.0
33KB20120730,       PRS2,       2,          5,         13,       8025,2,20120801,       0027,  22.750167,-158.0000000,       4743,    25.8,  25.0016,  35.1273,2,  35.1274,2,    209.3,1,  -999.0,9, -999.00,9, -999.00,9,  -999.0,      25,    24.9960, -999.00,9,     -999.0
33KB20120730,       PRS2,       2,          5,         12,       8012,2,20120801,       0027,  22.750167,-158.0000000,       4743,    45.2,  24.9916,  35.1412,2,  35.1520,2,    209.7,1,  -999.0,9, -999.00,9, -999.00,9,  -999.0,      45,    24.9818, -999.00,9,     -999.0
33KB20120730,       PRS2,       2,          5,         11,       8011,2,20120801,       0027,  22.750167,-158.0000000,       4743,    75.0,  23.2604,  35.2525,2,  35.2534,2,    219.7,1,  -999.0,9, -999.00,9, -999.00,9,  -999.0,      75,    23.2449, -999.00,9,     -999.0
33KB20120730,       PRS2,       2,          5,         10,       8010,2,20120801,       0027,  22.750167,-158.0000000,       4743,   100.4,  22.5978,  35.2735,2,  35.2739,2,    216.8,1,  -999.0,9, -999.00,9, -999.00,9,  -999.0,     100,    22.5776, -999.00,9,     -999.0
33KB20120730,       PRS2,       2,          5,          9,       8009,2,20120801,       0027,  22.750167,-158.0000000,       4743,   125.5,  22.0357,  35.3080,2,  35.3033,2,    212.1,1,  -999.0,9, -999.00,9, -999.00,9,  -999.0,     125,    22.0109, -999.00,9,     -999.0
33KB20120730,       PRS2,       2,          5,          8,       8008,2,20120801,       0027,  22.750167,-158.0000000,       4743,   150.4,  21.6492,  35.2904,2,  35.2889,2,    207.2,1,  -999.0,9, -999.00,9, -999.00,9,  -999.0,     150,    21.6197, -999.00,9,     -999.0
33KB20120730,       PRS2,       2,          5,          7,       8026,2,20120801,       0027,  22.750167,-158.0000000,       4743,   175.4,  20.9846,  35.2031,2,  35.2042,2,    196.0,1,  -999.0,9, -999.00,9, -999.00,9,  -999.0,     175,    20.9510, -999.00,9,     -999.0
33KB20120730,       PRS2,       2,          5,          6,       8006,2,20120801,       0027,  22.750167,-158.0000000,       4743,   200.7,  19.6046,  35.0025,2,  34.9990,2,    191.5,1,  -999.0,9, -999.00,9, -999.00,9,  -999.0,     200,    19.5680, -999.00,9,     -999.0
33KB20120730,       PRS2,       2,          5,          5,       8005,2,20120801,       0027,  22.750167,-158.0000000,       4743,   250.4,  16.6851,  34.5805,2,  34.5789,2,    191.3,1,  -999.0,9, -999.00,9, -999.00,9,  -999.0,     250,    16.6443, -999.00,9,     -999.0
33KB20120730,       PRS2,       2,          5,          4,       8004,2,20120801,       0027,  22.750167,-158.0000000,       4743,   349.9,  10.8808,  34.1052,2,  34.1040,2,    188.6,1,  -999.0,9, -999.00,9, -999.00,9,  -999.0,     350,    10.8381, -999.00,9,     -999.0
33KB20120730,       PRS2,       2,          5,          3,       8003,2,20120801,       0027,  22.750167,-158.0000000,       4743,   350.1,  10.8600,  34.1069,2,  34.1029,2,    188.4,1,  -999.0,9, -999.00,9, -999.00,9,  -999.0,     350,    10.8174, -999.00,9,     -999.0
33KB20120730,       PRS2,       2,          5,          2,       8002,2,20120801,       0027,  22.750167,-158.0000000,       4743,   460.0,   8.2171,  34.0637,2,  34.0664,2,    133.5,1,  -999.0,9, -999.00,9, -999.00,9,  -999.0,     460,     8.1696, -999.00,9,     -999.0
33KB20120730,       PRS2,       2,          5,          1,       8001,2,20120801,       0027,  22.750167,-158.0000000,       4743,  1020.2,   4.0784,  34.4916,2,  34.4917,2,     37.2,1,  -999.0,9, -999.00,9, -999.00,9,  -999.0,    1020,     4.0005, -999.00,9,     -999.0