BOTTLE,20141031SIOCCHAMB
EXPOCODE,SECT_ID,STNNBR,CASTNO,SAMPNO,BTLNBR,BTLNBR_FLAG_W,DATE,TIME,LATITUDE,LONGITUDE,DEPTH,CTDPRS,CTDTMP,CTDSAL,CTDSAL_FLAG_W,SALNTY,SALNTY_FLAG_W,CTDOXY,CTDOXY_FLAG_W,OXYGEN,OXYGEN_FLAG_W,SILCAT,SILCAT_FLAG_W,PHSPHT,PHSPHT_FLAG_W,REVPRS,CTDRAW,THETA,NO2+NO3,NO2+NO3_FLAG_W,REVTMP
,,,,,,,,,,,METERS,DBAR,ITS-90,PSS-78,,PSS-78,,UMOL/KG,,UMOL/KG,,UMOL/KG,,UMOL/KG,,DBAR,DBAR,ITS-90,UMOL/KG,,DEG C
33KB20120730,       PRS2,       2,          6,         14,       8014,2,20120801,       0259,  22.755667,-158.0371667,       4749,    10.4,  25.0778,  35.1216,2,  35.1217,2,    209.3,1,  -999.0,9, -999.00,9, -999.00,9,  -999.0,      10,    25.0756, -999.00,9,     -999.0
33KB20120730,       PRS2,       2,          6,         13,       8025,2,20120801,       0259,  22.755667,-158.0371667,       4749,    25.7,  25.0603,  35.1156,2,  35.1203,2,    209.6,1,  -999.0,9, -999.00,9, -999.00,9,  -999.0,      25,    25.0547, -999.00,9,     -999.0
33KB20120730,       PRS2,       2,          6,         12,       8012,2,20120801,       0259,  22.755667,-158.0371667,       4749,    45.6,  24.9730,  35.1235,2,  35.1250,2,    209.2,1,  -999.0,9, -999.00,9, -999.00,9,  -999.0,      45,    24.9631, -999.00,9,     -999.0
33KB20120730,       PRS2,       2,          6,         11,       8011,2,20120801,       0259,  22.755667,-158.0371667,       4749,    75.3,  24.1473,  35.2469,2,  35.2485,2,    221.6,1,  -999.0,9, -999.00,9, -999.00,9,  -999.0,      75,    24.1313, -999.00,9,     -999.0
33KB20120730,       PRS2,       2,          6,         10,       8010,2,20120801,       0259,  22.755667,-158.0371667,       4749,   100.4,  22.9164,  35.2637,2,  35.2639,2,    217.7,1,  -999.0,9, -999.00,9, -999.00,9,  -999.0,     100,    22.8959, -999.00,9,     -999.0
33KB20120730,       PRS2,       2,          6,          9,       8009,2,20120801,       0259,  22.755667,-158.0371667,       4749,   125.4,  22.3266,  35.2917,2,  35.2921,2,    213.9,1,  -999.0,9, -999.00,9, -999.00,9,  -999.0,     125,    22.3015, -999.00,9,     -999.0
33KB20120730,       PRS2,       2,          6,          8,       8008,2,20120801,       0259,  22.755667,-158.0371667,       4749,   150.0,  21.7782,  35.2926,2,  35.2895,2,    210.2,1,  -999.0,9, -999.00,9, -999.00,9,  -999.0,     150,    21.7487, -999.00,9,     -999.0
33KB20120730,       PRS2,       2,          6,          7,       8026,3,20120801,       0259,  22.755667,-158.0371667,       4749,   175.0,  21.0494,  35.2112,2,  35.2034,2,    196.4,1,  -999.0,9, -999.00,9, -999.00,9,  -999.0,     175,    21.0158, -999.00,9,     -999.0
33KB20120730,       PRS2,       2,          6,          6,       8006,2,20120801,       0259,  22.755667,-158.0371667,       4749,   200.3,  19.9739,  35.0478,2,  35.0333,2,    192.8,1,  -999.0,9, -999.00,9, -999.00,9,  -999.0,     200,    19.9369, -999.00,9,     -999.0
33KB20120730,       PRS2,       2,          6,          5,       8005,2,20120801,       0259,  22.755667,-158.0371667,       4749,   250.8,  17.0287,  34.6526,2,  34.6380,2,    196.2,1,  -999.0,9, -999.00,9, -999.00,9,  -999.0,     251,    16.9873, -999.00,9,     -999.0
33KB20120730,       PRS2,       2,          6,          4,       8004,2,20120801,       0259,  22.755667,-158.0371667,       4749,   350.5,  10.9600,  34.1177,2,  34.1178,2,    191.0,1,  -999.0,9, -999.00,9, -999.00,9,  -999.0,     350,    10.9171, -999.00,9,     -999.0
33KB20120730,       PRS2,       2,          6,          3,       8003,2,20120801,       0259,  22.755667,-158.0371667,       4749,   350.5,  10.9589,  34.1186,2,  34.1166,2,    191.4,1,  -999.0,9, -999.00,9, -999.00,9,  -999.0,     350,    10.9159, -999.00,9,     -999.0
33KB20120730,       PRS2,       2,          6,          2,       8002,2,20120801,       0259,  22.755667,-158.0371667,       4749,   450.7,   7.8216,  34.0725,2,  34.0727,2,    110.5,1,  -999.0,9, -999.00,9, -999.00,9,  -999.0,     451,     7.7765, -999.00,9,     -999.0
33KB20120730,       PRS2,       2,          6,          1,       8001,2,20120801,       0259,  22.755667,-158.0371667,       4749,  1019.7,   4.0800,  34.4902,2,  34.4924,2,     37.5,1,  -999.0,9, -999.00,9, -999.00,9,  -999.0,    1019,     4.0021, -999.00,9,     -999.0
33KB20120730,       PRS2,       2,          7,         23,       8023,2,20120801,       0550,  22.824167,-158.0166667,       4714,    10.6,  25.0363,  35.1412,2,  35.1406,2,    210.2,2,  -999.0,5, -999.00,9, -999.00,9,  -999.0,      11,    25.0340, -999.00,9,     -999.0
33KB20120730,       PRS2,       2,          7,         22,       8022,2,20120801,       0550,  22.824167,-158.0166667,       4714,    10.5,  25.0358,  35.1412,2,  35.1419,2,    210.1,2,   209.1,2, -999.00,9, -999.00,9,  -999.0,      11,    25.0335, -999.00,9,     -999.0
33KB20120730,       PRS2,       2,          7,         21,       8021,2,20120801,       0550,  22.824167,-158.0166667,       4714,    16.1,  25.0402,  35.1414,2,  35.1412,2,    210.0,2,  -999.0,5, -999.00,9, -999.00,9,  -999.0,      15,    25.0367, -999.00,9,     -999.0
33KB20120730,       PRS2,       2,          7,         20,       8020,2,20120801,       0550,  22.824167,-158.0166667,       4714,    25.7,  25.0363,  35.1443,2,  35.1441,2,    209.5,2,  -999.0,5, -999.00,9, -999.00,9,  -999.0,      26,    25.0307, -999.00,9,     -999.0
33KB20120730,       PRS2,       2,          7,         19,       8019,2,20120801,       0550,  22.824167,-158.0166667,       4714,    25.8,  25.0377,  35.1434,2,-999.0000,5,    209.3,2,   208.6,2, -999.00,9, -999.00,9,  -999.0,      26,    25.0321, -999.00,9,     -999.0
33KB20120730,       PRS2,       2,          7,         18,       8018,2,20120801,       0550,  22.824167,-158.0166667,       4714,    35.1,  25.0189,  35.1506,2,  35.1561,2,    210.1,2,  -999.0,5, -999.00,9, -999.00,9,  -999.0,      35,    25.0113, -999.00,9,     -999.0
33KB20120730,       PRS2,       2,          7,         17,       8017,2,20120801,       0550,  22.824167,-158.0166667,       4714,    45.4,  24.9658,  35.1998,2,  35.2089,2,    210.2,2,   210.5,2, -999.00,9, -999.00,9,  -999.0,      45,    24.9560, -999.00,9,     -999.0
33KB20120730,       PRS2,       2,          7,         16,       8016,2,20120801,       0550,  22.824167,-158.0166667,       4714,    60.4,  24.2884,  35.3040,2,  35.3049,2,    217.1,2,  -999.0,5, -999.00,9, -999.00,9,  -999.0,      60,    24.2756, -999.00,9,     -999.0
33KB20120730,       PRS2,       2,          7,         15,       8015,2,20120801,       0550,  22.824167,-158.0166667,       4714,    75.1,  23.4215,  35.3092,2,  35.3125,2,    222.7,2,   221.2,2, -999.00,9, -999.00,9,  -999.0,      75,    23.4059, -999.00,9,     -999.0
33KB20120730,       PRS2,       2,          7,         14,       8014,2,20120801,       0550,  22.824167,-158.0166667,       4714,    85.5,  23.0040,  35.3550,2,  35.3486,2,    223.3,2,   221.0,2, -999.00,9, -999.00,9,  -999.0,      85,    22.9865, -999.00,9,     -999.0
33KB20120730,       PRS2,       2,          7,         13,       8025,2,20120801,       0550,  22.824167,-158.0166667,       4714,    90.3,  22.7309,  35.3353,2,  35.3287,2,    218.6,2,  -999.0,5, -999.00,9, -999.00,9,  -999.0,      90,    22.7126, -999.00,9,     -999.0
33KB20120730,       PRS2,       2,          7,         12,       8012,2,20120801,       0550,  22.824167,-158.0166667,       4714,   100.4,  22.3361,  35.2855,2,  35.2871,2,    213.5,2,   214.8,2, -999.00,9, -999.00,9,  -999.0,     101,    22.3160, -999.00,9,     -999.0
33KB20120730,       PRS2,       2,          7,         11,       8011,2,20120801,       0550,  22.824167,-158.0166667,       4714,   110.1,  22.1573,  35.2784,2,  35.2785,2,    211.8,2,  -999.0,5, -999.00,9, -999.00,9,  -999.0,     109,    22.1354, -999.00,9,     -999.0
33KB20120730,       PRS2,       2,          7,         10,       8010,2,20120801,       0550,  22.824167,-158.0166667,       4714,   115.4,  22.0869,  35.2794,2,  35.2798,2,    212.9,2,   212.6,2, -999.00,9, -999.00,9,  -999.0,     115,    22.0640, -999.00,9,     -999.0
33KB20120730,       PRS2,       2,          7,          9,       8009,2,20120801,       0550,  22.824167,-158.0166667,       4714,   125.6,  21.7694,  35.2720,2,  35.2725,2,    206.6,2,   207.6,2, -999.00,9, -999.00,9,  -999.0,     125,    21.7447, -999.00,9,     -999.0
33KB20120730,       PRS2,       2,          7,          8,       8008,2,20120801,       0550,  22.824167,-158.0166667,       4714,   130.3,  21.7156,  35.2754,2,  35.2702,2,    205.6,2,  -999.0,5, -999.00,9, -999.00,9,  -999.0,     130,    21.6901, -999.00,9,     -999.0
33KB20120730,       PRS2,       2,          7,          7,       8026,2,20120801,       0550,  22.824167,-158.0166667,       4714,   150.2,  21.1900,  35.2123,2,  35.2284,2,    198.9,2,   201.1,2, -999.00,9, -999.00,9,  -999.0,     150,    21.1611, -999.00,9,     -999.0
33KB20120730,       PRS2,       2,          7,          6,       8006,2,20120801,       0550,  22.824167,-158.0166667,       4714,   165.0,  21.0459,  35.2128,2,  35.2093,2,    199.9,2,   200.2,2, -999.00,9, -999.00,9,  -999.0,     165,    21.0143, -999.00,9,     -999.0
33KB20120730,       PRS2,       2,          7,          5,       8005,2,20120801,       0550,  22.824167,-158.0166667,       4714,   174.9,  20.7818,  35.1941,2,  35.2038,2,    199.2,2,   199.5,2, -999.00,9, -999.00,9,  -999.0,     175,    20.7485, -999.00,9,     -999.0
33KB20120730,       PRS2,       2,          7,          4,       8004,2,20120801,       0550,  22.824167,-158.0166667,       4714,   200.0,  19.9174,  35.1272,2,  35.1183,2,    201.1,2,   201.1,2, -999.00,9, -999.00,9,  -999.0,     200,    19.8805, -999.00,9,     -999.0
33KB20120730,       PRS2,       2,          7,          3,       8003,2,20120801,       0550,  22.824167,-158.0166667,       4714,   429.8,   8.3210,  34.0603,2,  34.0599,2,    141.1,2,   142.3,2, -999.00,9, -999.00,9,  -999.0,     430,     8.2764, -999.00,9,     -999.0
33KB20120730,       PRS2,       2,          7,          2,       8002,2,20120801,       0550,  22.824167,-158.0166667,       4714,   750.3,   4.8357,  34.3379,2,  34.3390,2,     23.2,2,    23.0,2, -999.00,9, -999.00,9,  -999.0,     750,     4.7757, -999.00,9,     -999.0
33KB20120730,       PRS2,       2,          7,          1,       8001,2,20120801,       0550,  22.824167,-158.0166667,       4714,  1020.2,   4.0794,  34.4921,2,  34.4921,2,     36.8,2,    37.5,2, -999.00,9, -999.00,9,  -999.0,    1020,     4.0014, -999.00,9,     -999.0
33KB20120730,       PRS2,       2,          8,         10,       8010,4,20120801,       0858,  22.822333,-157.9965000,       4705,    10.6,  25.0160,  35.1414,2,-999.0000,5,    209.6,1,  -999.0,9, -999.00,9, -999.00,9,  -999.0,      10,    25.0137, -999.00,9,     -999.0
33KB20120730,       PRS2,       2,          8,          9,       8009,2,20120801,       0858,  22.822333,-157.9965000,       4705,    25.0,  25.0188,  35.1419,2,  35.1439,2,    210.0,1,  -999.0,9, -999.00,9, -999.00,9,  -999.0,      25,    25.0133, -999.00,9,     -999.0
33KB20120730,       PRS2,       2,          8,          8,       8008,2,20120801,       0858,  22.822333,-157.9965000,       4705,    45.2,  24.8560,  35.2517,2,  35.2524,2,    212.2,1,  -999.0,9, -999.00,9, -999.00,9,  -999.0,      45,    24.8463, -999.00,9,     -999.0
33KB20120730,       PRS2,       2,          8,          7,       8026,2,20120801,       0858,  22.822333,-157.9965000,       4705,    75.1,  23.0818,  35.2684,2,  35.2690,2,    218.8,1,  -999.0,9, -999.00,9, -999.00,9,  -999.0,      75,    23.0664, -999.00,9,     -999.0
33KB20120730,       PRS2,       2,          8,          6,       8006,2,20120801,       0858,  22.822333,-157.9965000,       4705,   100.3,  22.3306,  35.2802,2,  35.2792,2,    214.6,1,  -999.0,9, -999.00,9, -999.00,9,  -999.0,     100,    22.3105, -999.00,9,     -999.0
33KB20120730,       PRS2,       2,          8,          5,       8005,2,20120801,       0858,  22.822333,-157.9965000,       4705,   125.3,  21.8773,  35.2949,2,  35.3062,3,    210.8,1,  -999.0,9, -999.00,9, -999.00,9,  -999.0,     125,    21.8525, -999.00,9,     -999.0
33KB20120730,       PRS2,       2,          8,          4,       8004,2,20120801,       0858,  22.822333,-157.9965000,       4705,   150.3,  21.0684,  35.1951,2,  35.2239,3,    198.1,1,  -999.0,9, -999.00,9, -999.00,9,  -999.0,     150,    21.0395, -999.00,9,     -999.0
33KB20120730,       PRS2,       2,          8,          3,       8003,2,20120801,       0858,  22.822333,-157.9965000,       4705,   175.7,  20.1762,  35.1703,2,  35.1508,2,    204.1,1,  -999.0,9, -999.00,9, -999.00,9,  -999.0,     175,    20.1435, -999.00,9,     -999.0
33KB20120730,       PRS2,       2,          8,          2,       8002,2,20120801,       0858,  22.822333,-157.9965000,       4705,   440.6,   8.1199,  34.0553,2,  34.0566,2,    135.7,1,  -999.0,9, -999.00,9, -999.00,9,  -999.0,     440,     8.0748, -999.00,9,     -999.0
33KB20120730,       PRS2,       2,          8,          1,       8001,2,20120801,       0858,  22.822333,-157.9965000,       4705,  1019.3,   4.0182,  34.4982,2,  34.4991,2,     37.6,1,  -999.0,9, -999.00,9, -999.00,9,  -999.0,    1019,     3.9408, -999.00,9,     -999.0
33KB20120730,       PRS2,       2,          9,         17,       8017,2,20120801,       1151,  22.761667,-157.9878333,       4732,     5.5,  25.0020,  35.1399,2,  35.1396,2,    209.3,1,  -999.0,9, -999.00,9, -999.00,9,  -999.0,       6,    25.0008, -999.00,9,     -999.0
33KB20120730,       PRS2,       2,          9,         16,       8016,2,20120801,       1151,  22.761667,-157.9878333,       4732,     5.6,  25.0020,  35.1399,2,  35.1398,2,    209.4,1,  -999.0,9, -999.00,9, -999.00,9,  -999.0,       6,    25.0008, -999.00,9,     -999.0
33KB20120730,       PRS2,       2,          9,         15,       8015,2,20120801,       1151,  22.761667,-157.9878333,       4732,    25.5,  24.9995,  35.1394,2,-999.0000,5,    209.5,1,  -999.0,9, -999.00,9, -999.00,9,  -999.0,      25,    24.9940, -999.00,9,     -999.0
33KB20120730,       PRS2,       2,          9,         14,       8014,2,20120801,       1151,  22.761667,-157.9878333,       4732,    25.6,  24.9994,  35.1393,2,-999.0000,5,    209.6,1,  -999.0,9, -999.00,9, -999.00,9,  -999.0,      26,    24.9938, -999.00,9,     -999.0
33KB20120730,       PRS2,       2,          9,         13,       8025,2,20120801,       1151,  22.761667,-157.9878333,       4732,    25.5,  24.9993,  35.1391,2,  35.1392,2,    209.6,1,  -999.0,9, -999.00,9, -999.00,9,  -999.0,      26,    24.9938, -999.00,9,     -999.0
33KB20120730,       PRS2,       2,          9,         12,       8012,2,20120801,       1151,  22.761667,-157.9878333,       4732,    25.4,  24.9994,  35.1387,2,  35.1392,2,    209.6,1,  -999.0,9, -999.00,9, -999.00,9,  -999.0,      25,    24.9939, -999.00,9,     -999.0
33KB20120730,       PRS2,       2,          9,         11,       8011,2,20120801,       1151,  22.761667,-157.9878333,       4732,    44.9,  24.8482,  35.2031,2,-999.0000,5,    211.5,1,  -999.0,9, -999.00,9, -999.00,9,  -999.0,      45,    24.8385, -999.00,9,     -999.0
33KB20120730,       PRS2,       2,          9,         10,       8010,2,20120801,       1151,  22.761667,-157.9878333,       4732,    45.0,  24.8437,  35.2020,2,  35.2247,4,    211.9,1,  -999.0,9, -999.00,9, -999.00,9,  -999.0,      45,    24.8340, -999.00,9,     -999.0
33KB20120730,       PRS2,       2,          9,          9,       8009,2,20120801,       1151,  22.761667,-157.9878333,       4732,    45.3,  24.8317,  35.2052,2,  35.2247,4,    212.4,1,  -999.0,9, -999.00,9, -999.00,9,  -999.0,      45,    24.8219, -999.00,9,     -999.0
33KB20120730,       PRS2,       2,          9,          8,       8008,2,20120801,       1151,  22.761667,-157.9878333,       4732,    75.4,  22.9431,  35.2702,2,  35.2694,2,    218.0,1,  -999.0,9, -999.00,9, -999.00,9,  -999.0,      75,    22.9278, -999.00,9,     -999.0
33KB20120730,       PRS2,       2,          9,          7,       8026,2,20120801,       1151,  22.761667,-157.9878333,       4732,    75.4,  22.9431,  35.2700,2,  35.2694,2,    217.9,1,  -999.0,9, -999.00,9, -999.00,9,  -999.0,      75,    22.9278, -999.00,9,     -999.0
33KB20120730,       PRS2,       2,          9,          6,       8006,2,20120801,       1151,  22.761667,-157.9878333,       4732,   100.0,  22.2899,  35.2909,2,  35.2930,2,    212.8,1,  -999.0,9, -999.00,9, -999.00,9,  -999.0,     100,    22.2699, -999.00,9,     -999.0
33KB20120730,       PRS2,       2,          9,          5,       8005,2,20120801,       1151,  22.761667,-157.9878333,       4732,   100.1,  22.2869,  35.2910,2,  35.2930,2,    212.7,1,  -999.0,9, -999.00,9, -999.00,9,  -999.0,     100,    22.2669, -999.00,9,     -999.0
33KB20120730,       PRS2,       2,          9,          4,       8004,2,20120801,       1151,  22.761667,-157.9878333,       4732,   125.4,  21.7835,  35.2860,2,  35.2798,2,    204.1,1,  -999.0,9, -999.00,9, -999.00,9,  -999.0,     125,    21.7589, -999.00,9,     -999.0
33KB20120730,       PRS2,       2,          9,          3,       8003,2,20120801,       1151,  22.761667,-157.9878333,       4732,   125.4,  21.7828,  35.2860,2,  35.2790,2,    203.5,1,  -999.0,9, -999.00,9, -999.00,9,  -999.0,     125,    21.7581, -999.00,9,     -999.0
33KB20120730,       PRS2,       2,          9,          2,       8002,2,20120801,       1151,  22.761667,-157.9878333,       4732,   440.3,   8.1504,  34.0590,2,  34.0588,2,    133.3,1,  -999.0,9, -999.00,9, -999.00,9,  -999.0,     440,     8.1052, -999.00,9,     -999.0
33KB20120730,       PRS2,       2,          9,          1,       8001,2,20120801,       1151,  22.761667,-157.9878333,       4732,  1019.8,   4.0528,  34.4953,2,  34.4966,2,     37.0,1,  -999.0,9, -999.00,9, -999.00,9,  -999.0,    1020,     3.9751, -999.00,9,     -999.0