BOTTLE,20141031SIOCCHAMB
EXPOCODE,SECT_ID,STNNBR,CASTNO,SAMPNO,BTLNBR,BTLNBR_FLAG_W,DATE,TIME,LATITUDE,LONGITUDE,DEPTH,CTDPRS,CTDTMP,CTDSAL,CTDSAL_FLAG_W,SALNTY,SALNTY_FLAG_W,CTDOXY,CTDOXY_FLAG_W,OXYGEN,OXYGEN_FLAG_W,SILCAT,SILCAT_FLAG_W,PHSPHT,PHSPHT_FLAG_W,REVPRS,CTDRAW,THETA,NO2+NO3,NO2+NO3_FLAG_W,REVTMP
,,,,,,,,,,,METERS,DBAR,ITS-90,PSS-78,,PSS-78,,UMOL/KG,,UMOL/KG,,UMOL/KG,,UMOL/KG,,DBAR,DBAR,ITS-90,UMOL/KG,,DEG C
33KB20120730,       PRS2,       2,         15,         22,       8022,2,20120802,       0553,  22.750000,-157.9996667,       4741,     9.8,  25.1269,  35.1641,2,  35.1630,2,    208.9,1,  -999.0,9, -999.00,9, -999.00,9,  -999.0,      10,    25.1247, -999.00,9,     -999.0
33KB20120730,       PRS2,       2,         15,         21,       8021,2,20120802,       0553,  22.750000,-157.9996667,       4741,     9.5,  25.1266,  35.1641,2,  35.1640,2,    208.8,1,  -999.0,9, -999.00,9, -999.00,9,  -999.0,       9,    25.1246, -999.00,9,     -999.0
33KB20120730,       PRS2,       2,         15,         20,       8020,2,20120802,       0553,  22.750000,-157.9996667,       4741,    25.2,  25.1216,  35.1645,2,  35.1638,2,    208.3,1,  -999.0,9, -999.00,9, -999.00,9,  -999.0,      26,    25.1162, -999.00,9,     -999.0
33KB20120730,       PRS2,       2,         15,         19,       8019,2,20120802,       0553,  22.750000,-157.9996667,       4741,    25.5,  25.1175,  35.1645,2,  35.1640,2,    208.5,1,  -999.0,9, -999.00,9, -999.00,9,  -999.0,      26,    25.1119, -999.00,9,     -999.0
33KB20120730,       PRS2,       2,         15,         18,       8018,2,20120802,       0553,  22.750000,-157.9996667,       4741,    45.5,  25.0464,  35.1648,2,  35.1646,2,    209.0,1,  -999.0,9, -999.00,9, -999.00,9,  -999.0,      45,    25.0365, -999.00,9,     -999.0
33KB20120730,       PRS2,       2,         15,         17,       8017,2,20120802,       0553,  22.750000,-157.9996667,       4741,    45.6,  25.0485,  35.1646,2,  35.1642,2,    208.9,1,  -999.0,9, -999.00,9, -999.00,9,  -999.0,      45,    25.0386, -999.00,9,     -999.0
33KB20120730,       PRS2,       2,         15,         16,       8016,2,20120802,       0553,  22.750000,-157.9996667,       4741,    60.2,  24.2377,  35.1982,2,  35.1998,2,    220.9,1,  -999.0,9, -999.00,9, -999.00,9,  -999.0,      60,    24.2249, -999.00,9,     -999.0
33KB20120730,       PRS2,       2,         15,         15,       8015,2,20120802,       0553,  22.750000,-157.9996667,       4741,    75.0,  23.0841,  35.2793,2,  35.2790,2,    222.8,1,  -999.0,9, -999.00,9, -999.00,9,  -999.0,      75,    23.0688, -999.00,9,     -999.0
33KB20120730,       PRS2,       2,         15,         14,       8014,2,20120802,       0553,  22.750000,-157.9996667,       4741,    75.0,  23.0076,  35.2741,2,  35.2788,2,    222.0,1,  -999.0,9, -999.00,9, -999.00,9,  -999.0,      75,    22.9923, -999.00,9,     -999.0
33KB20120730,       PRS2,       2,         15,         13,       8025,2,20120802,       0553,  22.750000,-157.9996667,       4741,    85.2,  22.8326,  35.2729,2,  35.2755,2,    219.3,1,  -999.0,9, -999.00,9, -999.00,9,  -999.0,      85,    22.8153, -999.00,9,     -999.0
33KB20120730,       PRS2,       2,         15,         12,       8012,2,20120802,       0553,  22.750000,-157.9996667,       4741,   100.3,  22.6255,  35.3550,2,  35.3543,2,    223.5,1,  -999.0,9, -999.00,9, -999.00,9,  -999.0,     100,    22.6052, -999.00,9,     -999.0
33KB20120730,       PRS2,       2,         15,         11,       8011,2,20120802,       0553,  22.750000,-157.9996667,       4741,   100.4,  22.6239,  35.3551,2,  35.3545,2,    223.6,1,  -999.0,9, -999.00,9, -999.00,9,  -999.0,     100,    22.6036, -999.00,9,     -999.0
33KB20120730,       PRS2,       2,         15,         10,       8010,2,20120802,       0553,  22.750000,-157.9996667,       4741,   115.2,  22.3694,  35.3571,2,  35.3547,2,    218.5,1,  -999.0,9, -999.00,9, -999.00,9,  -999.0,     115,    22.3463, -999.00,9,     -999.0
33KB20120730,       PRS2,       2,         15,          9,       8009,2,20120802,       0553,  22.750000,-157.9996667,       4741,   125.3,  22.1730,  35.3435,2,  35.3374,2,    213.6,1,  -999.0,9, -999.00,9, -999.00,9,  -999.0,     125,    22.1481, -999.00,9,     -999.0
33KB20120730,       PRS2,       2,         15,          8,       8008,2,20120802,       0553,  22.750000,-157.9996667,       4741,   125.3,  22.1709,  35.3433,2,  35.3372,2,    213.4,1,  -999.0,9, -999.00,9, -999.00,9,  -999.0,     125,    22.1460, -999.00,9,     -999.0
33KB20120730,       PRS2,       2,         15,          7,       8026,2,20120802,       0553,  22.750000,-157.9996667,       4741,   135.0,  22.0369,  35.3435,2,  35.3421,2,    211.0,1,  -999.0,9, -999.00,9, -999.00,9,  -999.0,     135,    22.0101, -999.00,9,     -999.0
33KB20120730,       PRS2,       2,         15,          6,       8006,2,20120802,       0553,  22.750000,-157.9996667,       4741,   150.5,  21.8823,  35.3536,2,  35.3463,2,    212.1,1,  -999.0,9, -999.00,9, -999.00,9,  -999.0,     150,    21.8526, -999.00,9,     -999.0
33KB20120730,       PRS2,       2,         15,          5,       8005,2,20120802,       0553,  22.750000,-157.9996667,       4741,   150.5,  21.8817,  35.3537,2,  35.3459,2,    211.7,1,  -999.0,9, -999.00,9, -999.00,9,  -999.0,     150,    21.8520, -999.00,9,     -999.0
33KB20120730,       PRS2,       2,         15,          4,       8004,2,20120802,       0553,  22.750000,-157.9996667,       4741,   174.9,  20.9781,  35.1993,2,  35.1939,2,    195.0,1,  -999.0,9, -999.00,9, -999.00,9,  -999.0,     175,    20.9446, -999.00,9,     -999.0
33KB20120730,       PRS2,       2,         15,          3,       8003,2,20120802,       0553,  22.750000,-157.9996667,       4741,   174.9,  20.9762,  35.2003,2,  35.1900,2,    194.7,1,  -999.0,9, -999.00,9, -999.00,9,  -999.0,     175,    20.9427, -999.00,9,     -999.0
33KB20120730,       PRS2,       2,         15,          2,       8002,2,20120802,       0553,  22.750000,-157.9996667,       4741,   449.9,   8.1742,  34.0613,2,  34.0613,2,    134.0,1,  -999.0,9, -999.00,9, -999.00,9,  -999.0,     449,     8.1280, -999.00,9,     -999.0
33KB20120730,       PRS2,       2,         15,          1,       8001,2,20120802,       0553,  22.750000,-157.9996667,       4741,  1020.3,   4.0249,  34.4966,2,  34.4966,2,     37.7,1,  -999.0,9, -999.00,9, -999.00,9,  -999.0,    1020,     3.9474, -999.00,9,     -999.0
33KB20120730,       PRS2,       2,         16,         12,       8012,2,20120802,       0906,  22.750000,-157.9998333,       4740,    10.4,  25.0735,  35.1632,2,  35.1634,2,    209.4,2,   208.3,2, -999.00,9, -999.00,9,  -999.0,      11,    25.0713, -999.00,9,     -999.0
33KB20120730,       PRS2,       2,         16,         11,       8011,2,20120802,       0906,  22.750000,-157.9998333,       4740,    45.4,  25.0229,  35.1671,2,  35.1760,2,    208.2,2,   210.7,2, -999.00,9, -999.00,9,  -999.0,      45,    25.0131, -999.00,9,     -999.0
33KB20120730,       PRS2,       2,         16,         10,       8010,2,20120802,       0906,  22.750000,-157.9998333,       4740,   450.5,   7.8731,  34.0632,2,  34.0613,2,    123.9,2,   121.4,2, -999.00,9, -999.00,9,  -999.0,     450,     7.8279, -999.00,9,     -999.0
33KB20120730,       PRS2,       2,         16,          9,       8009,2,20120802,       0906,  22.750000,-157.9998333,       4740,   730.5,   5.0245,  34.2574,2,  34.2574,2,     23.4,2,    23.1,2, -999.00,9, -999.00,9,  -999.0,     730,     4.9653, -999.00,9,     -999.0
33KB20120730,       PRS2,       2,         16,          8,       8008,2,20120802,       0906,  22.750000,-157.9998333,       4740,  1000.6,   4.0933,  34.4890,2,-999.0000,5,     37.6,2,  -999.0,5, -999.00,9, -999.00,9,  -999.0,    1000,     4.0169, -999.00,9,     -999.0
33KB20120730,       PRS2,       2,         16,          7,       8026,2,20120802,       0906,  22.750000,-157.9998333,       4740,  2000.7,   2.1629,  34.6201,2,-999.0000,5,     86.5,2,  -999.0,5, -999.00,9, -999.00,9,  -999.0,    2000,     2.0240, -999.00,9,     -999.0
33KB20120730,       PRS2,       2,         16,          6,       8006,2,20120802,       0906,  22.750000,-157.9998333,       4740,  2000.7,   2.1628,  34.6201,2,  34.6189,2,     86.6,2,    86.6,2, -999.00,9, -999.00,9,  -999.0,    2001,     2.0238, -999.00,9,     -999.0
33KB20120730,       PRS2,       2,         16,          5,       8005,2,20120802,       0906,  22.750000,-157.9998333,       4740,  3000.3,   1.5772,  34.6669,2,-999.0000,5,    120.6,2,  -999.0,5, -999.00,9, -999.00,9,  -999.0,    3000,     1.3587, -999.00,9,     -999.0
33KB20120730,       PRS2,       2,         16,          4,       8004,2,20120802,       0906,  22.750000,-157.9998333,       4740,  3000.3,   1.5771,  34.6670,2,  34.6659,2,    120.6,2,   120.5,2, -999.00,9, -999.00,9,  -999.0,    3000,     1.3587, -999.00,9,     -999.0
33KB20120730,       PRS2,       2,         16,          3,       8003,2,20120802,       0906,  22.750000,-157.9998333,       4740,  4000.4,   1.4666,  34.6855,2,-999.0000,5,    145.9,2,  -999.0,5, -999.00,9, -999.00,9,  -999.0,    4001,     1.1486, -999.00,9,     -999.0
33KB20120730,       PRS2,       2,         16,          2,       8002,2,20120802,       0906,  22.750000,-157.9998333,       4740,  4000.2,   1.4665,  34.6855,2,  34.6846,2,    145.9,2,   145.3,2, -999.00,9, -999.00,9,  -999.0,    4000,     1.1485, -999.00,9,     -999.0
33KB20120730,       PRS2,       2,         16,          1,       8001,2,20120802,       0906,  22.750000,-157.9998333,       4740,  4807.0,   1.5210,  34.6886,2,  34.6885,2,    151.4,2,   152.1,2, -999.00,9, -999.00,9,  -999.0,    4807,     1.1093, -999.00,9,     -999.0
33KB20120730,       PRS2,       6,          1,         13,       8025,2,20120803,       0610,  21.847000,-158.3631667,       2455,    10.6,  25.3131,  35.2194,2,  35.2199,2,    206.7,1,  -999.0,9, -999.00,9, -999.00,9,  -999.0,      11,    25.3108, -999.00,9,     -999.0
33KB20120730,       PRS2,       6,          1,         12,       8012,2,20120803,       0610,  21.847000,-158.3631667,       2455,    25.5,  25.3171,  35.2442,2,  35.2463,2,    208.2,1,  -999.0,9, -999.00,9, -999.00,9,  -999.0,      25,    25.3115, -999.00,9,     -999.0
33KB20120730,       PRS2,       6,          1,         11,       8011,2,20120803,       0610,  21.847000,-158.3631667,       2455,    45.6,  25.0709,  35.2225,2,  35.2217,2,    209.2,1,  -999.0,9, -999.00,9, -999.00,9,  -999.0,      45,    25.0610, -999.00,9,     -999.0
33KB20120730,       PRS2,       6,          1,         10,       8010,2,20120803,       0610,  21.847000,-158.3631667,       2455,    75.2,  23.5714,  35.1898,2,  35.1918,2,    218.7,1,  -999.0,9, -999.00,9, -999.00,9,  -999.0,      75,    23.5557, -999.00,9,     -999.0
33KB20120730,       PRS2,       6,          1,          9,       8009,2,20120803,       0610,  21.847000,-158.3631667,       2455,   100.7,  22.4781,  35.2244,2,  35.2323,2,    211.0,1,  -999.0,9, -999.00,9, -999.00,9,  -999.0,     100,    22.4579, -999.00,9,     -999.0
33KB20120730,       PRS2,       6,          1,          8,       8008,2,20120803,       0610,  21.847000,-158.3631667,       2455,   125.6,  21.7104,  35.2727,2,  35.2865,3,    198.6,1,  -999.0,9, -999.00,9, -999.00,9,  -999.0,     125,    21.6858, -999.00,9,     -999.0
33KB20120730,       PRS2,       6,          1,          7,       8026,2,20120803,       0610,  21.847000,-158.3631667,       2455,   150.6,  20.8145,  35.1765,2,  35.1630,2,    193.7,1,  -999.0,9, -999.00,9, -999.00,9,  -999.0,     150,    20.7858, -999.00,9,     -999.0
33KB20120730,       PRS2,       6,          1,          6,       8006,2,20120803,       0610,  21.847000,-158.3631667,       2455,   175.9,  19.7800,  35.0180,2,  35.0120,2,    190.6,1,  -999.0,9, -999.00,9, -999.00,9,  -999.0,     176,    19.7477, -999.00,9,     -999.0
33KB20120730,       PRS2,       6,          1,          5,       8005,2,20120803,       0610,  21.847000,-158.3631667,       2455,   500.5,   6.7491,  34.1229,2,  34.1244,2,     63.8,1,  -999.0,9, -999.00,9, -999.00,9,  -999.0,     500,     6.7028, -999.00,9,     -999.0
33KB20120730,       PRS2,       6,          1,          4,       8004,2,20120803,       0610,  21.847000,-158.3631667,       2455,  1000.1,   3.9984,  34.4938,2,  34.4928,2,     48.1,1,  -999.0,9, -999.00,9, -999.00,9,  -999.0,    1000,     3.9227, -999.00,9,     -999.0
33KB20120730,       PRS2,       6,          1,          3,       8003,2,20120803,       0610,  21.847000,-158.3631667,       2455,  1500.1,   2.8134,  34.5747,2,  34.5736,2,     69.6,1,  -999.0,9, -999.00,9, -999.00,9,  -999.0,    1500,     2.7077, -999.00,9,     -999.0
33KB20120730,       PRS2,       6,          1,          2,       8002,2,20120803,       0610,  21.847000,-158.3631667,       2455,  1999.9,   2.0886,  34.6225,2,  34.6223,2,     90.8,1,  -999.0,9, -999.00,9, -999.00,9,  -999.0,    2000,     1.9509, -999.00,9,     -999.0
33KB20120730,       PRS2,       6,          1,          1,       8001,2,20120803,       0610,  21.847000,-158.3631667,       2455,  2464.9,   1.7129,  34.6525,2,  34.6525,2,    109.9,1,  -999.0,9, -999.00,9, -999.00,9,  -999.0,    2466,     1.5411, -999.00,9,     -999.0
33KB20120730,       PRS2,      50,          1,          9,       8009,2,20120802,       1929,  22.776333,-157.9311667,       4707,    10.5,  25.0354,  35.1712,2,-999.0000,9,    209.2,1,  -999.0,9, -999.00,9, -999.00,9,  -999.0,       9,    25.0331, -999.00,9,     -999.0
33KB20120730,       PRS2,      50,          1,          8,       8008,2,20120802,       1929,  22.776333,-157.9311667,       4707,    24.2,  25.0216,  35.1704,2,-999.0000,9,    209.3,1,  -999.0,9, -999.00,9, -999.00,9,  -999.0,      24,    25.0163, -999.00,9,     -999.0
33KB20120730,       PRS2,      50,          1,          7,       8026,2,20120802,       1929,  22.776333,-157.9311667,       4707,    24.3,  25.0218,  35.1704,2,-999.0000,9,    209.4,1,  -999.0,9, -999.00,9, -999.00,9,  -999.0,      24,    25.0165, -999.00,9,     -999.0
33KB20120730,       PRS2,      50,          1,          6,       8006,2,20120802,       1929,  22.776333,-157.9311667,       4707,    24.3,  25.0217,  35.1703,2,-999.0000,9,    209.5,1,  -999.0,9, -999.00,9, -999.00,9,  -999.0,      24,    25.0164, -999.00,9,     -999.0
33KB20120730,       PRS2,      50,          1,          5,       8005,2,20120802,       1929,  22.776333,-157.9311667,       4707,    24.4,  25.0226,  35.1702,2,-999.0000,9,    209.5,1,  -999.0,9, -999.00,9, -999.00,9,  -999.0,      24,    25.0173, -999.00,9,     -999.0
33KB20120730,       PRS2,      50,          1,          4,       8004,2,20120802,       1929,  22.776333,-157.9311667,       4707,    44.7,  23.7660,  35.2158,2,-999.0000,9,    222.5,1,  -999.0,9, -999.00,9, -999.00,9,  -999.0,      45,    23.7567, -999.00,9,     -999.0
33KB20120730,       PRS2,      50,          1,          3,       8003,2,20120802,       1929,  22.776333,-157.9311667,       4707,    74.4,  22.6524,  35.3088,2,-999.0000,9,    217.5,1,  -999.0,9, -999.00,9, -999.00,9,  -999.0,      74,    22.6373, -999.00,9,     -999.0
33KB20120730,       PRS2,      50,          1,          2,       8002,2,20120802,       1929,  22.776333,-157.9311667,       4707,    99.7,  22.2793,  35.3226,2,-999.0000,9,    214.3,1,  -999.0,9, -999.00,9, -999.00,9,  -999.0,     100,    22.2594, -999.00,9,     -999.0
33KB20120730,       PRS2,      50,          1,          1,       8001,2,20120802,       1929,  22.776333,-157.9311667,       4707,   124.5,  22.0422,  35.3373,2,-999.0000,9,    213.1,1,  -999.0,9, -999.00,9, -999.00,9,  -999.0,     125,    22.0175, -999.00,9,     -999.0