BOTTLE,20141031SIOCCHAMB
EXPOCODE,SECT_ID,STNNBR,CASTNO,SAMPNO,BTLNBR,BTLNBR_FLAG_W,DATE,TIME,LATITUDE,LONGITUDE,DEPTH,CTDPRS,CTDTMP,CTDSAL,CTDSAL_FLAG_W,SALNTY,SALNTY_FLAG_W,CTDOXY,CTDOXY_FLAG_W,OXYGEN,OXYGEN_FLAG_W,SILCAT,SILCAT_FLAG_W,PHSPHT,PHSPHT_FLAG_W,REVPRS,CTDRAW,THETA,NO2+NO3,NO2+NO3_FLAG_W,REVTMP
,,,,,,,,,,,METERS,DBAR,ITS-90,PSS-78,,PSS-78,,UMOL/KG,,UMOL/KG,,UMOL/KG,,UMOL/KG,,DBAR,DBAR,ITS-90,UMOL/KG,,DEG C
33KB20120730,       PRS2,       2,         10,          9,       8009,2,20120801,       1501,  22.761167,-157.9823333,       4726,     9.6,  25.0282,  35.1630,2,  35.1628,2,    209.2,1,  -999.0,9, -999.00,9, -999.00,9,  -999.0,       9,    25.0261, -999.00,9,     -999.0
33KB20120730,       PRS2,       2,         10,          8,       8008,2,20120801,       1501,  22.761167,-157.9823333,       4726,     9.7,  25.0282,  35.1630,2,-999.0000,5,    209.1,1,  -999.0,9, -999.00,9, -999.00,9,  -999.0,       9,    25.0261, -999.00,9,     -999.0
33KB20120730,       PRS2,       2,         10,          7,       8026,2,20120801,       1501,  22.761167,-157.9823333,       4726,     9.9,  25.0284,  35.1629,2,-999.0000,5,    209.0,1,  -999.0,9, -999.00,9, -999.00,9,  -999.0,      10,    25.0263, -999.00,9,     -999.0
33KB20120730,       PRS2,       2,         10,          6,       8006,2,20120801,       1501,  22.761167,-157.9823333,       4726,    10.0,  25.0294,  35.1630,2,-999.0000,5,    208.9,1,  -999.0,9, -999.00,9, -999.00,9,  -999.0,       9,    25.0272, -999.00,9,     -999.0
33KB20120730,       PRS2,       2,         10,          5,       8005,2,20120801,       1501,  22.761167,-157.9823333,       4726,    10.0,  25.0298,  35.1629,2,-999.0000,5,    208.9,1,  -999.0,9, -999.00,9, -999.00,9,  -999.0,      10,    25.0276, -999.00,9,     -999.0
33KB20120730,       PRS2,       2,         10,          4,       8004,2,20120801,       1501,  22.761167,-157.9823333,       4726,    10.0,  25.0296,  35.1628,2,-999.0000,5,    208.8,1,  -999.0,9, -999.00,9, -999.00,9,  -999.0,       9,    25.0274, -999.00,9,     -999.0
33KB20120730,       PRS2,       2,         10,          3,       8003,2,20120801,       1501,  22.761167,-157.9823333,       4726,    10.1,  25.0296,  35.1628,2,-999.0000,5,    208.8,1,  -999.0,9, -999.00,9, -999.00,9,  -999.0,       9,    25.0274, -999.00,9,     -999.0
33KB20120730,       PRS2,       2,         10,          2,       8002,2,20120801,       1501,  22.761167,-157.9823333,       4726,   460.6,   7.9837,  34.0608,2,  34.0629,2,    124.7,1,  -999.0,9, -999.00,9, -999.00,9,  -999.0,     460,     7.9370, -999.00,9,     -999.0
33KB20120730,       PRS2,       2,         10,          1,       8001,2,20120801,       1501,  22.761167,-157.9823333,       4726,  1019.7,   4.0518,  34.4955,2,  34.4958,2,     36.8,1,  -999.0,9, -999.00,9, -999.00,9,  -999.0,    1020,     3.9741, -999.00,9,     -999.0
33KB20120730,       PRS2,       2,         11,         18,       8018,2,20120801,       1752,  22.762500,-157.9783333,       4726,    11.2,  25.0234,  35.1687,2,-999.0000,5,    208.1,1,  -999.0,9, -999.00,9, -999.00,9,  -999.0,      11,    25.0210, -999.00,9,     -999.0
33KB20120730,       PRS2,       2,         11,         17,       8017,2,20120801,       1752,  22.762500,-157.9783333,       4726,    11.3,  25.0231,  35.1686,2,  35.1681,2,    208.2,1,  -999.0,9, -999.00,9, -999.00,9,  -999.0,      11,    25.0206, -999.00,9,     -999.0
33KB20120730,       PRS2,       2,         11,         16,       8016,2,20120801,       1752,  22.762500,-157.9783333,       4726,    24.6,  25.0235,  35.1682,2,-999.0000,5,    208.8,1,  -999.0,9, -999.00,9, -999.00,9,  -999.0,      24,    25.0182, -999.00,9,     -999.0
33KB20120730,       PRS2,       2,         11,         15,       8015,2,20120801,       1752,  22.762500,-157.9783333,       4726,    24.7,  25.0238,  35.1683,2,  35.1679,2,    208.9,1,  -999.0,9, -999.00,9, -999.00,9,  -999.0,      24,    25.0185, -999.00,9,     -999.0
33KB20120730,       PRS2,       2,         11,         14,       8014,2,20120801,       1752,  22.762500,-157.9783333,       4726,    45.3,  25.0205,  35.1674,2,-999.0000,5,    208.6,1,  -999.0,9, -999.00,9, -999.00,9,  -999.0,      45,    25.0107, -999.00,9,     -999.0
33KB20120730,       PRS2,       2,         11,         13,       8025,2,20120801,       1752,  22.762500,-157.9783333,       4726,    45.3,  25.0209,  35.1692,2,  35.1685,2,    209.0,1,  -999.0,9, -999.00,9, -999.00,9,  -999.0,      45,    25.0111, -999.00,9,     -999.0
33KB20120730,       PRS2,       2,         11,         12,       8012,2,20120801,       1752,  22.762500,-157.9783333,       4726,    75.1,  23.2678,  35.2292,2,-999.0000,5,    223.7,1,  -999.0,9, -999.00,9, -999.00,9,  -999.0,      75,    23.2523, -999.00,9,     -999.0
33KB20120730,       PRS2,       2,         11,         11,       8011,2,20120801,       1752,  22.762500,-157.9783333,       4726,    75.1,  23.2681,  35.2300,2,  35.2385,2,    223.6,1,  -999.0,9, -999.00,9, -999.00,9,  -999.0,      75,    23.2527, -999.00,9,     -999.0
33KB20120730,       PRS2,       2,         11,         10,       8010,2,20120801,       1752,  22.762500,-157.9783333,       4726,   100.1,  22.5958,  35.3283,2,-999.0000,5,    219.8,1,  -999.0,9, -999.00,9, -999.00,9,  -999.0,     100,    22.5756, -999.00,9,     -999.0
33KB20120730,       PRS2,       2,         11,          9,       8009,2,20120801,       1752,  22.762500,-157.9783333,       4726,   100.0,  22.5934,  35.3269,2,  35.3244,2,    220.3,1,  -999.0,9, -999.00,9, -999.00,9,  -999.0,     100,    22.5732, -999.00,9,     -999.0
33KB20120730,       PRS2,       2,         11,          8,       8008,2,20120801,       1752,  22.762500,-157.9783333,       4726,   124.7,  22.0887,  35.3337,2,-999.0000,5,    212.7,1,  -999.0,9, -999.00,9, -999.00,9,  -999.0,     125,    22.0639, -999.00,9,     -999.0
33KB20120730,       PRS2,       2,         11,          7,       8026,2,20120801,       1752,  22.762500,-157.9783333,       4726,   125.0,  22.0866,  35.3347,2,  35.3338,2,    212.8,1,  -999.0,9, -999.00,9, -999.00,9,  -999.0,     125,    22.0618, -999.00,9,     -999.0
33KB20120730,       PRS2,       2,         11,          6,       8006,2,20120801,       1752,  22.762500,-157.9783333,       4726,   149.8,  21.7470,  35.3061,2,-999.0000,5,    204.4,1,  -999.0,9, -999.00,9, -999.00,9,  -999.0,     149,    21.7176, -999.00,9,     -999.0
33KB20120730,       PRS2,       2,         11,          5,       8005,2,20120801,       1752,  22.762500,-157.9783333,       4726,   149.8,  21.7271,  35.3005,2,  35.2873,2,    203.6,1,  -999.0,9, -999.00,9, -999.00,9,  -999.0,     149,    21.6977, -999.00,9,     -999.0
33KB20120730,       PRS2,       2,         11,          4,       8004,2,20120801,       1752,  22.762500,-157.9783333,       4726,   175.0,  20.9252,  35.1855,2,-999.0000,5,    195.3,1,  -999.0,9, -999.00,9, -999.00,9,  -999.0,     174,    20.8917, -999.00,9,     -999.0
33KB20120730,       PRS2,       2,         11,          3,       8003,2,20120801,       1752,  22.762500,-157.9783333,       4726,   175.0,  20.9182,  35.1860,2,  35.1819,2,    195.3,1,  -999.0,9, -999.00,9, -999.00,9,  -999.0,     175,    20.8847, -999.00,9,     -999.0
33KB20120730,       PRS2,       2,         11,          2,       8002,2,20120801,       1752,  22.762500,-157.9783333,       4726,   460.3,   8.1096,  34.0604,2,  34.0605,2,    128.3,1,  -999.0,9, -999.00,9, -999.00,9,  -999.0,     460,     8.0625, -999.00,9,     -999.0
33KB20120730,       PRS2,       2,         11,          1,       8001,2,20120801,       1752,  22.762500,-157.9783333,       4726,  1020.3,   3.9897,  34.5020,2,  34.5032,2,     37.3,1,  -999.0,9, -999.00,9, -999.00,9,  -999.0,    1020,     3.9124, -999.00,9,     -999.0
33KB20120730,       PRS2,       2,         12,          3,       8003,2,20120801,       2119,  22.773000,-157.9573333,       4714,    10.5,  25.0754,  35.1682,2,  35.1689,2,    209.0,1,  -999.0,9, -999.00,9, -999.00,9,  -999.0,      10,    25.0731, -999.00,9,     -999.0
33KB20120730,       PRS2,       2,         12,          2,       8002,2,20120801,       2119,  22.773000,-157.9573333,       4714,   460.5,   7.9421,  34.0570,2,  34.0566,2,    127.9,1,  -999.0,9, -999.00,9, -999.00,9,  -999.0,     461,     7.8956, -999.00,9,     -999.0
33KB20120730,       PRS2,       2,         12,          1,       8001,2,20120801,       2119,  22.773000,-157.9573333,       4714,  1020.3,   4.0177,  34.4972,2,  34.4962,2,     38.1,1,  -999.0,9, -999.00,9, -999.00,9,  -999.0,    1020,     3.9402, -999.00,9,     -999.0
33KB20120730,       PRS2,       2,         13,         23,       8023,2,20120801,       2350,  22.776167,-157.9450000,       4709,     9.7,  25.1488,  35.1668,2,  35.1664,2,    208.3,1,  -999.0,9, -999.00,9, -999.00,9,  -999.0,       8,    25.1467, -999.00,9,     -999.0
33KB20120730,       PRS2,       2,         13,         22,       8022,2,20120801,       2350,  22.776167,-157.9450000,       4709,    25.4,  25.0370,  35.1643,2,  35.1646,2,    209.7,1,  -999.0,9, -999.00,9, -999.00,9,  -999.0,      25,    25.0315, -999.00,9,     -999.0
33KB20120730,       PRS2,       2,         13,         21,       8021,2,20120801,       2350,  22.776167,-157.9450000,       4709,    45.6,  25.0199,  35.1638,2,  35.1646,2,    208.0,1,  -999.0,9, -999.00,9, -999.00,9,  -999.0,      45,    25.0100, -999.00,9,     -999.0
33KB20120730,       PRS2,       2,         13,         20,       8020,2,20120801,       2350,  22.776167,-157.9450000,       4709,    75.0,  23.5998,  35.2069,2,  35.2065,2,    223.1,1,  -999.0,9, -999.00,9, -999.00,9,  -999.0,      75,    23.5842, -999.00,9,     -999.0
33KB20120730,       PRS2,       2,         13,         19,       8019,2,20120801,       2350,  22.776167,-157.9450000,       4709,   100.4,  22.7968,  35.2892,2,  35.2928,2,    221.0,1,  -999.0,9, -999.00,9, -999.00,9,  -999.0,     101,    22.7764, -999.00,9,     -999.0
33KB20120730,       PRS2,       2,         13,         18,       8018,2,20120801,       2350,  22.776167,-157.9450000,       4709,   125.4,  22.2541,  35.3380,2,  35.3336,2,    215.2,1,  -999.0,9, -999.00,9, -999.00,9,  -999.0,     125,    22.2290, -999.00,9,     -999.0
33KB20120730,       PRS2,       2,         13,         17,       8017,2,20120801,       2350,  22.776167,-157.9450000,       4709,   149.8,  21.7365,  35.2911,2,  35.2865,2,    202.6,1,  -999.0,9, -999.00,9, -999.00,9,  -999.0,     150,    21.7071, -999.00,9,     -999.0
33KB20120730,       PRS2,       2,         13,         16,       8016,2,20120801,       2350,  22.776167,-157.9450000,       4709,   200.0,  19.9746,  35.0540,2,-999.0000,5,    191.1,1,  -999.0,9, -999.00,9, -999.00,9,  -999.0,     200,    19.9376, -999.00,9,     -999.0
33KB20120730,       PRS2,       2,         13,         15,       8015,2,20120801,       2350,  22.776167,-157.9450000,       4709,   200.2,  19.9696,  35.0522,2,-999.0000,5,    191.1,1,  -999.0,9, -999.00,9, -999.00,9,  -999.0,     200,    19.9326, -999.00,9,     -999.0
33KB20120730,       PRS2,       2,         13,         14,       8014,2,20120801,       2350,  22.776167,-157.9450000,       4709,   250.4,  15.7940,  34.4704,2,  34.4638,2,    187.3,1,  -999.0,9, -999.00,9, -999.00,9,  -999.0,     250,    15.7549, -999.00,9,     -999.0
33KB20120730,       PRS2,       2,         13,         13,       8025,2,20120801,       2350,  22.776167,-157.9450000,       4709,   300.2,  12.6230,  34.1905,2,-999.0000,5,    195.0,1,  -999.0,9, -999.00,9, -999.00,9,  -999.0,     300,    12.5826, -999.00,9,     -999.0
33KB20120730,       PRS2,       2,         13,         12,       8012,2,20120801,       2350,  22.776167,-157.9450000,       4709,   300.3,  12.6006,  34.1894,2,-999.0000,5,    195.5,1,  -999.0,9, -999.00,9, -999.00,9,  -999.0,     300,    12.5603, -999.00,9,     -999.0
33KB20120730,       PRS2,       2,         13,         11,       8011,2,20120801,       2350,  22.776167,-157.9450000,       4709,   350.6,  10.6929,  34.0799,2,  34.0803,2,    183.4,1,  -999.0,9, -999.00,9, -999.00,9,  -999.0,     350,    10.6506, -999.00,9,     -999.0
33KB20120730,       PRS2,       2,         13,         10,       8010,2,20120801,       2350,  22.776167,-157.9450000,       4709,   400.2,   9.1114,  34.0861,2,-999.0000,5,    174.7,1,  -999.0,9, -999.00,9, -999.00,9,  -999.0,     400,     9.0676, -999.00,9,     -999.0
33KB20120730,       PRS2,       2,         13,          9,       8009,2,20120801,       2350,  22.776167,-157.9450000,       4709,   480.3,   7.5840,  34.0767,2,  34.0758,2,    104.7,1,  -999.0,9, -999.00,9, -999.00,9,  -999.0,     480,     7.5367, -999.00,9,     -999.0
33KB20120730,       PRS2,       2,         13,          8,       8008,2,20120801,       2350,  22.776167,-157.9450000,       4709,   500.4,   7.2724,  34.0806,2,-999.0000,5,     92.9,1,  -999.0,9, -999.00,9, -999.00,9,  -999.0,     500,     7.2242, -999.00,9,     -999.0
33KB20120730,       PRS2,       2,         13,          7,       8026,2,20120801,       2350,  22.776167,-157.9450000,       4709,   500.5,   7.2726,  34.0808,2,-999.0000,5,     92.8,1,  -999.0,9, -999.00,9, -999.00,9,  -999.0,     500,     7.2244, -999.00,9,     -999.0
33KB20120730,       PRS2,       2,         13,          6,       8006,2,20120801,       2350,  22.776167,-157.9450000,       4709,   600.4,   5.5702,  34.1149,2,-999.0000,5,     46.6,1,  -999.0,9, -999.00,9, -999.00,9,  -999.0,     600,     5.5197, -999.00,9,     -999.0
33KB20120730,       PRS2,       2,         13,          5,       8005,2,20120801,       2350,  22.776167,-157.9450000,       4709,   700.3,   4.9585,  34.2724,2,-999.0000,5,     22.0,1,  -999.0,9, -999.00,9, -999.00,9,  -999.0,     700,     4.9022, -999.00,9,     -999.0
33KB20120730,       PRS2,       2,         13,          4,       8004,2,20120801,       2350,  22.776167,-157.9450000,       4709,   770.6,   4.7954,  34.3406,2,-999.0000,5,     23.3,1,  -999.0,9, -999.00,9, -999.00,9,  -999.0,     771,     4.7339, -999.00,9,     -999.0
33KB20120730,       PRS2,       2,         13,          3,       8003,3,20120801,       2350,  22.776167,-157.9450000,       4709,   800.5,   4.7094,  34.3588,2,-999.0000,5,     24.7,1,  -999.0,9, -999.00,9, -999.00,9,  -999.0,     800,     4.6458, -999.00,9,     -999.0
33KB20120730,       PRS2,       2,         13,          2,       8002,2,20120801,       2350,  22.776167,-157.9450000,       4709,   900.5,   4.3767,  34.4350,2,-999.0000,5,     31.4,1,  -999.0,9, -999.00,9, -999.00,9,  -999.0,     900,     4.3067, -999.00,9,     -999.0
33KB20120730,       PRS2,       2,         13,          1,       8001,2,20120801,       2350,  22.776167,-157.9450000,       4709,  1020.1,   4.0719,  34.4870,2,  34.4875,2,     37.2,1,  -999.0,9, -999.00,9, -999.00,9,  -999.0,    1020,     3.9940, -999.00,9,     -999.0
33KB20120730,       PRS2,       2,         14,         10,       8010,2,20120802,       0255,  22.778000,-157.9448333,       4706,    11.0,  25.1326,  35.1673,2,-999.0000,5,    209.2,1,  -999.0,9, -999.00,9, -999.00,9,  -999.0,      11,    25.1302, -999.00,9,     -999.0
33KB20120730,       PRS2,       2,         14,          9,       8009,2,20120802,       0255,  22.778000,-157.9448333,       4706,    25.6,  25.1177,  35.1662,2,-999.0000,5,    210.0,1,  -999.0,9, -999.00,9, -999.00,9,  -999.0,      25,    25.1121, -999.00,9,     -999.0
33KB20120730,       PRS2,       2,         14,          8,       8008,2,20120802,       0255,  22.778000,-157.9448333,       4706,    45.7,  25.0345,  35.1646,2,-999.0000,5,    209.4,1,  -999.0,9, -999.00,9, -999.00,9,  -999.0,      45,    25.0246, -999.00,9,     -999.0
33KB20120730,       PRS2,       2,         14,          7,       8026,2,20120802,       0255,  22.778000,-157.9448333,       4706,    75.4,  23.6953,  35.2074,2,-999.0000,5,    228.5,1,  -999.0,9, -999.00,9, -999.00,9,  -999.0,      75,    23.6795, -999.00,9,     -999.0
33KB20120730,       PRS2,       2,         14,          6,       8006,2,20120802,       0255,  22.778000,-157.9448333,       4706,   100.7,  22.8854,  35.2886,2,-999.0000,5,    222.3,1,  -999.0,9, -999.00,9, -999.00,9,  -999.0,     101,    22.8649, -999.00,9,     -999.0
33KB20120730,       PRS2,       2,         14,          5,       8005,2,20120802,       0255,  22.778000,-157.9448333,       4706,   125.3,  22.2753,  35.3208,2,-999.0000,5,    216.7,1,  -999.0,9, -999.00,9, -999.00,9,  -999.0,     125,    22.2503, -999.00,9,     -999.0
33KB20120730,       PRS2,       2,         14,          4,       8004,2,20120802,       0255,  22.778000,-157.9448333,       4706,   150.4,  21.8970,  35.3308,2,-999.0000,5,    210.6,1,  -999.0,9, -999.00,9, -999.00,9,  -999.0,     150,    21.8673, -999.00,9,     -999.0
33KB20120730,       PRS2,       2,         14,          3,       8003,2,20120802,       0255,  22.778000,-157.9448333,       4706,   175.7,  20.9982,  35.1949,2,-999.0000,5,    196.8,1,  -999.0,9, -999.00,9, -999.00,9,  -999.0,     175,    20.9645, -999.00,9,     -999.0
33KB20120730,       PRS2,       2,         14,          2,       8002,2,20120802,       0255,  22.778000,-157.9448333,       4706,   450.5,   8.4427,  34.0695,2,  34.0666,2,    145.8,1,  -999.0,9, -999.00,9, -999.00,9,  -999.0,     450,     8.3955, -999.00,9,     -999.0
33KB20120730,       PRS2,       2,         14,          1,       8001,2,20120802,       0255,  22.778000,-157.9448333,       4706,  1019.9,   4.0949,  34.4831,2,  34.4840,2,     36.8,1,  -999.0,9, -999.00,9, -999.00,9,  -999.0,    1020,     4.0169, -999.00,9,     -999.0