BOTTLE,20220712CCHSIOCBG
EXPOCODE,SECT_ID,STNNBR,CASTNO,SAMPNO,BTLNBR,BTLNBR_FLAG_W,DATE,TIME,LATITUDE,LONGITUDE,DEPTH,CTDPRS,CTDTMP,CTDSAL,CTDSAL_FLAG_W,SALNTY,SALNTY_FLAG_W,CTDOXY,CTDOXY_FLAG_W,OXYGEN,OXYGEN_FLAG_W,SILCAT,SILCAT_FLAG_W,NITRAT,NITRAT_FLAG_W,NITRIT,NITRIT_FLAG_W,PHSPHT,PHSPHT_FLAG_W,CFC-11,CFC-11_FLAG_W,CFC-12,CFC-12_FLAG_W,CFC113,CFC113_FLAG_W,SF6,SF6_FLAG_W,TCARBN,TCARBN_FLAG_W,ALKALI,ALKALI_FLAG_W,PH_TOT,PH_TOT_FLAG_W,PH_TMP,TRITUM,TRITUM_FLAG_W,HELIUM,HELIUM_FLAG_W,DELHE3,DELHE3_FLAG_W,REFTMP,REFTMP_FLAG_W,DELC13,DELC13_FLAG_W,DELC14,DELC14_FLAG_W,C14ERR,NEON,NEON_FLAG_W,NEONER,CCL4,CCL4_FLAG_W,DELO18,DELO18_FLAG_W,DOC,DOC_FLAG_W,TDN,TDN_FLAG_W,BTL_LAT,BTL_LON,TRITER,HELIER,DELHER,THETA,SBE35,SBE35_FLAG_W,SALTREF,SALTREF_FLAG_W,14C-DOC,14C-DOC_FLAG_W,DELO17,DELO17_FLAG_W,O2/AR,O2/AR_FLAG_W,SIP,SIP_FLAG_W,BTL_TIME
,,,,,,,,,,,METERS,DBAR,ITS-90,PSS-78,,PSS-78,,UMOL/KG,,UMOL/KG,,UMOL/KG,,UMOL/KG,,UMOL/KG,,UMOL/KG,,PMOL/KG,,PMOL/KG,,PMOL/KG,,FMOL/KG,,UMOL/KG,,UMOL/KG,,,,DEG C,TU,,NMOL/KG,,PERCNT,,DEG C,,/MILLE,,/MILLE,,/MILLE,NMOL/KG,,NMOL/KG,PMOL/KG,,/MILLE,,UMOL/KG,,UMOL/KG,,,,TU,NMOL/KG,PERCNT,DEG C,ITS-90,,G/KG,,/MILLE,,/MILLE,,,,,,
33AT20120419,        A20,      61,          1,          6,          6,2,20120507,       1556,    37.2513,   -52.3283,       5436,  3859.9,   2.4574,  34.9039,2,  34.9043,2,    268.8,2,   268.6,2,   24.72,2,   18.01,2,    0.00,2,    1.22,2,   0.979,2,   0.519,2,   0.062,2,    0.00,3,  2167.8,2,  2322.7,2,   7.7368,2,    25.00,-999.000,9,-999.0000,9, -999.00,9,   2.4568,2, -999.00,9,  -999.0,9,  -999.0,-999.000,9,-999.000,   0.720,2, -999.00,9,   43.45,2,   20.87,2,  37.2516, -52.3264,-999.000,-999.0000, -999.00,   2.1262,   2.4568,2,    35.0689,2,  -999.0,9,     -999.0,9,     -999.0,9,     -999.0,9,       1629
33AT20120419,        A20,      61,          1,          5,          5,2,20120507,       1556,    37.2513,   -52.3283,       5436,  4167.5,   2.3420,  34.8946,2,  34.8945,2,    268.4,2,   269.4,2,   26.24,2,   18.01,2,    0.00,2,    1.22,2,   1.172,2,   0.609,2,   0.080,2,    0.00,3,  -999.0,9,  -999.0,9,-999.0000,9,  -999.00,-999.000,9,-999.0000,9, -999.00,9,   2.3422,2, -999.00,9,  -999.0,9,  -999.0,-999.000,9,-999.000,   0.780,2, -999.00,9,   43.28,2,   20.63,2,  37.2516, -52.3268,-999.000,-999.0000, -999.00,   1.9788,   2.3422,2,    35.0590,2,  -999.0,9,     -999.0,9,     -999.0,9,     -999.0,9,       1623
33AT20120419,        A20,      61,          1,          4,          4,2,20120507,       1556,    37.2513,   -52.3283,       5436,  4473.4,   2.2905,  34.8882,2,  34.8884,2,    265.6,2,   266.5,2,   30.08,2,   18.60,2,    0.00,2,    1.27,2,   0.991,2,   0.528,2,   0.073,2,    0.00,3,  2174.7,2,  2327.9,2,   7.7318,2,    25.00,-999.000,9,-999.0000,9, -999.00,9,   2.2903,2, -999.00,9,  -999.0,9,  -999.0,-999.000,9,-999.000,   0.690,2, -999.00,9,   43.47,2,   21.73,2,  37.2515, -52.3273,-999.000,-999.0000, -999.00,   1.8928,   2.2903,2,    35.0529,2,  -999.0,9,     -999.0,9,     -999.0,9,     -999.0,9,       1617
33AT20120419,        A20,      61,          1,          3,          3,2,20120507,       1556,    37.2513,   -52.3283,       5436,  4782.9,   2.2874,  34.8859,2,  34.8857,2,    267.0,2,   267.7,2,   29.73,2,   18.42,2,    0.00,2,    1.26,2,   1.224,2,   0.654,2,   0.088,2,    0.00,3,  -999.0,9,  -999.0,9,-999.0000,9,  -999.00,-999.000,9,-999.0000,9, -999.00,9,   2.2869,2, -999.00,9,  -999.0,9,  -999.0,-999.000,9,-999.000,   0.750,2, -999.00,9,   42.91,2,   21.29,2,  37.2515, -52.3276,-999.000,-999.0000, -999.00,   1.8522,   2.2869,2,    35.0502,2,  -999.0,9,     -999.0,9,     -999.0,9,     -999.0,9,       1611
33AT20120419,        A20,      61,          1,          2,          2,2,20120507,       1556,    37.2513,   -52.3283,       5436,  5157.1,   2.2902,  34.8805,2,  34.8807,2,    263.4,2,   263.6,2,   34.24,2,   19.19,2,    0.00,2,    1.32,2,   0.906,2,   0.495,2,   0.065,2,    0.00,3,  2180.8,2,  2331.2,3,   7.7319,6,    25.00,-999.000,9,-999.0000,9, -999.00,9,   2.2903,2, -999.00,9,  -999.0,9,  -999.0,-999.000,9,-999.000,   0.590,2, -999.00,9,   42.51,2,   21.81,2,  37.2514, -52.3279,-999.000,-999.0000, -999.00,   1.8079,   2.2903,2,    35.0452,2,  -999.0,9,     -999.0,9,     -999.0,9,     -999.0,9,       1604
33AT20120419,        A20,      61,          1,          1,          1,2,20120507,       1556,    37.2513,   -52.3283,       5436,  5530.5,   2.2486,  34.8683,2,  34.8686,2,    254.7,2,   255.2,2,   43.86,2,   20.78,2,    0.04,2,    1.48,2,   0.369,2,   0.206,2,   0.030,2,    0.00,3,  2191.1,6,  2344.8,2,   7.7259,6,    25.00,-999.000,9,-999.0000,9, -999.00,9,   2.2488,2, -999.00,9,  -999.0,9,  -999.0,-999.000,9,-999.000,   0.340,2, -999.00,9,   42.32,2,   22.96,2,  37.2513, -52.3284,-999.000,-999.0000, -999.00,   1.7193,   2.2488,2,    35.0330,2,  -999.0,9,     -999.0,9,     -999.0,9,     -999.0,9,       1556