BOTTLE,20220712CCHSIOCBG
EXPOCODE,SECT_ID,STNNBR,CASTNO,SAMPNO,BTLNBR,BTLNBR_FLAG_W,DATE,TIME,LATITUDE,LONGITUDE,DEPTH,CTDPRS,CTDTMP,CTDSAL,CTDSAL_FLAG_W,SALNTY,SALNTY_FLAG_W,CTDOXY,CTDOXY_FLAG_W,OXYGEN,OXYGEN_FLAG_W,SILCAT,SILCAT_FLAG_W,NITRAT,NITRAT_FLAG_W,NITRIT,NITRIT_FLAG_W,PHSPHT,PHSPHT_FLAG_W,CFC-11,CFC-11_FLAG_W,CFC-12,CFC-12_FLAG_W,CFC113,CFC113_FLAG_W,SF6,SF6_FLAG_W,TCARBN,TCARBN_FLAG_W,ALKALI,ALKALI_FLAG_W,PH_TOT,PH_TOT_FLAG_W,PH_TMP,TRITUM,TRITUM_FLAG_W,HELIUM,HELIUM_FLAG_W,DELHE3,DELHE3_FLAG_W,REFTMP,REFTMP_FLAG_W,DELC13,DELC13_FLAG_W,DELC14,DELC14_FLAG_W,C14ERR,NEON,NEON_FLAG_W,NEONER,CCL4,CCL4_FLAG_W,DELO18,DELO18_FLAG_W,DOC,DOC_FLAG_W,TDN,TDN_FLAG_W,BTL_LAT,BTL_LON,TRITER,HELIER,DELHER,THETA,SBE35,SBE35_FLAG_W,SALTREF,SALTREF_FLAG_W,14C-DOC,14C-DOC_FLAG_W,DELO17,DELO17_FLAG_W,O2/AR,O2/AR_FLAG_W,SIP,SIP_FLAG_W,BTL_TIME
,,,,,,,,,,,METERS,DBAR,ITS-90,PSS-78,,PSS-78,,UMOL/KG,,UMOL/KG,,UMOL/KG,,UMOL/KG,,UMOL/KG,,UMOL/KG,,PMOL/KG,,PMOL/KG,,PMOL/KG,,FMOL/KG,,UMOL/KG,,UMOL/KG,,,,DEG C,TU,,NMOL/KG,,PERCNT,,DEG C,,/MILLE,,/MILLE,,/MILLE,NMOL/KG,,NMOL/KG,PMOL/KG,,/MILLE,,UMOL/KG,,UMOL/KG,,,,TU,NMOL/KG,PERCNT,DEG C,ITS-90,,G/KG,,/MILLE,,/MILLE,,,,,,
33AT20120419,        A20,      38,          1,          6,          6,2,20120429,       2326,    20.0573,   -52.3314,       5284,  3962.3,   2.2572,  34.8842,2,  34.8827,2,    252.4,2,   252.6,2,   42.93,2,   21.16,2,    0.00,2,    1.45,2,   0.098,2,   0.049,2,   0.011,2,    0.04,2,  -999.0,9,  -999.0,9,-999.0000,9,  -999.00,-999.000,9,-999.0000,9, -999.00,9,   2.2573,2, -999.00,9,  -999.0,9,  -999.0,-999.000,9,-999.000,-999.000,9, -999.00,9, -999.00,9, -999.00,9,  20.0567, -52.3311,-999.000,-999.0000, -999.00,   1.9200,   2.2573,2,    35.0472,2,  -999.0,9,     -999.0,9,     -999.0,9,     -999.0,9,       0000
33AT20120419,        A20,      38,          1,          5,          5,2,20120429,       2326,    20.0573,   -52.3314,       5284,  4272.4,   2.1598,  34.8726,2,  34.8713,2,    251.8,2,   252.0,2,   46.42,2,   21.52,2,    0.00,2,    1.47,2,-999.000,9,-999.000,9,-999.000,9, -999.00,9,  2189.9,2,  2341.1,2,   7.7316,6,    25.00,-999.000,9,-999.0000,9, -999.00,9,   2.1604,2, -999.00,9,  -999.0,9,  -999.0,-999.000,9,-999.000,-999.000,9, -999.00,9, -999.00,9, -999.00,9,  20.0567, -52.3311,-999.000,-999.0000, -999.00,   1.7899,   2.1604,2,    35.0357,2,  -999.0,9,     -999.0,9,     -999.0,9,     -999.0,9,       2353
33AT20120419,        A20,      38,          1,          4,          4,2,20120429,       2326,    20.0573,   -52.3314,       5284,  4574.1,   2.0960,  34.8619,2,  34.8612,2,    249.6,2,   250.2,2,   50.01,2,   22.00,2,    0.00,2,    1.50,2,   0.131,2,   0.062,2,   0.012,2,    0.06,2,  -999.0,9,  -999.0,9,-999.0000,9,  -999.00,-999.000,9,-999.0000,9, -999.00,9,   2.0962,2, -999.00,9,  -999.0,9,  -999.0,-999.000,9,-999.000,-999.000,9, -999.00,9, -999.00,9, -999.00,9,  20.0567, -52.3311,-999.000,-999.0000, -999.00,   1.6924,   2.0962,2,    35.0256,2,  -999.0,9,     -999.0,9,     -999.0,9,     -999.0,9,       2347
33AT20120419,        A20,      38,          1,          3,          3,2,20120429,       2326,    20.0573,   -52.3314,       5284,  4880.9,   2.0601,  34.8551,2,  34.8542,2,    249.3,2,   249.2,2,   52.51,2,   22.31,2,    0.00,2,    1.53,2,-999.000,9,-999.000,9,-999.000,9, -999.00,9,  2198.3,2,  2344.6,2,   7.7160,6,    25.00,-999.000,9,-999.0000,9, -999.00,9,   2.0602,2, -999.00,9,  -999.0,9,  -999.0,-999.000,9,-999.000,-999.000,9, -999.00,9, -999.00,9, -999.00,9,  20.0570, -52.3312,-999.000,-999.0000, -999.00,   1.6204,   2.0602,2,    35.0185,2,  -999.0,9,     -999.0,9,     -999.0,9,     -999.0,9,       2340
33AT20120419,        A20,      38,          1,          2,          2,2,20120429,       2326,    20.0573,   -52.3314,       5284,  5140.3,   2.0610,  34.8516,2,  34.8507,2,    248.7,2,   248.9,2,   53.65,2,   22.46,2,    0.00,2,    1.55,2,   0.164,2,   0.071,2,   0.014,2,    0.05,2,  -999.0,9,  -999.0,9,-999.0000,9,  -999.00,-999.000,9,-999.0000,9, -999.00,9,   2.0614,2, -999.00,9,  -999.0,9,  -999.0,-999.000,9,-999.000,-999.000,9, -999.00,9, -999.00,9, -999.00,9,  20.0571, -52.3313,-999.000,-999.0000, -999.00,   1.5889,   2.0614,2,    35.0150,2,  -999.0,9,     -999.0,9,     -999.0,9,     -999.0,9,       2334
33AT20120419,        A20,      38,          1,          1,          1,2,20120429,       2326,    20.0573,   -52.3314,       5284,  5369.0,   2.0812,  34.8499,2,  34.8499,2,    247.7,2,   247.8,2,   54.11,2,   22.51,2,    0.00,2,    1.55,2,   0.175,2,   0.081,2,   0.015,2,    0.06,2,  2200.8,6,  2345.9,2,   7.7155,2,    25.00,-999.000,9,-999.0000,9, -999.00,9,   2.0808,2, -999.00,9,  -999.0,9,  -999.0,-999.000,9,-999.000,-999.000,9, -999.00,9, -999.00,9, -999.00,9,  20.0573, -52.3314,-999.000,-999.0000, -999.00,   1.5791,   2.0808,2,    35.0142,2,  -999.0,9,     -999.0,9,     -999.0,9,     -999.0,9,       2328