BOTTLE,20220712CCHSIOCBG
EXPOCODE,SECT_ID,STNNBR,CASTNO,SAMPNO,BTLNBR,BTLNBR_FLAG_W,DATE,TIME,LATITUDE,LONGITUDE,DEPTH,CTDPRS,CTDTMP,CTDSAL,CTDSAL_FLAG_W,SALNTY,SALNTY_FLAG_W,CTDOXY,CTDOXY_FLAG_W,OXYGEN,OXYGEN_FLAG_W,SILCAT,SILCAT_FLAG_W,NITRAT,NITRAT_FLAG_W,NITRIT,NITRIT_FLAG_W,PHSPHT,PHSPHT_FLAG_W,CFC-11,CFC-11_FLAG_W,CFC-12,CFC-12_FLAG_W,CFC113,CFC113_FLAG_W,SF6,SF6_FLAG_W,TCARBN,TCARBN_FLAG_W,ALKALI,ALKALI_FLAG_W,PH_TOT,PH_TOT_FLAG_W,PH_TMP,TRITUM,TRITUM_FLAG_W,HELIUM,HELIUM_FLAG_W,DELHE3,DELHE3_FLAG_W,REFTMP,REFTMP_FLAG_W,DELC13,DELC13_FLAG_W,DELC14,DELC14_FLAG_W,C14ERR,NEON,NEON_FLAG_W,NEONER,CCL4,CCL4_FLAG_W,DELO18,DELO18_FLAG_W,DOC,DOC_FLAG_W,TDN,TDN_FLAG_W,BTL_LAT,BTL_LON,TRITER,HELIER,DELHER,THETA,SBE35,SBE35_FLAG_W,SALTREF,SALTREF_FLAG_W,14C-DOC,14C-DOC_FLAG_W,DELO17,DELO17_FLAG_W,O2/AR,O2/AR_FLAG_W,SIP,SIP_FLAG_W,BTL_TIME
,,,,,,,,,,,METERS,DBAR,ITS-90,PSS-78,,PSS-78,,UMOL/KG,,UMOL/KG,,UMOL/KG,,UMOL/KG,,UMOL/KG,,UMOL/KG,,PMOL/KG,,PMOL/KG,,PMOL/KG,,FMOL/KG,,UMOL/KG,,UMOL/KG,,,,DEG C,TU,,NMOL/KG,,PERCNT,,DEG C,,/MILLE,,/MILLE,,/MILLE,NMOL/KG,,NMOL/KG,PMOL/KG,,/MILLE,,UMOL/KG,,UMOL/KG,,,,TU,NMOL/KG,PERCNT,DEG C,ITS-90,,G/KG,,/MILLE,,/MILLE,,,,,,
33AT20120419,        A20,      34,          1,         36,         36,2,20120428,       1342,    17.4030,   -52.3337,       5216,     3.9,  26.1144,  36.5421,2,  36.5430,2,    204.8,2,   205.2,2,    0.69,2,    0.00,2,    0.00,2,    0.00,2,   1.743,2,   1.114,2,   0.166,2, -999.00,5,  2032.3,6,  2394.9,2,   8.1106,2,    25.00,-999.000,9,-999.0000,9, -999.00,9,  26.1135,2,    1.24,2,    65.9,2,     2.9,-999.000,9,-999.000,-999.000,9, -999.00,9,   81.02,2,    4.50,2,  17.4081, -52.3354,-999.000,-999.0000, -999.00,  26.1135,  26.1135,2,    36.7153,2,  -999.0,9,     -999.0,9,     -999.0,9,     -999.0,9,       1607
33AT20120419,        A20,      34,          1,         35,         35,2,20120428,       1342,    17.4030,   -52.3337,       5216,    20.6,  26.0874,  36.5419,2,  36.5419,2,    205.4,2,   205.3,2,    0.70,2,    0.00,2,    0.00,2,    0.00,2,-999.000,5,-999.000,5,-999.000,5, -999.00,5,  2033.6,2,  2393.7,2,   8.1098,6,    25.00,-999.000,9,-999.0000,9, -999.00,9,  26.0915,2, -999.00,9,  -999.0,9,  -999.0,-999.000,9,-999.000,-999.000,9, -999.00,9,   80.32,2,    3.61,2,  17.4080, -52.3354,-999.000,-999.0000, -999.00,  26.0828,  26.0915,2,    36.7142,2,  -999.0,9,     -999.0,9,     -999.0,9,     -999.0,9,       1605
33AT20120419,        A20,      34,          1,         34,         34,2,20120428,       1342,    17.4030,   -52.3337,       5216,    40.3,  25.7573,  36.5705,2,  36.5649,2,    209.4,2,   207.0,2,    0.71,2,    0.00,2,    0.00,2,    0.00,2,   1.746,2,   1.098,2,   0.145,2,    1.22,2,  2032.8,2,  2395.9,2,   8.1123,2,    25.00,-999.000,9,-999.0000,9, -999.00,9,  25.7702,2, -999.00,9,  -999.0,9,  -999.0,-999.000,9,-999.000,-999.000,9, -999.00,9,   74.35,2,    4.32,2,  17.4079, -52.3353,-999.000,-999.0000, -999.00,  25.7483,  25.7702,2,    36.7373,2,  -999.0,9,     -999.0,9,     -999.0,9,     -999.0,9,       1602
33AT20120419,        A20,      34,          1,         33,         33,2,20120428,       1342,    17.4030,   -52.3337,       5216,    65.1,  25.1966,  36.6658,2,  36.6446,2,    212.2,2,   210.4,2,    0.60,2,    0.00,2,    0.00,2,    0.00,2,   1.786,2,   1.110,2,   0.167,2,    1.11,2,  2038.3,2,  2400.5,2,   8.1110,6,    25.00,-999.000,9,-999.0000,9, -999.00,9,  25.1983,2,    1.19,2,    55.7,2,     4.1,-999.000,9,-999.000,-999.000,9, -999.00,9,   66.55,2,    4.31,2,  17.4079, -52.3354,-999.000,-999.0000, -999.00,  25.1823,  25.1983,2,    36.8174,2,  -999.0,9,     -999.0,9,     -999.0,9,     -999.0,9,       1600
33AT20120419,        A20,      34,          1,         32,         32,2,20120428,       1342,    17.4030,   -52.3337,       5216,    91.3,  25.1416,  37.2404,2,  37.2436,2,    207.6,2,   205.7,2,    0.13,2,    0.00,2,    0.00,2,    0.00,2,   1.785,2,   1.111,2,   0.163,2,    1.07,2,  -999.0,9,  -999.0,9,-999.0000,9,  -999.00,-999.000,9,-999.0000,9, -999.00,9,  25.1440,2, -999.00,9,  -999.0,9,  -999.0,-999.000,9,-999.000,-999.000,9, -999.00,9,   60.76,2,    4.82,2,  17.4079, -52.3353,-999.000,-999.0000, -999.00,  25.1216,  25.1440,2,    37.4192,2,  -999.0,9,     -999.0,9,     -999.0,9,     -999.0,9,       1558
33AT20120419,        A20,      34,          1,         31,         31,2,20120428,       1342,    17.4030,   -52.3337,       5216,   135.6,  22.8220,  37.2580,2,  37.2561,2,    181.1,2,   181.7,2,    0.11,2,    0.39,2,    0.10,2,    0.01,2,   1.985,2,   1.235,2,   0.140,2,    1.15,2,  2127.4,2,  2433.0,2,   8.0128,2,    25.00,-999.000,9,-999.0000,9, -999.00,9,  22.8206,2,    0.92,2,    62.3,2,     2.6,-999.000,9,-999.000,-999.000,9, -999.00,9,   57.48,2,    4.65,2,  17.4079, -52.3353,-999.000,-999.0000, -999.00,  22.7942,  22.8206,2,    37.4318,2,  -999.0,9,     -999.0,9,     -999.0,9,     -999.0,9,       1555
33AT20120419,        A20,      34,          1,         30,         30,2,20120428,       1342,    17.4030,   -52.3337,       5216,   185.6,  20.1930,  36.8814,2,  36.8886,2,    156.7,2,   156.0,2,    1.01,2,    5.57,2,    0.02,2,    0.29,2,   2.122,2,   1.295,2,   0.062,2,    1.05,2,  2155.0,2,  2409.5,6,   7.9281,2,    25.00,-999.000,9,-999.0000,9, -999.00,9,  20.1804,2,    0.62,2,    72.0,2,     2.8,-999.000,9,-999.000,-999.000,9, -999.00,9,   55.34,2,    9.49,2,  17.4080, -52.3354,-999.000,-999.0000, -999.00,  20.1581,  20.1804,2,    37.0625,2,  -999.0,9,     -999.0,9,     -999.0,9,     -999.0,9,       1552
33AT20120419,        A20,      34,          1,         29,         29,2,20120428,       1342,    17.4030,   -52.3337,       5216,   235.1,  17.4347,  36.4282,2,  36.4264,2,    147.9,2,   146.9,2,    2.38,2,   10.66,2,    0.01,2,    0.60,2,   2.280,2,   1.337,2,   0.023,2,    1.03,2,  2163.0,2,  2384.9,2,   7.8624,2,    25.00,-999.000,9,-999.0000,9, -999.00,9,  17.4350,2,    0.49,2,    64.7,2,     2.6,-999.000,9,-999.000,-999.000,9, -999.00,9,   52.21,2,   14.51,2,  17.4081, -52.3354,-999.000,-999.0000, -999.00,  17.3948,  17.4350,2,    36.5982,2,  -999.0,9,     -999.0,9,     -999.0,9,     -999.0,9,       1550
33AT20120419,        A20,      34,          1,         28,         28,2,20120428,       1342,    17.4030,   -52.3337,       5216,   286.5,  15.7572,  36.1326,2,  36.1327,2,    132.2,2,   133.1,2,    3.85,2,   14.65,2,    0.01,2,    0.86,2,   2.246,2,   1.292,2,   0.019,2,    0.91,2,  2174.8,2,  2364.8,2,   7.8077,2,    25.00,-999.000,9,-999.0000,9, -999.00,9,  15.7443,2,    0.43,2,    57.2,2,     2.9,-999.000,9,-999.000,-999.000,9, -999.00,9,   51.84,2,   18.27,2,  17.4081, -52.3354,-999.000,-999.0000, -999.00,  15.7118,  15.7443,2,    36.3030,2,  -999.0,9,     -999.0,9,     -999.0,9,     -999.0,9,       1548
33AT20120419,        A20,      34,          1,         27,         27,2,20120428,       1342,    17.4030,   -52.3337,       5216,   336.5,  14.3678,  35.8956,2,  35.8875,2,    120.4,2,   122.6,2,    5.53,2,   18.04,2,    0.00,2,    1.07,2,   2.147,2,   1.227,2,   0.020,2,    0.69,2,  2183.8,2,  2348.9,2,   7.7602,2,    25.00,-999.000,9,-999.0000,9, -999.00,9,  14.3685,2,    0.45,2,    58.6,2,     2.8,-999.000,9,-999.000,-999.000,9, -999.00,9,   48.56,2,   20.74,2,  17.4082, -52.3354,-999.000,-999.0000, -999.00,  14.3177,  14.3685,2,    36.0567,2,  -999.0,9,     -999.0,9,     -999.0,9,     -999.0,9,       1545
33AT20120419,        A20,      34,          1,         26,         26,2,20120428,       1342,    17.4030,   -52.3337,       5216,   385.7,  13.3593,  35.7580,2,  35.7562,2,    127.1,2,   128.5,2,    6.47,2,   18.99,2,    0.00,2,    1.13,2,   2.017,2,   1.091,2,   0.018,2,    0.59,2,  2182.2,2,  2341.6,2,   7.7487,2,    25.00,-999.000,9,-999.0000,9, -999.00,9,  13.3612,2,    0.53,2,    41.7,2,     3.3,-999.000,9,-999.000,-999.000,9, -999.00,9,   47.64,2,   21.72,2,  17.4082, -52.3354,-999.000,-999.0000, -999.00,  13.3045,  13.3612,2,    35.9248,2,  -999.0,9,     -999.0,9,     -999.0,9,     -999.0,9,       1543
33AT20120419,        A20,      34,          1,         25,         25,2,20120428,       1342,    17.4030,   -52.3337,       5216,   467.4,  12.0934,  35.5767,2,  35.5615,2,    121.6,2,   124.5,2,    8.68,2,   21.82,2,    0.00,2,    1.32,2,   1.680,2,   0.885,2,   0.022,2,    0.38,2,  2189.3,2,  2332.3,2,   7.7121,2,    25.00,-999.000,9,-999.0000,9, -999.00,9,  12.0983,2,    0.54,2,    21.7,2,     2.5,-999.000,9,-999.000,-999.000,9, -999.00,9,   45.68,2,   23.97,2,  17.4082, -52.3354,-999.000,-999.0000, -999.00,  12.0311,  12.0983,2,    35.7292,2,  -999.0,9,     -999.0,9,     -999.0,9,     -999.0,9,       1540
33AT20120419,        A20,      34,          1,         24,         24,2,20120428,       1342,    17.4030,   -52.3337,       5216,   568.4,   9.3981,  35.1474,2,  35.1472,2,    109.9,2,   109.2,2,   14.91,2,   28.67,2,    0.00,2,    1.80,2,   0.940,2,   0.471,2,   0.018,2,    0.21,2,  2210.3,2,  2315.9,2,   7.6167,6,    25.00,-999.000,9,-999.0000,9, -999.00,9,   9.3947,2,    0.57,2,   -21.9,2,     2.8,-999.000,9,-999.000,-999.000,9, -999.00,9,   44.23,2,   31.23,2,  17.4082, -52.3354,-999.000,-999.0000, -999.00,   9.3332,   9.3947,2,    35.3129,2,  -999.0,9,     -999.0,9,     -999.0,9,     -999.0,9,       1537
33AT20120419,        A20,      34,          1,         23,         23,2,20120428,       1342,    17.4030,   -52.3337,       5216,   670.2,   7.9523,  34.9625,2,  34.9620,2,    109.0,2,   108.2,2,   18.83,2,   31.59,2,    0.00,2,    2.01,2,   0.507,2,   0.236,2,   0.010,2,    0.15,2,  2218.6,2,  2310.2,2,   7.5785,2,    25.00,-999.000,9,-999.0000,9, -999.00,9,   7.9529,2,    0.60,2,   -60.0,2,     2.6,-999.000,9,-999.000,-999.000,9, -999.00,9,   43.07,2,   34.26,2,  17.4080, -52.3354,-999.000,-999.0000, -999.00,   7.8827,   7.9529,2,    35.1268,2,  -999.0,9,     -999.0,9,     -999.0,9,     -999.0,9,       1534
33AT20120419,        A20,      34,          1,         22,         22,2,20120428,       1342,    17.4030,   -52.3337,       5216,   769.8,   7.0112,  34.8713,2,  34.8699,2,    115.7,2,   115.9,2,   21.49,2,   32.46,2,    0.00,2,    2.11,2,   0.277,2,   0.127,2,   0.012,2,    0.06,2,  2218.9,6,  2307.8,2,   7.5694,2,    25.00,-999.000,9,-999.0000,9, -999.00,9,   7.0110,2,    0.63,2,   -73.4,2,     2.4,-999.000,9,-999.000,-999.000,9, -999.00,9,   42.87,2,   35.01,2,  17.4075, -52.3353,-999.000,-999.0000, -999.00,   6.9362,   7.0110,2,    35.0343,2,  -999.0,9,     -999.0,9,     -999.0,9,     -999.0,9,       1531
33AT20120419,        A20,      34,          1,         21,         21,2,20120428,       1342,    17.4030,   -52.3337,       5216,   870.6,   6.0511,  34.7835,2,  34.7848,2,    130.3,2,   129.8,2,   24.29,2,   32.54,2,    0.00,2,    2.16,2,   0.165,2,   0.083,2,   0.008,2,    0.08,2,  2218.4,2,  2309.8,2,   7.5697,2,    25.00,-999.000,9,-999.0000,9, -999.00,9,   6.0517,2,    0.66,2,   -88.2,2,     2.7,-999.000,9,-999.000,-999.000,9, -999.00,9,   42.21,2,   35.35,2,  17.4069, -52.3350,-999.000,-999.0000, -999.00,   5.9720,   6.0517,2,    34.9488,2,  -999.0,9,     -999.0,9,     -999.0,9,     -999.0,9,       1528
33AT20120419,        A20,      34,          1,         20,         20,2,20120428,       1342,    17.4030,   -52.3337,       5216,   972.7,   5.7572,  34.8133,2,  34.8135,2,    140.2,2,   139.9,2,   24.39,2,   31.45,2,    0.00,2,    2.10,2,   0.111,2,   0.049,2,   0.011,2,    0.05,2,  2214.5,2,  2312.5,2,   7.5866,2,    25.00,-999.000,9,-999.0000,9, -999.00,9,   5.7568,2,    0.71,2,   -98.6,2,     2.4,-999.000,9,-999.000,-999.000,9, -999.00,9,   41.69,2,   33.69,2,  17.4064, -52.3348,-999.000,-999.0000, -999.00,   5.6703,   5.7568,2,    34.9777,2,  -999.0,9,     -999.0,9,     -999.0,9,     -999.0,9,       1525
33AT20120419,        A20,      34,          1,         19,         19,2,20120428,       1342,    17.4030,   -52.3337,       5216,  1073.2,   5.4711,  34.8655,2,  34.8637,2,    155.4,2,   155.2,2,   23.46,2,   29.39,2,    0.00,2,    1.95,2,   0.124,2,   0.056,2,   0.014,2,    0.04,2,  -999.0,9,  -999.0,9,-999.0000,9,  -999.00,-999.000,9,-999.0000,9, -999.00,9,   5.4719,2, -999.00,9,  -999.0,9,  -999.0,-999.000,9,-999.000,-999.000,9, -999.00,9,   41.24,2,   31.67,2,  17.4062, -52.3347,-999.000,-999.0000, -999.00,   5.3767,   5.4719,2,    35.0281,2,  -999.0,9,     -999.0,9,     -999.0,9,     -999.0,9,       1522
33AT20120419,        A20,      34,          1,         18,         18,2,20120428,       1342,    17.4030,   -52.3337,       5216,  1174.4,   5.3510,  34.9237,2,  34.9225,2,    174.0,2,   172.6,2,   21.69,2,   27.00,2,    0.00,2,    1.81,2,   0.226,2,   0.102,2,   0.012,2,    0.08,2,  2199.1,2,  2317.0,2,   7.6440,2,    25.00,-999.000,9,-999.0000,9, -999.00,9,   5.3509,2,    0.79,2,   -81.7,2,     2.8,-999.000,9,-999.000,-999.000,9, -999.00,9,   40.67,2,   29.47,2,  17.4060, -52.3347,-999.000,-999.0000, -999.00,   5.2478,   5.3509,2,    35.0872,2,  -999.0,9,     -999.0,9,     -999.0,9,     -999.0,9,       1519
33AT20120419,        A20,      34,          1,         17,         17,2,20120428,       1342,    17.4030,   -52.3337,       5216,  1275.3,   5.0950,  34.9718,2,  34.9699,2,    191.8,2,   192.8,2,   19.70,2,   24.46,2,    0.00,2,    1.64,2,   0.316,2,   0.137,2,   0.014,2,    0.10,2,  -999.0,9,  -999.0,9,-999.0000,9,  -999.00,-999.000,9,-999.0000,9, -999.00,9,   5.0952,2, -999.00,9,  -999.0,9,  -999.0,-999.000,9,-999.000,-999.000,9, -999.00,9,   41.15,2,   27.64,2,  17.4060, -52.3347,-999.000,-999.0000, -999.00,   4.9844,   5.0952,2,    35.1348,2,  -999.0,9,     -999.0,9,     -999.0,9,     -999.0,9,       1516
33AT20120419,        A20,      34,          1,         16,         16,2,20120428,       1342,    17.4030,   -52.3337,       5216,  1376.1,   4.9651,  35.0028,2,  35.0036,2,    212.2,2,   212.2,2,   17.30,2,   22.11,2,    0.00,2,    1.46,2,   0.634,2,   0.291,2,   0.029,2,    0.14,2,  2179.2,2,  2319.0,2,   7.6972,2,    25.00,-999.000,9,-999.0000,9, -999.00,9,   4.9649,2,    0.91,2,   -65.4,2,     2.5,-999.000,9,-999.000,-999.000,9, -999.00,9,   40.88,2,   25.22,2,  17.4058, -52.3346,-999.000,-999.0000, -999.00,   4.8460,   4.9649,2,    35.1686,2,  -999.0,9,     -999.0,9,     -999.0,9,     -999.0,9,       1512
33AT20120419,        A20,      34,          1,         15,         15,2,20120428,       1342,    17.4030,   -52.3337,       5216,  1548.6,   4.5571,  35.0043,2,  35.0034,2,    225.6,2,   226.1,2,   16.77,2,   21.05,2,    0.00,2,    1.40,2,   0.482,2,   0.206,2,   0.020,2,    0.14,2,  -999.0,9,  -999.0,9,-999.0000,9,  -999.00,-999.000,9,-999.0000,9, -999.00,9,   4.5564,2, -999.00,9,  -999.0,9,  -999.0,-999.000,9,-999.000,-999.000,9, -999.00,9,   40.44,2,   23.80,2,  17.4055, -52.3345,-999.000,-999.0000, -999.00,   4.4259,   4.5564,2,    35.1684,2,  -999.0,9,     -999.0,9,     -999.0,9,     -999.0,9,       1507
33AT20120419,        A20,      34,          1,         14,         14,2,20120428,       1342,    17.4030,   -52.3337,       5216,  1752.8,   4.1164,  34.9977,2,  34.9985,2,    241.5,2,   243.1,2,   16.30,2,   19.64,2,    0.00,2,    1.31,2,   0.536,2,   0.230,2,   0.018,2,    0.12,2,  2164.2,2,  2318.0,2,   7.7308,6,    25.00,-999.000,9,-999.0000,9, -999.00,9,   4.1185,2, -999.00,9,  -999.0,9,  -999.0,-999.000,9,-999.000,-999.000,9, -999.00,9,   40.43,2,   22.16,2,  17.4051, -52.3343,-999.000,-999.0000, -999.00,   3.9711,   4.1185,2,    35.1635,2,  -999.0,9,     -999.0,9,     -999.0,9,     -999.0,9,       1502
33AT20120419,        A20,      34,          1,         13,         13,2,20120428,       1342,    17.4030,   -52.3337,       5216,  1954.0,   3.7575,  34.9893,2,  34.9879,2,    248.3,2,   249.1,2,   18.50,2,   19.39,2,    0.00,2,    1.29,2,   0.340,2,   0.143,2,   0.016,2,    0.09,2,  2164.3,2,  2320.2,2,   7.7374,2,    25.00,-999.000,9,-999.0000,9, -999.00,9,   3.7582,2, -999.00,9,  -999.0,9,  -999.0,-999.000,9,-999.000,-999.000,9, -999.00,9,   40.71,2,   22.33,2,  17.4049, -52.3343,-999.000,-999.0000, -999.00,   3.5979,   3.7582,2,    35.1528,2,  -999.0,9,     -999.0,9,     -999.0,9,     -999.0,9,       1457
33AT20120419,        A20,      34,          1,         12,         12,2,20120428,       1342,    17.4030,   -52.3337,       5216,  2186.6,   3.3935,  34.9725,2,  34.9725,2,    250.0,2,   250.1,2,   22.45,2,   19.59,2,    0.00,2,    1.32,2,   0.167,2,   0.075,2,   0.009,2,    0.06,2,  -999.0,9,  -999.0,9,-999.0000,9,  -999.00,-999.000,9,-999.0000,9, -999.00,9,   3.3935,2, -999.00,9,  -999.0,9,  -999.0,-999.000,9,-999.000,-999.000,9, -999.00,9,   41.04,2,   22.27,2,  17.4047, -52.3342,-999.000,-999.0000, -999.00,   3.2172,   3.3935,2,    35.1374,2,  -999.0,9,     -999.0,9,     -999.0,9,     -999.0,9,       1452
33AT20120419,        A20,      34,          1,         11,         11,2,20120428,       1342,    17.4030,   -52.3337,       5216,  2440.7,   3.0921,  34.9542,2,  34.9536,2,    252.3,2,   252.2,2,   25.60,2,   19.64,2,    0.00,2,    1.32,2,   0.160,2,   0.070,2,   0.006,2,    0.05,2,  -999.0,9,  -999.0,9,-999.0000,9,  -999.00,-999.000,9,-999.0000,9, -999.00,9,   3.0925,2, -999.00,9,  -999.0,9,  -999.0,-999.000,9,-999.000,-999.000,9, -999.00,9,   40.52,2,   22.47,2,  17.4049, -52.3342,-999.000,-999.0000, -999.00,   2.8962,   3.0925,2,    35.1185,2,  -999.0,9,     -999.0,9,     -999.0,9,     -999.0,9,       1446
33AT20120419,        A20,      34,          1,         10,         10,2,20120428,       1342,    17.4030,   -52.3337,       5216,  2696.1,   2.9012,  34.9408,2,  34.9407,2,    253.3,2,   253.0,2,   28.19,2,   19.79,2,    0.00,2,    1.33,2,   0.172,2,-999.000,5,   0.007,2,    0.07,2,  2170.6,2,  2329.1,2,   7.7396,2,    25.00,-999.000,9,-999.0000,9, -999.00,9,   2.9014,2, -999.00,9,  -999.0,9,  -999.0,-999.000,9,-999.000,-999.000,9, -999.00,9,   40.64,2,   22.67,2,  17.4051, -52.3343,-999.000,-999.0000, -999.00,   2.6836,   2.9014,2,    35.1054,2,  -999.0,9,     -999.0,9,     -999.0,9,     -999.0,9,       1440
33AT20120419,        A20,      34,          1,          9,          9,2,20120428,       1342,    17.4030,   -52.3337,       5216,  2947.7,   2.7650,  34.9307,2,  34.9297,2,    253.3,2,   252.9,2,   30.79,2,   20.03,2,    0.00,2,    1.36,2,   0.160,2,   0.072,2,   0.008,2,    0.07,2,  -999.0,9,  -999.0,9,-999.0000,9,  -999.00,-999.000,9,-999.0000,9, -999.00,9,   2.7667,2, -999.00,9,  -999.0,9,  -999.0,-999.000,9,-999.000,-999.000,9, -999.00,9,   41.39,2,   22.34,2,  17.4052, -52.3343,-999.000,-999.0000, -999.00,   2.5247,   2.7667,2,    35.0944,2,  -999.0,9,     -999.0,9,     -999.0,9,     -999.0,9,       1434
33AT20120419,        A20,      34,          1,          8,          8,2,20120428,       1342,    17.4030,   -52.3337,       5216,  3241.4,   2.6130,  34.9175,2,  34.9169,2,    253.1,2,   253.2,2,   33.81,2,   20.29,2,    0.00,2,    1.39,2,   0.172,2,   0.077,2,   0.005,2,    0.07,2,  2177.3,2,  2334.1,2,   7.7362,2,    25.00,-999.000,9,-999.0000,9, -999.00,9,   2.6129,2, -999.00,9,  -999.0,9,  -999.0,-999.000,9,-999.000,-999.000,9, -999.00,9,   40.75,2,   22.56,2,  17.4051, -52.3343,-999.000,-999.0000, -999.00,   2.3455,   2.6129,2,    35.0815,2,  -999.0,9,     -999.0,9,     -999.0,9,     -999.0,9,       1428
33AT20120419,        A20,      34,          1,          7,          7,2,20120428,       1342,    17.4030,   -52.3337,       5216,  3544.1,   2.4587,  34.9035,2,  34.9029,2,    252.6,2,   252.9,2,   37.70,2,   20.63,2,    0.00,2,    1.42,2,   0.172,2,   0.076,2,   0.007,2,    0.05,2,  -999.0,9,  -999.0,9,-999.0000,9,  -999.00,-999.000,9,-999.0000,9, -999.00,9,   2.4579,2, -999.00,9,  -999.0,9,  -999.0,-999.000,9,-999.000,-999.000,9, -999.00,9,    41.2,2,   22.87,2,  17.4046, -52.3342,-999.000,-999.0000, -999.00,   2.1625,   2.4579,2,    35.0675,2,  -999.0,9,     -999.0,9,     -999.0,9,     -999.0,9,       1421