BOTTLE,20220712CCHSIOCBG
EXPOCODE,SECT_ID,STNNBR,CASTNO,SAMPNO,BTLNBR,BTLNBR_FLAG_W,DATE,TIME,LATITUDE,LONGITUDE,DEPTH,CTDPRS,CTDTMP,CTDSAL,CTDSAL_FLAG_W,SALNTY,SALNTY_FLAG_W,CTDOXY,CTDOXY_FLAG_W,OXYGEN,OXYGEN_FLAG_W,SILCAT,SILCAT_FLAG_W,NITRAT,NITRAT_FLAG_W,NITRIT,NITRIT_FLAG_W,PHSPHT,PHSPHT_FLAG_W,CFC-11,CFC-11_FLAG_W,CFC-12,CFC-12_FLAG_W,CFC113,CFC113_FLAG_W,SF6,SF6_FLAG_W,TCARBN,TCARBN_FLAG_W,ALKALI,ALKALI_FLAG_W,PH_TOT,PH_TOT_FLAG_W,PH_TMP,TRITUM,TRITUM_FLAG_W,HELIUM,HELIUM_FLAG_W,DELHE3,DELHE3_FLAG_W,REFTMP,REFTMP_FLAG_W,DELC13,DELC13_FLAG_W,DELC14,DELC14_FLAG_W,C14ERR,NEON,NEON_FLAG_W,NEONER,CCL4,CCL4_FLAG_W,DELO18,DELO18_FLAG_W,DOC,DOC_FLAG_W,TDN,TDN_FLAG_W,BTL_LAT,BTL_LON,TRITER,HELIER,DELHER,THETA,SBE35,SBE35_FLAG_W,SALTREF,SALTREF_FLAG_W,14C-DOC,14C-DOC_FLAG_W,DELO17,DELO17_FLAG_W,O2/AR,O2/AR_FLAG_W,SIP,SIP_FLAG_W,BTL_TIME
,,,,,,,,,,,METERS,DBAR,ITS-90,PSS-78,,PSS-78,,UMOL/KG,,UMOL/KG,,UMOL/KG,,UMOL/KG,,UMOL/KG,,UMOL/KG,,PMOL/KG,,PMOL/KG,,PMOL/KG,,FMOL/KG,,UMOL/KG,,UMOL/KG,,,,DEG C,TU,,NMOL/KG,,PERCNT,,DEG C,,/MILLE,,/MILLE,,/MILLE,NMOL/KG,,NMOL/KG,PMOL/KG,,/MILLE,,UMOL/KG,,UMOL/KG,,,,TU,NMOL/KG,PERCNT,DEG C,ITS-90,,G/KG,,/MILLE,,/MILLE,,,,,,
33AT20120419,        A20,      30,          1,          6,          6,2,20120427,       0703,    14.7403,   -52.3327,       5140,  4057.5,   2.3120,  34.8936,2,  34.8959,3,    260.5,2,   260.5,2,   33.53,2,   19.49,2,    0.00,2,    1.33,2,   0.434,2,   0.189,2,   0.017,2,    0.07,2,  2175.8,2,  2330.6,2,   7.7371,2,    25.00,-999.000,9,-999.0000,9, -999.00,9,   2.3119,2, -999.00,9,  -999.0,9,  -999.0,-999.000,9,-999.000,-999.000,9, -999.00,9, -999.00,9, -999.00,9,  14.7406, -52.3329,-999.000,-999.0000, -999.00,   1.9624,   2.3119,2,    35.0605,3,  -999.0,9,     -999.0,9,     -999.0,9,     -999.0,9,       0730
33AT20120419,        A20,      30,          1,          5,          5,2,20120427,       0703,    14.7403,   -52.3327,       5140,  4365.4,   2.2370,  34.8841,2,  34.8839,2,    259.7,2,   259.4,2,   37.16,2,   19.94,2,    0.00,2,    1.36,2,   0.402,2,   0.183,2,   0.015,2,    0.08,2,  -999.0,9,  -999.0,9,-999.0000,9,  -999.00,-999.000,9,-999.0000,9, -999.00,9,   2.2369,2, -999.00,9,  -999.0,9,  -999.0,-999.000,9,-999.000,-999.000,9, -999.00,9, -999.00,9, -999.00,9,  14.7404, -52.3328,-999.000,-999.0000, -999.00,   1.8538,   2.2369,2,    35.0484,2,  -999.0,9,     -999.0,9,     -999.0,9,     -999.0,9,       0724
33AT20120419,        A20,      30,          1,          4,          4,2,20120427,       0703,    14.7403,   -52.3327,       5140,  4674.2,   2.1020,  34.8640,2,  34.8644,2,    253.0,2,   252.8,2,   46.95,2,   21.49,2,    0.00,2,    1.45,2,   0.300,2,   0.130,2,   0.016,2,    0.07,2,  2191.1,2,  2341.7,2,   7.7208,6,    25.00,-999.000,9,-999.0000,9, -999.00,9,   2.1014,2, -999.00,9,  -999.0,9,  -999.0,-999.000,9,-999.000,-999.000,9, -999.00,9, -999.00,9, -999.00,9,  14.7400, -52.3327,-999.000,-999.0000, -999.00,   1.6862,   2.1014,2,    35.0289,2,  -999.0,9,     -999.0,9,     -999.0,9,     -999.0,9,       0717
33AT20120419,        A20,      30,          1,          3,          3,2,20120427,       0703,    14.7403,   -52.3327,       5140,  4982.4,   1.8917,  34.8351,2,  34.8347,2,    245.4,2,   245.6,2,   60.54,2,   23.54,2,    0.00,2,    1.60,2,   0.226,2,   0.096,2,   0.009,2,    0.07,2,  -999.0,9,  -999.0,9,-999.0000,9,  -999.00,-999.000,9,-999.0000,9, -999.00,9,   1.8918,2, -999.00,9,  -999.0,9,  -999.0,-999.000,9,-999.000,-999.000,9, -999.00,9, -999.00,9, -999.00,9,  14.7401, -52.3327,-999.000,-999.0000, -999.00,   1.4452,   1.8918,2,    34.9990,2,  -999.0,9,     -999.0,9,     -999.0,9,     -999.0,9,       0710
33AT20120419,        A20,      30,          1,          2,          2,2,20120427,       0703,    14.7403,   -52.3327,       5140,  5099.4,   1.8848,  34.8325,2,  34.8322,2,    244.7,2,   245.0,2,   61.50,2,   23.74,2,    0.00,2,    1.62,2,   0.233,2,   0.097,2,   0.005,2,    0.06,2,  -999.0,9,  -999.0,9,-999.0000,9,  -999.00,-999.000,9,-999.0000,9, -999.00,9,   1.8847,2, -999.00,9,  -999.0,9,  -999.0,-999.000,9,-999.000,-999.000,9, -999.00,9, -999.00,9, -999.00,9,  14.7403, -52.3327,-999.000,-999.0000, -999.00,   1.4240,   1.8847,2,    34.9964,2,  -999.0,9,     -999.0,9,     -999.0,9,     -999.0,9,       0707
33AT20120419,        A20,      30,          1,          1,          1,2,20120427,       0703,    14.7403,   -52.3327,       5140,  5216.3,   1.8773,  34.8298,2,  34.8292,2,    244.4,2,   244.1,2,   62.74,2,   23.92,2,    0.00,2,    1.63,2,   0.232,2,   0.108,2,   0.006,2,    0.07,2,  2207.5,6,  2349.9,2,   7.7047,2,    25.00,-999.000,9,-999.0000,9, -999.00,9,   1.8767,2, -999.00,9,  -999.0,9,  -999.0,-999.000,9,-999.000,-999.000,9, -999.00,9, -999.00,9, -999.00,9,  14.7403, -52.3327,-999.000,-999.0000, -999.00,   1.4021,   1.8767,2,    34.9935,2,  -999.0,9,     -999.0,9,     -999.0,9,     -999.0,9,       0704