BOTTLE,20220712CCHSIOCBG
EXPOCODE,SECT_ID,STNNBR,CASTNO,SAMPNO,BTLNBR,BTLNBR_FLAG_W,DATE,TIME,LATITUDE,LONGITUDE,DEPTH,CTDPRS,CTDTMP,CTDSAL,CTDSAL_FLAG_W,SALNTY,SALNTY_FLAG_W,CTDOXY,CTDOXY_FLAG_W,OXYGEN,OXYGEN_FLAG_W,SILCAT,SILCAT_FLAG_W,NITRAT,NITRAT_FLAG_W,NITRIT,NITRIT_FLAG_W,PHSPHT,PHSPHT_FLAG_W,CFC-11,CFC-11_FLAG_W,CFC-12,CFC-12_FLAG_W,CFC113,CFC113_FLAG_W,SF6,SF6_FLAG_W,TCARBN,TCARBN_FLAG_W,ALKALI,ALKALI_FLAG_W,PH_TOT,PH_TOT_FLAG_W,PH_TMP,TRITUM,TRITUM_FLAG_W,HELIUM,HELIUM_FLAG_W,DELHE3,DELHE3_FLAG_W,REFTMP,REFTMP_FLAG_W,DELC13,DELC13_FLAG_W,DELC14,DELC14_FLAG_W,C14ERR,NEON,NEON_FLAG_W,NEONER,CCL4,CCL4_FLAG_W,DELO18,DELO18_FLAG_W,DOC,DOC_FLAG_W,TDN,TDN_FLAG_W,BTL_LAT,BTL_LON,TRITER,HELIER,DELHER,THETA,SBE35,SBE35_FLAG_W,SALTREF,SALTREF_FLAG_W,14C-DOC,14C-DOC_FLAG_W,DELO17,DELO17_FLAG_W,O2/AR,O2/AR_FLAG_W,SIP,SIP_FLAG_W,BTL_TIME
,,,,,,,,,,,METERS,DBAR,ITS-90,PSS-78,,PSS-78,,UMOL/KG,,UMOL/KG,,UMOL/KG,,UMOL/KG,,UMOL/KG,,UMOL/KG,,PMOL/KG,,PMOL/KG,,PMOL/KG,,FMOL/KG,,UMOL/KG,,UMOL/KG,,,,DEG C,TU,,NMOL/KG,,PERCNT,,DEG C,,/MILLE,,/MILLE,,/MILLE,NMOL/KG,,NMOL/KG,PMOL/KG,,/MILLE,,UMOL/KG,,UMOL/KG,,,,TU,NMOL/KG,PERCNT,DEG C,ITS-90,,G/KG,,/MILLE,,/MILLE,,,,,,
33AT20120419,        A20,      63,          1,         36,         36,2,20120508,       0553,    38.3447,   -52.2963,       5392,     4.7,  15.4140,  34.9930,2,  34.9928,2,    258.6,2,   260.0,2,    0.00,2,    0.01,2,    0.00,2,    0.04,2,   2.688,2,   1.594,2,   0.193,3,    1.28,3,  2043.9,6,  2322.0,2,   7.9987,2,    25.00,-999.000,9,-999.0000,9, -999.00,9,  15.4156,2, -999.00,9,  -999.0,9,  -999.0,-999.000,9,-999.000,   1.730,3, -999.00,9,   68.55,2,    4.48,2,  38.3581, -52.2363,-999.000,-999.0000, -999.00,  15.4133,  15.4156,2,    35.1578,2,  -999.0,9,     -999.0,9,     -999.0,9,     -999.0,9,       0815
33AT20120419,        A20,      63,          1,         35,         35,2,20120508,       0553,    38.3447,   -52.2963,       5392,    35.7,  15.7966,  35.2944,2,  35.2938,2,    264.5,2,   261.1,2,    0.00,2,    0.00,2,    0.00,2,    0.01,2,   2.566,2,   1.550,2,   0.180,3,    1.50,3,  2045.1,2,  2336.4,2,   8.0153,6,    25.00,-999.000,9,-999.0000,9, -999.00,9,  15.7973,2, -999.00,9,  -999.0,9,  -999.0,-999.000,9,-999.000,   1.620,3, -999.00,9,   68.16,2,    4.63,2,  38.3581, -52.2379,-999.000,-999.0000, -999.00,  15.7910,  15.7973,2,    35.4602,2,  -999.0,9,     -999.0,9,     -999.0,9,     -999.0,9,       0812
33AT20120419,        A20,      63,          1,         34,         34,2,20120508,       0553,    38.3447,   -52.2963,       5392,    60.7,  15.8251,  35.4558,2,  35.4544,2,    259.9,2,   262.1,2,    0.00,2,    0.00,2,    0.00,2,    0.01,2,   2.553,2,   1.550,2,   0.221,3,    1.28,3,  2047.6,2,  2343.6,2,   8.0198,6,    25.00,-999.000,9,-999.0000,9, -999.00,9,  15.8242,2, -999.00,9,  -999.0,9,  -999.0,-999.000,9,-999.000,   1.670,3, -999.00,9,   66.42,2,    4.58,2,  38.3581, -52.2392,-999.000,-999.0000, -999.00,  15.8156,  15.8242,2,    35.6216,2,  -999.0,9,     -999.0,9,     -999.0,9,     -999.0,1,       0810
33AT20120419,        A20,      63,          1,         33,         33,2,20120508,       0553,    38.3447,   -52.2963,       5392,    86.4,  15.1410,  35.3476,2,  35.3813,2,    246.3,2,   248.1,2,    0.26,2,    0.95,2,    0.09,2,    0.10,2,   2.595,2,   1.556,2,   0.221,3,    1.16,3,  2069.1,2,  2338.3,2,   7.9774,2,    25.00,-999.000,9,-999.0000,9, -999.00,9,  15.1118,2, -999.00,9,  -999.0,9,  -999.0,-999.000,9,-999.000,   1.410,3, -999.00,9,   65.62,2,    5.21,2,  38.3580, -52.2404,-999.000,-999.0000, -999.00,  15.1278,  15.1118,2,    35.5481,2,  -999.0,9,     -999.0,9,     -999.0,9,     -999.0,1,       0808
33AT20120419,        A20,      63,          1,         32,         32,2,20120508,       0553,    38.3447,   -52.2963,       5392,   116.7,  13.7822,  35.2635,2,  35.2601,2,    211.2,2,   223.1,2,    2.22,2,    5.89,2,    0.09,2,    0.41,2,   2.651,2,   1.641,2,   0.177,3,    1.51,3,  -999.0,9,  -999.0,9,-999.0000,9,  -999.00,-999.000,9,-999.0000,9, -999.00,9,  13.7829,2, -999.00,9,  -999.0,9,  -999.0,-999.000,9,-999.000,   1.060,3, -999.00,9,   62.99,2,   10.63,2,  38.3578, -52.2426,-999.000,-999.0000, -999.00,  13.7655,  13.7829,2,    35.4263,2,  -999.0,9,     -999.0,9,     -999.0,9,     -999.0,9,       0803
33AT20120419,        A20,      63,          1,         31,         31,2,20120508,       0553,    38.3447,   -52.2963,       5392,   168.3,  15.0888,  35.7891,2,  35.7801,2,    213.6,2,   202.3,2,    2.78,2,    7.88,2,    0.03,2,    0.48,2,   2.491,2,   1.473,2,   0.121,3,    1.03,3,  2121.5,2,  2353.4,6,   7.8982,2,    25.00,-999.000,9,-999.0000,9, -999.00,9,  15.1050,2, -999.00,9,  -999.0,9,  -999.0,-999.000,9,-999.000,   0.970,3, -999.00,9,   58.67,2,   11.81,2,  38.3577, -52.2437,-999.000,-999.0000, -999.00,  15.0631,  15.1050,2,    35.9488,2,  -999.0,9,     -999.0,9,     -999.0,9,     -999.0,9,       0801
33AT20120419,        A20,      63,          1,         30,         30,2,20120508,       0553,    38.3447,   -52.2963,       5392,   220.5,  14.7084,  35.7239,2,  35.7461,2,    225.2,2,   215.5,2,    2.69,2,    7.30,2,    0.02,2,    0.46,2,   2.451,2,   1.451,2,   0.154,3,    1.47,3,  2117.0,2,  2351.2,2,   7.9087,2,    25.00,-999.000,9,-999.0000,9, -999.00,9,  14.7125,2, -999.00,9,  -999.0,9,  -999.0,-999.000,9,-999.000,   1.090,3, -999.00,9,    56.1,2,   11.11,2,  38.3575, -52.2447,-999.000,-999.0000, -999.00,  14.6752,  14.7125,2,    35.9147,2,  -999.0,9,     -999.0,9,     -999.0,9,     -999.0,9,       0759
33AT20120419,        A20,      63,          1,         29,         29,2,20120508,       0553,    38.3447,   -52.2963,       5392,   267.8,  14.7265,  35.7915,2,  35.7874,2,    214.7,2,   214.9,2,    2.86,2,    7.53,2,    0.02,2,    0.48,2,   2.252,2,   1.366,2,   0.117,3,    1.25,3,  2118.9,2,  2356.1,2,   7.9070,6,    25.00,-999.000,9,-999.0000,9, -999.00,9,  14.7349,2, -999.00,9,  -999.0,9,  -999.0,-999.000,9,-999.000,   0.920,3, -999.00,9,   53.68,2,   11.39,2,  38.3574, -52.2457,-999.000,-999.0000, -999.00,  14.6861,  14.7349,2,    35.9561,2,  -999.0,9,     -999.0,9,     -999.0,9,     -999.0,9,       0758
33AT20120419,        A20,      63,          1,         28,         28,2,20120508,       0553,    38.3447,   -52.2963,       5392,   318.1,  15.0062,  35.9213,2,  35.9113,2,    188.9,2,   192.4,2,    3.62,2,    9.70,2,    0.02,2,    0.59,2,   2.346,2,   1.339,2,   0.083,3,    0.91,3,  2133.8,2,  2358.8,2,   7.8830,6,    25.00,-999.000,9,-999.0000,9, -999.00,9,  14.9957,2, -999.00,9,  -999.0,9,  -999.0,-999.000,9,-999.000,   0.750,3, -999.00,9,   53.23,2,   13.74,2,  38.3572, -52.2469,-999.000,-999.0000, -999.00,  14.9575,  14.9957,2,    36.0806,2,  -999.0,9,     -999.0,9,     -999.0,9,     -999.0,9,       0755
33AT20120419,        A20,      63,          1,         27,         27,2,20120508,       0553,    38.3447,   -52.2963,       5392,   370.9,  13.8546,  35.7822,2,  35.7831,2,    158.1,2,   155.4,2,    6.54,2,   15.51,2,    0.00,2,    0.94,2,   2.042,2,   1.135,2,   0.031,3,    0.58,3,  2162.1,2,  2350.0,2,   7.8055,2,    25.00,-999.000,9,-999.0000,9, -999.00,9,  13.8522,2, -999.00,9,  -999.0,9,  -999.0,-999.000,9,-999.000,   0.320,3, -999.00,9,   51.77,2,   18.85,2,  38.3571, -52.2480,-999.000,-999.0000, -999.00,  13.8007,  13.8522,2,    35.9518,2,  -999.0,9,     -999.0,9,     -999.0,9,     -999.0,9,       0753
33AT20120419,        A20,      63,          1,         26,         26,2,20120508,       0553,    38.3447,   -52.2963,       5392,   438.9,  12.3778,  35.5808,2,  35.5809,2,    142.8,2,   144.3,2,    9.03,2,   19.23,2,    0.00,2,    1.19,2,   1.741,2,   0.937,2,   0.028,3,    0.34,3,  -999.0,9,  -999.0,9,-999.0000,9,  -999.00,-999.000,9,-999.0000,9, -999.00,9,  12.3766,2, -999.00,9,  -999.0,9,  -999.0,-999.000,9,-999.000,   0.300,3, -999.00,9,   50.24,2,   23.41,2,  38.3569, -52.2493,-999.000,-999.0000, -999.00,  12.3185,  12.3766,2,    35.7487,2,  -999.0,9,     -999.0,9,     -999.0,9,     -999.0,1,       0751
33AT20120419,        A20,      63,          1,         25,         25,2,20120508,       0553,    38.3447,   -52.2963,       5392,   539.7,  10.1126,  35.2781,2,  35.2755,2,    142.0,2,   140.0,2,   12.57,2,   22.98,2,    0.00,2,    1.45,2,   1.432,2,   0.800,2,   0.018,3,    0.51,3,  2191.6,2,  2323.8,2,   7.6881,2,    25.00,-999.000,9,-999.0000,9, -999.00,9,  10.1211,2, -999.00,9,  -999.0,9,  -999.0,-999.000,9,-999.000,   0.330,3, -999.00,9,   49.25,2,   26.69,2,  38.3567, -52.2508,-999.000,-999.0000, -999.00,  10.0482,  10.1211,2,    35.4418,2,  -999.0,9,     -999.0,9,     -999.0,9,     -999.0,9,       0748
33AT20120419,        A20,      63,          1,         24,         24,2,20120508,       0553,    38.3447,   -52.2963,       5392,   642.7,   8.2170,  35.1314,2,  35.1319,2,    153.8,2,   155.7,2,   14.63,2,   24.08,2,    0.00,2,    1.55,2,   1.176,2,   0.644,2,   0.012,3,    0.47,3,  2193.4,2,  2320.2,2,   7.6690,2,    25.00,-999.000,9,-999.0000,9, -999.00,9,   8.2122,2, -999.00,9,  -999.0,9,  -999.0,-999.000,9,-999.000,   0.330,3, -999.00,9,   48.42,2,   28.08,2,  38.3566, -52.2523,-999.000,-999.0000, -999.00,   8.1489,   8.2122,2,    35.2975,2,  -999.0,9,     -999.0,9,     -999.0,9,     -999.0,9,       0745
33AT20120419,        A20,      63,          1,         23,         23,2,20120508,       0553,    38.3447,   -52.2963,       5392,   743.0,   6.7962,  35.0781,2,  35.0781,2,    186.0,2,   187.9,2,   13.82,2,   21.97,2,    0.00,2,    1.43,2,   1.571,2,   0.816,2,   0.062,3,    0.00,3,  2184.8,2,  2318.0,2,   7.6821,2,    25.00,-999.000,9,-999.0000,9, -999.00,9,   6.7670,2, -999.00,9,  -999.0,9,  -999.0,-999.000,9,-999.000,   0.570,3, -999.00,9,   47.19,2,   25.46,2,  38.3564, -52.2538,-999.000,-999.0000, -999.00,   6.7249,   6.7670,2,    35.2435,2,  -999.0,9,     -999.0,9,     -999.0,9,     -999.0,9,       0742
33AT20120419,        A20,      63,          1,         22,         22,2,20120508,       0553,    38.3447,   -52.2963,       5392,   841.5,   5.9512,  35.0442,2,  35.0453,2,    209.8,2,   209.7,2,   12.99,2,   20.44,2,    0.00,2,    1.34,2,   1.948,2,   0.973,2,   0.092,3,    0.25,3,  2180.1,6,  2314.7,2,   7.6914,2,    25.00,-999.000,9,-999.0000,9, -999.00,9,   5.9535,2, -999.00,9,  -999.0,9,  -999.0,-999.000,9,-999.000,   0.880,3, -999.00,9,   46.46,2,   24.43,2,  38.3562, -52.2551,-999.000,-999.0000, -999.00,   5.8752,   5.9535,2,    35.2105,2,  -999.0,9,     -999.0,9,     -999.0,9,     -999.0,9,       0740
33AT20120419,        A20,      63,          1,         21,         21,2,20120508,       0553,    38.3447,   -52.2963,       5392,   941.4,   5.2740,  35.0209,2,  35.0193,2,    235.8,2,   232.6,2,   12.08,2,   19.02,2,    0.00,2,    1.25,2,   2.354,2,   1.227,2,   0.126,3,    0.36,3,  2174.3,2,  2313.6,2,   7.7030,6,    25.00,-999.000,9,-999.0000,9, -999.00,9,   5.2734,2, -999.00,9,  -999.0,9,  -999.0,-999.000,9,-999.000,   1.050,3, -999.00,9,   44.29,2,   23.28,2,  38.3559, -52.2564,-999.000,-999.0000, -999.00,   5.1932,   5.2734,2,    35.1845,2,  -999.0,9,     -999.0,9,     -999.0,9,     -999.0,9,       0737
33AT20120419,        A20,      63,          1,         20,         20,2,20120508,       0553,    38.3447,   -52.2963,       5392,  1047.9,   4.7791,  34.9826,2,  34.9821,2,    249.5,2,   250.7,2,   11.05,2,   17.98,2,    0.00,2,    1.18,2,   2.904,2,   1.535,2,   0.179,3,    0.75,3,  2170.2,2,  2310.7,2,   7.7075,2,    25.00,-999.000,9,-999.0000,9, -999.00,9,   4.7806,2, -999.00,9,  -999.0,9,  -999.0,-999.000,9,-999.000,   1.200,3, -999.00,9,   45.05,2,   22.34,2,  38.3555, -52.2577,-999.000,-999.0000, -999.00,   4.6924,   4.7806,2,    35.1471,2,  -999.0,9,     -999.0,9,     -999.0,9,     -999.0,9,       0733
33AT20120419,        A20,      63,          1,         19,         19,2,20120508,       0553,    38.3447,   -52.2963,       5392,  1144.8,   4.7468,  35.0025,2,  35.0028,2,    248.9,2,   247.8,2,   11.60,2,   18.24,2,    0.00,2,    1.20,2,   2.615,2,   1.319,2,   0.143,3,    0.66,3,  2170.6,2,  2309.5,2,   7.7117,2,    25.00,-999.000,9,-999.0000,9, -999.00,9,   4.7485,2, -999.00,9,  -999.0,9,  -999.0,-999.000,9,-999.000,   1.220,3, -999.00,9,   44.23,2,   22.17,2,  38.3552, -52.2590,-999.000,-999.0000, -999.00,   4.6515,   4.7485,2,    35.1679,2,  -999.0,9,     -999.0,9,     -999.0,9,     -999.0,9,       0730
33AT20120419,        A20,      63,          1,         18,         18,2,20120508,       0553,    38.3447,   -52.2963,       5392,  1249.5,   4.5540,  34.9928,2,  34.9926,2,    252.5,2,   252.5,2,   11.57,2,   18.05,2,    0.00,2,    1.19,2,   2.538,2,   1.334,2,   0.138,3,    1.01,3,  2167.6,2,  2310.7,2,   7.7145,2,    25.00,-999.000,9,-999.0000,9, -999.00,9,   4.5539,2, -999.00,9,  -999.0,9,  -999.0,-999.000,9,-999.000,   0.930,3, -999.00,9,      44,2,   21.66,2,  38.3548, -52.2604,-999.000,-999.0000, -999.00,   4.4509,   4.5539,2,    35.1576,2,  -999.0,9,     -999.0,9,     -999.0,9,     -999.0,9,       0727
33AT20120419,        A20,      63,          1,         17,         17,2,20120508,       0553,    38.3447,   -52.2963,       5392,  1349.4,   4.4217,  34.9847,2,  34.9843,2,    255.1,2,   254.6,2,   11.71,2,   17.91,2,    0.00,2,    1.18,2,   2.388,2,   1.294,2,   0.108,3,    0.53,3,  -999.0,9,  -999.0,9,-999.0000,9,  -999.00,-999.000,9,-999.0000,9, -999.00,9,   4.4219,2, -999.00,9,  -999.0,9,  -999.0,-999.000,9,-999.000,   0.750,3, -999.00,9,   44.08,2,   21.26,2,  38.3544, -52.2617,-999.000,-999.0000, -999.00,   4.3107,   4.4219,2,    35.1493,2,  -999.0,9,     -999.0,9,     -999.0,9,     -999.0,9,       0724
33AT20120419,        A20,      63,          1,         16,         16,2,20120508,       0553,    38.3447,   -52.2963,       5392,  1477.2,   4.2487,  34.9778,2,  34.9774,2,    257.3,2,   258.3,2,   11.82,2,   17.79,2,    0.00,2,    1.17,2,   2.332,2,   1.273,2,   0.107,3,    0.44,3,  2165.3,2,  2310.5,2,   7.7187,2,    25.00,-999.000,9,-999.0000,9, -999.00,9,   4.2488,2, -999.00,9,  -999.0,9,  -999.0,-999.000,9,-999.000,   0.800,3, -999.00,9,   44.87,2,   20.95,2,  38.3539, -52.2632,-999.000,-999.0000, -999.00,   4.1278,   4.2488,2,    35.1424,2,  -999.0,9,     -999.0,9,     -999.0,9,     -999.0,9,       0720
33AT20120419,        A20,      63,          1,         15,         15,2,20120508,       0553,    38.3447,   -52.2963,       5392,  1682.6,   4.0147,  34.9691,2,  34.9692,2,    261.0,2,   261.4,2,   12.34,2,   17.72,2,    0.00,2,    1.17,2,   2.215,2,   1.134,2,   0.107,3,    0.13,3,  -999.0,9,  -999.0,9,-999.0000,9,  -999.00,-999.000,9,-999.0000,9, -999.00,9,   4.0148,2, -999.00,9,  -999.0,9,  -999.0,-999.000,9,-999.000,   1.080,3, -999.00,9,   44.94,2,   20.65,2,  38.3534, -52.2652,-999.000,-999.0000, -999.00,   3.8774,   4.0148,2,    35.1341,2,  -999.0,9,     -999.0,9,     -999.0,9,     -999.0,9,       0715
33AT20120419,        A20,      63,          1,         14,         14,2,20120508,       0553,    38.3447,   -52.2963,       5392,  1885.7,   3.8382,  34.9611,2,  34.9617,2,    263.0,2,   263.4,2,   12.87,2,   17.68,2,    0.00,2,    1.18,2,   1.992,2,   1.016,2,   0.092,3,    0.13,3,  2162.0,2,  2312.0,2,   7.7262,2,    25.00,-999.000,9,-999.0000,9, -999.00,9,   3.8379,2, -999.00,9,  -999.0,9,  -999.0,-999.000,9,-999.000,   0.990,3, -999.00,9,   45.72,2,   20.89,2,  38.3528, -52.2673,-999.000,-999.0000, -999.00,   3.6841,   3.8379,2,    35.1266,2,  -999.0,9,     -999.0,9,     -999.0,9,     -999.0,9,       0711
33AT20120419,        A20,      63,          1,         13,         13,2,20120508,       0553,    38.3447,   -52.2963,       5392,  2111.4,   3.6748,  34.9538,2,  34.9542,2,    265.4,2,   266.3,2,   13.63,2,   17.64,2,    0.00,2,    1.18,2,   1.717,2,   0.902,2,   0.069,3,    0.00,3,  2160.6,2,  2310.7,2,   7.7297,2,    25.00,-999.000,9,-999.0000,9, -999.00,9,   3.6745,2, -999.00,9,  -999.0,9,  -999.0,-999.000,9,-999.000,   0.830,3, -999.00,9,   45.22,2,   20.87,2,  38.3522, -52.2693,-999.000,-999.0000, -999.00,   3.5014,   3.6745,2,    35.1191,2,  -999.0,9,     -999.0,9,     -999.0,9,     -999.0,9,       0705
33AT20120419,        A20,      63,          1,         12,         12,2,20120508,       0553,    38.3447,   -52.2963,       5392,  2363.2,   3.4788,  34.9473,2,  34.9477,2,    266.4,2,   266.3,2,   14.82,2,   17.65,2,    0.00,2,    1.18,2,   1.522,2,   0.768,2,   0.066,3,    0.00,3,  2160.4,2,  2311.1,2,   7.7328,2,    25.00,-999.000,9,-999.0000,9, -999.00,9,   3.4777,2, -999.00,9,  -999.0,9,  -999.0,-999.000,9,-999.000,   1.060,3, -999.00,9,   44.88,2,   20.78,2,  38.3516, -52.2715,-999.000,-999.0000, -999.00,   3.2838,   3.4777,2,    35.1125,2,  -999.0,9,     -999.0,9,     -999.0,9,     -999.0,9,       0700
33AT20120419,        A20,      63,          1,         11,         11,4,20120508,       0553,    38.3447,   -52.2963,       5392,  2613.8,   3.3211,  34.9454,2,  34.9694,4,    265.8,2,   261.4,4,   12.32,4,   17.71,4,    0.00,4,    1.18,4,-999.000,5,-999.000,5,-999.000,5, -999.00,5,  -999.0,9,  -999.0,9,-999.0000,9,  -999.00,-999.000,9,-999.0000,9, -999.00,9,   3.3214,2, -999.00,9,  -999.0,9,  -999.0,-999.000,9,-999.000,-999.000,5, -999.00,9,   44.38,2,   20.58,2,  38.3511, -52.2735,-999.000,-999.0000, -999.00,   3.1037,   3.3214,2,    35.1343,4,  -999.0,9,     -999.0,9,     -999.0,9,     -999.0,1,       0654
33AT20120419,        A20,      63,          1,         10,         10,2,20120508,       0553,    38.3447,   -52.2963,       5392,  2872.3,   3.1262,  34.9423,2,  34.9426,2,    264.3,2,   264.4,2,   19.02,2,   17.95,2,    0.00,2,    1.21,2,   0.943,2,   0.504,2,   0.033,3,    0.00,3,  2162.9,2,  2316.8,2,   7.7370,2,    25.00,-999.000,9,-999.0000,9, -999.00,9,   3.1270,2, -999.00,9,  -999.0,9,  -999.0,-999.000,9,-999.000,   0.650,3, -999.00,9,   44.62,2,   20.76,2,  38.3504, -52.2758,-999.000,-999.0000, -999.00,   2.8861,   3.1270,2,    35.1074,2,  -999.0,9,     -999.0,9,     -999.0,9,     -999.0,9,       0649
33AT20120419,        A20,      63,          1,          9,          9,2,20120508,       0553,    38.3447,   -52.2963,       5392,  3144.4,   2.8954,  34.9304,2,  34.9305,2,    265.9,2,   266.3,2,   20.35,2,   17.87,2,    0.00,2,    1.20,2,   0.949,2,   0.509,2,   0.035,3,    0.00,3,  2162.7,2,  2318.8,2,   7.7381,2,    25.00,-999.000,9,-999.0000,9, -999.00,9,   2.8949,2, -999.00,9,  -999.0,9,  -999.0,-999.000,9,-999.000,   0.600,3, -999.00,9,   43.69,2,   21.05,2,  38.3498, -52.2779,-999.000,-999.0000, -999.00,   2.6317,   2.8949,2,    35.0952,2,  -999.0,9,     -999.0,9,     -999.0,9,     -999.0,9,       0643
33AT20120419,        A20,      63,          1,          8,          8,2,20120508,       0553,    38.3447,   -52.2963,       5392,  3450.7,   2.6659,  34.9182,2,  34.9187,2,    267.6,2,   268.0,2,   22.47,2,   17.94,2,    0.00,2,    1.21,2,   0.859,2,   0.469,2,   0.035,3,    0.00,3,  -999.0,9,  -999.0,9,-999.0000,9,  -999.00,-999.000,9,-999.0000,9, -999.00,9,   2.6659,2, -999.00,9,  -999.0,9,  -999.0,-999.000,9,-999.000,   0.510,3, -999.00,9,   42.39,2,   20.47,2,  38.3492, -52.2802,-999.000,-999.0000, -999.00,   2.3747,   2.6659,2,    35.0833,2,  -999.0,9,     -999.0,9,     -999.0,9,     -999.0,9,       0637
33AT20120419,        A20,      63,          1,          7,          7,2,20120508,       0553,    38.3447,   -52.2963,       5392,  3756.2,   2.4840,  34.9061,2,  34.9063,2,    268.2,2,   268.9,2,   24.50,2,   17.98,2,    0.00,2,    1.22,2,   0.923,2,   0.510,2,   0.043,3,    0.00,3,  2166.4,2,  2320.8,2,   7.7366,2,    25.00,-999.000,9,-999.0000,9, -999.00,9,   2.4839,2, -999.00,9,  -999.0,9,  -999.0,-999.000,9,-999.000,   0.510,3, -999.00,9,   44.35,2,   20.28,2,  38.3485, -52.2826,-999.000,-999.0000, -999.00,   2.1637,   2.4839,2,    35.0709,2,  -999.0,9,     -999.0,9,     -999.0,9,     -999.0,9,       0630