BOTTLE,20220712CCHSIOCBG
EXPOCODE,SECT_ID,STNNBR,CASTNO,SAMPNO,BTLNBR,BTLNBR_FLAG_W,DATE,TIME,LATITUDE,LONGITUDE,DEPTH,CTDPRS,CTDTMP,CTDSAL,CTDSAL_FLAG_W,SALNTY,SALNTY_FLAG_W,CTDOXY,CTDOXY_FLAG_W,OXYGEN,OXYGEN_FLAG_W,SILCAT,SILCAT_FLAG_W,NITRAT,NITRAT_FLAG_W,NITRIT,NITRIT_FLAG_W,PHSPHT,PHSPHT_FLAG_W,CFC-11,CFC-11_FLAG_W,CFC-12,CFC-12_FLAG_W,CFC113,CFC113_FLAG_W,SF6,SF6_FLAG_W,TCARBN,TCARBN_FLAG_W,ALKALI,ALKALI_FLAG_W,PH_TOT,PH_TOT_FLAG_W,PH_TMP,TRITUM,TRITUM_FLAG_W,HELIUM,HELIUM_FLAG_W,DELHE3,DELHE3_FLAG_W,REFTMP,REFTMP_FLAG_W,DELC13,DELC13_FLAG_W,DELC14,DELC14_FLAG_W,C14ERR,NEON,NEON_FLAG_W,NEONER,CCL4,CCL4_FLAG_W,DELO18,DELO18_FLAG_W,DOC,DOC_FLAG_W,TDN,TDN_FLAG_W,BTL_LAT,BTL_LON,TRITER,HELIER,DELHER,THETA,SBE35,SBE35_FLAG_W,SALTREF,SALTREF_FLAG_W,14C-DOC,14C-DOC_FLAG_W,DELO17,DELO17_FLAG_W,O2/AR,O2/AR_FLAG_W,SIP,SIP_FLAG_W,BTL_TIME
,,,,,,,,,,,METERS,DBAR,ITS-90,PSS-78,,PSS-78,,UMOL/KG,,UMOL/KG,,UMOL/KG,,UMOL/KG,,UMOL/KG,,UMOL/KG,,PMOL/KG,,PMOL/KG,,PMOL/KG,,FMOL/KG,,UMOL/KG,,UMOL/KG,,,,DEG C,TU,,NMOL/KG,,PERCNT,,DEG C,,/MILLE,,/MILLE,,/MILLE,NMOL/KG,,NMOL/KG,PMOL/KG,,/MILLE,,UMOL/KG,,UMOL/KG,,,,TU,NMOL/KG,PERCNT,DEG C,ITS-90,,G/KG,,/MILLE,,/MILLE,,,,,,
33AT20120419,        A20,      46,          1,          6,          6,2,20120502,       1450,    25.9857,   -52.3324,       5196,  3546.4,   2.4541,  34.9074,2,  34.9058,2,    254.9,2,   255.2,2,   36.45,2,   20.40,2,    0.00,2,    1.40,2,   0.060,2,   0.028,2,   0.008,2,    0.02,2,  2178.9,2,  2333.9,2,   7.7398,2,    25.00,-999.000,9,-999.0000,9, -999.00,9,   2.4535,2, -999.00,9,  -999.0,9,  -999.0,-999.000,9,-999.000,-999.000,9, -999.00,9, -999.00,9, -999.00,9,  25.9851, -52.3322,-999.000,-999.0000, -999.00,   2.1578,   2.4535,2,    35.0704,2,  -999.0,9,     -999.0,9,     -999.0,9,     -999.0,9,       1524
33AT20120419,        A20,      46,          1,          5,          5,2,20120502,       1450,    25.9857,   -52.3324,       5196,  3855.7,   2.3130,  34.8932,2,  34.8920,2,    255.0,2,   255.4,2,   39.65,2,   20.68,2,    0.00,2,    1.42,2,-999.000,9,-999.000,9,-999.000,9, -999.00,9,  -999.0,9,  -999.0,9,-999.0000,9,  -999.00,-999.000,9,-999.0000,9, -999.00,9,   2.3131,2, -999.00,9,  -999.0,9,  -999.0,-999.000,9,-999.000,-999.000,9, -999.00,9, -999.00,9, -999.00,9,  25.9854, -52.3323,-999.000,-999.0000, -999.00,   1.9862,   2.3131,2,    35.0566,2,  -999.0,9,     -999.0,9,     -999.0,9,     -999.0,9,       1518
33AT20120419,        A20,      46,          1,          4,          4,2,20120502,       1450,    25.9857,   -52.3324,       5196,  4163.2,   2.1979,  34.8795,2,  34.8788,2,    254.4,2,   254.1,2,   43.86,2,   21.20,2,    0.00,2,    1.44,2,   0.074,2,   0.032,2,   0.002,2,    0.03,2,  2186.4,2,  2338.3,2,   7.7322,2,    25.00,-999.000,9,-999.0000,9, -999.00,9,   2.1982,2, -999.00,9,  -999.0,9,  -999.0,-999.000,9,-999.000,-999.000,9, -999.00,9, -999.00,9, -999.00,9,  25.9855, -52.3323,-999.000,-999.0000, -999.00,   1.8395,   2.1982,2,    35.0433,2,  -999.0,9,     -999.0,9,     -999.0,9,     -999.0,9,       1512
33AT20120419,        A20,      46,          1,          3,          3,2,20120502,       1450,    25.9857,   -52.3324,       5196,  4467.6,   2.1444,  34.8705,2,  34.8688,2,    252.8,2,   252.9,2,   47.16,2,   21.64,2,    0.00,2,    1.47,2,-999.000,9,-999.000,9,-999.000,9, -999.00,9,  -999.0,9,  -999.0,9,-999.0000,9,  -999.00,-999.000,9,-999.0000,9, -999.00,9,   2.1440,2, -999.00,9,  -999.0,9,  -999.0,-999.000,9,-999.000,-999.000,9, -999.00,9, -999.00,9, -999.00,9,  25.9856, -52.3324,-999.000,-999.0000, -999.00,   1.7520,   2.1440,2,    35.0332,2,  -999.0,9,     -999.0,9,     -999.0,9,     -999.0,9,       1506
33AT20120419,        A20,      46,          1,          2,          2,2,20120502,       1450,    25.9857,   -52.3324,       5196,  4883.3,   2.1224,  34.8625,2,  34.8619,2,    250.9,2,   251.3,2,   49.99,2,   22.04,2,    0.00,2,    1.50,2,   0.082,2,   0.036,2,   0.004,2,    0.04,2,  -999.0,9,  -999.0,9,-999.0000,9,  -999.00,-999.000,9,-999.0000,9, -999.00,9,   2.1224,2, -999.00,9,  -999.0,9,  -999.0,-999.000,9,-999.000,-999.000,9, -999.00,9, -999.00,9, -999.00,9,  25.9857, -52.3325,-999.000,-999.0000, -999.00,   1.6803,   2.1224,2,    35.0263,2,  -999.0,9,     -999.0,9,     -999.0,9,     -999.0,9,       1458
33AT20120419,        A20,      46,          1,          1,          1,2,20120502,       1450,    25.9857,   -52.3324,       5196,  5262.8,   2.1278,  34.8579,2,  34.8582,2,    250.6,2,   250.7,2,   51.58,2,   22.24,2,    0.00,2,    1.52,2,   0.090,2,   0.047,2,   0.003,2,    0.03,2,  2197.6,6,  2344.4,2,   7.7208,6,    25.00,-999.000,9,-999.0000,9, -999.00,9,   2.1270,2, -999.00,9,  -999.0,9,  -999.0,-999.000,9,-999.000,-999.000,9, -999.00,9, -999.00,9, -999.00,9,  25.9857, -52.3324,-999.000,-999.0000, -999.00,   1.6377,   2.1270,2,    35.0225,2,  -999.0,9,     -999.0,9,     -999.0,9,     -999.0,9,       1451