BOTTLE,20220712CCHSIOCBG
EXPOCODE,SECT_ID,STNNBR,CASTNO,SAMPNO,BTLNBR,BTLNBR_FLAG_W,DATE,TIME,LATITUDE,LONGITUDE,DEPTH,CTDPRS,CTDTMP,CTDSAL,CTDSAL_FLAG_W,SALNTY,SALNTY_FLAG_W,CTDOXY,CTDOXY_FLAG_W,OXYGEN,OXYGEN_FLAG_W,SILCAT,SILCAT_FLAG_W,NITRAT,NITRAT_FLAG_W,NITRIT,NITRIT_FLAG_W,PHSPHT,PHSPHT_FLAG_W,CFC-11,CFC-11_FLAG_W,CFC-12,CFC-12_FLAG_W,CFC113,CFC113_FLAG_W,SF6,SF6_FLAG_W,TCARBN,TCARBN_FLAG_W,ALKALI,ALKALI_FLAG_W,PH_TOT,PH_TOT_FLAG_W,PH_TMP,TRITUM,TRITUM_FLAG_W,HELIUM,HELIUM_FLAG_W,DELHE3,DELHE3_FLAG_W,REFTMP,REFTMP_FLAG_W,DELC13,DELC13_FLAG_W,DELC14,DELC14_FLAG_W,C14ERR,NEON,NEON_FLAG_W,NEONER,CCL4,CCL4_FLAG_W,DELO18,DELO18_FLAG_W,DOC,DOC_FLAG_W,TDN,TDN_FLAG_W,BTL_LAT,BTL_LON,TRITER,HELIER,DELHER,THETA,SBE35,SBE35_FLAG_W,SALTREF,SALTREF_FLAG_W,14C-DOC,14C-DOC_FLAG_W,DELO17,DELO17_FLAG_W,O2/AR,O2/AR_FLAG_W,SIP,SIP_FLAG_W,BTL_TIME
,,,,,,,,,,,METERS,DBAR,ITS-90,PSS-78,,PSS-78,,UMOL/KG,,UMOL/KG,,UMOL/KG,,UMOL/KG,,UMOL/KG,,UMOL/KG,,PMOL/KG,,PMOL/KG,,PMOL/KG,,FMOL/KG,,UMOL/KG,,UMOL/KG,,,,DEG C,TU,,NMOL/KG,,PERCNT,,DEG C,,/MILLE,,/MILLE,,/MILLE,NMOL/KG,,NMOL/KG,PMOL/KG,,/MILLE,,UMOL/KG,,UMOL/KG,,,,TU,NMOL/KG,PERCNT,DEG C,ITS-90,,G/KG,,/MILLE,,/MILLE,,,,,,
33AT20120419,        A20,       4,          1,          8,          8,2,20120421,       2012,     7.0796,   -53.3850,        156,     2.7,  28.0112,  30.0157,2,  30.0148,2,    228.9,2,   233.8,2,    7.16,2,    0.00,2,    0.00,2,    0.02,2,   1.708,2,   1.083,2,   0.136,2,    1.24,2,  1688.0,2,  2034.9,6,   8.2255,2,    25.00,-999.000,9,-999.0000,9, -999.00,9,  28.0110,2, -999.00,9,  -999.0,9,  -999.0,-999.000,9,-999.000,-999.000,9, -999.00,1, -999.00,9, -999.00,9,   7.0800, -53.3847,-999.000,-999.0000, -999.00,  28.0106,  28.0110,2,    30.1564,2,  -999.0,9,     -999.0,1,     -999.0,1,     -999.0,9,       2029
33AT20120419,        A20,       4,          1,          7,          7,2,20120421,       2012,     7.0796,   -53.3850,        156,    24.5,  26.9107,  36.1799,2,  36.1812,2,    198.1,2,   198.3,2,    0.66,2,    0.00,2,    0.00,2,    0.01,2,   1.689,2,   1.050,2,   0.141,2,    1.18,2,  2025.8,2,  2374.4,6,   8.0915,6,    25.00,-999.000,9,-999.0000,9, -999.00,9,  26.9105,2, -999.00,9,  -999.0,9,  -999.0,-999.000,9,-999.000,-999.000,9, -999.00,9, -999.00,9, -999.00,9,   7.0799, -53.3848,-999.000,-999.0000, -999.00,  26.9051,  26.9105,2,    36.3518,2,  -999.0,9,     -999.0,9,     -999.0,9,     -999.0,9,       2027
33AT20120419,        A20,       4,          1,          6,          6,2,20120421,       2012,     7.0796,   -53.3850,        156,    44.1,  26.7051,  36.2188,2,  36.2245,2,    198.9,2,   199.2,2,    0.67,2,    0.00,2,    0.00,2,    0.01,2,   1.695,2,-999.000,5,   0.155,2,    0.90,2,  2032.2,2,  2376.5,2,-999.0000,9,  -999.00,-999.000,9,-999.0000,9, -999.00,9,  26.7062,2, -999.00,9,  -999.0,9,  -999.0,-999.000,9,-999.000,-999.000,9, -999.00,9, -999.00,9, -999.00,9,   7.0799, -53.3848,-999.000,-999.0000, -999.00,  26.6950,  26.7062,2,    36.3953,2,  -999.0,9,     -999.0,9,     -999.0,9,     -999.0,9,       2024
33AT20120419,        A20,       4,          1,          5,          5,2,20120421,       2012,     7.0796,   -53.3850,        156,    69.1,  25.5796,  36.7046,2,  36.6952,2,    178.9,2,   175.6,2,    0.89,2,    1.36,2,    0.07,2,    0.11,2,   1.787,2,-999.000,5,   0.126,2,    1.12,2,  2083.7,2,  2405.5,2,   8.0361,2,    25.00,-999.000,9,-999.0000,9, -999.00,9,  25.5810,2, -999.00,9,  -999.0,9,  -999.0,-999.000,9,-999.000,-999.000,9, -999.00,9, -999.00,9, -999.00,9,   7.0798, -53.3849,-999.000,-999.0000, -999.00,  25.5643,  25.5810,2,    36.8682,2,  -999.0,9,     -999.0,9,     -999.0,9,     -999.0,9,       2022
33AT20120419,        A20,       4,          1,          4,          4,2,20120421,       2012,     7.0796,   -53.3850,        156,    94.5,  20.4189,  36.2793,2,  36.2771,2,    168.9,2,   273.9,3,    3.60,2,    6.01,2,    0.06,2,    0.55,2,   2.124,2,   1.280,2,   0.092,2,    1.11,2,  -999.0,9,  -999.0,9,-999.0000,9,  -999.00,-999.000,9,-999.0000,9, -999.00,9,  20.4085,2, -999.00,9,  -999.0,9,  -999.0,-999.000,9,-999.000,-999.000,9, -999.00,9, -999.00,9, -999.00,9,   7.0797, -53.3849,-999.000,-999.0000, -999.00,  20.4011,  20.4085,2,    36.4482,2,  -999.0,9,     -999.0,9,     -999.0,9,     -999.0,9,       2020
33AT20120419,        A20,       4,          1,          3,          3,2,20120421,       2012,     7.0796,   -53.3850,        156,   119.0,  17.5916,  35.9735,2,  35.9808,2,    148.8,2,   146.9,2,    8.84,2,   10.96,2,    0.12,2,    0.89,2,   2.192,2,   1.278,2,   0.065,2,    1.03,2,  2156.4,2,  2369.0,2,   7.8470,2,    25.00,-999.000,9,-999.0000,9, -999.00,9,  17.5876,2, -999.00,9,  -999.0,9,  -999.0,-999.000,9,-999.000,-999.000,9, -999.00,9, -999.00,9, -999.00,9,   7.0797, -53.3849,-999.000,-999.0000, -999.00,  17.5714,  17.5876,2,    36.1505,2,  -999.0,9,     -999.0,9,     -999.0,9,     -999.0,9,       2017
33AT20120419,        A20,       4,          1,          2,          2,2,20120421,       2012,     7.0796,   -53.3850,        156,   144.1,  14.9520,  35.6717,2,  35.6722,2,    129.1,2,   129.5,2,   12.76,2,   16.28,2,    0.15,2,    1.22,2,   2.199,2,   1.254,2,   0.030,2,    0.88,2,  2181.2,2,  2356.1,2,   7.7616,6,    25.00,-999.000,9,-999.0000,9, -999.00,9,  14.9527,2, -999.00,9,  -999.0,9,  -999.0,-999.000,9,-999.000,-999.000,9, -999.00,9, -999.00,9, -999.00,9,   7.0796, -53.3850,-999.000,-999.0000, -999.00,  14.9301,  14.9527,2,    35.8404,2,  -999.0,9,     -999.0,9,     -999.0,9,     -999.0,9,       2015
33AT20120419,        A20,       4,          1,          1,          1,2,20120421,       2012,     7.0796,   -53.3850,        156,   149.5,  14.9298,  35.6684,2,  35.6695,2,    128.7,2,   129.2,2,   12.76,2,   16.29,2,    0.17,2,    1.25,2,   2.211,2,   1.296,2,   0.031,2,    0.99,2,  -999.0,9,  -999.0,9,-999.0000,9,  -999.00,-999.000,9,-999.0000,9, -999.00,9,  14.9378,2, -999.00,9,  -999.0,9,  -999.0,-999.000,9,-999.000,-999.000,9, -999.00,9, -999.00,9, -999.00,9,   7.0796, -53.3850,-999.000,-999.0000, -999.00,  14.9071,  14.9378,2,    35.8377,2,  -999.0,9,     -999.0,9,     -999.0,9,     -999.0,9,       2013
33AT20120419,        A20,       5,          1,          9,          9,2,20120421,       2145,     7.1490,   -53.3539,        205,     3.1,  27.9506,  29.5808,2,  29.5767,2,    235.6,2,   234.5,2,    8.16,2,    0.02,2,    0.00,2,    0.03,2,   1.567,2,   1.038,2,   0.127,2,    1.06,3,  1667.9,2,  2007.9,2,   8.2286,2,    25.00,-999.000,9,-999.0000,9, -999.00,9,  27.9488,2, -999.00,9,  -999.0,9,  -999.0,-999.000,9,-999.000,   0.920,2, -999.00,1, -999.00,9, -999.00,9,   7.1493, -53.3538,-999.000,-999.0000, -999.00,  27.9499,  27.9488,2,    29.7161,2,  -999.0,9,     -999.0,1,     -999.0,1,     -999.0,9,       2203
33AT20120419,        A20,       5,          1,          8,          8,2,20120421,       2145,     7.1490,   -53.3539,        205,    26.3,  26.9341,  36.2107,2,  36.2109,2,    197.8,2,   197.7,2,    0.66,2,    0.00,2,    0.00,2,    0.01,2,   1.548,2,   1.023,2,   0.122,2,    1.02,3,  2026.6,2,  2373.3,2,   8.0920,6,    25.00,-999.000,9,-999.0000,9, -999.00,9,  26.9346,2, -999.00,9,  -999.0,9,  -999.0,-999.000,9,-999.000,   0.940,2, -999.00,9, -999.00,9, -999.00,9,   7.1491, -53.3539,-999.000,-999.0000, -999.00,  26.9281,  26.9346,2,    36.3816,2,  -999.0,9,     -999.0,9,     -999.0,9,     -999.0,9,       2200
33AT20120419,        A20,       5,          1,          7,          7,2,20120421,       2145,     7.1490,   -53.3539,        205,    50.9,  26.6940,  36.1992,2,  36.2004,2,    199.8,2,   199.0,2,    0.68,2,    0.00,2,    0.00,2,    0.01,2,   1.563,2,   1.030,2,   0.121,2,    1.21,3,  2028.2,2,  2371.4,2,   8.0895,2,    25.00,-999.000,9,-999.0000,9, -999.00,9,  26.6958,2, -999.00,9,  -999.0,9,  -999.0,-999.000,9,-999.000,   0.910,2, -999.00,9, -999.00,9, -999.00,9,   7.1491, -53.3539,-999.000,-999.0000, -999.00,  26.6824,  26.6958,2,    36.3711,2,  -999.0,9,     -999.0,9,     -999.0,9,     -999.0,9,       2158
33AT20120419,        A20,       5,          1,          6,          6,2,20120421,       2145,     7.1490,   -53.3539,        205,    75.8,  23.8385,  36.9880,2,  36.9135,2,    167.9,2,   160.8,2,    1.16,2,    3.38,2,    0.06,2,    0.22,2,   1.799,2,   1.169,2,   0.100,2,    1.25,3,  2126.0,2,  2416.6,2,   7.9827,2,    25.00,-999.000,9,-999.0000,9, -999.00,9,  23.9913,2, -999.00,9,  -999.0,9,  -999.0,-999.000,9,-999.000,   0.310,2, -999.00,9, -999.00,9, -999.00,9,   7.1490, -53.3539,-999.000,-999.0000, -999.00,  23.8225,  23.9913,2,    37.0876,2,  -999.0,9,     -999.0,9,     -999.0,9,     -999.0,9,       2156
33AT20120419,        A20,       5,          1,          5,          5,2,20120421,       2145,     7.1490,   -53.3539,        205,   100.8,  20.1486,  36.2688,2,  36.2796,2,    169.4,2,   169.9,2,    2.22,2,    5.80,2,    0.05,2,    0.53,2,   2.026,2,   1.285,2,   0.081,2,    1.64,3,  2127.8,2,  2385.3,2,   7.9334,6,    25.00,-999.000,9,-999.0000,9, -999.00,9,  20.1405,2, -999.00,9,  -999.0,9,  -999.0,-999.000,9,-999.000,   0.360,2, -999.00,9, -999.00,9, -999.00,9,   7.1491, -53.3539,-999.000,-999.0000, -999.00,  20.1298,  20.1405,2,    36.4506,2,  -999.0,9,     -999.0,9,     -999.0,9,     -999.0,9,       2154
33AT20120419,        A20,       5,          1,          4,          4,2,20120421,       2145,     7.1490,   -53.3539,        205,   124.5,  18.6051,  36.0571,2,  36.0655,2,    169.4,2,   169.1,2,    3.15,2,    7.69,2,    0.06,2,    0.65,2,   2.116,2,   1.323,2,   0.069,2,    0.90,3,  2134.1,2,  2371.3,2,   7.9026,2,    25.00,-999.000,9,-999.0000,9, -999.00,9,  18.6150,2, -999.00,9,  -999.0,9,  -999.0,-999.000,9,-999.000,   0.340,2, -999.00,9, -999.00,9, -999.00,9,   7.1491, -53.3539,-999.000,-999.0000, -999.00,  18.5831,  18.6150,2,    36.2355,2,  -999.0,9,     -999.0,9,     -999.0,9,     -999.0,9,       2152
33AT20120419,        A20,       5,          1,          3,          3,2,20120421,       2145,     7.1490,   -53.3539,        205,   150.7,  17.1472,  35.9596,2,  35.9662,2,    141.2,2,   140.3,2,    9.09,2,   12.05,2,    0.04,2,    0.93,2,   2.053,2,   1.274,2,   0.045,2,    0.86,3,  2162.7,2,  2367.9,2,   7.8319,2,    25.00,-999.000,9,-999.0000,9, -999.00,9,  17.1735,2, -999.00,9,  -999.0,9,  -999.0,-999.000,9,-999.000,   0.260,2, -999.00,9, -999.00,9, -999.00,9,   7.1491, -53.3539,-999.000,-999.0000, -999.00,  17.1220,  17.1735,2,    36.1358,2,  -999.0,9,     -999.0,9,     -999.0,9,     -999.0,9,       2150
33AT20120419,        A20,       5,          1,          2,          2,2,20120421,       2145,     7.1490,   -53.3539,        205,   176.7,  13.7930,  35.5108,2,  35.5110,2,    142.3,2,   140.5,2,    7.79,2,   17.61,2,    0.04,2,    1.20,2,   2.129,2,   1.255,2,   0.032,2,    0.81,3,  -999.0,9,  -999.0,9,-999.0000,9,  -999.00,-999.000,9,-999.0000,9, -999.00,9,  13.7202,2, -999.00,9,  -999.0,9,  -999.0,-999.000,9,-999.000,   0.250,2, -999.00,9, -999.00,9, -999.00,9,   7.1490, -53.3539,-999.000,-999.0000, -999.00,  13.7676,  13.7202,2,    35.6785,2,  -999.0,9,     -999.0,9,     -999.0,9,     -999.0,9,       2148
33AT20120419,        A20,       5,          1,          1,          1,2,20120421,       2145,     7.1490,   -53.3539,        205,   198.8,  12.4330,  35.3046,2,  35.3462,2,    133.0,2,   132.9,2,   12.05,2,   19.72,2,    0.10,2,    1.40,2,   2.063,2,   1.219,2,   0.031,2,    0.80,3,  2184.6,2,  2332.4,2,   7.7151,6,    25.00,-999.000,9,-999.0000,9, -999.00,9,  12.3994,2, -999.00,9,  -999.0,9,  -999.0,-999.000,9,-999.000,   0.250,2, -999.00,9, -999.00,9, -999.00,9,   7.1490, -53.3539,-999.000,-999.0000, -999.00,  12.4064,  12.3994,2,    35.5129,2,  -999.0,9,     -999.0,9,     -999.0,9,     -999.0,9,       2146
33AT20120419,        A20,       6,          1,         11,         11,2,20120421,       2330,     7.2201,   -53.3220,        260,     2.5,  27.9491,  28.8428,2,  28.8469,2,    235.1,2,   234.5,2,    9.92,2,    0.01,2,    0.01,2,    0.02,2,   1.699,2,   1.081,2,   0.147,2,    1.13,2,  1635.2,6,  1965.6,2,   8.2360,6,    25.00,-999.000,9,-999.0000,9, -999.00,9,  27.9473,2, -999.00,9,  -999.0,9,  -999.0,-999.000,9,-999.000,-999.000,9, -999.00,1, -999.00,9, -999.00,9,   7.2199, -53.3222,-999.000,-999.0000, -999.00,  27.9485,  27.9473,2,    28.9829,2,  -999.0,9,     -999.0,1,     -999.0,1,     -999.0,9,       2352
33AT20120419,        A20,       6,          1,         10,         10,2,20120421,       2330,     7.2201,   -53.3220,        260,    36.7,  26.9233,  36.2102,2,  36.2103,2,    198.4,2,   198.2,2,    0.75,2,    0.00,2,    0.00,2,    0.01,2,   1.646,2,   1.048,2,   0.141,2,    1.06,2,  2027.9,2,  2372.0,2,   8.0916,2,    25.00,-999.000,9,-999.0000,9, -999.00,9,  26.9233,2, -999.00,9,  -999.0,9,  -999.0,-999.000,9,-999.000,-999.000,9, -999.00,9, -999.00,9, -999.00,9,   7.2199, -53.3221,-999.000,-999.0000, -999.00,  26.9149,  26.9233,2,    36.3811,2,  -999.0,9,     -999.0,9,     -999.0,9,     -999.0,9,       2349
33AT20120419,        A20,       6,          1,          9,          9,2,20120421,       2330,     7.2201,   -53.3220,        260,    61.5,  26.1387,  36.1922,2,  36.1943,2,    201.2,2,   200.8,2,    0.53,2,    0.00,2,    0.00,2,    0.02,2,   1.679,2,   1.058,2,   0.132,2,    0.96,2,  2034.3,2,  2370.9,2,   8.0804,2,    25.00,-999.000,9,-999.0000,9, -999.00,9,  26.1456,2, -999.00,9,  -999.0,9,  -999.0,-999.000,9,-999.000,-999.000,9, -999.00,9, -999.00,9, -999.00,9,   7.2199, -53.3221,-999.000,-999.0000, -999.00,  26.1249,  26.1456,2,    36.3650,2,  -999.0,9,     -999.0,9,     -999.0,9,     -999.0,9,       2347
33AT20120419,        A20,       6,          1,          8,          8,2,20120421,       2330,     7.2201,   -53.3220,        260,    86.5,  24.8326,  37.0046,2,  36.9250,2,    187.1,2,   174.7,2,    0.60,2,    1.24,2,    0.11,2,    0.08,2,   1.790,2,   1.133,2,   0.132,2,    1.10,2,  2098.0,2,  2415.3,2,   8.0324,6,    25.00,-999.000,9,-999.0000,9, -999.00,9,  24.9702,2, -999.00,9,  -999.0,9,  -999.0,-999.000,9,-999.000,-999.000,9, -999.00,9, -999.00,9, -999.00,9,   7.2199, -53.3221,-999.000,-999.0000, -999.00,  24.8138,  24.9702,2,    37.0992,2,  -999.0,9,     -999.0,9,     -999.0,9,     -999.0,9,       2345
33AT20120419,        A20,       6,          1,          7,          7,2,20120421,       2330,     7.2201,   -53.3220,        260,   111.0,  19.0257,  36.1131,2,  36.1140,2,    172.8,2,   172.8,2,    2.47,2,    6.90,2,    0.05,2,    0.59,2,   2.232,2,   1.359,2,   0.079,2,    1.19,2,  -999.0,9,  -999.0,9,-999.0000,9,  -999.00,-999.000,9,-999.0000,9, -999.00,9,  19.0257,2, -999.00,9,  -999.0,9,  -999.0,-999.000,9,-999.000,-999.000,9, -999.00,9, -999.00,9, -999.00,9,   7.2200, -53.3220,-999.000,-999.0000, -999.00,  19.0058,  19.0257,2,    36.2843,2,  -999.0,9,     -999.0,9,     -999.0,9,     -999.0,9,       2342
33AT20120419,        A20,       6,          1,          6,          6,2,20120421,       2330,     7.2201,   -53.3220,        260,   136.0,  16.4112,  35.7781,2,  35.7756,2,    161.1,2,   161.1,2,    4.76,2,   11.87,2,    0.00,2,    0.87,2,   2.294,2,   1.331,2,   0.059,2,    0.73,3,  2147.7,2,  2352.8,6,   7.8448,2,    25.00,-999.000,9,-999.0000,9, -999.00,9,  16.3976,2, -999.00,9,  -999.0,9,  -999.0,-999.000,9,-999.000,-999.000,9, -999.00,9, -999.00,9, -999.00,9,   7.2200, -53.3220,-999.000,-999.0000, -999.00,  16.3892,  16.3976,2,    35.9443,2,  -999.0,9,     -999.0,9,     -999.0,9,     -999.0,9,       2340
33AT20120419,        A20,       6,          1,          5,          5,2,20120421,       2330,     7.2201,   -53.3220,        260,   160.7,  14.3555,  35.6070,2,  35.6064,2,    147.9,2,   143.3,2,    6.45,2,   16.55,2,    0.00,2,    1.09,2,   2.254,2,   1.290,2,   0.033,2,    0.69,3,  -999.0,9,  -999.0,9,-999.0000,9,  -999.00,-999.000,9,-999.0000,9, -999.00,9,  14.3853,2, -999.00,9,  -999.0,9,  -999.0,-999.000,9,-999.000,-999.000,9, -999.00,9, -999.00,9, -999.00,9,   7.2200, -53.3220,-999.000,-999.0000, -999.00,  14.3318,  14.3853,2,    35.7743,2,  -999.0,9,     -999.0,9,     -999.0,9,     -999.0,9,       2338
33AT20120419,        A20,       6,          1,          4,          4,2,20120421,       2330,     7.2201,   -53.3220,        260,   185.9,  12.3412,  35.3084,2,  35.3090,2,    139.3,2,   137.1,2,    9.43,2,   20.20,2,    0.00,2,    1.33,2,-999.000,5,-999.000,5,-999.000,5, -999.00,5,  2180.6,2,  2326.4,2,   7.7180,6,    25.00,-999.000,9,-999.0000,9, -999.00,9,  12.3417,2, -999.00,9,  -999.0,9,  -999.0,-999.000,9,-999.000,-999.000,9, -999.00,9, -999.00,9, -999.00,9,   7.2200, -53.3220,-999.000,-999.0000, -999.00,  12.3164,  12.3417,2,    35.4755,2,  -999.0,9,     -999.0,9,     -999.0,9,     -999.0,9,       2336
33AT20120419,        A20,       6,          1,          3,          3,2,20120421,       2330,     7.2201,   -53.3220,        260,   211.4,  11.9664,  35.2528,2,  35.2540,2,    138.2,2,   137.9,2,    9.49,2,   20.76,2,    0.01,2,    1.38,2,   2.165,2,   1.191,2,   0.021,2,    1.08,3,  -999.0,9,  -999.0,9,-999.0000,9,  -999.00,-999.000,9,-999.0000,9, -999.00,9,  11.9682,2, -999.00,9,  -999.0,9,  -999.0,-999.000,9,-999.000,-999.000,9, -999.00,9, -999.00,9, -999.00,9,   7.2200, -53.3220,-999.000,-999.0000, -999.00,  11.9388,  11.9682,2,    35.4203,2,  -999.0,9,     -999.0,9,     -999.0,9,     -999.0,9,       2334
33AT20120419,        A20,       6,          1,          2,          2,2,20120421,       2330,     7.2201,   -53.3220,        260,   235.8,  11.2091,  35.1278,2,  35.1390,2,    135.0,2,   134.7,2,   12.03,2,   22.19,2,    0.05,2,    1.50,2,   2.097,2,   1.124,2,   0.026,2,    0.98,3,  -999.0,9,  -999.0,9,-999.0000,9,  -999.00,-999.000,9,-999.0000,9, -999.00,9,  11.2285,2, -999.00,9,  -999.0,9,  -999.0,-999.000,9,-999.000,-999.000,9, -999.00,9, -999.00,9, -999.00,9,   7.2200, -53.3220,-999.000,-999.0000, -999.00,  11.1796,  11.2285,2,    35.3047,2,  -999.0,9,     -999.0,9,     -999.0,9,     -999.0,9,       2332
33AT20120419,        A20,       6,          1,          1,          1,2,20120421,       2330,     7.2201,   -53.3220,        260,   253.2,  10.6041,  35.0366,2,  35.0413,2,    131.6,2,   131.1,2,   14.26,2,   23.67,2,    0.10,2,    1.63,2,   2.035,2,-999.000,5,   0.042,2,    0.70,3,  2193.6,2,  2319.7,2,   7.6603,6,    25.00,-999.000,9,-999.0000,9, -999.00,9,  10.5738,2, -999.00,9,  -999.0,9,  -999.0,-999.000,9,-999.000,-999.000,9, -999.00,9, -999.00,9, -999.00,9,   7.2201, -53.3220,-999.000,-999.0000, -999.00,  10.5735,  10.5738,2,    35.2066,2,  -999.0,9,     -999.0,9,     -999.0,9,     -999.0,9,       2331