BOTTLE,20220712CCHSIOCBG
EXPOCODE,SECT_ID,STNNBR,CASTNO,SAMPNO,BTLNBR,BTLNBR_FLAG_W,DATE,TIME,LATITUDE,LONGITUDE,DEPTH,CTDPRS,CTDTMP,CTDSAL,CTDSAL_FLAG_W,SALNTY,SALNTY_FLAG_W,CTDOXY,CTDOXY_FLAG_W,OXYGEN,OXYGEN_FLAG_W,SILCAT,SILCAT_FLAG_W,NITRAT,NITRAT_FLAG_W,NITRIT,NITRIT_FLAG_W,PHSPHT,PHSPHT_FLAG_W,CFC-11,CFC-11_FLAG_W,CFC-12,CFC-12_FLAG_W,CFC113,CFC113_FLAG_W,SF6,SF6_FLAG_W,TCARBN,TCARBN_FLAG_W,ALKALI,ALKALI_FLAG_W,PH_TOT,PH_TOT_FLAG_W,PH_TMP,TRITUM,TRITUM_FLAG_W,HELIUM,HELIUM_FLAG_W,DELHE3,DELHE3_FLAG_W,REFTMP,REFTMP_FLAG_W,DELC13,DELC13_FLAG_W,DELC14,DELC14_FLAG_W,C14ERR,NEON,NEON_FLAG_W,NEONER,CCL4,CCL4_FLAG_W,DELO18,DELO18_FLAG_W,DOC,DOC_FLAG_W,TDN,TDN_FLAG_W,BTL_LAT,BTL_LON,TRITER,HELIER,DELHER,THETA,SBE35,SBE35_FLAG_W,SALTREF,SALTREF_FLAG_W,14C-DOC,14C-DOC_FLAG_W,DELO17,DELO17_FLAG_W,O2/AR,O2/AR_FLAG_W,SIP,SIP_FLAG_W,BTL_TIME
,,,,,,,,,,,METERS,DBAR,ITS-90,PSS-78,,PSS-78,,UMOL/KG,,UMOL/KG,,UMOL/KG,,UMOL/KG,,UMOL/KG,,UMOL/KG,,PMOL/KG,,PMOL/KG,,PMOL/KG,,FMOL/KG,,UMOL/KG,,UMOL/KG,,,,DEG C,TU,,NMOL/KG,,PERCNT,,DEG C,,/MILLE,,/MILLE,,/MILLE,NMOL/KG,,NMOL/KG,PMOL/KG,,/MILLE,,UMOL/KG,,UMOL/KG,,,,TU,NMOL/KG,PERCNT,DEG C,ITS-90,,G/KG,,/MILLE,,/MILLE,,,,,,
33AT20120419,        A20,      45,          1,          6,          6,2,20120502,       0640,    25.2343,   -52.3306,       5730,  4061.2,   2.2058,  34.8806,2,  34.8797,2,    253.0,2,   253.7,2,   44.09,2,   21.07,2,    0.00,2,    1.45,2,   0.041,2,   0.030,2,   0.004,2,    0.00,3,  -999.0,9,  -999.0,9,-999.0000,9,  -999.00,-999.000,9,-999.0000,9, -999.00,9,   2.2056,2, -999.00,9,  -999.0,9,  -999.0,-999.000,9,-999.000,   0.110,2, -999.00,9,   39.61,2,   24.20,2,  25.2336, -52.3303,-999.000,-999.0000, -999.00,   1.8589,   2.2056,2,    35.0442,2,  -999.0,9,     -999.0,9,     -999.0,9,     -999.0,9,       0716
33AT20120419,        A20,      45,          1,          5,          5,2,20120502,       0640,    25.2343,   -52.3306,       5730,  4371.6,   2.1531,  34.8721,2,  34.8717,2,    252.9,2,   252.6,2,   46.88,2,   21.42,2,    0.00,2,    1.47,2,   0.043,2,   0.035,2,   0.002,2,    0.00,3,  2189.9,2,  2341.9,6,   7.7261,2,    25.00,-999.000,9,-999.0000,9, -999.00,9,   2.1528,2, -999.00,9,  -999.0,9,  -999.0,-999.000,9,-999.000,   0.120,2, -999.00,9,   39.85,2,   24.84,2,  25.2340, -52.3304,-999.000,-999.0000, -999.00,   1.7718,   2.1528,2,    35.0361,2,  -999.0,9,     -999.0,9,     -999.0,9,     -999.0,9,       0710
33AT20120419,        A20,      45,          1,          4,          4,2,20120502,       0640,    25.2343,   -52.3306,       5730,  4672.6,   2.1366,  34.8667,2,  34.8672,2,    251.4,2,   251.7,2,   48.67,2,   21.64,2,    0.00,2,    1.49,2,   0.045,2,   0.032,2,   0.003,2,    0.00,3,  -999.0,9,  -999.0,9,-999.0000,9,  -999.00,-999.000,9,-999.0000,9, -999.00,9,   2.1362,2, -999.00,9,  -999.0,9,  -999.0,-999.000,9,-999.000,   0.120,2, -999.00,9,   40.23,2,   23.84,2,  25.2341, -52.3304,-999.000,-999.0000, -999.00,   1.7198,   2.1362,2,    35.0316,2,  -999.0,9,     -999.0,9,     -999.0,9,     -999.0,9,       0704
33AT20120419,        A20,      45,          1,          3,          3,2,20120502,       0640,    25.2343,   -52.3306,       5730,  4984.9,   2.1288,  34.8621,2,  34.8617,2,    250.7,2,   251.0,2,   50.30,2,   21.83,2,    0.00,2,    1.50,2,   0.049,2,   0.038,2,   0.003,2,    0.00,3,  2194.7,2,  2344.0,2,   7.7218,2,    25.00,-999.000,9,-999.0000,9, -999.00,9,   2.1290,2, -999.00,9,  -999.0,9,  -999.0,-999.000,9,-999.000,   0.120,2, -999.00,9,   39.78,2,   25.25,2,  25.2339, -52.3303,-999.000,-999.0000, -999.00,   1.6739,   2.1290,2,    35.0260,2,  -999.0,9,     -999.0,9,     -999.0,9,     -999.0,9,       0658
33AT20120419,        A20,      45,          1,          2,          2,2,20120502,       0640,    25.2343,   -52.3306,       5730,  5404.1,   2.1107,  34.8537,2,  34.8532,2,    248.6,2,   249.3,2,   53.23,2,   22.23,2,    0.00,2,    1.52,2,   0.070,2,   0.050,2,   0.004,2,    0.00,3,  2198.6,2,  2345.3,2,   7.7163,6,    25.00,-999.000,9,-999.0000,9, -999.00,9,   2.1102,2, -999.00,9,  -999.0,9,  -999.0,-999.000,9,-999.000,   0.150,2, -999.00,9,   39.44,2,   25.81,2,  25.2339, -52.3303,-999.000,-999.0000, -999.00,   1.6030,   2.1102,2,    35.0176,2,  -999.0,9,     -999.0,9,     -999.0,9,     -999.0,9,       0649
33AT20120419,        A20,      45,          1,          1,          1,2,20120502,       0640,    25.2343,   -52.3306,       5730,  5836.1,   2.1503,  34.8516,2,  34.8516,2,    248.4,2,   248.9,2,   54.09,2,   22.34,2,    0.00,2,    1.53,2,   0.082,2,   0.056,2,   0.007,2,    0.00,3,  2200.8,6,  2346.6,2,   7.7152,2,    25.00,-999.000,9,-999.0000,9, -999.00,9,   2.1504,2, -999.00,9,  -999.0,9,  -999.0,-999.000,9,-999.000,   0.170,2, -999.00,9,   40.61,2,   25.86,2,  25.2342, -52.3306,-999.000,-999.0000, -999.00,   1.5839,   2.1504,2,    35.0160,2,  -999.0,9,     -999.0,9,     -999.0,9,     -999.0,9,       0642