BOTTLE,20220712CCHSIOCBG
EXPOCODE,SECT_ID,STNNBR,CASTNO,SAMPNO,BTLNBR,BTLNBR_FLAG_W,DATE,TIME,LATITUDE,LONGITUDE,DEPTH,CTDPRS,CTDTMP,CTDSAL,CTDSAL_FLAG_W,SALNTY,SALNTY_FLAG_W,CTDOXY,CTDOXY_FLAG_W,OXYGEN,OXYGEN_FLAG_W,SILCAT,SILCAT_FLAG_W,NITRAT,NITRAT_FLAG_W,NITRIT,NITRIT_FLAG_W,PHSPHT,PHSPHT_FLAG_W,CFC-11,CFC-11_FLAG_W,CFC-12,CFC-12_FLAG_W,CFC113,CFC113_FLAG_W,SF6,SF6_FLAG_W,TCARBN,TCARBN_FLAG_W,ALKALI,ALKALI_FLAG_W,PH_TOT,PH_TOT_FLAG_W,PH_TMP,TRITUM,TRITUM_FLAG_W,HELIUM,HELIUM_FLAG_W,DELHE3,DELHE3_FLAG_W,REFTMP,REFTMP_FLAG_W,DELC13,DELC13_FLAG_W,DELC14,DELC14_FLAG_W,C14ERR,NEON,NEON_FLAG_W,NEONER,CCL4,CCL4_FLAG_W,DELO18,DELO18_FLAG_W,DOC,DOC_FLAG_W,TDN,TDN_FLAG_W,BTL_LAT,BTL_LON,TRITER,HELIER,DELHER,THETA,SBE35,SBE35_FLAG_W,SALTREF,SALTREF_FLAG_W,14C-DOC,14C-DOC_FLAG_W,DELO17,DELO17_FLAG_W,O2/AR,O2/AR_FLAG_W,SIP,SIP_FLAG_W,BTL_TIME
,,,,,,,,,,,METERS,DBAR,ITS-90,PSS-78,,PSS-78,,UMOL/KG,,UMOL/KG,,UMOL/KG,,UMOL/KG,,UMOL/KG,,UMOL/KG,,PMOL/KG,,PMOL/KG,,PMOL/KG,,FMOL/KG,,UMOL/KG,,UMOL/KG,,,,DEG C,TU,,NMOL/KG,,PERCNT,,DEG C,,/MILLE,,/MILLE,,/MILLE,NMOL/KG,,NMOL/KG,PMOL/KG,,/MILLE,,UMOL/KG,,UMOL/KG,,,,TU,NMOL/KG,PERCNT,DEG C,ITS-90,,G/KG,,/MILLE,,/MILLE,,,,,,
33AT20120419,        A20,      51,          1,          6,          6,2,20120504,       0818,    29.7448,   -52.3317,       5020,  3748.9,   2.4041,  34.9042,2,  34.9040,2,    259.8,2,   260.2,2,   33.10,2,   19.73,2,    0.00,2,    1.34,2,   0.118,2,   0.073,2,   0.005,2,    0.00,3,  2173.3,2,  2329.3,2,   7.7401,2,    25.00,-999.000,9,-999.0000,9, -999.00,9,   2.4048,2, -999.00,9,  -999.0,9,  -999.0,-999.000,9,-999.000,   0.200,2, -999.00,9, -999.00,9, -999.00,9,  29.7448, -52.3317,-999.000,-999.0000, -999.00,   2.0868,   2.4048,2,    35.0686,2,  -999.0,9,     -999.0,9,     -999.0,9,     -999.0,9,       0847
33AT20120419,        A20,      51,          1,          5,          5,2,20120504,       0818,    29.7448,   -52.3317,       5020,  4060.1,   2.2639,  34.8892,2,  34.8889,2,    258.8,2,   259.1,2,   37.90,2,   20.30,2,    0.00,2,    1.38,2,   0.125,2,   0.077,2,   0.005,2,    0.00,3,  -999.0,9,  -999.0,9,-999.0000,9,  -999.00,-999.000,9,-999.0000,9, -999.00,9,   2.2644,2, -999.00,9,  -999.0,9,  -999.0,-999.000,9,-999.000,   0.190,2, -999.00,9, -999.00,9, -999.00,9,  29.7450, -52.3317,-999.000,-999.0000, -999.00,   1.9154,   2.2644,2,    35.0534,2,  -999.0,9,     -999.0,9,     -999.0,9,     -999.0,9,       0840
33AT20120419,        A20,      51,          1,          4,          4,2,20120504,       0818,    29.7448,   -52.3317,       5020,  4366.6,   2.1556,  34.8742,2,  34.8739,2,    254.7,2,   255.0,2,   44.28,2,   21.18,2,    0.00,2,    1.45,2,   0.089,2,   0.060,2,   0.006,2,    0.00,3,  2186.9,2,  2338.9,2,   7.7289,6,    25.00,-999.000,9,-999.0000,9, -999.00,9,   2.1551,2, -999.00,9,  -999.0,9,  -999.0,-999.000,9,-999.000,   0.160,2, -999.00,9, -999.00,9, -999.00,9,  29.7451, -52.3318,-999.000,-999.0000, -999.00,   1.7748,   2.1551,2,    35.0384,2,  -999.0,9,     -999.0,9,     -999.0,9,     -999.0,9,       0834
33AT20120419,        A20,      51,          1,          3,          3,2,20120504,       0818,    29.7448,   -52.3317,       5020,  4677.6,   2.1078,  34.8648,2,  34.8647,2,    252.7,2,   253.1,2,   48.34,2,   21.80,2,    0.00,2,    1.48,2,   0.065,2,   0.046,2,   0.005,2,    0.00,3,  -999.0,9,  -999.0,9,-999.0000,9,  -999.00,-999.000,9,-999.0000,9, -999.00,9,   2.1074,2, -999.00,9,  -999.0,9,  -999.0,-999.000,9,-999.000,   0.130,2, -999.00,9, -999.00,9, -999.00,9,  29.7449, -52.3317,-999.000,-999.0000, -999.00,   1.6914,   2.1074,2,    35.0291,2,  -999.0,9,     -999.0,9,     -999.0,9,     -999.0,9,       0827
33AT20120419,        A20,      51,          1,          2,          2,2,20120504,       0818,    29.7448,   -52.3317,       5020,  4891.4,   2.1184,  34.8632,2,  34.8631,2,    252.1,2,   252.4,2,   49.03,2,   21.88,2,    0.00,2,    1.49,2,   0.064,2,   0.046,2,   0.006,2,    0.00,3,  2192.9,2,  2342.1,2,-999.0000,5,    25.00,-999.000,9,-999.0000,9, -999.00,9,   2.1190,2, -999.00,9,  -999.0,9,  -999.0,-999.000,9,-999.000,   0.140,2, -999.00,9, -999.00,9, -999.00,9,  29.7448, -52.3317,-999.000,-999.0000, -999.00,   1.6754,   2.1190,2,    35.0275,2,  -999.0,9,     -999.0,9,     -999.0,9,     -999.0,9,       0823
33AT20120419,        A20,      51,          1,          1,          1,2,20120504,       0818,    29.7448,   -52.3317,       5020,  5109.6,   2.1315,  34.8613,2,  34.8615,2,    251.5,2,   251.6,2,   49.63,2,   21.98,2,    0.00,2,    1.49,2,   0.071,2,   0.049,2,   0.007,2,    0.00,3,  2194.9,6,  2344.4,2,   7.7231,2,    25.00,-999.000,9,-999.0000,9, -999.00,9,   2.1318,2, -999.00,9,  -999.0,9,  -999.0,-999.000,9,-999.000,   0.160,2, -999.00,9, -999.00,9, -999.00,9,  29.7448, -52.3317,-999.000,-999.0000, -999.00,   1.6608,   2.1318,2,    35.0259,2,  -999.0,9,     -999.0,9,     -999.0,9,     -999.0,9,       0818