BOTTLE,20220712CCHSIOCBG
EXPOCODE,SECT_ID,STNNBR,CASTNO,SAMPNO,BTLNBR,BTLNBR_FLAG_W,DATE,TIME,LATITUDE,LONGITUDE,DEPTH,CTDPRS,CTDTMP,CTDSAL,CTDSAL_FLAG_W,SALNTY,SALNTY_FLAG_W,CTDOXY,CTDOXY_FLAG_W,OXYGEN,OXYGEN_FLAG_W,SILCAT,SILCAT_FLAG_W,NITRAT,NITRAT_FLAG_W,NITRIT,NITRIT_FLAG_W,PHSPHT,PHSPHT_FLAG_W,CFC-11,CFC-11_FLAG_W,CFC-12,CFC-12_FLAG_W,CFC113,CFC113_FLAG_W,SF6,SF6_FLAG_W,TCARBN,TCARBN_FLAG_W,ALKALI,ALKALI_FLAG_W,PH_TOT,PH_TOT_FLAG_W,PH_TMP,TRITUM,TRITUM_FLAG_W,HELIUM,HELIUM_FLAG_W,DELHE3,DELHE3_FLAG_W,REFTMP,REFTMP_FLAG_W,DELC13,DELC13_FLAG_W,DELC14,DELC14_FLAG_W,C14ERR,NEON,NEON_FLAG_W,NEONER,CCL4,CCL4_FLAG_W,DELO18,DELO18_FLAG_W,DOC,DOC_FLAG_W,TDN,TDN_FLAG_W,BTL_LAT,BTL_LON,TRITER,HELIER,DELHER,THETA,SBE35,SBE35_FLAG_W,SALTREF,SALTREF_FLAG_W,14C-DOC,14C-DOC_FLAG_W,DELO17,DELO17_FLAG_W,O2/AR,O2/AR_FLAG_W,SIP,SIP_FLAG_W,BTL_TIME
,,,,,,,,,,,METERS,DBAR,ITS-90,PSS-78,,PSS-78,,UMOL/KG,,UMOL/KG,,UMOL/KG,,UMOL/KG,,UMOL/KG,,UMOL/KG,,PMOL/KG,,PMOL/KG,,PMOL/KG,,FMOL/KG,,UMOL/KG,,UMOL/KG,,,,DEG C,TU,,NMOL/KG,,PERCNT,,DEG C,,/MILLE,,/MILLE,,/MILLE,NMOL/KG,,NMOL/KG,PMOL/KG,,/MILLE,,UMOL/KG,,UMOL/KG,,,,TU,NMOL/KG,PERCNT,DEG C,ITS-90,,G/KG,,/MILLE,,/MILLE,,,,,,
33AT20120419,        A20,      52,          1,         36,         36,2,20120504,       1618,    30.4950,   -52.3331,       5121,     4.3,  21.9724,  36.8855,2,  36.8865,2,    217.8,2,   219.3,2,    0.33,2,    0.00,2,    0.00,2,    0.00,2,-999.000,5,-999.000,5,-999.000,5,    1.22,2,  2085.3,6,  2413.0,2,   8.0509,2,    25.00,-999.000,9,-999.0000,9, -999.00,9,  21.9740,2,    0.79,2,    64.3,2,     2.8,-999.000,9,-999.000,-999.000,9, -999.00,9,   70.79,2,    3.85,2,  30.5000, -52.3293,-999.000,-999.0000, -999.00,  21.9715,  21.9740,2,    37.0605,2,  -999.0,9,     -999.0,9,     -999.0,9,     -999.0,9,       1828
33AT20120419,        A20,      52,          1,         35,         35,2,20120504,       1618,    30.4950,   -52.3331,       5121,    19.6,  21.8917,  36.8815,2,  36.8820,2,    219.3,2,   219.5,2,    0.31,2,    0.00,2,    0.00,2,    0.00,2,   2.024,2,   1.258,2,   0.184,2,    1.25,2,  2086.3,2,  2413.7,2,   8.0513,6,    25.00,-999.000,9,-999.0000,9, -999.00,9,  21.9010,2, -999.00,9,  -999.0,9,  -999.0,-999.000,9,-999.000,-999.000,9, -999.00,9,   70.65,2,    4.54,2,  30.4999, -52.3293,-999.000,-999.0000, -999.00,  21.8878,  21.9010,2,    37.0559,2,  -999.0,9,     -999.0,9,     -999.0,9,     -999.0,9,       1826
33AT20120419,        A20,      52,          1,         34,         34,2,20120504,       1618,    30.4950,   -52.3331,       5121,    39.8,  20.9551,  36.8299,2,  36.8306,2,    223.8,2,   223.7,2,    0.29,2,    0.00,2,    0.00,2,    0.00,2,   2.073,2,   1.291,2,   0.188,2,    1.27,2,  2083.1,2,  2410.6,2,   8.0519,2,    25.00,-999.000,9,-999.0000,9, -999.00,9,  20.9582,2, -999.00,9,  -999.0,9,  -999.0,-999.000,9,-999.000,-999.000,9, -999.00,9,   69.83,2,    4.58,2,  30.4998, -52.3293,-999.000,-999.0000, -999.00,  20.9474,  20.9582,2,    37.0042,2,  -999.0,9,     -999.0,9,     -999.0,9,     -999.0,9,       1824
33AT20120419,        A20,      52,          1,         33,         33,2,20120504,       1618,    30.4950,   -52.3331,       5121,    65.4,  20.6979,  36.8233,2,  36.8210,2,    221.8,2,   222.8,2,    0.27,2,    0.00,2,    0.00,2,    0.00,2,   2.108,2,   1.332,2,   0.185,2,    1.29,2,  2085.1,2,  2409.5,2,   8.0471,2,    25.00,-999.000,9,-999.0000,9, -999.00,9,  20.7072,2,    0.95,2,    55.8,2,     4.0,-999.000,9,-999.000,-999.000,9, -999.00,9,   65.33,2,    4.38,2,  30.4997, -52.3294,-999.000,-999.0000, -999.00,  20.6854,  20.7072,2,    36.9946,2,  -999.0,9,     -999.0,9,     -999.0,9,     -999.0,9,       1822
33AT20120419,        A20,      52,          1,         32,         32,2,20120504,       1618,    30.4950,   -52.3331,       5121,    91.2,  19.9227,  36.7166,2,  36.7236,2,    222.6,2,   217.0,2,    0.34,2,    0.00,2,    0.00,2,    0.00,2,   2.182,2,   1.376,2,   0.167,2,    1.21,2,  -999.0,9,  -999.0,9,-999.0000,9,  -999.00,-999.000,9,-999.0000,9, -999.00,9,  19.9211,2, -999.00,9,  -999.0,9,  -999.0,-999.000,9,-999.000,-999.000,9, -999.00,9,   63.59,2,    4.62,2,  30.4997, -52.3294,-999.000,-999.0000, -999.00,  19.9057,  19.9211,2,    36.8968,2,  -999.0,9,     -999.0,9,     -999.0,9,     -999.0,9,       1820
33AT20120419,        A20,      52,          1,         31,         31,2,20120504,       1618,    30.4950,   -52.3331,       5121,   135.8,  18.6704,  36.6037,2,  36.6030,2,    195.3,2,   195.6,2,    0.81,2,    2.36,2,    0.05,2,    0.08,2,   2.270,2,   1.396,2,   0.083,2,    1.24,2,  2116.5,2,  2393.6,2,   7.9726,2,    25.00,-999.000,9,-999.0000,9, -999.00,9,  18.7045,2,    0.62,2,    68.6,2,     2.8,-999.000,9,-999.000,-999.000,9, -999.00,9,   57.41,2,    6.75,2,  30.4995, -52.3295,-999.000,-999.0000, -999.00,  18.6463,  18.7045,2,    36.7756,2,  -999.0,9,     -999.0,9,     -999.0,9,     -999.0,9,       1817
33AT20120419,        A20,      52,          1,         30,         30,2,20120504,       1618,    30.4950,   -52.3331,       5121,   184.7,  18.0940,  36.5614,2,  36.5620,2,    198.7,2,   199.5,2,    0.96,2,    3.99,2,    0.02,2,    0.18,2,   2.294,2,   1.409,2,   0.046,2,    1.20,2,  2115.3,2,  2390.7,2,   7.9699,2,    25.00,-999.000,9,-999.0000,9, -999.00,9,  18.1094,2,    0.62,2,    61.7,2,     2.6,-999.000,9,-999.000,-999.000,9, -999.00,9,   54.82,2,    7.90,2,  30.4994, -52.3296,-999.000,-999.0000, -999.00,  18.0618,  18.1094,2,    36.7344,2,  -999.0,9,     -999.0,9,     -999.0,9,     -999.0,9,       1815
33AT20120419,        A20,      52,          1,         29,         29,2,20120504,       1618,    30.4950,   -52.3331,       5121,   235.2,  17.8227,  36.5339,2,  36.5333,2,    205.6,2,   204.0,2,    1.19,2,    4.30,2,    0.01,2,    0.20,2,   2.338,2,   1.430,2,   0.048,2,    1.22,2,  2115.4,2,  2388.3,2,   7.9680,2,    25.00,-999.000,9,-999.0000,9, -999.00,9,  17.8245,2, -999.00,9,  -999.0,9,  -999.0,-999.000,9,-999.000,-999.000,9, -999.00,9,   52.23,2,    7.70,2,  30.4993, -52.3297,-999.000,-999.0000, -999.00,  17.7821,  17.8245,2,    36.7055,2,  -999.0,9,     -999.0,9,     -999.0,9,     -999.0,9,       1813
33AT20120419,        A20,      52,          1,         28,         28,2,20120504,       1618,    30.4950,   -52.3331,       5121,   286.6,  17.6122,  36.5050,2,  36.5053,2,    207.2,2,   204.8,2,    1.33,2,    4.52,2,    0.01,2,    0.22,2,   2.350,2,   1.425,2,   0.048,2,    1.18,2,  -999.0,9,  -999.0,9,-999.0000,9,  -999.00,-999.000,9,-999.0000,9, -999.00,9,  17.6104,2, -999.00,9,  -999.0,9,  -999.0,-999.000,9,-999.000,-999.000,9, -999.00,9,   51.78,2,    8.75,2,  30.4992, -52.3297,-999.000,-999.0000, -999.00,  17.5631,  17.6104,2,    36.6775,2,  -999.0,9,     -999.0,9,     -999.0,9,     -999.0,9,       1810
33AT20120419,        A20,      52,          1,         27,         27,2,20120504,       1618,    30.4950,   -52.3331,       5121,   334.6,  17.3961,  36.4709,2,  36.4704,2,    207.8,2,   206.1,2,    1.45,2,    4.83,2,    0.01,2,    0.25,2,   2.347,2,   1.420,2,   0.057,2,    1.21,2,  2116.5,2,  2385.1,2,   7.9598,2,    25.00,-999.000,9,-999.0000,9, -999.00,9,  17.3995,2,    0.67,2,    65.9,2,     2.8,-999.000,9,-999.000,-999.000,9, -999.00,9,   49.89,2,    8.80,2,  30.4991, -52.3298,-999.000,-999.0000, -999.00,  17.3392,  17.3995,2,    36.6424,2,  -999.0,9,     -999.0,9,     -999.0,9,     -999.0,9,       1809
33AT20120419,        A20,      52,          1,         26,         26,2,20120504,       1618,    30.4950,   -52.3331,       5121,   382.0,  17.0694,  36.4040,2,  36.3918,2,    204.3,2,   201.8,2,    1.86,2,    5.87,2,    0.01,2,    0.32,2,   2.377,2,   1.427,2,   0.047,2,    1.18,2,  -999.0,9,  -999.0,9,-999.0000,9,  -999.00,-999.000,9,-999.0000,9, -999.00,9,  17.0690,2, -999.00,9,  -999.0,9,  -999.0,-999.000,9,-999.000,-999.000,9, -999.00,9,   48.11,2,    8.33,2,  30.4991, -52.3298,-999.000,-999.0000, -999.00,  17.0053,  17.0690,2,    36.5634,2,  -999.0,9,     -999.0,9,     -999.0,9,     -999.0,9,       1807
33AT20120419,        A20,      52,          1,         25,         25,2,20120504,       1618,    30.4950,   -52.3331,       5121,   467.1,  15.8128,  36.1546,2,  36.1501,2,    193.2,2,   192.3,2,    2.86,2,    8.62,2,    0.01,2,    0.51,2,   2.405,2,   1.417,2,   0.049,2,    1.07,2,  2132.8,2,  2368.5,6,   7.9014,2,    25.00,-999.000,9,-999.0000,9, -999.00,9,  15.8162,2,    0.59,2,    61.5,2,     2.6,-999.000,9,-999.000,-999.000,9, -999.00,9,   46.82,2,   13.10,2,  30.4991, -52.3298,-999.000,-999.0000, -999.00,  15.7383,  15.8162,2,    36.3206,2,  -999.0,9,     -999.0,9,     -999.0,9,     -999.0,9,       1804
33AT20120419,        A20,      52,          1,         24,         24,2,20120504,       1618,    30.4950,   -52.3331,       5121,   567.7,  14.1891,  35.8803,2,  35.8804,2,    189.1,2,   187.4,2,    4.33,2,   11.60,2,    0.00,2,    0.69,2,   2.414,2,   1.390,2,   0.050,2,    1.05,2,  2145.3,2,  2354.0,2,   7.8549,6,    25.00,-999.000,9,-999.0000,9, -999.00,9,  14.1851,2,    0.64,2,    54.3,2,     2.8,-999.000,9,-999.000,-999.000,9, -999.00,9,   45.71,2,   14.34,2,  30.4992, -52.3297,-999.000,-999.0000, -999.00,  14.1047,  14.1851,2,    36.0496,2,  -999.0,9,     -999.0,9,     -999.0,9,     -999.0,9,       1801
33AT20120419,        A20,      52,          1,         23,         23,2,20120504,       1618,    30.4950,   -52.3331,       5121,   669.2,  12.0799,  35.5745,2,  35.5714,2,    166.7,2,   165.4,2,    7.70,2,   17.31,2,    0.00,2,    1.06,2,   2.083,2,   1.177,2,   0.044,2,    0.75,2,  2167.4,2,  2338.3,2,   7.7748,2,    25.00,-999.000,9,-999.0000,9, -999.00,9,  12.0731,2,    0.63,2,    24.9,2,     2.5,-999.000,9,-999.000,-999.000,9, -999.00,9,   44.04,2,   20.63,2,  30.4991, -52.3297,-999.000,-999.0000, -999.00,  11.9900,  12.0731,2,    35.7391,2,  -999.0,9,     -999.0,9,     -999.0,9,     -999.0,9,       1758
33AT20120419,        A20,      52,          1,         22,         22,2,20120504,       1618,    30.4950,   -52.3331,       5121,   770.2,   9.9613,  35.3328,2,  35.3422,2,    157.8,2,   157.1,2,   10.95,2,   21.08,2,    0.00,2,    1.33,2,   1.640,2,   0.861,2,   0.031,2,    0.56,2,  2182.6,2,  2326.9,2,   7.7176,6,    25.00,-999.000,9,-999.0000,9, -999.00,9,   9.9666,2,    0.70,2,    -1.6,2,     3.7,-999.000,9,-999.000,-999.000,9, -999.00,9,   43.08,2,   24.24,2,  30.4991, -52.3298,-999.000,-999.0000, -999.00,   9.8692,   9.9666,2,    35.5089,2,  -999.0,9,     -999.0,9,     -999.0,9,     -999.0,9,       1755
33AT20120419,        A20,      52,          1,         21,         21,2,20120504,       1618,    30.4950,   -52.3331,       5121,   871.4,   8.2081,  35.1975,2,  35.1972,2,    165.8,2,   168.5,2,   13.32,2,   22.45,2,    0.00,2,    1.43,2,   1.353,2,   0.693,2,   0.038,2,    0.35,2,  2187.2,6,  2323.4,2,   7.6938,2,    25.00,-999.000,9,-999.0000,9, -999.00,9,   8.2078,2,    0.73,2,   -22.3,2,     2.6,-999.000,9,-999.000,-999.000,9, -999.00,9,   43.33,2,   25.34,2,  30.4990, -52.3298,-999.000,-999.0000, -999.00,   8.1145,   8.2078,2,    35.3632,2,  -999.0,9,     -999.0,9,     -999.0,9,     -999.0,9,       1752
33AT20120419,        A20,      52,          1,         20,         20,2,20120504,       1618,    30.4950,   -52.3331,       5121,   972.6,   6.9489,  35.1399,2,  35.1405,2,    182.8,2,   185.3,2,   14.47,2,   22.24,2,    0.00,2,    1.44,2,   1.183,2,   0.589,2,   0.032,2,    0.27,2,  2185.2,2,  2322.2,2,   7.6938,2,    25.00,-999.000,9,-999.0000,9, -999.00,9,   6.9492,2,    0.80,2,   -36.1,2,     4.0,-999.000,9,-999.000,-999.000,9, -999.00,9,   42.75,2,   25.13,2,  30.4990, -52.3299,-999.000,-999.0000, -999.00,   6.8529,   6.9492,2,    35.3062,2,  -999.0,9,     -999.0,9,     -999.0,9,     -999.0,9,       1750
33AT20120419,        A20,      52,          1,         19,         19,2,20120504,       1618,    30.4950,   -52.3331,       5121,  1074.3,   6.3115,  35.1428,2,  35.1426,2,    201.8,2,   203.0,2,   14.08,2,   21.04,2,    0.00,2,    1.38,2,   1.257,2,   0.628,2,   0.044,2,    0.29,2,  2180.9,2,  2322.7,2,   7.7056,2,    25.00,-999.000,9,-999.0000,9, -999.00,9,   6.3107,2,    0.84,2,   -46.6,2,     2.5,-999.000,9,-999.000,-999.000,9, -999.00,9,   42.14,2,   23.28,2,  30.4989, -52.3299,-999.000,-999.0000, -999.00,   6.2098,   6.3107,2,    35.3083,2,  -999.0,9,     -999.0,9,     -999.0,9,     -999.0,9,       1747
33AT20120419,        A20,      52,          1,         18,         18,2,20120504,       1618,    30.4950,   -52.3331,       5121,  1176.2,   5.8229,  35.1338,2,  35.1344,2,    221.1,2,   219.4,2,   13.18,2,   19.70,2,    0.00,2,    1.30,2,   1.619,2,   0.821,2,   0.067,2,    0.40,2,  -999.0,9,  -999.0,9,-999.0000,9,  -999.00,-999.000,9,-999.0000,9, -999.00,9,   5.8218,2, -999.00,9,  -999.0,9,  -999.0,-999.000,9,-999.000,-999.000,9, -999.00,9,   41.64,2,   22.36,2,  30.4987, -52.3300,-999.000,-999.0000, -999.00,   5.7150,   5.8218,2,    35.3001,2,  -999.0,9,     -999.0,9,     -999.0,9,     -999.0,9,       1744
33AT20120419,        A20,      52,          1,         17,         17,2,20120504,       1618,    30.4950,   -52.3331,       5121,  1274.8,   5.3232,  35.0955,2,  35.0938,2,    235.9,2,   235.4,2,   12.22,2,   18.57,2,    0.00,2,    1.23,2,   2.181,2,   1.139,2,   0.117,2,    0.58,2,  2172.0,2,  2318.0,2,   7.7182,2,    25.00,-999.000,9,-999.0000,9, -999.00,9,   5.3225,2,    0.85,2,   -18.4,2,     2.6,-999.000,9,-999.000,-999.000,9, -999.00,9,   41.22,2,   21.02,2,  30.4986, -52.3301,-999.000,-999.0000, -999.00,   5.2102,   5.3225,2,    35.2593,2,  -999.0,9,     -999.0,9,     -999.0,9,     -999.0,9,       1741
33AT20120419,        A20,      52,          1,         16,         16,2,20120504,       1618,    30.4950,   -52.3331,       5121,  1377.5,   4.8848,  35.0603,2,  35.0594,2,    243.3,2,   245.4,2,   12.08,2,   18.20,2,    0.00,2,    1.21,2,   2.317,2,   1.186,2,   0.132,2,    0.56,2,  -999.0,9,  -999.0,9,-999.0000,9,  -999.00,-999.000,9,-999.0000,9, -999.00,9,   4.8868,2, -999.00,9,  -999.0,9,  -999.0,-999.000,9,-999.000,-999.000,9, -999.00,9,   40.95,2,   20.46,2,  30.4985, -52.3302,-999.000,-999.0000, -999.00,   4.7663,   4.8868,2,    35.2247,2,  -999.0,9,     -999.0,9,     -999.0,9,     -999.0,9,       1738
33AT20120419,        A20,      52,          1,         15,         15,2,20120504,       1618,    30.4950,   -52.3331,       5121,  1481.8,   4.6855,  35.0555,2,  35.0558,2,    247.5,2,   248.0,2,   12.54,2,   18.14,2,    0.00,2,    1.20,2,   2.112,2,   1.067,2,   0.110,2,    0.47,2,  2167.4,2,  2317.0,2,   7.7246,2,    25.00,-999.000,9,-999.0000,9, -999.00,9,   4.6859,2,    0.88,2,   -24.6,2,     2.4,-999.000,9,-999.000,-999.000,9, -999.00,9,   41.32,2,   20.81,2,  30.4984, -52.3303,-999.000,-999.0000, -999.00,   4.5591,   4.6859,2,    35.2211,2,  -999.0,9,     -999.0,9,     -999.0,9,     -999.0,9,       1736
33AT20120419,        A20,      52,          1,         14,         14,2,20120504,       1618,    30.4950,   -52.3331,       5121,  1578.2,   4.4610,  35.0451,2,  35.0458,2,    251.3,2,   251.1,2,   13.05,2,   18.05,2,    0.00,2,    1.20,2,   1.949,2,   0.966,2,   0.105,2,    0.38,2,  2165.8,2,  2315.9,2,   7.7283,2,    25.00,-999.000,9,-999.0000,9, -999.00,9,   4.4595,2,    0.89,2,   -37.6,2,     2.4,-999.000,9,-999.000,-999.000,9, -999.00,9,   41.11,2,   20.24,2,  30.4983, -52.3304,-999.000,-999.0000, -999.00,   4.3280,   4.4595,2,    35.2110,2,  -999.0,9,     -999.0,9,     -999.0,9,     -999.0,9,       1733
33AT20120419,        A20,      52,          1,         13,         13,2,20120504,       1618,    30.4950,   -52.3331,       5121,  1751.1,   4.2180,  35.0330,2,  35.0336,2,    253.4,2,   253.2,2,   14.18,2,   18.11,2,    0.00,2,    1.21,2,   1.612,2,   0.776,2,   0.079,2,    0.27,2,  2165.3,2,  2316.1,2,   7.7311,2,    25.00,-999.000,9,-999.0000,9, -999.00,9,   4.2179,2, -999.00,9,  -999.0,9,  -999.0,-999.000,9,-999.000,-999.000,9, -999.00,9,   41.36,2,   20.69,2,  30.4980, -52.3306,-999.000,-999.0000, -999.00,   4.0714,   4.2179,2,    35.1988,2,  -999.0,9,     -999.0,9,     -999.0,9,     -999.0,9,       1729
33AT20120419,        A20,      52,          1,         12,         12,2,20120504,       1618,    30.4950,   -52.3331,       5121,  1957.6,   3.9337,  35.0210,2,  35.0208,2,    253.6,2,   253.5,2,   16.64,2,   18.36,2,    0.00,2,    1.23,2,   1.141,2,   0.533,2,   0.038,2,    0.18,2,  2164.8,2,  2319.1,2,   7.7346,2,    25.00,-999.000,9,-999.0000,9, -999.00,9,   3.9336,2, -999.00,9,  -999.0,9,  -999.0,-999.000,9,-999.000,-999.000,9, -999.00,9,   41.22,2,   20.74,2,  30.4977, -52.3308,-999.000,-999.0000, -999.00,   3.7711,   3.9336,2,    35.1859,2,  -999.0,9,     -999.0,9,     -999.0,9,     -999.0,9,       1724
33AT20120419,        A20,      52,          1,         11,         11,4,20120504,       1618,    30.4950,   -52.3331,       5121,  2185.9,   3.6079,  35.0025,2,-999.0000,9,    251.1,2,   246.3,4,   19.07,4,   18.05,4,    0.00,4,    1.21,4,-999.000,9,-999.000,9,-999.000,9, -999.00,9,  -999.0,9,  -999.0,9,-999.0000,9,  -999.00,-999.000,9,-999.0000,9, -999.00,9,   3.6077,2, -999.00,9,  -999.0,9,  -999.0,-999.000,9,-999.000,-999.000,9, -999.00,9,   41.23,4,   20.49,4,  30.4973, -52.3312,-999.000,-999.0000, -999.00,   3.4281,   3.6077,2,     -999.0,9,  -999.0,9,     -999.0,9,     -999.0,9,     -999.0,9,       1719
33AT20120419,        A20,      52,          1,         10,         10,2,20120504,       1618,    30.4950,   -52.3331,       5121,  2441.4,   3.3222,  34.9794,2,  34.9798,2,    252.3,2,   251.7,2,   24.38,2,   19.29,2,    0.00,2,    1.30,2,   0.405,2,   0.171,2,   0.013,2,    0.07,2,  2170.5,2,  2329.2,2,   7.7385,2,    25.00,-999.000,9,-999.0000,9, -999.00,9,   3.3225,2, -999.00,9,  -999.0,9,  -999.0,-999.000,9,-999.000,-999.000,9, -999.00,9,   40.79,2,   21.81,2,  30.4970, -52.3315,-999.000,-999.0000, -999.00,   3.1220,   3.3225,2,    35.1448,2,  -999.0,9,     -999.0,9,     -999.0,9,     -999.0,9,       1714
33AT20120419,        A20,      52,          1,          9,          9,2,20120504,       1618,    30.4950,   -52.3331,       5121,  2696.6,   3.1254,  34.9637,2,  34.9639,2,    251.0,2,   251.2,2,   27.55,2,   19.74,2,    0.00,2,    1.33,2,-999.000,9,-999.000,9,-999.000,9, -999.00,9,  -999.0,9,  -999.0,9,-999.0000,9,  -999.00,-999.000,9,-999.0000,9, -999.00,9,   3.1254,2, -999.00,9,  -999.0,9,  -999.0,-999.000,9,-999.000,-999.000,9, -999.00,9,   40.85,2,   22.24,2,  30.4966, -52.3318,-999.000,-999.0000, -999.00,   2.9033,   3.1254,2,    35.1287,2,  -999.0,9,     -999.0,9,     -999.0,9,     -999.0,9,       1709
33AT20120419,        A20,      52,          1,          8,          8,2,20120504,       1618,    30.4950,   -52.3331,       5121,  2953.6,   2.9360,  34.9478,2,  34.9483,2,    252.3,2,   252.1,2,   29.76,2,   19.94,2,    0.00,2,    1.35,2,   0.124,2,   0.058,2,   0.009,2,    0.03,2,  2175.1,2,  2330.6,2,   7.7399,2,    25.00,-999.000,9,-999.0000,9, -999.00,9,   2.9357,2, -999.00,9,  -999.0,9,  -999.0,-999.000,9,-999.000,-999.000,9, -999.00,9,   41.11,2,   22.16,2,  30.4963, -52.3320,-999.000,-999.0000, -999.00,   2.6914,   2.9357,2,    35.1131,2,  -999.0,9,     -999.0,9,     -999.0,9,     -999.0,9,       1703
33AT20120419,        A20,      52,          1,          7,          7,2,20120504,       1618,    30.4950,   -52.3331,       5121,  3243.4,   2.7573,  34.9328,2,  34.9332,2,    254.8,2,   255.2,2,   30.76,2,   19.84,2,    0.00,2,    1.34,2,-999.000,9,-999.000,9,-999.000,9, -999.00,9,  2174.8,2,  2330.4,6,   7.7413,2,    25.00,-999.000,9,-999.0000,9, -999.00,9,   2.7576,2, -999.00,9,  -999.0,9,  -999.0,-999.000,9,-999.000,-999.000,9, -999.00,9,   41.24,2,   22.41,2,  30.4960, -52.3322,-999.000,-999.0000, -999.00,   2.4862,   2.7576,2,    35.0979,2,  -999.0,9,     -999.0,9,     -999.0,9,     -999.0,9,       1657