BOTTLE,20220712CCHSIOCBG
EXPOCODE,SECT_ID,STNNBR,CASTNO,SAMPNO,BTLNBR,BTLNBR_FLAG_W,DATE,TIME,LATITUDE,LONGITUDE,DEPTH,CTDPRS,CTDTMP,CTDSAL,CTDSAL_FLAG_W,SALNTY,SALNTY_FLAG_W,CTDOXY,CTDOXY_FLAG_W,OXYGEN,OXYGEN_FLAG_W,SILCAT,SILCAT_FLAG_W,NITRAT,NITRAT_FLAG_W,NITRIT,NITRIT_FLAG_W,PHSPHT,PHSPHT_FLAG_W,CFC-11,CFC-11_FLAG_W,CFC-12,CFC-12_FLAG_W,CFC113,CFC113_FLAG_W,SF6,SF6_FLAG_W,TCARBN,TCARBN_FLAG_W,ALKALI,ALKALI_FLAG_W,PH_TOT,PH_TOT_FLAG_W,PH_TMP,TRITUM,TRITUM_FLAG_W,HELIUM,HELIUM_FLAG_W,DELHE3,DELHE3_FLAG_W,REFTMP,REFTMP_FLAG_W,DELC13,DELC13_FLAG_W,DELC14,DELC14_FLAG_W,C14ERR,NEON,NEON_FLAG_W,NEONER,CCL4,CCL4_FLAG_W,DELO18,DELO18_FLAG_W,DOC,DOC_FLAG_W,TDN,TDN_FLAG_W,BTL_LAT,BTL_LON,TRITER,HELIER,DELHER,THETA,SBE35,SBE35_FLAG_W,SALTREF,SALTREF_FLAG_W,14C-DOC,14C-DOC_FLAG_W,DELO17,DELO17_FLAG_W,O2/AR,O2/AR_FLAG_W,SIP,SIP_FLAG_W,BTL_TIME
,,,,,,,,,,,METERS,DBAR,ITS-90,PSS-78,,PSS-78,,UMOL/KG,,UMOL/KG,,UMOL/KG,,UMOL/KG,,UMOL/KG,,UMOL/KG,,PMOL/KG,,PMOL/KG,,PMOL/KG,,FMOL/KG,,UMOL/KG,,UMOL/KG,,,,DEG C,TU,,NMOL/KG,,PERCNT,,DEG C,,/MILLE,,/MILLE,,/MILLE,NMOL/KG,,NMOL/KG,PMOL/KG,,/MILLE,,UMOL/KG,,UMOL/KG,,,,TU,NMOL/KG,PERCNT,DEG C,ITS-90,,G/KG,,/MILLE,,/MILLE,,,,,,
33AT20120419,        A20,      39,          1,          6,          6,2,20120430,       0729,    20.7203,   -52.3323,       5389,  4059.9,   2.2207,  34.8804,2,  34.8792,2,    251.8,2,   252.3,2,   43.81,2,   21.21,2,    0.00,2,    1.45,2,   0.076,2,   0.049,2,   0.006,2,    0.00,3,  -999.0,9,  -999.0,9,-999.0000,9,  -999.00,-999.000,9,-999.0000,9, -999.00,9,   2.2207,2, -999.00,9,  -999.0,9,  -999.0,-999.000,9,-999.000,   0.150,2, -999.00,9,   39.67,2,   23.54,2,  20.7190, -52.3323,-999.000,-999.0000, -999.00,   1.8735,   2.2207,2,    35.0437,2,  -999.0,9,     -999.0,9,     -999.0,9,     -999.0,9,       0800
33AT20120419,        A20,      39,          1,          5,          5,2,20120430,       0729,    20.7203,   -52.3323,       5389,  4366.9,   2.1380,  34.8702,2,  34.8696,2,    251.3,2,   252.7,2,   45.95,2,   21.32,2,    0.00,2,    1.46,2,   0.122,2,   0.074,2,   0.009,2,    0.00,3,  2190.0,6,  2340.5,2,   7.7253,2,    25.00,-999.000,9,-999.0000,9, -999.00,9,   2.1380,2, -999.00,9,  -999.0,9,  -999.0,-999.000,9,-999.000,   0.190,2, -999.00,9,   39.54,2,   23.67,2,  20.7194, -52.3323,-999.000,-999.0000, -999.00,   1.7577,   2.1380,2,    35.0340,2,  -999.0,9,     -999.0,9,     -999.0,9,     -999.0,9,       0754
33AT20120419,        A20,      39,          1,          4,          4,2,20120430,       0729,    20.7203,   -52.3323,       5389,  4676.0,   2.0583,  34.8582,2,  34.8572,2,    249.6,2,   250.1,2,   50.83,2,   22.03,2,    0.00,2,    1.50,2,   0.121,2,   0.073,2,   0.008,2,    0.00,3,  -999.0,9,  -999.0,9,-999.0000,9,  -999.00,-999.000,9,-999.0000,9, -999.00,9,   2.0584,2, -999.00,9,  -999.0,9,  -999.0,-999.000,9,-999.000,   0.190,2, -999.00,9,   40.33,2,   24.25,2,  20.7198, -52.3323,-999.000,-999.0000, -999.00,   1.6437,   2.0584,2,    35.0215,2,  -999.0,9,     -999.0,9,     -999.0,9,     -999.0,9,       0747
33AT20120419,        A20,      39,          1,          3,          3,2,20120430,       0729,    20.7203,   -52.3323,       5389,  4988.9,   2.0248,  34.8497,2,  34.8491,2,    248.1,2,   248.3,2,   54.06,2,   22.47,2,    0.00,2,    1.54,2,   0.128,2,   0.074,2,   0.009,2,    0.00,3,  2197.8,2,  2345.7,2,   7.7148,6,    25.00,-999.000,9,-999.0000,9, -999.00,9,   2.0244,2, -999.00,9,  -999.0,9,  -999.0,-999.000,9,-999.000,   0.190,2, -999.00,9,   40.28,2,   25.06,2,  20.7199, -52.3323,-999.000,-999.0000, -999.00,   1.5729,   2.0244,2,    35.0134,2,  -999.0,9,     -999.0,9,     -999.0,9,     -999.0,9,       0741
33AT20120419,        A20,      39,          1,          2,          2,2,20120430,       0729,    20.7203,   -52.3323,       5389,  5205.2,   2.0210,  34.8464,2,  34.8462,2,    247.6,2,   248.0,2,   55.22,2,   22.65,2,    0.00,2,    1.55,2,   0.134,2,   0.073,2,   0.011,2,    0.00,3,  2200.1,2,  2346.6,2,   7.7129,6,    25.00,-999.000,9,-999.0000,9, -999.00,9,   2.0210,2, -999.00,9,  -999.0,9,  -999.0,-999.000,9,-999.000,   0.240,2, -999.00,9,   40.25,2,   24.97,2,  20.7202, -52.3323,-999.000,-999.0000, -999.00,   1.5421,   2.0210,2,    35.0105,2,  -999.0,9,     -999.0,9,     -999.0,9,     -999.0,9,       0735
33AT20120419,        A20,      39,          1,          1,          1,2,20120430,       0729,    20.7203,   -52.3323,       5389,  5426.6,   2.0347,  34.8448,2,  34.8438,2,    247.2,2,   247.1,2,   55.90,2,   22.77,2,    0.00,2,    1.56,2,   0.134,2,   0.075,2,   0.013,2,    0.00,3,  2200.6,2,  2352.1,3,-999.0000,5,    25.00,-999.000,9,-999.0000,9, -999.00,9,   2.0346,2, -999.00,9,  -999.0,9,  -999.0,-999.000,9,-999.000,   0.200,2, -999.00,9,   41.31,2,   25.52,2,  20.7203, -52.3323,-999.000,-999.0000, -999.00,   1.5269,   2.0346,2,    35.0081,2,  -999.0,9,     -999.0,9,     -999.0,9,     -999.0,9,       0728