BOTTLE,20220712CCHSIOCBG
EXPOCODE,SECT_ID,STNNBR,CASTNO,SAMPNO,BTLNBR,BTLNBR_FLAG_W,DATE,TIME,LATITUDE,LONGITUDE,DEPTH,CTDPRS,CTDTMP,CTDSAL,CTDSAL_FLAG_W,SALNTY,SALNTY_FLAG_W,CTDOXY,CTDOXY_FLAG_W,OXYGEN,OXYGEN_FLAG_W,SILCAT,SILCAT_FLAG_W,NITRAT,NITRAT_FLAG_W,NITRIT,NITRIT_FLAG_W,PHSPHT,PHSPHT_FLAG_W,CFC-11,CFC-11_FLAG_W,CFC-12,CFC-12_FLAG_W,CFC113,CFC113_FLAG_W,SF6,SF6_FLAG_W,TCARBN,TCARBN_FLAG_W,ALKALI,ALKALI_FLAG_W,PH_TOT,PH_TOT_FLAG_W,PH_TMP,TRITUM,TRITUM_FLAG_W,HELIUM,HELIUM_FLAG_W,DELHE3,DELHE3_FLAG_W,REFTMP,REFTMP_FLAG_W,DELC13,DELC13_FLAG_W,DELC14,DELC14_FLAG_W,C14ERR,NEON,NEON_FLAG_W,NEONER,CCL4,CCL4_FLAG_W,DELO18,DELO18_FLAG_W,DOC,DOC_FLAG_W,TDN,TDN_FLAG_W,BTL_LAT,BTL_LON,TRITER,HELIER,DELHER,THETA,SBE35,SBE35_FLAG_W,SALTREF,SALTREF_FLAG_W,14C-DOC,14C-DOC_FLAG_W,DELO17,DELO17_FLAG_W,O2/AR,O2/AR_FLAG_W,SIP,SIP_FLAG_W,BTL_TIME
,,,,,,,,,,,METERS,DBAR,ITS-90,PSS-78,,PSS-78,,UMOL/KG,,UMOL/KG,,UMOL/KG,,UMOL/KG,,UMOL/KG,,UMOL/KG,,PMOL/KG,,PMOL/KG,,PMOL/KG,,FMOL/KG,,UMOL/KG,,UMOL/KG,,,,DEG C,TU,,NMOL/KG,,PERCNT,,DEG C,,/MILLE,,/MILLE,,/MILLE,NMOL/KG,,NMOL/KG,PMOL/KG,,/MILLE,,UMOL/KG,,UMOL/KG,,,,TU,NMOL/KG,PERCNT,DEG C,ITS-90,,G/KG,,/MILLE,,/MILLE,,,,,,
33AT20120419,        A20,      22,          1,          6,          6,2,20120424,       2040,     9.8590,   -52.3338,       4894,  3545.2,   2.5068,  34.9095,2,  34.9089,2,    260.3,2,   261.1,2,   29.78,2,   19.20,2,    0.00,2,    1.32,2,   0.515,2,   0.233,2,   0.027,2,    0.06,2,  -999.0,9,  -999.0,9,-999.0000,9,  -999.00,-999.000,9,-999.0000,9, -999.00,9,   2.5067,2, -999.00,9,  -999.0,9,  -999.0,-999.000,9,-999.000,-999.000,9, -999.00,9, -999.00,9, -999.00,9,   9.8594, -52.3337,-999.000,-999.0000, -999.00,   2.2092,   2.5067,2,    35.0735,2,  -999.0,9,     -999.0,9,     -999.0,9,     -999.0,9,       2109
33AT20120419,        A20,      22,          1,          5,          5,2,20120424,       2040,     9.8590,   -52.3338,       4894,  3853.5,   2.3609,  34.8987,2,  34.8983,2,    262.9,2,   263.2,2,   30.81,2,   19.06,2,    0.00,2,    1.31,2,   0.579,2,   0.258,2,   0.036,2,    0.11,2,  2174.2,2,  2329.6,2,   7.7372,2,    25.00,-999.000,9,-999.0000,9, -999.00,9,   2.3607,2, -999.00,9,  -999.0,9,  -999.0,-999.000,9,-999.000,-999.000,9, -999.00,9, -999.00,9, -999.00,9,   9.8593, -52.3338,-999.000,-999.0000, -999.00,   2.0331,   2.3607,2,    35.0628,2,  -999.0,9,     -999.0,9,     -999.0,9,     -999.0,9,       2103
33AT20120419,        A20,      22,          1,          4,          4,2,20120424,       2040,     9.8590,   -52.3338,       4894,  4160.8,   2.2817,  34.8908,2,  34.8900,2,    261.6,2,   262.5,2,   33.33,2,   19.29,2,    0.00,2,    1.33,2,   0.543,2,   0.245,2,   0.035,2,    0.17,2,  2176.7,2,  2331.2,6,   7.7351,2,    25.00,-999.000,9,-999.0000,9, -999.00,9,   2.2819,2, -999.00,9,  -999.0,9,  -999.0,-999.000,9,-999.000,-999.000,9, -999.00,9, -999.00,9, -999.00,9,   9.8592, -52.3338,-999.000,-999.0000, -999.00,   1.9211,   2.2819,2,    35.0545,2,  -999.0,9,     -999.0,9,     -999.0,9,     -999.0,9,       2057
33AT20120419,        A20,      22,          1,          3,          3,2,20120424,       2040,     9.8590,   -52.3338,       4894,  4468.1,   2.1873,  34.8775,2,  34.8757,2,    258.1,2,   258.3,2,   40.08,2,   20.33,2,    0.00,2,    1.40,2,   0.414,2,   0.179,2,   0.028,2,    0.08,2,  2184.0,2,  2337.8,2,   7.7313,6,    25.00,-999.000,9,-999.0000,9, -999.00,9,   2.1871,2, -999.00,9,  -999.0,9,  -999.0,-999.000,9,-999.000,-999.000,9, -999.00,9, -999.00,9, -999.00,9,   9.8591, -52.3338,-999.000,-999.0000, -999.00,   1.7935,   2.1871,2,    35.0401,2,  -999.0,9,     -999.0,9,     -999.0,9,     -999.0,9,       2051
33AT20120419,        A20,      22,          1,          2,          2,2,20120424,       2040,     9.8590,   -52.3338,       4894,  4714.4,   2.0142,  34.8532,2,  34.8511,2,    250.7,2,   250.0,2,   52.63,2,   22.23,2,    0.00,2,    1.52,2,   0.262,2,   0.117,2,   0.014,2,    0.12,2,  2198.3,2,  2343.6,2,   7.7159,6,    25.00,-999.000,9,-999.0000,9, -999.00,9,   2.0139,2, -999.00,9,  -999.0,9,  -999.0,-999.000,9,-999.000,-999.000,9, -999.00,9, -999.00,9, -999.00,9,   9.8591, -52.3338,-999.000,-999.0000, -999.00,   1.5964,   2.0139,2,    35.0154,2,  -999.0,9,     -999.0,9,     -999.0,9,     -999.0,9,       2046
33AT20120419,        A20,      22,          1,          1,          1,2,20120424,       2040,     9.8590,   -52.3338,       4894,  4961.5,   1.7793,  34.8215,2,  34.8200,2,    241.2,2,   241.4,2,   67.36,2,   24.45,2,    0.00,2,    1.68,2,   0.221,2,   0.092,2,   0.009,2,    0.12,2,  2216.0,6,  2354.9,2,   7.6968,2,    25.00,-999.000,9,-999.0000,9, -999.00,9,   1.7788,2, -999.00,9,  -999.0,9,  -999.0,-999.000,9,-999.000,-999.000,9, -999.00,9, -999.00,9, -999.00,9,   9.8590, -52.3338,-999.000,-999.0000, -999.00,   1.3393,   1.7788,2,    34.9842,2,  -999.0,9,     -999.0,9,     -999.0,9,     -999.0,9,       2041