BOTTLE,20220712CCHSIOCBG
EXPOCODE,SECT_ID,STNNBR,CASTNO,SAMPNO,BTLNBR,BTLNBR_FLAG_W,DATE,TIME,LATITUDE,LONGITUDE,DEPTH,CTDPRS,CTDTMP,CTDSAL,CTDSAL_FLAG_W,SALNTY,SALNTY_FLAG_W,CTDOXY,CTDOXY_FLAG_W,OXYGEN,OXYGEN_FLAG_W,SILCAT,SILCAT_FLAG_W,NITRAT,NITRAT_FLAG_W,NITRIT,NITRIT_FLAG_W,PHSPHT,PHSPHT_FLAG_W,CFC-11,CFC-11_FLAG_W,CFC-12,CFC-12_FLAG_W,CFC113,CFC113_FLAG_W,SF6,SF6_FLAG_W,TCARBN,TCARBN_FLAG_W,ALKALI,ALKALI_FLAG_W,PH_TOT,PH_TOT_FLAG_W,PH_TMP,TRITUM,TRITUM_FLAG_W,HELIUM,HELIUM_FLAG_W,DELHE3,DELHE3_FLAG_W,REFTMP,REFTMP_FLAG_W,DELC13,DELC13_FLAG_W,DELC14,DELC14_FLAG_W,C14ERR,NEON,NEON_FLAG_W,NEONER,CCL4,CCL4_FLAG_W,DELO18,DELO18_FLAG_W,DOC,DOC_FLAG_W,TDN,TDN_FLAG_W,BTL_LAT,BTL_LON,TRITER,HELIER,DELHER,THETA,SBE35,SBE35_FLAG_W,SALTREF,SALTREF_FLAG_W,14C-DOC,14C-DOC_FLAG_W,DELO17,DELO17_FLAG_W,O2/AR,O2/AR_FLAG_W,SIP,SIP_FLAG_W,BTL_TIME
,,,,,,,,,,,METERS,DBAR,ITS-90,PSS-78,,PSS-78,,UMOL/KG,,UMOL/KG,,UMOL/KG,,UMOL/KG,,UMOL/KG,,UMOL/KG,,PMOL/KG,,PMOL/KG,,PMOL/KG,,FMOL/KG,,UMOL/KG,,UMOL/KG,,,,DEG C,TU,,NMOL/KG,,PERCNT,,DEG C,,/MILLE,,/MILLE,,/MILLE,NMOL/KG,,NMOL/KG,PMOL/KG,,/MILLE,,UMOL/KG,,UMOL/KG,,,,TU,NMOL/KG,PERCNT,DEG C,ITS-90,,G/KG,,/MILLE,,/MILLE,,,,,,
33AT20120419,        A20,      49,          1,          6,          6,2,20120503,       1542,    28.2397,   -52.3315,       5668,  3860.7,   2.3433,  34.8987,2,  34.8978,2,    259.6,2,   259.4,2,   34.27,2,   19.72,2,    0.00,2,    1.34,2,   0.146,2,   0.089,2,   0.009,2,    0.00,3,  2176.7,2,  2330.7,2,   7.7391,2,    25.00,   0.056,2,   1.8966,2,    3.48,2,   2.3434,2, -999.00,9,  -999.0,9,  -999.0,   8.287,2,   0.038,   0.220,2, -999.00,9,   40.33,2,   22.27,2,  28.2406, -52.3326,   0.011,   0.0080,    0.15,   2.0151,   2.3434,2,    35.0624,2,  -999.0,9,     -999.0,9,     -999.0,9,     -999.0,9,       1620
33AT20120419,        A20,      49,          1,          5,          5,2,20120503,       1542,    28.2397,   -52.3315,       5668,  4170.0,   2.2227,  34.8840,2,  34.8837,2,    256.4,2,   256.7,2,   39.95,2,   20.55,2,    0.00,2,    1.40,2,   0.120,2,   0.073,2,   0.009,2,    0.00,3,  -999.0,9,  -999.0,9,-999.0000,9,  -999.00,-999.000,9,-999.0000,9, -999.00,9,   2.2234,2, -999.00,9,  -999.0,9,  -999.0,-999.000,9,-999.000,   0.190,2, -999.00,9,   40.28,2,   22.72,2,  28.2405, -52.3324,-999.000,-999.0000, -999.00,   1.8628,   2.2234,2,    35.0482,2,  -999.0,9,     -999.0,9,     -999.0,9,     -999.0,9,       1614
33AT20120419,        A20,      49,          1,          4,          4,2,20120503,       1542,    28.2397,   -52.3315,       5668,  4475.4,   2.1436,  34.8717,2,  34.8717,2,    252.8,2,   253.3,2,   45.57,2,   21.36,2,    0.00,2,    1.45,2,   0.073,2,   0.050,2,   0.006,2,    0.00,3,  2190.6,2,  2340.3,2,   7.7275,2,    25.00,   0.033,2,   1.8395,3,    3.64,2,   2.1438,2, -999.00,9,  -999.0,9,  -999.0,   8.009,3,   0.037,   0.140,2, -999.00,9,   40.08,2,   23.26,2,  28.2404, -52.3323,   0.011,   0.0077,    0.15,   1.7503,   2.1438,2,    35.0361,2,  -999.0,9,     -999.0,9,     -999.0,9,     -999.0,9,       1608
33AT20120419,        A20,      49,          1,          3,          3,2,20120503,       1542,    28.2397,   -52.3315,       5668,  4850.6,   2.1067,  34.8623,2,  34.8623,2,    250.9,2,   251.2,2,   49.66,2,   21.95,2,    0.00,2,    1.50,2,   0.060,2,   0.044,2,   0.006,2,    0.00,3,  -999.0,9,  -999.0,9,-999.0000,9,  -999.00,-999.000,9,-999.0000,9, -999.00,9,   2.1067,2, -999.00,9,  -999.0,9,  -999.0,-999.000,9,-999.000,   0.130,2, -999.00,9,   39.96,2,   23.92,2,  28.2402, -52.3321,-999.000,-999.0000, -999.00,   1.6692,   2.1067,2,    35.0266,2,  -999.0,9,     -999.0,9,     -999.0,9,     -999.0,9,       1601
33AT20120419,        A20,      49,          1,          2,          2,2,20120503,       1542,    28.2397,   -52.3315,       5668,  5298.7,   2.1351,  34.8592,2,  34.8589,2,    249.9,2,   250.6,2,   51.08,2,   22.13,2,    0.00,2,    1.51,2,   0.062,2,   0.045,2,   0.007,2,    0.00,3,  2196.9,2,  2345.1,2,   7.7222,6,    25.00,-999.000,9,-999.0000,9, -999.00,9,   2.1352,2, -999.00,9,  -999.0,9,  -999.0,-999.000,9,-999.000,   0.140,2, -999.00,9,   40.28,2,   24.41,2,  28.2399, -52.3317,-999.000,-999.0000, -999.00,   1.6401,   2.1352,2,    35.0233,2,  -999.0,9,     -999.0,9,     -999.0,9,     -999.0,9,       1552
33AT20120419,        A20,      49,          1,          1,          1,2,20120503,       1542,    28.2397,   -52.3315,       5668,  5761.6,   2.1938,  34.8583,2,  34.8587,2,    249.5,2,   249.6,2,   51.21,2,   22.14,2,    0.00,2,    1.51,2,   0.066,2,   0.045,2,   0.009,2,    0.00,3,  2198.7,6,  2345.1,2,   7.7214,2,    25.00,   0.013,2,   1.9101,2,    3.51,2,   2.1937,2, -999.00,9,  -999.0,9,  -999.0,   8.334,2,   0.038,   0.150,2, -999.00,9,   40.74,2,   24.43,2,  28.2397, -52.3315,   0.011,   0.0080,    0.15,   1.6358,   2.1937,2,    35.0231,2,  -999.0,9,     -999.0,9,     -999.0,9,     -999.0,9,       1543