BOTTLE,20220712CCHSIOCBG
EXPOCODE,SECT_ID,STNNBR,CASTNO,SAMPNO,BTLNBR,BTLNBR_FLAG_W,DATE,TIME,LATITUDE,LONGITUDE,DEPTH,CTDPRS,CTDTMP,CTDSAL,CTDSAL_FLAG_W,SALNTY,SALNTY_FLAG_W,CTDOXY,CTDOXY_FLAG_W,OXYGEN,OXYGEN_FLAG_W,SILCAT,SILCAT_FLAG_W,NITRAT,NITRAT_FLAG_W,NITRIT,NITRIT_FLAG_W,PHSPHT,PHSPHT_FLAG_W,CFC-11,CFC-11_FLAG_W,CFC-12,CFC-12_FLAG_W,CFC113,CFC113_FLAG_W,SF6,SF6_FLAG_W,TCARBN,TCARBN_FLAG_W,ALKALI,ALKALI_FLAG_W,PH_TOT,PH_TOT_FLAG_W,PH_TMP,TRITUM,TRITUM_FLAG_W,HELIUM,HELIUM_FLAG_W,DELHE3,DELHE3_FLAG_W,REFTMP,REFTMP_FLAG_W,DELC13,DELC13_FLAG_W,DELC14,DELC14_FLAG_W,C14ERR,NEON,NEON_FLAG_W,NEONER,CCL4,CCL4_FLAG_W,DELO18,DELO18_FLAG_W,DOC,DOC_FLAG_W,TDN,TDN_FLAG_W,BTL_LAT,BTL_LON,TRITER,HELIER,DELHER,THETA,SBE35,SBE35_FLAG_W,SALTREF,SALTREF_FLAG_W,14C-DOC,14C-DOC_FLAG_W,DELO17,DELO17_FLAG_W,O2/AR,O2/AR_FLAG_W,SIP,SIP_FLAG_W,BTL_TIME
,,,,,,,,,,,METERS,DBAR,ITS-90,PSS-78,,PSS-78,,UMOL/KG,,UMOL/KG,,UMOL/KG,,UMOL/KG,,UMOL/KG,,UMOL/KG,,PMOL/KG,,PMOL/KG,,PMOL/KG,,FMOL/KG,,UMOL/KG,,UMOL/KG,,,,DEG C,TU,,NMOL/KG,,PERCNT,,DEG C,,/MILLE,,/MILLE,,/MILLE,NMOL/KG,,NMOL/KG,PMOL/KG,,/MILLE,,UMOL/KG,,UMOL/KG,,,,TU,NMOL/KG,PERCNT,DEG C,ITS-90,,G/KG,,/MILLE,,/MILLE,,,,,,
33AT20120419,        A20,      58,          1,          6,          6,2,20120506,       1612,    34.9999,   -52.3345,       3545,  2568.2,   3.2422,  34.9528,2,  34.9534,2,    261.6,2,   262.0,2,   19.09,2,   18.18,2,    0.00,2,    1.21,2,   1.065,2,   0.504,2,   0.044,2,    0.16,2,  2163.9,2,  2318.0,2,   7.7378,2,    25.00,-999.000,9,-999.0000,9, -999.00,9,   3.2424,2, -999.00,9,  -999.0,9,  -999.0,-999.000,9,-999.000,-999.000,9, -999.00,9, -999.00,9, -999.00,9,  35.0004, -52.3343,-999.000,-999.0000, -999.00,   3.0309,   3.2424,2,    35.1182,2,  -999.0,9,     -999.0,9,     -999.0,9,     -999.0,9,       1635
33AT20120419,        A20,      58,          1,          5,          5,2,20120506,       1612,    34.9999,   -52.3345,       3545,  2768.1,   3.0756,  34.9453,2,  34.9457,2,    262.0,2,   262.1,2,   20.93,2,   18.33,2,    0.00,2,    1.23,2,   0.898,2,   0.400,2,   0.041,2,    0.19,2,  2166.2,2,  2320.2,2,   7.7396,2,    25.00,-999.000,9,-999.0000,9, -999.00,9,   3.0755,2, -999.00,9,  -999.0,9,  -999.0,-999.000,9,-999.000,-999.000,9, -999.00,9, -999.00,9, -999.00,9,  35.0003, -52.3344,-999.000,-999.0000, -999.00,   2.8472,   3.0755,2,    35.1105,2,  -999.0,9,     -999.0,9,     -999.0,9,     -999.0,9,       1631
33AT20120419,        A20,      58,          1,          4,          4,2,20120506,       1612,    34.9999,   -52.3345,       3545,  2975.3,   2.9018,  34.9362,2,  34.9366,2,    261.7,2,   262.6,2,   22.85,2,   18.43,2,    0.00,2,    1.24,2,   0.762,2,   0.349,2,   0.035,2,    0.20,2,  -999.0,9,  -999.0,9,-999.0000,9,  -999.00,-999.000,9,-999.0000,9, -999.00,9,   2.9006,2, -999.00,9,  -999.0,9,  -999.0,-999.000,9,-999.000,-999.000,9, -999.00,9, -999.00,9, -999.00,9,  35.0003, -52.3344,-999.000,-999.0000, -999.00,   2.6557,   2.9006,2,    35.1014,2,  -999.0,9,     -999.0,9,     -999.0,9,     -999.0,9,       1626
33AT20120419,        A20,      58,          1,          3,          3,2,20120506,       1612,    34.9999,   -52.3345,       3545,  3176.3,   2.7433,  34.9269,2,  34.9274,2,    262.4,2,   263.0,2,   24.47,2,   18.51,2,    0.00,2,    1.25,2,   0.670,2,   0.370,2,   0.031,2,    0.14,2,  2167.8,2,  2321.8,2,   7.7404,6,    25.00,-999.000,9,-999.0000,9, -999.00,9,   2.7427,2, -999.00,9,  -999.0,9,  -999.0,-999.000,9,-999.000,-999.000,9, -999.00,9, -999.00,9, -999.00,9,  35.0002, -52.3344,-999.000,-999.0000, -999.00,   2.4796,   2.7427,2,    35.0921,2,  -999.0,9,     -999.0,9,     -999.0,9,     -999.0,9,       1622
33AT20120419,        A20,      58,          1,          2,          2,2,20120506,       1612,    34.9999,   -52.3345,       3545,  3396.7,   2.6101,  34.9174,2,  34.9183,2,    264.7,2,   264.6,2,   25.36,2,   18.43,2,    0.00,2,    1.25,2,   0.718,2,   0.317,2,   0.036,2,    0.14,2,  -999.0,9,  -999.0,9,-999.0000,9,  -999.00,-999.000,9,-999.0000,9, -999.00,9,   2.6096,2, -999.00,9,  -999.0,9,  -999.0,-999.000,9,-999.000,-999.000,9, -999.00,9, -999.00,9, -999.00,9,  35.0000, -52.3344,-999.000,-999.0000, -999.00,   2.3261,   2.6096,2,    35.0830,2,  -999.0,9,     -999.0,9,     -999.0,9,     -999.0,9,       1618
33AT20120419,        A20,      58,          1,          1,          1,2,20120506,       1612,    34.9999,   -52.3345,       3545,  3599.9,   2.4497,  34.9060,2,  34.9077,2,    265.2,2,   265.2,2,   27.06,2,   18.46,2,    0.00,2,    1.25,2,   0.790,2,   0.348,2,   0.039,2,    0.20,2,  2170.2,6,  2323.5,2,   7.7381,2,    25.00,-999.000,9,-999.0000,9, -999.00,9,   2.4490,2, -999.00,9,  -999.0,9,  -999.0,-999.000,9,-999.000,-999.000,9, -999.00,9, -999.00,9, -999.00,9,  34.9999, -52.3345,-999.000,-999.0000, -999.00,   2.1476,   2.4490,2,    35.0723,2,  -999.0,9,     -999.0,9,     -999.0,9,     -999.0,9,       1613