BOTTLE,20220712CCHSIOCBG
EXPOCODE,SECT_ID,STNNBR,CASTNO,SAMPNO,BTLNBR,BTLNBR_FLAG_W,DATE,TIME,LATITUDE,LONGITUDE,DEPTH,CTDPRS,CTDTMP,CTDSAL,CTDSAL_FLAG_W,SALNTY,SALNTY_FLAG_W,CTDOXY,CTDOXY_FLAG_W,OXYGEN,OXYGEN_FLAG_W,SILCAT,SILCAT_FLAG_W,NITRAT,NITRAT_FLAG_W,NITRIT,NITRIT_FLAG_W,PHSPHT,PHSPHT_FLAG_W,CFC-11,CFC-11_FLAG_W,CFC-12,CFC-12_FLAG_W,CFC113,CFC113_FLAG_W,SF6,SF6_FLAG_W,TCARBN,TCARBN_FLAG_W,ALKALI,ALKALI_FLAG_W,PH_TOT,PH_TOT_FLAG_W,PH_TMP,TRITUM,TRITUM_FLAG_W,HELIUM,HELIUM_FLAG_W,DELHE3,DELHE3_FLAG_W,REFTMP,REFTMP_FLAG_W,DELC13,DELC13_FLAG_W,DELC14,DELC14_FLAG_W,C14ERR,NEON,NEON_FLAG_W,NEONER,CCL4,CCL4_FLAG_W,DELO18,DELO18_FLAG_W,DOC,DOC_FLAG_W,TDN,TDN_FLAG_W,BTL_LAT,BTL_LON,TRITER,HELIER,DELHER,THETA,SBE35,SBE35_FLAG_W,SALTREF,SALTREF_FLAG_W,14C-DOC,14C-DOC_FLAG_W,DELO17,DELO17_FLAG_W,O2/AR,O2/AR_FLAG_W,SIP,SIP_FLAG_W,BTL_TIME
,,,,,,,,,,,METERS,DBAR,ITS-90,PSS-78,,PSS-78,,UMOL/KG,,UMOL/KG,,UMOL/KG,,UMOL/KG,,UMOL/KG,,UMOL/KG,,PMOL/KG,,PMOL/KG,,PMOL/KG,,FMOL/KG,,UMOL/KG,,UMOL/KG,,,,DEG C,TU,,NMOL/KG,,PERCNT,,DEG C,,/MILLE,,/MILLE,,/MILLE,NMOL/KG,,NMOL/KG,PMOL/KG,,/MILLE,,UMOL/KG,,UMOL/KG,,,,TU,NMOL/KG,PERCNT,DEG C,ITS-90,,G/KG,,/MILLE,,/MILLE,,,,,,
33AT20120419,        A20,      25,          1,         36,         36,2,20120425,       1713,    11.4141,   -52.3334,       4983,     4.2,  27.8542,  34.9971,2,  34.9982,2,    199.1,2,   200.7,2,    1.26,2,    0.00,2,    0.01,2,    0.04,2,   1.498,2,   0.961,2,   0.126,2,    1.28,3,  1975.9,6,  2302.8,2,   8.0887,6,    25.00,-999.000,9,-999.0000,9, -999.00,9,  27.8541,2, -999.00,9,  -999.0,9,  -999.0,-999.000,9,-999.000,   0.980,2, -999.00,9,   73.31,2,    3.97,2,  11.4129, -52.3331,-999.000,-999.0000, -999.00,  27.8532,  27.8541,2,    35.1633,2,  -999.0,9,     -999.0,9,     -999.0,9,     -999.0,9,       1925
33AT20120419,        A20,      25,          1,         35,         35,2,20120425,       1713,    11.4141,   -52.3334,       4983,    20.1,  27.7356,  35.0537,2,  35.0412,2,    201.8,2,   200.1,2,    1.21,2,    0.00,2,    0.01,2,    0.03,2,   1.496,2,   0.963,2,   0.120,2,    1.03,3,  1979.9,2,  2304.8,2,   8.0843,2,    25.00,-999.000,9,-999.0000,9, -999.00,9,  27.7231,2, -999.00,9,  -999.0,9,  -999.0,-999.000,9,-999.000,   0.980,2, -999.00,9,   73.46,2,    3.95,2,  11.4129, -52.3331,-999.000,-999.0000, -999.00,  27.7309,  27.7231,2,    35.2064,2,  -999.0,9,     -999.0,9,     -999.0,9,     -999.0,9,       1923
33AT20120419,        A20,      25,          1,         34,         34,2,20120425,       1713,    11.4141,   -52.3334,       4983,    40.4,  26.9651,  36.1351,2,  36.0179,4,    208.9,2,   205.4,2,    1.00,2,    0.00,2,    0.01,2,    0.00,2,   1.548,2,   0.991,2,   0.114,2,    0.95,3,  2015.1,2,  2360.2,2,   8.1003,2,    25.00,-999.000,9,-999.0000,9, -999.00,9,  26.9592,2, -999.00,9,  -999.0,9,  -999.0,-999.000,9,-999.000,   0.890,2, -999.00,9,   68.57,2,    3.93,2,  11.4129, -52.3331,-999.000,-999.0000, -999.00,  26.9558,  26.9592,2,    36.1877,4,  -999.0,9,     -999.0,9,     -999.0,9,     -999.0,9,       1921
33AT20120419,        A20,      25,          1,         33,         33,2,20120425,       1713,    11.4141,   -52.3334,       4983,    65.3,  26.6325,  36.2568,2,  36.2551,2,    197.2,2,   198.4,2,    0.87,2,    0.00,2,    0.03,2,    0.01,2,   1.533,2,   0.990,2,   0.112,2,    1.17,3,  2036.5,2,  2374.8,2,   8.0923,2,    25.00,-999.000,9,-999.0000,9, -999.00,9,  26.6220,2, -999.00,9,  -999.0,9,  -999.0,-999.000,9,-999.000,   0.790,2, -999.00,9,   65.04,2,    3.92,2,  11.4129, -52.3331,-999.000,-999.0000, -999.00,  26.6176,  26.6220,2,    36.4260,2,  -999.0,9,     -999.0,9,     -999.0,9,     -999.0,9,       1919
33AT20120419,        A20,      25,          1,         32,         32,2,20120425,       1713,    11.4141,   -52.3334,       4983,    90.2,  25.3015,  36.5301,2,  36.5208,2,    180.2,2,   180.6,2,    1.05,2,    1.03,2,    0.26,2,    0.12,2,   1.624,2,   1.030,2,   0.103,2,    0.79,3,  2077.8,2,  2389.9,2,   8.0358,2,    25.00,-999.000,9,-999.0000,9, -999.00,9,  25.2245,2, -999.00,9,  -999.0,9,  -999.0,-999.000,9,-999.000,   0.490,2, -999.00,9,   60.03,2,    5.52,2,  11.4130, -52.3331,-999.000,-999.0000, -999.00,  25.2817,  25.2245,2,    36.6931,2,  -999.0,9,     -999.0,9,     -999.0,9,     -999.0,9,       1917
33AT20120419,        A20,      25,          1,         31,         31,2,20120425,       1713,    11.4141,   -52.3334,       4983,   135.7,  17.4864,  36.1641,2,  36.1551,2,    130.3,2,   126.0,2,    4.50,2,   13.80,2,    0.02,2,    0.84,2,   1.942,2,   1.150,2,   0.017,2,    0.81,3,  -999.0,9,  -999.0,9,-999.0000,9,  -999.00,-999.000,9,-999.0000,9, -999.00,9,  17.3276,2, -999.00,9,  -999.0,9,  -999.0,-999.000,9,-999.000,   0.150,2, -999.00,9,   53.71,2,   17.45,2,  11.4130, -52.3331,-999.000,-999.0000, -999.00,  17.4634,  17.3276,2,    36.3256,2,  -999.0,9,     -999.0,9,     -999.0,9,     -999.0,9,       1914
33AT20120419,        A20,      25,          1,         30,         30,2,20120425,       1713,    11.4141,   -52.3334,       4983,   185.8,  14.3056,  35.7160,2,  35.7130,2,    117.3,2,   118.7,2,    7.05,2,   19.19,2,    0.01,2,    1.18,2,   1.902,2,   1.087,2,   0.010,2,    0.33,3,  2187.9,2,  2343.2,6,   7.7376,2,    25.00,-999.000,9,-999.0000,9, -999.00,9,  14.2739,2, -999.00,9,  -999.0,9,  -999.0,-999.000,9,-999.000,   0.160,2, -999.00,9,   48.31,2,   23.15,2,  11.4129, -52.3331,-999.000,-999.0000, -999.00,  14.2782,  14.2739,2,    35.8814,2,  -999.0,9,     -999.0,9,     -999.0,9,     -999.0,9,       1911
33AT20120419,        A20,      25,          1,         29,         29,2,20120425,       1713,    11.4141,   -52.3334,       4983,   236.1,  11.4580,  35.2348,2,  35.2338,2,    121.5,2,   123.4,2,   10.14,2,   23.20,2,    0.01,2,    1.48,2,   1.800,2,   0.995,2,   0.021,2,    0.26,3,  2191.8,2,  2319.8,2,   7.6760,2,    25.00,-999.000,9,-999.0000,9, -999.00,9,  11.4555,2, -999.00,9,  -999.0,9,  -999.0,-999.000,9,-999.000,   0.230,2, -999.00,9,   46.37,2,   26.76,2,  11.4129, -52.3331,-999.000,-999.0000, -999.00,  11.4280,  11.4555,2,    35.3999,2,  -999.0,9,     -999.0,9,     -999.0,9,     -999.0,9,       1909
33AT20120419,        A20,      25,          1,         28,         28,2,20120425,       1713,    11.4141,   -52.3334,       4983,   285.9,  10.8650,  35.1933,2,  35.1916,2,    118.6,2,   111.6,2,   11.38,2,   25.55,2,    0.01,2,    1.61,2,   1.536,2,   0.833,2,   0.017,2,    0.11,3,  2201.9,2,  2317.6,2,   7.6442,2,    25.00,-999.000,9,-999.0000,9, -999.00,9,  10.8657,2, -999.00,9,  -999.0,9,  -999.0,-999.000,9,-999.000,   0.190,2, -999.00,9,   45.59,2,   28.93,2,  11.4129, -52.3331,-999.000,-999.0000, -999.00,  10.8298,  10.8657,2,    35.3576,2,  -999.0,9,     -999.0,9,     -999.0,9,     -999.0,9,       1907
33AT20120419,        A20,      25,          1,         27,         27,2,20120425,       1713,    11.4141,   -52.3334,       4983,   336.7,  10.2285,  35.1073,2,  35.1056,2,    115.5,2,   117.1,2,   12.46,2,   26.28,2,    0.01,2,    1.67,2,   1.472,2,   0.801,2,   0.015,2,    0.14,3,  2201.2,2,  2313.7,2,   7.6376,2,    25.00,-999.000,9,-999.0000,9, -999.00,9,  10.2305,2, -999.00,9,  -999.0,9,  -999.0,-999.000,9,-999.000,   0.220,2, -999.00,9,   44.16,2,   29.50,2,  11.4130, -52.3331,-999.000,-999.0000, -999.00,  10.1885,  10.2305,2,    35.2711,2,  -999.0,9,     -999.0,9,     -999.0,9,     -999.0,9,       1905
33AT20120419,        A20,      25,          1,         26,         26,2,20120425,       1713,    11.4141,   -52.3334,       4983,   387.1,   9.3903,  34.9831,2,  34.9851,2,    111.6,2,   111.3,2,   14.31,2,   28.62,2,    0.01,2,    1.82,2,   1.238,2,   0.668,2,   0.016,2,    0.19,3,  2207.8,2,  2308.9,2,   7.6043,2,    25.00,-999.000,9,-999.0000,9, -999.00,9,   9.3997,2, -999.00,9,  -999.0,9,  -999.0,-999.000,9,-999.000,   0.220,2, -999.00,9,      44,2,   30.86,2,  11.4131, -52.3331,-999.000,-999.0000, -999.00,   9.3467,   9.3997,2,    35.1501,2,  -999.0,9,     -999.0,9,     -999.0,9,     -999.0,9,       1903
33AT20120419,        A20,      25,          1,         25,         25,2,20120425,       1713,    11.4141,   -52.3334,       4983,   467.7,   8.2463,  34.8328,2,  34.8334,2,    116.1,2,   116.1,2,   16.96,2,   30.49,2,    0.00,2,    1.95,2,   1.033,2,   0.545,2,   0.023,2,    0.00,3,  2210.0,2,  2304.9,2,   7.5828,2,    25.00,-999.000,9,-999.0000,9, -999.00,9,   8.2508,2, -999.00,9,  -999.0,9,  -999.0,-999.000,9,-999.000,   0.270,2, -999.00,9,   44.21,2,   34.08,2,  11.4131, -52.3331,-999.000,-999.0000, -999.00,   8.1974,   8.2508,2,    34.9977,2,  -999.0,9,     -999.0,9,     -999.0,9,     -999.0,9,       1900
33AT20120419,        A20,      25,          1,         24,         24,2,20120425,       1713,    11.4141,   -52.3334,       4983,   569.1,   7.1205,  34.6985,2,  34.6980,2,    122.5,2,   122.7,2,   20.37,2,   32.38,2,    0.00,2,    2.11,2,   0.752,2,   0.406,2,   0.015,2,    0.00,3,  2215.7,2,  2300.6,2,   7.5628,2,    25.00,-999.000,9,-999.0000,9, -999.00,9,   7.1199,2, -999.00,9,  -999.0,9,  -999.0,-999.000,9,-999.000,   0.260,2, -999.00,9,   43.65,2,   35.68,2,  11.4131, -52.3332,-999.000,-999.0000, -999.00,   7.0655,   7.1199,2,    34.8616,2,  -999.0,9,     -999.0,9,     -999.0,9,     -999.0,9,       1857
33AT20120419,        A20,      25,          1,         23,         23,2,20120425,       1713,    11.4141,   -52.3334,       4983,   669.0,   6.2657,  34.6161,2,  34.6145,2,    131.7,2,   130.4,2,   23.43,2,   33.44,2,    0.00,2,    2.21,2,   0.555,2,   0.300,2,   0.013,2,    0.00,3,  2216.8,2,  2299.8,2,   7.5532,2,    25.00,-999.000,9,-999.0000,9, -999.00,9,   6.2625,2, -999.00,9,  -999.0,9,  -999.0,-999.000,9,-999.000,   0.260,2, -999.00,9,   42.58,2,   36.99,2,  11.4132, -52.3332,-999.000,-999.0000, -999.00,   6.2050,   6.2625,2,    34.7777,2,  -999.0,9,     -999.0,9,     -999.0,9,     -999.0,9,       1854
33AT20120419,        A20,      25,          1,         22,         22,2,20120425,       1713,    11.4141,   -52.3334,       4983,   769.8,   5.8970,  34.6213,2,  34.6200,2,    130.8,2,   129.5,2,   25.26,2,   34.01,2,    0.00,2,    2.25,2,   0.326,2,   0.183,2,   0.008,2,    0.00,3,  2220.4,2,  2303.3,2,   7.5485,6,    25.00,-999.000,9,-999.0000,9, -999.00,9,   5.8944,2, -999.00,9,  -999.0,9,  -999.0,-999.000,9,-999.000,   0.180,2, -999.00,9,   41.92,2,   37.68,2,  11.4132, -52.3332,-999.000,-999.0000, -999.00,   5.8287,   5.8944,2,    34.7832,2,  -999.0,9,     -999.0,9,     -999.0,9,     -999.0,9,       1851
33AT20120419,        A20,      25,          1,         21,         21,2,20120425,       1713,    11.4141,   -52.3334,       4983,   871.0,   5.5457,  34.6397,2,  34.6422,2,    133.3,2,   132.6,2,   26.99,2,   33.94,2,    0.00,2,    2.25,2,   0.170,2,   0.102,2,   0.004,2,    0.00,3,  2222.0,6,  2304.2,2,   7.5503,2,    25.00,-999.000,9,-999.0000,9, -999.00,9,   5.5446,2, -999.00,9,  -999.0,9,  -999.0,-999.000,9,-999.000,   0.120,2, -999.00,9,   41.25,2,   37.06,2,  11.4133, -52.3332,-999.000,-999.0000, -999.00,   5.4701,   5.5446,2,    34.8055,2,  -999.0,9,     -999.0,9,     -999.0,9,     -999.0,9,       1848
33AT20120419,        A20,      25,          1,         20,         20,2,20120425,       1713,    11.4141,   -52.3334,       4983,   971.5,   5.3814,  34.7102,2,  34.7092,2,    138.9,2,   139.2,2,   26.87,2,   32.78,2,    0.00,2,    2.19,2,   0.092,2,   0.055,2,   0.001,2,    0.00,3,  2218.5,2,  2308.9,2,   7.5671,2,    25.00,-999.000,9,-999.0000,9, -999.00,9,   5.3815,2, -999.00,9,  -999.0,9,  -999.0,-999.000,9,-999.000,   0.080,2, -999.00,9,   40.74,2,   35.28,2,  11.4133, -52.3332,-999.000,-999.0000, -999.00,   5.2975,   5.3815,2,    34.8729,2,  -999.0,9,     -999.0,9,     -999.0,9,     -999.0,9,       1845
33AT20120419,        A20,      25,          1,         19,         19,2,20120425,       1713,    11.4141,   -52.3334,       4983,  1072.8,   5.3117,  34.8119,2,  34.8095,2,    150.3,2,   152.7,2,   24.93,2,   30.22,2,    0.00,2,    2.01,2,   0.103,2,   0.064,2,   0.002,2,    0.00,3,  -999.0,9,  -999.0,9,-999.0000,9,  -999.00,-999.000,9,-999.0000,9, -999.00,9,   5.3119,2, -999.00,9,  -999.0,9,  -999.0,-999.000,9,-999.000,   0.080,2, -999.00,9,   40.28,2,   32.85,2,  11.4133, -52.3332,-999.000,-999.0000, -999.00,   5.2187,   5.3119,2,    34.9736,2,  -999.0,9,     -999.0,9,     -999.0,9,     -999.0,9,       1842
33AT20120419,        A20,      25,          1,         18,         18,2,20120425,       1713,    11.4141,   -52.3334,       4983,  1174.7,   5.2469,  34.8837,2,  34.8820,2,    169.3,2,   170.6,2,   22.72,2,   27.59,2,    0.00,2,    1.84,2,   0.193,2,   0.111,2,   0.005,2,    0.00,3,  2201.5,2,  2313.7,2,   7.6334,2,    25.00,-999.000,9,-999.0000,9, -999.00,9,   5.2469,2, -999.00,9,  -999.0,9,  -999.0,-999.000,9,-999.000,   0.140,2, -999.00,9,   40.36,2,   30.41,2,  11.4133, -52.3332,-999.000,-999.0000, -999.00,   5.1447,   5.2469,2,    35.0465,2,  -999.0,9,     -999.0,9,     -999.0,9,     -999.0,9,       1839
33AT20120419,        A20,      25,          1,         17,         17,2,20120425,       1713,    11.4141,   -52.3334,       4983,  1275.5,   5.0608,  34.9724,2,  34.9729,2,    194.8,2,   198.0,2,   19.21,2,   23.54,2,    0.00,2,    1.58,2,   0.363,2,   0.201,2,   0.011,2,    0.00,3,  2185.8,2,  2317.2,2,   7.6774,2,    25.00,-999.000,9,-999.0000,9, -999.00,9,   5.0615,2, -999.00,9,  -999.0,9,  -999.0,-999.000,9,-999.000,   0.280,2, -999.00,9,   40.62,2,   27.05,2,  11.4133, -52.3332,-999.000,-999.0000, -999.00,   4.9505,   5.0615,2,    35.1378,2,  -999.0,9,     -999.0,9,     -999.0,9,     -999.0,9,       1836
33AT20120419,        A20,      25,          1,         16,         16,2,20120425,       1713,    11.4141,   -52.3334,       4983,  1376.7,   4.8320,  35.0016,2,  35.0009,2,    219.1,2,   220.3,2,   16.70,2,   21.17,2,    0.00,2,    1.41,2,   0.729,2,   0.379,2,   0.027,2,    0.00,3,  2175.7,2,  2315.5,2,   7.7020,2,    25.00,-999.000,9,-999.0000,9, -999.00,9,   4.8313,2, -999.00,9,  -999.0,9,  -999.0,-999.000,9,-999.000,   0.510,2, -999.00,9,   40.77,2,   24.20,2,  11.4134, -52.3332,-999.000,-999.0000, -999.00,   4.7142,   4.8313,2,    35.1659,2,  -999.0,9,     -999.0,9,     -999.0,9,     -999.0,9,       1833
33AT20120419,        A20,      25,          1,         15,         15,2,20120425,       1713,    11.4141,   -52.3334,       4983,  1477.0,   4.5352,  35.0053,2,  35.0044,2,    235.0,2,   235.6,2,   15.10,2,   19.69,2,    0.00,2,    1.32,2,   0.953,2,   0.489,2,   0.040,2,    0.00,3,  -999.0,9,  -999.0,9,-999.0000,9,  -999.00,-999.000,9,-999.0000,9, -999.00,9,   4.5376,2, -999.00,9,  -999.0,9,  -999.0,-999.000,9,-999.000,   0.670,2, -999.00,9,   40.67,2,   22.56,2,  11.4136, -52.3333,-999.000,-999.0000, -999.00,   4.4110,   4.5376,2,    35.1695,2,  -999.0,9,     -999.0,9,     -999.0,9,     -999.0,9,       1830
33AT20120419,        A20,      25,          1,         14,         14,2,20120425,       1713,    11.4141,   -52.3334,       4983,  1578.8,   4.2777,  34.9986,2,  34.9981,2,    248.1,2,   248.0,2,   13.93,2,   18.69,2,    0.00,2,    1.24,2,   1.183,2,   0.598,2,   0.054,2,    0.00,3,  2163.7,2,  2314.6,2,   7.7258,2,    25.00,-999.000,9,-999.0000,9, -999.00,9,   4.2779,2, -999.00,9,  -999.0,9,  -999.0,-999.000,9,-999.000,   0.850,2, -999.00,9,   40.87,2,   21.56,2,  11.4137, -52.3333,-999.000,-999.0000, -999.00,   4.1469,   4.2779,2,    35.1632,2,  -999.0,9,     -999.0,9,     -999.0,9,     -999.0,9,       1827
33AT20120419,        A20,      25,          1,         13,         13,2,20120425,       1713,    11.4141,   -52.3334,       4983,  1751.1,   3.8981,  34.9811,2,  34.9800,2,    254.4,2,   254.7,2,   14.86,2,   18.45,2,    0.00,2,    1.23,2,   0.898,2,   0.462,2,   0.042,2,    0.00,3,  -999.0,9,  -999.0,9,-999.0000,9,  -999.00,-999.000,9,-999.0000,9, -999.00,9,   3.8983,2, -999.00,9,  -999.0,9,  -999.0,-999.000,9,-999.000,   0.750,2, -999.00,9,   40.56,2,   21.31,2,  11.4138, -52.3333,-999.000,-999.0000, -999.00,   3.7558,   3.8983,2,    35.1450,2,  -999.0,9,     -999.0,9,     -999.0,9,     -999.0,9,       1823
33AT20120419,        A20,      25,          1,         12,         12,2,20120425,       1713,    11.4141,   -52.3334,       4983,  1954.2,   3.6190,  34.9710,2,  34.9706,2,    258.7,2,   257.9,2,   16.33,2,   18.37,2,    0.00,2,    1.23,2,   0.719,2,   0.371,2,   0.028,2,    0.00,3,  -999.0,9,  -999.0,9,-999.0000,9,  -999.00,-999.000,9,-999.0000,9, -999.00,9,   3.6185,2, -999.00,9,  -999.0,9,  -999.0,-999.000,9,-999.000,   0.630,2, -999.00,9,   40.72,2,   21.73,2,  11.4139, -52.3334,-999.000,-999.0000, -999.00,   3.4615,   3.6185,2,    35.1355,2,  -999.0,9,     -999.0,9,     -999.0,9,     -999.0,9,       1819
33AT20120419,        A20,      25,          1,         11,         11,2,20120425,       1713,    11.4141,   -52.3334,       4983,  2187.0,   3.3526,  34.9624,2,  34.9619,2,    257.7,2,   257.3,2,   19.36,2,   18.62,2,    0.00,2,    1.25,2,   0.414,2,   0.214,2,   0.017,2,    0.00,3,  2163.1,2,  2317.8,2,   7.7409,2,    25.00,-999.000,9,-999.0000,9, -999.00,9,   3.3529,2, -999.00,9,  -999.0,9,  -999.0,-999.000,9,-999.000,   0.440,2, -999.00,9,   40.28,2,   21.51,2,  11.4140, -52.3334,-999.000,-999.0000, -999.00,   3.1769,   3.3529,2,    35.1268,2,  -999.0,9,     -999.0,9,     -999.0,9,     -999.0,9,       1813
33AT20120419,        A20,      25,          1,         10,         10,2,20120425,       1713,    11.4141,   -52.3334,       4983,  2441.2,   3.1388,  34.9520,2,  34.9517,2,    259.9,2,   259.6,2,   20.75,2,   18.46,2,    0.00,2,    1.24,2,   0.439,2,   0.233,2,   0.016,2,    0.00,3,  2163.9,2,  2320.8,2,   7.7416,6,    25.00,-999.000,9,-999.0000,9, -999.00,9,   3.1384,2, -999.00,9,  -999.0,9,  -999.0,-999.000,9,-999.000,   0.440,2, -999.00,9,   40.21,2,   21.46,2,  11.4141, -52.3334,-999.000,-999.0000, -999.00,   2.9420,   3.1384,2,    35.1165,2,  -999.0,9,     -999.0,9,     -999.0,9,     -999.0,9,       1808
33AT20120419,        A20,      25,          1,          9,          9,2,20120425,       1713,    11.4141,   -52.3334,       4983,  2695.9,   2.9711,  34.9425,2,  34.9425,2,    256.9,2,   256.1,2,   25.25,2,   19.16,2,    0.00,2,    1.29,2,   0.213,2,   0.116,2,   0.007,2,    0.00,3,  2168.6,2,  2324.6,2,   7.7402,2,    25.00,-999.000,9,-999.0000,9, -999.00,9,   2.9709,2, -999.00,9,  -999.0,9,  -999.0,-999.000,9,-999.000,   0.270,2, -999.00,9,   39.98,2,   21.72,2,  11.4141, -52.3334,-999.000,-999.0000, -999.00,   2.7522,   2.9709,2,    35.1072,2,  -999.0,9,     -999.0,9,     -999.0,9,     -999.0,9,       1803
33AT20120419,        A20,      25,          1,          8,          8,2,20120425,       1713,    11.4141,   -52.3334,       4983,  2949.9,   2.8025,  34.9312,2,  34.9305,2,    253.0,2,   253.8,2,   29.75,2,   19.75,2,    0.00,2,    1.34,2,   0.151,2,   0.087,2,   0.004,2,    0.00,3,  2173.5,2,  2329.6,2,   7.7377,2,    25.00,-999.000,9,-999.0000,9, -999.00,9,   2.8031,2, -999.00,9,  -999.0,9,  -999.0,-999.000,9,-999.000,   0.200,2, -999.00,9,   41.01,2,   22.13,2,  11.4140, -52.3334,-999.000,-999.0000, -999.00,   2.5612,   2.8031,2,    35.0952,2,  -999.0,9,     -999.0,9,     -999.0,9,     -999.0,9,       1757
33AT20120419,        A20,      25,          1,          7,          7,2,20120425,       1713,    11.4141,   -52.3334,       4983,  3240.9,   2.6500,  34.9205,2,  34.9206,2,    258.0,2,   258.5,2,   28.99,2,   19.23,2,    0.00,2,    1.31,2,   0.311,2,   0.170,2,   0.013,2,    0.00,3,  -999.0,9,  -999.0,9,-999.0000,9,  -999.00,-999.000,9,-999.0000,9, -999.00,9,   2.6496,2, -999.00,9,  -999.0,9,  -999.0,-999.000,9,-999.000,   0.340,2, -999.00,9,   40.82,2,   21.33,2,  11.4139, -52.3334,-999.000,-999.0000, -999.00,   2.3817,   2.6496,2,    35.0853,2,  -999.0,9,     -999.0,9,     -999.0,9,     -999.0,9,       1751