BOTTLE,20220712CCHSIOCBG
EXPOCODE,SECT_ID,STNNBR,CASTNO,SAMPNO,BTLNBR,BTLNBR_FLAG_W,DATE,TIME,LATITUDE,LONGITUDE,DEPTH,CTDPRS,CTDTMP,CTDSAL,CTDSAL_FLAG_W,SALNTY,SALNTY_FLAG_W,CTDOXY,CTDOXY_FLAG_W,OXYGEN,OXYGEN_FLAG_W,SILCAT,SILCAT_FLAG_W,NITRAT,NITRAT_FLAG_W,NITRIT,NITRIT_FLAG_W,PHSPHT,PHSPHT_FLAG_W,CFC-11,CFC-11_FLAG_W,CFC-12,CFC-12_FLAG_W,CFC113,CFC113_FLAG_W,SF6,SF6_FLAG_W,TCARBN,TCARBN_FLAG_W,ALKALI,ALKALI_FLAG_W,PH_TOT,PH_TOT_FLAG_W,PH_TMP,TRITUM,TRITUM_FLAG_W,HELIUM,HELIUM_FLAG_W,DELHE3,DELHE3_FLAG_W,REFTMP,REFTMP_FLAG_W,DELC13,DELC13_FLAG_W,DELC14,DELC14_FLAG_W,C14ERR,NEON,NEON_FLAG_W,NEONER,CCL4,CCL4_FLAG_W,DELO18,DELO18_FLAG_W,DOC,DOC_FLAG_W,TDN,TDN_FLAG_W,BTL_LAT,BTL_LON,TRITER,HELIER,DELHER,THETA,SBE35,SBE35_FLAG_W,SALTREF,SALTREF_FLAG_W,14C-DOC,14C-DOC_FLAG_W,DELO17,DELO17_FLAG_W,O2/AR,O2/AR_FLAG_W,SIP,SIP_FLAG_W,BTL_TIME
,,,,,,,,,,,METERS,DBAR,ITS-90,PSS-78,,PSS-78,,UMOL/KG,,UMOL/KG,,UMOL/KG,,UMOL/KG,,UMOL/KG,,UMOL/KG,,PMOL/KG,,PMOL/KG,,PMOL/KG,,FMOL/KG,,UMOL/KG,,UMOL/KG,,,,DEG C,TU,,NMOL/KG,,PERCNT,,DEG C,,/MILLE,,/MILLE,,/MILLE,NMOL/KG,,NMOL/KG,PMOL/KG,,/MILLE,,UMOL/KG,,UMOL/KG,,,,TU,NMOL/KG,PERCNT,DEG C,ITS-90,,G/KG,,/MILLE,,/MILLE,,,,,,
33AT20120419,        A20,      66,          1,          6,          6,2,20120509,       0139,    39.7101,   -52.3503,       5303,  4067.9,   2.2849,  34.8913,2,  34.8916,2,    267.9,2,   267.2,2,   29.14,2,   18.47,2,    0.00,2,    1.27,2,   1.081,2,   0.522,2,   0.072,2,    0.31,2,  -999.0,9,  -999.0,9,-999.0000,9,  -999.00,-999.000,9,-999.0000,9, -999.00,9,   2.2859,2, -999.00,9,  -999.0,9,  -999.0,-999.000,9,-999.000,-999.000,9, -999.00,9, -999.00,9, -999.00,9,  39.7124, -52.3535,-999.000,-999.0000, -999.00,   1.9349,   2.2859,2,    35.0561,2,  -999.0,9,     -999.0,9,     -999.0,9,     -999.0,9,       0207
33AT20120419,        A20,      66,          1,          5,          5,2,20120509,       0139,    39.7101,   -52.3503,       5303,  4374.0,   2.2492,  34.8860,2,  34.8867,2,    267.3,2,   266.6,2,   30.85,2,   18.65,2,    0.00,2,    1.28,2,   1.186,2,   0.588,2,   0.079,2,    0.27,2,  2175.6,2,  2328.3,2,-999.0000,5,    25.00,-999.000,9,-999.0000,9, -999.00,9,   2.2500,2, -999.00,9,  -999.0,9,  -999.0,-999.000,9,-999.000,-999.000,9, -999.00,9, -999.00,9, -999.00,9,  39.7120, -52.3528,-999.000,-999.0000, -999.00,   1.8646,   2.2500,2,    35.0512,2,  -999.0,9,     -999.0,9,     -999.0,9,     -999.0,9,       0201
33AT20120419,        A20,      66,          1,          4,          4,2,20120509,       0139,    39.7101,   -52.3503,       5303,  4680.2,   2.2421,  34.8814,2,  34.8820,2,    264.8,2,   264.1,2,   34.09,2,   19.21,2,    0.00,2,    1.31,2,   1.020,2,   0.502,2,   0.070,2,    0.35,2,  -999.0,9,  -999.0,9,-999.0000,9,  -999.00,-999.000,9,-999.0000,9, -999.00,9,   2.2418,2, -999.00,9,  -999.0,9,  -999.0,-999.000,9,-999.000,-999.000,9, -999.00,9, -999.00,9, -999.00,9,  39.7115, -52.3523,-999.000,-999.0000, -999.00,   1.8210,   2.2418,2,    35.0464,2,  -999.0,9,     -999.0,9,     -999.0,9,     -999.0,9,       0155
33AT20120419,        A20,      66,          1,          3,          3,2,20120509,       0139,    39.7101,   -52.3503,       5303,  4986.9,   2.2455,  34.8774,2,  34.8782,2,    261.3,2,   261.5,2,   36.79,2,   19.66,2,    0.00,2,    1.34,2,   0.909,2,   0.439,2,   0.053,2,    0.23,2,  2181.9,2,  2333.6,2,-999.0000,5,    25.00,-999.000,9,-999.0000,9, -999.00,9,   2.2451,2, -999.00,9,  -999.0,9,  -999.0,-999.000,9,-999.000,-999.000,9, -999.00,9, -999.00,9, -999.00,9,  39.7110, -52.3515,-999.000,-999.0000, -999.00,   1.7863,   2.2451,2,    35.0427,2,  -999.0,9,     -999.0,9,     -999.0,9,     -999.0,9,       0149
33AT20120419,        A20,      66,          1,          2,          2,2,20120509,       0139,    39.7101,   -52.3503,       5303,  5193.4,   2.2489,  34.8745,2,  34.8786,4,    259.8,2,   259.4,2,   39.35,2,   20.08,2,    0.00,2,    1.37,2,   0.753,2,   0.361,2,   0.054,2,    0.23,2,  -999.0,9,  -999.0,9,-999.0000,9,  -999.00,-999.000,9,-999.0000,9, -999.00,9,   2.2489,2, -999.00,9,  -999.0,9,  -999.0,-999.000,9,-999.000,-999.000,9, -999.00,9, -999.00,9, -999.00,9,  39.7106, -52.3510,-999.000,-999.0000, -999.00,   1.7634,   2.2489,2,    35.0431,4,  -999.0,9,     -999.0,9,     -999.0,9,     -999.0,9,       0145
33AT20120419,        A20,      66,          1,          1,          1,2,20120509,       0139,    39.7101,   -52.3503,       5303,  5389.6,   2.2501,  34.8708,2,  34.8713,2,    256.8,2,   256.8,2,   42.04,2,   20.54,2,    0.00,2,    1.41,2,   0.596,2,   0.279,2,   0.039,2,    0.20,2,  2190.1,6,  2342.1,2,-999.0000,5,    25.00,-999.000,9,-999.0000,9, -999.00,9,   2.2488,2, -999.00,9,  -999.0,9,  -999.0,-999.000,9,-999.000,-999.000,9, -999.00,9, -999.00,9, -999.00,9,  39.7101, -52.3503,-999.000,-999.0000, -999.00,   1.7392,   2.2488,2,    35.0358,2,  -999.0,9,     -999.0,9,     -999.0,9,     -999.0,9,       0140