BOTTLE,20220712CCHSIOCBG
EXPOCODE,SECT_ID,STNNBR,CASTNO,SAMPNO,BTLNBR,BTLNBR_FLAG_W,DATE,TIME,LATITUDE,LONGITUDE,DEPTH,CTDPRS,CTDTMP,CTDSAL,CTDSAL_FLAG_W,SALNTY,SALNTY_FLAG_W,CTDOXY,CTDOXY_FLAG_W,OXYGEN,OXYGEN_FLAG_W,SILCAT,SILCAT_FLAG_W,NITRAT,NITRAT_FLAG_W,NITRIT,NITRIT_FLAG_W,PHSPHT,PHSPHT_FLAG_W,CFC-11,CFC-11_FLAG_W,CFC-12,CFC-12_FLAG_W,CFC113,CFC113_FLAG_W,SF6,SF6_FLAG_W,TCARBN,TCARBN_FLAG_W,ALKALI,ALKALI_FLAG_W,PH_TOT,PH_TOT_FLAG_W,PH_TMP,TRITUM,TRITUM_FLAG_W,HELIUM,HELIUM_FLAG_W,DELHE3,DELHE3_FLAG_W,REFTMP,REFTMP_FLAG_W,DELC13,DELC13_FLAG_W,DELC14,DELC14_FLAG_W,C14ERR,NEON,NEON_FLAG_W,NEONER,CCL4,CCL4_FLAG_W,DELO18,DELO18_FLAG_W,DOC,DOC_FLAG_W,TDN,TDN_FLAG_W,BTL_LAT,BTL_LON,TRITER,HELIER,DELHER,THETA,SBE35,SBE35_FLAG_W,SALTREF,SALTREF_FLAG_W,14C-DOC,14C-DOC_FLAG_W,DELO17,DELO17_FLAG_W,O2/AR,O2/AR_FLAG_W,SIP,SIP_FLAG_W,BTL_TIME
,,,,,,,,,,,METERS,DBAR,ITS-90,PSS-78,,PSS-78,,UMOL/KG,,UMOL/KG,,UMOL/KG,,UMOL/KG,,UMOL/KG,,UMOL/KG,,PMOL/KG,,PMOL/KG,,PMOL/KG,,FMOL/KG,,UMOL/KG,,UMOL/KG,,,,DEG C,TU,,NMOL/KG,,PERCNT,,DEG C,,/MILLE,,/MILLE,,/MILLE,NMOL/KG,,NMOL/KG,PMOL/KG,,/MILLE,,UMOL/KG,,UMOL/KG,,,,TU,NMOL/KG,PERCNT,DEG C,ITS-90,,G/KG,,/MILLE,,/MILLE,,,,,,
33AT20120419,        A20,      40,          1,         36,         36,2,20120430,       1518,    21.4776,   -52.3335,       4915,     3.3,  25.2292,  36.8276,2,  36.8272,2,    206.3,2,   207.6,2,    0.66,2,    0.00,2,    0.00,2,    0.00,2,   1.773,2,   1.101,2,   0.149,2,    1.03,2,  2053.2,6,  2413.9,2,   8.1047,2,    25.00,-999.000,9,-999.0000,9, -999.00,9,  25.2190,2, -999.00,9,  -999.0,9,  -999.0,-999.000,9,-999.000,-999.000,9, -999.00,9, -999.00,9, -999.00,9,  21.4796, -52.3340,-999.000,-999.0000, -999.00,  25.2285,  25.2190,2,    37.0009,2,  -999.0,9,     -999.0,9,     -999.0,9,     -999.0,9,       1725
33AT20120419,        A20,      40,          1,         35,         35,2,20120430,       1518,    21.4776,   -52.3335,       4915,    19.4,  24.9126,  36.8194,2,  36.8191,2,    207.9,2,   208.7,2,    0.68,2,    0.00,2,    0.00,2,    0.00,2,   1.773,2,   1.104,2,   0.160,2,    1.07,2,  2054.6,2,  2413.4,2,   8.1061,2,    25.00,-999.000,9,-999.0000,9, -999.00,9,  24.9122,2, -999.00,9,  -999.0,9,  -999.0,-999.000,9,-999.000,-999.000,9, -999.00,9, -999.00,9, -999.00,9,  21.4795, -52.3340,-999.000,-999.0000, -999.00,  24.9084,  24.9122,2,    36.9927,2,  -999.0,9,     -999.0,9,     -999.0,9,     -999.0,9,       1723
33AT20120419,        A20,      40,          1,         34,         34,2,20120430,       1518,    21.4776,   -52.3335,       4915,    40.2,  24.8828,  36.8202,2,  36.8199,2,    209.7,2,   208.2,2,    0.79,2,    0.00,2,    0.00,2,    0.00,2,   1.792,2,   1.137,2,   0.172,2,    1.05,2,  2053.3,2,  2413.3,2,   8.1039,6,    25.00,-999.000,9,-999.0000,9, -999.00,9,  24.8843,2, -999.00,9,  -999.0,9,  -999.0,-999.000,9,-999.000,-999.000,9, -999.00,9, -999.00,9, -999.00,9,  21.4793, -52.3339,-999.000,-999.0000, -999.00,  24.8741,  24.8843,2,    36.9935,2,  -999.0,9,     -999.0,9,     -999.0,9,     -999.0,9,       1721
33AT20120419,        A20,      40,          1,         33,         33,2,20120430,       1518,    21.4776,   -52.3335,       4915,    64.3,  24.3155,  37.0648,2,  37.0641,2,    210.6,2,   210.3,2,    0.48,2,    0.00,2,    0.00,2,    0.00,2,   1.774,2,   1.104,2,   0.151,2,    0.92,2,  2071.1,2,  2426.5,2,   8.0948,2,    25.00,-999.000,9,-999.0000,9, -999.00,9,  24.3099,2, -999.00,9,  -999.0,9,  -999.0,-999.000,9,-999.000,-999.000,9, -999.00,9, -999.00,9, -999.00,9,  21.4792, -52.3339,-999.000,-999.0000, -999.00,  24.3017,  24.3099,2,    37.2388,2,  -999.0,9,     -999.0,9,     -999.0,9,     -999.0,9,       1718
33AT20120419,        A20,      40,          1,         32,         32,2,20120430,       1518,    21.4776,   -52.3335,       4915,    96.4,  23.5387,  37.2045,2,  37.2032,2,    200.1,2,   200.0,2,    0.32,2,    0.00,2,    0.00,2,    0.00,2,   1.892,2,   1.173,2,   0.151,2,    1.09,2,  2099.0,2,  2434.7,2,   8.0589,6,    25.00,-999.000,9,-999.0000,9, -999.00,9,  23.5406,2, -999.00,9,  -999.0,9,  -999.0,-999.000,9,-999.000,-999.000,9, -999.00,9, -999.00,9, -999.00,9,  21.4790, -52.3338,-999.000,-999.0000, -999.00,  23.5185,  23.5406,2,    37.3786,2,  -999.0,9,     -999.0,9,     -999.0,9,     -999.0,9,       1715
33AT20120419,        A20,      40,          1,         31,         31,2,20120430,       1518,    21.4776,   -52.3335,       4915,   142.2,  21.1060,  36.9910,2,  36.9896,2,    187.2,2,   187.7,2,    0.40,2,    0.63,2,    0.05,2,    0.00,2,   2.052,2,   1.279,2,   0.115,2,    0.93,2,  2123.6,2,  2419.5,2,   7.9999,2,    25.00,-999.000,9,-999.0000,9, -999.00,9,  21.0733,2, -999.00,9,  -999.0,9,  -999.0,-999.000,9,-999.000,-999.000,9, -999.00,9, -999.00,9, -999.00,9,  21.4788, -52.3338,-999.000,-999.0000, -999.00,  21.0784,  21.0733,2,    37.1640,2,  -999.0,9,     -999.0,9,     -999.0,9,     -999.0,9,       1713
33AT20120419,        A20,      40,          1,         30,         30,2,20120430,       1518,    21.4776,   -52.3335,       4915,   193.6,  18.9699,  36.6675,2,  36.6588,2,    187.4,2,   189.3,2,    0.75,2,    2.67,2,    0.01,2,    0.09,2,   2.245,2,   1.369,2,   0.043,2,    1.09,2,  2122.2,2,  2398.7,2,   7.9706,2,    25.00,-999.000,9,-999.0000,9, -999.00,9,  18.9723,2, -999.00,9,  -999.0,9,  -999.0,-999.000,9,-999.000,-999.000,9, -999.00,9, -999.00,9, -999.00,9,  21.4787, -52.3338,-999.000,-999.0000, -999.00,  18.9351,  18.9723,2,    36.8317,2,  -999.0,9,     -999.0,9,     -999.0,9,     -999.0,9,       1710
33AT20120419,        A20,      40,          1,         29,         29,2,20120430,       1518,    21.4776,   -52.3335,       4915,   238.5,  18.2439,  36.5749,2,  36.5720,2,    195.6,2,   195.7,2,    0.93,2,    3.85,2,    0.01,2,    0.17,2,   2.295,2,   1.397,2,   0.031,2,    1.13,2,  -999.0,9,  -999.0,9,-999.0000,9,  -999.00,-999.000,9,-999.0000,9, -999.00,9,  18.2398,2, -999.00,9,  -999.0,9,  -999.0,-999.000,9,-999.000,-999.000,9, -999.00,9, -999.00,9, -999.00,9,  21.4786, -52.3338,-999.000,-999.0000, -999.00,  18.2021,  18.2398,2,    36.7444,2,  -999.0,9,     -999.0,9,     -999.0,9,     -999.0,9,       1708
33AT20120419,        A20,      40,          1,         28,         28,2,20120430,       1518,    21.4776,   -52.3335,       4915,   287.6,  17.8851,  36.5298,2,  36.5272,2,    199.8,2,   199.6,2,    1.17,2,    4.38,2,    0.01,2,    0.21,2,   2.350,2,   1.413,2,   0.042,2,    1.08,2,  2117.5,2,  2389.1,2,   7.9655,6,    25.00,-999.000,9,-999.0000,9, -999.00,9,  17.8849,2, -999.00,9,  -999.0,9,  -999.0,-999.000,9,-999.000,-999.000,9, -999.00,9, -999.00,9, -999.00,9,  21.4785, -52.3337,-999.000,-999.0000, -999.00,  17.8353,  17.8849,2,    36.6994,2,  -999.0,9,     -999.0,9,     -999.0,9,     -999.0,9,       1707
33AT20120419,        A20,      40,          1,         27,         27,2,20120430,       1518,    21.4776,   -52.3335,       4915,   335.2,  17.2432,  36.4229,2,  36.4204,2,    195.0,2,   193.3,2,    1.66,2,    5.99,2,    0.00,2,    0.32,2,   2.384,2,   1.415,2,   0.042,2,    1.06,2,  2126.3,2,  2382.2,2,   7.9413,2,    25.00,-999.000,9,-999.0000,9, -999.00,9,  17.2392,2, -999.00,9,  -999.0,9,  -999.0,-999.000,9,-999.000,-999.000,9, -999.00,9, -999.00,9, -999.00,9,  21.4784, -52.3337,-999.000,-999.0000, -999.00,  17.1866,  17.2392,2,    36.5921,2,  -999.0,9,     -999.0,9,     -999.0,9,     -999.0,9,       1705
33AT20120419,        A20,      40,          1,         26,         26,2,20120430,       1518,    21.4776,   -52.3335,       4915,   388.2,  16.5574,  36.3029,2,  36.2965,2,    180.5,2,   182.3,2,    2.24,2,    8.02,2,    0.01,2,    0.45,2,   2.400,2,   1.404,2,   0.030,2,    0.98,2,  -999.0,9,  -999.0,9,-999.0000,9,  -999.00,-999.000,9,-999.0000,9, -999.00,9,  16.5583,2, -999.00,9,  -999.0,9,  -999.0,-999.000,9,-999.000,-999.000,9, -999.00,9, -999.00,9, -999.00,9,  21.4783, -52.3337,-999.000,-999.0000, -999.00,  16.4936,  16.5583,2,    36.4676,2,  -999.0,9,     -999.0,9,     -999.0,9,     -999.0,9,       1703
33AT20120419,        A20,      40,          1,         25,         25,2,20120430,       1518,    21.4776,   -52.3335,       4915,   468.3,  14.7229,  35.9927,2,  35.9869,2,    166.1,2,   167.8,2,    4.02,2,   12.38,2,    0.00,2,    0.72,2,   2.375,2,   1.357,2,   0.034,2,    0.82,2,  2154.0,2,  2358.4,2,   7.8442,2,    25.00,-999.000,9,-999.0000,9, -999.00,9,  14.7247,2, -999.00,9,  -999.0,9,  -999.0,-999.000,9,-999.000,-999.000,9, -999.00,9, -999.00,9, -999.00,9,  21.4782, -52.3337,-999.000,-999.0000, -999.00,  14.6517,  14.7247,2,    36.1566,2,  -999.0,9,     -999.0,9,     -999.0,9,     -999.0,9,       1700
33AT20120419,        A20,      40,          1,         24,         24,2,20120430,       1518,    21.4776,   -52.3335,       4915,   569.3,  12.6197,  35.6907,2,  35.6949,2,    150.5,2,   150.4,2,    6.70,2,   17.54,2,    0.00,2,    1.04,2,   2.054,2,   1.113,2,   0.030,2,    0.55,2,  2172.7,2,  2344.6,2,   7.7705,2,    25.00,-999.000,9,-999.0000,9, -999.00,9,  12.6200,2, -999.00,9,  -999.0,9,  -999.0,-999.000,9,-999.000,-999.000,9, -999.00,9, -999.00,9, -999.00,9,  21.4780, -52.3336,-999.000,-999.0000, -999.00,  12.5413,  12.6200,2,    35.8633,2,  -999.0,9,     -999.0,9,     -999.0,9,     -999.0,9,       1658
33AT20120419,        A20,      40,          1,         23,         23,2,20120430,       1518,    21.4776,   -52.3335,       4915,   667.5,  10.9592,  35.4798,2,  35.4806,2,    148.3,2,   145.9,2,    9.79,2,   21.03,2,    0.00,2,    1.28,2,   1.501,2,   0.770,2,   0.020,2,    0.28,2,  2183.8,2,  2334.6,2,   7.7274,2,    25.00,-999.000,9,-999.0000,9, -999.00,9,  10.9675,2, -999.00,9,  -999.0,9,  -999.0,-999.000,9,-999.000,-999.000,9, -999.00,9, -999.00,9, -999.00,9,  21.4779, -52.3336,-999.000,-999.0000, -999.00,  10.8749,  10.9675,2,    35.6479,2,  -999.0,9,     -999.0,9,     -999.0,9,     -999.0,9,       1655
33AT20120419,        A20,      40,          1,         22,         22,2,20120430,       1518,    21.4776,   -52.3335,       4915,   766.9,   9.2446,  35.2491,2,  35.2396,2,    138.3,2,   139.1,2,   14.22,2,   25.06,2,    0.00,2,    1.58,2,   0.878,2,   0.425,2,   0.013,2,    0.15,2,  2196.3,2,  2325.0,2,   7.6761,2,    25.00,-999.000,9,-999.0000,9, -999.00,9,   9.2501,2, -999.00,9,  -999.0,9,  -999.0,-999.000,9,-999.000,-999.000,9, -999.00,9, -999.00,9, -999.00,9,  21.4779, -52.3336,-999.000,-999.0000, -999.00,   9.1569,   9.2501,2,    35.4057,2,  -999.0,9,     -999.0,9,     -999.0,9,     -999.0,9,       1652
33AT20120419,        A20,      40,          1,         21,         21,2,20120430,       1518,    21.4776,   -52.3335,       4915,   871.0,   7.1512,  34.9733,2,  34.9706,2,    137.6,2,   138.0,2,   19.96,2,   28.92,2,    0.00,2,    1.87,2,   0.408,2,   0.179,2,   0.005,2,    0.09,2,  2205.9,2,  2315.8,2,   7.6235,2,    25.00,-999.000,9,-999.0000,9, -999.00,9,   7.1592,2, -999.00,9,  -999.0,9,  -999.0,-999.000,9,-999.000,-999.000,9, -999.00,9, -999.00,9, -999.00,9,  21.4778, -52.3336,-999.000,-999.0000, -999.00,   7.0647,   7.1592,2,    35.1355,2,  -999.0,9,     -999.0,9,     -999.0,9,     -999.0,9,       1650
33AT20120419,        A20,      40,          1,         20,         20,2,20120430,       1518,    21.4776,   -52.3335,       4915,   972.9,   6.2447,  34.9122,2,  34.9130,2,    144.4,2,   149.2,2,   21.59,2,   28.94,2,    0.00,2,    1.90,2,   0.270,2,   0.122,2,   0.009,2,    0.05,2,  2207.0,2,  2315.7,2,   7.6225,6,    25.00,-999.000,9,-999.0000,9, -999.00,9,   6.2440,2, -999.00,9,  -999.0,9,  -999.0,-999.000,9,-999.000,-999.000,9, -999.00,9, -999.00,9, -999.00,9,  21.4777, -52.3335,-999.000,-999.0000, -999.00,   6.1541,   6.2440,2,    35.0776,2,  -999.0,9,     -999.0,9,     -999.0,9,     -999.0,9,       1647
33AT20120419,        A20,      40,          1,         19,         19,2,20120430,       1518,    21.4776,   -52.3335,       4915,  1073.0,   5.8632,  34.9427,2,  34.9413,2,    159.3,2,   163.9,2,   20.98,2,   27.38,2,    0.00,2,    1.81,2,-999.000,9,-999.000,9,-999.000,9, -999.00,9,  2202.7,2,  2317.6,2,   7.6410,2,    25.00,-999.000,9,-999.0000,9, -999.00,9,   5.8635,2, -999.00,9,  -999.0,9,  -999.0,-999.000,9,-999.000,-999.000,9, -999.00,9, -999.00,9, -999.00,9,  21.4776, -52.3335,-999.000,-999.0000, -999.00,   5.7655,   5.8635,2,    35.1061,2,  -999.0,9,     -999.0,9,     -999.0,9,     -999.0,9,       1644
33AT20120419,        A20,      40,          1,         18,         18,2,20120430,       1518,    21.4776,   -52.3335,       4915,  1174.8,   5.5659,  34.9771,2,  34.9753,2,    179.4,2,   181.0,2,   19.66,2,   25.31,2,    0.00,2,    1.68,2,   0.334,2,   0.149,2,   0.012,2,    0.10,2,  -999.0,9,  -999.0,9,-999.0000,9,  -999.00,-999.000,9,-999.0000,9, -999.00,9,   5.5671,2, -999.00,9,  -999.0,9,  -999.0,-999.000,9,-999.000,-999.000,9, -999.00,9, -999.00,9, -999.00,9,  21.4776, -52.3335,-999.000,-999.0000, -999.00,   5.4607,   5.5671,2,    35.1403,2,  -999.0,9,     -999.0,9,     -999.0,9,     -999.0,9,       1641
33AT20120419,        A20,      40,          1,         17,         17,2,20120430,       1518,    21.4776,   -52.3335,       4915,  1276.7,   5.2349,  35.0099,2,  35.0092,2,    200.6,2,   202.2,2,   17.80,2,   22.69,2,    0.00,2,    1.53,2,   0.457,2,   0.189,2,   0.016,2,    0.15,2,  2184.8,2,  2318.9,6,   7.6912,2,    25.00,-999.000,9,-999.0000,9, -999.00,9,   5.2348,2, -999.00,9,  -999.0,9,  -999.0,-999.000,9,-999.000,-999.000,9, -999.00,9, -999.00,9, -999.00,9,  21.4775, -52.3335,-999.000,-999.0000, -999.00,   5.1227,   5.2348,2,    35.1743,2,  -999.0,9,     -999.0,9,     -999.0,9,     -999.0,9,       1639
33AT20120419,        A20,      40,          1,         16,         16,2,20120430,       1518,    21.4776,   -52.3335,       4915,  1377.6,   5.0341,  35.0305,2,  35.0299,2,    219.6,2,   219.1,2,   15.74,2,   20.87,2,    0.00,2,    1.40,2,   0.726,2,   0.332,2,   0.027,2,    0.16,2,  -999.0,9,  -999.0,9,-999.0000,9,  -999.00,-999.000,9,-999.0000,9, -999.00,9,   5.0350,2, -999.00,9,  -999.0,9,  -999.0,-999.000,9,-999.000,-999.000,9, -999.00,9, -999.00,9, -999.00,9,  21.4774, -52.3335,-999.000,-999.0000, -999.00,   4.9141,   5.0350,2,    35.1950,2,  -999.0,9,     -999.0,9,     -999.0,9,     -999.0,9,       1636
33AT20120419,        A20,      40,          1,         15,         15,2,20120430,       1518,    21.4776,   -52.3335,       4915,  1477.0,   4.7810,  35.0368,2,  35.0360,2,    232.9,2,   233.4,2,   14.41,2,   19.56,2,    0.00,2,    1.31,2,   0.877,2,   0.419,2,   0.033,2,    0.18,2,  2170.9,2,  2317.4,2,   7.7232,2,    25.00,-999.000,9,-999.0000,9, -999.00,9,   4.7826,2, -999.00,9,  -999.0,9,  -999.0,-999.000,9,-999.000,-999.000,9, -999.00,9, -999.00,9, -999.00,9,  21.4773, -52.3334,-999.000,-999.0000, -999.00,   4.6541,   4.7826,2,    35.2012,2,  -999.0,9,     -999.0,9,     -999.0,9,     -999.0,9,       1633
33AT20120419,        A20,      40,          1,         14,         14,2,20120430,       1518,    21.4776,   -52.3335,       4915,  1580.4,   4.4689,  35.0264,2,  35.0259,2,    239.2,2,   239.3,2,   15.01,2,   19.35,2,    0.00,2,    1.29,2,   0.667,2,   0.307,2,   0.028,2,    0.15,2,  2167.8,2,  2316.6,2,   7.7309,2,    25.00,-999.000,9,-999.0000,9, -999.00,9,   4.4690,2, -999.00,9,  -999.0,9,  -999.0,-999.000,9,-999.000,-999.000,9, -999.00,9, -999.00,9, -999.00,9,  21.4772, -52.3334,-999.000,-999.0000, -999.00,   4.3356,   4.4690,2,    35.1911,2,  -999.0,9,     -999.0,9,     -999.0,9,     -999.0,9,       1631
33AT20120419,        A20,      40,          1,         13,         13,2,20120430,       1518,    21.4776,   -52.3335,       4915,  1754.1,   4.1459,  35.0179,2,  35.0183,2,    245.0,2,   245.5,2,   16.27,2,   19.15,2,    0.00,2,    1.28,2,   0.476,2,   0.206,2,   0.018,2,    0.13,2,  2166.1,2,  2318.0,2,   7.7363,2,    25.00,-999.000,9,-999.0000,9, -999.00,9,   4.1461,2, -999.00,9,  -999.0,9,  -999.0,-999.000,9,-999.000,-999.000,9, -999.00,9, -999.00,9, -999.00,9,  21.4771, -52.3334,-999.000,-999.0000, -999.00,   4.0000,   4.1461,2,    35.1834,2,  -999.0,9,     -999.0,9,     -999.0,9,     -999.0,9,       1627
33AT20120419,        A20,      40,          1,         12,         12,2,20120430,       1518,    21.4776,   -52.3335,       4915,  1958.0,   3.7557,  35.0037,2,  35.0035,2,    247.6,2,   247.0,2,   19.61,2,   19.30,2,    0.00,2,    1.30,2,   0.231,2,   0.103,2,   0.017,2,    0.06,2,  2168.5,2,  2321.9,2,   7.7432,2,    25.00,-999.000,9,-999.0000,9, -999.00,9,   3.7551,2, -999.00,9,  -999.0,9,  -999.0,-999.000,9,-999.000,-999.000,9, -999.00,9, -999.00,9, -999.00,9,  21.4771, -52.3334,-999.000,-999.0000, -999.00,   3.5957,   3.7551,2,    35.1685,2,  -999.0,9,     -999.0,9,     -999.0,9,     -999.0,9,       1623
33AT20120419,        A20,      40,          1,         11,         11,2,20120430,       1518,    21.4776,   -52.3335,       4915,  2189.4,   3.4123,  34.9839,2,  34.9830,2,    247.6,2,   247.7,2,   23.69,2,   19.60,2,    0.00,2,    1.32,2,-999.000,9,-999.000,9,-999.000,9, -999.00,9,  -999.0,9,  -999.0,9,-999.0000,9,  -999.00,-999.000,9,-999.0000,9, -999.00,9,   3.4119,2, -999.00,9,  -999.0,9,  -999.0,-999.000,9,-999.000,-999.000,9, -999.00,9, -999.00,9, -999.00,9,  21.4770, -52.3334,-999.000,-999.0000, -999.00,   3.2353,   3.4119,2,    35.1480,2,  -999.0,9,     -999.0,9,     -999.0,9,     -999.0,9,       1618
33AT20120419,        A20,      40,          1,         10,         10,2,20120430,       1518,    21.4776,   -52.3335,       4915,  2441.5,   3.1155,  34.9611,2,  34.9604,2,    248.8,2,   249.2,2,   27.19,2,   19.80,2,    0.00,2,    1.35,2,   0.088,2,   0.034,2,   0.005,2,    0.04,2,  2173.9,2,  2329.6,6,   7.7427,2,    25.00,-999.000,9,-999.0000,9, -999.00,9,   3.1148,2, -999.00,9,  -999.0,9,  -999.0,-999.000,9,-999.000,-999.000,9, -999.00,9, -999.00,9, -999.00,9,  21.4770, -52.3334,-999.000,-999.0000, -999.00,   2.9191,   3.1148,2,    35.1253,2,  -999.0,9,     -999.0,9,     -999.0,9,     -999.0,9,       1613
33AT20120419,        A20,      40,          1,          9,          9,2,20120430,       1518,    21.4776,   -52.3335,       4915,  2697.3,   2.9245,  34.9452,2,  34.9445,2,    250.9,2,   250.5,2,   29.38,2,   19.89,2,    0.00,2,    1.36,2,-999.000,9,-999.000,9,-999.000,9, -999.00,9,  -999.0,9,  -999.0,9,-999.0000,9,  -999.00,-999.000,9,-999.0000,9, -999.00,9,   2.9238,2, -999.00,9,  -999.0,9,  -999.0,-999.000,9,-999.000,-999.000,9, -999.00,9, -999.00,9, -999.00,9,  21.4769, -52.3334,-999.000,-999.0000, -999.00,   2.7063,   2.9238,2,    35.1092,2,  -999.0,9,     -999.0,9,     -999.0,9,     -999.0,9,       1608
33AT20120419,        A20,      40,          1,          8,          8,2,20120430,       1518,    21.4776,   -52.3335,       4915,  2950.3,   2.7795,  34.9326,2,  34.9319,2,    249.4,2,   250.7,2,   32.00,2,   20.14,2,    0.00,2,    1.38,2,   0.082,2,   0.036,2,   0.006,2,    0.09,2,  2177.4,2,  2332.1,2,   7.7395,2,    25.00,-999.000,9,-999.0000,9, -999.00,9,   2.7786,2, -999.00,9,  -999.0,9,  -999.0,-999.000,9,-999.000,-999.000,9, -999.00,9, -999.00,9, -999.00,9,  21.4768, -52.3333,-999.000,-999.0000, -999.00,   2.5386,   2.7786,2,    35.0966,2,  -999.0,9,     -999.0,9,     -999.0,9,     -999.0,9,       1603
33AT20120419,        A20,      40,          1,          7,          7,2,20120430,       1518,    21.4776,   -52.3335,       4915,  3253.2,   2.6335,  34.9196,2,  34.9181,2,    250.1,2,   250.6,2,   35.16,2,   20.43,2,    0.00,2,    1.40,2,-999.000,9,-999.000,9,-999.000,9, -999.00,9,  -999.0,9,  -999.0,9,-999.0000,9,  -999.00,-999.000,9,-999.0000,9, -999.00,9,   2.6340,2, -999.00,9,  -999.0,9,  -999.0,-999.000,9,-999.000,-999.000,9, -999.00,9, -999.00,9, -999.00,9,  21.4768, -52.3333,-999.000,-999.0000, -999.00,   2.3643,   2.6340,2,    35.0828,2,  -999.0,9,     -999.0,9,     -999.0,9,     -999.0,9,       1556