BOTTLE,20220712CCHSIOCBG
EXPOCODE,SECT_ID,STNNBR,CASTNO,SAMPNO,BTLNBR,BTLNBR_FLAG_W,DATE,TIME,LATITUDE,LONGITUDE,DEPTH,CTDPRS,CTDTMP,CTDSAL,CTDSAL_FLAG_W,SALNTY,SALNTY_FLAG_W,CTDOXY,CTDOXY_FLAG_W,OXYGEN,OXYGEN_FLAG_W,SILCAT,SILCAT_FLAG_W,NITRAT,NITRAT_FLAG_W,NITRIT,NITRIT_FLAG_W,PHSPHT,PHSPHT_FLAG_W,CFC-11,CFC-11_FLAG_W,CFC-12,CFC-12_FLAG_W,CFC113,CFC113_FLAG_W,SF6,SF6_FLAG_W,TCARBN,TCARBN_FLAG_W,ALKALI,ALKALI_FLAG_W,PH_TOT,PH_TOT_FLAG_W,PH_TMP,TRITUM,TRITUM_FLAG_W,HELIUM,HELIUM_FLAG_W,DELHE3,DELHE3_FLAG_W,REFTMP,REFTMP_FLAG_W,DELC13,DELC13_FLAG_W,DELC14,DELC14_FLAG_W,C14ERR,NEON,NEON_FLAG_W,NEONER,CCL4,CCL4_FLAG_W,DELO18,DELO18_FLAG_W,DOC,DOC_FLAG_W,TDN,TDN_FLAG_W,BTL_LAT,BTL_LON,TRITER,HELIER,DELHER,THETA,SBE35,SBE35_FLAG_W,SALTREF,SALTREF_FLAG_W,14C-DOC,14C-DOC_FLAG_W,DELO17,DELO17_FLAG_W,O2/AR,O2/AR_FLAG_W,SIP,SIP_FLAG_W,BTL_TIME
,,,,,,,,,,,METERS,DBAR,ITS-90,PSS-78,,PSS-78,,UMOL/KG,,UMOL/KG,,UMOL/KG,,UMOL/KG,,UMOL/KG,,UMOL/KG,,PMOL/KG,,PMOL/KG,,PMOL/KG,,FMOL/KG,,UMOL/KG,,UMOL/KG,,,,DEG C,TU,,NMOL/KG,,PERCNT,,DEG C,,/MILLE,,/MILLE,,/MILLE,NMOL/KG,,NMOL/KG,PMOL/KG,,/MILLE,,UMOL/KG,,UMOL/KG,,,,TU,NMOL/KG,PERCNT,DEG C,ITS-90,,G/KG,,/MILLE,,/MILLE,,,,,,
33AT20120419,        A20,      76,          1,         32,         32,2,20120511,       0643,    42.6251,   -51.1216,       2017,     3.5,  10.2748,  33.4369,2,  33.4385,2,    291.1,2,   293.6,2,    0.00,2,    0.00,2,    0.00,2,    0.17,2,   3.851,2,   2.199,2,   0.341,2,    2.38,2,  2033.6,6,  2245.5,2,-999.0000,9,  -999.00,-999.000,9,-999.0000,9, -999.00,9,  10.2748,2, -999.00,9,  -999.0,9,  -999.0,-999.000,9,-999.000,-999.000,9, -999.00,9, -999.00,9, -999.00,9,  42.6251, -51.1224,-999.000,-999.0000, -999.00,  10.2744,  10.2748,2,    33.5961,2,  -999.0,9,     -999.0,9,     -999.0,9,     -999.0,9,       0801
33AT20120419,        A20,      76,          1,         31,         31,2,20120511,       0643,    42.6251,   -51.1216,       2017,    20.0,  10.9171,  33.7890,2,  33.7566,2,    294.2,2,   290.8,2,    0.00,2,    0.00,2,    0.00,2,    0.13,2,   3.636,2,   2.096,2,   0.320,2,    2.05,2,  -999.0,9,  -999.0,9,-999.0000,9,  -999.00,-999.000,9,-999.0000,9, -999.00,9,  10.9047,2, -999.00,9,  -999.0,9,  -999.0,-999.000,9,-999.000,-999.000,9, -999.00,9, -999.00,9, -999.00,9,  42.6251, -51.1223,-999.000,-999.0000, -999.00,  10.9147,  10.9047,2,    33.9158,2,  -999.0,9,     -999.0,9,     -999.0,9,     -999.0,9,       0758
33AT20120419,        A20,      76,          1,         30,         30,2,20120511,       0643,    42.6251,   -51.1216,       2017,    40.9,  10.3516,  34.1882,2,  34.1669,2,    279.3,2,   271.9,2,    0.72,2,    2.39,2,    0.16,2,    0.35,2,-999.000,9,-999.000,9,-999.000,9, -999.00,9,  2076.3,2,  2278.0,2,-999.0000,9,  -999.00,-999.000,9,-999.0000,9, -999.00,9,  10.2780,2, -999.00,9,  -999.0,9,  -999.0,-999.000,9,-999.000,-999.000,9, -999.00,9, -999.00,9, -999.00,9,  42.6251, -51.1222,-999.000,-999.0000, -999.00,  10.3468,  10.2780,2,    34.3280,2,  -999.0,9,     -999.0,9,     -999.0,9,     -999.0,9,       0756
33AT20120419,        A20,      76,          1,         29,         29,2,20120511,       0643,    42.6251,   -51.1216,       2017,    87.3,  12.6150,  35.0644,2,  35.0677,2,    237.7,2,   236.8,2,    1.95,2,    5.99,2,    0.03,2,    0.45,2,   3.009,2,   1.760,2,   0.227,2,    1.77,2,  2102.3,2,  2319.8,2,-999.0000,9,  -999.00,-999.000,9,-999.0000,9, -999.00,9,  12.6113,2, -999.00,9,  -999.0,9,  -999.0,-999.000,9,-999.000,-999.000,9, -999.00,9, -999.00,9, -999.00,9,  42.6251, -51.1221,-999.000,-999.0000, -999.00,  12.6033,  12.6113,2,    35.2330,2,  -999.0,9,     -999.0,9,     -999.0,9,     -999.0,9,       0754
33AT20120419,        A20,      76,          1,         28,         28,2,20120511,       0643,    42.6251,   -51.1216,       2017,   121.5,  14.1069,  35.6854,2,  35.6622,2,    185.9,2,   187.5,2,    3.98,2,   10.93,2,    0.02,2,    0.68,2,   2.515,2,   1.451,2,   0.106,2,    1.38,2,  -999.0,9,  -999.0,9,-999.0000,9,  -999.00,-999.000,9,-999.0000,9, -999.00,9,  14.1173,2, -999.00,9,  -999.0,9,  -999.0,-999.000,9,-999.000,-999.000,9, -999.00,9, -999.00,9, -999.00,9,  42.6251, -51.1220,-999.000,-999.0000, -999.00,  14.0892,  14.1173,2,    35.8303,2,  -999.0,9,     -999.0,9,     -999.0,9,     -999.0,9,       0750
33AT20120419,        A20,      76,          1,         27,         27,2,20120511,       0643,    42.6251,   -51.1216,       2017,   150.1,  13.3811,  35.6800,2,  35.6811,2,    161.2,2,   160.7,2,    6.05,2,   15.23,2,    0.02,2,    0.94,2,   2.290,2,   1.302,2,   0.064,2,    0.94,2,  2161.6,2,  2343.2,2,-999.0000,9,  -999.00,-999.000,9,-999.0000,9, -999.00,9,  13.3901,2, -999.00,9,  -999.0,9,  -999.0,-999.000,9,-999.000,-999.000,9, -999.00,9, -999.00,9, -999.00,9,  42.6251, -51.1220,-999.000,-999.0000, -999.00,  13.3600,  13.3901,2,    35.8494,2,  -999.0,9,     -999.0,9,     -999.0,9,     -999.0,9,       0748
33AT20120419,        A20,      76,          1,         26,         26,2,20120511,       0643,    42.6251,   -51.1216,       2017,   172.0,  12.9953,  35.6541,2,  35.6546,2,    158.0,2,   156.0,2,    6.94,2,   16.72,2,    0.00,2,    1.02,2,   2.130,2,   1.186,2,   0.053,2,    0.82,2,  -999.0,9,  -999.0,9,-999.0000,9,  -999.00,-999.000,9,-999.0000,9, -999.00,9,  12.9960,2, -999.00,9,  -999.0,9,  -999.0,-999.000,9,-999.000,-999.000,9, -999.00,9, -999.00,9, -999.00,9,  42.6251, -51.1220,-999.000,-999.0000, -999.00,  12.9715,  12.9960,2,    35.8228,2,  -999.0,9,     -999.0,9,     -999.0,9,     -999.0,9,       0746
33AT20120419,        A20,      76,          1,         25,         25,2,20120511,       0643,    42.6251,   -51.1216,       2017,   196.8,  12.1819,  35.5192,2,  35.5325,2,    153.8,2,   152.2,2,    8.15,2,   18.22,2,    0.00,2,    1.14,2,-999.000,9,-999.000,9,-999.000,9, -999.00,9,  2173.3,2,  2336.7,6,-999.0000,9,  -999.00,-999.000,9,-999.0000,9, -999.00,9,  12.2078,2, -999.00,9,  -999.0,9,  -999.0,-999.000,9,-999.000,-999.000,9, -999.00,9, -999.00,9, -999.00,9,  42.6251, -51.1219,-999.000,-999.0000, -999.00,  12.1558,  12.2078,2,    35.7000,2,  -999.0,9,     -999.0,9,     -999.0,9,     -999.0,9,       0744
33AT20120419,        A20,      76,          1,         24,         24,2,20120511,       0643,    42.6251,   -51.1216,       2017,   220.8,  11.3112,  35.3766,2,  35.3792,2,    152.9,2,   154.6,2,    8.93,2,   18.76,2,    0.00,2,    1.20,2,   2.145,2,   1.201,2,   0.062,2,    0.96,2,  -999.0,9,  -999.0,9,-999.0000,9,  -999.00,-999.000,9,-999.0000,9, -999.00,9,  11.3146,2, -999.00,9,  -999.0,9,  -999.0,-999.000,9,-999.000,-999.000,9, -999.00,9, -999.00,9, -999.00,9,  42.6251, -51.1219,-999.000,-999.0000, -999.00,  11.2833,  11.3146,2,    35.5461,2,  -999.0,9,     -999.0,9,     -999.0,9,     -999.0,9,       0742
33AT20120419,        A20,      76,          1,         23,         23,2,20120511,       0643,    42.6251,   -51.1216,       2017,   243.4,  10.4214,  35.2311,2,  35.2346,2,    158.0,2,   159.2,2,    9.62,2,   19.17,2,    0.00,2,    1.27,2,   2.261,2,   1.238,2,   0.096,2,    1.03,2,  2176.9,2,  2322.2,2,-999.0000,9,  -999.00,-999.000,9,-999.0000,9, -999.00,9,  10.4387,2, -999.00,9,  -999.0,9,  -999.0,-999.000,9,-999.000,-999.000,9, -999.00,9, -999.00,9, -999.00,9,  42.6251, -51.1219,-999.000,-999.0000, -999.00,  10.3923,  10.4387,2,    35.4007,2,  -999.0,9,     -999.0,9,     -999.0,9,     -999.0,9,       0741
33AT20120419,        A20,      76,          1,         22,         22,2,20120511,       0643,    42.6251,   -51.1216,       2017,   277.0,   9.8446,  35.2138,2,  35.2133,2,    151.8,2,   149.4,2,   11.42,2,   21.69,2,    0.00,2,    1.40,2,   1.902,2,   1.007,2,   0.063,2,    0.87,2,  2185.8,2,  2320.9,2,-999.0000,9,  -999.00,-999.000,9,-999.0000,9, -999.00,9,   9.8487,2, -999.00,9,  -999.0,9,  -999.0,-999.000,9,-999.000,-999.000,9, -999.00,9, -999.00,9, -999.00,9,  42.6251, -51.1220,-999.000,-999.0000, -999.00,   9.8125,   9.8487,2,    35.3793,2,  -999.0,9,     -999.0,9,     -999.0,9,     -999.0,9,       0739
33AT20120419,        A20,      76,          1,         21,         21,2,20120511,       0643,    42.6251,   -51.1216,       2017,   333.1,   9.0300,  35.1735,2,  35.1727,2,    146.2,2,   146.3,2,   13.33,2,   23.69,2,    0.00,2,    1.52,2,   1.538,2,   0.802,2,   0.041,2,    0.54,2,  2192.3,2,  2320.3,2,-999.0000,9,  -999.00,-999.000,9,-999.0000,9, -999.00,9,   9.0321,2, -999.00,9,  -999.0,9,  -999.0,-999.000,9,-999.000,-999.000,9, -999.00,9, -999.00,9, -999.00,9,  42.6251, -51.1219,-999.000,-999.0000, -999.00,   8.9933,   9.0321,2,    35.3386,2,  -999.0,9,     -999.0,9,     -999.0,9,     -999.0,9,       0737
33AT20120419,        A20,      76,          1,         20,         20,2,20120511,       0643,    42.6251,   -51.1216,       2017,   384.4,   7.7884,  35.1129,2,  35.1128,2,    166.4,2,   167.6,2,   13.44,2,   22.86,2,    0.00,2,    1.47,2,-999.000,9,-999.000,9,-999.000,9, -999.00,9,  2190.8,2,  2317.0,2,-999.0000,9,  -999.00,-999.000,9,-999.0000,9, -999.00,9,   7.7898,2, -999.00,9,  -999.0,9,  -999.0,-999.000,9,-999.000,-999.000,9, -999.00,9, -999.00,9, -999.00,9,  42.6251, -51.1220,-999.000,-999.0000, -999.00,   7.7496,   7.7898,2,    35.2784,2,  -999.0,9,     -999.0,9,     -999.0,9,     -999.0,9,       0735
33AT20120419,        A20,      76,          1,         19,         19,2,20120511,       0643,    42.6251,   -51.1216,       2017,   433.7,   7.1216,  35.0819,2,  35.0817,2,    180.2,2,   180.4,2,   13.31,2,   22.17,2,    0.00,2,    1.43,2,   1.980,2,   0.909,2,   0.066,2,    0.56,2,  2187.5,2,  2316.7,2,-999.0000,9,  -999.00,-999.000,9,-999.0000,9, -999.00,9,   7.1273,2, -999.00,9,  -999.0,9,  -999.0,-999.000,9,-999.000,-999.000,9, -999.00,9, -999.00,9, -999.00,9,  42.6251, -51.1220,-999.000,-999.0000, -999.00,   7.0798,   7.1273,2,    35.2471,2,  -999.0,9,     -999.0,9,     -999.0,9,     -999.0,9,       0732
33AT20120419,        A20,      76,          1,         18,         18,2,20120511,       0643,    42.6251,   -51.1216,       2017,   484.2,   6.2779,  35.0369,2,  35.0392,2,    202.3,2,   202.2,2,   12.67,2,   20.69,2,    0.00,2,    1.35,2,   2.199,2,   1.146,2,   0.105,2,    0.70,2,  -999.0,9,  -999.0,9,-999.0000,9,  -999.00,-999.000,9,-999.0000,9, -999.00,9,   6.2844,2, -999.00,9,  -999.0,9,  -999.0,-999.000,9,-999.000,-999.000,9, -999.00,9, -999.00,9, -999.00,9,  42.6251, -51.1220,-999.000,-999.0000, -999.00,   6.2342,   6.2844,2,    35.2044,2,  -999.0,9,     -999.0,9,     -999.0,9,     -999.0,9,       0730
33AT20120419,        A20,      76,          1,         17,         17,2,20120511,       0643,    42.6251,   -51.1216,       2017,   569.0,   4.6629,  34.8964,2,  34.8949,2,    259.8,2,   259.8,2,    9.58,2,   16.84,2,    0.00,2,    1.12,2,   3.804,2,   2.094,2,   0.291,2,    1.85,2,  2166.7,2,  2303.9,2,-999.0000,9,  -999.00,-999.000,9,-999.0000,9, -999.00,9,   4.6619,2, -999.00,9,  -999.0,9,  -999.0,-999.000,9,-999.000,-999.000,9, -999.00,9, -999.00,9, -999.00,9,  42.6251, -51.1220,-999.000,-999.0000, -999.00,   4.6184,   4.6619,2,    35.0595,2,  -999.0,9,     -999.0,9,     -999.0,9,     -999.0,9,       0728
33AT20120419,        A20,      76,          1,         16,         16,2,20120511,       0643,    42.6251,   -51.1216,       2017,   669.8,   4.8021,  34.9670,2,  34.9661,2,    253.5,2,   254.8,2,   10.01,2,   17.41,2,    0.00,2,    1.16,2,   3.520,2,   1.904,2,   0.240,2,    1.42,2,  -999.0,9,  -999.0,9,-999.0000,9,  -999.00,-999.000,9,-999.0000,9, -999.00,9,   4.8032,2, -999.00,9,  -999.0,9,  -999.0,-999.000,9,-999.000,-999.000,9, -999.00,9, -999.00,9, -999.00,9,  42.6251, -51.1221,-999.000,-999.0000, -999.00,   4.7484,   4.8032,2,    35.1310,2,  -999.0,9,     -999.0,9,     -999.0,9,     -999.0,9,       0724
33AT20120419,        A20,      76,          1,         15,         15,2,20120511,       0643,    42.6251,   -51.1216,       2017,   768.6,   4.2824,  34.9228,2,  34.9217,2,    276.7,2,   273.4,2,    8.86,2,   16.49,2,    0.00,2,    1.09,2,-999.000,9,-999.000,9,-999.000,9, -999.00,9,  -999.0,9,  -999.0,9,-999.0000,9,  -999.00,-999.000,9,-999.0000,9, -999.00,9,   4.2818,2, -999.00,9,  -999.0,9,  -999.0,-999.000,9,-999.000,-999.000,9, -999.00,9, -999.00,9, -999.00,9,  42.6251, -51.1220,-999.000,-999.0000, -999.00,   4.2234,   4.2818,2,    35.0863,2,  -999.0,9,     -999.0,9,     -999.0,9,     -999.0,9,       0721
33AT20120419,        A20,      76,          1,         14,         14,2,20120511,       0643,    42.6251,   -51.1216,       2017,   868.1,   4.0736,  34.9049,2,  34.9036,2,    279.4,2,   280.6,2,    8.60,2,   16.16,2,    0.00,2,    1.06,2,   4.259,2,   2.313,2,   0.336,2,    1.80,2,  2161.1,2,  2303.3,2,-999.0000,9,  -999.00,-999.000,9,-999.0000,9, -999.00,9,   4.0736,2, -999.00,9,  -999.0,9,  -999.0,-999.000,9,-999.000,-999.000,9, -999.00,9, -999.00,9, -999.00,9,  42.6251, -51.1219,-999.000,-999.0000, -999.00,   4.0077,   4.0736,2,    35.0681,2,  -999.0,9,     -999.0,9,     -999.0,9,     -999.0,9,       0718
33AT20120419,        A20,      76,          1,         13,         13,2,20120511,       0643,    42.6251,   -51.1216,       2017,   975.6,   4.0162,  34.9053,2,  34.9045,2,    281.5,2,   281.7,2,    8.77,2,   16.24,2,    0.00,2,    1.07,2,   4.228,2,   2.295,2,   0.323,2,    1.81,2,  -999.0,9,  -999.0,9,-999.0000,9,  -999.00,-999.000,9,-999.0000,9, -999.00,9,   4.0159,2, -999.00,9,  -999.0,9,  -999.0,-999.000,9,-999.000,-999.000,9, -999.00,9, -999.00,9, -999.00,9,  42.6251, -51.1219,-999.000,-999.0000, -999.00,   3.9418,   4.0159,2,    35.0691,2,  -999.0,9,     -999.0,9,     -999.0,9,     -999.0,9,       0715
33AT20120419,        A20,      76,          1,         12,         12,2,20120511,       0643,    42.6251,   -51.1216,       2017,  1069.2,   4.1066,  34.9305,2,  34.9303,2,    281.1,2,   272.4,2,    9.62,2,   16.78,2,    0.00,2,    1.10,2,   3.794,2,   2.025,2,   0.272,2,    1.41,2,  -999.0,9,  -999.0,9,-999.0000,9,  -999.00,-999.000,9,-999.0000,9, -999.00,9,   4.1064,2, -999.00,9,  -999.0,9,  -999.0,-999.000,9,-999.000,-999.000,9, -999.00,9, -999.00,9, -999.00,9,  42.6251, -51.1219,-999.000,-999.0000, -999.00,   4.0235,   4.1064,2,    35.0950,2,  -999.0,9,     -999.0,9,     -999.0,9,     -999.0,9,       0713
33AT20120419,        A20,      76,          1,         10,         10,2,20120511,       0643,    42.6251,   -51.1216,       2017,  1173.8,   4.1580,  34.9478,2,-999.0000,5,    268.2,2,   267.0,2,   10.30,2,   17.10,2,    0.00,2,    1.13,2,-999.000,9,-999.000,9,-999.000,9, -999.00,9,  2163.5,2,  2307.6,2,-999.0000,9,  -999.00,-999.000,9,-999.0000,9, -999.00,9,   4.1583,2, -999.00,9,  -999.0,9,  -999.0,-999.000,9,-999.000,-999.000,9, -999.00,9, -999.00,9, -999.00,9,  42.6251, -51.1218,-999.000,-999.0000, -999.00,   4.0654,   4.1583,2,     -999.0,5,  -999.0,9,     -999.0,9,     -999.0,9,     -999.0,9,       0710
33AT20120419,        A20,      76,          1,          9,          9,2,20120511,       0643,    42.6251,   -51.1216,       2017,  1274.8,   4.1389,  34.9583,2,  34.9581,2,    263.7,2,   263.8,2,   10.81,2,   17.35,2,    0.00,2,    1.15,2,   3.139,2,   1.635,2,   0.203,2,    0.93,2,  -999.0,9,  -999.0,9,-999.0000,9,  -999.00,-999.000,9,-999.0000,9, -999.00,9,   4.1263,2, -999.00,9,  -999.0,9,  -999.0,-999.000,9,-999.000,-999.000,9, -999.00,9, -999.00,9, -999.00,9,  42.6251, -51.1218,-999.000,-999.0000, -999.00,   4.0375,   4.1263,2,    35.1230,2,  -999.0,9,     -999.0,9,     -999.0,9,     -999.0,9,       0707
33AT20120419,        A20,      76,          1,          8,          8,2,20120511,       0643,    42.6251,   -51.1216,       2017,  1375.4,   4.0638,  34.9572,2,  34.9571,2,    265.5,2,   264.5,2,   11.11,2,   17.43,2,    0.00,2,    1.16,2,   3.018,2,   1.527,2,   0.177,2,    0.75,2,  -999.0,9,  -999.0,9,-999.0000,9,  -999.00,-999.000,9,-999.0000,9, -999.00,9,   4.0641,2, -999.00,9,  -999.0,9,  -999.0,-999.000,9,-999.000,-999.000,9, -999.00,9, -999.00,9, -999.00,9,  42.6251, -51.1218,-999.000,-999.0000, -999.00,   3.9542,   4.0641,2,    35.1220,2,  -999.0,9,     -999.0,9,     -999.0,9,     -999.0,9,       0704
33AT20120419,        A20,      76,          1,          7,          7,2,20120511,       0643,    42.6251,   -51.1216,       2017,  1481.4,   3.9816,  34.9583,2,  34.9579,2,    263.7,2,   263.9,2,   11.46,2,   17.48,2,    0.00,2,    1.16,2,   2.783,2,   1.394,2,   0.159,2,    0.65,2,  2163.5,2,  2308.4,2,-999.0000,9,  -999.00,-999.000,9,-999.0000,9, -999.00,9,   3.9817,2, -999.00,9,  -999.0,9,  -999.0,-999.000,9,-999.000,-999.000,9, -999.00,9, -999.00,9, -999.00,9,  42.6251, -51.1218,-999.000,-999.0000, -999.00,   3.8633,   3.9817,2,    35.1227,2,  -999.0,9,     -999.0,9,     -999.0,9,     -999.0,9,       0701
33AT20120419,        A20,      76,          1,          6,          6,2,20120511,       0643,    42.6251,   -51.1216,       2017,  1581.0,   3.8827,  34.9551,2,  34.9555,2,    263.8,2,   264.8,2,   11.78,2,   17.52,2,    0.00,2,    1.17,2,   2.642,2,   1.331,2,   0.151,2,    0.54,2,  -999.0,9,  -999.0,9,-999.0000,9,  -999.00,-999.000,9,-999.0000,9, -999.00,9,   3.8833,2, -999.00,9,  -999.0,9,  -999.0,-999.000,9,-999.000,-999.000,9, -999.00,9, -999.00,9, -999.00,9,  42.6251, -51.1217,-999.000,-999.0000, -999.00,   3.7565,   3.8833,2,    35.1204,2,  -999.0,9,     -999.0,9,     -999.0,9,     -999.0,9,       0658
33AT20120419,        A20,      76,          1,          5,          5,2,20120511,       0643,    42.6251,   -51.1216,       2017,  1679.6,   3.7916,  34.9494,2,  34.9490,2,    265.3,2,   265.8,2,   12.03,2,   17.47,2,    0.00,2,    1.16,2,-999.000,9,-999.000,9,-999.000,9, -999.00,9,  -999.0,9,  -999.0,9,-999.0000,9,  -999.00,-999.000,9,-999.0000,9, -999.00,9,   3.7919,2, -999.00,9,  -999.0,9,  -999.0,-999.000,9,-999.000,-999.000,9, -999.00,9, -999.00,9, -999.00,9,  42.6250, -51.1216,-999.000,-999.0000, -999.00,   3.6575,   3.7919,2,    35.1138,2,  -999.0,9,     -999.0,9,     -999.0,9,     -999.0,9,       0655
33AT20120419,        A20,      76,          1,          4,          4,2,20120511,       0643,    42.6251,   -51.1216,       2017,  1787.2,   3.6797,  34.9393,2,  34.9391,2,    267.6,2,   267.9,2,   12.24,2,   17.35,2,    0.00,2,    1.14,2,   2.678,2,   1.333,2,   0.155,2,    0.65,2,  2163.1,2,  2307.8,2,-999.0000,9,  -999.00,-999.000,9,-999.0000,9, -999.00,9,   3.6791,2, -999.00,9,  -999.0,9,  -999.0,-999.000,9,-999.000,-999.000,9, -999.00,9, -999.00,9, -999.00,9,  42.6250, -51.1216,-999.000,-999.0000, -999.00,   3.5371,   3.6791,2,    35.1039,2,  -999.0,9,     -999.0,9,     -999.0,9,     -999.0,9,       0652
33AT20120419,        A20,      76,          1,          3,          3,2,20120511,       0643,    42.6251,   -51.1216,       2017,  1884.5,   3.5565,  34.9328,2,  34.9323,2,    269.3,2,   269.7,2,   12.55,2,   17.25,2,    0.00,2,    1.13,2,   2.676,2,   1.329,2,   0.156,2,    0.65,2,  -999.0,9,  -999.0,9,-999.0000,9,  -999.00,-999.000,9,-999.0000,9, -999.00,9,   3.5587,2, -999.00,9,  -999.0,9,  -999.0,-999.000,9,-999.000,-999.000,9, -999.00,9, -999.00,9, -999.00,9,  42.6250, -51.1216,-999.000,-999.0000, -999.00,   3.4065,   3.5587,2,    35.0971,2,  -999.0,9,     -999.0,9,     -999.0,9,     -999.0,9,       0649
33AT20120419,        A20,      76,          1,          2,          2,2,20120511,       0643,    42.6251,   -51.1216,       2017,  1989.8,   3.4901,  34.9294,2,  34.9296,2,    270.5,2,   270.3,2,   12.62,2,   17.18,2,    0.00,2,    1.13,2,   2.678,2,   1.327,2,   0.148,2,    0.71,2,  -999.0,9,  -999.0,9,-999.0000,9,  -999.00,-999.000,9,-999.0000,9, -999.00,9,   3.4907,2, -999.00,9,  -999.0,9,  -999.0,-999.000,9,-999.000,-999.000,9, -999.00,9, -999.00,9, -999.00,9,  42.6250, -51.1216,-999.000,-999.0000, -999.00,   3.3312,   3.4907,2,    35.0943,2,  -999.0,9,     -999.0,9,     -999.0,9,     -999.0,9,       0645