BOTTLE,20220712CCHSIOCBG
EXPOCODE,SECT_ID,STNNBR,CASTNO,SAMPNO,BTLNBR,BTLNBR_FLAG_W,DATE,TIME,LATITUDE,LONGITUDE,DEPTH,CTDPRS,CTDTMP,CTDSAL,CTDSAL_FLAG_W,SALNTY,SALNTY_FLAG_W,CTDOXY,CTDOXY_FLAG_W,OXYGEN,OXYGEN_FLAG_W,SILCAT,SILCAT_FLAG_W,NITRAT,NITRAT_FLAG_W,NITRIT,NITRIT_FLAG_W,PHSPHT,PHSPHT_FLAG_W,CFC-11,CFC-11_FLAG_W,CFC-12,CFC-12_FLAG_W,CFC113,CFC113_FLAG_W,SF6,SF6_FLAG_W,TCARBN,TCARBN_FLAG_W,ALKALI,ALKALI_FLAG_W,PH_TOT,PH_TOT_FLAG_W,PH_TMP,TRITUM,TRITUM_FLAG_W,HELIUM,HELIUM_FLAG_W,DELHE3,DELHE3_FLAG_W,REFTMP,REFTMP_FLAG_W,DELC13,DELC13_FLAG_W,DELC14,DELC14_FLAG_W,C14ERR,NEON,NEON_FLAG_W,NEONER,CCL4,CCL4_FLAG_W,DELO18,DELO18_FLAG_W,DOC,DOC_FLAG_W,TDN,TDN_FLAG_W,BTL_LAT,BTL_LON,TRITER,HELIER,DELHER,THETA,SBE35,SBE35_FLAG_W,SALTREF,SALTREF_FLAG_W,14C-DOC,14C-DOC_FLAG_W,DELO17,DELO17_FLAG_W,O2/AR,O2/AR_FLAG_W,SIP,SIP_FLAG_W,BTL_TIME
,,,,,,,,,,,METERS,DBAR,ITS-90,PSS-78,,PSS-78,,UMOL/KG,,UMOL/KG,,UMOL/KG,,UMOL/KG,,UMOL/KG,,UMOL/KG,,PMOL/KG,,PMOL/KG,,PMOL/KG,,FMOL/KG,,UMOL/KG,,UMOL/KG,,,,DEG C,TU,,NMOL/KG,,PERCNT,,DEG C,,/MILLE,,/MILLE,,/MILLE,NMOL/KG,,NMOL/KG,PMOL/KG,,/MILLE,,UMOL/KG,,UMOL/KG,,,,TU,NMOL/KG,PERCNT,DEG C,ITS-90,,G/KG,,/MILLE,,/MILLE,,,,,,
33AT20120419,        A20,      61,          1,         36,         36,2,20120507,       1556,    37.2513,   -52.3283,       5436,     3.0,  19.3875,  36.4855,2,  36.4864,2,    228.9,2,   229.6,2,    0.00,2,    0.00,2,    0.01,2,    0.00,2,   2.078,2,   1.293,2,   0.167,2,    1.35,3,  2073.0,6,  2390.6,2,   8.0393,6,    25.00,-999.000,9,-999.0000,9, -999.00,9,  19.4001,2,    0.85,2,    53.3,2,     3.1,-999.000,9,-999.000,   1.120,2, -999.00,9,   68.46,2,    3.26,2,  37.2525, -52.3204,-999.000,-999.0000, -999.00,  19.3870,  19.4001,2,    36.6584,2,  -999.0,9,     -999.0,9,     -999.0,9,     -999.0,9,       1810
33AT20120419,        A20,      61,          1,         35,         35,2,20120507,       1556,    37.2513,   -52.3283,       5436,    19.0,  19.1776,  36.4770,2,  36.4767,2,    228.2,2,   229.1,2,    0.00,2,   -0.01,2,    0.02,2,    0.00,2,   2.084,2,   1.291,2,   0.170,2,    1.46,3,  2072.3,2,  2390.4,2,   8.0376,6,    25.00,-999.000,9,-999.0000,9, -999.00,9,  19.1791,2, -999.00,9,  -999.0,9,  -999.0,-999.000,9,-999.000,   1.080,2, -999.00,9,   67.78,2,    4.48,2,  37.2525, -52.3205,-999.000,-999.0000, -999.00,  19.1742,  19.1791,2,    36.6487,2,  -999.0,9,     -999.0,9,     -999.0,9,     -999.0,9,       1808
33AT20120419,        A20,      61,          1,         34,         34,2,20120507,       1556,    37.2513,   -52.3283,       5436,    38.5,  19.1033,  36.4782,2,  36.4747,2,    229.1,2,   226.9,2,    0.00,2,    0.09,2,    0.04,2,    0.00,2,   2.080,2,   1.287,2,   0.181,2,    1.80,3,  2076.9,2,  2390.4,2,   8.0332,2,    25.00,-999.000,9,-999.0000,9, -999.00,9,  19.1028,2, -999.00,9,  -999.0,9,  -999.0,-999.000,9,-999.000,   1.060,2, -999.00,9,   68.37,2,    4.61,2,  37.2525, -52.3205,-999.000,-999.0000, -999.00,  19.0964,  19.1028,2,    36.6467,2,  -999.0,9,     -999.0,9,     -999.0,9,     -999.0,9,       1806
33AT20120419,        A20,      61,          1,         33,         33,2,20120507,       1556,    37.2513,   -52.3283,       5436,    64.4,  19.0017,  36.4784,2,  36.4755,2,    223.3,2,   223.6,2,    0.06,2,    0.46,2,    0.10,2,    0.00,2,   2.061,2,   1.281,2,   0.180,2,    1.15,3,  2080.2,2,  2389.0,2,   8.0264,2,    25.00,-999.000,9,-999.0000,9, -999.00,9,  18.9999,2,    0.81,2,    54.7,2,     2.8,-999.000,9,-999.000,   1.030,2, -999.00,9,   66.27,2,    3.52,2,  37.2525, -52.3207,-999.000,-999.0000, -999.00,  18.9901,  18.9999,2,    36.6475,2,  -999.0,9,     -999.0,9,     -999.0,9,     -999.0,9,       1804
33AT20120419,        A20,      61,          1,         32,         32,2,20120507,       1556,    37.2513,   -52.3283,       5436,    92.2,  18.7732,  36.5256,2,  36.5256,2,    217.3,2,   215.6,2,    0.45,2,    1.74,2,    0.05,2,    0.06,2,   2.057,2,   1.270,2,   0.151,2,    1.19,3,  2093.1,2,  2391.9,2,   8.0081,2,    25.00,-999.000,9,-999.0000,9, -999.00,9,  18.7660,2, -999.00,9,  -999.0,9,  -999.0,-999.000,9,-999.000,   0.800,2, -999.00,9,    63.6,2,    5.60,2,  37.2524, -52.3208,-999.000,-999.0000, -999.00,  18.7568,  18.7660,2,    36.6979,2,  -999.0,9,     -999.0,9,     -999.0,9,     -999.0,9,       1801
33AT20120419,        A20,      61,          1,         31,         31,2,20120507,       1556,    37.2513,   -52.3283,       5436,   138.3,  18.4578,  36.4979,2,  36.4949,2,    216.2,2,   224.5,2,    0.19,2,    0.43,2,    0.59,2,    0.02,2,   2.135,2,   1.292,2,   0.174,2,    0.60,3,  2092.7,2,  2389.9,2,   8.0083,2,    25.00,-999.000,9,-999.0000,9, -999.00,9,  18.4589,2,    0.75,2,    55.1,2,     2.8,-999.000,9,-999.000,   1.050,2, -999.00,9,   59.21,2,    4.97,2,  37.2524, -52.3209,-999.000,-999.0000, -999.00,  18.4334,  18.4589,2,    36.6670,2,  -999.0,9,     -999.0,9,     -999.0,9,     -999.0,9,       1759
33AT20120419,        A20,      61,          1,         30,         30,2,20120507,       1556,    37.2513,   -52.3283,       5436,   189.8,  18.4120,  36.5273,2,  36.5264,2,    210.8,2,   220.1,2,    0.43,2,    1.66,2,    0.02,2,    0.06,2,   2.151,2,   1.282,2,   0.165,2,    0.87,3,  2095.6,2,  2391.1,2,   8.0024,2,    25.00,-999.000,9,-999.0000,9, -999.00,9,  18.4107,2, -999.00,9,  -999.0,9,  -999.0,-999.000,9,-999.000,   0.910,2, -999.00,9,   56.03,2,    5.68,2,  37.2524, -52.3211,-999.000,-999.0000, -999.00,  18.3786,  18.4107,2,    36.6987,2,  -999.0,9,     -999.0,9,     -999.0,9,     -999.0,9,       1756
33AT20120419,        A20,      61,          1,         29,         29,2,20120507,       1556,    37.2513,   -52.3283,       5436,   238.9,  18.3736,  36.5309,2,  36.5308,2,    201.7,2,   220.7,2,    0.46,2,    1.73,2,    0.02,2,    0.07,2,   2.158,2,   1.332,2,   0.159,2,    1.04,3,  2097.9,2,  2392.9,2,   8.0009,2,    25.00,-999.000,9,-999.0000,9, -999.00,9,  18.3757,2,    0.71,2,    56.5,2,     2.8,-999.000,9,-999.000,   0.900,2, -999.00,9,   54.67,2,    6.49,2,  37.2524, -52.3212,-999.000,-999.0000, -999.00,  18.3315,  18.3757,2,    36.7031,2,  -999.0,9,     -999.0,9,     -999.0,9,     -999.0,9,       1754
33AT20120419,        A20,      61,          1,         28,         28,2,20120507,       1556,    37.2513,   -52.3283,       5436,   288.5,  18.3257,  36.5807,2,  36.5796,2,    197.5,2,   197.6,2,    1.04,2,    4.07,2,    0.02,2,    0.18,2,   2.158,2,   1.295,2,   0.038,2,    0.76,3,  -999.0,9,  -999.0,9,-999.0000,9,  -999.00,-999.000,9,-999.0000,9, -999.00,9,  18.3254,2, -999.00,9,  -999.0,9,  -999.0,-999.000,9,-999.000,   0.280,2, -999.00,9,    52.8,2,    7.41,2,  37.2523, -52.3214,-999.000,-999.0000, -999.00,  18.2749,  18.3254,2,    36.7520,2,  -999.0,9,     -999.0,9,     -999.0,9,     -999.0,9,       1752
33AT20120419,        A20,      61,          1,         27,         27,2,20120507,       1556,    37.2513,   -52.3283,       5436,   336.2,  18.0686,  36.5631,2,  36.5617,2,    200.7,2,   199.8,2,    1.12,2,    4.39,2,    0.02,2,    0.20,2,   2.155,2,   1.286,2,   0.035,2,    1.36,3,  2112.6,2,  2391.6,6,   7.9710,2,    25.00,-999.000,9,-999.0000,9, -999.00,9,  18.0705,2,    0.60,2,    63.3,2,     2.6,-999.000,9,-999.000,   0.240,2, -999.00,9,   52.29,2,    7.46,2,  37.2523, -52.3215,-999.000,-999.0000, -999.00,  18.0099,  18.0705,2,    36.7341,2,  -999.0,9,     -999.0,9,     -999.0,9,     -999.0,9,       1750
33AT20120419,        A20,      61,          1,         26,         26,2,20120507,       1556,    37.2513,   -52.3283,       5436,   388.6,  17.7349,  36.5126,2,  36.5047,2,    201.3,2,   200.4,2,    1.37,2,    5.07,2,    0.00,2,    0.24,2,   2.195,2,   1.293,2,   0.037,2,    1.00,3,  -999.0,9,  -999.0,9,-999.0000,9,  -999.00,-999.000,9,-999.0000,9, -999.00,9,  17.7333,2, -999.00,9,  -999.0,9,  -999.0,-999.000,9,-999.000,   0.270,2, -999.00,9,   51.89,2,    9.27,2,  37.2523, -52.3217,-999.000,-999.0000, -999.00,  17.6679,  17.7333,2,    36.6768,2,  -999.0,9,     -999.0,9,     -999.0,9,     -999.0,9,       1748
33AT20120419,        A20,      61,          1,         25,         25,2,20120507,       1556,    37.2513,   -52.3283,       5436,   469.1,  17.0274,  36.3753,2,  36.3791,2,    191.5,2,   194.1,2,    1.92,2,    6.70,2,    0.00,2,    0.35,2,   2.243,2,   1.308,2,   0.037,2,    0.75,3,  2122.9,2,  2380.7,2,   7.9359,2,    25.00,-999.000,9,-999.0000,9, -999.00,9,  17.0307,2,    0.62,2,    61.9,2,     2.6,-999.000,9,-999.000,   0.280,2, -999.00,9,   50.38,2,   10.89,2,  37.2523, -52.3219,-999.000,-999.0000, -999.00,  16.9486,  17.0307,2,    36.5506,2,  -999.0,9,     -999.0,9,     -999.0,9,     -999.0,9,       1746
33AT20120419,        A20,      61,          1,         24,         24,2,20120507,       1556,    37.2513,   -52.3283,       5436,   566.5,  15.4666,  36.0876,2,  36.1020,2,    190.3,2,   189.7,2,    3.00,2,    9.37,2,    0.00,2,    0.54,2,   2.281,2,   1.296,2,   0.040,2,    0.64,3,  2132.6,2,  2365.9,2,   7.8918,2,    25.00,-999.000,9,-999.0000,9, -999.00,9,  15.4618,2, -999.00,9,  -999.0,9,  -999.0,-999.000,9,-999.000,   0.310,2, -999.00,9,   49.22,2,   13.28,2,  37.2522, -52.3221,-999.000,-999.0000, -999.00,  15.3773,  15.4618,2,    36.2722,2,  -999.0,9,     -999.0,9,     -999.0,9,     -999.0,9,       1743
33AT20120419,        A20,      61,          1,         23,         23,2,20120507,       1556,    37.2513,   -52.3283,       5436,   671.3,  13.6860,  35.8025,2,  35.8077,2,    188.3,2,   188.5,2,    4.59,2,   12.41,2,    0.00,2,    0.74,2,   2.285,2,   1.301,2,   0.050,2,    0.86,3,  2146.0,2,  2350.6,2,   7.8420,2,    25.00,-999.000,9,-999.0000,9, -999.00,9,  13.7015,2,    0.62,2,    49.2,2,     2.8,-999.000,9,-999.000,   0.340,2, -999.00,9,   48.03,2,   15.16,2,  37.2522, -52.3223,-999.000,-999.0000, -999.00,  13.5882,  13.7015,2,    35.9766,2,  -999.0,9,     -999.0,9,     -999.0,9,     -999.0,9,       1740
33AT20120419,        A20,      61,          1,         22,         22,2,20120507,       1556,    37.2513,   -52.3283,       5436,   770.5,  11.6257,  35.4983,2,  35.5022,2,    160.2,2,   158.0,2,    8.77,2,   18.83,2,    0.00,2,    1.16,2,   1.781,2,   0.976,2,   0.032,2,    0.25,3,  2171.8,2,  2336.5,2,   7.7530,6,    25.00,-999.000,9,-999.0000,9, -999.00,9,  11.6220,2,    0.61,2,    22.0,2,     2.5,-999.000,9,-999.000,   0.260,2, -999.00,9,   47.17,2,   22.04,2,  37.2522, -52.3225,-999.000,-999.0000, -999.00,  11.5243,  11.6220,2,    35.6696,2,  -999.0,9,     -999.0,9,     -999.0,9,     -999.0,9,       1738
33AT20120419,        A20,      61,          1,         21,         21,2,20120507,       1556,    37.2513,   -52.3283,       5436,   871.1,   9.3218,  35.2080,2,  35.2041,2,    143.8,2,   143.5,2,   13.93,2,   24.22,2,    0.00,2,    1.53,2,   1.133,2,   0.619,2,   0.023,2,    0.14,3,  2191.3,6,  2323.4,2,   7.6754,2,    25.00,-999.000,9,-999.0000,9, -999.00,9,   9.3192,2,    0.65,2,   -17.9,2,     3.5,-999.000,9,-999.000,   0.230,2, -999.00,9,   46.23,2,   26.92,2,  37.2522, -52.3227,-999.000,-999.0000, -999.00,   9.2212,   9.3192,2,    35.3702,2,  -999.0,9,     -999.0,9,     -999.0,9,     -999.0,9,       1735
33AT20120419,        A20,      61,          1,         20,         20,2,20120507,       1556,    37.2513,   -52.3283,       5436,   972.2,   7.5514,  35.1131,2,  35.1122,2,    175.0,2,   178.3,2,   13.24,2,   22.10,2,    0.00,2,    1.42,2,   1.550,2,   0.820,2,   0.055,2,    0.81,3,  2185.8,2,  2318.7,2,   7.6828,2,    25.00,-999.000,9,-999.0000,9, -999.00,9,   7.5650,2,    0.68,2,   -29.1,2,     2.5,-999.000,9,-999.000,   0.500,2, -999.00,9,   45.29,2,   25.77,2,  37.2521, -52.3228,-999.000,-999.0000, -999.00,   7.4512,   7.5650,2,    35.2777,2,  -999.0,9,     -999.0,9,     -999.0,9,     -999.0,9,       1732
33AT20120419,        A20,      61,          1,         19,         19,2,20120507,       1556,    37.2513,   -52.3283,       5436,  1065.6,   6.3731,  35.0698,2,  35.0697,2,    203.4,2,   203.8,2,   12.73,2,   20.58,2,    0.00,2,    1.35,2,   1.860,2,   0.956,2,   0.079,2,    0.22,3,  -999.0,9,  -999.0,9,-999.0000,9,  -999.00,-999.000,9,-999.0000,9, -999.00,9,   6.3722,2, -999.00,9,  -999.0,9,  -999.0,-999.000,9,-999.000,   0.710,2, -999.00,9,   45.88,2,   24.02,2,  37.2521, -52.3230,-999.000,-999.0000, -999.00,   6.2719,   6.3722,2,    35.2350,2,  -999.0,9,     -999.0,9,     -999.0,9,     -999.0,9,       1729
33AT20120419,        A20,      61,          1,         18,         18,2,20120507,       1556,    37.2513,   -52.3283,       5436,  1172.2,   5.5717,  35.0515,2,  35.0508,2,    226.4,2,   226.7,2,   12.02,2,   19.16,2,    0.00,2,    1.26,2,   2.201,2,   1.129,2,   0.111,2,    0.21,3,  2173.7,2,  2315.5,2,   7.7038,6,    25.00,-999.000,9,-999.0000,9, -999.00,9,   5.5718,2,    0.75,2,   -16.6,2,     2.8,-999.000,9,-999.000,   0.930,2, -999.00,9,   44.83,2,   22.86,2,  37.2521, -52.3232,-999.000,-999.0000, -999.00,   5.4665,   5.5718,2,    35.2161,2,  -999.0,9,     -999.0,9,     -999.0,9,     -999.0,9,       1726
33AT20120419,        A20,      61,          1,         17,         17,2,20120507,       1556,    37.2513,   -52.3283,       5436,  1276.7,   5.0250,  35.0138,2,  35.0124,2,    241.6,2,   241.5,2,   11.52,2,   18.45,2,    0.00,2,    1.21,2,   2.482,2,   1.274,2,   0.138,2,    0.45,3,  -999.0,9,  -999.0,9,-999.0000,9,  -999.00,-999.000,9,-999.0000,9, -999.00,9,   5.0257,2, -999.00,9,  -999.0,9,  -999.0,-999.000,9,-999.000,   1.130,2, -999.00,9,   44.64,2,   21.77,2,  37.2521, -52.3233,-999.000,-999.0000, -999.00,   4.9148,   5.0257,2,    35.1775,2,  -999.0,9,     -999.0,9,     -999.0,9,     -999.0,9,       1723
33AT20120419,        A20,      61,          1,         16,         16,2,20120507,       1556,    37.2513,   -52.3283,       5436,  1378.7,   4.7381,  34.9988,2,  34.9998,2,    250.0,2,   249.7,2,   11.25,2,   18.06,2,    0.00,2,    1.19,2,   2.615,2,   1.339,2,   0.152,2,    0.55,3,  2167.2,2,  2312.0,2,   7.7116,2,    25.00,-999.000,9,-999.0000,9, -999.00,9,   4.7377,2,    0.81,2,   -10.3,2,     2.4,-999.000,9,-999.000,   1.240,2, -999.00,9,   44.66,2,   20.78,2,  37.2520, -52.3235,-999.000,-999.0000, -999.00,   4.6211,   4.7377,2,    35.1649,2,  -999.0,9,     -999.0,9,     -999.0,9,     -999.0,9,       1720
33AT20120419,        A20,      61,          1,         15,         15,2,20120507,       1556,    37.2513,   -52.3283,       5436,  1550.8,   4.3863,  34.9797,2,  34.9801,2,    257.9,2,   257.5,2,   11.28,2,   17.77,2,    0.00,2,    1.17,2,   2.603,2,   1.307,2,   0.154,2,    0.21,3,  2163.8,2,  2311.5,2,   7.7154,2,    25.00,-999.000,9,-999.0000,9, -999.00,9,   4.3855,2,    0.86,2,   -15.6,2,     2.6,-999.000,9,-999.000,   1.250,2, -999.00,9,   44.63,2,   21.05,2,  37.2520, -52.3237,-999.000,-999.0000, -999.00,   4.2569,   4.3855,2,    35.1450,2,  -999.0,9,     -999.0,9,     -999.0,9,     -999.0,9,       1716
33AT20120419,        A20,      61,          1,         14,         14,2,20120507,       1556,    37.2513,   -52.3283,       5436,  1754.3,   4.1973,  34.9787,2,  34.9817,2,    259.4,2,   259.5,2,   11.79,2,   17.74,2,    0.00,2,    1.18,2,   2.269,2,   1.098,2,   0.132,2,    0.25,3,  2163.0,2,  2311.1,2,   7.7209,2,    25.00,-999.000,9,-999.0000,9, -999.00,9,   4.2008,2, -999.00,9,  -999.0,9,  -999.0,-999.000,9,-999.000,   1.250,2, -999.00,9,   44.52,2,   20.79,2,  37.2520, -52.3240,-999.000,-999.0000, -999.00,   4.0508,   4.2008,2,    35.1466,2,  -999.0,9,     -999.0,9,     -999.0,9,     -999.0,9,       1712
33AT20120419,        A20,      61,          1,         13,         13,2,20120507,       1556,    37.2513,   -52.3283,       5436,  1957.4,   3.9340,  34.9650,2,  34.9673,2,    261.9,2,   262.7,2,   12.48,2,   17.75,2,    0.00,2,    1.18,2,   2.044,2,   1.009,2,   0.115,2,    0.00,3,  -999.0,9,  -999.0,9,-999.0000,9,  -999.00,-999.000,9,-999.0000,9, -999.00,9,   3.9338,2, -999.00,9,  -999.0,9,  -999.0,-999.000,9,-999.000,   1.220,2, -999.00,9,   44.25,2,   20.48,2,  37.2519, -52.3243,-999.000,-999.0000, -999.00,   3.7716,   3.9338,2,    35.1322,2,  -999.0,9,     -999.0,9,     -999.0,9,     -999.0,9,       1707
33AT20120419,        A20,      61,          1,         12,         12,2,20120507,       1556,    37.2513,   -52.3283,       5436,  2190.7,   3.7067,  34.9545,2,  34.9558,2,    264.1,2,   264.9,2,   13.36,2,   17.66,2,    0.00,2,    1.18,2,   1.829,2,   0.896,2,   0.094,2,    0.00,3,  2159.1,2,  2311.1,2,   7.7288,2,    25.00,-999.000,9,-999.0000,9, -999.00,9,   3.7069,2,    1.05,2,   -42.2,2,     2.9,-999.000,9,-999.000,   1.150,2, -999.00,9,   44.14,2,   19.88,2,  37.2519, -52.3246,-999.000,-999.0000, -999.00,   3.5250,   3.7069,2,    35.1206,2,  -999.0,9,     -999.0,9,     -999.0,9,     -999.0,9,       1702
33AT20120419,        A20,      61,          1,         11,         11,2,20120507,       1556,    37.2513,   -52.3283,       5436,  2444.4,   3.5129,  34.9496,2,  34.9511,2,    265.3,2,   265.9,2,   14.75,2,   17.67,2,    0.00,2,    1.18,2,   1.563,2,   0.773,2,   0.073,2,    0.00,3,  2159.7,2,  2312.0,6,   7.7327,2,    25.00,-999.000,9,-999.0000,9, -999.00,9,   3.5123,2,    0.96,2,   -40.2,2,     3.3,-999.000,9,-999.000,   1.020,2, -999.00,9,   44.52,2,   20.77,2,  37.2519, -52.3248,-999.000,-999.0000, -999.00,   3.3091,   3.5123,2,    35.1159,2,  -999.0,9,     -999.0,9,     -999.0,9,     -999.0,9,       1657
33AT20120419,        A20,      61,          1,         10,         10,2,20120507,       1556,    37.2513,   -52.3283,       5436,  2698.1,   3.3504,  34.9511,2,  34.9515,2,    265.2,2,   264.0,2,   17.12,2,   17.93,2,    0.00,2,    1.20,2,   1.100,2,   0.563,2,   0.050,2,    0.00,3,  2162.7,2,  2316.8,2,   7.7357,2,    25.00,-999.000,9,-999.0000,9, -999.00,9,   3.3500,2, -999.00,9,  -999.0,9,  -999.0,-999.000,9,-999.000,   0.760,2, -999.00,9,   44.28,2,   20.66,2,  37.2518, -52.3250,-999.000,-999.0000, -999.00,   3.1238,   3.3500,2,    35.1163,2,  -999.0,9,     -999.0,9,     -999.0,9,     -999.0,9,       1652
33AT20120419,        A20,      61,          1,          9,          9,2,20120507,       1556,    37.2513,   -52.3283,       5436,  2957.7,   3.1694,  34.9468,2,  34.9478,2,    261.7,2,   262.6,2,   19.63,2,   18.19,2,    0.00,2,    1.22,2,   0.821,2,   0.428,2,   0.035,2,    0.00,3,  -999.0,9,  -999.0,9,-999.0000,9,  -999.00,-999.000,9,-999.0000,9, -999.00,9,   3.1695,2, -999.00,9,  -999.0,9,  -999.0,-999.000,9,-999.000,   0.620,2, -999.00,9,   44.41,2,   21.70,2,  37.2518, -52.3252,-999.000,-999.0000, -999.00,   2.9194,   3.1695,2,    35.1126,2,  -999.0,9,     -999.0,9,     -999.0,9,     -999.0,9,       1647
33AT20120419,        A20,      61,          1,          8,          8,2,20120507,       1556,    37.2513,   -52.3283,       5436,  3245.9,   2.9177,  34.9310,2,  34.9310,2,    266.8,2,   265.9,2,   20.32,2,   17.95,2,    0.00,2,    1.21,2,   0.931,2,   0.494,2,   0.046,2,    0.00,3,  2164.0,2,  2319.3,2,   7.7393,2,    25.00,-999.000,9,-999.0000,9, -999.00,9,   2.9175,2, -999.00,9,  -999.0,9,  -999.0,-999.000,9,-999.000,   0.660,2, -999.00,9,   44.01,2,   20.66,2,  37.2518, -52.3256,-999.000,-999.0000, -999.00,   2.6426,   2.9175,2,    35.0958,2,  -999.0,9,     -999.0,9,     -999.0,9,     -999.0,9,       1641
33AT20120419,        A20,      61,          1,          7,          7,2,20120507,       1556,    37.2513,   -52.3283,       5436,  3556.6,   2.6905,  34.9190,2,  34.9192,2,    266.3,2,   266.7,2,   22.68,2,   18.05,2,    0.00,2,    1.22,2,   0.803,2,   0.425,2,   0.045,2,    0.00,3,  -999.0,9,  -999.0,9,-999.0000,9,  -999.00,-999.000,9,-999.0000,9, -999.00,9,   2.6913,2, -999.00,9,  -999.0,9,  -999.0,-999.000,9,-999.000,   0.620,2, -999.00,9,   44.77,2,   20.48,2,  37.2517, -52.3259,-999.000,-999.0000, -999.00,   2.3870,   2.6913,2,    35.0839,2,  -999.0,9,     -999.0,9,     -999.0,9,     -999.0,9,       1635