BOTTLE,20220712CCHSIOCBG
EXPOCODE,SECT_ID,STNNBR,CASTNO,SAMPNO,BTLNBR,BTLNBR_FLAG_W,DATE,TIME,LATITUDE,LONGITUDE,DEPTH,CTDPRS,CTDTMP,CTDSAL,CTDSAL_FLAG_W,SALNTY,SALNTY_FLAG_W,CTDOXY,CTDOXY_FLAG_W,OXYGEN,OXYGEN_FLAG_W,SILCAT,SILCAT_FLAG_W,NITRAT,NITRAT_FLAG_W,NITRIT,NITRIT_FLAG_W,PHSPHT,PHSPHT_FLAG_W,CFC-11,CFC-11_FLAG_W,CFC-12,CFC-12_FLAG_W,CFC113,CFC113_FLAG_W,SF6,SF6_FLAG_W,TCARBN,TCARBN_FLAG_W,ALKALI,ALKALI_FLAG_W,PH_TOT,PH_TOT_FLAG_W,PH_TMP,TRITUM,TRITUM_FLAG_W,HELIUM,HELIUM_FLAG_W,DELHE3,DELHE3_FLAG_W,REFTMP,REFTMP_FLAG_W,DELC13,DELC13_FLAG_W,DELC14,DELC14_FLAG_W,C14ERR,NEON,NEON_FLAG_W,NEONER,CCL4,CCL4_FLAG_W,DELO18,DELO18_FLAG_W,DOC,DOC_FLAG_W,TDN,TDN_FLAG_W,BTL_LAT,BTL_LON,TRITER,HELIER,DELHER,THETA,SBE35,SBE35_FLAG_W,SALTREF,SALTREF_FLAG_W,14C-DOC,14C-DOC_FLAG_W,DELO17,DELO17_FLAG_W,O2/AR,O2/AR_FLAG_W,SIP,SIP_FLAG_W,BTL_TIME
,,,,,,,,,,,METERS,DBAR,ITS-90,PSS-78,,PSS-78,,UMOL/KG,,UMOL/KG,,UMOL/KG,,UMOL/KG,,UMOL/KG,,UMOL/KG,,PMOL/KG,,PMOL/KG,,PMOL/KG,,FMOL/KG,,UMOL/KG,,UMOL/KG,,,,DEG C,TU,,NMOL/KG,,PERCNT,,DEG C,,/MILLE,,/MILLE,,/MILLE,NMOL/KG,,NMOL/KG,PMOL/KG,,/MILLE,,UMOL/KG,,UMOL/KG,,,,TU,NMOL/KG,PERCNT,DEG C,ITS-90,,G/KG,,/MILLE,,/MILLE,,,,,,
33AT20120419,        A20,      53,          1,          6,          6,2,20120505,       0004,    31.2476,   -52.3316,       4910,  3651.7,   2.4885,  34.9109,2,  34.9111,2,    262.0,2,   261.9,2,   29.79,2,   19.15,2,    0.00,2,    1.29,2,   0.223,2,   0.132,2,   0.012,2,    0.00,3,  2173.4,2,  2329.4,2,   7.7409,2,    25.00,   0.072,2,   1.8776,2,    4.21,2,   2.4900,2, -999.00,9,  -999.0,9,  -999.0,   8.208,2,   0.038,   0.280,2, -999.00,9,   41.47,2,   21.74,2,  31.2480, -52.3314,   0.010,   0.0079,    0.15,   2.1797,   2.4900,2,    35.0757,2,  -999.0,9,     -999.0,9,     -999.0,9,     -999.0,9,       0031
33AT20120419,        A20,      53,          1,          5,          5,2,20120505,       0004,    31.2476,   -52.3316,       4910,  3957.7,   2.3490,  34.8982,2,  34.8981,2,    263.6,2,   263.7,2,   31.36,2,   19.10,2,    0.00,2,    1.29,2,   0.378,2,   0.220,2,   0.024,2,    0.00,3,  2174.4,2,  2327.3,2,   7.7385,2,    25.00,-999.000,9,-999.0000,9, -999.00,9,   2.3487,2, -999.00,9,  -999.0,9,  -999.0,-999.000,9,-999.000,   0.380,2, -999.00,9,   41.29,2,   21.57,2,  31.2477, -52.3316,-999.000,-999.0000, -999.00,   2.0097,   2.3487,2,    35.0627,2,  -999.0,9,     -999.0,9,     -999.0,9,     -999.0,9,       0025
33AT20120419,        A20,      53,          1,          4,          4,2,20120505,       0004,    31.2476,   -52.3316,       4910,  4268.0,   2.2553,  34.8873,2,  34.8757,4,    261.3,2,   261.5,2,   35.43,2,   19.65,2,    0.00,2,    1.34,2,   0.373,2,   0.216,2,   0.025,2,    0.00,3,  -999.0,9,  -999.0,9,-999.0000,9,  -999.00,   0.087,2,   1.8741,2,    4.50,2,   2.2555,2, -999.00,9,  -999.0,9,  -999.0,   8.227,2,   0.038,   0.360,2, -999.00,9,   41.28,2,   21.78,2,  31.2476, -52.3316,   0.010,   0.0079,    0.15,   1.8830,   2.2555,2,    35.0401,4,  -999.0,9,     -999.0,9,     -999.0,9,     -999.0,9,       0019
33AT20120419,        A20,      53,          1,          3,          3,2,20120505,       0004,    31.2476,   -52.3316,       4910,  4573.9,   2.1618,  34.8731,2,  34.8723,2,    256.8,2,   256.7,2,   42.52,2,   20.72,2,    0.00,2,    1.42,2,   0.264,2,   0.162,2,   0.020,2,    0.00,3,  2187.5,2,  2337.8,2,   7.7274,6,    25.00,-999.000,9,-999.0000,9, -999.00,9,   2.1617,2, -999.00,9,  -999.0,9,  -999.0,-999.000,9,-999.000,   0.270,2, -999.00,9,   41.65,2,   22.91,2,  31.2475, -52.3316,-999.000,-999.0000, -999.00,   1.7561,   2.1617,2,    35.0368,2,  -999.0,9,     -999.0,9,     -999.0,9,     -999.0,9,       0014
33AT20120419,        A20,      53,          1,          2,          2,2,20120505,       0004,    31.2476,   -52.3316,       4910,  4780.2,   2.1223,  34.8656,2,  34.8658,2,    253.6,2,   254.0,2,   46.80,2,   21.39,2,    0.00,2,    1.45,2,   0.170,2,   0.111,2,   0.016,2,    0.00,3,  -999.0,9,  -999.0,9,-999.0000,9,  -999.00,-999.000,9,-999.0000,9, -999.00,9,   2.1224,2, -999.00,9,  -999.0,9,  -999.0,-999.000,9,-999.000,   0.210,2, -999.00,9,   41.34,2,   23.49,2,  31.2475, -52.3317,-999.000,-999.0000, -999.00,   1.6929,   2.1224,2,    35.0302,2,  -999.0,9,     -999.0,9,     -999.0,9,     -999.0,9,       0009
33AT20120419,        A20,      53,          1,          1,          1,2,20120505,       0004,    31.2476,   -52.3316,       4910,  4995.0,   2.1298,  34.8632,2,  34.8631,2,    253.3,2,   253.4,2,   47.96,2,   21.55,2,    0.00,2,    1.48,2,   0.153,2,   0.098,2,   0.015,2,    0.00,3,  2194.8,6,  2341.9,2,   7.7236,2,    25.00,   0.031,2,   1.8685,2,    4.26,2,   2.1293,2, -999.00,9,  -999.0,9,  -999.0,   8.282,2,   0.038,   0.210,2, -999.00,9,   41.36,2,   23.98,2,  31.2475, -52.3316,   0.010,   0.0078,    0.15,   1.6736,   2.1293,2,    35.0275,2,  -999.0,9,     -999.0,9,     -999.0,9,     -999.0,9,       0005