BOTTLE,20220712CCHSIOCBG
EXPOCODE,SECT_ID,STNNBR,CASTNO,SAMPNO,BTLNBR,BTLNBR_FLAG_W,DATE,TIME,LATITUDE,LONGITUDE,DEPTH,CTDPRS,CTDTMP,CTDSAL,CTDSAL_FLAG_W,SALNTY,SALNTY_FLAG_W,CTDOXY,CTDOXY_FLAG_W,OXYGEN,OXYGEN_FLAG_W,SILCAT,SILCAT_FLAG_W,NITRAT,NITRAT_FLAG_W,NITRIT,NITRIT_FLAG_W,PHSPHT,PHSPHT_FLAG_W,CFC-11,CFC-11_FLAG_W,CFC-12,CFC-12_FLAG_W,CFC113,CFC113_FLAG_W,SF6,SF6_FLAG_W,TCARBN,TCARBN_FLAG_W,ALKALI,ALKALI_FLAG_W,PH_TOT,PH_TOT_FLAG_W,PH_TMP,TRITUM,TRITUM_FLAG_W,HELIUM,HELIUM_FLAG_W,DELHE3,DELHE3_FLAG_W,REFTMP,REFTMP_FLAG_W,DELC13,DELC13_FLAG_W,DELC14,DELC14_FLAG_W,C14ERR,NEON,NEON_FLAG_W,NEONER,CCL4,CCL4_FLAG_W,DELO18,DELO18_FLAG_W,DOC,DOC_FLAG_W,TDN,TDN_FLAG_W,BTL_LAT,BTL_LON,TRITER,HELIER,DELHER,THETA,SBE35,SBE35_FLAG_W,SALTREF,SALTREF_FLAG_W,14C-DOC,14C-DOC_FLAG_W,DELO17,DELO17_FLAG_W,O2/AR,O2/AR_FLAG_W,SIP,SIP_FLAG_W,BTL_TIME
,,,,,,,,,,,METERS,DBAR,ITS-90,PSS-78,,PSS-78,,UMOL/KG,,UMOL/KG,,UMOL/KG,,UMOL/KG,,UMOL/KG,,UMOL/KG,,PMOL/KG,,PMOL/KG,,PMOL/KG,,FMOL/KG,,UMOL/KG,,UMOL/KG,,,,DEG C,TU,,NMOL/KG,,PERCNT,,DEG C,,/MILLE,,/MILLE,,/MILLE,NMOL/KG,,NMOL/KG,PMOL/KG,,/MILLE,,UMOL/KG,,UMOL/KG,,,,TU,NMOL/KG,PERCNT,DEG C,ITS-90,,G/KG,,/MILLE,,/MILLE,,,,,,
33AT20120419,        A20,      73,          1,          6,          6,2,20120510,       1850,    42.0544,   -51.5843,       3480,  2568.8,   3.1282,  34.9277,2,  34.9284,2,    270.5,2,   271.0,2,   15.05,2,   17.21,2,    0.00,2,    1.15,2,   1.638,2,   0.925,2,-999.000,5, -999.00,5,  2161.7,2,  2310.2,6,-999.0000,9,  -999.00,-999.000,9,-999.0000,9, -999.00,9,   3.1280,2,    0.97,2,   -27.3,2,     2.6,-999.000,9,-999.000,-999.000,5, -999.00,9,   44.63,2,   20.10,2,  42.0543, -51.5844,-999.000,-999.0000, -999.00,   2.9191,   3.1280,2,    35.0931,2,  -999.0,9,     -999.0,9,     -999.0,9,     -999.0,9,       1911
33AT20120419,        A20,      73,          1,          5,          5,2,20120510,       1850,    42.0544,   -51.5843,       3480,  2771.5,   2.9377,  34.9217,2,  34.9232,2,    273.0,2,   272.6,2,   15.63,2,   16.95,2,    0.00,2,    1.14,2,   1.687,2,   0.976,2,-999.000,5, -999.00,5,  -999.0,9,  -999.0,9,-999.0000,9,  -999.00,-999.000,9,-999.0000,9, -999.00,9,   2.9377,2, -999.00,9,  -999.0,9,  -999.0,-999.000,9,-999.000,-999.000,5, -999.00,9,   43.69,2,   19.66,2,  42.0543, -51.5844,-999.000,-999.0000, -999.00,   2.7119,   2.9377,2,    35.0879,2,  -999.0,9,     -999.0,9,     -999.0,9,     -999.0,9,       1907
33AT20120419,        A20,      73,          1,          4,          4,2,20120510,       1850,    42.0544,   -51.5843,       3480,  2976.6,   2.7520,  34.9157,2,  34.9173,2,    273.4,2,   274.6,2,   15.93,2,   16.69,2,    0.00,2,    1.13,2,   1.888,2,   0.992,2,-999.000,5, -999.00,5,  2163.2,2,  2311.5,2,-999.0000,9,  -999.00,-999.000,9,-999.0000,9, -999.00,9,   2.7520,2,    0.99,2,   -22.2,2,     2.4,-999.000,9,-999.000,-999.000,5, -999.00,9,   44.72,2,   19.38,2,  42.0544, -51.5844,-999.000,-999.0000, -999.00,   2.5091,   2.7520,2,    35.0820,2,  -999.0,9,     -999.0,9,     -999.0,9,     -999.0,9,       1903
33AT20120419,        A20,      73,          1,          3,          3,2,20120510,       1850,    42.0544,   -51.5843,       3480,  3181.1,   2.5526,  34.9078,2,  34.9089,2,    275.5,2,   276.8,2,   16.54,2,   16.49,2,    0.00,2,    1.12,2,   2.029,2,   1.097,2,-999.000,5, -999.00,5,  -999.0,9,  -999.0,9,-999.0000,9,  -999.00,-999.000,9,-999.0000,9, -999.00,9,   2.5522,2, -999.00,9,  -999.0,9,  -999.0,-999.000,9,-999.000,-999.000,5, -999.00,9,   43.67,2,   19.27,2,  42.0544, -51.5843,-999.000,-999.0000, -999.00,   2.2929,   2.5522,2,    35.0735,2,  -999.0,9,     -999.0,9,     -999.0,9,     -999.0,9,       1858
33AT20120419,        A20,      73,          1,          2,          2,2,20120510,       1850,    42.0544,   -51.5843,       3480,  3348.3,   2.3839,  34.9012,2,  34.9028,2,    275.9,2,   277.3,2,   17.75,2,   16.47,2,    0.00,2,    1.12,2,   2.067,2,   1.124,2,-999.000,5, -999.00,5,  2164.7,2,  2312.3,2,-999.0000,9,  -999.00,-999.000,9,-999.0000,9, -999.00,9,   2.3839,2,    0.97,2,   -21.3,2,     2.6,-999.000,9,-999.000,-999.000,5, -999.00,9,   43.15,2,   19.33,2,  42.0544, -51.5843,-999.000,-999.0000, -999.00,   2.1106,   2.3839,2,    35.0674,2,  -999.0,9,     -999.0,9,     -999.0,9,     -999.0,9,       1855
33AT20120419,        A20,      73,          1,          1,          1,2,20120510,       1850,    42.0544,   -51.5843,       3480,  3522.1,   2.2553,  34.8953,2,  34.8969,2,    276.6,2,   276.7,2,   20.19,2,   16.73,2,    0.00,2,    1.14,2,   1.981,2,   1.036,2,-999.000,5, -999.00,5,  2167.9,6,  2316.7,2,-999.0000,9,  -999.00,-999.000,9,-999.0000,9, -999.00,9,   2.2549,2,    0.94,2,   -22.0,2,     2.6,-999.000,9,-999.000,-999.000,5, -999.00,9,   43.27,2,   19.41,2,  42.0544, -51.5843,-999.000,-999.0000, -999.00,   1.9666,   2.2549,2,    35.0615,2,  -999.0,9,     -999.0,9,     -999.0,9,     -999.0,9,       1851