BOTTLE,20220712CCHSIOCBG
EXPOCODE,SECT_ID,STNNBR,CASTNO,SAMPNO,BTLNBR,BTLNBR_FLAG_W,DATE,TIME,LATITUDE,LONGITUDE,DEPTH,CTDPRS,CTDTMP,CTDSAL,CTDSAL_FLAG_W,SALNTY,SALNTY_FLAG_W,CTDOXY,CTDOXY_FLAG_W,OXYGEN,OXYGEN_FLAG_W,SILCAT,SILCAT_FLAG_W,NITRAT,NITRAT_FLAG_W,NITRIT,NITRIT_FLAG_W,PHSPHT,PHSPHT_FLAG_W,CFC-11,CFC-11_FLAG_W,CFC-12,CFC-12_FLAG_W,CFC113,CFC113_FLAG_W,SF6,SF6_FLAG_W,TCARBN,TCARBN_FLAG_W,ALKALI,ALKALI_FLAG_W,PH_TOT,PH_TOT_FLAG_W,PH_TMP,TRITUM,TRITUM_FLAG_W,HELIUM,HELIUM_FLAG_W,DELHE3,DELHE3_FLAG_W,REFTMP,REFTMP_FLAG_W,DELC13,DELC13_FLAG_W,DELC14,DELC14_FLAG_W,C14ERR,NEON,NEON_FLAG_W,NEONER,CCL4,CCL4_FLAG_W,DELO18,DELO18_FLAG_W,DOC,DOC_FLAG_W,TDN,TDN_FLAG_W,BTL_LAT,BTL_LON,TRITER,HELIER,DELHER,THETA,SBE35,SBE35_FLAG_W,SALTREF,SALTREF_FLAG_W,14C-DOC,14C-DOC_FLAG_W,DELO17,DELO17_FLAG_W,O2/AR,O2/AR_FLAG_W,SIP,SIP_FLAG_W,BTL_TIME
,,,,,,,,,,,METERS,DBAR,ITS-90,PSS-78,,PSS-78,,UMOL/KG,,UMOL/KG,,UMOL/KG,,UMOL/KG,,UMOL/KG,,UMOL/KG,,PMOL/KG,,PMOL/KG,,PMOL/KG,,FMOL/KG,,UMOL/KG,,UMOL/KG,,,,DEG C,TU,,NMOL/KG,,PERCNT,,DEG C,,/MILLE,,/MILLE,,/MILLE,NMOL/KG,,NMOL/KG,PMOL/KG,,/MILLE,,UMOL/KG,,UMOL/KG,,,,TU,NMOL/KG,PERCNT,DEG C,ITS-90,,G/KG,,/MILLE,,/MILLE,,,,,,
33AT20120419,        A20,      35,          1,         36,         36,2,20120428,       2239,    18.0627,   -52.3333,       4704,     3.2,  26.0381,  36.5588,2,  36.5593,2,    205.1,2,   205.4,2,    0.80,2,    0.00,2,    0.00,2,    0.00,2,   1.575,2,   1.004,2,   0.114,2,    0.85,3,  2034.1,6,  2394.9,2,   8.1113,2,    25.00,-999.000,9,-999.0000,9, -999.00,9,  26.0391,2, -999.00,9,  -999.0,9,  -999.0,-999.000,9,-999.000,   1.030,2, -999.00,9,   80.89,2,    4.60,2,  18.0617, -52.3332,-999.000,-999.0000, -999.00,  26.0374,  26.0391,2,    36.7317,2,  -999.0,9,     -999.0,9,     -999.0,9,     -999.0,9,       0056
33AT20120419,        A20,      35,          1,         35,         35,2,20120428,       2239,    18.0627,   -52.3333,       4704,    25.1,  26.0401,  36.5610,2,  36.5619,2,    204.7,2,   205.4,2,    0.85,2,    0.00,2,    0.00,2,    0.00,2,   1.573,2,   1.003,2,   0.119,2,    1.18,3,  2035.0,2,  2394.8,2,   8.1113,6,    25.00,-999.000,9,-999.0000,9, -999.00,9,  26.0422,2, -999.00,9,  -999.0,9,  -999.0,-999.000,9,-999.000,   1.030,2, -999.00,9,   81.62,2,    5.64,2,  18.0617, -52.3331,-999.000,-999.0000, -999.00,  26.0345,  26.0422,2,    36.7343,2,  -999.0,9,     -999.0,9,     -999.0,9,     -999.0,9,       0054
33AT20120419,        A20,      35,          1,         34,         34,2,20120428,       2239,    18.0627,   -52.3333,       4704,    50.3,  25.6045,  36.8158,2,  36.8403,2,    211.3,2,   209.9,2,    0.58,2,    0.00,2,    0.00,2,    0.00,2,   1.608,2,   1.031,2,   0.116,2,    1.06,3,  -999.0,9,  -999.0,9,-999.0000,9,  -999.00,-999.000,9,-999.0000,9, -999.00,9,  25.6051,2, -999.00,9,  -999.0,9,  -999.0,-999.000,9,-999.000,   0.890,2, -999.00,9,   72.66,2,    5.62,2,  18.0617, -52.3331,-999.000,-999.0000, -999.00,  25.5933,  25.6051,2,    37.0140,2,  -999.0,9,     -999.0,9,     -999.0,9,     -999.0,9,       0052
33AT20120419,        A20,      35,          1,         33,         33,2,20120428,       2239,    18.0627,   -52.3333,       4704,    76.0,  25.0389,  37.2703,2,  37.2702,2,    209.7,2,   207.8,2,    0.22,2,    0.00,2,    0.00,2,    0.00,2,   1.637,2,   1.039,2,   0.116,2,    1.35,3,  2079.9,2,  2435.6,2,   8.0932,6,    25.00,-999.000,9,-999.0000,9, -999.00,9,  25.0634,2, -999.00,9,  -999.0,9,  -999.0,-999.000,9,-999.000,   0.660,2, -999.00,9,   65.44,2,    4.07,2,  18.0617, -52.3332,-999.000,-999.0000, -999.00,  25.0223,  25.0634,2,    37.4459,2,  -999.0,9,     -999.0,9,     -999.0,9,     -999.0,9,       0050
33AT20120419,        A20,      35,          1,         32,         32,2,20120428,       2239,    18.0627,   -52.3333,       4704,   100.6,  24.1717,  37.3169,2,  37.3169,2,    201.6,2,   199.2,2,    0.19,2,    0.00,2,    0.00,2,    0.00,2,   1.707,2,   1.069,2,   0.120,2,    0.95,3,  2100.2,2,  2437.9,2,   8.0637,2,    25.00,-999.000,9,-999.0000,9, -999.00,9,  24.1201,2, -999.00,9,  -999.0,9,  -999.0,-999.000,9,-999.000,   0.480,2, -999.00,9,   58.27,2,    4.78,2,  18.0617, -52.3331,-999.000,-999.0000, -999.00,  24.1502,  24.1201,2,    37.4929,2,  -999.0,9,     -999.0,9,     -999.0,9,     -999.0,9,       0047
33AT20120419,        A20,      35,          1,         31,         31,2,20120428,       2239,    18.0627,   -52.3333,       4704,   150.7,  21.7240,  37.1324,2,  37.1350,2,    173.4,2,   172.9,2,    0.51,2,    2.07,2,    0.04,2,    0.09,2,   1.836,2,   1.162,2,   0.084,2,    1.58,3,  2139.2,2,  2426.4,2,   7.9819,2,    25.00,-999.000,9,-999.0000,9, -999.00,9,  21.7116,2, -999.00,9,  -999.0,9,  -999.0,-999.000,9,-999.000,   0.330,2, -999.00,9,   53.46,2,    7.22,2,  18.0617, -52.3331,-999.000,-999.0000, -999.00,  21.6941,  21.7116,2,    37.3101,2,  -999.0,9,     -999.0,9,     -999.0,9,     -999.0,9,       0045
33AT20120419,        A20,      35,          1,         30,         30,2,20120428,       2239,    18.0627,   -52.3333,       4704,   200.7,  19.1596,  36.7459,2,  36.7507,2,    164.2,2,   162.2,2,    1.30,2,    6.22,2,    0.01,2,    0.32,2,   2.014,2,   1.235,2,   0.027,2,    1.20,3,  2153.1,2,  2401.4,2,   7.9203,2,    25.00,-999.000,9,-999.0000,9, -999.00,9,  19.1509,2, -999.00,9,  -999.0,9,  -999.0,-999.000,9,-999.000,   0.210,2, -999.00,9,      52,2,   11.14,2,  18.0617, -52.3332,-999.000,-999.0000, -999.00,  19.1232,  19.1509,2,    36.9240,2,  -999.0,9,     -999.0,9,     -999.0,9,     -999.0,9,       0042
33AT20120419,        A20,      35,          1,         29,         29,2,20120428,       2239,    18.0627,   -52.3333,       4704,   251.0,  16.8204,  36.3336,2,  36.3252,2,    155.2,2,   157.2,2,    2.60,2,   10.51,2,    0.01,2,    0.58,2,   2.126,2,   1.272,2,   0.016,2,    0.74,3,  2155.9,2,  2374.8,2,   7.8697,6,    25.00,-999.000,9,-999.0000,9, -999.00,9,  16.8218,2, -999.00,9,  -999.0,9,  -999.0,-999.000,9,-999.000,   0.170,2, -999.00,9,   51.65,2,   15.45,2,  18.0618, -52.3332,-999.000,-999.0000, -999.00,  16.7788,  16.8218,2,    36.4965,2,  -999.0,9,     -999.0,9,     -999.0,9,     -999.0,9,       0040
33AT20120419,        A20,      35,          1,         28,         28,2,20120428,       2239,    18.0627,   -52.3333,       4704,   301.2,  15.7547,  36.1677,2,  36.1791,2,    159.1,2,   160.1,2,    3.06,2,   11.46,2,    0.01,2,    0.65,2,   2.130,2,   1.280,2,   0.016,2,    0.74,3,  2155.8,2,  2366.1,2,   7.8565,6,    25.00,-999.000,9,-999.0000,9, -999.00,9,  15.7619,2, -999.00,9,  -999.0,9,  -999.0,-999.000,9,-999.000,   0.180,2, -999.00,9,   49.16,2,   16.48,2,  18.0618, -52.3331,-999.000,-999.0000, -999.00,  15.7070,  15.7619,2,    36.3497,2,  -999.0,9,     -999.0,9,     -999.0,9,     -999.0,9,       0038
33AT20120419,        A20,      35,          1,         27,         27,2,20120428,       2239,    18.0627,   -52.3333,       4704,   351.9,  14.6202,  35.9599,2,  35.9560,2,    131.3,2,   136.2,2,    4.80,2,   15.98,2,    0.01,2,    0.93,2,   2.036,2,   1.173,2,   0.018,2,    0.68,3,  -999.0,9,  -999.0,9,-999.0000,9,  -999.00,-999.000,9,-999.0000,9, -999.00,9,  14.6154,2, -999.00,9,  -999.0,9,  -999.0,-999.000,9,-999.000,   0.150,2, -999.00,9,   47.92,2,   20.28,2,  18.0617, -52.3332,-999.000,-999.0000, -999.00,  14.5671,  14.6154,2,    36.1256,2,  -999.0,9,     -999.0,9,     -999.0,9,     -999.0,9,       0035
33AT20120419,        A20,      35,          1,         26,         26,2,20120428,       2239,    18.0627,   -52.3333,       4704,   402.1,  13.1236,  35.6931,2,  35.7054,2,    104.3,2,   109.1,2,    7.30,2,   21.33,2,    0.00,2,    1.27,2,   1.729,2,   0.973,2,   0.014,2,    0.35,3,  2197.2,2,  2340.6,6,   7.7092,2,    25.00,-999.000,9,-999.0000,9, -999.00,9,  13.1330,2, -999.00,9,  -999.0,9,  -999.0,-999.000,9,-999.000,   0.120,2, -999.00,9,   47.92,2,   24.31,2,  18.0617, -52.3331,-999.000,-999.0000, -999.00,  13.0671,  13.1330,2,    35.8737,2,  -999.0,9,     -999.0,9,     -999.0,9,     -999.0,9,       0033
33AT20120419,        A20,      35,          1,         25,         25,2,20120428,       2239,    18.0627,   -52.3333,       4704,   453.1,  12.0108,  35.5200,2,  35.4997,2,     96.5,2,    95.9,2,    9.72,2,   25.21,2,    0.00,2,    1.50,2,   1.374,2,   0.756,2,   0.009,2,    0.26,3,  2208.6,2,  2328.9,2,   7.6538,2,    25.00,-999.000,9,-999.0000,9, -999.00,9,  11.9797,2, -999.00,9,  -999.0,9,  -999.0,-999.000,9,-999.000,   0.110,2, -999.00,9,   46.81,2,   29.56,2,  18.0618, -52.3332,-999.000,-999.0000, -999.00,  11.9507,  11.9797,2,    35.6671,2,  -999.0,9,     -999.0,9,     -999.0,9,     -999.0,9,       0031
33AT20120419,        A20,      35,          1,         24,         24,2,20120428,       2239,    18.0627,   -52.3333,       4704,   502.9,  11.1449,  35.3871,2,  35.3854,2,     94.7,2,    93.4,2,   11.28,2,   27.01,2,    0.00,2,    1.64,2,   1.138,2,   0.613,2,   0.009,2,    0.00,3,  2213.4,2,  2323.8,2,   7.6293,2,    25.00,-999.000,9,-999.0000,9, -999.00,9,  11.1273,2, -999.00,9,  -999.0,9,  -999.0,-999.000,9,-999.000,   0.110,2, -999.00,9,   45.84,2,   31.36,2,  18.0618, -52.3332,-999.000,-999.0000, -999.00,  11.0812,  11.1273,2,    35.5522,2,  -999.0,9,     -999.0,9,     -999.0,9,     -999.0,9,       0029
33AT20120419,        A20,      35,          1,         23,         23,2,20120428,       2239,    18.0627,   -52.3333,       4704,   601.9,   9.2727,  35.1304,2,  35.1243,2,    101.3,2,   101.2,2,   15.30,2,   29.94,2,    0.00,2,    1.86,2,   0.650,2,   0.361,2,   0.005,2,    0.13,3,  2217.5,2,  2313.8,2,   7.5958,2,    25.00,-999.000,9,-999.0000,9, -999.00,9,   9.2714,2, -999.00,9,  -999.0,9,  -999.0,-999.000,9,-999.000,   0.100,2, -999.00,9,   44.71,2,   33.05,2,  18.0620, -52.3332,-999.000,-999.0000, -999.00,   9.2045,   9.2714,2,    35.2899,2,  -999.0,9,     -999.0,9,     -999.0,9,     -999.0,9,       0026
33AT20120419,        A20,      35,          1,         22,         22,2,20120428,       2239,    18.0627,   -52.3333,       4704,   704.7,   7.6544,  34.9347,2,  34.9373,2,    109.9,2,   111.6,2,   19.48,2,   31.70,2,    0.00,2,    2.03,2,   0.337,2,   0.197,2,   0.001,2,    0.00,3,  2218.9,6,  2310.4,2,   7.5777,2,    25.00,-999.000,9,-999.0000,9, -999.00,9,   7.6637,2, -999.00,9,  -999.0,9,  -999.0,-999.000,9,-999.000,   0.090,2, -999.00,9,   43.69,2,   34.61,2,  18.0621, -52.3332,-999.000,-999.0000, -999.00,   7.5826,   7.6637,2,    35.1021,2,  -999.0,9,     -999.0,9,     -999.0,9,     -999.0,9,       0023
33AT20120419,        A20,      35,          1,         21,         21,2,20120428,       2239,    18.0627,   -52.3333,       4704,   804.0,   6.4923,  34.8043,2,  34.8047,2,    124.0,2,   125.2,2,   23.01,2,   32.45,2,    0.00,2,    2.12,2,   0.201,2,   0.120,2,   0.002,2,    0.00,3,  2219.4,2,  2306.8,2,   7.5720,6,    25.00,-999.000,9,-999.0000,9, -999.00,9,   6.5023,2, -999.00,9,  -999.0,9,  -999.0,-999.000,9,-999.000,   0.090,2, -999.00,9,   42.84,2,   35.16,2,  18.0621, -52.3332,-999.000,-999.0000, -999.00,   6.4170,   6.5023,2,    34.9689,2,  -999.0,9,     -999.0,9,     -999.0,9,     -999.0,9,       0020
33AT20120419,        A20,      35,          1,         20,         20,2,20120428,       2239,    18.0627,   -52.3333,       4704,   906.8,   5.9886,  34.7890,2,  34.7882,2,    133.6,2,   135.5,2,   24.38,2,   32.02,2,    0.00,2,    2.12,2,   0.128,2,   0.075,2,   0.001,2,    0.00,3,  2216.9,2,  2309.5,2,   7.5798,6,    25.00,-999.000,9,-999.0000,9, -999.00,9,   5.9872,2, -999.00,9,  -999.0,9,  -999.0,-999.000,9,-999.000,   0.080,2, -999.00,9,   41.68,2,   34.93,2,  18.0622, -52.3332,-999.000,-999.0000, -999.00,   5.9065,   5.9872,2,    34.9523,2,  -999.0,9,     -999.0,9,     -999.0,9,     -999.0,9,       0017
33AT20120419,        A20,      35,          1,         19,         19,2,20120428,       2239,    18.0627,   -52.3333,       4704,  1008.0,   5.5752,  34.8114,2,  34.8113,2,    146.2,2,   147.1,2,   24.68,2,   30.84,2,    0.00,2,    2.04,2,   0.098,2,   0.059,2,   0.001,2,    0.00,3,  2213.6,2,  2310.2,2,   7.5959,2,    25.00,-999.000,9,-999.0000,9, -999.00,9,   5.5712,2, -999.00,9,  -999.0,9,  -999.0,-999.000,9,-999.000,   0.070,2, -999.00,9,   40.61,2,   33.02,2,  18.0621, -52.3332,-999.000,-999.0000, -999.00,   5.4863,   5.5712,2,    34.9754,2,  -999.0,9,     -999.0,9,     -999.0,9,     -999.0,9,       0014
33AT20120419,        A20,      35,          1,         18,         18,2,20120428,       2239,    18.0627,   -52.3333,       4704,  1107.9,   5.4809,  34.8832,2,  34.8801,2,    163.2,2,   162.2,2,   22.93,2,   28.45,2,    0.00,2,    1.89,2,   0.161,2,   0.092,2,   0.003,2,    0.00,3,  -999.0,9,  -999.0,9,-999.0000,9,  -999.00,-999.000,9,-999.0000,9, -999.00,9,   5.4825,2, -999.00,9,  -999.0,9,  -999.0,-999.000,9,-999.000,   0.110,2, -999.00,9,   40.12,2,   31.58,2,  18.0620, -52.3332,-999.000,-999.0000, -999.00,   5.3830,   5.4825,2,    35.0446,2,  -999.0,9,     -999.0,9,     -999.0,9,     -999.0,9,       0012
33AT20120419,        A20,      35,          1,         17,         17,2,20120428,       2239,    18.0627,   -52.3333,       4704,  1210.5,   5.3426,  34.9452,2,  34.9440,2,    183.5,2,   181.1,2,   20.66,2,   25.74,2,    0.00,2,    1.72,2,   0.259,2,   0.142,2,   0.007,2,    0.00,3,  2195.4,2,  2315.9,2,   7.6558,2,    25.00,-999.000,9,-999.0000,9, -999.00,9,   5.3428,2, -999.00,9,  -999.0,9,  -999.0,-999.000,9,-999.000,   0.180,2, -999.00,9,   41.42,2,   27.82,2,  18.0619, -52.3332,-999.000,-999.0000, -999.00,   5.2359,   5.3428,2,    35.1088,2,  -999.0,9,     -999.0,9,     -999.0,9,     -999.0,9,       0009
33AT20120419,        A20,      35,          1,         16,         16,2,20120428,       2239,    18.0627,   -52.3333,       4704,  1311.8,   5.1525,  34.9845,2,  34.9852,2,    199.2,2,   199.4,2,   18.66,2,   23.57,2,    0.00,2,    1.56,2,   0.381,2,   0.204,2,   0.009,2,    0.00,3,  2186.1,2,  2317.5,2,   7.6823,6,    25.00,-999.000,9,-999.0000,9, -999.00,9,   5.1495,2, -999.00,9,  -999.0,9,  -999.0,-999.000,9,-999.000,   0.270,2, -999.00,9,   41.44,2,   25.85,2,  18.0618, -52.3332,-999.000,-999.0000, -999.00,   5.0378,   5.1495,2,    35.1501,2,  -999.0,9,     -999.0,9,     -999.0,9,     -999.0,9,       0006
33AT20120419,        A20,      35,          1,         15,         15,2,20120428,       2239,    18.0627,   -52.3333,       4704,  1411.9,   4.8691,  34.9951,2,  34.9940,2,    207.6,2,   209.1,2,   17.99,2,   22.71,2,    0.00,2,    1.50,2,   0.284,2,   0.157,2,   0.011,2,    0.00,3,  -999.0,9,  -999.0,9,-999.0000,9,  -999.00,-999.000,9,-999.0000,9, -999.00,9,   4.8718,2, -999.00,9,  -999.0,9,  -999.0,-999.000,9,-999.000,   0.250,2, -999.00,9,   41.38,2,   24.81,2,  18.0618, -52.3331,-999.000,-999.0000, -999.00,   4.7476,   4.8718,2,    35.1590,2,  -999.0,9,     -999.0,9,     -999.0,9,     -999.0,9,       0003
33AT20120419,        A20,      35,          1,         14,         14,2,20120428,       2239,    18.0627,   -52.3333,       4704,  1513.1,   4.6119,  35.0025,2,  35.0031,2,    221.0,2,   222.3,2,   17.16,2,   21.49,2,    0.00,2,    1.42,2,   0.314,2,   0.171,2,   0.008,2,    0.00,3,  2174.2,2,  2319.8,2,   7.7087,2,    25.00,-999.000,9,-999.0000,9, -999.00,9,   4.6110,2, -999.00,9,  -999.0,9,  -999.0,-999.000,9,-999.000,   0.300,2, -999.00,9,   40.78,2,   23.71,2,  18.0618, -52.3331,-999.000,-999.0000, -999.00,   4.4835,   4.6110,2,    35.1681,2,  -999.0,9,     -999.0,9,     -999.0,9,     -999.0,9,       0000
33AT20120419,        A20,      35,          1,         13,         13,2,20120428,       2239,    18.0627,   -52.3333,       4704,  1614.2,   4.3581,  35.0014,2,  35.0017,2,    230.8,2,   231.6,2,   17.15,2,   20.75,2,    0.00,2,    1.38,2,   0.280,2,   0.150,2,   0.011,2,    0.00,3,  2171.0,2,  2317.6,2,   7.7196,2,    25.00,-999.000,9,-999.0000,9, -999.00,9,   4.3604,2, -999.00,9,  -999.0,9,  -999.0,-999.000,9,-999.000,   0.310,2, -999.00,9,   41.47,2,   22.86,2,  18.0619, -52.3332,-999.000,-999.0000, -999.00,   4.2230,   4.3604,2,    35.1668,2,  -999.0,9,     -999.0,9,     -999.0,9,     -999.0,9,       2358
33AT20120419,        A20,      35,          1,         12,         12,2,20120428,       2239,    18.0627,   -52.3333,       4704,  1817.8,   3.9484,  34.9927,2,  34.9940,2,    240.6,2,   240.9,2,   18.86,2,   20.10,2,    0.00,2,    1.35,2,   0.170,2,   0.094,2,   0.007,2,    0.00,3,  2168.0,2,  2319.3,6,   7.7303,2,    25.00,-999.000,9,-999.0000,9, -999.00,9,   3.9480,2, -999.00,9,  -999.0,9,  -999.0,-999.000,9,-999.000,   0.260,2, -999.00,9,   41.08,2,   22.47,2,  18.0621, -52.3332,-999.000,-999.0000, -999.00,   3.7991,   3.9480,2,    35.1591,2,  -999.0,9,     -999.0,9,     -999.0,9,     -999.0,9,       2344
33AT20120419,        A20,      35,          1,         11,         11,2,20120428,       2239,    18.0627,   -52.3333,       4704,  2021.0,   3.6575,  34.9831,2,  34.9834,2,    245.7,2,   245.3,2,   21.20,2,   19.95,2,    0.00,2,    1.34,2,   0.107,2,   0.068,2,   0.003,2,    0.00,3,  2168.2,2,  2324.0,2,   7.7355,2,    25.00,-999.000,9,-999.0000,9, -999.00,9,   3.6557,2, -999.00,9,  -999.0,9,  -999.0,-999.000,9,-999.000,   0.180,2, -999.00,9,   40.98,2,   22.41,2,  18.0622, -52.3332,-999.000,-999.0000, -999.00,   3.4930,   3.6557,2,    35.1484,2,  -999.0,9,     -999.0,9,     -999.0,9,     -999.0,9,       2339
33AT20120419,        A20,      35,          1,         10,         10,2,20120428,       2239,    18.0627,   -52.3333,       4704,  2275.0,   3.2836,  34.9669,2,  34.9675,2,    250.2,2,   249.4,2,   24.64,2,   19.85,2,    0.00,2,    1.34,2,   0.072,2,   0.043,2,   0.001,2,    0.00,3,  -999.0,9,  -999.0,9,-999.0000,9,  -999.00,-999.000,9,-999.0000,9, -999.00,9,   3.2842,2, -999.00,9,  -999.0,9,  -999.0,-999.000,9,-999.000,   0.140,2, -999.00,9,   41.29,2,   22.36,2,  18.0621, -52.3332,-999.000,-999.0000, -999.00,   3.1005,   3.2842,2,    35.1324,2,  -999.0,9,     -999.0,9,     -999.0,9,     -999.0,9,       2333
33AT20120419,        A20,      35,          1,          9,          9,2,20120428,       2239,    18.0627,   -52.3333,       4704,  2529.3,   3.0459,  34.9517,2,  34.9517,2,    251.6,2,   251.4,2,   27.58,2,   19.94,2,    0.00,2,    1.34,2,   0.072,2,   0.045,2,   0.002,2,    0.00,3,  2172.4,2,  2327.7,2,   7.7402,2,    25.00,-999.000,9,-999.0000,9, -999.00,9,   3.0463,2, -999.00,9,  -999.0,9,  -999.0,-999.000,9,-999.000,   0.130,2, -999.00,9,   40.47,2,   22.43,2,  18.0622, -52.3332,-999.000,-999.0000, -999.00,   2.8421,   3.0463,2,    35.1166,2,  -999.0,9,     -999.0,9,     -999.0,9,     -999.0,9,       2328
33AT20120419,        A20,      35,          1,          8,          8,2,20120428,       2239,    18.0627,   -52.3333,       4704,  2782.2,   2.8680,  34.9384,2,  34.9376,2,    253.4,2,   253.1,2,   29.10,2,   19.88,2,    0.00,2,    1.35,2,   0.106,2,   0.064,2,   0.004,2,    0.00,3,  -999.0,9,  -999.0,9,-999.0000,9,  -999.00,-999.000,9,-999.0000,9, -999.00,9,   2.8685,2, -999.00,9,  -999.0,9,  -999.0,-999.000,9,-999.000,   0.160,2, -999.00,9,   40.94,2,   21.79,2,  18.0623, -52.3332,-999.000,-999.0000, -999.00,   2.6424,   2.8685,2,    35.1023,2,  -999.0,9,     -999.0,9,     -999.0,9,     -999.0,9,       2322
33AT20120419,        A20,      35,          1,          7,          7,2,20120428,       2239,    18.0627,   -52.3333,       4704,  3038.1,   2.7172,  34.9266,2,  34.9266,2,    252.9,2,   252.7,2,   32.34,2,   20.20,2,    0.00,2,    1.37,2,   0.094,2,   0.061,2,   0.003,2,    0.00,3,  2176.9,2,  2329.4,2,   7.7383,6,    25.00,-999.000,9,-999.0000,9, -999.00,9,   2.7175,2, -999.00,9,  -999.0,9,  -999.0,-999.000,9,-999.000,   0.140,2, -999.00,9,   41.15,2,   22.56,2,  18.0627, -52.3333,-999.000,-999.0000, -999.00,   2.4686,   2.7175,2,    35.0913,2,  -999.0,9,     -999.0,9,     -999.0,9,     -999.0,9,       2316