BOTTLE,20220712CCHSIOCBG
EXPOCODE,SECT_ID,STNNBR,CASTNO,SAMPNO,BTLNBR,BTLNBR_FLAG_W,DATE,TIME,LATITUDE,LONGITUDE,DEPTH,CTDPRS,CTDTMP,CTDSAL,CTDSAL_FLAG_W,SALNTY,SALNTY_FLAG_W,CTDOXY,CTDOXY_FLAG_W,OXYGEN,OXYGEN_FLAG_W,SILCAT,SILCAT_FLAG_W,NITRAT,NITRAT_FLAG_W,NITRIT,NITRIT_FLAG_W,PHSPHT,PHSPHT_FLAG_W,CFC-11,CFC-11_FLAG_W,CFC-12,CFC-12_FLAG_W,CFC113,CFC113_FLAG_W,SF6,SF6_FLAG_W,TCARBN,TCARBN_FLAG_W,ALKALI,ALKALI_FLAG_W,PH_TOT,PH_TOT_FLAG_W,PH_TMP,TRITUM,TRITUM_FLAG_W,HELIUM,HELIUM_FLAG_W,DELHE3,DELHE3_FLAG_W,REFTMP,REFTMP_FLAG_W,DELC13,DELC13_FLAG_W,DELC14,DELC14_FLAG_W,C14ERR,NEON,NEON_FLAG_W,NEONER,CCL4,CCL4_FLAG_W,DELO18,DELO18_FLAG_W,DOC,DOC_FLAG_W,TDN,TDN_FLAG_W,BTL_LAT,BTL_LON,TRITER,HELIER,DELHER,THETA,SBE35,SBE35_FLAG_W,SALTREF,SALTREF_FLAG_W,14C-DOC,14C-DOC_FLAG_W,DELO17,DELO17_FLAG_W,O2/AR,O2/AR_FLAG_W,SIP,SIP_FLAG_W,BTL_TIME
,,,,,,,,,,,METERS,DBAR,ITS-90,PSS-78,,PSS-78,,UMOL/KG,,UMOL/KG,,UMOL/KG,,UMOL/KG,,UMOL/KG,,UMOL/KG,,PMOL/KG,,PMOL/KG,,PMOL/KG,,FMOL/KG,,UMOL/KG,,UMOL/KG,,,,DEG C,TU,,NMOL/KG,,PERCNT,,DEG C,,/MILLE,,/MILLE,,/MILLE,NMOL/KG,,NMOL/KG,PMOL/KG,,/MILLE,,UMOL/KG,,UMOL/KG,,,,TU,NMOL/KG,PERCNT,DEG C,ITS-90,,G/KG,,/MILLE,,/MILLE,,,,,,
33AT20120419,        A20,      23,          1,         36,         36,2,20120425,       0202,    10.0821,   -52.3332,       4915,     4.0,  27.7056,  29.5917,2,  29.5976,2,    208.5,2,   208.2,2,    5.93,2,    0.00,2,    0.00,2,    0.01,2,   1.497,2,   0.991,2,   0.148,2,    1.31,3,  1711.4,6,  2004.4,2,   8.1489,2,    25.00,-999.000,9,-999.0000,9, -999.00,9,  27.7028,2, -999.00,9,  -999.0,9,  -999.0,-999.000,9,-999.000,   1.010,2, -999.00,9,   96.79,2,    5.66,2,  10.0853, -52.3337,-999.000,-999.0000, -999.00,  27.7047,  27.7028,2,    29.7372,2,  -999.0,9,     -999.0,9,     -999.0,9,     -999.0,9,       0413
33AT20120419,        A20,      23,          1,         35,         35,2,20120425,       0202,    10.0821,   -52.3332,       4915,    26.0,  27.7566,  34.9340,2,  34.9396,2,    199.9,2,   198.5,2,    0.99,2,    0.00,2,    0.00,2,    0.05,2,   1.468,2,   0.963,2,   0.119,2,    1.50,3,  1978.5,2,  2302.0,6,   8.0834,6,    25.00,-999.000,9,-999.0000,9, -999.00,9,  27.7566,2, -999.00,9,  -999.0,9,  -999.0,-999.000,9,-999.000,   0.880,2, -999.00,9,   76.12,2,    4.99,2,  10.0852, -52.3336,-999.000,-999.0000, -999.00,  27.7505,  27.7566,2,    35.1044,2,  -999.0,9,     -999.0,9,     -999.0,9,     -999.0,9,       0411
33AT20120419,        A20,      23,          1,         34,         34,2,20120425,       0202,    10.0821,   -52.3332,       4915,    51.0,  26.7287,  35.8672,2,  35.8610,2,    185.3,2,   185.3,2,    1.09,2,    1.02,2,    0.09,2,    0.16,2,   1.520,2,   0.985,2,   0.110,2,    0.95,3,  2043.1,2,  2353.7,2,   8.0414,2,    25.00,-999.000,9,-999.0000,9, -999.00,9,  26.7233,2, -999.00,9,  -999.0,9,  -999.0,-999.000,9,-999.000,   0.750,2, -999.00,9,   61.73,2,    5.97,2,  10.0851, -52.3337,-999.000,-999.0000, -999.00,  26.7171,  26.7233,2,    36.0301,2,  -999.0,9,     -999.0,9,     -999.0,9,     -999.0,9,       0409
33AT20120419,        A20,      23,          1,         33,         33,2,20120425,       0202,    10.0821,   -52.3332,       4915,    75.6,  24.9714,  36.2067,2,  36.2177,2,    173.8,2,   175.0,2,    1.89,2,    2.82,2,    0.04,2,    0.27,2,   1.601,2,   1.024,2,   0.097,2,    0.69,3,  2079.3,2,  2376.8,2,   8.0097,2,    25.00,-999.000,9,-999.0000,9, -999.00,9,  24.9954,2, -999.00,9,  -999.0,9,  -999.0,-999.000,9,-999.000,   0.590,2, -999.00,9,   58.26,2,    7.31,2,  10.0851, -52.3336,-999.000,-999.0000, -999.00,  24.9549,  24.9954,2,    36.3885,2,  -999.0,9,     -999.0,9,     -999.0,9,     -999.0,9,       0406
33AT20120419,        A20,      23,          1,         32,         32,2,20120425,       0202,    10.0821,   -52.3332,       4915,   100.9,  22.8843,  36.2471,2,  36.2508,2,    166.8,2,   166.9,2,    2.79,2,    4.86,2,    0.04,2,    0.42,2,   1.735,2,   1.097,2,   0.091,2,    1.25,3,  2108.4,2,  2380.7,2,   7.9659,2,    25.00,-999.000,9,-999.0000,9, -999.00,9,  22.8432,2, -999.00,9,  -999.0,9,  -999.0,-999.000,9,-999.000,   0.480,2, -999.00,9,   57.81,2,    8.97,2,  10.0850, -52.3336,-999.000,-999.0000, -999.00,  22.8637,  22.8432,2,    36.4217,2,  -999.0,9,     -999.0,9,     -999.0,9,     -999.0,9,       0404
33AT20120419,        A20,      23,          1,         31,         31,2,20120425,       0202,    10.0821,   -52.3332,       4915,   130.2,  21.3049,  36.8074,2,  36.7997,2,    140.1,2,   140.2,2,    1.96,2,    6.79,2,    0.02,2,    0.37,2,   1.833,2,   1.145,2,   0.050,2,    0.82,3,  -999.0,9,  -999.0,9,-999.0000,9,  -999.00,-999.000,9,-999.0000,9, -999.00,9,  21.2950,2, -999.00,9,  -999.0,9,  -999.0,-999.000,9,-999.000,   0.180,2, -999.00,9,   54.57,2,   10.20,2,  10.0849, -52.3336,-999.000,-999.0000, -999.00,  21.2795,  21.2950,2,    36.9732,2,  -999.0,9,     -999.0,9,     -999.0,9,     -999.0,9,       0402
33AT20120419,        A20,      23,          1,         30,         30,2,20120425,       0202,    10.0821,   -52.3332,       4915,   200.4,  14.2201,  35.6395,2,  35.6462,2,    135.5,2,   137.0,2,    6.65,2,   17.31,2,    0.01,2,    1.11,2,   2.013,2,   1.170,2,   0.021,2,    0.49,3,  2174.8,2,  2344.7,2,   7.7659,2,    25.00,-999.000,9,-999.0000,9, -999.00,9,  14.1954,2, -999.00,9,  -999.0,9,  -999.0,-999.000,9,-999.000,   0.220,2, -999.00,9,   47.38,2,   21.69,2,  10.0847, -52.3336,-999.000,-999.0000, -999.00,  14.1907,  14.1954,2,    35.8143,2,  -999.0,9,     -999.0,9,     -999.0,9,     -999.0,9,       0358
33AT20120419,        A20,      23,          1,         29,         29,2,20120425,       0202,    10.0821,   -52.3332,       4915,   250.7,  11.5772,  35.2279,2,  35.2289,2,    102.6,2,    99.6,2,   10.22,2,   25.68,2,    0.00,2,    1.62,2,   1.638,2,   0.909,2,   0.017,2,    0.39,3,  -999.0,9,  -999.0,9,-999.0000,9,  -999.00,-999.000,9,-999.0000,9, -999.00,9,  11.5784,2, -999.00,9,  -999.0,9,  -999.0,-999.000,9,-999.000,   0.150,2, -999.00,9,   46.71,2,   30.57,2,  10.0846, -52.3336,-999.000,-999.0000, -999.00,  11.5451,  11.5784,2,    35.3950,2,  -999.0,9,     -999.0,9,     -999.0,9,     -999.0,9,       0356
33AT20120419,        A20,      23,          1,         28,         28,2,20120425,       0202,    10.0821,   -52.3332,       4915,   301.8,  10.6604,  35.0898,2,  35.0938,2,    100.5,2,   100.1,2,   11.70,2,   27.33,2,    0.00,2,    1.73,2,   1.507,2,   0.824,2,   0.015,2,    0.39,3,  2209.0,2,  2314.0,2,   7.6111,2,    25.00,-999.000,9,-999.0000,9, -999.00,9,  10.6081,2, -999.00,9,  -999.0,9,  -999.0,-999.000,9,-999.000,   0.170,2, -999.00,9,   47.03,2,   32.41,2,  10.0846, -52.3336,-999.000,-999.0000, -999.00,  10.6237,  10.6081,2,    35.2593,2,  -999.0,9,     -999.0,9,     -999.0,9,     -999.0,9,       0354
33AT20120419,        A20,      23,          1,         27,         27,2,20120425,       0202,    10.0821,   -52.3332,       4915,   351.3,  10.1894,  35.0429,2,  35.0436,2,     97.6,2,    96.3,2,   12.73,2,   28.72,2,    0.00,2,    1.81,2,   1.331,2,   0.730,2,   0.014,2,    0.30,3,  2213.7,2,  2312.8,2,   7.5928,2,    25.00,-999.000,9,-999.0000,9, -999.00,9,  10.1947,2, -999.00,9,  -999.0,9,  -999.0,-999.000,9,-999.000,   0.180,2, -999.00,9,   46.07,2,   33.71,2,  10.0845, -52.3336,-999.000,-999.0000, -999.00,  10.1478,  10.1947,2,    35.2089,2,  -999.0,9,     -999.0,9,     -999.0,9,     -999.0,9,       0352
33AT20120419,        A20,      23,          1,         26,         26,2,20120425,       0202,    10.0821,   -52.3332,       4915,   401.5,   9.5378,  34.9680,2,  34.9710,2,     92.9,2,    93.5,2,   14.18,2,   30.35,2,    0.00,2,    1.90,2,   1.100,2,   0.604,2,   0.013,2,    0.00,3,  2217.7,2,  2309.6,2,   7.5709,2,    25.00,-999.000,9,-999.0000,9, -999.00,9,   9.5398,2, -999.00,9,  -999.0,9,  -999.0,-999.000,9,-999.000,   0.180,2, -999.00,9,   45.59,2,   35.67,2,  10.0844, -52.3336,-999.000,-999.0000, -999.00,   9.4921,   9.5398,2,    35.1359,2,  -999.0,9,     -999.0,9,     -999.0,9,     -999.0,9,       0350
33AT20120419,        A20,      23,          1,         25,         25,2,20120425,       0202,    10.0821,   -52.3332,       4915,   502.7,   8.1211,  34.7769,2,  34.7761,2,    116.1,2,   117.1,2,   17.22,2,   31.06,2,    0.00,2,    1.99,2,   1.057,2,   0.567,2,   0.024,2,    0.00,3,  -999.0,9,  -999.0,9,-999.0000,9,  -999.00,-999.000,9,-999.0000,9, -999.00,9,   8.1100,2, -999.00,9,  -999.0,9,  -999.0,-999.000,9,-999.000,   0.300,2, -999.00,9,   44.45,2,   36.09,2,  10.0844, -52.3336,-999.000,-999.0000, -999.00,   8.0689,   8.1100,2,    34.9401,2,  -999.0,9,     -999.0,9,     -999.0,9,     -999.0,9,       0347
33AT20120419,        A20,      23,          1,         24,         24,2,20120425,       0202,    10.0821,   -52.3332,       4915,   603.3,   7.7011,  34.8085,2,  34.8137,2,    115.9,2,   113.5,2,   18.80,2,   31.87,2,    0.00,2,    2.05,2,   0.680,2,   0.380,2,   0.011,2,    0.00,3,  2216.9,2,  2307.0,2,   7.5684,2,    25.00,-999.000,9,-999.0000,9, -999.00,9,   7.7098,2, -999.00,9,  -999.0,9,  -999.0,-999.000,9,-999.000,   0.190,2, -999.00,9,   43.75,2,   36.04,2,  10.0843, -52.3336,-999.000,-999.0000, -999.00,   7.6399,   7.7098,2,    34.9778,2,  -999.0,9,     -999.0,9,     -999.0,9,     -999.0,9,       0344
33AT20120419,        A20,      23,          1,         23,         23,2,20120425,       0202,    10.0821,   -52.3332,       4915,   704.5,   6.5905,  34.7047,2,  34.7048,2,    113.4,2,   115.1,2,   22.70,2,   34.11,2,    0.00,2,    2.22,2,   0.339,2,   0.190,2,   0.006,2,    0.00,3,  -999.0,9,  -999.0,9,-999.0000,9,  -999.00,-999.000,9,-999.0000,9, -999.00,9,   6.5925,2, -999.00,9,  -999.0,9,  -999.0,-999.000,9,-999.000,   0.160,2, -999.00,9,   42.07,2,   38.14,2,  10.0842, -52.3336,-999.000,-999.0000, -999.00,   6.5246,   6.5925,2,    34.8684,2,  -999.0,9,     -999.0,9,     -999.0,9,     -999.0,9,       0341
33AT20120419,        A20,      23,          1,         22,         22,2,20120425,       0202,    10.0821,   -52.3332,       4915,   805.6,   5.8571,  34.6631,2,  34.6617,2,    121.6,2,   122.3,2,   25.82,2,   34.59,2,    0.00,2,    2.28,2,   0.172,2,   0.096,2,   0.003,2,    0.00,3,  2224.3,6,  2308.1,2,   7.5395,2,    25.00,-999.000,9,-999.0000,9, -999.00,9,   5.8571,2, -999.00,9,  -999.0,9,  -999.0,-999.000,9,-999.000,   0.110,2, -999.00,9,   41.28,2,   38.26,2,  10.0842, -52.3336,-999.000,-999.0000, -999.00,   5.7856,   5.8571,2,    34.8252,2,  -999.0,9,     -999.0,9,     -999.0,9,     -999.0,9,       0338
33AT20120419,        A20,      23,          1,         21,         21,2,20120425,       0202,    10.0821,   -52.3332,       4915,   906.4,   5.4709,  34.6848,2,  34.6845,2,    131.7,2,   133.1,2,   26.99,2,   33.59,2,    0.00,2,    2.24,2,   0.106,2,   0.064,2,   0.002,2,    0.00,3,  2223.1,2,  2308.9,2,   7.5559,2,    25.00,-999.000,9,-999.0000,9, -999.00,9,   5.4699,2, -999.00,9,  -999.0,9,  -999.0,-999.000,9,-999.000,   0.080,2, -999.00,9,   40.02,2,   36.77,2,  10.0841, -52.3336,-999.000,-999.0000, -999.00,   5.3925,   5.4699,2,    34.8481,2,  -999.0,9,     -999.0,9,     -999.0,9,     -999.0,9,       0336
33AT20120419,        A20,      23,          1,         20,         20,2,20120425,       0202,    10.0821,   -52.3332,       4915,  1006.3,   5.2922,  34.7375,2,  34.7402,2,    141.8,2,   141.0,2,   26.50,2,   32.43,2,    0.00,2,    2.17,2,   0.061,2,   0.038,2,   0.000,2,    0.00,3,  2219.7,2,  2312.0,2,   7.5714,2,    25.00,-999.000,9,-999.0000,9, -999.00,9,   5.2931,2, -999.00,9,  -999.0,9,  -999.0,-999.000,9,-999.000,   0.060,2, -999.00,9,   40.33,2,   35.56,2,  10.0841, -52.3335,-999.000,-999.0000, -999.00,   5.2057,   5.2931,2,    34.9040,2,  -999.0,9,     -999.0,9,     -999.0,9,     -999.0,9,       0333
33AT20120419,        A20,      23,          1,         19,         19,2,20120425,       0202,    10.0821,   -52.3332,       4915,  1107.5,   5.1514,  34.8218,2,  34.8277,2,    156.7,2,   157.0,2,   24.59,2,   29.88,2,    0.00,2,    1.99,2,   0.071,2,   0.041,2,   0.001,2,    0.00,3,  2210.4,2,  2313.5,2,   7.6040,2,    25.00,-999.000,9,-999.0000,9, -999.00,9,   5.1489,2, -999.00,9,  -999.0,9,  -999.0,-999.000,9,-999.000,   0.070,2, -999.00,9,   40.24,2,   33.53,2,  10.0840, -52.3336,-999.000,-999.0000, -999.00,   5.0564,   5.1489,2,    34.9919,2,  -999.0,9,     -999.0,9,     -999.0,9,     -999.0,9,       0329
33AT20120419,        A20,      23,          1,         18,         18,2,20120425,       0202,    10.0821,   -52.3332,       4915,  1209.4,   4.9960,  34.8883,2,  34.8896,2,    174.6,2,   175.1,2,   22.58,2,   27.38,2,    0.00,2,    1.82,2,   0.106,2,   0.060,2,   0.002,2,    0.00,3,  2201.3,2,  2318.0,2,   7.6364,2,    25.00,-999.000,9,-999.0000,9, -999.00,9,   4.9960,2, -999.00,9,  -999.0,9,  -999.0,-999.000,9,-999.000,   0.110,2, -999.00,9,    41.4,2,   30.88,2,  10.0840, -52.3336,-999.000,-999.0000, -999.00,   4.8927,   4.9960,2,    35.0542,2,  -999.0,9,     -999.0,9,     -999.0,9,     -999.0,9,       0326
33AT20120419,        A20,      23,          1,         17,         17,2,20120425,       0202,    10.0821,   -52.3332,       4915,  1310.3,   4.8890,  34.9531,2,  34.9554,2,    200.7,2,   199.7,2,   19.71,2,   23.99,2,    0.00,2,    1.60,2,   0.294,2,   0.157,2,   0.007,2,    0.00,3,  2187.3,2,  2318.7,2,   7.6746,2,    25.00,-999.000,9,-999.0000,9, -999.00,9,   4.8896,2, -999.00,9,  -999.0,9,  -999.0,-999.000,9,-999.000,   0.250,2, -999.00,9,   39.96,2,   26.96,2,  10.0840, -52.3336,-999.000,-999.0000, -999.00,   4.7771,   4.8896,2,    35.1202,2,  -999.0,9,     -999.0,9,     -999.0,9,     -999.0,9,       0323
33AT20120419,        A20,      23,          1,         16,         16,2,20120425,       0202,    10.0821,   -52.3332,       4915,  1410.9,   4.6807,  34.9888,2,  34.9888,2,    220.2,2,   219.9,2,   17.34,2,   21.70,2,    0.00,2,    1.43,2,   0.455,2,   0.238,2,   0.014,2,    0.00,3,  -999.0,9,  -999.0,9,-999.0000,9,  -999.00,-999.000,9,-999.0000,9, -999.00,9,   4.6801,2, -999.00,9,  -999.0,9,  -999.0,-999.000,9,-999.000,   0.380,2, -999.00,9,   40.67,2,   24.31,2,  10.0840, -52.3336,-999.000,-999.0000, -999.00,   4.5613,   4.6801,2,    35.1538,2,  -999.0,9,     -999.0,9,     -999.0,9,     -999.0,9,       0320
33AT20120419,        A20,      23,          1,         15,         15,2,20120425,       0202,    10.0821,   -52.3332,       4915,  1511.8,   4.4532,  34.9952,2,  34.9957,2,    233.1,2,   233.1,2,   16.17,2,   20.41,2,    0.00,2,    1.36,2,   0.573,2,   0.296,2,   0.026,2,    0.00,3,  2171.7,2,  2317.9,2,   7.7147,2,    25.00,-999.000,9,-999.0000,9, -999.00,9,   4.4549,2, -999.00,9,  -999.0,9,  -999.0,-999.000,9,-999.000,   0.490,2, -999.00,9,   40.77,2,   23.95,2,  10.0841, -52.3336,-999.000,-999.0000, -999.00,   4.3267,   4.4549,2,    35.1607,2,  -999.0,9,     -999.0,9,     -999.0,9,     -999.0,9,       0317
33AT20120419,        A20,      23,          1,         14,         14,2,20120425,       0202,    10.0821,   -52.3332,       4915,  1613.9,   4.2435,  34.9922,2,  34.9932,2,    241.9,2,   241.6,2,   15.65,2,   19.68,2,    0.00,2,    1.30,2,   0.638,2,   0.318,2,   0.028,2,    0.00,3,  2166.9,2,  2316.9,2,   7.7209,2,    25.00,-999.000,9,-999.0000,9, -999.00,9,   4.2432,2, -999.00,9,  -999.0,9,  -999.0,-999.000,9,-999.000,   0.590,2, -999.00,9,   40.16,2,   23.57,2,  10.0841, -52.3336,-999.000,-999.0000, -999.00,   4.1098,   4.2432,2,    35.1582,2,  -999.0,9,     -999.0,9,     -999.0,9,     -999.0,9,       0314
33AT20120419,        A20,      23,          1,         13,         13,2,20120425,       0202,    10.0821,   -52.3332,       4915,  1816.7,   3.8483,  34.9790,2,  34.9790,2,    253.8,2,   253.9,2,   15.70,2,   18.74,2,    0.00,2,    1.23,2,-999.000,5,-999.000,5,-999.000,5, -999.00,5,  -999.0,9,  -999.0,9,-999.0000,9,  -999.00,-999.000,9,-999.0000,9, -999.00,9,   3.8481,2, -999.00,9,  -999.0,9,  -999.0,-999.000,9,-999.000,-999.000,5, -999.00,9,    40.9,2,   22.86,2,  10.0841, -52.3335,-999.000,-999.0000, -999.00,   3.7005,   3.8481,2,    35.1440,2,  -999.0,9,     -999.0,9,     -999.0,9,     -999.0,9,       0309
33AT20120419,        A20,      23,          1,         12,         12,2,20120425,       0202,    10.0821,   -52.3332,       4915,  2019.2,   3.6023,  34.9704,2,  34.9721,2,    256.8,2,   256.5,2,   17.07,2,   18.69,2,    0.00,2,    1.24,2,   0.538,2,   0.276,2,   0.020,2,    0.00,3,  2162.5,2,  2317.7,2,   7.7371,2,    25.00,-999.000,9,-999.0000,9, -999.00,9,   3.6018,2, -999.00,9,  -999.0,9,  -999.0,-999.000,9,-999.000,   0.490,2, -999.00,9,   40.23,2,   22.70,2,  10.0838, -52.3335,-999.000,-999.0000, -999.00,   3.4388,   3.6018,2,    35.1370,2,  -999.0,9,     -999.0,9,     -999.0,9,     -999.0,9,       0305
33AT20120419,        A20,      23,          1,         11,         11,2,20120425,       0202,    10.0821,   -52.3332,       4915,  2272.7,   3.3372,  34.9614,2,  34.9615,2,    257.0,2,   257.1,2,   19.74,2,   18.86,2,    0.00,2,    1.26,2,   0.340,2,   0.176,2,   0.012,2,    0.00,3,  -999.0,9,  -999.0,9,-999.0000,9,  -999.00,-999.000,9,-999.0000,9, -999.00,9,   3.3371,2, -999.00,9,  -999.0,9,  -999.0,-999.000,9,-999.000,   0.360,2, -999.00,9,   40.98,2,   21.78,2,  10.0836, -52.3335,-999.000,-999.0000, -999.00,   3.1535,   3.3371,2,    35.1264,2,  -999.0,9,     -999.0,9,     -999.0,9,     -999.0,9,       0259
33AT20120419,        A20,      23,          1,         10,         10,2,20120425,       0202,    10.0821,   -52.3332,       4915,  2528.1,   3.0967,  34.9498,2,  34.9509,2,    258.1,2,   257.8,2,   22.63,2,   18.99,2,    0.00,2,    1.27,2,   0.292,2,   0.158,2,   0.008,2,    0.00,3,  2165.9,2,  2323.7,2,   7.7409,2,    25.00,-999.000,9,-999.0000,9, -999.00,9,   3.0963,2, -999.00,9,  -999.0,9,  -999.0,-999.000,9,-999.000,   0.320,2, -999.00,9,   40.66,2,   23.16,2,  10.0833, -52.3334,-999.000,-999.0000, -999.00,   2.8921,   3.0963,2,    35.1157,2,  -999.0,9,     -999.0,9,     -999.0,9,     -999.0,9,       0254
33AT20120419,        A20,      23,          1,          9,          9,2,20120425,       0202,    10.0821,   -52.3332,       4915,  2781.1,   2.9277,  34.9394,2,  34.9395,2,    256.1,2,   256.7,2,   26.03,2,   19.39,2,    0.00,2,    1.30,2,   0.217,2,   0.117,2,   0.008,2,    0.00,3,  -999.0,9,  -999.0,9,-999.0000,9,  -999.00,-999.000,9,-999.0000,9, -999.00,9,   2.9274,2, -999.00,9,  -999.0,9,  -999.0,-999.000,9,-999.000,   0.250,2, -999.00,9,   40.58,2,   22.50,2,  10.0831, -52.3334,-999.000,-999.0000, -999.00,   2.7010,   2.9274,2,    35.1043,2,  -999.0,9,     -999.0,9,     -999.0,9,     -999.0,9,       0249
33AT20120419,        A20,      23,          1,          8,          8,2,20120425,       0202,    10.0821,   -52.3332,       4915,  3036.0,   2.7718,  34.9289,2,  34.9326,4,    254.0,2,   254.2,2,   30.20,2,   19.97,2,    0.00,2,    1.34,2,   0.151,2,   0.087,2,   0.008,2,    0.00,3,  2173.4,2,  2330.2,2,   7.7374,2,    25.00,-999.000,9,-999.0000,9, -999.00,9,   2.7717,2, -999.00,9,  -999.0,9,  -999.0,-999.000,9,-999.000,   0.190,2, -999.00,9,   41.11,2,   23.99,2,  10.0830, -52.3334,-999.000,-999.0000, -999.00,   2.5222,   2.7717,2,    35.0973,4,  -999.0,9,     -999.0,9,     -999.0,9,     -999.0,9,       0243
33AT20120419,        A20,      23,          1,          7,          7,2,20120425,       0202,    10.0821,   -52.3332,       4915,  3342.2,   2.6108,  34.9160,2,  34.9181,2,    252.2,2,   253.7,2,   33.73,2,   20.32,2,    0.00,2,    1.36,2,   0.146,2,   0.084,2,   0.009,2,    0.00,3,  -999.0,9,  -999.0,9,-999.0000,9,  -999.00,-999.000,9,-999.0000,9, -999.00,9,   2.6109,2, -999.00,9,  -999.0,9,  -999.0,-999.000,9,-999.000,   0.180,2, -999.00,9,   41.19,2,   22.86,2,  10.0828, -52.3333,-999.000,-999.0000, -999.00,   2.3326,   2.6109,2,    35.0827,2,  -999.0,9,     -999.0,9,     -999.0,9,     -999.0,9,       0237