BOTTLE,20220712CCHSIOCBG
EXPOCODE,SECT_ID,STNNBR,CASTNO,SAMPNO,BTLNBR,BTLNBR_FLAG_W,DATE,TIME,LATITUDE,LONGITUDE,DEPTH,CTDPRS,CTDTMP,CTDSAL,CTDSAL_FLAG_W,SALNTY,SALNTY_FLAG_W,CTDOXY,CTDOXY_FLAG_W,OXYGEN,OXYGEN_FLAG_W,SILCAT,SILCAT_FLAG_W,NITRAT,NITRAT_FLAG_W,NITRIT,NITRIT_FLAG_W,PHSPHT,PHSPHT_FLAG_W,CFC-11,CFC-11_FLAG_W,CFC-12,CFC-12_FLAG_W,CFC113,CFC113_FLAG_W,SF6,SF6_FLAG_W,TCARBN,TCARBN_FLAG_W,ALKALI,ALKALI_FLAG_W,PH_TOT,PH_TOT_FLAG_W,PH_TMP,TRITUM,TRITUM_FLAG_W,HELIUM,HELIUM_FLAG_W,DELHE3,DELHE3_FLAG_W,REFTMP,REFTMP_FLAG_W,DELC13,DELC13_FLAG_W,DELC14,DELC14_FLAG_W,C14ERR,NEON,NEON_FLAG_W,NEONER,CCL4,CCL4_FLAG_W,DELO18,DELO18_FLAG_W,DOC,DOC_FLAG_W,TDN,TDN_FLAG_W,BTL_LAT,BTL_LON,TRITER,HELIER,DELHER,THETA,SBE35,SBE35_FLAG_W,SALTREF,SALTREF_FLAG_W,14C-DOC,14C-DOC_FLAG_W,DELO17,DELO17_FLAG_W,O2/AR,O2/AR_FLAG_W,SIP,SIP_FLAG_W,BTL_TIME
,,,,,,,,,,,METERS,DBAR,ITS-90,PSS-78,,PSS-78,,UMOL/KG,,UMOL/KG,,UMOL/KG,,UMOL/KG,,UMOL/KG,,UMOL/KG,,PMOL/KG,,PMOL/KG,,PMOL/KG,,FMOL/KG,,UMOL/KG,,UMOL/KG,,,,DEG C,TU,,NMOL/KG,,PERCNT,,DEG C,,/MILLE,,/MILLE,,/MILLE,NMOL/KG,,NMOL/KG,PMOL/KG,,/MILLE,,UMOL/KG,,UMOL/KG,,,,TU,NMOL/KG,PERCNT,DEG C,ITS-90,,G/KG,,/MILLE,,/MILLE,,,,,,
33AT20120419,        A20,      76,          1,          1,          1,2,20120511,       0643,    42.6251,   -51.1216,       2017,  2012.0,   3.4699,  34.9284,2,  34.9284,2,    270.4,2,   270.4,2,   12.57,2,   17.17,2,    0.00,2,    1.14,2,   2.642,2,   1.309,2,   0.144,2,    0.71,2,  2163.1,2,  2309.1,2,-999.0000,9,  -999.00,-999.000,9,-999.0000,9, -999.00,9,   3.4689,2, -999.00,9,  -999.0,9,  -999.0,-999.000,9,-999.000,-999.000,9, -999.00,9, -999.00,9, -999.00,9,  42.6250, -51.1216,-999.000,-999.0000, -999.00,   3.3092,   3.4689,2,    35.0931,2,  -999.0,9,     -999.0,9,     -999.0,9,     -999.0,9,       0643
33AT20120419,        A20,      77,          1,         25,         25,2,20120511,       1004,    42.8164,   -50.9643,       1389,     4.1,   9.0287,  32.8040,2,  32.8126,2,    301.9,2,   301.1,2,    0.00,2,    0.00,2,    0.00,2,    0.23,2,-999.000,9,-999.000,9,-999.000,9, -999.00,9,  2029.4,6,  2219.2,2,-999.0000,9,  -999.00,-999.000,9,-999.0000,9, -999.00,9,   9.0269,2, -999.00,9,  -999.0,9,  -999.0,-999.000,9,-999.000,-999.000,9, -999.00,9, -999.00,9, -999.00,9,  42.8164, -50.9609,-999.000,-999.0000, -999.00,   9.0283,   9.0269,2,    32.9673,2,  -999.0,9,     -999.0,9,     -999.0,9,     -999.0,9,       1100
33AT20120419,        A20,      77,          1,         24,         24,2,20120511,       1004,    42.8164,   -50.9643,       1389,    23.9,   8.7320,  33.1245,2,  33.1241,2,    300.3,2,   303.0,2,    0.00,2,    0.00,2,    0.00,2,    0.22,2,-999.000,9,-999.000,9,-999.000,9, -999.00,9,  2037.7,2,  2234.2,2,-999.0000,9,  -999.00,-999.000,9,-999.0000,9, -999.00,9,   8.7295,2, -999.00,9,  -999.0,9,  -999.0,-999.000,9,-999.000,-999.000,9, -999.00,9, -999.00,9, -999.00,9,  42.8164, -50.9610,-999.000,-999.0000, -999.00,   8.7295,   8.7295,2,    33.2803,2,  -999.0,9,     -999.0,9,     -999.0,9,     -999.0,9,       1058
33AT20120419,        A20,      77,          1,         23,         23,2,20120511,       1004,    42.8164,   -50.9643,       1389,    63.3,   8.4158,  33.8056,2,  33.7474,2,    264.7,2,   263.3,2,    2.54,2,    5.35,2,    0.21,2,    0.63,2,-999.000,9,-999.000,9,-999.000,9, -999.00,9,  -999.0,9,  -999.0,9,-999.0000,9,  -999.00,-999.000,9,-999.0000,9, -999.00,9,   8.3354,2, -999.00,9,  -999.0,9,  -999.0,-999.000,9,-999.000,-999.000,9, -999.00,9, -999.00,9, -999.00,9,  42.8164, -50.9612,-999.000,-999.0000, -999.00,   8.4094,   8.3354,2,    33.9065,2,  -999.0,9,     -999.0,9,     -999.0,9,     -999.0,9,       1055
33AT20120419,        A20,      77,          1,         22,         22,2,20120511,       1004,    42.8164,   -50.9643,       1389,   106.6,  11.3071,  35.0195,2,  35.0299,2,    187.9,2,   187.3,2,    6.54,2,   13.09,2,    0.02,2,    0.92,2,-999.000,9,-999.000,9,-999.000,9, -999.00,9,  2149.2,2,  2317.2,2,-999.0000,9,  -999.00,-999.000,9,-999.0000,9, -999.00,9,  11.3021,2, -999.00,9,  -999.0,9,  -999.0,-999.000,9,-999.000,-999.000,9, -999.00,9, -999.00,9, -999.00,9,  42.8164, -50.9614,-999.000,-999.0000, -999.00,  11.2938,  11.3021,2,    35.1950,2,  -999.0,9,     -999.0,9,     -999.0,9,     -999.0,9,       1052
33AT20120419,        A20,      77,          1,         21,         21,2,20120511,       1004,    42.8164,   -50.9643,       1389,   129.8,  11.5595,  35.3092,2,  35.3097,2,    170.1,2,   169.5,2,    7.33,2,   16.01,2,    0.03,2,    1.04,2,-999.000,9,-999.000,9,-999.000,9, -999.00,9,  -999.0,9,  -999.0,9,-999.0000,9,  -999.00,-999.000,9,-999.0000,9, -999.00,9,  11.5604,2, -999.00,9,  -999.0,9,  -999.0,-999.000,9,-999.000,-999.000,9, -999.00,9, -999.00,9, -999.00,9,  42.8164, -50.9616,-999.000,-999.0000, -999.00,  11.5430,  11.5604,2,    35.4762,2,  -999.0,9,     -999.0,9,     -999.0,9,     -999.0,9,       1049
33AT20120419,        A20,      77,          1,         20,         20,2,20120511,       1004,    42.8164,   -50.9643,       1389,   155.8,  10.8224,  35.2604,2,  35.2605,2,    161.7,2,   163.1,2,    8.71,2,   18.07,2,    0.03,2,    1.16,2,-999.000,9,-999.000,9,-999.000,9, -999.00,9,  2174.8,2,  2326.7,2,-999.0000,9,  -999.00,-999.000,9,-999.0000,9, -999.00,9,  10.8245,2, -999.00,9,  -999.0,9,  -999.0,-999.000,9,-999.000,-999.000,9, -999.00,9, -999.00,9, -999.00,9,  42.8164, -50.9617,-999.000,-999.0000, -999.00,  10.8034,  10.8245,2,    35.4267,2,  -999.0,9,     -999.0,9,     -999.0,9,     -999.0,9,       1047
33AT20120419,        A20,      77,          1,         19,         19,2,20120511,       1004,    42.8164,   -50.9643,       1389,   178.1,  10.2157,  35.2339,2,  35.2313,2,    154.0,2,   153.8,2,   10.39,2,   20.44,2,    0.02,2,    1.30,2,-999.000,9,-999.000,9,-999.000,9, -999.00,9,  -999.0,9,  -999.0,9,-999.0000,9,  -999.00,-999.000,9,-999.0000,9, -999.00,9,  10.2170,2, -999.00,9,  -999.0,9,  -999.0,-999.000,9,-999.000,-999.000,9, -999.00,9, -999.00,9, -999.00,9,  42.8164, -50.9618,-999.000,-999.0000, -999.00,  10.1947,  10.2170,2,    35.3974,2,  -999.0,9,     -999.0,9,     -999.0,9,     -999.0,9,       1045
33AT20120419,        A20,      77,          1,         18,         18,2,20120511,       1004,    42.8164,   -50.9643,       1389,   207.7,   9.8835,  35.2439,2,  35.2390,2,    144.7,2,   143.2,2,   12.04,2,   22.71,2,    0.02,2,    1.43,2,-999.000,9,-999.000,9,-999.000,9, -999.00,9,  2189.2,2,  2326.2,2,-999.0000,9,  -999.00,-999.000,9,-999.0000,9, -999.00,9,   9.8902,2, -999.00,9,  -999.0,9,  -999.0,-999.000,9,-999.000,-999.000,9, -999.00,9, -999.00,9, -999.00,9,  42.8164, -50.9620,-999.000,-999.0000, -999.00,   9.8595,   9.8902,2,    35.4051,2,  -999.0,9,     -999.0,9,     -999.0,9,     -999.0,9,       1043
33AT20120419,        A20,      77,          1,         17,         17,2,20120511,       1004,    42.8164,   -50.9643,       1389,   229.0,   9.2462,  35.1653,2,  35.1665,2,    148.4,2,   148.9,2,   12.58,2,   22.76,2,    0.02,2,    1.45,2,-999.000,9,-999.000,9,-999.000,9, -999.00,9,  -999.0,9,  -999.0,9,-999.0000,9,  -999.00,-999.000,9,-999.0000,9, -999.00,9,   9.2417,2, -999.00,9,  -999.0,9,  -999.0,-999.000,9,-999.000,-999.000,9, -999.00,9, -999.00,9, -999.00,9,  42.8164, -50.9620,-999.000,-999.0000, -999.00,   9.2208,   9.2417,2,    35.3323,2,  -999.0,9,     -999.0,9,     -999.0,9,     -999.0,9,       1042
33AT20120419,        A20,      77,          1,         16,         16,2,20120511,       1004,    42.8164,   -50.9643,       1389,   254.0,   8.4719,  35.1080,2,  35.1113,2,    152.0,2,   153.2,2,   13.30,2,   23.29,2,    0.00,2,    1.49,2,-999.000,9,-999.000,9,-999.000,9, -999.00,9,  2191.4,2,  2320.2,2,-999.0000,9,  -999.00,-999.000,9,-999.0000,9, -999.00,9,   8.4927,2, -999.00,9,  -999.0,9,  -999.0,-999.000,9,-999.000,-999.000,9, -999.00,9, -999.00,9, -999.00,9,  42.8164, -50.9621,-999.000,-999.0000, -999.00,   8.4451,   8.4927,2,    35.2769,2,  -999.0,9,     -999.0,9,     -999.0,9,     -999.0,9,       1040
33AT20120419,        A20,      77,          1,         15,         15,2,20120511,       1004,    42.8164,   -50.9643,       1389,   303.6,   7.7148,  35.0729,2,  35.0717,2,    163.9,2,   165.7,2,   13.48,2,   22.88,2,    0.00,2,    1.48,2,-999.000,9,-999.000,9,-999.000,9, -999.00,9,  2191.2,2,  2317.1,2,-999.0000,9,  -999.00,-999.000,9,-999.0000,9, -999.00,9,   7.7209,2, -999.00,9,  -999.0,9,  -999.0,-999.000,9,-999.000,-999.000,9, -999.00,9, -999.00,9, -999.00,9,  42.8164, -50.9622,-999.000,-999.0000, -999.00,   7.6845,   7.7209,2,    35.2371,2,  -999.0,9,     -999.0,9,     -999.0,9,     -999.0,9,       1038
33AT20120419,        A20,      77,          1,         14,         14,2,20120511,       1004,    42.8164,   -50.9643,       1389,   350.6,   7.2948,  35.0747,2,  35.0739,2,    174.8,2,   175.7,2,   13.35,2,   22.36,2,    0.00,2,    1.45,2,-999.000,9,-999.000,9,-999.000,9, -999.00,9,  -999.0,9,  -999.0,9,-999.0000,9,  -999.00,-999.000,9,-999.0000,9, -999.00,9,   7.2952,2, -999.00,9,  -999.0,9,  -999.0,-999.000,9,-999.000,-999.000,9, -999.00,9, -999.00,9, -999.00,9,  42.8164, -50.9622,-999.000,-999.0000, -999.00,   7.2608,   7.2952,2,    35.2393,2,  -999.0,9,     -999.0,9,     -999.0,9,     -999.0,9,       1036
33AT20120419,        A20,      77,          1,         13,         13,2,20120511,       1004,    42.8164,   -50.9643,       1389,   408.8,   6.6854,  35.0696,2,  35.0692,2,    191.2,2,   191.2,2,   12.99,2,   21.47,2,    0.00,2,    1.41,2,-999.000,9,-999.000,9,-999.000,9, -999.00,9,  2184.9,2,  2318.8,6,-999.0000,9,  -999.00,-999.000,9,-999.0000,9, -999.00,9,   6.6858,2, -999.00,9,  -999.0,9,  -999.0,-999.000,9,-999.000,-999.000,9, -999.00,9, -999.00,9, -999.00,9,  42.8164, -50.9623,-999.000,-999.0000, -999.00,   6.6474,   6.6858,2,    35.2345,2,  -999.0,9,     -999.0,9,     -999.0,9,     -999.0,9,       1034
33AT20120419,        A20,      77,          1,         12,         12,2,20120511,       1004,    42.8164,   -50.9643,       1389,   456.2,   6.2824,  35.0501,2,  35.0526,2,    208.8,2,   201.5,2,   12.54,2,   20.71,2,    0.00,2,    1.37,2,-999.000,9,-999.000,9,-999.000,9, -999.00,9,  -999.0,9,  -999.0,9,-999.0000,9,  -999.00,-999.000,9,-999.0000,9, -999.00,9,   6.3176,2, -999.00,9,  -999.0,9,  -999.0,-999.000,9,-999.000,-999.000,9, -999.00,9, -999.00,9, -999.00,9,  42.8164, -50.9624,-999.000,-999.0000, -999.00,   6.2413,   6.3176,2,    35.2179,2,  -999.0,9,     -999.0,9,     -999.0,9,     -999.0,9,       1032
33AT20120419,        A20,      77,          1,         10,         10,2,20120511,       1004,    42.8164,   -50.9643,       1389,   505.3,   5.2628,  34.9642,2,  34.9633,2,    234.3,2,   235.6,2,   11.07,2,   18.47,2,    0.00,2,    1.23,2,-999.000,9,-999.000,9,-999.000,9, -999.00,9,  2173.5,2,  2311.6,2,-999.0000,9,  -999.00,-999.000,9,-999.0000,9, -999.00,9,   5.2624,2, -999.00,9,  -999.0,9,  -999.0,-999.000,9,-999.000,-999.000,9, -999.00,9, -999.00,9, -999.00,9,  42.8164, -50.9625,-999.000,-999.0000, -999.00,   5.2211,   5.2624,2,    35.1281,2,  -999.0,9,     -999.0,9,     -999.0,9,     -999.0,9,       1030
33AT20120419,        A20,      77,          1,          9,          9,2,20120511,       1004,    42.8164,   -50.9643,       1389,   606.7,   4.5660,  34.9244,2,  34.9235,2,    263.3,2,   264.1,2,    9.18,2,   16.80,2,    0.00,2,    1.12,2,-999.000,9,-999.000,9,-999.000,9, -999.00,9,  -999.0,9,  -999.0,9,-999.0000,9,  -999.00,-999.000,9,-999.0000,9, -999.00,9,   4.5654,2, -999.00,9,  -999.0,9,  -999.0,-999.000,9,-999.000,-999.000,9, -999.00,9, -999.00,9, -999.00,9,  42.8164, -50.9627,-999.000,-999.0000, -999.00,   4.5188,   4.5654,2,    35.0882,2,  -999.0,9,     -999.0,9,     -999.0,9,     -999.0,9,       1027
33AT20120419,        A20,      77,          1,          8,          8,2,20120511,       1004,    42.8164,   -50.9643,       1389,   704.1,   4.3404,  34.9110,2,  34.9099,2,    270.7,2,   272.2,2,    8.83,2,   16.47,2,    0.00,2,    1.10,2,-999.000,9,-999.000,9,-999.000,9, -999.00,9,  -999.0,9,  -999.0,9,-999.0000,9,  -999.00,-999.000,9,-999.0000,9, -999.00,9,   4.3410,2, -999.00,9,  -999.0,9,  -999.0,-999.000,9,-999.000,-999.000,9, -999.00,9, -999.00,9, -999.00,9,  42.8164, -50.9629,-999.000,-999.0000, -999.00,   4.2864,   4.3410,2,    35.0745,2,  -999.0,9,     -999.0,9,     -999.0,9,     -999.0,9,       1024
33AT20120419,        A20,      77,          1,          7,          7,2,20120511,       1004,    42.8164,   -50.9643,       1389,   809.0,   4.1497,  34.9022,2,  34.9026,2,    276.6,2,   277.8,2,    8.63,2,   16.24,2,    0.00,2,    1.08,2,-999.000,9,-999.000,9,-999.000,9, -999.00,9,  2161.2,2,  2305.7,2,-999.0000,9,  -999.00,-999.000,9,-999.0000,9, -999.00,9,   4.1526,2, -999.00,9,  -999.0,9,  -999.0,-999.000,9,-999.000,-999.000,9, -999.00,9, -999.00,9, -999.00,9,  42.8164, -50.9631,-999.000,-999.0000, -999.00,   4.0882,   4.1526,2,    35.0672,2,  -999.0,9,     -999.0,9,     -999.0,9,     -999.0,9,       1021
33AT20120419,        A20,      77,          1,          6,          6,2,20120511,       1004,    42.8164,   -50.9643,       1389,   909.9,   4.1067,  34.9067,2,  34.9060,2,    278.0,2,   278.2,2,    8.72,2,   16.34,2,    0.00,2,    1.08,2,-999.000,9,-999.000,9,-999.000,9, -999.00,9,  -999.0,9,  -999.0,9,-999.0000,9,  -999.00,-999.000,9,-999.0000,9, -999.00,9,   4.1070,2, -999.00,9,  -999.0,9,  -999.0,-999.000,9,-999.000,-999.000,9, -999.00,9, -999.00,9, -999.00,9,  42.8164, -50.9633,-999.000,-999.0000, -999.00,   4.0371,   4.1070,2,    35.0706,2,  -999.0,9,     -999.0,9,     -999.0,9,     -999.0,9,       1018
33AT20120419,        A20,      77,          1,          5,          5,2,20120511,       1004,    42.8164,   -50.9643,       1389,  1012.7,   4.1488,  34.9239,2,  34.9233,2,    273.4,2,   274.0,2,    9.09,2,   16.68,2,    0.00,2,    1.09,2,-999.000,9,-999.000,9,-999.000,9, -999.00,9,  -999.0,9,  -999.0,9,-999.0000,9,  -999.00,-999.000,9,-999.0000,9, -999.00,9,   4.1491,2, -999.00,9,  -999.0,9,  -999.0,-999.000,9,-999.000,-999.000,9, -999.00,9, -999.00,9, -999.00,9,  42.8164, -50.9635,-999.000,-999.0000, -999.00,   4.0702,   4.1491,2,    35.0880,2,  -999.0,9,     -999.0,9,     -999.0,9,     -999.0,9,       1016
33AT20120419,        A20,      77,          1,          4,          4,2,20120511,       1004,    42.8164,   -50.9643,       1389,  1109.3,   4.0236,  34.9199,2,-999.0000,5,    275.2,2,   274.4,2,    9.51,2,   16.72,2,    0.00,2,    1.10,2,-999.000,9,-999.000,9,-999.000,9, -999.00,9,  2163.9,2,  2305.8,2,-999.0000,9,  -999.00,-999.000,9,-999.0000,9, -999.00,9,   4.0234,2, -999.00,9,  -999.0,9,  -999.0,-999.000,9,-999.000,-999.000,9, -999.00,9, -999.00,9, -999.00,9,  42.8164, -50.9637,-999.000,-999.0000, -999.00,   3.9378,   4.0234,2,     -999.0,5,  -999.0,9,     -999.0,9,     -999.0,9,     -999.0,9,       1013
33AT20120419,        A20,      77,          1,          3,          3,2,20120511,       1004,    42.8164,   -50.9643,       1389,  1211.8,   3.9809,  34.9233,2,  34.9231,2,    273.1,2,   273.1,2,   10.02,2,   16.82,2,    0.00,2,    1.10,2,-999.000,9,-999.000,9,-999.000,9, -999.00,9,  -999.0,9,  -999.0,9,-999.0000,9,  -999.00,-999.000,9,-999.0000,9, -999.00,9,   3.9811,2, -999.00,9,  -999.0,9,  -999.0,-999.000,9,-999.000,-999.000,9, -999.00,9, -999.00,9, -999.00,9,  42.8164, -50.9639,-999.000,-999.0000, -999.00,   3.8866,   3.9811,2,    35.0878,2,  -999.0,9,     -999.0,9,     -999.0,9,     -999.0,9,       1010
33AT20120419,        A20,      77,          1,          2,          2,2,20120511,       1004,    42.8164,   -50.9643,       1389,  1313.9,   3.9680,  34.9263,2,  34.9258,2,    271.4,2,   272.2,2,   10.11,2,   16.92,2,    0.00,2,    1.11,2,-999.000,9,-999.000,9,-999.000,9, -999.00,9,  -999.0,9,  -999.0,9,-999.0000,9,  -999.00,-999.000,9,-999.0000,9, -999.00,9,   3.9680,2, -999.00,9,  -999.0,9,  -999.0,-999.000,9,-999.000,-999.000,9, -999.00,9, -999.00,9, -999.00,9,  42.8164, -50.9641,-999.000,-999.0000, -999.00,   3.8649,   3.9680,2,    35.0905,2,  -999.0,9,     -999.0,9,     -999.0,9,     -999.0,9,       1007
33AT20120419,        A20,      77,          1,          1,          1,2,20120511,       1004,    42.8164,   -50.9643,       1389,  1386.6,   3.9375,  34.9259,2,  34.9264,2,    271.0,2,   271.6,2,   10.47,2,   16.84,2,    0.00,2,    1.11,2,-999.000,9,-999.000,9,-999.000,9, -999.00,9,  2163.7,2,  2307.1,2,-999.0000,9,  -999.00,-999.000,9,-999.0000,9, -999.00,9,   3.9373,2, -999.00,9,  -999.0,9,  -999.0,-999.000,9,-999.000,-999.000,9, -999.00,9, -999.00,9, -999.00,9,  42.8164, -50.9643,-999.000,-999.0000, -999.00,   3.8283,   3.9373,2,    35.0911,2,  -999.0,9,     -999.0,9,     -999.0,9,     -999.0,9,       1005