BOTTLE,20220712CCHSIOCBG
EXPOCODE,SECT_ID,STNNBR,CASTNO,SAMPNO,BTLNBR,BTLNBR_FLAG_W,DATE,TIME,LATITUDE,LONGITUDE,DEPTH,CTDPRS,CTDTMP,CTDSAL,CTDSAL_FLAG_W,SALNTY,SALNTY_FLAG_W,CTDOXY,CTDOXY_FLAG_W,OXYGEN,OXYGEN_FLAG_W,SILCAT,SILCAT_FLAG_W,NITRAT,NITRAT_FLAG_W,NITRIT,NITRIT_FLAG_W,PHSPHT,PHSPHT_FLAG_W,CFC-11,CFC-11_FLAG_W,CFC-12,CFC-12_FLAG_W,CFC113,CFC113_FLAG_W,SF6,SF6_FLAG_W,TCARBN,TCARBN_FLAG_W,ALKALI,ALKALI_FLAG_W,PH_TOT,PH_TOT_FLAG_W,PH_TMP,TRITUM,TRITUM_FLAG_W,HELIUM,HELIUM_FLAG_W,DELHE3,DELHE3_FLAG_W,REFTMP,REFTMP_FLAG_W,DELC13,DELC13_FLAG_W,DELC14,DELC14_FLAG_W,C14ERR,NEON,NEON_FLAG_W,NEONER,CCL4,CCL4_FLAG_W,DELO18,DELO18_FLAG_W,DOC,DOC_FLAG_W,TDN,TDN_FLAG_W,BTL_LAT,BTL_LON,TRITER,HELIER,DELHER,THETA,SBE35,SBE35_FLAG_W,SALTREF,SALTREF_FLAG_W,14C-DOC,14C-DOC_FLAG_W,DELO17,DELO17_FLAG_W,O2/AR,O2/AR_FLAG_W,SIP,SIP_FLAG_W,BTL_TIME
,,,,,,,,,,,METERS,DBAR,ITS-90,PSS-78,,PSS-78,,UMOL/KG,,UMOL/KG,,UMOL/KG,,UMOL/KG,,UMOL/KG,,UMOL/KG,,PMOL/KG,,PMOL/KG,,PMOL/KG,,FMOL/KG,,UMOL/KG,,UMOL/KG,,,,DEG C,TU,,NMOL/KG,,PERCNT,,DEG C,,/MILLE,,/MILLE,,/MILLE,NMOL/KG,,NMOL/KG,PMOL/KG,,/MILLE,,UMOL/KG,,UMOL/KG,,,,TU,NMOL/KG,PERCNT,DEG C,ITS-90,,G/KG,,/MILLE,,/MILLE,,,,,,
33AT20120419,        A20,      67,          1,         34,         34,2,20120509,       0923,    40.4006,   -52.3348,       5231,     3.6,  17.2743,  35.5928,2,  35.5953,2,    237.1,2,   237.3,2,    0.06,2,    0.17,2,    0.04,2,    0.05,2,   2.408,2,   1.447,2,   0.188,3,    1.30,3,  2059.5,6,  2348.3,2,-999.0000,5,    25.00,-999.000,9,-999.0000,9, -999.00,9,  17.2743,2,    0.89,2,    50.7,2,     4.0,-999.000,9,-999.000,   1.410,3, -999.00,9,   67.55,2,    4.81,2,  40.3986, -52.3330,-999.000,-999.0000, -999.00,  17.2737,  17.2743,2,    35.7632,2,  -999.0,1,     -999.0,9,     -999.0,9,     -999.0,9,       1136
33AT20120419,        A20,      67,          1,         33,         33,2,20120509,       0923,    40.4006,   -52.3348,       5231,    19.9,  17.2600,  35.5924,2,  35.5943,2,    237.5,2,   236.7,2,    0.11,2,    0.22,2,    0.05,2,    0.05,2,   2.416,2,   1.450,2,   0.195,3,    1.28,3,  2059.0,2,  2350.1,2,-999.0000,5,    25.00,-999.000,9,-999.0000,9, -999.00,9,  17.2666,2, -999.00,9,  -999.0,9,  -999.0,-999.000,9,-999.000,   1.400,3, -999.00,9,   67.23,2,    4.73,2,  40.3987, -52.3331,-999.000,-999.0000, -999.00,  17.2567,  17.2666,2,    35.7622,2,  -999.0,9,     -999.0,9,     -999.0,9,     -999.0,9,       1134
33AT20120419,        A20,      67,          1,         32,         32,2,20120509,       0923,    40.4006,   -52.3348,       5231,    40.2,  13.4512,  34.9947,2,  35.0139,2,    244.7,2,   236.9,2,    1.33,2,    3.75,2,    0.20,2,    0.31,2,   2.910,2,   1.699,2,   0.201,3,    1.29,3,  2088.7,2,  2319.9,2,-999.0000,5,    25.00,-999.000,9,-999.0000,9, -999.00,9,  13.4670,2, -999.00,9,  -999.0,9,  -999.0,-999.000,9,-999.000,   1.390,3, -999.00,9,   63.03,2,    8.03,2,  40.3987, -52.3331,-999.000,-999.0000, -999.00,  13.4456,  13.4670,2,    35.1790,2,  -999.0,9,     -999.0,9,     -999.0,9,     -999.0,9,       1132
33AT20120419,        A20,      67,          1,         31,         31,2,20120509,       0923,    40.4006,   -52.3348,       5231,    64.7,  12.7482,  34.9412,2,  34.9468,2,    235.9,2,   235.2,2,    2.07,2,    5.45,2,    0.05,2,    0.41,2,   2.954,2,   1.706,2,   0.215,3,    1.38,3,  2095.5,2,  2315.6,2,-999.0000,5,    25.00,-999.000,9,-999.0000,9, -999.00,9,  12.7484,2, -999.00,9,  -999.0,9,  -999.0,-999.000,9,-999.000,   1.210,3, -999.00,9,   61.25,2,   10.03,2,  40.3987, -52.3331,-999.000,-999.0000, -999.00,  12.7395,  12.7484,2,    35.1116,2,  -999.0,9,     -999.0,9,     -999.0,9,     -999.0,9,       1129
33AT20120419,        A20,      67,          1,         30,         30,2,20120509,       0923,    40.4006,   -52.3348,       5231,   139.3,  14.8736,  35.7732,2,  35.7771,2,    197.8,2,   212.8,2,    2.63,2,    7.30,2,    0.02,2,    0.45,2,   2.531,2,   1.460,2,   0.148,3,    1.34,3,  2116.2,2,  2354.2,2,-999.0000,5,    25.00,-999.000,9,-999.0000,9, -999.00,9,  14.8736,2,    0.64,2,    53.7,2,     2.6,-999.000,9,-999.000,   0.930,3, -999.00,9,   56.59,2,   11.06,2,  40.3987, -52.3331,-999.000,-999.0000, -999.00,  14.8525,  14.8736,2,    35.9458,2,  -999.0,9,     -999.0,9,     -999.0,9,     -999.0,9,       1124
33AT20120419,        A20,      67,          1,         29,         29,2,20120509,       0923,    40.4006,   -52.3348,       5231,   190.7,  14.8251,  35.8526,2,  35.8569,2,    170.5,2,   195.5,2,    3.50,2,    9.47,2,    0.02,2,    0.58,2,   2.378,2,   1.396,2,   0.106,3,    0.93,3,  2129.4,2,  2356.3,2,-999.0000,5,    25.00,-999.000,9,-999.0000,9, -999.00,9,  14.8284,2, -999.00,9,  -999.0,9,  -999.0,-999.000,9,-999.000,   0.620,3, -999.00,9,   54.63,2,   13.71,2,  40.3986, -52.3329,-999.000,-999.0000, -999.00,  14.7962,  14.8284,2,    36.0260,2,  -999.0,9,     -999.0,9,     -999.0,9,     -999.0,9,       1121
33AT20120419,        A20,      67,          1,         28,         28,2,20120509,       0923,    40.4006,   -52.3348,       5231,   237.2,  14.0858,  35.8186,2,  35.8066,2,    159.6,2,   158.5,2,    5.95,2,   14.83,2,    0.02,2,    0.90,2,   2.124,2,   1.179,2,   0.026,3,    0.95,3,  -999.0,9,  -999.0,9,-999.0000,9,  -999.00,-999.000,9,-999.0000,9, -999.00,9,  14.0794,2, -999.00,9,  -999.0,9,  -999.0,-999.000,9,-999.000,   0.330,3, -999.00,9,   52.63,2,   19.20,2,  40.3986, -52.3330,-999.000,-999.0000, -999.00,  14.0511,  14.0794,2,    35.9754,2,  -999.0,9,     -999.0,9,     -999.0,9,     -999.0,9,       1118
33AT20120419,        A20,      67,          1,         27,         27,2,20120509,       0923,    40.4006,   -52.3348,       5231,   285.8,  12.6612,  35.6141,2,  35.6133,2,    148.1,2,   147.5,2,    8.25,2,   18.33,2,    0.00,2,    1.13,2,   1.886,2,   1.059,2,   0.020,3,    0.47,3,  2172.4,2,  2340.0,6,-999.0000,5,    25.00,-999.000,9,-999.0000,9, -999.00,9,  12.6604,2, -999.00,9,  -999.0,9,  -999.0,-999.000,9,-999.000,   0.280,3, -999.00,9,   50.71,2,   22.51,2,  40.3986, -52.3330,-999.000,-999.0000, -999.00,  12.6222,  12.6604,2,    35.7812,2,  -999.0,9,     -999.0,9,     -999.0,9,     -999.0,9,       1116
33AT20120419,        A20,      67,          1,         26,         26,2,20120509,       0923,    40.4006,   -52.3348,       5231,   389.7,   9.9671,  35.2675,2,  35.2695,2,    136.3,2,   135.5,2,   13.38,2,   24.10,2,    0.00,2,    1.53,2,   1.277,2,   0.689,2,   0.014,3,    0.67,3,  2190.8,6,  2325.0,2,-999.0000,5,    25.00,-999.000,9,-999.0000,9, -999.00,9,   9.9676,2,    0.54,2,    -7.7,2,     2.4,-999.000,9,-999.000,   0.250,3, -999.00,9,   47.38,2,   28.42,2,  40.3985, -52.3329,-999.000,-999.0000, -999.00,   9.9214,   9.9676,2,    35.4359,2,  -999.0,1,     -999.0,9,     -999.0,9,     -999.0,9,       1113
33AT20120419,        A20,      67,          1,         25,         25,2,20120509,       0923,    40.4006,   -52.3348,       5231,   573.3,   6.8027,  35.0579,2,  35.0582,2,    183.9,2,   186.9,2,   13.61,2,   21.85,2,    0.00,2,    1.42,2,   1.796,2,   0.940,2,   0.056,3,    0.54,3,  2186.0,2,  2316.1,2,-999.0000,5,    25.00,-999.000,9,-999.0000,9, -999.00,9,   6.8102,2,    0.69,2,   -28.2,2,     2.6,-999.000,9,-999.000,   0.760,3, -999.00,9,   45.94,2,   25.67,2,  40.3985, -52.3329,-999.000,-999.0000, -999.00,   6.7483,   6.8102,2,    35.2235,2,  -999.0,9,     -999.0,9,     -999.0,9,     -999.0,9,       1109
33AT20120419,        A20,      67,          1,         24,         24,2,20120509,       0923,    40.4006,   -52.3348,       5231,   668.8,   5.9055,  35.0227,2,  35.0226,2,    210.2,2,   212.4,2,   12.56,2,   20.06,2,    0.00,2,    1.32,2,   2.247,2,   1.183,2,   0.086,3,    0.73,3,  2180.8,2,  2313.8,2,-999.0000,5,    25.00,-999.000,9,-999.0000,9, -999.00,9,   5.9056,2, -999.00,9,  -999.0,9,  -999.0,-999.000,9,-999.000,   1.040,3, -999.00,9,   45.36,2,   24.25,2,  40.3986, -52.3330,-999.000,-999.0000, -999.00,   5.8462,   5.9056,2,    35.1877,2,  -999.0,9,     -999.0,9,     -999.0,9,     -999.0,9,       1106
33AT20120419,        A20,      67,          1,         23,         23,2,20120509,       0923,    40.4006,   -52.3348,       5231,   770.8,   5.3776,  35.0289,2,  35.0283,2,    229.9,2,   232.2,2,   11.77,2,   18.92,2,    0.00,2,    1.24,2,   2.573,2,   1.310,2,   0.115,3,    0.76,3,  2172.6,2,  2312.4,2,-999.0000,5,    25.00,-999.000,9,-999.0000,9, -999.00,9,   5.3763,2,    0.75,2,   -11.5,2,     2.6,-999.000,9,-999.000,   1.340,3, -999.00,9,   44.92,2,   23.19,2,  40.3987, -52.3331,-999.000,-999.0000, -999.00,   5.3118,   5.3763,2,    35.1935,2,  -999.0,9,     -999.0,9,     -999.0,9,     -999.0,9,       1104
33AT20120419,        A20,      67,          1,         22,         22,2,20120509,       0923,    40.4006,   -52.3348,       5231,   870.9,   4.8811,  35.0017,2,  35.0009,2,    247.5,2,   246.4,2,   11.22,2,   18.18,2,    0.00,2,    1.19,2,   3.117,2,   1.468,2,   0.180,3,    0.87,3,  2169.4,2,  2310.2,2,-999.0000,5,    25.00,-999.000,9,-999.0000,9, -999.00,9,   4.8819,2, -999.00,9,  -999.0,9,  -999.0,-999.000,9,-999.000,   2.690,3, -999.00,9,   44.34,2,   22.35,2,  40.3987, -52.3331,-999.000,-999.0000, -999.00,   4.8094,   4.8819,2,    35.1660,2,  -999.0,9,     -999.0,9,     -999.0,9,     -999.0,9,       1101
33AT20120419,        A20,      67,          1,         21,         21,2,20120509,       0923,    40.4006,   -52.3348,       5231,   976.4,   4.6666,  34.9946,2,  34.9962,2,    261.1,2,   251.8,2,   11.11,2,   17.94,2,    0.00,2,    1.18,2,   3.223,2,   1.506,2,   0.205,3,    0.58,3,  2166.6,2,  2309.0,2,-999.0000,5,    25.00,-999.000,9,-999.0000,9, -999.00,9,   4.6659,2,    0.77,2,   -18.4,2,     2.4,-999.000,9,-999.000,   2.920,3, -999.00,9,   44.82,2,   21.98,2,  40.3988, -52.3332,-999.000,-999.0000, -999.00,   4.5871,   4.6659,2,    35.1612,2,  -999.0,9,     -999.0,9,     -999.0,9,     -999.0,9,       1058
33AT20120419,        A20,      67,          1,         20,         20,2,20120509,       0923,    40.4006,   -52.3348,       5231,  1074.5,   4.3372,  34.9573,2,  34.9563,2,    263.0,2,   265.6,2,   10.36,2,   17.23,2,    0.00,2,    1.13,2,   3.714,2,   1.774,2,   0.257,3,    0.98,3,  2163.8,2,  2307.4,2,-999.0000,5,    25.00,-999.000,9,-999.0000,9, -999.00,9,   4.3367,2,    0.80,2,    -2.2,2,     2.5,-999.000,9,-999.000,   3.430,3, -999.00,9,   45.28,2,   21.37,2,  40.3989, -52.3333,-999.000,-999.0000, -999.00,   4.2517,   4.3367,2,    35.1211,2,  -999.0,1,     -999.0,9,     -999.0,9,     -999.0,9,       1055
33AT20120419,        A20,      67,          1,         19,         19,2,20120509,       0923,    40.4006,   -52.3348,       5231,  1176.3,   4.2284,  34.9517,2,  34.9509,2,    262.3,2,   266.6,2,   10.33,2,   17.17,2,    0.00,2,    1.13,2,   3.518,2,   1.754,2,   0.218,3,    1.02,3,  2162.9,2,  2306.2,2,-999.0000,5,    25.00,-999.000,9,-999.0000,9, -999.00,9,   4.2255,2, -999.00,9,  -999.0,9,  -999.0,-999.000,9,-999.000,   2.410,3, -999.00,9,   44.19,2,   20.40,2,  40.3989, -52.3333,-999.000,-999.0000, -999.00,   4.1349,   4.2255,2,    35.1157,2,  -999.0,9,     -999.0,9,     -999.0,9,     -999.0,9,       1052
33AT20120419,        A20,      67,          1,         18,         18,2,20120509,       0923,    40.4006,   -52.3348,       5231,  1276.6,   4.0903,  34.9423,2,  34.9425,2,    261.1,2,   268.4,2,   10.48,2,   17.10,2,    0.00,2,    1.13,2,   3.746,2,   1.756,2,   0.272,3,    0.85,3,  -999.0,9,  -999.0,9,-999.0000,9,  -999.00,-999.000,9,-999.0000,9, -999.00,9,   4.0912,2, -999.00,9,  -999.0,9,  -999.0,-999.000,9,-999.000,   3.640,3, -999.00,9,   44.61,2,   21.17,2,  40.3990, -52.3334,-999.000,-999.0000, -999.00,   3.9893,   4.0912,2,    35.1072,2,  -999.0,9,     -999.0,9,     -999.0,9,     -999.0,9,       1050
33AT20120419,        A20,      67,          1,         17,         17,2,20120509,       0923,    40.4006,   -52.3348,       5231,  1373.1,   4.0757,  34.9521,2,  34.9523,2,    261.6,2,   265.6,2,   11.04,2,   17.30,2,    0.00,2,    1.15,2,   3.361,2,   1.573,2,   0.216,3,    0.84,3,  2162.1,2,  2307.7,2,-999.0000,5,    25.00,-999.000,9,-999.0000,9, -999.00,9,   4.0758,2,    0.81,2,   -10.0,2,     2.6,-999.000,9,-999.000,   3.300,3, -999.00,9,   44.87,2,   21.80,2,  40.3990, -52.3334,-999.000,-999.0000, -999.00,   3.9662,   4.0758,2,    35.1171,2,  -999.0,9,     -999.0,9,     -999.0,9,     -999.0,9,       1047
33AT20120419,        A20,      67,          1,         16,         16,2,20120509,       0923,    40.4006,   -52.3348,       5231,  1550.2,   3.9788,  34.9686,2,  34.9690,2,    262.4,2,   261.8,2,   12.25,2,   17.71,2,    0.00,2,    1.17,2,   2.500,2,   1.150,2,   0.161,3,    0.21,3,  2160.3,2,  2310.8,2,-999.0000,5,    25.00,-999.000,9,-999.0000,9, -999.00,9,   3.9799,2, -999.00,9,  -999.0,9,  -999.0,-999.000,9,-999.000,   2.380,3, -999.00,9,   44.73,2,   22.25,2,  40.3991, -52.3334,-999.000,-999.0000, -999.00,   3.8542,   3.9799,2,    35.1339,2,  -999.0,9,     -999.0,9,     -999.0,9,     -999.0,9,       1043
33AT20120419,        A20,      67,          1,         15,         15,2,20120509,       0923,    40.4006,   -52.3348,       5231,  1754.0,   3.8079,  34.9602,2,  34.9594,2,    265.0,2,   263.8,2,   12.84,2,   17.70,2,    0.00,2,    1.16,2,   2.095,2,   1.006,2,   0.093,3,    0.00,3,  2159.2,2,  2308.7,2,-999.0000,5,    25.00,-999.000,9,-999.0000,9, -999.00,9,   3.8085,2, -999.00,9,  -999.0,9,  -999.0,-999.000,9,-999.000,   1.510,3, -999.00,9,   44.56,2,   21.80,2,  40.3991, -52.3334,-999.000,-999.0000, -999.00,   3.6666,   3.8085,2,    35.1242,2,  -999.0,9,     -999.0,9,     -999.0,9,     -999.0,9,       1038
33AT20120419,        A20,      67,          1,         14,         14,2,20120509,       0923,    40.4006,   -52.3348,       5231,  1960.0,   3.5781,  34.9434,2,  34.9431,2,    268.1,2,   267.3,2,   13.22,2,   17.50,2,    0.00,2,    1.16,2,   2.174,2,   1.042,2,   0.103,3,    0.00,3,  2158.1,2,  2309.9,2,-999.0000,5,    25.00,-999.000,9,-999.0000,9, -999.00,9,   3.5783,2,    0.93,2,   -34.9,2,     3.1,-999.000,9,-999.000,   1.640,3, -999.00,9,   44.99,2,   20.84,2,  40.3992, -52.3336,-999.000,-999.0000, -999.00,   3.4207,   3.5783,2,    35.1078,2,  -999.0,1,     -999.0,9,     -999.0,9,     -999.0,9,       1034
33AT20120419,        A20,      67,          1,         13,         13,2,20120509,       0923,    40.4006,   -52.3348,       5231,  2191.5,   3.3860,  34.9378,2,  34.9419,4,    269.5,2,   268.6,2,   14.33,2,   17.45,2,    0.00,2,    1.16,2,   1.895,2,   0.930,2,   0.082,3,    0.00,3,  2157.7,2,  2309.2,2,-999.0000,5,    25.00,-999.000,9,-999.0000,9, -999.00,9,   3.3864,2, -999.00,9,  -999.0,9,  -999.0,-999.000,9,-999.000,   1.130,3, -999.00,9,   43.91,2,   21.49,2,  40.3994, -52.3338,-999.000,-999.0000, -999.00,   3.2094,   3.3864,2,    35.1066,4,  -999.0,9,     -999.0,9,     -999.0,9,     -999.0,9,       1029
33AT20120419,        A20,      67,          1,         12,         12,2,20120509,       0923,    40.4006,   -52.3348,       5231,  2446.6,   3.2045,  34.9385,2,  34.9393,2,    267.6,2,   268.0,2,   16.34,2,   17.57,2,    0.00,2,    1.17,2,   1.552,2,   0.753,2,   0.060,3,    0.00,3,  2159.3,2,  2312.4,2,-999.0000,5,    25.00,-999.000,9,-999.0000,9, -999.00,9,   3.2045,2,    1.10,2,   -42.7,2,     2.5,-999.000,9,-999.000,   1.260,3, -999.00,9,   45.28,2,   21.93,2,  40.3995, -52.3339,-999.000,-999.0000, -999.00,   3.0061,   3.2045,2,    35.1041,2,  -999.0,9,     -999.0,9,     -999.0,9,     -999.0,9,       1023
33AT20120419,        A20,      67,          1,         11,         11,2,20120509,       0923,    40.4006,   -52.3348,       5231,  2447.4,   3.2039,  34.9385,2,  34.9383,2,    267.6,2,   267.6,2,   16.33,2,   17.56,2,    0.00,2,    1.18,2,   1.567,2,   0.758,2,   0.063,3,    0.00,3,  -999.0,9,  -999.0,9,-999.0000,9,  -999.00,-999.000,9,-999.0000,9, -999.00,9,   3.2042,2, -999.00,9,  -999.0,9,  -999.0,-999.000,9,-999.000,   1.340,3, -999.00,9,   44.66,2,   21.20,2,  40.3995, -52.3339,-999.000,-999.0000, -999.00,   3.0054,   3.2042,2,    35.1031,2,  -999.0,9,     -999.0,9,     -999.0,9,     -999.0,9,       1023
33AT20120419,        A20,      67,          1,         10,         10,2,20120509,       0923,    40.4006,   -52.3348,       5231,  2698.5,   3.0120,  34.9286,2,  34.9289,2,    269.8,2,   269.9,2,   16.59,2,   17.25,2,    0.00,2,    1.16,2,   1.736,2,   0.823,2,   0.081,3,    0.00,3,  2160.0,2,  2312.2,6,-999.0000,5,    25.00,-999.000,9,-999.0000,9, -999.00,9,   3.0121,2,    0.99,2,   -51.9,2,     2.5,-999.000,9,-999.000,   1.650,3, -999.00,9,   43.58,2,   21.60,2,  40.3997, -52.3341,-999.000,-999.0000, -999.00,   2.7921,   3.0121,2,    35.0936,2,  -999.0,1,     -999.0,9,     -999.0,9,     -999.0,9,       1018
33AT20120419,        A20,      67,          1,          9,          9,2,20120509,       0923,    40.4006,   -52.3348,       5231,  2953.0,   2.8079,  34.9230,2,  34.9224,2,    270.6,2,   270.2,2,   18.46,2,   17.32,2,    0.00,2,    1.17,2,   1.535,2,   0.751,2,   0.076,3,    0.00,3,  -999.0,9,  -999.0,9,-999.0000,9,  -999.00,-999.000,9,-999.0000,9, -999.00,9,   2.8085,2, -999.00,9,  -999.0,9,  -999.0,-999.000,9,-999.000,   1.200,3, -999.00,9,   43.61,2,   21.91,2,  40.3999, -52.3342,-999.000,-999.0000, -999.00,   2.5662,   2.8085,2,    35.0871,2,  -999.0,9,     -999.0,9,     -999.0,9,     -999.0,9,       1012
33AT20120419,        A20,      67,          1,          8,          8,2,20120509,       0923,    40.4006,   -52.3348,       5231,  3244.7,   2.5969,  34.9147,2,  34.9161,2,    269.0,2,   268.9,2,   22.09,2,   17.76,2,    0.00,2,    1.20,2,   1.125,2,   0.544,2,   0.062,3,    0.00,3,  2162.4,2,  2318.7,2,-999.0000,5,    25.00,-999.000,9,-999.0000,9, -999.00,9,   2.5962,2,    1.02,2,   -59.7,2,     2.3,-999.000,9,-999.000,   1.280,3, -999.00,9,   43.62,2,   21.81,2,  40.4001, -52.3344,-999.000,-999.0000, -999.00,   2.3294,   2.5962,2,    35.0807,2,  -999.0,9,     -999.0,9,     -999.0,9,     -999.0,9,       1006
33AT20120419,        A20,      67,          1,          7,          7,2,20120509,       0923,    40.4006,   -52.3348,       5231,  3553.4,   2.4237,  34.9035,2,  34.9049,2,    269.2,2,   269.3,2,   24.40,2,   17.92,2,    0.00,2,    1.21,2,   1.191,2,   0.570,2,   0.064,3,    0.00,3,  -999.0,9,  -999.0,9,-999.0000,9,  -999.00,-999.000,9,-999.0000,9, -999.00,9,   2.4239,2, -999.00,9,  -999.0,9,  -999.0,-999.000,9,-999.000,   1.210,3, -999.00,9,   42.57,2,   21.69,2,  40.4002, -52.3344,-999.000,-999.0000, -999.00,   2.1274,   2.4239,2,    35.0695,2,  -999.0,9,     -999.0,9,     -999.0,9,     -999.0,9,       1000
33AT20120419,        A20,      67,          1,          6,          6,2,20120509,       0923,    40.4006,   -52.3348,       5231,  3860.1,   2.3053,  34.8943,2,  34.8953,2,    268.2,2,   267.7,2,   27.77,2,   18.32,2,    0.00,2,    1.24,2,   1.117,2,   0.521,2,   0.069,3,    0.00,3,  2168.8,2,  2322.8,2,-999.0000,5,    25.00,-999.000,9,-999.0000,9, -999.00,9,   2.3055,2,    1.00,2,   -64.1,2,     2.5,-999.000,9,-999.000,   1.160,3, -999.00,9,   43.71,2,   20.56,2,  40.4003, -52.3346,-999.000,-999.0000, -999.00,   1.9782,   2.3055,2,    35.0599,2,  -999.0,1,     -999.0,9,     -999.0,9,     -999.0,9,       0954
33AT20120419,        A20,      67,          1,          5,          5,2,20120509,       0923,    40.4006,   -52.3348,       5231,  4168.6,   2.2607,  34.8889,2,  34.8890,2,    267.1,2,   267.2,2,   29.44,2,   18.52,2,    0.00,2,    1.25,2,   1.138,2,   0.557,2,   0.071,3,    0.00,3,  -999.0,9,  -999.0,9,-999.0000,9,  -999.00,-999.000,9,-999.0000,9, -999.00,9,   2.2605,2, -999.00,9,  -999.0,9,  -999.0,-999.000,9,-999.000,   1.020,3, -999.00,9,   43.26,2,   20.83,2,  40.4004, -52.3347,-999.000,-999.0000, -999.00,   1.8998,   2.2605,2,    35.0536,2,  -999.0,9,     -999.0,9,     -999.0,9,     -999.0,9,       0947