BOTTLE,20220712CCHSIOCBG
EXPOCODE,SECT_ID,STNNBR,CASTNO,SAMPNO,BTLNBR,BTLNBR_FLAG_W,DATE,TIME,LATITUDE,LONGITUDE,DEPTH,CTDPRS,CTDTMP,CTDSAL,CTDSAL_FLAG_W,SALNTY,SALNTY_FLAG_W,CTDOXY,CTDOXY_FLAG_W,OXYGEN,OXYGEN_FLAG_W,SILCAT,SILCAT_FLAG_W,NITRAT,NITRAT_FLAG_W,NITRIT,NITRIT_FLAG_W,PHSPHT,PHSPHT_FLAG_W,CFC-11,CFC-11_FLAG_W,CFC-12,CFC-12_FLAG_W,CFC113,CFC113_FLAG_W,SF6,SF6_FLAG_W,TCARBN,TCARBN_FLAG_W,ALKALI,ALKALI_FLAG_W,PH_TOT,PH_TOT_FLAG_W,PH_TMP,TRITUM,TRITUM_FLAG_W,HELIUM,HELIUM_FLAG_W,DELHE3,DELHE3_FLAG_W,REFTMP,REFTMP_FLAG_W,DELC13,DELC13_FLAG_W,DELC14,DELC14_FLAG_W,C14ERR,NEON,NEON_FLAG_W,NEONER,CCL4,CCL4_FLAG_W,DELO18,DELO18_FLAG_W,DOC,DOC_FLAG_W,TDN,TDN_FLAG_W,BTL_LAT,BTL_LON,TRITER,HELIER,DELHER,THETA,SBE35,SBE35_FLAG_W,SALTREF,SALTREF_FLAG_W,14C-DOC,14C-DOC_FLAG_W,DELO17,DELO17_FLAG_W,O2/AR,O2/AR_FLAG_W,SIP,SIP_FLAG_W,BTL_TIME
,,,,,,,,,,,METERS,DBAR,ITS-90,PSS-78,,PSS-78,,UMOL/KG,,UMOL/KG,,UMOL/KG,,UMOL/KG,,UMOL/KG,,UMOL/KG,,PMOL/KG,,PMOL/KG,,PMOL/KG,,FMOL/KG,,UMOL/KG,,UMOL/KG,,,,DEG C,TU,,NMOL/KG,,PERCNT,,DEG C,,/MILLE,,/MILLE,,/MILLE,NMOL/KG,,NMOL/KG,PMOL/KG,,/MILLE,,UMOL/KG,,UMOL/KG,,,,TU,NMOL/KG,PERCNT,DEG C,ITS-90,,G/KG,,/MILLE,,/MILLE,,,,,,
33AT20120419,        A20,      64,          1,         36,         36,2,20120508,       1156,    38.6677,   -52.3298,       5361,     5.2,  15.2001,  34.8453,2,  34.8397,2,    259.1,2,   260.7,2,    0.00,2,    0.00,2,    0.02,2,    0.06,2,   2.809,2,   1.737,2,   0.261,2,    1.87,2,  2040.9,6,  2314.0,2,   7.9956,2,    25.00,-999.000,9,-999.0000,9, -999.00,9,  15.1995,2, -999.00,9,  -999.0,9,  -999.0,-999.000,9,-999.000,-999.000,9, -999.00,9, -999.00,9, -999.00,9,  38.6672, -52.3040,-999.000,-999.0000, -999.00,  15.1993,  15.1995,2,    35.0040,2,  -999.0,9,     -999.0,9,     -999.0,9,     -999.0,9,       1408
33AT20120419,        A20,      64,          1,         35,         35,2,20120508,       1156,    38.6677,   -52.3298,       5361,    20.8,  14.2428,  34.7642,2,  34.7817,2,    253.5,2,   256.8,2,    0.31,2,    0.21,2,    0.05,2,    0.11,2,   2.918,2,   1.747,2,   0.266,2,    1.73,2,  2055.0,2,  2313.0,2,   7.9659,6,    25.00,-999.000,9,-999.0000,9, -999.00,9,  14.2333,2, -999.00,9,  -999.0,9,  -999.0,-999.000,9,-999.000,-999.000,9, -999.00,9, -999.00,9, -999.00,9,  38.6672, -52.3043,-999.000,-999.0000, -999.00,  14.2398,  14.2333,2,    34.9457,2,  -999.0,9,     -999.0,9,     -999.0,9,     -999.0,9,       1407
33AT20120419,        A20,      64,          1,         34,         34,2,20120508,       1156,    38.6677,   -52.3298,       5361,    40.1,  13.1378,  34.8947,2,  34.8902,2,    237.3,2,   231.6,2,    1.39,2,    4.20,2,    0.09,2,    0.35,2,   3.046,2,   1.852,2,   0.239,2,    1.84,2,  2091.8,2,  2313.7,2,   7.8976,2,    25.00,-999.000,9,-999.0000,9, -999.00,9,  13.1439,2, -999.00,9,  -999.0,9,  -999.0,-999.000,9,-999.000,-999.000,9, -999.00,9, -999.00,9, -999.00,9,  38.6672, -52.3046,-999.000,-999.0000, -999.00,  13.1323,  13.1439,2,    35.0547,2,  -999.0,9,     -999.0,9,     -999.0,9,     -999.0,9,       1405
33AT20120419,        A20,      64,          1,         33,         33,2,20120508,       1156,    38.6677,   -52.3298,       5361,    65.1,  14.4319,  35.4523,2,  35.4565,2,    222.6,2,   218.4,2,    1.76,2,    5.79,2,    0.09,2,    0.39,2,   2.711,2,   1.633,2,   0.182,2,    1.60,2,  -999.0,9,  -999.0,9,-999.0000,9,  -999.00,-999.000,9,-999.0000,9, -999.00,9,  14.4240,2, -999.00,9,  -999.0,9,  -999.0,-999.000,9,-999.000,-999.000,9, -999.00,9, -999.00,9, -999.00,9,  38.6672, -52.3051,-999.000,-999.0000, -999.00,  14.4223,  14.4240,2,    35.6237,2,  -999.0,9,     -999.0,9,     -999.0,9,     -999.0,9,       1403
33AT20120419,        A20,      64,          1,         32,         32,2,20120508,       1156,    38.6677,   -52.3298,       5361,    92.5,  14.7148,  35.6386,2,  35.6222,2,    207.2,2,   219.2,2,    2.16,2,    6.40,2,    0.03,2,    0.40,2,   2.687,2,   1.634,2,   0.187,2,    1.68,2,  2112.0,2,  2347.6,2,   7.9119,2,    25.00,-999.000,9,-999.0000,9, -999.00,9,  14.6950,2, -999.00,9,  -999.0,9,  -999.0,-999.000,9,-999.000,-999.000,9, -999.00,9, -999.00,9, -999.00,9,  38.6673, -52.3058,-999.000,-999.0000, -999.00,  14.7009,  14.6950,2,    35.7902,2,  -999.0,9,     -999.0,9,     -999.0,9,     -999.0,9,       1400
33AT20120419,        A20,      64,          1,         31,         31,2,20120508,       1156,    38.6677,   -52.3298,       5361,   137.6,  14.9100,  35.7837,2,  35.7667,2,    204.0,2,   210.8,2,    2.53,2,    7.51,2,    0.03,2,    0.46,2,   2.548,2,   1.529,2,   0.164,2,    1.52,2,  2120.2,2,  2352.6,2,   7.9056,2,    25.00,-999.000,9,-999.0000,9, -999.00,9,  14.9086,2, -999.00,9,  -999.0,9,  -999.0,-999.000,9,-999.000,-999.000,9, -999.00,9, -999.00,9, -999.00,9,  38.6673, -52.3063,-999.000,-999.0000, -999.00,  14.8892,  14.9086,2,    35.9354,2,  -999.0,9,     -999.0,9,     -999.0,9,     -999.0,9,       1358
33AT20120419,        A20,      64,          1,         30,         30,2,20120508,       1156,    38.6677,   -52.3298,       5361,   186.2,  14.9404,  35.8655,2,  35.8649,2,    215.9,2,   204.7,2,    2.89,2,    8.32,2,    0.02,2,    0.50,2,   2.485,2,   1.478,2,   0.142,2,    1.48,2,  2126.5,2,  2358.9,2,   7.9000,2,    25.00,-999.000,9,-999.0000,9, -999.00,9,  14.9423,2, -999.00,9,  -999.0,9,  -999.0,-999.000,9,-999.000,-999.000,9, -999.00,9, -999.00,9, -999.00,9,  38.6673, -52.3068,-999.000,-999.0000, -999.00,  14.9121,  14.9423,2,    36.0340,2,  -999.0,9,     -999.0,9,     -999.0,9,     -999.0,9,       1355
33AT20120419,        A20,      64,          1,         29,         29,2,20120508,       1156,    38.6677,   -52.3298,       5361,   235.5,  14.9805,  35.9504,2,  35.9499,2,    193.2,2,   174.8,2,    4.08,2,   11.51,2,    0.02,2,    0.68,2,   2.314,2,   1.344,2,   0.077,2,    1.16,2,  2145.5,2,  2356.4,2,   7.8622,2,    25.00,-999.000,9,-999.0000,9, -999.00,9,  14.9821,2, -999.00,9,  -999.0,9,  -999.0,-999.000,9,-999.000,-999.000,9, -999.00,9, -999.00,9, -999.00,9,  38.6673, -52.3071,-999.000,-999.0000, -999.00,  14.9445,  14.9821,2,    36.1194,2,  -999.0,9,     -999.0,9,     -999.0,9,     -999.0,9,       1353
33AT20120419,        A20,      64,          1,         28,         28,2,20120508,       1156,    38.6677,   -52.3298,       5361,   290.5,  13.4582,  35.7302,2,  35.7324,2,    157.2,2,   152.2,2,    6.89,2,   16.50,2,    0.02,2,    1.00,2,   2.051,2,   1.163,2,   0.046,2,    0.91,2,  2167.5,2,  2346.5,2,   7.7920,6,    25.00,-999.000,9,-999.0000,9, -999.00,9,  13.4534,2, -999.00,9,  -999.0,9,  -999.0,-999.000,9,-999.000,-999.000,9, -999.00,9, -999.00,9, -999.00,9,  38.6673, -52.3072,-999.000,-999.0000, -999.00,  13.4169,  13.4534,2,    35.9009,2,  -999.0,9,     -999.0,9,     -999.0,9,     -999.0,9,       1351
33AT20120419,        A20,      64,          1,         27,         27,2,20120508,       1156,    38.6677,   -52.3298,       5361,   339.1,  11.8804,  35.5090,2,  35.5095,2,    146.7,2,   140.5,2,    9.57,2,   20.36,2,    0.02,2,    1.27,2,   1.759,2,   0.961,2,   0.037,2,    0.78,2,  -999.0,9,  -999.0,9,-999.0000,9,  -999.00,-999.000,9,-999.0000,9, -999.00,9,  11.8786,2, -999.00,9,  -999.0,9,  -999.0,-999.000,9,-999.000,-999.000,9, -999.00,9, -999.00,9, -999.00,9,  38.6673, -52.3074,-999.000,-999.0000, -999.00,  11.8359,  11.8786,2,    35.6770,2,  -999.0,9,     -999.0,9,     -999.0,9,     -999.0,9,       1349
33AT20120419,        A20,      64,          1,         26,         26,2,20120508,       1156,    38.6677,   -52.3298,       5361,   387.8,  10.8302,  35.3724,2,  35.3737,2,    139.3,2,   137.0,2,   11.55,2,   22.52,2,    0.02,2,    1.41,2,   1.531,2,   0.819,2,   0.017,2,    0.65,2,  2189.5,2,  2330.0,6,   7.7042,2,    25.00,-999.000,9,-999.0000,9, -999.00,9,  10.8396,2, -999.00,9,  -999.0,9,  -999.0,-999.000,9,-999.000,-999.000,9, -999.00,9, -999.00,9, -999.00,9,  38.6673, -52.3077,-999.000,-999.0000, -999.00,  10.7822,  10.8396,2,    35.5405,2,  -999.0,9,     -999.0,9,     -999.0,9,     -999.0,9,       1347
33AT20120419,        A20,      64,          1,         25,         25,2,20120508,       1156,    38.6677,   -52.3298,       5361,   469.1,   9.3457,  35.2127,2,  35.2123,2,    139.2,2,   142.0,2,   13.64,2,   24.05,2,    0.00,2,    1.53,2,   1.362,2,   0.721,2,   0.030,2,    0.57,2,  2194.3,2,  2323.8,2,   7.6764,2,    25.00,-999.000,9,-999.0000,9, -999.00,9,   9.3367,2, -999.00,9,  -999.0,9,  -999.0,-999.000,9,-999.000,-999.000,9, -999.00,9, -999.00,9, -999.00,9,  38.6673, -52.3079,-999.000,-999.0000, -999.00,   9.2926,   9.3367,2,    35.3783,2,  -999.0,9,     -999.0,9,     -999.0,9,     -999.0,9,       1345
33AT20120419,        A20,      64,          1,         24,         24,2,20120508,       1156,    38.6677,   -52.3298,       5361,   571.2,   7.8060,  35.1033,2,  35.1032,2,    164.2,2,   164.5,2,   13.92,2,   23.20,2,    0.00,2,    1.50,2,   1.580,2,   0.822,2,   0.060,2,    0.63,2,  2191.4,6,  2317.7,2,   7.6711,2,    25.00,-999.000,9,-999.0000,9, -999.00,9,   7.8051,2, -999.00,9,  -999.0,9,  -999.0,-999.000,9,-999.000,-999.000,9, -999.00,9, -999.00,9, -999.00,9,  38.6673, -52.3082,-999.000,-999.0000, -999.00,   7.7475,   7.8051,2,    35.2687,2,  -999.0,9,     -999.0,9,     -999.0,9,     -999.0,9,       1342
33AT20120419,        A20,      64,          1,         23,         23,2,20120508,       1156,    38.6677,   -52.3298,       5361,   675.5,   6.2777,  35.0407,2,  35.0402,2,    195.8,2,   201.9,2,   12.91,2,   20.81,2,    0.00,2,    1.37,2,   2.080,2,   1.085,2,   0.103,2,    0.76,2,  2183.5,2,  2314.7,2,   7.6853,2,    25.00,-999.000,9,-999.0000,9, -999.00,9,   6.2821,2, -999.00,9,  -999.0,9,  -999.0,-999.000,9,-999.000,-999.000,9, -999.00,9, -999.00,9, -999.00,9,  38.6673, -52.3086,-999.000,-999.0000, -999.00,   6.2158,   6.2821,2,    35.2054,2,  -999.0,9,     -999.0,9,     -999.0,9,     -999.0,9,       1339
33AT20120419,        A20,      64,          1,         22,         22,2,20120508,       1156,    38.6677,   -52.3298,       5361,   771.9,   5.5176,  35.0286,2,  35.0282,2,    215.8,2,   224.8,2,   12.01,2,   19.32,2,    0.00,2,    1.28,2,   2.441,2,   1.294,2,   0.137,2,    0.86,2,  2176.9,2,  2313.8,2,   7.6988,2,    25.00,-999.000,9,-999.0000,9, -999.00,9,   5.5189,2, -999.00,9,  -999.0,9,  -999.0,-999.000,9,-999.000,-999.000,9, -999.00,9, -999.00,9, -999.00,9,  38.6673, -52.3089,-999.000,-999.0000, -999.00,   5.4509,   5.5189,2,    35.1934,2,  -999.0,9,     -999.0,9,     -999.0,9,     -999.0,9,       1336
33AT20120419,        A20,      64,          1,         21,         21,2,20120508,       1156,    38.6677,   -52.3298,       5361,   876.2,   5.1114,  35.0164,2,  35.0170,2,    231.9,2,   236.8,2,   11.59,2,   18.72,2,    0.00,2,    1.25,2,   2.600,2,   1.383,2,   0.159,2,    0.81,2,  2174.4,2,  2313.7,2,   7.7056,6,    25.00,-999.000,9,-999.0000,9, -999.00,9,   5.0938,2, -999.00,9,  -999.0,9,  -999.0,-999.000,9,-999.000,-999.000,9, -999.00,9, -999.00,9, -999.00,9,  38.6673, -52.3094,-999.000,-999.0000, -999.00,   5.0377,   5.0938,2,    35.1821,2,  -999.0,9,     -999.0,9,     -999.0,9,     -999.0,9,       1333
33AT20120419,        A20,      64,          1,         20,         20,2,20120508,       1156,    38.6677,   -52.3298,       5361,   976.5,   4.8494,  35.0065,2,  35.0060,2,    243.2,2,   245.1,2,   11.39,2,   18.37,2,    0.00,2,    1.22,2,   2.668,2,   1.400,2,   0.156,2,    0.84,2,  2171.3,2,  2311.9,2,   7.7095,2,    25.00,-999.000,9,-999.0000,9, -999.00,9,   4.8481,2, -999.00,9,  -999.0,9,  -999.0,-999.000,9,-999.000,-999.000,9, -999.00,9, -999.00,9, -999.00,9,  38.6673, -52.3100,-999.000,-999.0000, -999.00,   4.7685,   4.8481,2,    35.1710,2,  -999.0,9,     -999.0,9,     -999.0,9,     -999.0,9,       1331
33AT20120419,        A20,      64,          1,         19,         19,2,20120508,       1156,    38.6677,   -52.3298,       5361,  1076.5,   4.6771,  34.9989,2,  34.9985,2,    250.2,2,   253.7,3,   11.27,2,   18.14,2,    0.00,2,    1.19,2,   2.738,2,   1.429,2,   0.167,2,    0.79,2,  2169.7,2,  2311.4,2,   7.7127,2,    25.00,-999.000,9,-999.0000,9, -999.00,9,   4.6772,2, -999.00,9,  -999.0,9,  -999.0,-999.000,9,-999.000,-999.000,9, -999.00,9, -999.00,9, -999.00,9,  38.6673, -52.3107,-999.000,-999.0000, -999.00,   4.5886,   4.6772,2,    35.1635,2,  -999.0,9,     -999.0,9,     -999.0,9,     -999.0,9,       1328
33AT20120419,        A20,      64,          1,         18,         18,2,20120508,       1156,    38.6677,   -52.3298,       5361,  1178.5,   4.4918,  34.9921,2,  34.9920,2,    254.2,2,   253.4,2,   11.30,2,   17.97,2,    0.00,2,    1.19,2,   2.712,2,   1.401,2,   0.173,2,    0.84,2,  -999.0,9,  -999.0,9,-999.0000,9,  -999.00,-999.000,9,-999.0000,9, -999.00,9,   4.4919,2, -999.00,9,  -999.0,9,  -999.0,-999.000,9,-999.000,-999.000,9, -999.00,9, -999.00,9, -999.00,9,  38.6673, -52.3114,-999.000,-999.0000, -999.00,   4.3957,   4.4919,2,    35.1570,2,  -999.0,9,     -999.0,9,     -999.0,9,     -999.0,9,       1325
33AT20120419,        A20,      64,          1,         17,         17,2,20120508,       1156,    38.6677,   -52.3298,       5361,  1280.6,   4.3492,  34.9863,2,  34.9855,2,    260.3,2,   256.5,2,   11.48,2,   17.82,2,    0.00,2,    1.19,2,   2.680,2,   1.361,2,   0.161,2,    0.72,2,  2165.9,2,  2312.4,2,   7.7168,2,    25.00,-999.000,9,-999.0000,9, -999.00,9,   4.3499,2, -999.00,9,  -999.0,9,  -999.0,-999.000,9,-999.000,-999.000,9, -999.00,9, -999.00,9, -999.00,9,  38.6673, -52.3121,-999.000,-999.0000, -999.00,   4.2452,   4.3499,2,    35.1505,2,  -999.0,9,     -999.0,9,     -999.0,9,     -999.0,9,       1322
33AT20120419,        A20,      64,          1,         16,         16,2,20120508,       1156,    38.6677,   -52.3298,       5361,  1379.8,   4.2296,  34.9800,2,  34.9794,2,    260.3,2,   258.3,2,   11.67,2,   17.77,2,    0.00,2,    1.18,2,   2.602,2,   1.321,2,   0.156,2,    0.68,2,  2165.7,2,  2310.3,2,-999.0000,5,    25.00,-999.000,9,-999.0000,9, -999.00,9,   4.2293,2, -999.00,9,  -999.0,9,  -999.0,-999.000,9,-999.000,-999.000,9, -999.00,9, -999.00,9, -999.00,9,  38.6673, -52.3130,-999.000,-999.0000, -999.00,   4.1178,   4.2293,2,    35.1443,2,  -999.0,9,     -999.0,9,     -999.0,9,     -999.0,9,       1320
33AT20120419,        A20,      64,          1,         15,         15,2,20120508,       1156,    38.6677,   -52.3298,       5361,  1553.7,   4.0492,  34.9683,2,  34.9682,2,    261.9,2,   260.9,2,   11.96,2,   17.73,2,    0.00,2,    1.18,2,   2.463,2,   1.238,2,   0.142,2,    0.61,2,  2164.6,2,  2311.9,2,   7.7228,2,    25.00,-999.000,9,-999.0000,9, -999.00,9,   4.0475,2, -999.00,9,  -999.0,9,  -999.0,-999.000,9,-999.000,-999.000,9, -999.00,9, -999.00,9, -999.00,9,  38.6673, -52.3140,-999.000,-999.0000, -999.00,   3.9235,   4.0475,2,    35.1331,2,  -999.0,9,     -999.0,9,     -999.0,9,     -999.0,9,       1316
33AT20120419,        A20,      64,          1,         14,         14,2,20120508,       1156,    38.6677,   -52.3298,       5361,  1754.4,   3.8532,  34.9576,2,  34.9580,2,    263.2,2,   264.2,2,   12.35,2,   17.63,2,    0.00,2,    1.18,2,   2.331,2,   1.150,2,   0.134,2,    0.43,2,  -999.0,9,  -999.0,9,-999.0000,9,  -999.00,-999.000,9,-999.0000,9, -999.00,9,   3.8532,2, -999.00,9,  -999.0,9,  -999.0,-999.000,9,-999.000,-999.000,9, -999.00,9, -999.00,9, -999.00,9,  38.6673, -52.3153,-999.000,-999.0000, -999.00,   3.7113,   3.8532,2,    35.1228,2,  -999.0,9,     -999.0,9,     -999.0,9,     -999.0,9,       1311
33AT20120419,        A20,      64,          1,         13,         13,2,20120508,       1156,    38.6677,   -52.3298,       5361,  1954.3,   3.6839,  34.9520,2,  34.9525,2,    263.3,2,   265.8,2,   13.14,2,   17.66,2,    0.00,2,    1.18,2,   2.049,2,   0.994,2,   0.101,2,    0.40,2,  2160.8,2,  2311.1,2,   7.7288,2,    25.00,-999.000,9,-999.0000,9, -999.00,9,   3.6835,2, -999.00,9,  -999.0,9,  -999.0,-999.000,9,-999.000,-999.000,9, -999.00,9, -999.00,9, -999.00,9,  38.6673, -52.3167,-999.000,-999.0000, -999.00,   3.5255,   3.6835,2,    35.1173,2,  -999.0,9,     -999.0,9,     -999.0,9,     -999.0,9,       1307
33AT20120419,        A20,      64,          1,         12,         12,2,20120508,       1156,    38.6677,   -52.3298,       5361,  2191.8,   3.5235,  34.9479,2,  34.9490,2,    264.8,2,   266.1,2,   14.19,2,   17.70,2,    0.00,2,    1.18,2,   1.754,2,   0.841,2,   0.074,2,    0.34,2,  2161.0,2,  2310.6,2,   7.7316,2,    25.00,-999.000,9,-999.0000,9, -999.00,9,   3.5235,2, -999.00,9,  -999.0,9,  -999.0,-999.000,9,-999.000,-999.000,9, -999.00,9, -999.00,9, -999.00,9,  38.6673, -52.3177,-999.000,-999.0000, -999.00,   3.3446,   3.5235,2,    35.1137,2,  -999.0,9,     -999.0,9,     -999.0,9,     -999.0,9,       1302
33AT20120419,        A20,      64,          1,         11,         11,2,20120508,       1156,    38.6677,   -52.3298,       5361,  2446.4,   3.3614,  34.9461,2,  34.9460,2,    264.6,2,   266.0,2,   15.76,2,   17.75,2,    0.00,2,    1.18,2,   1.493,2,   0.714,2,   0.055,2,    0.31,2,  2162.3,2,  2314.2,2,   7.7345,2,    25.00,-999.000,9,-999.0000,9, -999.00,9,   3.3619,2, -999.00,9,  -999.0,9,  -999.0,-999.000,9,-999.000,-999.000,9, -999.00,9, -999.00,9, -999.00,9,  38.6673, -52.3193,-999.000,-999.0000, -999.00,   3.1602,   3.3619,2,    35.1108,2,  -999.0,9,     -999.0,9,     -999.0,9,     -999.0,9,       1257
33AT20120419,        A20,      64,          1,         10,         10,2,20120508,       1156,    38.6677,   -52.3298,       5361,  2702.3,   3.1898,  34.9405,2,  34.9409,2,    264.9,2,   266.1,2,   17.10,2,   17.74,2,    0.00,2,    1.18,2,   1.393,2,   0.662,2,   0.053,2,    0.30,2,  -999.0,9,  -999.0,9,-999.0000,9,  -999.00,-999.000,9,-999.0000,9, -999.00,9,   3.1903,2, -999.00,9,  -999.0,9,  -999.0,-999.000,9,-999.000,-999.000,9, -999.00,9, -999.00,9, -999.00,9,  38.6673, -52.3207,-999.000,-999.0000, -999.00,   2.9659,   3.1903,2,    35.1057,2,  -999.0,9,     -999.0,9,     -999.0,9,     -999.0,9,       1252
33AT20120419,        A20,      64,          1,          9,          9,2,20120508,       1156,    38.6677,   -52.3298,       5361,  2955.8,   3.0304,  34.9360,2,  34.9368,2,    265.8,2,   265.7,2,   18.89,2,   17.84,2,    0.00,2,    1.20,2,   1.210,2,   0.567,2,   0.049,2,    0.28,2,  2162.7,2,  2317.7,2,-999.0000,5,    25.00,-999.000,9,-999.0000,9, -999.00,9,   3.0299,2, -999.00,9,  -999.0,9,  -999.0,-999.000,9,-999.000,-999.000,9, -999.00,9, -999.00,9, -999.00,9,  38.6673, -52.3216,-999.000,-999.0000, -999.00,   2.7836,   3.0299,2,    35.1015,2,  -999.0,9,     -999.0,9,     -999.0,9,     -999.0,9,       1247
33AT20120419,        A20,      64,          1,          8,          8,2,20120508,       1156,    38.6677,   -52.3298,       5361,  3243.9,   2.7963,  34.9226,2,  34.9228,2,    270.1,2,   269.3,2,   19.31,2,   17.51,2,    0.00,2,    1.18,2,   1.435,2,   0.688,2,   0.065,2,    0.37,2,  -999.0,9,  -999.0,9,-999.0000,9,  -999.00,-999.000,9,-999.0000,9, -999.00,9,   2.7983,2, -999.00,9,  -999.0,9,  -999.0,-999.000,9,-999.000,-999.000,9, -999.00,9, -999.00,9, -999.00,9,  38.6673, -52.3231,-999.000,-999.0000, -999.00,   2.5243,   2.7983,2,    35.0875,2,  -999.0,9,     -999.0,9,     -999.0,9,     -999.0,9,       1241
33AT20120419,        A20,      64,          1,          7,          7,2,20120508,       1156,    38.6677,   -52.3298,       5361,  3498.4,   2.6023,  34.9141,2,  34.9139,2,    268.4,2,   268.1,2,   22.65,2,   17.89,2,    0.00,2,    1.21,2,-999.000,9,-999.000,9,-999.000,9, -999.00,9,  2165.6,2,  2320.7,6,-999.0000,5,    25.00,-999.000,9,-999.0000,9, -999.00,9,   2.6016,2, -999.00,9,  -999.0,9,  -999.0,-999.000,9,-999.000,-999.000,9, -999.00,9, -999.00,9, -999.00,9,  38.6675, -52.3248,-999.000,-999.0000, -999.00,   2.3074,   2.6016,2,    35.0786,2,  -999.0,9,     -999.0,9,     -999.0,9,     -999.0,9,       1236