BOTTLE,20220712CCHSIOCBG
EXPOCODE,SECT_ID,STNNBR,CASTNO,SAMPNO,BTLNBR,BTLNBR_FLAG_W,DATE,TIME,LATITUDE,LONGITUDE,DEPTH,CTDPRS,CTDTMP,CTDSAL,CTDSAL_FLAG_W,SALNTY,SALNTY_FLAG_W,CTDOXY,CTDOXY_FLAG_W,OXYGEN,OXYGEN_FLAG_W,SILCAT,SILCAT_FLAG_W,NITRAT,NITRAT_FLAG_W,NITRIT,NITRIT_FLAG_W,PHSPHT,PHSPHT_FLAG_W,CFC-11,CFC-11_FLAG_W,CFC-12,CFC-12_FLAG_W,CFC113,CFC113_FLAG_W,SF6,SF6_FLAG_W,TCARBN,TCARBN_FLAG_W,ALKALI,ALKALI_FLAG_W,PH_TOT,PH_TOT_FLAG_W,PH_TMP,TRITUM,TRITUM_FLAG_W,HELIUM,HELIUM_FLAG_W,DELHE3,DELHE3_FLAG_W,REFTMP,REFTMP_FLAG_W,DELC13,DELC13_FLAG_W,DELC14,DELC14_FLAG_W,C14ERR,NEON,NEON_FLAG_W,NEONER,CCL4,CCL4_FLAG_W,DELO18,DELO18_FLAG_W,DOC,DOC_FLAG_W,TDN,TDN_FLAG_W,BTL_LAT,BTL_LON,TRITER,HELIER,DELHER,THETA,SBE35,SBE35_FLAG_W,SALTREF,SALTREF_FLAG_W,14C-DOC,14C-DOC_FLAG_W,DELO17,DELO17_FLAG_W,O2/AR,O2/AR_FLAG_W,SIP,SIP_FLAG_W,BTL_TIME
,,,,,,,,,,,METERS,DBAR,ITS-90,PSS-78,,PSS-78,,UMOL/KG,,UMOL/KG,,UMOL/KG,,UMOL/KG,,UMOL/KG,,UMOL/KG,,PMOL/KG,,PMOL/KG,,PMOL/KG,,FMOL/KG,,UMOL/KG,,UMOL/KG,,,,DEG C,TU,,NMOL/KG,,PERCNT,,DEG C,,/MILLE,,/MILLE,,/MILLE,NMOL/KG,,NMOL/KG,PMOL/KG,,/MILLE,,UMOL/KG,,UMOL/KG,,,,TU,NMOL/KG,PERCNT,DEG C,ITS-90,,G/KG,,/MILLE,,/MILLE,,,,,,
33AT20120419,        A20,      10,          1,         24,         24,2,20120422,       0909,     7.7827,   -53.0705,       1197,     3.3,  27.8409,  27.2237,2,  27.2322,2,    232.0,2,   232.3,2,   16.36,2,    0.00,2,    0.00,2,    0.01,2,   1.668,2,   1.106,2,   0.148,2,    1.02,2,  1571.1,6,  1875.8,2,   8.2295,2,    25.00,   0.660,2,   1.7824,2,   -1.65,2,  27.8412,2, -999.00,9,  -999.0,9,  -999.0,   7.004,2,   0.032,-999.000,9, -999.00,1, -999.00,9, -999.00,9,   7.7841, -53.0697,   0.011,   0.0075,    0.15,  27.8401,  27.8412,2,    27.3606,2,  -999.0,9,     -999.0,1,     -999.0,1,     -999.0,9,       1001
33AT20120419,        A20,      10,          1,         23,         23,2,20120422,       0909,     7.7827,   -53.0705,       1197,    21.0,  27.0540,  36.0384,2,  36.0384,2,    196.1,2,   196.8,2,    0.76,2,    0.00,2,    0.00,2,    0.02,2,-999.000,9,-999.000,9,-999.000,9, -999.00,9,  -999.0,9,  -999.0,9,-999.0000,9,  -999.00,-999.000,9,-999.0000,9, -999.00,9,  27.0534,2, -999.00,9,  -999.0,9,  -999.0,-999.000,9,-999.000,-999.000,9, -999.00,9, -999.00,9, -999.00,9,   7.7841, -53.0697,-999.000,-999.0000, -999.00,  27.0492,  27.0534,2,    36.2084,2,  -999.0,9,     -999.0,9,     -999.0,9,     -999.0,9,       0959
33AT20120419,        A20,      10,          1,         22,         22,2,20120422,       0909,     7.7827,   -53.0705,       1197,    40.6,  26.9975,  36.0752,2,  36.0807,2,    195.4,2,   197.5,2,    0.80,2,    0.00,2,    0.00,2,    0.01,2,   1.623,2,   1.040,2,   0.137,2,    0.99,2,  2021.8,2,  2364.6,2,   8.0919,2,    25.00,-999.000,9,-999.0000,9, -999.00,9,  26.9828,2, -999.00,9,  -999.0,9,  -999.0,-999.000,9,-999.000,-999.000,9, -999.00,9, -999.00,9, -999.00,9,   7.7841, -53.0697,-999.000,-999.0000, -999.00,  26.9882,  26.9828,2,    36.2509,2,  -999.0,9,     -999.0,9,     -999.0,9,     -999.0,9,       0957
33AT20120419,        A20,      10,          1,         21,         21,2,20120422,       0909,     7.7827,   -53.0705,       1197,    65.3,  26.1917,  36.1879,2,  36.1907,2,    200.0,2,   201.5,2,    0.42,2,    0.00,2,    0.00,2,    0.01,2,-999.000,9,-999.000,9,-999.000,9, -999.00,9,  -999.0,9,  -999.0,9,-999.0000,9,  -999.00,-999.000,9,-999.0000,9, -999.00,9,  26.1914,2, -999.00,9,  -999.0,9,  -999.0,-999.000,9,-999.000,-999.000,9, -999.00,9, -999.00,9, -999.00,9,   7.7840, -53.0697,-999.000,-999.0000, -999.00,  26.1770,  26.1914,2,    36.3614,2,  -999.0,9,     -999.0,9,     -999.0,9,     -999.0,9,       0955
33AT20120419,        A20,      10,          1,         20,         20,2,20120422,       0909,     7.7827,   -53.0705,       1197,    90.5,  25.7330,  36.2176,2,  36.2228,2,    195.5,2,   194.4,2,    0.61,2,    0.03,2,    0.15,2,    0.03,2,   1.684,2,   1.076,2,   0.134,2,    1.00,2,  2043.5,2,  2371.8,2,   8.0689,6,    25.00,   0.402,2,   1.7229,2,   -1.62,2,  25.7321,2, -999.00,9,  -999.0,9,  -999.0,   6.777,2,   0.031,-999.000,9, -999.00,9, -999.00,9, -999.00,9,   7.7840, -53.0697,   0.010,   0.0072,    0.15,  25.7129,  25.7321,2,    36.3936,2,  -999.0,9,     -999.0,9,     -999.0,9,     -999.0,9,       0953
33AT20120419,        A20,      10,          1,         19,         19,2,20120422,       0909,     7.7827,   -53.0705,       1197,   115.3,  20.8571,  36.4612,2,  36.4416,2,    134.5,2,   125.9,2,    2.65,2,    9.47,2,    0.08,2,    0.56,2,   1.942,2,   1.185,2,   0.084,2,    0.82,2,  -999.0,9,  -999.0,9,-999.0000,9,  -999.00,-999.000,9,-999.0000,9, -999.00,9,  20.7983,2, -999.00,9,  -999.0,9,  -999.0,-999.000,9,-999.000,-999.000,9, -999.00,9, -999.00,9, -999.00,9,   7.7840, -53.0698,-999.000,-999.0000, -999.00,  20.8350,  20.7983,2,    36.6134,2,  -999.0,9,     -999.0,9,     -999.0,9,     -999.0,9,       0950
33AT20120419,        A20,      10,          1,         18,         18,2,20120422,       0909,     7.7827,   -53.0705,       1197,   138.5,  17.3045,  36.1390,2,  36.1183,2,    122.6,2,   121.6,2,    4.59,2,   14.86,2,    0.02,2,    0.90,2,   2.089,2,   1.240,2,   0.018,2,    0.74,2,  2179.5,2,  2364.0,2,   7.8018,2,    25.00,   0.382,2,   1.7470,2,    0.44,2,  17.3302,2, -999.00,9,  -999.0,9,  -999.0,   7.151,2,   0.033,-999.000,9, -999.00,9, -999.00,9, -999.00,9,   7.7840, -53.0698,   0.010,   0.0073,    0.15,  17.2812,  17.3302,2,    36.2886,2,  -999.0,9,     -999.0,9,     -999.0,9,     -999.0,9,       0949
33AT20120419,        A20,      10,          1,         17,         17,2,20120422,       0909,     7.7827,   -53.0705,       1197,   166.2,  13.7146,  35.5044,2,  35.5103,2,    134.0,2,   133.4,2,    7.11,2,   18.56,2,    0.02,2,    1.21,2,   2.154,2,   1.233,2,   0.026,2,    0.65,2,  -999.0,9,  -999.0,9,-999.0000,9,  -999.00,-999.000,9,-999.0000,9, -999.00,9,  13.7406,2, -999.00,9,  -999.0,9,  -999.0,-999.000,9,-999.000,-999.000,9, -999.00,9, -999.00,9, -999.00,9,   7.7839, -53.0698,-999.000,-999.0000, -999.00,  13.6908,  13.7406,2,    35.6778,2,  -999.0,9,     -999.0,9,     -999.0,9,     -999.0,9,       0947
33AT20120419,        A20,      10,          1,         16,         16,2,20120422,       0909,     7.7827,   -53.0705,       1197,   191.0,  11.3371,  35.1283,2,  35.1228,2,    134.3,2,   135.4,2,    9.77,2,   22.41,2,    0.01,2,    1.47,2,-999.000,9,-999.000,9,-999.000,9, -999.00,9,  2182.3,2,  2315.1,2,   7.6880,6,    25.00,-999.000,9,-999.0000,9, -999.00,9,  11.3306,2, -999.00,9,  -999.0,9,  -999.0,-999.000,9,-999.000,-999.000,9, -999.00,9, -999.00,9, -999.00,9,   7.7839, -53.0698,-999.000,-999.0000, -999.00,  11.3131,  11.3306,2,    35.2885,2,  -999.0,9,     -999.0,9,     -999.0,9,     -999.0,9,       0945
33AT20120419,        A20,      10,          1,         15,         15,2,20120422,       0909,     7.7827,   -53.0705,       1197,   215.9,  10.5217,  35.0044,2,  35.0022,2,    137.3,2,   138.6,2,   10.72,2,   23.54,2,    0.01,2,    1.56,2,   2.091,2,   1.161,2,   0.036,2,    0.51,2,  -999.0,9,  -999.0,9,-999.0000,9,  -999.00,-999.000,9,-999.0000,9, -999.00,9,  10.5219,2, -999.00,9,  -999.0,9,  -999.0,-999.000,9,-999.000,-999.000,9, -999.00,9, -999.00,9, -999.00,9,   7.7838, -53.0699,-999.000,-999.0000, -999.00,  10.4958,  10.5219,2,    35.1672,2,  -999.0,9,     -999.0,9,     -999.0,9,     -999.0,9,       0944
33AT20120419,        A20,      10,          1,         14,         14,2,20120422,       0909,     7.7827,   -53.0705,       1197,   241.3,  10.1632,  34.9614,2,  34.9581,2,    128.1,2,   126.8,2,   11.70,2,   25.56,2,    0.01,2,    1.68,2,   1.883,2,   1.026,2,   0.033,2,    0.44,2,  2192.3,2,  2307.4,2,   7.6411,2,    25.00,-999.000,9,   1.8319,2,    1.55,2,  10.1634,2, -999.00,9,  -999.0,9,  -999.0,   7.794,2,   0.036,-999.000,9, -999.00,9, -999.00,9, -999.00,9,   7.7837, -53.0699,-999.000,   0.0077,    0.15,  10.1349,  10.1634,2,    35.1229,2,  -999.0,9,     -999.0,9,     -999.0,9,     -999.0,9,       0942
33AT20120419,        A20,      10,          1,         13,         13,2,20120422,       0909,     7.7827,   -53.0705,       1197,   286.9,   9.5529,  34.8959,2,  34.8943,2,    124.1,2,   123.2,2,   13.09,2,   27.26,2,    0.01,2,    1.79,2,   1.695,2,   0.906,2,   0.026,2,    0.38,2,  -999.0,9,  -999.0,9,-999.0000,9,  -999.00,-999.000,9,-999.0000,9, -999.00,9,   9.5527,2, -999.00,9,  -999.0,9,  -999.0,-999.000,9,-999.000,-999.000,9, -999.00,9, -999.00,9, -999.00,9,   7.7836, -53.0699,-999.000,-999.0000, -999.00,   9.5204,   9.5527,2,    35.0589,2,  -999.0,9,     -999.0,9,     -999.0,9,     -999.0,9,       0940
33AT20120419,        A20,      10,          1,         12,         12,2,20120422,       0909,     7.7827,   -53.0705,       1197,   337.0,   8.8179,  34.8177,2,  34.8165,2,    111.8,2,   110.3,2,   15.03,2,   30.28,2,    0.01,2,    1.95,2,-999.000,9,-999.000,9,-999.000,9, -999.00,9,  2212.0,2,  2302.2,2,   7.5753,2,    25.00,-999.000,9,-999.0000,9, -999.00,9,   8.8176,2, -999.00,9,  -999.0,9,  -999.0,-999.000,9,-999.000,-999.000,9, -999.00,9, -999.00,9, -999.00,9,   7.7836, -53.0700,-999.000,-999.0000, -999.00,   8.7815,   8.8176,2,    34.9806,2,  -999.0,9,     -999.0,9,     -999.0,9,     -999.0,9,       0938
33AT20120419,        A20,      10,          1,         11,         11,2,20120422,       0909,     7.7827,   -53.0705,       1197,   386.4,   8.3888,  34.7737,2,  34.7714,2,    107.9,2,   108.0,2,   16.50,2,   31.38,2,    0.00,2,    2.02,2,   1.190,2,   0.629,2,   0.018,2,    0.20,2,  -999.0,9,  -999.0,9,-999.0000,9,  -999.00,   0.093,6,   1.8248,2,    1.43,2,   8.3890,2, -999.00,9,  -999.0,9,  -999.0,   7.767,2,   0.036,-999.000,9, -999.00,9, -999.00,9, -999.00,9,   7.7835, -53.0700,   0.010,   0.0077,    0.15,   8.3482,   8.3890,2,    34.9354,2,  -999.0,9,     -999.0,9,     -999.0,9,     -999.0,9,       0935
33AT20120419,        A20,      10,          1,         10,         10,2,20120422,       0909,     7.7827,   -53.0705,       1197,   437.8,   7.8303,  34.7112,2,  34.7121,2,    120.2,2,   121.2,2,   17.51,2,   31.12,2,    0.00,2,    2.02,2,   1.225,2,   0.644,2,   0.025,2,    0.26,2,  2209.4,2,  2299.2,2,   7.5706,6,    25.00,-999.000,9,-999.0000,9, -999.00,9,   7.8290,2, -999.00,9,  -999.0,9,  -999.0,-999.000,9,-999.000,-999.000,9, -999.00,9, -999.00,9, -999.00,9,   7.7835, -53.0700,-999.000,-999.0000, -999.00,   7.7860,   7.8290,2,    34.8758,2,  -999.0,9,     -999.0,9,     -999.0,9,     -999.0,9,       0933
33AT20120419,        A20,      10,          1,          9,          9,2,20120422,       0909,     7.7827,   -53.0705,       1197,   487.9,   7.6049,  34.7128,2,  34.7131,2,    119.9,2,   121.1,2,   18.51,2,   31.61,2,    0.00,2,    2.05,2,   1.081,2,   0.554,2,   0.024,2,    0.20,2,  -999.0,9,  -999.0,9,-999.0000,9,  -999.00,   0.088,2,   1.8069,2,    2.54,2,   7.6036,2, -999.00,9,  -999.0,9,  -999.0,   7.752,2,   0.036,-999.000,9, -999.00,9, -999.00,9, -999.00,9,   7.7833, -53.0701,   0.010,   0.0076,    0.15,   7.5562,   7.6036,2,    34.8767,2,  -999.0,9,     -999.0,9,     -999.0,9,     -999.0,9,       0931
33AT20120419,        A20,      10,          1,          8,          8,2,20120422,       0909,     7.7827,   -53.0705,       1197,   569.1,   6.6747,  34.6247,2,  34.6282,2,    128.9,2,   130.7,2,   21.40,2,   32.48,2,    0.00,2,    2.14,2,-999.000,9,-999.000,9,-999.000,9, -999.00,9,  2212.9,2,  2299.4,2,   7.5606,2,    25.00,-999.000,9,-999.0000,9, -999.00,9,   6.6766,2, -999.00,9,  -999.0,9,  -999.0,-999.000,9,-999.000,-999.000,9, -999.00,9, -999.00,9, -999.00,9,   7.7832, -53.0702,-999.000,-999.0000, -999.00,   6.6217,   6.6766,2,    34.7914,2,  -999.0,9,     -999.0,9,     -999.0,9,     -999.0,9,       0929
33AT20120419,        A20,      10,          1,          7,          7,2,20120422,       0909,     7.7827,   -53.0705,       1197,   669.2,   5.8464,  34.5813,2,  34.5840,2,    136.2,2,   135.8,2,   25.05,2,   33.51,2,    0.00,2,    2.24,2,   0.596,2,   0.293,2,   0.016,2,    0.12,2,  -999.0,9,  -999.0,9,-999.0000,9,  -999.00,-999.000,9,-999.0000,9, -999.00,9,   5.8455,2, -999.00,9,  -999.0,9,  -999.0,-999.000,9,-999.000,-999.000,9, -999.00,9, -999.00,9, -999.00,9,   7.7831, -53.0702,-999.000,-999.0000, -999.00,   5.7878,   5.8455,2,    34.7470,2,  -999.0,9,     -999.0,9,     -999.0,9,     -999.0,9,       0926
33AT20120419,        A20,      10,          1,          6,          6,2,20120422,       0909,     7.7827,   -53.0705,       1197,   770.2,   5.4990,  34.5924,2,  34.5912,2,    135.8,2,   137.5,2,   26.69,2,   33.75,2,    0.00,2,    2.25,2,   0.411,2,   0.195,2,   0.014,2,    0.10,2,  2219.3,2,  2302.2,6,   7.5532,6,    25.00,-999.000,9,-999.0000,9, -999.00,9,   5.4987,2, -999.00,9,  -999.0,9,  -999.0,-999.000,9,-999.000,-999.000,9, -999.00,9, -999.00,9, -999.00,9,   7.7830, -53.0703,-999.000,-999.0000, -999.00,   5.4331,   5.4987,2,    34.7543,2,  -999.0,9,     -999.0,9,     -999.0,9,     -999.0,9,       0923
33AT20120419,        A20,      10,          1,          5,          5,2,20120422,       0909,     7.7827,   -53.0705,       1197,   871.4,   5.0366,  34.6228,2,  34.6223,2,    141.2,2,   143.2,2,   28.44,2,   33.35,2,    0.00,2,    2.25,2,   0.198,2,   0.087,2,   0.004,2,    0.10,2,  -999.0,9,  -999.0,9,-999.0000,9,  -999.00,   0.020,2,   1.8424,2,    1.80,2,   5.0369,2, -999.00,9,  -999.0,9,  -999.0,   7.833,2,   0.036,-999.000,9, -999.00,9, -999.00,9, -999.00,9,   7.7829, -53.0703,   0.010,   0.0077,    0.15,   4.9644,   5.0369,2,    34.7855,2,  -999.0,9,     -999.0,9,     -999.0,9,     -999.0,9,       0920
33AT20120419,        A20,      10,          1,          4,          4,2,20120422,       0909,     7.7827,   -53.0705,       1197,   972.3,   5.1284,  34.7401,2,  34.7406,2,    148.6,2,   149.2,2,   26.67,2,   31.40,2,    0.00,2,    2.12,2,-999.000,9,-999.000,9,-999.000,9, -999.00,9,  2215.5,2,  2310.8,2,   7.5834,2,    25.00,-999.000,9,-999.0000,9, -999.00,9,   5.1280,2, -999.00,9,  -999.0,9,  -999.0,-999.000,9,-999.000,-999.000,9, -999.00,9, -999.00,9, -999.00,9,   7.7828, -53.0704,-999.000,-999.0000, -999.00,   5.0463,   5.1280,2,    34.9044,2,  -999.0,9,     -999.0,9,     -999.0,9,     -999.0,9,       0917
33AT20120419,        A20,      10,          1,          3,          3,2,20120422,       0909,     7.7827,   -53.0705,       1197,  1073.0,   5.0578,  34.8560,2,  34.8568,2,    170.2,2,   171.4,2,   23.47,2,   27.80,2,    0.00,2,    1.87,2,   0.234,2,   0.108,2,   0.008,2,    0.07,2,  -999.0,9,  -999.0,9,-999.0000,9,  -999.00,-999.000,9,-999.0000,9, -999.00,9,   5.0579,2, -999.00,9,  -999.0,9,  -999.0,-999.000,9,-999.000,-999.000,9, -999.00,9, -999.00,9, -999.00,9,   7.7827, -53.0705,-999.000,-999.0000, -999.00,   4.9668,   5.0579,2,    35.0211,2,  -999.0,9,     -999.0,9,     -999.0,9,     -999.0,9,       0914
33AT20120419,        A20,      10,          1,          2,          2,2,20120422,       0909,     7.7827,   -53.0705,       1197,  1173.8,   5.0468,  34.9657,2,  34.9660,2,    202.1,2,   200.7,2,   19.08,2,   23.47,2,    0.00,2,    1.58,2,   0.644,2,   0.303,2,   0.024,2,    0.17,2,  -999.0,9,  -999.0,9,-999.0000,9,  -999.00,-999.000,9,-999.0000,9, -999.00,9,   5.0454,2, -999.00,9,  -999.0,9,  -999.0,-999.000,9,-999.000,-999.000,9, -999.00,9, -999.00,9, -999.00,9,   7.7827, -53.0705,-999.000,-999.0000, -999.00,   4.9462,   5.0454,2,    35.1308,2,  -999.0,9,     -999.0,9,     -999.0,9,     -999.0,9,       0911
33AT20120419,        A20,      10,          1,          1,          1,2,20120422,       0909,     7.7827,   -53.0705,       1197,  1193.4,   4.9936,  34.9682,2,  34.9683,2,    201.2,2,   202.3,2,   19.51,2,   23.20,2,    0.00,2,    1.57,2,   0.662,2,   0.322,2,   0.035,2,    0.24,2,  2188.0,6,  2317.4,2,   7.6787,2,    25.00,   0.149,2,   1.8448,2,    4.79,2,   4.9945,2, -999.00,9,  -999.0,9,  -999.0,   8.005,2,   0.037,-999.000,9, -999.00,9, -999.00,9, -999.00,9,   7.7826, -53.0705,   0.010,   0.0077,    0.15,   4.8917,   4.9945,2,    35.1332,2,  -999.0,9,     -999.0,9,     -999.0,9,     -999.0,9,       0909