BOTTLE,20220712CCHSIOCBG
EXPOCODE,SECT_ID,STNNBR,CASTNO,SAMPNO,BTLNBR,BTLNBR_FLAG_W,DATE,TIME,LATITUDE,LONGITUDE,DEPTH,CTDPRS,CTDTMP,CTDSAL,CTDSAL_FLAG_W,SALNTY,SALNTY_FLAG_W,CTDOXY,CTDOXY_FLAG_W,OXYGEN,OXYGEN_FLAG_W,SILCAT,SILCAT_FLAG_W,NITRAT,NITRAT_FLAG_W,NITRIT,NITRIT_FLAG_W,PHSPHT,PHSPHT_FLAG_W,CFC-11,CFC-11_FLAG_W,CFC-12,CFC-12_FLAG_W,CFC113,CFC113_FLAG_W,SF6,SF6_FLAG_W,TCARBN,TCARBN_FLAG_W,ALKALI,ALKALI_FLAG_W,PH_TOT,PH_TOT_FLAG_W,PH_TMP,TRITUM,TRITUM_FLAG_W,HELIUM,HELIUM_FLAG_W,DELHE3,DELHE3_FLAG_W,REFTMP,REFTMP_FLAG_W,DELC13,DELC13_FLAG_W,DELC14,DELC14_FLAG_W,C14ERR,NEON,NEON_FLAG_W,NEONER,CCL4,CCL4_FLAG_W,DELO18,DELO18_FLAG_W,DOC,DOC_FLAG_W,TDN,TDN_FLAG_W,BTL_LAT,BTL_LON,TRITER,HELIER,DELHER,THETA,SBE35,SBE35_FLAG_W,SALTREF,SALTREF_FLAG_W,14C-DOC,14C-DOC_FLAG_W,DELO17,DELO17_FLAG_W,O2/AR,O2/AR_FLAG_W,SIP,SIP_FLAG_W,BTL_TIME
,,,,,,,,,,,METERS,DBAR,ITS-90,PSS-78,,PSS-78,,UMOL/KG,,UMOL/KG,,UMOL/KG,,UMOL/KG,,UMOL/KG,,UMOL/KG,,PMOL/KG,,PMOL/KG,,PMOL/KG,,FMOL/KG,,UMOL/KG,,UMOL/KG,,,,DEG C,TU,,NMOL/KG,,PERCNT,,DEG C,,/MILLE,,/MILLE,,/MILLE,NMOL/KG,,NMOL/KG,PMOL/KG,,/MILLE,,UMOL/KG,,UMOL/KG,,,,TU,NMOL/KG,PERCNT,DEG C,ITS-90,,G/KG,,/MILLE,,/MILLE,,,,,,
33AT20120419,        A20,      29,          1,         36,         36,2,20120426,       2322,    14.0735,   -52.3325,       5146,     3.6,  26.7073,  36.2946,2,  36.2951,2,    203.8,2,   204.0,2,    0.58,2,    0.00,2,    0.00,2,    0.00,2,   1.573,2,   1.000,2,   0.115,2,    1.06,3,  2031.5,6,  2379.7,2,   8.0946,2,    25.00,-999.000,9,-999.0000,9, -999.00,9,  26.7069,2, -999.00,9,  -999.0,9,  -999.0,-999.000,9,-999.000,   1.040,2, -999.00,9,   82.71,2,    4.34,2,  14.0804, -52.3344,-999.000,-999.0000, -999.00,  26.7065,  26.7069,2,    36.4662,2,  -999.0,9,     -999.0,9,     -999.0,9,     -999.0,9,       0132
33AT20120419,        A20,      29,          1,         35,         35,2,20120426,       2322,    14.0735,   -52.3325,       5146,    25.8,  26.6994,  36.2942,2,  36.2945,2,    204.5,2,   203.9,2,    0.60,2,    0.00,2,    0.00,2,    0.00,2,   1.565,2,   0.992,2,   0.111,2,    1.02,3,  2034.5,2,  2380.5,2,   8.0941,2,    25.00,-999.000,9,-999.0000,9, -999.00,9,  26.7025,2, -999.00,9,  -999.0,9,  -999.0,-999.000,9,-999.000,   1.020,2, -999.00,9,   81.57,2,    4.46,2,  14.0802, -52.3344,-999.000,-999.0000, -999.00,  26.6935,  26.7025,2,    36.4656,2,  -999.0,9,     -999.0,9,     -999.0,9,     -999.0,9,       0130
33AT20120419,        A20,      29,          1,         34,         34,2,20120426,       2322,    14.0735,   -52.3325,       5146,    50.5,  26.6368,  36.2869,2,  36.2875,2,    204.9,2,   204.1,2,    0.71,2,    0.00,2,    0.00,2,    0.00,2,   1.567,2,   0.994,2,   0.117,2,    1.28,3,  2032.3,2,  2379.4,2,   8.0935,6,    25.00,-999.000,9,-999.0000,9, -999.00,9,  26.6368,2, -999.00,9,  -999.0,9,  -999.0,-999.000,9,-999.000,   1.010,2, -999.00,9,   73.33,2,    4.16,2,  14.0800, -52.3343,-999.000,-999.0000, -999.00,  26.6253,  26.6368,2,    36.4587,2,  -999.0,9,     -999.0,9,     -999.0,9,     -999.0,9,       0128
33AT20120419,        A20,      29,          1,         33,         33,2,20120426,       2322,    14.0735,   -52.3325,       5146,    76.5,  26.4466,  36.2930,2,  36.2941,2,    204.1,2,   202.3,2,    0.70,2,    0.00,2,    0.00,2,    0.00,2,   1.570,2,   1.000,2,   0.118,2,    1.22,3,  -999.0,9,  -999.0,9,-999.0000,9,  -999.00,-999.000,9,-999.0000,9, -999.00,9,  26.4429,2, -999.00,9,  -999.0,9,  -999.0,-999.000,9,-999.000,   0.950,2, -999.00,9,   65.47,2,    4.31,2,  14.0798, -52.3342,-999.000,-999.0000, -999.00,  26.4292,  26.4429,2,    36.4652,2,  -999.0,9,     -999.0,9,     -999.0,9,     -999.0,9,       0125
33AT20120419,        A20,      29,          1,         32,         32,2,20120426,       2322,    14.0735,   -52.3325,       5146,   101.0,  25.9131,  37.0793,2,  37.0816,2,    201.5,2,   198.4,2,    0.33,2,    0.00,2,    0.00,2,    0.00,2,   1.691,2,   1.052,2,   0.118,2,    0.80,3,  2080.3,2,  2427.1,6,   8.0793,2,    25.00,-999.000,9,-999.0000,9, -999.00,9,  25.9111,2, -999.00,9,  -999.0,9,  -999.0,-999.000,9,-999.000,   0.410,2, -999.00,9,   60.38,2,    4.34,2,  14.0796, -52.3342,-999.000,-999.0000, -999.00,  25.8905,  25.9111,2,    37.2564,2,  -999.0,9,     -999.0,9,     -999.0,9,     -999.0,9,       0123
33AT20120419,        A20,      29,          1,         31,         31,2,20120426,       2322,    14.0735,   -52.3325,       5146,   151.1,  20.5441,  36.8629,2,  36.8622,2,    146.2,2,   147.2,2,    1.34,2,    6.02,2,    0.03,2,    0.34,2,   1.949,2,   1.175,2,   0.055,2,    1.12,3,  -999.0,9,  -999.0,9,-999.0000,9,  -999.00,-999.000,9,-999.0000,9, -999.00,9,  20.5578,2, -999.00,9,  -999.0,9,  -999.0,-999.000,9,-999.000,   0.240,2, -999.00,9,   57.25,2,    8.84,2,  14.0793, -52.3341,-999.000,-999.0000, -999.00,  20.5154,  20.5578,2,    37.0360,2,  -999.0,9,     -999.0,9,     -999.0,9,     -999.0,9,       0121
33AT20120419,        A20,      29,          1,         30,         30,2,20120426,       2322,    14.0735,   -52.3325,       5146,   201.0,  17.1709,  36.3133,2,  36.2979,2,    124.7,2,   125.7,2,    3.63,2,   13.54,2,    0.01,2,    0.79,2,   2.009,2,   1.182,2,   0.016,2,    0.79,3,  2180.6,2,  2376.5,2,   7.8199,2,    25.00,-999.000,9,-999.0000,9, -999.00,9,  17.1753,2, -999.00,9,  -999.0,9,  -999.0,-999.000,9,-999.000,   0.130,2, -999.00,9,   52.02,2,   16.73,2,  14.0791, -52.3340,-999.000,-999.0000, -999.00,  17.1372,  17.1753,2,    36.4690,2,  -999.0,9,     -999.0,9,     -999.0,9,     -999.0,9,       0118
33AT20120419,        A20,      29,          1,         29,         29,2,20120426,       2322,    14.0735,   -52.3325,       5146,   251.0,  14.6999,  35.8850,2,  35.8744,2,    116.8,2,   117.1,2,    5.96,2,   18.52,2,    0.01,2,    1.12,2,   1.900,2,   1.089,2,   0.011,2,    0.47,3,  -999.0,9,  -999.0,9,-999.0000,9,  -999.00,-999.000,9,-999.0000,9, -999.00,9,  14.6956,2, -999.00,9,  -999.0,9,  -999.0,-999.000,9,-999.000,   0.130,2, -999.00,9,   47.28,2,   21.95,2,  14.0790, -52.3340,-999.000,-999.0000, -999.00,  14.6621,  14.6956,2,    36.0436,2,  -999.0,9,     -999.0,9,     -999.0,9,     -999.0,9,       0116
33AT20120419,        A20,      29,          1,         28,         28,2,20120426,       2322,    14.0735,   -52.3325,       5146,   300.6,  13.0832,  35.5992,2,  35.5964,2,    112.4,2,   112.0,2,    8.02,2,   21.75,2,    0.00,2,    1.34,2,   1.777,2,   0.984,2,   0.014,2,    0.18,3,  2195.4,2,  2338.0,2,   7.7054,2,    25.00,-999.000,9,-999.0000,9, -999.00,9,  13.0831,2, -999.00,9,  -999.0,9,  -999.0,-999.000,9,-999.000,   0.150,2, -999.00,9,   45.16,2,   24.81,2,  14.0789, -52.3340,-999.000,-999.0000, -999.00,  13.0413,  13.0831,2,    35.7643,2,  -999.0,9,     -999.0,9,     -999.0,9,     -999.0,9,       0114
33AT20120419,        A20,      29,          1,         27,         27,2,20120426,       2322,    14.0735,   -52.3325,       5146,   350.9,  12.2952,  35.4953,2,  35.4922,2,    110.5,2,   104.6,2,    9.20,2,   23.86,2,    0.00,2,    1.46,2,   1.590,2,   0.862,2,   0.016,2,    0.14,3,  2201.9,6,  2333.5,2,   7.6752,2,    25.00,-999.000,9,-999.0000,9, -999.00,9,  12.2948,2, -999.00,9,  -999.0,9,  -999.0,-999.000,9,-999.000,   0.150,2, -999.00,9,   45.39,2,   26.81,2,  14.0788, -52.3340,-999.000,-999.0000, -999.00,  12.2482,  12.2948,2,    35.6596,2,  -999.0,9,     -999.0,9,     -999.0,9,     -999.0,9,       0112
33AT20120419,        A20,      29,          1,         26,         26,2,20120426,       2322,    14.0735,   -52.3325,       5146,   402.4,  10.9007,  35.2892,2,  35.2868,2,    106.4,2,   107.1,2,   11.58,2,   26.24,2,    0.01,2,    1.62,2,   1.321,2,   0.718,2,   0.015,2,    0.29,3,  2205.2,2,  2325.3,2,   7.6457,6,    25.00,-999.000,9,-999.0000,9, -999.00,9,  10.9027,2, -999.00,9,  -999.0,9,  -999.0,-999.000,9,-999.000,   0.150,2, -999.00,9,   44.95,2,   29.47,2,  14.0788, -52.3340,-999.000,-999.0000, -999.00,  10.8507,  10.9027,2,    35.4532,2,  -999.0,9,     -999.0,9,     -999.0,9,     -999.0,9,       0111
33AT20120419,        A20,      29,          1,         25,         25,2,20120426,       2322,    14.0735,   -52.3325,       5146,   502.7,   9.1095,  35.0236,2,  35.0196,2,    109.8,2,   110.2,2,   15.44,2,   29.68,2,    0.00,2,    1.86,2,   0.943,2,   0.506,2,   0.011,2,    0.09,3,  2211.5,2,  2314.3,2,   7.6027,2,    25.00,-999.000,9,-999.0000,9, -999.00,9,   9.0892,2, -999.00,9,  -999.0,9,  -999.0,-999.000,9,-999.000,   0.170,2, -999.00,9,   43.24,2,   33.68,2,  14.0785, -52.3339,-999.000,-999.0000, -999.00,   9.0535,   9.0892,2,    35.1847,2,  -999.0,9,     -999.0,9,     -999.0,9,     -999.0,9,       0108
33AT20120419,        A20,      29,          1,         24,         24,2,20120426,       2322,    14.0735,   -52.3325,       5146,   603.7,   7.5363,  34.8126,2,  34.8091,2,    116.9,2,   117.6,2,   19.64,2,   32.32,2,    0.00,2,    2.08,2,   0.614,2,   0.339,2,   0.010,2,    0.00,3,  2217.6,2,  2308.6,2,   7.5716,2,    25.00,-999.000,9,-999.0000,9, -999.00,9,   7.5359,2, -999.00,9,  -999.0,9,  -999.0,-999.000,9,-999.000,   0.180,2, -999.00,9,   42.89,2,   35.17,2,  14.0783, -52.3338,-999.000,-999.0000, -999.00,   7.4758,   7.5359,2,    34.9732,2,  -999.0,9,     -999.0,9,     -999.0,9,     -999.0,9,       0105
33AT20120419,        A20,      29,          1,         23,         23,2,20120426,       2322,    14.0735,   -52.3325,       5146,   704.1,   6.9045,  34.7876,2,  34.7863,2,    113.4,2,   112.9,2,   22.02,2,   33.79,2,    0.00,2,    2.19,2,   0.299,2,   0.170,2,   0.004,2,    0.00,3,  2223.4,2,  2308.4,2,   7.5539,2,    25.00,-999.000,9,-999.0000,9, -999.00,9,   6.9041,2, -999.00,9,  -999.0,9,  -999.0,-999.000,9,-999.000,   0.110,2, -999.00,9,   41.88,2,   36.35,2,  14.0781, -52.3338,-999.000,-999.0000, -999.00,   6.8369,   6.9041,2,    34.9503,2,  -999.0,9,     -999.0,9,     -999.0,9,     -999.0,9,       0102
33AT20120419,        A20,      29,          1,         22,         22,2,20120426,       2322,    14.0735,   -52.3325,       5146,   804.6,   6.2861,  34.7413,2,  34.7431,2,    122.4,2,   120.6,2,   24.14,2,   34.01,2,    0.00,2,    2.23,2,   0.184,2,   0.109,2,   0.002,2,    0.00,3,  2223.6,2,  2309.6,2,   7.5538,2,    25.00,-999.000,9,-999.0000,9, -999.00,9,   6.2864,2, -999.00,9,  -999.0,9,  -999.0,-999.000,9,-999.000,   0.090,2, -999.00,9,   40.21,2,   36.76,2,  14.0778, -52.3337,-999.000,-999.0000, -999.00,   6.2120,   6.2864,2,    34.9069,2,  -999.0,9,     -999.0,9,     -999.0,9,     -999.0,9,       0100
33AT20120419,        A20,      29,          1,         21,         21,2,20120426,       2322,    14.0735,   -52.3325,       5146,   906.5,   5.6978,  34.7315,2,  34.7319,2,    132.6,2,   132.6,2,   25.87,2,   33.38,2,    0.00,2,    2.21,2,   0.104,2,   0.063,2,   0.002,2,    0.00,3,  2222.2,2,  2310.1,2,   7.5647,2,    25.00,-999.000,9,-999.0000,9, -999.00,9,   5.6988,2, -999.00,9,  -999.0,9,  -999.0,-999.000,9,-999.000,   0.070,2, -999.00,9,   40.68,2,   36.04,2,  14.0776, -52.3336,-999.000,-999.0000, -999.00,   5.6177,   5.6988,2,    34.8956,2,  -999.0,9,     -999.0,9,     -999.0,9,     -999.0,9,       0057
33AT20120419,        A20,      29,          1,         20,         20,2,20120426,       2322,    14.0735,   -52.3325,       5146,  1006.9,   5.5315,  34.8080,2,  34.8093,2,    143.5,2,   145.3,2,   24.76,2,   31.39,2,    0.00,2,    2.08,2,   0.074,2,   0.047,2,   0.001,2,    0.00,3,  -999.0,9,  -999.0,9,-999.0000,9,  -999.00,-999.000,9,-999.0000,9, -999.00,9,   5.5314,2, -999.00,9,  -999.0,9,  -999.0,-999.000,9,-999.000,   0.050,2, -999.00,9,   40.23,2,   34.12,2,  14.0773, -52.3335,-999.000,-999.0000, -999.00,   5.4430,   5.5314,2,    34.9735,2,  -999.0,9,     -999.0,9,     -999.0,9,     -999.0,9,       0054
33AT20120419,        A20,      29,          1,         19,         19,2,20120426,       2322,    14.0735,   -52.3325,       5146,  1107.8,   5.4304,  34.8700,2,  34.8717,2,    157.1,2,   157.9,2,   23.37,2,   29.40,2,    0.00,2,    1.95,2,   0.094,2,   0.058,2,   0.003,2,    0.00,3,  2209.8,2,  2317.1,2,   7.6163,2,    25.00,-999.000,9,-999.0000,9, -999.00,9,   5.4305,2, -999.00,9,  -999.0,9,  -999.0,-999.000,9,-999.000,   0.070,2, -999.00,9,   40.17,2,   32.64,2,  14.0771, -52.3335,-999.000,-999.0000, -999.00,   5.3330,   5.4305,2,    35.0361,2,  -999.0,9,     -999.0,9,     -999.0,9,     -999.0,9,       0051
33AT20120419,        A20,      29,          1,         18,         18,2,20120426,       2322,    14.0735,   -52.3325,       5146,  1209.5,   5.2233,  34.9289,2,  34.9283,2,    174.4,2,   174.4,2,   21.70,2,   27.11,2,    0.00,2,    1.81,2,-999.000,5,-999.000,5,-999.000,5, -999.00,5,  -999.0,9,  -999.0,9,-999.0000,9,  -999.00,-999.000,9,-999.0000,9, -999.00,9,   5.2231,2, -999.00,9,  -999.0,9,  -999.0,-999.000,9,-999.000,-999.000,5, -999.00,9,   41.78,2,   29.61,2,  14.0768, -52.3334,-999.000,-999.0000, -999.00,   5.1179,   5.2231,2,    35.0930,2,  -999.0,9,     -999.0,9,     -999.0,9,     -999.0,9,       0048
33AT20120419,        A20,      29,          1,         17,         17,2,20120426,       2322,    14.0735,   -52.3325,       5146,  1310.7,   5.0015,  34.9732,2,  34.9848,4,    195.5,2,   196.6,2,   18.88,4,   23.21,4,    0.00,4,    1.55,4,   0.257,2,   0.142,2,   0.007,2,    0.00,3,  2189.9,2,  2318.7,4,   7.6160,4,    25.00,-999.000,9,-999.0000,9, -999.00,9,   5.0018,2, -999.00,9,  -999.0,9,  -999.0,-999.000,9,-999.000,   0.220,2, -999.00,9,   41.03,2,   25.52,2,  14.0766, -52.3334,-999.000,-999.0000, -999.00,   4.8884,   5.0018,2,    35.1498,4,  -999.0,9,     -999.0,9,     -999.0,9,     -999.0,9,       0046
33AT20120419,        A20,      29,          1,         16,         16,2,20120426,       2322,    14.0735,   -52.3325,       5146,  1412.0,   4.8035,  34.9849,2,  34.9846,2,    206.7,2,   206.1,2,   18.92,2,   23.26,2,    0.00,2,    1.56,2,   0.234,2,   0.128,2,   0.010,2,    0.00,3,  -999.0,9,  -999.0,9,-999.0000,9,  -999.00,-999.000,9,-999.0000,9, -999.00,9,   4.8034,2, -999.00,9,  -999.0,9,  -999.0,-999.000,9,-999.000,   0.240,2, -999.00,9,   41.44,2,   25.34,2,  14.0765, -52.3333,-999.000,-999.0000, -999.00,   4.6827,   4.8034,2,    35.1496,2,  -999.0,9,     -999.0,9,     -999.0,9,     -999.0,9,       0043
33AT20120419,        A20,      29,          1,         15,         15,2,20120426,       2322,    14.0735,   -52.3325,       5146,  1613.7,   4.3738,  34.9980,2,  34.9980,2,    233.7,2,   233.8,2,   16.38,2,   20.40,2,    0.00,2,    1.38,2,   0.505,2,   0.263,2,   0.018,2,    0.00,3,  2171.6,2,  2320.3,2,   7.7198,2,    25.00,-999.000,9,-999.0000,9, -999.00,9,   4.3741,2, -999.00,9,  -999.0,9,  -999.0,-999.000,9,-999.000,   0.460,2, -999.00,9,   41.05,2,   22.94,2,  14.0762, -52.3333,-999.000,-999.0000, -999.00,   4.2385,   4.3741,2,    35.1631,2,  -999.0,9,     -999.0,9,     -999.0,9,     -999.0,9,       0039
33AT20120419,        A20,      29,          1,         14,         14,2,20120426,       2322,    14.0735,   -52.3325,       5146,  1816.6,   3.9337,  34.9855,2,  34.9856,2,    240.8,2,   241.0,2,   18.59,2,   20.06,2,    0.00,2,    1.36,2,   0.267,2,   0.151,2,   0.008,2,    0.00,3,  2169.9,2,  2320.9,2,   7.7282,6,    25.00,-999.000,9,-999.0000,9, -999.00,9,   3.9350,2, -999.00,9,  -999.0,9,  -999.0,-999.000,9,-999.000,   0.320,2, -999.00,9,   40.49,2,   23.00,2,  14.0759, -52.3332,-999.000,-999.0000, -999.00,   3.7848,   3.9350,2,    35.1506,2,  -999.0,9,     -999.0,9,     -999.0,9,     -999.0,9,       0034
33AT20120419,        A20,      29,          1,         13,         13,2,20120426,       2322,    14.0735,   -52.3325,       5146,  2019.6,   3.6813,  34.9775,2,  34.9760,2,    253.9,2,   253.5,2,   17.43,2,   18.87,2,    0.00,2,    1.27,2,   0.492,2,   0.262,2,   0.017,2,    0.00,3,  2164.2,2,  2319.3,2,   7.7386,2,    25.00,-999.000,9,-999.0000,9, -999.00,9,   3.6787,2, -999.00,9,  -999.0,9,  -999.0,-999.000,9,-999.000,   0.500,2, -999.00,9,   40.33,2,   21.11,2,  14.0755, -52.3331,-999.000,-999.0000, -999.00,   3.5166,   3.6787,2,    35.1409,2,  -999.0,9,     -999.0,9,     -999.0,9,     -999.0,9,       0030
33AT20120419,        A20,      29,          1,         12,         12,2,20120426,       2322,    14.0735,   -52.3325,       5146,  2273.8,   3.3004,  34.9630,2,  34.9630,2,    253.3,2,   253.9,2,   21.78,2,   19.21,2,    0.00,2,    1.30,2,   0.218,2,   0.124,2,   0.007,2,    0.00,3,  2167.1,2,  2323.8,2,   7.7409,2,    25.00,-999.000,9,-999.0000,9, -999.00,9,   3.3008,2, -999.00,9,  -999.0,9,  -999.0,-999.000,9,-999.000,   0.290,2, -999.00,9,   40.96,2,   21.75,2,  14.0753, -52.3330,-999.000,-999.0000, -999.00,   3.1172,   3.3008,2,    35.1279,2,  -999.0,9,     -999.0,9,     -999.0,9,     -999.0,9,       0024
33AT20120419,        A20,      29,          1,         11,         11,2,20120426,       2322,    14.0735,   -52.3325,       5146,  2527.8,   3.0654,  34.9497,2,  34.9491,2,    251.8,2,   251.9,2,   26.50,2,   19.76,2,    0.00,2,    1.34,2,   0.114,2,   0.066,2,   0.003,2,    0.00,3,  2172.3,2,  2328.9,2,   7.7401,2,    25.00,-999.000,9,-999.0000,9, -999.00,9,   3.0642,2, -999.00,9,  -999.0,9,  -999.0,-999.000,9,-999.000,   0.180,2, -999.00,9,   40.59,2,   21.69,2,  14.0753, -52.3330,-999.000,-999.0000, -999.00,   2.8614,   3.0642,2,    35.1139,2,  -999.0,9,     -999.0,9,     -999.0,9,     -999.0,9,       0019
33AT20120419,        A20,      29,          1,         10,         10,2,20120426,       2322,    14.0735,   -52.3325,       5146,  2782.3,   2.8882,  34.9380,2,  34.9377,2,    252.2,2,   252.3,2,   29.08,2,   19.94,2,    0.00,2,    1.36,2,   0.125,2,   0.077,2,   0.003,2,    0.00,3,  -999.0,9,  -999.0,9,-999.0000,9,  -999.00,-999.000,9,-999.0000,9, -999.00,9,   2.8882,2, -999.00,9,  -999.0,9,  -999.0,-999.000,9,-999.000,   0.180,2, -999.00,9,   40.53,2,   22.33,2,  14.0753, -52.3330,-999.000,-999.0000, -999.00,   2.6622,   2.8882,2,    35.1025,2,  -999.0,9,     -999.0,9,     -999.0,9,     -999.0,9,       0013
33AT20120419,        A20,      29,          1,          9,          9,2,20120426,       2322,    14.0735,   -52.3325,       5146,  3037.2,   2.7131,  34.9251,2,  34.9244,2,    249.0,2,   249.0,2,   34.96,2,   20.75,2,    0.00,2,    1.42,2,   0.053,2,   0.035,2,   0.002,2,    0.00,3,  2181.0,2,  2337.1,2,   7.7355,2,    25.00,-999.000,9,-999.0000,9, -999.00,9,   2.7132,2, -999.00,9,  -999.0,9,  -999.0,-999.000,9,-999.000,   0.100,2, -999.00,9,   40.63,2,   23.39,2,  14.0753, -52.3330,-999.000,-999.0000, -999.00,   2.4647,   2.7132,2,    35.0890,2,  -999.0,9,     -999.0,9,     -999.0,9,     -999.0,9,       0008
33AT20120419,        A20,      29,          1,          8,          8,2,20120426,       2322,    14.0735,   -52.3325,       5146,  3342.3,   2.5845,  34.9152,2,  34.9141,2,    254.1,2,   254.1,2,   33.67,2,   20.16,2,    0.00,2,    1.39,2,   0.155,2,   0.091,2,   0.005,2,    0.00,3,  2178.6,2,  2333.4,2,   7.7368,2,    25.00,-999.000,9,-999.0000,9, -999.00,9,   2.5845,2, -999.00,9,  -999.0,9,  -999.0,-999.000,9,-999.000,   0.210,2, -999.00,9,   39.16,2,   23.57,2,  14.0753, -52.3330,-999.000,-999.0000, -999.00,   2.3070,   2.5845,2,    35.0788,2,  -999.0,9,     -999.0,9,     -999.0,9,     -999.0,9,       0002
33AT20120419,        A20,      29,          1,          7,          7,2,20120426,       2322,    14.0735,   -52.3325,       5146,  3649.1,   2.4388,  34.9039,2,  34.9043,2,    257.7,2,   257.8,2,   33.50,2,   19.76,2,    0.00,2,    1.36,2,   0.252,2,   0.143,2,   0.012,2,    0.00,3,  2176.8,2,  2332.9,2,   7.7362,2,    25.00,-999.000,9,-999.0000,9, -999.00,9,   2.4393,2, -999.00,9,  -999.0,9,  -999.0,-999.000,9,-999.000,   0.300,2, -999.00,9,   39.05,2,   22.47,2,  14.0750, -52.3329,-999.000,-999.0000, -999.00,   2.1316,   2.4393,2,    35.0689,2,  -999.0,9,     -999.0,9,     -999.0,9,     -999.0,9,       2356