BOTTLE,20220712CCHSIOCBG
EXPOCODE,SECT_ID,STNNBR,CASTNO,SAMPNO,BTLNBR,BTLNBR_FLAG_W,DATE,TIME,LATITUDE,LONGITUDE,DEPTH,CTDPRS,CTDTMP,CTDSAL,CTDSAL_FLAG_W,SALNTY,SALNTY_FLAG_W,CTDOXY,CTDOXY_FLAG_W,OXYGEN,OXYGEN_FLAG_W,SILCAT,SILCAT_FLAG_W,NITRAT,NITRAT_FLAG_W,NITRIT,NITRIT_FLAG_W,PHSPHT,PHSPHT_FLAG_W,CFC-11,CFC-11_FLAG_W,CFC-12,CFC-12_FLAG_W,CFC113,CFC113_FLAG_W,SF6,SF6_FLAG_W,TCARBN,TCARBN_FLAG_W,ALKALI,ALKALI_FLAG_W,PH_TOT,PH_TOT_FLAG_W,PH_TMP,TRITUM,TRITUM_FLAG_W,HELIUM,HELIUM_FLAG_W,DELHE3,DELHE3_FLAG_W,REFTMP,REFTMP_FLAG_W,DELC13,DELC13_FLAG_W,DELC14,DELC14_FLAG_W,C14ERR,NEON,NEON_FLAG_W,NEONER,CCL4,CCL4_FLAG_W,DELO18,DELO18_FLAG_W,DOC,DOC_FLAG_W,TDN,TDN_FLAG_W,BTL_LAT,BTL_LON,TRITER,HELIER,DELHER,THETA,SBE35,SBE35_FLAG_W,SALTREF,SALTREF_FLAG_W,14C-DOC,14C-DOC_FLAG_W,DELO17,DELO17_FLAG_W,O2/AR,O2/AR_FLAG_W,SIP,SIP_FLAG_W,BTL_TIME
,,,,,,,,,,,METERS,DBAR,ITS-90,PSS-78,,PSS-78,,UMOL/KG,,UMOL/KG,,UMOL/KG,,UMOL/KG,,UMOL/KG,,UMOL/KG,,PMOL/KG,,PMOL/KG,,PMOL/KG,,FMOL/KG,,UMOL/KG,,UMOL/KG,,,,DEG C,TU,,NMOL/KG,,PERCNT,,DEG C,,/MILLE,,/MILLE,,/MILLE,NMOL/KG,,NMOL/KG,PMOL/KG,,/MILLE,,UMOL/KG,,UMOL/KG,,,,TU,NMOL/KG,PERCNT,DEG C,ITS-90,,G/KG,,/MILLE,,/MILLE,,,,,,
33AT20120419,        A20,      26,          1,          6,          6,2,20120426,       0039,    12.0768,   -52.3337,       5042,  3649.9,   2.4442,  34.9039,2,  34.9028,2,    257.6,2,   258.0,2,   33.52,2,   19.80,2,    0.00,2,    1.33,2,   0.381,2,   0.163,2,   0.023,2,    0.07,2,  -999.0,9,  -999.0,9,-999.0000,9,  -999.00,-999.000,9,-999.0000,9, -999.00,9,   2.4443,2, -999.00,9,  -999.0,9,  -999.0,-999.000,9,-999.000,-999.000,9, -999.00,9, -999.00,9, -999.00,9,  12.0757, -52.3334,-999.000,-999.0000, -999.00,   2.1368,   2.4443,2,    35.0674,2,  -999.0,9,     -999.0,9,     -999.0,9,     -999.0,9,       0110
33AT20120419,        A20,      26,          1,          5,          5,2,20120426,       0039,    12.0768,   -52.3337,       5042,  3956.6,   2.3408,  34.8966,2,  34.8955,2,    261.7,2,   262.6,2,   31.86,2,   19.15,2,    0.00,2,    1.29,2,   0.539,2,   0.243,2,   0.039,2,    0.09,2,  -999.0,9,  -999.0,9,-999.0000,9,  -999.00,-999.000,9,-999.0000,9, -999.00,9,   2.3408,2, -999.00,9,  -999.0,9,  -999.0,-999.000,9,-999.000,-999.000,9, -999.00,9, -999.00,9, -999.00,9,  12.0760, -52.3335,-999.000,-999.0000, -999.00,   2.0019,   2.3408,2,    35.0601,2,  -999.0,9,     -999.0,9,     -999.0,9,     -999.0,9,       0103
33AT20120419,        A20,      26,          1,          4,          4,2,20120426,       0039,    12.0768,   -52.3337,       5042,  4262.3,   2.2756,  34.8887,2,  34.8879,2,    260.9,2,   261.0,2,   35.05,2,   19.61,2,    0.00,2,    1.32,2,   0.484,2,   0.216,2,   0.030,2,    0.10,2,  2178.7,2,  2333.3,2,   7.7339,2,    25.00,-999.000,9,-999.0000,9, -999.00,9,   2.2752,2, -999.00,9,  -999.0,9,  -999.0,-999.000,9,-999.000,-999.000,9, -999.00,9, -999.00,9, -999.00,9,  12.0761, -52.3335,-999.000,-999.0000, -999.00,   1.9034,   2.2752,2,    35.0524,2,  -999.0,9,     -999.0,9,     -999.0,9,     -999.0,9,       0057
33AT20120419,        A20,      26,          1,          3,          3,2,20120426,       0039,    12.0768,   -52.3337,       5042,  4570.9,   2.2185,  34.8790,2,  34.8780,2,    257.7,2,   258.0,2,   39.76,2,   20.36,2,    0.00,2,    1.37,2,   0.402,2,   0.178,2,   0.028,2,    0.03,2,  2183.6,2,  2336.0,2,   7.7303,2,    25.00,-999.000,9,-999.0000,9, -999.00,9,   2.2178,2, -999.00,9,  -999.0,9,  -999.0,-999.000,9,-999.000,-999.000,9, -999.00,9, -999.00,9, -999.00,9,  12.0764, -52.3336,-999.000,-999.0000, -999.00,   1.8114,   2.2178,2,    35.0425,2,  -999.0,9,     -999.0,9,     -999.0,9,     -999.0,9,       0051
33AT20120419,        A20,      26,          1,          2,          2,2,20120426,       0039,    12.0768,   -52.3337,       5042,  4827.6,   2.0884,  34.8604,2,  34.8597,2,    251.9,2,   251.9,2,   49.45,2,   21.94,2,    0.00,2,    1.47,2,   0.300,2,   0.132,2,   0.024,2,    0.04,2,  2193.6,2,  2346.7,2,   7.7190,6,    25.00,-999.000,9,-999.0000,9, -999.00,9,   2.0881,2, -999.00,9,  -999.0,9,  -999.0,-999.000,9,-999.000,-999.000,9, -999.00,9, -999.00,9, -999.00,9,  12.0768, -52.3337,-999.000,-999.0000, -999.00,   1.6543,   2.0881,2,    35.0241,2,  -999.0,9,     -999.0,9,     -999.0,9,     -999.0,9,       0046
33AT20120419,        A20,      26,          1,          1,          1,2,20120426,       0039,    12.0768,   -52.3337,       5042,  5116.2,   1.7579,  34.8169,2,  34.8157,2,    241.2,2,   240.9,2,   69.29,2,   25.18,2,    0.00,2,    1.69,2,   0.226,2,   0.092,2,   0.017,2,    0.12,2,  2216.8,6,  2356.4,2,   7.6933,2,    25.00,-999.000,9,-999.0000,9, -999.00,9,   1.7579,2, -999.00,9,  -999.0,9,  -999.0,-999.000,9,-999.000,-999.000,9, -999.00,9, -999.00,9, -999.00,9,  12.0767, -52.3337,-999.000,-999.0000, -999.00,   1.2995,   1.7579,2,    34.9798,2,  -999.0,9,     -999.0,9,     -999.0,9,     -999.0,9,       0040