BOTTLE,20220712CCHSIOCBG
EXPOCODE,SECT_ID,STNNBR,CASTNO,SAMPNO,BTLNBR,BTLNBR_FLAG_W,DATE,TIME,LATITUDE,LONGITUDE,DEPTH,CTDPRS,CTDTMP,CTDSAL,CTDSAL_FLAG_W,SALNTY,SALNTY_FLAG_W,CTDOXY,CTDOXY_FLAG_W,OXYGEN,OXYGEN_FLAG_W,SILCAT,SILCAT_FLAG_W,NITRAT,NITRAT_FLAG_W,NITRIT,NITRIT_FLAG_W,PHSPHT,PHSPHT_FLAG_W,CFC-11,CFC-11_FLAG_W,CFC-12,CFC-12_FLAG_W,CFC113,CFC113_FLAG_W,SF6,SF6_FLAG_W,TCARBN,TCARBN_FLAG_W,ALKALI,ALKALI_FLAG_W,PH_TOT,PH_TOT_FLAG_W,PH_TMP,TRITUM,TRITUM_FLAG_W,HELIUM,HELIUM_FLAG_W,DELHE3,DELHE3_FLAG_W,REFTMP,REFTMP_FLAG_W,DELC13,DELC13_FLAG_W,DELC14,DELC14_FLAG_W,C14ERR,NEON,NEON_FLAG_W,NEONER,CCL4,CCL4_FLAG_W,DELO18,DELO18_FLAG_W,DOC,DOC_FLAG_W,TDN,TDN_FLAG_W,BTL_LAT,BTL_LON,TRITER,HELIER,DELHER,THETA,SBE35,SBE35_FLAG_W,SALTREF,SALTREF_FLAG_W,14C-DOC,14C-DOC_FLAG_W,DELO17,DELO17_FLAG_W,O2/AR,O2/AR_FLAG_W,SIP,SIP_FLAG_W,BTL_TIME
,,,,,,,,,,,METERS,DBAR,ITS-90,PSS-78,,PSS-78,,UMOL/KG,,UMOL/KG,,UMOL/KG,,UMOL/KG,,UMOL/KG,,UMOL/KG,,PMOL/KG,,PMOL/KG,,PMOL/KG,,FMOL/KG,,UMOL/KG,,UMOL/KG,,,,DEG C,TU,,NMOL/KG,,PERCNT,,DEG C,,/MILLE,,/MILLE,,/MILLE,NMOL/KG,,NMOL/KG,PMOL/KG,,/MILLE,,UMOL/KG,,UMOL/KG,,,,TU,NMOL/KG,PERCNT,DEG C,ITS-90,,G/KG,,/MILLE,,/MILLE,,,,,,
33AT20120419,        A20,      47,          1,          6,          6,2,20120502,       2256,    26.7388,   -52.3326,       5395,  3961.5,   2.2984,  34.8914,2,  34.8918,2,    255.6,2,   255.7,2,   39.40,2,   20.83,2,    0.00,2,    1.41,2,   0.062,2,   0.043,2,   0.003,2,    0.00,3,  -999.0,9,  -999.0,9,-999.0000,9,  -999.00,-999.000,9,-999.0000,9, -999.00,9,   2.2981,2, -999.00,9,  -999.0,9,  -999.0,-999.000,9,-999.000,   0.150,2, -999.00,9,   41.34,2,   23.52,2,  26.7392, -52.3329,-999.000,-999.0000, -999.00,   1.9601,   2.2981,2,    35.0563,2,  -999.0,9,     -999.0,9,     -999.0,9,     -999.0,9,       2328
33AT20120419,        A20,      47,          1,          5,          5,2,20120502,       2256,    26.7388,   -52.3326,       5395,  4264.3,   2.2232,  34.8809,2,  34.8813,2,    254.3,2,   254.3,2,   42.95,2,   21.30,2,    0.00,2,    1.43,2,   0.056,2,   0.039,2,   0.003,2,    0.00,3,  2186.8,2,  2338.7,2,   7.7312,2,    25.00,-999.000,9,-999.0000,9, -999.00,9,   2.2229,2,    1.05,2,  -107.9,2,     3.0,-999.000,9,-999.000,   0.140,2, -999.00,9,   41.11,2,   24.27,2,  26.7392, -52.3329,-999.000,-999.0000, -999.00,   1.8523,   2.2229,2,    35.0458,2,  -999.0,1,     -999.0,9,     -999.0,9,     -999.0,9,       2322
33AT20120419,        A20,      47,          1,          4,          4,2,20120502,       2256,    26.7388,   -52.3326,       5395,  4574.5,   2.1467,  34.8696,2,  34.8689,2,    252.2,2,   252.1,2,   47.32,2,   21.89,2,    0.00,2,    1.47,2,   0.047,2,   0.039,2,   0.002,2,    0.00,3,  -999.0,9,  -999.0,9,-999.0000,9,  -999.00,-999.000,9,-999.0000,9, -999.00,9,   2.1470,2, -999.00,9,  -999.0,9,  -999.0,-999.000,9,-999.000,   0.120,2, -999.00,9,    41.1,2,   25.07,2,  26.7391, -52.3328,-999.000,-999.0000, -999.00,   1.7415,   2.1470,2,    35.0334,2,  -999.0,9,     -999.0,9,     -999.0,9,     -999.0,9,       2316
33AT20120419,        A20,      47,          1,          3,          3,2,20120502,       2256,    26.7388,   -52.3326,       5395,  4878.7,   2.1288,  34.8637,2,  34.8642,2,    251.1,2,   251.1,2,   49.53,2,   22.18,2,    0.00,2,    1.49,2,-999.000,5,-999.000,5,-999.000,5, -999.00,5,  2194.4,2,  2343.6,2,   7.7236,2,    25.00,-999.000,9,-999.0000,9, -999.00,9,   2.1290,2,    1.13,2,  -118.6,2,     2.3,-999.000,9,-999.000,-999.000,5, -999.00,9,   41.34,2,   25.33,2,  26.7389, -52.3327,-999.000,-999.0000, -999.00,   1.6871,   2.1290,2,    35.0286,2,  -999.0,1,     -999.0,9,     -999.0,9,     -999.0,9,       2310
33AT20120419,        A20,      47,          1,          2,          2,2,20120502,       2256,    26.7388,   -52.3326,       5395,  5184.7,   2.1327,  34.8600,2,  34.8589,2,    249.6,2,   250.5,2,   50.96,2,   22.37,2,    0.00,2,    1.51,2,-999.000,5,-999.000,5,-999.000,5, -999.00,5,  -999.0,9,  -999.0,9,-999.0000,9,  -999.00,-999.000,9,-999.0000,9, -999.00,9,   2.1332,2, -999.00,9,  -999.0,9,  -999.0,-999.000,9,-999.000,-999.000,5, -999.00,9,   40.91,2,   24.91,2,  26.7388, -52.3326,-999.000,-999.0000, -999.00,   1.6524,   2.1332,2,    35.0233,2,  -999.0,9,     -999.0,9,     -999.0,9,     -999.0,9,       2303
33AT20120419,        A20,      47,          1,          1,          1,2,20120502,       2256,    26.7388,   -52.3326,       5395,  5480.0,   2.1544,  34.8578,2,  34.8587,2,    249.7,2,   250.0,2,   51.82,2,   22.49,2,    0.00,2,    1.51,2,   0.038,3,   0.036,2,   0.006,2,    0.00,3,  2200.1,6,  2345.3,2,   7.7215,2,    25.00,-999.000,9,-999.0000,9, -999.00,9,   2.1543,2,    0.90,2,  -125.3,2,     2.3,-999.000,9,-999.000,   0.120,2, -999.00,9,   41.51,2,   25.02,2,  26.7388, -52.3326,-999.000,-999.0000, -999.00,   1.6352,   2.1543,2,    35.0231,2,  -999.0,9,     -999.0,9,     -999.0,9,     -999.0,9,       2257