BOTTLE,20220712CCHSIOCBG
EXPOCODE,SECT_ID,STNNBR,CASTNO,SAMPNO,BTLNBR,BTLNBR_FLAG_W,DATE,TIME,LATITUDE,LONGITUDE,DEPTH,CTDPRS,CTDTMP,CTDSAL,CTDSAL_FLAG_W,SALNTY,SALNTY_FLAG_W,CTDOXY,CTDOXY_FLAG_W,OXYGEN,OXYGEN_FLAG_W,SILCAT,SILCAT_FLAG_W,NITRAT,NITRAT_FLAG_W,NITRIT,NITRIT_FLAG_W,PHSPHT,PHSPHT_FLAG_W,CFC-11,CFC-11_FLAG_W,CFC-12,CFC-12_FLAG_W,CFC113,CFC113_FLAG_W,SF6,SF6_FLAG_W,TCARBN,TCARBN_FLAG_W,ALKALI,ALKALI_FLAG_W,PH_TOT,PH_TOT_FLAG_W,PH_TMP,TRITUM,TRITUM_FLAG_W,HELIUM,HELIUM_FLAG_W,DELHE3,DELHE3_FLAG_W,REFTMP,REFTMP_FLAG_W,DELC13,DELC13_FLAG_W,DELC14,DELC14_FLAG_W,C14ERR,NEON,NEON_FLAG_W,NEONER,CCL4,CCL4_FLAG_W,DELO18,DELO18_FLAG_W,DOC,DOC_FLAG_W,TDN,TDN_FLAG_W,BTL_LAT,BTL_LON,TRITER,HELIER,DELHER,THETA,SBE35,SBE35_FLAG_W,SALTREF,SALTREF_FLAG_W,14C-DOC,14C-DOC_FLAG_W,DELO17,DELO17_FLAG_W,O2/AR,O2/AR_FLAG_W,SIP,SIP_FLAG_W,BTL_TIME
,,,,,,,,,,,METERS,DBAR,ITS-90,PSS-78,,PSS-78,,UMOL/KG,,UMOL/KG,,UMOL/KG,,UMOL/KG,,UMOL/KG,,UMOL/KG,,PMOL/KG,,PMOL/KG,,PMOL/KG,,FMOL/KG,,UMOL/KG,,UMOL/KG,,,,DEG C,TU,,NMOL/KG,,PERCNT,,DEG C,,/MILLE,,/MILLE,,/MILLE,NMOL/KG,,NMOL/KG,PMOL/KG,,/MILLE,,UMOL/KG,,UMOL/KG,,,,TU,NMOL/KG,PERCNT,DEG C,ITS-90,,G/KG,,/MILLE,,/MILLE,,,,,,
33AT20120419,        A20,      32,          1,         36,         36,2,20120427,       2158,    16.0718,   -52.3327,       5033,     3.0,  26.5531,  36.1799,2,  36.1814,2,    203.9,2,   202.6,2,    1.04,2,    0.00,2,    0.00,2,    0.00,2,   1.645,2,   1.040,2,   0.142,2,    1.16,2,  2019.6,6,  2373.6,2,   8.1113,2,    25.00,   0.415,2,-999.0000,9, -999.00,9,  26.5548,2, -999.00,9,  -999.0,9,  -999.0,-999.000,9,-999.000,-999.000,9, -999.00,1, -999.00,9, -999.00,9,  16.0715, -52.3326,   0.012,-999.0000, -999.00,  26.5524,  26.5548,2,    36.3521,2,  -999.0,9,     -999.0,1,     -999.0,1,     -999.0,9,       0007
33AT20120419,        A20,      32,          1,         35,         35,2,20120427,       2158,    16.0718,   -52.3327,       5033,    25.0,  26.5632,  36.1816,2,  36.1862,2,    201.7,2,   202.8,2,    1.04,2,    0.00,2,    0.00,2,    0.00,2,   1.659,2,   1.095,2,   0.142,2,    1.17,2,  2020.2,2,  2374.4,2,   8.1103,2,    25.00,-999.000,9,-999.0000,9, -999.00,9,  26.5634,2, -999.00,9,  -999.0,9,  -999.0,-999.000,9,-999.000,-999.000,9, -999.00,9, -999.00,9, -999.00,9,  16.0715, -52.3326,-999.000,-999.0000, -999.00,  26.5575,  26.5634,2,    36.3568,2,  -999.0,9,     -999.0,9,     -999.0,9,     -999.0,9,       0005
33AT20120419,        A20,      32,          1,         34,         34,2,20120427,       2158,    16.0718,   -52.3327,       5033,    50.0,  25.5539,  36.7605,2,  36.7457,2,    210.3,2,   209.9,2,    0.66,2,    0.00,2,    0.00,2,    0.00,2,   1.758,2,   1.087,2,   0.144,2,    1.13,2,  2044.1,2,  2408.5,2,   8.1117,2,    25.00,-999.000,9,-999.0000,9, -999.00,9,  25.5496,2, -999.00,9,  -999.0,9,  -999.0,-999.000,9,-999.000,-999.000,9, -999.00,1, -999.00,9, -999.00,9,  16.0716, -52.3326,-999.000,-999.0000, -999.00,  25.5428,  25.5496,2,    36.9190,2,  -999.0,9,     -999.0,1,     -999.0,1,     -999.0,9,       0003
33AT20120419,        A20,      32,          1,         33,         33,2,20120427,       2158,    16.0718,   -52.3327,       5033,    76.2,  25.1099,  36.9337,2,  36.9306,2,    211.1,2,   209.1,2,    0.51,2,    0.00,2,    0.00,2,    0.00,2,   1.768,2,   1.106,2,   0.149,2,    1.15,2,  2055.5,2,  2418.6,2,   8.1077,2,    25.00,   0.475,2,   1.7252,2,   -1.15,2,  25.1085,2, -999.00,9,  -999.0,9,  -999.0,   6.774,2,   0.031,-999.000,9, -999.00,1, -999.00,9, -999.00,9,  16.0717, -52.3326,   0.012,   0.0072,    0.15,  25.0932,  25.1085,2,    37.1048,2,  -999.0,9,     -999.0,1,     -999.0,1,     -999.0,9,       0001
33AT20120419,        A20,      32,          1,         32,         32,2,20120427,       2158,    16.0718,   -52.3327,       5033,   100.5,  24.7603,  37.1310,2,  37.1249,2,    206.5,2,   204.3,2,    0.36,2,    0.00,2,    0.00,2,    0.00,2,   1.805,2,   1.125,2,   0.143,2,    1.14,2,  2076.3,2,  2431.1,2,   8.0901,2,    25.00,-999.000,9,-999.0000,9, -999.00,9,  24.7592,2, -999.00,9,  -999.0,9,  -999.0,-999.000,9,-999.000,-999.000,9, -999.00,1, -999.00,9, -999.00,9,  16.0717, -52.3327,-999.000,-999.0000, -999.00,  24.7385,  24.7592,2,    37.2999,2,  -999.0,9,     -999.0,1,     -999.0,1,     -999.0,9,       2359
33AT20120419,        A20,      32,          1,         31,         31,2,20120427,       2158,    16.0718,   -52.3327,       5033,   150.7,  22.2513,  37.1658,2,  37.1587,2,    179.5,2,   179.2,2,    0.20,2,    0.86,2,    0.04,2,    0.02,2,   1.979,2,   1.251,2,   0.113,2,    1.13,2,  2129.5,2,  2430.2,2,   8.0040,2,    25.00,   0.517,2,   1.7090,2,   -0.87,2,  22.2358,2, -999.00,9,  -999.0,9,  -999.0,   6.817,2,   0.031,-999.000,9, -999.00,1, -999.00,9, -999.00,9,  16.0717, -52.3326,   0.012,   0.0072,    0.15,  22.2209,  22.2358,2,    37.3339,2,  -999.0,9,     -999.0,1,     -999.0,1,     -999.0,9,       2357
33AT20120419,        A20,      32,          1,         30,         30,2,20120427,       2158,    16.0718,   -52.3327,       5033,   200.8,  19.4975,  36.7974,2,  36.7967,2,    166.8,2,   168.1,2,    1.05,2,    4.57,2,    0.01,2,    0.22,2,   2.209,2,   1.325,2,   0.025,2,    1.06,2,  2146.1,2,  2405.8,2,   7.9395,2,    25.00,-999.000,9,-999.0000,9, -999.00,9,  19.4880,2, -999.00,9,  -999.0,9,  -999.0,-999.000,9,-999.000,-999.000,9, -999.00,1, -999.00,9, -999.00,9,  16.0717, -52.3327,-999.000,-999.0000, -999.00,  19.4606,  19.4880,2,    36.9702,2,  -999.0,9,     -999.0,1,     -999.0,1,     -999.0,9,       2355
33AT20120419,        A20,      32,          1,         29,         29,2,20120427,       2158,    16.0718,   -52.3327,       5033,   250.9,  17.1039,  36.3940,2,  36.3943,2,    158.6,2,   158.4,2,    2.38,2,    9.47,2,    0.01,2,    0.54,2,   2.314,2,   1.343,2,   0.018,2,    1.00,2,  2155.8,2,  2380.9,2,   7.8806,2,    25.00,   0.489,2,   1.7533,2,    0.90,2,  17.1018,2, -999.00,9,  -999.0,9,  -999.0,   7.171,2,   0.033,-999.000,9, -999.00,1, -999.00,9, -999.00,9,  16.0717, -52.3327,   0.012,   0.0074,    0.15,  17.0618,  17.1018,2,    36.5659,2,  -999.0,9,     -999.0,1,     -999.0,1,     -999.0,9,       2353
33AT20120419,        A20,      32,          1,         28,         28,2,20120427,       2158,    16.0718,   -52.3327,       5033,   302.3,  15.7986,  36.1525,2,  36.1500,2,    138.8,2,   139.4,2,    3.82,2,   13.56,2,    0.01,2,    0.79,2,   2.228,2,   1.282,2,   0.016,2,    0.90,2,  2171.4,2,  2366.5,6,   7.8217,2,    25.00,-999.000,9,-999.0000,9, -999.00,9,  15.7352,2, -999.00,9,  -999.0,9,  -999.0,-999.000,9,-999.000,-999.000,9, -999.00,9, -999.00,9, -999.00,9,  16.0716, -52.3326,-999.000,-999.0000, -999.00,  15.7506,  15.7352,2,    36.3205,2,  -999.0,9,     -999.0,9,     -999.0,9,     -999.0,9,       2351
33AT20120419,        A20,      32,          1,         27,         27,2,20120427,       2158,    16.0718,   -52.3327,       5033,   352.3,  14.3495,  35.9089,2,  35.9070,2,    130.0,2,   134.1,2,    5.25,2,   16.42,2,    0.01,2,    0.97,2,   2.198,2,   1.232,2,   0.019,2,    0.74,2,  2177.4,2,  2354.5,2,   7.7815,2,    25.00,   0.468,2,   1.7673,2,    3.34,2,  14.3438,2, -999.00,9,  -999.0,9,  -999.0,   7.279,2,   0.033,-999.000,9, -999.00,1, -999.00,9, -999.00,9,  16.0716, -52.3326,   0.012,   0.0074,    0.15,  14.2971,  14.3438,2,    36.0764,2,  -999.0,9,     -999.0,1,     -999.0,1,     -999.0,9,       2349
33AT20120419,        A20,      32,          1,         26,         26,2,20120427,       2158,    16.0718,   -52.3327,       5033,   401.5,  13.1324,  35.7164,2,  35.7172,2,    127.3,2,   130.7,2,    6.81,2,   18.89,2,    0.00,2,    1.13,2,   1.966,2,   1.064,2,   0.025,2,    0.57,2,  2183.6,2,  2344.0,2,   7.7474,2,    25.00,-999.000,9,-999.0000,9, -999.00,9,  13.1366,2, -999.00,9,  -999.0,9,  -999.0,-999.000,9,-999.000,-999.000,9, -999.00,9, -999.00,9, -999.00,9,  16.0716, -52.3326,-999.000,-999.0000, -999.00,  13.0760,  13.1366,2,    35.8856,2,  -999.0,9,     -999.0,9,     -999.0,9,     -999.0,9,       2347
33AT20120419,        A20,      32,          1,         25,         25,2,20120427,       2158,    16.0718,   -52.3327,       5033,   502.5,  10.3044,  35.2546,2,  35.2533,2,    119.0,2,   116.9,2,   12.53,2,   25.89,2,    0.00,2,    1.62,2,   1.303,2,   0.670,2,   0.018,2,    0.35,2,  2203.0,2,  2321.6,2,   7.6522,2,    25.00,   0.274,2,   1.7859,2,    5.80,2,  10.3006,2, -999.00,9,  -999.0,9,  -999.0,   7.566,2,   0.035,-999.000,9, -999.00,1, -999.00,9, -999.00,9,  16.0716, -52.3326,   0.012,   0.0075,    0.15,  10.2439,  10.3006,2,    35.4196,2,  -999.0,9,     -999.0,1,     -999.0,1,     -999.0,9,       2344
33AT20120419,        A20,      32,          1,         24,         24,2,20120427,       2158,    16.0718,   -52.3327,       5033,   604.8,   8.4053,  34.9776,2,  34.9757,2,    119.2,2,   118.6,2,   17.25,2,   29.54,2,    0.00,2,    1.89,2,   0.871,2,   0.423,2,   0.018,2,    0.28,2,  -999.0,9,  -999.0,9,-999.0000,9,  -999.00,   0.172,2,   1.7985,2,    4.59,2,   8.4044,2, -999.00,9,  -999.0,9,  -999.0,   7.641,2,   0.035,-999.000,9, -999.00,1, -999.00,9, -999.00,9,  16.0716, -52.3326,   0.011,   0.0076,    0.15,   8.3407,   8.4044,2,    35.1406,2,  -999.0,9,     -999.0,1,     -999.0,1,     -999.0,9,       2341
33AT20120419,        A20,      32,          1,         23,         23,2,20120427,       2158,    16.0718,   -52.3327,       5033,   704.7,   6.9835,  34.8067,2,  34.8042,2,    123.1,2,   123.1,2,   21.58,2,   31.95,2,    0.00,2,    2.09,2,   0.500,2,   0.232,2,   0.008,2,    0.13,2,  2218.4,2,  2307.9,2,   7.5737,2,    25.00,   0.074,2,   1.8123,2,    3.50,2,   6.9758,2, -999.00,9,  -999.0,9,  -999.0,   7.764,2,   0.036,-999.000,9, -999.00,1, -999.00,9, -999.00,9,  16.0716, -52.3326,   0.011,   0.0076,    0.15,   6.9154,   6.9758,2,    34.9683,2,  -999.0,9,     -999.0,1,     -999.0,1,     -999.0,9,       2338
33AT20120419,        A20,      32,          1,         22,         22,2,20120427,       2158,    16.0718,   -52.3327,       5033,   805.2,   6.0669,  34.7219,2,  34.7145,4,    129.0,2,   128.8,2,   24.71,2,   32.89,2,    0.00,2,    2.18,2,   0.296,2,   0.135,2,   0.008,2,    0.07,2,  2220.4,6,  2306.4,2,   7.5628,2,    25.00,   0.035,2,   1.8241,2,    2.51,2,   6.0689,2, -999.00,9,  -999.0,9,  -999.0,   7.823,2,   0.036,-999.000,9, -999.00,1, -999.00,9, -999.00,9,  16.0716, -52.3326,   0.011,   0.0077,    0.15,   5.9941,   6.0689,2,    34.8782,4,  -999.0,9,     -999.0,1,     -999.0,1,     -999.0,9,       2336
33AT20120419,        A20,      32,          1,         21,         21,2,20120427,       2158,    16.0718,   -52.3327,       5033,   906.5,   5.6054,  34.7525,2,  34.7491,2,    137.9,2,   139.4,2,   25.69,2,   31.99,2,    0.00,2,    2.13,2,   0.164,2,   0.076,2,   0.008,2,    0.05,2,  2218.7,2,  2310.6,2,   7.5766,2,    25.00,   0.030,2,   1.8257,2,    2.51,2,   5.6057,2, -999.00,9,  -999.0,9,  -999.0,   7.886,2,   0.036,-999.000,9, -999.00,1, -999.00,9, -999.00,9,  16.0715, -52.3326,   0.011,   0.0077,    0.15,   5.5260,   5.6057,2,    34.9130,2,  -999.0,9,     -999.0,1,     -999.0,1,     -999.0,9,       2333
33AT20120419,        A20,      32,          1,         20,         20,2,20120427,       2158,    16.0718,   -52.3327,       5033,  1006.5,   5.4884,  34.8200,2,  34.8211,2,    149.8,2,   150.9,2,   24.45,2,   30.05,2,    0.00,2,    2.01,2,   0.174,2,   0.072,2,   0.006,2,    0.03,2,  2212.6,2,  2314.8,2,   7.6011,6,    25.00,   0.018,2,-999.0000,9, -999.00,9,   5.4890,2, -999.00,9,  -999.0,9,  -999.0,-999.000,9,-999.000,-999.000,9, -999.00,1, -999.00,9, -999.00,9,  16.0715, -52.3326,   0.011,-999.0000, -999.00,   5.4003,   5.4890,2,    34.9853,2,  -999.0,9,     -999.0,1,     -999.0,1,     -999.0,9,       2330
33AT20120419,        A20,      32,          1,         19,         19,2,20120427,       2158,    16.0718,   -52.3327,       5033,  1108.6,   5.3869,  34.8911,2,  34.8896,2,    165.0,2,   165.6,2,   22.78,2,   27.89,2,    0.00,2,    1.86,2,   0.221,2,   0.092,2,   0.006,2,    0.06,2,  -999.0,9,  -999.0,9,-999.0000,9,  -999.00,   0.048,2,   1.8165,2,    2.83,2,   5.3874,2, -999.00,9,  -999.0,9,  -999.0,   7.859,2,   0.036,-999.000,9, -999.00,1, -999.00,9, -999.00,9,  16.0715, -52.3326,   0.011,   0.0076,    0.15,   5.2897,   5.3874,2,    35.0541,2,  -999.0,9,     -999.0,1,     -999.0,1,     -999.0,9,       2328
33AT20120419,        A20,      32,          1,         18,         18,2,20120427,       2158,    16.0718,   -52.3327,       5033,  1209.7,   5.2530,  34.9387,2,  34.9356,2,    182.5,2,   179.3,2,   21.08,2,   26.03,2,    0.00,2,    1.75,2,   0.289,2,   0.118,2,   0.007,2,    0.09,2,  2197.8,2,  2318.6,2,   7.6518,2,    25.00,   0.074,2,   1.8289,2,    3.45,2,   5.2543,2, -999.00,9,  -999.0,9,  -999.0,   7.884,2,   0.036,-999.000,9, -999.00,9, -999.00,9, -999.00,9,  16.0715, -52.3326,   0.011,   0.0077,    0.15,   5.1472,   5.2543,2,    35.1003,2,  -999.0,9,     -999.0,9,     -999.0,9,     -999.0,9,       2324
33AT20120419,        A20,      32,          1,         17,         17,2,20120427,       2158,    16.0718,   -52.3327,       5033,  1310.3,   5.0872,  34.9873,2,  34.9852,2,    208.2,2,   201.1,2,   18.60,2,   23.12,2,    0.00,2,    1.55,2,   0.554,2,   0.250,2,   0.022,2,    0.14,2,  -999.0,9,  -999.0,9,-999.0000,9,  -999.00,   0.133,2,   1.8356,2,    4.70,2,   5.0884,2, -999.00,9,  -999.0,9,  -999.0,   7.879,2,   0.036,-999.000,9, -999.00,9, -999.00,9, -999.00,9,  16.0715, -52.3326,   0.011,   0.0077,    0.15,   4.9732,   5.0884,2,    35.1502,2,  -999.0,9,     -999.0,9,     -999.0,9,     -999.0,9,       2321
33AT20120419,        A20,      32,          1,         16,         16,2,20120427,       2158,    16.0718,   -52.3327,       5033,  1411.9,   4.7564,  34.9987,2,  34.9966,2,    216.8,2,   215.9,2,   17.58,2,   21.78,2,    0.00,2,    1.45,2,   0.552,2,   0.253,2,   0.020,2,    0.12,2,  2180.3,2,  2319.1,2,   7.7002,2,    25.00,   0.132,2,   1.8493,2,    4.85,2,   4.7575,2, -999.00,9,  -999.0,9,  -999.0,   7.971,2,   0.037,-999.000,9, -999.00,9, -999.00,9, -999.00,9,  16.0715, -52.3326,   0.011,   0.0078,    0.15,   4.6361,   4.7575,2,    35.1616,2,  -999.0,9,     -999.0,9,     -999.0,9,     -999.0,9,       2319
33AT20120419,        A20,      32,          1,         15,         15,2,20120427,       2158,    16.0718,   -52.3327,       5033,  1513.6,   4.5147,  35.0065,2,  35.0063,2,    231.4,2,   234.5,2,   15.49,2,   19.84,2,    0.00,2,    1.32,2,   0.900,2,   0.419,2,   0.031,2,    0.24,2,  -999.0,9,  -999.0,9,-999.0000,9,  -999.00,   0.201,2,   1.8580,2,    6.16,2,   4.5166,2, -999.00,9,  -999.0,9,  -999.0,   7.961,2,   0.037,-999.000,9, -999.00,9, -999.00,9, -999.00,9,  16.0714, -52.3326,   0.011,   0.0078,    0.15,   4.3873,   4.5166,2,    35.1713,2,  -999.0,9,     -999.0,9,     -999.0,9,     -999.0,9,       2315
33AT20120419,        A20,      32,          1,         14,         14,2,20120427,       2158,    16.0718,   -52.3327,       5033,  1614.5,   4.2784,  35.0001,2,  35.0002,2,    242.0,2,   242.7,2,   15.13,2,   19.21,2,    0.00,2,    1.28,2,   0.896,2,   0.394,2,   0.028,2,    0.21,2,  -999.0,9,  -999.0,9,-999.0000,9,  -999.00,   0.209,2,   1.8584,2,    5.85,2,   4.2785,2, -999.00,9,  -999.0,9,  -999.0,   8.060,2,   0.037,-999.000,9, -999.00,9, -999.00,9, -999.00,9,  16.0714, -52.3326,   0.011,   0.0078,    0.15,   4.1442,   4.2785,2,    35.1652,2,  -999.0,9,     -999.0,9,     -999.0,9,     -999.0,9,       2313
33AT20120419,        A20,      32,          1,         13,         13,2,20120427,       2158,    16.0718,   -52.3327,       5033,  1816.9,   3.9116,  34.9875,2,  34.9892,4,    251.2,2,   250.4,2,   16.20,2,   18.79,2,    0.00,2,    1.26,2,   0.698,2,   0.302,2,   0.026,2,    0.15,2,  2165.7,2,  2317.5,2,   7.7345,2,    25.00,   0.161,2,   1.8653,2,    5.03,2,   3.9132,2, -999.00,9,  -999.0,9,  -999.0,   8.024,2,   0.037,-999.000,9, -999.00,9, -999.00,9, -999.00,9,  16.0715, -52.3326,   0.011,   0.0078,    0.15,   3.7629,   3.9132,2,    35.1542,4,  -999.0,9,     -999.0,9,     -999.0,9,     -999.0,9,       2308
33AT20120419,        A20,      32,          1,         12,         12,2,20120427,       2158,    16.0718,   -52.3327,       5033,  2019.9,   3.5578,  34.9791,2,  34.9785,2,    251.1,2,   250.6,2,   20.02,2,   19.12,2,    0.00,2,    1.29,2,   0.291,2,   0.126,2,   0.022,2,    0.07,2,  2166.5,2,  2321.9,6,   7.7407,2,    25.00,   0.078,2,   1.8302,2,    3.59,2,   3.5576,2, -999.00,9,  -999.0,9,  -999.0,   7.986,2,   0.037,-999.000,9, -999.00,9, -999.00,9, -999.00,9,  16.0714, -52.3326,   0.011,   0.0077,    0.15,   3.3949,   3.5576,2,    35.1435,2,  -999.0,9,     -999.0,9,     -999.0,9,     -999.0,9,       2304
33AT20120419,        A20,      32,          1,         11,         11,2,20120427,       2158,    16.0718,   -52.3327,       5033,  2274.2,   3.2193,  34.9617,2,  34.9609,2,    252.6,2,   253.3,2,   23.05,2,   19.12,2,    0.00,2,    1.30,2,   0.226,2,   0.093,2,   0.005,2,    0.05,2,  2168.2,2,  2323.9,2,   7.7420,2,    25.00,   0.040,2,   1.8632,2,    3.56,2,   3.2203,2, -999.00,9,  -999.0,9,  -999.0,   8.132,2,   0.037,-999.000,9, -999.00,9, -999.00,9, -999.00,9,  16.0713, -52.3325,   0.011,   0.0078,    0.15,   3.0374,   3.2203,2,    35.1257,2,  -999.0,9,     -999.0,9,     -999.0,9,     -999.0,9,       2258
33AT20120419,        A20,      32,          1,         10,         10,2,20120427,       2158,    16.0718,   -52.3327,       5033,  2528.2,   2.9730,  34.9454,2,  34.9443,2,    254.9,2,   255.1,2,   25.74,2,   19.18,2,    0.00,2,    1.30,2,   0.245,2,   0.106,2,   0.011,2,    0.08,2,  -999.0,9,  -999.0,9,-999.0000,9,  -999.00,-999.000,9,-999.0000,9, -999.00,9,   2.9729,2, -999.00,9,  -999.0,9,  -999.0,-999.000,9,-999.000,-999.000,9, -999.00,9, -999.00,9, -999.00,9,  16.0714, -52.3326,-999.000,-999.0000, -999.00,   2.7707,   2.9729,2,    35.1091,2,  -999.0,9,     -999.0,9,     -999.0,9,     -999.0,9,       2253
33AT20120419,        A20,      32,          1,          9,          9,2,20120427,       2158,    16.0718,   -52.3327,       5033,  2783.2,   2.8265,  34.9348,2,  34.9345,2,    253.9,2,   253.7,2,   29.29,2,   19.62,2,    0.00,2,    1.33,2,   0.204,2,   0.084,2,   0.010,2,    0.05,2,  2174.2,2,  2329.5,2,   7.7391,2,    25.00,   0.030,2,   1.8654,2,    4.01,2,   2.8268,2, -999.00,9,  -999.0,9,  -999.0,   8.160,2,   0.038,-999.000,9, -999.00,9, -999.00,9, -999.00,9,  16.0715, -52.3326,   0.011,   0.0078,    0.15,   2.6017,   2.8268,2,    35.0992,2,  -999.0,9,     -999.0,9,     -999.0,9,     -999.0,9,       2248
33AT20120419,        A20,      32,          1,          8,          8,2,20120427,       2158,    16.0718,   -52.3327,       5033,  3036.7,   2.7005,  34.9248,2,  34.9237,2,    252.2,2,   251.7,2,   33.17,2,   20.11,2,    0.00,2,    1.37,2,   0.158,2,   0.062,2,   0.013,2,    0.07,2,  -999.0,9,  -999.0,9,-999.0000,9,  -999.00,-999.000,9,-999.0000,9, -999.00,9,   2.7011,2, -999.00,9,  -999.0,9,  -999.0,-999.000,9,-999.000,-999.000,9, -999.00,9, -999.00,9, -999.00,9,  16.0717, -52.3326,-999.000,-999.0000, -999.00,   2.4524,   2.7011,2,    35.0884,2,  -999.0,9,     -999.0,9,     -999.0,9,     -999.0,9,       2243
33AT20120419,        A20,      32,          1,          7,          7,2,20120427,       2158,    16.0718,   -52.3327,       5033,  3343.7,   2.5648,  34.9123,2,  34.9120,2,    250.8,2,   251.1,2,   36.88,2,   20.50,2,    0.00,2,    1.40,2,   0.148,2,   0.059,2,   0.012,2,    0.05,2,  2182.8,2,  2336.0,2,   7.7344,2,    25.00,-999.000,9,-999.0000,9, -999.00,9,   2.5630,2, -999.00,9,  -999.0,9,  -999.0,-999.000,9,-999.000,-999.000,9, -999.00,9, -999.00,9, -999.00,9,  16.0717, -52.3326,-999.000,-999.0000, -999.00,   2.2876,   2.5630,2,    35.0766,2,  -999.0,9,     -999.0,9,     -999.0,9,     -999.0,9,       2237