BOTTLE,20220712CCHSIOCBG
EXPOCODE,SECT_ID,STNNBR,CASTNO,SAMPNO,BTLNBR,BTLNBR_FLAG_W,DATE,TIME,LATITUDE,LONGITUDE,DEPTH,CTDPRS,CTDTMP,CTDSAL,CTDSAL_FLAG_W,SALNTY,SALNTY_FLAG_W,CTDOXY,CTDOXY_FLAG_W,OXYGEN,OXYGEN_FLAG_W,SILCAT,SILCAT_FLAG_W,NITRAT,NITRAT_FLAG_W,NITRIT,NITRIT_FLAG_W,PHSPHT,PHSPHT_FLAG_W,CFC-11,CFC-11_FLAG_W,CFC-12,CFC-12_FLAG_W,CFC113,CFC113_FLAG_W,SF6,SF6_FLAG_W,TCARBN,TCARBN_FLAG_W,ALKALI,ALKALI_FLAG_W,PH_TOT,PH_TOT_FLAG_W,PH_TMP,TRITUM,TRITUM_FLAG_W,HELIUM,HELIUM_FLAG_W,DELHE3,DELHE3_FLAG_W,REFTMP,REFTMP_FLAG_W,DELC13,DELC13_FLAG_W,DELC14,DELC14_FLAG_W,C14ERR,NEON,NEON_FLAG_W,NEONER,CCL4,CCL4_FLAG_W,DELO18,DELO18_FLAG_W,DOC,DOC_FLAG_W,TDN,TDN_FLAG_W,BTL_LAT,BTL_LON,TRITER,HELIER,DELHER,THETA,SBE35,SBE35_FLAG_W,SALTREF,SALTREF_FLAG_W,14C-DOC,14C-DOC_FLAG_W,DELO17,DELO17_FLAG_W,O2/AR,O2/AR_FLAG_W,SIP,SIP_FLAG_W,BTL_TIME
,,,,,,,,,,,METERS,DBAR,ITS-90,PSS-78,,PSS-78,,UMOL/KG,,UMOL/KG,,UMOL/KG,,UMOL/KG,,UMOL/KG,,UMOL/KG,,PMOL/KG,,PMOL/KG,,PMOL/KG,,FMOL/KG,,UMOL/KG,,UMOL/KG,,,,DEG C,TU,,NMOL/KG,,PERCNT,,DEG C,,/MILLE,,/MILLE,,/MILLE,NMOL/KG,,NMOL/KG,PMOL/KG,,/MILLE,,UMOL/KG,,UMOL/KG,,,,TU,NMOL/KG,PERCNT,DEG C,ITS-90,,G/KG,,/MILLE,,/MILLE,,,,,,
33AT20120419,        A20,      70,          1,         36,         36,2,20120510,       0355,    41.4861,   -52.0367,       4730,     3.4,  14.7036,  35.3371,2,  35.3397,2,    268.3,2,   267.7,2,    0.00,2,    0.00,2,    0.00,2,    0.01,2,   2.793,2,   1.653,2,   0.244,2,    1.87,2,  2051.4,6,  2336.0,2,-999.0000,9,  -999.00,-999.000,9,-999.0000,9, -999.00,9,  14.6941,2, -999.00,9,  -999.0,9,  -999.0,-999.000,9,-999.000,-999.000,9, -999.00,9, -999.00,9, -999.00,9,  41.4886, -52.0370,-999.000,-999.0000, -999.00,  14.7031,  14.6941,2,    35.5064,2,  -999.0,9,     -999.0,9,     -999.0,9,     -999.0,9,       0602
33AT20120419,        A20,      70,          1,         35,         35,2,20120510,       0355,    41.4861,   -52.0367,       4730,    20.6,  14.6691,  35.3288,2,  35.3220,2,    267.1,2,   268.0,2,    0.00,2,    0.01,2,    0.00,2,    0.01,2,   2.809,2,   1.650,2,   0.246,2,    1.88,2,  -999.0,9,  -999.0,9,-999.0000,9,  -999.00,-999.000,9,-999.0000,9, -999.00,9,  14.6504,2, -999.00,9,  -999.0,9,  -999.0,-999.000,9,-999.000,-999.000,9, -999.00,9, -999.00,9, -999.00,9,  41.4886, -52.0370,-999.000,-999.0000, -999.00,  14.6660,  14.6504,2,    35.4885,2,  -999.0,9,     -999.0,9,     -999.0,9,     -999.0,9,       0600
33AT20120419,        A20,      70,          1,         34,         34,2,20120510,       0355,    41.4861,   -52.0367,       4730,    39.4,  14.1335,  35.2169,2,  35.2171,2,    260.5,2,   264.4,2,    0.00,2,    0.00,2,    0.02,2,    0.04,2,   2.916,2,   1.757,2,   0.261,2,    1.83,2,  2062.2,2,  2332.2,2,-999.0000,9,  -999.00,-999.000,9,-999.0000,9, -999.00,9,  14.1338,2, -999.00,9,  -999.0,9,  -999.0,-999.000,9,-999.000,-999.000,9, -999.00,9, -999.00,9, -999.00,9,  41.4886, -52.0370,-999.000,-999.0000, -999.00,  14.1278,  14.1338,2,    35.3832,2,  -999.0,9,     -999.0,9,     -999.0,9,     -999.0,9,       0558
33AT20120419,        A20,      70,          1,         33,         33,2,20120510,       0355,    41.4861,   -52.0367,       4730,    86.5,  14.0106,  35.4625,2,  35.4598,2,    236.4,2,   235.0,2,    2.18,2,    5.47,2,    0.03,2,    0.34,2,   2.787,2,   1.683,2,   0.256,2,    1.79,2,  -999.0,9,  -999.0,9,-999.0000,9,  -999.00,-999.000,9,-999.0000,9, -999.00,9,  14.0132,2, -999.00,9,  -999.0,9,  -999.0,-999.000,9,-999.000,-999.000,9, -999.00,9, -999.00,9, -999.00,9,  41.4886, -52.0370,-999.000,-999.0000, -999.00,  13.9981,  14.0132,2,    35.6270,2,  -999.0,9,     -999.0,9,     -999.0,9,     -999.0,9,       0554
33AT20120419,        A20,      70,          1,         32,         32,2,20120510,       0355,    41.4861,   -52.0367,       4730,   139.4,  14.2745,  35.5887,2,  35.5854,2,    232.2,2,   227.5,2,    2.48,2,    6.31,2,    0.02,2,    0.38,2,   2.704,2,   1.623,2,   0.194,2,    1.70,2,  2109.7,2,  2348.5,2,-999.0000,9,  -999.00,-999.000,9,-999.0000,9, -999.00,9,  14.2819,2, -999.00,9,  -999.0,9,  -999.0,-999.000,9,-999.000,-999.000,9, -999.00,9, -999.00,9, -999.00,9,  41.4886, -52.0370,-999.000,-999.0000, -999.00,  14.2540,  14.2819,2,    35.7532,2,  -999.0,9,     -999.0,9,     -999.0,9,     -999.0,9,       0550
33AT20120419,        A20,      70,          1,         31,         31,2,20120510,       0355,    41.4861,   -52.0367,       4730,   190.7,  14.3240,  35.7055,2,  35.7043,2,    189.7,2,   199.6,2,    3.58,2,    9.44,2,    0.02,2,    0.57,2,   2.540,2,   1.503,2,   0.138,2,    1.50,2,  -999.0,9,  -999.0,9,-999.0000,9,  -999.00,-999.000,9,-999.0000,9, -999.00,9,  14.3232,2, -999.00,9,  -999.0,9,  -999.0,-999.000,9,-999.000,-999.000,9, -999.00,9, -999.00,9, -999.00,9,  41.4885, -52.0370,-999.000,-999.0000, -999.00,  14.2958,  14.3232,2,    35.8726,2,  -999.0,9,     -999.0,9,     -999.0,9,     -999.0,9,       0548
33AT20120419,        A20,      70,          1,         30,         30,2,20120510,       0355,    41.4861,   -52.0367,       4730,   237.5,  14.0728,  35.8033,2,  35.8048,2,    160.8,2,   163.7,2,    5.57,2,   14.05,2,    0.02,2,    0.84,2,   2.248,2,   1.272,2,   0.054,2,    0.95,2,  2155.9,2,  2349.4,2,-999.0000,9,  -999.00,-999.000,9,-999.0000,9, -999.00,9,  14.0840,2, -999.00,9,  -999.0,9,  -999.0,-999.000,9,-999.000,-999.000,9, -999.00,9, -999.00,9, -999.00,9,  41.4885, -52.0370,-999.000,-999.0000, -999.00,  14.0381,  14.0840,2,    35.9736,2,  -999.0,9,     -999.0,9,     -999.0,9,     -999.0,9,       0546
33AT20120419,        A20,      70,          1,         29,         29,2,20120510,       0355,    41.4861,   -52.0367,       4730,   290.1,  12.4670,  35.5851,2,  35.5876,2,    150.3,2,   147.4,2,    8.61,2,   18.51,2,    0.02,2,    1.13,2,   1.934,2,   1.106,2,   0.040,2,    0.88,2,  2173.5,2,  2339.5,2,-999.0000,9,  -999.00,-999.000,9,-999.0000,9, -999.00,9,  12.4699,2, -999.00,9,  -999.0,9,  -999.0,-999.000,9,-999.000,-999.000,9, -999.00,9, -999.00,9, -999.00,9,  41.4885, -52.0370,-999.000,-999.0000, -999.00,  12.4278,  12.4699,2,    35.7554,2,  -999.0,9,     -999.0,9,     -999.0,9,     -999.0,9,       0543
33AT20120419,        A20,      70,          1,         28,         28,2,20120510,       0355,    41.4861,   -52.0367,       4730,   337.1,  11.0962,  35.4059,2,  35.4067,2,    142.8,2,   143.6,2,   10.73,2,   21.11,2,    0.02,2,    1.31,2,   1.911,2,   0.915,2,   0.042,2,    0.78,2,  2182.2,2,  2330.5,2,-999.0000,9,  -999.00,-999.000,9,-999.0000,9, -999.00,9,  11.0702,2, -999.00,9,  -999.0,9,  -999.0,-999.000,9,-999.000,-999.000,9, -999.00,9, -999.00,9, -999.00,9,  41.4884, -52.0370,-999.000,-999.0000, -999.00,  11.0539,  11.0702,2,    35.5736,2,  -999.0,9,     -999.0,9,     -999.0,9,     -999.0,9,       0541
33AT20120419,        A20,      70,          1,         27,         27,2,20120510,       0355,    41.4861,   -52.0367,       4730,   384.9,  10.2543,  35.3054,2,  35.3032,2,    141.7,2,   140.9,2,   12.28,2,   22.75,2,    0.02,2,    1.42,2,   1.543,2,   0.810,2,   0.032,2,    0.65,2,  2188.0,2,  2326.1,2,-999.0000,9,  -999.00,-999.000,9,-999.0000,9, -999.00,9,  10.2373,2, -999.00,9,  -999.0,9,  -999.0,-999.000,9,-999.000,-999.000,9, -999.00,9, -999.00,9, -999.00,9,  41.4884, -52.0370,-999.000,-999.0000, -999.00,  10.2083,  10.2373,2,    35.4697,2,  -999.0,9,     -999.0,9,     -999.0,9,     -999.0,9,       0539
33AT20120419,        A20,      70,          1,         26,         26,2,20120510,       0355,    41.4861,   -52.0367,       4730,   433.7,   8.9377,  35.1622,2,  35.1688,2,    150.4,2,   150.2,2,   13.54,2,   23.41,2,    0.00,2,    1.49,2,   1.550,2,   0.794,2,   0.053,2,    0.66,2,  2190.1,2,  2318.8,2,-999.0000,9,  -999.00,-999.000,9,-999.0000,9, -999.00,9,   8.9254,2, -999.00,9,  -999.0,9,  -999.0,-999.000,9,-999.000,-999.000,9, -999.00,9, -999.00,9, -999.00,9,  41.4884, -52.0370,-999.000,-999.0000, -999.00,   8.8900,   8.9254,2,    35.3347,2,  -999.0,9,     -999.0,9,     -999.0,9,     -999.0,9,       0537
33AT20120419,        A20,      70,          1,         25,         25,2,20120510,       0355,    41.4861,   -52.0367,       4730,   491.3,   7.2441,  34.9769,2,  34.9771,2,    181.6,2,   182.5,2,   12.98,2,   21.42,2,    0.00,2,    1.40,2,   2.110,2,   1.106,2,   0.110,2,    1.00,2,  2182.1,2,  2309.4,2,-999.0000,9,  -999.00,-999.000,9,-999.0000,9, -999.00,9,   7.2457,2, -999.00,9,  -999.0,9,  -999.0,-999.000,9,-999.000,-999.000,9, -999.00,9, -999.00,9, -999.00,9,  41.4883, -52.0370,-999.000,-999.0000, -999.00,   7.1962,   7.2457,2,    35.1420,2,  -999.0,9,     -999.0,9,     -999.0,9,     -999.0,9,       0535
33AT20120419,        A20,      70,          1,         24,         24,2,20120510,       0355,    41.4861,   -52.0367,       4730,   569.6,   6.5177,  34.9935,2,  34.9948,2,    195.9,2,   197.8,2,   12.86,2,   20.75,2,    0.00,2,    1.36,2,   2.229,2,   1.164,2,   0.126,2,    0.85,2,  2180.3,2,  2310.5,2,-999.0000,9,  -999.00,-999.000,9,-999.0000,9, -999.00,9,   6.5151,2, -999.00,9,  -999.0,9,  -999.0,-999.000,9,-999.000,-999.000,9, -999.00,9, -999.00,9, -999.00,9,  41.4883, -52.0370,-999.000,-999.0000, -999.00,   6.4650,   6.5151,2,    35.1598,2,  -999.0,9,     -999.0,9,     -999.0,9,     -999.0,9,       0532
33AT20120419,        A20,      70,          1,         23,         23,2,20120510,       0355,    41.4861,   -52.0367,       4730,   666.2,   5.3599,  34.9403,2,  34.9418,2,    234.1,2,   232.4,2,   11.60,2,   18.50,2,    0.00,2,    1.23,2,   3.015,2,   1.615,2,   0.206,2,    1.30,2,  -999.0,9,  -999.0,9,-999.0000,9,  -999.00,-999.000,9,-999.0000,9, -999.00,9,   5.3635,2, -999.00,9,  -999.0,9,  -999.0,-999.000,9,-999.000,-999.000,9, -999.00,9, -999.00,9, -999.00,9,  41.4883, -52.0370,-999.000,-999.0000, -999.00,   5.3037,   5.3635,2,    35.1066,2,  -999.0,9,     -999.0,9,     -999.0,9,     -999.0,9,       0529
33AT20120419,        A20,      70,          1,         22,         22,2,20120510,       0355,    41.4861,   -52.0367,       4730,   768.0,   5.1092,  34.9842,2,  34.9843,2,    250.4,2,   241.8,2,   11.25,2,   18.24,2,    0.00,2,    1.21,2,   3.027,2,   1.566,2,   0.203,2,    1.18,2,  2170.2,2,  2311.2,2,-999.0000,9,  -999.00,-999.000,9,-999.0000,9, -999.00,9,   5.1103,2, -999.00,9,  -999.0,9,  -999.0,-999.000,9,-999.000,-999.000,9, -999.00,9, -999.00,9, -999.00,9,  41.4883, -52.0370,-999.000,-999.0000, -999.00,   5.0453,   5.1103,2,    35.1493,2,  -999.0,9,     -999.0,9,     -999.0,9,     -999.0,9,       0526
33AT20120419,        A20,      70,          1,         21,         21,2,20120510,       0355,    41.4861,   -52.0367,       4730,   871.4,   4.4815,  34.9226,2,  34.9218,2,    267.6,2,   268.3,2,    9.46,2,   16.68,2,    0.00,2,    1.10,2,   3.919,2,   2.148,2,   0.304,2,    1.82,2,  -999.0,9,  -999.0,9,-999.0000,9,  -999.00,-999.000,9,-999.0000,9, -999.00,9,   4.4820,2, -999.00,9,  -999.0,9,  -999.0,-999.000,9,-999.000,-999.000,9, -999.00,9, -999.00,9, -999.00,9,  41.4882, -52.0370,-999.000,-999.0000, -999.00,   4.4126,   4.4820,2,    35.0864,2,  -999.0,9,     -999.0,9,     -999.0,9,     -999.0,9,       0523
33AT20120419,        A20,      70,          1,         20,         20,2,20120510,       0355,    41.4861,   -52.0367,       4730,   978.8,   4.5322,  34.9577,2,  34.9566,2,    264.6,2,   263.2,2,   10.15,2,   17.17,2,    0.00,2,    1.13,2,   3.581,2,   1.931,2,   0.264,2,    1.61,2,  2163.7,2,  2307.3,2,-999.0000,9,  -999.00,-999.000,9,-999.0000,9, -999.00,9,   4.5343,2, -999.00,9,  -999.0,9,  -999.0,-999.000,9,-999.000,-999.000,9, -999.00,9, -999.00,9, -999.00,9,  41.4881, -52.0370,-999.000,-999.0000, -999.00,   4.4536,   4.5343,2,    35.1214,2,  -999.0,9,     -999.0,9,     -999.0,9,     -999.0,9,       0520
33AT20120419,        A20,      70,          1,         19,         19,2,20120510,       0355,    41.4861,   -52.0367,       4730,  1078.2,   4.4018,  34.9577,2,  34.9573,2,    263.9,2,   265.0,2,   10.24,2,   17.18,2,    0.00,2,    1.12,2,   3.552,2,   1.898,2,   0.249,2,    1.44,2,  -999.0,9,  -999.0,9,-999.0000,9,  -999.00,-999.000,9,-999.0000,9, -999.00,9,   4.4021,2, -999.00,9,  -999.0,9,  -999.0,-999.000,9,-999.000,-999.000,9, -999.00,9, -999.00,9, -999.00,9,  41.4881, -52.0370,-999.000,-999.0000, -999.00,   4.3155,   4.4021,2,    35.1222,2,  -999.0,9,     -999.0,9,     -999.0,9,     -999.0,9,       0517
33AT20120419,        A20,      70,          1,         18,         18,2,20120510,       0355,    41.4861,   -52.0367,       4730,  1177.4,   4.2790,  34.9522,2,  34.9516,2,    266.1,2,   266.7,2,   10.31,2,   17.15,2,    0.00,2,    1.12,2,   3.552,2,   1.872,2,   0.248,2,    1.39,2,  2164.0,2,  2306.8,2,-999.0000,9,  -999.00,-999.000,9,-999.0000,9, -999.00,9,   4.2787,2, -999.00,9,  -999.0,9,  -999.0,-999.000,9,-999.000,-999.000,9, -999.00,9, -999.00,9, -999.00,9,  41.4881, -52.0370,-999.000,-999.0000, -999.00,   4.1850,   4.2787,2,    35.1164,2,  -999.0,9,     -999.0,9,     -999.0,9,     -999.0,9,       0514
33AT20120419,        A20,      70,          1,         17,         17,2,20120510,       0355,    41.4861,   -52.0367,       4730,  1275.5,   4.2038,  34.9519,2,  34.9518,2,    266.3,2,   266.5,2,   10.66,2,   17.15,2,    0.00,2,    1.13,2,   3.443,2,   1.809,2,   0.237,2,    1.30,2,  -999.0,9,  -999.0,9,-999.0000,9,  -999.00,-999.000,9,-999.0000,9, -999.00,9,   4.2044,2, -999.00,9,  -999.0,9,  -999.0,-999.000,9,-999.000,-999.000,9, -999.00,9, -999.00,9, -999.00,9,  41.4880, -52.0370,-999.000,-999.0000, -999.00,   4.1017,   4.2044,2,    35.1166,2,  -999.0,9,     -999.0,9,     -999.0,9,     -999.0,9,       0511
33AT20120419,        A20,      70,          1,         16,         16,2,20120510,       0355,    41.4861,   -52.0367,       4730,  1379.2,   4.1222,  34.9500,2,  34.9491,2,    267.6,2,   266.7,2,   10.88,2,   17.20,2,    0.00,2,    1.13,2,   3.359,2,   1.720,2,   0.229,2,    1.19,2,  2163.1,2,  2306.1,2,-999.0000,9,  -999.00,-999.000,9,-999.0000,9, -999.00,9,   4.1227,2, -999.00,9,  -999.0,9,  -999.0,-999.000,9,-999.000,-999.000,9, -999.00,9, -999.00,9, -999.00,9,  41.4879, -52.0369,-999.000,-999.0000, -999.00,   4.0117,   4.1227,2,    35.1139,2,  -999.0,9,     -999.0,9,     -999.0,9,     -999.0,9,       0509
33AT20120419,        A20,      70,          1,         15,         15,2,20120510,       0355,    41.4861,   -52.0367,       4730,  1485.3,   4.0216,  34.9502,2,  34.9496,2,    266.8,2,   266.4,2,   11.24,2,   17.28,2,    0.00,2,    1.14,2,   3.161,2,   1.618,2,   0.214,2,    0.94,2,  -999.0,9,  -999.0,9,-999.0000,9,  -999.00,-999.000,9,-999.0000,9, -999.00,9,   4.0221,2, -999.00,9,  -999.0,9,  -999.0,-999.000,9,-999.000,-999.000,9, -999.00,9, -999.00,9, -999.00,9,  41.4878, -52.0369,-999.000,-999.0000, -999.00,   3.9025,   4.0221,2,    35.1144,2,  -999.0,9,     -999.0,9,     -999.0,9,     -999.0,9,       0506
33AT20120419,        A20,      70,          1,         14,         14,2,20120510,       0355,    41.4861,   -52.0367,       4730,  1585.2,   3.8874,  34.9399,2,  34.9396,2,    267.6,2,   268.9,2,   11.33,2,   17.18,2,    0.00,2,    1.14,2,   3.148,2,   1.607,2,   0.210,2,    0.92,2,  2161.3,2,  2306.7,2,-999.0000,9,  -999.00,-999.000,9,-999.0000,9, -999.00,9,   3.8879,2, -999.00,9,  -999.0,9,  -999.0,-999.000,9,-999.000,-999.000,9, -999.00,9, -999.00,9, -999.00,9,  41.4877, -52.0369,-999.000,-999.0000, -999.00,   3.7608,   3.8879,2,    35.1044,2,  -999.0,9,     -999.0,9,     -999.0,9,     -999.0,9,       0503
33AT20120419,        A20,      70,          1,         13,         13,2,20120510,       0355,    41.4861,   -52.0367,       4730,  1757.5,   3.8257,  34.9491,2,  34.9496,2,    266.4,2,   267.6,2,   12.13,2,   17.44,2,    0.00,2,    1.16,2,   2.658,2,   1.315,2,   0.154,2,    0.65,2,  -999.0,9,  -999.0,9,-999.0000,9,  -999.00,-999.000,9,-999.0000,9, -999.00,9,   3.8258,2, -999.00,9,  -999.0,9,  -999.0,-999.000,9,-999.000,-999.000,9, -999.00,9, -999.00,9, -999.00,9,  41.4877, -52.0369,-999.000,-999.0000, -999.00,   3.6839,   3.8258,2,    35.1144,2,  -999.0,9,     -999.0,9,     -999.0,9,     -999.0,9,       0459
33AT20120419,        A20,      70,          1,         11,         11,2,20120510,       0355,    41.4861,   -52.0367,       4730,  1962.0,   3.6907,  34.9509,2,  34.9504,2,    266.9,2,   266.6,2,   13.21,2,   17.64,2,    0.00,2,    1.17,2,-999.000,9,-999.000,9,-999.000,9, -999.00,9,  -999.0,9,  -999.0,9,-999.0000,9,  -999.00,-999.000,9,-999.0000,9, -999.00,9,   3.6919,2, -999.00,9,  -999.0,9,  -999.0,-999.000,9,-999.000,-999.000,9, -999.00,9, -999.00,9, -999.00,9,  41.4876, -52.0369,-999.000,-999.0000, -999.00,   3.5314,   3.6919,2,    35.1152,2,  -999.0,9,     -999.0,9,     -999.0,9,     -999.0,9,       0454
33AT20120419,        A20,      70,          1,         12,         12,2,20120510,       0355,    41.4861,   -52.0367,       4730,  1962.4,   3.6915,  34.9510,2,  34.9516,2,    266.9,2,   266.1,2,   13.22,2,   17.63,2,    0.00,2,    1.17,2,-999.000,5,-999.000,5,-999.000,5, -999.00,5,  2158.9,2,  2309.1,2,-999.0000,9,  -999.00,-999.000,9,-999.0000,9, -999.00,9,   3.6928,2, -999.00,9,  -999.0,9,  -999.0,-999.000,9,-999.000,-999.000,9, -999.00,9, -999.00,9, -999.00,9,  41.4876, -52.0369,-999.000,-999.0000, -999.00,   3.5322,   3.6928,2,    35.1164,2,  -999.0,9,     -999.0,9,     -999.0,9,     -999.0,9,       0455
33AT20120419,        A20,      70,          1,         10,         10,2,20120510,       0355,    41.4861,   -52.0367,       4730,  2192.1,   3.4368,  34.9299,2,  34.9293,2,    271.4,2,   271.3,2,   13.10,2,   17.21,2,    0.00,2,    1.14,2,   2.456,2,   1.156,2,   0.120,2,    0.56,2,  2158.5,2,  2307.2,2,-999.0000,9,  -999.00,-999.000,9,-999.0000,9, -999.00,9,   3.4380,2, -999.00,9,  -999.0,9,  -999.0,-999.000,9,-999.000,-999.000,9, -999.00,9, -999.00,9, -999.00,9,  41.4875, -52.0369,-999.000,-999.0000, -999.00,   3.2594,   3.4380,2,    35.0940,2,  -999.0,9,     -999.0,9,     -999.0,9,     -999.0,9,       0449
33AT20120419,        A20,      70,          1,          9,          9,2,20120510,       0355,    41.4861,   -52.0367,       4730,  2444.6,   3.3040,  34.9364,2,  34.9366,2,    267.8,2,   268.6,2,   15.02,2,   17.46,2,    0.00,2,    1.16,2,   1.881,2,   0.906,2,   0.077,2,    0.38,2,  -999.0,9,  -999.0,9,-999.0000,9,  -999.00,-999.000,9,-999.0000,9, -999.00,9,   3.3084,2, -999.00,9,  -999.0,9,  -999.0,-999.000,9,-999.000,-999.000,9, -999.00,9, -999.00,9, -999.00,9,  41.4874, -52.0369,-999.000,-999.0000, -999.00,   3.1040,   3.3084,2,    35.1014,2,  -999.0,9,     -999.0,9,     -999.0,9,     -999.0,9,       0444
33AT20120419,        A20,      70,          1,          8,          8,2,20120510,       0355,    41.4861,   -52.0367,       4730,  2698.4,   3.1018,  34.9286,2,  34.9291,2,    271.8,2,   271.1,2,   15.71,2,   17.27,2,    0.00,2,    1.14,2,   1.911,2,   0.918,2,   0.085,2,    0.37,2,  -999.0,9,  -999.0,9,-999.0000,9,  -999.00,-999.000,9,-999.0000,9, -999.00,9,   3.1022,2, -999.00,9,  -999.0,9,  -999.0,-999.000,9,-999.000,-999.000,9, -999.00,9, -999.00,9, -999.00,9,  41.4873, -52.0369,-999.000,-999.0000, -999.00,   2.8801,   3.1022,2,    35.0938,2,  -999.0,9,     -999.0,9,     -999.0,9,     -999.0,9,       0439
33AT20120419,        A20,      70,          1,          7,          7,2,20120510,       0355,    41.4861,   -52.0367,       4730,  2953.2,   2.9623,  34.9322,2,  34.9319,2,    267.7,2,   267.1,2,   19.17,2,   17.81,2,    0.00,2,    1.17,2,-999.000,9,-999.000,9,-999.000,9, -999.00,9,  2161.6,2,  2312.3,2,-999.0000,9,  -999.00,-999.000,9,-999.0000,9, -999.00,9,   2.9626,2, -999.00,9,  -999.0,9,  -999.0,-999.000,9,-999.000,-999.000,9, -999.00,9, -999.00,9, -999.00,9,  41.4871, -52.0368,-999.000,-999.0000, -999.00,   2.7172,   2.9626,2,    35.0966,2,  -999.0,9,     -999.0,9,     -999.0,9,     -999.0,9,       0434