BOTTLE,20220712CCHSIOCBG
EXPOCODE,SECT_ID,STNNBR,CASTNO,SAMPNO,BTLNBR,BTLNBR_FLAG_W,DATE,TIME,LATITUDE,LONGITUDE,DEPTH,CTDPRS,CTDTMP,CTDSAL,CTDSAL_FLAG_W,SALNTY,SALNTY_FLAG_W,CTDOXY,CTDOXY_FLAG_W,OXYGEN,OXYGEN_FLAG_W,SILCAT,SILCAT_FLAG_W,NITRAT,NITRAT_FLAG_W,NITRIT,NITRIT_FLAG_W,PHSPHT,PHSPHT_FLAG_W,CFC-11,CFC-11_FLAG_W,CFC-12,CFC-12_FLAG_W,CFC113,CFC113_FLAG_W,SF6,SF6_FLAG_W,TCARBN,TCARBN_FLAG_W,ALKALI,ALKALI_FLAG_W,PH_TOT,PH_TOT_FLAG_W,PH_TMP,TRITUM,TRITUM_FLAG_W,HELIUM,HELIUM_FLAG_W,DELHE3,DELHE3_FLAG_W,REFTMP,REFTMP_FLAG_W,DELC13,DELC13_FLAG_W,DELC14,DELC14_FLAG_W,C14ERR,NEON,NEON_FLAG_W,NEONER,CCL4,CCL4_FLAG_W,DELO18,DELO18_FLAG_W,DOC,DOC_FLAG_W,TDN,TDN_FLAG_W,BTL_LAT,BTL_LON,TRITER,HELIER,DELHER,THETA,SBE35,SBE35_FLAG_W,SALTREF,SALTREF_FLAG_W,14C-DOC,14C-DOC_FLAG_W,DELO17,DELO17_FLAG_W,O2/AR,O2/AR_FLAG_W,SIP,SIP_FLAG_W,BTL_TIME
,,,,,,,,,,,METERS,DBAR,ITS-90,PSS-78,,PSS-78,,UMOL/KG,,UMOL/KG,,UMOL/KG,,UMOL/KG,,UMOL/KG,,UMOL/KG,,PMOL/KG,,PMOL/KG,,PMOL/KG,,FMOL/KG,,UMOL/KG,,UMOL/KG,,,,DEG C,TU,,NMOL/KG,,PERCNT,,DEG C,,/MILLE,,/MILLE,,/MILLE,NMOL/KG,,NMOL/KG,PMOL/KG,,/MILLE,,UMOL/KG,,UMOL/KG,,,,TU,NMOL/KG,PERCNT,DEG C,ITS-90,,G/KG,,/MILLE,,/MILLE,,,,,,
33AT20120419,        A20,      37,          1,         35,         35,2,20120429,       1527,    19.3964,   -52.3335,       4576,     5.1,  25.8573,  36.6524,2,  36.6536,2,    205.4,2,   205.6,2,    0.63,2,    0.00,2,    0.00,2,    0.00,2,   1.603,2,   1.012,2,   0.120,2,    1.37,3,  2039.0,6,  2401.7,2,   8.1102,6,    25.00,-999.000,9,-999.0000,9, -999.00,9,  25.8584,2, -999.00,9,  -999.0,9,  -999.0,-999.000,9,-999.000,   1.050,2, -999.00,9,   73.61,2,    3.75,2,  19.3926, -52.3325,-999.000,-999.0000, -999.00,  25.8562,  25.8584,2,    36.8265,2,  -999.0,9,     -999.0,9,     -999.0,9,     -999.0,9,       1755
33AT20120419,        A20,      37,          1,         34,         34,2,20120429,       1527,    19.3964,   -52.3335,       4576,    20.5,  25.7085,  36.6719,2,  36.6790,2,    207.8,2,   205.7,2,    0.63,2,    0.00,2,    0.00,2,    0.00,2,   1.608,2,   1.017,2,   0.121,2,    1.11,3,  2042.5,2,  2402.5,2,   8.1100,6,    25.00,-999.000,9,-999.0000,9, -999.00,9,  25.7068,2, -999.00,9,  -999.0,9,  -999.0,-999.000,9,-999.000,   1.030,2, -999.00,9,   73.11,2,    4.40,2,  19.3927, -52.3325,-999.000,-999.0000, -999.00,  25.7039,  25.7068,2,    36.8520,2,  -999.0,9,     -999.0,9,     -999.0,9,     -999.0,9,       1752
33AT20120419,        A20,      37,          1,         33,         33,2,20120429,       1527,    19.3964,   -52.3335,       4576,    40.0,  25.1472,  36.8872,2,  36.8615,2,    211.7,2,   210.6,2,    0.40,2,    0.00,2,    0.00,2,    0.00,2,   1.693,2,   1.057,2,   0.119,2,    1.04,3,  2053.4,2,  2413.9,2,   8.1050,2,    25.00,-999.000,9,-999.0000,9, -999.00,9,  25.1549,2, -999.00,9,  -999.0,9,  -999.0,-999.000,9,-999.000,   0.800,2, -999.00,9,   72.77,2,    3.75,2,  19.3927, -52.3325,-999.000,-999.0000, -999.00,  25.1384,  25.1549,2,    37.0353,2,  -999.0,9,     -999.0,9,     -999.0,9,     -999.0,9,       1749
33AT20120419,        A20,      37,          1,         32,         32,2,20120429,       1527,    19.3964,   -52.3335,       4576,    90.4,  23.8974,  37.0787,2,  37.0774,2,    213.6,2,   212.6,2,    0.13,2,    0.00,2,    0.00,2,    0.00,2,   1.746,2,   1.080,2,   0.126,2,    1.18,3,  2070.3,2,  2426.4,2,   8.0920,2,    25.00,-999.000,9,-999.0000,9, -999.00,9,  23.8968,2, -999.00,9,  -999.0,9,  -999.0,-999.000,9,-999.000,   0.870,2, -999.00,9,   62.37,2,    3.82,2,  19.3928, -52.3325,-999.000,-999.0000, -999.00,  23.8783,  23.8968,2,    37.2522,2,  -999.0,9,     -999.0,9,     -999.0,9,     -999.0,9,       1743
33AT20120419,        A20,      37,          1,         31,         31,2,20120429,       1527,    19.3964,   -52.3335,       4576,   134.9,  22.3454,  37.1762,2,  37.1747,2,    184.9,2,   184.2,2,    0.01,2,    0.47,2,    0.07,2,    0.00,2,   1.867,2,   1.165,2,   0.103,2,    1.30,3,  2123.6,2,  2431.8,2,   8.0139,2,    25.00,-999.000,9,-999.0000,9, -999.00,9,  22.3190,2, -999.00,9,  -999.0,9,  -999.0,-999.000,9,-999.000,   0.370,2, -999.00,9,   56.89,2,    4.08,2,  19.3929, -52.3326,-999.000,-999.0000, -999.00,  22.3181,  22.3190,2,    37.3500,2,  -999.0,9,     -999.0,9,     -999.0,9,     -999.0,9,       1741
33AT20120419,        A20,      37,          1,         30,         30,2,20120429,       1527,    19.3964,   -52.3335,       4576,   184.9,  20.2438,  36.9213,2,  36.9032,2,    175.0,2,   175.3,2,    0.35,2,    2.99,2,    0.02,2,    0.12,2,   2.006,2,   1.235,2,   0.034,2,    1.12,3,  2138.6,2,  2413.8,2,   7.9632,2,    25.00,-999.000,9,-999.0000,9, -999.00,9,  20.2818,2, -999.00,9,  -999.0,9,  -999.0,-999.000,9,-999.000,   0.230,2, -999.00,9,   51.09,2,    6.42,2,  19.3928, -52.3326,-999.000,-999.0000, -999.00,  20.2090,  20.2818,2,    37.0772,2,  -999.0,9,     -999.0,9,     -999.0,9,     -999.0,9,       1738
33AT20120419,        A20,      37,          1,         29,         29,2,20120429,       1527,    19.3964,   -52.3335,       4576,   235.6,  18.5319,  36.6510,2,  36.6405,2,    176.2,2,   176.9,2,    0.83,2,    5.33,2,    0.01,2,    0.26,2,   2.117,2,   1.301,2,   0.021,2,    1.10,3,  -999.0,9,  -999.0,9,-999.0000,9,  -999.00,-999.000,9,-999.0000,9, -999.00,9,  18.5400,2, -999.00,9,  -999.0,9,  -999.0,-999.000,9,-999.000,   0.210,2, -999.00,9,   49.49,2,    8.20,2,  19.3929, -52.3325,-999.000,-999.0000, -999.00,  18.4901,  18.5400,2,    36.8133,2,  -999.0,9,     -999.0,9,     -999.0,9,     -999.0,9,       1736
33AT20120419,        A20,      37,          1,         28,         28,2,20120429,       1527,    19.3964,   -52.3335,       4576,   286.6,  17.1363,  36.4080,2,  36.4004,2,    172.3,2,   170.3,2,    1.72,2,    8.43,2,    0.01,2,    0.47,2,   2.186,2,   1.303,2,   0.021,2,    0.72,3,  2144.6,2,  2382.1,2,   7.8995,2,    25.00,-999.000,9,-999.0000,9, -999.00,9,  17.1332,2, -999.00,9,  -999.0,9,  -999.0,-999.000,9,-999.000,   0.200,2, -999.00,9,   48.62,2,   11.57,2,  19.3929, -52.3326,-999.000,-999.0000, -999.00,  17.0882,  17.1332,2,    36.5720,2,  -999.0,9,     -999.0,9,     -999.0,9,     -999.0,9,       1734
33AT20120419,        A20,      37,          1,         27,         27,2,20120429,       1527,    19.3964,   -52.3335,       4576,   336.6,  15.8822,  36.1835,2,  36.1786,2,    158.3,2,   159.4,2,    2.90,2,   11.52,2,    0.01,2,    0.66,2,   2.185,2,   1.269,2,   0.019,2,    0.81,3,  2155.7,2,  2370.6,2,   7.8562,2,    25.00,-999.000,9,-999.0000,9, -999.00,9,  15.8813,2, -999.00,9,  -999.0,9,  -999.0,-999.000,9,-999.000,   0.190,2, -999.00,9,   47.54,2,   14.13,2,  19.3929, -52.3326,-999.000,-999.0000, -999.00,  15.8285,  15.8813,2,    36.3492,2,  -999.0,9,     -999.0,9,     -999.0,9,     -999.0,9,       1732
33AT20120419,        A20,      37,          1,         26,         26,2,20120429,       1527,    19.3964,   -52.3335,       4576,   386.9,  14.8158,  36.0061,2,  35.9977,2,    155.0,2,   155.6,2,    3.90,2,   13.64,2,    0.01,2,    0.80,2,   2.160,2,   1.221,2,   0.024,2,    0.95,3,  2160.5,2,  2356.9,6,   7.8262,2,    25.00,-999.000,9,-999.0000,9, -999.00,9,  14.8113,2, -999.00,9,  -999.0,9,  -999.0,-999.000,9,-999.000,   0.210,2, -999.00,9,   46.19,2,   16.84,2,  19.3931, -52.3326,-999.000,-999.0000, -999.00,  14.7569,  14.8113,2,    36.1674,2,  -999.0,9,     -999.0,9,     -999.0,9,     -999.0,9,       1729
33AT20120419,        A20,      37,          1,         25,         25,2,20120429,       1527,    19.3964,   -52.3335,       4576,   437.6,  13.5916,  35.8107,2,  35.8094,2,    139.8,2,   140.6,2,    5.55,2,   17.16,2,    0.01,2,    1.02,2,   1.926,2,   1.050,2,   0.018,2,    0.48,3,  2173.8,2,  2348.2,2,   7.7746,2,    25.00,-999.000,9,-999.0000,9, -999.00,9,  13.5734,2, -999.00,9,  -999.0,9,  -999.0,-999.000,9,-999.000,   0.160,2, -999.00,9,   45.35,2,   21.03,2,  19.3932, -52.3327,-999.000,-999.0000, -999.00,  13.5286,  13.5734,2,    35.9782,2,  -999.0,9,     -999.0,9,     -999.0,9,     -999.0,9,       1727
33AT20120419,        A20,      37,          1,         24,         24,2,20120429,       1527,    19.3964,   -52.3335,       4576,   488.0,  12.6235,  35.6690,2,  35.6694,2,    137.1,2,   135.4,2,    7.04,2,   19.46,2,    0.01,2,    1.16,2,   1.779,2,   0.971,2,   0.016,2,    0.40,3,  2181.4,2,  2342.2,2,   7.7437,6,    25.00,-999.000,9,-999.0000,9, -999.00,9,  12.6284,2, -999.00,9,  -999.0,9,  -999.0,-999.000,9,-999.000,   0.150,2, -999.00,9,   44.58,2,   23.48,2,  19.3934, -52.3327,-999.000,-999.0000, -999.00,  12.5565,  12.6284,2,    35.8376,2,  -999.0,9,     -999.0,9,     -999.0,9,     -999.0,9,       1725
33AT20120419,        A20,      37,          1,         23,         23,2,20120429,       1527,    19.3964,   -52.3335,       4576,   568.9,  11.1260,  35.4634,2,  35.4579,2,    134.6,2,   135.0,2,    9.96,2,   22.34,2,    0.01,2,    1.38,2,   1.317,2,   0.695,2,   0.013,2,    0.20,3,  2188.7,2,  2332.8,2,   7.7090,6,    25.00,-999.000,9,-999.0000,9, -999.00,9,  11.1259,2, -999.00,9,  -999.0,9,  -999.0,-999.000,9,-999.000,   0.140,2, -999.00,9,   43.11,2,   26.32,2,  19.3935, -52.3327,-999.000,-999.0000, -999.00,  11.0538,  11.1259,2,    35.6250,2,  -999.0,9,     -999.0,9,     -999.0,9,     -999.0,9,       1723
33AT20120419,        A20,      37,          1,         22,         22,2,20120429,       1527,    19.3964,   -52.3335,       4576,   667.5,   9.2746,  35.2087,2,  35.2069,2,    130.7,2,   130.6,2,   14.49,2,   26.28,2,    0.00,2,    1.67,2,   0.760,2,   0.415,2,   0.008,2,    0.00,3,  2199.7,2,  2321.0,2,   7.6589,6,    25.00,-999.000,9,-999.0000,9, -999.00,9,   9.2740,2, -999.00,9,  -999.0,9,  -999.0,-999.000,9,-999.000,   0.110,2, -999.00,9,   42.05,2,   29.74,2,  19.3936, -52.3328,-999.000,-999.0000, -999.00,   9.1986,   9.2740,2,    35.3730,2,  -999.0,9,     -999.0,9,     -999.0,9,     -999.0,9,       1720
33AT20120419,        A20,      37,          1,         21,         21,2,20120429,       1527,    19.3964,   -52.3335,       4576,   770.1,   7.4930,  34.9742,2,  34.9707,2,    129.8,2,   128.9,2,   19.55,2,   29.72,2,    0.00,2,    1.93,2,   0.354,2,   0.199,2,   0.003,2,    0.00,3,  2209.1,2,  2312.4,2,   7.6133,2,    25.00,-999.000,9,-999.0000,9, -999.00,9,   7.4925,2, -999.00,9,  -999.0,9,  -999.0,-999.000,9,-999.000,   0.090,2, -999.00,9,   41.74,2,   33.51,2,  19.3939, -52.3328,-999.000,-999.0000, -999.00,   7.4151,   7.4925,2,    35.1356,2,  -999.0,9,     -999.0,9,     -999.0,9,     -999.0,9,       1717
33AT20120419,        A20,      37,          1,         20,         20,2,20120429,       1527,    19.3964,   -52.3335,       4576,   871.2,   6.4308,  34.8729,2,  34.8725,2,    135.4,2,   136.1,2,   22.34,2,   30.73,2,    0.00,2,    2.03,2,   0.183,2,   0.108,2,   0.002,2,    0.00,3,  2212.1,6,  2311.9,2,   7.5993,2,    25.00,-999.000,9,-999.0000,9, -999.00,9,   6.4299,2, -999.00,9,  -999.0,9,  -999.0,-999.000,9,-999.000,   0.080,2, -999.00,9,   40.71,2,   34.28,2,  19.3941, -52.3329,-999.000,-999.0000, -999.00,   6.3491,   6.4299,2,    35.0369,2,  -999.0,9,     -999.0,9,     -999.0,9,     -999.0,9,       1714
33AT20120419,        A20,      37,          1,         19,         19,2,20120429,       1527,    19.3964,   -52.3335,       4576,   972.8,   5.9758,  34.8618,2,  34.8609,2,    145.3,2,   144.5,2,   23.09,2,   30.26,2,    0.00,2,    2.01,2,   0.123,2,   0.076,2,   0.002,2,    0.00,3,  2211.3,2,  2312.5,2,   7.6046,2,    25.00,-999.000,9,-999.0000,9, -999.00,9,   5.9783,2, -999.00,9,  -999.0,9,  -999.0,-999.000,9,-999.000,   0.080,2, -999.00,9,   41.67,2,   33.67,2,  19.3942, -52.3329,-999.000,-999.0000, -999.00,   5.8872,   5.9783,2,    35.0253,2,  -999.0,9,     -999.0,9,     -999.0,9,     -999.0,9,       1711
33AT20120419,        A20,      37,          1,         18,         18,2,20120429,       1527,    19.3964,   -52.3335,       4576,  1073.3,   5.6497,  34.8937,2,  34.8928,2,    158.5,2,   159.3,2,   22.56,2,   28.63,2,    0.00,2,    1.91,2,   0.136,2,   0.080,2,   0.003,2,    0.00,3,  -999.0,9,  -999.0,9,-999.0000,9,  -999.00,-999.000,9,-999.0000,9, -999.00,9,   5.6494,2, -999.00,9,  -999.0,9,  -999.0,-999.000,9,-999.000,   0.100,2, -999.00,9,   40.16,2,   31.78,2,  19.3944, -52.3329,-999.000,-999.0000, -999.00,   5.5538,   5.6494,2,    35.0573,2,  -999.0,9,     -999.0,9,     -999.0,9,     -999.0,9,       1708
33AT20120419,        A20,      37,          1,         17,         17,2,20120429,       1527,    19.3964,   -52.3335,       4576,  1174.5,   5.4341,  34.9385,2,  34.9372,2,    174.1,2,   173.1,2,   21.14,2,   26.55,2,    0.00,2,    1.79,2,   0.161,2,   0.093,2,   0.004,2,    0.15,3,  2199.4,2,  2316.7,2,   7.6511,2,    25.00,-999.000,9,-999.0000,9, -999.00,9,   5.4352,2, -999.00,9,  -999.0,9,  -999.0,-999.000,9,-999.000,   0.130,2, -999.00,9,   41.85,2,   29.93,2,  19.3945, -52.3330,-999.000,-999.0000, -999.00,   5.3301,   5.4352,2,    35.1020,2,  -999.0,9,     -999.0,9,     -999.0,9,     -999.0,9,       1705
33AT20120419,        A20,      37,          1,         16,         16,2,20120429,       1527,    19.3964,   -52.3335,       4576,  1274.9,   5.2375,  34.9741,2,  34.9736,2,    190.1,2,   189.4,2,   19.60,2,   24.67,2,    0.00,2,    1.65,2,   0.245,2,   0.137,2,   0.007,2,    0.00,3,  -999.0,9,  -999.0,9,-999.0000,9,  -999.00,-999.000,9,-999.0000,9, -999.00,9,   5.2381,2, -999.00,9,  -999.0,9,  -999.0,-999.000,9,-999.000,   0.200,2, -999.00,9,   42.08,2,   27.94,2,  19.3946, -52.3331,-999.000,-999.0000, -999.00,   5.1255,   5.2381,2,    35.1385,2,  -999.0,9,     -999.0,9,     -999.0,9,     -999.0,9,       1702
33AT20120419,        A20,      37,          1,         15,         15,2,20120429,       1527,    19.3964,   -52.3335,       4576,  1376.7,   4.9916,  34.9981,2,  34.9974,2,    205.9,2,   206.0,2,   18.03,2,   22.83,2,    0.00,2,    1.52,2,   0.336,2,   0.184,2,   0.011,2,    0.00,3,  2183.3,2,  2317.6,2,   7.6934,2,    25.00,-999.000,9,-999.0000,9, -999.00,9,   4.9930,2, -999.00,9,  -999.0,9,  -999.0,-999.000,9,-999.000,   0.290,2, -999.00,9,   41.19,2,   26.80,2,  19.3947, -52.3331,-999.000,-999.0000, -999.00,   4.8722,   4.9930,2,    35.1625,2,  -999.0,9,     -999.0,9,     -999.0,9,     -999.0,9,       1659
33AT20120419,        A20,      37,          1,         14,         14,2,20120429,       1527,    19.3964,   -52.3335,       4576,  1476.7,   4.6997,  35.0060,2,  35.0063,2,    219.1,2,   219.8,2,   17.20,2,   21.62,2,    0.00,2,    1.45,2,   0.319,2,   0.175,2,   0.011,2,    0.00,3,  -999.0,9,  -999.0,9,-999.0000,9,  -999.00,-999.000,9,-999.0000,9, -999.00,9,   4.6995,2, -999.00,9,  -999.0,9,  -999.0,-999.000,9,-999.000,   0.310,2, -999.00,9,   40.83,2,   25.19,2,  19.3946, -52.3330,-999.000,-999.0000, -999.00,   4.5738,   4.6995,2,    35.1714,2,  -999.0,9,     -999.0,9,     -999.0,9,     -999.0,9,       1656
33AT20120419,        A20,      37,          1,         13,         13,2,20120429,       1527,    19.3964,   -52.3335,       4576,  1577.7,   4.4915,  35.0065,2,  35.0055,2,    227.3,2,   228.1,2,   16.96,2,   20.93,2,    0.00,2,    1.41,2,   0.306,2,   0.165,2,   0.012,2,    0.00,3,  2173.1,2,  2315.5,2,   7.7156,2,    25.00,-999.000,9,-999.0000,9, -999.00,9,   4.4879,2, -999.00,9,  -999.0,9,  -999.0,-999.000,9,-999.000,   0.340,2, -999.00,9,   41.25,2,   24.47,2,  19.3946, -52.3330,-999.000,-999.0000, -999.00,   4.3583,   4.4879,2,    35.1706,2,  -999.0,9,     -999.0,9,     -999.0,9,     -999.0,9,       1653
33AT20120419,        A20,      37,          1,         12,         12,2,20120429,       1527,    19.3964,   -52.3335,       4576,  1752.7,   4.1217,  35.0003,2,  35.0008,2,    234.6,2,   235.2,2,   18.44,2,   20.45,2,    0.00,2,    1.38,2,   0.169,2,   0.097,2,   0.005,2,    0.00,3,  2169.9,2,  2319.5,2,   7.7273,2,    25.00,-999.000,9,-999.0000,9, -999.00,9,   4.1214,2, -999.00,9,  -999.0,9,  -999.0,-999.000,9,-999.000,   0.240,2, -999.00,9,   41.39,2,   24.15,2,  19.3947, -52.3330,-999.000,-999.0000, -999.00,   3.9763,   4.1214,2,    35.1658,2,  -999.0,9,     -999.0,9,     -999.0,9,     -999.0,9,       1648
33AT20120419,        A20,      37,          1,         11,         11,2,20120429,       1527,    19.3964,   -52.3335,       4576,  1954.7,   3.7475,  34.9913,2,  34.9913,2,    241.5,2,   243.8,2,   20.60,2,   19.93,2,    0.00,2,    1.34,2,   0.112,2,   0.070,2,   0.004,2,    0.00,3,  2168.4,2,  2322.0,2,   7.7347,2,    25.00,-999.000,9,-999.0000,9, -999.00,9,   3.7476,2, -999.00,9,  -999.0,9,  -999.0,-999.000,9,-999.000,   0.190,2, -999.00,9,   41.29,2,   23.67,2,  19.3949, -52.3331,-999.000,-999.0000, -999.00,   3.5880,   3.7476,2,    35.1563,2,  -999.0,9,     -999.0,9,     -999.0,9,     -999.0,9,       1643
33AT20120419,        A20,      37,          1,         10,         10,2,20120429,       1527,    19.3964,   -52.3335,       4576,  2188.3,   3.3821,  34.9769,2,  34.9770,2,    245.1,2,   246.3,2,   24.70,2,   20.00,2,    0.00,2,    1.35,2,   0.059,2,   0.041,2,   0.002,2,    0.00,3,  2171.8,2,  2325.6,2,   7.7393,2,    25.00,-999.000,9,-999.0000,9, -999.00,9,   3.3819,2, -999.00,9,  -999.0,9,  -999.0,-999.000,9,-999.000,   0.130,2, -999.00,9,   41.13,2,   22.96,2,  19.3950, -52.3331,-999.000,-999.0000, -999.00,   3.2058,   3.3819,2,    35.1419,2,  -999.0,9,     -999.0,9,     -999.0,9,     -999.0,9,       1638
33AT20120419,        A20,      37,          1,          9,          9,2,20120429,       1527,    19.3964,   -52.3335,       4576,  2442.0,   3.0935,  34.9575,2,  34.9575,2,    247.4,2,   247.1,2,   28.56,2,   20.27,2,    0.00,2,    1.37,2,   0.051,2,   0.033,2,   0.001,2,    0.00,3,  -999.0,9,  -999.0,9,-999.0000,9,  -999.00,-999.000,9,-999.0000,9, -999.00,9,   3.0931,2, -999.00,9,  -999.0,9,  -999.0,-999.000,9,-999.000,   0.110,2, -999.00,9,   40.46,2,   22.75,2,  19.3957, -52.3333,-999.000,-999.0000, -999.00,   2.8975,   3.0931,2,    35.1223,2,  -999.0,9,     -999.0,9,     -999.0,9,     -999.0,9,       1623
33AT20120419,        A20,      37,          1,          8,          8,2,20120429,       1527,    19.3964,   -52.3335,       4576,  2696.4,   2.8897,  34.9422,2,  34.9419,2,    247.5,2,   248.1,2,   32.16,2,   20.47,2,    0.00,2,    1.40,2,   0.051,2,   0.034,2,   0.002,2,    0.00,3,  2177.5,2,  2331.8,6,   7.7372,2,    25.00,-999.000,9,-999.0000,9, -999.00,9,   2.8901,2, -999.00,9,  -999.0,9,  -999.0,-999.000,9,-999.000,   0.100,2, -999.00,9,   39.97,2,   22.86,2,  19.3959, -52.3334,-999.000,-999.0000, -999.00,   2.6723,   2.8901,2,    35.1067,2,  -999.0,9,     -999.0,9,     -999.0,9,     -999.0,9,       1617
33AT20120419,        A20,      37,          1,          7,          7,2,20120429,       1527,    19.3964,   -52.3335,       4576,  2950.4,   2.7601,  34.9310,2,  34.9305,2,    248.7,2,   248.6,2,   34.29,2,   20.63,2,    0.00,2,    1.42,2,   0.049,2,   0.033,2,   0.002,2,    0.09,3,  -999.0,9,  -999.0,9,-999.0000,9,  -999.00,-999.000,9,-999.0000,9, -999.00,9,   2.7608,2, -999.00,9,  -999.0,9,  -999.0,-999.000,9,-999.000,   0.100,2, -999.00,9,   40.65,2,   23.34,2,  19.3962, -52.3334,-999.000,-999.0000, -999.00,   2.5196,   2.7608,2,    35.0953,2,  -999.0,9,     -999.0,9,     -999.0,9,     -999.0,9,       1611
33AT20120419,        A20,      37,          1,          6,          6,2,20120429,       1527,    19.3964,   -52.3335,       4576,  3242.1,   2.6138,  34.9170,2,  34.9170,2,    250.0,2,   250.0,2,   36.75,2,   20.77,2,    0.00,2,    1.42,2,   0.055,2,   0.036,2,   0.002,2,    0.00,3,  2181.7,2,  2335.5,2,   7.7374,2,    25.00,-999.000,9,-999.0000,9, -999.00,9,   2.6136,2, -999.00,9,  -999.0,9,  -999.0,-999.000,9,-999.000,   0.110,2, -999.00,9,   40.15,2,   23.59,2,  19.3962, -52.3335,-999.000,-999.0000, -999.00,   2.3462,   2.6136,2,    35.0816,2,  -999.0,9,     -999.0,9,     -999.0,9,     -999.0,9,       1605