BOTTLE,20220712CCHSIOCBG
EXPOCODE,SECT_ID,STNNBR,CASTNO,SAMPNO,BTLNBR,BTLNBR_FLAG_W,DATE,TIME,LATITUDE,LONGITUDE,DEPTH,CTDPRS,CTDTMP,CTDSAL,CTDSAL_FLAG_W,SALNTY,SALNTY_FLAG_W,CTDOXY,CTDOXY_FLAG_W,OXYGEN,OXYGEN_FLAG_W,SILCAT,SILCAT_FLAG_W,NITRAT,NITRAT_FLAG_W,NITRIT,NITRIT_FLAG_W,PHSPHT,PHSPHT_FLAG_W,CFC-11,CFC-11_FLAG_W,CFC-12,CFC-12_FLAG_W,CFC113,CFC113_FLAG_W,SF6,SF6_FLAG_W,TCARBN,TCARBN_FLAG_W,ALKALI,ALKALI_FLAG_W,PH_TOT,PH_TOT_FLAG_W,PH_TMP,TRITUM,TRITUM_FLAG_W,HELIUM,HELIUM_FLAG_W,DELHE3,DELHE3_FLAG_W,REFTMP,REFTMP_FLAG_W,DELC13,DELC13_FLAG_W,DELC14,DELC14_FLAG_W,C14ERR,NEON,NEON_FLAG_W,NEONER,CCL4,CCL4_FLAG_W,DELO18,DELO18_FLAG_W,DOC,DOC_FLAG_W,TDN,TDN_FLAG_W,BTL_LAT,BTL_LON,TRITER,HELIER,DELHER,THETA,SBE35,SBE35_FLAG_W,SALTREF,SALTREF_FLAG_W,14C-DOC,14C-DOC_FLAG_W,DELO17,DELO17_FLAG_W,O2/AR,O2/AR_FLAG_W,SIP,SIP_FLAG_W,BTL_TIME
,,,,,,,,,,,METERS,DBAR,ITS-90,PSS-78,,PSS-78,,UMOL/KG,,UMOL/KG,,UMOL/KG,,UMOL/KG,,UMOL/KG,,UMOL/KG,,PMOL/KG,,PMOL/KG,,PMOL/KG,,FMOL/KG,,UMOL/KG,,UMOL/KG,,,,DEG C,TU,,NMOL/KG,,PERCNT,,DEG C,,/MILLE,,/MILLE,,/MILLE,NMOL/KG,,NMOL/KG,PMOL/KG,,/MILLE,,UMOL/KG,,UMOL/KG,,,,TU,NMOL/KG,PERCNT,DEG C,ITS-90,,G/KG,,/MILLE,,/MILLE,,,,,,
33AT20120419,        A20,      54,          1,          6,          6,2,20120505,       0814,    31.9950,   -52.3330,       5688,  4066.5,   2.3258,  34.8950,2,  34.8945,2,    262.8,2,   262.8,2,   32.30,2,   19.26,2,    0.00,2,    1.30,2,   0.497,2,   0.226,2,   0.026,2,    0.14,2,  -999.0,9,  -999.0,9,-999.0000,9,  -999.00,-999.000,9,-999.0000,9, -999.00,9,   2.3258,2, -999.00,9,  -999.0,9,  -999.0,-999.000,9,-999.000,-999.000,9, -999.00,9, -999.00,9, -999.00,9,  31.9950, -52.3329,-999.000,-999.0000, -999.00,   1.9748,   2.3258,2,    35.0590,2,  -999.0,9,     -999.0,9,     -999.0,9,     -999.0,9,       0849
33AT20120419,        A20,      54,          1,          5,          5,2,20120505,       0814,    31.9950,   -52.3330,       5688,  4369.0,   2.2431,  34.8844,2,  34.8839,2,    260.5,2,   260.8,2,   36.76,2,   19.86,2,    0.00,2,    1.35,2,   0.480,2,   0.212,2,   0.023,2,    0.12,2,  2180.5,2,  2332.3,6,   7.7311,2,    25.00,-999.000,9,-999.0000,9, -999.00,9,   2.2433,2, -999.00,9,  -999.0,9,  -999.0,-999.000,9,-999.000,-999.000,9, -999.00,9, -999.00,9, -999.00,9,  31.9949, -52.3330,-999.000,-999.0000, -999.00,   1.8593,   2.2433,2,    35.0484,2,  -999.0,9,     -999.0,9,     -999.0,9,     -999.0,9,       0843
33AT20120419,        A20,      54,          1,          4,          4,2,20120505,       0814,    31.9950,   -52.3330,       5688,  4713.0,   2.1581,  34.8708,2,  34.8709,2,    256.5,2,   256.3,2,   43.72,2,   20.95,2,    0.00,2,    1.42,2,   0.315,2,   0.143,2,   0.014,2,    0.11,2,  -999.0,9,  -999.0,9,-999.0000,9,  -999.00,-999.000,9,-999.0000,9, -999.00,9,   2.1583,2, -999.00,9,  -999.0,9,  -999.0,-999.000,9,-999.000,-999.000,9, -999.00,9, -999.00,9, -999.00,9,  31.9949, -52.3330,-999.000,-999.0000, -999.00,   1.7357,   2.1583,2,    35.0353,2,  -999.0,9,     -999.0,9,     -999.0,9,     -999.0,9,       0836
33AT20120419,        A20,      54,          1,          3,          3,2,20120505,       0814,    31.9950,   -52.3330,       5688,  5125.8,   2.1380,  34.8623,2,  34.8623,2,    253.5,2,   253.0,2,   47.98,2,   21.65,2,    0.00,2,    1.47,2,   0.222,2,   0.098,2,   0.011,2,    0.11,2,  2193.6,2,  2342.6,2,   7.7234,2,    25.00,-999.000,9,-999.0000,9, -999.00,9,   2.1381,2, -999.00,9,  -999.0,9,  -999.0,-999.000,9,-999.000,-999.000,9, -999.00,9, -999.00,9, -999.00,9,  31.9948, -52.3331,-999.000,-999.0000, -999.00,   1.6650,   2.1381,2,    35.0266,2,  -999.0,9,     -999.0,9,     -999.0,9,     -999.0,9,       0828
33AT20120419,        A20,      54,          1,          2,          2,2,20120505,       0814,    31.9950,   -52.3330,       5688,  5450.4,   2.1668,  34.8607,2,  34.8609,2,    252.1,2,   252.8,2,   48.90,2,   21.80,2,    0.00,2,    1.49,2,   0.196,2,   0.088,2,   0.009,2,    0.07,2,  2194.8,2,  2344.6,2,   7.7210,6,    25.00,-999.000,9,-999.0000,9, -999.00,9,   2.1673,2, -999.00,9,  -999.0,9,  -999.0,-999.000,9,-999.000,-999.000,9, -999.00,9, -999.00,9, -999.00,9,  31.9949, -52.3330,-999.000,-999.0000, -999.00,   1.6510,   2.1673,2,    35.0253,2,  -999.0,9,     -999.0,9,     -999.0,9,     -999.0,9,       0822
33AT20120419,        A20,      54,          1,          1,          1,2,20120505,       0814,    31.9950,   -52.3330,       5688,  5784.1,   2.2046,  34.8595,2,  34.8597,2,    251.9,2,   252.1,2,   49.51,2,   21.87,2,    0.00,2,    1.49,2,   0.206,2,   0.091,2,   0.012,2,    0.08,2,  2196.0,6,  2347.8,2,   7.7198,2,    25.00,-999.000,9,-999.0000,9, -999.00,9,   2.2044,2, -999.00,9,  -999.0,9,  -999.0,-999.000,9,-999.000,-999.000,9, -999.00,9, -999.00,9, -999.00,9,  31.9950, -52.3330,-999.000,-999.0000, -999.00,   1.6431,   2.2044,2,    35.0241,2,  -999.0,9,     -999.0,9,     -999.0,9,     -999.0,9,       0815