BOTTLE,20220712CCHSIOCBG
EXPOCODE,SECT_ID,STNNBR,CASTNO,SAMPNO,BTLNBR,BTLNBR_FLAG_W,DATE,TIME,LATITUDE,LONGITUDE,DEPTH,CTDPRS,CTDTMP,CTDSAL,CTDSAL_FLAG_W,SALNTY,SALNTY_FLAG_W,CTDOXY,CTDOXY_FLAG_W,OXYGEN,OXYGEN_FLAG_W,SILCAT,SILCAT_FLAG_W,NITRAT,NITRAT_FLAG_W,NITRIT,NITRIT_FLAG_W,PHSPHT,PHSPHT_FLAG_W,CFC-11,CFC-11_FLAG_W,CFC-12,CFC-12_FLAG_W,CFC113,CFC113_FLAG_W,SF6,SF6_FLAG_W,TCARBN,TCARBN_FLAG_W,ALKALI,ALKALI_FLAG_W,PH_TOT,PH_TOT_FLAG_W,PH_TMP,TRITUM,TRITUM_FLAG_W,HELIUM,HELIUM_FLAG_W,DELHE3,DELHE3_FLAG_W,REFTMP,REFTMP_FLAG_W,DELC13,DELC13_FLAG_W,DELC14,DELC14_FLAG_W,C14ERR,NEON,NEON_FLAG_W,NEONER,CCL4,CCL4_FLAG_W,DELO18,DELO18_FLAG_W,DOC,DOC_FLAG_W,TDN,TDN_FLAG_W,BTL_LAT,BTL_LON,TRITER,HELIER,DELHER,THETA,SBE35,SBE35_FLAG_W,SALTREF,SALTREF_FLAG_W,14C-DOC,14C-DOC_FLAG_W,DELO17,DELO17_FLAG_W,O2/AR,O2/AR_FLAG_W,SIP,SIP_FLAG_W,BTL_TIME
,,,,,,,,,,,METERS,DBAR,ITS-90,PSS-78,,PSS-78,,UMOL/KG,,UMOL/KG,,UMOL/KG,,UMOL/KG,,UMOL/KG,,UMOL/KG,,PMOL/KG,,PMOL/KG,,PMOL/KG,,FMOL/KG,,UMOL/KG,,UMOL/KG,,,,DEG C,TU,,NMOL/KG,,PERCNT,,DEG C,,/MILLE,,/MILLE,,/MILLE,NMOL/KG,,NMOL/KG,PMOL/KG,,/MILLE,,UMOL/KG,,UMOL/KG,,,,TU,NMOL/KG,PERCNT,DEG C,ITS-90,,G/KG,,/MILLE,,/MILLE,,,,,,
33AT20120419,        A20,      67,          1,          4,          4,2,20120509,       0923,    40.4006,   -52.3348,       5231,  4474.4,   2.2620,  34.8858,2,  34.8861,2,    266.1,2,   266.0,2,   31.06,2,   18.77,2,    0.00,2,    1.27,2,   1.078,2,   0.537,2,   0.068,3,    0.00,3,  2172.4,2,  2328.6,2,-999.0000,5,    25.00,-999.000,9,-999.0000,9, -999.00,9,   2.2621,2,    0.99,2,   -69.3,2,     2.4,-999.000,9,-999.000,   0.980,3, -999.00,9,   43.08,2,   21.36,2,  40.4005, -52.3347,-999.000,-999.0000, -999.00,   1.8651,   2.2621,2,    35.0506,2,  -999.0,9,     -999.0,9,     -999.0,9,     -999.0,9,       0941
33AT20120419,        A20,      67,          1,          3,          3,2,20120509,       0923,    40.4006,   -52.3348,       5231,  4783.1,   2.2582,  34.8816,2,  34.8814,2,    264.0,2,   263.9,2,   33.80,2,   19.18,2,    0.00,2,    1.31,2,   0.946,2,   0.484,2,   0.062,3,    0.00,3,  -999.0,9,  -999.0,9,-999.0000,9,  -999.00,-999.000,9,-999.0000,9, -999.00,9,   2.2578,2, -999.00,9,  -999.0,9,  -999.0,-999.000,9,-999.000,   0.830,3, -999.00,9,   42.78,2,   21.71,2,  40.4005, -52.3347,-999.000,-999.0000, -999.00,   1.8239,   2.2578,2,    35.0459,2,  -999.0,9,     -999.0,9,     -999.0,9,     -999.0,9,       0935
33AT20120419,        A20,      67,          1,          2,          2,2,20120509,       0923,    40.4006,   -52.3348,       5231,  5046.0,   2.2404,  34.8755,2,  34.8755,2,    260.5,2,   260.1,2,   38.44,2,   19.95,2,    0.00,2,    1.37,2,   0.684,2,   0.352,2,   0.043,3,    0.00,3,  2183.2,2,  2338.8,2,-999.0000,5,    25.00,-999.000,9,-999.0000,9, -999.00,9,   2.2398,2,    0.96,2,   -87.5,2,     2.2,-999.000,9,-999.000,   0.610,3, -999.00,9,   42.55,2,   22.49,2,  40.4005, -52.3347,-999.000,-999.0000, -999.00,   1.7739,   2.2398,2,    35.0399,2,  -999.0,1,     -999.0,9,     -999.0,9,     -999.0,9,       0930
33AT20120419,        A20,      67,          1,          1,          1,2,20120509,       0923,    40.4006,   -52.3348,       5231,  5316.1,   2.2549,  34.8726,2,  34.8741,2,    258.1,2,   258.0,2,   40.70,2,   20.29,2,    0.00,2,    1.40,2,   0.552,2,   0.292,2,   0.039,3,    0.00,3,  2186.4,6,  2344.6,2,-999.0000,5,    25.00,-999.000,9,-999.0000,9, -999.00,9,   2.2546,2,    0.96,2,   -88.4,2,     3.0,-999.000,9,-999.000,   0.550,3, -999.00,9,   42.48,2,   23.67,2,  40.4006, -52.3348,-999.000,-999.0000, -999.00,   1.7534,   2.2546,2,    35.0385,2,  -999.0,1,     -999.0,9,     -999.0,9,     -999.0,9,       0924