BOTTLE,20220712CCHSIOCBG
EXPOCODE,SECT_ID,STNNBR,CASTNO,SAMPNO,BTLNBR,BTLNBR_FLAG_W,DATE,TIME,LATITUDE,LONGITUDE,DEPTH,CTDPRS,CTDTMP,CTDSAL,CTDSAL_FLAG_W,SALNTY,SALNTY_FLAG_W,CTDOXY,CTDOXY_FLAG_W,OXYGEN,OXYGEN_FLAG_W,SILCAT,SILCAT_FLAG_W,NITRAT,NITRAT_FLAG_W,NITRIT,NITRIT_FLAG_W,PHSPHT,PHSPHT_FLAG_W,CFC-11,CFC-11_FLAG_W,CFC-12,CFC-12_FLAG_W,CFC113,CFC113_FLAG_W,SF6,SF6_FLAG_W,TCARBN,TCARBN_FLAG_W,ALKALI,ALKALI_FLAG_W,PH_TOT,PH_TOT_FLAG_W,PH_TMP,TRITUM,TRITUM_FLAG_W,HELIUM,HELIUM_FLAG_W,DELHE3,DELHE3_FLAG_W,REFTMP,REFTMP_FLAG_W,DELC13,DELC13_FLAG_W,DELC14,DELC14_FLAG_W,C14ERR,NEON,NEON_FLAG_W,NEONER,CCL4,CCL4_FLAG_W,DELO18,DELO18_FLAG_W,DOC,DOC_FLAG_W,TDN,TDN_FLAG_W,BTL_LAT,BTL_LON,TRITER,HELIER,DELHER,THETA,SBE35,SBE35_FLAG_W,SALTREF,SALTREF_FLAG_W,14C-DOC,14C-DOC_FLAG_W,DELO17,DELO17_FLAG_W,O2/AR,O2/AR_FLAG_W,SIP,SIP_FLAG_W,BTL_TIME
,,,,,,,,,,,METERS,DBAR,ITS-90,PSS-78,,PSS-78,,UMOL/KG,,UMOL/KG,,UMOL/KG,,UMOL/KG,,UMOL/KG,,UMOL/KG,,PMOL/KG,,PMOL/KG,,PMOL/KG,,FMOL/KG,,UMOL/KG,,UMOL/KG,,,,DEG C,TU,,NMOL/KG,,PERCNT,,DEG C,,/MILLE,,/MILLE,,/MILLE,NMOL/KG,,NMOL/KG,PMOL/KG,,/MILLE,,UMOL/KG,,UMOL/KG,,,,TU,NMOL/KG,PERCNT,DEG C,ITS-90,,G/KG,,/MILLE,,/MILLE,,,,,,
33AT20120419,        A20,      30,          1,         36,         36,2,20120427,       0703,    14.7403,   -52.3327,       5140,     3.5,  26.5279,  36.0960,2,  36.0956,2,    203.2,2,   202.5,2,    0.82,2,    0.00,2,    0.00,2,    0.00,2,   1.668,2,   1.045,2,   0.140,2,    1.03,2,  2011.0,6,  2366.1,2,   8.1072,2,    25.00,-999.000,9,-999.0000,9, -999.00,9,  26.5292,2, -999.00,9,  -999.0,9,  -999.0,-999.000,9,-999.000,-999.000,9, -999.00,9, -999.00,9, -999.00,9,  14.7421, -52.3333,-999.000,-999.0000, -999.00,  26.5271,  26.5292,2,    36.2658,2,  -999.0,9,     -999.0,9,     -999.0,9,     -999.0,9,       0919
33AT20120419,        A20,      30,          1,         35,         35,2,20120427,       0703,    14.7403,   -52.3327,       5140,    35.7,  26.5533,  36.1097,2,  36.1106,2,    205.3,2,   202.7,2,    0.87,2,    0.00,2,    0.00,2,    0.00,2,   1.673,2,   1.031,2,   0.144,2,    1.22,2,  2012.6,2,  2366.9,2,   8.1065,6,    25.00,-999.000,9,-999.0000,9, -999.00,9,  26.5541,2, -999.00,9,  -999.0,9,  -999.0,-999.000,9,-999.000,-999.000,9, -999.00,9, -999.00,9, -999.00,9,  14.7420, -52.3333,-999.000,-999.0000, -999.00,  26.5452,  26.5541,2,    36.2809,2,  -999.0,9,     -999.0,9,     -999.0,9,     -999.0,9,       0916
33AT20120419,        A20,      30,          1,         34,         34,2,20120427,       0703,    14.7403,   -52.3327,       5140,    61.1,  26.3541,  36.2550,2,  36.2612,2,    208.1,2,   205.0,2,    0.68,2,    0.00,2,    0.00,2,    0.00,2,   1.671,2,   1.046,2,   0.138,2,    1.21,2,  -999.0,9,  -999.0,9,-999.0000,9,  -999.00,-999.000,9,-999.0000,9, -999.00,9,  26.3523,2, -999.00,9,  -999.0,9,  -999.0,-999.000,9,-999.000,-999.000,9, -999.00,9, -999.00,9, -999.00,9,  14.7419, -52.3332,-999.000,-999.0000, -999.00,  26.3403,  26.3523,2,    36.4322,2,  -999.0,9,     -999.0,9,     -999.0,9,     -999.0,1,       0914
33AT20120419,        A20,      30,          1,         33,         33,2,20120427,       0703,    14.7403,   -52.3327,       5140,    85.6,  25.5881,  36.5890,2,  36.7284,2,    194.0,2,   193.2,2,    0.47,2,    0.00,2,    0.00,2,    0.00,2,   1.746,2,   1.087,2,   0.136,2,    1.18,2,  2067.8,2,  2405.2,2,   8.0684,2,    25.00,-999.000,9,-999.0000,9, -999.00,9,  25.5876,2, -999.00,9,  -999.0,9,  -999.0,-999.000,9,-999.000,-999.000,9, -999.00,9, -999.00,9, -999.00,9,  14.7419, -52.3332,-999.000,-999.0000, -999.00,  25.5691,  25.5876,2,    36.9016,2,  -999.0,9,     -999.0,9,     -999.0,9,     -999.0,9,       0912
33AT20120419,        A20,      30,          1,         32,         32,2,20120427,       0703,    14.7403,   -52.3327,       5140,   115.2,  24.8336,  37.2687,2,  37.2680,2,    196.7,2,   194.8,2,    0.21,2,    0.00,2,    0.00,2,   -0.01,2,   1.804,2,   1.116,2,   0.139,2,    1.21,2,  2094.7,2,  2437.6,2,   8.0655,2,    25.00,-999.000,9,-999.0000,9, -999.00,9,  24.8096,2, -999.00,9,  -999.0,9,  -999.0,-999.000,9,-999.000,-999.000,9, -999.00,9, -999.00,9, -999.00,9,  14.7418, -52.3332,-999.000,-999.0000, -999.00,  24.8085,  24.8096,2,    37.4437,2,  -999.0,9,     -999.0,9,     -999.0,9,     -999.0,9,       0909
33AT20120419,        A20,      30,          1,         31,         31,2,20120427,       0703,    14.7403,   -52.3327,       5140,   165.2,  20.5525,  36.9007,2,  36.9042,2,    153.3,2,   152.3,2,    1.14,2,    5.21,2,    0.03,2,    0.28,2,   2.059,2,   1.289,2,   0.055,2,    1.11,2,  2154.5,2,  2412.8,2,   7.9288,2,    25.00,-999.000,9,-999.0000,9, -999.00,9,  20.5384,2, -999.00,9,  -999.0,9,  -999.0,-999.000,9,-999.000,-999.000,9, -999.00,9, -999.00,9, -999.00,9,  14.7418, -52.3332,-999.000,-999.0000, -999.00,  20.5210,  20.5384,2,    37.0782,2,  -999.0,9,     -999.0,9,     -999.0,9,     -999.0,9,       0907
33AT20120419,        A20,      30,          1,         30,         30,2,20120427,       0703,    14.7403,   -52.3327,       5140,   216.0,  17.0833,  36.3315,2,  36.3392,2,    127.5,2,   132.3,2,    3.15,2,   12.74,2,    0.01,2,    0.74,2,   2.187,2,-999.000,5,   0.020,2,    0.89,2,  -999.0,9,  -999.0,9,-999.0000,9,  -999.00,-999.000,9,-999.0000,9, -999.00,9,  17.0490,2, -999.00,9,  -999.0,9,  -999.0,-999.000,9,-999.000,-999.000,9, -999.00,9, -999.00,9, -999.00,9,  14.7418, -52.3332,-999.000,-999.0000, -999.00,  17.0472,  17.0490,2,    36.5105,2,  -999.0,9,     -999.0,9,     -999.0,9,     -999.0,1,       0904
33AT20120419,        A20,      30,          1,         29,         29,2,20120427,       0703,    14.7403,   -52.3327,       5140,   266.1,  14.6639,  35.9017,2,  35.9054,2,    120.8,2,   121.2,2,    5.57,2,   17.83,2,    0.01,2,    1.04,2,   2.108,2,   1.170,2,   0.016,2,    0.74,2,  2182.5,2,  2353.7,6,   7.7633,2,    25.00,-999.000,9,-999.0000,9, -999.00,9,  14.6981,2, -999.00,9,  -999.0,9,  -999.0,-999.000,9,-999.000,-999.000,9, -999.00,9, -999.00,9, -999.00,9,  14.7418, -52.3332,-999.000,-999.0000, -999.00,  14.6238,  14.6981,2,    36.0747,2,  -999.0,9,     -999.0,9,     -999.0,9,     -999.0,9,       0902
33AT20120419,        A20,      30,          1,         28,         28,2,20120427,       0703,    14.7403,   -52.3327,       5140,   316.8,  13.2827,  35.6817,2,  35.6646,2,    110.7,2,   109.9,2,    7.54,2,   21.56,2,    0.01,2,    1.28,2,   1.702,2,   1.048,2,   0.015,2,    0.56,2,  2193.3,2,  2340.1,2,   7.7085,2,    25.00,-999.000,9,-999.0000,9, -999.00,9,  13.2797,2, -999.00,9,  -999.0,9,  -999.0,-999.000,9,-999.000,-999.000,9, -999.00,9, -999.00,9, -999.00,9,  14.7418, -52.3332,-999.000,-999.0000, -999.00,  13.2380,  13.2797,2,    35.8328,2,  -999.0,9,     -999.0,9,     -999.0,9,     -999.0,9,       0900
33AT20120419,        A20,      30,          1,         27,         27,2,20120427,       0703,    14.7403,   -52.3327,       5140,   367.0,  11.5253,  35.3742,2,  35.3719,2,    104.0,2,   103.6,2,   10.44,2,   25.46,2,    0.00,2,    1.54,2,   1.606,2,   0.843,2,   0.017,2,    0.46,2,  2202.6,2,  2326.0,2,   7.6542,2,    25.00,-999.000,9,-999.0000,9, -999.00,9,  11.5249,2, -999.00,9,  -999.0,9,  -999.0,-999.000,9,-999.000,-999.000,9, -999.00,9, -999.00,9, -999.00,9,  14.7418, -52.3332,-999.000,-999.0000, -999.00,  11.4781,  11.5249,2,    35.5387,2,  -999.0,9,     -999.0,9,     -999.0,9,     -999.0,9,       0858
33AT20120419,        A20,      30,          1,         26,         26,2,20120427,       0703,    14.7403,   -52.3327,       5140,   437.1,   9.9985,  35.1257,2,  35.1246,2,    108.8,2,   110.3,2,   13.14,2,   27.76,2,    0.00,2,    1.72,2,   1.393,2,   0.710,2,   0.015,2,    0.35,2,  2203.7,2,  2316.6,2,   7.6251,2,    25.00,-999.000,9,-999.0000,9, -999.00,9,   9.9921,2, -999.00,9,  -999.0,9,  -999.0,-999.000,9,-999.000,-999.000,9, -999.00,9, -999.00,9, -999.00,9,  14.7418, -52.3332,-999.000,-999.0000, -999.00,   9.9471,   9.9921,2,    35.2902,2,  -999.0,9,     -999.0,9,     -999.0,9,     -999.0,9,       0855
33AT20120419,        A20,      30,          1,         25,         25,2,20120427,       0703,    14.7403,   -52.3327,       5140,   538.0,   8.4825,  34.9217,2,  34.9197,2,    109.7,2,   111.1,2,   16.88,2,   30.91,2,    0.00,2,    1.94,2,   0.983,2,   0.499,2,   0.012,2,    0.29,2,  2211.3,2,  2309.3,2,   7.5863,2,    25.00,-999.000,9,-999.0000,9, -999.00,9,   8.4656,2, -999.00,9,  -999.0,9,  -999.0,-999.000,9,-999.000,-999.000,9, -999.00,9, -999.00,9, -999.00,9,  14.7419, -52.3332,-999.000,-999.0000, -999.00,   8.4250,   8.4656,2,    35.0844,2,  -999.0,9,     -999.0,9,     -999.0,9,     -999.0,9,       0852
33AT20120419,        A20,      30,          1,         24,         24,2,20120427,       0703,    14.7403,   -52.3327,       5140,   639.2,   7.4548,  34.8234,2,  34.8220,2,    111.7,2,   114.2,2,   19.87,2,   32.74,2,    0.00,2,    2.08,2,   0.630,2,   0.301,2,   0.008,2,    0.15,2,  2216.1,2,  2307.6,2,   7.5663,6,    25.00,-999.000,9,-999.0000,9, -999.00,9,   7.4545,2, -999.00,9,  -999.0,9,  -999.0,-999.000,9,-999.000,-999.000,9, -999.00,9, -999.00,9, -999.00,9,  14.7418, -52.3332,-999.000,-999.0000, -999.00,   7.3910,   7.4545,2,    34.9862,2,  -999.0,9,     -999.0,9,     -999.0,9,     -999.0,9,       0849
33AT20120419,        A20,      30,          1,         23,         23,2,20120427,       0703,    14.7403,   -52.3327,       5140,   740.3,   6.8594,  34.7784,2,  34.7769,2,    114.4,2,   112.8,2,   21.96,2,   33.96,2,    0.00,2,    2.17,2,   0.378,2,   0.177,2,   0.008,2,    0.08,2,  2220.0,6,  2306.6,2,   7.5508,2,    25.00,-999.000,9,-999.0000,9, -999.00,9,   6.8590,2, -999.00,9,  -999.0,9,  -999.0,-999.000,9,-999.000,-999.000,9, -999.00,9, -999.00,9, -999.00,9,  14.7418, -52.3332,-999.000,-999.0000, -999.00,   6.7884,   6.8590,2,    34.9409,2,  -999.0,9,     -999.0,9,     -999.0,9,     -999.0,9,       0847
33AT20120419,        A20,      30,          1,         22,         22,2,20120427,       0703,    14.7403,   -52.3327,       5140,   840.8,   6.1598,  34.7303,2,  34.7292,2,    121.9,2,   124.6,2,   24.44,2,   33.82,2,    0.00,2,    2.19,2,-999.000,9,-999.000,9,-999.000,9, -999.00,9,  2218.7,2,  2308.3,2,   7.5581,2,    25.00,-999.000,9,-999.0000,9, -999.00,9,   6.1569,2, -999.00,9,  -999.0,9,  -999.0,-999.000,9,-999.000,-999.000,9, -999.00,9, -999.00,9, -999.00,9,  14.7416, -52.3332,-999.000,-999.0000, -999.00,   6.0830,   6.1569,2,    34.8929,2,  -999.0,9,     -999.0,9,     -999.0,9,     -999.0,9,       0844
33AT20120419,        A20,      30,          1,         21,         21,2,20120427,       0703,    14.7403,   -52.3327,       5140,   942.2,   5.6122,  34.7338,2,  34.7329,2,    137.0,2,   134.7,2,   25.93,2,   33.28,2,    0.00,2,    2.18,2,   0.139,2,   0.059,2,   0.001,2,    0.04,2,  2217.6,2,  2310.1,2,   7.5671,2,    25.00,-999.000,9,-999.0000,9, -999.00,9,   5.6123,2, -999.00,9,  -999.0,9,  -999.0,-999.000,9,-999.000,-999.000,9, -999.00,9, -999.00,9, -999.00,9,  14.7417, -52.3332,-999.000,-999.0000, -999.00,   5.5294,   5.6123,2,    34.8967,2,  -999.0,9,     -999.0,9,     -999.0,9,     -999.0,9,       0841
33AT20120419,        A20,      30,          1,         20,         20,2,20120427,       0703,    14.7403,   -52.3327,       5140,  1042.2,   5.4207,  34.7874,2,  34.7882,2,    148.4,2,   145.7,2,   25.33,2,   31.70,2,    0.00,2,    2.08,2,   0.117,2,   0.054,2,   0.000,2,    0.03,2,  2213.1,2,  2312.7,2,   7.5874,2,    25.00,-999.000,9,-999.0000,9, -999.00,9,   5.4209,2, -999.00,9,  -999.0,9,  -999.0,-999.000,9,-999.000,-999.000,9, -999.00,9, -999.00,9, -999.00,9,  14.7415, -52.3332,-999.000,-999.0000, -999.00,   5.3298,   5.4209,2,    34.9522,2,  -999.0,9,     -999.0,9,     -999.0,9,     -999.0,9,       0838
33AT20120419,        A20,      30,          1,         19,         19,2,20120427,       0703,    14.7403,   -52.3327,       5140,  1144.3,   5.3541,  34.8751,2,  34.8755,2,    158.9,2,   157.2,2,   23.38,2,   29.48,2,    0.00,2,    1.94,2,   0.097,2,   0.046,2,   0.001,2,    0.04,2,  -999.0,9,  -999.0,9,-999.0000,9,  -999.00,-999.000,9,-999.0000,9, -999.00,9,   5.3538,2, -999.00,9,  -999.0,9,  -999.0,-999.000,9,-999.000,-999.000,9, -999.00,9, -999.00,9, -999.00,9,  14.7413, -52.3331,-999.000,-999.0000, -999.00,   5.2538,   5.3538,2,    35.0399,2,  -999.0,9,     -999.0,9,     -999.0,9,     -999.0,9,       0836
33AT20120419,        A20,      30,          1,         18,         18,2,20120427,       0703,    14.7403,   -52.3327,       5140,  1245.4,   5.2132,  34.9213,2,  34.9246,2,    172.3,2,   172.8,2,   21.73,2,   27.30,2,    0.00,2,    1.81,2,   0.156,2,   0.065,2,   0.002,2,    0.05,2,  2197.2,2,  2317.0,2,   7.6418,2,    25.00,-999.000,9,-999.0000,9, -999.00,9,   5.2108,2, -999.00,9,  -999.0,9,  -999.0,-999.000,9,-999.000,-999.000,9, -999.00,9, -999.00,9, -999.00,9,  14.7411, -52.3331,-999.000,-999.0000, -999.00,   5.1044,   5.2108,2,    35.0893,2,  -999.0,9,     -999.0,9,     -999.0,9,     -999.0,9,       0832
33AT20120419,        A20,      30,          1,         17,         17,2,20120427,       0703,    14.7403,   -52.3327,       5140,  1345.7,   5.0403,  34.9710,2,  34.9719,2,    194.3,2,   194.5,2,   19.45,2,   24.34,2,    0.00,2,    1.61,2,   0.332,2,   0.149,2,   0.008,2,    0.10,2,  -999.0,9,  -999.0,9,-999.0000,9,  -999.00,-999.000,9,-999.0000,9, -999.00,9,   5.0401,2, -999.00,9,  -999.0,9,  -999.0,-999.000,9,-999.000,-999.000,9, -999.00,9, -999.00,9, -999.00,9,  14.7410, -52.3330,-999.000,-999.0000, -999.00,   4.9234,   5.0401,2,    35.1368,2,  -999.0,9,     -999.0,9,     -999.0,9,     -999.0,9,       0829
33AT20120419,        A20,      30,          1,         16,         16,2,20120427,       0703,    14.7403,   -52.3327,       5140,  1477.1,   4.6749,  34.9969,2,  34.9986,2,    216.4,2,   218.8,2,   17.24,2,   21.81,2,    0.00,2,    1.43,2,   0.513,2,   0.235,2,   0.014,2,    0.12,2,  -999.0,9,  -999.0,9,-999.0000,9,  -999.00,-999.000,9,-999.0000,9, -999.00,9,   4.6769,2, -999.00,9,  -999.0,9,  -999.0,-999.000,9,-999.000,-999.000,9, -999.00,9, -999.00,9, -999.00,9,  14.7410, -52.3330,-999.000,-999.0000, -999.00,   4.5492,   4.6769,2,    35.1637,2,  -999.0,9,     -999.0,9,     -999.0,9,     -999.0,9,       0826
33AT20120419,        A20,      30,          1,         15,         15,2,20120427,       0703,    14.7403,   -52.3327,       5140,  1680.4,   4.2408,  34.9948,2,  34.9947,2,    237.7,2,   237.7,2,   16.50,2,   20.14,2,    0.00,2,    1.33,2,   0.608,2,   0.282,2,   0.019,2,    0.13,2,  2167.2,2,  2317.8,2,   7.7221,2,    25.00,-999.000,9,-999.0000,9, -999.00,9,   4.2411,2, -999.00,9,  -999.0,9,  -999.0,-999.000,9,-999.000,-999.000,9, -999.00,9, -999.00,9, -999.00,9,  14.7410, -52.3330,-999.000,-999.0000, -999.00,   4.1008,   4.2411,2,    35.1597,2,  -999.0,9,     -999.0,9,     -999.0,9,     -999.0,9,       0822
33AT20120419,        A20,      30,          1,         14,         14,2,20120427,       0703,    14.7403,   -52.3327,       5140,  1883.4,   3.8589,  34.9841,2,  34.9849,2,    246.5,2,   246.4,2,   17.75,2,   19.59,2,    0.00,2,    1.30,2,   0.457,2,   0.206,2,   0.014,2,    0.12,2,  2163.8,2,  2318.4,2,   7.7332,6,    25.00,-999.000,9,-999.0000,9, -999.00,9,   3.8586,2, -999.00,9,  -999.0,9,  -999.0,-999.000,9,-999.000,-999.000,9, -999.00,9, -999.00,9, -999.00,9,  14.7409, -52.3330,-999.000,-999.0000, -999.00,   3.7046,   3.8586,2,    35.1498,2,  -999.0,9,     -999.0,9,     -999.0,9,     -999.0,9,       0817
33AT20120419,        A20,      30,          1,         13,         13,2,20120427,       0703,    14.7403,   -52.3327,       5140,  2105.4,   3.5170,  34.9726,2,  34.9740,2,    248.9,2,   249.6,2,   21.27,2,   19.67,2,    0.00,2,    1.31,2,   0.341,2,   0.175,2,   0.009,2,    0.07,2,  2165.5,2,  2322.1,2,   7.7368,2,    25.00,-999.000,9,-999.0000,9, -999.00,9,   3.5182,2, -999.00,9,  -999.0,9,  -999.0,-999.000,9,-999.000,-999.000,9, -999.00,9, -999.00,9, -999.00,9,  14.7406, -52.3329,-999.000,-999.0000, -999.00,   3.3465,   3.5182,2,    35.1389,2,  -999.0,9,     -999.0,9,     -999.0,9,     -999.0,1,       0812
33AT20120419,        A20,      30,          1,         12,         12,2,20120427,       0703,    14.7403,   -52.3327,       5140,  2359.3,   3.1753,  34.9563,2,  34.9581,2,    252.8,2,   252.1,2,   24.23,2,   19.59,2,    0.00,2,    1.31,2,   0.195,2,   0.088,2,   0.000,2,    0.07,2,  2167.4,2,  2325.0,2,   7.7403,2,    25.00,-999.000,9,-999.0000,9, -999.00,9,   3.1740,2, -999.00,9,  -999.0,9,  -999.0,-999.000,9,-999.000,-999.000,9, -999.00,9, -999.00,9, -999.00,9,  14.7406, -52.3329,-999.000,-999.0000, -999.00,   2.9859,   3.1740,2,    35.1229,2,  -999.0,9,     -999.0,9,     -999.0,9,     -999.0,9,       0807
33AT20120419,        A20,      30,          1,         11,         11,2,20120427,       0703,    14.7403,   -52.3327,       5140,  2614.3,   2.9551,  34.9429,2,  34.9429,2,    251.8,2,   250.9,2,   28.84,2,   20.10,2,    0.00,2,    1.35,2,   0.130,2,   0.058,2,   0.004,2,    0.06,2,  -999.0,9,  -999.0,9,-999.0000,9,  -999.00,-999.000,9,-999.0000,9, -999.00,9,   2.9545,2, -999.00,9,  -999.0,9,  -999.0,-999.000,9,-999.000,-999.000,9, -999.00,9, -999.00,9, -999.00,9,  14.7406, -52.3329,-999.000,-999.0000, -999.00,   2.7447,   2.9545,2,    35.1077,2,  -999.0,9,     -999.0,9,     -999.0,9,     -999.0,9,       0801
33AT20120419,        A20,      30,          1,         10,         10,2,20120427,       0703,    14.7403,   -52.3327,       5140,  2868.8,   2.8051,  34.9330,2,  34.9335,2,    253.3,2,   254.6,2,   28.58,2,   19.68,2,    0.00,2,    1.31,2,   0.242,2,   0.103,2,   0.009,2,    0.06,2,  2170.2,2,  2328.0,2,   7.7397,2,    25.00,-999.000,9,-999.0000,9, -999.00,9,   2.8051,2, -999.00,9,  -999.0,9,  -999.0,-999.000,9,-999.000,-999.000,9, -999.00,9, -999.00,9, -999.00,9,  14.7405, -52.3329,-999.000,-999.0000, -999.00,   2.5720,   2.8051,2,    35.0982,2,  -999.0,9,     -999.0,9,     -999.0,9,     -999.0,9,       0756
33AT20120419,        A20,      30,          1,          9,          9,2,20120427,       0703,    14.7403,   -52.3327,       5140,  3138.6,   2.6707,  34.9225,2,  34.9227,2,    254.5,2,   253.8,2,   31.84,2,   20.08,2,    0.00,2,    1.35,2,-999.000,5,-999.000,5,-999.000,5,    0.07,2,  2173.4,2,  2331.9,2,   7.7378,2,    25.00,-999.000,9,-999.0000,9, -999.00,9,   2.6708,2, -999.00,9,  -999.0,9,  -999.0,-999.000,9,-999.000,-999.000,9, -999.00,9, -999.00,9, -999.00,9,  14.7406, -52.3329,-999.000,-999.0000, -999.00,   2.4127,   2.6708,2,    35.0873,2,  -999.0,9,     -999.0,9,     -999.0,9,     -999.0,9,       0750
33AT20120419,        A20,      30,          1,          8,          8,2,20120427,       0703,    14.7403,   -52.3327,       5140,  3445.0,   2.5280,  34.9107,2,  34.9115,2,    255.4,2,   255.6,2,   33.79,2,   20.10,2,    0.00,2,    1.36,2,   0.250,2,   0.105,2,   0.011,2,    0.06,2,  2175.4,2,  2332.9,6,   7.7366,2,    25.00,-999.000,9,-999.0000,9, -999.00,9,   2.5279,2, -999.00,9,  -999.0,9,  -999.0,-999.000,9,-999.000,-999.000,9, -999.00,9, -999.00,9, -999.00,9,  14.7407, -52.3329,-999.000,-999.0000, -999.00,   2.2408,   2.5279,2,    35.0761,2,  -999.0,9,     -999.0,9,     -999.0,9,     -999.0,9,       0743
33AT20120419,        A20,      30,          1,          7,          7,2,20120427,       0703,    14.7403,   -52.3327,       5140,  3751.7,   2.3784,  34.8976,2,  34.8991,2,    255.5,2,   256.4,2,   36.65,2,   20.31,2,    0.00,2,    1.38,2,   0.264,2,   0.112,2,   0.012,2,    0.06,2,  -999.0,9,  -999.0,9,-999.0000,9,  -999.00,-999.000,9,-999.0000,9, -999.00,9,   2.3781,2, -999.00,9,  -999.0,9,  -999.0,-999.000,9,-999.000,-999.000,9, -999.00,9, -999.00,9, -999.00,9,  14.7406, -52.3329,-999.000,-999.0000, -999.00,   2.0615,   2.3781,2,    35.0636,2,  -999.0,9,     -999.0,9,     -999.0,9,     -999.0,9,       0736