BOTTLE,20220712CCHSIOCBG
EXPOCODE,SECT_ID,STNNBR,CASTNO,SAMPNO,BTLNBR,BTLNBR_FLAG_W,DATE,TIME,LATITUDE,LONGITUDE,DEPTH,CTDPRS,CTDTMP,CTDSAL,CTDSAL_FLAG_W,SALNTY,SALNTY_FLAG_W,CTDOXY,CTDOXY_FLAG_W,OXYGEN,OXYGEN_FLAG_W,SILCAT,SILCAT_FLAG_W,NITRAT,NITRAT_FLAG_W,NITRIT,NITRIT_FLAG_W,PHSPHT,PHSPHT_FLAG_W,CFC-11,CFC-11_FLAG_W,CFC-12,CFC-12_FLAG_W,CFC113,CFC113_FLAG_W,SF6,SF6_FLAG_W,TCARBN,TCARBN_FLAG_W,ALKALI,ALKALI_FLAG_W,PH_TOT,PH_TOT_FLAG_W,PH_TMP,TRITUM,TRITUM_FLAG_W,HELIUM,HELIUM_FLAG_W,DELHE3,DELHE3_FLAG_W,REFTMP,REFTMP_FLAG_W,DELC13,DELC13_FLAG_W,DELC14,DELC14_FLAG_W,C14ERR,NEON,NEON_FLAG_W,NEONER,CCL4,CCL4_FLAG_W,DELO18,DELO18_FLAG_W,DOC,DOC_FLAG_W,TDN,TDN_FLAG_W,BTL_LAT,BTL_LON,TRITER,HELIER,DELHER,THETA,SBE35,SBE35_FLAG_W,SALTREF,SALTREF_FLAG_W,14C-DOC,14C-DOC_FLAG_W,DELO17,DELO17_FLAG_W,O2/AR,O2/AR_FLAG_W,SIP,SIP_FLAG_W,BTL_TIME
,,,,,,,,,,,METERS,DBAR,ITS-90,PSS-78,,PSS-78,,UMOL/KG,,UMOL/KG,,UMOL/KG,,UMOL/KG,,UMOL/KG,,UMOL/KG,,PMOL/KG,,PMOL/KG,,PMOL/KG,,FMOL/KG,,UMOL/KG,,UMOL/KG,,,,DEG C,TU,,NMOL/KG,,PERCNT,,DEG C,,/MILLE,,/MILLE,,/MILLE,NMOL/KG,,NMOL/KG,PMOL/KG,,/MILLE,,UMOL/KG,,UMOL/KG,,,,TU,NMOL/KG,PERCNT,DEG C,ITS-90,,G/KG,,/MILLE,,/MILLE,,,,,,
33AT20120419,        A20,      35,          1,          6,          6,2,20120428,       2239,    18.0627,   -52.3333,       4704,  3343.6,   2.5737,  34.9135,2,  34.9134,2,    252.2,2,   252.3,2,   36.19,2,   20.59,2,    0.00,2,    1.40,2,   0.075,2,   0.049,2,   0.002,2,    0.00,3,  -999.0,9,  -999.0,9,-999.0000,9,  -999.00,-999.000,9,-999.0000,9, -999.00,9,   2.5738,2, -999.00,9,  -999.0,9,  -999.0,-999.000,9,-999.000,   0.120,2, -999.00,9,   40.38,2,   23.15,2,  18.0629, -52.3333,-999.000,-999.0000, -999.00,   2.2963,   2.5738,2,    35.0780,2,  -999.0,9,     -999.0,9,     -999.0,9,     -999.0,9,       2310
33AT20120419,        A20,      35,          1,          5,          5,2,20120428,       2239,    18.0627,   -52.3333,       4704,  3650.6,   2.3834,  34.8963,2,  34.8955,2,    252.0,2,   253.1,2,   40.67,2,   21.03,2,    0.00,2,    1.43,2,   0.074,2,   0.047,2,   0.002,2,    0.00,3,  2184.3,2,  2334.9,2,   7.7319,2,    25.00,-999.000,9,-999.0000,9, -999.00,9,   2.3838,2, -999.00,9,  -999.0,9,  -999.0,-999.000,9,-999.000,   0.130,2, -999.00,9,   41.13,2,   23.89,2,  18.0630, -52.3334,-999.000,-999.0000, -999.00,   2.0775,   2.3838,2,    35.0600,2,  -999.0,9,     -999.0,9,     -999.0,9,     -999.0,9,       2303
33AT20120419,        A20,      35,          1,          4,          4,2,20120428,       2239,    18.0627,   -52.3333,       4704,  3957.7,   2.2264,  34.8798,2,  34.8790,2,    251.1,2,   251.2,2,   45.56,2,   21.52,2,    0.00,2,    1.46,2,   0.070,2,   0.046,2,   0.003,2,    0.00,3,  -999.0,9,  -999.0,9,-999.0000,9,  -999.00,-999.000,9,-999.0000,9, -999.00,9,   2.2263,2, -999.00,9,  -999.0,9,  -999.0,-999.000,9,-999.000,   0.130,2, -999.00,9,   40.55,2,   23.67,2,  18.0630, -52.3334,-999.000,-999.0000, -999.00,   1.8906,   2.2263,2,    35.0434,2,  -999.0,9,     -999.0,9,     -999.0,9,     -999.0,9,       2257
33AT20120419,        A20,      35,          1,          3,          3,2,20120428,       2239,    18.0627,   -52.3333,       4704,  4264.8,   2.1231,  34.8674,2,  34.8666,2,    250.5,2,   250.6,2,   49.13,2,   21.79,2,    0.00,2,    1.49,2,   0.087,2,   0.059,2,   0.004,2,    0.00,3,  2194.2,2,  2340.0,2,   7.7229,6,    25.00,-999.000,9,-999.0000,9, -999.00,9,   2.1236,2, -999.00,9,  -999.0,9,  -999.0,-999.000,9,-999.000,   0.140,2, -999.00,9,   41.07,2,   24.03,2,  18.0629, -52.3333,-999.000,-999.0000, -999.00,   1.7552,   2.1236,2,    35.0310,2,  -999.0,9,     -999.0,9,     -999.0,9,     -999.0,9,       2251
33AT20120419,        A20,      35,          1,          2,          2,2,20120428,       2239,    18.0627,   -52.3333,       4704,  4521.7,   2.0982,  34.8622,2,  34.8609,2,    250.4,2,   250.5,2,   50.73,2,   22.12,2,    0.00,2,    1.51,2,   0.088,2,   0.058,2,   0.004,2,    0.00,3,  -999.0,9,  -999.0,9,-999.0000,9,  -999.00,-999.000,9,-999.0000,9, -999.00,9,   2.0984,2, -999.00,9,  -999.0,9,  -999.0,-999.000,9,-999.000,   0.150,2, -999.00,9,   40.91,2,   24.63,2,  18.0628, -52.3333,-999.000,-999.0000, -999.00,   1.7008,   2.0984,2,    35.0253,2,  -999.0,9,     -999.0,9,     -999.0,9,     -999.0,9,       2245
33AT20120419,        A20,      35,          1,          1,          1,2,20120428,       2239,    18.0627,   -52.3333,       4704,  4771.9,   2.0807,  34.8573,2,  34.8564,2,    250.0,2,   249.5,2,   52.31,2,   22.30,2,    0.00,2,    1.53,2,   0.107,2,   0.072,2,   0.008,2,    0.00,3,  2199.3,6,  2341.1,2,   7.7180,2,    25.00,-999.000,9,-999.0000,9, -999.00,9,   2.0805,2, -999.00,9,  -999.0,9,  -999.0,-999.000,9,-999.000,   0.160,2, -999.00,9,   41.45,2,   24.67,2,  18.0627, -52.3333,-999.000,-999.0000, -999.00,   1.6537,   2.0805,2,    35.0207,2,  -999.0,9,     -999.0,9,     -999.0,9,     -999.0,9,       2239