BOTTLE,20220712CCHSIOCBG
EXPOCODE,SECT_ID,STNNBR,CASTNO,SAMPNO,BTLNBR,BTLNBR_FLAG_W,DATE,TIME,LATITUDE,LONGITUDE,DEPTH,CTDPRS,CTDTMP,CTDSAL,CTDSAL_FLAG_W,SALNTY,SALNTY_FLAG_W,CTDOXY,CTDOXY_FLAG_W,OXYGEN,OXYGEN_FLAG_W,SILCAT,SILCAT_FLAG_W,NITRAT,NITRAT_FLAG_W,NITRIT,NITRIT_FLAG_W,PHSPHT,PHSPHT_FLAG_W,CFC-11,CFC-11_FLAG_W,CFC-12,CFC-12_FLAG_W,CFC113,CFC113_FLAG_W,SF6,SF6_FLAG_W,TCARBN,TCARBN_FLAG_W,ALKALI,ALKALI_FLAG_W,PH_TOT,PH_TOT_FLAG_W,PH_TMP,TRITUM,TRITUM_FLAG_W,HELIUM,HELIUM_FLAG_W,DELHE3,DELHE3_FLAG_W,REFTMP,REFTMP_FLAG_W,DELC13,DELC13_FLAG_W,DELC14,DELC14_FLAG_W,C14ERR,NEON,NEON_FLAG_W,NEONER,CCL4,CCL4_FLAG_W,DELO18,DELO18_FLAG_W,DOC,DOC_FLAG_W,TDN,TDN_FLAG_W,BTL_LAT,BTL_LON,TRITER,HELIER,DELHER,THETA,SBE35,SBE35_FLAG_W,SALTREF,SALTREF_FLAG_W,14C-DOC,14C-DOC_FLAG_W,DELO17,DELO17_FLAG_W,O2/AR,O2/AR_FLAG_W,SIP,SIP_FLAG_W,BTL_TIME
,,,,,,,,,,,METERS,DBAR,ITS-90,PSS-78,,PSS-78,,UMOL/KG,,UMOL/KG,,UMOL/KG,,UMOL/KG,,UMOL/KG,,UMOL/KG,,PMOL/KG,,PMOL/KG,,PMOL/KG,,FMOL/KG,,UMOL/KG,,UMOL/KG,,,,DEG C,TU,,NMOL/KG,,PERCNT,,DEG C,,/MILLE,,/MILLE,,/MILLE,NMOL/KG,,NMOL/KG,PMOL/KG,,/MILLE,,UMOL/KG,,UMOL/KG,,,,TU,NMOL/KG,PERCNT,DEG C,ITS-90,,G/KG,,/MILLE,,/MILLE,,,,,,
33AT20120419,        A20,      16,          1,          6,          6,2,20120423,       1012,     8.7622,   -52.6302,       4625,  3240.5,   2.6098,  34.9175,2,  34.9181,2,    262.0,2,   262.2,2,   27.08,2,   18.83,2,    0.00,2,    1.29,2,   0.583,2,-999.000,5,   0.021,2,    0.07,2,  2168.8,2,  2323.3,6,   7.7391,2,    25.00,-999.000,9,-999.0000,9, -999.00,9,   2.6098,2, -999.00,9,  -999.0,9,  -999.0,-999.000,9,-999.000,-999.000,9, -999.00,9, -999.00,9, -999.00,9,   8.7630, -52.6303,-999.000,-999.0000, -999.00,   2.3425,   2.6098,2,    35.0828,2,  -999.0,9,     -999.0,9,     -999.0,9,     -999.0,9,       1046
33AT20120419,        A20,      16,          1,          5,          5,2,20120423,       1012,     8.7622,   -52.6302,       4625,  3547.9,   2.4125,  34.9037,2,  34.9048,2,    265.5,2,   265.6,2,   27.38,2,   18.49,2,    0.00,2,    1.28,2,   0.758,2,-999.000,5,   0.038,2,    0.08,2,  -999.0,9,  -999.0,9,-999.0000,9,  -999.00,-999.000,9,-999.0000,9, -999.00,9,   2.4125,2, -999.00,9,  -999.0,9,  -999.0,-999.000,9,-999.000,-999.000,9, -999.00,9, -999.00,9, -999.00,9,   8.7628, -52.6303,-999.000,-999.0000, -999.00,   2.1170,   2.4125,2,    35.0694,2,  -999.0,9,     -999.0,9,     -999.0,9,     -999.0,9,       1039
33AT20120419,        A20,      16,          1,          4,          4,2,20120423,       1012,     8.7622,   -52.6302,       4625,  3853.2,   2.3441,  34.8975,2,  34.8987,2,    265.3,2,   265.3,2,   29.18,2,   18.64,2,    0.00,2,    1.28,2,   0.719,2,   0.330,2,   0.039,2,    0.10,2,  -999.0,9,  -999.0,9,-999.0000,9,  -999.00,-999.000,9,-999.0000,9, -999.00,9,   2.3442,2, -999.00,9,  -999.0,9,  -999.0,-999.000,9,-999.000,-999.000,9, -999.00,9, -999.00,9, -999.00,9,   8.7627, -52.6302,-999.000,-999.0000, -999.00,   2.0167,   2.3442,2,    35.0632,2,  -999.0,9,     -999.0,9,     -999.0,9,     -999.0,9,       1033
33AT20120419,        A20,      16,          1,          3,          3,2,20120423,       1012,     8.7622,   -52.6302,       4625,  4161.4,   2.3004,  34.8921,2,  34.8932,2,    263.9,2,   264.2,2,   31.36,2,   18.92,2,    0.00,2,    1.30,2,   0.632,2,   0.276,2,   0.035,2,    0.12,2,  2172.9,2,  2329.5,2,   7.7358,6,    25.00,-999.000,9,-999.0000,9, -999.00,9,   2.3003,2, -999.00,9,  -999.0,9,  -999.0,-999.000,9,-999.000,-999.000,9, -999.00,9, -999.00,9, -999.00,9,   8.7628, -52.6303,-999.000,-999.0000, -999.00,   1.9391,   2.3003,2,    35.0577,2,  -999.0,9,     -999.0,9,     -999.0,9,     -999.0,9,       1026
33AT20120419,        A20,      16,          1,          2,          2,2,20120423,       1012,     8.7622,   -52.6302,       4625,  4415.8,   2.2554,  34.8854,2,  34.8857,2,    262.0,2,   262.1,2,   34.65,2,   19.38,2,    0.00,2,    1.34,2,   0.591,2,   0.267,2,   0.031,2,    0.10,2,  -999.0,9,  -999.0,9,-999.0000,9,  -999.00,-999.000,9,-999.0000,9, -999.00,9,   2.2551,2, -999.00,9,  -999.0,9,  -999.0,-999.000,9,-999.000,-999.000,9, -999.00,9, -999.00,9, -999.00,9,   8.7626, -52.6302,-999.000,-999.0000, -999.00,   1.8657,   2.2551,2,    35.0502,2,  -999.0,9,     -999.0,9,     -999.0,9,     -999.0,9,       1021
33AT20120419,        A20,      16,          1,          1,          1,2,20120423,       1012,     8.7622,   -52.6302,       4625,  4683.4,   2.1390,  34.8677,2,  34.8688,2,    255.1,2,   255.2,2,   44.75,2,   20.97,2,    0.00,2,    1.44,2,   0.371,2,   0.172,2,   0.018,2,    0.11,2,  2189.0,6,  2339.2,2,   7.7251,2,    25.00,-999.000,9,-999.0000,9, -999.00,9,   2.1385,2, -999.00,9,  -999.0,9,  -999.0,-999.000,9,-999.000,-999.000,9, -999.00,9, -999.00,9, -999.00,9,   8.7623, -52.6302,-999.000,-999.0000, -999.00,   1.7208,   2.1385,2,    35.0332,2,  -999.0,9,     -999.0,9,     -999.0,9,     -999.0,1,       1015