BOTTLE,20220712CCHSIOCBG
EXPOCODE,SECT_ID,STNNBR,CASTNO,SAMPNO,BTLNBR,BTLNBR_FLAG_W,DATE,TIME,LATITUDE,LONGITUDE,DEPTH,CTDPRS,CTDTMP,CTDSAL,CTDSAL_FLAG_W,SALNTY,SALNTY_FLAG_W,CTDOXY,CTDOXY_FLAG_W,OXYGEN,OXYGEN_FLAG_W,SILCAT,SILCAT_FLAG_W,NITRAT,NITRAT_FLAG_W,NITRIT,NITRIT_FLAG_W,PHSPHT,PHSPHT_FLAG_W,CFC-11,CFC-11_FLAG_W,CFC-12,CFC-12_FLAG_W,CFC113,CFC113_FLAG_W,SF6,SF6_FLAG_W,TCARBN,TCARBN_FLAG_W,ALKALI,ALKALI_FLAG_W,PH_TOT,PH_TOT_FLAG_W,PH_TMP,TRITUM,TRITUM_FLAG_W,HELIUM,HELIUM_FLAG_W,DELHE3,DELHE3_FLAG_W,REFTMP,REFTMP_FLAG_W,DELC13,DELC13_FLAG_W,DELC14,DELC14_FLAG_W,C14ERR,NEON,NEON_FLAG_W,NEONER,CCL4,CCL4_FLAG_W,DELO18,DELO18_FLAG_W,DOC,DOC_FLAG_W,TDN,TDN_FLAG_W,BTL_LAT,BTL_LON,TRITER,HELIER,DELHER,THETA,SBE35,SBE35_FLAG_W,SALTREF,SALTREF_FLAG_W,14C-DOC,14C-DOC_FLAG_W,DELO17,DELO17_FLAG_W,O2/AR,O2/AR_FLAG_W,SIP,SIP_FLAG_W,BTL_TIME
,,,,,,,,,,,METERS,DBAR,ITS-90,PSS-78,,PSS-78,,UMOL/KG,,UMOL/KG,,UMOL/KG,,UMOL/KG,,UMOL/KG,,UMOL/KG,,PMOL/KG,,PMOL/KG,,PMOL/KG,,FMOL/KG,,UMOL/KG,,UMOL/KG,,,,DEG C,TU,,NMOL/KG,,PERCNT,,DEG C,,/MILLE,,/MILLE,,/MILLE,NMOL/KG,,NMOL/KG,PMOL/KG,,/MILLE,,UMOL/KG,,UMOL/KG,,,,TU,NMOL/KG,PERCNT,DEG C,ITS-90,,G/KG,,/MILLE,,/MILLE,,,,,,
33AT20120419,        A20,      45,          1,         36,         36,2,20120502,       0640,    25.2343,   -52.3306,       5730,     3.2,  23.4011,  36.9079,2,  36.9074,2,    215.0,2,   214.4,2,    0.37,2,    0.00,2,    0.00,2,    0.00,2,   1.819,2,   1.151,2,   0.139,2,    0.85,3,  2070.6,6,  2415.8,2,   8.0773,2,    25.00,-999.000,9,-999.0000,9, -999.00,9,  23.4050,2, -999.00,9,  -999.0,9,  -999.0,-999.000,9,-999.000,   1.190,2, -999.00,9,    70.8,2,    3.82,2,  25.2273, -52.3265,-999.000,-999.0000, -999.00,  23.4004,  23.4050,2,    37.0814,2,  -999.0,9,     -999.0,9,     -999.0,9,     -999.0,9,       0902
33AT20120419,        A20,      45,          1,         35,         35,2,20120502,       0640,    25.2343,   -52.3306,       5730,    35.4,  22.7641,  36.8300,2,  36.8306,2,    217.2,2,   216.9,2,    0.50,2,    0.00,2,    0.00,2,    0.00,2,   1.852,2,   1.170,2,   0.136,2,    1.18,3,  2064.7,2,  2412.1,2,   8.0824,6,    25.00,-999.000,9,-999.0000,9, -999.00,9,  22.7627,2, -999.00,9,  -999.0,9,  -999.0,-999.000,9,-999.000,   1.120,2, -999.00,9,   69.61,2,    4.28,2,  25.2274, -52.3267,-999.000,-999.0000, -999.00,  22.7569,  22.7627,2,    37.0043,2,  -999.0,9,     -999.0,9,     -999.0,9,     -999.0,9,       0900
33AT20120419,        A20,      45,          1,         34,         34,2,20120502,       0640,    25.2343,   -52.3306,       5730,    60.5,  22.1281,  36.8677,2,  36.8669,2,    217.6,2,   217.5,2,    0.38,2,    0.00,2,    0.00,2,    0.00,2,   1.902,2,   1.191,2,   0.134,2,    0.98,3,  2075.3,2,  2412.9,2,   8.0664,2,    25.00,-999.000,9,-999.0000,9, -999.00,9,  22.1207,2, -999.00,9,  -999.0,9,  -999.0,-999.000,9,-999.000,   0.990,2, -999.00,9,   67.01,2,    3.77,2,  25.2275, -52.3267,-999.000,-999.0000, -999.00,  22.1160,  22.1207,2,    37.0408,2,  -999.0,9,     -999.0,9,     -999.0,9,     -999.0,9,       0857
33AT20120419,        A20,      45,          1,         33,         33,2,20120502,       0640,    25.2343,   -52.3306,       5730,    85.7,  21.5674,  36.9311,2,  36.9310,2,    216.5,2,   217.3,2,    0.29,2,    0.00,2,    0.00,2,    0.00,2,   1.948,2,   1.221,2,   0.136,2,    1.25,3,  2085.3,2,  2417.9,2,   8.0577,6,    25.00,-999.000,9,-999.0000,9, -999.00,9,  21.5708,2, -999.00,9,  -999.0,9,  -999.0,-999.000,9,-999.000,   0.940,2, -999.00,9,   65.27,2,    3.52,2,  25.2276, -52.3269,-999.000,-999.0000, -999.00,  21.5505,  21.5708,2,    37.1052,2,  -999.0,9,     -999.0,9,     -999.0,9,     -999.0,9,       0855
33AT20120419,        A20,      45,          1,         32,         32,2,20120502,       0640,    25.2343,   -52.3306,       5730,   116.7,  20.2055,  36.8034,2,  36.8036,2,    197.6,2,   198.8,2,    0.37,2,    0.11,2,    0.03,2,    0.00,2,   2.054,2,   1.281,2,   0.098,2,    0.94,3,  -999.0,9,  -999.0,9,-999.0000,9,  -999.00,-999.000,9,-999.0000,9, -999.00,9,  20.1751,2, -999.00,9,  -999.0,9,  -999.0,-999.000,9,-999.000,   0.410,2, -999.00,9,   60.31,2,    4.53,2,  25.2277, -52.3270,-999.000,-999.0000, -999.00,  20.1836,  20.1751,2,    36.9772,2,  -999.0,9,     -999.0,9,     -999.0,9,     -999.0,1,       0851
33AT20120419,        A20,      45,          1,         31,         31,2,20120502,       0640,    25.2343,   -52.3306,       5730,   171.6,  18.4604,  36.5909,2,  36.5914,2,    193.5,2,   195.1,2,    0.80,2,    2.82,2,    0.03,2,    0.10,2,   2.172,2,   1.329,2,   0.055,2,    1.19,3,  2120.2,2,  2392.8,6,   7.9667,2,    25.00,-999.000,9,-999.0000,9, -999.00,9,  18.4592,2, -999.00,9,  -999.0,9,  -999.0,-999.000,9,-999.000,   0.300,2, -999.00,9,   57.42,2,    5.74,2,  25.2278, -52.3272,-999.000,-999.0000, -999.00,  18.4301,  18.4592,2,    36.7640,2,  -999.0,9,     -999.0,9,     -999.0,9,     -999.0,9,       0848
33AT20120419,        A20,      45,          1,         30,         30,2,20120502,       0640,    25.2343,   -52.3306,       5730,   218.8,  17.9329,  36.5378,2,  36.5383,2,    199.3,2,   199.6,2,    1.18,2,    4.37,2,    0.01,2,    0.20,2,   2.227,2,   1.371,2,   0.031,2,    1.17,3,  2117.8,2,  2389.6,2,   7.9642,2,    25.00,-999.000,9,-999.0000,9, -999.00,9,  17.9310,2, -999.00,9,  -999.0,9,  -999.0,-999.000,9,-999.000,   0.260,2, -999.00,9,   51.73,2,    7.41,2,  25.2279, -52.3273,-999.000,-999.0000, -999.00,  17.8950,  17.9310,2,    36.7106,2,  -999.0,9,     -999.0,9,     -999.0,9,     -999.0,9,       0846
33AT20120419,        A20,      45,          1,         29,         29,2,20120502,       0640,    25.2343,   -52.3306,       5730,   267.3,  17.6558,  36.4989,2,  36.4989,2,    201.1,2,   199.9,2,    1.32,2,    4.83,2,    0.01,2,    0.24,2,   2.241,2,   1.354,2,   0.032,2,    1.04,3,  2119.7,2,  2387.1,2,   7.9578,2,    25.00,-999.000,9,-999.0000,9, -999.00,9,  17.6589,2, -999.00,9,  -999.0,9,  -999.0,-999.000,9,-999.000,   0.270,2, -999.00,9,   49.31,2,    7.49,2,  25.2280, -52.3274,-999.000,-999.0000, -999.00,  17.6100,  17.6589,2,    36.6710,2,  -999.0,9,     -999.0,9,     -999.0,9,     -999.0,9,       0844
33AT20120419,        A20,      45,          1,         28,         28,2,20120502,       0640,    25.2343,   -52.3306,       5730,   316.9,  17.2573,  36.4291,2,  36.4347,2,    197.1,2,   196.9,2,    1.49,2,    5.66,2,    0.01,2,    0.29,2,   2.295,2,   1.388,2,   0.028,2,    0.84,3,  2124.6,2,  2384.1,2,   7.9445,2,    25.00,-999.000,9,-999.0000,9, -999.00,9,  17.2681,2, -999.00,9,  -999.0,9,  -999.0,-999.000,9,-999.000,   0.270,2, -999.00,9,   48.11,2,    9.14,2,  25.2281, -52.3275,-999.000,-999.0000, -999.00,  17.2038,  17.2681,2,    36.6065,2,  -999.0,9,     -999.0,9,     -999.0,9,     -999.0,9,       0842
33AT20120419,        A20,      45,          1,         27,         27,2,20120502,       0640,    25.2343,   -52.3306,       5730,   363.6,  16.9138,  36.3704,2,  36.3701,2,    198.5,2,   198.2,2,    1.76,2,    6.24,2,    0.01,2,    0.33,2,   2.315,2,   1.387,2,   0.034,2,    0.93,3,  2123.7,2,  2380.0,2,   7.9365,6,    25.00,-999.000,9,-999.0000,9, -999.00,9,  16.9118,2, -999.00,9,  -999.0,9,  -999.0,-999.000,9,-999.000,   0.300,2, -999.00,9,   47.68,2,    8.81,2,  25.2282, -52.3276,-999.000,-999.0000, -999.00,  16.8532,  16.9118,2,    36.5416,2,  -999.0,9,     -999.0,9,     -999.0,9,     -999.0,9,       0840
33AT20120419,        A20,      45,          1,         26,         26,2,20120502,       0640,    25.2343,   -52.3306,       5730,   437.4,  15.8180,  36.1642,2,  36.1649,2,    181.4,2,   181.3,2,    2.89,2,    9.40,2,    0.01,2,    0.54,2,   2.322,2,   1.363,2,   0.026,2,    1.08,3,  -999.0,9,  -999.0,9,-999.0000,9,  -999.00,-999.000,9,-999.0000,9, -999.00,9,  15.8382,2, -999.00,9,  -999.0,9,  -999.0,-999.000,9,-999.000,   0.250,2, -999.00,9,   46.34,2,   11.69,2,  25.2283, -52.3278,-999.000,-999.0000, -999.00,  15.7482,  15.8382,2,    36.3354,2,  -999.0,9,     -999.0,9,     -999.0,9,     -999.0,1,       0838
33AT20120419,        A20,      45,          1,         25,         25,2,20120502,       0640,    25.2343,   -52.3306,       5730,   538.7,  14.1458,  35.9029,2,  35.8958,2,    174.2,2,   174.6,2,    4.45,2,   12.65,2,    0.01,2,    0.75,2,   2.294,2,   1.307,2,   0.027,2,    0.85,3,  2150.8,2,  2354.5,2,   7.8381,2,    25.00,-999.000,9,-999.0000,9, -999.00,9,  14.1630,2, -999.00,9,  -999.0,9,  -999.0,-999.000,9,-999.000,   0.240,2, -999.00,9,   44.55,2,   16.13,2,  25.2285, -52.3279,-999.000,-999.0000, -999.00,  14.0659,  14.1630,2,    36.0651,2,  -999.0,9,     -999.0,9,     -999.0,9,     -999.0,9,       0835
33AT20120419,        A20,      45,          1,         24,         24,2,20120502,       0640,    25.2343,   -52.3306,       5730,   639.7,  12.2184,  35.6277,2,  35.6197,2,    162.4,2,   161.0,2,    7.37,2,   17.32,2,    0.00,2,    1.06,2,   1.874,2,   1.015,2,   0.024,2,    0.75,3,  2167.7,2,  2340.6,2,   7.7737,2,    25.00,-999.000,9,-999.0000,9, -999.00,9,  12.2147,2, -999.00,9,  -999.0,9,  -999.0,-999.000,9,-999.000,   0.200,2, -999.00,9,   43.47,2,   20.30,2,  25.2287, -52.3280,-999.000,-999.0000, -999.00,  12.1319,  12.2147,2,    35.7877,2,  -999.0,9,     -999.0,9,     -999.0,9,     -999.0,9,       0832
33AT20120419,        A20,      45,          1,         23,         23,2,20120502,       0640,    25.2343,   -52.3306,       5730,   742.8,  10.2002,  35.3749,2,  35.3785,2,    151.5,2,   150.6,2,   11.26,2,   21.65,2,    0.00,2,    1.37,2,   1.208,2,   0.647,2,   0.015,2,    0.20,3,  2183.1,2,  2330.0,2,   7.7173,6,    25.00,-999.000,9,-999.0000,9, -999.00,9,  10.2045,2, -999.00,9,  -999.0,9,  -999.0,-999.000,9,-999.000,   0.160,2, -999.00,9,   42.59,2,   24.37,2,  25.2288, -52.3281,-999.000,-999.0000, -999.00,  10.1102,  10.2045,2,    35.5454,2,  -999.0,9,     -999.0,9,     -999.0,9,     -999.0,9,       0830
33AT20120419,        A20,      45,          1,         22,         22,2,20120502,       0640,    25.2343,   -52.3306,       5730,   837.8,   8.6091,  35.2042,2,  35.2061,2,    147.8,2,   147.1,2,   14.93,2,   24.69,2,    0.00,2,    1.59,2,   0.658,2,   0.358,2,   0.008,2,    0.00,3,  2193.7,2,  2325.2,2,   7.6777,2,    25.00,-999.000,9,-999.0000,9, -999.00,9,   8.6351,2, -999.00,9,  -999.0,9,  -999.0,-999.000,9,-999.000,   0.130,2, -999.00,9,   41.68,2,   28.35,2,  25.2289, -52.3282,-999.000,-999.0000, -999.00,   8.5169,   8.6351,2,    35.3721,2,  -999.0,9,     -999.0,9,     -999.0,9,     -999.0,9,       0827
33AT20120419,        A20,      45,          1,         21,         21,2,20120502,       0640,    25.2343,   -52.3306,       5730,   942.8,   7.3581,  35.0804,2,  35.0789,2,    151.4,2,   152.4,2,   17.69,2,   26.15,2,    0.00,2,    1.71,2,   0.383,2,   0.210,2,   0.006,2,    0.00,3,  2197.1,6,  2320.2,2,   7.6567,2,    25.00,-999.000,9,-999.0000,9, -999.00,9,   7.3674,2, -999.00,9,  -999.0,9,  -999.0,-999.000,9,-999.000,   0.110,2, -999.00,9,   40.54,2,   29.13,2,  25.2291, -52.3282,-999.000,-999.0000, -999.00,   7.2625,   7.3674,2,    35.2443,2,  -999.0,9,     -999.0,9,     -999.0,9,     -999.0,9,       0824
33AT20120419,        A20,      45,          1,         20,         20,2,20120502,       0640,    25.2343,   -52.3306,       5730,  1045.3,   6.3803,  35.0305,2,  35.0283,2,    165.9,2,   169.3,2,   18.54,2,   25.51,2,    0.00,2,    1.69,2,   0.319,2,   0.179,2,   0.005,2,    0.00,3,  2194.6,2,  2320.1,2,   7.6609,6,    25.00,-999.000,9,-999.0000,9, -999.00,9,   6.3788,2, -999.00,9,  -999.0,9,  -999.0,-999.000,9,-999.000,   0.150,2, -999.00,9,   40.22,2,   28.53,2,  25.2292, -52.3283,-999.000,-999.0000, -999.00,   6.2812,   6.3788,2,    35.1935,2,  -999.0,9,     -999.0,9,     -999.0,9,     -999.0,9,       0822
33AT20120419,        A20,      45,          1,         19,         19,2,20120502,       0640,    25.2343,   -52.3306,       5730,  1143.0,   5.9729,  35.0745,2,  35.0736,2,    190.0,2,   194.4,2,   16.36,2,   22.77,2,    0.00,2,    1.50,2,   0.521,2,   0.282,2,   0.013,2,    0.00,3,  -999.0,9,  -999.0,9,-999.0000,9,  -999.00,-999.000,9,-999.0000,9, -999.00,9,   5.9733,2, -999.00,9,  -999.0,9,  -999.0,-999.000,9,-999.000,   0.410,2, -999.00,9,   40.18,2,   25.63,2,  25.2293, -52.3284,-999.000,-999.0000, -999.00,   5.8671,   5.9733,2,    35.2390,2,  -999.0,9,     -999.0,9,     -999.0,9,     -999.0,9,       0819
33AT20120419,        A20,      45,          1,         18,         18,2,20120502,       0640,    25.2343,   -52.3306,       5730,  1246.2,   5.6244,  35.0873,2,  35.0866,2,    208.3,2,   209.6,2,   15.34,2,   21.29,2,    0.00,2,    1.41,2,   0.646,2,   0.343,2,   0.019,2,    0.00,3,  2179.6,2,  2322.2,2,   7.7052,2,    25.00,-999.000,9,-999.0000,9, -999.00,9,   5.6262,2, -999.00,9,  -999.0,9,  -999.0,-999.000,9,-999.000,   0.400,2, -999.00,9,   40.31,2,   24.47,2,  25.2294, -52.3284,-999.000,-999.0000, -999.00,   5.5114,   5.6262,2,    35.2520,2,  -999.0,9,     -999.0,9,     -999.0,9,     -999.0,9,       0816
33AT20120419,        A20,      45,          1,         17,         17,2,20120502,       0640,    25.2343,   -52.3306,       5730,  1348.9,   5.2683,  35.0937,2,  35.0945,2,    223.0,2,   222.9,2,   14.81,2,   20.02,2,    0.00,2,    1.34,2,   0.707,2,   0.366,2,   0.025,2,    0.00,3,  2174.6,2,  2321.9,2,   7.7191,2,    25.00,-999.000,9,-999.0000,9, -999.00,9,   5.2685,2, -999.00,9,  -999.0,9,  -999.0,-999.000,9,-999.000,   0.480,2, -999.00,9,    40.3,2,   23.65,2,  25.2295, -52.3285,-999.000,-999.0000, -999.00,   5.1486,   5.2685,2,    35.2600,2,  -999.0,9,     -999.0,9,     -999.0,9,     -999.0,9,       0814
33AT20120419,        A20,      45,          1,         16,         16,2,20120502,       0640,    25.2343,   -52.3306,       5730,  1481.1,   4.9029,  35.0854,2,  35.0852,2,    232.0,2,   232.6,2,   15.02,2,   19.46,2,    0.00,2,    1.30,2,   0.693,2,   0.361,2,   0.028,2,    0.00,3,  -999.0,9,  -999.0,9,-999.0000,9,  -999.00,-999.000,9,-999.0000,9, -999.00,9,   4.9023,2, -999.00,9,  -999.0,9,  -999.0,-999.000,9,-999.000,   0.550,2, -999.00,9,   40.17,2,   22.50,2,  25.2296, -52.3286,-999.000,-999.0000, -999.00,   4.7741,   4.9023,2,    35.2507,2,  -999.0,9,     -999.0,9,     -999.0,9,     -999.0,9,       0811
33AT20120419,        A20,      45,          1,         15,         15,2,20120502,       0640,    25.2343,   -52.3306,       5730,  1682.7,   4.3635,  35.0640,2,  35.0638,2,    240.8,2,   240.7,2,   17.27,2,   19.17,2,    0.00,2,    1.29,2,   0.437,2,   0.237,2,   0.014,2,    0.00,3,  2169.4,2,  2323.6,2,   7.7341,2,    25.00,-999.000,9,-999.0000,9, -999.00,9,   4.3632,2, -999.00,9,  -999.0,9,  -999.0,-999.000,9,-999.000,   0.410,2, -999.00,9,   39.98,2,   22.35,2,  25.2298, -52.3287,-999.000,-999.0000, -999.00,   4.2216,   4.3632,2,    35.2291,2,  -999.0,9,     -999.0,9,     -999.0,9,     -999.0,9,       0806
33AT20120419,        A20,      45,          1,         14,         14,2,20120502,       0640,    25.2343,   -52.3306,       5730,  1886.2,   3.8844,  35.0291,2,  35.0294,2,    244.4,2,   245.1,2,   20.31,2,   19.26,2,    0.00,2,    1.29,2,   0.304,2,   0.168,2,   0.010,2,    0.00,3,  2170.6,2,  2326.0,2,   7.7365,2,    25.00,-999.000,9,-999.0000,9, -999.00,9,   3.8839,2, -999.00,9,  -999.0,9,  -999.0,-999.000,9,-999.000,   0.320,2, -999.00,9,   40.36,2,   22.37,2,  25.2301, -52.3289,-999.000,-999.0000, -999.00,   3.7294,   3.8839,2,    35.1945,2,  -999.0,9,     -999.0,9,     -999.0,9,     -999.0,9,       0802
33AT20120419,        A20,      45,          1,         13,         13,2,20120502,       0640,    25.2343,   -52.3306,       5730,  2109.5,   3.5106,  34.9996,2,  35.0000,2,    248.6,2,   249.1,2,   23.41,2,   19.36,2,    0.00,2,    1.31,2,   0.231,2,   0.134,2,   0.007,2,    0.00,3,  2171.3,2,  2327.2,2,   7.7372,2,    25.00,-999.000,9,-999.0000,9, -999.00,9,   3.5084,2, -999.00,9,  -999.0,9,  -999.0,-999.000,9,-999.000,   0.270,2, -999.00,9,   40.14,2,   22.21,2,  25.2304, -52.3291,-999.000,-999.0000, -999.00,   3.3397,   3.5084,2,    35.1651,2,  -999.0,9,     -999.0,9,     -999.0,9,     -999.0,9,       0757
33AT20120419,        A20,      45,          1,         12,         12,2,20120502,       0640,    25.2343,   -52.3306,       5730,  2362.6,   3.1861,  34.9718,2,  34.9717,2,    250.2,2,   249.7,2,   26.98,2,   19.63,2,    0.00,2,    1.34,2,   0.146,2,   0.090,2,   0.005,2,    0.00,3,  2175.1,2,  2330.8,2,   7.7384,2,    25.00,-999.000,9,-999.0000,9, -999.00,9,   3.1850,2, -999.00,9,  -999.0,9,  -999.0,-999.000,9,-999.000,   0.220,2, -999.00,9,   40.23,2,   22.49,2,  25.2307, -52.3293,-999.000,-999.0000, -999.00,   2.9961,   3.1850,2,    35.1366,2,  -999.0,9,     -999.0,9,     -999.0,9,     -999.0,9,       0752
33AT20120419,        A20,      45,          1,         11,         11,2,20120502,       0640,    25.2343,   -52.3306,       5730,  2619.2,   2.9959,  34.9548,2,  34.9550,2,    249.9,2,   250.3,2,   29.93,2,   19.93,2,    0.00,2,    1.36,2,   0.106,2,   0.071,2,   0.006,2,    0.00,3,  -999.0,9,  -999.0,9,-999.0000,9,  -999.00,-999.000,9,-999.0000,9, -999.00,9,   2.9946,2, -999.00,9,  -999.0,9,  -999.0,-999.000,9,-999.000,   0.160,2, -999.00,9,   39.85,2,   22.37,2,  25.2309, -52.3294,-999.000,-999.0000, -999.00,   2.7841,   2.9946,2,    35.1198,2,  -999.0,9,     -999.0,9,     -999.0,9,     -999.0,1,       0747
33AT20120419,        A20,      45,          1,         10,         10,2,20120502,       0640,    25.2343,   -52.3306,       5730,  2873.9,   2.8135,  34.9386,2,  34.9383,2,    250.3,2,   250.8,2,   32.83,2,   20.19,2,    0.00,2,    1.39,2,   0.063,2,   0.041,2,   0.004,2,    0.00,3,  -999.0,9,  -999.0,9,-999.0000,9,  -999.00,-999.000,9,-999.0000,9, -999.00,9,   2.8136,2, -999.00,9,  -999.0,9,  -999.0,-999.000,9,-999.000,   0.120,2, -999.00,9,   39.47,2,   22.67,2,  25.2313, -52.3296,-999.000,-999.0000, -999.00,   2.5797,   2.8136,2,    35.1030,2,  -999.0,9,     -999.0,9,     -999.0,9,     -999.0,9,       0741
33AT20120419,        A20,      45,          1,          9,          9,2,20120502,       0640,    25.2343,   -52.3306,       5730,  3141.1,   2.6625,  34.9251,2,  34.9247,2,    251.6,2,   252.0,2,   34.58,2,   20.29,2,    0.00,2,    1.39,2,   0.043,2,   0.031,2,   0.003,2,    0.00,3,  2178.8,2,  2335.7,2,   7.7370,2,    25.00,-999.000,9,-999.0000,9, -999.00,9,   2.6620,2, -999.00,9,  -999.0,9,  -999.0,-999.000,9,-999.000,   0.110,2, -999.00,9,   39.15,2,   22.77,2,  25.2319, -52.3299,-999.000,-999.0000, -999.00,   2.4044,   2.6620,2,    35.0894,2,  -999.0,9,     -999.0,9,     -999.0,9,     -999.0,9,       0736
33AT20120419,        A20,      45,          1,          8,          8,2,20120502,       0640,    25.2343,   -52.3306,       5730,  3448.1,   2.4980,  34.9099,2,  34.9098,2,    252.5,2,   253.6,2,   37.37,2,   20.46,2,    0.00,2,    1.40,2,   0.038,2,   0.026,2,   0.004,2,    0.00,3,  -999.0,9,  -999.0,9,-999.0000,9,  -999.00,-999.000,9,-999.0000,9, -999.00,9,   2.4981,2, -999.00,9,  -999.0,9,  -999.0,-999.000,9,-999.000,   0.110,2, -999.00,9,    39.4,2,   23.12,2,  25.2326, -52.3300,-999.000,-999.0000, -999.00,   2.2112,   2.4981,2,    35.0744,2,  -999.0,9,     -999.0,9,     -999.0,9,     -999.0,9,       0730
33AT20120419,        A20,      45,          1,          7,          7,2,20120502,       0640,    25.2343,   -52.3306,       5730,  3749.3,   2.3445,  34.8957,2,  34.8953,2,    254.1,2,   254.5,2,   39.98,2,   20.62,2,    0.00,2,    1.42,2,   0.039,2,   0.027,2,   0.006,2,    0.00,3,  2184.3,2,  2338.3,2,   7.7343,6,    25.00,-999.000,9,-999.0000,9, -999.00,9,   2.3445,2, -999.00,9,  -999.0,9,  -999.0,-999.000,9,-999.000,   0.130,2, -999.00,9,   39.23,2,   23.22,2,  25.2331, -52.3302,-999.000,-999.0000, -999.00,   2.0287,   2.3445,2,    35.0598,2,  -999.0,9,     -999.0,9,     -999.0,9,     -999.0,9,       0723