BOTTLE,20220712CCHSIOCBG
EXPOCODE,SECT_ID,STNNBR,CASTNO,SAMPNO,BTLNBR,BTLNBR_FLAG_W,DATE,TIME,LATITUDE,LONGITUDE,DEPTH,CTDPRS,CTDTMP,CTDSAL,CTDSAL_FLAG_W,SALNTY,SALNTY_FLAG_W,CTDOXY,CTDOXY_FLAG_W,OXYGEN,OXYGEN_FLAG_W,SILCAT,SILCAT_FLAG_W,NITRAT,NITRAT_FLAG_W,NITRIT,NITRIT_FLAG_W,PHSPHT,PHSPHT_FLAG_W,CFC-11,CFC-11_FLAG_W,CFC-12,CFC-12_FLAG_W,CFC113,CFC113_FLAG_W,SF6,SF6_FLAG_W,TCARBN,TCARBN_FLAG_W,ALKALI,ALKALI_FLAG_W,PH_TOT,PH_TOT_FLAG_W,PH_TMP,TRITUM,TRITUM_FLAG_W,HELIUM,HELIUM_FLAG_W,DELHE3,DELHE3_FLAG_W,REFTMP,REFTMP_FLAG_W,DELC13,DELC13_FLAG_W,DELC14,DELC14_FLAG_W,C14ERR,NEON,NEON_FLAG_W,NEONER,CCL4,CCL4_FLAG_W,DELO18,DELO18_FLAG_W,DOC,DOC_FLAG_W,TDN,TDN_FLAG_W,BTL_LAT,BTL_LON,TRITER,HELIER,DELHER,THETA,SBE35,SBE35_FLAG_W,SALTREF,SALTREF_FLAG_W,14C-DOC,14C-DOC_FLAG_W,DELO17,DELO17_FLAG_W,O2/AR,O2/AR_FLAG_W,SIP,SIP_FLAG_W,BTL_TIME
,,,,,,,,,,,METERS,DBAR,ITS-90,PSS-78,,PSS-78,,UMOL/KG,,UMOL/KG,,UMOL/KG,,UMOL/KG,,UMOL/KG,,UMOL/KG,,PMOL/KG,,PMOL/KG,,PMOL/KG,,FMOL/KG,,UMOL/KG,,UMOL/KG,,,,DEG C,TU,,NMOL/KG,,PERCNT,,DEG C,,/MILLE,,/MILLE,,/MILLE,NMOL/KG,,NMOL/KG,PMOL/KG,,/MILLE,,UMOL/KG,,UMOL/KG,,,,TU,NMOL/KG,PERCNT,DEG C,ITS-90,,G/KG,,/MILLE,,/MILLE,,,,,,
33AT20120419,        A20,      73,          1,         36,         36,2,20120510,       1850,    42.0544,   -51.5843,       3480,     3.0,  14.8393,  35.3763,2,  35.3772,2,    272.3,2,   274.6,2,    0.00,2,    0.00,2,    0.00,2,    0.03,2,   2.390,2,   1.542,2,-999.000,5, -999.00,5,  2049.7,6,  2339.8,2,-999.0000,9,  -999.00,-999.000,9,-999.0000,9, -999.00,9,  14.8418,2,    1.14,2,    57.7,2,     3.0,-999.000,9,-999.000,-999.000,5, -999.00,9,   68.21,2,    4.89,2,  42.0558, -51.5829,-999.000,-999.0000, -999.00,  14.8389,  14.8418,2,    35.5440,2,  -999.0,9,     -999.0,9,     -999.0,9,     -999.0,9,       2025
33AT20120419,        A20,      73,          1,         35,         35,2,20120510,       1850,    42.0544,   -51.5843,       3480,    18.9,  14.5215,  35.3689,2,  35.3687,2,    277.4,2,   271.0,2,    0.00,2,    0.00,2,    0.00,2,    0.04,2,   2.382,2,   1.533,2,-999.000,5, -999.00,5,  2055.2,2,  2339.3,2,-999.0000,9,  -999.00,-999.000,9,-999.0000,9, -999.00,9,  14.5190,2, -999.00,9,  -999.0,9,  -999.0,-999.000,9,-999.000,-999.000,5, -999.00,9,   68.87,2,    4.73,2,  42.0557, -51.5830,-999.000,-999.0000, -999.00,  14.5187,  14.5190,2,    35.5355,2,  -999.0,9,     -999.0,9,     -999.0,9,     -999.0,9,       2023
33AT20120419,        A20,      73,          1,         34,         34,2,20120510,       1850,    42.0544,   -51.5843,       3480,    39.3,  14.5102,  35.3778,2,  35.3778,2,    260.9,2,   258.5,2,    0.00,2,    0.14,2,    0.05,2,    0.06,2,   2.405,2,   1.557,2,-999.000,5, -999.00,5,  2067.2,2,  2339.3,2,-999.0000,9,  -999.00,-999.000,9,-999.0000,9, -999.00,9,  14.5109,2, -999.00,9,  -999.0,9,  -999.0,-999.000,9,-999.000,-999.000,5, -999.00,9,   67.58,2,    4.86,2,  42.0557, -51.5830,-999.000,-999.0000, -999.00,  14.5044,  14.5109,2,    35.5446,2,  -999.0,9,     -999.0,9,     -999.0,9,     -999.0,9,       2022
33AT20120419,        A20,      73,          1,         33,         33,2,20120510,       1850,    42.0544,   -51.5843,       3480,    88.4,  14.6104,  35.5631,2,  35.5626,2,    230.6,2,   230.0,2,    1.74,2,    4.95,2,    0.06,2,    0.34,2,   2.329,2,   1.518,2,-999.000,5, -999.00,5,  2101.2,2,  2343.3,2,-999.0000,9,  -999.00,-999.000,9,-999.0000,9, -999.00,9,  14.6136,2, -999.00,9,  -999.0,9,  -999.0,-999.000,9,-999.000,-999.000,5, -999.00,9,   59.17,2,    9.72,2,  42.0555, -51.5832,-999.000,-999.0000, -999.00,  14.5972,  14.6136,2,    35.7303,2,  -999.0,9,     -999.0,9,     -999.0,9,     -999.0,9,       2018
33AT20120419,        A20,      73,          1,         32,         32,2,20120510,       1850,    42.0544,   -51.5843,       3480,   117.1,  14.5819,  35.6166,2,  35.6202,2,    228.6,2,   226.1,2,    2.07,2,    5.72,2,    0.03,2,    0.38,2,   2.309,2,   1.508,2,-999.000,5, -999.00,5,  2108.2,2,  2346.5,2,-999.0000,9,  -999.00,-999.000,9,-999.0000,9, -999.00,9,  14.5837,2,    0.68,2,    58.9,2,     3.1,-999.000,9,-999.000,-999.000,5, -999.00,9,   56.42,2,   10.39,2,  42.0554, -51.5833,-999.000,-999.0000, -999.00,  14.5645,  14.5837,2,    35.7882,2,  -999.0,9,     -999.0,9,     -999.0,9,     -999.0,9,       2015
33AT20120419,        A20,      73,          1,         31,         31,2,20120510,       1850,    42.0544,   -51.5843,       3480,   141.7,  14.5398,  35.6424,2,  35.6418,2,    223.5,2,   226.4,2,    2.22,2,    6.02,2,    0.02,2,    0.39,2,   2.244,2,   1.478,2,-999.000,5, -999.00,5,  2109.6,2,  2347.0,2,-999.0000,9,  -999.00,-999.000,9,-999.0000,9, -999.00,9,  14.5457,2, -999.00,9,  -999.0,9,  -999.0,-999.000,9,-999.000,-999.000,5, -999.00,9,   54.33,2,   10.57,2,  42.0553, -51.5834,-999.000,-999.0000, -999.00,  14.5187,  14.5457,2,    35.8098,2,  -999.0,9,     -999.0,9,     -999.0,9,     -999.0,9,       2013
33AT20120419,        A20,      73,          1,         30,         30,2,20120510,       1850,    42.0544,   -51.5843,       3480,   191.3,  14.7296,  35.7589,2,  35.7616,2,    208.9,2,   207.3,2,    3.04,2,    8.15,2,    0.02,2,    0.51,2,   2.123,2,   1.408,2,-999.000,5, -999.00,5,  2123.0,2,  2351.3,2,-999.0000,9,  -999.00,-999.000,9,-999.0000,9, -999.00,9,  14.7306,2, -999.00,9,  -999.0,9,  -999.0,-999.000,9,-999.000,-999.000,5, -999.00,9,   50.99,2,   12.45,2,  42.0553, -51.5835,-999.000,-999.0000, -999.00,  14.7008,  14.7306,2,    35.9302,2,  -999.0,9,     -999.0,9,     -999.0,9,     -999.0,9,       2011
33AT20120419,        A20,      73,          1,         29,         29,2,20120510,       1850,    42.0544,   -51.5843,       3480,   239.8,  14.1887,  35.8173,2,  35.8149,2,    164.7,2,   165.2,2,    5.44,2,   13.73,2,    0.02,2,    0.83,2,   1.876,2,   1.204,2,-999.000,5, -999.00,5,  2154.9,2,  2350.1,2,-999.0000,9,  -999.00,-999.000,9,-999.0000,9, -999.00,9,  14.1954,2,    0.55,2,    54.7,2,     2.8,-999.000,9,-999.000,-999.000,5, -999.00,9,   49.92,2,   18.24,2,  42.0552, -51.5835,-999.000,-999.0000, -999.00,  14.1534,  14.1954,2,    35.9838,2,  -999.0,9,     -999.0,9,     -999.0,9,     -999.0,9,       2009
33AT20120419,        A20,      73,          1,         28,         28,2,20120510,       1850,    42.0544,   -51.5843,       3480,   287.2,  12.8428,  35.6405,2,  35.6365,2,    156.7,2,   155.2,2,    7.60,2,   17.24,2,    0.01,2,    1.05,2,   1.695,2,   1.060,2,-999.000,5, -999.00,5,  2168.4,2,  2339.9,2,-999.0000,9,  -999.00,-999.000,9,-999.0000,9, -999.00,9,  12.8440,2, -999.00,9,  -999.0,9,  -999.0,-999.000,9,-999.000,-999.000,5, -999.00,9,   47.89,2,   21.57,2,  42.0552, -51.5835,-999.000,-999.0000, -999.00,  12.8032,  12.8440,2,    35.8045,2,  -999.0,9,     -999.0,9,     -999.0,9,     -999.0,9,       2007
33AT20120419,        A20,      73,          1,         27,         27,2,20120510,       1850,    42.0544,   -51.5843,       3480,   335.8,  11.7753,  35.5030,2,  35.5015,2,    148.3,2,   148.1,2,    9.48,2,   19.79,2,    0.02,2,    1.23,2,   1.501,2,   0.912,2,-999.000,5, -999.00,5,  2177.0,2,  2334.8,2,-999.0000,9,  -999.00,-999.000,9,-999.0000,9, -999.00,9,  11.7762,2,    0.57,2,    23.1,2,     2.5,-999.000,9,-999.000,-999.000,5, -999.00,9,   47.85,2,   23.47,2,  42.0551, -51.5836,-999.000,-999.0000, -999.00,  11.7315,  11.7762,2,    35.6689,2,  -999.0,9,     -999.0,9,     -999.0,9,     -999.0,9,       2005
33AT20120419,        A20,      73,          1,         26,         26,2,20120510,       1850,    42.0544,   -51.5843,       3480,   386.2,  10.6337,  35.3461,2,  35.3485,2,    141.3,2,   142.5,2,   11.44,2,   21.95,2,    0.00,2,    1.39,2,   1.337,2,   0.815,2,-999.000,5, -999.00,5,  2185.7,2,  2328.0,2,-999.0000,9,  -999.00,-999.000,9,-999.0000,9, -999.00,9,  10.6443,2, -999.00,9,  -999.0,9,  -999.0,-999.000,9,-999.000,-999.000,5, -999.00,9,   46.49,2,   25.35,2,  42.0551, -51.5836,-999.000,-999.0000, -999.00,  10.5865,  10.6443,2,    35.5152,2,  -999.0,9,     -999.0,9,     -999.0,9,     -999.0,9,       2004
33AT20120419,        A20,      73,          1,         25,         25,2,20120510,       1850,    42.0544,   -51.5843,       3480,   437.8,   9.3068,  35.2030,2,  35.2031,2,    140.1,2,   140.3,2,   13.99,2,   24.42,2,    0.00,2,    1.56,2,   1.068,2,   0.639,2,-999.000,5, -999.00,5,  2194.5,2,  2320.8,2,-999.0000,9,  -999.00,-999.000,9,-999.0000,9, -999.00,9,   9.3146,2,    0.62,2,   -10.2,2,     2.5,-999.000,9,-999.000,-999.000,5, -999.00,9,   46.21,2,   27.80,2,  42.0550, -51.5837,-999.000,-999.0000, -999.00,   9.2574,   9.3146,2,    35.3691,2,  -999.0,9,     -999.0,9,     -999.0,9,     -999.0,9,       2002
33AT20120419,        A20,      73,          1,         24,         24,2,20120510,       1850,    42.0544,   -51.5843,       3480,   485.8,   8.0862,  35.1045,2,  35.1050,2,    157.2,2,   160.5,2,   13.89,2,   23.27,2,    0.00,2,    1.50,2,   1.343,2,   0.781,2,-999.000,5, -999.00,5,  2192.4,2,  2318.6,2,-999.0000,9,  -999.00,-999.000,9,-999.0000,9, -999.00,9,   8.0851,2, -999.00,9,  -999.0,9,  -999.0,-999.000,9,-999.000,-999.000,5, -999.00,9,   45.68,2,   26.54,2,  42.0549, -51.5838,-999.000,-999.0000, -999.00,   8.0357,   8.0851,2,    35.2706,2,  -999.0,9,     -999.0,9,     -999.0,9,     -999.0,9,       2000
33AT20120419,        A20,      73,          1,         23,         23,2,20120510,       1850,    42.0544,   -51.5843,       3480,   570.0,   6.8558,  35.0501,2,  35.0495,2,    186.3,2,   187.3,2,   13.44,2,   21.71,2,    0.00,2,    1.42,2,   1.644,2,   0.946,2,-999.000,5, -999.00,5,  2187.7,2,  2313.9,2,-999.0000,9,  -999.00,-999.000,9,-999.0000,9, -999.00,9,   6.8608,2,    0.72,2,   -16.9,2,     2.5,-999.000,9,-999.000,-999.000,5, -999.00,9,   44.77,2,   24.54,2,  42.0548, -51.5839,-999.000,-999.0000, -999.00,   6.8015,   6.8608,2,    35.2148,2,  -999.0,9,     -999.0,9,     -999.0,9,     -999.0,9,       1958
33AT20120419,        A20,      73,          1,         22,         22,2,20120510,       1850,    42.0544,   -51.5843,       3480,   670.2,   5.1198,  34.9024,2,  34.8941,2,    242.8,2,   242.0,2,   10.99,2,   17.72,2,    0.00,2,    1.19,2,   2.843,2,   1.732,2,-999.000,5, -999.00,5,  2171.5,2,  2304.9,2,-999.0000,9,  -999.00,-999.000,9,-999.0000,9, -999.00,9,   5.1258,2,    0.70,2,     7.2,2,     2.9,-999.000,9,-999.000,-999.000,5, -999.00,9,   44.65,2,   20.89,2,  42.0547, -51.5840,-999.000,-999.0000, -999.00,   5.0645,   5.1258,2,    35.0586,2,  -999.0,9,     -999.0,9,     -999.0,9,     -999.0,9,       1955
33AT20120419,        A20,      73,          1,         21,         21,2,20120510,       1850,    42.0544,   -51.5843,       3480,   769.7,   4.7112,  34.9149,2,  34.9118,2,    260.3,2,   260.5,2,    9.70,2,   16.86,2,    0.00,2,    1.13,2,   3.176,2,   1.927,2,-999.000,5, -999.00,5,  -999.0,9,  -999.0,9,-999.0000,9,  -999.00,-999.000,9,-999.0000,9, -999.00,9,   4.7060,2, -999.00,9,  -999.0,9,  -999.0,-999.000,9,-999.000,-999.000,5, -999.00,9,   44.58,2,   19.79,2,  42.0547, -51.5841,-999.000,-999.0000, -999.00,   4.6495,   4.7060,2,    35.0764,2,  -999.0,9,     -999.0,9,     -999.0,9,     -999.0,9,       1953
33AT20120419,        A20,      73,          1,         20,         20,2,20120510,       1850,    42.0544,   -51.5843,       3480,   874.6,   4.6660,  34.9484,2,  34.9482,2,    259.7,2,   260.0,2,    9.95,2,   17.19,2,    0.00,2,    1.14,2,   3.038,2,   1.852,2,-999.000,5, -999.00,5,  2168.7,2,  2306.6,2,-999.0000,9,  -999.00,-999.000,9,-999.0000,9, -999.00,9,   4.6661,2,    0.76,2,     1.6,2,     2.6,-999.000,9,-999.000,-999.000,5, -999.00,9,   44.17,2,   20.16,2,  42.0546, -51.5841,-999.000,-999.0000, -999.00,   4.5955,   4.6661,2,    35.1130,2,  -999.0,9,     -999.0,9,     -999.0,9,     -999.0,9,       1951
33AT20120419,        A20,      73,          1,         19,         19,2,20120510,       1850,    42.0544,   -51.5843,       3480,   975.0,   4.5402,  34.9562,2,  34.9584,2,    265.9,2,   262.2,2,    9.98,2,   17.19,2,    0.00,2,    1.14,2,   2.903,2,   1.787,2,-999.000,5, -999.00,5,  -999.0,9,  -999.0,9,-999.0000,9,  -999.00,-999.000,9,-999.0000,9, -999.00,9,   4.5386,2, -999.00,9,  -999.0,9,  -999.0,-999.000,9,-999.000,-999.000,5, -999.00,9,   44.09,2,   20.14,2,  42.0545, -51.5842,-999.000,-999.0000, -999.00,   4.4618,   4.5386,2,    35.1233,2,  -999.0,9,     -999.0,9,     -999.0,9,     -999.0,9,       1948
33AT20120419,        A20,      73,          1,         18,         18,2,20120510,       1850,    42.0544,   -51.5843,       3480,  1077.2,   4.3422,  34.9472,2,  34.9468,2,    267.2,2,   267.7,2,    9.85,2,   16.97,2,    0.00,2,    1.12,2,   2.991,2,   1.820,2,-999.000,5, -999.00,5,  2166.5,2,  2307.4,6,-999.0000,9,  -999.00,-999.000,9,-999.0000,9, -999.00,9,   4.3420,2,    0.77,2,     2.5,2,     2.6,-999.000,9,-999.000,-999.000,5, -999.00,9,   44.48,2,   20.35,2,  42.0545, -51.5842,-999.000,-999.0000, -999.00,   4.2565,   4.3420,2,    35.1116,2,  -999.0,9,     -999.0,9,     -999.0,9,     -999.0,9,       1946
33AT20120419,        A20,      73,          1,         17,         17,2,20120510,       1850,    42.0544,   -51.5843,       3480,  1177.4,   4.0799,  34.9194,2,  34.9191,2,    274.9,2,   275.9,2,    9.57,2,   16.57,2,    0.00,2,    1.11,2,   3.335,2,   2.055,2,-999.000,5, -999.00,5,  -999.0,9,  -999.0,9,-999.0000,9,  -999.00,-999.000,9,-999.0000,9, -999.00,9,   4.0822,2, -999.00,9,  -999.0,9,  -999.0,-999.000,9,-999.000,-999.000,5, -999.00,9,   44.14,2,   20.42,2,  42.0544, -51.5843,-999.000,-999.0000, -999.00,   3.9877,   4.0822,2,    35.0837,2,  -999.0,9,     -999.0,9,     -999.0,9,     -999.0,9,       1943
33AT20120419,        A20,      73,          1,         16,         16,2,20120510,       1850,    42.0544,   -51.5843,       3480,  1278.5,   3.9435,  34.9076,2,  34.9083,2,    277.8,2,   278.2,2,    9.60,2,   16.49,2,    0.00,2,    1.10,2,   3.377,2,   1.983,2,-999.000,5, -999.00,5,  -999.0,9,  -999.0,9,-999.0000,9,  -999.00,-999.000,9,-999.0000,9, -999.00,9,   3.9467,2, -999.00,9,  -999.0,9,  -999.0,-999.000,9,-999.000,-999.000,5, -999.00,9,   43.96,2,   20.18,2,  42.0544, -51.5843,-999.000,-999.0000, -999.00,   3.8438,   3.9467,2,    35.0729,2,  -999.0,9,     -999.0,9,     -999.0,9,     -999.0,9,       1940
33AT20120419,        A20,      73,          1,         15,         15,2,20120510,       1850,    42.0544,   -51.5843,       3480,  1377.3,   3.9161,  34.9141,2,  34.9130,2,    275.1,2,   275.6,2,    9.92,2,   16.67,2,    0.00,2,    1.11,2,   3.271,2,   1.936,2,-999.000,5, -999.00,5,  -999.0,9,  -999.0,9,-999.0000,9,  -999.00,-999.000,9,-999.0000,9, -999.00,9,   3.9172,2, -999.00,9,  -999.0,9,  -999.0,-999.000,9,-999.000,-999.000,5, -999.00,9,   44.74,2,   20.31,2,  42.0544, -51.5843,-999.000,-999.0000, -999.00,   3.8080,   3.9172,2,    35.0776,2,  -999.0,9,     -999.0,9,     -999.0,9,     -999.0,9,       1937
33AT20120419,        A20,      73,          1,         14,         14,2,20120510,       1850,    42.0544,   -51.5843,       3480,  1480.2,   3.8687,  34.9180,2,  34.9167,2,    272.1,2,   274.2,2,   10.31,2,   16.79,2,    0.00,2,    1.12,2,   3.098,2,   1.781,2,-999.000,5, -999.00,5,  2164.7,2,  2305.4,2,-999.0000,9,  -999.00,-999.000,9,-999.0000,9, -999.00,9,   3.8743,2,    0.82,2,     8.5,2,     3.2,-999.000,9,-999.000,-999.000,5, -999.00,9,   44.47,2,   20.14,2,  42.0544, -51.5843,-999.000,-999.0000, -999.00,   3.7519,   3.8743,2,    35.0814,2,  -999.0,9,     -999.0,9,     -999.0,9,     -999.0,9,       1935
33AT20120419,        A20,      73,          1,         13,         13,2,20120510,       1850,    42.0544,   -51.5843,       3480,  1583.5,   3.8690,  34.9299,2,  34.9295,2,    270.6,2,   271.5,2,   10.87,2,   17.02,2,    0.00,2,    1.14,2,   2.878,2,   1.656,2,-999.000,5, -999.00,5,  -999.0,9,  -999.0,9,-999.0000,9,  -999.00,-999.000,9,-999.0000,9, -999.00,9,   3.8671,2, -999.00,9,  -999.0,9,  -999.0,-999.000,9,-999.000,-999.000,5, -999.00,9,   44.57,2,   20.30,2,  42.0544, -51.5843,-999.000,-999.0000, -999.00,   3.7428,   3.8671,2,    35.0942,2,  -999.0,9,     -999.0,9,     -999.0,9,     -999.0,9,       1932
33AT20120419,        A20,      73,          1,         11,         11,2,20120510,       1850,    42.0544,   -51.5843,       3480,  1686.3,   3.7937,  34.9325,2,  34.9327,2,    269.9,2,   269.9,2,   11.24,2,   17.15,2,    0.00,2,    1.13,2,-999.000,9,-999.000,9,-999.000,9, -999.00,9,  -999.0,9,  -999.0,9,-999.0000,9,  -999.00,-999.000,9,-999.0000,9, -999.00,9,   3.7945,2, -999.00,9,  -999.0,9,  -999.0,-999.000,9,-999.000,-999.000,9, -999.00,9, -999.00,9, -999.00,9,  42.0544, -51.5843,-999.000,-999.0000, -999.00,   3.6590,   3.7945,2,    35.0974,2,  -999.0,9,     -999.0,9,     -999.0,9,     -999.0,9,       1930
33AT20120419,        A20,      73,          1,         12,         12,2,20120510,       1850,    42.0544,   -51.5843,       3480,  1686.7,   3.7966,  34.9327,2,  34.9325,2,    269.9,2,   269.8,2,   11.23,2,   17.14,2,    0.00,2,    1.14,2,   2.666,2,   1.479,2,-999.000,5, -999.00,5,  -999.0,9,  -999.0,9,-999.0000,9,  -999.00,-999.000,9,-999.0000,9, -999.00,9,   3.7957,2, -999.00,9,  -999.0,9,  -999.0,-999.000,9,-999.000,-999.000,5, -999.00,9,   44.39,2,   20.94,2,  42.0544, -51.5843,-999.000,-999.0000, -999.00,   3.6618,   3.7957,2,    35.0972,2,  -999.0,9,     -999.0,9,     -999.0,9,     -999.0,9,       1930
33AT20120419,        A20,      73,          1,         10,         10,2,20120510,       1850,    42.0544,   -51.5843,       3480,  1785.3,   3.7284,  34.9357,2,  34.9358,2,    269.1,2,   268.8,2,   11.68,2,   17.25,2,    0.00,2,    1.14,2,   2.456,2,   1.374,2,-999.000,5, -999.00,5,  2163.9,2,  2307.8,2,-999.0000,9,  -999.00,-999.000,9,-999.0000,9, -999.00,9,   3.7289,2,    0.88,2,   -11.4,2,     4.2,-999.000,9,-999.000,-999.000,5, -999.00,9,   44.47,2,   20.69,2,  42.0543, -51.5844,-999.000,-999.0000, -999.00,   3.5853,   3.7289,2,    35.1005,2,  -999.0,9,     -999.0,9,     -999.0,9,     -999.0,9,       1927
33AT20120419,        A20,      73,          1,          9,          9,2,20120510,       1850,    42.0544,   -51.5843,       3480,  1956.1,   3.5595,  34.9299,2,  34.9303,2,    270.4,2,   270.2,2,   12.21,2,   17.22,2,    0.00,2,    1.14,2,   2.316,2,   1.257,2,-999.000,5, -999.00,5,  -999.0,9,  -999.0,9,-999.0000,9,  -999.00,-999.000,9,-999.0000,9, -999.00,9,   3.5594,2, -999.00,9,  -999.0,9,  -999.0,-999.000,9,-999.000,-999.000,5, -999.00,9,   44.35,2,   20.34,2,  42.0543, -51.5844,-999.000,-999.0000, -999.00,   3.4028,   3.5594,2,    35.0950,2,  -999.0,9,     -999.0,9,     -999.0,9,     -999.0,9,       1923
33AT20120419,        A20,      73,          1,          8,          8,2,20120510,       1850,    42.0544,   -51.5843,       3480,  2157.4,   3.4142,  34.9291,2,  34.9291,2,    271.6,2,   271.2,2,   13.03,2,   17.25,2,    0.00,2,    1.15,2,   2.046,2,   1.113,2,-999.000,5, -999.00,5,  -999.0,9,  -999.0,9,-999.0000,9,  -999.00,-999.000,9,-999.0000,9, -999.00,9,   3.4146,2, -999.00,9,  -999.0,9,  -999.0,-999.000,9,-999.000,-999.000,5, -999.00,9,   44.69,2,   20.38,2,  42.0543, -51.5844,-999.000,-999.0000, -999.00,   3.2405,   3.4146,2,    35.0938,2,  -999.0,9,     -999.0,9,     -999.0,9,     -999.0,9,       1919
33AT20120419,        A20,      73,          1,          7,          7,2,20120510,       1850,    42.0544,   -51.5843,       3480,  2366.2,   3.2660,  34.9276,2,  34.9284,2,    271.3,2,   271.3,2,   13.96,2,   17.20,2,    0.00,2,    1.15,2,   1.923,2,   1.028,2,-999.000,5, -999.00,5,  2160.6,2,  2310.2,2,-999.0000,9,  -999.00,-999.000,9,-999.0000,9, -999.00,9,   3.2655,2,    0.96,2,   -21.8,2,     2.6,-999.000,9,-999.000,-999.000,5, -999.00,9,   44.03,2,   19.66,2,  42.0543, -51.5844,-999.000,-999.0000, -999.00,   3.0745,   3.2655,2,    35.0931,2,  -999.0,9,     -999.0,9,     -999.0,9,     -999.0,9,       1915