BOTTLE,20220712CCHSIOCBG
EXPOCODE,SECT_ID,STNNBR,CASTNO,SAMPNO,BTLNBR,BTLNBR_FLAG_W,DATE,TIME,LATITUDE,LONGITUDE,DEPTH,CTDPRS,CTDTMP,CTDSAL,CTDSAL_FLAG_W,SALNTY,SALNTY_FLAG_W,CTDOXY,CTDOXY_FLAG_W,OXYGEN,OXYGEN_FLAG_W,SILCAT,SILCAT_FLAG_W,NITRAT,NITRAT_FLAG_W,NITRIT,NITRIT_FLAG_W,PHSPHT,PHSPHT_FLAG_W,CFC-11,CFC-11_FLAG_W,CFC-12,CFC-12_FLAG_W,CFC113,CFC113_FLAG_W,SF6,SF6_FLAG_W,TCARBN,TCARBN_FLAG_W,ALKALI,ALKALI_FLAG_W,PH_TOT,PH_TOT_FLAG_W,PH_TMP,TRITUM,TRITUM_FLAG_W,HELIUM,HELIUM_FLAG_W,DELHE3,DELHE3_FLAG_W,REFTMP,REFTMP_FLAG_W,DELC13,DELC13_FLAG_W,DELC14,DELC14_FLAG_W,C14ERR,NEON,NEON_FLAG_W,NEONER,CCL4,CCL4_FLAG_W,DELO18,DELO18_FLAG_W,DOC,DOC_FLAG_W,TDN,TDN_FLAG_W,BTL_LAT,BTL_LON,TRITER,HELIER,DELHER,THETA,SBE35,SBE35_FLAG_W,SALTREF,SALTREF_FLAG_W,14C-DOC,14C-DOC_FLAG_W,DELO17,DELO17_FLAG_W,O2/AR,O2/AR_FLAG_W,SIP,SIP_FLAG_W,BTL_TIME
,,,,,,,,,,,METERS,DBAR,ITS-90,PSS-78,,PSS-78,,UMOL/KG,,UMOL/KG,,UMOL/KG,,UMOL/KG,,UMOL/KG,,UMOL/KG,,PMOL/KG,,PMOL/KG,,PMOL/KG,,FMOL/KG,,UMOL/KG,,UMOL/KG,,,,DEG C,TU,,NMOL/KG,,PERCNT,,DEG C,,/MILLE,,/MILLE,,/MILLE,NMOL/KG,,NMOL/KG,PMOL/KG,,/MILLE,,UMOL/KG,,UMOL/KG,,,,TU,NMOL/KG,PERCNT,DEG C,ITS-90,,G/KG,,/MILLE,,/MILLE,,,,,,
33AT20120419,        A20,      36,          1,          6,          6,2,20120429,       0709,    18.7330,   -52.3347,       5001,  3752.5,   2.3520,  34.8936,2,  34.8937,2,    252.8,2,   252.6,2,   41.13,2,   20.98,2,    0.00,2,    1.42,2,   0.092,2,   0.041,2,   0.005,2,    0.01,2,  -999.0,9,  -999.0,9,-999.0000,9,  -999.00,   0.010,2,   1.8868,2,    3.30,2,   2.3525,2, -999.00,9,  -999.0,9,  -999.0,   8.245,2,   0.038,-999.000,9, -999.00,9, -999.00,9, -999.00,9,  18.7333, -52.3347,   0.011,   0.0079,    0.15,   2.0357,   2.3525,2,    35.0582,2,  -999.0,9,     -999.0,9,     -999.0,9,     -999.0,9,       0738
33AT20120419,        A20,      36,          1,          5,          5,2,20120429,       0709,    18.7330,   -52.3347,       5001,  4060.3,   2.2005,  34.8780,2,  34.8784,2,    252.5,2,   252.7,2,   45.12,2,   21.35,2,    0.00,2,    1.45,2,-999.000,9,-999.000,9,-999.000,9, -999.00,9,  -999.0,9,  -999.0,9,-999.0000,9,  -999.00,-999.000,9,-999.0000,9, -999.00,9,   2.1997,2, -999.00,9,  -999.0,9,  -999.0,-999.000,9,-999.000,-999.000,9, -999.00,9, -999.00,9, -999.00,9,  18.7334, -52.3348,-999.000,-999.0000, -999.00,   1.8538,   2.1997,2,    35.0428,2,  -999.0,9,     -999.0,9,     -999.0,9,     -999.0,9,       0731
33AT20120419,        A20,      36,          1,          4,          4,2,20120429,       0709,    18.7330,   -52.3347,       5001,  4367.0,   2.1145,  34.8663,2,  34.8664,2,    250.8,2,   250.9,2,   49.19,2,   21.85,2,    0.00,2,    1.49,2,   0.125,2,   0.054,2,   0.005,2,    0.00,2,  2192.9,2,  2342.1,2,   7.7220,2,    25.00,   0.024,2,   1.8706,2,    3.78,2,   2.1147,2, -999.00,9,  -999.0,9,  -999.0,   8.102,2,   0.037,-999.000,9, -999.00,9, -999.00,9, -999.00,9,  18.7331, -52.3347,   0.011,   0.0079,    0.15,   1.7349,   2.1147,2,    35.0308,2,  -999.0,9,     -999.0,9,     -999.0,9,     -999.0,9,       0725
33AT20120419,        A20,      36,          1,          3,          3,2,20120429,       0709,    18.7330,   -52.3347,       5001,  4675.6,   2.0689,  34.8581,2,  34.8585,2,    249.8,2,   249.7,2,   52.00,2,   22.23,2,    0.00,2,    1.52,2,-999.000,9,-999.000,9,-999.000,9, -999.00,9,  -999.0,9,  -999.0,9,-999.0000,9,  -999.00,-999.000,9,-999.0000,9, -999.00,9,   2.0688,2, -999.00,9,  -999.0,9,  -999.0,-999.000,9,-999.000,-999.000,9, -999.00,9, -999.00,9, -999.00,9,  18.7331, -52.3347,-999.000,-999.0000, -999.00,   1.6540,   2.0688,2,    35.0229,2,  -999.0,9,     -999.0,9,     -999.0,9,     -999.0,9,       0719
33AT20120419,        A20,      36,          1,          2,          2,2,20120429,       0709,    18.7330,   -52.3347,       5001,  4880.7,   2.0652,  34.8551,2,  34.8552,2,    249.1,2,   249.4,2,   52.95,2,   22.34,2,    0.00,2,    1.53,2,   0.146,2,   0.066,2,   0.004,2,    0.00,2,  2197.6,2,  2344.1,2,   7.7165,6,    25.00,-999.000,9,-999.0000,9, -999.00,9,   2.0652,2, -999.00,9,  -999.0,9,  -999.0,-999.000,9,-999.000,-999.000,9, -999.00,9, -999.00,9, -999.00,9,  18.7332, -52.3347,-999.000,-999.0000, -999.00,   1.6254,   2.0652,2,    35.0195,2,  -999.0,9,     -999.0,9,     -999.0,9,     -999.0,9,       0714
33AT20120419,        A20,      36,          1,          1,          1,2,20120429,       0709,    18.7330,   -52.3347,       5001,  5103.1,   2.0813,  34.8535,2,  34.8544,2,    249.3,2,   249.2,2,   53.35,2,   22.37,2,    0.00,2,    1.53,2,   0.173,2,   0.074,2,   0.007,2,    0.01,2,  2200.3,6,  2344.9,2,   7.7178,2,    25.00,   0.031,2,   1.8879,2,    4.03,2,   2.0810,2, -999.00,9,  -999.0,9,  -999.0,   8.276,2,   0.038,-999.000,9, -999.00,9, -999.00,9, -999.00,9,  18.7330, -52.3347,   0.011,   0.0079,    0.15,   1.6132,   2.0810,2,    35.0188,2,  -999.0,9,     -999.0,9,     -999.0,9,     -999.0,9,       0709