BOTTLE,20220712CCHSIOCBG
EXPOCODE,SECT_ID,STNNBR,CASTNO,SAMPNO,BTLNBR,BTLNBR_FLAG_W,DATE,TIME,LATITUDE,LONGITUDE,DEPTH,CTDPRS,CTDTMP,CTDSAL,CTDSAL_FLAG_W,SALNTY,SALNTY_FLAG_W,CTDOXY,CTDOXY_FLAG_W,OXYGEN,OXYGEN_FLAG_W,SILCAT,SILCAT_FLAG_W,NITRAT,NITRAT_FLAG_W,NITRIT,NITRIT_FLAG_W,PHSPHT,PHSPHT_FLAG_W,CFC-11,CFC-11_FLAG_W,CFC-12,CFC-12_FLAG_W,CFC113,CFC113_FLAG_W,SF6,SF6_FLAG_W,TCARBN,TCARBN_FLAG_W,ALKALI,ALKALI_FLAG_W,PH_TOT,PH_TOT_FLAG_W,PH_TMP,TRITUM,TRITUM_FLAG_W,HELIUM,HELIUM_FLAG_W,DELHE3,DELHE3_FLAG_W,REFTMP,REFTMP_FLAG_W,DELC13,DELC13_FLAG_W,DELC14,DELC14_FLAG_W,C14ERR,NEON,NEON_FLAG_W,NEONER,CCL4,CCL4_FLAG_W,DELO18,DELO18_FLAG_W,DOC,DOC_FLAG_W,TDN,TDN_FLAG_W,BTL_LAT,BTL_LON,TRITER,HELIER,DELHER,THETA,SBE35,SBE35_FLAG_W,SALTREF,SALTREF_FLAG_W,14C-DOC,14C-DOC_FLAG_W,DELO17,DELO17_FLAG_W,O2/AR,O2/AR_FLAG_W,SIP,SIP_FLAG_W,BTL_TIME
,,,,,,,,,,,METERS,DBAR,ITS-90,PSS-78,,PSS-78,,UMOL/KG,,UMOL/KG,,UMOL/KG,,UMOL/KG,,UMOL/KG,,UMOL/KG,,PMOL/KG,,PMOL/KG,,PMOL/KG,,FMOL/KG,,UMOL/KG,,UMOL/KG,,,,DEG C,TU,,NMOL/KG,,PERCNT,,DEG C,,/MILLE,,/MILLE,,/MILLE,NMOL/KG,,NMOL/KG,PMOL/KG,,/MILLE,,UMOL/KG,,UMOL/KG,,,,TU,NMOL/KG,PERCNT,DEG C,ITS-90,,G/KG,,/MILLE,,/MILLE,,,,,,
33AT20120419,        A20,      44,          1,          6,          6,2,20120501,       2220,    24.4852,   -52.3331,       5277,  3955.9,   2.2628,  34.8863,2,  34.8859,2,    252.0,2,   252.7,2,   42.85,2,   21.07,2,    0.00,2,    1.44,2,   0.067,2,   0.033,2,   0.010,2,    0.04,2,  -999.0,9,  -999.0,9,-999.0000,9,  -999.00,  -0.007,2,   1.8814,2,    3.55,2,   2.2635,2, -999.00,9,  -999.0,9,  -999.0,   8.266,2,   0.038,-999.000,9, -999.00,9, -999.00,9, -999.00,9,  24.4855, -52.3333,   0.010,   0.0079,    0.15,   1.9262,   2.2635,2,    35.0504,2,  -999.0,9,     -999.0,9,     -999.0,9,     -999.0,9,       2249
33AT20120419,        A20,      44,          1,          5,          5,2,20120501,       2220,    24.4852,   -52.3331,       5277,  4266.4,   2.1892,  34.8764,2,  34.8753,2,    252.6,2,   252.5,2,   45.39,2,   21.38,2,    0.00,2,    1.46,2,-999.000,9,-999.000,9,-999.000,9, -999.00,9,  2190.1,2,  2341.7,2,   7.7290,2,    25.00,-999.000,9,-999.0000,9, -999.00,9,   2.1892,2, -999.00,9,  -999.0,9,  -999.0,-999.000,9,-999.000,-999.000,9, -999.00,9, -999.00,9, -999.00,9,  24.4854, -52.3332,-999.000,-999.0000, -999.00,   1.8191,   2.1892,2,    35.0397,2,  -999.0,9,     -999.0,9,     -999.0,9,     -999.0,9,       2243
33AT20120419,        A20,      44,          1,          4,          4,2,20120501,       2220,    24.4852,   -52.3331,       5277,  4573.3,   2.1395,  34.8679,2,  34.8670,2,    250.8,2,   251.3,2,   48.25,2,   21.71,2,    0.00,2,    1.48,2,   0.067,2,   0.035,2,   0.008,2,    0.02,2,  -999.0,9,  -999.0,9,-999.0000,9,  -999.00,   0.019,2,   1.8780,2,    4.00,2,   2.1395,2, -999.00,9,  -999.0,9,  -999.0,   8.156,2,   0.038,-999.000,9, -999.00,9, -999.00,9, -999.00,9,  24.4854, -52.3332,   0.010,   0.0079,    0.15,   1.7346,   2.1395,2,    35.0314,2,  -999.0,9,     -999.0,9,     -999.0,9,     -999.0,9,       2237
33AT20120419,        A20,      44,          1,          3,          3,2,20120501,       2220,    24.4852,   -52.3331,       5277,  4884.5,   2.1234,  34.8622,2,  34.8603,2,    250.2,2,   250.4,2,   50.36,2,   21.96,2,    0.00,2,    1.50,2,-999.000,9,-999.000,9,-999.000,9, -999.00,9,  2195.5,2,  2344.4,2,   7.7219,6,    25.00,-999.000,9,-999.0000,9, -999.00,9,   2.1229,2, -999.00,9,  -999.0,9,  -999.0,-999.000,9,-999.000,-999.000,9, -999.00,9, -999.00,9, -999.00,9,  24.4853, -52.3331,-999.000,-999.0000, -999.00,   1.6812,   2.1229,2,    35.0247,2,  -999.0,9,     -999.0,9,     -999.0,9,     -999.0,9,       2231
33AT20120419,        A20,      44,          1,          2,          2,2,20120501,       2220,    24.4852,   -52.3331,       5277,  5124.9,   2.1328,  34.8600,2,  34.8588,2,    249.7,2,   250.3,2,   51.12,2,   22.10,2,    0.00,2,    1.52,2,   0.093,2,   0.041,2,   0.008,2,    0.03,2,  -999.0,9,  -999.0,9,-999.0000,9,  -999.00,-999.000,9,-999.0000,9, -999.00,9,   2.1329,2, -999.00,9,  -999.0,9,  -999.0,-999.000,9,-999.000,-999.000,9, -999.00,9, -999.00,9, -999.00,9,  24.4853, -52.3331,-999.000,-999.0000, -999.00,   1.6601,   2.1329,2,    35.0231,2,  -999.0,9,     -999.0,9,     -999.0,9,     -999.0,9,       2226
33AT20120419,        A20,      44,          1,          1,          1,2,20120501,       2220,    24.4852,   -52.3331,       5277,  5365.4,   2.1222,  34.8554,2,  34.8550,2,    248.6,2,   249.5,2,   52.80,2,   22.30,2,    0.00,2,    1.53,2,   0.116,2,   0.053,2,   0.007,2,    0.09,2,  2200.1,6,  2346.8,2,   7.7172,2,    25.00,   0.018,2,   1.8661,2,    4.40,2,   2.1225,2, -999.00,9,  -999.0,9,  -999.0,   8.276,2,   0.038,-999.000,9, -999.00,9, -999.00,9, -999.00,9,  24.4852, -52.3331,   0.010,   0.0078,    0.15,   1.6191,   2.1225,2,    35.0194,2,  -999.0,9,     -999.0,9,     -999.0,9,     -999.0,9,       2221