BOTTLE,20220712CCHSIOCBG
EXPOCODE,SECT_ID,STNNBR,CASTNO,SAMPNO,BTLNBR,BTLNBR_FLAG_W,DATE,TIME,LATITUDE,LONGITUDE,DEPTH,CTDPRS,CTDTMP,CTDSAL,CTDSAL_FLAG_W,SALNTY,SALNTY_FLAG_W,CTDOXY,CTDOXY_FLAG_W,OXYGEN,OXYGEN_FLAG_W,SILCAT,SILCAT_FLAG_W,NITRAT,NITRAT_FLAG_W,NITRIT,NITRIT_FLAG_W,PHSPHT,PHSPHT_FLAG_W,CFC-11,CFC-11_FLAG_W,CFC-12,CFC-12_FLAG_W,CFC113,CFC113_FLAG_W,SF6,SF6_FLAG_W,TCARBN,TCARBN_FLAG_W,ALKALI,ALKALI_FLAG_W,PH_TOT,PH_TOT_FLAG_W,PH_TMP,TRITUM,TRITUM_FLAG_W,HELIUM,HELIUM_FLAG_W,DELHE3,DELHE3_FLAG_W,REFTMP,REFTMP_FLAG_W,DELC13,DELC13_FLAG_W,DELC14,DELC14_FLAG_W,C14ERR,NEON,NEON_FLAG_W,NEONER,CCL4,CCL4_FLAG_W,DELO18,DELO18_FLAG_W,DOC,DOC_FLAG_W,TDN,TDN_FLAG_W,BTL_LAT,BTL_LON,TRITER,HELIER,DELHER,THETA,SBE35,SBE35_FLAG_W,SALTREF,SALTREF_FLAG_W,14C-DOC,14C-DOC_FLAG_W,DELO17,DELO17_FLAG_W,O2/AR,O2/AR_FLAG_W,SIP,SIP_FLAG_W,BTL_TIME
,,,,,,,,,,,METERS,DBAR,ITS-90,PSS-78,,PSS-78,,UMOL/KG,,UMOL/KG,,UMOL/KG,,UMOL/KG,,UMOL/KG,,UMOL/KG,,PMOL/KG,,PMOL/KG,,PMOL/KG,,FMOL/KG,,UMOL/KG,,UMOL/KG,,,,DEG C,TU,,NMOL/KG,,PERCNT,,DEG C,,/MILLE,,/MILLE,,/MILLE,NMOL/KG,,NMOL/KG,PMOL/KG,,/MILLE,,UMOL/KG,,UMOL/KG,,,,TU,NMOL/KG,PERCNT,DEG C,ITS-90,,G/KG,,/MILLE,,/MILLE,,,,,,
33AT20120419,        A20,      17,          1,         36,         36,2,20120423,       1552,     8.9251,   -52.5560,       4639,     3.1,  28.1283,  26.8996,2,  26.9037,2,    212.9,2,   212.8,2,   12.07,2,    0.00,2,    0.00,2,    0.01,2,   1.487,2,   0.993,2,   0.140,2,    0.59,3,  1560.2,6,  1852.4,2,   8.2128,2,    25.00,   0.659,2,-999.0000,9, -999.00,9,  28.1294,2, -999.00,9,  -999.0,9,  -999.0,-999.000,9,-999.000,   0.900,2, -999.00,1,  111.36,2,    7.29,2,   8.9284, -52.5553,   0.012,-999.0000, -999.00,  28.1276,  28.1294,2,    27.0305,2,  -999.0,9,     -999.0,1,     -999.0,1,     -999.0,9,       1810
33AT20120419,        A20,      17,          1,         35,         35,2,20120423,       1552,     8.9251,   -52.5560,       4639,    25.8,  27.6236,  35.7359,2,  35.7377,2,    197.8,2,   198.5,2,    0.48,2,    0.00,2,    0.00,2,    0.05,2,   1.439,2,   0.946,2,   0.116,2,    0.99,3,  2011.2,2,  2343.8,6,   8.0823,6,    25.00,-999.000,9,-999.0000,9, -999.00,9,  27.6226,2, -999.00,9,  -999.0,9,  -999.0,-999.000,9,-999.000,   0.880,2, -999.00,9,   68.54,2,    6.14,2,   8.9283, -52.5553,-999.000,-999.0000, -999.00,  27.6176,  27.6226,2,    35.9062,2,  -999.0,9,     -999.0,9,     -999.0,9,     -999.0,9,       1806
33AT20120419,        A20,      17,          1,         34,         34,2,20120423,       1552,     8.9251,   -52.5560,       4639,    51.0,  27.5571,  35.9564,2,  35.9572,2,    199.6,2,   197.5,2,    0.51,2,    0.00,2,    0.00,2,    0.05,2,   1.451,2,   0.951,2,   0.114,2,    0.76,3,  2021.1,2,  2356.9,2,   8.0811,2,    25.00,-999.000,9,-999.0000,9, -999.00,9,  27.5562,2, -999.00,9,  -999.0,9,  -999.0,-999.000,9,-999.000,   0.860,2, -999.00,1,   67.07,2,    5.31,2,   8.9283, -52.5553,-999.000,-999.0000, -999.00,  27.5452,  27.5562,2,    36.1267,2,  -999.0,9,     -999.0,1,     -999.0,1,     -999.0,9,       1804
33AT20120419,        A20,      17,          1,         33,         33,2,20120423,       1552,     8.9251,   -52.5560,       4639,    75.6,  26.1820,  36.2169,2,  36.2232,2,    181.9,2,   178.8,2,    1.26,2,    1.36,2,    0.21,2,    0.19,2,   1.523,2,   0.984,2,   0.105,2,    0.88,3,  2066.6,2,  2374.0,2,   8.0302,2,    25.00,   0.371,2,   1.7221,2,   -1.50,2,  26.1793,2, -999.00,9,  -999.0,9,  -999.0,   6.742,2,   0.031,   0.620,2, -999.00,1,   58.88,2,    6.79,2,   8.9283, -52.5553,   0.011,   0.0072,    0.15,  26.1650,  26.1793,2,    36.3940,2,  -999.0,9,     -999.0,1,     -999.0,1,     -999.0,9,       1801
33AT20120419,        A20,      17,          1,         32,         32,2,20120423,       1552,     8.9251,   -52.5560,       4639,   100.8,  24.3988,  36.4135,2,  36.3930,2,    172.2,2,   168.7,2,    1.94,2,    3.44,2,    0.05,2,    0.30,2,   1.639,2,   1.053,2,   0.096,2,    0.73,3,  2094.7,2,  2383.3,2,   7.9956,2,    25.00,-999.000,9,-999.0000,9, -999.00,9,  24.4058,2, -999.00,9,  -999.0,9,  -999.0,-999.000,9,-999.000,   0.450,2, -999.00,1,    55.2,2,    7.76,2,   8.9283, -52.5553,-999.000,-999.0000, -999.00,  24.3772,  24.4058,2,    36.5646,2,  -999.0,9,     -999.0,1,     -999.0,1,     -999.0,9,       1759
33AT20120419,        A20,      17,          1,         31,         31,2,20120423,       1552,     8.9251,   -52.5560,       4639,   151.5,  15.7484,  35.7786,2,  35.7880,2,    143.4,2,   143.9,2,    5.70,2,   14.75,2,    0.02,2,    0.98,2,   2.003,2,   1.174,2,   0.035,2,    0.58,3,  -999.0,9,  -999.0,9,-999.0000,9,  -999.00,   0.313,2,   1.7574,2,    0.34,2,  15.7591,2, -999.00,9,  -999.0,9,  -999.0,   7.287,2,   0.034,   0.240,2, -999.00,1,   51.78,2,   19.47,2,   8.9282, -52.5553,   0.011,   0.0074,    0.15,  15.7246,  15.7591,2,    35.9568,2,  -999.0,9,     -999.0,1,     -999.0,1,     -999.0,9,       1756
33AT20120419,        A20,      17,          1,         30,         30,2,20120423,       1552,     8.9251,   -52.5560,       4639,   202.0,  12.2416,  35.2826,2,  35.2915,2,    140.0,2,   140.7,2,    8.61,2,   20.28,2,    0.01,2,    1.33,2,   2.009,2,   1.131,2,   0.031,2,    0.51,3,  2177.0,2,  2324.0,2,   7.7210,2,    25.00,-999.000,9,-999.0000,9, -999.00,9,  12.2540,2, -999.00,9,  -999.0,9,  -999.0,-999.000,9,-999.000,   0.280,2, -999.00,1,   48.46,2,   25.68,2,   8.9282, -52.5553,-999.000,-999.0000, -999.00,  12.2148,  12.2540,2,    35.4579,2,  -999.0,9,     -999.0,1,     -999.0,1,     -999.0,9,       1753
33AT20120419,        A20,      17,          1,         29,         29,2,20120423,       1552,     8.9251,   -52.5560,       4639,   251.2,  10.7178,  35.0435,2,  35.0439,2,    144.6,2,   144.2,2,   10.65,2,   22.88,2,    0.01,2,    1.52,2,   1.956,2,   1.085,2,   0.036,2,    0.49,3,  -999.0,9,  -999.0,9,-999.0000,9,  -999.00,-999.000,9,-999.0000,9, -999.00,9,  10.7222,2, -999.00,9,  -999.0,9,  -999.0,-999.000,9,-999.000,   0.330,2, -999.00,1,   46.06,2,   27.49,2,   8.9282, -52.5553,-999.000,-999.0000, -999.00,  10.6872,  10.7222,2,    35.2091,2,  -999.0,9,     -999.0,1,     -999.0,1,     -999.0,9,       1750
33AT20120419,        A20,      17,          1,         28,         28,2,20120423,       1552,     8.9251,   -52.5560,       4639,   302.0,   9.8819,  34.9177,2,  34.9164,2,    144.3,2,   145.7,2,   12.03,2,   24.35,2,    0.01,2,    1.62,2,   1.924,2,   1.050,2,   0.040,2,    0.27,3,  2183.1,2,  2306.7,2,   7.6639,2,    25.00,   0.177,2,   1.7961,2,    1.13,2,   9.8856,2, -999.00,9,  -999.0,9,  -999.0,   7.746,2,   0.036,   0.380,2, -999.00,9,   44.91,2,   29.15,2,   8.9282, -52.5553,   0.011,   0.0075,    0.15,   9.8470,   9.8856,2,    35.0810,2,  -999.0,9,     -999.0,9,     -999.0,9,     -999.0,9,       1748
33AT20120419,        A20,      17,          1,         27,         27,2,20120423,       1552,     8.9251,   -52.5560,       4639,   351.3,   9.0474,  34.8109,2,  34.8123,2,    144.8,2,   148.6,2,   13.47,2,   25.82,2,    0.01,2,    1.72,2,   1.934,2,   1.070,2,   0.035,2,    0.01,3,  -999.0,9,  -999.0,9,-999.0000,9,  -999.00,-999.000,9,-999.0000,9, -999.00,9,   9.0464,2, -999.00,9,  -999.0,9,  -999.0,-999.000,9,-999.000,   0.350,2, -999.00,1,   43.58,2,   29.89,2,   8.9282, -52.5553,-999.000,-999.0000, -999.00,   9.0089,   9.0464,2,    34.9765,2,  -999.0,9,     -999.0,1,     -999.0,1,     -999.0,9,       1746
33AT20120419,        A20,      17,          1,         26,         26,2,20120423,       1552,     8.9251,   -52.5560,       4639,   403.0,   7.9953,  34.7004,2,  34.7003,2,    144.4,2,   147.0,2,   16.21,2,   28.36,2,    0.00,2,    1.87,2,   1.592,2,   0.851,2,   0.046,2,    0.00,3,  2193.6,2,  2300.2,2,   7.6174,2,    25.00,   0.112,2,   1.8011,2,    1.34,2,   7.9958,2, -999.00,9,  -999.0,9,  -999.0,   7.679,2,   0.035,   0.460,2, -999.00,9,   42.59,2,   32.94,2,   8.9282, -52.5553,   0.011,   0.0076,    0.15,   7.9542,   7.9958,2,    34.8639,2,  -999.0,9,     -999.0,9,     -999.0,9,     -999.0,9,       1744
33AT20120419,        A20,      17,          1,         25,         25,2,20120423,       1552,     8.9251,   -52.5560,       4639,   503.3,   7.1902,  34.6309,2,  34.6301,2,    140.7,2,   141.0,2,   18.93,2,   30.86,2,    0.00,2,    2.03,2,   1.241,2,   0.653,2,   0.037,2,    0.00,3,  2203.5,2,  2297.1,2,   7.5849,2,    25.00,   0.074,2,   1.8061,2,    1.81,2,   7.1920,2, -999.00,9,  -999.0,9,  -999.0,   7.811,2,   0.036,   0.420,2, -999.00,1,   42.14,2,   35.13,2,   8.9282, -52.5553,   0.011,   0.0076,    0.15,   7.1416,   7.1920,2,    34.7934,2,  -999.0,9,     -999.0,1,     -999.0,1,     -999.0,9,       1741
33AT20120419,        A20,      17,          1,         24,         24,2,20120423,       1552,     8.9251,   -52.5560,       4639,   604.0,   6.6790,  34.5861,2,  34.5881,2,    142.3,2,   142.3,2,   20.87,2,   31.75,2,    0.00,2,    2.10,2,   1.078,2,   0.563,2,   0.033,2,    0.00,3,  -999.0,9,  -999.0,9,-999.0000,9,  -999.00,   0.070,2,   1.8082,2,    1.52,2,   6.6796,2, -999.00,9,  -999.0,9,  -999.0,   7.812,2,   0.036,   0.420,2, -999.00,1,   41.73,2,   36.48,2,   8.9282, -52.5553,   0.011,   0.0076,    0.15,   6.6226,   6.6796,2,    34.7512,2,  -999.0,9,     -999.0,1,     -999.0,1,     -999.0,9,       1738
33AT20120419,        A20,      17,          1,         23,         23,2,20120423,       1552,     8.9251,   -52.5560,       4639,   704.8,   6.1402,  34.5739,2,  34.5714,2,    140.5,2,   137.6,2,   23.55,2,   33.33,2,    0.00,2,    2.21,2,   0.696,2,   0.371,2,   0.022,2,    0.00,3,  2212.1,2,  2298.7,2,   7.5588,2,    25.00,   0.016,2,   1.8118,2,    1.71,2,   6.1386,2, -999.00,9,  -999.0,9,  -999.0,   7.785,2,   0.036,   0.310,2, -999.00,1,   41.15,2,   38.05,2,   8.9281, -52.5553,   0.011,   0.0076,    0.15,   6.0768,   6.1386,2,    34.7344,2,  -999.0,9,     -999.0,1,     -999.0,1,     -999.0,9,       1735
33AT20120419,        A20,      17,          1,         22,         22,2,20120423,       1552,     8.9251,   -52.5560,       4639,   805.8,   5.5468,  34.6162,2,  34.6134,2,    133.5,2,   134.0,2,   26.93,2,   34.15,2,    0.00,2,    2.28,2,   0.234,2,   0.135,2,   0.007,2,    0.00,3,  2219.8,2,  2302.0,2,   7.5495,6,    25.00,   0.013,2,   1.8046,2,    2.36,2,   5.5444,2, -999.00,9,  -999.0,9,  -999.0,   7.819,2,   0.036,   0.150,2, -999.00,1,   41.32,2,   38.54,2,   8.9280, -52.5553,   0.011,   0.0076,    0.15,   5.4773,   5.5444,2,    34.7766,2,  -999.0,9,     -999.0,1,     -999.0,1,     -999.0,9,       1732
33AT20120419,        A20,      17,          1,         21,         21,2,20120423,       1552,     8.9251,   -52.5560,       4639,   906.2,   5.1274,  34.6433,2,  34.6380,2,    142.5,2,   142.4,2,   28.21,2,   33.50,2,    0.00,2,    2.25,2,   0.128,2,   0.079,2,   0.004,2,    0.00,3,  2218.6,6,  2305.3,2,   7.5599,2,    25.00,   0.029,2,   1.8110,2,    2.52,2,   5.1263,2, -999.00,9,  -999.0,9,  -999.0,   7.813,2,   0.036,   0.100,2, -999.00,1,   40.55,2,   37.27,2,   8.9279, -52.5553,   0.011,   0.0076,    0.15,   5.0514,   5.1263,2,    34.8013,2,  -999.0,9,     -999.0,1,     -999.0,1,     -999.0,9,       1729
33AT20120419,        A20,      17,          1,         20,         20,2,20120423,       1552,     8.9251,   -52.5560,       4639,  1007.2,   5.2009,  34.7461,2,  34.7380,2,    148.7,2,   148.0,2,   26.51,2,   31.80,2,    0.00,2,    2.13,2,   0.095,2,   0.059,2,   0.003,2,    0.00,3,  -999.0,9,  -999.0,9,-999.0000,9,  -999.00,   0.021,2,   1.8164,2,    2.51,2,   5.2001,2, -999.00,9,  -999.0,9,  -999.0,   7.937,2,   0.037,   0.070,2, -999.00,1,   40.61,2,   35.14,2,   8.9279, -52.5554,   0.011,   0.0076,    0.15,   5.1150,   5.2001,2,    34.9018,2,  -999.0,9,     -999.0,1,     -999.0,1,     -999.0,9,       1726
33AT20120419,        A20,      17,          1,         19,         19,2,20120423,       1552,     8.9251,   -52.5560,       4639,  1109.3,   5.2123,  34.8345,2,  34.8324,2,    160.7,2,   163.0,2,   24.09,2,   29.10,2,    0.00,2,    1.94,2,   0.149,2,   0.092,2,   0.008,2,    0.00,3,  2205.1,2,  2313.7,2,   7.6156,2,    25.00,   0.052,2,   1.8212,2,    2.59,2,   5.2118,2, -999.00,9,  -999.0,9,  -999.0,   7.882,2,   0.036,   0.100,2, -999.00,1,   40.44,2,   32.87,2,   8.9278, -52.5554,   0.011,   0.0076,    0.15,   5.1166,   5.2118,2,    34.9966,2,  -999.0,9,     -999.0,1,     -999.0,1,     -999.0,9,       1723
33AT20120419,        A20,      17,          1,         18,         18,2,20120423,       1552,     8.9251,   -52.5560,       4639,  1210.8,   5.1441,  34.9064,2,  34.9093,2,    181.3,2,   180.7,2,   21.84,2,   26.44,2,    0.00,2,    1.78,2,   0.250,2,   0.145,2,   0.013,2,    0.00,3,  2196.0,2,  2314.9,2,   7.6488,2,    25.00,   0.060,2,   1.8438,2,    3.26,2,   5.1423,2, -999.00,9,  -999.0,9,  -999.0,   7.984,2,   0.037,   0.180,2, -999.00,9,   41.37,2,   30.25,2,   8.9277, -52.5554,   0.011,   0.0077,    0.15,   5.0393,   5.1423,2,    35.0739,2,  -999.0,9,     -999.0,9,     -999.0,9,     -999.0,9,       1720
33AT20120419,        A20,      17,          1,         17,         17,2,20120423,       1552,     8.9251,   -52.5560,       4639,  1311.0,   4.9079,  34.9609,2,  34.9581,2,    202.9,2,   202.6,2,   19.34,2,   23.64,2,    0.00,2,    1.59,2,   0.402,2,   0.222,2,   0.017,2,    0.00,3,  2184.0,2,  2316.9,2,   7.6799,2,    25.00,   0.137,2,   1.8353,2,    4.11,2,   4.9063,2, -999.00,9,  -999.0,9,  -999.0,   8.008,2,   0.037,   0.300,2, -999.00,9,   40.52,2,   27.78,2,   8.9275, -52.5555,   0.011,   0.0077,    0.15,   4.7957,   4.9063,2,    35.1229,2,  -999.0,9,     -999.0,9,     -999.0,9,     -999.0,9,       1717
33AT20120419,        A20,      17,          1,         16,         16,2,20120423,       1552,     8.9251,   -52.5560,       4639,  1412.3,   4.6626,  34.9853,2,  34.9862,2,    222.2,2,   221.8,2,   17.18,2,   21.56,2,    0.00,2,    1.43,2,   0.582,2,   0.312,2,   0.025,2,    0.00,3,  -999.0,9,  -999.0,9,-999.0000,9,  -999.00,   0.176,2,   1.8366,2,    4.76,2,   4.6635,2, -999.00,9,  -999.0,9,  -999.0,   7.938,2,   0.037,   0.430,2, -999.00,1,   40.88,2,   25.26,2,   8.9274, -52.5555,   0.011,   0.0077,    0.15,   4.5432,   4.6635,2,    35.1512,2,  -999.0,9,     -999.0,1,     -999.0,1,     -999.0,9,       1713
33AT20120419,        A20,      17,          1,         15,         15,2,20120423,       1552,     8.9251,   -52.5560,       4639,  1513.5,   4.4532,  35.0019,2,  35.0028,2,    239.0,2,   240.0,2,   14.74,2,   19.53,2,    0.00,2,    1.29,2,   1.021,2,   0.535,2,   0.048,2,    0.00,3,  2167.2,2,  2314.6,2,   7.7201,2,    25.00,-999.000,9,   1.8382,2,    5.68,2,   4.4548,2, -999.00,9,  -999.0,9,  -999.0,   7.878,2,   0.036,   0.710,2, -999.00,9,   40.86,2,   23.69,2,   8.9272, -52.5555,-999.000,   0.0077,    0.15,   4.3265,   4.4548,2,    35.1678,2,  -999.0,9,     -999.0,9,     -999.0,9,     -999.0,9,       1710
33AT20120419,        A20,      17,          1,         14,         14,2,20120423,       1552,     8.9251,   -52.5560,       4639,  1615.3,   4.2498,  34.9959,2,  34.9951,2,    246.1,2,   247.8,2,   14.19,2,   18.88,2,    0.00,2,    1.25,2,   1.132,2,   0.578,2,   0.058,2,    0.00,3,  -999.0,9,  -999.0,9,-999.0000,9,  -999.00,   0.274,6,   1.8593,2,    5.69,2,   4.2498,2, -999.00,9,  -999.0,9,  -999.0,   8.088,2,   0.037,   0.830,2, -999.00,1,   40.81,2,   22.87,2,   8.9271, -52.5556,   0.009,   0.0078,    0.15,   4.1159,   4.2498,2,    35.1601,2,  -999.0,9,     -999.0,1,     -999.0,1,     -999.0,9,       1706
33AT20120419,        A20,      17,          1,         13,         13,2,20120423,       1552,     8.9251,   -52.5560,       4639,  1816.1,   3.8927,  34.9795,2,  34.9799,2,    254.9,2,   254.9,2,   14.80,2,   18.59,2,    0.00,2,    1.24,2,   0.916,2,   0.484,2,   0.044,2,    0.00,3,  2160.4,2,  2313.0,2,   7.7314,2,    25.00,   0.243,2,   1.8561,2,    6.48,2,   3.8914,2, -999.00,9,  -999.0,9,  -999.0,   8.095,2,   0.037,   0.730,2, -999.00,9,   40.26,2,   22.35,2,   8.9269, -52.5556,   0.011,   0.0078,    0.15,   3.7444,   3.8914,2,    35.1449,2,  -999.0,9,     -999.0,9,     -999.0,9,     -999.0,9,       1701
33AT20120419,        A20,      17,          1,         12,         12,2,20120423,       1552,     8.9251,   -52.5560,       4639,  2020.0,   3.6494,  34.9691,2,  34.9677,2,    260.6,2,   260.5,2,   15.43,2,   18.20,2,    0.00,2,    1.22,2,   0.990,2,   0.512,2,   0.045,2,    0.00,3,  2159.5,2,  2313.2,2,   7.7360,2,    25.00,   0.240,2,   1.8478,2,    6.22,2,   3.6493,2, -999.00,9,  -999.0,9,  -999.0,   8.091,2,   0.037,   0.770,2, -999.00,9,   40.22,2,   21.69,2,   8.9268, -52.5557,   0.011,   0.0078,    0.15,   3.4851,   3.6493,2,    35.1326,2,  -999.0,9,     -999.0,9,     -999.0,9,     -999.0,9,       1656
33AT20120419,        A20,      17,          1,         11,         11,2,20120423,       1552,     8.9251,   -52.5560,       4639,  2273.4,   3.4014,  34.9602,2,  34.9593,2,    261.4,2,   261.5,2,   17.47,2,   18.21,2,    0.00,2,    1.22,2,   0.776,2,   0.405,2,   0.034,2,    0.00,3,  -999.0,9,  -999.0,9,-999.0000,9,  -999.00,-999.000,9,-999.0000,9, -999.00,9,   3.4011,2, -999.00,9,  -999.0,9,  -999.0,-999.000,9,-999.000,   0.640,2, -999.00,1,    41.4,2,   21.63,2,   8.9267, -52.5557,-999.000,-999.0000, -999.00,   3.2165,   3.4011,2,    35.1241,2,  -999.0,9,     -999.0,1,     -999.0,1,     -999.0,9,       1650
33AT20120419,        A20,      17,          1,         10,         10,2,20120423,       1552,     8.9251,   -52.5560,       4639,  2527.3,   3.1566,  34.9511,2,  34.9522,2,    260.5,2,   260.7,2,   20.34,2,   18.48,2,    0.00,2,    1.24,2,   0.504,2,   0.269,2,   0.020,2,    0.00,3,  2162.0,2,  2318.8,2,   7.7423,2,    25.00,   0.146,2,   1.8523,2,    4.57,2,   3.1559,2, -999.00,9,  -999.0,9,  -999.0,   8.069,2,   0.037,   0.460,2, -999.00,9,   41.33,2,   21.82,2,   8.9268, -52.5557,   0.011,   0.0078,    0.15,   2.9510,   3.1559,2,    35.1170,2,  -999.0,9,     -999.0,9,     -999.0,9,     -999.0,9,       1644
33AT20120419,        A20,      17,          1,          9,          9,2,20120423,       1552,     8.9251,   -52.5560,       4639,  2781.4,   2.9590,  34.9402,2,  34.9400,2,    260.4,2,   260.7,2,   22.85,2,   18.69,2,    0.00,2,    1.26,2,   0.422,2,   0.224,2,   0.015,2,    0.00,3,  -999.0,9,  -999.0,9,-999.0000,9,  -999.00,-999.000,9,-999.0000,9, -999.00,9,   2.9587,2, -999.00,9,  -999.0,9,  -999.0,-999.000,9,-999.000,   0.400,2, -999.00,1,   40.98,2,   22.01,2,   8.9266, -52.5557,-999.000,-999.0000, -999.00,   2.7317,   2.9587,2,    35.1047,2,  -999.0,9,     -999.0,1,     -999.0,1,     -999.0,9,       1639
33AT20120419,        A20,      17,          1,          8,          8,2,20120423,       1552,     8.9251,   -52.5560,       4639,  3037.5,   2.7862,  34.9292,2,  34.9303,2,    259.6,2,   259.8,2,   25.92,2,   19.00,2,    0.00,2,    1.28,2,   0.364,2,   0.201,2,   0.015,2,    0.00,3,  2167.5,2,  2323.1,2,   7.7402,2,    25.00,   0.093,2,   1.8632,2,    4.33,2,   2.7866,2, -999.00,9,  -999.0,9,  -999.0,   8.148,2,   0.037,   0.350,2, -999.00,9,   40.46,2,   22.34,2,   8.9266, -52.5557,   0.011,   0.0078,    0.15,   2.5361,   2.7866,2,    35.0951,2,  -999.0,9,     -999.0,9,     -999.0,9,     -999.0,9,       1633
33AT20120419,        A20,      17,          1,          7,          7,2,20120423,       1552,     8.9251,   -52.5560,       4639,  3341.9,   2.5801,  34.9137,2,  34.9150,2,    254.0,2,   254.1,2,   33.95,2,   20.26,2,    0.00,2,    1.37,2,   0.159,2,   0.095,2,   0.008,2,    0.00,3,  -999.0,9,  -999.0,9,-999.0000,9,  -999.00,-999.000,9,-999.0000,9, -999.00,9,   2.5801,2, -999.00,9,  -999.0,9,  -999.0,-999.000,9,-999.000,   0.190,2, -999.00,9,   40.86,2,   23.61,2,   8.9263, -52.5558,-999.000,-999.0000, -999.00,   2.3027,   2.5801,2,    35.0796,2,  -999.0,9,     -999.0,9,     -999.0,9,     -999.0,9,       1626