BOTTLE,20220712CCHSIOCBG
EXPOCODE,SECT_ID,STNNBR,CASTNO,SAMPNO,BTLNBR,BTLNBR_FLAG_W,DATE,TIME,LATITUDE,LONGITUDE,DEPTH,CTDPRS,CTDTMP,CTDSAL,CTDSAL_FLAG_W,SALNTY,SALNTY_FLAG_W,CTDOXY,CTDOXY_FLAG_W,OXYGEN,OXYGEN_FLAG_W,SILCAT,SILCAT_FLAG_W,NITRAT,NITRAT_FLAG_W,NITRIT,NITRIT_FLAG_W,PHSPHT,PHSPHT_FLAG_W,CFC-11,CFC-11_FLAG_W,CFC-12,CFC-12_FLAG_W,CFC113,CFC113_FLAG_W,SF6,SF6_FLAG_W,TCARBN,TCARBN_FLAG_W,ALKALI,ALKALI_FLAG_W,PH_TOT,PH_TOT_FLAG_W,PH_TMP,TRITUM,TRITUM_FLAG_W,HELIUM,HELIUM_FLAG_W,DELHE3,DELHE3_FLAG_W,REFTMP,REFTMP_FLAG_W,DELC13,DELC13_FLAG_W,DELC14,DELC14_FLAG_W,C14ERR,NEON,NEON_FLAG_W,NEONER,CCL4,CCL4_FLAG_W,DELO18,DELO18_FLAG_W,DOC,DOC_FLAG_W,TDN,TDN_FLAG_W,BTL_LAT,BTL_LON,TRITER,HELIER,DELHER,THETA,SBE35,SBE35_FLAG_W,SALTREF,SALTREF_FLAG_W,14C-DOC,14C-DOC_FLAG_W,DELO17,DELO17_FLAG_W,O2/AR,O2/AR_FLAG_W,SIP,SIP_FLAG_W,BTL_TIME
,,,,,,,,,,,METERS,DBAR,ITS-90,PSS-78,,PSS-78,,UMOL/KG,,UMOL/KG,,UMOL/KG,,UMOL/KG,,UMOL/KG,,UMOL/KG,,PMOL/KG,,PMOL/KG,,PMOL/KG,,FMOL/KG,,UMOL/KG,,UMOL/KG,,,,DEG C,TU,,NMOL/KG,,PERCNT,,DEG C,,/MILLE,,/MILLE,,/MILLE,NMOL/KG,,NMOL/KG,PMOL/KG,,/MILLE,,UMOL/KG,,UMOL/KG,,,,TU,NMOL/KG,PERCNT,DEG C,ITS-90,,G/KG,,/MILLE,,/MILLE,,,,,,
33AT20120419,        A20,      41,          1,         36,         36,2,20120430,       2306,    22.2254,   -52.3303,       5091,     5.3,  24.6897,  36.9926,2,  36.9924,2,    207.0,2,   208.3,2,    0.54,2,    0.00,2,    0.00,2,    0.00,2,   1.758,2,   1.092,2,   0.136,2,    1.18,3,  2066.8,2,  2422.4,6,   8.0981,2,    25.00,   0.510,2,   1.7130,2,   -1.33,2,  24.6908,2, -999.00,9,  -999.0,9,  -999.0,   6.801,2,   0.031,   1.070,2, -999.00,1,   78.29,2,    4.95,2,  22.2200, -52.3270,   0.011,   0.0072,    0.15,  24.6886,  24.6908,2,    37.1668,2,  -999.0,9,     -999.0,1,     -999.0,1,     -999.0,9,       0117
33AT20120419,        A20,      41,          1,         35,         35,2,20120430,       2306,    22.2254,   -52.3303,       5091,    21.6,  24.5937,  36.9913,2,  36.9906,2,    208.3,2,   208.7,2,    0.53,2,    0.00,2,    0.00,2,    0.00,2,   1.760,2,   1.096,2,   0.134,2,    1.04,3,  2065.4,6,  2422.2,2,   8.0981,6,    25.00,-999.000,9,-999.0000,9, -999.00,9,  24.5995,2, -999.00,9,  -999.0,9,  -999.0,-999.000,9,-999.000,   1.040,2, -999.00,9,   77.94,2,    4.60,2,  22.2201, -52.3270,-999.000,-999.0000, -999.00,  24.5890,  24.5995,2,    37.1650,2,  -999.0,9,     -999.0,9,     -999.0,9,     -999.0,9,       0114
33AT20120419,        A20,      41,          1,         34,         34,2,20120430,       2306,    22.2254,   -52.3303,       5091,    49.1,  24.2130,  37.0506,2,  37.0500,2,    213.7,2,   212.2,2,    0.46,2,    0.00,2,    0.00,2,    0.00,2,   1.789,2,   1.103,2,   0.126,2,    1.10,3,  2069.1,2,  2424.8,2,   8.0974,2,    25.00,-999.000,9,-999.0000,9, -999.00,9,  24.2069,2, -999.00,9,  -999.0,9,  -999.0,-999.000,9,-999.000,   1.010,2, -999.00,1,   70.25,2,    4.51,2,  22.2203, -52.3271,-999.000,-999.0000, -999.00,  24.2025,  24.2069,2,    37.2247,2,  -999.0,9,     -999.0,1,     -999.0,1,     -999.0,9,       0112
33AT20120419,        A20,      41,          1,         33,         33,2,20120430,       2306,    22.2254,   -52.3303,       5091,    74.3,  23.9736,  37.0523,2,  37.0514,2,    215.1,2,   212.9,2,    0.41,2,    0.00,2,    0.00,2,    0.00,2,   1.804,2,   1.113,2,   0.130,2,    1.12,3,  2068.4,2,  2425.7,2,   8.0980,2,    25.00,   0.512,2,   1.7083,2,   -1.04,2,  23.9658,2, -999.00,9,  -999.0,9,  -999.0,   6.847,2,   0.031,   0.960,2, -999.00,1,   65.74,2,    4.36,2,  22.2203, -52.3272,   0.011,   0.0072,    0.15,  23.9578,  23.9658,2,    37.2261,2,  -999.0,9,     -999.0,1,     -999.0,1,     -999.0,9,       0110
33AT20120419,        A20,      41,          1,         32,         32,2,20120430,       2306,    22.2254,   -52.3303,       5091,   100.2,  23.7233,  37.0691,2,  37.0671,2,    213.3,2,   212.1,2,    0.44,2,    0.00,2,    0.00,2,    0.00,2,   1.791,2,   1.115,2,   0.131,2,    1.28,3,  2070.3,2,  2427.4,2,   8.0946,2,    25.00,-999.000,9,-999.0000,9, -999.00,9,  23.7103,2, -999.00,9,  -999.0,9,  -999.0,-999.000,9,-999.000,   0.880,2, -999.00,1,   60.23,2,    4.64,2,  22.2205, -52.3272,-999.000,-999.0000, -999.00,  23.7022,  23.7103,2,    37.2419,2,  -999.0,9,     -999.0,1,     -999.0,1,     -999.0,9,       0107
33AT20120419,        A20,      41,          1,         31,         31,2,20120430,       2306,    22.2254,   -52.3303,       5091,   150.0,  21.5518,  37.0187,2,  37.0163,2,    193.5,2,   193.5,2,    0.34,2,    0.19,2,    0.07,2,    0.00,2,   1.988,2,   1.229,2,   0.113,2,    1.08,3,  2116.5,2,  2419.8,2,   8.0160,2,    25.00,   0.519,2,   1.7121,2,   -0.46,2,  21.5501,2, -999.00,9,  -999.0,9,  -999.0,   6.980,2,   0.032,   0.400,2, -999.00,1,   55.39,2,    5.06,2,  22.2206, -52.3274,   0.011,   0.0072,    0.15,  21.5223,  21.5501,2,    37.1908,2,  -999.0,9,     -999.0,1,     -999.0,1,     -999.0,9,       0105
33AT20120419,        A20,      41,          1,         30,         30,2,20120430,       2306,    22.2254,   -52.3303,       5091,   200.6,  19.1381,  36.6981,2,  36.6983,2,    187.9,2,   188.2,2,    0.68,2,    2.31,2,    0.02,2,    0.07,2,   2.156,2,   1.323,2,   0.043,2,    1.15,3,  2125.7,2,  2400.5,2,   7.9712,6,    25.00,-999.000,9,-999.0000,9, -999.00,9,  19.1339,2, -999.00,9,  -999.0,9,  -999.0,-999.000,9,-999.000,   0.270,2, -999.00,1,    52.3,2,    5.78,2,  22.2208, -52.3275,-999.000,-999.0000, -999.00,  19.1018,  19.1339,2,    36.8714,2,  -999.0,9,     -999.0,1,     -999.0,1,     -999.0,9,       0102
33AT20120419,        A20,      41,          1,         29,         29,2,20120430,       2306,    22.2254,   -52.3303,       5091,   252.2,  18.2581,  36.5832,2,  36.5840,2,    192.2,2,   192.7,2,    1.02,2,    4.15,2,    0.01,2,    0.18,2,   2.200,2,   1.349,2,   0.025,2,    1.22,3,  2123.9,2,  2393.5,2,   7.9622,2,    25.00,   0.514,2,   1.7488,2,   -0.75,2,  18.2593,2, -999.00,9,  -999.0,9,  -999.0,   7.028,2,   0.032,   0.220,2, -999.00,1,   49.48,2,    7.80,2,  22.2209, -52.3276,   0.011,   0.0073,    0.15,  18.2139,  18.2593,2,    36.7565,2,  -999.0,9,     -999.0,1,     -999.0,1,     -999.0,9,       0100
33AT20120419,        A20,      41,          1,         28,         28,2,20120430,       2306,    22.2254,   -52.3303,       5091,   302.3,  17.7781,  36.5129,2,  36.5128,2,    191.8,2,   190.4,2,    1.35,2,    5.29,2,    0.01,2,    0.25,2,   2.237,2,   1.356,2,   0.023,2,    0.99,3,  2128.1,2,  2389.3,2,   7.9483,2,    25.00,-999.000,9,-999.0000,9, -999.00,9,  17.7789,2, -999.00,9,  -999.0,9,  -999.0,-999.000,9,-999.000,   0.220,2, -999.00,9,   48.67,2,    8.46,2,  22.2211, -52.3276,-999.000,-999.0000, -999.00,  17.7260,  17.7789,2,    36.6850,2,  -999.0,9,     -999.0,9,     -999.0,9,     -999.0,9,       0058
33AT20120419,        A20,      41,          1,         27,         27,2,20120430,       2306,    22.2254,   -52.3303,       5091,   352.9,  17.1438,  36.4045,2,  36.3989,2,    190.8,2,   190.8,2,    1.77,2,    6.46,2,    0.01,2,    0.33,2,   2.281,2,   1.372,2,   0.023,2,    1.10,3,  -999.0,9,  -999.0,9,-999.0000,9,  -999.00,   0.509,2,   1.7350,2,    0.67,2,  17.1413,2, -999.00,9,  -999.0,9,  -999.0,   7.075,2,   0.033,   0.240,2, -999.00,1,    47.3,2,    9.48,2,  22.2211, -52.3277,   0.010,   0.0073,    0.15,  17.0844,  17.1413,2,    36.5705,2,  -999.0,9,     -999.0,1,     -999.0,1,     -999.0,9,       0056
33AT20120419,        A20,      41,          1,         26,         26,2,20120430,       2306,    22.2254,   -52.3303,       5091,   403.5,  16.4805,  36.2867,2,  36.2799,2,    183.1,2,   184.0,2,    2.28,2,    8.14,2,    0.01,2,    0.45,2,   2.281,2,   1.361,2,   0.026,2,    1.08,3,  2137.0,2,  2374.3,2,   7.9087,2,    25.00,-999.000,9,-999.0000,9, -999.00,9,  16.4792,2, -999.00,9,  -999.0,9,  -999.0,-999.000,9,-999.000,   0.230,2, -999.00,9,   46.54,2,   11.06,2,  22.2212, -52.3278,-999.000,-999.0000, -999.00,  16.4143,  16.4792,2,    36.4510,2,  -999.0,9,     -999.0,9,     -999.0,9,     -999.0,9,       0054
33AT20120419,        A20,      41,          1,         25,         25,2,20120430,       2306,    22.2254,   -52.3303,       5091,   504.9,  14.4294,  35.9491,2,  35.9451,2,    163.6,2,   163.4,2,    4.39,2,   13.34,2,    0.01,2,    0.78,2,   2.208,2,   1.252,2,   0.022,2,    0.47,3,  2158.7,2,  2355.9,2,   7.8307,2,    25.00,   0.522,2,   1.7530,2,    3.21,2,  14.4271,2, -999.00,9,  -999.0,9,  -999.0,   7.244,2,   0.033,   0.200,2, -999.00,1,   45.46,2,   16.88,2,  22.2213, -52.3278,   0.010,   0.0074,    0.15,  14.3536,  14.4271,2,    36.1145,2,  -999.0,9,     -999.0,1,     -999.0,1,     -999.0,9,       0052
33AT20120419,        A20,      41,          1,         24,         24,2,20120430,       2306,    22.2254,   -52.3303,       5091,   603.3,  12.6144,  35.6882,2,  35.6766,2,    153.9,2,   154.2,2,    6.86,2,   17.45,2,    0.01,2,    1.04,2,   1.890,2,   1.029,2,   0.024,2,    0.42,3,  2171.5,2,  2342.2,2,   7.7742,2,    25.00,   0.484,2,   1.7646,2,    6.22,2,  12.6010,2, -999.00,9,  -999.0,9,  -999.0,   7.373,2,   0.034,   0.200,2, -999.00,1,    44.1,2,   21.65,2,  22.2214, -52.3278,   0.011,   0.0074,    0.15,  12.5312,  12.6010,2,    35.8449,2,  -999.0,9,     -999.0,1,     -999.0,1,     -999.0,9,       0049
33AT20120419,        A20,      41,          1,         23,         23,2,20120430,       2306,    22.2254,   -52.3303,       5091,   705.8,  10.7601,  35.4491,2,  35.4401,2,    144.0,2,   144.1,2,   10.56,2,   21.83,2,    0.01,2,    1.34,2,   1.233,2,   0.673,2,   0.011,2,    0.00,3,  2186.0,2,  2332.2,2,   7.7181,2,    25.00,   0.416,2,   1.7784,2,    7.93,2,  10.7573,2, -999.00,9,  -999.0,9,  -999.0,   7.460,2,   0.034,   0.130,2, -999.00,1,   43.41,2,   25.19,2,  22.2215, -52.3279,   0.011,   0.0075,    0.15,  10.6718,  10.7573,2,    35.6072,2,  -999.0,9,     -999.0,1,     -999.0,1,     -999.0,9,       0046
33AT20120419,        A20,      41,          1,         22,         22,2,20120430,       2306,    22.2254,   -52.3303,       5091,   808.0,   8.7405,  35.2001,2,  35.1823,2,    138.5,2,   139.1,2,   15.76,2,   26.09,2,    0.01,2,    1.65,2,   0.565,2,   0.313,2,   0.004,2,    0.00,3,  2199.5,2,  2324.5,2,   7.6647,2,    25.00,   0.239,2,   1.7904,2,    6.84,2,   8.7256,2, -999.00,9,  -999.0,9,  -999.0,   7.670,2,   0.035,   0.090,2, -999.00,1,   43.25,2,   29.22,2,  22.2217, -52.3280,   0.011,   0.0075,    0.15,   8.6509,   8.7256,2,    35.3482,2,  -999.0,9,     -999.0,1,     -999.0,1,     -999.0,9,       0043
33AT20120419,        A20,      41,          1,         21,         21,2,20120430,       2306,    22.2254,   -52.3303,       5091,   906.0,   6.8973,  34.9855,2,  34.9836,2,    139.9,2,   144.0,2,   20.08,2,   28.52,2,    0.00,2,    1.85,2,   0.256,2,   0.151,2,   0.003,2,    0.00,3,  2206.2,6,  2316.8,2,   7.6314,2,    25.00,   0.120,2,   1.7934,2,    4.75,2,   6.8904,2, -999.00,9,  -999.0,9,  -999.0,   7.758,2,   0.036,   0.080,2, -999.00,1,   42.41,2,   32.07,2,  22.2218, -52.3281,   0.010,   0.0075,    0.15,   6.8088,   6.8904,2,    35.1486,2,  -999.0,9,     -999.0,1,     -999.0,1,     -999.0,9,       0040
33AT20120419,        A20,      41,          1,         20,         20,2,20120430,       2306,    22.2254,   -52.3303,       5091,  1008.5,   6.1085,  34.9568,2,  34.9565,2,    151.3,2,   158.8,2,   20.85,2,   27.76,2,    0.00,2,    1.82,2,   0.191,2,   0.111,2,   0.003,2,    0.00,3,  2202.6,2,  2317.4,2,   7.6387,6,    25.00,   0.086,2,   1.8305,2,    3.65,2,   6.1082,2, -999.00,9,  -999.0,9,  -999.0,   7.828,2,   0.036,   0.100,2, -999.00,1,   41.74,2,   30.66,2,  22.2219, -52.3282,   0.010,   0.0077,    0.15,   6.0153,   6.1082,2,    35.1213,2,  -999.0,9,     -999.0,1,     -999.0,1,     -999.0,9,       0037
33AT20120419,        A20,      41,          1,         19,         19,2,20120430,       2306,    22.2254,   -52.3303,       5091,  1109.5,   5.7135,  34.9740,2,  34.9721,2,    168.0,2,   175.5,2,   19.94,2,   26.06,2,    0.00,2,    1.71,2,   0.241,2,   0.135,2,   0.005,2,    0.00,3,  2196.9,2,  2318.3,2,   7.6581,2,    25.00,   0.081,2,   1.8155,2,    4.25,2,   5.7159,2, -999.00,9,  -999.0,9,  -999.0,   7.833,2,   0.036,   0.160,2, -999.00,1,   40.75,2,   29.26,2,  22.2220, -52.3282,   0.010,   0.0076,    0.15,   5.6134,   5.7159,2,    35.1370,2,  -999.0,9,     -999.0,1,     -999.0,1,     -999.0,9,       0035
33AT20120419,        A20,      41,          1,         18,         18,2,20120430,       2306,    22.2254,   -52.3303,       5091,  1210.4,   5.4328,  35.0104,2,  35.0099,2,    190.7,2,   197.8,2,   17.74,2,   23.40,2,    0.00,2,    1.55,2,   0.416,2,   0.223,2,   0.011,2,    0.00,3,  -999.0,9,  -999.0,9,-999.0000,9,  -999.00,   0.140,2,   1.8482,2,    4.78,2,   5.4239,2, -999.00,9,  -999.0,9,  -999.0,   7.890,2,   0.036,   0.280,2, -999.00,9,   41.31,2,   26.75,2,  22.2222, -52.3283,   0.012,   0.0078,    0.15,   5.3252,   5.4239,2,    35.1749,2,  -999.0,9,     -999.0,9,     -999.0,9,     -999.0,9,       0032
33AT20120419,        A20,      41,          1,         17,         17,2,20120430,       2306,    22.2254,   -52.3303,       5091,  1310.6,   5.1386,  35.0378,2,  35.0376,2,    213.7,2,   216.7,2,   15.74,2,   20.83,2,    0.00,2,    1.41,2,   0.593,2,   0.311,2,   0.018,2,    0.00,3,  2176.7,2,  2319.4,6,   7.7079,2,    25.00,   0.181,2,-999.0000,9, -999.00,9,   5.1472,2, -999.00,9,  -999.0,9,  -999.0,-999.000,9,-999.000,   0.430,2, -999.00,9,   40.75,2,   24.45,2,  22.2223, -52.3284,   0.012,-999.0000, -999.00,   5.0240,   5.1472,2,    35.2028,2,  -999.0,9,     -999.0,9,     -999.0,9,     -999.0,9,       0029
33AT20120419,        A20,      41,          1,         16,         16,4,20120430,       2306,    22.2254,   -52.3303,       5091,  1412.8,   4.9221,  35.0414,2,  35.0128,4,    227.5,2,   200.5,4,   17.74,4,   22.73,4,    0.00,4,    1.52,4,   0.435,2,   0.236,2,   0.011,2,    0.00,3,  -999.0,9,  -999.0,9,-999.0000,9,  -999.00,   0.150,2,   1.8429,2,    4.99,2,   4.9237,2, -999.00,9,  -999.0,9,  -999.0,   7.854,2,   0.036,   0.310,2, -999.00,1,   40.64,2,   25.68,2,  22.2225, -52.3285,   0.011,   0.0077,    0.15,   4.7998,   4.9237,2,    35.1779,4,  -999.0,9,     -999.0,1,     -999.0,1,     -999.0,9,       0027
33AT20120419,        A20,      41,          1,         15,         15,2,20120430,       2306,    22.2254,   -52.3303,       5091,  1612.5,   4.4380,  35.0358,2,  35.0363,2,    239.0,2,   238.7,2,   15.85,2,   19.40,2,    0.00,2,    1.30,2,   0.420,2,   0.230,2,   0.013,2,    0.00,3,  2168.8,2,  2319.5,2,   7.7309,6,    25.00,   0.121,2,   1.8421,2,    5.29,2,   4.4375,2, -999.00,9,  -999.0,9,  -999.0,   8.003,2,   0.037,   0.430,2, -999.00,9,   41.24,2,   22.41,2,  22.2226, -52.3286,   0.012,   0.0077,    0.15,   4.3020,   4.4375,2,    35.2015,2,  -999.0,9,     -999.0,9,     -999.0,9,     -999.0,9,       0022
33AT20120419,        A20,      41,          1,         14,         14,2,20120430,       2306,    22.2254,   -52.3303,       5091,  1818.2,   4.0580,  35.0245,2,  35.0256,2,    243.5,2,   243.0,2,   17.96,2,   19.28,2,    0.00,2,    1.29,2,   0.249,2,   0.142,2,   0.008,2,    0.00,3,  2167.5,2,  2321.6,2,   7.7367,2,    25.00,   0.094,2,   1.8747,2,    3.88,2,   4.0572,2, -999.00,9,  -999.0,9,  -999.0,   8.033,2,   0.037,   0.320,2, -999.00,1,   40.26,2,   22.57,2,  22.2228, -52.3287,   0.011,   0.0079,    0.15,   3.9071,   4.0572,2,    35.1908,2,  -999.0,9,     -999.0,1,     -999.0,1,     -999.0,9,       0018
33AT20120419,        A20,      41,          1,         13,         13,2,20120430,       2306,    22.2254,   -52.3303,       5091,  2020.0,   3.6704,  35.0070,2,  35.0068,2,    246.4,2,   246.6,2,   21.30,2,   19.33,2,    0.00,2,    1.29,2,   0.139,2,   0.085,2,   0.004,2,    0.00,3,  2169.2,2,  2325.2,2,   7.7420,2,    25.00,   0.058,2,   1.8616,2,    3.77,2,   3.6716,2, -999.00,9,  -999.0,9,  -999.0,   8.123,2,   0.037,   0.230,2, -999.00,9,   40.79,2,   23.27,2,  22.2230, -52.3288,   0.012,   0.0078,    0.15,   3.5057,   3.6716,2,    35.1718,2,  -999.0,9,     -999.0,9,     -999.0,9,     -999.0,9,       0013
33AT20120419,        A20,      41,          1,         12,         12,2,20120430,       2306,    22.2254,   -52.3303,       5091,  2275.1,   3.2835,  34.9770,2,  34.9776,2,    247.9,2,   248.6,2,   25.17,2,   19.55,2,    0.00,2,    1.32,2,   0.078,2,   0.049,2,   0.002,2,    0.00,3,  2170.8,2,  2328.6,2,   7.7437,2,    25.00,   0.053,2,   1.8565,2,    3.61,2,   3.2835,2, -999.00,9,  -999.0,9,  -999.0,   8.131,2,   0.037,   0.160,2, -999.00,9,   40.37,2,   23.34,2,  22.2232, -52.3289,   0.011,   0.0078,    0.15,   3.1004,   3.2835,2,    35.1426,2,  -999.0,9,     -999.0,9,     -999.0,9,     -999.0,9,       0008
33AT20120419,        A20,      41,          1,         11,         11,2,20120430,       2306,    22.2254,   -52.3303,       5091,  2526.7,   3.0110,  34.9546,2,  34.9649,3,    249.7,2,   249.3,2,   26.97,2,   19.63,2,    0.00,2,    1.35,2,   0.071,2,   0.044,2,   0.001,2,    0.00,3,  -999.0,9,  -999.0,9,-999.0000,9,  -999.00,   0.029,2,   1.8477,2,    3.60,2,   3.0106,2, -999.00,9,  -999.0,9,  -999.0,   8.158,2,   0.038,   0.150,2, -999.00,1,   41.55,2,   23.46,2,  22.2233, -52.3290,   0.011,   0.0078,    0.15,   2.8081,   3.0106,2,    35.1297,3,  -999.0,9,     -999.0,1,     -999.0,1,     -999.0,9,       0003
33AT20120419,        A20,      41,          1,         10,         10,2,20120430,       2306,    22.2254,   -52.3303,       5091,  2783.0,   2.8555,  34.9411,2,  34.9411,2,    249.9,2,   250.4,2,   30.89,2,   19.96,2,    0.00,2,    1.37,2,   0.057,2,   0.037,2,   0.002,2,    0.00,3,  2175.5,2,  2333.2,6,   7.7415,2,    25.00,-999.000,9,-999.0000,9, -999.00,9,   2.8555,2, -999.00,9,  -999.0,9,  -999.0,-999.000,9,-999.000,   0.120,2, -999.00,9,   40.82,2,   23.76,2,  22.2234, -52.3291,-999.000,-999.0000, -999.00,   2.6301,   2.8555,2,    35.1058,2,  -999.0,9,     -999.0,9,     -999.0,9,     -999.0,9,       2358
33AT20120419,        A20,      41,          1,          9,          9,2,20120430,       2306,    22.2254,   -52.3303,       5091,  3039.3,   2.6977,  34.9274,2,  34.9273,2,    252.6,2,   252.9,2,   31.98,2,   19.94,2,    0.00,2,    1.37,2,   0.082,2,   0.048,2,   0.003,2,    0.00,3,  -999.0,9,  -999.0,9,-999.0000,9,  -999.00,   0.038,2,   1.8649,2,    3.50,2,   2.6974,2, -999.00,9,  -999.0,9,  -999.0,   8.134,2,   0.037,   0.140,2, -999.00,1,   40.39,2,   23.85,2,  22.2236, -52.3292,   0.011,   0.0078,    0.15,   2.4494,   2.6974,2,    35.0920,2,  -999.0,9,     -999.0,1,     -999.0,1,     -999.0,9,       2352
33AT20120419,        A20,      41,          1,          8,          8,2,20120430,       2306,    22.2254,   -52.3303,       5091,  3346.3,   2.5344,  34.9134,2,  34.9139,2,    254.2,2,   254.4,2,   34.11,2,   20.02,2,    0.00,2,    1.38,2,   0.086,2,   0.052,2,   0.004,2,    0.00,3,  2181.3,2,  2331.4,6,   7.7392,6,    25.00,-999.000,9,-999.0000,9, -999.00,9,   2.5343,2, -999.00,9,  -999.0,9,  -999.0,-999.000,9,-999.000,   0.150,2, -999.00,9,   39.51,2,   23.14,2,  22.2239, -52.3294,-999.000,-999.0000, -999.00,   2.2576,   2.5343,2,    35.0786,2,  -999.0,9,     -999.0,9,     -999.0,9,     -999.0,9,       2346
33AT20120419,        A20,      41,          1,          7,          7,2,20120430,       2306,    22.2254,   -52.3303,       5091,  3652.2,   2.3800,  34.8984,2,  34.8976,2,    253.2,2,   253.5,2,   38.62,2,   20.53,2,    0.00,2,    1.42,2,   0.063,2,   0.039,2,   0.004,2,    0.00,3,  -999.0,9,  -999.0,9,-999.0000,9,  -999.00,-999.000,9,-999.0000,9, -999.00,9,   2.3802,2, -999.00,9,  -999.0,9,  -999.0,-999.000,9,-999.000,   0.140,2, -999.00,9,   39.87,2,   23.84,2,  22.2243, -52.3296,-999.000,-999.0000, -999.00,   2.0740,   2.3802,2,    35.0622,2,  -999.0,9,     -999.0,9,     -999.0,9,     -999.0,9,       2340