BOTTLE,20220712CCHSIOCBG
EXPOCODE,SECT_ID,STNNBR,CASTNO,SAMPNO,BTLNBR,BTLNBR_FLAG_W,DATE,TIME,LATITUDE,LONGITUDE,DEPTH,CTDPRS,CTDTMP,CTDSAL,CTDSAL_FLAG_W,SALNTY,SALNTY_FLAG_W,CTDOXY,CTDOXY_FLAG_W,OXYGEN,OXYGEN_FLAG_W,SILCAT,SILCAT_FLAG_W,NITRAT,NITRAT_FLAG_W,NITRIT,NITRIT_FLAG_W,PHSPHT,PHSPHT_FLAG_W,CFC-11,CFC-11_FLAG_W,CFC-12,CFC-12_FLAG_W,CFC113,CFC113_FLAG_W,SF6,SF6_FLAG_W,TCARBN,TCARBN_FLAG_W,ALKALI,ALKALI_FLAG_W,PH_TOT,PH_TOT_FLAG_W,PH_TMP,TRITUM,TRITUM_FLAG_W,HELIUM,HELIUM_FLAG_W,DELHE3,DELHE3_FLAG_W,REFTMP,REFTMP_FLAG_W,DELC13,DELC13_FLAG_W,DELC14,DELC14_FLAG_W,C14ERR,NEON,NEON_FLAG_W,NEONER,CCL4,CCL4_FLAG_W,DELO18,DELO18_FLAG_W,DOC,DOC_FLAG_W,TDN,TDN_FLAG_W,BTL_LAT,BTL_LON,TRITER,HELIER,DELHER,THETA,SBE35,SBE35_FLAG_W,SALTREF,SALTREF_FLAG_W,14C-DOC,14C-DOC_FLAG_W,DELO17,DELO17_FLAG_W,O2/AR,O2/AR_FLAG_W,SIP,SIP_FLAG_W,BTL_TIME
,,,,,,,,,,,METERS,DBAR,ITS-90,PSS-78,,PSS-78,,UMOL/KG,,UMOL/KG,,UMOL/KG,,UMOL/KG,,UMOL/KG,,UMOL/KG,,PMOL/KG,,PMOL/KG,,PMOL/KG,,FMOL/KG,,UMOL/KG,,UMOL/KG,,,,DEG C,TU,,NMOL/KG,,PERCNT,,DEG C,,/MILLE,,/MILLE,,/MILLE,NMOL/KG,,NMOL/KG,PMOL/KG,,/MILLE,,UMOL/KG,,UMOL/KG,,,,TU,NMOL/KG,PERCNT,DEG C,ITS-90,,G/KG,,/MILLE,,/MILLE,,,,,,
33AT20120419,        A20,      33,          1,          6,          6,2,20120428,       0546,    16.7378,   -52.3344,       5450,  4058.8,   2.2418,  34.8837,2,  34.8836,2,    254.7,2,   255.1,2,   40.94,2,   20.67,2,    0.00,2,    1.42,2,   0.179,2,   0.115,2,   0.011,2,    0.00,3,  2183.6,2,  2336.4,2,   7.7305,6,    25.00,-999.000,9,-999.0000,9, -999.00,9,   2.2422,2, -999.00,9,  -999.0,9,  -999.0,-999.000,9,-999.000,   0.260,2, -999.00,9, -999.00,9, -999.00,9,  16.7375, -52.3343,-999.000,-999.0000, -999.00,   1.8941,   2.2422,2,    35.0481,2,  -999.0,9,     -999.0,9,     -999.0,9,     -999.0,9,       0619
33AT20120419,        A20,      33,          1,          5,          5,2,20120428,       0546,    16.7378,   -52.3344,       5450,  4367.4,   2.1132,  34.8682,2,  34.8676,2,    253.3,2,   253.4,2,   46.32,2,   21.33,2,    0.00,2,    1.46,2,   0.186,2,   0.114,2,   0.011,2,    0.00,3,  -999.0,9,  -999.0,9,-999.0000,9,  -999.00,-999.000,9,-999.0000,9, -999.00,9,   2.1126,2, -999.00,9,  -999.0,9,  -999.0,-999.000,9,-999.000,   0.270,2, -999.00,9, -999.00,9, -999.00,9,  16.7377, -52.3343,-999.000,-999.0000, -999.00,   1.7336,   2.1126,2,    35.0320,2,  -999.0,9,     -999.0,9,     -999.0,9,     -999.0,9,       0612
33AT20120419,        A20,      33,          1,          4,          4,2,20120428,       0546,    16.7378,   -52.3344,       5450,  4711.2,   1.9523,  34.8458,2,  34.8458,2,    248.7,2,   248.3,2,   55.76,2,   22.69,2,    0.00,2,    1.56,2,   0.169,2,   0.108,2,   0.012,2,    0.00,3,  2199.8,2,  2345.9,6,   7.7139,2,    25.00,-999.000,9,-999.0000,9, -999.00,9,   1.9524,2, -999.00,9,  -999.0,9,  -999.0,-999.000,9,-999.000,   0.240,2, -999.00,9, -999.00,9, -999.00,9,  16.7377, -52.3343,-999.000,-999.0000, -999.00,   1.5369,   1.9524,2,    35.0101,2,  -999.0,9,     -999.0,9,     -999.0,9,     -999.0,9,       0605
33AT20120419,        A20,      33,          1,          3,          3,2,20120428,       0546,    16.7378,   -52.3344,       5450,  5120.7,   1.9290,  34.8374,2,  34.8397,3,    246.3,2,   246.4,2,   59.58,2,   23.27,2,    0.00,2,    1.61,2,   0.160,2,   0.105,2,   0.011,2,    0.00,3,  -999.0,9,  -999.0,9,-999.0000,9,  -999.00,-999.000,9,-999.0000,9, -999.00,9,   1.9290,2, -999.00,9,  -999.0,9,  -999.0,-999.000,9,-999.000,   0.220,2, -999.00,9, -999.00,9, -999.00,9,  16.7378, -52.3343,-999.000,-999.0000, -999.00,   1.4640,   1.9290,2,    35.0040,3,  -999.0,9,     -999.0,9,     -999.0,9,     -999.0,9,       0557
33AT20120419,        A20,      33,          1,          2,          2,2,20120428,       0546,    16.7378,   -52.3344,       5450,  5315.4,   1.9516,  34.8367,2,  34.8365,2,    247.1,2,   246.0,2,   59.78,2,   23.31,2,    0.00,2,    1.61,2,   0.160,2,   0.107,2,   0.011,2,    0.00,3,  2205.8,2,  2345.0,2,   7.7057,6,    25.00,-999.000,9,-999.0000,9, -999.00,9,   1.9517,2, -999.00,9,  -999.0,9,  -999.0,-999.000,9,-999.000,   0.220,2, -999.00,9, -999.00,9, -999.00,9,  16.7378, -52.3343,-999.000,-999.0000, -999.00,   1.4611,   1.9517,2,    35.0008,2,  -999.0,9,     -999.0,9,     -999.0,9,     -999.0,9,       0552
33AT20120419,        A20,      33,          1,          1,          1,2,20120428,       0546,    16.7378,   -52.3344,       5450,  5535.5,   1.9791,  34.8364,2,  34.8365,2,    245.6,2,   245.9,2,   59.76,2,   23.32,2,    0.00,2,    1.60,2,   0.158,2,   0.100,2,   0.010,2,    0.00,3,  2207.0,6,  2347.0,2,   7.7055,2,    25.00,-999.000,9,-999.0000,9, -999.00,9,   1.9788,2, -999.00,9,  -999.0,9,  -999.0,-999.000,9,-999.000,   0.220,2, -999.00,9, -999.00,9, -999.00,9,  16.7378, -52.3344,-999.000,-999.0000, -999.00,   1.4592,   1.9788,2,    35.0008,2,  -999.0,9,     -999.0,9,     -999.0,9,     -999.0,9,       0547