BOTTLE,20220712CCHSIOCBG
EXPOCODE,SECT_ID,STNNBR,CASTNO,SAMPNO,BTLNBR,BTLNBR_FLAG_W,DATE,TIME,LATITUDE,LONGITUDE,DEPTH,CTDPRS,CTDTMP,CTDSAL,CTDSAL_FLAG_W,SALNTY,SALNTY_FLAG_W,CTDOXY,CTDOXY_FLAG_W,OXYGEN,OXYGEN_FLAG_W,SILCAT,SILCAT_FLAG_W,NITRAT,NITRAT_FLAG_W,NITRIT,NITRIT_FLAG_W,PHSPHT,PHSPHT_FLAG_W,CFC-11,CFC-11_FLAG_W,CFC-12,CFC-12_FLAG_W,CFC113,CFC113_FLAG_W,SF6,SF6_FLAG_W,TCARBN,TCARBN_FLAG_W,ALKALI,ALKALI_FLAG_W,PH_TOT,PH_TOT_FLAG_W,PH_TMP,TRITUM,TRITUM_FLAG_W,HELIUM,HELIUM_FLAG_W,DELHE3,DELHE3_FLAG_W,REFTMP,REFTMP_FLAG_W,DELC13,DELC13_FLAG_W,DELC14,DELC14_FLAG_W,C14ERR,NEON,NEON_FLAG_W,NEONER,CCL4,CCL4_FLAG_W,DELO18,DELO18_FLAG_W,DOC,DOC_FLAG_W,TDN,TDN_FLAG_W,BTL_LAT,BTL_LON,TRITER,HELIER,DELHER,THETA,SBE35,SBE35_FLAG_W,SALTREF,SALTREF_FLAG_W,14C-DOC,14C-DOC_FLAG_W,DELO17,DELO17_FLAG_W,O2/AR,O2/AR_FLAG_W,SIP,SIP_FLAG_W,BTL_TIME
,,,,,,,,,,,METERS,DBAR,ITS-90,PSS-78,,PSS-78,,UMOL/KG,,UMOL/KG,,UMOL/KG,,UMOL/KG,,UMOL/KG,,UMOL/KG,,PMOL/KG,,PMOL/KG,,PMOL/KG,,FMOL/KG,,UMOL/KG,,UMOL/KG,,,,DEG C,TU,,NMOL/KG,,PERCNT,,DEG C,,/MILLE,,/MILLE,,/MILLE,NMOL/KG,,NMOL/KG,PMOL/KG,,/MILLE,,UMOL/KG,,UMOL/KG,,,,TU,NMOL/KG,PERCNT,DEG C,ITS-90,,G/KG,,/MILLE,,/MILLE,,,,,,
33AT20120419,        A20,      42,          1,         36,         36,2,20120501,       0657,    22.9794,   -52.3311,       4237,     3.4,  25.2107,  36.6900,2,  36.6891,2,    206.4,2,   207.2,2,    0.68,2,    0.00,2,    0.00,2,    0.00,2,   1.781,2,   1.087,2,   0.151,2,    1.09,2,  2044.2,6,  2405.2,2,   8.1061,2,    25.00,-999.000,9,-999.0000,9, -999.00,9,  25.1666,2, -999.00,9,  -999.0,9,  -999.0,-999.000,9,-999.000,-999.000,9, -999.00,9, -999.00,9, -999.00,9,  22.9794, -52.3311,-999.000,-999.0000, -999.00,  25.2100,  25.1666,2,    36.8621,2,  -999.0,9,     -999.0,9,     -999.0,9,     -999.0,9,       0856
33AT20120419,        A20,      42,          1,         35,         35,2,20120501,       0657,    22.9794,   -52.3311,       4237,    34.0,  25.0528,  36.7022,2,  36.6979,2,    208.0,2,   207.5,2,    0.81,2,    0.00,2,    0.00,2,    0.00,2,   1.758,2,   1.099,2,   0.148,2,    1.14,2,  2046.0,2,  2405.7,2,   8.1067,6,    25.00,-999.000,9,-999.0000,9, -999.00,9,  25.0669,2, -999.00,9,  -999.0,9,  -999.0,-999.000,9,-999.000,-999.000,9, -999.00,9, -999.00,9, -999.00,9,  22.9792, -52.3310,-999.000,-999.0000, -999.00,  25.0454,  25.0669,2,    36.8709,2,  -999.0,9,     -999.0,9,     -999.0,9,     -999.0,9,       0853
33AT20120419,        A20,      42,          1,         34,         34,2,20120501,       0657,    22.9794,   -52.3311,       4237,    59.6,  24.3218,  36.9722,2,  36.9773,2,    214.5,2,   210.8,2,    0.46,2,    0.00,2,    0.00,2,    0.00,2,   1.809,2,   1.148,2,   0.150,2,    1.06,2,  2064.7,2,  2421.4,2,   8.0958,2,    25.00,-999.000,9,-999.0000,9, -999.00,9,  24.3289,2, -999.00,9,  -999.0,9,  -999.0,-999.000,9,-999.000,-999.000,9, -999.00,9, -999.00,9, -999.00,9,  22.9791, -52.3310,-999.000,-999.0000, -999.00,  24.3090,  24.3289,2,    37.1517,2,  -999.0,9,     -999.0,9,     -999.0,9,     -999.0,1,       0851
33AT20120419,        A20,      42,          1,         33,         33,2,20120501,       0657,    22.9794,   -52.3311,       4237,    84.6,  23.8818,  37.1354,2,  37.1328,2,    211.0,2,   208.1,2,    0.36,2,    0.00,2,    0.00,2,    0.00,2,   1.840,2,   1.148,2,   0.148,2,    1.14,2,  2080.5,2,  2429.3,2,   8.0851,2,    25.00,-999.000,9,-999.0000,9, -999.00,9,  23.8808,2, -999.00,9,  -999.0,9,  -999.0,-999.000,9,-999.000,-999.000,9, -999.00,9, -999.00,9, -999.00,9,  22.9790, -52.3310,-999.000,-999.0000, -999.00,  23.8639,  23.8808,2,    37.3079,2,  -999.0,9,     -999.0,9,     -999.0,9,     -999.0,1,       0848
33AT20120419,        A20,      42,          1,         32,         32,2,20120501,       0657,    22.9794,   -52.3311,       4237,   111.1,  23.1158,  37.1335,2,  37.1336,2,    205.9,2,   205.8,2,    0.29,2,    0.00,2,    0.00,2,    0.00,2,   1.885,2,   1.179,2,   0.151,2,    1.07,2,  2089.0,2,  2429.8,2,   8.0676,2,    25.00,-999.000,9,-999.0000,9, -999.00,9,  23.1166,2, -999.00,9,  -999.0,9,  -999.0,-999.000,9,-999.000,-999.000,9, -999.00,9, -999.00,9, -999.00,9,  22.9790, -52.3309,-999.000,-999.0000, -999.00,  23.0928,  23.1166,2,    37.3087,2,  -999.0,9,     -999.0,9,     -999.0,9,     -999.0,9,       0844
33AT20120419,        A20,      42,          1,         31,         31,2,20120501,       0657,    22.9794,   -52.3311,       4237,   136.2,  21.5863,  37.0401,2,  37.0377,2,    187.2,2,   188.7,2,    0.27,2,    0.28,2,    0.06,2,    0.00,2,   2.030,2,   1.262,2,   0.121,2,    1.07,2,  -999.0,9,  -999.0,9,-999.0000,9,  -999.00,-999.000,9,-999.0000,9, -999.00,9,  21.5977,2, -999.00,9,  -999.0,9,  -999.0,-999.000,9,-999.000,-999.000,9, -999.00,9, -999.00,9, -999.00,9,  22.9789, -52.3309,-999.000,-999.0000, -999.00,  21.5595,  21.5977,2,    37.2123,2,  -999.0,9,     -999.0,9,     -999.0,9,     -999.0,9,       0842
33AT20120419,        A20,      42,          1,         30,         30,2,20120501,       0657,    22.9794,   -52.3311,       4237,   169.8,  20.1011,  36.8715,2,  36.8663,2,    183.2,2,   184.1,2,    0.41,2,    1.57,2,    0.02,2,    0.04,2,   2.155,2,   1.321,2,   0.071,2,    1.11,2,  2129.6,2,  2410.2,6,   7.9770,2,    25.00,-999.000,9,-999.0000,9, -999.00,9,  20.1060,2, -999.00,9,  -999.0,9,  -999.0,-999.000,9,-999.000,-999.000,9, -999.00,9, -999.00,9, -999.00,9,  22.9788, -52.3309,-999.000,-999.0000, -999.00,  20.0693,  20.1060,2,    37.0402,2,  -999.0,9,     -999.0,9,     -999.0,9,     -999.0,9,       0840
33AT20120419,        A20,      42,          1,         29,         29,2,20120501,       0657,    22.9794,   -52.3311,       4237,   219.2,  18.4107,  36.6099,2,  36.6029,2,    189.0,2,   191.3,2,    0.91,2,    3.71,2,    0.01,2,    0.16,2,   2.325,2,   1.439,2,   0.037,2,    1.20,2,  2124.7,2,  2394.1,2,   7.9619,2,    25.00,-999.000,9,-999.0000,9, -999.00,9,  18.4103,2, -999.00,9,  -999.0,9,  -999.0,-999.000,9,-999.000,-999.000,9, -999.00,9, -999.00,9, -999.00,9,  22.9787, -52.3308,-999.000,-999.0000, -999.00,  18.3720,  18.4103,2,    36.7755,2,  -999.0,9,     -999.0,9,     -999.0,9,     -999.0,9,       0838
33AT20120419,        A20,      42,          1,         28,         28,2,20120501,       0657,    22.9794,   -52.3311,       4237,   266.3,  17.8740,  36.5290,2,  36.5241,2,    198.9,2,   199.9,2,    1.00,2,    4.26,2,    0.01,2,    0.19,2,   2.333,2,   1.407,2,   0.030,2,    1.11,2,  2119.1,2,  2388.0,2,   7.9652,2,    25.00,-999.000,9,-999.0000,9, -999.00,9,  17.8723,2, -999.00,9,  -999.0,9,  -999.0,-999.000,9,-999.000,-999.000,9, -999.00,9, -999.00,9, -999.00,9,  22.9787, -52.3308,-999.000,-999.0000, -999.00,  17.8280,  17.8723,2,    36.6963,2,  -999.0,9,     -999.0,9,     -999.0,9,     -999.0,9,       0836
33AT20120419,        A20,      42,          1,         27,         27,2,20120501,       0657,    22.9794,   -52.3311,       4237,   317.9,  17.4661,  36.4641,2,  36.4617,2,    200.3,2,   198.6,2,    1.41,2,    5.07,2,    0.01,2,    0.25,2,   2.362,2,   1.423,2,   0.036,2,    1.14,2,  2121.9,2,  2385.8,2,   7.9538,6,    25.00,-999.000,9,-999.0000,9, -999.00,9,  17.4658,2, -999.00,9,  -999.0,9,  -999.0,-999.000,9,-999.000,-999.000,9, -999.00,9, -999.00,9, -999.00,9,  22.9786, -52.3308,-999.000,-999.0000, -999.00,  17.4119,  17.4658,2,    36.6336,2,  -999.0,9,     -999.0,9,     -999.0,9,     -999.0,9,       0834
33AT20120419,        A20,      42,          1,         26,         26,2,20120501,       0657,    22.9794,   -52.3311,       4237,   369.5,  16.7135,  36.3278,2,  36.3341,2,    192.5,2,   193.2,2,    1.96,2,    6.75,2,    0.01,2,    0.37,2,   2.423,2,   1.453,2,   0.040,2,    1.05,2,  -999.0,9,  -999.0,9,-999.0000,9,  -999.00,-999.000,9,-999.0000,9, -999.00,9,  16.7275,2, -999.00,9,  -999.0,9,  -999.0,-999.000,9,-999.000,-999.000,9, -999.00,9, -999.00,9, -999.00,9,  22.9786, -52.3308,-999.000,-999.0000, -999.00,  16.6524,  16.7275,2,    36.5055,2,  -999.0,9,     -999.0,9,     -999.0,9,     -999.0,9,       0832
33AT20120419,        A20,      42,          1,         25,         25,2,20120501,       0657,    22.9794,   -52.3311,       4237,   412.1,  15.9809,  36.1989,2,  36.1805,2,    184.2,2,   179.9,2,    2.77,2,    9.24,2,    0.01,2,    0.53,2,   2.421,2,   1.438,2,   0.035,2,    0.92,2,  2141.1,2,  2370.6,2,   7.8900,2,    25.00,-999.000,9,-999.0000,9, -999.00,9,  15.9801,2, -999.00,9,  -999.0,9,  -999.0,-999.000,9,-999.000,-999.000,9, -999.00,9, -999.00,9, -999.00,9,  22.9786, -52.3308,-999.000,-999.0000, -999.00,  15.9147,  15.9801,2,    36.3511,2,  -999.0,9,     -999.0,9,     -999.0,9,     -999.0,9,       0830
33AT20120419,        A20,      42,          1,         24,         24,2,20120501,       0657,    22.9794,   -52.3311,       4237,   469.7,  14.6331,  35.9843,2,  35.9755,2,    167.5,2,   166.2,2,    4.02,2,   12.69,2,    0.01,2,    0.73,2,   2.370,2,   1.334,2,   0.029,2,    0.77,2,  2155.3,2,  2357.4,2,   7.8382,2,    25.00,-999.000,9,-999.0000,9, -999.00,9,  14.6206,2, -999.00,9,  -999.0,9,  -999.0,-999.000,9,-999.000,-999.000,9, -999.00,9, -999.00,9, -999.00,9,  22.9786, -52.3308,-999.000,-999.0000, -999.00,  14.5620,  14.6206,2,    36.1451,2,  -999.0,9,     -999.0,9,     -999.0,9,     -999.0,9,       0828
33AT20120419,        A20,      42,          1,         23,         23,2,20120501,       0657,    22.9794,   -52.3311,       4237,   531.3,  13.4584,  35.8055,2,  35.7962,2,    159.1,2,   160.0,2,    5.40,2,   15.40,2,    0.01,2,    0.91,2,   2.231,2,   1.247,2,   0.027,2,    0.64,2,  2163.2,2,  2348.0,2,   7.8019,2,    25.00,-999.000,9,-999.0000,9, -999.00,9,  13.4572,2, -999.00,9,  -999.0,9,  -999.0,-999.000,9,-999.000,-999.000,9, -999.00,9, -999.00,9, -999.00,9,  22.9785, -52.3308,-999.000,-999.0000, -999.00,  13.3822,  13.4572,2,    35.9650,2,  -999.0,9,     -999.0,9,     -999.0,9,     -999.0,9,       0826
33AT20120419,        A20,      42,          1,         22,         22,2,20120501,       0657,    22.9794,   -52.3311,       4237,   637.0,  11.7101,  35.5706,2,  35.5730,2,    144.0,2,   144.7,2,    8.14,2,   20.08,2,    0.00,2,    1.20,2,   1.769,2,   0.919,2,   0.020,2,    0.39,2,  2179.3,2,  2336.5,2,   7.7405,6,    25.00,-999.000,9,-999.0000,9, -999.00,9,  11.7296,2, -999.00,9,  -999.0,9,  -999.0,-999.000,9,-999.000,-999.000,9, -999.00,9, -999.00,9, -999.00,9,  22.9784, -52.3308,-999.000,-999.0000, -999.00,  11.6263,  11.7296,2,    35.7407,2,  -999.0,9,     -999.0,9,     -999.0,9,     -999.0,9,       0823
33AT20120419,        A20,      42,          1,         21,         21,2,20120501,       0657,    22.9794,   -52.3311,       4237,   743.5,  10.0195,  35.3572,2,  35.3558,2,    140.6,2,   140.6,2,   12.04,2,   23.74,2,    0.00,2,    1.45,2,   1.157,2,   0.580,2,   0.012,2,    0.23,2,  2188.2,2,  2329.4,2,   7.6959,2,    25.00,-999.000,9,-999.0000,9, -999.00,9,  10.0054,2, -999.00,9,  -999.0,9,  -999.0,-999.000,9,-999.000,-999.000,9, -999.00,9, -999.00,9, -999.00,9,  22.9784, -52.3307,-999.000,-999.0000, -999.00,   9.9303,  10.0054,2,    35.5226,2,  -999.0,9,     -999.0,9,     -999.0,9,     -999.0,1,       0820
33AT20120419,        A20,      42,          1,         20,         20,2,20120501,       0657,    22.9794,   -52.3311,       4237,   841.5,   8.3376,  35.1533,2,  35.1494,2,    139.2,2,   138.8,2,   16.30,2,   26.98,2,    0.00,2,    1.69,2,   0.625,2,   0.299,2,   0.009,2,    0.12,2,  2200.0,6,  2321.6,2,   7.6564,2,    25.00,-999.000,9,-999.0000,9, -999.00,9,   8.3407,2, -999.00,9,  -999.0,9,  -999.0,-999.000,9,-999.000,-999.000,9, -999.00,9, -999.00,9, -999.00,9,  22.9783, -52.3307,-999.000,-999.0000, -999.00,   8.2467,   8.3407,2,    35.3151,2,  -999.0,9,     -999.0,9,     -999.0,9,     -999.0,9,       0817
33AT20120419,        A20,      42,          1,         19,         19,2,20120501,       0657,    22.9794,   -52.3311,       4237,   941.3,   6.8715,  34.9899,2,  34.9868,2,    144.5,2,   144.0,2,   20.04,2,   28.96,2,    0.00,2,    1.84,2,   0.314,2,   0.144,2,   0.007,2,    0.05,2,  2205.1,2,  2317.0,2,   7.6296,2,    25.00,-999.000,9,-999.0000,9, -999.00,9,   6.8713,2, -999.00,9,  -999.0,9,  -999.0,-999.000,9,-999.000,-999.000,9, -999.00,9, -999.00,9, -999.00,9,  22.9783, -52.3307,-999.000,-999.0000, -999.00,   6.7795,   6.8713,2,    35.1517,2,  -999.0,9,     -999.0,9,     -999.0,9,     -999.0,9,       0814
33AT20120419,        A20,      42,          1,         18,         18,2,20120501,       0657,    22.9794,   -52.3311,       4237,  1045.2,   6.1354,  34.9553,2,  34.9545,2,    158.0,2,   157.6,2,   20.87,2,   28.32,2,    0.00,2,    1.82,2,   0.255,2,   0.118,2,   0.007,2,    0.08,2,  2202.7,2,  2317.1,2,   7.6365,2,    25.00,-999.000,9,-999.0000,9, -999.00,9,   6.1356,2, -999.00,9,  -999.0,9,  -999.0,-999.000,9,-999.000,-999.000,9, -999.00,9, -999.00,9, -999.00,9,  22.9783, -52.3307,-999.000,-999.0000, -999.00,   6.0383,   6.1356,2,    35.1193,2,  -999.0,9,     -999.0,9,     -999.0,9,     -999.0,9,       0811
33AT20120419,        A20,      42,          1,         17,         17,2,20120501,       0657,    22.9794,   -52.3311,       4237,  1146.9,   5.7249,  34.9704,2,  34.9691,2,    175.4,2,   175.1,2,   20.00,2,   25.83,2,    0.00,2,    1.71,2,   0.336,2,   0.144,2,   0.008,2,    0.10,2,  2194.7,2,  2319.4,2,   7.6563,6,    25.00,-999.000,9,-999.0000,9, -999.00,9,   5.7254,2, -999.00,9,  -999.0,9,  -999.0,-999.000,9,-999.000,-999.000,9, -999.00,9, -999.00,9, -999.00,9,  22.9784, -52.3307,-999.000,-999.0000, -999.00,   5.6210,   5.7254,2,    35.1340,2,  -999.0,9,     -999.0,9,     -999.0,9,     -999.0,9,       0809
33AT20120419,        A20,      42,          1,         16,         16,2,20120501,       0657,    22.9794,   -52.3311,       4237,  1247.8,   5.4947,  34.9988,2,  34.9980,2,    190.4,2,   191.0,2,   18.49,2,   24.18,2,    0.00,2,    1.58,2,   0.457,2,   0.198,2,   0.013,2,    0.11,2,  -999.0,9,  -999.0,9,-999.0000,9,  -999.00,-999.000,9,-999.0000,9, -999.00,9,   5.4953,2, -999.00,9,  -999.0,9,  -999.0,-999.000,9,-999.000,-999.000,9, -999.00,9, -999.00,9, -999.00,9,  22.9784, -52.3308,-999.000,-999.0000, -999.00,   5.3829,   5.4953,2,    35.1631,2,  -999.0,9,     -999.0,9,     -999.0,9,     -999.0,9,       0806
33AT20120419,        A20,      42,          1,         15,         15,2,20120501,       0657,    22.9794,   -52.3311,       4237,  1351.5,   5.1870,  35.0264,2,  35.0266,2,    211.1,2,   211.3,2,   16.47,2,   21.96,2,    0.00,2,    1.44,2,   0.628,2,   0.277,2,   0.015,2,    0.14,2,  -999.0,9,  -999.0,9,-999.0000,9,  -999.00,-999.000,9,-999.0000,9, -999.00,9,   5.1871,2, -999.00,9,  -999.0,9,  -999.0,-999.000,9,-999.000,-999.000,9, -999.00,9, -999.00,9, -999.00,9,  22.9785, -52.3308,-999.000,-999.0000, -999.00,   5.0680,   5.1871,2,    35.1917,2,  -999.0,9,     -999.0,9,     -999.0,9,     -999.0,9,       0803
33AT20120419,        A20,      42,          1,         14,         14,2,20120501,       0657,    22.9794,   -52.3311,       4237,  1450.8,   4.9861,  35.0320,2,  35.0319,2,    221.6,2,   220.9,2,   15.78,2,   21.02,2,    0.00,2,    1.39,2,   0.884,2,   0.302,2,   0.018,2,    0.14,2,  2174.8,2,  2319.3,2,   7.7092,2,    25.00,-999.000,9,-999.0000,9, -999.00,9,   4.9882,2, -999.00,9,  -999.0,9,  -999.0,-999.000,9,-999.000,-999.000,9, -999.00,9, -999.00,9, -999.00,9,  22.9785, -52.3308,-999.000,-999.0000, -999.00,   4.8595,   4.9882,2,    35.1971,2,  -999.0,9,     -999.0,9,     -999.0,9,     -999.0,9,       0801
33AT20120419,        A20,      42,          1,         13,         13,2,20120501,       0657,    22.9794,   -52.3311,       4237,  1550.4,   4.7036,  35.0349,2,  35.0357,2,    232.4,2,   233.8,2,   14.90,2,   19.95,2,    0.00,2,    1.32,2,   0.890,2,   0.310,2,   0.020,2,    0.15,2,  -999.0,9,  -999.0,9,-999.0000,9,  -999.00,-999.000,9,-999.0000,9, -999.00,9,   4.7037,2, -999.00,9,  -999.0,9,  -999.0,-999.000,9,-999.000,-999.000,9, -999.00,9, -999.00,9, -999.00,9,  22.9786, -52.3309,-999.000,-999.0000, -999.00,   4.5704,   4.7037,2,    35.2009,2,  -999.0,9,     -999.0,9,     -999.0,9,     -999.0,9,       0758
33AT20120419,        A20,      42,          1,         12,         12,2,20120501,       0657,    22.9794,   -52.3311,       4237,  1655.1,   4.4948,  35.0330,2,  35.0332,2,    238.1,2,   237.8,2,   15.31,2,   19.62,2,    0.00,2,    1.30,2,   0.580,2,   0.265,2,   0.018,2,    0.12,2,  2168.1,2,  2318.8,2,   7.7289,2,    25.00,-999.000,9,-999.0000,9, -999.00,9,   4.4954,2, -999.00,9,  -999.0,9,  -999.0,-999.000,9,-999.000,-999.000,9, -999.00,9, -999.00,9, -999.00,9,  22.9787, -52.3309,-999.000,-999.0000, -999.00,   4.3540,   4.4954,2,    35.1984,2,  -999.0,9,     -999.0,9,     -999.0,9,     -999.0,9,       0756
33AT20120419,        A20,      42,          1,         11,         11,2,20120501,       0657,    22.9794,   -52.3311,       4237,  1755.2,   4.2799,  35.0317,2,  35.0318,2,    242.2,2,   242.4,2,   16.29,2,   19.40,2,    0.00,2,    1.28,2,-999.000,9,-999.000,9,-999.000,9, -999.00,9,  2167.0,2,  2320.4,2,   7.7334,2,    25.00,-999.000,9,-999.0000,9, -999.00,9,   4.2791,2, -999.00,9,  -999.0,9,  -999.0,-999.000,9,-999.000,-999.000,9, -999.00,9, -999.00,9, -999.00,9,  22.9789, -52.3310,-999.000,-999.0000, -999.00,   4.1321,   4.2791,2,    35.1970,2,  -999.0,9,     -999.0,9,     -999.0,9,     -999.0,9,       0753
33AT20120419,        A20,      42,          1,         10,         10,2,20120501,       0657,    22.9794,   -52.3311,       4237,  1885.1,   4.0414,  35.0269,2,  35.0271,2,    244.0,2,   244.4,2,   18.15,2,   19.35,2,    0.00,2,    1.29,2,   0.352,2,   0.153,2,   0.010,2,    0.08,2,  2167.0,2,  2321.8,6,   7.7373,2,    25.00,-999.000,9,-999.0000,9, -999.00,9,   4.0395,2, -999.00,9,  -999.0,9,  -999.0,-999.000,9,-999.000,-999.000,9, -999.00,9, -999.00,9, -999.00,9,  22.9791, -52.3310,-999.000,-999.0000, -999.00,   3.8843,   4.0395,2,    35.1922,2,  -999.0,9,     -999.0,9,     -999.0,9,     -999.0,9,       0750
33AT20120419,        A20,      42,          1,          9,          9,2,20120501,       0657,    22.9794,   -52.3311,       4237,  2106.9,   3.6862,  35.0089,2,  35.0088,2,    246.5,2,   246.6,2,   21.43,2,   19.44,2,    0.00,2,    1.30,2,-999.000,9,-999.000,9,-999.000,9, -999.00,9,  -999.0,9,  -999.0,9,-999.0000,9,  -999.00,-999.000,9,-999.0000,9, -999.00,9,   3.6846,2, -999.00,9,  -999.0,9,  -999.0,-999.000,9,-999.000,-999.000,9, -999.00,9, -999.00,9, -999.00,9,  22.9792, -52.3310,-999.000,-999.0000, -999.00,   3.5128,   3.6846,2,    35.1739,2,  -999.0,9,     -999.0,9,     -999.0,9,     -999.0,1,       0745
33AT20120419,        A20,      42,          1,          8,          8,2,20120501,       0657,    22.9794,   -52.3311,       4237,  2361.5,   3.2942,  34.9792,2,  34.9793,2,    247.4,2,   248.1,2,   25.93,2,   19.78,2,    0.00,2,    1.33,2,   0.160,2,   0.069,2,   0.003,2,    0.06,2,  -999.0,9,  -999.0,9,-999.0000,9,  -999.00,-999.000,9,-999.0000,9, -999.00,9,   3.2940,2, -999.00,9,  -999.0,9,  -999.0,-999.000,9,-999.000,-999.000,9, -999.00,9, -999.00,9, -999.00,9,  22.9791, -52.3310,-999.000,-999.0000, -999.00,   3.1024,   3.2940,2,    35.1442,2,  -999.0,9,     -999.0,9,     -999.0,9,     -999.0,9,       0740
33AT20120419,        A20,      42,          1,          7,          7,2,20120501,       0657,    22.9794,   -52.3311,       4237,  2614.6,   3.0407,  34.9573,2,  34.9568,2,    248.2,2,   248.1,2,   29.50,2,   20.05,2,    0.00,2,    1.36,2,-999.000,9,-999.000,9,-999.000,9, -999.00,9,  2179.2,2,  2332.0,2,   7.7382,2,    25.00,-999.000,9,-999.0000,9, -999.00,9,   3.0406,2, -999.00,9,  -999.0,9,  -999.0,-999.000,9,-999.000,-999.000,9, -999.00,9, -999.00,9, -999.00,9,  22.9791, -52.3310,-999.000,-999.0000, -999.00,   2.8285,   3.0406,2,    35.1217,2,  -999.0,9,     -999.0,9,     -999.0,9,     -999.0,9,       0735