BOTTLE,20220712CCHSIOCBG
EXPOCODE,SECT_ID,STNNBR,CASTNO,SAMPNO,BTLNBR,BTLNBR_FLAG_W,DATE,TIME,LATITUDE,LONGITUDE,DEPTH,CTDPRS,CTDTMP,CTDSAL,CTDSAL_FLAG_W,SALNTY,SALNTY_FLAG_W,CTDOXY,CTDOXY_FLAG_W,OXYGEN,OXYGEN_FLAG_W,SILCAT,SILCAT_FLAG_W,NITRAT,NITRAT_FLAG_W,NITRIT,NITRIT_FLAG_W,PHSPHT,PHSPHT_FLAG_W,CFC-11,CFC-11_FLAG_W,CFC-12,CFC-12_FLAG_W,CFC113,CFC113_FLAG_W,SF6,SF6_FLAG_W,TCARBN,TCARBN_FLAG_W,ALKALI,ALKALI_FLAG_W,PH_TOT,PH_TOT_FLAG_W,PH_TMP,TRITUM,TRITUM_FLAG_W,HELIUM,HELIUM_FLAG_W,DELHE3,DELHE3_FLAG_W,REFTMP,REFTMP_FLAG_W,DELC13,DELC13_FLAG_W,DELC14,DELC14_FLAG_W,C14ERR,NEON,NEON_FLAG_W,NEONER,CCL4,CCL4_FLAG_W,DELO18,DELO18_FLAG_W,DOC,DOC_FLAG_W,TDN,TDN_FLAG_W,BTL_LAT,BTL_LON,TRITER,HELIER,DELHER,THETA,SBE35,SBE35_FLAG_W,SALTREF,SALTREF_FLAG_W,14C-DOC,14C-DOC_FLAG_W,DELO17,DELO17_FLAG_W,O2/AR,O2/AR_FLAG_W,SIP,SIP_FLAG_W,BTL_TIME
,,,,,,,,,,,METERS,DBAR,ITS-90,PSS-78,,PSS-78,,UMOL/KG,,UMOL/KG,,UMOL/KG,,UMOL/KG,,UMOL/KG,,UMOL/KG,,PMOL/KG,,PMOL/KG,,PMOL/KG,,FMOL/KG,,UMOL/KG,,UMOL/KG,,,,DEG C,TU,,NMOL/KG,,PERCNT,,DEG C,,/MILLE,,/MILLE,,/MILLE,NMOL/KG,,NMOL/KG,PMOL/KG,,/MILLE,,UMOL/KG,,UMOL/KG,,,,TU,NMOL/KG,PERCNT,DEG C,ITS-90,,G/KG,,/MILLE,,/MILLE,,,,,,
33AT20120419,        A20,      25,          1,          6,          6,2,20120425,       1713,    11.4141,   -52.3334,       4983,  3547.2,   2.5071,  34.9092,2,  34.9085,2,    258.2,2,   259.6,2,   30.83,2,   19.27,2,    0.00,2,    1.31,2,   0.352,2,   0.188,2,   0.018,2,    0.00,3,  2174.3,2,  2328.0,2,   7.7364,2,    25.00,-999.000,9,-999.0000,9, -999.00,9,   2.5073,2, -999.00,9,  -999.0,9,  -999.0,-999.000,9,-999.000,   0.380,2, -999.00,9,   40.54,2,   22.50,2,  11.4140, -52.3334,-999.000,-999.0000, -999.00,   2.2093,   2.5073,2,    35.0731,2,  -999.0,9,     -999.0,9,     -999.0,9,     -999.0,9,       1745
33AT20120419,        A20,      25,          1,          5,          5,2,20120425,       1713,    11.4141,   -52.3334,       4983,  3854.0,   2.3666,  34.8989,2,  34.8967,2,    262.1,2,   262.4,2,   31.24,2,   19.02,2,    0.00,2,    1.30,2,   0.412,2,   0.220,2,   0.021,2,    0.00,3,  -999.0,9,  -999.0,9,-999.0000,9,  -999.00,-999.000,9,-999.0000,9, -999.00,9,   2.3662,2, -999.00,9,  -999.0,9,  -999.0,-999.000,9,-999.000,   0.450,2, -999.00,9,   40.78,2,   21.77,2,  11.4141, -52.3334,-999.000,-999.0000, -999.00,   2.0386,   2.3662,2,    35.0612,2,  -999.0,9,     -999.0,9,     -999.0,9,     -999.0,9,       1738
33AT20120419,        A20,      25,          1,          4,          4,2,20120425,       1713,    11.4141,   -52.3334,       4983,  4161.1,   2.2839,  34.8910,2,  34.8908,2,    262.5,2,   262.4,2,   32.91,2,   19.09,2,    0.00,2,    1.30,2,   0.431,2,   0.236,2,   0.025,2,    0.00,3,  -999.0,9,  -999.0,9,-999.0000,9,  -999.00,-999.000,9,-999.0000,9, -999.00,9,   2.2841,2, -999.00,9,  -999.0,9,  -999.0,-999.000,9,-999.000,   0.470,2, -999.00,9,   40.82,2,   21.46,2,  11.4142, -52.3334,-999.000,-999.0000, -999.00,   1.9232,   2.2841,2,    35.0553,2,  -999.0,9,     -999.0,9,     -999.0,9,     -999.0,9,       1732
33AT20120419,        A20,      25,          1,          3,          3,2,20120425,       1713,    11.4141,   -52.3334,       4983,  4468.7,   2.2485,  34.8844,2,  34.8819,2,    260.3,2,   260.7,2,   35.96,2,   19.53,2,    0.00,2,    1.33,2,   0.389,2,   0.216,2,   0.027,2,    0.00,3,  2178.8,2,  2332.2,2,   7.7326,2,    25.00,-999.000,9,-999.0000,9, -999.00,9,   2.2481,2, -999.00,9,  -999.0,9,  -999.0,-999.000,9,-999.000,   0.420,2, -999.00,9,   41.06,2,   22.33,2,  11.4143, -52.3335,-999.000,-999.0000, -999.00,   1.8527,   2.2481,2,    35.0464,2,  -999.0,9,     -999.0,9,     -999.0,9,     -999.0,9,       1726
33AT20120419,        A20,      25,          1,          2,          2,2,20120425,       1713,    11.4141,   -52.3334,       4983,  4761.5,   2.1446,  34.8681,2,  34.8658,2,    255.1,2,   254.4,2,   45.20,2,   20.97,2,    0.00,2,    1.43,2,   0.249,2,   0.148,2,   0.017,2,    0.00,3,  2189.6,2,  2339.1,6,   7.7232,6,    25.00,-999.000,9,-999.0000,9, -999.00,9,   2.1449,2, -999.00,9,  -999.0,9,  -999.0,-999.000,9,-999.000,   0.310,2, -999.00,9,   41.02,2,   23.99,2,  11.4142, -52.3334,-999.000,-999.0000, -999.00,   1.7168,   2.1449,2,    35.0302,2,  -999.0,9,     -999.0,9,     -999.0,9,     -999.0,9,       1720
33AT20120419,        A20,      25,          1,          1,          1,2,20120425,       1713,    11.4141,   -52.3334,       4983,  5049.5,   1.7730,  34.8193,2,  34.8180,2,    240.1,2,   240.3,2,   68.12,2,   24.42,2,    0.00,2,    1.69,2,   0.148,2,   0.089,2,   0.010,2,    0.00,3,  2217.2,6,  2355.7,2,   7.6942,2,    25.00,-999.000,9,-999.0000,9, -999.00,9,   1.7723,2, -999.00,9,  -999.0,9,  -999.0,-999.000,9,-999.000,   0.210,2, -999.00,9,   39.81,2,   27.33,2,  11.4141, -52.3334,-999.000,-999.0000, -999.00,   1.3224,   1.7723,2,    34.9822,2,  -999.0,9,     -999.0,9,     -999.0,9,     -999.0,9,       1714