BOTTLE,20220712CCHSIOCBG
EXPOCODE,SECT_ID,STNNBR,CASTNO,SAMPNO,BTLNBR,BTLNBR_FLAG_W,DATE,TIME,LATITUDE,LONGITUDE,DEPTH,CTDPRS,CTDTMP,CTDSAL,CTDSAL_FLAG_W,SALNTY,SALNTY_FLAG_W,CTDOXY,CTDOXY_FLAG_W,OXYGEN,OXYGEN_FLAG_W,SILCAT,SILCAT_FLAG_W,NITRAT,NITRAT_FLAG_W,NITRIT,NITRIT_FLAG_W,PHSPHT,PHSPHT_FLAG_W,CFC-11,CFC-11_FLAG_W,CFC-12,CFC-12_FLAG_W,CFC113,CFC113_FLAG_W,SF6,SF6_FLAG_W,TCARBN,TCARBN_FLAG_W,ALKALI,ALKALI_FLAG_W,PH_TOT,PH_TOT_FLAG_W,PH_TMP,TRITUM,TRITUM_FLAG_W,HELIUM,HELIUM_FLAG_W,DELHE3,DELHE3_FLAG_W,REFTMP,REFTMP_FLAG_W,DELC13,DELC13_FLAG_W,DELC14,DELC14_FLAG_W,C14ERR,NEON,NEON_FLAG_W,NEONER,CCL4,CCL4_FLAG_W,DELO18,DELO18_FLAG_W,DOC,DOC_FLAG_W,TDN,TDN_FLAG_W,BTL_LAT,BTL_LON,TRITER,HELIER,DELHER,THETA,SBE35,SBE35_FLAG_W,SALTREF,SALTREF_FLAG_W,14C-DOC,14C-DOC_FLAG_W,DELO17,DELO17_FLAG_W,O2/AR,O2/AR_FLAG_W,SIP,SIP_FLAG_W,BTL_TIME
,,,,,,,,,,,METERS,DBAR,ITS-90,PSS-78,,PSS-78,,UMOL/KG,,UMOL/KG,,UMOL/KG,,UMOL/KG,,UMOL/KG,,UMOL/KG,,PMOL/KG,,PMOL/KG,,PMOL/KG,,FMOL/KG,,UMOL/KG,,UMOL/KG,,,,DEG C,TU,,NMOL/KG,,PERCNT,,DEG C,,/MILLE,,/MILLE,,/MILLE,NMOL/KG,,NMOL/KG,PMOL/KG,,/MILLE,,UMOL/KG,,UMOL/KG,,,,TU,NMOL/KG,PERCNT,DEG C,ITS-90,,G/KG,,/MILLE,,/MILLE,,,,,,
33AT20120419,        A20,      50,          1,         36,         36,2,20120504,       0000,    28.9936,   -52.3330,       5731,     4.2,  22.2742,  36.7401,2,  36.7407,2,    218.7,2,   219.1,2,    0.23,2,    0.00,2,    0.00,2,    0.00,2,   2.015,2,   1.237,2,   0.174,2,    1.19,2,  2080.0,6,  2403.6,2,   8.0514,2,    25.00,-999.000,9,-999.0000,9, -999.00,9,  22.2736,2, -999.00,9,  -999.0,9,  -999.0,-999.000,9,-999.000,-999.000,9, -999.00,9, -999.00,9, -999.00,9,  28.9924, -52.3327,-999.000,-999.0000, -999.00,  22.2734,  22.2736,2,    36.9139,2,  -999.0,9,     -999.0,9,     -999.0,9,     -999.0,9,       0216
33AT20120419,        A20,      50,          1,         35,         35,2,20120504,       0000,    28.9936,   -52.3330,       5731,    24.2,  21.0697,  36.7256,2,  36.7252,2,    222.6,2,   223.6,2,    0.29,2,    0.00,2,    0.00,2,    0.00,2,   2.117,2,   1.304,2,   0.179,2,    1.26,2,  2081.3,2,  2402.3,2,   8.0505,6,    25.00,-999.000,9,-999.0000,9, -999.00,9,  21.0666,2, -999.00,9,  -999.0,9,  -999.0,-999.000,9,-999.000,-999.000,9, -999.00,9, -999.00,9, -999.00,9,  28.9924, -52.3327,-999.000,-999.0000, -999.00,  21.0650,  21.0666,2,    36.8984,2,  -999.0,9,     -999.0,9,     -999.0,9,     -999.0,9,       0214
33AT20120419,        A20,      50,          1,         34,         34,2,20120504,       0000,    28.9936,   -52.3330,       5731,    49.0,  20.7497,  36.7437,2,  36.7421,2,    225.3,2,   225.8,2,    0.25,2,    0.00,2,    0.00,2,    0.00,2,   2.127,2,   1.340,2,   0.186,2,    1.20,2,  2084.3,2,  2404.9,2,   8.0461,2,    25.00,-999.000,9,-999.0000,9, -999.00,9,  20.7355,2, -999.00,9,  -999.0,9,  -999.0,-999.000,9,-999.000,-999.000,9, -999.00,9, -999.00,9, -999.00,9,  28.9925, -52.3327,-999.000,-999.0000, -999.00,  20.7403,  20.7355,2,    36.9153,2,  -999.0,9,     -999.0,9,     -999.0,9,     -999.0,9,       0212
33AT20120419,        A20,      50,          1,         33,         33,2,20120504,       0000,    28.9936,   -52.3330,       5731,    74.6,  20.3784,  36.7619,2,  36.7554,2,    225.3,2,   223.5,2,    0.25,2,    0.00,2,    0.00,2,    0.00,2,   2.101,2,   1.297,2,   0.175,2,    1.25,2,  2087.4,2,  2406.2,2,   8.0418,2,    25.00,-999.000,9,-999.0000,9, -999.00,9,  20.3838,2, -999.00,9,  -999.0,9,  -999.0,-999.000,9,-999.000,-999.000,9, -999.00,9, -999.00,9, -999.00,9,  28.9925, -52.3327,-999.000,-999.0000, -999.00,  20.3643,  20.3838,2,    36.9287,2,  -999.0,9,     -999.0,9,     -999.0,9,     -999.0,9,       0210
33AT20120419,        A20,      50,          1,         32,         32,2,20120504,       0000,    28.9936,   -52.3330,       5731,   101.7,  20.3573,  36.7837,2,  36.7837,2,    222.7,2,   223.0,2,    0.24,2,    0.00,2,    0.00,2,    0.00,2,   2.120,2,   1.291,2,   0.173,2,    1.29,2,  2089.9,2,  2405.9,2,   8.0406,2,    25.00,-999.000,9,-999.0000,9, -999.00,9,  20.3606,2, -999.00,9,  -999.0,9,  -999.0,-999.000,9,-999.000,-999.000,9, -999.00,9, -999.00,9, -999.00,9,  28.9925, -52.3327,-999.000,-999.0000, -999.00,  20.3381,  20.3606,2,    36.9572,2,  -999.0,9,     -999.0,9,     -999.0,9,     -999.0,9,       0207
33AT20120419,        A20,      50,          1,         31,         31,2,20120504,       0000,    28.9936,   -52.3330,       5731,   155.4,  19.1355,  36.5959,2,  36.5945,2,    208.8,2,   208.3,2,    0.48,2,    1.30,2,    0.04,2,    0.04,2,   2.255,2,   1.383,2,   0.126,2,    1.22,2,  2104.3,2,  2393.2,6,   8.0010,2,    25.00,-999.000,9,-999.0000,9, -999.00,9,  19.0949,2, -999.00,9,  -999.0,9,  -999.0,-999.000,9,-999.000,-999.000,9, -999.00,9, -999.00,9, -999.00,9,  28.9925, -52.3327,-999.000,-999.0000, -999.00,  19.1074,  19.0949,2,    36.7671,2,  -999.0,9,     -999.0,9,     -999.0,9,     -999.0,9,       0204
33AT20120419,        A20,      50,          1,         30,         30,2,20120504,       0000,    28.9936,   -52.3330,       5731,   202.4,  18.1178,  36.5634,2,  36.5638,2,    200.5,2,   199.7,2,    0.96,2,    3.88,2,    0.01,2,    0.18,2,   2.331,2,   1.452,2,   0.039,2,    1.17,2,  2117.0,2,  2389.7,2,   7.9698,6,    25.00,-999.000,9,-999.0000,9, -999.00,9,  18.1176,2, -999.00,9,  -999.0,9,  -999.0,-999.000,9,-999.000,-999.000,9, -999.00,9, -999.00,9, -999.00,9,  28.9925, -52.3327,-999.000,-999.0000, -999.00,  18.0825,  18.1176,2,    36.7362,2,  -999.0,9,     -999.0,9,     -999.0,9,     -999.0,9,       0202
33AT20120419,        A20,      50,          1,         29,         29,2,20120504,       0000,    28.9936,   -52.3330,       5731,   251.2,  17.8959,  36.5443,2,  36.5450,2,    204.6,2,   203.5,2,    1.05,2,    4.08,2,    0.01,2,    0.19,2,   2.348,2,   1.438,2,   0.044,2,    1.16,2,  -999.0,9,  -999.0,9,-999.0000,9,  -999.00,-999.000,9,-999.0000,9, -999.00,9,  17.8960,2, -999.00,9,  -999.0,9,  -999.0,-999.000,9,-999.000,-999.000,9, -999.00,9, -999.00,9, -999.00,9,  28.9925, -52.3327,-999.000,-999.0000, -999.00,  17.8524,  17.8960,2,    36.7173,2,  -999.0,9,     -999.0,9,     -999.0,9,     -999.0,9,       0200
33AT20120419,        A20,      50,          1,         28,         28,2,20120504,       0000,    28.9936,   -52.3330,       5731,   302.5,  17.6402,  36.5117,2,  36.5103,2,    206.3,2,   206.2,2,    1.18,2,    4.33,2,    0.01,2,    0.21,2,   2.340,2,   1.401,2,   0.048,2,    1.20,2,  2116.9,2,  2388.0,2,   7.9665,2,    25.00,-999.000,9,-999.0000,9, -999.00,9,  17.6499,2, -999.00,9,  -999.0,9,  -999.0,-999.000,9,-999.000,-999.000,9, -999.00,9, -999.00,9, -999.00,9,  28.9926, -52.3327,-999.000,-999.0000, -999.00,  17.5883,  17.6499,2,    36.6825,2,  -999.0,9,     -999.0,9,     -999.0,9,     -999.0,9,       0158
33AT20120419,        A20,      50,          1,         27,         27,2,20120504,       0000,    28.9936,   -52.3330,       5731,   356.8,  17.4312,  36.4773,2,  36.4778,2,    206.6,2,   206.7,2,    1.35,2,    4.65,2,    0.01,2,    0.23,2,   2.363,2,   1.407,2,   0.053,2,    1.16,2,  -999.0,9,  -999.0,9,-999.0000,9,  -999.00,-999.000,9,-999.0000,9, -999.00,9,  17.4356,2, -999.00,9,  -999.0,9,  -999.0,-999.000,9,-999.000,-999.000,9, -999.00,9, -999.00,9, -999.00,9,  28.9927, -52.3327,-999.000,-999.0000, -999.00,  17.3704,  17.4356,2,    36.6498,2,  -999.0,9,     -999.0,9,     -999.0,9,     -999.0,9,       0156
33AT20120419,        A20,      50,          1,         26,         26,2,20120504,       0000,    28.9936,   -52.3330,       5731,   401.0,  17.1434,  36.4216,2,  36.4230,2,    205.8,2,   204.0,2,    1.62,2,    5.34,2,    0.01,2,    0.28,2,   2.383,2,   1.416,2,   0.041,2,    1.15,2,  2121.3,2,  2381.5,2,   7.9512,2,    25.00,-999.000,9,-999.0000,9, -999.00,9,  17.1250,2, -999.00,9,  -999.0,9,  -999.0,-999.000,9,-999.000,-999.000,9, -999.00,9, -999.00,9, -999.00,9,  28.9927, -52.3327,-999.000,-999.0000, -999.00,  17.0758,  17.1250,2,    36.5947,2,  -999.0,9,     -999.0,9,     -999.0,9,     -999.0,9,       0154
33AT20120419,        A20,      50,          1,         25,         25,2,20120504,       0000,    28.9936,   -52.3330,       5731,   505.1,  15.5278,  36.1038,2,  36.1067,2,    189.5,2,   189.5,2,    3.02,2,    9.17,2,    0.00,2,    0.54,2,   2.409,2,   1.401,2,   0.046,2,    1.06,2,  2136.7,2,  2363.7,2,   7.8933,6,    25.00,-999.000,9,-999.0000,9, -999.00,9,  15.5305,2, -999.00,9,  -999.0,9,  -999.0,-999.000,9,-999.000,-999.000,9, -999.00,9, -999.00,9, -999.00,9,  28.9928, -52.3327,-999.000,-999.0000, -999.00,  15.4481,  15.5305,2,    36.2769,2,  -999.0,9,     -999.0,9,     -999.0,9,     -999.0,9,       0152
33AT20120419,        A20,      50,          1,         24,         24,2,20120504,       0000,    28.9936,   -52.3330,       5731,   605.9,  13.6046,  35.7850,2,  35.7963,2,    180.3,2,   179.3,2,    5.10,2,   13.25,2,    0.00,2,    0.81,2,   2.332,2,   1.304,2,   0.045,2,    0.92,2,  2153.3,2,  2349.7,2,   7.8315,6,    25.00,-999.000,9,-999.0000,9, -999.00,9,  13.5766,2, -999.00,9,  -999.0,9,  -999.0,-999.000,9,-999.000,-999.000,9, -999.00,9, -999.00,9, -999.00,9,  28.9929, -52.3327,-999.000,-999.0000, -999.00,  13.5168,  13.5766,2,    35.9651,2,  -999.0,9,     -999.0,9,     -999.0,9,     -999.0,9,       0149
33AT20120419,        A20,      50,          1,         23,         23,2,20120504,       0000,    28.9936,   -52.3330,       5731,   706.4,  11.5654,  35.5121,2,  35.5089,2,    160.6,2,   159.7,2,    8.55,2,   18.51,2,    0.00,2,    1.15,2,   1.931,2,   1.033,2,   0.034,2,    0.63,2,  2172.5,2,  2334.6,2,   7.7560,6,    25.00,-999.000,9,-999.0000,9, -999.00,9,  11.5676,2, -999.00,9,  -999.0,9,  -999.0,-999.000,9,-999.000,-999.000,9, -999.00,9, -999.00,9, -999.00,9,  28.9930, -52.3327,-999.000,-999.0000, -999.00,  11.4730,  11.5676,2,    35.6764,2,  -999.0,9,     -999.0,9,     -999.0,9,     -999.0,9,       0146
33AT20120419,        A20,      50,          1,         22,         22,2,20120504,       0000,    28.9936,   -52.3330,       5731,   806.4,   9.5888,  35.2999,2,  35.3021,2,    160.3,2,   158.7,2,   11.46,2,   21.50,2,    0.00,2,    1.36,2,   1.576,2,   0.804,2,   0.037,2,    0.49,2,  2183.6,6,  2326.7,2,   7.7107,2,    25.00,-999.000,9,-999.0000,9, -999.00,9,   9.5879,2, -999.00,9,  -999.0,9,  -999.0,-999.000,9,-999.000,-999.000,9, -999.00,9, -999.00,9, -999.00,9,  28.9931, -52.3327,-999.000,-999.0000, -999.00,   9.4944,   9.5879,2,    35.4686,2,  -999.0,9,     -999.0,9,     -999.0,9,     -999.0,9,       0143
33AT20120419,        A20,      50,          1,         21,         21,2,20120504,       0000,    28.9936,   -52.3330,       5731,   907.4,   7.6601,  35.1663,2,  35.1658,2,    172.4,2,   173.3,2,   13.91,2,   22.62,2,    0.00,2,    1.46,2,   1.251,2,   0.627,2,   0.031,2,    0.30,2,  2187.8,2,  2321.3,2,   7.6906,6,    25.00,-999.000,9,-999.0000,9, -999.00,9,   7.6576,2, -999.00,9,  -999.0,9,  -999.0,-999.000,9,-999.000,-999.000,9, -999.00,9, -999.00,9, -999.00,9,  28.9931, -52.3327,-999.000,-999.0000, -999.00,   7.5661,   7.6576,2,    35.3316,2,  -999.0,9,     -999.0,9,     -999.0,9,     -999.0,9,       0141
33AT20120419,        A20,      50,          1,         20,         20,2,20120504,       0000,    28.9936,   -52.3330,       5731,  1009.6,   6.4176,  35.0940,2,  35.0933,2,    185.7,2,   187.8,2,   15.57,2,   22.92,2,    0.00,2,    1.50,2,   0.870,2,   0.427,2,   0.022,2,    0.21,2,  -999.0,5,  2321.0,2,   7.6894,2,    25.00,-999.000,9,-999.0000,9, -999.00,9,   6.4210,2, -999.00,9,  -999.0,9,  -999.0,-999.000,9,-999.000,-999.000,9, -999.00,9, -999.00,9, -999.00,9,  28.9932, -52.3327,-999.000,-999.0000, -999.00,   6.3217,   6.4210,2,    35.2588,2,  -999.0,9,     -999.0,9,     -999.0,9,     -999.0,9,       0138
33AT20120419,        A20,      50,          1,         19,         19,2,20120504,       0000,    28.9936,   -52.3330,       5731,  1110.3,   5.9352,  35.1099,2,  35.1089,2,    202.5,2,   204.4,2,   14.93,2,   21.48,2,    0.00,2,    1.41,2,   0.906,2,   0.435,2,   0.034,2,    0.19,2,  2298.6,4,  2321.3,2,   7.7052,2,    25.00,-999.000,9,-999.0000,9, -999.00,9,   5.9364,2, -999.00,9,  -999.0,9,  -999.0,-999.000,9,-999.000,-999.000,9, -999.00,9, -999.00,9, -999.00,9,  28.9933, -52.3327,-999.000,-999.0000, -999.00,   5.8329,   5.9364,2,    35.2744,2,  -999.0,9,     -999.0,9,     -999.0,9,     -999.0,9,       0135
33AT20120419,        A20,      50,          1,         18,         18,2,20120504,       0000,    28.9936,   -52.3330,       5731,  1210.0,   5.6128,  35.1225,2,  35.1185,2,    220.5,2,   220.6,2,   13.77,2,   19.95,2,    0.00,2,    1.33,2,   1.260,2,   0.611,2,   0.057,2,    0.25,2,  -999.0,9,  -999.0,9,-999.0000,9,  -999.00,-999.000,9,-999.0000,9, -999.00,9,   5.6095,2, -999.00,9,  -999.0,9,  -999.0,-999.000,9,-999.000,-999.000,9, -999.00,9, -999.00,9, -999.00,9,  28.9934, -52.3327,-999.000,-999.0000, -999.00,   5.5034,   5.6095,2,    35.2841,2,  -999.0,9,     -999.0,9,     -999.0,9,     -999.0,9,       0133
33AT20120419,        A20,      50,          1,         17,         17,2,20120504,       0000,    28.9936,   -52.3330,       5731,  1312.7,   5.2115,  35.0994,2,  35.0992,2,    230.2,2,   231.8,2,   13.22,2,   19.34,2,    0.00,2,    1.28,2,   1.453,2,-999.000,5,   0.066,2,    0.30,2,  2173.5,2,  2318.9,2,   7.7227,2,    25.00,-999.000,9,-999.0000,9, -999.00,9,   5.2139,2, -999.00,9,  -999.0,9,  -999.0,-999.000,9,-999.000,-999.000,9, -999.00,9, -999.00,9, -999.00,9,  28.9935, -52.3327,-999.000,-999.0000, -999.00,   5.0959,   5.2139,2,    35.2647,2,  -999.0,9,     -999.0,9,     -999.0,9,     -999.0,9,       0130
33AT20120419,        A20,      50,          1,         16,         16,2,20120504,       0000,    28.9936,   -52.3330,       5731,  1409.5,   4.9593,  35.0915,2,  35.0917,2,    238.1,2,   237.3,2,   13.57,2,   19.03,2,    0.00,2,    1.26,2,   1.431,2,   0.702,2,   0.066,2,    0.33,2,  -999.0,9,  -999.0,9,-999.0000,9,  -999.00,-999.000,9,-999.0000,9, -999.00,9,   4.9573,2, -999.00,9,  -999.0,9,  -999.0,-999.000,9,-999.000,-999.000,9, -999.00,9, -999.00,9, -999.00,9,  28.9936, -52.3327,-999.000,-999.0000, -999.00,   4.8368,   4.9573,2,    35.2572,2,  -999.0,9,     -999.0,9,     -999.0,9,     -999.0,9,       0127
33AT20120419,        A20,      50,          1,         15,         15,2,20120504,       0000,    28.9936,   -52.3330,       5731,  1614.1,   4.5245,  35.0730,2,  35.0734,2,    244.5,2,   243.8,2,   14.91,2,   18.82,2,    0.00,2,    1.25,2,   1.137,2,   0.531,2,   0.059,2,    0.20,2,  2169.7,2,  2319.7,2,   7.7327,2,    25.00,-999.000,9,-999.0000,9, -999.00,9,   4.5257,2, -999.00,9,  -999.0,9,  -999.0,-999.000,9,-999.000,-999.000,9, -999.00,9, -999.00,9, -999.00,9,  28.9938, -52.3327,-999.000,-999.0000, -999.00,   4.3872,   4.5257,2,    35.2388,2,  -999.0,9,     -999.0,9,     -999.0,9,     -999.0,9,       0123
33AT20120419,        A20,      50,          1,         14,         14,2,20120504,       0000,    28.9936,   -52.3330,       5731,  1816.8,   4.0707,  35.0387,2,  35.0392,2,    250.8,2,   250.1,2,   16.54,2,   18.62,2,    0.00,2,    1.24,2,   1.034,2,   0.476,2,   0.040,2,    0.14,2,  2168.3,2,  2319.8,2,   7.7348,2,    25.00,-999.000,9,-999.0000,9, -999.00,9,   4.0703,2, -999.00,9,  -999.0,9,  -999.0,-999.000,9,-999.000,-999.000,9, -999.00,9, -999.00,9, -999.00,9,  28.9940, -52.3327,-999.000,-999.0000, -999.00,   3.9197,   4.0703,2,    35.2044,2,  -999.0,9,     -999.0,9,     -999.0,9,     -999.0,9,       0119
33AT20120419,        A20,      50,          1,         13,         13,2,20120504,       0000,    28.9936,   -52.3330,       5731,  2022.7,   3.7166,  35.0125,2,  35.0124,2,    251.0,2,   251.7,2,   19.83,2,   18.96,2,    0.00,2,    1.28,2,   0.666,2,   0.302,2,   0.026,2,    0.08,2,  2168.3,2,  2322.9,2,   7.7374,2,    25.00,-999.000,9,-999.0000,9, -999.00,9,   3.7169,2, -999.00,9,  -999.0,9,  -999.0,-999.000,9,-999.000,-999.000,9, -999.00,9, -999.00,9, -999.00,9,  28.9941, -52.3328,-999.000,-999.0000, -999.00,   3.5509,   3.7169,2,    35.1775,2,  -999.0,9,     -999.0,9,     -999.0,9,     -999.0,9,       0115
33AT20120419,        A20,      50,          1,         12,         12,2,20120504,       0000,    28.9936,   -52.3330,       5731,  2272.2,   3.3888,  34.9849,2,  34.9845,2,    252.1,2,   252.1,2,   23.00,2,   19.23,2,    0.00,2,    1.29,2,   0.471,2,   0.213,2,   0.014,2,    0.09,2,  -999.0,9,  -999.0,9,-999.0000,9,  -999.00,-999.000,9,-999.0000,9, -999.00,9,   3.3882,2, -999.00,9,  -999.0,9,  -999.0,-999.000,9,-999.000,-999.000,9, -999.00,9, -999.00,9, -999.00,9,  28.9940, -52.3327,-999.000,-999.0000, -999.00,   3.2042,   3.3882,2,    35.1494,2,  -999.0,9,     -999.0,9,     -999.0,9,     -999.0,9,       0109
33AT20120419,        A20,      50,          1,         11,         11,2,20120504,       0000,    28.9936,   -52.3330,       5731,  2529.5,   3.1483,  34.9664,2,  34.9661,2,    250.9,2,   251.3,2,   26.84,2,   19.74,2,    0.00,2,    1.33,2,-999.000,9,-999.000,9,-999.000,9, -999.00,9,  2175.1,2,  2328.5,2,   7.7380,2,    25.00,-999.000,9,-999.0000,9, -999.00,9,   3.1483,2, -999.00,9,  -999.0,9,  -999.0,-999.000,9,-999.000,-999.000,9, -999.00,9, -999.00,9, -999.00,9,  28.9935, -52.3328,-999.000,-999.0000, -999.00,   2.9426,   3.1483,2,    35.1310,2,  -999.0,9,     -999.0,9,     -999.0,9,     -999.0,9,       0104
33AT20120419,        A20,      50,          1,         10,         10,2,20120504,       0000,    28.9936,   -52.3330,       5731,  2786.0,   2.9531,  34.9504,2,  34.9502,2,    251.9,2,   251.4,2,   29.63,2,   20.06,2,    0.00,2,    1.36,2,   0.124,2,   0.056,2,   0.008,2,    0.05,2,  -999.0,9,  -999.0,9,-999.0000,9,  -999.00,-999.000,9,-999.0000,9, -999.00,9,   2.9530,2, -999.00,9,  -999.0,9,  -999.0,-999.000,9,-999.000,-999.000,9, -999.00,9, -999.00,9, -999.00,9,  28.9933, -52.3328,-999.000,-999.0000, -999.00,   2.7254,   2.9530,2,    35.1150,2,  -999.0,9,     -999.0,9,     -999.0,9,     -999.0,9,       0059
33AT20120419,        A20,      50,          1,          9,          9,2,20120504,       0000,    28.9936,   -52.3330,       5731,  3040.1,   2.7808,  34.9359,2,  34.9353,2,    253.9,2,   254.0,2,   30.64,2,   20.00,2,    0.00,2,    1.36,2,-999.000,9,-999.000,9,-999.000,9, -999.00,9,  2175.8,2,  2331.7,6,   7.7408,2,    25.00,-999.000,9,-999.0000,9, -999.00,9,   2.7811,2, -999.00,9,  -999.0,9,  -999.0,-999.000,9,-999.000,-999.000,9, -999.00,9, -999.00,9, -999.00,9,  28.9930, -52.3329,-999.000,-999.0000, -999.00,   2.5306,   2.7811,2,    35.1000,2,  -999.0,9,     -999.0,9,     -999.0,9,     -999.0,9,       0054
33AT20120419,        A20,      50,          1,          8,          8,2,20120504,       0000,    28.9936,   -52.3330,       5731,  3346.5,   2.5832,  34.9196,2,  34.9197,2,    256.7,2,   257.9,2,   31.60,2,   19.82,2,    0.00,2,    1.36,2,   0.123,2,   0.054,2,   0.009,2,    0.05,2,  2175.4,2,  2330.0,2,   7.7415,2,    25.00,-999.000,9,-999.0000,9, -999.00,9,   2.5823,2, -999.00,9,  -999.0,9,  -999.0,-999.000,9,-999.000,-999.000,9, -999.00,9, -999.00,9, -999.00,9,  28.9930, -52.3329,-999.000,-999.0000, -999.00,   2.3052,   2.5823,2,    35.0844,2,  -999.0,9,     -999.0,9,     -999.0,9,     -999.0,9,       0048
33AT20120419,        A20,      50,          1,          7,          7,2,20120504,       0000,    28.9936,   -52.3330,       5731,  3651.7,   2.4164,  34.9056,2,  34.9056,2,    259.1,2,   259.7,2,   33.26,2,   19.76,2,    0.00,2,    1.36,2,-999.000,9,-999.000,9,-999.000,9, -999.00,9,  2174.6,2,  2329.8,2,   7.7410,2,    25.00,-999.000,9,-999.0000,9, -999.00,9,   2.4165,2, -999.00,9,  -999.0,9,  -999.0,-999.000,9,-999.000,-999.000,9, -999.00,9, -999.00,9, -999.00,9,  28.9931, -52.3329,-999.000,-999.0000, -999.00,   2.1095,   2.4165,2,    35.0702,2,  -999.0,9,     -999.0,9,     -999.0,9,     -999.0,9,       0042