BOTTLE,20220712CCHSIOCBG
EXPOCODE,SECT_ID,STNNBR,CASTNO,SAMPNO,BTLNBR,BTLNBR_FLAG_W,DATE,TIME,LATITUDE,LONGITUDE,DEPTH,CTDPRS,CTDTMP,CTDSAL,CTDSAL_FLAG_W,SALNTY,SALNTY_FLAG_W,CTDOXY,CTDOXY_FLAG_W,OXYGEN,OXYGEN_FLAG_W,SILCAT,SILCAT_FLAG_W,NITRAT,NITRAT_FLAG_W,NITRIT,NITRIT_FLAG_W,PHSPHT,PHSPHT_FLAG_W,CFC-11,CFC-11_FLAG_W,CFC-12,CFC-12_FLAG_W,CFC113,CFC113_FLAG_W,SF6,SF6_FLAG_W,TCARBN,TCARBN_FLAG_W,ALKALI,ALKALI_FLAG_W,PH_TOT,PH_TOT_FLAG_W,PH_TMP,TRITUM,TRITUM_FLAG_W,HELIUM,HELIUM_FLAG_W,DELHE3,DELHE3_FLAG_W,REFTMP,REFTMP_FLAG_W,DELC13,DELC13_FLAG_W,DELC14,DELC14_FLAG_W,C14ERR,NEON,NEON_FLAG_W,NEONER,CCL4,CCL4_FLAG_W,DELO18,DELO18_FLAG_W,DOC,DOC_FLAG_W,TDN,TDN_FLAG_W,BTL_LAT,BTL_LON,TRITER,HELIER,DELHER,THETA,SBE35,SBE35_FLAG_W,SALTREF,SALTREF_FLAG_W,14C-DOC,14C-DOC_FLAG_W,DELO17,DELO17_FLAG_W,O2/AR,O2/AR_FLAG_W,SIP,SIP_FLAG_W,BTL_TIME
,,,,,,,,,,,METERS,DBAR,ITS-90,PSS-78,,PSS-78,,UMOL/KG,,UMOL/KG,,UMOL/KG,,UMOL/KG,,UMOL/KG,,UMOL/KG,,PMOL/KG,,PMOL/KG,,PMOL/KG,,FMOL/KG,,UMOL/KG,,UMOL/KG,,,,DEG C,TU,,NMOL/KG,,PERCNT,,DEG C,,/MILLE,,/MILLE,,/MILLE,NMOL/KG,,NMOL/KG,PMOL/KG,,/MILLE,,UMOL/KG,,UMOL/KG,,,,TU,NMOL/KG,PERCNT,DEG C,ITS-90,,G/KG,,/MILLE,,/MILLE,,,,,,
33AT20120419,        A20,      14,          1,          6,          6,2,20120422,       2344,     8.4340,   -52.7781,       3221,  2223.0,   3.2969,  34.9573,2,  34.9575,2,    260.7,2,   261.1,2,   18.65,2,   18.27,2,    0.00,2,    1.22,2,   0.798,2,-999.000,5,   0.030,2,    0.10,2,  -999.0,9,  -999.0,9,-999.0000,9,  -999.00,-999.000,9,-999.0000,9, -999.00,9,   3.2968,2, -999.00,9,  -999.0,9,  -999.0,-999.000,9,-999.000,-999.000,9, -999.00,9, -999.00,9, -999.00,9,   8.4334, -52.7788,-999.000,-999.0000, -999.00,   3.1187,   3.2968,2,    35.1223,2,  -999.0,9,     -999.0,9,     -999.0,9,     -999.0,9,       0009
33AT20120419,        A20,      14,          1,          5,          5,2,20120422,       2344,     8.4340,   -52.7781,       3221,  2425.6,   3.0817,  34.9472,2,  34.9478,2,    260.7,2,   261.2,2,   20.87,2,   18.39,2,    0.00,2,    1.23,2,   0.686,2,   0.317,2,   0.023,2,    0.13,2,  2163.5,2,  2318.2,2,   7.7447,6,    25.00,-999.000,9,-999.0000,9, -999.00,9,   3.0816,2, -999.00,9,  -999.0,9,  -999.0,-999.000,9,-999.000,-999.000,9, -999.00,9, -999.00,9, -999.00,9,   8.4336, -52.7786,-999.000,-999.0000, -999.00,   2.8875,   3.0816,2,    35.1126,2,  -999.0,9,     -999.0,9,     -999.0,9,     -999.0,9,       0005
33AT20120419,        A20,      14,          1,          4,          4,2,20120422,       2344,     8.4340,   -52.7781,       3221,  2629.8,   2.8951,  34.9369,2,  34.9376,2,    260.9,2,   261.1,2,   23.02,2,   18.54,2,    0.00,2,    1.24,2,   0.602,2,   0.275,2,   0.025,2,    0.16,2,  2164.9,2,  2320.7,2,   7.7448,6,    25.00,-999.000,9,-999.0000,9, -999.00,9,   2.8954,2, -999.00,9,  -999.0,9,  -999.0,-999.000,9,-999.000,-999.000,9, -999.00,9, -999.00,9, -999.00,9,   8.4337, -52.7785,-999.000,-999.0000, -999.00,   2.6843,   2.8954,2,    35.1023,2,  -999.0,9,     -999.0,9,     -999.0,9,     -999.0,9,       0000
33AT20120419,        A20,      14,          1,          3,          3,2,20120422,       2344,     8.4340,   -52.7781,       3221,  2832.1,   2.7296,  34.9265,2,  34.9266,2,    260.8,2,   261.4,2,   25.25,2,   18.68,2,    0.00,2,    1.26,2,   0.577,2,   0.265,2,   0.023,2,    0.14,2,  -999.0,9,  -999.0,9,-999.0000,9,  -999.00,-999.000,9,-999.0000,9, -999.00,9,   2.7291,2, -999.00,9,  -999.0,9,  -999.0,-999.000,9,-999.000,-999.000,9, -999.00,9, -999.00,9, -999.00,9,   8.4338, -52.7784,-999.000,-999.0000, -999.00,   2.5018,   2.7291,2,    35.0913,2,  -999.0,9,     -999.0,9,     -999.0,9,     -999.0,9,       2356
33AT20120419,        A20,      14,          1,          2,          2,2,20120422,       2344,     8.4340,   -52.7781,       3221,  3036.3,   2.6136,  34.9184,2,  34.9189,2,    262.0,2,   262.2,2,   26.61,2,   18.73,2,    0.00,2,    1.27,2,   0.597,2,   0.268,2,   0.027,2,    0.14,2,  -999.0,9,  -999.0,9,-999.0000,9,  -999.00,-999.000,9,-999.0000,9, -999.00,9,   2.6132,2, -999.00,9,  -999.0,9,  -999.0,-999.000,9,-999.000,-999.000,9, -999.00,9, -999.00,9, -999.00,9,   8.4339, -52.7782,-999.000,-999.0000, -999.00,   2.3675,   2.6132,2,    35.0836,2,  -999.0,9,     -999.0,9,     -999.0,9,     -999.0,9,       2351
33AT20120419,        A20,      14,          1,          1,          1,2,20120422,       2344,     8.4340,   -52.7781,       3221,  3266.2,   2.5783,  34.9149,2,  34.9160,2,    261.9,2,   262.2,2,   27.38,2,   18.76,2,    0.00,2,    1.27,2,   0.602,2,   0.269,2,   0.027,2,    0.18,2,  2171.0,6,  2324.1,2,   7.7388,2,    25.00,-999.000,9,-999.0000,9, -999.00,9,   2.5782,2, -999.00,9,  -999.0,9,  -999.0,-999.000,9,-999.000,-999.000,9, -999.00,9, -999.00,9, -999.00,9,   8.4340, -52.7781,-999.000,-999.0000, -999.00,   2.3090,   2.5782,2,    35.0806,2,  -999.0,9,     -999.0,9,     -999.0,9,     -999.0,9,       2346