BOTTLE,20220712CCHSIOCBG
EXPOCODE,SECT_ID,STNNBR,CASTNO,SAMPNO,BTLNBR,BTLNBR_FLAG_W,DATE,TIME,LATITUDE,LONGITUDE,DEPTH,CTDPRS,CTDTMP,CTDSAL,CTDSAL_FLAG_W,SALNTY,SALNTY_FLAG_W,CTDOXY,CTDOXY_FLAG_W,OXYGEN,OXYGEN_FLAG_W,SILCAT,SILCAT_FLAG_W,NITRAT,NITRAT_FLAG_W,NITRIT,NITRIT_FLAG_W,PHSPHT,PHSPHT_FLAG_W,CFC-11,CFC-11_FLAG_W,CFC-12,CFC-12_FLAG_W,CFC113,CFC113_FLAG_W,SF6,SF6_FLAG_W,TCARBN,TCARBN_FLAG_W,ALKALI,ALKALI_FLAG_W,PH_TOT,PH_TOT_FLAG_W,PH_TMP,TRITUM,TRITUM_FLAG_W,HELIUM,HELIUM_FLAG_W,DELHE3,DELHE3_FLAG_W,REFTMP,REFTMP_FLAG_W,DELC13,DELC13_FLAG_W,DELC14,DELC14_FLAG_W,C14ERR,NEON,NEON_FLAG_W,NEONER,CCL4,CCL4_FLAG_W,DELO18,DELO18_FLAG_W,DOC,DOC_FLAG_W,TDN,TDN_FLAG_W,BTL_LAT,BTL_LON,TRITER,HELIER,DELHER,THETA,SBE35,SBE35_FLAG_W,SALTREF,SALTREF_FLAG_W,14C-DOC,14C-DOC_FLAG_W,DELO17,DELO17_FLAG_W,O2/AR,O2/AR_FLAG_W,SIP,SIP_FLAG_W,BTL_TIME
,,,,,,,,,,,METERS,DBAR,ITS-90,PSS-78,,PSS-78,,UMOL/KG,,UMOL/KG,,UMOL/KG,,UMOL/KG,,UMOL/KG,,UMOL/KG,,PMOL/KG,,PMOL/KG,,PMOL/KG,,FMOL/KG,,UMOL/KG,,UMOL/KG,,,,DEG C,TU,,NMOL/KG,,PERCNT,,DEG C,,/MILLE,,/MILLE,,/MILLE,NMOL/KG,,NMOL/KG,PMOL/KG,,/MILLE,,UMOL/KG,,UMOL/KG,,,,TU,NMOL/KG,PERCNT,DEG C,ITS-90,,G/KG,,/MILLE,,/MILLE,,,,,,
33AT20120419,        A20,      48,          1,          6,          6,2,20120503,       0715,    27.4893,   -52.3327,       5875,  4090.2,   2.2102,  34.8828,2,  34.8828,2,    255.9,2,   255.7,2,   41.36,2,   20.98,2,    0.00,2,    1.42,2,   0.093,2,   0.038,2,   0.007,2,    0.04,2,  2183.7,2,  2337.2,6,   7.7321,2,    25.00,-999.000,9,-999.0000,9, -999.00,9,   2.2103,2, -999.00,9,  -999.0,9,  -999.0,-999.000,9,-999.000,-999.000,9, -999.00,9, -999.00,9, -999.00,9,  27.4895, -52.3327,-999.000,-999.0000, -999.00,   1.8598,   2.2103,2,    35.0473,2,  -999.0,9,     -999.0,9,     -999.0,9,     -999.0,9,       0752
33AT20120419,        A20,      48,          1,          5,          5,2,20120503,       0715,    27.4893,   -52.3327,       5875,  4505.1,   2.1316,  34.8694,2,  34.8694,2,    251.9,2,   252.8,2,   46.71,2,   21.75,2,    0.00,2,    1.46,2,-999.000,9,-999.000,9,-999.000,9, -999.00,9,  -999.0,9,  -999.0,9,-999.0000,9,  -999.00,-999.000,9,-999.0000,9, -999.00,9,   2.1314,2, -999.00,9,  -999.0,9,  -999.0,-999.000,9,-999.000,-999.000,9, -999.00,9, -999.00,9, -999.00,9,  27.4893, -52.3327,-999.000,-999.0000, -999.00,   1.7351,   2.1314,2,    35.0338,2,  -999.0,9,     -999.0,9,     -999.0,9,     -999.0,9,       0744
33AT20120419,        A20,      48,          1,          4,          4,2,20120503,       0715,    27.4893,   -52.3327,       5875,  4917.7,   2.1162,  34.8621,2,  34.8627,2,    251.1,2,   250.6,2,   49.61,2,   22.17,2,    0.00,2,    1.48,2,   0.073,2,   0.037,2,   0.004,2,    0.04,2,  2193.7,2,  2343.7,2,   7.7226,2,    25.00,-999.000,9,-999.0000,9, -999.00,9,   2.1166,2, -999.00,9,  -999.0,9,  -999.0,-999.000,9,-999.000,-999.000,9, -999.00,9, -999.00,9, -999.00,9,  27.4892, -52.3327,-999.000,-999.0000, -999.00,   1.6701,   2.1166,2,    35.0271,2,  -999.0,9,     -999.0,9,     -999.0,9,     -999.0,9,       0736
33AT20120419,        A20,      48,          1,          3,          3,2,20120503,       0715,    27.4893,   -52.3327,       5875,  5330.7,   2.1378,  34.8586,2,  34.8584,2,    250.4,2,   250.1,2,   50.75,2,   22.34,2,    0.00,2,    1.49,2,-999.000,9,-999.000,9,-999.000,9, -999.00,9,  -999.0,9,  -999.0,9,-999.0000,9,  -999.00,-999.000,9,-999.0000,9, -999.00,9,   2.1374,2, -999.00,9,  -999.0,9,  -999.0,-999.000,9,-999.000,-999.000,9, -999.00,9, -999.00,9, -999.00,9,  27.4892, -52.3327,-999.000,-999.0000, -999.00,   1.6386,   2.1374,2,    35.0227,2,  -999.0,9,     -999.0,9,     -999.0,9,     -999.0,9,       0728
33AT20120419,        A20,      48,          1,          2,          2,2,20120503,       0715,    27.4893,   -52.3327,       5875,  5662.1,   2.1567,  34.8556,2,  34.8558,2,    249.0,2,   249.6,2,   51.98,2,   22.51,2,    0.00,2,    1.50,2,   0.096,2,   0.047,2,   0.005,2,    0.05,2,  2198.3,2,  2346.0,2,   7.7185,6,    25.00,-999.000,9,-999.0000,9, -999.00,9,   2.1568,2, -999.00,9,  -999.0,9,  -999.0,-999.000,9,-999.000,-999.000,9, -999.00,9, -999.00,9, -999.00,9,  27.4892, -52.3327,-999.000,-999.0000, -999.00,   1.6134,   2.1568,2,    35.0202,2,  -999.0,9,     -999.0,9,     -999.0,9,     -999.0,9,       0722
33AT20120419,        A20,      48,          1,          1,          1,2,20120503,       0715,    27.4893,   -52.3327,       5875,  5979.6,   2.1971,  34.8548,2,  34.8552,2,    248.9,2,   249.2,2,   52.19,2,   22.52,2,    0.00,2,    1.52,2,   0.101,2,   0.049,2,   0.004,2,    0.04,2,  2197.6,6,  2346.4,2,   7.7188,2,    25.00,-999.000,9,-999.0000,9, -999.00,9,   2.1963,2, -999.00,9,  -999.0,9,  -999.0,-999.000,9,-999.000,-999.000,9, -999.00,9, -999.00,9, -999.00,9,  27.4893, -52.3327,-999.000,-999.0000, -999.00,   1.6094,   2.1963,2,    35.0196,2,  -999.0,9,     -999.0,9,     -999.0,9,     -999.0,9,       0716