BOTTLE,20220712CCHSIOCBG
EXPOCODE,SECT_ID,STNNBR,CASTNO,SAMPNO,BTLNBR,BTLNBR_FLAG_W,DATE,TIME,LATITUDE,LONGITUDE,DEPTH,CTDPRS,CTDTMP,CTDSAL,CTDSAL_FLAG_W,SALNTY,SALNTY_FLAG_W,CTDOXY,CTDOXY_FLAG_W,OXYGEN,OXYGEN_FLAG_W,SILCAT,SILCAT_FLAG_W,NITRAT,NITRAT_FLAG_W,NITRIT,NITRIT_FLAG_W,PHSPHT,PHSPHT_FLAG_W,CFC-11,CFC-11_FLAG_W,CFC-12,CFC-12_FLAG_W,CFC113,CFC113_FLAG_W,SF6,SF6_FLAG_W,TCARBN,TCARBN_FLAG_W,ALKALI,ALKALI_FLAG_W,PH_TOT,PH_TOT_FLAG_W,PH_TMP,TRITUM,TRITUM_FLAG_W,HELIUM,HELIUM_FLAG_W,DELHE3,DELHE3_FLAG_W,REFTMP,REFTMP_FLAG_W,DELC13,DELC13_FLAG_W,DELC14,DELC14_FLAG_W,C14ERR,NEON,NEON_FLAG_W,NEONER,CCL4,CCL4_FLAG_W,DELO18,DELO18_FLAG_W,DOC,DOC_FLAG_W,TDN,TDN_FLAG_W,BTL_LAT,BTL_LON,TRITER,HELIER,DELHER,THETA,SBE35,SBE35_FLAG_W,SALTREF,SALTREF_FLAG_W,14C-DOC,14C-DOC_FLAG_W,DELO17,DELO17_FLAG_W,O2/AR,O2/AR_FLAG_W,SIP,SIP_FLAG_W,BTL_TIME
,,,,,,,,,,,METERS,DBAR,ITS-90,PSS-78,,PSS-78,,UMOL/KG,,UMOL/KG,,UMOL/KG,,UMOL/KG,,UMOL/KG,,UMOL/KG,,PMOL/KG,,PMOL/KG,,PMOL/KG,,FMOL/KG,,UMOL/KG,,UMOL/KG,,,,DEG C,TU,,NMOL/KG,,PERCNT,,DEG C,,/MILLE,,/MILLE,,/MILLE,NMOL/KG,,NMOL/KG,PMOL/KG,,/MILLE,,UMOL/KG,,UMOL/KG,,,,TU,NMOL/KG,PERCNT,DEG C,ITS-90,,G/KG,,/MILLE,,/MILLE,,,,,,
33AT20120419,        A20,       7,          1,         13,         13,2,20120422,       0113,     7.2892,   -53.2916,        342,     3.2,  27.8810,  28.5190,2,  28.5182,2,    233.6,2,   233.7,2,   10.81,2,    0.01,2,    0.00,2,    0.02,2,   1.572,2,   1.005,2,   0.124,2,    1.51,3,  1623.7,2,  1947.4,2,   8.2337,2,    25.00,-999.000,9,-999.0000,9, -999.00,9,  27.8785,2, -999.00,9,  -999.0,9,  -999.0,-999.000,9,-999.000,   0.940,2, -999.00,9, -999.00,9, -999.00,9,   7.2895, -53.2915,-999.000,-999.0000, -999.00,  27.8803,  27.8785,2,    28.6527,2,  -999.0,9,     -999.0,9,     -999.0,9,     -999.0,9,       0140
33AT20120419,        A20,       7,          1,         12,         12,2,20120422,       0113,     7.2892,   -53.2916,        342,    20.4,  27.0924,  36.1762,2,  35.1805,2,    197.2,2,   198.6,2,    1.27,2,    0.00,2,    0.00,2,    0.01,2,   1.495,2,   0.968,2,   0.120,2,    1.16,3,  1988.8,2,  2323.7,2,   8.0965,6,    25.00,-999.000,9,-999.0000,9, -999.00,9,  27.0935,2, -999.00,9,  -999.0,9,  -999.0,-999.000,9,-999.000,   0.920,2, -999.00,9, -999.00,9, -999.00,9,   7.2895, -53.2915,-999.000,-999.0000, -999.00,  27.0877,  27.0935,2,    35.3464,2,  -999.0,9,     -999.0,9,     -999.0,9,     -999.0,9,       0137
33AT20120419,        A20,       7,          1,         11,         11,2,20120422,       0113,     7.2892,   -53.2916,        342,    41.4,  26.9531,  36.1900,2,  36.1905,2,    199.5,2,   198.6,2,    0.72,2,    0.00,2,    0.00,2,    0.00,2,   1.535,2,   0.981,2,   0.119,2,    1.41,3,  2027.1,2,  2372.1,2,   8.0924,2,    25.00,-999.000,9,-999.0000,9, -999.00,9,  26.9533,2, -999.00,9,  -999.0,9,  -999.0,-999.000,9,-999.000,   0.930,2, -999.00,9, -999.00,9, -999.00,9,   7.2894, -53.2915,-999.000,-999.0000, -999.00,  26.9436,  26.9533,2,    36.3612,2,  -999.0,9,     -999.0,9,     -999.0,9,     -999.0,9,       0135
33AT20120419,        A20,       7,          1,         10,         10,2,20120422,       0113,     7.2892,   -53.2916,        342,    66.5,  26.0588,  36.1742,2,  36.1753,2,    201.3,2,   200.3,2,    0.66,2,    0.00,2,    0.00,2,    0.00,2,   1.562,2,   0.999,2,   0.120,2,    1.57,3,  -999.0,9,  -999.0,9,-999.0000,9,  -999.00,-999.000,9,-999.0000,9, -999.00,9,  26.0576,2, -999.00,9,  -999.0,9,  -999.0,-999.000,9,-999.000,   0.870,2, -999.00,9, -999.00,9, -999.00,9,   7.2893, -53.2915,-999.000,-999.0000, -999.00,  26.0439,  26.0576,2,    36.3459,2,  -999.0,9,     -999.0,9,     -999.0,9,     -999.0,9,       0133
33AT20120419,        A20,       7,          1,          9,          9,2,20120422,       0113,     7.2892,   -53.2916,        342,    90.6,  24.5192,  36.7242,2,  36.7078,2,    173.6,2,   170.2,2,    0.75,2,    1.51,2,    0.11,2,    0.11,2,   1.689,2,   1.056,2,   0.105,2,    1.13,3,  2101.9,2,  2402.4,2,   8.0090,2,    25.00,-999.000,9,-999.0000,9, -999.00,9,  24.4889,2, -999.00,9,  -999.0,9,  -999.0,-999.000,9,-999.000,   0.370,2, -999.00,9, -999.00,9, -999.00,9,   7.2893, -53.2916,-999.000,-999.0000, -999.00,  24.4997,  24.4889,2,    36.8809,2,  -999.0,9,     -999.0,9,     -999.0,9,     -999.0,9,       0130
33AT20120419,        A20,       7,          1,          8,          8,2,20120422,       0113,     7.2892,   -53.2916,        342,   115.6,  20.2001,  36.4313,2,  36.4257,2,    148.9,2,   146.1,2,    3.09,2,    8.18,2,    0.03,2,    0.54,2,   1.926,2,   1.168,2,   0.053,2,    1.01,3,  2149.2,2,  2386.3,6,   7.8986,6,    25.00,-999.000,9,-999.0000,9, -999.00,9,  20.2029,2, -999.00,9,  -999.0,9,  -999.0,-999.000,9,-999.000,   0.210,2, -999.00,9, -999.00,9, -999.00,9,   7.2893, -53.2916,-999.000,-999.0000, -999.00,  20.1784,  20.2029,2,    36.5975,2,  -999.0,9,     -999.0,9,     -999.0,9,     -999.0,9,       0128
33AT20120419,        A20,       7,          1,          7,          7,2,20120422,       0113,     7.2892,   -53.2916,        342,   140.6,  16.4870,  35.8518,2,  35.8497,2,    150.2,2,   150.3,2,    5.04,2,   12.91,2,    0.00,2,    0.88,2,   2.073,2,   1.221,2,   0.042,2,    1.13,3,  -999.0,9,  -999.0,9,-999.0000,9,  -999.00,-999.000,9,-999.0000,9, -999.00,9,  16.4832,2, -999.00,9,  -999.0,9,  -999.0,-999.000,9,-999.000,   0.260,2, -999.00,9, -999.00,9, -999.00,9,   7.2893, -53.2916,-999.000,-999.0000, -999.00,  16.4642,  16.4832,2,    36.0187,2,  -999.0,9,     -999.0,9,     -999.0,9,     -999.0,9,       0126
33AT20120419,        A20,       7,          1,          6,          6,2,20120422,       0113,     7.2892,   -53.2916,        342,   165.3,  14.1305,  35.5211,2,  35.5170,2,    149.5,2,   148.9,2,    6.67,2,   16.45,2,    0.00,2,    1.11,2,   2.118,2,   1.213,2,   0.038,2,    0.79,3,  2164.5,2,  2336.7,6,   7.7774,2,    25.00,-999.000,9,-999.0000,9, -999.00,9,  14.1291,2, -999.00,9,  -999.0,9,  -999.0,-999.000,9,-999.000,   0.280,2, -999.00,9, -999.00,9, -999.00,9,   7.2892, -53.2916,-999.000,-999.0000, -999.00,  14.1064,  14.1291,2,    35.6845,2,  -999.0,9,     -999.0,9,     -999.0,9,     -999.0,9,       0124
33AT20120419,        A20,       7,          1,          5,          5,2,20120422,       0113,     7.2892,   -53.2916,        342,   191.2,  13.7195,  35.5677,2,  35.5640,2,    134.0,2,   133.8,2,    7.32,2,   18.57,2,    0.00,2,    1.18,2,   2.030,2,   1.127,2,   0.020,2,    0.76,3,  2177.7,2,  2338.5,2,   7.7463,2,    25.00,-999.000,9,-999.0000,9, -999.00,9,  13.6788,2, -999.00,9,  -999.0,9,  -999.0,-999.000,9,-999.000,   0.210,2, -999.00,9, -999.00,9, -999.00,9,   7.2893, -53.2916,-999.000,-999.0000, -999.00,  13.6921,  13.6788,2,    35.7317,2,  -999.0,9,     -999.0,9,     -999.0,9,     -999.0,9,       0122
33AT20120419,        A20,       7,          1,          4,          4,2,20120422,       0113,     7.2892,   -53.2916,        342,   215.9,  12.5199,  35.3886,2,  35.4003,2,    131.4,2,   131.1,2,    8.58,2,   20.63,2,    0.00,2,    1.32,2,   1.969,2,   1.091,2,   0.024,2,    1.07,3,  2183.0,2,  2329.4,2,   7.7168,2,    25.00,-999.000,9,-999.0000,9, -999.00,9,  12.5264,2, -999.00,9,  -999.0,9,  -999.0,-999.000,9,-999.000,   0.230,2, -999.00,9, -999.00,9, -999.00,9,   7.2892, -53.2916,-999.000,-999.0000, -999.00,  12.4908,  12.5264,2,    35.5672,2,  -999.0,9,     -999.0,9,     -999.0,9,     -999.0,9,       0120
33AT20120419,        A20,       7,          1,          3,          3,2,20120422,       0113,     7.2892,   -53.2916,        342,   241.7,  11.3997,  35.1818,2,  35.1971,2,    137.3,2,   138.0,2,    9.70,2,   21.76,2,    0.00,2,    1.42,2,   1.987,2,   1.096,2,   0.028,2,    0.84,3,  -999.0,9,  -999.0,9,-999.0000,9,  -999.00,-999.000,9,-999.0000,9, -999.00,9,  11.4438,2, -999.00,9,  -999.0,9,  -999.0,-999.000,9,-999.000,   0.280,2, -999.00,9, -999.00,9, -999.00,9,   7.2892, -53.2916,-999.000,-999.0000, -999.00,  11.3691,  11.4438,2,    35.3631,2,  -999.0,9,     -999.0,9,     -999.0,9,     -999.0,9,       0119
33AT20120419,        A20,       7,          1,          2,          2,2,20120422,       0113,     7.2892,   -53.2916,        342,   286.1,  10.4794,  35.0295,2,  35.0268,2,    138.3,2,   137.4,2,   11.34,2,   23.78,2,    0.00,2,    1.55,2,   1.896,2,   1.040,2,   0.030,2,    0.64,3,  2186.1,2,  2312.2,2,   7.6685,6,    25.00,-999.000,9,-999.0000,9, -999.00,9,  10.4789,2, -999.00,9,  -999.0,9,  -999.0,-999.000,9,-999.000,   0.310,2, -999.00,9, -999.00,9, -999.00,9,   7.2892, -53.2916,-999.000,-999.0000, -999.00,  10.4450,  10.4789,2,    35.1919,2,  -999.0,9,     -999.0,9,     -999.0,9,     -999.0,9,       0117
33AT20120419,        A20,       7,          1,          1,          1,2,20120422,       0113,     7.2892,   -53.2916,        342,   333.4,   9.1400,  34.8554,2,  34.8609,2,    126.9,2,   126.4,2,   15.54,2,   27.41,2,    0.00,2,    1.81,2,   1.563,2,   0.835,2,   0.031,2,    0.36,3,  2202.9,6,  2306.9,2,   7.6143,2,    25.00,-999.000,9,-999.0000,9, -999.00,9,   9.1074,2, -999.00,9,  -999.0,9,  -999.0,-999.000,9,-999.000,   0.310,2, -999.00,9, -999.00,9, -999.00,9,   7.2892, -53.2916,-999.000,-999.0000, -999.00,   9.1032,   9.1074,2,    35.0253,2,  -999.0,9,     -999.0,9,     -999.0,9,     -999.0,9,       0114