BOTTLE,20220712CCHSIOCBG
EXPOCODE,SECT_ID,STNNBR,CASTNO,SAMPNO,BTLNBR,BTLNBR_FLAG_W,DATE,TIME,LATITUDE,LONGITUDE,DEPTH,CTDPRS,CTDTMP,CTDSAL,CTDSAL_FLAG_W,SALNTY,SALNTY_FLAG_W,CTDOXY,CTDOXY_FLAG_W,OXYGEN,OXYGEN_FLAG_W,SILCAT,SILCAT_FLAG_W,NITRAT,NITRAT_FLAG_W,NITRIT,NITRIT_FLAG_W,PHSPHT,PHSPHT_FLAG_W,CFC-11,CFC-11_FLAG_W,CFC-12,CFC-12_FLAG_W,CFC113,CFC113_FLAG_W,SF6,SF6_FLAG_W,TCARBN,TCARBN_FLAG_W,ALKALI,ALKALI_FLAG_W,PH_TOT,PH_TOT_FLAG_W,PH_TMP,TRITUM,TRITUM_FLAG_W,HELIUM,HELIUM_FLAG_W,DELHE3,DELHE3_FLAG_W,REFTMP,REFTMP_FLAG_W,DELC13,DELC13_FLAG_W,DELC14,DELC14_FLAG_W,C14ERR,NEON,NEON_FLAG_W,NEONER,CCL4,CCL4_FLAG_W,DELO18,DELO18_FLAG_W,DOC,DOC_FLAG_W,TDN,TDN_FLAG_W,BTL_LAT,BTL_LON,TRITER,HELIER,DELHER,THETA,SBE35,SBE35_FLAG_W,SALTREF,SALTREF_FLAG_W,14C-DOC,14C-DOC_FLAG_W,DELO17,DELO17_FLAG_W,O2/AR,O2/AR_FLAG_W,SIP,SIP_FLAG_W,BTL_TIME
,,,,,,,,,,,METERS,DBAR,ITS-90,PSS-78,,PSS-78,,UMOL/KG,,UMOL/KG,,UMOL/KG,,UMOL/KG,,UMOL/KG,,UMOL/KG,,PMOL/KG,,PMOL/KG,,PMOL/KG,,FMOL/KG,,UMOL/KG,,UMOL/KG,,,,DEG C,TU,,NMOL/KG,,PERCNT,,DEG C,,/MILLE,,/MILLE,,/MILLE,NMOL/KG,,NMOL/KG,PMOL/KG,,/MILLE,,UMOL/KG,,UMOL/KG,,,,TU,NMOL/KG,PERCNT,DEG C,ITS-90,,G/KG,,/MILLE,,/MILLE,,,,,,
33AT20120419,        A20,      38,          1,         36,         36,2,20120429,       2326,    20.0573,   -52.3314,       5284,     3.5,  25.4963,  36.7490,2,  36.7490,2,    205.8,2,   206.0,2,    0.57,2,    0.00,2,    0.00,2,    0.00,2,   1.701,2,   1.087,2,   0.148,2,    1.01,2,  2045.5,6,  2409.8,2,   8.1088,2,    25.00,-999.000,9,-999.0000,9, -999.00,9,  25.4973,2, -999.00,9,  -999.0,9,  -999.0,-999.000,9,-999.000,-999.000,9, -999.00,9, -999.00,9, -999.00,9,  20.0575, -52.3315,-999.000,-999.0000, -999.00,  25.4955,  25.4973,2,    36.9223,2,  -999.0,9,     -999.0,9,     -999.0,9,     -999.0,9,       0147
33AT20120419,        A20,      38,          1,         35,         35,2,20120429,       2326,    20.0573,   -52.3314,       5284,    24.9,  25.5033,  36.7562,2,  36.7530,2,    206.4,2,   206.2,2,    0.53,2,    0.00,2,    0.00,2,    0.00,2,   1.702,2,   1.095,2,   0.138,2,    0.99,2,  -999.0,9,  -999.0,9,-999.0000,9,  -999.00,-999.000,9,-999.0000,9, -999.00,9,  25.4996,2, -999.00,9,  -999.0,9,  -999.0,-999.000,9,-999.000,-999.000,9, -999.00,9, -999.00,9, -999.00,9,  20.0573, -52.3314,-999.000,-999.0000, -999.00,  25.4978,  25.4996,2,    36.9263,2,  -999.0,9,     -999.0,9,     -999.0,9,     -999.0,9,       0145
33AT20120419,        A20,      38,          1,         34,         34,2,20120429,       2326,    20.0573,   -52.3314,       5284,    48.6,  25.1702,  36.8664,2,  36.8635,2,    209.0,2,   209.7,2,    0.48,2,    0.00,2,    0.00,2,    0.00,2,   1.733,2,   1.105,2,   0.148,2,    0.97,2,  2050.0,2,  2414.2,2,   8.1099,6,    25.00,-999.000,9,-999.0000,9, -999.00,9,  25.1594,2, -999.00,9,  -999.0,9,  -999.0,-999.000,9,-999.000,-999.000,9, -999.00,9, -999.00,9, -999.00,9,  20.0572, -52.3314,-999.000,-999.0000, -999.00,  25.1595,  25.1594,2,    37.0374,2,  -999.0,9,     -999.0,9,     -999.0,9,     -999.0,9,       0142
33AT20120419,        A20,      38,          1,         33,         33,2,20120429,       2326,    20.0573,   -52.3314,       5284,    74.3,  24.6742,  37.0181,2,  37.0139,2,    208.9,2,   209.8,2,    0.33,2,    0.00,2,    0.00,2,    0.00,2,   1.758,2,   1.116,2,   0.143,2,    0.98,2,  2063.7,2,  2427.9,3,   8.0995,2,    25.00,-999.000,9,-999.0000,9, -999.00,9,  24.6712,2, -999.00,9,  -999.0,9,  -999.0,-999.000,9,-999.000,-999.000,9, -999.00,9, -999.00,9, -999.00,9,  20.0572, -52.3314,-999.000,-999.0000, -999.00,  24.6581,  24.6712,2,    37.1884,2,  -999.0,9,     -999.0,9,     -999.0,9,     -999.0,9,       0140
33AT20120419,        A20,      38,          1,         32,         32,2,20120429,       2326,    20.0573,   -52.3314,       5284,    99.7,  23.8750,  37.2728,2,  37.2740,2,    195.6,2,   194.3,2,    0.10,2,    0.00,2,    0.00,2,    0.00,2,   1.863,2,   1.214,2,   0.143,2,    0.97,2,  2106.1,2,  2437.2,2,   8.0528,2,    25.00,-999.000,9,-999.0000,9, -999.00,9,  23.8522,2, -999.00,9,  -999.0,9,  -999.0,-999.000,9,-999.000,-999.000,9, -999.00,9, -999.00,9, -999.00,9,  20.0571, -52.3313,-999.000,-999.0000, -999.00,  23.8539,  23.8522,2,    37.4498,2,  -999.0,9,     -999.0,9,     -999.0,9,     -999.0,9,       0137
33AT20120419,        A20,      38,          1,         31,         31,2,20120429,       2326,    20.0573,   -52.3314,       5284,   152.2,  20.6304,  36.9143,2,  36.9134,2,    189.6,2,   187.7,2,    0.20,2,    0.93,2,    0.06,2,    0.01,2,   2.111,2,   1.349,2,   0.097,2,    1.02,2,  2123.9,2,  2413.7,2,   7.9920,2,    25.00,-999.000,9,-999.0000,9, -999.00,9,  20.6235,2, -999.00,9,  -999.0,9,  -999.0,-999.000,9,-999.000,-999.000,9, -999.00,9, -999.00,9, -999.00,9,  20.0570, -52.3313,-999.000,-999.0000, -999.00,  20.6013,  20.6235,2,    37.0875,2,  -999.0,9,     -999.0,9,     -999.0,9,     -999.0,9,       0134
33AT20120419,        A20,      38,          1,         30,         30,2,20120429,       2326,    20.0573,   -52.3314,       5284,   202.1,  18.9260,  36.6840,2,  36.6840,2,    187.2,2,   187.1,2,    0.56,2,    3.10,2,    0.01,2,    0.11,2,   2.227,2,   1.388,2,   0.041,2,    1.01,2,  2126.8,2,  2398.7,2,   7.9651,2,    25.00,-999.000,9,-999.0000,9, -999.00,9,  18.9138,2, -999.00,9,  -999.0,9,  -999.0,-999.000,9,-999.000,-999.000,9, -999.00,9, -999.00,9, -999.00,9,  20.0570, -52.3313,-999.000,-999.0000, -999.00,  18.8897,  18.9138,2,    36.8570,2,  -999.0,9,     -999.0,9,     -999.0,9,     -999.0,9,       0132
33AT20120419,        A20,      38,          1,         29,         29,2,20120429,       2326,    20.0573,   -52.3314,       5284,   250.7,  18.0257,  36.5536,2,  36.5554,2,    186.0,2,   186.1,2,    1.05,2,    5.39,2,    0.01,2,    0.25,2,   2.290,2,   1.398,2,   0.019,2,    0.97,2,  2129.4,2,  2390.4,2,   7.9457,2,    25.00,-999.000,9,-999.0000,9, -999.00,9,  18.0271,2, -999.00,9,  -999.0,9,  -999.0,-999.000,9,-999.000,-999.000,9, -999.00,9, -999.00,9, -999.00,9,  20.0570, -52.3313,-999.000,-999.0000, -999.00,  17.9821,  18.0271,2,    36.7278,2,  -999.0,9,     -999.0,9,     -999.0,9,     -999.0,9,       0130
33AT20120419,        A20,      38,          1,         28,         28,2,20120429,       2326,    20.0573,   -52.3314,       5284,   301.9,  17.0323,  36.3825,2,  36.3698,2,    178.2,2,   175.9,2,    1.86,2,    8.18,2,    0.01,2,    0.44,2,   2.317,2,   1.406,2,   0.019,2,    0.88,2,  2140.1,2,  2378.9,2,   7.9075,2,    25.00,-999.000,9,-999.0000,9, -999.00,9,  17.0246,2, -999.00,9,  -999.0,9,  -999.0,-999.000,9,-999.000,-999.000,9, -999.00,9, -999.00,9, -999.00,9,  20.0570, -52.3313,-999.000,-999.0000, -999.00,  16.9818,  17.0246,2,    36.5413,2,  -999.0,9,     -999.0,9,     -999.0,9,     -999.0,9,       0128
33AT20120419,        A20,      38,          1,         27,         27,2,20120429,       2326,    20.0573,   -52.3314,       5284,   355.1,  15.8998,  36.1863,2,  36.1716,2,    165.2,2,   166.7,2,    2.89,2,   10.81,2,    0.01,2,    0.61,2,   2.393,2,   1.445,2,   0.024,2,    0.80,2,  -999.0,9,  -999.0,9,-999.0000,9,  -999.00,-999.000,9,-999.0000,9, -999.00,9,  15.8903,2, -999.00,9,  -999.0,9,  -999.0,-999.000,9,-999.000,-999.000,9, -999.00,9, -999.00,9, -999.00,9,  20.0570, -52.3313,-999.000,-999.0000, -999.00,  15.8431,  15.8903,2,    36.3422,2,  -999.0,9,     -999.0,9,     -999.0,9,     -999.0,9,       0125
33AT20120419,        A20,      38,          1,         26,         26,2,20120429,       2326,    20.0573,   -52.3314,       5284,   401.7,  15.2396,  36.0768,2,  36.0652,2,    161.0,2,   160.4,2,    3.53,2,   12.43,2,    0.01,2,    0.72,2,   2.348,2,   1.366,2,   0.025,2,    0.72,2,  2157.0,2,  2360.2,2,   7.8441,2,    25.00,-999.000,9,-999.0000,9, -999.00,9,  15.2291,2, -999.00,9,  -999.0,9,  -999.0,-999.000,9,-999.000,-999.000,9, -999.00,9, -999.00,9, -999.00,9,  20.0570, -52.3313,-999.000,-999.0000, -999.00,  15.1772,  15.2291,2,    36.2353,2,  -999.0,9,     -999.0,9,     -999.0,9,     -999.0,9,       0123
33AT20120419,        A20,      38,          1,         25,         25,2,20120429,       2326,    20.0573,   -52.3314,       5284,   502.0,  12.7082,  35.6883,2,  35.6717,2,    134.8,2,   136.7,2,    7.07,2,   19.34,2,    0.01,2,    1.15,2,   1.901,2,   1.044,2,   0.022,2,    0.44,2,  2182.4,2,  2339.6,2,   7.7451,2,    25.00,-999.000,9,-999.0000,9, -999.00,9,  12.6872,2, -999.00,9,  -999.0,9,  -999.0,-999.000,9,-999.000,-999.000,9, -999.00,9, -999.00,9, -999.00,9,  20.0569, -52.3313,-999.000,-999.0000, -999.00,  12.6389,  12.6872,2,    35.8399,2,  -999.0,9,     -999.0,9,     -999.0,9,     -999.0,9,       0121
33AT20120419,        A20,      38,          1,         24,         24,2,20120429,       2326,    20.0573,   -52.3314,       5284,   606.5,  10.5461,  35.3705,2,  35.3730,2,    133.2,2,   130.3,2,   11.34,2,   23.76,2,    0.01,2,    1.46,2,   1.282,2,   0.678,2,   0.018,2,    0.25,2,  2193.7,2,  2326.7,2,   7.6896,2,    25.00,-999.000,9,-999.0000,9, -999.00,9,  10.5250,2, -999.00,9,  -999.0,9,  -999.0,-999.000,9,-999.000,-999.000,9, -999.00,9, -999.00,9, -999.00,9,  20.0569, -52.3312,-999.000,-999.0000, -999.00,  10.4716,  10.5250,2,    35.5398,2,  -999.0,9,     -999.0,9,     -999.0,9,     -999.0,9,       0118
33AT20120419,        A20,      38,          1,         23,         23,2,20120429,       2326,    20.0573,   -52.3314,       5284,   708.9,   8.3777,  35.0641,2,  35.0647,2,    128.1,2,   127.2,2,   16.94,2,   28.41,2,    0.00,2,    1.81,2,   0.691,2,   0.344,2,   0.009,2,    0.12,2,  2207.4,2,  2314.2,2,   7.6290,6,    25.00,-999.000,9,-999.0000,9, -999.00,9,   8.3722,2, -999.00,9,  -999.0,9,  -999.0,-999.000,9,-999.000,-999.000,9, -999.00,9, -999.00,9, -999.00,9,  20.0568, -52.3312,-999.000,-999.0000, -999.00,   8.3016,   8.3722,2,    35.2301,2,  -999.0,9,     -999.0,9,     -999.0,9,     -999.0,9,       0115
33AT20120419,        A20,      38,          1,         22,         22,2,20120429,       2326,    20.0573,   -52.3314,       5284,   808.3,   6.9417,  34.8909,2,  34.8874,2,    131.2,2,   130.4,2,   21.04,2,   30.74,2,    0.00,2,    2.01,2,   0.377,2,   0.175,2,   0.006,2,    0.06,2,  2211.8,6,  2312.0,2,   7.5975,2,    25.00,-999.000,9,-999.0000,9, -999.00,9,   6.9425,2, -999.00,9,  -999.0,9,  -999.0,-999.000,9,-999.000,-999.000,9, -999.00,9, -999.00,9, -999.00,9,  20.0568, -52.3312,-999.000,-999.0000, -999.00,   6.8631,   6.9425,2,    35.0519,2,  -999.0,9,     -999.0,9,     -999.0,9,     -999.0,9,       0112
33AT20120419,        A20,      38,          1,         21,         21,2,20120429,       2326,    20.0573,   -52.3314,       5284,   911.9,   6.0946,  34.8297,2,  34.8276,2,    138.2,2,   138.8,2,   23.18,2,   31.12,2,    0.00,2,    2.05,2,   0.205,2,   0.100,2,   0.007,2,    0.04,2,  2214.8,2,  2311.5,2,   7.5929,6,    25.00,-999.000,9,-999.0000,9, -999.00,9,   6.0935,2, -999.00,9,  -999.0,9,  -999.0,-999.000,9,-999.000,-999.000,9, -999.00,9, -999.00,9, -999.00,9,  20.0567, -52.3312,-999.000,-999.0000, -999.00,   6.0112,   6.0935,2,    34.9919,2,  -999.0,9,     -999.0,9,     -999.0,9,     -999.0,9,       0109
33AT20120419,        A20,      38,          1,         20,         20,2,20120429,       2326,    20.0573,   -52.3314,       5284,  1013.4,   5.6673,  34.8365,2,  34.8355,2,    149.9,2,   150.4,2,   23.57,2,   30.08,2,    0.00,2,    2.00,2,   0.204,2,   0.089,2,   0.010,2,    0.09,2,  2212.4,2,  2314.2,6,   7.6050,2,    25.00,-999.000,9,-999.0000,9, -999.00,9,   5.6657,2, -999.00,9,  -999.0,9,  -999.0,-999.000,9,-999.000,-999.000,9, -999.00,9, -999.00,9, -999.00,9,  20.0567, -52.3311,-999.000,-999.0000, -999.00,   5.5771,   5.6657,2,    34.9998,2,  -999.0,9,     -999.0,9,     -999.0,9,     -999.0,9,       0106
33AT20120419,        A20,      38,          1,         19,         19,2,20120429,       2326,    20.0573,   -52.3314,       5284,  1112.4,   5.4990,  34.8970,2,  34.8957,2,    162.9,2,   164.7,2,   22.09,2,   27.99,2,    0.00,2,    1.86,2,-999.000,9,-999.000,9,-999.000,9, -999.00,9,  2205.1,2,  2317.3,2,   7.6309,2,    25.00,-999.000,9,-999.0000,9, -999.00,9,   5.4995,2, -999.00,9,  -999.0,9,  -999.0,-999.000,9,-999.000,-999.000,9, -999.00,9, -999.00,9, -999.00,9,  20.0567, -52.3311,-999.000,-999.0000, -999.00,   5.4005,   5.4995,2,    35.0603,2,  -999.0,9,     -999.0,9,     -999.0,9,     -999.0,9,       0104
33AT20120419,        A20,      38,          1,         18,         18,2,20120429,       2326,    20.0573,   -52.3314,       5284,  1214.3,   5.3703,  34.9502,2,  34.9498,2,    180.2,2,   179.9,2,   20.43,2,   25.88,2,    0.00,2,    1.72,2,   0.295,2,   0.133,2,   0.013,2,    0.13,2,  2196.6,2,  2318.6,2,   7.6568,2,    25.00,-999.000,9,-999.0000,9, -999.00,9,   5.3699,2, -999.00,9,  -999.0,9,  -999.0,-999.000,9,-999.000,-999.000,9, -999.00,9, -999.00,9, -999.00,9,  20.0567, -52.3311,-999.000,-999.0000, -999.00,   5.2630,   5.3699,2,    35.1146,2,  -999.0,9,     -999.0,9,     -999.0,9,     -999.0,9,       0101
33AT20120419,        A20,      38,          1,         17,         17,2,20120429,       2326,    20.0573,   -52.3314,       5284,  1315.9,   5.2084,  34.9869,2,  34.9856,2,    192.8,2,   193.8,2,   18.99,2,   24.04,2,    0.00,2,    1.61,2,   0.307,2,   0.137,2,   0.006,2,    0.12,2,  -999.0,9,  -999.0,9,-999.0000,9,  -999.00,-999.000,9,-999.0000,9, -999.00,9,   5.2079,2, -999.00,9,  -999.0,9,  -999.0,-999.000,9,-999.000,-999.000,9, -999.00,9, -999.00,9, -999.00,9,  20.0567, -52.3312,-999.000,-999.0000, -999.00,   5.0927,   5.2079,2,    35.1506,2,  -999.0,9,     -999.0,9,     -999.0,9,     -999.0,9,       0058
33AT20120419,        A20,      38,          1,         16,         16,2,20120429,       2326,    20.0573,   -52.3314,       5284,  1415.7,   4.9768,  35.0057,2,  35.0053,2,    209.2,2,   208.2,2,   17.70,2,   22.58,2,    0.00,2,    1.49,2,   0.379,2,   0.176,2,   0.012,2,    0.10,2,  2182.2,2,  2319.9,2,   7.6956,2,    25.00,-999.000,9,-999.0000,9, -999.00,9,   4.9797,2, -999.00,9,  -999.0,9,  -999.0,-999.000,9,-999.000,-999.000,9, -999.00,9, -999.00,9, -999.00,9,  20.0566, -52.3311,-999.000,-999.0000, -999.00,   4.8537,   4.9797,2,    35.1704,2,  -999.0,9,     -999.0,9,     -999.0,9,     -999.0,9,       0055
33AT20120419,        A20,      38,          1,         15,         15,2,20120429,       2326,    20.0573,   -52.3314,       5284,  1617.2,   4.5353,  35.0152,2,  35.0150,2,    231.7,2,   232.0,2,   15.76,2,   20.31,2,    0.00,2,    1.35,2,   0.551,2,   0.256,2,   0.025,2,    0.14,2,  2171.0,2,  2317.7,2,   7.7211,2,    25.00,-999.000,9,-999.0000,9, -999.00,9,   4.5377,2, -999.00,9,  -999.0,9,  -999.0,-999.000,9,-999.000,-999.000,9, -999.00,9, -999.00,9, -999.00,9,  20.0567, -52.3311,-999.000,-999.0000, -999.00,   4.3977,   4.5377,2,    35.1801,2,  -999.0,9,     -999.0,9,     -999.0,9,     -999.0,9,       0050
33AT20120419,        A20,      38,          1,         14,         14,2,20120429,       2326,    20.0573,   -52.3314,       5284,  1819.5,   4.1143,  35.0077,2,  35.0085,2,    240.7,2,   240.5,2,   17.33,2,   19.87,2,    0.00,2,    1.32,2,   0.299,2,   0.130,2,   0.014,2,    0.14,2,  2168.2,2,  2319.1,2,   7.7318,2,    25.00,-999.000,9,-999.0000,9, -999.00,9,   4.1149,2, -999.00,9,  -999.0,9,  -999.0,-999.000,9,-999.000,-999.000,9, -999.00,9, -999.00,9, -999.00,9,  20.0567, -52.3311,-999.000,-999.0000, -999.00,   3.9626,   4.1149,2,    35.1736,2,  -999.0,9,     -999.0,9,     -999.0,9,     -999.0,9,       0046
33AT20120419,        A20,      38,          1,         13,         13,2,20120429,       2326,    20.0573,   -52.3314,       5284,  2024.2,   3.7560,  34.9965,2,  34.9965,2,    243.8,2,   244.3,2,   20.46,2,   19.82,2,    0.00,2,    1.33,2,   0.153,2,   0.065,2,   0.016,2,    0.14,2,  2168.9,2,  2322.6,2,   7.7376,2,    25.00,-999.000,9,-999.0000,9, -999.00,9,   3.7553,2, -999.00,9,  -999.0,9,  -999.0,-999.000,9,-999.000,-999.000,9, -999.00,9, -999.00,9, -999.00,9,  20.0567, -52.3312,-999.000,-999.0000, -999.00,   3.5896,   3.7553,2,    35.1615,2,  -999.0,9,     -999.0,9,     -999.0,9,     -999.0,9,       0041
33AT20120419,        A20,      38,          1,         12,         12,2,20120429,       2326,    20.0573,   -52.3314,       5284,  2282.4,   3.3156,  34.9726,2,  34.9725,2,    245.5,2,   245.9,2,   25.91,2,   20.10,2,    0.00,2,    1.36,2,   0.073,2,   0.031,2,   0.006,2,    0.14,2,  2173.1,2,  2327.7,6,   7.7400,6,    25.00,-999.000,9,-999.0000,9, -999.00,9,   3.3154,2, -999.00,9,  -999.0,9,  -999.0,-999.000,9,-999.000,-999.000,9, -999.00,9, -999.00,9, -999.00,9,  20.0569, -52.3312,-999.000,-999.0000, -999.00,   3.1312,   3.3154,2,    35.1374,2,  -999.0,9,     -999.0,9,     -999.0,9,     -999.0,9,       0036
33AT20120419,        A20,      38,          1,         11,         11,2,20120429,       2326,    20.0573,   -52.3314,       5284,  2532.0,   3.0522,  34.9544,2,  34.9523,2,    247.4,2,   247.5,2,   29.35,2,   20.31,2,    0.00,2,    1.37,2,-999.000,9,-999.000,9,-999.000,9, -999.00,9,  -999.0,9,  -999.0,9,-999.0000,9,  -999.00,-999.000,9,-999.0000,9, -999.00,9,   3.0524,2, -999.00,9,  -999.0,9,  -999.0,-999.000,9,-999.000,-999.000,9, -999.00,9, -999.00,9, -999.00,9,  20.0568, -52.3312,-999.000,-999.0000, -999.00,   2.8481,   3.0524,2,    35.1171,2,  -999.0,9,     -999.0,9,     -999.0,9,     -999.0,9,       0030
33AT20120419,        A20,      38,          1,         10,         10,2,20120429,       2326,    20.0573,   -52.3314,       5284,  2785.0,   2.8727,  34.9401,2,  34.9395,2,    249.1,2,   249.3,2,   31.87,2,   20.43,2,    0.00,2,    1.38,2,   0.059,2,   0.028,2,   0.006,2,    0.14,2,  2177.8,2,  2333.1,2,   7.7394,2,    25.00,-999.000,9,-999.0000,9, -999.00,9,   2.8728,2, -999.00,9,  -999.0,9,  -999.0,-999.000,9,-999.000,-999.000,9, -999.00,9, -999.00,9, -999.00,9,  20.0566, -52.3311,-999.000,-999.0000, -999.00,   2.6467,   2.8728,2,    35.1042,2,  -999.0,9,     -999.0,9,     -999.0,9,     -999.0,9,       0024
33AT20120419,        A20,      38,          1,          9,          9,2,20120429,       2326,    20.0573,   -52.3314,       5284,  3044.2,   2.7276,  34.9273,2,  34.9265,2,    249.4,2,   249.5,2,   34.35,2,   20.61,2,    0.00,2,    1.40,2,-999.000,9,-999.000,9,-999.000,9, -999.00,9,  -999.0,9,  -999.0,9,-999.0000,9,  -999.00,-999.000,9,-999.0000,9, -999.00,9,   2.7275,2, -999.00,9,  -999.0,9,  -999.0,-999.000,9,-999.000,-999.000,9, -999.00,9, -999.00,9, -999.00,9,  20.0565, -52.3311,-999.000,-999.0000, -999.00,   2.4782,   2.7275,2,    35.0912,2,  -999.0,9,     -999.0,9,     -999.0,9,     -999.0,9,       0019
33AT20120419,        A20,      38,          1,          8,          8,2,20120429,       2326,    20.0573,   -52.3314,       5284,  3348.7,   2.5537,  34.9119,2,  34.9110,2,    250.2,2,   250.5,2,   37.51,2,   20.85,2,    0.00,2,    1.42,2,   0.057,2,   0.027,2,   0.006,2,    0.07,2,  2183.1,2,  2338.4,2,   7.7364,2,    25.00,-999.000,9,-999.0000,9, -999.00,9,   2.5538,2, -999.00,9,  -999.0,9,  -999.0,-999.000,9,-999.000,-999.000,9, -999.00,9, -999.00,9, -999.00,9,  20.0565, -52.3310,-999.000,-999.0000, -999.00,   2.2762,   2.5538,2,    35.0756,2,  -999.0,9,     -999.0,9,     -999.0,9,     -999.0,9,       0013
33AT20120419,        A20,      38,          1,          7,          7,2,20120429,       2326,    20.0573,   -52.3314,       5284,  3654.9,   2.3909,  34.8973,2,  34.8950,2,    251.6,2,   251.6,2,   40.32,2,   20.99,2,    0.00,2,    1.43,2,-999.000,9,-999.000,9,-999.000,9, -999.00,9,  -999.0,9,  -999.0,9,-999.0000,9,  -999.00,-999.000,9,-999.0000,9, -999.00,9,   2.3912,2, -999.00,9,  -999.0,9,  -999.0,-999.000,9,-999.000,-999.000,9, -999.00,9, -999.00,9, -999.00,9,  20.0565, -52.3311,-999.000,-999.0000, -999.00,   2.0844,   2.3912,2,    35.0596,2,  -999.0,9,     -999.0,9,     -999.0,9,     -999.0,9,       0006