BOTTLE,20220712CCHSIOCBG
EXPOCODE,SECT_ID,STNNBR,CASTNO,SAMPNO,BTLNBR,BTLNBR_FLAG_W,DATE,TIME,LATITUDE,LONGITUDE,DEPTH,CTDPRS,CTDTMP,CTDSAL,CTDSAL_FLAG_W,SALNTY,SALNTY_FLAG_W,CTDOXY,CTDOXY_FLAG_W,OXYGEN,OXYGEN_FLAG_W,SILCAT,SILCAT_FLAG_W,NITRAT,NITRAT_FLAG_W,NITRIT,NITRIT_FLAG_W,PHSPHT,PHSPHT_FLAG_W,CFC-11,CFC-11_FLAG_W,CFC-12,CFC-12_FLAG_W,CFC113,CFC113_FLAG_W,SF6,SF6_FLAG_W,TCARBN,TCARBN_FLAG_W,ALKALI,ALKALI_FLAG_W,PH_TOT,PH_TOT_FLAG_W,PH_TMP,TRITUM,TRITUM_FLAG_W,HELIUM,HELIUM_FLAG_W,DELHE3,DELHE3_FLAG_W,REFTMP,REFTMP_FLAG_W,DELC13,DELC13_FLAG_W,DELC14,DELC14_FLAG_W,C14ERR,NEON,NEON_FLAG_W,NEONER,CCL4,CCL4_FLAG_W,DELO18,DELO18_FLAG_W,DOC,DOC_FLAG_W,TDN,TDN_FLAG_W,BTL_LAT,BTL_LON,TRITER,HELIER,DELHER,THETA,SBE35,SBE35_FLAG_W,SALTREF,SALTREF_FLAG_W,14C-DOC,14C-DOC_FLAG_W,DELO17,DELO17_FLAG_W,O2/AR,O2/AR_FLAG_W,SIP,SIP_FLAG_W,BTL_TIME
,,,,,,,,,,,METERS,DBAR,ITS-90,PSS-78,,PSS-78,,UMOL/KG,,UMOL/KG,,UMOL/KG,,UMOL/KG,,UMOL/KG,,UMOL/KG,,PMOL/KG,,PMOL/KG,,PMOL/KG,,FMOL/KG,,UMOL/KG,,UMOL/KG,,,,DEG C,TU,,NMOL/KG,,PERCNT,,DEG C,,/MILLE,,/MILLE,,/MILLE,NMOL/KG,,NMOL/KG,PMOL/KG,,/MILLE,,UMOL/KG,,UMOL/KG,,,,TU,NMOL/KG,PERCNT,DEG C,ITS-90,,G/KG,,/MILLE,,/MILLE,,,,,,
33AT20120419,        A20,      33,          1,         36,         36,2,20120428,       0546,    16.7378,   -52.3344,       5450,     3.0,  26.2857,  36.2568,2,  36.2568,2,    202.9,2,   203.0,2,    0.78,2,    0.00,2,    0.00,2,    0.00,2,   1.554,2,   0.996,2,   0.118,2,    0.99,3,  2020.4,6,  2378.4,2,   8.1102,2,    25.00,-999.000,9,-999.0000,9, -999.00,9,  26.2842,2, -999.00,9,  -999.0,9,  -999.0,-999.000,9,-999.000,   1.080,2, -999.00,9, -999.00,9, -999.00,9,  16.7368, -52.3346,-999.000,-999.0000, -999.00,  26.2850,  26.2842,2,    36.4278,2,  -999.0,9,     -999.0,9,     -999.0,9,     -999.0,9,       0816
33AT20120419,        A20,      33,          1,         35,         35,2,20120428,       0546,    16.7378,   -52.3344,       5450,    35.9,  26.1771,  36.5276,2,  36.5264,2,    206.1,2,   205.1,2,    0.69,2,    0.00,2,    0.00,2,    0.00,2,   1.584,2,   1.014,2,   0.119,2,    0.94,3,  2034.8,2,  2395.6,2,   8.1103,6,    25.00,-999.000,9,-999.0000,9, -999.00,9,  26.1763,2, -999.00,9,  -999.0,9,  -999.0,-999.000,9,-999.000,   1.060,2, -999.00,9, -999.00,9, -999.00,9,  16.7369, -52.3346,-999.000,-999.0000, -999.00,  26.1690,  26.1763,2,    36.6986,2,  -999.0,9,     -999.0,9,     -999.0,9,     -999.0,9,       0813
33AT20120419,        A20,      33,          1,         34,         34,2,20120428,       0546,    16.7378,   -52.3344,       5450,    61.3,  25.5296,  36.7778,2,  36.7766,2,    207.0,2,   208.5,2,    0.38,2,    0.00,2,    0.00,2,    0.00,2,   1.629,2,   1.030,2,   0.116,2,    0.85,3,  2045.1,2,  2409.5,2,   8.1119,2,    25.00,-999.000,9,-999.0000,9, -999.00,9,  25.5276,2, -999.00,9,  -999.0,9,  -999.0,-999.000,9,-999.000,   0.890,2, -999.00,9, -999.00,9, -999.00,9,  16.7370, -52.3346,-999.000,-999.0000, -999.00,  25.5160,  25.5276,2,    36.9500,2,  -999.0,9,     -999.0,9,     -999.0,9,     -999.0,1,       0811
33AT20120419,        A20,      33,          1,         33,         33,2,20120428,       0546,    16.7378,   -52.3344,       5450,    85.9,  25.1016,  36.8828,2,  36.8814,2,    204.6,2,   206.5,2,    0.30,2,    0.00,2,    0.00,2,    0.00,2,   1.647,2,   1.041,2,   0.124,2,    0.78,3,  2052.7,2,  2416.5,2,   8.1063,2,    25.00,-999.000,9,-999.0000,9, -999.00,9,  25.1042,2, -999.00,9,  -999.0,9,  -999.0,-999.000,9,-999.000,   0.910,2, -999.00,9, -999.00,9, -999.00,9,  16.7371, -52.3346,-999.000,-999.0000, -999.00,  25.0828,  25.1042,2,    37.0553,2,  -999.0,9,     -999.0,9,     -999.0,9,     -999.0,1,       0808
33AT20120419,        A20,      33,          1,         32,         32,2,20120428,       0546,    16.7378,   -52.3344,       5450,   116.1,  24.0843,  37.1835,2,  37.1837,2,    200.8,2,   199.8,2,    0.07,2,    0.00,2,    0.00,2,    0.00,2,   1.766,2,   1.104,2,   0.121,2,    1.17,3,  2093.5,2,  2433.5,2,   8.0647,2,    25.00,-999.000,9,-999.0000,9, -999.00,9,  24.0746,2, -999.00,9,  -999.0,9,  -999.0,-999.000,9,-999.000,   0.470,2, -999.00,9, -999.00,9, -999.00,9,  16.7371, -52.3347,-999.000,-999.0000, -999.00,  24.0596,  24.0746,2,    37.3590,2,  -999.0,9,     -999.0,9,     -999.0,9,     -999.0,9,       0805
33AT20120419,        A20,      33,          1,         31,         31,2,20120428,       0546,    16.7378,   -52.3344,       5450,   165.8,  21.4224,  37.0793,2,  37.0579,2,    170.4,2,   171.3,2,    0.35,2,    2.39,2,    0.03,2,    0.10,2,   1.918,2,   1.183,2,   0.067,2,    0.41,3,  2138.6,2,  2422.5,6,   7.9750,2,    25.00,-999.000,9,-999.0000,9, -999.00,9,  21.4285,2, -999.00,9,  -999.0,9,  -999.0,-999.000,9,-999.000,   0.320,2, -999.00,9, -999.00,9, -999.00,9,  16.7372, -52.3347,-999.000,-999.0000, -999.00,  21.3899,  21.4285,2,    37.2326,2,  -999.0,9,     -999.0,9,     -999.0,9,     -999.0,9,       0803
33AT20120419,        A20,      33,          1,         30,         30,2,20120428,       0546,    16.7378,   -52.3344,       5450,   216.4,  18.4764,  36.6002,2,  36.6066,2,    142.7,2,   145.8,2,    1.87,2,    9.03,2,    0.01,2,    0.51,2,   2.040,2,   1.230,2,   0.024,2,    0.90,3,  2165.2,2,  2394.5,2,   7.8826,2,    25.00,-999.000,9,-999.0000,9, -999.00,9,  18.4731,2, -999.00,9,  -999.0,9,  -999.0,-999.000,9,-999.000,   0.190,2, -999.00,9, -999.00,9, -999.00,9,  16.7372, -52.3347,-999.000,-999.0000, -999.00,  18.4381,  18.4731,2,    36.7792,2,  -999.0,9,     -999.0,9,     -999.0,9,     -999.0,9,       0800
33AT20120419,        A20,      33,          1,         29,         29,2,20120428,       0546,    16.7378,   -52.3344,       5450,   266.4,  16.2928,  36.2334,2,  36.2271,2,    138.9,2,   140.2,2,    3.25,2,   12.95,2,    0.01,2,    0.75,2,   2.091,2,   1.223,2,   0.012,2,    0.74,3,  -999.0,9,  -999.0,9,-999.0000,9,  -999.00,-999.000,9,-999.0000,9, -999.00,9,  16.2879,2, -999.00,9,  -999.0,9,  -999.0,-999.000,9,-999.000,   0.160,2, -999.00,9, -999.00,9, -999.00,9,  16.7372, -52.3347,-999.000,-999.0000, -999.00,  16.2496,  16.2879,2,    36.3979,2,  -999.0,9,     -999.0,9,     -999.0,9,     -999.0,9,       0758
33AT20120419,        A20,      33,          1,         28,         28,2,20120428,       0546,    16.7378,   -52.3344,       5450,   316.8,  15.0953,  36.0224,2,  36.0200,2,    127.3,2,   128.3,2,    4.52,2,   16.05,2,    0.01,2,    0.95,2,   2.010,2,   1.152,2,   0.016,2,    0.63,3,  2178.9,2,  2359.6,2,   7.7869,2,    25.00,-999.000,9,-999.0000,9, -999.00,9,  15.0931,2, -999.00,9,  -999.0,9,  -999.0,-999.000,9,-999.000,   0.150,2, -999.00,9, -999.00,9, -999.00,9,  16.7371, -52.3347,-999.000,-999.0000, -999.00,  15.0465,  15.0931,2,    36.1898,2,  -999.0,9,     -999.0,9,     -999.0,9,     -999.0,9,       0756
33AT20120419,        A20,      33,          1,         27,         27,2,20120428,       0546,    16.7378,   -52.3344,       5450,   367.3,  13.9213,  35.8359,2,  35.8362,2,    126.1,2,   126.3,2,    5.79,2,   18.14,2,    0.00,2,    1.07,2,   1.912,2,   1.064,2,   0.016,2,    0.48,3,  -999.0,9,  -999.0,9,-999.0000,9,  -999.00,-999.000,9,-999.0000,9, -999.00,9,  13.9049,2, -999.00,9,  -999.0,9,  -999.0,-999.000,9,-999.000,   0.150,2, -999.00,9, -999.00,9, -999.00,9,  16.7371, -52.3347,-999.000,-999.0000, -999.00,  13.8677,  13.9049,2,    36.0052,2,  -999.0,9,     -999.0,9,     -999.0,9,     -999.0,1,       0753
33AT20120419,        A20,      33,          1,         26,         26,2,20120428,       0546,    16.7378,   -52.3344,       5450,   436.8,  12.2763,  35.6047,2,  35.6054,2,    124.4,2,   124.4,2,    8.15,2,   21.21,2,    0.00,2,    1.27,2,   1.599,2,   0.863,2,   0.016,2,    0.21,3,  2188.3,2,  2339.1,2,   7.7188,2,    25.00,-999.000,9,-999.0000,9, -999.00,9,  12.2750,2, -999.00,9,  -999.0,9,  -999.0,-999.000,9,-999.000,   0.130,2, -999.00,9, -999.00,9, -999.00,9,  16.7371, -52.3347,-999.000,-999.0000, -999.00,  12.2175,  12.2750,2,    35.7733,2,  -999.0,9,     -999.0,9,     -999.0,9,     -999.0,9,       0751
33AT20120419,        A20,      33,          1,         25,         25,2,20120428,       0546,    16.7378,   -52.3344,       5450,   537.9,  10.1213,  35.2879,2,  35.2875,2,    122.2,2,   119.4,2,   12.89,2,   25.88,2,    0.00,2,    1.60,2,   0.991,2,   0.525,2,   0.009,2,    0.16,3,  2201.9,2,  2325.6,2,   7.6577,2,    25.00,-999.000,9,-999.0000,9, -999.00,9,  10.1158,2, -999.00,9,  -999.0,9,  -999.0,-999.000,9,-999.000,   0.130,2, -999.00,9, -999.00,9, -999.00,9,  16.7372, -52.3347,-999.000,-999.0000, -999.00,  10.0571,  10.1158,2,    35.4539,2,  -999.0,9,     -999.0,9,     -999.0,9,     -999.0,9,       0748
33AT20120419,        A20,      33,          1,         24,         24,2,20120428,       0546,    16.7378,   -52.3344,       5450,   639.3,   7.9951,  34.9825,2,  34.9821,2,    121.5,2,   120.8,2,   18.36,2,   29.88,2,    0.00,2,    1.91,2,   0.519,2,   0.283,2,   0.007,2,    0.13,3,  2210.7,2,  2313.8,2,   7.6064,2,    25.00,-999.000,9,-999.0000,9, -999.00,9,   7.9918,2, -999.00,9,  -999.0,9,  -999.0,-999.000,9,-999.000,   0.140,2, -999.00,9, -999.00,9, -999.00,9,  16.7375, -52.3347,-999.000,-999.0000, -999.00,   7.9286,   7.9918,2,    35.1470,2,  -999.0,9,     -999.0,9,     -999.0,9,     -999.0,9,       0745
33AT20120419,        A20,      33,          1,         23,         23,2,20120428,       0546,    16.7378,   -52.3344,       5450,   740.2,   6.5851,  34.8136,2,  34.8117,2,    127.3,2,   126.4,2,   22.71,2,   31.99,2,    0.00,2,    2.10,2,   0.240,2,   0.145,2,   0.004,2,    0.00,3,  2216.9,2,  2311.0,2,   7.5784,2,    25.00,-999.000,9,-999.0000,9, -999.00,9,   6.5746,2, -999.00,9,  -999.0,9,  -999.0,-999.000,9,-999.000,   0.110,2, -999.00,9, -999.00,9, -999.00,9,  16.7377, -52.3347,-999.000,-999.0000, -999.00,   6.5156,   6.5746,2,    34.9759,2,  -999.0,9,     -999.0,9,     -999.0,9,     -999.0,9,       0743
33AT20120419,        A20,      33,          1,         22,         22,2,20120428,       0546,    16.7378,   -52.3344,       5450,   840.1,   6.0011,  34.7753,2,  34.7745,2,    134.1,2,   132.2,2,   24.53,2,   32.23,2,    0.00,2,    2.14,2,   0.140,2,   0.089,2,   0.002,2,    0.00,3,  2217.7,6,  2311.0,2,   7.5760,2,    25.00,-999.000,9,-999.0000,9, -999.00,9,   6.0036,2, -999.00,9,  -999.0,9,  -999.0,-999.000,9,-999.000,   0.090,2, -999.00,9, -999.00,9, -999.00,9,  16.7379, -52.3347,-999.000,-999.0000, -999.00,   5.9253,   6.0036,2,    34.9385,2,  -999.0,9,     -999.0,9,     -999.0,9,     -999.0,9,       0740
33AT20120419,        A20,      33,          1,         21,         21,2,20120428,       0546,    16.7378,   -52.3344,       5450,   941.9,   5.6213,  34.8053,2,  34.8066,2,    144.3,2,   144.0,2,   24.63,2,   31.04,2,    0.00,2,    2.07,2,   0.098,2,   0.060,2,   0.002,2,    0.00,3,  2214.7,2,  2313.9,2,   7.5911,2,    25.00,-999.000,9,-999.0000,9, -999.00,9,   5.6199,2, -999.00,9,  -999.0,9,  -999.0,-999.000,9,-999.000,   0.080,2, -999.00,9, -999.00,9, -999.00,9,  16.7381, -52.3348,-999.000,-999.0000, -999.00,   5.5383,   5.6199,2,    34.9707,2,  -999.0,9,     -999.0,9,     -999.0,9,     -999.0,9,       0737
33AT20120419,        A20,      33,          1,         20,         20,2,20120428,       0546,    16.7378,   -52.3344,       5450,  1042.1,   5.4685,  34.8633,2,  34.8632,2,    156.2,2,   158.4,2,   23.41,2,   29.15,2,    0.00,2,    1.95,2,   0.117,2,   0.071,2,   0.003,2,    0.11,3,  2207.7,2,  2315.0,2,   7.6159,6,    25.00,-999.000,9,-999.0000,9, -999.00,9,   5.4692,2, -999.00,9,  -999.0,9,  -999.0,-999.000,9,-999.000,   0.100,2, -999.00,9, -999.00,9, -999.00,9,  16.7383, -52.3348,-999.000,-999.0000, -999.00,   5.3771,   5.4692,2,    35.0276,2,  -999.0,9,     -999.0,9,     -999.0,9,     -999.0,9,       0734
33AT20120419,        A20,      33,          1,         19,         19,2,20120428,       0546,    16.7378,   -52.3344,       5450,  1143.9,   5.3364,  34.9269,2,  34.9289,2,    173.6,2,   174.8,2,   21.39,2,   26.65,2,    0.00,2,    1.79,2,   0.176,2,   0.102,2,   0.005,2,    0.00,3,  -999.0,9,  -999.0,9,-999.0000,9,  -999.00,-999.000,9,-999.0000,9, -999.00,9,   5.3347,2, -999.00,9,  -999.0,9,  -999.0,-999.000,9,-999.000,   0.150,2, -999.00,9, -999.00,9, -999.00,9,  16.7384, -52.3348,-999.000,-999.0000, -999.00,   5.2362,   5.3347,2,    35.0936,2,  -999.0,9,     -999.0,9,     -999.0,9,     -999.0,9,       0731
33AT20120419,        A20,      33,          1,         18,         18,2,20120428,       0546,    16.7378,   -52.3344,       5450,  1244.6,   5.1927,  34.9788,2,  34.9794,2,    194.2,2,   195.6,2,   19.00,2,   23.92,2,    0.00,2,    1.60,2,   0.359,2,   0.207,2,   0.013,2,    0.00,3,  2187.6,2,  2319.2,2,   7.6769,6,    25.00,-999.000,9,-999.0000,9, -999.00,9,   5.1911,2, -999.00,9,  -999.0,9,  -999.0,-999.000,9,-999.000,   0.270,2, -999.00,9, -999.00,9, -999.00,9,  16.7385, -52.3348,-999.000,-999.0000, -999.00,   5.0841,   5.1911,2,    35.1444,2,  -999.0,9,     -999.0,9,     -999.0,9,     -999.0,9,       0727
33AT20120419,        A20,      33,          1,         17,         17,2,20120428,       0546,    16.7378,   -52.3344,       5450,  1346.1,   4.9438,  34.9945,2,  34.9942,2,    206.4,2,   206.7,2,   18.17,2,   22.76,2,    0.00,2,    1.51,2,   0.332,2,   0.191,2,   0.012,2,    0.00,3,  -999.0,9,  -999.0,9,-999.0000,9,  -999.00,-999.000,9,-999.0000,9, -999.00,9,   4.9446,2, -999.00,9,  -999.0,9,  -999.0,-999.000,9,-999.000,   0.410,2, -999.00,9, -999.00,9, -999.00,9,  16.7384, -52.3348,-999.000,-999.0000, -999.00,   4.8278,   4.9446,2,    35.1592,2,  -999.0,9,     -999.0,9,     -999.0,9,     -999.0,9,       0724
33AT20120419,        A20,      33,          1,         16,         16,2,20120428,       0546,    16.7378,   -52.3344,       5450,  1477.1,   4.6661,  35.0124,2,  35.0127,2,    229.9,2,   229.1,2,   15.64,2,   20.39,2,    0.00,2,    1.35,2,   0.633,2,   0.350,2,   0.025,2,    0.11,3,  -999.0,9,  -999.0,9,-999.0000,9,  -999.00,-999.000,9,-999.0000,9, -999.00,9,   4.6664,2, -999.00,9,  -999.0,9,  -999.0,-999.000,9,-999.000,   0.520,2, -999.00,9, -999.00,9, -999.00,9,  16.7384, -52.3348,-999.000,-999.0000, -999.00,   4.5405,   4.6664,2,    35.1778,2,  -999.0,9,     -999.0,9,     -999.0,9,     -999.0,9,       0720
33AT20120419,        A20,      33,          1,         15,         15,2,20120428,       0546,    16.7378,   -52.3344,       5450,  1681.7,   4.1779,  34.9978,2,  34.9991,2,    245.2,2,   245.1,2,   15.36,2,   19.23,2,    0.00,2,    1.28,2,   0.639,2,   0.352,2,   0.030,2,    0.21,3,  2165.4,2,  2316.0,2,   7.7287,6,    25.00,-999.000,9,-999.0000,9, -999.00,9,   4.1769,2, -999.00,9,  -999.0,9,  -999.0,-999.000,9,-999.000,   0.590,2, -999.00,9, -999.00,9, -999.00,9,  16.7386, -52.3348,-999.000,-999.0000, -999.00,   4.0386,   4.1769,2,    35.1641,2,  -999.0,9,     -999.0,9,     -999.0,9,     -999.0,9,       0715
33AT20120419,        A20,      33,          1,         14,         14,2,20120428,       0546,    16.7378,   -52.3344,       5450,  1883.2,   3.7771,  34.9870,2,  34.9873,2,    250.8,2,   250.8,2,   17.52,2,   19.05,2,    0.00,2,    1.28,2,   0.348,2,   0.198,2,   0.013,2,    0.00,3,  2163.6,2,  2319.1,2,   7.7371,2,    25.00,-999.000,9,-999.0000,9, -999.00,9,   3.7758,2, -999.00,9,  -999.0,9,  -999.0,-999.000,9,-999.000,   0.420,2, -999.00,9, -999.00,9, -999.00,9,  16.7387, -52.3349,-999.000,-999.0000, -999.00,   3.6240,   3.7758,2,    35.1523,2,  -999.0,9,     -999.0,9,     -999.0,9,     -999.0,9,       0710
33AT20120419,        A20,      33,          1,         13,         13,2,20120428,       0546,    16.7378,   -52.3344,       5450,  2106.6,   3.4411,  34.9743,2,  34.9753,2,    253.4,2,   254.3,2,   20.24,2,   19.03,2,    0.00,2,    1.29,2,   0.251,2,   0.146,2,   0.008,2,    0.00,3,  2166.1,2,  2321.6,2,   7.7414,2,    25.00,-999.000,9,-999.0000,9, -999.00,9,   3.4400,2, -999.00,9,  -999.0,9,  -999.0,-999.000,9,-999.000,   0.310,2, -999.00,9, -999.00,9, -999.00,9,  16.7386, -52.3348,-999.000,-999.0000, -999.00,   3.2717,   3.4400,2,    35.1402,2,  -999.0,9,     -999.0,9,     -999.0,9,     -999.0,9,       0705
33AT20120419,        A20,      33,          1,         12,         12,2,20120428,       0546,    16.7378,   -52.3344,       5450,  2360.4,   3.1187,  34.9556,2,  34.9558,2,    254.8,2,   254.9,2,   23.39,2,   19.15,2,    0.00,2,    1.30,2,   0.186,2,   0.109,2,   0.008,2,    0.00,3,  2166.8,2,  2326.5,2,   7.7425,2,    25.00,-999.000,9,-999.0000,9, -999.00,9,   3.1188,2, -999.00,9,  -999.0,9,  -999.0,-999.000,9,-999.000,   0.250,2, -999.00,9, -999.00,9, -999.00,9,  16.7385, -52.3348,-999.000,-999.0000, -999.00,   2.9302,   3.1188,2,    35.1206,2,  -999.0,9,     -999.0,9,     -999.0,9,     -999.0,9,       0659
33AT20120419,        A20,      33,          1,         11,         11,2,20120428,       0546,    16.7378,   -52.3344,       5450,  2613.9,   2.9015,  34.9404,2,  34.9406,2,    253.9,2,   254.3,2,   27.45,2,   19.57,2,    0.00,2,    1.33,2,   0.151,2,   0.092,2,   0.007,2,    0.00,3,  -999.0,9,  -999.0,9,-999.0000,9,  -999.00,-999.000,9,-999.0000,9, -999.00,9,   2.9014,2, -999.00,9,  -999.0,9,  -999.0,-999.000,9,-999.000,   0.220,2, -999.00,9, -999.00,9, -999.00,9,  16.7384, -52.3347,-999.000,-999.0000, -999.00,   2.6921,   2.9014,2,    35.1054,2,  -999.0,9,     -999.0,9,     -999.0,9,     -999.0,1,       0653
33AT20120419,        A20,      33,          1,         10,         10,2,20120428,       0546,    16.7378,   -52.3344,       5450,  2869.3,   2.7472,  34.9291,2,  34.9298,2,    254.7,2,   254.5,2,   29.75,2,   19.69,2,    0.00,2,    1.34,2,   0.173,2,   0.103,2,   0.007,2,    0.00,3,  2173.5,2,  2330.7,2,   7.7392,6,    25.00,-999.000,9,-999.0000,9, -999.00,9,   2.7468,2, -999.00,9,  -999.0,9,  -999.0,-999.000,9,-999.000,   0.230,2, -999.00,9, -999.00,9, -999.00,9,  16.7382, -52.3347,-999.000,-999.0000, -999.00,   2.5153,   2.7468,2,    35.0945,2,  -999.0,9,     -999.0,9,     -999.0,9,     -999.0,9,       0647
33AT20120419,        A20,      33,          1,          9,          9,2,20120428,       0546,    16.7378,   -52.3344,       5450,  3139.0,   2.6310,  34.9201,2,  34.9198,2,    254.1,2,   254.2,2,   32.40,2,   19.97,2,    0.00,2,    1.36,2,   0.168,2,   0.100,2,   0.007,2,    0.00,3,  2175.6,2,  2332.3,2,   7.7379,2,    25.00,-999.000,9,-999.0000,9, -999.00,9,   2.6315,2, -999.00,9,  -999.0,9,  -999.0,-999.000,9,-999.000,   0.220,2, -999.00,9, -999.00,9, -999.00,9,  16.7374, -52.3344,-999.000,-999.0000, -999.00,   2.3739,   2.6315,2,    35.0844,2,  -999.0,9,     -999.0,9,     -999.0,9,     -999.0,9,       0640
33AT20120419,        A20,      33,          1,          8,          8,2,20120428,       0546,    16.7378,   -52.3344,       5450,  3444.9,   2.5112,  34.9086,2,  34.9078,2,    253.7,2,   254.3,2,   35.78,2,   20.32,2,    0.00,2,    1.39,2,   0.157,2,   0.096,2,   0.008,2,    0.00,3,  2181.1,2,  2334.4,2,   7.7352,2,    25.00,-999.000,9,-999.0000,9, -999.00,9,   2.5117,2, -999.00,9,  -999.0,9,  -999.0,-999.000,9,-999.000,   0.230,2, -999.00,9, -999.00,9, -999.00,9,  16.7372, -52.3342,-999.000,-999.0000, -999.00,   2.2244,   2.5117,2,    35.0724,2,  -999.0,9,     -999.0,9,     -999.0,9,     -999.0,9,       0633
33AT20120419,        A20,      33,          1,          7,          7,2,20120428,       0546,    16.7378,   -52.3344,       5450,  3752.0,   2.3798,  34.8974,2,  34.8975,2,    255.6,2,   256.7,2,   36.99,2,   20.25,2,    0.00,2,    1.39,2,   0.191,2,   0.114,2,   0.012,2,    0.00,3,  -999.0,9,  -999.0,9,-999.0000,9,  -999.00,-999.000,9,-999.0000,9, -999.00,9,   2.3799,2, -999.00,9,  -999.0,9,  -999.0,-999.000,9,-999.000,   0.260,2, -999.00,9, -999.00,9, -999.00,9,  16.7375, -52.3343,-999.000,-999.0000, -999.00,   2.0628,   2.3799,2,    35.0621,2,  -999.0,9,     -999.0,9,     -999.0,9,     -999.0,9,       0626