BOTTLE,20220712CCHSIOCBG
EXPOCODE,SECT_ID,STNNBR,CASTNO,SAMPNO,BTLNBR,BTLNBR_FLAG_W,DATE,TIME,LATITUDE,LONGITUDE,DEPTH,CTDPRS,CTDTMP,CTDSAL,CTDSAL_FLAG_W,SALNTY,SALNTY_FLAG_W,CTDOXY,CTDOXY_FLAG_W,OXYGEN,OXYGEN_FLAG_W,SILCAT,SILCAT_FLAG_W,NITRAT,NITRAT_FLAG_W,NITRIT,NITRIT_FLAG_W,PHSPHT,PHSPHT_FLAG_W,CFC-11,CFC-11_FLAG_W,CFC-12,CFC-12_FLAG_W,CFC113,CFC113_FLAG_W,SF6,SF6_FLAG_W,TCARBN,TCARBN_FLAG_W,ALKALI,ALKALI_FLAG_W,PH_TOT,PH_TOT_FLAG_W,PH_TMP,TRITUM,TRITUM_FLAG_W,HELIUM,HELIUM_FLAG_W,DELHE3,DELHE3_FLAG_W,REFTMP,REFTMP_FLAG_W,DELC13,DELC13_FLAG_W,DELC14,DELC14_FLAG_W,C14ERR,NEON,NEON_FLAG_W,NEONER,CCL4,CCL4_FLAG_W,DELO18,DELO18_FLAG_W,DOC,DOC_FLAG_W,TDN,TDN_FLAG_W,BTL_LAT,BTL_LON,TRITER,HELIER,DELHER,THETA,SBE35,SBE35_FLAG_W,SALTREF,SALTREF_FLAG_W,14C-DOC,14C-DOC_FLAG_W,DELO17,DELO17_FLAG_W,O2/AR,O2/AR_FLAG_W,SIP,SIP_FLAG_W,BTL_TIME
,,,,,,,,,,,METERS,DBAR,ITS-90,PSS-78,,PSS-78,,UMOL/KG,,UMOL/KG,,UMOL/KG,,UMOL/KG,,UMOL/KG,,UMOL/KG,,PMOL/KG,,PMOL/KG,,PMOL/KG,,FMOL/KG,,UMOL/KG,,UMOL/KG,,,,DEG C,TU,,NMOL/KG,,PERCNT,,DEG C,,/MILLE,,/MILLE,,/MILLE,NMOL/KG,,NMOL/KG,PMOL/KG,,/MILLE,,UMOL/KG,,UMOL/KG,,,,TU,NMOL/KG,PERCNT,DEG C,ITS-90,,G/KG,,/MILLE,,/MILLE,,,,,,
33AT20120419,        A20,      14,          1,         36,         36,2,20120422,       2344,     8.4340,   -52.7781,       3221,     3.2,  28.1981,  26.0098,2,  26.0100,2,    224.8,2,   225.5,2,   15.90,2,    0.00,2,    0.01,2,    0.01,2,   1.686,2,   1.042,2,   0.153,2,    1.11,2,  1484.2,6,  1803.6,2,   8.2902,2,    25.00,-999.000,9,-999.0000,9, -999.00,9,  28.1973,2, -999.00,9,  -999.0,9,  -999.0,-999.000,9,-999.000,-999.000,9, -999.00,9, -999.00,9, -999.00,9,   8.4304, -52.7817,-999.000,-999.0000, -999.00,  28.1974,  28.1973,2,    26.1327,2,  -999.0,9,     -999.0,9,     -999.0,9,     -999.0,9,       0126
33AT20120419,        A20,      14,          1,         35,         35,2,20120422,       2344,     8.4340,   -52.7781,       3221,    25.2,  27.3490,  35.7126,2,  35.7166,2,    196.3,2,   198.0,2,    1.12,2,    0.00,2,    0.00,2,    0.05,2,   1.600,2,   1.013,2,   0.135,2,    0.92,2,  2010.6,2,  2344.1,2,   8.0830,2,    25.00,-999.000,9,-999.0000,9, -999.00,9,  27.3473,2, -999.00,9,  -999.0,9,  -999.0,-999.000,9,-999.000,-999.000,9, -999.00,9, -999.00,9, -999.00,9,   8.4305, -52.7816,-999.000,-999.0000, -999.00,  27.3432,  27.3473,2,    35.8850,2,  -999.0,9,     -999.0,9,     -999.0,9,     -999.0,9,       0124
33AT20120419,        A20,      14,          1,         34,         34,2,20120422,       2344,     8.4340,   -52.7781,       3221,    51.0,  27.0701,  36.1605,2,  36.1623,2,    185.3,2,   186.4,2,    1.08,2,    0.30,2,    0.53,2,    0.14,2,   1.625,2,   1.001,2,   0.128,2,    1.03,2,  2050.4,2,  2368.5,6,   8.0506,2,    25.00,-999.000,9,-999.0000,9, -999.00,9,  27.0605,2, -999.00,9,  -999.0,9,  -999.0,-999.000,9,-999.000,-999.000,9, -999.00,9, -999.00,9, -999.00,9,   8.4306, -52.7815,-999.000,-999.0000, -999.00,  27.0583,  27.0605,2,    36.3328,2,  -999.0,9,     -999.0,9,     -999.0,9,     -999.0,9,       0122
33AT20120419,        A20,      14,          1,         33,         33,2,20120422,       2344,     8.4340,   -52.7781,       3221,    76.2,  26.2559,  36.1951,2,  36.2090,2,    182.8,2,   184.1,2,    1.39,2,    1.23,2,    0.23,2,    0.17,2,   1.674,2,   1.066,2,   0.127,2,    1.01,2,  2059.2,2,  2372.2,2,   8.0399,2,    25.00,-999.000,9,-999.0000,9, -999.00,9,  26.2669,2, -999.00,9,  -999.0,9,  -999.0,-999.000,9,-999.000,-999.000,9, -999.00,9, -999.00,9, -999.00,9,   8.4307, -52.7814,-999.000,-999.0000, -999.00,  26.2387,  26.2669,2,    36.3797,2,  -999.0,9,     -999.0,9,     -999.0,9,     -999.0,9,       0120
33AT20120419,        A20,      14,          1,         32,         32,2,20120422,       2344,     8.4340,   -52.7781,       3221,   100.3,  23.7312,  36.2369,2,-999.0000,9,    177.5,2,   172.5,2, -999.00,9, -999.00,9, -999.00,9, -999.00,9,   1.836,2,   1.106,2,   0.100,2,    0.92,2,  2094.1,2,  2374.7,2,   7.9845,6,    25.00,-999.000,9,-999.0000,9, -999.00,9,  23.7306,2, -999.00,9,  -999.0,9,  -999.0,-999.000,9,-999.000,-999.000,9, -999.00,9, -999.00,9, -999.00,9,   8.4309, -52.7813,-999.000,-999.0000, -999.00,  23.7102,  23.7306,2,     -999.0,9,  -999.0,9,     -999.0,9,     -999.0,9,     -999.0,9,       0118
33AT20120419,        A20,      14,          1,         31,         31,2,20120422,       2344,     8.4340,   -52.7781,       3221,   125.6,  18.5818,  36.1043,2,  36.1047,2,    151.3,2,   149.9,2,    4.34,2,   10.33,2,    0.03,2,    0.72,2,   2.090,2,   1.243,2,   0.055,2,    0.75,2,  -999.0,9,  -999.0,9,-999.0000,9,  -999.00,-999.000,9,-999.0000,9, -999.00,9,  18.5800,2, -999.00,9,  -999.0,9,  -999.0,-999.000,9,-999.000,-999.000,9, -999.00,9, -999.00,9, -999.00,9,   8.4310, -52.7812,-999.000,-999.0000, -999.00,  18.5596,  18.5800,2,    36.2749,2,  -999.0,9,     -999.0,9,     -999.0,9,     -999.0,9,       0115
33AT20120419,        A20,      14,          1,         30,         30,2,20120422,       2344,     8.4340,   -52.7781,       3221,   151.1,  14.8087,  35.7010,2,  35.6972,2,    136.5,2,   100.1,2,    7.36,2,   20.64,2,    0.01,2,    1.29,2,   2.052,2,   1.174,2,   0.024,2,    0.60,2,  2198.7,2,  2340.0,2,   7.7043,2,    25.00,-999.000,9,-999.0000,9, -999.00,9,  14.8065,2, -999.00,9,  -999.0,9,  -999.0,-999.000,9,-999.000,-999.000,9, -999.00,9, -999.00,9, -999.00,9,   8.4310, -52.7811,-999.000,-999.0000, -999.00,  14.7859,  14.8065,2,    35.8656,2,  -999.0,9,     -999.0,9,     -999.0,9,     -999.0,9,       0114
33AT20120419,        A20,      14,          1,         29,         29,2,20120422,       2344,     8.4340,   -52.7781,       3221,   175.6,  13.5488,  35.5078,2,  35.5135,2,    114.2,2,   129.4,2,    7.98,2,   19.26,2,    0.01,2,    1.25,2,   2.163,2,   1.206,2,   0.020,2,    0.58,2,  -999.0,9,  -999.0,9,-999.0000,9,  -999.00,-999.000,9,-999.0000,9, -999.00,9,  13.5431,2, -999.00,9,  -999.0,9,  -999.0,-999.000,9,-999.000,-999.000,9, -999.00,9, -999.00,9, -999.00,9,   8.4311, -52.7810,-999.000,-999.0000, -999.00,  13.5239,  13.5431,2,    35.6810,2,  -999.0,9,     -999.0,9,     -999.0,9,     -999.0,9,       0112
33AT20120419,        A20,      14,          1,         28,         28,2,20120422,       2344,     8.4340,   -52.7781,       3221,   200.5,  12.5824,  35.3830,2,  35.3843,2,    130.9,2,   101.2,2,    9.27,2,   23.78,2,    0.01,2,    1.51,2,   1.921,2,   1.033,2,   0.017,2,    0.44,2,  2201.3,2,  2325.9,2,-999.0000,5,    25.00,-999.000,9,-999.0000,9, -999.00,9,  12.5781,2, -999.00,9,  -999.0,9,  -999.0,-999.000,9,-999.000,-999.000,9, -999.00,9, -999.00,9, -999.00,9,   8.4312, -52.7810,-999.000,-999.0000, -999.00,  12.5553,  12.5781,2,    35.5512,2,  -999.0,9,     -999.0,9,     -999.0,9,     -999.0,9,       0110
33AT20120419,        A20,      14,          1,         27,         27,2,20120422,       2344,     8.4340,   -52.7781,       3221,   225.8,  11.7615,  35.2580,2,  35.2570,2,     95.0,2,    94.2,2,   10.35,2,   25.91,2,    0.01,2,    1.63,2,   1.785,2,   0.947,2,   0.016,2,    0.41,2,  -999.0,9,  -999.0,9,-999.0000,9,  -999.00,-999.000,9,-999.0000,9, -999.00,9,  11.7627,2, -999.00,9,  -999.0,9,  -999.0,-999.000,9,-999.000,-999.000,9, -999.00,9, -999.00,9, -999.00,9,   8.4313, -52.7809,-999.000,-999.0000, -999.00,  11.7323,  11.7627,2,    35.4233,2,  -999.0,9,     -999.0,9,     -999.0,9,     -999.0,9,       0108
33AT20120419,        A20,      14,          1,         26,         26,2,20120422,       2344,     8.4340,   -52.7781,       3221,   250.9,  11.2923,  35.1878,2,  35.1885,2,     95.6,2,    94.3,2,   10.93,2,   26.76,2,    0.01,2,    1.69,2,   1.711,2,   0.924,2,   0.017,2,    0.41,2,  2209.3,2,  2315.2,2,   7.6152,2,    25.00,-999.000,9,-999.0000,9, -999.00,9,  11.2910,2, -999.00,9,  -999.0,9,  -999.0,-999.000,9,-999.000,-999.000,9, -999.00,9, -999.00,9, -999.00,9,   8.4313, -52.7808,-999.000,-999.0000, -999.00,  11.2607,  11.2910,2,    35.3544,2,  -999.0,9,     -999.0,9,     -999.0,9,     -999.0,9,       0106
33AT20120419,        A20,      14,          1,         25,         25,2,20120422,       2344,     8.4340,   -52.7781,       3221,   301.5,  10.2704,  35.0416,2,  35.0386,2,     97.1,2,    99.0,2,   12.81,2,   28.38,2,    0.00,2,    1.80,2,   1.516,2,   0.783,2,   0.019,2,    0.28,2,  -999.0,9,  -999.0,9,-999.0000,9,  -999.00,-999.000,9,-999.0000,9, -999.00,9,  10.2698,2, -999.00,9,  -999.0,9,  -999.0,-999.000,9,-999.000,-999.000,9, -999.00,9, -999.00,9, -999.00,9,   8.4314, -52.7808,-999.000,-999.0000, -999.00,  10.2346,  10.2698,2,    35.2039,2,  -999.0,9,     -999.0,9,     -999.0,9,     -999.0,9,       0104
33AT20120419,        A20,      14,          1,         24,         24,2,20120422,       2344,     8.4340,   -52.7781,       3221,   351.7,   9.6372,  34.9754,2,  34.9623,2,    102.6,2,    98.9,2,   14.40,2,   29.95,2,    0.00,2,    1.89,2,   1.318,2,   0.682,2,   0.022,2,    0.22,2,  2214.6,2,  2306.5,2,   7.5790,2,    25.00,-999.000,9,-999.0000,9, -999.00,9,   9.6343,2, -999.00,9,  -999.0,9,  -999.0,-999.000,9,-999.000,-999.000,9, -999.00,9, -999.00,9, -999.00,9,   8.4314, -52.7807,-999.000,-999.0000, -999.00,   9.5970,   9.6343,2,    35.1272,2,  -999.0,9,     -999.0,9,     -999.0,9,     -999.0,9,       0103
33AT20120419,        A20,      14,          1,         23,         23,2,20120422,       2344,     8.4340,   -52.7781,       3221,   401.4,   8.8731,  34.8686,2,  34.8665,2,    113.7,2,   114.8,2,   15.63,2,   29.67,2,    0.00,2,    1.90,2,   1.351,2,   0.691,2,   0.020,2,    0.17,2,  -999.0,9,  -999.0,9,-999.0000,9,  -999.00,-999.000,9,-999.0000,9, -999.00,9,   8.8737,2, -999.00,9,  -999.0,9,  -999.0,-999.000,9,-999.000,-999.000,9, -999.00,9, -999.00,9, -999.00,9,   8.4316, -52.7806,-999.000,-999.0000, -999.00,   8.8294,   8.8737,2,    35.0309,2,  -999.0,9,     -999.0,9,     -999.0,9,     -999.0,9,       0101
33AT20120419,        A20,      14,          1,         22,         22,2,20120422,       2344,     8.4340,   -52.7781,       3221,   452.4,   8.3950,  34.8190,2,  34.8175,2,    115.6,2,   105.5,2,   17.15,2,   31.74,2,    0.00,2,    2.02,2,   1.051,2,   0.529,2,   0.020,2,    0.23,2,  2216.0,2,  2302.2,2,   7.5594,2,    25.00,-999.000,9,-999.0000,9, -999.00,9,   8.3947,2, -999.00,9,  -999.0,9,  -999.0,-999.000,9,-999.000,-999.000,9, -999.00,9, -999.00,9, -999.00,9,   8.4316, -52.7805,-999.000,-999.0000, -999.00,   8.3472,   8.3947,2,    34.9817,2,  -999.0,9,     -999.0,9,     -999.0,9,     -999.0,9,       0059
33AT20120419,        A20,      14,          1,         21,         21,2,20120422,       2344,     8.4340,   -52.7781,       3221,   502.0,   8.2169,  34.8332,2,  34.8220,2,    102.4,2,   105.0,2,   18.04,2,   32.36,2,    0.00,2,    2.06,2,   0.917,2,   0.459,2,   0.019,2,    0.22,2,  2219.6,2,  2304.1,2,   7.5539,2,    25.00,-999.000,9,-999.0000,9, -999.00,9,   8.2187,2, -999.00,9,  -999.0,9,  -999.0,-999.000,9,-999.000,-999.000,9, -999.00,9, -999.00,9, -999.00,9,   8.4317, -52.7804,-999.000,-999.0000, -999.00,   8.1644,   8.2187,2,    34.9863,2,  -999.0,9,     -999.0,9,     -999.0,9,     -999.0,9,       0057
33AT20120419,        A20,      14,          1,         20,         20,2,20120422,       2344,     8.4340,   -52.7781,       3221,   603.0,   6.7891,  34.6322,2,  34.6654,2,    130.6,2,   127.1,2,   21.06,2,   32.48,2,    0.00,2,    2.13,2,   0.925,2,   0.453,2,   0.021,2,    0.15,2,  -999.0,9,  -999.0,9,-999.0000,9,  -999.00,-999.000,9,-999.0000,9, -999.00,9,   6.8024,2, -999.00,9,  -999.0,9,  -999.0,-999.000,9,-999.000,-999.000,9, -999.00,9, -999.00,9, -999.00,9,   8.4318, -52.7803,-999.000,-999.0000, -999.00,   6.7322,   6.8024,2,    34.8289,2,  -999.0,9,     -999.0,9,     -999.0,9,     -999.0,9,       0054
33AT20120419,        A20,      14,          1,         19,         19,2,20120422,       2344,     8.4340,   -52.7781,       3221,   704.5,   6.1844,  34.6131,2,  34.6072,2,    128.7,2,   132.6,2,   24.23,2,   33.43,2,    0.00,2,    2.22,2,   0.642,2,   0.295,2,   0.027,2,    0.12,2,  2217.6,2,  2300.4,2,   7.5539,6,    25.00,-999.000,9,-999.0000,9, -999.00,9,   6.1727,2, -999.00,9,  -999.0,9,  -999.0,-999.000,9,-999.000,-999.000,9, -999.00,9, -999.00,9, -999.00,9,   8.4319, -52.7802,-999.000,-999.0000, -999.00,   6.1207,   6.1727,2,    34.7704,2,  -999.0,9,     -999.0,9,     -999.0,9,     -999.0,9,       0051
33AT20120419,        A20,      14,          1,         18,         18,2,20120422,       2344,     8.4340,   -52.7781,       3221,   805.2,   5.5679,  34.6136,2,  34.6125,2,    133.0,2,   132.9,2,   26.78,2,   34.04,2,    0.00,2,    2.26,2,   0.320,2,   0.151,2,   0.008,2,    0.08,2,  2220.7,2,  2302.0,2,   7.5490,2,    25.00,-999.000,9,-999.0000,9, -999.00,9,   5.5749,2, -999.00,9,  -999.0,9,  -999.0,-999.000,9,-999.000,-999.000,9, -999.00,9, -999.00,9, -999.00,9,   8.4321, -52.7801,-999.000,-999.0000, -999.00,   5.4983,   5.5749,2,    34.7758,2,  -999.0,9,     -999.0,9,     -999.0,9,     -999.0,9,       0048
33AT20120419,        A20,      14,          1,         17,         17,2,20120422,       2344,     8.4340,   -52.7781,       3221,   906.5,   5.0858,  34.6309,2,  34.6294,2,    144.0,2,   144.0,2,   28.43,2,   33.30,2,    0.00,2,    2.24,2,   0.211,2,   0.092,2,   0.007,2,    0.05,2,  -999.0,9,  -999.0,9,-999.0000,9,  -999.00,-999.000,9,-999.0000,9, -999.00,9,   5.0854,2, -999.00,9,  -999.0,9,  -999.0,-999.000,9,-999.000,-999.000,9, -999.00,9, -999.00,9, -999.00,9,   8.4322, -52.7800,-999.000,-999.0000, -999.00,   5.0101,   5.0854,2,    34.7927,2,  -999.0,9,     -999.0,9,     -999.0,9,     -999.0,9,       0045
33AT20120419,        A20,      14,          1,         16,         16,2,20120422,       2344,     8.4340,   -52.7781,       3221,  1006.4,   5.1240,  34.7202,2,  34.7197,2,    145.4,2,   144.7,2,   27.38,2,   32.24,2,    0.00,2,    2.17,2,   0.103,2,   0.045,2,   0.005,2,    0.00,2,  2218.6,2,  2308.4,2,   7.5727,2,    25.00,-999.000,9,-999.0000,9, -999.00,9,   5.1266,2, -999.00,9,  -999.0,9,  -999.0,-999.000,9,-999.000,-999.000,9, -999.00,9, -999.00,9, -999.00,9,   8.4323, -52.7798,-999.000,-999.0000, -999.00,   5.0388,   5.1266,2,    34.8834,2,  -999.0,9,     -999.0,9,     -999.0,9,     -999.0,9,       0042
33AT20120419,        A20,      14,          1,         15,         15,2,20120422,       2344,     8.4340,   -52.7781,       3221,  1108.0,   5.1851,  34.8231,2,  34.8237,2,    160.5,2,   161.6,2,   24.77,2,   29.24,2,    0.00,2,    1.96,2,   0.199,2,   0.084,2,   0.008,2,    0.00,2,  2207.6,2,  2312.5,2,   7.6128,2,    25.00,-999.000,9,-999.0000,9, -999.00,9,   5.1853,2, -999.00,9,  -999.0,9,  -999.0,-999.000,9,-999.000,-999.000,9, -999.00,9, -999.00,9, -999.00,9,   8.4324, -52.7797,-999.000,-999.0000, -999.00,   5.0898,   5.1853,2,    34.9879,2,  -999.0,9,     -999.0,9,     -999.0,9,     -999.0,9,       0040
33AT20120419,        A20,      14,          1,         14,         14,2,20120422,       2344,     8.4340,   -52.7781,       3221,  1208.3,   5.2522,  34.9414,2,  34.9417,2,    183.6,2,   188.5,2,   20.55,2,   25.07,2,    0.00,2,    1.67,2,   0.491,2,   0.242,2,   0.016,2,    0.18,2,  -999.0,9,  -999.0,9,-999.0000,9,  -999.00,-999.000,9,-999.0000,9, -999.00,9,   5.2489,2, -999.00,9,  -999.0,9,  -999.0,-999.000,9,-999.000,-999.000,9, -999.00,9, -999.00,9, -999.00,9,   8.4325, -52.7797,-999.000,-999.0000, -999.00,   5.1466,   5.2489,2,    35.1064,2,  -999.0,9,     -999.0,9,     -999.0,9,     -999.0,9,       0037
33AT20120419,        A20,      14,          1,         13,         13,2,20120422,       2344,     8.4340,   -52.7781,       3221,  1309.6,   4.9447,  34.9955,2,  34.9950,2,    210.8,2,   214.8,2,   17.34,2,   21.81,2,    0.00,2,    1.44,2,   0.865,2,   0.419,2,   0.037,2,    0.27,2,  2179.4,2,  2316.2,2,   7.6972,2,    25.00,-999.000,9,-999.0000,9, -999.00,9,   4.9447,2, -999.00,9,  -999.0,9,  -999.0,-999.000,9,-999.000,-999.000,9, -999.00,9, -999.00,9, -999.00,9,   8.4326, -52.7796,-999.000,-999.0000, -999.00,   4.8322,   4.9447,2,    35.1600,2,  -999.0,9,     -999.0,9,     -999.0,9,     -999.0,9,       0034
33AT20120419,        A20,      14,          1,         12,         12,2,20120422,       2344,     8.4340,   -52.7781,       3221,  1411.7,   4.7068,  35.0038,2,  35.0035,2,    227.0,2,   228.2,2,   16.11,2,   20.54,2,    0.00,2,    1.36,2,   0.985,2,   0.484,2,   0.038,2,    0.21,2,  -999.0,9,  -999.0,9,-999.0000,9,  -999.00,-999.000,9,-999.0000,9, -999.00,9,   4.7064,2, -999.00,9,  -999.0,9,  -999.0,-999.000,9,-999.000,-999.000,9, -999.00,9, -999.00,9, -999.00,9,   8.4327, -52.7795,-999.000,-999.0000, -999.00,   4.5870,   4.7064,2,    35.1685,2,  -999.0,9,     -999.0,9,     -999.0,9,     -999.0,9,       0031
33AT20120419,        A20,      14,          1,         11,         11,2,20120422,       2344,     8.4340,   -52.7781,       3221,  1508.1,   4.4357,  35.0006,2,  35.0003,2,    239.1,2,   239.7,2,   15.08,2,   19.52,2,    0.00,2,    1.30,2,   1.148,2,   0.576,2,   0.049,2,    0.22,2,  2168.0,2,  2314.2,2,   7.7249,2,    25.00,-999.000,9,-999.0000,9, -999.00,9,   4.4361,2, -999.00,9,  -999.0,9,  -999.0,-999.000,9,-999.000,-999.000,9, -999.00,9, -999.00,9, -999.00,9,   8.4328, -52.7794,-999.000,-999.0000, -999.00,   4.3097,   4.4361,2,    35.1654,2,  -999.0,9,     -999.0,9,     -999.0,9,     -999.0,9,       0028
33AT20120419,        A20,      14,          1,         10,         10,2,20120422,       2344,     8.4340,   -52.7781,       3221,  1614.9,   4.1962,  34.9945,2,  34.9948,2,    249.3,2,   249.7,2,   14.25,2,   18.69,2,    0.00,2,    1.24,2,   1.258,2,   0.605,2,   0.061,2,    0.23,2,  -999.0,9,  -999.0,9,-999.0000,9,  -999.00,-999.000,9,-999.0000,9, -999.00,9,   4.1969,2, -999.00,9,  -999.0,9,  -999.0,-999.000,9,-999.000,-999.000,9, -999.00,9, -999.00,9, -999.00,9,   8.4329, -52.7792,-999.000,-999.0000, -999.00,   4.0630,   4.1969,2,    35.1598,2,  -999.0,9,     -999.0,9,     -999.0,9,     -999.0,9,       0025
33AT20120419,        A20,      14,          1,          9,          9,2,20120422,       2344,     8.4340,   -52.7781,       3221,  1715.3,   3.9802,  34.9841,2,  34.9852,2,    255.3,2,   255.5,2,   14.36,2,   18.34,2,    0.00,2,    1.21,2,   1.280,2,   0.626,2,   0.056,2,    0.19,2,  2162.2,2,  2311.8,2,   7.7383,2,    25.00,-999.000,9,-999.0000,9, -999.00,9,   3.9795,2, -999.00,9,  -999.0,9,  -999.0,-999.000,9,-999.000,-999.000,9, -999.00,9, -999.00,9, -999.00,9,   8.4330, -52.7792,-999.000,-999.0000, -999.00,   3.8402,   3.9795,2,    35.1502,2,  -999.0,9,     -999.0,9,     -999.0,9,     -999.0,9,       0022
33AT20120419,        A20,      14,          1,          8,          8,2,20120422,       2344,     8.4340,   -52.7781,       3221,  1816.9,   3.7446,  34.9739,2,  34.9752,2,    259.1,2,   259.1,2,   15.11,2,   18.17,2,    0.00,2,    1.21,2,   1.188,2,   0.582,2,   0.061,2,    0.24,2,  2160.1,2,  2312.3,6,   7.7445,2,    25.00,-999.000,9,-999.0000,9, -999.00,9,   3.7447,2, -999.00,9,  -999.0,9,  -999.0,-999.000,9,-999.000,-999.000,9, -999.00,9, -999.00,9, -999.00,9,   8.4331, -52.7791,-999.000,-999.0000, -999.00,   3.5982,   3.7447,2,    35.1401,2,  -999.0,9,     -999.0,9,     -999.0,9,     -999.0,9,       0019
33AT20120419,        A20,      14,          1,          7,          7,2,20120422,       2344,     8.4340,   -52.7781,       3221,  2019.7,   3.5727,  34.9672,2,  34.9693,2,    259.9,2,   260.1,2,   16.28,2,   18.18,2,    0.00,2,    1.21,2,   1.023,2,   0.492,2,   0.045,2,    0.20,2,  -999.0,9,  -999.0,9,-999.0000,9,  -999.00,-999.000,9,-999.0000,9, -999.00,9,   3.5727,2, -999.00,9,  -999.0,9,  -999.0,-999.000,9,-999.000,-999.000,9, -999.00,9, -999.00,9, -999.00,9,   8.4332, -52.7789,-999.000,-999.0000, -999.00,   3.4096,   3.5727,2,    35.1342,2,  -999.0,9,     -999.0,9,     -999.0,9,     -999.0,9,       0014