BOTTLE,20220712CCHSIOCBG
EXPOCODE,SECT_ID,STNNBR,CASTNO,SAMPNO,BTLNBR,BTLNBR_FLAG_W,DATE,TIME,LATITUDE,LONGITUDE,DEPTH,CTDPRS,CTDTMP,CTDSAL,CTDSAL_FLAG_W,SALNTY,SALNTY_FLAG_W,CTDOXY,CTDOXY_FLAG_W,OXYGEN,OXYGEN_FLAG_W,SILCAT,SILCAT_FLAG_W,NITRAT,NITRAT_FLAG_W,NITRIT,NITRIT_FLAG_W,PHSPHT,PHSPHT_FLAG_W,CFC-11,CFC-11_FLAG_W,CFC-12,CFC-12_FLAG_W,CFC113,CFC113_FLAG_W,SF6,SF6_FLAG_W,TCARBN,TCARBN_FLAG_W,ALKALI,ALKALI_FLAG_W,PH_TOT,PH_TOT_FLAG_W,PH_TMP,TRITUM,TRITUM_FLAG_W,HELIUM,HELIUM_FLAG_W,DELHE3,DELHE3_FLAG_W,REFTMP,REFTMP_FLAG_W,DELC13,DELC13_FLAG_W,DELC14,DELC14_FLAG_W,C14ERR,NEON,NEON_FLAG_W,NEONER,CCL4,CCL4_FLAG_W,DELO18,DELO18_FLAG_W,DOC,DOC_FLAG_W,TDN,TDN_FLAG_W,BTL_LAT,BTL_LON,TRITER,HELIER,DELHER,THETA,SBE35,SBE35_FLAG_W,SALTREF,SALTREF_FLAG_W,14C-DOC,14C-DOC_FLAG_W,DELO17,DELO17_FLAG_W,O2/AR,O2/AR_FLAG_W,SIP,SIP_FLAG_W,BTL_TIME
,,,,,,,,,,,METERS,DBAR,ITS-90,PSS-78,,PSS-78,,UMOL/KG,,UMOL/KG,,UMOL/KG,,UMOL/KG,,UMOL/KG,,UMOL/KG,,PMOL/KG,,PMOL/KG,,PMOL/KG,,FMOL/KG,,UMOL/KG,,UMOL/KG,,,,DEG C,TU,,NMOL/KG,,PERCNT,,DEG C,,/MILLE,,/MILLE,,/MILLE,NMOL/KG,,NMOL/KG,PMOL/KG,,/MILLE,,UMOL/KG,,UMOL/KG,,,,TU,NMOL/KG,PERCNT,DEG C,ITS-90,,G/KG,,/MILLE,,/MILLE,,,,,,
33AT20120419,        A20,      44,          1,         36,         36,2,20120501,       2220,    24.4852,   -52.3331,       5277,     3.9,  24.2355,  36.8685,2,  36.8679,2,    210.5,2,   212.1,2,    0.63,2,    0.00,2,    0.00,2,    0.00,2,   1.839,2,   1.144,2,   0.161,2,    1.12,2,  2064.6,6,  2415.5,2,   8.0873,2,    25.00,   0.529,2,   1.7151,2,   -0.86,2,  24.2472,2, -999.00,9,  -999.0,9,  -999.0,   6.840,2,   0.031,-999.000,9, -999.00,1, -999.00,9, -999.00,9,  24.4879, -52.3350,   0.010,   0.0072,    0.15,  24.2347,  24.2472,2,    37.0417,2,  -999.0,9,     -999.0,1,     -999.0,1,     -999.0,9,       0028
33AT20120419,        A20,      44,          1,         35,         35,2,20120501,       2220,    24.4852,   -52.3331,       5277,    24.4,  23.5540,  36.8508,2,  36.8508,2,    214.2,2,   213.5,2,    0.57,2,    0.00,2,    0.00,2,    0.00,2,   1.855,2,   1.170,2,   0.167,2,    1.16,2,  2064.5,2,  2414.2,2,   8.0879,6,    25.00,-999.000,9,-999.0000,9, -999.00,9,  23.5550,2, -999.00,9,  -999.0,9,  -999.0,-999.000,9,-999.000,-999.000,9, -999.00,9, -999.00,9, -999.00,9,  24.4879, -52.3350,-999.000,-999.0000, -999.00,  23.5489,  23.5550,2,    37.0246,2,  -999.0,9,     -999.0,9,     -999.0,9,     -999.0,9,       0026
33AT20120419,        A20,      44,          1,         34,         34,2,20120501,       2220,    24.4852,   -52.3331,       5277,    50.9,  23.4554,  36.9500,2,  36.9415,2,    214.9,2,   214.5,2,    0.60,2,    0.00,2,    0.00,2,    0.00,2,   1.886,2,   1.174,2,   0.171,2,    1.13,2,  2062.4,2,  2418.6,2,   8.0914,6,    25.00,-999.000,9,-999.0000,9, -999.00,9,  23.4496,2, -999.00,9,  -999.0,9,  -999.0,-999.000,9,-999.000,-999.000,9, -999.00,1, -999.00,9, -999.00,9,  24.4879, -52.3350,-999.000,-999.0000, -999.00,  23.4448,  23.4496,2,    37.1157,2,  -999.0,9,     -999.0,1,     -999.0,1,     -999.0,9,       0024
33AT20120419,        A20,      44,          1,         33,         33,2,20120501,       2220,    24.4852,   -52.3331,       5277,    74.8,  22.9885,  36.8544,2,  36.8548,2,    215.6,2,   215.4,2,    0.62,2,    0.00,2,    0.00,2,    0.00,2,   1.926,2,   1.219,2,   0.178,2,    1.20,2,  2062.2,2,  2414.8,6,   8.0889,2,    25.00,   0.530,2,   1.7337,2,   -0.74,2,  22.9885,2, -999.00,9,  -999.0,9,  -999.0,   6.917,2,   0.032,-999.000,9, -999.00,1, -999.00,9, -999.00,9,  24.4878, -52.3350,   0.009,   0.0073,    0.15,  22.9731,  22.9885,2,    37.0285,2,  -999.0,9,     -999.0,1,     -999.0,1,     -999.0,9,       0022
33AT20120419,        A20,      44,          1,         32,         32,2,20120501,       2220,    24.4852,   -52.3331,       5277,   101.0,  22.6289,  36.8907,2,  36.8897,2,    215.4,2,   214.9,2,    0.54,2,    0.00,2,    0.00,2,    0.00,2,   1.926,2,   1.187,2,   0.176,2,    1.15,2,  2070.0,2,  2415.5,2,   8.0835,2,    25.00,-999.000,9,-999.0000,9, -999.00,9,  22.6283,2, -999.00,9,  -999.0,9,  -999.0,-999.000,9,-999.000,-999.000,9, -999.00,1, -999.00,9, -999.00,9,  24.4878, -52.3349,-999.000,-999.0000, -999.00,  22.6084,  22.6283,2,    37.0636,2,  -999.0,9,     -999.0,1,     -999.0,1,     -999.0,9,       0019
33AT20120419,        A20,      44,          1,         31,         31,2,20120501,       2220,    24.4852,   -52.3331,       5277,   153.4,  21.2884,  36.9268,2,  36.9117,2,    211.6,2,   203.2,2,    0.37,2,    0.04,2,    0.03,2,    0.00,2,   2.063,2,   1.279,2,   0.142,2,    1.15,2,  2104.5,2,  2415.5,2,   8.0268,6,    25.00,   0.527,2,   1.7243,2,   -0.68,2,  21.2888,2, -999.00,9,  -999.0,9,  -999.0,   6.893,2,   0.032,-999.000,9, -999.00,1, -999.00,9, -999.00,9,  24.4877, -52.3349,   0.013,   0.0072,    0.15,  21.2585,  21.2888,2,    37.0858,2,  -999.0,9,     -999.0,1,     -999.0,1,     -999.0,9,       0017
33AT20120419,        A20,      44,          1,         30,         30,2,20120501,       2220,    24.4852,   -52.3331,       5277,   205.5,  18.9007,  36.6632,2,  36.6574,2,    189.7,2,   189.1,2,    0.82,2,    2.80,2,    0.02,2,    0.09,2,   2.358,2,   1.480,2,   0.045,2,    1.07,2,  2123.6,2,  2397.8,2,   7.9681,2,    25.00,-999.000,9,-999.0000,9, -999.00,9,  18.8987,2, -999.00,9,  -999.0,9,  -999.0,-999.000,9,-999.000,-999.000,9, -999.00,1, -999.00,9, -999.00,9,  24.4877, -52.3349,-999.000,-999.0000, -999.00,  18.8638,  18.8987,2,    36.8302,2,  -999.0,9,     -999.0,1,     -999.0,1,     -999.0,9,       0014
33AT20120419,        A20,      44,          1,         29,         29,2,20120501,       2220,    24.4852,   -52.3331,       5277,   254.6,  18.1019,  36.5582,2,  36.5564,2,    196.1,2,   196.5,2,    1.15,2,    4.21,2,    0.01,2,    0.19,2,   2.319,2,   1.420,2,   0.040,2,    1.10,2,  2121.2,2,  2395.4,2,   7.9653,6,    25.00,   0.503,2,   1.7395,2,    0.05,2,  18.1020,2, -999.00,9,  -999.0,9,  -999.0,   7.013,2,   0.032,-999.000,9, -999.00,1, -999.00,9, -999.00,9,  24.4876, -52.3348,   0.010,   0.0073,    0.15,  18.0575,  18.1020,2,    36.7288,2,  -999.0,9,     -999.0,1,     -999.0,1,     -999.0,9,       0012
33AT20120419,        A20,      44,          1,         28,         28,2,20120501,       2220,    24.4852,   -52.3331,       5277,   304.1,  17.7444,  36.5125,2,  36.5105,2,    198.4,2,   200.2,2,    1.32,2,    4.64,2,    0.01,2,    0.22,2,   2.380,2,   1.479,2,   0.040,2,    1.11,2,  2118.7,2,  2389.1,2,   7.9624,6,    25.00,-999.000,9,-999.0000,9, -999.00,9,  17.7421,2, -999.00,9,  -999.0,9,  -999.0,-999.000,9,-999.000,-999.000,9, -999.00,9, -999.00,9, -999.00,9,  24.4876, -52.3348,-999.000,-999.0000, -999.00,  17.6920,  17.7421,2,    36.6826,2,  -999.0,9,     -999.0,9,     -999.0,9,     -999.0,9,       0010
33AT20120419,        A20,      44,          1,         27,         27,2,20120501,       2220,    24.4852,   -52.3331,       5277,   353.4,  17.4068,  36.4616,2,  36.4595,2,    200.6,2,   201.6,2,    1.53,2,    5.14,2,    0.01,2,    0.26,2,   2.359,2,   1.428,2,   0.049,2,    1.11,2,  -999.0,9,  -999.0,9,-999.0000,9,  -999.00,   0.520,2,   1.7427,2,    0.42,2,  17.4072,2, -999.00,9,  -999.0,9,  -999.0,   7.108,2,   0.033,-999.000,9, -999.00,1, -999.00,9, -999.00,9,  24.4876, -52.3348,   0.010,   0.0073,    0.15,  17.3467,  17.4072,2,    36.6315,2,  -999.0,9,     -999.0,1,     -999.0,1,     -999.0,9,       0009
33AT20120419,        A20,      44,          1,         26,         26,2,20120501,       2220,    24.4852,   -52.3331,       5277,   403.6,  16.6798,  36.3224,2,  36.3207,2,    195.0,2,   193.9,2,    2.13,2,    6.91,2,    0.01,2,    0.37,2,   2.427,2,   1.469,2,   0.038,2,    1.02,2,  2129.3,2,  2379.0,6,   7.9272,6,    25.00,-999.000,9,-999.0000,9, -999.00,9,  16.6803,2, -999.00,9,  -999.0,9,  -999.0,-999.000,9,-999.000,-999.000,9, -999.00,9, -999.00,9, -999.00,9,  24.4875, -52.3348,-999.000,-999.0000, -999.00,  16.6131,  16.6803,2,    36.4920,2,  -999.0,9,     -999.0,9,     -999.0,9,     -999.0,9,       0007
33AT20120419,        A20,      44,          1,         25,         25,2,20120501,       2220,    24.4852,   -52.3331,       5277,   504.0,  14.4684,  35.9448,2,  35.9407,2,    172.8,2,   173.0,2,    4.26,2,   12.30,2,    0.01,2,    0.72,2,   2.362,2,   1.339,2,   0.037,2,    0.77,2,  2151.7,2,  2357.0,2,   7.8466,2,    25.00,   0.517,6,   1.7784,2,    3.90,2,  14.4697,2, -999.00,9,  -999.0,9,  -999.0,   7.357,2,   0.034,-999.000,9, -999.00,1, -999.00,9, -999.00,9,  24.4875, -52.3347,   0.008,   0.0075,    0.15,  14.3926,  14.4697,2,    36.1102,2,  -999.0,9,     -999.0,1,     -999.0,1,     -999.0,9,       0005
33AT20120419,        A20,      44,          1,         24,         24,2,20120501,       2220,    24.4852,   -52.3331,       5277,   607.8,  12.9445,  35.7159,2,  35.7157,2,    162.3,2,   161.6,2,    6.38,2,   16.00,2,    0.00,2,    0.96,2,   2.112,2,   1.155,2,   0.035,2,    0.65,2,  2164.4,2,  2345.7,2,   7.7954,2,    25.00,-999.000,9,   1.7718,2,    5.74,2,  12.9420,2, -999.00,9,  -999.0,9,  -999.0,   7.386,2,   0.034,-999.000,9, -999.00,1, -999.00,9, -999.00,9,  24.4874, -52.3347,-999.000,   0.0074,    0.15,  12.8593,  12.9420,2,    35.8841,2,  -999.0,9,     -999.0,1,     -999.0,1,     -999.0,9,       0002
33AT20120419,        A20,      44,          1,         23,         23,2,20120501,       2220,    24.4852,   -52.3331,       5277,   707.8,  10.7456,  35.4392,2,  35.4372,2,    152.2,2,   152.0,2,   10.23,2,   20.69,2,    0.00,2,    1.28,2,   1.474,2,   0.758,2,   0.016,2,    0.40,2,  2178.9,2,  2332.8,2,   7.7314,2,    25.00,   0.412,2,   1.7882,2,    8.17,2,  10.7466,2, -999.00,9,  -999.0,9,  -999.0,   7.524,2,   0.035,-999.000,9, -999.00,1, -999.00,9, -999.00,9,  24.4873, -52.3346,   0.009,   0.0075,    0.15,  10.6571,  10.7466,2,    35.6044,2,  -999.0,9,     -999.0,1,     -999.0,1,     -999.0,9,       2359
33AT20120419,        A20,      44,          1,         22,         22,2,20120501,       2220,    24.4852,   -52.3331,       5277,   807.4,   8.8527,  35.2168,2,  35.2129,2,    148.4,2,   149.0,2,   14.35,2,   24.23,2,    0.00,2,    1.54,2,   0.912,2,   0.445,2,   0.020,2,    0.18,2,  2192.6,6,  2326.2,2,   7.6836,6,    25.00,   0.280,2,   1.8049,2,    7.42,2,   8.8512,2, -999.00,9,  -999.0,9,  -999.0,   7.664,2,   0.035,-999.000,9, -999.00,1, -999.00,9, -999.00,9,  24.4872, -52.3346,   0.009,   0.0076,    0.15,   8.7625,   8.8512,2,    35.3790,2,  -999.0,9,     -999.0,1,     -999.0,1,     -999.0,9,       2357
33AT20120419,        A20,      44,          1,         21,         21,2,20120501,       2220,    24.4852,   -52.3331,       5277,   905.7,   7.6101,  35.0940,2,  35.0922,2,    151.4,2,   152.4,2,   17.00,2,   25.86,2,    0.00,2,    1.67,2,   0.608,2,   0.292,2,   0.009,2,    0.18,2,  2197.1,2,  2323.0,2,   7.6622,6,    25.00,   0.180,2,   1.8045,2,    6.65,2,   7.6035,2, -999.00,9,  -999.0,9,  -999.0,   7.667,2,   0.035,-999.000,9, -999.00,1, -999.00,9, -999.00,9,  24.4872, -52.3345,   0.009,   0.0076,    0.15,   7.5167,   7.6035,2,    35.2577,2,  -999.0,9,     -999.0,1,     -999.0,1,     -999.0,9,       2354
33AT20120419,        A20,      44,          1,         20,         20,2,20120501,       2220,    24.4852,   -52.3331,       5277,  1007.4,   6.7439,  35.0546,2,  35.0530,2,    167.3,2,   167.1,2,   17.56,2,   25.20,2,    0.00,2,    1.64,2,   0.547,2,   0.259,2,   0.012,2,    0.11,2,  2195.2,2,  2321.2,2,   7.6661,2,    25.00,   0.152,2,   1.8167,2,    6.02,2,   6.7421,2, -999.00,9,  -999.0,9,  -999.0,   7.822,2,   0.036,-999.000,9, -999.00,1, -999.00,9, -999.00,9,  24.4871, -52.3345,   0.009,   0.0076,    0.15,   6.6459,   6.7421,2,    35.2183,2,  -999.0,9,     -999.0,1,     -999.0,1,     -999.0,9,       2352
33AT20120419,        A20,      44,          1,         19,         19,2,20120501,       2220,    24.4852,   -52.3331,       5277,  1114.0,   5.9939,  35.0618,2,  35.0615,2,    188.1,2,   193.2,2,   16.31,2,   22.89,2,    0.00,2,    1.50,2,-999.000,9,-999.000,9,-999.000,9, -999.00,9,  2186.5,2,  2321.7,2,   7.6896,2,    25.00,   0.197,2,   1.8253,2,    6.23,2,   5.9963,2, -999.00,9,  -999.0,9,  -999.0,   7.840,2,   0.036,-999.000,9, -999.00,1, -999.00,9, -999.00,9,  24.4870, -52.3344,   0.009,   0.0077,    0.15,   5.8909,   5.9963,2,    35.2268,2,  -999.0,9,     -999.0,1,     -999.0,1,     -999.0,9,       2349
33AT20120419,        A20,      44,          1,         18,         18,2,20120501,       2220,    24.4852,   -52.3331,       5277,  1211.1,   5.6208,  35.0860,2,  35.0855,2,    209.3,2,   211.0,2,   14.92,2,   21.08,2,    0.00,2,    1.39,2,   0.868,2,   0.410,2,   0.024,2,    0.17,2,  -999.0,9,  -999.0,9,-999.0000,9,  -999.00,   0.235,2,   1.8395,2,    6.85,2,   5.6214,2, -999.00,9,  -999.0,9,  -999.0,   7.857,2,   0.036,-999.000,9, -999.00,9, -999.00,9, -999.00,9,  24.4869, -52.3344,   0.010,   0.0077,    0.15,   5.5113,   5.6214,2,    35.2510,2,  -999.0,9,     -999.0,9,     -999.0,9,     -999.0,9,       2347
33AT20120419,        A20,      44,          1,         17,         17,2,20120501,       2220,    24.4852,   -52.3331,       5277,  1316.7,   5.2806,  35.0935,2,  35.0938,2,    225.6,2,   224.6,2,   14.20,2,   19.83,2,    0.00,2,    1.30,2,   1.009,2,   0.487,2,   0.038,2,    0.16,2,  2174.9,2,  2321.8,2,   7.7210,2,    25.00,   0.255,2,   1.8175,2,    7.34,2,   5.2792,2, -999.00,9,  -999.0,9,  -999.0,   7.819,2,   0.036,-999.000,9, -999.00,9, -999.00,9, -999.00,9,  24.4869, -52.3343,   0.010,   0.0076,    0.15,   5.1639,   5.2792,2,    35.2593,2,  -999.0,9,     -999.0,9,     -999.0,9,     -999.0,9,       2344
33AT20120419,        A20,      44,          1,         16,         16,2,20120501,       2220,    24.4852,   -52.3331,       5277,  1415.2,   5.0101,  35.0852,2,  35.0847,2,    231.9,2,   231.8,2,   14.28,2,   19.44,2,    0.00,2,    1.28,2,   0.972,2,   0.463,2,   0.028,2,    0.21,2,  -999.0,9,  -999.0,9,-999.0000,9,  -999.00,   0.244,2,   1.8515,2,    7.20,2,   5.0094,2, -999.00,9,  -999.0,9,  -999.0,   8.048,2,   0.037,-999.000,9, -999.00,9, -999.00,9, -999.00,9,  24.4868, -52.3343,   0.010,   0.0078,    0.15,   4.8866,   5.0094,2,    35.2502,2,  -999.0,9,     -999.0,9,     -999.0,9,     -999.0,9,       2342
33AT20120419,        A20,      44,          1,         15,         15,2,20120501,       2220,    24.4852,   -52.3331,       5277,  1616.1,   4.5347,  35.0720,2,  35.0721,2,    238.3,2,   238.4,2,   16.25,2,   19.29,2,    0.00,2,    1.27,2,   0.637,2,   0.295,2,   0.028,2,    0.14,2,  2171.3,2,  2322.8,6,   7.7338,2,    25.00,   0.173,2,   1.8483,2,    6.25,2,   4.5353,2, -999.00,9,  -999.0,9,  -999.0,   8.000,2,   0.037,-999.000,9, -999.00,9, -999.00,9, -999.00,9,  24.4867, -52.3342,   0.010,   0.0078,    0.15,   4.3971,   4.5353,2,    35.2375,2,  -999.0,9,     -999.0,9,     -999.0,9,     -999.0,9,       2337
33AT20120419,        A20,      44,          1,         14,         14,2,20120501,       2220,    24.4852,   -52.3331,       5277,  1820.1,   4.0425,  35.0404,2,  35.0400,2,    244.6,2,   244.0,2,   18.87,2,   19.22,2,    0.00,2,    1.28,2,   0.502,2,   0.192,2,   0.021,2,    0.12,2,  2171.1,2,  2324.2,2,   7.7374,2,    25.00,   0.129,2,   1.8307,2,    5.75,2,   4.0416,2, -999.00,9,  -999.0,9,  -999.0,   8.033,2,   0.037,-999.000,9, -999.00,9, -999.00,9, -999.00,9,  24.4865, -52.3341,   0.010,   0.0077,    0.15,   3.8916,   4.0416,2,    35.2052,2,  -999.0,9,     -999.0,9,     -999.0,9,     -999.0,9,       2333
33AT20120419,        A20,      44,          1,         13,         13,2,20120501,       2220,    24.4852,   -52.3331,       5277,  2021.4,   3.6249,  35.0045,2,  35.0044,2,    246.7,2,   247.2,2,   21.75,2,   19.46,2,    0.00,2,    1.30,2,   0.190,2,   0.087,2,   0.007,2,    0.10,2,  2171.2,2,  2327.1,2,   7.7404,6,    25.00,   0.052,2,   1.8668,2,    3.70,2,   3.6249,2, -999.00,9,  -999.0,9,  -999.0,   8.107,2,   0.037,-999.000,9, -999.00,9, -999.00,9, -999.00,9,  24.4864, -52.3340,   0.010,   0.0078,    0.15,   3.4607,   3.6249,2,    35.1695,2,  -999.0,9,     -999.0,9,     -999.0,9,     -999.0,9,       2328
33AT20120419,        A20,      44,          1,         12,         12,2,20120501,       2220,    24.4852,   -52.3331,       5277,  2277.8,   3.2751,  34.9788,2,  34.9788,2,    247.9,2,   248.4,2,   25.97,2,   19.70,2,    0.00,2,    1.32,2,   0.188,2,   0.087,2,   0.009,2,    0.03,2,  -999.0,9,  -999.0,9,-999.0000,9,  -999.00,   0.041,2,   1.8741,2,    3.95,2,   3.2757,2, -999.00,9,  -999.0,9,  -999.0,   8.100,2,   0.037,-999.000,9, -999.00,9, -999.00,9, -999.00,9,  24.4863, -52.3339,   0.010,   0.0079,    0.15,   3.0919,   3.2757,2,    35.1437,2,  -999.0,9,     -999.0,9,     -999.0,9,     -999.0,9,       2323
33AT20120419,        A20,      44,          1,         11,         11,2,20120501,       2220,    24.4852,   -52.3331,       5277,  2527.8,   3.0541,  34.9596,2,  34.9595,2,    248.0,2,   248.7,2,   29.04,2,   19.99,2,    0.00,2,    1.34,2,-999.000,9,-999.000,9,-999.000,9, -999.00,9,  2178.4,2,  2333.5,6,   7.7376,2,    25.00,   0.029,2,   1.8768,2,    4.34,2,   3.0547,2, -999.00,9,  -999.0,9,  -999.0,   8.062,2,   0.037,-999.000,9, -999.00,9, -999.00,9, -999.00,9,  24.4861, -52.3338,   0.010,   0.0079,    0.15,   2.8503,   3.0547,2,    35.1244,2,  -999.0,9,     -999.0,9,     -999.0,9,     -999.0,9,       2318
33AT20120419,        A20,      44,          1,         10,         10,2,20120501,       2220,    24.4852,   -52.3331,       5277,  2784.8,   2.8939,  34.9451,2,  34.9442,2,    248.6,2,   249.2,2,   31.54,2,   20.24,2,    0.00,2,    1.36,2,   0.100,2,   0.042,2,   0.006,2,    0.04,2,  -999.0,9,  -999.0,9,-999.0000,9,  -999.00,-999.000,9,-999.0000,9, -999.00,9,   2.8926,2, -999.00,9,  -999.0,9,  -999.0,-999.000,9,-999.000,-999.000,9, -999.00,9, -999.00,9, -999.00,9,  24.4860, -52.3337,-999.000,-999.0000, -999.00,   2.6675,   2.8926,2,    35.1089,2,  -999.0,9,     -999.0,9,     -999.0,9,     -999.0,9,       2313
33AT20120419,        A20,      44,          1,          9,          9,2,20120501,       2220,    24.4852,   -52.3331,       5277,  3042.8,   2.7297,  34.9305,2,  34.9304,2,    249.2,2,   249.8,2,   34.29,2,   20.45,2,    0.00,2,    1.39,2,-999.000,9,-999.000,9,-999.000,9, -999.00,9,  2182.0,2,  2336.9,2,   7.7368,2,    25.00,   0.023,2,   1.8700,2,    4.00,2,   2.7292,2, -999.00,9,  -999.0,9,  -999.0,   8.139,2,   0.037,-999.000,9, -999.00,9, -999.00,9, -999.00,9,  24.4859, -52.3336,   0.010,   0.0079,    0.15,   2.4803,   2.7292,2,    35.0951,2,  -999.0,9,     -999.0,9,     -999.0,9,     -999.0,9,       2307
33AT20120419,        A20,      44,          1,          8,          8,2,20120501,       2220,    24.4852,   -52.3331,       5277,  3347.4,   2.5233,  34.9123,2,  34.9111,2,    250.8,2,   251.8,2,   37.60,2,   20.68,2,    0.00,2,    1.41,2,   0.068,2,   0.033,2,   0.006,2,    0.02,2,  -999.0,9,  -999.0,9,-999.0000,9,  -999.00,-999.000,9,-999.0000,9, -999.00,9,   2.5232,2, -999.00,9,  -999.0,9,  -999.0,-999.000,9,-999.000,-999.000,9, -999.00,9, -999.00,9, -999.00,9,  24.4857, -52.3335,-999.000,-999.0000, -999.00,   2.2467,   2.5232,2,    35.0757,2,  -999.0,9,     -999.0,9,     -999.0,9,     -999.0,9,       2301
33AT20120419,        A20,      44,          1,          7,          7,2,20120501,       2220,    24.4852,   -52.3331,       5277,  3655.5,   2.3549,  34.8964,2,  34.8954,2,    252.6,2,   252.5,2,   40.54,2,   20.86,2,    0.00,2,    1.42,2,-999.000,9,-999.000,9,-999.000,9, -999.00,9,  2186.0,2,  2339.7,2,   7.7339,2,    25.00,-999.000,9,-999.0000,9, -999.00,9,   2.3550,2, -999.00,9,  -999.0,9,  -999.0,-999.000,9,-999.000,-999.000,9, -999.00,9, -999.00,9, -999.00,9,  24.4856, -52.3334,-999.000,-999.0000, -999.00,   2.0492,   2.3550,2,    35.0599,2,  -999.0,9,     -999.0,9,     -999.0,9,     -999.0,9,       2255