BOTTLE,20220712CCHSIOCBG
EXPOCODE,SECT_ID,STNNBR,CASTNO,SAMPNO,BTLNBR,BTLNBR_FLAG_W,DATE,TIME,LATITUDE,LONGITUDE,DEPTH,CTDPRS,CTDTMP,CTDSAL,CTDSAL_FLAG_W,SALNTY,SALNTY_FLAG_W,CTDOXY,CTDOXY_FLAG_W,OXYGEN,OXYGEN_FLAG_W,SILCAT,SILCAT_FLAG_W,NITRAT,NITRAT_FLAG_W,NITRIT,NITRIT_FLAG_W,PHSPHT,PHSPHT_FLAG_W,CFC-11,CFC-11_FLAG_W,CFC-12,CFC-12_FLAG_W,CFC113,CFC113_FLAG_W,SF6,SF6_FLAG_W,TCARBN,TCARBN_FLAG_W,ALKALI,ALKALI_FLAG_W,PH_TOT,PH_TOT_FLAG_W,PH_TMP,TRITUM,TRITUM_FLAG_W,HELIUM,HELIUM_FLAG_W,DELHE3,DELHE3_FLAG_W,REFTMP,REFTMP_FLAG_W,DELC13,DELC13_FLAG_W,DELC14,DELC14_FLAG_W,C14ERR,NEON,NEON_FLAG_W,NEONER,CCL4,CCL4_FLAG_W,DELO18,DELO18_FLAG_W,DOC,DOC_FLAG_W,TDN,TDN_FLAG_W,BTL_LAT,BTL_LON,TRITER,HELIER,DELHER,THETA,SBE35,SBE35_FLAG_W,SALTREF,SALTREF_FLAG_W,14C-DOC,14C-DOC_FLAG_W,DELO17,DELO17_FLAG_W,O2/AR,O2/AR_FLAG_W,SIP,SIP_FLAG_W,BTL_TIME
,,,,,,,,,,,METERS,DBAR,ITS-90,PSS-78,,PSS-78,,UMOL/KG,,UMOL/KG,,UMOL/KG,,UMOL/KG,,UMOL/KG,,UMOL/KG,,PMOL/KG,,PMOL/KG,,PMOL/KG,,FMOL/KG,,UMOL/KG,,UMOL/KG,,,,DEG C,TU,,NMOL/KG,,PERCNT,,DEG C,,/MILLE,,/MILLE,,/MILLE,NMOL/KG,,NMOL/KG,PMOL/KG,,/MILLE,,UMOL/KG,,UMOL/KG,,,,TU,NMOL/KG,PERCNT,DEG C,ITS-90,,G/KG,,/MILLE,,/MILLE,,,,,,
33AT20120419,        A20,      13,          1,          4,          4,2,20120422,       1854,     8.2714,   -52.8498,       2345,  2083.1,   3.5576,  34.9658,2,  34.9663,2,    261.3,2,   260.5,2,   16.43,2,   18.15,2,    0.00,2,    1.22,2,   0.928,2,   0.473,2,   0.037,2,    0.00,3,  2163.0,2,  2314.0,2,   7.7378,2,    25.00,   0.231,2,   1.8630,2,    5.97,2,   3.5569,2, -999.00,9,  -999.0,9,  -999.0,   8.155,2,   0.038,   0.840,2, -999.00,9,   40.13,2,   21.69,2,   8.2713, -52.8499,   0.010,   0.0078,    0.15,   3.3887,   3.5569,2,    35.1312,2,  -999.0,9,     -999.0,9,     -999.0,9,     -999.0,9,       1903
33AT20120419,        A20,      13,          1,          3,          3,2,20120422,       1854,     8.2714,   -52.8498,       2345,  2288.0,   3.3269,  34.9571,2,  34.9589,2,    260.4,2,   260.8,2,   18.54,2,   18.24,2,    0.00,2,    1.23,2,   0.745,2,   0.384,2,   0.031,2,    0.00,3,  -999.0,9,  -999.0,9,-999.0000,9,  -999.00,-999.000,9,-999.0000,9, -999.00,9,   3.3266,2, -999.00,9,  -999.0,9,  -999.0,-999.000,9,-999.000,   0.710,2, -999.00,9,   40.39,2,   21.66,2,   8.2714, -52.8499,-999.000,-999.0000, -999.00,   3.1419,   3.3266,2,    35.1237,2,  -999.0,9,     -999.0,9,     -999.0,9,     -999.0,9,       1859
33AT20120419,        A20,      13,          1,          1,          1,2,20120422,       1854,     8.2714,   -52.8498,       2345,  2358.0,   3.3299,  34.9569,2,  34.9575,2,    260.5,2,   260.9,2,   18.58,2,   18.26,2,    0.00,2,    1.24,2,   0.736,2,   0.377,2,   0.029,2,    0.00,3,  2165.3,2,  2316.0,2,   7.7389,2,    25.00,   0.193,2,   1.8758,2,    5.39,2,   3.3296,2, -999.00,9,  -999.0,9,  -999.0,   8.218,2,   0.038,   0.720,2, -999.00,9,   40.22,2,   21.89,2,   8.2714, -52.8498,   0.010,   0.0079,    0.15,   3.1380,   3.3296,2,    35.1223,2,  -999.0,9,     -999.0,9,     -999.0,9,     -999.0,9,       1855