BOTTLE,20220712CCHSIOCBG
EXPOCODE,SECT_ID,STNNBR,CASTNO,SAMPNO,BTLNBR,BTLNBR_FLAG_W,DATE,TIME,LATITUDE,LONGITUDE,DEPTH,CTDPRS,CTDTMP,CTDSAL,CTDSAL_FLAG_W,SALNTY,SALNTY_FLAG_W,CTDOXY,CTDOXY_FLAG_W,OXYGEN,OXYGEN_FLAG_W,SILCAT,SILCAT_FLAG_W,NITRAT,NITRAT_FLAG_W,NITRIT,NITRIT_FLAG_W,PHSPHT,PHSPHT_FLAG_W,CFC-11,CFC-11_FLAG_W,CFC-12,CFC-12_FLAG_W,CFC113,CFC113_FLAG_W,SF6,SF6_FLAG_W,TCARBN,TCARBN_FLAG_W,ALKALI,ALKALI_FLAG_W,PH_TOT,PH_TOT_FLAG_W,PH_TMP,TRITUM,TRITUM_FLAG_W,HELIUM,HELIUM_FLAG_W,DELHE3,DELHE3_FLAG_W,REFTMP,REFTMP_FLAG_W,DELC13,DELC13_FLAG_W,DELC14,DELC14_FLAG_W,C14ERR,NEON,NEON_FLAG_W,NEONER,CCL4,CCL4_FLAG_W,DELO18,DELO18_FLAG_W,DOC,DOC_FLAG_W,TDN,TDN_FLAG_W,BTL_LAT,BTL_LON,TRITER,HELIER,DELHER,THETA,SBE35,SBE35_FLAG_W,SALTREF,SALTREF_FLAG_W,14C-DOC,14C-DOC_FLAG_W,DELO17,DELO17_FLAG_W,O2/AR,O2/AR_FLAG_W,SIP,SIP_FLAG_W,BTL_TIME
,,,,,,,,,,,METERS,DBAR,ITS-90,PSS-78,,PSS-78,,UMOL/KG,,UMOL/KG,,UMOL/KG,,UMOL/KG,,UMOL/KG,,UMOL/KG,,PMOL/KG,,PMOL/KG,,PMOL/KG,,FMOL/KG,,UMOL/KG,,UMOL/KG,,,,DEG C,TU,,NMOL/KG,,PERCNT,,DEG C,,/MILLE,,/MILLE,,/MILLE,NMOL/KG,,NMOL/KG,PMOL/KG,,/MILLE,,UMOL/KG,,UMOL/KG,,,,TU,NMOL/KG,PERCNT,DEG C,ITS-90,,G/KG,,/MILLE,,/MILLE,,,,,,
33AT20120419,        A20,      36,          1,         36,         36,2,20120429,       0709,    18.7330,   -52.3347,       5001,     4.1,  25.8720,  36.5288,2,  36.5299,2,    204.1,2,   205.2,2,    0.67,2,    0.00,2,    0.00,2,    0.00,2,   1.711,2,   1.106,2,   0.148,2,    0.92,2,  2034.9,6,  2391.1,2,   8.1120,2,    25.00,   0.478,2,   1.7284,2,   -2.10,2,  25.8710,2, -999.00,9,  -999.0,9,  -999.0,   6.787,2,   0.031,-999.000,9, -999.00,1, -999.00,9, -999.00,9,  18.7347, -52.3351,   0.011,   0.0073,    0.15,  25.8711,  25.8710,2,    36.7022,2,  -999.0,9,     -999.0,1,     -999.0,1,     -999.0,9,       0926
33AT20120419,        A20,      36,          1,         35,         35,2,20120429,       0709,    18.7330,   -52.3347,       5001,    35.4,  25.8732,  36.5342,2,  36.5367,2,    205.6,2,   205.5,2,    0.65,2,    0.00,2,    0.00,2,    0.00,2,   1.692,2,   1.088,2,   0.149,2,    1.03,2,  2035.7,2,  2389.9,2,   8.1121,6,    25.00,-999.000,9,-999.0000,9, -999.00,9,  25.8705,2, -999.00,9,  -999.0,9,  -999.0,-999.000,9,-999.000,-999.000,9, -999.00,9, -999.00,9, -999.00,9,  18.7346, -52.3351,-999.000,-999.0000, -999.00,  25.8653,  25.8705,2,    36.7090,2,  -999.0,9,     -999.0,9,     -999.0,9,     -999.0,9,       0923
33AT20120419,        A20,      36,          1,         34,         34,2,20120429,       0709,    18.7330,   -52.3347,       5001,    60.7,  25.4460,  36.7919,2,  36.7925,2,    209.6,2,   208.1,2,    0.39,2,    0.00,2,    0.00,2,    0.00,2,   1.740,2,   1.099,2,   0.146,2,    0.96,2,  2047.3,2,  2406.8,2,   8.1123,2,    25.00,-999.000,9,-999.0000,9, -999.00,9,  25.4462,2, -999.00,9,  -999.0,9,  -999.0,-999.000,9,-999.000,-999.000,9, -999.00,9, -999.00,9, -999.00,9,  18.7346, -52.3351,-999.000,-999.0000, -999.00,  25.4326,  25.4462,2,    36.9660,2,  -999.0,9,     -999.0,9,     -999.0,9,     -999.0,9,       0921
33AT20120419,        A20,      36,          1,         33,         33,2,20120429,       0709,    18.7330,   -52.3347,       5001,    85.6,  24.7655,  37.0141,2,  37.0150,2,    212.3,2,   210.8,2,    0.22,2,    0.00,2,    0.00,2,    0.00,2,   1.749,2,   1.118,2,   0.146,2,    1.03,2,  -999.0,9,  -999.0,9,-999.0000,9,  -999.00,   0.478,2,   1.7196,2,   -1.50,2,  24.7940,2, -999.00,9,  -999.0,9,  -999.0,   6.856,2,   0.032,-999.000,9, -999.00,9, -999.00,9, -999.00,9,  18.7347, -52.3351,   0.013,   0.0072,    0.15,  24.7469,  24.7940,2,    37.1896,2,  -999.0,9,     -999.0,9,     -999.0,9,     -999.0,9,       0918
33AT20120419,        A20,      36,          1,         32,         32,2,20120429,       0709,    18.7330,   -52.3347,       5001,   115.4,  23.9763,  37.2612,2,  37.2741,2,    199.3,2,   194.4,2,    0.00,2,    0.00,2,    0.00,2,    0.00,2,   1.878,2,   1.190,2,   0.141,2,    1.05,2,  2105.8,2,  2434.1,2,   8.0535,6,    25.00,-999.000,9,-999.0000,9, -999.00,9,  23.9763,2, -999.00,9,  -999.0,9,  -999.0,-999.000,9,-999.000,-999.000,9, -999.00,9, -999.00,9, -999.00,9,  18.7347, -52.3351,-999.000,-999.0000, -999.00,  23.9518,  23.9763,2,    37.4499,2,  -999.0,9,     -999.0,9,     -999.0,9,     -999.0,9,       0916
33AT20120419,        A20,      36,          1,         31,         31,2,20120429,       0709,    18.7330,   -52.3347,       5001,   166.3,  21.3811,  37.0700,2,  37.0647,2,    170.7,2,   171.1,2,    0.17,2,    2.41,2,    0.03,2,    0.10,2,   2.077,2,   1.320,2,   0.071,2,    1.00,2,  2140.6,2,  2419.5,2,   7.9774,2,    25.00,   0.510,2,   1.7235,2,   -1.25,2,  21.3869,2, -999.00,9,  -999.0,9,  -999.0,   6.886,2,   0.032,-999.000,9, -999.00,9, -999.00,9, -999.00,9,  18.7347, -52.3351,   0.011,   0.0072,    0.15,  21.3485,  21.3869,2,    37.2395,2,  -999.0,9,     -999.0,9,     -999.0,9,     -999.0,9,       0913
33AT20120419,        A20,      36,          1,         30,         30,2,20120429,       0709,    18.7330,   -52.3347,       5001,   216.9,  18.5439,  36.6504,2,-999.0000,5,    177.7,2,   178.5,2,    0.89,2,    4.91,2,    0.01,2,    0.22,2,   2.280,2,-999.000,5,   0.023,2,    0.95,2,  2138.2,2,  2395.1,6,   7.9434,2,    25.00,-999.000,9,-999.0000,9, -999.00,9,  18.5666,2, -999.00,9,  -999.0,9,  -999.0,-999.000,9,-999.000,-999.000,9, -999.00,9, -999.00,9, -999.00,9,  18.7347, -52.3351,-999.000,-999.0000, -999.00,  18.5055,  18.5666,2,     -999.0,5,  -999.0,9,     -999.0,9,     -999.0,9,     -999.0,9,       0911
33AT20120419,        A20,      36,          1,         29,         29,2,20120429,       0709,    18.7330,   -52.3347,       5001,   266.6,  17.3458,  36.4462,2,  36.4495,2,    179.9,2,   179.0,2,    1.47,2,    7.09,2,    0.01,2,    0.38,2,   2.359,2,   1.409,2,   0.019,2,    0.99,2,  2139.4,2,  2387.3,2,   7.9204,2,    25.00,   0.527,2,   1.7576,2,    0.01,2,  17.3477,2, -999.00,9,  -999.0,9,  -999.0,   7.188,2,   0.033,-999.000,9, -999.00,9, -999.00,9, -999.00,9,  18.7347, -52.3351,   0.011,   0.0074,    0.15,  17.3007,  17.3477,2,    36.6214,2,  -999.0,9,     -999.0,9,     -999.0,9,     -999.0,9,       0908
33AT20120419,        A20,      36,          1,         28,         28,2,20120429,       0709,    18.7330,   -52.3347,       5001,   317.1,  16.0879,  36.2152,2,  36.2264,2,    151.3,2,   157.5,2,    2.79,2,   11.33,2,    0.01,2,    0.64,2,   2.332,2,   1.367,2,   0.021,2,    0.76,2,  2158.8,2,  2369.4,2,   7.8590,2,    25.00,-999.000,9,-999.0000,9, -999.00,9,  16.0838,2, -999.00,9,  -999.0,9,  -999.0,-999.000,9,-999.000,-999.000,9, -999.00,9, -999.00,9, -999.00,9,  18.7347, -52.3351,-999.000,-999.0000, -999.00,  16.0369,  16.0838,2,    36.3972,2,  -999.0,9,     -999.0,9,     -999.0,9,     -999.0,9,       0906
33AT20120419,        A20,      36,          1,         27,         27,2,20120429,       0709,    18.7330,   -52.3347,       5001,   366.9,  14.7674,  35.9695,2,  35.9693,2,    129.9,2,   129.9,2,    4.78,2,   16.48,2,    0.01,2,    0.97,2,   2.201,2,   1.278,2,   0.016,2,    0.65,2,  -999.0,9,  -999.0,9,-999.0000,9,  -999.00,   0.463,2,   1.7637,2,    2.38,2,  14.7757,2, -999.00,9,  -999.0,9,  -999.0,   7.360,2,   0.034,-999.000,9, -999.00,9, -999.00,9, -999.00,9,  18.7347, -52.3351,   0.011,   0.0074,    0.15,  14.7117,  14.7757,2,    36.1389,2,  -999.0,9,     -999.0,9,     -999.0,9,     -999.0,9,       0904
33AT20120419,        A20,      36,          1,         26,         26,2,20120429,       0709,    18.7330,   -52.3347,       5001,   437.9,  13.1080,  35.7359,2,  35.7371,2,    138.7,2,   138.2,2,    6.27,2,   18.30,2,    0.01,2,    1.08,2,   2.021,2,   1.103,2,   0.018,2,    0.51,2,  2180.1,2,  2343.5,2,   7.7598,2,    25.00,-999.000,9,-999.0000,9, -999.00,9,  13.1022,2, -999.00,9,  -999.0,9,  -999.0,-999.000,9,-999.000,-999.000,9, -999.00,9, -999.00,9, -999.00,9,  18.7346, -52.3351,-999.000,-999.0000, -999.00,  13.0465,  13.1022,2,    35.9056,2,  -999.0,9,     -999.0,9,     -999.0,9,     -999.0,9,       0902
33AT20120419,        A20,      36,          1,         25,         25,2,20120429,       0709,    18.7330,   -52.3347,       5001,   539.3,  11.1579,  35.4366,2,  35.4291,2,    125.2,2,   125.0,2,   10.39,2,   23.52,2,    0.00,2,    1.43,2,   1.400,2,   0.729,2,   0.015,2,    0.28,2,  2195.2,2,  2326.6,2,   7.6906,6,    25.00,   0.383,2,   1.7827,2,    6.93,2,  11.1361,2, -999.00,9,  -999.0,9,  -999.0,   7.512,2,   0.035,-999.000,9, -999.00,9, -999.00,9, -999.00,9,  18.7346, -52.3351,   0.011,   0.0075,    0.15,  11.0894,  11.1361,2,    35.5962,2,  -999.0,9,     -999.0,9,     -999.0,9,     -999.0,9,       0859
33AT20120419,        A20,      36,          1,         24,         24,2,20120429,       0709,    18.7330,   -52.3347,       5001,   639.5,   8.9991,  35.1285,2,  35.1255,2,    121.9,2,   121.5,2,   15.51,2,   27.96,2,    0.00,2,    1.75,2,   0.843,2,   0.422,2,   0.013,2,    0.21,2,  2206.4,2,  2316.6,2,   7.6316,6,    25.00,   0.208,2,   1.8179,2,    5.14,2,   8.9880,2, -999.00,9,  -999.0,9,  -999.0,   7.624,2,   0.035,-999.000,9, -999.00,9, -999.00,9, -999.00,9,  18.7346, -52.3351,   0.011,   0.0076,    0.15,   8.9277,   8.9880,2,    35.2911,2,  -999.0,9,     -999.0,9,     -999.0,9,     -999.0,9,       0856
33AT20120419,        A20,      36,          1,         23,         23,2,20120429,       0709,    18.7330,   -52.3347,       5001,   739.5,   7.1725,  34.8753,2,  34.8712,2,    127.0,2,   126.6,2,   20.64,2,   31.06,2,    0.00,2,    2.01,2,   0.495,2,   0.239,2,   0.006,2,    0.08,2,  2213.2,6,  2309.5,2,   7.5914,2,    25.00,   0.114,2,   1.8240,2,    3.31,2,   7.1772,2, -999.00,9,  -999.0,9,  -999.0,   7.782,2,   0.036,-999.000,9, -999.00,9, -999.00,9, -999.00,9,  18.7347, -52.3351,   0.011,   0.0077,    0.15,   7.0997,   7.1772,2,    35.0356,2,  -999.0,9,     -999.0,9,     -999.0,9,     -999.0,9,       0853
33AT20120419,        A20,      36,          1,         22,         22,2,20120429,       0709,    18.7330,   -52.3347,       5001,   841.0,   6.1088,  34.7795,2,  34.7786,2,    133.3,2,   133.0,2,   24.03,2,   32.16,2,    0.00,2,    2.11,2,   0.245,2,   0.113,2,   0.003,2,    0.05,2,  2218.4,2,  2309.4,2,   7.5777,2,    25.00,   0.034,2,   1.8329,2,    2.08,2,   6.1113,2, -999.00,9,  -999.0,9,  -999.0,   7.791,2,   0.036,-999.000,9, -999.00,9, -999.00,9, -999.00,9,  18.7347, -52.3351,   0.011,   0.0077,    0.15,   6.0323,   6.1113,2,    34.9426,2,  -999.0,9,     -999.0,9,     -999.0,9,     -999.0,9,       0850
33AT20120419,        A20,      36,          1,         21,         21,2,20120429,       0709,    18.7330,   -52.3347,       5001,   942.5,   5.7271,  34.8000,2,  34.8008,2,    142.0,2,   142.0,2,   24.48,2,   31.27,2,    0.00,2,    2.07,2,   0.150,2,   0.068,2,   0.004,2,    0.04,2,  2217.4,2,  2310.9,2,   7.5884,2,    25.00,   0.019,2,   1.8328,2,    1.86,2,   5.7287,2, -999.00,9,  -999.0,9,  -999.0,   7.887,2,   0.036,-999.000,9, -999.00,9, -999.00,9, -999.00,9,  18.7348, -52.3351,   0.011,   0.0077,    0.15,   5.6433,   5.7287,2,    34.9649,2,  -999.0,9,     -999.0,9,     -999.0,9,     -999.0,9,       0848
33AT20120419,        A20,      36,          1,         20,         20,2,20120429,       0709,    18.7330,   -52.3347,       5001,  1043.3,   5.5287,  34.8513,2,  34.8529,2,    154.8,2,   154.5,2,   23.58,2,   29.52,2,    0.00,2,    1.96,2,   0.169,2,   0.075,2,   0.004,2,    0.04,2,  2210.6,2,  2311.3,2,   7.6108,2,    25.00,   0.052,2,   1.8431,2,    1.64,2,   5.5296,2, -999.00,9,  -999.0,9,  -999.0,   7.828,2,   0.036,-999.000,9, -999.00,9, -999.00,9, -999.00,9,  18.7348, -52.3351,   0.011,   0.0077,    0.15,   5.4367,   5.5296,2,    35.0173,2,  -999.0,9,     -999.0,9,     -999.0,9,     -999.0,9,       0845
33AT20120419,        A20,      36,          1,         19,         19,2,20120429,       0709,    18.7330,   -52.3347,       5001,  1144.5,   5.4039,  34.9160,2,  34.9153,2,    169.9,2,   169.0,2,   21.87,2,   27.40,2,    0.00,2,    1.82,2,   0.202,2,   0.086,2,   0.005,2,    0.04,2,  -999.0,9,  -999.0,9,-999.0000,9,  -999.00,   0.050,2,   1.8232,2,    1.76,2,   5.4042,2, -999.00,9,  -999.0,9,  -999.0,   7.948,2,   0.037,-999.000,9, -999.00,9, -999.00,9, -999.00,9,  18.7348, -52.3351,   0.011,   0.0077,    0.15,   5.3031,   5.4042,2,    35.0799,2,  -999.0,9,     -999.0,9,     -999.0,9,     -999.0,9,       0842
33AT20120419,        A20,      36,          1,         18,         18,2,20120429,       0709,    18.7330,   -52.3347,       5001,  1244.4,   5.2219,  34.9590,2,  34.9594,2,    185.8,2,   186.1,2,   20.10,2,   25.27,2,    0.00,2,    1.68,2,   0.292,2,   0.128,2,   0.007,2,    0.09,2,  2194.7,2,  2315.3,2,   7.6631,6,    25.00,-999.000,9,   1.8345,2,    2.70,2,   5.2211,2, -999.00,9,  -999.0,9,  -999.0,   8.014,2,   0.037,-999.000,9, -999.00,9, -999.00,9, -999.00,9,  18.7348, -52.3351,-999.000,   0.0077,    0.15,   5.1131,   5.2211,2,    35.1242,2,  -999.0,9,     -999.0,9,     -999.0,9,     -999.0,9,       0839
33AT20120419,        A20,      36,          1,         17,         17,2,20120429,       0709,    18.7330,   -52.3347,       5001,  1347.0,   5.0139,  34.9865,2,  34.9869,2,    202.2,2,   201.0,2,   18.49,2,   23.35,2,    0.00,2,    1.56,2,   0.375,2,   0.168,2,   0.012,2,    0.09,2,  -999.0,9,  -999.0,9,-999.0000,9,  -999.00,   0.084,6,   1.8335,2,    3.13,2,   5.0136,2, -999.00,9,  -999.0,9,  -999.0,   7.918,2,   0.036,-999.000,9, -999.00,9, -999.00,9, -999.00,9,  18.7347, -52.3351,   0.008,   0.0077,    0.15,   4.8971,   5.0136,2,    35.1519,2,  -999.0,9,     -999.0,9,     -999.0,9,     -999.0,9,       0836
33AT20120419,        A20,      36,          1,         16,         16,2,20120429,       0709,    18.7330,   -52.3347,       5001,  1447.2,   4.8222,  35.0053,2,  35.0066,2,    219.2,2,   217.7,2,   16.79,2,   21.58,2,    0.00,2,    1.42,2,   0.594,2,   0.268,2,   0.017,2,    0.14,2,  2178.8,2,  2316.0,2,   7.7036,2,    25.00,   0.133,2,   1.8561,2,    3.98,2,   4.8227,2, -999.00,9,  -999.0,9,  -999.0,   7.926,2,   0.036,-999.000,9, -999.00,9, -999.00,9, -999.00,9,  18.7346, -52.3351,   0.011,   0.0078,    0.15,   4.6978,   4.8227,2,    35.1717,2,  -999.0,9,     -999.0,9,     -999.0,9,     -999.0,9,       0833
33AT20120419,        A20,      36,          1,         15,         15,2,20120429,       0709,    18.7330,   -52.3347,       5001,  1547.5,   4.5763,  35.0075,2,  35.0092,2,    228.2,2,   228.3,2,   16.10,2,   20.68,2,    0.00,2,    1.37,2,   0.593,2,   0.266,2,   0.017,2,    0.19,2,  -999.0,9,  -999.0,9,-999.0000,9,  -999.00,   0.132,2,   1.8511,2,    4.49,2,   4.5790,2, -999.00,9,  -999.0,9,  -999.0,   7.947,2,   0.037,-999.000,9, -999.00,9, -999.00,9, -999.00,9,  18.7343, -52.3350,   0.011,   0.0078,    0.15,   4.4450,   4.5790,2,    35.1742,2,  -999.0,9,     -999.0,9,     -999.0,9,     -999.0,9,       0830
33AT20120419,        A20,      36,          1,         14,         14,2,20120429,       0709,    18.7330,   -52.3347,       5001,  1679.5,   4.2836,  35.0031,2,  35.0038,2,    239.2,2,   239.8,2,   15.64,2,   19.73,2,    0.00,2,    1.31,2,   0.643,2,   0.294,2,   0.019,2,    0.10,2,  2170.0,2,  2316.0,2,   7.7253,2,    25.00,   0.162,2,   1.8579,2,    4.49,2,   4.2844,2, -999.00,9,  -999.0,9,  -999.0,   7.947,2,   0.037,-999.000,9, -999.00,9, -999.00,9, -999.00,9,  18.7342, -52.3349,   0.011,   0.0078,    0.15,   4.1431,   4.2844,2,    35.1689,2,  -999.0,9,     -999.0,9,     -999.0,9,     -999.0,9,       0827
33AT20120419,        A20,      36,          1,         13,         13,2,20120429,       0709,    18.7330,   -52.3347,       5001,  1883.5,   3.9377,  34.9952,2,  34.9958,2,    245.3,2,   245.6,2,   17.67,2,   19.58,2,    0.00,2,    1.31,2,-999.000,9,-999.000,9,-999.000,9, -999.00,9,  2167.7,2,  2316.9,2,   7.7331,2,    25.00,   0.092,2,   1.8563,2,    3.37,2,   3.9382,2, -999.00,9,  -999.0,9,  -999.0,   8.024,2,   0.037,-999.000,9, -999.00,9, -999.00,9, -999.00,9,  18.7340, -52.3349,   0.011,   0.0078,    0.15,   3.7823,   3.9382,2,    35.1608,2,  -999.0,9,     -999.0,9,     -999.0,9,     -999.0,9,       0819
33AT20120419,        A20,      36,          1,         12,         12,2,20120429,       0709,    18.7330,   -52.3347,       5001,  2106.1,   3.5805,  34.9845,2,  34.9850,2,    247.1,2,   246.6,2,   21.50,2,   19.74,2,    0.00,2,    1.33,2,   0.128,2,   0.055,2,   0.005,2,    0.08,2,  2168.9,2,  2321.6,2,   7.7382,2,    25.00,   0.032,2,   1.8579,2,    2.88,2,   3.5799,2, -999.00,9,  -999.0,9,  -999.0,   8.074,2,   0.037,-999.000,9, -999.00,9, -999.00,9, -999.00,9,  18.7342, -52.3350,   0.011,   0.0078,    0.15,   3.4089,   3.5799,2,    35.1499,2,  -999.0,9,     -999.0,9,     -999.0,9,     -999.0,9,       0813
33AT20120419,        A20,      36,          1,         11,         11,2,20120429,       0709,    18.7330,   -52.3347,       5001,  2360.7,   3.2198,  34.9639,2,  34.9639,2,    249.3,2,   249.8,2,   25.36,2,   19.83,2,    0.00,2,    1.33,2,-999.000,9,-999.000,9,-999.000,9, -999.00,9,  2171.6,2,  2324.9,2,   7.7393,2,    25.00,   0.013,2,   1.8696,2,    2.99,2,   3.2202,2, -999.00,9,  -999.0,9,  -999.0,   8.114,2,   0.037,-999.000,9, -999.00,9, -999.00,9, -999.00,9,  18.7340, -52.3349,   0.011,   0.0079,    0.15,   3.0295,   3.2202,2,    35.1288,2,  -999.0,9,     -999.0,9,     -999.0,9,     -999.0,9,       0808
33AT20120419,        A20,      36,          1,         10,         10,2,20120429,       0709,    18.7330,   -52.3347,       5001,  2591.7,   3.0014,  34.9491,2,  34.9492,2,    251.0,2,   250.6,2,   28.31,2,   19.96,2,    0.00,2,    1.34,2,   0.102,2,   0.044,2,   0.003,2,    0.09,2,  2174.3,2,  2329.5,2,   7.7393,6,    25.00,-999.000,9,-999.0000,9, -999.00,9,   3.0017,2, -999.00,9,  -999.0,9,  -999.0,-999.000,9,-999.000,-999.000,9, -999.00,9, -999.00,9, -999.00,9,  18.7339, -52.3349,-999.000,-999.0000, -999.00,   2.7923,   3.0017,2,    35.1140,2,  -999.0,9,     -999.0,9,     -999.0,9,     -999.0,9,       0803
33AT20120419,        A20,      36,          1,          9,          9,2,20120429,       0709,    18.7330,   -52.3347,       5001,  2868.7,   2.8228,  34.9354,2,  34.9362,2,    250.9,2,   250.1,2,   31.87,2,   20.31,2,    0.00,2,    1.37,2,-999.000,9,-999.000,9,-999.000,9, -999.00,9,  -999.0,9,  -999.0,9,-999.0000,9,  -999.00,  -0.002,2,   1.8858,2,    3.64,2,   2.8227,2, -999.00,9,  -999.0,9,  -999.0,   8.138,2,   0.037,-999.000,9, -999.00,9, -999.00,9, -999.00,9,  18.7337, -52.3349,   0.011,   0.0079,    0.15,   2.5894,   2.8227,2,    35.1009,2,  -999.0,9,     -999.0,9,     -999.0,9,     -999.0,9,       0757
33AT20120419,        A20,      36,          1,          8,          8,2,20120429,       0709,    18.7330,   -52.3347,       5001,  3139.7,   2.6798,  34.9233,2,  34.9236,2,    252.0,2,   251.8,2,   34.15,2,   20.40,2,    0.00,2,    1.39,2,   0.098,2,   0.041,2,   0.005,2,    0.09,2,  2179.4,2,  2333.8,2,   7.7369,2,    25.00,-999.000,9,-999.0000,9, -999.00,9,   2.6810,2, -999.00,9,  -999.0,9,  -999.0,-999.000,9,-999.000,-999.000,9, -999.00,9, -999.00,9, -999.00,9,  18.7334, -52.3348,-999.000,-999.0000, -999.00,   2.4215,   2.6810,2,    35.0883,2,  -999.0,9,     -999.0,9,     -999.0,9,     -999.0,9,       0751
33AT20120419,        A20,      36,          1,          7,          7,2,20120429,       0709,    18.7330,   -52.3347,       5001,  3445.6,   2.5192,  34.9088,2,  34.9094,2,    252.1,2,   252.3,2,   37.80,2,   20.75,2,    0.00,2,    1.41,2,-999.000,9,-999.000,9,-999.000,9, -999.00,9,  2181.4,2,  2335.0,2,   7.7326,2,    25.00,-999.000,9,-999.0000,9, -999.00,9,   2.5195,2, -999.00,9,  -999.0,9,  -999.0,-999.000,9,-999.000,-999.000,9, -999.00,9, -999.00,9, -999.00,9,  18.7332, -52.3347,-999.000,-999.0000, -999.00,   2.2322,   2.5195,2,    35.0741,2,  -999.0,9,     -999.0,9,     -999.0,9,     -999.0,9,       0744