BOTTLE,20220712CCHSIOCBG
EXPOCODE,SECT_ID,STNNBR,CASTNO,SAMPNO,BTLNBR,BTLNBR_FLAG_W,DATE,TIME,LATITUDE,LONGITUDE,DEPTH,CTDPRS,CTDTMP,CTDSAL,CTDSAL_FLAG_W,SALNTY,SALNTY_FLAG_W,CTDOXY,CTDOXY_FLAG_W,OXYGEN,OXYGEN_FLAG_W,SILCAT,SILCAT_FLAG_W,NITRAT,NITRAT_FLAG_W,NITRIT,NITRIT_FLAG_W,PHSPHT,PHSPHT_FLAG_W,CFC-11,CFC-11_FLAG_W,CFC-12,CFC-12_FLAG_W,CFC113,CFC113_FLAG_W,SF6,SF6_FLAG_W,TCARBN,TCARBN_FLAG_W,ALKALI,ALKALI_FLAG_W,PH_TOT,PH_TOT_FLAG_W,PH_TMP,TRITUM,TRITUM_FLAG_W,HELIUM,HELIUM_FLAG_W,DELHE3,DELHE3_FLAG_W,REFTMP,REFTMP_FLAG_W,DELC13,DELC13_FLAG_W,DELC14,DELC14_FLAG_W,C14ERR,NEON,NEON_FLAG_W,NEONER,CCL4,CCL4_FLAG_W,DELO18,DELO18_FLAG_W,DOC,DOC_FLAG_W,TDN,TDN_FLAG_W,BTL_LAT,BTL_LON,TRITER,HELIER,DELHER,THETA,SBE35,SBE35_FLAG_W,SALTREF,SALTREF_FLAG_W,14C-DOC,14C-DOC_FLAG_W,DELO17,DELO17_FLAG_W,O2/AR,O2/AR_FLAG_W,SIP,SIP_FLAG_W,BTL_TIME
,,,,,,,,,,,METERS,DBAR,ITS-90,PSS-78,,PSS-78,,UMOL/KG,,UMOL/KG,,UMOL/KG,,UMOL/KG,,UMOL/KG,,UMOL/KG,,PMOL/KG,,PMOL/KG,,PMOL/KG,,FMOL/KG,,UMOL/KG,,UMOL/KG,,,,DEG C,TU,,NMOL/KG,,PERCNT,,DEG C,,/MILLE,,/MILLE,,/MILLE,NMOL/KG,,NMOL/KG,PMOL/KG,,/MILLE,,UMOL/KG,,UMOL/KG,,,,TU,NMOL/KG,PERCNT,DEG C,ITS-90,,G/KG,,/MILLE,,/MILLE,,,,,,
33AT20120419,        A20,      19,          1,         36,         36,2,20120424,       0400,     9.2523,   -52.4078,       4770,     3.3,  27.8665,  26.9747,2,  26.9802,2,    212.0,2,   210.3,2,   10.91,2,    0.00,2,    0.00,2,    0.00,2,   1.545,2,   1.039,2,   0.147,2,    0.95,3,  1568.0,6,  1860.1,2,   8.2053,2,    25.00,-999.000,9,-999.0000,9, -999.00,9,  27.8689,2, -999.00,9,  -999.0,9,  -999.0,-999.000,9,-999.000,   0.930,2, -999.00,9,  115.18,2,    5.45,2,   9.2556, -52.4060,-999.000,-999.0000, -999.00,  27.8657,  27.8689,2,    27.1074,2,  -999.0,9,     -999.0,9,     -999.0,9,     -999.0,9,       0610
33AT20120419,        A20,      19,          1,         35,         35,2,20120424,       0400,     9.2523,   -52.4078,       4770,    20.7,  27.6978,  35.7272,2,  35.7260,2,    196.1,2,   198.1,2,    0.49,2,    0.00,2,    0.00,2,    0.03,2,   1.455,2,   0.968,2,   0.114,2,    1.22,3,  2009.6,2,  2347.3,2,   8.0820,6,    25.00,-999.000,9,-999.0000,9, -999.00,9,  27.7024,2, -999.00,9,  -999.0,9,  -999.0,-999.000,9,-999.000,   0.860,2, -999.00,9,   80.16,2,    5.02,2,   9.2555, -52.4061,-999.000,-999.0000, -999.00,  27.6930,  27.7024,2,    35.8945,2,  -999.0,9,     -999.0,9,     -999.0,9,     -999.0,9,       0607
33AT20120419,        A20,      19,          1,         34,         34,2,20120424,       0400,     9.2523,   -52.4078,       4770,    40.7,  27.6208,  35.8792,2,  35.8815,2,    196.6,2,   197.7,2,    0.47,2,    0.00,2,    0.00,2,    0.03,2,   1.459,2,   0.946,2,   0.113,2,    1.10,3,  2016.2,2,  2354.4,6,   8.0817,2,    25.00,-999.000,9,-999.0000,9, -999.00,9,  27.6204,2, -999.00,9,  -999.0,9,  -999.0,-999.000,9,-999.000,   0.860,2, -999.00,9,   70.74,2,    4.54,2,   9.2554, -52.4061,-999.000,-999.0000, -999.00,  27.6113,  27.6204,2,    36.0507,2,  -999.0,9,     -999.0,9,     -999.0,9,     -999.0,9,       0605
33AT20120419,        A20,      19,          1,         33,         33,2,20120424,       0400,     9.2523,   -52.4078,       4770,    65.9,  26.4882,  36.1581,2,  36.1601,2,    188.6,2,   181.3,2,    1.11,2,    0.88,2,    0.47,2,    0.18,2,   1.548,2,   1.015,2,   0.107,2,    0.68,3,  2060.5,2,  2373.1,2,   8.0329,2,    25.00,-999.000,9,-999.0000,9, -999.00,9,  26.4865,2, -999.00,9,  -999.0,9,  -999.0,-999.000,9,-999.000,   0.650,2, -999.00,9,   66.36,2,    5.67,2,   9.2553, -52.4062,-999.000,-999.0000, -999.00,  26.4732,  26.4865,2,    36.3306,2,  -999.0,9,     -999.0,9,     -999.0,9,     -999.0,9,       0603
33AT20120419,        A20,      19,          1,         32,         32,2,20120424,       0400,     9.2523,   -52.4078,       4770,    91.0,  25.2426,  36.3802,2,  36.3677,2,    173.4,2,   171.1,2,    1.59,2,    2.47,2,    0.06,2,    0.24,2,   1.577,2,   1.014,2,   0.106,2,    0.43,3,  -999.0,9,  -999.0,9,-999.0000,9,  -999.00,-999.000,9,-999.0000,9, -999.00,9,  25.2276,2, -999.00,9,  -999.0,9,  -999.0,-999.000,9,-999.000,   0.480,2, -999.00,9,   58.54,2,    7.62,2,   9.2552, -52.4062,-999.000,-999.0000, -999.00,  25.2226,  25.2276,2,    36.5392,2,  -999.0,9,     -999.0,9,     -999.0,9,     -999.0,9,       0600
33AT20120419,        A20,      19,          1,         31,         31,2,20120424,       0400,     9.2523,   -52.4078,       4770,   135.8,  18.8358,  36.2544,2,  36.2649,2,    139.9,2,   139.3,2,    4.62,2,   10.42,2,    0.02,2,    0.68,2,   1.917,2,   1.193,2,   0.045,2,    0.49,3,  2157.3,2,  2379.9,2,   7.8665,2,    25.00,-999.000,9,-999.0000,9, -999.00,9,  18.8198,2, -999.00,9,  -999.0,9,  -999.0,-999.000,9,-999.000,   0.210,2, -999.00,9,   51.87,2,   15.03,2,   9.2551, -52.4063,-999.000,-999.0000, -999.00,  18.8116,  18.8198,2,    36.4359,2,  -999.0,9,     -999.0,9,     -999.0,9,     -999.0,9,       0558
33AT20120419,        A20,      19,          1,         30,         30,2,20120424,       0400,     9.2523,   -52.4078,       4770,   185.4,  14.2328,  35.6317,2,  35.6453,2,    136.5,2,   136.5,2,    6.70,2,   17.43,2,    0.01,2,    1.11,2,   2.010,2,   1.186,2,   0.023,2,    0.44,3,  -999.0,9,  -999.0,9,-999.0000,9,  -999.00,-999.000,9,-999.0000,9, -999.00,9,  14.2411,2, -999.00,9,  -999.0,9,  -999.0,-999.000,9,-999.000,   0.210,2, -999.00,9,   49.35,2,   20.79,2,   9.2549, -52.4064,-999.000,-999.0000, -999.00,  14.2056,  14.2411,2,    35.8134,2,  -999.0,9,     -999.0,9,     -999.0,9,     -999.0,9,       0555
33AT20120419,        A20,      19,          1,         29,         29,2,20120424,       0400,     9.2523,   -52.4078,       4770,   236.1,  10.8392,  35.0470,2,  35.0484,2,    141.2,2,   145.3,2,   10.24,2,   22.26,2,    0.01,2,    1.47,2,   2.018,2,   1.140,2,   0.038,2,    0.30,3,  2177.9,2,  2316.4,2,   7.6918,2,    25.00,-999.000,9,-999.0000,9, -999.00,9,  10.8377,2, -999.00,9,  -999.0,9,  -999.0,-999.000,9,-999.000,   0.330,2, -999.00,9,   46.71,2,   25.96,2,   9.2547, -52.4065,-999.000,-999.0000, -999.00,  10.8103,  10.8377,2,    35.2137,2,  -999.0,9,     -999.0,9,     -999.0,9,     -999.0,9,       0552
33AT20120419,        A20,      19,          1,         28,         28,2,20120424,       0400,     9.2523,   -52.4078,       4770,   286.6,  10.0840,  34.9574,2,  34.9565,2,    140.3,2,   140.5,2,   11.88,2,   24.39,2,    0.01,2,    1.61,2,   1.834,2,   1.012,2,   0.037,2,    0.16,3,  -999.0,9,  -999.0,9,-999.0000,9,  -999.00,-999.000,9,-999.0000,9, -999.00,9,  10.0833,2, -999.00,9,  -999.0,9,  -999.0,-999.000,9,-999.000,   0.340,2, -999.00,9,   44.48,2,   28.24,2,   9.2546, -52.4066,-999.000,-999.0000, -999.00,  10.0504,  10.0833,2,    35.1213,2,  -999.0,9,     -999.0,9,     -999.0,9,     -999.0,9,       0550
33AT20120419,        A20,      19,          1,         27,         27,2,20120424,       0400,     9.2523,   -52.4078,       4770,   336.7,   9.2124,  34.8300,2,  34.8292,2,    141.9,2,   147.2,2,   13.15,2,   25.55,2,    0.01,2,    1.69,2,   1.793,2,   0.967,2,   0.043,2,    0.13,3,  2185.9,2,  2306.5,2,   7.6492,2,    25.00,-999.000,9,-999.0000,9, -999.00,9,   9.2105,2, -999.00,9,  -999.0,9,  -999.0,-999.000,9,-999.000,   0.400,2, -999.00,9,   43.71,2,   29.79,2,   9.2546, -52.4066,-999.000,-999.0000, -999.00,   9.1751,   9.2105,2,    34.9935,2,  -999.0,9,     -999.0,9,     -999.0,9,     -999.0,9,       0548
33AT20120419,        A20,      19,          1,         26,         26,2,20120424,       0400,     9.2523,   -52.4078,       4770,   386.5,   8.5474,  34.7658,2,  34.7679,2,    144.0,2,   142.2,2,   14.90,2,   27.52,2,    0.01,2,    1.81,2,   1.635,2,   0.898,2,   0.041,2,    0.17,3,  -999.0,9,  -999.0,9,-999.0000,9,  -999.00,-999.000,9,-999.0000,9, -999.00,9,   8.5474,2, -999.00,9,  -999.0,9,  -999.0,-999.000,9,-999.000,   0.400,2, -999.00,9,   42.14,2,   31.47,2,   9.2544, -52.4066,-999.000,-999.0000, -999.00,   8.5064,   8.5474,2,    34.9318,2,  -999.0,9,     -999.0,9,     -999.0,9,     -999.0,9,       0546
33AT20120419,        A20,      19,          1,         25,         25,2,20120424,       0400,     9.2523,   -52.4078,       4770,   437.6,   7.7308,  34.6757,2,  34.6747,2,    142.4,2,   144.5,2,   16.94,2,   29.10,2,    0.00,2,    1.91,2,   1.479,2,   0.809,2,   0.044,2,    0.16,3,  2197.2,2,  2301.2,2,   7.6074,2,    25.00,-999.000,9,-999.0000,9, -999.00,9,   7.7258,2, -999.00,9,  -999.0,9,  -999.0,-999.000,9,-999.000,   0.440,2, -999.00,9,   40.25,2,   32.58,2,   9.2544, -52.4067,-999.000,-999.0000, -999.00,   7.6869,   7.7258,2,    34.8382,2,  -999.0,9,     -999.0,9,     -999.0,9,     -999.0,9,       0544
33AT20120419,        A20,      19,          1,         24,         24,2,20120424,       0400,     9.2523,   -52.4078,       4770,   488.3,   7.5092,  34.6893,2,  34.6964,2,    128.3,2,   124.0,2,   18.71,2,   31.69,2,    0.00,2,    2.05,2,   0.985,2,   0.532,2,   0.026,2,    0.00,3,  2211.9,2,  2301.9,2,   7.5678,2,    25.00,-999.000,9,-999.0000,9, -999.00,9,   7.4920,2, -999.00,9,  -999.0,9,  -999.0,-999.000,9,-999.000,   0.310,2, -999.00,9,   41.15,2,   35.23,2,   9.2543, -52.4068,-999.000,-999.0000, -999.00,   7.4609,   7.4920,2,    34.8600,2,  -999.0,9,     -999.0,9,     -999.0,9,     -999.0,9,       0542
33AT20120419,        A20,      19,          1,         23,         23,2,20120424,       0400,     9.2523,   -52.4078,       4770,   568.5,   6.7475,  34.5864,2,  34.5859,2,    142.9,2,   144.0,2,   20.43,2,   31.49,2,    0.00,2,    2.07,2,   1.114,2,   0.596,2,   0.036,2,    0.00,3,  2205.2,2,  2298.4,2,   7.5796,2,    25.00,-999.000,9,-999.0000,9, -999.00,9,   6.7473,2, -999.00,9,  -999.0,9,  -999.0,-999.000,9,-999.000,   0.420,2, -999.00,9,   41.69,2,   35.28,2,   9.2542, -52.4068,-999.000,-999.0000, -999.00,   6.6943,   6.7473,2,    34.7490,2,  -999.0,9,     -999.0,9,     -999.0,9,     -999.0,9,       0539
33AT20120419,        A20,      19,          1,         22,         22,2,20120424,       0400,     9.2523,   -52.4078,       4770,   668.8,   6.2881,  34.5682,2,  34.5624,2,    145.5,2,   142.0,2,   22.69,2,   32.59,2,    0.00,2,    2.16,2,   0.851,2,   0.458,2,   0.029,2,    0.00,3,  2208.7,2,  2300.9,2,   7.5676,2,    25.00,-999.000,9,-999.0000,9, -999.00,9,   6.2897,2, -999.00,9,  -999.0,9,  -999.0,-999.000,9,-999.000,   0.370,2, -999.00,9,   41.11,2,   36.30,2,   9.2540, -52.4069,-999.000,-999.0000, -999.00,   6.2273,   6.2897,2,    34.7253,2,  -999.0,9,     -999.0,9,     -999.0,9,     -999.0,9,       0536
33AT20120419,        A20,      19,          1,         21,         21,2,20120424,       0400,     9.2523,   -52.4078,       4770,   770.2,   5.5594,  34.5977,2,  34.5965,2,    132.4,2,   132.8,2,   26.85,2,   34.35,2,    0.00,2,    2.28,2,   0.265,2,   0.147,2,   0.007,2,    0.00,3,  2220.5,2,  2305.2,2,   7.5470,2,    25.00,-999.000,9,-999.0000,9, -999.00,9,   5.5548,2, -999.00,9,  -999.0,9,  -999.0,-999.000,9,-999.000,   0.160,2, -999.00,9,   41.46,2,   38.35,2,   9.2539, -52.4070,-999.000,-999.0000, -999.00,   5.4931,   5.5548,2,    34.7597,2,  -999.0,9,     -999.0,9,     -999.0,9,     -999.0,9,       0533
33AT20120419,        A20,      19,          1,         20,         20,2,20120424,       0400,     9.2523,   -52.4078,       4770,   871.0,   5.3618,  34.6564,2,  34.6624,2,    135.4,2,   136.5,2,   27.44,2,   33.59,2,    0.00,2,    2.24,2,   0.144,2,   0.081,2,   0.026,2,    0.00,3,  2220.2,6,  2308.6,2,   7.5569,2,    25.00,-999.000,9,-999.0000,9, -999.00,9,   5.3618,2, -999.00,9,  -999.0,9,  -999.0,-999.000,9,-999.000,   0.120,2, -999.00,9,   41.24,2,   35.83,2,   9.2537, -52.4070,-999.000,-999.0000, -999.00,   5.2874,   5.3618,2,    34.8258,2,  -999.0,9,     -999.0,9,     -999.0,9,     -999.0,9,       0530
33AT20120419,        A20,      19,          1,         19,         19,2,20120424,       0400,     9.2523,   -52.4078,       4770,   972.0,   5.0049,  34.6944,2,  34.6942,2,    147.2,2,   148.2,2,   27.82,2,   32.35,2,    0.00,2,    2.16,2,-999.000,5,-999.000,5,-999.000,5, -999.00,5,  2217.4,2,  2311.8,2,   7.5728,2,    25.00,-999.000,9,-999.0000,9, -999.00,9,   5.0055,2, -999.00,9,  -999.0,9,  -999.0,-999.000,9,-999.000,-999.000,5, -999.00,9,   41.89,2,   34.96,2,   9.2537, -52.4071,-999.000,-999.0000, -999.00,   4.9238,   5.0055,2,    34.8578,2,  -999.0,9,     -999.0,9,     -999.0,9,     -999.0,9,       0528
33AT20120419,        A20,      19,          1,         18,         18,2,20120424,       0400,     9.2523,   -52.4078,       4770,  1072.9,   5.1395,  34.8009,2,  34.8021,2,    157.6,2,   158.6,2,   25.16,2,   29.91,2,    0.00,2,    1.99,2,   0.119,2,   0.072,2,   0.005,2,    0.00,3,  -999.0,9,  -999.0,9,-999.0000,9,  -999.00,-999.000,9,-999.0000,9, -999.00,9,   5.1415,2, -999.00,9,  -999.0,9,  -999.0,-999.000,9,-999.000,   0.090,2, -999.00,9,   40.46,2,   33.51,2,   9.2535, -52.4072,-999.000,-999.0000, -999.00,   5.0479,   5.1415,2,    34.9662,2,  -999.0,9,     -999.0,9,     -999.0,9,     -999.0,9,       0525
33AT20120419,        A20,      19,          1,         17,         17,2,20120424,       0400,     9.2523,   -52.4078,       4770,  1174.0,   5.1320,  34.8845,2,  34.8841,2,    172.9,2,   175.2,2,   22.71,2,   27.14,2,    0.00,2,    1.82,2,   0.215,2,   0.124,2,   0.007,2,    0.00,3,  2199.8,2,  2319.2,2,   7.6376,2,    25.00,-999.000,9,-999.0000,9, -999.00,9,   5.1335,2, -999.00,9,  -999.0,9,  -999.0,-999.000,9,-999.000,   0.150,2, -999.00,9,   40.56,2,   30.87,2,   9.2534, -52.4072,-999.000,-999.0000, -999.00,   5.0308,   5.1335,2,    35.0486,2,  -999.0,9,     -999.0,9,     -999.0,9,     -999.0,9,       0522
33AT20120419,        A20,      19,          1,         16,         16,2,20120424,       0400,     9.2523,   -52.4078,       4770,  1274.4,   4.9735,  34.9517,2,  34.9538,2,    195.0,2,   197.6,2,   19.61,2,   24.15,2,    0.00,2,    1.60,2,   0.396,2,   0.215,2,   0.014,2,    0.00,3,  -999.0,9,  -999.0,9,-999.0000,9,  -999.00,-999.000,9,-999.0000,9, -999.00,9,   4.9728,2, -999.00,9,  -999.0,9,  -999.0,-999.000,9,-999.000,   0.270,2, -999.00,9,   41.04,2,   27.65,2,   9.2533, -52.4073,-999.000,-999.0000, -999.00,   4.8641,   4.9728,2,    35.1186,2,  -999.0,9,     -999.0,9,     -999.0,9,     -999.0,9,       0519
33AT20120419,        A20,      19,          1,         15,         15,2,20120424,       0400,     9.2523,   -52.4078,       4770,  1375.4,   4.8970,  35.0041,2,  35.0055,2,    216.6,2,   220.2,2,   16.42,2,   21.22,2,    0.00,2,    1.40,2,   0.797,2,   0.421,2,   0.033,2,    0.00,3,  2176.7,2,  2319.2,2,   7.7026,2,    25.00,-999.000,9,-999.0000,9, -999.00,9,   4.8973,2, -999.00,9,  -999.0,9,  -999.0,-999.000,9,-999.000,   0.530,2, -999.00,9,   40.51,2,   25.38,2,   9.2532, -52.4074,-999.000,-999.0000, -999.00,   4.7787,   4.8973,2,    35.1706,2,  -999.0,9,     -999.0,9,     -999.0,9,     -999.0,9,       0516
33AT20120419,        A20,      19,          1,         14,         14,2,20120424,       0400,     9.2523,   -52.4078,       4770,  1476.0,   4.5949,  35.0067,2,  35.0077,2,    230.0,2,   235.3,2,   15.04,2,   19.80,2,    0.00,2,    1.31,2,   1.022,2,   0.527,2,   0.050,2,    0.00,3,  2170.2,2,  2318.9,2,   7.7157,2,    25.00,-999.000,9,-999.0000,9, -999.00,9,   4.5942,2, -999.00,9,  -999.0,9,  -999.0,-999.000,9,-999.000,   0.700,2, -999.00,9,   40.68,2,   23.89,2,   9.2531, -52.4074,-999.000,-999.0000, -999.00,   4.4702,   4.5942,2,    35.1728,2,  -999.0,9,     -999.0,9,     -999.0,9,     -999.0,9,       0513
33AT20120419,        A20,      19,          1,         13,         13,2,20120424,       0400,     9.2523,   -52.4078,       4770,  1577.8,   4.3415,  35.0016,2,  35.0024,2,    241.9,2,   246.6,2,   14.03,2,   18.92,2,    0.00,2,    1.25,2,   1.160,2,   0.601,2,   0.058,2,    0.00,3,  2165.7,2,  2317.4,2,   7.7253,2,    25.00,-999.000,9,-999.0000,9, -999.00,9,   4.3414,2, -999.00,9,  -999.0,9,  -999.0,-999.000,9,-999.000,   0.830,2, -999.00,9,   40.35,2,   22.59,2,   9.2530, -52.4075,-999.000,-999.0000, -999.00,   4.2100,   4.3414,2,    35.1674,2,  -999.0,9,     -999.0,9,     -999.0,9,     -999.0,9,       0510
33AT20120419,        A20,      19,          1,         12,         12,2,20120424,       0400,     9.2523,   -52.4078,       4770,  1750.7,   3.9386,  34.9822,2,  34.9831,2,    252.3,2,   254.0,2,   14.81,2,   18.55,2,    0.00,2,    1.23,2,   0.920,2,   0.465,2,   0.043,2,    0.00,3,  2161.5,2,  2315.7,2,   7.7311,2,    25.00,-999.000,9,-999.0000,9, -999.00,9,   3.9385,2, -999.00,9,  -999.0,9,  -999.0,-999.000,9,-999.000,   0.740,2, -999.00,9,   40.94,2,   22.15,2,   9.2529, -52.4075,-999.000,-999.0000, -999.00,   3.7958,   3.9385,2,    35.1480,2,  -999.0,9,     -999.0,9,     -999.0,9,     -999.0,9,       0506
33AT20120419,        A20,      19,          1,         11,         11,2,20120424,       0400,     9.2523,   -52.4078,       4770,  1952.2,   3.6501,  34.9719,2,  34.9721,2,    256.7,2,   255.6,2,   17.05,2,   18.73,2,    0.00,2,    1.24,2,   0.570,2,   0.299,2,   0.023,2,    0.00,3,  -999.0,9,  -999.0,9,-999.0000,9,  -999.00,-999.000,9,-999.0000,9, -999.00,9,   3.6491,2, -999.00,9,  -999.0,9,  -999.0,-999.000,9,-999.000,   0.520,2, -999.00,9,   40.52,2,   22.36,2,   9.2527, -52.4076,-999.000,-999.0000, -999.00,   3.4923,   3.6491,2,    35.1370,2,  -999.0,9,     -999.0,9,     -999.0,9,     -999.0,9,       0502
33AT20120419,        A20,      19,          1,         10,         10,2,20120424,       0400,     9.2523,   -52.4078,       4770,  2186.7,   3.3839,  34.9632,2,  34.9638,2,    257.5,2,   256.7,2,   19.43,2,   18.78,2,    0.00,2,    1.26,2,   0.379,2,   0.212,2,   0.015,2,    0.00,3,  2162.9,2,  2321.2,2,   7.7398,2,    25.00,-999.000,9,-999.0000,9, -999.00,9,   3.3844,2, -999.00,9,  -999.0,9,  -999.0,-999.000,9,-999.000,   0.400,2, -999.00,9,   40.41,2,   22.11,2,   9.2526, -52.4077,-999.000,-999.0000, -999.00,   3.2077,   3.3844,2,    35.1287,2,  -999.0,9,     -999.0,9,     -999.0,9,     -999.0,9,       0456
33AT20120419,        A20,      19,          1,          9,          9,2,20120424,       0400,     9.2523,   -52.4078,       4770,  2440.9,   3.1564,  34.9517,2,  34.9524,2,    260.4,2,   260.0,2,   20.42,2,   18.48,2,    0.00,2,    1.24,2,   0.501,2,   0.268,2,   0.020,2,    0.00,3,  -999.0,9,  -999.0,9,-999.0000,9,  -999.00,-999.000,9,-999.0000,9, -999.00,9,   3.1562,2, -999.00,9,  -999.0,9,  -999.0,-999.000,9,-999.000,   0.470,2, -999.00,9,   40.62,2,   20.95,2,   9.2526, -52.4077,-999.000,-999.0000, -999.00,   2.9594,   3.1562,2,    35.1172,2,  -999.0,9,     -999.0,9,     -999.0,9,     -999.0,9,       0451
33AT20120419,        A20,      19,          1,          8,          8,2,20120424,       0400,     9.2523,   -52.4078,       4770,  2694.7,   2.9722,  34.9418,2,  34.9421,2,    259.1,2,   259.9,2,   23.00,2,   18.70,2,    0.00,2,    1.26,2,   0.380,2,   0.208,2,   0.016,2,    0.00,3,  2165.5,2,  2323.5,2,   7.7407,2,    25.00,-999.000,9,-999.0000,9, -999.00,9,   2.9722,2, -999.00,9,  -999.0,9,  -999.0,-999.000,9,-999.000,   0.380,2, -999.00,9,   41.21,2,   21.42,2,   9.2524, -52.4078,-999.000,-999.0000, -999.00,   2.7534,   2.9722,2,    35.1069,2,  -999.0,9,     -999.0,9,     -999.0,9,     -999.0,9,       0445
33AT20120419,        A20,      19,          1,          7,          7,2,20120424,       0400,     9.2523,   -52.4078,       4770,  2949.3,   2.8220,  34.9322,2,  34.9341,2,    259.2,2,   259.0,2,   25.78,2,   19.01,2,    0.00,2,    1.28,2,   0.324,2,   0.181,2,   0.015,2,    0.00,3,  -999.0,9,  -999.0,9,-999.0000,9,  -999.00,-999.000,9,-999.0000,9, -999.00,9,   2.8222,2, -999.00,9,  -999.0,9,  -999.0,-999.000,9,-999.000,   0.340,2, -999.00,9,   41.03,2,   22.09,2,   9.2525, -52.4078,-999.000,-999.0000, -999.00,   2.5803,   2.8222,2,    35.0988,2,  -999.0,9,     -999.0,9,     -999.0,9,     -999.0,9,       0440