BOTTLE,20220712CCHSIOCBG
EXPOCODE,SECT_ID,STNNBR,CASTNO,SAMPNO,BTLNBR,BTLNBR_FLAG_W,DATE,TIME,LATITUDE,LONGITUDE,DEPTH,CTDPRS,CTDTMP,CTDSAL,CTDSAL_FLAG_W,SALNTY,SALNTY_FLAG_W,CTDOXY,CTDOXY_FLAG_W,OXYGEN,OXYGEN_FLAG_W,SILCAT,SILCAT_FLAG_W,NITRAT,NITRAT_FLAG_W,NITRIT,NITRIT_FLAG_W,PHSPHT,PHSPHT_FLAG_W,CFC-11,CFC-11_FLAG_W,CFC-12,CFC-12_FLAG_W,CFC113,CFC113_FLAG_W,SF6,SF6_FLAG_W,TCARBN,TCARBN_FLAG_W,ALKALI,ALKALI_FLAG_W,PH_TOT,PH_TOT_FLAG_W,PH_TMP,TRITUM,TRITUM_FLAG_W,HELIUM,HELIUM_FLAG_W,DELHE3,DELHE3_FLAG_W,REFTMP,REFTMP_FLAG_W,DELC13,DELC13_FLAG_W,DELC14,DELC14_FLAG_W,C14ERR,NEON,NEON_FLAG_W,NEONER,CCL4,CCL4_FLAG_W,DELO18,DELO18_FLAG_W,DOC,DOC_FLAG_W,TDN,TDN_FLAG_W,BTL_LAT,BTL_LON,TRITER,HELIER,DELHER,THETA,SBE35,SBE35_FLAG_W,SALTREF,SALTREF_FLAG_W,14C-DOC,14C-DOC_FLAG_W,DELO17,DELO17_FLAG_W,O2/AR,O2/AR_FLAG_W,SIP,SIP_FLAG_W,BTL_TIME
,,,,,,,,,,,METERS,DBAR,ITS-90,PSS-78,,PSS-78,,UMOL/KG,,UMOL/KG,,UMOL/KG,,UMOL/KG,,UMOL/KG,,UMOL/KG,,PMOL/KG,,PMOL/KG,,PMOL/KG,,FMOL/KG,,UMOL/KG,,UMOL/KG,,,,DEG C,TU,,NMOL/KG,,PERCNT,,DEG C,,/MILLE,,/MILLE,,/MILLE,NMOL/KG,,NMOL/KG,PMOL/KG,,/MILLE,,UMOL/KG,,UMOL/KG,,,,TU,NMOL/KG,PERCNT,DEG C,ITS-90,,G/KG,,/MILLE,,/MILLE,,,,,,
33AT20120419,        A20,      27,          1,         36,         36,2,20120426,       0822,    12.7456,   -52.3332,       5096,     3.4,  26.6992,  36.1547,2,  36.1543,2,    200.8,2,   202.4,2,    0.82,2,    0.00,2,    0.00,2,    0.00,2,   1.544,2,   0.985,2,   0.120,2,    1.14,3,  2017.8,6,  2371.4,2,   8.1046,2,    25.00,-999.000,9,-999.0000,9, -999.00,9,  26.6985,2,    1.28,2,    50.9,2,     2.8,-999.000,9,-999.000,   1.020,2, -999.00,9,   79.49,2,    4.88,2,  12.7454, -52.3331,-999.000,-999.0000, -999.00,  26.6984,  26.6985,2,    36.3248,2,  -999.0,9,     -999.0,9,     -999.0,9,     -999.0,9,       1041
33AT20120419,        A20,      27,          1,         35,         35,2,20120426,       0822,    12.7456,   -52.3332,       5096,    35.5,  26.7108,  36.1551,2,  36.1547,2,    201.4,2,   202.3,2,    0.84,2,    0.00,2,    0.00,2,    0.00,2,   1.537,2,   0.980,2,   0.120,2,    1.21,3,  2017.5,2,  2371.6,2,   8.1045,6,    25.00,-999.000,9,-999.0000,9, -999.00,9,  26.7105,2,    1.30,2,    49.3,2,     3.2,-999.000,9,-999.000,   1.010,2, -999.00,9,   73.58,2,    4.60,2,  12.7454, -52.3331,-999.000,-999.0000, -999.00,  26.7027,  26.7105,2,    36.3252,2,  -999.0,1,     -999.0,9,     -999.0,9,     -999.0,9,       1038
33AT20120419,        A20,      27,          1,         34,         34,2,20120426,       0822,    12.7456,   -52.3332,       5096,    61.9,  26.7172,  36.1561,2,  36.1550,2,    204.0,2,   202.1,2,    0.81,2,    0.00,2,    0.00,2,    0.00,2,   1.544,2,   0.965,2,   0.119,2,    1.39,3,  2018.3,2,  2370.1,2,   8.1040,2,    25.00,-999.000,9,-999.0000,9, -999.00,9,  26.7137,2, -999.00,9,  -999.0,9,  -999.0,-999.000,9,-999.000,   1.020,2, -999.00,9,   70.83,2,    4.60,2,  12.7454, -52.3331,-999.000,-999.0000, -999.00,  26.7031,  26.7137,2,    36.3255,2,  -999.0,9,     -999.0,9,     -999.0,9,     -999.0,9,       1036
33AT20120419,        A20,      27,          1,         33,         33,2,20120426,       0822,    12.7456,   -52.3332,       5096,    87.5,  26.2918,  36.2595,2,  36.2450,2,    206.0,2,   205.1,2,    0.54,2,    0.00,2,    0.00,2,    0.00,2,   1.582,2,   1.013,2,   0.121,2,    1.54,3,  2028.8,2,  2375.6,2,   8.0948,2,    25.00,-999.000,9,-999.0000,9, -999.00,9,  26.2896,2, -999.00,9,  -999.0,9,  -999.0,-999.000,9,-999.000,   0.890,2, -999.00,9,   62.32,2,    3.93,2,  12.7454, -52.3331,-999.000,-999.0000, -999.00,  26.2720,  26.2896,2,    36.4159,2,  -999.0,9,     -999.0,9,     -999.0,9,     -999.0,9,       1033
33AT20120419,        A20,      27,          1,         32,         32,2,20120426,       0822,    12.7456,   -52.3332,       5096,   115.6,  24.4382,  37.1990,2,  37.2116,2,    188.8,2,   179.2,2,    0.30,2,    0.17,2,    0.15,2,    0.02,2,   1.729,2,   1.088,2,   0.115,2,    1.69,3,  2115.6,2,  2433.5,3,   8.0304,2,    25.00,-999.000,9,-999.0000,9, -999.00,9,  24.3959,2,    0.99,2,    55.0,2,     2.8,-999.000,9,-999.000,   0.330,2, -999.00,9,   56.85,2,    4.60,2,  12.7454, -52.3331,-999.000,-999.0000, -999.00,  24.4133,  24.3959,2,    37.3871,2,  -999.0,1,     -999.0,9,     -999.0,9,     -999.0,9,       1030
33AT20120419,        A20,      27,          1,         31,         31,2,20120426,       0822,    12.7456,   -52.3332,       5096,   165.9,  18.4311,  36.3781,2,  36.3941,2,    127.9,2,   125.8,2,    3.40,2,   11.92,2,    0.02,2,    0.70,2,   1.947,2,   1.162,2,   0.024,2,    0.92,3,  -999.0,9,  -999.0,9,-999.0000,9,  -999.00,-999.000,9,-999.0000,9, -999.00,9,  18.4392,2, -999.00,9,  -999.0,9,  -999.0,-999.000,9,-999.000,   0.160,2, -999.00,9,   51.87,2,   16.26,2,  12.7453, -52.3331,-999.000,-999.0000, -999.00,  18.4019,  18.4392,2,    36.5657,2,  -999.0,9,     -999.0,9,     -999.0,9,     -999.0,9,       1028
33AT20120419,        A20,      27,          1,         30,         30,2,20120426,       0822,    12.7456,   -52.3332,       5096,   216.4,  14.5660,  35.7047,2,  35.6845,2,    123.5,2,   123.4,2,    6.97,2,   18.67,2,    0.01,2,    1.16,2,   1.967,2,   1.106,2,   0.018,2,    0.84,3,  2184.5,2,  2345.9,2,   7.7461,2,    25.00,-999.000,9,-999.0000,9, -999.00,9,  14.4918,2,    0.50,2,    39.8,2,     2.7,-999.000,9,-999.000,   0.190,2, -999.00,9,   47.13,2,   23.14,2,  12.7453, -52.3330,-999.000,-999.0000, -999.00,  14.5337,  14.4918,2,    35.8527,2,  -999.0,1,     -999.0,9,     -999.0,9,     -999.0,9,       1025
33AT20120419,        A20,      27,          1,         29,         29,2,20120426,       0822,    12.7456,   -52.3332,       5096,   266.1,  12.1363,  35.3321,2,  35.3280,2,    123.0,2,   122.9,2,    9.32,2,   22.45,2,    0.01,2,    1.41,2,   1.866,2,   1.030,2,   0.023,2,    0.52,3,  2192.3,2,  2327.0,2,   7.6911,2,    25.00,-999.000,9,-999.0000,9, -999.00,9,  12.0393,2,    0.54,2,    -0.8,2,     2.8,-999.000,9,-999.000,   0.250,2, -999.00,9,   46.72,2,   26.54,2,  12.7453, -52.3330,-999.000,-999.0000, -999.00,  12.1011,  12.0393,2,    35.4946,2,  -999.0,9,     -999.0,9,     -999.0,9,     -999.0,9,       1022
33AT20120419,        A20,      27,          1,         28,         28,2,20120426,       0822,    12.7456,   -52.3332,       5096,   316.7,  10.6314,  35.1207,2,  35.1177,2,    120.3,2,   118.1,2,   11.72,2,   25.79,2,    0.00,2,    1.62,2,   1.605,2,   0.865,2,   0.022,2,    0.54,3,  2198.9,2,  2317.3,6,   7.6451,2,    25.00,-999.000,9,-999.0000,9, -999.00,9,  10.6337,2,    0.52,2,     1.0,2,     3.3,-999.000,9,-999.000,   0.260,2, -999.00,9,   46.11,2,   28.96,2,  12.7453, -52.3330,-999.000,-999.0000, -999.00,  10.5929,  10.6337,2,    35.2833,2,  -999.0,9,     -999.0,9,     -999.0,9,     -999.0,9,       1020
33AT20120419,        A20,      27,          1,         27,         27,2,20120426,       0822,    12.7456,   -52.3332,       5096,   366.9,   9.5063,  34.9669,2,  34.9575,2,    119.3,2,   118.6,2,   13.88,2,   28.17,2,    0.00,2,    1.79,2,   1.390,2,   0.738,2,   0.025,2,    0.26,3,  -999.0,9,  -999.0,9,-999.0000,9,  -999.00,-999.000,9,-999.0000,9, -999.00,9,   9.5088,2, -999.00,9,  -999.0,9,  -999.0,-999.000,9,-999.000,   0.290,2, -999.00,9,   45.26,2,   32.10,2,  12.7453, -52.3330,-999.000,-999.0000, -999.00,   9.4647,   9.5088,2,    35.1223,2,  -999.0,9,     -999.0,9,     -999.0,9,     -999.0,9,       1018
33AT20120419,        A20,      27,          1,         26,         26,2,20120426,       0822,    12.7456,   -52.3332,       5096,   437.6,   8.3656,  34.8191,2,  34.8192,2,    118.4,2,   118.3,2,   16.61,2,   30.62,2,    0.00,2,    1.94,2,   1.146,2,   0.611,2,   0.022,2,    0.00,3,  2210.4,2,  2306.3,2,   7.5841,2,    25.00,-999.000,9,-999.0000,9, -999.00,9,   8.3701,2,    0.58,2,   -33.0,2,     2.5,-999.000,9,-999.000,   0.280,2, -999.00,9,   44.61,2,   33.78,2,  12.7452, -52.3330,-999.000,-999.0000, -999.00,   8.3195,   8.3701,2,    34.9834,2,  -999.0,1,     -999.0,9,     -999.0,9,     -999.0,9,       1016
33AT20120419,        A20,      27,          1,         25,         25,2,20120426,       0822,    12.7456,   -52.3332,       5096,   538.4,   7.8088,  34.8019,2,  34.7993,2,    117.6,2,   118.6,2,   18.54,2,   31.71,2,    0.00,2,    2.02,2,   0.860,2,   0.459,2,   0.017,2,    0.00,3,  2213.9,2,  2305.5,2,   7.5758,2,    25.00,-999.000,9,-999.0000,9, -999.00,9,   7.8101,2,    0.61,2,   -41.9,2,     2.8,-999.000,9,-999.000,   0.250,2, -999.00,9,   43.22,2,   34.54,2,  12.7452, -52.3330,-999.000,-999.0000, -999.00,   7.7540,   7.8101,2,    34.9634,2,  -999.0,9,     -999.0,9,     -999.0,9,     -999.0,9,       1012
33AT20120419,        A20,      27,          1,         24,         24,2,20120426,       0822,    12.7456,   -52.3332,       5096,   638.7,   7.0116,  34.7215,2,  34.7207,2,    120.3,2,   118.9,2,   21.19,2,   33.44,2,    0.00,2,    2.14,2,   0.574,2,   0.312,2,   0.012,2,    0.00,3,  2219.3,2,  2302.8,2,   7.5555,6,    25.00,-999.000,9,-999.0000,9, -999.00,9,   7.0134,2,    0.60,2,   -64.4,2,     2.5,-999.000,9,-999.000,   0.220,2, -999.00,9,   42.89,2,   36.19,2,  12.7451, -52.3329,-999.000,-999.0000, -999.00,   6.9501,   7.0134,2,    34.8844,2,  -999.0,1,     -999.0,9,     -999.0,9,     -999.0,9,       1010
33AT20120419,        A20,      27,          1,         23,         23,2,20120426,       0822,    12.7456,   -52.3332,       5096,   739.7,   6.2431,  34.6706,2,  34.6688,2,    124.6,2,   124.3,2,   24.09,2,   34.27,2,    0.00,2,    2.22,2,   0.265,2,   0.149,2,   0.006,2,    0.00,3,  2221.1,2,  2303.2,2,   7.5505,2,    25.00,-999.000,9,-999.0000,9, -999.00,9,   6.2537,2,    0.66,2,   -82.2,2,     2.9,-999.000,9,-999.000,   0.140,2, -999.00,9,   41.39,2,   37.41,2,  12.7451, -52.3329,-999.000,-999.0000, -999.00,   6.1757,   6.2537,2,    34.8323,2,  -999.0,9,     -999.0,9,     -999.0,9,     -999.0,9,       1007
33AT20120419,        A20,      27,          1,         22,         22,2,20120426,       0822,    12.7456,   -52.3332,       5096,   840.5,   5.6483,  34.6520,2,  34.6494,2,    131.1,2,   131.3,2,   26.65,2,   34.49,2,    0.00,2,    2.25,2,   0.184,2,   0.109,2,   0.004,2,    0.00,3,  2221.5,6,  2307.3,2,   7.5522,2,    25.00,-999.000,9,-999.0000,9, -999.00,9,   5.6486,2,    0.67,2,   -91.2,2,     2.8,-999.000,9,-999.000,   0.120,2, -999.00,9,   40.24,2,   37.51,2,  12.7450, -52.3329,-999.000,-999.0000, -999.00,   5.5749,   5.6486,2,    34.8128,2,  -999.0,1,     -999.0,9,     -999.0,9,     -999.0,9,       1003
33AT20120419,        A20,      27,          1,         21,         21,2,20120426,       0822,    12.7456,   -52.3332,       5096,   941.8,   5.4282,  34.6890,2,  34.6901,2,    136.9,2,   136.7,2,   27.07,2,   33.71,2,    0.00,2,    2.21,2,   0.115,2,   0.068,2,   0.003,2,    0.00,3,  2221.0,2,  2307.3,2,   7.5624,2,    25.00,-999.000,9,-999.0000,9, -999.00,9,   5.4283,2,    0.66,2,  -100.2,2,     2.4,-999.000,9,-999.000,   0.080,2, -999.00,9,   39.98,2,   36.92,2,  12.7451, -52.3329,-999.000,-999.0000, -999.00,   5.3468,   5.4283,2,    34.8537,2,  -999.0,9,     -999.0,9,     -999.0,9,     -999.0,9,       1000
33AT20120419,        A20,      27,          1,         20,         20,2,20120426,       0822,    12.7456,   -52.3332,       5096,  1042.8,   5.3392,  34.7728,2,  34.7711,2,    149.3,2,   149.2,2,   25.74,2,   31.54,2,    0.00,2,    2.08,2,   0.114,2,   0.069,2,   0.004,2,    0.00,3,  2215.5,2,  2312.2,2,   7.5899,2,    25.00,-999.000,9,-999.0000,9, -999.00,9,   5.3391,2,    0.67,2,  -100.2,2,     2.2,-999.000,9,-999.000,   0.090,2, -999.00,9,   39.65,2,   35.46,2,  12.7452, -52.3330,-999.000,-999.0000, -999.00,   5.2489,   5.3391,2,    34.9351,2,  -999.0,1,     -999.0,9,     -999.0,9,     -999.0,9,       0957
33AT20120419,        A20,      27,          1,         19,         19,2,20120426,       0822,    12.7456,   -52.3332,       5096,  1144.7,   5.3390,  34.8715,2,  34.8691,2,    162.4,2,   162.8,2,   23.31,2,   28.94,2,    0.00,2,    1.89,2,   0.154,2,   0.091,2,   0.005,2,    0.00,3,  -999.0,9,  -999.0,9,-999.0000,9,  -999.00,-999.000,9,-999.0000,9, -999.00,9,   5.3385,2, -999.00,9,  -999.0,9,  -999.0,-999.000,9,-999.000,   0.110,2, -999.00,9,   40.25,2,   32.16,2,  12.7452, -52.3330,-999.000,-999.0000, -999.00,   5.2388,   5.3385,2,    35.0335,2,  -999.0,9,     -999.0,9,     -999.0,9,     -999.0,9,       0954
33AT20120419,        A20,      27,          1,         18,         18,2,20120426,       0822,    12.7456,   -52.3332,       5096,  1244.4,   5.2125,  34.9407,2,  34.9389,2,    182.7,2,   183.9,2,   20.80,2,   25.85,2,    0.00,2,    1.70,2,   0.293,2,   0.165,2,   0.011,2,    0.00,3,  2196.2,2,  2318.7,2,   7.6590,2,    25.00,-999.000,9,-999.0000,9, -999.00,9,   5.2159,2,    0.77,2,   -88.5,2,     2.6,-999.000,9,-999.000,   0.210,2, -999.00,9,   41.37,2,   29.59,2,  12.7454, -52.3331,-999.000,-999.0000, -999.00,   5.1038,   5.2159,2,    35.1037,2,  -999.0,1,     -999.0,9,     -999.0,9,     -999.0,9,       0951
33AT20120419,        A20,      27,          1,         17,         17,2,20120426,       0822,    12.7456,   -52.3332,       5096,  1345.9,   4.9926,  34.9744,2,  34.9734,2,    199.3,2,   198.5,2,   19.21,2,   24.05,2,    0.00,2,    1.58,2,   0.309,2,   0.171,2,   0.010,2,    0.00,3,  -999.0,9,  -999.0,9,-999.0000,9,  -999.00,-999.000,9,-999.0000,9, -999.00,9,   4.9938,2, -999.00,9,  -999.0,9,  -999.0,-999.000,9,-999.000,   0.260,2, -999.00,9,   40.63,2,   27.36,2,  12.7455, -52.3332,-999.000,-999.0000, -999.00,   4.8762,   4.9938,2,    35.1383,2,  -999.0,9,     -999.0,9,     -999.0,9,     -999.0,9,       0947
33AT20120419,        A20,      27,          1,         16,         16,2,20120426,       0822,    12.7456,   -52.3332,       5096,  1446.5,   4.7626,  34.9972,2,  34.9964,2,    218.7,2,   217.8,2,   17.22,2,   21.84,2,    0.00,2,    1.43,2,   0.525,2,   0.278,2,   0.026,2,    0.00,3,  -999.0,9,  -999.0,9,-999.0000,9,  -999.00,-999.000,9,-999.0000,9, -999.00,9,   4.7634,2, -999.00,9,  -999.0,9,  -999.0,-999.000,9,-999.000,   0.440,2, -999.00,9,   40.24,2,   25.39,2,  12.7457, -52.3333,-999.000,-999.0000, -999.00,   4.6389,   4.7634,2,    35.1614,2,  -999.0,9,     -999.0,9,     -999.0,9,     -999.0,9,       0944
33AT20120419,        A20,      27,          1,         15,         15,2,20120426,       0822,    12.7456,   -52.3332,       5096,  1548.8,   4.4727,  35.0018,2,  35.0011,2,    233.6,2,   234.3,2,   15.79,2,   20.21,2,    0.00,2,    1.33,2,   0.693,2,   0.360,2,   0.028,2,    0.00,3,  2171.7,2,  2317.2,2,   7.7172,2,    25.00,-999.000,9,-999.0000,9, -999.00,9,   4.4729,2,    1.04,3,   -55.7,2,     2.5,-999.000,9,-999.000,   0.590,2, -999.00,9,   40.11,2,   23.35,2,  12.7458, -52.3334,-999.000,-999.0000, -999.00,   4.3424,   4.4729,2,    35.1662,2,  -999.0,9,     -999.0,9,     -999.0,9,     -999.0,9,       0941
33AT20120419,        A20,      27,          1,         14,         14,2,20120426,       0822,    12.7456,   -52.3332,       5096,  1680.5,   4.1515,  34.9929,2,  34.9925,2,    245.2,2,   245.8,2,   15.21,2,   19.28,2,    0.00,2,    1.27,2,   0.749,2,   0.385,2,   0.034,2,    0.00,3,  2166.5,2,  2315.6,2,   7.7274,2,    25.00,-999.000,9,-999.0000,9, -999.00,9,   4.1512,2,    0.94,2,   -63.1,2,     2.8,-999.000,9,-999.000,   0.660,2, -999.00,9,   40.63,2,   22.70,2,  12.7458, -52.3334,-999.000,-999.0000, -999.00,   4.0126,   4.1512,2,    35.1575,2,  -999.0,1,     -999.0,9,     -999.0,9,     -999.0,9,       0938
33AT20120419,        A20,      27,          1,         13,         13,2,20120426,       0822,    12.7456,   -52.3332,       5096,  1882.9,   3.7714,  34.9793,2,  35.0008,4,    253.6,2,   254.2,2,   16.42,2,   18.86,2,    0.00,2,    1.25,2,   0.584,2,   0.304,2,   0.026,2,    0.00,3,  2163.5,2,  2316.3,2,   7.7362,6,    25.00,-999.000,9,-999.0000,9, -999.00,9,   3.7713,2,    1.04,2,   -66.0,2,     2.3,-999.000,9,-999.000,   0.580,2, -999.00,9,   41.06,2,   21.78,2,  12.7456, -52.3332,-999.000,-999.0000, -999.00,   3.6184,   3.7713,2,    35.1658,4,  -999.0,9,     -999.0,9,     -999.0,9,     -999.0,9,       0933
33AT20120419,        A20,      27,          1,         12,         12,2,20120426,       0822,    12.7456,   -52.3332,       5096,  2106.7,   3.4238,  34.9673,2,  34.9669,2,    255.4,2,   254.9,2,   19.76,2,   18.98,2,    0.00,2,    1.26,2,   0.339,2,   0.183,2,   0.014,2,    0.00,3,  2165.3,2,  2319.4,2,   7.7391,2,    25.00,-999.000,9,-999.0000,9, -999.00,9,   3.4231,2,    1.02,2,   -65.8,2,     2.5,-999.000,9,-999.000,   0.400,2, -999.00,9,   39.96,2,   22.66,2,  12.7454, -52.3331,-999.000,-999.0000, -999.00,   3.2547,   3.4231,2,    35.1318,2,  -999.0,1,     -999.0,9,     -999.0,9,     -999.0,9,       0927
33AT20120419,        A20,      27,          1,         11,         11,2,20120426,       0822,    12.7456,   -52.3332,       5096,  2361.2,   3.1441,  34.9533,2,  34.9520,2,    257.2,2,   258.4,2,   21.39,2,   18.76,2,    0.00,2,    1.25,2,   0.375,2,   0.197,2,   0.015,2,    0.00,3,  2166.0,2,  2323.7,2,   7.7403,2,    25.00,-999.000,9,-999.0000,9, -999.00,9,   3.1439,2,    1.08,2,   -59.3,2,     2.5,-999.000,9,-999.000,   0.430,2, -999.00,9,   40.28,2,   22.38,2,  12.7452, -52.3329,-999.000,-999.0000, -999.00,   2.9551,   3.1439,2,    35.1168,2,  -999.0,9,     -999.0,9,     -999.0,9,     -999.0,9,       0922
33AT20120419,        A20,      27,          1,         10,         10,2,20120426,       0822,    12.7456,   -52.3332,       5096,  2614.3,   2.9465,  34.9421,2,  34.9426,2,    256.5,2,   256.4,2,   25.08,2,   19.22,2,    0.00,2,    1.29,2,   0.270,2,   0.152,2,   0.008,2,    0.00,3,  2168.6,2,  2323.5,2,   7.7408,2,    25.00,-999.000,9,-999.0000,9, -999.00,9,   2.9459,2,    1.09,2,   -68.8,2,     2.5,-999.000,9,-999.000,   0.310,2, -999.00,9,   40.33,2,   22.69,2,  12.7450, -52.3327,-999.000,-999.0000, -999.00,   2.7362,   2.9459,2,    35.1073,2,  -999.0,1,     -999.0,9,     -999.0,9,     -999.0,9,       0916
33AT20120419,        A20,      27,          1,          9,          9,2,20120426,       0822,    12.7456,   -52.3332,       5096,  2869.0,   2.7825,  34.9311,2,  34.9312,2,    254.5,2,   254.0,2,   29.71,2,   19.89,2,    0.00,2,    1.34,2,   0.169,2,   0.099,2,   0.006,2,    0.00,3,  -999.0,9,  -999.0,9,-999.0000,9,  -999.00,-999.000,9,-999.0000,9, -999.00,9,   2.7824,2, -999.00,9,  -999.0,9,  -999.0,-999.000,9,-999.000,   0.220,2, -999.00,9,   40.87,2,   22.34,2,  12.7449, -52.3326,-999.000,-999.0000, -999.00,   2.5499,   2.7824,2,    35.0959,2,  -999.0,9,     -999.0,9,     -999.0,9,     -999.0,9,       0911
33AT20120419,        A20,      27,          1,          8,          8,2,20120426,       0822,    12.7456,   -52.3332,       5096,  3139.5,   2.6709,  34.9222,2,  34.9217,2,    253.8,2,   254.4,2,   31.95,2,   20.06,2,    0.00,2,    1.35,2,   0.172,2,   0.092,2,   0.008,2,    0.00,3,  2176.4,2,  2332.6,2,   7.7368,2,    25.00,-999.000,9,-999.0000,9, -999.00,9,   2.6708,2,    1.05,2,   -79.7,2,     2.5,-999.000,9,-999.000,   0.220,2, -999.00,9,   41.06,2,   22.88,2,  12.7451, -52.3327,-999.000,-999.0000, -999.00,   2.4128,   2.6708,2,    35.0864,2,  -999.0,1,     -999.0,9,     -999.0,9,     -999.0,9,       0905
33AT20120419,        A20,      27,          1,          7,          7,2,20120426,       0822,    12.7456,   -52.3332,       5096,  3445.2,   2.5280,  34.9101,2,  34.9121,2,    254.5,2,   255.2,2,   34.62,2,   20.25,2,    0.00,2,    1.37,2,   0.172,2,   0.097,2,   0.007,2,    0.00,3,  -999.0,9,  -999.0,9,-999.0000,9,  -999.00,-999.000,9,-999.0000,9, -999.00,9,   2.5275,2, -999.00,9,  -999.0,9,  -999.0,-999.000,9,-999.000,   0.230,2, -999.00,9,   40.46,2,   22.75,2,  12.7452, -52.3329,-999.000,-999.0000, -999.00,   2.2408,   2.5275,2,    35.0767,2,  -999.0,9,     -999.0,9,     -999.0,9,     -999.0,9,       0859