BOTTLE,20220712CCHSIOCBG
EXPOCODE,SECT_ID,STNNBR,CASTNO,SAMPNO,BTLNBR,BTLNBR_FLAG_W,DATE,TIME,LATITUDE,LONGITUDE,DEPTH,CTDPRS,CTDTMP,CTDSAL,CTDSAL_FLAG_W,SALNTY,SALNTY_FLAG_W,CTDOXY,CTDOXY_FLAG_W,OXYGEN,OXYGEN_FLAG_W,SILCAT,SILCAT_FLAG_W,NITRAT,NITRAT_FLAG_W,NITRIT,NITRIT_FLAG_W,PHSPHT,PHSPHT_FLAG_W,CFC-11,CFC-11_FLAG_W,CFC-12,CFC-12_FLAG_W,CFC113,CFC113_FLAG_W,SF6,SF6_FLAG_W,TCARBN,TCARBN_FLAG_W,ALKALI,ALKALI_FLAG_W,PH_TOT,PH_TOT_FLAG_W,PH_TMP,TRITUM,TRITUM_FLAG_W,HELIUM,HELIUM_FLAG_W,DELHE3,DELHE3_FLAG_W,REFTMP,REFTMP_FLAG_W,DELC13,DELC13_FLAG_W,DELC14,DELC14_FLAG_W,C14ERR,NEON,NEON_FLAG_W,NEONER,CCL4,CCL4_FLAG_W,DELO18,DELO18_FLAG_W,DOC,DOC_FLAG_W,TDN,TDN_FLAG_W,BTL_LAT,BTL_LON,TRITER,HELIER,DELHER,THETA,SBE35,SBE35_FLAG_W,SALTREF,SALTREF_FLAG_W,14C-DOC,14C-DOC_FLAG_W,DELO17,DELO17_FLAG_W,O2/AR,O2/AR_FLAG_W,SIP,SIP_FLAG_W,BTL_TIME
,,,,,,,,,,,METERS,DBAR,ITS-90,PSS-78,,PSS-78,,UMOL/KG,,UMOL/KG,,UMOL/KG,,UMOL/KG,,UMOL/KG,,UMOL/KG,,PMOL/KG,,PMOL/KG,,PMOL/KG,,FMOL/KG,,UMOL/KG,,UMOL/KG,,,,DEG C,TU,,NMOL/KG,,PERCNT,,DEG C,,/MILLE,,/MILLE,,/MILLE,NMOL/KG,,NMOL/KG,PMOL/KG,,/MILLE,,UMOL/KG,,UMOL/KG,,,,TU,NMOL/KG,PERCNT,DEG C,ITS-90,,G/KG,,/MILLE,,/MILLE,,,,,,
33AT20120419,        A20,      74,          1,          6,          6,2,20120510,       2255,    42.2456,   -51.4326,       3118,  2228.6,   3.3309,  34.9296,2,  34.9297,2,    269.8,2,   270.4,2,   13.87,2,   17.33,2,    0.00,2,    1.15,2,   2.222,2,   1.098,2,   0.114,2,    0.56,2,  -999.0,9,  -999.0,9,-999.0000,9,  -999.00,   0.406,2,-999.0000,9, -999.00,9,   3.3307,2, -999.00,9,  -999.0,9,  -999.0,-999.000,9,-999.000,-999.000,9, -999.00,9, -999.00,9, -999.00,9,  42.2454, -51.4336,   0.010,-999.0000, -999.00,   3.1517,   3.3307,2,    35.0945,2,  -999.0,9,     -999.0,9,     -999.0,9,     -999.0,9,       2315
33AT20120419,        A20,      74,          1,          5,          5,2,20120510,       2255,    42.2456,   -51.4326,       3118,  2431.6,   3.1376,  34.9252,2,  34.9256,2,    271.4,2,   271.4,2,   14.73,2,   17.15,2,    0.00,2,    1.14,2,-999.000,9,-999.000,9,-999.000,9, -999.00,9,  2158.3,2,  2310.6,2,-999.0000,9,  -999.00,-999.000,9,-999.0000,9, -999.00,9,   3.1378,2, -999.00,9,  -999.0,9,  -999.0,-999.000,9,-999.000,-999.000,9, -999.00,9, -999.00,9, -999.00,9,  42.2454, -51.4334,-999.000,-999.0000, -999.00,   2.9419,   3.1378,2,    35.0903,2,  -999.0,9,     -999.0,9,     -999.0,9,     -999.0,9,       2310
33AT20120419,        A20,      74,          1,          4,          4,2,20120510,       2255,    42.2456,   -51.4326,       3118,  2636.8,   2.9299,  34.9223,2,  34.9237,2,    271.8,2,   271.8,2,   15.71,2,   17.06,2,    0.00,2,    1.14,2,   2.057,2,   1.018,2,   0.096,2,    0.54,2,  -999.0,9,  -999.0,9,-999.0000,9,  -999.00,   0.365,2,   1.8567,2,    7.33,2,   2.9312,2, -999.00,9,  -999.0,9,  -999.0,   8.138,2,   0.037,-999.000,9, -999.00,9, -999.00,9, -999.00,9,  42.2455, -51.4331,   0.010,   0.0078,    0.15,   2.7178,   2.9312,2,    35.0883,2,  -999.0,9,     -999.0,9,     -999.0,9,     -999.0,9,       2306
33AT20120419,        A20,      74,          1,          3,          3,2,20120510,       2255,    42.2456,   -51.4326,       3118,  2841.4,   2.6516,  34.9130,2,  34.9132,2,    273.5,2,   275.1,2,   16.25,2,   16.71,2,    0.00,2,    1.12,2,   2.263,2,   1.136,2,   0.118,2,    0.59,2,  -999.0,9,  -999.0,9,-999.0000,9,  -999.00,-999.000,9,-999.0000,9, -999.00,9,   2.6515,2, -999.00,9,  -999.0,9,  -999.0,-999.000,9,-999.000,-999.000,9, -999.00,9, -999.00,9, -999.00,9,  42.2455, -51.4329,-999.000,-999.0000, -999.00,   2.4246,   2.6515,2,    35.0779,2,  -999.0,9,     -999.0,9,     -999.0,9,     -999.0,9,       2302
33AT20120419,        A20,      74,          1,          2,          2,2,20120510,       2255,    42.2456,   -51.4326,       3118,  2993.1,   2.4535,  34.9055,2,  34.9056,2,    275.7,2,   276.6,2,   16.99,2,   16.50,2,    0.00,2,    1.10,2,   2.412,2,   1.153,2,   0.143,2,    0.72,2,  -999.0,9,  -999.0,9,-999.0000,9,  -999.00,-999.000,9,-999.0000,9, -999.00,9,   2.4543,2, -999.00,9,  -999.0,9,  -999.0,-999.000,9,-999.000,-999.000,9, -999.00,9, -999.00,9, -999.00,9,  42.2456, -51.4328,-999.000,-999.0000, -999.00,   2.2154,   2.4543,2,    35.0702,2,  -999.0,9,     -999.0,9,     -999.0,9,     -999.0,9,       2258
33AT20120419,        A20,      74,          1,          1,          1,2,20120510,       2255,    42.2456,   -51.4326,       3118,  3149.9,   2.2638,  34.8979,2,  34.8969,2,    277.0,2,   276.9,2,   19.23,2,   16.62,2,    0.00,2,    1.11,2,   2.430,2,   1.218,2,   0.163,2,    0.76,2,  2167.6,2,  2313.2,2,-999.0000,9,  -999.00,   0.391,2,   1.8662,2,    6.17,2,   2.2639,2, -999.00,9,  -999.0,9,  -999.0,   8.076,2,   0.037,-999.000,9, -999.00,9, -999.00,9, -999.00,9,  42.2456, -51.4326,   0.010,   0.0078,    0.15,   2.0139,   2.2639,2,    35.0615,2,  -999.0,9,     -999.0,9,     -999.0,9,     -999.0,9,       2255