BOTTLE,20220712CCHSIOCBG
EXPOCODE,SECT_ID,STNNBR,CASTNO,SAMPNO,BTLNBR,BTLNBR_FLAG_W,DATE,TIME,LATITUDE,LONGITUDE,DEPTH,CTDPRS,CTDTMP,CTDSAL,CTDSAL_FLAG_W,SALNTY,SALNTY_FLAG_W,CTDOXY,CTDOXY_FLAG_W,OXYGEN,OXYGEN_FLAG_W,SILCAT,SILCAT_FLAG_W,NITRAT,NITRAT_FLAG_W,NITRIT,NITRIT_FLAG_W,PHSPHT,PHSPHT_FLAG_W,CFC-11,CFC-11_FLAG_W,CFC-12,CFC-12_FLAG_W,CFC113,CFC113_FLAG_W,SF6,SF6_FLAG_W,TCARBN,TCARBN_FLAG_W,ALKALI,ALKALI_FLAG_W,PH_TOT,PH_TOT_FLAG_W,PH_TMP,TRITUM,TRITUM_FLAG_W,HELIUM,HELIUM_FLAG_W,DELHE3,DELHE3_FLAG_W,REFTMP,REFTMP_FLAG_W,DELC13,DELC13_FLAG_W,DELC14,DELC14_FLAG_W,C14ERR,NEON,NEON_FLAG_W,NEONER,CCL4,CCL4_FLAG_W,DELO18,DELO18_FLAG_W,DOC,DOC_FLAG_W,TDN,TDN_FLAG_W,BTL_LAT,BTL_LON,TRITER,HELIER,DELHER,THETA,SBE35,SBE35_FLAG_W,SALTREF,SALTREF_FLAG_W,14C-DOC,14C-DOC_FLAG_W,DELO17,DELO17_FLAG_W,O2/AR,O2/AR_FLAG_W,SIP,SIP_FLAG_W,BTL_TIME
,,,,,,,,,,,METERS,DBAR,ITS-90,PSS-78,,PSS-78,,UMOL/KG,,UMOL/KG,,UMOL/KG,,UMOL/KG,,UMOL/KG,,UMOL/KG,,PMOL/KG,,PMOL/KG,,PMOL/KG,,FMOL/KG,,UMOL/KG,,UMOL/KG,,,,DEG C,TU,,NMOL/KG,,PERCNT,,DEG C,,/MILLE,,/MILLE,,/MILLE,NMOL/KG,,NMOL/KG,PMOL/KG,,/MILLE,,UMOL/KG,,UMOL/KG,,,,TU,NMOL/KG,PERCNT,DEG C,ITS-90,,G/KG,,/MILLE,,/MILLE,,,,,,
33AT20120419,        A20,      60,          1,         36,         36,2,20120507,       0751,    36.5018,   -52.3301,       5461,     4.3,  18.8287,  36.4911,2,  36.4911,2,    231.2,2,   232.4,2,    0.00,2,    0.00,2,    0.01,2,    0.00,2,   2.239,2,   1.391,2,   0.193,2,    1.66,2,  2078.6,6,  2394.8,2,   8.0329,2,    25.00,   0.560,2,   1.7305,2,   -1.02,2,  18.8297,2, -999.00,9,  -999.0,9,  -999.0,   6.869,2,   0.032,-999.000,9, -999.00,1, -999.00,9, -999.00,9,  36.5027, -52.3265,   0.009,   0.0073,    0.15,  18.8279,  18.8297,2,    36.6632,2,  -999.0,9,     -999.0,1,     -999.0,1,     -999.0,9,       1012
33AT20120419,        A20,      60,          1,         35,         35,2,20120507,       0751,    36.5018,   -52.3301,       5461,    34.7,  18.7100,  36.4900,2,  36.4901,2,    233.0,2,   231.6,2,    0.00,2,    0.01,2,    0.03,2,    0.00,2,-999.000,5,-999.000,5,-999.000,5,    1.77,2,  2081.4,2,  2391.9,2,   8.0306,6,    25.00,-999.000,9,-999.0000,9, -999.00,9,  18.7092,2, -999.00,9,  -999.0,9,  -999.0,-999.000,9,-999.000,-999.000,9, -999.00,9, -999.00,9, -999.00,9,  36.5027, -52.3265,-999.000,-999.0000, -999.00,  18.7038,  18.7092,2,    36.6622,2,  -999.0,9,     -999.0,9,     -999.0,9,     -999.0,9,       1009
33AT20120419,        A20,      60,          1,         34,         34,2,20120507,       0751,    36.5018,   -52.3301,       5461,    59.3,  18.6980,  36.4896,2,  36.4889,2,    231.0,2,   230.0,2,    0.00,2,    0.05,2,    0.05,2,    0.00,2,   2.278,2,   1.424,2,   0.201,2,    1.68,2,  2083.8,2,  2393.4,6,   8.0278,2,    25.00,-999.000,9,-999.0000,9, -999.00,9,  18.7008,2, -999.00,9,  -999.0,9,  -999.0,-999.000,9,-999.000,-999.000,9, -999.00,1, -999.00,9, -999.00,9,  36.5027, -52.3265,-999.000,-999.0000, -999.00,  18.6875,  18.7008,2,    36.6610,2,  -999.0,9,     -999.0,1,     -999.0,1,     -999.0,9,       1006
33AT20120419,        A20,      60,          1,         33,         33,2,20120507,       0751,    36.5018,   -52.3301,       5461,    85.1,  18.4713,  36.4977,2,  36.4973,2,    225.5,2,   222.7,2,    0.42,2,    1.31,2,    0.11,2,    0.06,2,   2.264,2,   1.385,2,   0.176,2,    1.60,2,  2093.8,2,  2390.3,6,   8.0078,2,    25.00,   0.537,2,   1.7374,2,   -0.78,2,  18.4716,2, -999.00,9,  -999.0,9,  -999.0,   6.984,3,   0.032,-999.000,9, -999.00,1, -999.00,9, -999.00,9,  36.5027, -52.3265,   0.009,   0.0073,    0.15,  18.4563,  18.4716,2,    36.6694,2,  -999.0,9,     -999.0,1,     -999.0,1,     -999.0,9,       1004
33AT20120419,        A20,      60,          1,         32,         32,2,20120507,       0751,    36.5018,   -52.3301,       5461,   120.9,  18.3761,  36.5313,2,  36.5349,2,    220.7,2,   220.8,2,    0.47,2,    1.54,2,    0.02,2,    0.06,2,   2.290,2,   1.411,2,   0.176,2,    1.68,2,  -999.0,9,  -999.0,9,-999.0000,9,  -999.00,-999.000,9,-999.0000,9, -999.00,9,  18.3774,2, -999.00,9,  -999.0,9,  -999.0,-999.000,9,-999.000,-999.000,9, -999.00,1, -999.00,9, -999.00,9,  36.5027, -52.3264,-999.000,-999.0000, -999.00,  18.3549,  18.3774,2,    36.7072,2,  -999.0,9,     -999.0,1,     -999.0,1,     -999.0,1,       1000
33AT20120419,        A20,      60,          1,         31,         31,2,20120507,       0751,    36.5018,   -52.3301,       5461,   171.3,  18.0332,  36.4404,2,  36.4384,2,    222.0,2,   223.8,2,    0.59,2,    1.97,2,    0.02,2,    0.09,2,   2.315,2,   1.406,2,   0.174,2,    1.60,2,  2096.2,2,  2387.9,6,   7.9977,2,    25.00,   0.532,2,   1.7365,2,   -0.93,2,  18.0361,2, -999.00,9,  -999.0,9,  -999.0,   6.994,2,   0.032,-999.000,9, -999.00,1, -999.00,9, -999.00,9,  36.5027, -52.3263,   0.010,   0.0073,    0.15,  18.0035,  18.0361,2,    36.6102,2,  -999.0,9,     -999.0,1,     -999.0,1,     -999.0,9,       0957
33AT20120419,        A20,      60,          1,         30,         30,2,20120507,       0751,    36.5018,   -52.3301,       5461,   216.8,  17.9735,  36.4329,2,  36.4317,2,    223.5,2,   222.0,2,    0.68,2,    2.21,2,    0.02,2,    0.10,2,   2.358,2,   1.463,2,   0.166,2,    1.58,2,  2098.4,2,  2387.4,2,   7.9941,2,    25.00,-999.000,9,-999.0000,9, -999.00,9,  17.9843,2, -999.00,9,  -999.0,9,  -999.0,-999.000,9,-999.000,-999.000,9, -999.00,9, -999.00,9, -999.00,9,  36.5028, -52.3263,-999.000,-999.0000, -999.00,  17.9359,  17.9843,2,    36.6035,2,  -999.0,9,     -999.0,9,     -999.0,9,     -999.0,9,       0954
33AT20120419,        A20,      60,          1,         29,         29,2,20120507,       0751,    36.5018,   -52.3301,       5461,   267.3,  18.2022,  36.5866,2,  36.5859,2,    203.4,2,   203.2,2,    1.00,2,    3.86,2,    0.00,2,    0.17,2,   2.324,2,   1.448,2,   0.049,2,    1.44,2,  2112.2,2,  2393.3,2,   7.9799,2,    25.00,   0.523,2,   1.7397,2,   -0.31,2,  18.2029,2, -999.00,9,  -999.0,9,  -999.0,   7.059,2,   0.032,-999.000,9, -999.00,1, -999.00,9, -999.00,9,  36.5028, -52.3263,   0.009,   0.0073,    0.15,  18.1554,  18.2029,2,    36.7584,2,  -999.0,9,     -999.0,1,     -999.0,1,     -999.0,9,       0952
33AT20120419,        A20,      60,          1,         28,         28,2,20120507,       0751,    36.5018,   -52.3301,       5461,   316.2,  17.9958,  36.5576,2,  36.5577,2,    200.1,2,   201.4,2,    1.14,2,    4.43,2,    0.00,2,    0.19,2,   2.348,2,   1.439,2,   0.044,2,    1.43,2,  -999.0,9,  -999.0,9,-999.0000,9,  -999.00,-999.000,9,-999.0000,9, -999.00,9,  17.9951,2, -999.00,9,  -999.0,9,  -999.0,-999.000,9,-999.000,-999.000,9, -999.00,9, -999.00,9, -999.00,9,  36.5028, -52.3263,-999.000,-999.0000, -999.00,  17.9408,  17.9951,2,    36.7301,2,  -999.0,9,     -999.0,9,     -999.0,9,     -999.0,1,       0950
33AT20120419,        A20,      60,          1,         27,         27,2,20120507,       0751,    36.5018,   -52.3301,       5461,   368.7,  17.7415,  36.5180,2,  36.5084,2,    200.7,2,   200.6,2,    1.31,2,    4.91,2,    0.00,2,    0.22,2,   2.329,2,   1.398,2,   0.043,2,    1.42,2,  2118.1,2,  2388.2,2,   7.9617,2,    25.00,   0.518,2,   1.7367,2,   -0.06,2,  17.7413,2, -999.00,9,  -999.0,9,  -999.0,   7.107,2,   0.033,-999.000,9, -999.00,1, -999.00,9, -999.00,9,  36.5028, -52.3262,   0.009,   0.0073,    0.15,  17.6779,  17.7413,2,    36.6805,2,  -999.0,9,     -999.0,1,     -999.0,1,     -999.0,9,       0948
33AT20120419,        A20,      60,          1,         26,         26,2,20120507,       0751,    36.5018,   -52.3301,       5461,   436.8,  17.2663,  36.4326,2,  36.4327,2,    201.0,2,   200.5,2,    1.60,2,    5.68,2,    0.00,2,    0.28,2,   2.368,2,   1.406,2,   0.045,2,    1.39,2,  2120.3,2,  2384.3,2,   7.9496,2,    25.00,-999.000,9,-999.0000,9, -999.00,9,  17.2673,2, -999.00,9,  -999.0,9,  -999.0,-999.000,9,-999.000,-999.000,9, -999.00,9, -999.00,9, -999.00,9,  36.5028, -52.3262,-999.000,-999.0000, -999.00,  17.1923,  17.2673,2,    36.6045,2,  -999.0,9,     -999.0,9,     -999.0,9,     -999.0,9,       0946
33AT20120419,        A20,      60,          1,         25,         25,2,20120507,       0751,    36.5018,   -52.3301,       5461,   539.0,  15.6991,  36.1312,2,  36.1310,2,    192.7,2,   193.3,2,    2.78,2,    8.72,2,    0.00,2,    0.50,2,   2.422,2,   1.403,2,   0.050,2,    1.30,2,  2131.6,2,  2367.3,2,   7.8997,2,    25.00,-999.000,9,   1.7545,2,    1.24,2,  15.7001,2, -999.00,9,  -999.0,9,  -999.0,   7.241,2,   0.033,-999.000,9, -999.00,1, -999.00,9, -999.00,9,  36.5027, -52.3264,-999.000,   0.0074,    0.15,  15.6133,  15.7001,2,    36.3014,2,  -999.0,9,     -999.0,1,     -999.0,1,     -999.0,9,       0942
33AT20120419,        A20,      60,          1,         24,         24,2,20120507,       0751,    36.5018,   -52.3301,       5461,   637.8,  14.4355,  35.9147,2,  35.9193,2,    186.5,2,   192.4,2,    3.76,2,   10.75,2,    0.00,2,    0.63,2,   1.940,2,   1.205,2,   0.043,2,    1.25,2,  2139.1,2,  2358.7,2,   7.8660,6,    25.00,   0.560,2,   1.7567,2,    1.67,2,  14.4324,2, -999.00,9,  -999.0,9,  -999.0,   7.200,2,   0.033,-999.000,9, -999.00,1, -999.00,9, -999.00,9,  36.5026, -52.3267,   0.009,   0.0074,    0.15,  14.3393,  14.4324,2,    36.0886,2,  -999.0,9,     -999.0,1,     -999.0,1,     -999.0,9,       0940
33AT20120419,        A20,      60,          1,         23,         23,2,20120507,       0751,    36.5018,   -52.3301,       5461,   742.1,  11.7633,  35.5050,2,  35.5050,2,    155.6,2,   154.5,2,    8.94,2,   18.98,2,    0.00,2,    1.17,2,   1.907,2,   1.035,2,   0.041,2,    0.84,2,  2173.3,2,  2335.8,2,   7.7504,2,    25.00,   0.432,2,   1.7744,2,    4.67,2,  11.7630,2, -999.00,9,  -999.0,9,  -999.0,   7.411,2,   0.034,-999.000,9, -999.00,9, -999.00,9, -999.00,9,  36.5024, -52.3270,   0.009,   0.0075,    0.15,  11.6650,  11.7630,2,    35.6725,2,  -999.0,9,     -999.0,9,     -999.0,9,     -999.0,9,       0937
33AT20120419,        A20,      60,          1,         22,         22,2,20120507,       0751,    36.5018,   -52.3301,       5461,   839.5,   9.5270,  35.2734,2,  35.2736,2,    158.4,2,   158.4,2,   11.67,2,   21.49,2,    0.00,2,    1.37,2,   1.713,2,   0.896,2,   0.037,2,    0.69,2,  2183.1,6,  2325.5,2,   7.7034,2,    25.00,-999.000,9,   1.7898,2,    6.33,2,   9.5267,2, -999.00,9,  -999.0,9,  -999.0,   7.486,2,   0.034,-999.000,9, -999.00,9, -999.00,9, -999.00,9,  36.5022, -52.3274,-999.000,   0.0075,    0.15,   9.4289,   9.5267,2,    35.4399,2,  -999.0,9,     -999.0,9,     -999.0,9,     -999.0,9,       0934
33AT20120419,        A20,      60,          1,         21,         21,2,20120507,       0751,    36.5018,   -52.3301,       5461,   941.7,   8.0815,  35.2101,2,  35.2103,2,    175.6,2,   176.7,2,   12.47,2,   21.22,2,    0.00,2,    1.37,2,   1.655,2,   0.839,2,   0.037,2,    0.50,2,  2184.1,2,  2324.2,2,   7.6993,6,    25.00,   0.394,2,   1.8128,2,    7.74,2,   8.0804,2, -999.00,9,  -999.0,9,  -999.0,   7.742,2,   0.036,-999.000,9, -999.00,9, -999.00,9, -999.00,9,  36.5020, -52.3278,   0.009,   0.0076,    0.15,   7.9808,   8.0804,2,    35.3764,2,  -999.0,9,     -999.0,9,     -999.0,9,     -999.0,9,       0931
33AT20120419,        A20,      60,          1,         20,         20,2,20120507,       0751,    36.5018,   -52.3301,       5461,  1045.3,   7.0032,  35.1720,2,  35.1715,2,    194.9,2,   196.3,2,   12.57,2,   20.38,2,    0.00,2,    1.32,2,   1.791,2,   0.908,2,   0.064,2,    0.54,2,  2181.6,2,  2323.0,2,   7.7038,2,    25.00,-999.000,9,   1.8108,2,    7.65,2,   7.0023,2, -999.00,9,  -999.0,9,  -999.0,   7.656,2,   0.035,-999.000,9, -999.00,9, -999.00,9, -999.00,9,  36.5018, -52.3282,-999.000,   0.0076,    0.15,   6.8990,   7.0023,2,    35.3374,2,  -999.0,9,     -999.0,9,     -999.0,9,     -999.0,9,       0928
33AT20120419,        A20,      60,          1,         19,         19,2,20120507,       0751,    36.5018,   -52.3301,       5461,  1144.5,   6.0922,  35.1272,2,  35.1264,2,    211.8,2,   217.8,2,   12.09,2,   19.30,2,    0.00,2,    1.26,2,   2.112,2,   1.090,2,   0.097,2,    0.66,2,  -999.0,9,  -999.0,9,-999.0000,9,  -999.00,   0.406,2,   1.8196,2,    7.34,2,   6.0908,2, -999.00,9,  -999.0,9,  -999.0,   7.830,2,   0.036,-999.000,9, -999.00,9, -999.00,9, -999.00,9,  36.5017, -52.3285,   0.010,   0.0076,    0.15,   5.9852,   6.0908,2,    35.2921,2,  -999.0,9,     -999.0,9,     -999.0,9,     -999.0,9,       0925
33AT20120419,        A20,      60,          1,         18,         18,2,20120507,       0751,    36.5018,   -52.3301,       5461,  1245.0,   5.5057,  35.0677,2,  35.0674,2,    230.1,2,   232.9,2,   11.58,2,   18.61,2,    0.00,2,    1.22,2,   2.521,2,   1.294,2,   0.134,2,    0.86,2,  2172.1,2,  2317.0,2,   7.7096,2,    25.00,   0.449,2,   1.8350,2,    7.25,2,   5.5061,2, -999.00,9,  -999.0,9,  -999.0,   7.864,2,   0.036,-999.000,9, -999.00,9, -999.00,9, -999.00,9,  36.5016, -52.3288,   0.010,   0.0077,    0.15,   5.3939,   5.5061,2,    35.2327,2,  -999.0,9,     -999.0,9,     -999.0,9,     -999.0,9,       0922
33AT20120419,        A20,      60,          1,         17,         17,2,20120507,       0751,    36.5018,   -52.3301,       5461,  1347.8,   5.0985,  35.0533,2,  35.0520,2,    242.7,2,   242.7,2,   11.52,2,   18.17,2,    0.00,2,    1.20,2,   2.587,2,   1.299,2,   0.145,2,    0.82,2,  -999.0,9,  -999.0,9,-999.0000,9,  -999.00,   0.468,2,   1.8371,2,    7.45,2,   5.0983,2, -999.00,9,  -999.0,9,  -999.0,   7.848,2,   0.036,-999.000,9, -999.00,9, -999.00,9, -999.00,9,  36.5015, -52.3290,   0.010,   0.0077,    0.15,   4.9807,   5.0983,2,    35.2173,2,  -999.0,9,     -999.0,9,     -999.0,9,     -999.0,9,       0919
33AT20120419,        A20,      60,          1,         16,         16,2,20120507,       0751,    36.5018,   -52.3301,       5461,  1478.8,   4.7572,  35.0275,2,  35.0280,2,    249.7,2,   250.0,2,   11.44,2,   17.90,2,    0.00,2,    1.17,2,   2.682,2,   1.369,2,   0.157,2,    0.82,2,  2167.3,2,  2314.6,2,   7.7171,2,    25.00,   0.476,2,   1.8323,2,    7.46,2,   4.7567,2, -999.00,9,  -999.0,9,  -999.0,   7.890,2,   0.036,-999.000,9, -999.00,9, -999.00,9, -999.00,9,  36.5013, -52.3294,   0.010,   0.0077,    0.15,   4.6304,   4.7567,2,    35.1932,2,  -999.0,9,     -999.0,9,     -999.0,9,     -999.0,9,       0916
33AT20120419,        A20,      60,          1,         15,         15,2,20120507,       0751,    36.5018,   -52.3301,       5461,  1680.0,   4.3080,  34.9972,2,  34.9965,2,    258.3,2,   257.6,2,   11.73,2,   17.69,2,    0.00,2,    1.16,2,   2.564,2,   1.274,2,   0.147,2,    0.64,2,  2163.6,2,  2312.1,2,   7.7214,2,    25.00,   0.457,2,   1.8449,2,    8.15,2,   4.3069,2, -999.00,9,  -999.0,9,  -999.0,   7.938,2,   0.037,-999.000,9, -999.00,9, -999.00,9, -999.00,9,  36.5011, -52.3298,   0.010,   0.0077,    0.15,   4.1672,   4.3069,2,    35.1616,2,  -999.0,9,     -999.0,9,     -999.0,9,     -999.0,9,       0912
33AT20120419,        A20,      60,          1,         14,         14,2,20120507,       0751,    36.5018,   -52.3301,       5461,  1884.8,   3.9934,  34.9754,2,  34.9759,2,    261.1,2,   261.5,2,   12.37,2,   17.65,2,    0.00,2,    1.16,2,   2.317,2,   1.146,2,   0.117,2,    0.54,2,  2161.8,2,  2311.1,2,   7.7236,2,    25.00,   0.428,2,   1.8546,2,    9.27,2,   3.9934,2, -999.00,9,  -999.0,9,  -999.0,   7.932,2,   0.036,-999.000,9, -999.00,9, -999.00,9, -999.00,9,  36.5009, -52.3303,   0.010,   0.0078,    0.15,   3.8371,   3.9934,2,    35.1408,2,  -999.0,9,     -999.0,9,     -999.0,9,     -999.0,9,       0907
33AT20120419,        A20,      60,          1,         13,         13,2,20120507,       0751,    36.5018,   -52.3301,       5461,  2105.2,   3.7189,  34.9597,2,  34.9603,2,    264.4,2,   265.7,2,   13.35,2,   17.64,2,    0.00,2,    1.16,2,   2.015,2,   0.955,2,   0.101,2,    0.39,2,  -999.0,9,  -999.0,9,-999.0000,9,  -999.00,   0.383,2,   1.8526,2,    8.88,2,   3.7193,2, -999.00,9,  -999.0,9,  -999.0,   7.939,2,   0.037,-999.000,9, -999.00,9, -999.00,9, -999.00,9,  36.5008, -52.3304,   0.010,   0.0078,    0.15,   3.5453,   3.7193,2,    35.1252,2,  -999.0,9,     -999.0,9,     -999.0,9,     -999.0,9,       0902
33AT20120419,        A20,      60,          1,         12,         12,2,20120507,       0751,    36.5018,   -52.3301,       5461,  2361.8,   3.4802,  34.9544,2,  34.9554,2,    264.3,2,   264.7,2,   15.53,2,   17.77,2,    0.00,2,    1.18,2,   1.558,2,   0.850,2,   0.070,2,    0.31,2,  2159.8,2,  2314.2,2,   7.7330,2,    25.00,   0.313,2,   1.8496,2,    8.50,2,   3.4789,2, -999.00,9,  -999.0,9,  -999.0,   8.003,2,   0.037,-999.000,9, -999.00,9, -999.00,9, -999.00,9,  36.5009, -52.3304,   0.010,   0.0078,    0.15,   3.2853,   3.4789,2,    35.1202,2,  -999.0,9,     -999.0,9,     -999.0,9,     -999.0,9,       0857
33AT20120419,        A20,      60,          1,         11,         11,2,20120507,       0751,    36.5018,   -52.3301,       5461,  2620.2,   3.3156,  34.9583,2,  34.9588,2,    261.2,2,   261.1,2,   19.02,2,   18.23,2,    0.00,2,    1.22,2,   1.001,2,   0.448,2,   0.038,2,    0.19,2,  2163.1,2,  2318.4,2,   7.7370,2,    25.00,-999.000,9,   1.8603,2,    7.12,2,   3.3146,2, -999.00,9,  -999.0,9,  -999.0,   8.030,2,   0.037,-999.000,9, -999.00,9, -999.00,9, -999.00,9,  36.5010, -52.3303,-999.000,   0.0078,    0.15,   3.0976,   3.3146,2,    35.1236,2,  -999.0,9,     -999.0,9,     -999.0,9,     -999.0,9,       0852
33AT20120419,        A20,      60,          1,         10,         10,2,20120507,       0751,    36.5018,   -52.3301,       5461,  2871.1,   3.0838,  34.9447,2,  34.9448,2,    262.2,2,   261.8,2,   21.01,2,   18.28,2,    0.00,2,    1.23,2,   0.895,2,   0.409,2,   0.039,2,    0.16,2,  2163.8,2,  2321.3,2,   7.7381,2,    25.00,-999.000,9,-999.0000,9, -999.00,9,   3.0836,2, -999.00,9,  -999.0,9,  -999.0,-999.000,9,-999.000,-999.000,9, -999.00,9, -999.00,9, -999.00,9,  36.5011, -52.3303,-999.000,-999.0000, -999.00,   2.8447,   3.0836,2,    35.1096,2,  -999.0,9,     -999.0,9,     -999.0,9,     -999.0,1,       0847
33AT20120419,        A20,      60,          1,          9,          9,2,20120507,       0751,    36.5018,   -52.3301,       5461,  3141.4,   2.9239,  34.9356,2,  34.9356,2,    263.3,2,   262.5,2,   22.48,2,   18.36,2,    0.00,2,    1.24,2,   0.809,2,   0.374,2,   0.038,2,    0.16,2,  -999.0,9,  -999.0,9,-999.0000,9,  -999.00,   0.170,2,-999.0000,9, -999.00,9,   2.9274,2, -999.00,9,  -999.0,9,  -999.0,-999.000,9,-999.000,-999.000,9, -999.00,9, -999.00,9, -999.00,9,  36.5011, -52.3302,   0.010,-999.0000, -999.00,   2.6598,   2.9274,2,    35.1003,2,  -999.0,9,     -999.0,9,     -999.0,9,     -999.0,9,       0841
33AT20120419,        A20,      60,          1,          8,          8,2,20120507,       0751,    36.5018,   -52.3301,       5461,  3446.8,   2.6628,  34.9194,2,  34.9192,2,    264.8,2,   265.5,2,   26.38,2,   18.26,2,    0.00,2,    1.24,2,-999.000,9,-999.000,9,-999.000,9, -999.00,9,  2165.3,2,  2322.8,2,   7.7387,2,    25.00,-999.000,9,-999.0000,9, -999.00,9,   2.6623,2, -999.00,9,  -999.0,9,  -999.0,-999.000,9,-999.000,-999.000,9, -999.00,9, -999.00,9, -999.00,9,  36.5012, -52.3302,-999.000,-999.0000, -999.00,   2.3721,   2.6623,2,    35.0839,2,  -999.0,9,     -999.0,9,     -999.0,9,     -999.0,9,       0835
33AT20120419,        A20,      60,          1,          7,          7,2,20120507,       0751,    36.5018,   -52.3301,       5461,  3753.2,   2.4757,  34.9062,2,  34.9068,2,    265.4,2,   266.0,2,   27.79,2,   18.40,2,    0.00,2,    1.25,2,   0.802,2,   0.352,2,   0.038,2,    0.20,2,  -999.0,9,  -999.0,9,-999.0000,9,  -999.00,-999.000,9,-999.0000,9, -999.00,9,   2.4754,2, -999.00,9,  -999.0,9,  -999.0,-999.000,9,-999.000,-999.000,9, -999.00,9, -999.00,9, -999.00,9,  36.5012, -52.3302,-999.000,-999.0000, -999.00,   2.1560,   2.4754,2,    35.0714,2,  -999.0,9,     -999.0,9,     -999.0,9,     -999.0,9,       0829