BOTTLE,20220712CCHSIOCBG
EXPOCODE,SECT_ID,STNNBR,CASTNO,SAMPNO,BTLNBR,BTLNBR_FLAG_W,DATE,TIME,LATITUDE,LONGITUDE,DEPTH,CTDPRS,CTDTMP,CTDSAL,CTDSAL_FLAG_W,SALNTY,SALNTY_FLAG_W,CTDOXY,CTDOXY_FLAG_W,OXYGEN,OXYGEN_FLAG_W,SILCAT,SILCAT_FLAG_W,NITRAT,NITRAT_FLAG_W,NITRIT,NITRIT_FLAG_W,PHSPHT,PHSPHT_FLAG_W,CFC-11,CFC-11_FLAG_W,CFC-12,CFC-12_FLAG_W,CFC113,CFC113_FLAG_W,SF6,SF6_FLAG_W,TCARBN,TCARBN_FLAG_W,ALKALI,ALKALI_FLAG_W,PH_TOT,PH_TOT_FLAG_W,PH_TMP,TRITUM,TRITUM_FLAG_W,HELIUM,HELIUM_FLAG_W,DELHE3,DELHE3_FLAG_W,REFTMP,REFTMP_FLAG_W,DELC13,DELC13_FLAG_W,DELC14,DELC14_FLAG_W,C14ERR,NEON,NEON_FLAG_W,NEONER,CCL4,CCL4_FLAG_W,DELO18,DELO18_FLAG_W,DOC,DOC_FLAG_W,TDN,TDN_FLAG_W,BTL_LAT,BTL_LON,TRITER,HELIER,DELHER,THETA,SBE35,SBE35_FLAG_W,SALTREF,SALTREF_FLAG_W,14C-DOC,14C-DOC_FLAG_W,DELO17,DELO17_FLAG_W,O2/AR,O2/AR_FLAG_W,SIP,SIP_FLAG_W,BTL_TIME
,,,,,,,,,,,METERS,DBAR,ITS-90,PSS-78,,PSS-78,,UMOL/KG,,UMOL/KG,,UMOL/KG,,UMOL/KG,,UMOL/KG,,UMOL/KG,,PMOL/KG,,PMOL/KG,,PMOL/KG,,FMOL/KG,,UMOL/KG,,UMOL/KG,,,,DEG C,TU,,NMOL/KG,,PERCNT,,DEG C,,/MILLE,,/MILLE,,/MILLE,NMOL/KG,,NMOL/KG,PMOL/KG,,/MILLE,,UMOL/KG,,UMOL/KG,,,,TU,NMOL/KG,PERCNT,DEG C,ITS-90,,G/KG,,/MILLE,,/MILLE,,,,,,
33AT20120419,        A20,      23,          1,          6,          6,2,20120425,       0202,    10.0821,   -52.3332,       4915,  3648.6,   2.4583,  34.9052,2,  34.9063,2,    259.4,2,   260.2,2,   31.84,2,   19.58,2,    0.00,2,    1.32,2,   0.311,2,   0.165,2,   0.013,2,    0.00,3,  2173.6,2,  2331.6,2,   7.7357,2,    25.00,-999.000,9,-999.0000,9, -999.00,9,   2.4590,2, -999.00,9,  -999.0,9,  -999.0,-999.000,9,-999.000,   0.350,2, -999.00,9,   40.61,2,   22.57,2,  10.0827, -52.3333,-999.000,-999.0000, -999.00,   2.1506,   2.4590,2,    35.0709,2,  -999.0,9,     -999.0,9,     -999.0,9,     -999.0,9,       0231
33AT20120419,        A20,      23,          1,          5,          5,2,20120425,       0202,    10.0821,   -52.3332,       4915,  3955.8,   2.3297,  34.8953,2,  34.8955,2,    262.0,2,   262.5,2,   32.56,2,   19.31,2,    0.00,2,    1.31,2,   0.384,2,   0.206,2,   0.020,2,    0.00,3,  -999.0,9,  -999.0,9,-999.0000,9,  -999.00,-999.000,9,-999.0000,9, -999.00,9,   2.3295,2, -999.00,9,  -999.0,9,  -999.0,-999.000,9,-999.000,   0.420,2, -999.00,9,   40.51,2,   22.56,2,  10.0824, -52.3332,-999.000,-999.0000, -999.00,   1.9912,   2.3295,2,    35.0600,2,  -999.0,9,     -999.0,9,     -999.0,9,     -999.0,9,       0225
33AT20120419,        A20,      23,          1,          4,          4,2,20120425,       0202,    10.0821,   -52.3332,       4915,  4263.3,   2.2509,  34.8872,2,  34.8878,2,    261.7,2,   261.7,2,   35.15,2,   19.59,2,    0.00,2,    1.34,2,   0.374,2,   0.204,2,   0.021,2,    0.00,3,  2177.2,2,  2333.4,2,   7.7344,2,    25.00,-999.000,9,-999.0000,9, -999.00,9,   2.2511,2, -999.00,9,  -999.0,9,  -999.0,-999.000,9,-999.000,   0.370,2, -999.00,9,   40.54,2,   22.54,2,  10.0824, -52.3332,-999.000,-999.0000, -999.00,   1.8793,   2.2511,2,    35.0523,2,  -999.0,9,     -999.0,9,     -999.0,9,     -999.0,9,       0218
33AT20120419,        A20,      23,          1,          3,          3,2,20120425,       0202,    10.0821,   -52.3332,       4915,  4570.1,   2.1212,  34.8680,2,  34.8676,2,    255.0,2,   254.9,2,   45.33,2,   21.17,2,    0.00,2,    1.44,2,   0.232,2,   0.139,2,   0.015,2,    0.00,3,  2187.9,2,  2340.9,2,   7.7234,2,    25.00,-999.000,9,-999.0000,9, -999.00,9,   2.1210,2, -999.00,9,  -999.0,9,  -999.0,-999.000,9,-999.000,   0.260,2, -999.00,9,   40.66,2,   24.53,2,  10.0821, -52.3332,-999.000,-999.0000, -999.00,   1.7173,   2.1210,2,    35.0320,2,  -999.0,9,     -999.0,9,     -999.0,9,     -999.0,9,       0212
33AT20120419,        A20,      23,          1,          2,          2,2,20120425,       0202,    10.0821,   -52.3332,       4915,  4724.5,   2.0378,  34.8558,2,  34.8556,2,    250.9,2,   250.8,2,   51.78,2,   22.09,2,    0.00,2,    1.50,2,   0.186,2,   0.114,2,   0.012,2,    0.00,3,  2196.8,2,  2345.5,6,   7.7167,6,    25.00,-999.000,9,-999.0000,9, -999.00,9,   2.0378,2, -999.00,9,  -999.0,9,  -999.0,-999.000,9,-999.000,   0.210,2, -999.00,9,   40.21,2,   25.13,2,  10.0821, -52.3332,-999.000,-999.0000, -999.00,   1.6180,   2.0378,2,    35.0199,2,  -999.0,9,     -999.0,9,     -999.0,9,     -999.0,9,       0208
33AT20120419,        A20,      23,          1,          1,          1,2,20120425,       0202,    10.0821,   -52.3332,       4915,  4981.8,   1.7742,  34.8204,2,  34.8216,2,    241.4,2,   241.7,2,   67.61,2,   24.44,2,    0.00,2,    1.67,2,   0.139,2,   0.083,2,   0.016,2,    0.00,3,  2215.8,6,  2356.1,2,   7.6952,2,    25.00,-999.000,9,-999.0000,9, -999.00,9,   1.7737,2, -999.00,9,  -999.0,9,  -999.0,-999.000,9,-999.000,   0.180,2, -999.00,9,   41.33,2,   27.61,2,  10.0821, -52.3332,-999.000,-999.0000, -999.00,   1.3318,   1.7737,2,    34.9858,2,  -999.0,9,     -999.0,9,     -999.0,9,     -999.0,9,       0203