BOTTLE,20220712CCHSIOCBG
EXPOCODE,SECT_ID,STNNBR,CASTNO,SAMPNO,BTLNBR,BTLNBR_FLAG_W,DATE,TIME,LATITUDE,LONGITUDE,DEPTH,CTDPRS,CTDTMP,CTDSAL,CTDSAL_FLAG_W,SALNTY,SALNTY_FLAG_W,CTDOXY,CTDOXY_FLAG_W,OXYGEN,OXYGEN_FLAG_W,SILCAT,SILCAT_FLAG_W,NITRAT,NITRAT_FLAG_W,NITRIT,NITRIT_FLAG_W,PHSPHT,PHSPHT_FLAG_W,CFC-11,CFC-11_FLAG_W,CFC-12,CFC-12_FLAG_W,CFC113,CFC113_FLAG_W,SF6,SF6_FLAG_W,TCARBN,TCARBN_FLAG_W,ALKALI,ALKALI_FLAG_W,PH_TOT,PH_TOT_FLAG_W,PH_TMP,TRITUM,TRITUM_FLAG_W,HELIUM,HELIUM_FLAG_W,DELHE3,DELHE3_FLAG_W,REFTMP,REFTMP_FLAG_W,DELC13,DELC13_FLAG_W,DELC14,DELC14_FLAG_W,C14ERR,NEON,NEON_FLAG_W,NEONER,CCL4,CCL4_FLAG_W,DELO18,DELO18_FLAG_W,DOC,DOC_FLAG_W,TDN,TDN_FLAG_W,BTL_LAT,BTL_LON,TRITER,HELIER,DELHER,THETA,SBE35,SBE35_FLAG_W,SALTREF,SALTREF_FLAG_W,14C-DOC,14C-DOC_FLAG_W,DELO17,DELO17_FLAG_W,O2/AR,O2/AR_FLAG_W,SIP,SIP_FLAG_W,BTL_TIME
,,,,,,,,,,,METERS,DBAR,ITS-90,PSS-78,,PSS-78,,UMOL/KG,,UMOL/KG,,UMOL/KG,,UMOL/KG,,UMOL/KG,,UMOL/KG,,PMOL/KG,,PMOL/KG,,PMOL/KG,,FMOL/KG,,UMOL/KG,,UMOL/KG,,,,DEG C,TU,,NMOL/KG,,PERCNT,,DEG C,,/MILLE,,/MILLE,,/MILLE,NMOL/KG,,NMOL/KG,PMOL/KG,,/MILLE,,UMOL/KG,,UMOL/KG,,,,TU,NMOL/KG,PERCNT,DEG C,ITS-90,,G/KG,,/MILLE,,/MILLE,,,,,,
33AT20120419,        A20,      43,          1,         36,         36,2,20120501,       1442,    23.7316,   -52.3315,       5283,     4.4,  24.7718,  36.8403,2,  36.8405,2,    209.5,2,   209.4,2,    0.62,2,    0.00,2,    0.00,2,    0.00,2,   1.683,2,   1.085,2,   0.127,2,    1.15,3,  2051.3,6,  2414.6,2,   8.1023,2,    25.00,-999.000,9,-999.0000,9, -999.00,9,  24.7700,2, -999.00,9,  -999.0,9,  -999.0,-999.000,9,-999.000,   1.060,2, -999.00,9,   71.63,2,    4.76,2,  23.7310, -52.3316,-999.000,-999.0000, -999.00,  24.7708,  24.7700,2,    37.0142,2,  -999.0,9,     -999.0,9,     -999.0,9,     -999.0,9,       1658
33AT20120419,        A20,      43,          1,         35,         35,2,20120501,       1442,    23.7316,   -52.3315,       5283,    19.9,  24.7675,  36.8451,2,  36.8451,2,    210.9,2,   208.8,2,    0.57,2,    0.00,2,    0.00,2,    0.00,2,   1.681,2,   1.063,2,   0.126,2,    1.28,3,  2053.3,2,  2415.3,2,   8.1018,2,    25.00,-999.000,9,-999.0000,9, -999.00,9,  24.7667,2, -999.00,9,  -999.0,9,  -999.0,-999.000,9,-999.000,   1.060,2, -999.00,9,   72.42,2,    5.39,2,  23.7312, -52.3316,-999.000,-999.0000, -999.00,  24.7632,  24.7667,2,    37.0188,2,  -999.0,9,     -999.0,9,     -999.0,9,     -999.0,9,       1656
33AT20120419,        A20,      43,          1,         34,         34,2,20120501,       1442,    23.7316,   -52.3315,       5283,    39.9,  24.3842,  36.9296,2,  36.9203,2,    214.2,2,   212.6,2,    0.56,2,    0.00,2,    0.00,2,    0.00,2,   1.718,2,   1.098,2,   0.125,2,    0.94,3,  2057.1,2,  2419.5,2,   8.0998,6,    25.00,-999.000,9,-999.0000,9, -999.00,9,  24.3843,2, -999.00,9,  -999.0,9,  -999.0,-999.000,9,-999.000,   1.010,2, -999.00,9,   72.97,2,    5.35,2,  23.7313, -52.3316,-999.000,-999.0000, -999.00,  24.3756,  24.3843,2,    37.0944,2,  -999.0,9,     -999.0,9,     -999.0,9,     -999.0,9,       1654
33AT20120419,        A20,      43,          1,         33,         33,2,20120501,       1442,    23.7316,   -52.3315,       5283,    65.0,  23.8041,  37.1209,2,  37.1201,2,    214.3,2,   213.5,2,    0.40,2,    0.00,2,    0.00,2,    0.00,2,   1.759,2,   1.111,2,   0.121,2,    1.36,3,  2070.5,2,  2431.4,2,   8.0915,6,    25.00,-999.000,9,-999.0000,9, -999.00,9,  23.8369,2, -999.00,9,  -999.0,9,  -999.0,-999.000,9,-999.000,   0.840,2, -999.00,9,   67.74,2,    4.92,2,  23.7315, -52.3316,-999.000,-999.0000, -999.00,  23.7904,  23.8369,2,    37.2951,2,  -999.0,9,     -999.0,9,     -999.0,9,     -999.0,9,       1652
33AT20120419,        A20,      43,          1,         32,         32,2,20120501,       1442,    23.7316,   -52.3315,       5283,    91.9,  23.2971,  37.1410,2,  37.1397,2,    206.4,2,   206.9,2,    0.34,2,    0.00,2,    0.00,2,    0.00,2,   1.807,2,   1.138,2,   0.121,2,    1.03,3,  -999.0,9,  -999.0,9,-999.0000,9,  -999.00,-999.000,9,-999.0000,9, -999.00,9,  23.3204,2, -999.00,9,  -999.0,9,  -999.0,-999.000,9,-999.000,   0.560,2, -999.00,9,   62.97,2,    5.17,2,  23.7317, -52.3316,-999.000,-999.0000, -999.00,  23.2780,  23.3204,2,    37.3149,2,  -999.0,9,     -999.0,9,     -999.0,9,     -999.0,9,       1649
33AT20120419,        A20,      43,          1,         31,         31,2,20120501,       1442,    23.7316,   -52.3315,       5283,   139.1,  20.4325,  36.8840,2,  36.8909,2,    184.4,2,   186.4,2,    0.44,2,    0.49,2,    0.05,2,    0.00,2,   1.999,2,   1.229,2,   0.075,2,    1.38,3,  2122.1,2,  2414.3,2,   7.9905,2,    25.00,-999.000,9,-999.0000,9, -999.00,9,  20.4433,2, -999.00,9,  -999.0,9,  -999.0,-999.000,9,-999.000,   0.330,2, -999.00,9,   57.49,2,    5.62,2,  23.7319, -52.3316,-999.000,-999.0000, -999.00,  20.4061,  20.4433,2,    37.0649,2,  -999.0,9,     -999.0,9,     -999.0,9,     -999.0,9,       1646
33AT20120419,        A20,      43,          1,         30,         30,2,20120501,       1442,    23.7316,   -52.3315,       5283,   190.1,  18.8326,  36.6700,2,  36.6713,2,    185.9,2,   186.2,2,    0.84,2,    2.84,2,    0.01,2,    0.13,2,   2.156,2,   1.340,2,   0.027,2,    1.17,3,  2124.1,2,  2399.5,2,   7.9627,2,    25.00,-999.000,9,-999.0000,9, -999.00,9,  18.8327,2, -999.00,9,  -999.0,9,  -999.0,-999.000,9,-999.000,   0.230,2, -999.00,9,   53.29,2,    7.69,2,  23.7320, -52.3316,-999.000,-999.0000, -999.00,  18.7986,  18.8327,2,    36.8442,2,  -999.0,9,     -999.0,9,     -999.0,9,     -999.0,9,       1644
33AT20120419,        A20,      43,          1,         29,         29,2,20120501,       1442,    23.7316,   -52.3315,       5283,   237.9,  18.1180,  36.5627,2,  36.5597,2,    193.2,2,   193.7,2,    1.04,2,    3.92,2,    0.01,2,    0.19,2,   2.210,2,   1.354,2,   0.025,2,    1.29,3,  2117.9,2,  2391.1,2,   7.9614,2,    25.00,-999.000,9,-999.0000,9, -999.00,9,  18.1154,2, -999.00,9,  -999.0,9,  -999.0,-999.000,9,-999.000,   0.230,2, -999.00,9,   50.28,2,    8.77,2,  23.7320, -52.3316,-999.000,-999.0000, -999.00,  18.0765,  18.1154,2,    36.7321,2,  -999.0,9,     -999.0,9,     -999.0,9,     -999.0,9,       1642
33AT20120419,        A20,      43,          1,         28,         28,2,20120501,       1442,    23.7316,   -52.3315,       5283,   288.4,  17.5358,  36.4727,2,  36.4731,2,    196.2,2,   194.3,2,    1.51,2,    5.01,2,    0.01,2,    0.27,2,   2.223,2,   1.379,2,   0.026,2,    0.83,3,  2121.7,2,  2386.9,2,   7.9480,2,    25.00,-999.000,9,-999.0000,9, -999.00,9,  17.5423,2, -999.00,9,  -999.0,9,  -999.0,-999.000,9,-999.000,   0.240,2, -999.00,9,   46.57,2,   10.13,2,  23.7320, -52.3316,-999.000,-999.0000, -999.00,  17.4866,  17.5423,2,    36.6451,2,  -999.0,9,     -999.0,9,     -999.0,9,     -999.0,9,       1640
33AT20120419,        A20,      43,          1,         27,         27,2,20120501,       1442,    23.7316,   -52.3315,       5283,   335.8,  17.0182,  36.3817,2,  36.3837,2,    190.7,2,   189.8,2,    1.92,2,    6.35,2,    0.01,2,    0.35,2,   2.247,2,   1.370,2,   0.026,2,    0.98,3,  -999.0,9,  -999.0,9,-999.0000,9,  -999.00,-999.000,9,-999.0000,9, -999.00,9,  17.0171,2, -999.00,9,  -999.0,9,  -999.0,-999.000,9,-999.000,   0.250,2, -999.00,9,   45.67,2,   10.55,2,  23.7320, -52.3316,-999.000,-999.0000, -999.00,  16.9620,  17.0171,2,    36.5553,2,  -999.0,9,     -999.0,9,     -999.0,9,     -999.0,9,       1638
33AT20120419,        A20,      43,          1,         26,         26,2,20120501,       1442,    23.7316,   -52.3315,       5283,   387.3,  15.9926,  36.2022,2,  36.2064,2,    180.6,2,   179.3,2,    2.76,2,    8.97,2,    0.00,2,    0.52,2,   2.252,2,   1.328,2,   0.026,2,    0.81,3,  2138.5,2,  2372.1,2,   7.8909,2,    25.00,-999.000,9,-999.0000,9, -999.00,9,  15.9974,2, -999.00,9,  -999.0,9,  -999.0,-999.000,9,-999.000,   0.230,2, -999.00,9,   45.03,2,   13.38,2,  23.7321, -52.3316,-999.000,-999.0000, -999.00,  15.9304,  15.9974,2,    36.3771,2,  -999.0,9,     -999.0,9,     -999.0,9,     -999.0,9,       1636
33AT20120419,        A20,      43,          1,         25,         25,2,20120501,       1442,    23.7316,   -52.3315,       5283,   468.8,  14.6834,  35.9876,2,  35.9775,2,    162.3,2,   163.3,2,    4.17,2,   12.84,2,    0.00,2,    0.75,2,   2.210,2,   1.281,2,   0.024,2,    0.99,3,  2154.3,2,  2358.0,2,   7.8349,2,    25.00,-999.000,9,-999.0000,9, -999.00,9,  14.6713,2, -999.00,9,  -999.0,9,  -999.0,-999.000,9,-999.000,   0.210,2, -999.00,9,   44.48,2,   17.23,2,  23.7321, -52.3316,-999.000,-999.0000, -999.00,  14.6122,  14.6713,2,    36.1472,2,  -999.0,9,     -999.0,9,     -999.0,9,     -999.0,9,       1634
33AT20120419,        A20,      43,          1,         24,         24,2,20120501,       1442,    23.7316,   -52.3315,       5283,   570.5,  12.7377,  35.7058,2,  35.7043,2,    156.9,2,   155.7,2,    6.45,2,   16.92,2,    0.00,2,    1.00,2,   1.936,2,   1.066,2,   0.024,2,    0.46,3,  2165.4,2,  2345.1,2,   7.7803,2,    25.00,-999.000,9,-999.0000,9, -999.00,9,  12.7374,2, -999.00,9,  -999.0,9,  -999.0,-999.000,9,-999.000,   0.200,2, -999.00,9,   43.57,2,   21.12,2,  23.7321, -52.3316,-999.000,-999.0000, -999.00,  12.6586,  12.7374,2,    35.8727,2,  -999.0,9,     -999.0,9,     -999.0,9,     -999.0,9,       1631
33AT20120419,        A20,      43,          1,         23,         23,2,20120501,       1442,    23.7316,   -52.3315,       5283,   668.8,  11.1652,  35.4967,2,  35.4955,2,    148.8,2,   150.2,2,    9.30,2,   20.56,2,    0.00,2,    1.24,2,   1.434,2,   0.784,2,   0.016,2,    0.29,3,  2176.1,2,  2336.2,2,   7.7367,2,    25.00,-999.000,9,-999.0000,9, -999.00,9,  11.1639,2, -999.00,9,  -999.0,9,  -999.0,-999.000,9,-999.000,   0.150,2, -999.00,9,   42.48,2,   24.88,2,  23.7320, -52.3316,-999.000,-999.0000, -999.00,  11.0797,  11.1639,2,    35.6629,2,  -999.0,9,     -999.0,9,     -999.0,9,     -999.0,9,       1628
33AT20120419,        A20,      43,          1,         22,         22,2,20120501,       1442,    23.7316,   -52.3315,       5283,   771.0,   8.7254,  35.1748,2,  35.1770,2,    138.7,2,   138.0,2,   15.48,2,   26.56,2,    0.00,2,    1.65,2,   0.613,2,   0.340,2,   0.005,2,    0.00,3,  2195.7,2,  2324.8,6,   7.6636,2,    25.00,-999.000,9,-999.0000,9, -999.00,9,   8.7467,2, -999.00,9,  -999.0,9,  -999.0,-999.000,9,-999.000,   0.100,2, -999.00,9,   41.94,2,   30.39,2,  23.7318, -52.3316,-999.000,-999.0000, -999.00,   8.6402,   8.7467,2,    35.3429,2,  -999.0,9,     -999.0,9,     -999.0,9,     -999.0,9,       1626
33AT20120419,        A20,      43,          1,         21,         21,2,20120501,       1442,    23.7316,   -52.3315,       5283,   870.0,   7.3443,  35.0044,2,  35.0037,2,    137.8,2,   138.7,2,   19.29,2,   29.07,2,    0.00,2,    1.84,2,   0.327,2,   0.194,2,   0.004,2,    0.00,3,  2202.7,6,  2319.0,2,   7.6306,2,    25.00,-999.000,9,-999.0000,9, -999.00,9,   7.3433,2, -999.00,9,  -999.0,9,  -999.0,-999.000,9,-999.000,   0.100,2, -999.00,9,   41.46,2,   32.96,2,  23.7316, -52.3315,-999.000,-999.0000, -999.00,   7.2566,   7.3433,2,    35.1688,2,  -999.0,9,     -999.0,9,     -999.0,9,     -999.0,9,       1623
33AT20120419,        A20,      43,          1,         20,         20,2,20120501,       1442,    23.7316,   -52.3315,       5283,   972.2,   6.5400,  34.9474,2,  34.9461,2,    149.1,2,   149.2,2,   20.87,2,   29.22,2,    0.00,2,    1.87,2,   0.232,2,   0.132,2,   0.004,2,    0.00,3,  2203.7,2,  2317.8,2,   7.6279,6,    25.00,-999.000,9,-999.0000,9, -999.00,9,   6.5454,2, -999.00,9,  -999.0,9,  -999.0,-999.000,9,-999.000,   0.100,2, -999.00,9,   41.17,2,   32.76,2,  23.7314, -52.3314,-999.000,-999.0000, -999.00,   6.4473,   6.5454,2,    35.1109,2,  -999.0,9,     -999.0,9,     -999.0,9,     -999.0,9,       1620
33AT20120419,        A20,      43,          1,         19,         19,2,20120501,       1442,    23.7316,   -52.3315,       5283,  1075.9,   6.0152,  34.9624,2,  34.9624,2,    167.4,2,   167.0,2,   20.38,2,   27.29,2,    0.00,2,    1.77,2,   0.261,2,   0.147,2,   0.007,2,    0.00,3,  2196.6,2,  2318.9,2,   7.6484,6,    25.00,-999.000,9,-999.0000,9, -999.00,9,   6.0145,2, -999.00,9,  -999.0,9,  -999.0,-999.000,9,-999.000,   0.150,2, -999.00,9,   40.79,2,   31.57,2,  23.7313, -52.3313,-999.000,-999.0000, -999.00,   5.9160,   6.0145,2,    35.1273,2,  -999.0,9,     -999.0,9,     -999.0,9,     -999.0,9,       1617
33AT20120419,        A20,      43,          1,         18,         18,2,20120501,       1442,    23.7316,   -52.3315,       5283,  1174.4,   5.6194,  35.0105,2,  35.0104,2,    190.2,2,   192.3,2,   18.01,2,   24.20,2,    0.00,2,    1.57,2,   0.411,2,   0.220,2,   0.011,2,    0.00,3,  -999.0,9,  -999.0,9,-999.0000,9,  -999.00,-999.000,9,-999.0000,9, -999.00,9,   5.6111,2, -999.00,9,  -999.0,9,  -999.0,-999.000,9,-999.000,   0.270,2, -999.00,9,   40.39,2,   28.41,2,  23.7312, -52.3313,-999.000,-999.0000, -999.00,   5.5137,   5.6111,2,    35.1755,2,  -999.0,9,     -999.0,9,     -999.0,9,     -999.0,9,       1615
33AT20120419,        A20,      43,          1,         17,         17,2,20120501,       1442,    23.7316,   -52.3315,       5283,  1278.6,   5.2818,  35.0302,2,  35.0291,2,    207.2,2,   209.8,2,   16.44,2,   22.03,2,    0.00,2,    1.44,2,   0.530,2,   0.286,2,   0.016,2,    0.00,3,  2177.2,2,  2319.4,2,   7.7002,2,    25.00,-999.000,9,-999.0000,9, -999.00,9,   5.2815,2, -999.00,9,  -999.0,9,  -999.0,-999.000,9,-999.000,   0.390,2, -999.00,9,   40.39,2,   26.41,2,  23.7313, -52.3313,-999.000,-999.0000, -999.00,   5.1689,   5.2815,2,    35.1943,2,  -999.0,9,     -999.0,9,     -999.0,9,     -999.0,9,       1612
33AT20120419,        A20,      43,          1,         16,         16,2,20120501,       1442,    23.7316,   -52.3315,       5283,  1378.7,   4.9640,  35.0314,2,  35.0307,2,    221.3,2,   221.7,2,   15.84,2,   21.19,2,    0.00,2,    1.39,2,   0.535,2,   0.287,2,   0.018,2,    0.14,3,  2172.7,2,  2318.3,2,   7.7113,2,    25.00,-999.000,9,-999.0000,9, -999.00,9,   4.9669,2, -999.00,9,  -999.0,9,  -999.0,-999.000,9,-999.000,   0.430,2, -999.00,9,   41.58,2,   25.62,2,  23.7313, -52.3314,-999.000,-999.0000, -999.00,   4.8446,   4.9669,2,    35.1959,2,  -999.0,9,     -999.0,9,     -999.0,9,     -999.0,9,       1609
33AT20120419,        A20,      43,          1,         15,         15,2,20120501,       1442,    23.7316,   -52.3315,       5283,  1549.8,   4.5383,  35.0346,2,  35.0350,2,    241.3,2,   240.3,2,   14.72,2,   19.56,2,    0.00,2,    1.28,2,   0.603,2,   0.319,2,   0.023,2,    0.00,3,  2165.0,2,  2317.9,2,   7.7290,2,    25.00,-999.000,9,-999.0000,9, -999.00,9,   4.5408,2, -999.00,9,  -999.0,9,  -999.0,-999.000,9,-999.000,   0.550,2, -999.00,9,   41.37,2,   23.84,2,  23.7314, -52.3314,-999.000,-999.0000, -999.00,   4.4071,   4.5408,2,    35.2002,2,  -999.0,9,     -999.0,9,     -999.0,9,     -999.0,9,       1605
33AT20120419,        A20,      43,          1,         14,         14,2,20120501,       1442,    23.7316,   -52.3315,       5283,  1751.8,   4.1904,  35.0317,2,  35.0325,2,    244.9,2,   244.4,2,   16.80,2,   19.49,2,    0.00,2,    1.28,2,   0.338,2,   0.189,2,   0.012,2,    0.00,3,  2163.9,2,  2321.1,2,   7.7357,2,    25.00,-999.000,9,-999.0000,9, -999.00,9,   4.1938,2, -999.00,9,  -999.0,9,  -999.0,-999.000,9,-999.000,   0.390,2, -999.00,9,   41.24,2,   23.78,2,  23.7314, -52.3314,-999.000,-999.0000, -999.00,   4.0441,   4.1938,2,    35.1977,2,  -999.0,9,     -999.0,9,     -999.0,9,     -999.0,9,       1601
33AT20120419,        A20,      43,          1,         13,         13,2,20120501,       1442,    23.7316,   -52.3315,       5283,  1955.4,   3.8451,  35.0181,2,  35.0175,2,    246.7,2,   247.2,2,   19.81,2,   19.59,2,    0.00,2,    1.30,2,   0.203,2,   0.114,2,   0.007,2,    0.00,3,  2166.0,2,  2322.7,2,   7.7391,2,    25.00,-999.000,9,-999.0000,9, -999.00,9,   3.8432,2, -999.00,9,  -999.0,9,  -999.0,-999.000,9,-999.000,   0.290,2, -999.00,9,   41.52,2,   24.09,2,  23.7315, -52.3314,-999.000,-999.0000, -999.00,   3.6840,   3.8432,2,    35.1826,2,  -999.0,9,     -999.0,9,     -999.0,9,     -999.0,9,       1555
33AT20120419,        A20,      43,          1,         12,         12,2,20120501,       1442,    23.7316,   -52.3315,       5283,  2190.0,   3.4662,  34.9918,2,  34.9917,2,    247.4,2,   247.7,2,   23.74,2,   19.95,2,    0.00,2,    1.32,2,   0.103,2,   0.062,2,   0.004,2,    0.00,3,  -999.0,9,  -999.0,9,-999.0000,9,  -999.00,-999.000,9,-999.0000,9, -999.00,9,   3.4664,2, -999.00,9,  -999.0,9,  -999.0,-999.000,9,-999.000,   0.190,2, -999.00,9,   41.38,2,   24.12,2,  23.7315, -52.3314,-999.000,-999.0000, -999.00,   3.2883,   3.4664,2,    35.1567,2,  -999.0,9,     -999.0,9,     -999.0,9,     -999.0,9,       1550
33AT20120419,        A20,      43,          1,         11,         11,2,20120501,       1442,    23.7316,   -52.3315,       5283,  2442.7,   3.1673,  34.9678,2,  34.9665,2,    249.1,2,   249.1,2,   27.33,2,   20.21,2,    0.00,2,    1.34,2,   0.074,2,   0.045,2,   0.004,2,    0.00,3,  2171.2,2,  2331.0,2,   7.7393,2,    25.00,-999.000,9,-999.0000,9, -999.00,9,   3.1685,2,    1.04,2,   -97.3,2,    11.5,-999.000,9,-999.000,   0.170,2, -999.00,9,   41.73,2,   24.05,2,  23.7314, -52.3314,-999.000,-999.0000, -999.00,   2.9698,   3.1685,2,    35.1314,2,  -999.0,9,     -999.0,9,     -999.0,9,     -999.0,9,       1543
33AT20120419,        A20,      43,          1,         10,         10,2,20120501,       1442,    23.7316,   -52.3315,       5283,  2698.1,   2.9886,  34.9525,2,  34.9520,2,    249.3,2,   249.8,2,   29.80,2,   20.42,2,    0.00,2,    1.36,2,   0.063,2,   0.039,2,   0.003,2,    0.00,3,  -999.0,9,  -999.0,9,-999.0000,9,  -999.00,-999.000,9,-999.0000,9, -999.00,9,   2.9875,2, -999.00,9,  -999.0,9,  -999.0,-999.000,9,-999.000,   0.130,2, -999.00,9,   39.47,2,   24.13,2,  23.7314, -52.3314,-999.000,-999.0000, -999.00,   2.7691,   2.9875,2,    35.1168,2,  -999.0,9,     -999.0,9,     -999.0,9,     -999.0,9,       1537
33AT20120419,        A20,      43,          1,          9,          9,2,20120501,       1442,    23.7316,   -52.3315,       5283,  2951.0,   2.8130,  34.9372,2,  34.9364,2,    250.7,2,   250.5,2,   32.57,2,   20.67,2,    0.00,2,    1.38,2,   0.055,2,   0.033,2,   0.003,2,    0.00,3,  2176.0,2,  2333.9,2,   7.7391,2,    25.00,-999.000,9,-999.0000,9, -999.00,9,   2.8128,2, -999.00,9,  -999.0,9,  -999.0,-999.000,9,-999.000,   0.120,2, -999.00,9,   41.34,2,   24.71,2,  23.7313, -52.3314,-999.000,-999.0000, -999.00,   2.5713,   2.8128,2,    35.1012,2,  -999.0,9,     -999.0,9,     -999.0,9,     -999.0,9,       1532
33AT20120419,        A20,      43,          1,          8,          8,2,20120501,       1442,    23.7316,   -52.3315,       5283,  3240.5,   2.6157,  34.9203,2,  34.9197,2,    251.0,2,   251.5,2,   35.99,2,   20.92,2,    0.00,2,    1.40,2,   0.042,2,   0.029,2,   0.004,2,    0.00,3,  -999.0,9,  -999.0,9,-999.0000,9,  -999.00,-999.000,9,-999.0000,9, -999.00,9,   2.6167,2, -999.00,9,  -999.0,9,  -999.0,-999.000,9,-999.000,   0.110,2, -999.00,9,   39.77,2,   24.78,2,  23.7313, -52.3313,-999.000,-999.0000, -999.00,   2.3482,   2.6167,2,    35.0844,2,  -999.0,9,     -999.0,9,     -999.0,9,     -999.0,9,       1525
33AT20120419,        A20,      43,          1,          7,          7,2,20120501,       1442,    23.7316,   -52.3315,       5283,  3549.0,   2.4770,  34.9068,2,  34.9056,2,    251.6,2,   252.2,2,   38.81,2,   21.18,2,    0.00,2,    1.42,2,   0.038,2,   0.029,2,   0.003,2,    0.00,3,  -999.0,9,  -999.0,9,-999.0000,9,  -999.00,-999.000,9,-999.0000,9, -999.00,9,   2.4762,2, -999.00,9,  -999.0,9,  -999.0,-999.000,9,-999.000,   0.110,2, -999.00,9,   39.73,2,   25.22,2,  23.7313, -52.3314,-999.000,-999.0000, -999.00,   2.1798,   2.4762,2,    35.0702,2,  -999.0,9,     -999.0,9,     -999.0,9,     -999.0,9,       1519