BOTTLE,20220712CCHSIOCBG
EXPOCODE,SECT_ID,STNNBR,CASTNO,SAMPNO,BTLNBR,BTLNBR_FLAG_W,DATE,TIME,LATITUDE,LONGITUDE,DEPTH,CTDPRS,CTDTMP,CTDSAL,CTDSAL_FLAG_W,SALNTY,SALNTY_FLAG_W,CTDOXY,CTDOXY_FLAG_W,OXYGEN,OXYGEN_FLAG_W,SILCAT,SILCAT_FLAG_W,NITRAT,NITRAT_FLAG_W,NITRIT,NITRIT_FLAG_W,PHSPHT,PHSPHT_FLAG_W,CFC-11,CFC-11_FLAG_W,CFC-12,CFC-12_FLAG_W,CFC113,CFC113_FLAG_W,SF6,SF6_FLAG_W,TCARBN,TCARBN_FLAG_W,ALKALI,ALKALI_FLAG_W,PH_TOT,PH_TOT_FLAG_W,PH_TMP,TRITUM,TRITUM_FLAG_W,HELIUM,HELIUM_FLAG_W,DELHE3,DELHE3_FLAG_W,REFTMP,REFTMP_FLAG_W,DELC13,DELC13_FLAG_W,DELC14,DELC14_FLAG_W,C14ERR,NEON,NEON_FLAG_W,NEONER,CCL4,CCL4_FLAG_W,DELO18,DELO18_FLAG_W,DOC,DOC_FLAG_W,TDN,TDN_FLAG_W,BTL_LAT,BTL_LON,TRITER,HELIER,DELHER,THETA,SBE35,SBE35_FLAG_W,SALTREF,SALTREF_FLAG_W,14C-DOC,14C-DOC_FLAG_W,DELO17,DELO17_FLAG_W,O2/AR,O2/AR_FLAG_W,SIP,SIP_FLAG_W,BTL_TIME
,,,,,,,,,,,METERS,DBAR,ITS-90,PSS-78,,PSS-78,,UMOL/KG,,UMOL/KG,,UMOL/KG,,UMOL/KG,,UMOL/KG,,UMOL/KG,,PMOL/KG,,PMOL/KG,,PMOL/KG,,FMOL/KG,,UMOL/KG,,UMOL/KG,,,,DEG C,TU,,NMOL/KG,,PERCNT,,DEG C,,/MILLE,,/MILLE,,/MILLE,NMOL/KG,,NMOL/KG,PMOL/KG,,/MILLE,,UMOL/KG,,UMOL/KG,,,,TU,NMOL/KG,PERCNT,DEG C,ITS-90,,G/KG,,/MILLE,,/MILLE,,,,,,
33AT20120419,        A20,      16,          1,         36,         36,2,20120423,       1012,     8.7622,   -52.6302,       4625,     3.6,  27.8631,  26.5969,2,  26.6013,2,    215.6,2,   214.9,2,   13.80,2,    0.00,2,    0.00,2,    0.01,2,   1.695,2,   1.071,2,   0.148,2,    0.91,2,  1532.7,6,  1834.5,2,   8.2397,2,    25.00,-999.000,9,-999.0000,9, -999.00,9,  27.8635,2, -999.00,9,  -999.0,9,  -999.0,-999.000,9,-999.000,-999.000,9, -999.00,9, -999.00,9, -999.00,9,   8.7647, -52.6307,-999.000,-999.0000, -999.00,  27.8623,  27.8635,2,    26.7267,2,  -999.0,9,     -999.0,9,     -999.0,9,     -999.0,9,       1231
33AT20120419,        A20,      16,          1,         35,         35,2,20120423,       1012,     8.7622,   -52.6302,       4625,    21.0,  27.7075,  35.6600,2,  35.6524,2,    198.8,2,   198.0,2,    0.58,2,    0.00,2,    0.00,2,    0.06,2,-999.000,9,-999.000,9,-999.000,9, -999.00,9,  2007.4,2,  2339.2,2,   8.0824,6,    25.00,-999.000,9,-999.0000,9, -999.00,9,  27.7046,2, -999.00,9,  -999.0,9,  -999.0,-999.000,9,-999.000,-999.000,9, -999.00,9, -999.00,9, -999.00,9,   8.7646, -52.6307,-999.000,-999.0000, -999.00,  27.7026,  27.7046,2,    35.8205,2,  -999.0,9,     -999.0,9,     -999.0,9,     -999.0,9,       1228
33AT20120419,        A20,      16,          1,         34,         34,2,20120423,       1012,     8.7622,   -52.6302,       4625,    40.8,  27.5977,  35.8866,2,  35.8862,2,    197.7,2,   197.6,2,    0.49,2,    0.00,2,    0.00,2,    0.05,2,   1.608,2,   1.004,2,   0.131,2,    0.90,2,  2017.2,2,  2352.7,2,   8.0840,2,    25.00,-999.000,9,-999.0000,9, -999.00,9,  27.5977,2, -999.00,9,  -999.0,9,  -999.0,-999.000,9,-999.000,-999.000,9, -999.00,9, -999.00,9, -999.00,9,   8.7644, -52.6307,-999.000,-999.0000, -999.00,  27.5882,  27.5977,2,    36.0554,2,  -999.0,9,     -999.0,9,     -999.0,9,     -999.0,1,       1226
33AT20120419,        A20,      16,          1,         33,         33,2,20120423,       1012,     8.7622,   -52.6302,       4625,    56.0,  27.4251,  36.0059,2,  36.0062,2,    197.1,2,   197.1,2,    0.59,2,    0.00,2,    0.00,2,    0.05,2,   1.613,2,   1.008,2,   0.136,2,    0.79,2,  2024.2,2,  2358.8,6,   8.0797,6,    25.00,-999.000,9,-999.0000,9, -999.00,9,  27.4373,2, -999.00,9,  -999.0,9,  -999.0,-999.000,9,-999.000,-999.000,9, -999.00,9, -999.00,9, -999.00,9,   8.7643, -52.6306,-999.000,-999.0000, -999.00,  27.4121,  27.4373,2,    36.1760,2,  -999.0,9,     -999.0,9,     -999.0,9,     -999.0,9,       1224
33AT20120419,        A20,      16,          1,         32,         32,2,20120423,       1012,     8.7622,   -52.6302,       4625,    90.5,  24.6294,  36.2378,2,  36.2283,2,    179.2,2,   173.3,2,    1.90,2,    3.20,2,    0.04,2,    0.30,2,   1.792,2,   1.103,2,   0.109,2,    0.76,2,  2083.0,2,  2372.5,2,   8.0004,2,    25.00,-999.000,9,-999.0000,9, -999.00,9,  24.6158,2, -999.00,9,  -999.0,9,  -999.0,-999.000,9,-999.000,-999.000,9, -999.00,9, -999.00,9, -999.00,9,   8.7641, -52.6306,-999.000,-999.0000, -999.00,  24.6099,  24.6158,2,    36.3992,2,  -999.0,9,     -999.0,9,     -999.0,9,     -999.0,1,       1221
33AT20120419,        A20,      16,          1,         31,         31,2,20120423,       1012,     8.7622,   -52.6302,       4625,   135.8,  17.8729,  36.1396,2,  36.1967,2,    143.1,2,   142.3,2,    4.18,2,   11.16,2,    0.02,2,    0.73,2,   2.147,2,   1.234,2,   0.056,2,    0.62,2,  -999.0,9,  -999.0,9,-999.0000,9,  -999.00,-999.000,9,-999.0000,9, -999.00,9,  17.8776,2, -999.00,9,  -999.0,9,  -999.0,-999.000,9,-999.000,-999.000,9, -999.00,9, -999.00,9, -999.00,9,   8.7639, -52.6306,-999.000,-999.0000, -999.00,  17.8495,  17.8776,2,    36.3673,2,  -999.0,9,     -999.0,9,     -999.0,9,     -999.0,9,       1216
33AT20120419,        A20,      16,          1,         30,         30,2,20120423,       1012,     8.7622,   -52.6302,       4625,   185.8,  12.4383,  35.3102,2,  35.3177,2,    137.9,2,   139.5,2,    8.54,2,   20.08,2,    0.01,2,    1.34,2,   2.216,2,   1.229,2,   0.042,2,    0.45,2,  2175.8,2,  2324.9,2,   7.7236,2,    25.00,-999.000,9,-999.0000,9, -999.00,9,  12.4422,2, -999.00,9,  -999.0,9,  -999.0,-999.000,9,-999.000,-999.000,9, -999.00,9, -999.00,9, -999.00,9,   8.7638, -52.6305,-999.000,-999.0000, -999.00,  12.4134,  12.4422,2,    35.4842,2,  -999.0,9,     -999.0,9,     -999.0,9,     -999.0,9,       1214
33AT20120419,        A20,      16,          1,         29,         29,2,20120423,       1012,     8.7622,   -52.6302,       4625,   236.2,  10.7810,  35.0480,2,  35.0476,2,    142.6,2,   142.8,2,   10.58,2,   22.68,2,    0.01,2,    1.51,2,   2.205,2,   1.201,2,   0.043,2,    0.50,2,  2179.3,2,  2311.8,2,   7.6848,2,    25.00,-999.000,9,-999.0000,9, -999.00,9,  10.7804,2, -999.00,9,  -999.0,9,  -999.0,-999.000,9,-999.000,-999.000,9, -999.00,9, -999.00,9, -999.00,9,   8.7638, -52.6305,-999.000,-999.0000, -999.00,  10.7522,  10.7804,2,    35.2129,2,  -999.0,9,     -999.0,9,     -999.0,9,     -999.0,9,       1212
33AT20120419,        A20,      16,          1,         28,         28,2,20120423,       1012,     8.7622,   -52.6302,       4625,   286.0,   9.9886,  34.9353,2,  34.9349,2,    138.8,2,   142.2,2,   11.83,2,   24.37,2,    0.01,2,    1.62,2,   2.113,2,   1.130,2,   0.047,2,    0.37,2,  2183.7,2,  2307.6,2,   7.6619,2,    25.00,-999.000,9,-999.0000,9, -999.00,9,   9.9888,2, -999.00,9,  -999.0,9,  -999.0,-999.000,9,-999.000,-999.000,9, -999.00,9, -999.00,9, -999.00,9,   8.7638, -52.6305,-999.000,-999.0000, -999.00,   9.9553,   9.9888,2,    35.0996,2,  -999.0,9,     -999.0,9,     -999.0,9,     -999.0,9,       1209
33AT20120419,        A20,      16,          1,         27,         27,2,20120423,       1012,     8.7622,   -52.6302,       4625,   336.1,   9.2908,  34.8726,2,  34.8770,2,    135.7,2,   134.3,2,   13.67,2,   26.54,2,    0.01,2,    1.75,2,   1.845,2,   0.957,2,   0.033,2,    0.31,2,  -999.0,9,  -999.0,9,-999.0000,9,  -999.00,-999.000,9,-999.0000,9, -999.00,9,   9.2980,2, -999.00,9,  -999.0,9,  -999.0,-999.000,9,-999.000,-999.000,9, -999.00,9, -999.00,9, -999.00,9,   8.7637, -52.6305,-999.000,-999.0000, -999.00,   9.2533,   9.2980,2,    35.0415,2,  -999.0,9,     -999.0,9,     -999.0,9,     -999.0,9,       1207
33AT20120419,        A20,      16,          1,         26,         26,2,20120423,       1012,     8.7622,   -52.6302,       4625,   387.5,   8.7028,  34.7994,2,  34.7986,2,    130.5,2,   132.2,2,   15.08,2,   28.20,2,    0.00,2,    1.85,2,   1.679,2,   0.855,2,   0.035,2,    0.35,2,  2198.1,2,  2302.4,2,   7.6124,2,    25.00,-999.000,9,-999.0000,9, -999.00,9,   8.7030,2, -999.00,9,  -999.0,9,  -999.0,-999.000,9,-999.000,-999.000,9, -999.00,9, -999.00,9, -999.00,9,   8.7637, -52.6305,-999.000,-999.0000, -999.00,   8.6612,   8.7030,2,    34.9627,2,  -999.0,9,     -999.0,9,     -999.0,9,     -999.0,9,       1204
33AT20120419,        A20,      16,          1,         25,         25,2,20120423,       1012,     8.7622,   -52.6302,       4625,   437.4,   7.7937,  34.6881,2,  34.6893,2,    141.7,2,   141.1,2,   17.04,2,   29.27,2,    0.00,2,    1.93,2,   1.615,2,   0.806,2,   0.032,2,    0.25,2,  -999.0,9,  -999.0,9,-999.0000,9,  -999.00,-999.000,9,-999.0000,9, -999.00,9,   7.8000,2, -999.00,9,  -999.0,9,  -999.0,-999.000,9,-999.000,-999.000,9, -999.00,9, -999.00,9, -999.00,9,   8.7637, -52.6305,-999.000,-999.0000, -999.00,   7.7496,   7.8000,2,    34.8528,2,  -999.0,9,     -999.0,9,     -999.0,9,     -999.0,9,       1202
33AT20120419,        A20,      16,          1,         24,         24,2,20120423,       1012,     8.7622,   -52.6302,       4625,   487.7,   7.1872,  34.6235,2,  34.6248,2,    144.8,2,   143.6,2,   18.74,2,   30.44,2,    0.00,2,    2.02,2,   1.476,2,   0.726,2,   0.046,2,    0.23,2,  2201.4,2,  2297.4,2,   7.5910,2,    25.00,-999.000,9,-999.0000,9, -999.00,9,   7.1897,2, -999.00,9,  -999.0,9,  -999.0,-999.000,9,-999.000,-999.000,9, -999.00,9, -999.00,9, -999.00,9,   8.7637, -52.6305,-999.000,-999.0000, -999.00,   7.1401,   7.1897,2,    34.7881,2,  -999.0,9,     -999.0,9,     -999.0,9,     -999.0,9,       1200
33AT20120419,        A20,      16,          1,         23,         23,2,20120423,       1012,     8.7622,   -52.6302,       4625,   569.5,   6.7136,  34.5743,2,  34.5734,2,    144.6,2,   147.5,2,   20.18,2,   31.12,2,    0.00,2,    2.08,2,-999.000,9,-999.000,9,-999.000,9, -999.00,9,  2203.6,2,  2295.5,2,   7.5844,2,    25.00,-999.000,9,-999.0000,9, -999.00,9,   6.7136,2, -999.00,9,  -999.0,9,  -999.0,-999.000,9,-999.000,-999.000,9, -999.00,9, -999.00,9, -999.00,9,   8.7635, -52.6305,-999.000,-999.0000, -999.00,   6.6604,   6.7136,2,    34.7364,2,  -999.0,9,     -999.0,9,     -999.0,9,     -999.0,9,       1157
33AT20120419,        A20,      16,          1,         22,         22,2,20120423,       1012,     8.7622,   -52.6302,       4625,   669.4,   6.2761,  34.5465,2,  34.5466,2,    147.3,2,   146.6,2,   22.15,2,   32.11,2,    0.00,2,    2.14,2,   1.172,2,   0.570,2,   0.038,2,    0.15,2,  2206.3,2,  2296.6,2,   7.5760,2,    25.00,-999.000,9,-999.0000,9, -999.00,9,   6.2759,2, -999.00,9,  -999.0,9,  -999.0,-999.000,9,-999.000,-999.000,9, -999.00,9, -999.00,9, -999.00,9,   8.7634, -52.6304,-999.000,-999.0000, -999.00,   6.2154,   6.2759,2,    34.7096,2,  -999.0,9,     -999.0,9,     -999.0,9,     -999.0,9,       1154
33AT20120419,        A20,      16,          1,         21,         21,2,20120423,       1012,     8.7622,   -52.6302,       4625,   769.4,   6.0080,  34.6448,2,  34.6433,2,    127.8,2,   127.5,2,   24.99,2,   33.97,2,    0.00,2,    2.25,2,   0.403,2,   0.184,2,   0.006,2,    0.06,2,  2219.9,2,  2300.1,2,   7.5473,2,    25.00,-999.000,9,-999.0000,9, -999.00,9,   6.0092,2, -999.00,9,  -999.0,9,  -999.0,-999.000,9,-999.000,-999.000,9, -999.00,9, -999.00,9, -999.00,9,   8.7634, -52.6304,-999.000,-999.0000, -999.00,   5.9391,   6.0092,2,    34.8066,2,  -999.0,9,     -999.0,9,     -999.0,9,     -999.0,1,       1151
33AT20120419,        A20,      16,          1,         20,         20,2,20120423,       1012,     8.7622,   -52.6302,       4625,   871.1,   5.2271,  34.6112,2,  34.6128,2,    139.0,2,   139.1,2,   28.04,2,   33.86,2,    0.00,2,    2.26,2,   0.262,2,   0.115,2,   0.002,2,    0.00,2,  2219.5,6,  2303.6,2,   7.5541,2,    25.00,-999.000,9,-999.0000,9, -999.00,9,   5.2264,2, -999.00,9,  -999.0,9,  -999.0,-999.000,9,-999.000,-999.000,9, -999.00,9, -999.00,9, -999.00,9,   8.7633, -52.6304,-999.000,-999.0000, -999.00,   5.1537,   5.2264,2,    34.7761,2,  -999.0,9,     -999.0,9,     -999.0,9,     -999.0,9,       1148
33AT20120419,        A20,      16,          1,         19,         19,2,20120423,       1012,     8.7622,   -52.6302,       4625,   971.5,   4.9601,  34.6572,2,  34.6563,2,    146.0,2,   146.8,2,   28.67,2,   32.91,2,    0.00,2,    2.22,2,   0.148,2,   0.058,2,   0.003,2,    0.05,2,  2217.5,2,  2307.1,2,   7.5679,2,    25.00,-999.000,9,-999.0000,9, -999.00,9,   4.9597,2, -999.00,9,  -999.0,9,  -999.0,-999.000,9,-999.000,-999.000,9, -999.00,9, -999.00,9, -999.00,9,   8.7633, -52.6304,-999.000,-999.0000, -999.00,   4.8794,   4.9597,2,    34.8197,2,  -999.0,9,     -999.0,9,     -999.0,9,     -999.0,9,       1144
33AT20120419,        A20,      16,          1,         18,         18,2,20120423,       1012,     8.7622,   -52.6302,       4625,  1070.5,   4.9953,  34.7661,2,  34.7636,2,    157.2,2,   158.1,2,   26.52,2,   30.57,2,    0.00,2,    2.08,2,   0.135,2,   0.059,2,   0.002,2,    0.05,2,  2212.2,2,  2310.0,2,   7.5977,2,    25.00,-999.000,9,-999.0000,9, -999.00,9,   4.9927,2, -999.00,9,  -999.0,9,  -999.0,-999.000,9,-999.000,-999.000,9, -999.00,9, -999.00,9, -999.00,9,   8.7632, -52.6304,-999.000,-999.0000, -999.00,   4.9051,   4.9927,2,    34.9275,2,  -999.0,9,     -999.0,9,     -999.0,9,     -999.0,9,       1140
33AT20120419,        A20,      16,          1,         17,         17,2,20120423,       1012,     8.7622,   -52.6302,       4625,  1173.5,   5.1508,  34.8818,2,  34.8829,2,    173.9,2,   174.9,2,   22.77,2,   27.19,2,    0.00,2,    1.84,2,   0.304,2,   0.128,2,   0.010,2,    0.05,2,  -999.0,9,  -999.0,9,-999.0000,9,  -999.00,-999.000,9,-999.0000,9, -999.00,9,   5.1510,2, -999.00,9,  -999.0,9,  -999.0,-999.000,9,-999.000,-999.000,9, -999.00,9, -999.00,9, -999.00,9,   8.7631, -52.6304,-999.000,-999.0000, -999.00,   5.0495,   5.1510,2,    35.0474,2,  -999.0,9,     -999.0,9,     -999.0,9,     -999.0,9,       1137
33AT20120419,        A20,      16,          1,         16,         16,2,20120423,       1012,     8.7622,   -52.6302,       4625,  1275.9,   4.9898,  34.9540,2,  34.9563,2,    197.1,2,   198.4,2,   19.59,2,   24.05,2,    0.00,2,    1.61,2,   0.516,2,   0.235,2,   0.014,2,    0.12,2,  2188.1,2,  2317.6,2,   7.6726,2,    25.00,-999.000,9,-999.0000,9, -999.00,9,   4.9901,2, -999.00,9,  -999.0,9,  -999.0,-999.000,9,-999.000,-999.000,9, -999.00,9, -999.00,9, -999.00,9,   8.7631, -52.6304,-999.000,-999.0000, -999.00,   4.8801,   4.9901,2,    35.1211,2,  -999.0,9,     -999.0,9,     -999.0,9,     -999.0,9,       1133
33AT20120419,        A20,      16,          1,         15,         15,2,20120423,       1012,     8.7622,   -52.6302,       4625,  1374.2,   4.8119,  34.9835,2,  34.9835,2,    216.5,2,   214.4,2,   17.58,2,   22.12,2,    0.00,2,    1.51,2,   0.710,2,   0.319,2,   0.020,2,    0.13,2,  -999.0,9,  -999.0,9,-999.0000,9,  -999.00,-999.000,9,-999.0000,9, -999.00,9,   4.8138,2, -999.00,9,  -999.0,9,  -999.0,-999.000,9,-999.000,-999.000,9, -999.00,9, -999.00,9, -999.00,9,   8.7631, -52.6304,-999.000,-999.0000, -999.00,   4.6946,   4.8138,2,    35.1484,2,  -999.0,9,     -999.0,9,     -999.0,9,     -999.0,9,       1130
33AT20120419,        A20,      16,          1,         14,         14,2,20120423,       1012,     8.7622,   -52.6302,       4625,  1477.8,   4.5355,  35.0044,2,  35.0041,2,    237.5,2,   236.0,2,   15.08,2,   19.85,2,    0.00,2,    1.33,2,   1.080,2,   0.502,2,   0.048,2,    0.14,2,  2170.0,2,  2315.5,2,   7.7182,2,    25.00,-999.000,9,-999.0000,9, -999.00,9,   4.5365,2, -999.00,9,  -999.0,9,  -999.0,-999.000,9,-999.000,-999.000,9, -999.00,9, -999.00,9, -999.00,9,   8.7631, -52.6304,-999.000,-999.0000, -999.00,   4.4113,   4.5365,2,    35.1692,2,  -999.0,9,     -999.0,9,     -999.0,9,     -999.0,9,       1127
33AT20120419,        A20,      16,          1,         13,         13,2,20120423,       1012,     8.7622,   -52.6302,       4625,  1578.2,   4.2563,  34.9963,2,  34.9972,2,    246.8,2,   249.1,2,   14.18,2,   18.82,2,    0.00,2,    1.26,2,   1.348,2,   0.658,2,   0.064,2,    0.19,2,  -999.0,9,  -999.0,9,-999.0000,9,  -999.00,-999.000,9,-999.0000,9, -999.00,9,   4.2559,2, -999.00,9,  -999.0,9,  -999.0,-999.000,9,-999.000,-999.000,9, -999.00,9, -999.00,9, -999.00,9,   8.7631, -52.6304,-999.000,-999.0000, -999.00,   4.1258,   4.2559,2,    35.1623,2,  -999.0,9,     -999.0,9,     -999.0,9,     -999.0,9,       1123
33AT20120419,        A20,      16,          1,         12,         12,2,20120423,       1012,     8.7622,   -52.6302,       4625,  1751.3,   3.9382,  34.9813,2,  34.9825,2,    255.7,2,   257.0,2,   14.15,2,   18.27,2,    0.00,2,    1.23,2,   1.375,2,   0.648,2,   0.059,2,    0.21,2,  2162.3,2,  2311.4,2,   7.7301,2,    25.00,-999.000,9,-999.0000,9, -999.00,9,   3.9388,2, -999.00,9,  -999.0,9,  -999.0,-999.000,9,-999.000,-999.000,9, -999.00,9, -999.00,9, -999.00,9,   8.7631, -52.6303,-999.000,-999.0000, -999.00,   3.7954,   3.9388,2,    35.1474,2,  -999.0,9,     -999.0,9,     -999.0,9,     -999.0,9,       1119
33AT20120419,        A20,      16,          1,         11,         11,2,20120423,       1012,     8.7622,   -52.6302,       4625,  1953.7,   3.6851,  34.9703,2,  34.9711,2,    260.0,2,   260.2,2,   15.39,2,   18.19,2,    0.00,2,    1.22,2,   1.168,2,   0.560,2,   0.047,2,    0.20,2,  2160.9,2,  2312.7,2,   7.7349,2,    25.00,-999.000,9,-999.0000,9, -999.00,9,   3.6849,2, -999.00,9,  -999.0,9,  -999.0,-999.000,9,-999.000,-999.000,9, -999.00,9, -999.00,9, -999.00,9,   8.7631, -52.6304,-999.000,-999.0000, -999.00,   3.5266,   3.6849,2,    35.1360,2,  -999.0,9,     -999.0,9,     -999.0,9,     -999.0,9,       1115
33AT20120419,        A20,      16,          1,         10,         10,2,20120423,       1012,     8.7622,   -52.6302,       4625,  2186.2,   3.4789,  34.9625,2,  34.9622,2,    261.8,2,   261.8,2,   16.65,2,   18.13,2,    0.00,2,    1.23,2,   1.034,2,   0.484,2,   0.036,2,    0.18,2,  2161.0,2,  2313.9,2,   7.7369,2,    25.00,-999.000,9,-999.0000,9, -999.00,9,   3.4789,2, -999.00,9,  -999.0,9,  -999.0,-999.000,9,-999.000,-999.000,9, -999.00,9, -999.00,9, -999.00,9,   8.7630, -52.6303,-999.000,-999.0000, -999.00,   3.3013,   3.4789,2,    35.1271,2,  -999.0,9,     -999.0,9,     -999.0,9,     -999.0,1,       1110
33AT20120419,        A20,      16,          1,          9,          9,2,20120423,       1012,     8.7622,   -52.6302,       4625,  2441.3,   3.1629,  34.9518,2,  34.9528,2,    260.3,2,   260.5,2,   20.15,2,   18.45,2,    0.00,2,    1.25,2,   0.636,2,   0.292,2,   0.022,2,    0.06,2,  2163.6,2,  2318.7,2,   7.7403,2,    25.00,-999.000,9,-999.0000,9, -999.00,9,   3.1627,2, -999.00,9,  -999.0,9,  -999.0,-999.000,9,-999.000,-999.000,9, -999.00,9, -999.00,9, -999.00,9,   8.7630, -52.6303,-999.000,-999.0000, -999.00,   2.9657,   3.1627,2,    35.1176,2,  -999.0,9,     -999.0,9,     -999.0,9,     -999.0,9,       1104
33AT20120419,        A20,      16,          1,          8,          8,2,20120423,       1012,     8.7622,   -52.6302,       4625,  2695.3,   2.9829,  34.9421,2,  34.9441,2,    260.2,2,   260.3,2,   23.05,2,   18.80,2,    0.00,2,    1.28,2,   0.476,2,   0.208,2,   0.014,2,    0.07,2,  -999.0,9,  -999.0,9,-999.0000,9,  -999.00,-999.000,9,-999.0000,9, -999.00,9,   2.9824,2, -999.00,9,  -999.0,9,  -999.0,-999.000,9,-999.000,-999.000,9, -999.00,9, -999.00,9, -999.00,9,   8.7631, -52.6303,-999.000,-999.0000, -999.00,   2.7638,   2.9824,2,    35.1089,2,  -999.0,9,     -999.0,9,     -999.0,9,     -999.0,9,       1058
33AT20120419,        A20,      16,          1,          7,          7,2,20120423,       1012,     8.7622,   -52.6302,       4625,  2951.6,   2.8236,  34.9317,2,  34.9335,2,    261.6,2,   261.5,2,   24.59,2,   18.79,2,    0.00,2,    1.28,2,   0.536,2,   0.235,2,   0.017,2,    0.06,2,  -999.0,9,  -999.0,9,-999.0000,9,  -999.00,-999.000,9,-999.0000,9, -999.00,9,   2.8235,2, -999.00,9,  -999.0,9,  -999.0,-999.000,9,-999.000,-999.000,9, -999.00,9, -999.00,9, -999.00,9,   8.7630, -52.6303,-999.000,-999.0000, -999.00,   2.5816,   2.8235,2,    35.0982,2,  -999.0,9,     -999.0,9,     -999.0,9,     -999.0,9,       1052