BOTTLE,20220712CCHSIOCBG
EXPOCODE,SECT_ID,STNNBR,CASTNO,SAMPNO,BTLNBR,BTLNBR_FLAG_W,DATE,TIME,LATITUDE,LONGITUDE,DEPTH,CTDPRS,CTDTMP,CTDSAL,CTDSAL_FLAG_W,SALNTY,SALNTY_FLAG_W,CTDOXY,CTDOXY_FLAG_W,OXYGEN,OXYGEN_FLAG_W,SILCAT,SILCAT_FLAG_W,NITRAT,NITRAT_FLAG_W,NITRIT,NITRIT_FLAG_W,PHSPHT,PHSPHT_FLAG_W,CFC-11,CFC-11_FLAG_W,CFC-12,CFC-12_FLAG_W,CFC113,CFC113_FLAG_W,SF6,SF6_FLAG_W,TCARBN,TCARBN_FLAG_W,ALKALI,ALKALI_FLAG_W,PH_TOT,PH_TOT_FLAG_W,PH_TMP,TRITUM,TRITUM_FLAG_W,HELIUM,HELIUM_FLAG_W,DELHE3,DELHE3_FLAG_W,REFTMP,REFTMP_FLAG_W,DELC13,DELC13_FLAG_W,DELC14,DELC14_FLAG_W,C14ERR,NEON,NEON_FLAG_W,NEONER,CCL4,CCL4_FLAG_W,DELO18,DELO18_FLAG_W,DOC,DOC_FLAG_W,TDN,TDN_FLAG_W,BTL_LAT,BTL_LON,TRITER,HELIER,DELHER,THETA,SBE35,SBE35_FLAG_W,SALTREF,SALTREF_FLAG_W,14C-DOC,14C-DOC_FLAG_W,DELO17,DELO17_FLAG_W,O2/AR,O2/AR_FLAG_W,SIP,SIP_FLAG_W,BTL_TIME
,,,,,,,,,,,METERS,DBAR,ITS-90,PSS-78,,PSS-78,,UMOL/KG,,UMOL/KG,,UMOL/KG,,UMOL/KG,,UMOL/KG,,UMOL/KG,,PMOL/KG,,PMOL/KG,,PMOL/KG,,FMOL/KG,,UMOL/KG,,UMOL/KG,,,,DEG C,TU,,NMOL/KG,,PERCNT,,DEG C,,/MILLE,,/MILLE,,/MILLE,NMOL/KG,,NMOL/KG,PMOL/KG,,/MILLE,,UMOL/KG,,UMOL/KG,,,,TU,NMOL/KG,PERCNT,DEG C,ITS-90,,G/KG,,/MILLE,,/MILLE,,,,,,
33AT20120419,        A20,       8,          1,         19,         19,9,20120422,       0345,     7.4537,   -53.2180,        644,     4.1,  27.8187,  28.2403,2,-999.0000,9,   -999.0,9,  -999.0,9, -999.00,9, -999.00,9, -999.00,9, -999.00,9,-999.000,9,-999.000,9,-999.000,9, -999.00,9,  -999.0,9,  -999.0,9,-999.0000,9,  -999.00,-999.000,9,-999.0000,9, -999.00,9,  27.8196,2, -999.00,9,  -999.0,9,  -999.0,-999.000,9,-999.000,-999.000,9, -999.00,9, -999.00,9, -999.00,9,   7.4535, -53.2181,-999.000,-999.0000, -999.00,  27.8178,  27.8196,2,     -999.0,9,  -999.0,9,     -999.0,9,     -999.0,9,     -999.0,9,       0425
33AT20120419,        A20,       8,          1,         18,         18,2,20120422,       0345,     7.4537,   -53.2180,        644,    25.8,  27.1006,  36.1264,2,  36.1277,2,    199.3,2,   197.8,2,    0.74,2,    0.01,2,    0.00,2,    0.02,2,   1.608,2,   0.992,2,   0.136,2, -999.00,5,  2024.8,6,  2368.7,2,   8.0968,2,    25.00,-999.000,9,-999.0000,9, -999.00,9,  27.0999,2, -999.00,9,  -999.0,9,  -999.0,-999.000,9,-999.000,-999.000,9, -999.00,9, -999.00,9, -999.00,9,   7.4535, -53.2182,-999.000,-999.0000, -999.00,  27.0946,  27.0999,2,    36.2980,2,  -999.0,9,     -999.0,9,     -999.0,9,     -999.0,9,       0422
33AT20120419,        A20,       8,          1,         17,         17,2,20120422,       0345,     7.4537,   -53.2180,        644,    51.0,  26.6691,  36.1726,2,  36.1726,2,    200.3,2,   199.9,2,    0.56,2,    0.00,2,    0.00,2,    0.02,2,   1.647,2,   1.052,2,   0.138,2,    1.34,2,  -999.0,9,  -999.0,9,-999.0000,9,  -999.00,-999.000,9,-999.0000,9, -999.00,9,  26.6688,2, -999.00,9,  -999.0,9,  -999.0,-999.000,9,-999.000,-999.000,9, -999.00,9, -999.00,9, -999.00,9,   7.4535, -53.2182,-999.000,-999.0000, -999.00,  26.6575,  26.6688,2,    36.3432,2,  -999.0,9,     -999.0,9,     -999.0,9,     -999.0,9,       0419
33AT20120419,        A20,       8,          1,         16,         16,2,20120422,       0345,     7.4537,   -53.2180,        644,    76.7,  24.9259,  36.2958,2,  36.2852,2,    191.5,2,   183.1,2,    0.94,2,    0.17,2,    0.38,2,    0.09,2,   1.730,2,   0.855,2,   0.119,2, -999.00,5,  2064.4,2,  2376.4,2,   8.0343,6,    25.00,-999.000,9,-999.0000,9, -999.00,9,  24.9418,2, -999.00,9,  -999.0,9,  -999.0,-999.000,9,-999.000,-999.000,9, -999.00,9, -999.00,9, -999.00,9,   7.4535, -53.2181,-999.000,-999.0000, -999.00,  24.9092,  24.9418,2,    36.4563,2,  -999.0,9,     -999.0,9,     -999.0,9,     -999.0,9,       0416
33AT20120419,        A20,       8,          1,         15,         15,2,20120422,       0345,     7.4537,   -53.2180,        644,   100.4,  21.3326,  36.5025,2,  36.4753,2,    139.1,2,   131.5,2,    2.45,2,    8.16,2,    0.09,2,    0.49,2,   1.905,2,   1.129,2,   0.084,2, -999.00,5,  -999.0,9,  -999.0,9,-999.0000,9,  -999.00,-999.000,9,-999.0000,9, -999.00,9,  21.3027,2, -999.00,9,  -999.0,9,  -999.0,-999.000,9,-999.000,-999.000,9, -999.00,9, -999.00,9, -999.00,9,   7.4536, -53.2181,-999.000,-999.0000, -999.00,  21.3130,  21.3027,2,    36.6473,2,  -999.0,9,     -999.0,9,     -999.0,9,     -999.0,9,       0413
33AT20120419,        A20,       8,          1,         14,         14,2,20120422,       0345,     7.4537,   -53.2180,        644,   126.0,  18.7726,  36.2956,2,  36.2819,2,    130.5,2,   128.4,2,    3.63,2,   12.12,2,    0.04,2,    0.73,2,   2.060,2,   1.226,2,   0.031,2,    0.84,2,  2168.0,2,  2374.7,2,   7.8378,2,    25.00,-999.000,9,-999.0000,9, -999.00,9,  18.8046,2, -999.00,9,  -999.0,9,  -999.0,-999.000,9,-999.000,-999.000,9, -999.00,9, -999.00,9, -999.00,9,   7.4536, -53.2181,-999.000,-999.0000, -999.00,  18.7502,  18.8046,2,    36.4529,2,  -999.0,9,     -999.0,9,     -999.0,9,     -999.0,9,       0411
33AT20120419,        A20,       8,          1,         13,         13,2,20120422,       0345,     7.4537,   -53.2180,        644,   151.3,  15.4032,  35.7755,2,  35.7765,2,    129.7,2,   130.0,2,    5.85,2,   16.46,2,    0.03,2,    1.05,2,   2.038,2,   1.182,2,   0.017,2,    0.71,2,  2173.6,2,  2348.5,2,   7.7774,2,    25.00,-999.000,9,-999.0000,9, -999.00,9,  15.4035,2, -999.00,9,  -999.0,9,  -999.0,-999.000,9,-999.000,-999.000,9, -999.00,9, -999.00,9, -999.00,9,   7.4536, -53.2181,-999.000,-999.0000, -999.00,  15.3798,  15.4035,2,    35.9452,2,  -999.0,9,     -999.0,9,     -999.0,9,     -999.0,9,       0409
33AT20120419,        A20,       8,          1,         11,         11,2,20120422,       0345,     7.4537,   -53.2180,        644,   176.2,  13.3978,  35.5294,3,  35.6728,2,    128.5,2,   126.8,2,    6.89,2,   18.66,2,    0.01,2,    1.17,2,   2.086,2,   1.155,2,   0.022,2,    0.47,2,  -999.0,9,  -999.0,9,-999.0000,9,  -999.00,-999.000,9,-999.0000,9, -999.00,9,  13.3956,3, -999.00,9,  -999.0,9,  -999.0,-999.000,9,-999.000,-999.000,9, -999.00,9, -999.00,9, -999.00,9,   7.4536, -53.2181,-999.000,-999.0000, -999.00,  13.3729,  13.3956,3,    35.8410,2,  -999.0,9,     -999.0,9,     -999.0,9,     -999.0,9,       0406
33AT20120419,        A20,       8,          1,         12,         12,2,20120422,       0345,     7.4537,   -53.2180,        644,   176.5,  14.2776,  35.6966,2,  35.6685,2,    127.4,2,   126.6,2,    6.97,2,   18.68,2,    0.01,2,    1.17,2,   2.087,2,   1.126,2,   0.026,2,    0.61,2,  2181.2,2,  2341.7,6,   7.7462,2,    25.00,-999.000,9,-999.0000,9, -999.00,9,  14.0897,3, -999.00,9,  -999.0,9,  -999.0,-999.000,9,-999.000,-999.000,9, -999.00,9, -999.00,9, -999.00,9,   7.4536, -53.2181,-999.000,-999.0000, -999.00,  14.2516,  14.0897,3,    35.8367,2,  -999.0,9,     -999.0,9,     -999.0,9,     -999.0,9,       0407
33AT20120419,        A20,       8,          1,         10,         10,9,20120422,       0345,     7.4537,   -53.2180,        644,   201.2,  11.6324,  35.1769,2,-999.0000,9,   -999.0,9,  -999.0,9, -999.00,9, -999.00,9, -999.00,9, -999.00,9,-999.000,9,-999.000,9,-999.000,9, -999.00,9,  -999.0,9,  -999.0,9,-999.0000,9,  -999.00,-999.000,9,-999.0000,9, -999.00,9,  11.6251,2, -999.00,9,  -999.0,9,  -999.0,-999.000,9,-999.000,-999.000,9, -999.00,9, -999.00,9, -999.00,9,   7.4536, -53.2180,-999.000,-999.0000, -999.00,  11.6066,  11.6251,2,     -999.0,9,  -999.0,9,     -999.0,9,     -999.0,9,     -999.0,9,       0404
33AT20120419,        A20,       8,          1,          9,          9,2,20120422,       0345,     7.4537,   -53.2180,        644,   226.1,  10.7438,  35.0240,2,  35.0210,2,    137.8,2,   137.8,2,   10.47,2,   23.21,2,    0.01,2,    1.54,2,   2.134,2,   1.190,2,   0.030,2,    0.45,2,  2182.8,2,  2311.7,2,   7.6748,6,    25.00,-999.000,9,-999.0000,9, -999.00,9,  10.7371,2, -999.00,9,  -999.0,9,  -999.0,-999.000,9,-999.000,-999.000,9, -999.00,9, -999.00,9, -999.00,9,   7.4536, -53.2180,-999.000,-999.0000, -999.00,  10.7163,  10.7371,2,    35.1861,2,  -999.0,9,     -999.0,9,     -999.0,9,     -999.0,9,       0403
33AT20120419,        A20,       8,          1,          8,          8,2,20120422,       0345,     7.4537,   -53.2180,        644,   251.7,  10.3570,  34.9781,2,  34.9712,2,    133.8,2,   131.3,2,   11.55,2,   24.89,2,    0.01,2,    1.64,2,   1.952,2,   1.045,2,   0.032,2,    0.46,2,  -999.0,9,  -999.0,9,-999.0000,9,  -999.00,-999.000,9,-999.0000,9, -999.00,9,  10.3512,2, -999.00,9,  -999.0,9,  -999.0,-999.000,9,-999.000,-999.000,9, -999.00,9, -999.00,9, -999.00,9,   7.4537, -53.2180,-999.000,-999.0000, -999.00,  10.3271,  10.3512,2,    35.1361,2,  -999.0,9,     -999.0,9,     -999.0,9,     -999.0,9,       0401
33AT20120419,        A20,       8,          1,          7,          7,2,20120422,       0345,     7.4537,   -53.2180,        644,   301.9,   9.4659,  34.8897,2,  34.8890,2,    120.6,2,   123.4,2,   13.46,2,   27.40,2,    0.00,2,    1.79,2,   1.733,2,   0.902,2,   0.032,2,    0.39,2,  2198.3,2,  2305.5,2,   7.6167,2,    25.00,-999.000,9,-999.0000,9, -999.00,9,   9.4647,2, -999.00,9,  -999.0,9,  -999.0,-999.000,9,-999.000,-999.000,9, -999.00,9, -999.00,9, -999.00,9,   7.4537, -53.2180,-999.000,-999.0000, -999.00,   9.4319,   9.4647,2,    35.0535,2,  -999.0,9,     -999.0,9,     -999.0,9,     -999.0,9,       0359
33AT20120419,        A20,       8,          1,          6,          6,2,20120422,       0345,     7.4537,   -53.2180,        644,   352.5,   9.0005,  34.8338,2,  34.8335,2,    118.9,2,   118.6,2,   14.64,2,   28.95,2,    0.00,2,    1.88,2,   1.558,2,   0.775,2,   0.028,2,    0.27,2,  -999.0,9,  -999.0,9,-999.0000,9,  -999.00,-999.000,9,-999.0000,9, -999.00,9,   8.9978,2, -999.00,9,  -999.0,9,  -999.0,-999.000,9,-999.000,-999.000,9, -999.00,9, -999.00,9, -999.00,9,   7.4537, -53.2180,-999.000,-999.0000, -999.00,   8.9619,   8.9978,2,    34.9978,2,  -999.0,9,     -999.0,9,     -999.0,9,     -999.0,9,       0357
33AT20120419,        A20,       8,          1,          5,          5,2,20120422,       0345,     7.4537,   -53.2180,        644,   401.4,   8.6354,  34.7968,2,  34.7948,2,    117.3,2,   116.0,2,   15.66,2,   30.09,2,    0.00,2,    1.95,2,   1.419,2,   0.733,2,   0.029,2,    0.27,2,  2208.1,2,  2301.7,2,   7.5801,6,    25.00,-999.000,9,-999.0000,9, -999.00,9,   8.6353,2, -999.00,9,  -999.0,9,  -999.0,-999.000,9,-999.000,-999.000,9, -999.00,9, -999.00,9, -999.00,9,   7.4537, -53.2180,-999.000,-999.0000, -999.00,   8.5925,   8.6353,2,    34.9589,2,  -999.0,9,     -999.0,9,     -999.0,9,     -999.0,9,       0355
33AT20120419,        A20,       8,          1,          4,          4,2,20120422,       0345,     7.4537,   -53.2180,        644,   451.8,   8.0031,  34.7312,2,  34.7325,2,    122.7,2,   122.0,2,   16.99,2,   30.80,2,    0.00,2,    2.00,2,   1.349,2,   0.691,2,   0.026,2,    0.20,2,  -999.0,9,  -999.0,9,-999.0000,9,  -999.00,-999.000,9,-999.0000,9, -999.00,9,   8.0070,2, -999.00,9,  -999.0,9,  -999.0,-999.000,9,-999.000,-999.000,9, -999.00,9, -999.00,9, -999.00,9,   7.4537, -53.2180,-999.000,-999.0000, -999.00,   7.9568,   8.0070,2,    34.8963,2,  -999.0,9,     -999.0,9,     -999.0,9,     -999.0,9,       0353
33AT20120419,        A20,       8,          1,          3,          3,2,20120422,       0345,     7.4537,   -53.2180,        644,   502.9,   7.6295,  34.6991,2,  34.6995,2,    117.5,2,   117.0,2,   18.39,2,   32.29,2,    0.00,2,    2.18,2,   1.098,2,   0.559,2,   0.028,2,    0.00,2,  2214.4,2,  2299.1,2,   7.5566,2,    25.00,-999.000,9,-999.0000,9, -999.00,9,   7.6277,2, -999.00,9,  -999.0,9,  -999.0,-999.000,9,-999.000,-999.000,9, -999.00,9, -999.00,9, -999.00,9,   7.4537, -53.2180,-999.000,-999.0000, -999.00,   7.5792,   7.6277,2,    34.8631,2,  -999.0,9,     -999.0,9,     -999.0,9,     -999.0,9,       0351
33AT20120419,        A20,       8,          1,          2,          2,2,20120422,       0345,     7.4537,   -53.2180,        644,   604.4,   6.3776,  34.6107,2,  34.6095,2,    130.7,2,   131.2,2,   23.01,2,   33.10,2,    0.00,2,    2.19,2,   0.805,2,   0.385,2,   0.019,2,    0.10,2,  2215.1,2,  2299.9,2,   7.5559,6,    25.00,-999.000,9,-999.0000,9, -999.00,9,   6.3672,2, -999.00,9,  -999.0,9,  -999.0,-999.000,9,-999.000,-999.000,9, -999.00,9, -999.00,9, -999.00,9,   7.4537, -53.2180,-999.000,-999.0000, -999.00,   6.3225,   6.3672,2,    34.7727,2,  -999.0,9,     -999.0,9,     -999.0,9,     -999.0,9,       0348
33AT20120419,        A20,       8,          1,          1,          1,2,20120422,       0345,     7.4537,   -53.2180,        644,   623.3,   5.8002,  34.5718,2,  34.5704,2,    136.5,2,   136.6,2,   25.47,2,   33.45,2,    0.00,2,    2.24,2,   0.727,2,   0.344,2,   0.018,2,    0.00,2,  2217.3,2,  2301.0,2,   7.5533,2,    25.00,-999.000,9,-999.0000,9, -999.00,9,   5.8082,2, -999.00,9,  -999.0,9,  -999.0,-999.000,9,-999.000,-999.000,9, -999.00,9, -999.00,9, -999.00,9,   7.4537, -53.2180,-999.000,-999.0000, -999.00,   5.7461,   5.8082,2,    34.7334,2,  -999.0,9,     -999.0,9,     -999.0,9,     -999.0,9,       0346