BOTTLE,20220712CCHSIOCBG
EXPOCODE,SECT_ID,STNNBR,CASTNO,SAMPNO,BTLNBR,BTLNBR_FLAG_W,DATE,TIME,LATITUDE,LONGITUDE,DEPTH,CTDPRS,CTDTMP,CTDSAL,CTDSAL_FLAG_W,SALNTY,SALNTY_FLAG_W,CTDOXY,CTDOXY_FLAG_W,OXYGEN,OXYGEN_FLAG_W,SILCAT,SILCAT_FLAG_W,NITRAT,NITRAT_FLAG_W,NITRIT,NITRIT_FLAG_W,PHSPHT,PHSPHT_FLAG_W,CFC-11,CFC-11_FLAG_W,CFC-12,CFC-12_FLAG_W,CFC113,CFC113_FLAG_W,SF6,SF6_FLAG_W,TCARBN,TCARBN_FLAG_W,ALKALI,ALKALI_FLAG_W,PH_TOT,PH_TOT_FLAG_W,PH_TMP,TRITUM,TRITUM_FLAG_W,HELIUM,HELIUM_FLAG_W,DELHE3,DELHE3_FLAG_W,REFTMP,REFTMP_FLAG_W,DELC13,DELC13_FLAG_W,DELC14,DELC14_FLAG_W,C14ERR,NEON,NEON_FLAG_W,NEONER,CCL4,CCL4_FLAG_W,DELO18,DELO18_FLAG_W,DOC,DOC_FLAG_W,TDN,TDN_FLAG_W,BTL_LAT,BTL_LON,TRITER,HELIER,DELHER,THETA,SBE35,SBE35_FLAG_W,SALTREF,SALTREF_FLAG_W,14C-DOC,14C-DOC_FLAG_W,DELO17,DELO17_FLAG_W,O2/AR,O2/AR_FLAG_W,SIP,SIP_FLAG_W,BTL_TIME
,,,,,,,,,,,METERS,DBAR,ITS-90,PSS-78,,PSS-78,,UMOL/KG,,UMOL/KG,,UMOL/KG,,UMOL/KG,,UMOL/KG,,UMOL/KG,,PMOL/KG,,PMOL/KG,,PMOL/KG,,FMOL/KG,,UMOL/KG,,UMOL/KG,,,,DEG C,TU,,NMOL/KG,,PERCNT,,DEG C,,/MILLE,,/MILLE,,/MILLE,NMOL/KG,,NMOL/KG,PMOL/KG,,/MILLE,,UMOL/KG,,UMOL/KG,,,,TU,NMOL/KG,PERCNT,DEG C,ITS-90,,G/KG,,/MILLE,,/MILLE,,,,,,
33AT20120419,        A20,      39,          1,         36,         36,2,20120430,       0729,    20.7203,   -52.3323,       5389,     3.9,  25.6151,  36.5830,2,  36.5829,2,    205.3,2,   205.5,2,    0.74,2,    0.00,2,    0.00,2,    0.00,2,   1.625,2,   1.049,2,   0.122,2,    0.95,3,  2035.5,6,  2397.1,2,   8.1103,2,    25.00,-999.000,9,-999.0000,9, -999.00,9,  25.6145,2,    1.10,2,    53.6,2,     2.8,-999.000,9,-999.000,   0.970,2, -999.00,9,   78.26,2,    4.31,2,  20.7143, -52.3320,-999.000,-999.0000, -999.00,  25.6142,  25.6145,2,    36.7554,2,  -999.0,9,     -999.0,9,     -999.0,9,     -999.0,9,       0946
33AT20120419,        A20,      39,          1,         35,         35,2,20120430,       0729,    20.7203,   -52.3323,       5389,    35.0,  25.5991,  36.5900,2,  36.5838,2,    207.2,2,   205.6,2,    0.71,2,    0.00,2,    0.00,2,    0.00,2,   1.622,2,   1.046,2,   0.122,2,    1.23,3,  2037.9,2,  2398.7,2,   8.1103,6,    25.00,-999.000,9,-999.0000,9, -999.00,9,  25.5956,2, -999.00,9,  -999.0,9,  -999.0,-999.000,9,-999.000,   0.980,2, -999.00,9,   74.63,2,    4.63,2,  20.7144, -52.3320,-999.000,-999.0000, -999.00,  25.5913,  25.5956,2,    36.7563,2,  -999.0,9,     -999.0,9,     -999.0,9,     -999.0,9,       0943
33AT20120419,        A20,      39,          1,         34,         34,2,20120430,       0729,    20.7203,   -52.3323,       5389,    61.0,  24.9684,  36.9817,2,  36.9517,2,    209.9,2,   207.6,2,    0.27,2,    0.00,2,    0.00,2,    0.00,2,   1.718,2,   1.088,2,   0.120,2,    1.02,3,  2062.2,2,  2419.0,2,   8.0977,2,    25.00,-999.000,9,-999.0000,9, -999.00,9,  24.9719,2, -999.00,9,  -999.0,9,  -999.0,-999.000,9,-999.000,   0.800,2, -999.00,9,   71.26,2,    3.93,2,  20.7145, -52.3320,-999.000,-999.0000, -999.00,  24.9551,  24.9719,2,    37.1259,2,  -999.0,9,     -999.0,9,     -999.0,9,     -999.0,1,       0941
33AT20120419,        A20,      39,          1,         33,         33,2,20120430,       0729,    20.7203,   -52.3323,       5389,    86.1,  24.4648,  37.1847,2,  37.1801,2,    204.2,2,   203.1,2,    0.09,2,    0.00,2,    0.00,2,    0.00,2,   1.728,2,   1.098,2,   0.121,2,    0.97,3,  2082.3,2,  2434.2,2,   8.0844,2,    25.00,-999.000,9,-999.0000,9, -999.00,9,  24.4653,2, -999.00,9,  -999.0,9,  -999.0,-999.000,9,-999.000,   0.600,2, -999.00,9,   69.13,2,    4.19,2,  20.7146, -52.3321,-999.000,-999.0000, -999.00,  24.4463,  24.4653,2,    37.3554,2,  -999.0,9,     -999.0,9,     -999.0,9,     -999.0,1,       0938
33AT20120419,        A20,      39,          1,         32,         32,2,20120430,       0729,    20.7203,   -52.3323,       5389,   122.5,  22.5084,  37.1804,2,  37.1880,2,    184.5,2,   185.6,2,    0.10,2,    0.30,2,    0.07,2,    0.00,2,   1.828,2,   1.183,2,   0.108,2,    1.17,3,  2120.3,2,  2430.5,2,   8.0204,2,    25.00,-999.000,9,-999.0000,9, -999.00,9,  22.5112,2,    0.80,2,    66.3,2,     2.6,-999.000,9,-999.000,   0.360,2, -999.00,9,   58.86,2,    4.91,2,  20.7147, -52.3321,-999.000,-999.0000, -999.00,  22.4835,  22.5112,2,    37.3634,2,  -999.0,9,     -999.0,9,     -999.0,9,     -999.0,9,       0934
33AT20120419,        A20,      39,          1,         31,         31,2,20120430,       0729,    20.7203,   -52.3323,       5389,   171.2,  20.3845,  36.9252,2,  36.9231,2,    173.4,2,   175.8,2,    0.46,2,    2.58,2,    0.02,2,    0.09,2,   2.026,2,   1.261,2,   0.039,2,    0.80,3,  2136.2,2,  2413.2,2,   7.9690,2,    25.00,-999.000,9,-999.0000,9, -999.00,9,  20.3886,2, -999.00,9,  -999.0,9,  -999.0,-999.000,9,-999.000,   0.220,2, -999.00,9,   52.63,2,    5.95,2,  20.7149, -52.3321,-999.000,-999.0000, -999.00,  20.3521,  20.3886,2,    37.0972,2,  -999.0,9,     -999.0,9,     -999.0,9,     -999.0,9,       0932
33AT20120419,        A20,      39,          1,         30,         30,2,20120430,       0729,    20.7203,   -52.3323,       5389,   217.5,  18.7961,  36.6862,2,  36.6965,2,    178.6,2,   179.1,2,    0.83,2,    4.39,2,    0.01,2,    0.19,2,   2.120,2,   1.298,2,   0.025,2,    1.06,3,  -999.0,9,  -999.0,9,-999.0000,9,  -999.00,-999.000,9,-999.0000,9, -999.00,9,  18.8059,2, -999.00,9,  -999.0,9,  -999.0,-999.000,9,-999.000,   0.210,2, -999.00,9,   49.17,2,    7.59,2,  20.7149, -52.3321,-999.000,-999.0000, -999.00,  18.7572,  18.8059,2,    36.8695,2,  -999.0,9,     -999.0,9,     -999.0,9,     -999.0,9,       0930
33AT20120419,        A20,      39,          1,         29,         29,2,20120430,       0729,    20.7203,   -52.3323,       5389,   269.4,  17.5965,  36.4858,2,  36.4889,2,    184.9,2,   186.2,2,    1.30,2,    6.01,2,    0.01,2,    0.30,2,   2.215,2,   1.348,2,   0.022,2,    1.18,3,  2129.6,2,  2386.0,6,   7.9383,2,    25.00,-999.000,9,-999.0000,9, -999.00,9,  17.6033,2,    0.60,2,    75.8,2,     2.9,-999.000,9,-999.000,   0.230,2, -999.00,9,   48.74,2,    9.23,2,  20.7149, -52.3321,-999.000,-999.0000, -999.00,  17.5504,  17.6033,2,    36.6610,2,  -999.0,9,     -999.0,9,     -999.0,9,     -999.0,9,       0928
33AT20120419,        A20,      39,          1,         28,         28,2,20120430,       0729,    20.7203,   -52.3323,       5389,   316.4,  16.6006,  36.3052,2,  36.3109,2,    175.9,2,   170.6,2,    2.24,2,    9.19,2,    0.01,2,    0.51,2,   2.211,2,   1.317,2,   0.018,2,    1.08,3,  2144.3,2,  2376.5,2,   7.8923,2,    25.00,-999.000,9,-999.0000,9, -999.00,9,  16.5778,2,    0.50,2,    70.2,2,     2.6,-999.000,9,-999.000,   0.200,2, -999.00,9,   47.54,2,   12.27,2,  20.7148, -52.3321,-999.000,-999.0000, -999.00,  16.5486,  16.5778,2,    36.4821,2,  -999.0,9,     -999.0,9,     -999.0,9,     -999.0,9,       0926
33AT20120419,        A20,      39,          1,         27,         27,2,20120430,       0729,    20.7203,   -52.3323,       5389,   366.7,  15.5518,  36.1259,2,  36.1219,2,    158.3,2,   160.6,2,    3.21,2,   11.86,2,    0.01,2,    0.67,2,   2.244,2,   1.325,2,   0.019,2,    0.79,3,  2155.1,2,  2364.7,2,   7.8527,2,    25.00,-999.000,9,-999.0000,9, -999.00,9,  15.5391,2,    0.51,2,    68.9,2,     2.8,-999.000,9,-999.000,   0.190,2, -999.00,9,   46.23,2,   14.25,2,  20.7148, -52.3321,-999.000,-999.0000, -999.00,  15.4941,  15.5391,2,    36.2922,2,  -999.0,9,     -999.0,9,     -999.0,9,     -999.0,9,       0924
33AT20120419,        A20,      39,          1,         26,         26,2,20120430,       0729,    20.7203,   -52.3323,       5389,   441.6,  13.9298,  35.8612,2,  35.8611,2,    139.9,2,   142.1,2,    5.07,2,   16.40,2,    0.01,2,    0.96,2,   2.094,2,   1.197,2,   0.019,2,    0.68,3,  -999.0,9,  -999.0,9,-999.0000,9,  -999.00,-999.000,9,-999.0000,9, -999.00,9,  13.9345,2, -999.00,9,  -999.0,9,  -999.0,-999.000,9,-999.000,   0.160,2, -999.00,9,   45.41,2,   18.45,2,  20.7149, -52.3321,-999.000,-999.0000, -999.00,  13.8652,  13.9345,2,    36.0302,2,  -999.0,9,     -999.0,9,     -999.0,9,     -999.0,1,       0922
33AT20120419,        A20,      39,          1,         25,         25,2,20120430,       0729,    20.7203,   -52.3323,       5389,   541.4,  12.0737,  35.5905,2,  35.5944,2,    131.9,2,   130.3,2,    8.00,2,   20.85,2,    0.00,2,    1.25,2,   1.637,2,   0.905,2,   0.017,2,    0.00,3,  2186.4,2,  2336.7,2,   7.7243,2,    25.00,-999.000,9,-999.0000,9, -999.00,9,  12.0681,2,    0.51,2,    28.3,2,     2.9,-999.000,9,-999.000,   0.140,2, -999.00,9,      43,2,   22.92,2,  20.7148, -52.3321,-999.000,-999.0000, -999.00,  12.0013,  12.0681,2,    35.7622,2,  -999.0,9,     -999.0,9,     -999.0,9,     -999.0,9,       0920
33AT20120419,        A20,      39,          1,         24,         24,2,20120430,       0729,    20.7203,   -52.3323,       5389,   641.6,   9.7308,  35.2394,2,  35.2430,2,    124.8,2,   121.9,2,   13.57,2,   26.31,2,    0.00,2,    1.64,2,   0.888,2,   0.496,2,   0.009,2,    0.00,3,  2201.2,2,  2323.8,2,   7.6541,2,    25.00,-999.000,9,-999.0000,9, -999.00,9,   9.7489,2,    0.60,2,   -21.3,2,     2.6,-999.000,9,-999.000,   0.120,2, -999.00,9,   42.21,2,   28.65,2,  20.7149, -52.3321,-999.000,-999.0000, -999.00,   9.6557,   9.7489,2,    35.4092,2,  -999.0,9,     -999.0,9,     -999.0,9,     -999.0,9,       0917
33AT20120419,        A20,      39,          1,         23,         23,2,20120430,       0729,    20.7203,   -52.3323,       5389,   740.9,   7.9845,  34.9968,2,  34.9905,2,    125.5,2,   123.9,2,   18.34,2,   29.61,2,    0.00,2,    1.89,2,   0.495,2,   0.278,2,   0.006,2,    0.00,3,  2207.8,2,  2313.6,2,   7.6110,2,    25.00,-999.000,9,-999.0000,9, -999.00,9,   7.9747,2,    0.68,2,   -49.9,2,     3.2,-999.000,9,-999.000,   0.110,2, -999.00,9,   40.39,2,   32.46,2,  20.7149, -52.3321,-999.000,-999.0000, -999.00,   7.9070,   7.9747,2,    35.1555,2,  -999.0,9,     -999.0,9,     -999.0,9,     -999.0,9,       0914
33AT20120419,        A20,      39,          1,         22,         22,2,20120430,       0729,    20.7203,   -52.3323,       5389,   839.1,   6.5412,  34.8394,2,  34.8377,2,    131.7,2,   132.4,2,   22.47,2,   31.27,2,    0.00,2,    2.04,2,   0.233,2,   0.144,2,   0.004,2,    0.00,3,  2212.7,6,  2311.6,2,   7.5896,2,    25.00,-999.000,9,-999.0000,9, -999.00,9,   6.5409,2,    0.70,2,   -77.2,2,     2.9,-999.000,9,-999.000,   0.090,2, -999.00,9,   42.41,2,   33.99,2,  20.7150, -52.3321,-999.000,-999.0000, -999.00,   6.4620,   6.5409,2,    35.0020,2,  -999.0,9,     -999.0,9,     -999.0,9,     -999.0,9,       0912
33AT20120419,        A20,      39,          1,         21,         21,2,20120430,       0729,    20.7203,   -52.3323,       5389,   939.9,   5.9546,  34.8273,2,  34.8245,2,    139.8,2,   141.9,2,   23.66,2,   30.86,2,    0.00,2,    2.03,2,   0.155,2,   0.097,2,   0.004,2,    0.00,3,  2213.0,2,  2312.0,2,   7.5951,6,    25.00,-999.000,9,-999.0000,9, -999.00,9,   5.9549,2,    0.72,2,   -86.9,2,     2.4,-999.000,9,-999.000,   0.090,2, -999.00,9,   42.53,2,   33.74,2,  20.7150, -52.3321,-999.000,-999.0000, -999.00,   5.8694,   5.9549,2,    34.9887,2,  -999.0,9,     -999.0,9,     -999.0,9,     -999.0,9,       0909
33AT20120419,        A20,      39,          1,         20,         20,2,20120430,       0729,    20.7203,   -52.3323,       5389,  1042.0,   5.7512,  34.8738,2,  34.8713,2,    152.4,2,   151.9,2,   22.85,2,   29.36,2,    0.00,2,    1.94,2,   0.140,2,   0.087,2,   0.003,2,    0.00,3,  2208.0,2,  2314.4,2,   7.6138,2,    25.00,-999.000,9,-999.0000,9, -999.00,9,   5.7599,2,    0.80,2,   -95.1,2,     2.4,-999.000,9,-999.000,   0.090,2, -999.00,9,   41.86,2,   32.94,2,  20.7151, -52.3321,-999.000,-999.0000, -999.00,   5.6575,   5.7599,2,    35.0358,2,  -999.0,9,     -999.0,9,     -999.0,9,     -999.0,9,       0907
33AT20120419,        A20,      39,          1,         19,         19,2,20120430,       0729,    20.7203,   -52.3323,       5389,  1144.3,   5.5659,  34.9171,2,  34.9179,2,    167.5,2,   168.8,2,   21.42,2,   27.14,2,    0.00,2,    1.81,2,   0.231,2,   0.136,2,   0.006,2,    0.00,3,  -999.0,9,  -999.0,9,-999.0000,9,  -999.00,-999.000,9,-999.0000,9, -999.00,9,   5.5663,2, -999.00,9,  -999.0,9,  -999.0,-999.000,9,-999.000,   0.150,2, -999.00,9,   41.84,2,   30.03,2,  20.7151, -52.3321,-999.000,-999.0000, -999.00,   5.4637,   5.5663,2,    35.0826,2,  -999.0,9,     -999.0,9,     -999.0,9,     -999.0,9,       0904
33AT20120419,        A20,      39,          1,         18,         18,2,20120430,       0729,    20.7203,   -52.3323,       5389,  1245.2,   5.3434,  34.9830,2,  34.9819,2,    192.3,2,   191.9,2,   18.77,2,   24.15,2,    0.00,2,    1.61,2,   0.399,2,   0.222,2,   0.012,2,    0.00,3,  2189.5,2,  2318.9,2,   7.6749,2,    25.00,-999.000,9,-999.0000,9, -999.00,9,   5.3464,2,    0.87,2,   -74.2,2,     2.9,-999.000,9,-999.000,   0.270,2, -999.00,9,   41.71,2,   26.38,2,  20.7151, -52.3321,-999.000,-999.0000, -999.00,   5.2333,   5.3464,2,    35.1468,2,  -999.0,9,     -999.0,9,     -999.0,9,     -999.0,9,       0901
33AT20120419,        A20,      39,          1,         17,         17,2,20120430,       0729,    20.7203,   -52.3323,       5389,  1347.3,   5.1106,  34.9944,2,  34.9929,2,    201.9,2,   201.4,2,   18.05,2,   23.06,2,    0.00,2,    1.55,2,   0.368,2,   0.204,2,   0.011,2,    0.00,3,  2184.1,2,  2319.1,2,   7.6862,2,    25.00,-999.000,9,-999.0000,9, -999.00,9,   5.1085,2, -999.00,9,  -999.0,9,  -999.0,-999.000,9,-999.000,   0.280,2, -999.00,9,   40.69,2,   25.45,2,  20.7151, -52.3321,-999.000,-999.0000, -999.00,   4.9928,   5.1085,2,    35.1579,2,  -999.0,9,     -999.0,9,     -999.0,9,     -999.0,9,       0859
33AT20120419,        A20,      39,          1,         16,         16,2,20120430,       0729,    20.7203,   -52.3323,       5389,  1477.6,   4.8905,  35.0286,2,  35.0281,2,    224.4,2,   227.5,2,   14.57,2,   20.13,2,    0.00,2,    1.34,2,   0.828,2,   0.437,2,   0.031,2,    0.00,3,  -999.0,9,  -999.0,9,-999.0000,9,  -999.00,-999.000,9,-999.0000,9, -999.00,9,   4.8992,2, -999.00,9,  -999.0,9,  -999.0,-999.000,9,-999.000,   0.580,2, -999.00,9,   40.57,2,   22.34,2,  20.7150, -52.3321,-999.000,-999.0000, -999.00,   4.7623,   4.8992,2,    35.1933,2,  -999.0,9,     -999.0,9,     -999.0,9,     -999.0,9,       0855
33AT20120419,        A20,      39,          1,         15,         15,2,20120430,       0729,    20.7203,   -52.3323,       5389,  1681.2,   4.3396,  35.0152,2,  35.0150,2,    243.6,2,   243.8,2,   14.35,2,   19.08,2,    0.00,2,    1.26,2,   0.641,2,   0.340,2,   0.026,2,    0.00,3,  2164.3,2,  2316.9,2,   7.7302,6,    25.00,-999.000,9,-999.0000,9, -999.00,9,   4.3397,2,    1.00,2,   -57.8,2,     3.4,-999.000,9,-999.000,   0.590,2, -999.00,9,   40.15,2,   21.39,2,  20.7151, -52.3321,-999.000,-999.0000, -999.00,   4.1983,   4.3397,2,    35.1801,2,  -999.0,9,     -999.0,9,     -999.0,9,     -999.0,9,       0851
33AT20120419,        A20,      39,          1,         14,         14,2,20120430,       0729,    20.7203,   -52.3323,       5389,  1884.5,   3.9059,  35.0040,2,  35.0043,2,    243.8,2,   243.7,2,   18.50,2,   19.59,2,    0.00,2,    1.31,2,-999.000,5,-999.000,5,-999.000,5, -999.00,5,  2166.3,2,  2321.0,2,   7.7358,2,    25.00,-999.000,9,-999.0000,9, -999.00,9,   3.9127,2, -999.00,9,  -999.0,9,  -999.0,-999.000,9,-999.000,-999.000,5, -999.00,9,   41.36,2,   21.98,2,  20.7153, -52.3322,-999.000,-999.0000, -999.00,   3.7508,   3.9127,2,    35.1694,2,  -999.0,9,     -999.0,9,     -999.0,9,     -999.0,9,       0846
33AT20120419,        A20,      39,          1,         13,         13,2,20120430,       0729,    20.7203,   -52.3323,       5389,  2107.1,   3.6248,  34.9942,2,  34.9945,2,    245.5,2,   246.7,2,   21.68,2,   19.71,2,    0.00,2,    1.32,2,   0.093,2,   0.059,2,   0.004,2,    0.00,3,  2167.7,2,  2323.0,2,   7.7391,2,    25.00,-999.000,9,-999.0000,9, -999.00,9,   3.6247,2,    1.09,2,   -91.9,2,     2.9,-999.000,9,-999.000,   0.180,2, -999.00,9,   40.88,2,   22.03,2,  20.7157, -52.3323,-999.000,-999.0000, -999.00,   3.4524,   3.6247,2,    35.1595,2,  -999.0,9,     -999.0,9,     -999.0,9,     -999.0,9,       0841
33AT20120419,        A20,      39,          1,         12,         12,2,20120430,       0729,    20.7203,   -52.3323,       5389,  2359.8,   3.3007,  34.9725,2,  34.9730,2,    248.3,2,   247.3,2,   25.22,2,   19.87,2,    0.00,2,    1.35,2,   0.056,2,   0.035,2,   0.002,2,    0.00,3,  2170.7,2,  2326.5,2,   7.7401,2,    25.00,-999.000,9,-999.0000,9, -999.00,9,   3.2995,2,    1.04,2,   -98.3,2,     2.2,-999.000,9,-999.000,   0.140,2, -999.00,9,   41.69,2,   22.20,2,  20.7162, -52.3323,-999.000,-999.0000, -999.00,   3.1090,   3.2995,2,    35.1380,2,  -999.0,9,     -999.0,9,     -999.0,9,     -999.0,9,       0836
33AT20120419,        A20,      39,          1,         11,         11,4,20120430,       0729,    20.7203,   -52.3323,       5389,  2616.7,   3.0203,  34.9512,2,  35.0230,4,    248.9,2,   234.3,4,   14.50,4,   19.74,4,    0.00,4,    1.32,4,-999.000,5,-999.000,5,-999.000,5, -999.00,5,  -999.0,9,  -999.0,9,-999.0000,9,  -999.00,-999.000,9,-999.0000,9, -999.00,9,   3.0199,2, -999.00,9,  -999.0,9,  -999.0,-999.000,9,-999.000,-999.000,5, -999.00,9,   41.08,2,   22.48,2,  20.7167, -52.3323,-999.000,-999.0000, -999.00,   2.8083,   3.0199,2,    35.1882,4,  -999.0,9,     -999.0,9,     -999.0,9,     -999.0,1,       0831
33AT20120419,        A20,      39,          1,         10,         10,2,20120430,       0729,    20.7203,   -52.3323,       5389,  2870.4,   2.8466,  34.9377,2,  34.9376,2,    248.7,2,   249.3,2,   31.58,2,   20.32,2,    0.00,2,    1.38,2,   0.045,2,   0.028,2,   0.002,2,    0.00,3,  -999.0,9,  -999.0,9,-999.0000,9,  -999.00,-999.000,9,-999.0000,9, -999.00,9,   2.8467,2, -999.00,9,  -999.0,9,  -999.0,-999.000,9,-999.000,   0.090,2, -999.00,9,   40.96,2,   23.35,2,  20.7172, -52.3324,-999.000,-999.0000, -999.00,   2.6125,   2.8467,2,    35.1024,2,  -999.0,9,     -999.0,9,     -999.0,9,     -999.0,9,       0825
33AT20120419,        A20,      39,          1,          9,          9,2,20120430,       0729,    20.7203,   -52.3323,       5389,  3140.5,   2.6882,  34.9246,2,  34.9242,2,    251.1,2,   251.0,2,   33.41,2,   20.34,2,    0.00,2,    1.38,2,   0.057,2,   0.036,2,   0.002,2,    0.00,3,  2177.4,2,  2333.0,2,   7.7382,2,    25.00,-999.000,9,-999.0000,9, -999.00,9,   2.6874,2,    1.07,2,  -103.7,2,     2.2,-999.000,9,-999.000,   0.110,2, -999.00,9,   41.08,2,   22.88,2,  20.7178, -52.3324,-999.000,-999.0000, -999.00,   2.4296,   2.6874,2,    35.0889,2,  -999.0,9,     -999.0,9,     -999.0,9,     -999.0,9,       0819
33AT20120419,        A20,      39,          1,          8,          8,2,20120430,       0729,    20.7203,   -52.3323,       5389,  3446.1,   2.5367,  34.9109,2,  34.9105,2,    252.1,2,   252.3,2,   36.31,2,   20.56,2,    0.00,2,    1.39,2,   0.051,2,   0.037,2,   0.003,2,    0.00,3,  -999.0,9,  -999.0,9,-999.0000,9,  -999.00,-999.000,9,-999.0000,9, -999.00,9,   2.5367,2, -999.00,9,  -999.0,9,  -999.0,-999.000,9,-999.000,   0.100,2, -999.00,9,   41.11,2,   22.76,2,  20.7184, -52.3323,-999.000,-999.0000, -999.00,   2.2492,   2.5367,2,    35.0751,2,  -999.0,9,     -999.0,9,     -999.0,9,     -999.0,9,       0812
33AT20120419,        A20,      39,          1,          7,          7,2,20120430,       0729,    20.7203,   -52.3323,       5389,  3750.6,   2.3548,  34.8945,2,  34.8937,2,    251.5,2,   252.9,2,   40.57,2,   20.94,2,    0.00,2,    1.42,2,   0.053,2,   0.035,2,   0.004,2,    0.00,3,  2183.5,2,  2337.5,6,   7.7333,2,    25.00,-999.000,9,-999.0000,9, -999.00,9,   2.3555,2, -999.00,9,  -999.0,9,  -999.0,-999.000,9,-999.000,   0.110,2, -999.00,9,   40.32,2,   23.16,2,  20.7186, -52.3323,-999.000,-999.0000, -999.00,   2.0386,   2.3555,2,    35.0583,2,  -999.0,9,     -999.0,9,     -999.0,9,     -999.0,9,       0806