BOTTLE,20220712CCHSIOCBG
EXPOCODE,SECT_ID,STNNBR,CASTNO,SAMPNO,BTLNBR,BTLNBR_FLAG_W,DATE,TIME,LATITUDE,LONGITUDE,DEPTH,CTDPRS,CTDTMP,CTDSAL,CTDSAL_FLAG_W,SALNTY,SALNTY_FLAG_W,CTDOXY,CTDOXY_FLAG_W,OXYGEN,OXYGEN_FLAG_W,SILCAT,SILCAT_FLAG_W,NITRAT,NITRAT_FLAG_W,NITRIT,NITRIT_FLAG_W,PHSPHT,PHSPHT_FLAG_W,CFC-11,CFC-11_FLAG_W,CFC-12,CFC-12_FLAG_W,CFC113,CFC113_FLAG_W,SF6,SF6_FLAG_W,TCARBN,TCARBN_FLAG_W,ALKALI,ALKALI_FLAG_W,PH_TOT,PH_TOT_FLAG_W,PH_TMP,TRITUM,TRITUM_FLAG_W,HELIUM,HELIUM_FLAG_W,DELHE3,DELHE3_FLAG_W,REFTMP,REFTMP_FLAG_W,DELC13,DELC13_FLAG_W,DELC14,DELC14_FLAG_W,C14ERR,NEON,NEON_FLAG_W,NEONER,CCL4,CCL4_FLAG_W,DELO18,DELO18_FLAG_W,DOC,DOC_FLAG_W,TDN,TDN_FLAG_W,BTL_LAT,BTL_LON,TRITER,HELIER,DELHER,THETA,SBE35,SBE35_FLAG_W,SALTREF,SALTREF_FLAG_W,14C-DOC,14C-DOC_FLAG_W,DELO17,DELO17_FLAG_W,O2/AR,O2/AR_FLAG_W,SIP,SIP_FLAG_W,BTL_TIME
,,,,,,,,,,,METERS,DBAR,ITS-90,PSS-78,,PSS-78,,UMOL/KG,,UMOL/KG,,UMOL/KG,,UMOL/KG,,UMOL/KG,,UMOL/KG,,PMOL/KG,,PMOL/KG,,PMOL/KG,,FMOL/KG,,UMOL/KG,,UMOL/KG,,,,DEG C,TU,,NMOL/KG,,PERCNT,,DEG C,,/MILLE,,/MILLE,,/MILLE,NMOL/KG,,NMOL/KG,PMOL/KG,,/MILLE,,UMOL/KG,,UMOL/KG,,,,TU,NMOL/KG,PERCNT,DEG C,ITS-90,,G/KG,,/MILLE,,/MILLE,,,,,,
33AT20120419,        A20,      71,          1,         36,         36,2,20120510,       0919,    41.6741,   -51.8879,       4353,     3.6,  14.9603,  35.3002,2,  35.3003,2,    266.6,2,   267.0,2,    0.00,2,    0.00,2,    0.00,2,    0.01,2,   2.731,2,   1.581,2,   0.221,3,    1.42,3,  2047.2,6,  2336.2,2,-999.0000,9,  -999.00,-999.000,9,-999.0000,9, -999.00,9,  14.9618,2, -999.00,9,  -999.0,9,  -999.0,-999.000,9,-999.000,   2.090,3, -999.00,9,   69.32,2,    5.37,2,  41.6755, -51.8880,-999.000,-999.0000, -999.00,  14.9598,  14.9618,2,    35.4668,2,  -999.0,9,     -999.0,9,     -999.0,9,     -999.0,9,       1118
33AT20120419,        A20,      71,          1,         35,         35,2,20120510,       0919,    41.6741,   -51.8879,       4353,    24.6,  14.9557,  35.3224,2,  35.3212,2,    265.4,2,   262.5,2,    0.00,2,    0.01,2,    0.00,2,    0.00,2,   2.701,2,   1.574,2,   0.209,3,    0.94,3,  2053.9,2,  2336.9,2,-999.0000,9,  -999.00,-999.000,9,-999.0000,9, -999.00,9,  14.9593,2, -999.00,9,  -999.0,9,  -999.0,-999.000,9,-999.000,   1.840,3, -999.00,9,   69.21,2,    4.68,2,  41.6754, -51.8880,-999.000,-999.0000, -999.00,  14.9520,  14.9593,2,    35.4878,2,  -999.0,9,     -999.0,9,     -999.0,9,     -999.0,9,       1116
33AT20120419,        A20,      71,          1,         34,         34,2,20120510,       0919,    41.6741,   -51.8879,       4353,    62.3,  14.9805,  35.6815,2,  35.6670,2,    232.1,2,   232.1,2,    1.45,2,    4.54,2,    0.06,2,    0.27,2,   2.601,2,   1.532,2,   0.159,3,    1.21,3,  -999.0,9,  -999.0,9,-999.0000,9,  -999.00,-999.000,9,-999.0000,9, -999.00,9,  14.9814,2, -999.00,9,  -999.0,9,  -999.0,-999.000,9,-999.000,   1.360,3, -999.00,9,   62.67,2,    9.05,2,  41.6752, -51.8880,-999.000,-999.0000, -999.00,  14.9711,  14.9814,2,    35.8352,2,  -999.0,9,     -999.0,9,     -999.0,9,     -999.0,1,       1113
33AT20120419,        A20,      71,          1,         33,         33,2,20120510,       0919,    41.6741,   -51.8879,       4353,   108.0,  15.0632,  35.7897,2,  35.7894,2,    232.4,2,   230.5,2,    1.76,2,    5.08,2,    0.02,2,    0.29,2,   2.564,2,   1.519,2,   0.172,3,    1.02,3,  2103.2,2,  2354.8,2,-999.0000,9,  -999.00,-999.000,9,-999.0000,9, -999.00,9,  15.0620,2, -999.00,9,  -999.0,9,  -999.0,-999.000,9,-999.000,   1.300,3, -999.00,9,   60.37,2,    9.64,2,  41.6751, -51.8880,-999.000,-999.0000, -999.00,  15.0467,  15.0620,2,    35.9582,2,  -999.0,9,     -999.0,9,     -999.0,9,     -999.0,9,       1110
33AT20120419,        A20,      71,          1,         32,         32,2,20120510,       0919,    41.6741,   -51.8879,       4353,   132.3,  14.9570,  35.7709,2,  35.7728,2,    232.1,2,   231.0,2,    1.82,2,    5.19,2,    0.02,2,    0.31,2,   2.597,2,   1.528,2,   0.158,3,    1.02,3,  -999.0,9,  -999.0,9,-999.0000,9,  -999.00,-999.000,9,-999.0000,9, -999.00,9,  14.9586,2, -999.00,9,  -999.0,9,  -999.0,-999.000,9,-999.000,   1.340,3, -999.00,9,   58.45,2,    9.68,2,  41.6750, -51.8880,-999.000,-999.0000, -999.00,  14.9369,  14.9586,2,    35.9415,2,  -999.0,9,     -999.0,9,     -999.0,9,     -999.0,9,       1108
33AT20120419,        A20,      71,          1,         31,         31,2,20120510,       0919,    41.6741,   -51.8879,       4353,   156.4,  14.7186,  35.7193,2,  35.7236,2,    231.7,2,   230.8,2,    1.95,2,    5.48,2,    0.02,2,    0.34,2,   2.584,2,   1.520,2,   0.164,3,    1.79,3,  2105.2,2,  2350.7,6,-999.0000,9,  -999.00,-999.000,9,-999.0000,9, -999.00,9,  14.7259,2, -999.00,9,  -999.0,9,  -999.0,-999.000,9,-999.000,   1.270,3, -999.00,9,   56.03,2,   10.11,2,  41.6749, -51.8880,-999.000,-999.0000, -999.00,  14.6951,  14.7259,2,    35.8921,2,  -999.0,9,     -999.0,9,     -999.0,9,     -999.0,9,       1106
33AT20120419,        A20,      71,          1,         30,         30,2,20120510,       0919,    41.6741,   -51.8879,       4353,   197.0,  15.0363,  35.8435,2,  35.8386,2,    225.6,2,   214.4,2,    2.51,2,    7.13,2,    0.02,2,    0.43,2,   2.461,2,   1.456,2,   0.138,3,    1.45,3,  -999.0,9,  -999.0,9,-999.0000,9,  -999.00,-999.000,9,-999.0000,9, -999.00,9,  15.0763,2, -999.00,9,  -999.0,9,  -999.0,-999.000,9,-999.000,   0.830,3, -999.00,9,   53.67,2,   11.36,2,  41.6748, -51.8880,-999.000,-999.0000, -999.00,  15.0062,  15.0763,2,    36.0076,2,  -999.0,9,     -999.0,9,     -999.0,9,     -999.0,9,       1104
33AT20120419,        A20,      71,          1,         29,         29,2,20120510,       0919,    41.6741,   -51.8879,       4353,   252.3,  14.0995,  35.8097,2,  35.8015,2,    167.9,2,   166.7,2,    5.37,2,   13.90,2,    0.02,2,    0.84,2,   2.155,2,   1.238,2,   0.027,3,    1.32,3,  2152.7,2,  2347.9,2,-999.0000,9,  -999.00,-999.000,9,-999.0000,9, -999.00,9,  14.1021,2, -999.00,9,  -999.0,9,  -999.0,-999.000,9,-999.000,   0.240,3, -999.00,9,   49.78,2,   18.29,2,  41.6748, -51.8880,-999.000,-999.0000, -999.00,  14.0625,  14.1021,2,    35.9703,2,  -999.0,9,     -999.0,9,     -999.0,9,     -999.0,9,       1102
33AT20120419,        A20,      71,          1,         28,         28,2,20120510,       0919,    41.6741,   -51.8879,       4353,   301.7,  12.3174,  35.5598,2,  35.5677,2,    154.6,2,   152.1,2,    8.17,2,   18.16,2,    0.02,2,    1.12,2,   1.893,2,   1.070,2,   0.037,3,    0.78,3,  2169.7,2,  2335.8,2,-999.0000,9,  -999.00,-999.000,9,-999.0000,9, -999.00,9,  12.3126,2, -999.00,9,  -999.0,9,  -999.0,-999.000,9,-999.000,   0.250,3, -999.00,9,   48.68,2,   22.63,2,  41.6747, -51.8880,-999.000,-999.0000, -999.00,  12.2770,  12.3126,2,    35.7354,2,  -999.0,9,     -999.0,9,     -999.0,9,     -999.0,9,       1100
33AT20120419,        A20,      71,          1,         27,         27,2,20120510,       0919,    41.6741,   -51.8879,       4353,   355.4,  10.2517,  35.2493,2,  35.2525,2,    150.5,2,   156.9,2,   10.39,2,   20.35,2,    0.02,2,    1.30,2,   1.922,2,   1.045,2,   0.067,3,    0.76,3,  2176.0,2,  2323.7,2,-999.0000,9,  -999.00,-999.000,9,-999.0000,9, -999.00,9,  10.2536,2, -999.00,9,  -999.0,9,  -999.0,-999.000,9,-999.000,   0.610,3, -999.00,9,   47.48,2,   23.92,2,  41.6746, -51.8879,-999.000,-999.0000, -999.00,  10.2093,  10.2536,2,    35.4187,2,  -999.0,9,     -999.0,9,     -999.0,9,     -999.0,1,       1058
33AT20120419,        A20,      71,          1,         26,         26,2,20120510,       0919,    41.6741,   -51.8879,       4353,   402.7,   8.8073,  35.0643,2,  35.0728,2,    167.2,2,   165.5,2,   11.71,2,   21.18,2,    0.00,2,    1.39,2,   1.941,2,   1.063,2,   0.078,3,    0.48,3,  2179.7,2,  2314.6,2,-999.0000,9,  -999.00,-999.000,9,-999.0000,9, -999.00,9,   8.8151,2, -999.00,9,  -999.0,9,  -999.0,-999.000,9,-999.000,   0.770,3, -999.00,9,   46.35,2,   25.12,2,  41.6745, -51.8879,-999.000,-999.0000, -999.00,   8.7635,   8.8151,2,    35.2382,2,  -999.0,9,     -999.0,9,     -999.0,9,     -999.0,1,       1056
33AT20120419,        A20,      71,          1,         25,         25,2,20120510,       0919,    41.6741,   -51.8879,       4353,   453.7,   8.4016,  35.1260,2,  35.1260,2,    152.5,2,   157.2,2,   13.49,2,   23.26,2,    0.00,2,    1.50,2,   1.470,2,   0.785,2,   0.041,3,    0.42,3,  2187.2,2,  2317.8,2,-999.0000,9,  -999.00,-999.000,9,-999.0000,9, -999.00,9,   8.4039,2, -999.00,9,  -999.0,9,  -999.0,-999.000,9,-999.000,   0.530,3, -999.00,9,   45.56,2,   26.37,2,  41.6745, -51.8879,-999.000,-999.0000, -999.00,   8.3535,   8.4039,2,    35.2916,2,  -999.0,9,     -999.0,9,     -999.0,9,     -999.0,9,       1054
33AT20120419,        A20,      71,          1,         24,         24,2,20120510,       0919,    41.6741,   -51.8879,       4353,   506.2,   7.3576,  35.0320,2,  35.0268,2,    166.8,2,   180.2,2,   13.03,2,   21.84,2,    0.00,2,    1.43,2,   1.907,2,   1.013,2,   0.089,3,    0.56,3,  2181.5,2,  2314.3,2,-999.0000,9,  -999.00,-999.000,9,-999.0000,9, -999.00,9,   7.3596,2, -999.00,9,  -999.0,9,  -999.0,-999.000,9,-999.000,   1.090,3, -999.00,9,   44.42,2,   25.36,2,  41.6744, -51.8879,-999.000,-999.0000, -999.00,   7.3077,   7.3596,2,    35.1919,2,  -999.0,9,     -999.0,9,     -999.0,9,     -999.0,9,       1052
33AT20120419,        A20,      71,          1,         23,         23,2,20120510,       0919,    41.6741,   -51.8879,       4353,   603.6,   5.1186,  34.8324,2,  34.8332,2,    235.7,2,   237.5,2,   10.90,2,   17.83,2,    0.00,2,    1.21,2,   3.282,2,   1.797,2,   0.222,3,    1.05,3,  -999.0,9,  -999.0,9,-999.0000,9,  -999.00,-999.000,9,-999.0000,9, -999.00,9,   5.1226,2, -999.00,9,  -999.0,9,  -999.0,-999.000,9,-999.000,   2.060,3, -999.00,9,   44.32,2,   21.22,2,  41.6743, -51.8879,-999.000,-999.0000, -999.00,   5.0692,   5.1226,2,    34.9974,2,  -999.0,9,     -999.0,9,     -999.0,9,     -999.0,9,       1049
33AT20120419,        A20,      71,          1,         22,         22,2,20120510,       0919,    41.6741,   -51.8879,       4353,   707.0,   4.6503,  34.8698,2,  34.8684,2,    265.7,2,   259.8,2,    9.78,2,   16.74,2,    0.00,2,    1.12,2,   3.867,2,   2.095,2,   0.299,3,    1.58,3,  -999.0,9,  -999.0,9,-999.0000,9,  -999.00,-999.000,9,-999.0000,9, -999.00,9,   4.6513,2, -999.00,9,  -999.0,9,  -999.0,-999.000,9,-999.000,   2.640,3, -999.00,9,   44.25,2,   20.24,2,  41.6743, -51.8879,-999.000,-999.0000, -999.00,   4.5944,   4.6513,2,    35.0328,2,  -999.0,9,     -999.0,9,     -999.0,9,     -999.0,9,       1046
33AT20120419,        A20,      71,          1,         21,         21,2,20120510,       0919,    41.6741,   -51.8879,       4353,   808.9,   4.5200,  34.9023,2,  34.9016,2,    268.2,2,   267.4,2,    9.12,2,   16.55,2,    0.00,2,    1.09,2,   3.951,2,   2.155,2,   0.304,3,    1.36,3,  2162.2,2,  2302.6,2,-999.0000,9,  -999.00,-999.000,9,-999.0000,9, -999.00,9,   4.5207,2, -999.00,9,  -999.0,9,  -999.0,-999.000,9,-999.000,   2.680,3, -999.00,9,   44.35,2,   20.09,2,  41.6742, -51.8879,-999.000,-999.0000, -999.00,   4.4562,   4.5207,2,    35.0662,2,  -999.0,9,     -999.0,9,     -999.0,9,     -999.0,9,       1043
33AT20120419,        A20,      71,          1,         20,         20,2,20120510,       0919,    41.6741,   -51.8879,       4353,   906.2,   4.4097,  34.9128,2,  34.9119,2,    271.8,2,   272.4,2,    8.92,2,   16.47,2,    0.00,2,    1.08,2,   3.978,2,   2.180,2,   0.292,3,    0.96,3,  -999.0,9,  -999.0,9,-999.0000,9,  -999.00,-999.000,9,-999.0000,9, -999.00,9,   4.4097,2, -999.00,9,  -999.0,9,  -999.0,-999.000,9,-999.000,   2.650,3, -999.00,9,   44.47,2,   20.36,2,  41.6742, -51.8879,-999.000,-999.0000, -999.00,   4.3383,   4.4097,2,    35.0765,2,  -999.0,9,     -999.0,9,     -999.0,9,     -999.0,9,       1040
33AT20120419,        A20,      71,          1,         19,         19,2,20120510,       0919,    41.6741,   -51.8879,       4353,  1009.9,   4.2650,  34.9123,2,  34.9115,2,    275.0,2,   276.0,2,    8.80,2,   16.37,2,    0.00,2,    1.07,2,   4.080,2,   2.229,2,   0.346,3,    0.62,3,  -999.0,9,  -999.0,9,-999.0000,9,  -999.00,-999.000,9,-999.0000,9, -999.00,9,   4.2655,2, -999.00,9,  -999.0,9,  -999.0,-999.000,9,-999.000,   2.780,3, -999.00,9,   45.26,2,   20.23,2,  41.6741, -51.8879,-999.000,-999.0000, -999.00,   4.1858,   4.2655,2,    35.0761,2,  -999.0,9,     -999.0,9,     -999.0,9,     -999.0,9,       1038
33AT20120419,        A20,      71,          1,         18,         18,2,20120510,       0919,    41.6741,   -51.8879,       4353,  1108.8,   4.1767,  34.9143,2,  34.9121,2,    278.0,2,   277.4,2,    8.88,2,   16.38,2,    0.00,2,    1.09,2,   4.021,2,   2.219,2,   0.315,3,    1.31,3,  2160.3,2,  2303.1,2,-999.0000,9,  -999.00,-999.000,9,-999.0000,9, -999.00,9,   4.1780,2, -999.00,9,  -999.0,9,  -999.0,-999.000,9,-999.000,   2.310,3, -999.00,9,   45.03,2,   20.04,2,  41.6741, -51.8879,-999.000,-999.0000, -999.00,   4.0896,   4.1780,2,    35.0767,2,  -999.0,9,     -999.0,9,     -999.0,9,     -999.0,9,       1035
33AT20120419,        A20,      71,          1,         17,         17,2,20120510,       0919,    41.6741,   -51.8879,       4353,  1211.3,   4.1026,  34.9149,2,  34.9150,2,    279.1,2,   277.5,2,    9.21,2,   16.44,2,    0.00,2,    1.09,2,   4.028,2,   2.172,2,   0.322,3,    1.22,3,  -999.0,9,  -999.0,9,-999.0000,9,  -999.00,-999.000,9,-999.0000,9, -999.00,9,   4.1025,2, -999.00,9,  -999.0,9,  -999.0,-999.000,9,-999.000,   2.650,3, -999.00,9,   44.33,2,   20.11,2,  41.6740, -51.8879,-999.000,-999.0000, -999.00,   4.0073,   4.1025,2,    35.0796,2,  -999.0,9,     -999.0,9,     -999.0,9,     -999.0,9,       1032
33AT20120419,        A20,      71,          1,         16,         16,2,20120510,       0919,    41.6741,   -51.8879,       4353,  1311.5,   4.0383,  34.9140,2,  34.9122,2,    278.0,2,   277.4,2,    9.41,2,   16.52,2,    0.00,2,    1.11,2,   3.740,2,   1.947,2,   0.274,3,    1.12,3,  -999.0,9,  -999.0,9,-999.0000,9,  -999.00,-999.000,9,-999.0000,9, -999.00,9,   4.0386,2, -999.00,9,  -999.0,9,  -999.0,-999.000,9,-999.000,   3.070,3, -999.00,9,   44.68,2,   20.16,2,  41.6740, -51.8879,-999.000,-999.0000, -999.00,   3.9347,   4.0386,2,    35.0769,2,  -999.0,9,     -999.0,9,     -999.0,9,     -999.0,9,       1029
33AT20120419,        A20,      71,          1,         15,         15,2,20120510,       0919,    41.6741,   -51.8879,       4353,  1417.3,   3.9666,  34.9148,2,  34.9140,2,    275.9,2,   276.1,2,    9.75,2,   16.66,2,    0.00,2,    1.12,2,   3.631,2,   1.868,2,   0.266,3,    1.20,3,  2159.8,2,  2305.3,2,-999.0000,9,  -999.00,-999.000,9,-999.0000,9, -999.00,9,   3.9668,2, -999.00,9,  -999.0,9,  -999.0,-999.000,9,-999.000,   2.900,3, -999.00,9,   44.88,2,   20.21,2,  41.6739, -51.8879,-999.000,-999.0000, -999.00,   3.8544,   3.9668,2,    35.0786,2,  -999.0,9,     -999.0,9,     -999.0,9,     -999.0,9,       1026
33AT20120419,        A20,      71,          1,         14,         14,2,20120510,       0919,    41.6741,   -51.8879,       4353,  1516.8,   3.9502,  34.9235,2,  34.9235,2,    274.2,2,   272.5,2,   10.24,2,   16.88,2,    0.00,2,    1.13,2,   3.455,2,   1.772,2,   0.243,3,    0.71,3,  -999.0,9,  -999.0,9,-999.0000,9,  -999.00,-999.000,9,-999.0000,9, -999.00,9,   3.9502,2, -999.00,9,  -999.0,9,  -999.0,-999.000,9,-999.000,   2.750,3, -999.00,9,   44.74,2,   20.34,2,  41.6739, -51.8879,-999.000,-999.0000, -999.00,   3.8291,   3.9502,2,    35.0881,2,  -999.0,9,     -999.0,9,     -999.0,9,     -999.0,9,       1023
33AT20120419,        A20,      71,          1,         13,         13,2,20120510,       0919,    41.6741,   -51.8879,       4353,  1616.3,   3.8981,  34.9286,2,  34.9284,2,    271.1,2,   271.1,2,   10.61,2,   17.02,2,    0.00,2,    1.13,2,   3.310,2,   1.652,2,   0.225,3,    0.56,3,  -999.0,9,  -999.0,9,-999.0000,9,  -999.00,-999.000,9,-999.0000,9, -999.00,9,   3.8985,2, -999.00,9,  -999.0,9,  -999.0,-999.000,9,-999.000,   2.560,3, -999.00,9,   44.57,2,   20.44,2,  41.6738, -51.8879,-999.000,-999.0000, -999.00,   3.7685,   3.8985,2,    35.0931,2,  -999.0,9,     -999.0,9,     -999.0,9,     -999.0,9,       1020
33AT20120419,        A20,      71,          1,         11,         11,2,20120510,       0919,    41.6741,   -51.8879,       4353,  1818.2,   3.8006,  34.9394,2,  34.9388,2,    269.7,2,   268.3,2,   11.45,2,   17.23,2,    0.00,2,    1.14,2,   2.782,2,   1.375,2,   0.164,3,    0.38,3,  -999.0,9,  -999.0,9,-999.0000,9,  -999.00,-999.000,9,-999.0000,9, -999.00,9,   3.7945,2, -999.00,9,  -999.0,9,  -999.0,-999.000,9,-999.000,   2.050,3, -999.00,9,   44.62,2,   20.35,2,  41.6737, -51.8879,-999.000,-999.0000, -999.00,   3.6535,   3.7945,2,    35.1036,2,  -999.0,9,     -999.0,9,     -999.0,9,     -999.0,9,       1016
33AT20120419,        A20,      71,          1,         12,         12,2,20120510,       0919,    41.6741,   -51.8879,       4353,  1818.6,   3.7948,  34.9380,2,  34.9384,2,    269.7,2,   268.9,2,   11.44,2,   17.25,2,    0.00,2,    1.14,2,   2.803,2,   1.400,2,   0.173,3,    0.00,3,  2159.4,2,  2306.7,2,-999.0000,9,  -999.00,-999.000,9,-999.0000,9, -999.00,9,   3.7943,2, -999.00,9,  -999.0,9,  -999.0,-999.000,9,-999.000,   2.230,3, -999.00,9,   43.47,2,   20.47,2,  41.6737, -51.8879,-999.000,-999.0000, -999.00,   3.6477,   3.7943,2,    35.1032,2,  -999.0,9,     -999.0,9,     -999.0,9,     -999.0,9,       1016
33AT20120419,        A20,      71,          1,         10,         10,2,20120510,       0919,    41.6741,   -51.8879,       4353,  2022.4,   3.6494,  34.9378,2,  34.9376,2,    267.8,2,   268.6,2,   12.17,2,   17.33,2,    0.00,2,    1.16,2,   2.434,2,   1.208,2,   0.131,3,    0.00,3,  -999.0,9,  -999.0,9,-999.0000,9,  -999.00,-999.000,9,-999.0000,9, -999.00,9,   3.6509,2, -999.00,9,  -999.0,9,  -999.0,-999.000,9,-999.000,   1.700,3, -999.00,9,   44.61,2,   20.22,2,  41.6737, -51.8879,-999.000,-999.0000, -999.00,   3.4850,   3.6509,2,    35.1024,2,  -999.0,9,     -999.0,9,     -999.0,9,     -999.0,9,       1011
33AT20120419,        A20,      71,          1,          9,          9,2,20120510,       0919,    41.6741,   -51.8879,       4353,  2275.7,   3.3924,  34.9254,2,  34.9250,2,    271.8,2,   271.7,2,   12.73,2,   17.07,2,    0.00,2,    1.15,2,   2.453,2,   1.190,2,   0.129,3,    0.00,3,  2158.2,2,  2307.7,2,-999.0000,9,  -999.00,-999.000,9,-999.0000,9, -999.00,9,   3.3923,2, -999.00,9,  -999.0,9,  -999.0,-999.000,9,-999.000,   1.940,3, -999.00,9,   44.09,2,   20.18,2,  41.6737, -51.8879,-999.000,-999.0000, -999.00,   3.2076,   3.3923,2,    35.0897,2,  -999.0,9,     -999.0,9,     -999.0,9,     -999.0,9,       1006
33AT20120419,        A20,      71,          1,          8,          8,2,20120510,       0919,    41.6741,   -51.8879,       4353,  2532.5,   3.2646,  34.9384,2,  34.9380,2,    267.8,2,   268.0,2,   15.70,2,   17.53,2,    0.00,2,    1.18,2,   1.590,2,   0.778,2,   0.072,3,    0.00,3,  -999.0,9,  -999.0,9,-999.0000,9,  -999.00,-999.000,9,-999.0000,9, -999.00,9,   3.2644,2, -999.00,9,  -999.0,9,  -999.0,-999.000,9,-999.000,   1.320,3, -999.00,9,   45.04,2,   20.14,2,  41.6737, -51.8879,-999.000,-999.0000, -999.00,   3.0565,   3.2644,2,    35.1028,2,  -999.0,9,     -999.0,9,     -999.0,9,     -999.0,1,       1001
33AT20120419,        A20,      71,          1,          7,          7,2,20120510,       0919,    41.6741,   -51.8879,       4353,  2789.5,   3.1047,  34.9338,2,  34.9335,2,    269.9,2,   267.9,2,   16.91,2,   17.50,2,    0.00,2,    1.19,2,   1.466,2,   0.729,2,   0.067,3,    0.00,3,  -999.0,9,  -999.0,9,-999.0000,9,  -999.00,-999.000,9,-999.0000,9, -999.00,9,   3.1056,2, -999.00,9,  -999.0,9,  -999.0,-999.000,9,-999.000,   1.290,3, -999.00,9,   44.72,2,   19.86,2,  41.6737, -51.8879,-999.000,-999.0000, -999.00,   2.8736,   3.1056,2,    35.0982,2,  -999.0,9,     -999.0,9,     -999.0,9,     -999.0,9,       0955