BOTTLE,20220712CCHSIOCBG
EXPOCODE,SECT_ID,STNNBR,CASTNO,SAMPNO,BTLNBR,BTLNBR_FLAG_W,DATE,TIME,LATITUDE,LONGITUDE,DEPTH,CTDPRS,CTDTMP,CTDSAL,CTDSAL_FLAG_W,SALNTY,SALNTY_FLAG_W,CTDOXY,CTDOXY_FLAG_W,OXYGEN,OXYGEN_FLAG_W,SILCAT,SILCAT_FLAG_W,NITRAT,NITRAT_FLAG_W,NITRIT,NITRIT_FLAG_W,PHSPHT,PHSPHT_FLAG_W,CFC-11,CFC-11_FLAG_W,CFC-12,CFC-12_FLAG_W,CFC113,CFC113_FLAG_W,SF6,SF6_FLAG_W,TCARBN,TCARBN_FLAG_W,ALKALI,ALKALI_FLAG_W,PH_TOT,PH_TOT_FLAG_W,PH_TMP,TRITUM,TRITUM_FLAG_W,HELIUM,HELIUM_FLAG_W,DELHE3,DELHE3_FLAG_W,REFTMP,REFTMP_FLAG_W,DELC13,DELC13_FLAG_W,DELC14,DELC14_FLAG_W,C14ERR,NEON,NEON_FLAG_W,NEONER,CCL4,CCL4_FLAG_W,DELO18,DELO18_FLAG_W,DOC,DOC_FLAG_W,TDN,TDN_FLAG_W,BTL_LAT,BTL_LON,TRITER,HELIER,DELHER,THETA,SBE35,SBE35_FLAG_W,SALTREF,SALTREF_FLAG_W,14C-DOC,14C-DOC_FLAG_W,DELO17,DELO17_FLAG_W,O2/AR,O2/AR_FLAG_W,SIP,SIP_FLAG_W,BTL_TIME
,,,,,,,,,,,METERS,DBAR,ITS-90,PSS-78,,PSS-78,,UMOL/KG,,UMOL/KG,,UMOL/KG,,UMOL/KG,,UMOL/KG,,UMOL/KG,,PMOL/KG,,PMOL/KG,,PMOL/KG,,FMOL/KG,,UMOL/KG,,UMOL/KG,,,,DEG C,TU,,NMOL/KG,,PERCNT,,DEG C,,/MILLE,,/MILLE,,/MILLE,NMOL/KG,,NMOL/KG,PMOL/KG,,/MILLE,,UMOL/KG,,UMOL/KG,,,,TU,NMOL/KG,PERCNT,DEG C,ITS-90,,G/KG,,/MILLE,,/MILLE,,,,,,
33AT20120419,        A20,      17,          1,          6,          6,2,20120423,       1552,     8.9251,   -52.5560,       4639,  3648.7,   2.4327,  34.9044,2,  34.9028,2,    263.7,2,   264.3,2,   28.23,2,   18.70,2,    0.00,2,    1.27,2,   0.537,2,   0.293,2,   0.029,2,    0.00,3,  2169.3,2,  2324.6,2,   7.7388,2,    25.00,   0.129,2,   1.8812,2,    4.76,2,   2.4327,2, -999.00,9,  -999.0,9,  -999.0,   8.185,2,   0.038,   0.470,2, -999.00,1,   40.12,2,   22.84,2,   8.9261, -52.5558,   0.011,   0.0079,    0.15,   2.1257,   2.4327,2,    35.0674,2,  -999.0,9,     -999.0,1,     -999.0,1,     -999.0,9,       1619
33AT20120419,        A20,      17,          1,          5,          5,2,20120423,       1552,     8.9251,   -52.5560,       4639,  3956.2,   2.3170,  34.8943,2,  34.8939,2,    262.8,2,   262.7,2,   32.26,2,   19.23,2,    0.00,2,    1.31,2,   0.399,2,   0.226,2,   0.025,2,    0.00,3,  -999.0,9,  -999.0,9,-999.0000,9,  -999.00,-999.000,9,-999.0000,9, -999.00,9,   2.3167,2, -999.00,9,  -999.0,9,  -999.0,-999.000,9,-999.000,   0.410,2, -999.00,9,   40.57,2,   23.11,2,   8.9258, -52.5559,-999.000,-999.0000, -999.00,   1.9788,   2.3167,2,    35.0585,2,  -999.0,9,     -999.0,9,     -999.0,9,     -999.0,9,       1613
33AT20120419,        A20,      17,          1,          4,          4,2,20120423,       1552,     8.9251,   -52.5560,       4639,  4263.3,   2.2540,  34.8869,2,  34.8869,2,    261.8,2,   262.0,2,   34.62,2,   19.48,2,    0.00,2,    1.33,2,   0.393,2,   0.222,2,   0.025,2,    0.00,3,  2176.2,2,  2330.0,2,   7.7345,6,    25.00,   0.119,2,   1.8817,2,    4.94,2,   2.2542,2, -999.00,9,  -999.0,9,  -999.0,   8.316,2,   0.038,   0.390,2, -999.00,1,   40.07,2,   23.57,2,   8.9257, -52.5559,   0.011,   0.0079,    0.15,   1.8823,   2.2542,2,    35.0514,2,  -999.0,9,     -999.0,1,     -999.0,1,     -999.0,9,       1606
33AT20120419,        A20,      17,          1,          3,          3,2,20120423,       1552,     8.9251,   -52.5560,       4639,  4570.9,   2.1177,  34.8676,2,  34.8678,2,    256.7,2,   255.5,2,   44.64,2,   21.04,2,    0.00,2,    1.43,2,   0.251,2,   0.147,2,   0.022,2,    0.00,3,  2187.5,2,  2338.7,6,   7.7247,2,    25.00,-999.000,9,-999.0000,9, -999.00,9,   2.1177,2, -999.00,9,  -999.0,9,  -999.0,-999.000,9,-999.000,   0.280,2, -999.00,9,    41.4,2,   24.14,2,   8.9253, -52.5559,-999.000,-999.0000, -999.00,   1.7138,   2.1177,2,    35.0322,2,  -999.0,9,     -999.0,9,     -999.0,9,     -999.0,9,       1559
33AT20120419,        A20,      17,          1,          2,          2,2,20120423,       1552,     8.9251,   -52.5560,       4639,  4638.1,   2.0453,  34.8579,2,  34.8576,2,    252.7,2,   252.1,2,   50.04,2,   21.85,2,    0.00,2,    1.49,2,   0.208,2,   0.127,2,   0.016,2,    0.00,3,  -999.0,9,  -999.0,9,-999.0000,9,  -999.00,-999.000,9,-999.0000,9, -999.00,9,   2.0453,2, -999.00,9,  -999.0,9,  -999.0,-999.000,9,-999.000,   0.300,2, -999.00,9,   40.94,2,   24.23,2,   8.9252, -52.5560,-999.000,-999.0000, -999.00,   1.6357,   2.0453,2,    35.0219,2,  -999.0,9,     -999.0,9,     -999.0,9,     -999.0,9,       1556
33AT20120419,        A20,      17,          1,          1,          1,2,20120423,       1552,     8.9251,   -52.5560,       4639,  4697.2,   2.0474,  34.8569,2,  34.8570,2,    251.3,2,   251.5,2,   50.54,2,   21.91,2,    0.00,2,    1.49,2,   0.197,2,   0.120,2,   0.016,2,    0.00,3,  2196.0,6,  2342.3,2,   7.7180,2,    25.00,   0.053,2,   1.8881,2,    4.60,2,   2.0471,2, -999.00,9,  -999.0,9,  -999.0,   8.298,2,   0.038,   0.230,2, -999.00,1,   41.15,2,   25.11,2,   8.9251, -52.5560,   0.011,   0.0079,    0.15,   1.6306,   2.0471,2,    35.0213,2,  -999.0,9,     -999.0,1,     -999.0,1,     -999.0,9,       1552