BOTTLE,20220712CCHSIOCBG
EXPOCODE,SECT_ID,STNNBR,CASTNO,SAMPNO,BTLNBR,BTLNBR_FLAG_W,DATE,TIME,LATITUDE,LONGITUDE,DEPTH,CTDPRS,CTDTMP,CTDSAL,CTDSAL_FLAG_W,SALNTY,SALNTY_FLAG_W,CTDOXY,CTDOXY_FLAG_W,OXYGEN,OXYGEN_FLAG_W,SILCAT,SILCAT_FLAG_W,NITRAT,NITRAT_FLAG_W,NITRIT,NITRIT_FLAG_W,PHSPHT,PHSPHT_FLAG_W,CFC-11,CFC-11_FLAG_W,CFC-12,CFC-12_FLAG_W,CFC113,CFC113_FLAG_W,SF6,SF6_FLAG_W,TCARBN,TCARBN_FLAG_W,ALKALI,ALKALI_FLAG_W,PH_TOT,PH_TOT_FLAG_W,PH_TMP,TRITUM,TRITUM_FLAG_W,HELIUM,HELIUM_FLAG_W,DELHE3,DELHE3_FLAG_W,REFTMP,REFTMP_FLAG_W,DELC13,DELC13_FLAG_W,DELC14,DELC14_FLAG_W,C14ERR,NEON,NEON_FLAG_W,NEONER,CCL4,CCL4_FLAG_W,DELO18,DELO18_FLAG_W,DOC,DOC_FLAG_W,TDN,TDN_FLAG_W,BTL_LAT,BTL_LON,TRITER,HELIER,DELHER,THETA,SBE35,SBE35_FLAG_W,SALTREF,SALTREF_FLAG_W,14C-DOC,14C-DOC_FLAG_W,DELO17,DELO17_FLAG_W,O2/AR,O2/AR_FLAG_W,SIP,SIP_FLAG_W,BTL_TIME
,,,,,,,,,,,METERS,DBAR,ITS-90,PSS-78,,PSS-78,,UMOL/KG,,UMOL/KG,,UMOL/KG,,UMOL/KG,,UMOL/KG,,UMOL/KG,,PMOL/KG,,PMOL/KG,,PMOL/KG,,FMOL/KG,,UMOL/KG,,UMOL/KG,,,,DEG C,TU,,NMOL/KG,,PERCNT,,DEG C,,/MILLE,,/MILLE,,/MILLE,NMOL/KG,,NMOL/KG,PMOL/KG,,/MILLE,,UMOL/KG,,UMOL/KG,,,,TU,NMOL/KG,PERCNT,DEG C,ITS-90,,G/KG,,/MILLE,,/MILLE,,,,,,
33AT20120419,        A20,      74,          1,         36,         36,2,20120510,       2255,    42.2456,   -51.4326,       3118,     3.8,  14.8562,  35.3878,2,  35.3855,2,    272.3,2,   273.7,2,    0.00,2,    0.00,2,    0.00,2,    0.03,2,   2.797,2,   1.651,2,   0.240,2,    1.86,2,  2052.3,6,  2339.8,2,-999.0000,9,  -999.00,   0.792,2,   1.7604,2,   -0.77,2,  14.8565,2, -999.00,9,  -999.0,9,  -999.0,   7.275,2,   0.033,-999.000,9, -999.00,1, -999.00,9, -999.00,9,  42.2450, -51.4351,   0.011,   0.0074,    0.15,  14.8556,  14.8565,2,    35.5523,2,  -999.0,9,     -999.0,1,     -999.0,1,     -999.0,9,       0025
33AT20120419,        A20,      74,          1,         35,         35,2,20120510,       2255,    42.2456,   -51.4326,       3118,    25.9,  14.3958,  35.3388,2,  35.3392,2,    270.6,2,   264.7,2,    0.00,2,    0.00,2,    0.02,2,    0.05,2,-999.000,9,-999.000,9,-999.000,9, -999.00,9,  2059.7,2,  2338.3,2,-999.0000,9,  -999.00,-999.000,9,-999.0000,9, -999.00,9,  14.3960,2, -999.00,9,  -999.0,9,  -999.0,-999.000,9,-999.000,-999.000,9, -999.00,9, -999.00,9, -999.00,9,  42.2450, -51.4351,-999.000,-999.0000, -999.00,  14.3920,  14.3960,2,    35.5058,2,  -999.0,9,     -999.0,9,     -999.0,9,     -999.0,9,       0023
33AT20120419,        A20,      74,          1,         34,         34,2,20120510,       2255,    42.2456,   -51.4326,       3118,    62.9,  14.4995,  35.4374,2,  35.4395,2,    253.5,2,   250.8,2,    0.10,2,    1.31,2,    0.10,2,    0.14,2,   2.805,2,   1.719,2,   0.228,2,    1.83,2,  -999.0,9,  -999.0,9,-999.0000,9,  -999.00,   0.757,2,   1.7539,2,   -1.05,2,  14.4989,2, -999.00,9,  -999.0,9,  -999.0,   7.219,2,   0.033,-999.000,9, -999.00,9, -999.00,9, -999.00,9,  42.2450, -51.4351,   0.011,   0.0074,    0.15,  14.4902,  14.4989,2,    35.6066,2,  -999.0,9,     -999.0,9,     -999.0,9,     -999.0,9,       0021
33AT20120419,        A20,      74,          1,         33,         33,2,20120510,       2255,    42.2456,   -51.4326,       3118,   104.4,  14.6436,  35.6326,2,  35.6374,2,    228.5,2,   228.5,2,    2.08,2,    5.58,2,    0.03,2,    0.36,2,   2.683,2,   1.579,2,   0.198,2,    1.82,2,  2106.5,2,  2345.9,2,-999.0000,9,  -999.00,-999.000,9,-999.0000,9, -999.00,9,  14.6459,2, -999.00,9,  -999.0,9,  -999.0,-999.000,9,-999.000,-999.000,9, -999.00,9, -999.00,9, -999.00,9,  42.2449, -51.4352,-999.000,-999.0000, -999.00,  14.6280,  14.6459,2,    35.8054,2,  -999.0,9,     -999.0,9,     -999.0,9,     -999.0,9,       0017
33AT20120419,        A20,      74,          1,         32,         32,2,20120510,       2255,    42.2456,   -51.4326,       3118,   129.1,  14.6425,  35.6507,2,  35.6504,2,    227.3,2,   227.8,2,    2.20,2,    5.85,2,    0.02,2,    0.38,2,   2.676,2,   1.599,2,   0.214,2,    1.74,2,  -999.0,9,  -999.0,9,-999.0000,9,  -999.00,   0.700,2,   1.7575,2,   -0.62,2,  14.6401,2, -999.00,9,  -999.0,9,  -999.0,   7.315,2,   0.034,-999.000,9, -999.00,9, -999.00,9, -999.00,9,  42.2449, -51.4352,   0.011,   0.0074,    0.15,  14.6232,  14.6401,2,    35.8185,2,  -999.0,9,     -999.0,9,     -999.0,9,     -999.0,9,       0016
33AT20120419,        A20,      74,          1,         31,         31,2,20120510,       2255,    42.2456,   -51.4326,       3118,   153.2,  14.7532,  35.7112,2,  35.7112,2,    224.0,2,   218.8,2,    2.62,2,    6.80,2,    0.02,2,    0.44,2,   2.668,2,   1.617,2,   0.186,2,    1.74,2,  -999.0,9,  -999.0,9,-999.0000,9,  -999.00,-999.000,9,-999.0000,9, -999.00,9,  14.7540,2, -999.00,9,  -999.0,9,  -999.0,-999.000,9,-999.000,-999.000,9, -999.00,9, -999.00,9, -999.00,9,  42.2449, -51.4353,-999.000,-999.0000, -999.00,  14.7302,  14.7540,2,    35.8796,2,  -999.0,9,     -999.0,9,     -999.0,9,     -999.0,9,       0014
33AT20120419,        A20,      74,          1,         30,         30,2,20120510,       2255,    42.2456,   -51.4326,       3118,   179.6,  14.7666,  35.7785,2,  35.7788,2,    198.4,2,   203.9,2,    3.29,2,    8.44,2,    0.02,2,    0.53,2,-999.000,9,-999.000,9,-999.000,9, -999.00,9,  2124.3,2,  2352.1,2,-999.0000,9,  -999.00,   0.609,2,   1.7685,2,    0.90,2,  14.7676,2, -999.00,9,  -999.0,9,  -999.0,   7.251,2,   0.033,-999.000,9, -999.00,9, -999.00,9, -999.00,9,  42.2449, -51.4353,   0.010,   0.0074,    0.15,  14.7395,  14.7676,2,    35.9475,2,  -999.0,9,     -999.0,9,     -999.0,9,     -999.0,9,       0012
33AT20120419,        A20,      74,          1,         29,         29,2,20120510,       2255,    42.2456,   -51.4326,       3118,   204.0,  14.7161,  35.8573,2,  35.8570,2,    181.8,2,   178.6,2,    4.43,2,   11.47,2,    0.02,2,    0.69,2,   2.358,2,   1.358,2,   0.079,2,    1.28,2,  -999.0,9,  -999.0,9,-999.0000,9,  -999.00,-999.000,9,-999.0000,9, -999.00,9,  14.7163,2, -999.00,9,  -999.0,9,  -999.0,-999.000,9,-999.000,-999.000,9, -999.00,9, -999.00,9, -999.00,9,  42.2449, -51.4353,-999.000,-999.0000, -999.00,  14.6854,  14.7163,2,    36.0261,2,  -999.0,9,     -999.0,9,     -999.0,9,     -999.0,9,       0010
33AT20120419,        A20,      74,          1,         28,         28,2,20120510,       2255,    42.2456,   -51.4326,       3118,   227.9,  14.2087,  35.8138,2,  35.8149,2,    165.0,2,   164.1,2,    5.42,2,   13.83,2,    0.02,2,    0.83,2,   2.282,2,   1.310,2,   0.051,2,    1.09,2,  -999.0,9,  -999.0,9,-999.0000,9,  -999.00,   0.523,2,   1.7650,2,    2.75,2,  14.2228,2, -999.00,9,  -999.0,9,  -999.0,   7.370,2,   0.034,-999.000,9, -999.00,9, -999.00,9, -999.00,9,  42.2449, -51.4353,   0.011,   0.0074,    0.15,  14.1752,  14.2228,2,    35.9838,2,  -999.0,9,     -999.0,9,     -999.0,9,     -999.0,9,       0009
33AT20120419,        A20,      74,          1,         27,         27,2,20120510,       2255,    42.2456,   -51.4326,       3118,   251.8,  13.6461,  35.7492,2,  35.8048,4,    159.7,2,   161.0,2,    6.22,2,   15.25,2,    0.02,2,    0.93,2,   2.236,2,   1.281,2,   0.051,2,    1.01,2,  2160.6,2,  2347.7,6,-999.0000,9,  -999.00,-999.000,9,-999.0000,9, -999.00,9,  13.6449,2, -999.00,9,  -999.0,9,  -999.0,-999.000,9,-999.000,-999.000,9, -999.00,9, -999.00,9, -999.00,9,  42.2449, -51.4352,-999.000,-999.0000, -999.00,  13.6100,  13.6449,2,    35.9737,4,  -999.0,9,     -999.0,9,     -999.0,9,     -999.0,9,       0008
33AT20120419,        A20,      74,          1,         26,         26,2,20120510,       2255,    42.2456,   -51.4326,       3118,   301.6,  12.4771,  35.5901,2,  35.5778,2,    153.3,2,   152.4,2,    8.27,2,   18.27,2,    0.02,2,    1.13,2,   1.988,2,   1.090,2,   0.045,2,    0.84,2,  -999.0,9,  -999.0,9,-999.0000,9,  -999.00,   0.452,2,-999.0000,9, -999.00,9,  12.4820,2, -999.00,9,  -999.0,9,  -999.0,-999.000,9,-999.000,-999.000,9, -999.00,9, -999.00,9, -999.00,9,  42.2449, -51.4352,   0.010,-999.0000, -999.00,  12.4363,  12.4820,2,    35.7455,2,  -999.0,9,     -999.0,9,     -999.0,9,     -999.0,9,       0006
33AT20120419,        A20,      74,          1,         25,         25,2,20120510,       2255,    42.2456,   -51.4326,       3118,   349.2,  10.9808,  35.3896,2,  35.3823,2,    142.0,2,   141.7,2,   10.99,2,   21.69,2,    0.00,2,    1.36,2,-999.000,9,-999.000,9,-999.000,9, -999.00,9,  2185.4,2,  2330.2,2,-999.0000,9,  -999.00,   0.374,2,   1.7899,2,    5.04,2,  10.9782,2, -999.00,9,  -999.0,9,  -999.0,   7.513,2,   0.035,-999.000,9, -999.00,9, -999.00,9, -999.00,9,  42.2450, -51.4352,   0.011,   0.0075,    0.15,  10.9373,  10.9782,2,    35.5492,2,  -999.0,9,     -999.0,9,     -999.0,9,     -999.0,9,       0004
33AT20120419,        A20,      74,          1,         24,         24,2,20120510,       2255,    42.2456,   -51.4326,       3118,   402.1,   9.4933,  35.2193,2,  35.2170,2,    144.2,2,   146.6,2,   13.04,2,   23.28,2,    0.00,2,    1.48,2,   1.520,2,   0.795,2,   0.042,2,    0.66,2,  2190.3,2,  2324.0,2,-999.0000,9,  -999.00,   0.353,2,   1.8020,2,    5.59,2,   9.4957,2, -999.00,9,  -999.0,9,  -999.0,   7.626,2,   0.035,-999.000,9, -999.00,9, -999.00,9, -999.00,9,  42.2450, -51.4351,   0.011,   0.0076,    0.15,   9.4475,   9.4957,2,    35.3830,2,  -999.0,9,     -999.0,9,     -999.0,9,     -999.0,9,       0002
33AT20120419,        A20,      74,          1,         23,         23,2,20120510,       2255,    42.2456,   -51.4326,       3118,   454.7,   8.6937,  35.1627,2,  35.1644,2,    150.3,2,   151.1,2,   13.87,2,   23.80,2,    0.00,2,    1.53,2,   1.456,2,   0.754,2,   0.042,2,    0.56,2,  -999.0,9,  -999.0,9,-999.0000,9,  -999.00,   0.323,2,   1.8086,2,    6.01,2,   8.7053,2, -999.00,9,  -999.0,9,  -999.0,   7.649,2,   0.035,-999.000,9, -999.00,9, -999.00,9, -999.00,9,  42.2450, -51.4350,   0.011,   0.0076,    0.15,   8.6445,   8.7053,2,    35.3302,2,  -999.0,9,     -999.0,9,     -999.0,9,     -999.0,9,       0000
33AT20120419,        A20,      74,          1,         22,         22,2,20120510,       2255,    42.2456,   -51.4326,       3118,   507.6,   7.9375,  35.1274,2,  35.1648,4,    165.3,2,   165.2,2,   13.83,2,   23.01,2,    0.00,2,    1.49,2,   1.564,2,   0.808,2,   0.047,2,    0.54,2,  2190.1,2,  2318.5,2,-999.0000,9,  -999.00,   0.349,2,   1.7959,2,    7.15,2,   7.9326,2, -999.00,9,  -999.0,9,  -999.0,   7.761,2,   0.036,-999.000,9, -999.00,9, -999.00,9, -999.00,9,  42.2450, -51.4349,   0.010,   0.0075,    0.15,   7.8852,   7.9326,2,    35.3306,4,  -999.0,9,     -999.0,9,     -999.0,9,     -999.0,9,       2358
33AT20120419,        A20,      74,          1,         21,         21,2,20120510,       2255,    42.2456,   -51.4326,       3118,   607.8,   5.8991,  34.9804,2,  34.9754,2,    218.7,2,   216.1,2,   12.15,2,   19.55,2,    0.00,2,    1.30,2,   2.561,2,   1.367,2,   0.142,2,    1.04,2,  2176.8,2,  2311.3,2,-999.0000,9,  -999.00,   0.479,2,   1.8141,2,    6.03,2,   5.8947,2, -999.00,9,  -999.0,9,  -999.0,   7.791,2,   0.036,-999.000,9, -999.00,9, -999.00,9, -999.00,9,  42.2451, -51.4348,   0.010,   0.0076,    0.15,   5.8455,   5.8947,2,    35.1403,2,  -999.0,9,     -999.0,9,     -999.0,9,     -999.0,9,       2355
33AT20120419,        A20,      74,          1,         20,         20,2,20120510,       2255,    42.2456,   -51.4326,       3118,   707.8,   5.3796,  34.9978,2,  34.9967,2,    229.0,2,   232.0,2,   11.67,2,   18.80,2,    0.00,2,    1.25,2,-999.000,9,-999.000,9,-999.000,9, -999.00,9,  2174.4,2,  2312.0,2,-999.0000,9,  -999.00,   0.485,2,   1.8274,2,    5.86,2,   5.3777,2, -999.00,9,  -999.0,9,  -999.0,   7.839,2,   0.036,-999.000,9, -999.00,9, -999.00,9, -999.00,9,  42.2451, -51.4346,   0.010,   0.0077,    0.15,   5.3195,   5.3777,2,    35.1617,2,  -999.0,9,     -999.0,9,     -999.0,9,     -999.0,9,       2352
33AT20120419,        A20,      74,          1,         19,         19,2,20120510,       2255,    42.2456,   -51.4326,       3118,   809.4,   4.8871,  34.9694,2,  34.9689,2,    249.0,2,   250.1,2,   10.70,2,   17.73,2,    0.00,2,    1.18,2,   3.269,2,   1.752,2,   0.230,2,    1.42,2,  -999.0,9,  -999.0,9,-999.0000,9,  -999.00,   0.525,2,   1.8446,2,    4.47,2,   4.8970,2, -999.00,9,  -999.0,9,  -999.0,   7.847,2,   0.036,-999.000,9, -999.00,9, -999.00,9, -999.00,9,  42.2451, -51.4346,   0.010,   0.0077,    0.15,   4.8209,   4.8970,2,    35.1338,2,  -999.0,9,     -999.0,9,     -999.0,9,     -999.0,9,       2350
33AT20120419,        A20,      74,          1,         18,         18,2,20120510,       2255,    42.2456,   -51.4326,       3118,   911.0,   4.7043,  34.9754,2,  34.9756,2,    256.0,2,   254.5,2,   10.63,2,   17.59,2,    0.00,2,    1.18,2,   3.243,2,   1.750,2,   0.217,2,    1.29,2,  2168.1,2,  2310.1,2,-999.0000,9,  -999.00,   0.543,2,   1.8391,2,    4.47,2,   4.7008,2, -999.00,9,  -999.0,9,  -999.0,   7.935,2,   0.037,-999.000,9, -999.00,9, -999.00,9, -999.00,9,  42.2452, -51.4344,   0.010,   0.0077,    0.15,   4.6303,   4.7008,2,    35.1405,2,  -999.0,9,     -999.0,9,     -999.0,9,     -999.0,9,       2347
33AT20120419,        A20,      74,          1,         17,         17,2,20120510,       2255,    42.2456,   -51.4326,       3118,  1013.0,   4.6117,  34.9825,2,  34.9805,2,    257.0,2,   256.3,2,   10.82,2,   17.61,2,    0.00,2,    1.17,2,   3.160,2,   1.683,2,   0.220,2,    1.13,2,  -999.0,9,  -999.0,9,-999.0000,9,  -999.00,   0.534,2,   1.8445,2,    5.49,2,   4.6076,2, -999.00,9,  -999.0,9,  -999.0,   7.864,2,   0.036,-999.000,9, -999.00,9, -999.00,9, -999.00,9,  42.2452, -51.4343,   0.010,   0.0077,    0.15,   4.5294,   4.6076,2,    35.1455,2,  -999.0,9,     -999.0,9,     -999.0,9,     -999.0,9,       2344
33AT20120419,        A20,      74,          1,         16,         16,2,20120510,       2255,    42.2456,   -51.4326,       3118,  1111.6,   4.3815,  34.9634,2,  34.9626,2,    262.9,2,   262.3,2,   10.60,2,   17.35,2,    0.00,2,    1.15,2,   3.337,2,   1.783,2,   0.247,2,    1.26,2,  -999.0,9,  -999.0,9,-999.0000,9,  -999.00,   0.513,2,   2.0558,3,    5.21,3,   4.3853,2, -999.00,9,  -999.0,9,  -999.0,   8.655,3,   0.040,-999.000,9, -999.00,9, -999.00,9, -999.00,9,  42.2453, -51.4341,   0.011,   0.0086,    0.15,   4.2924,   4.3853,2,    35.1275,2,  -999.0,9,     -999.0,9,     -999.0,9,     -999.0,9,       2342
33AT20120419,        A20,      74,          1,         15,         15,2,20120510,       2255,    42.2456,   -51.4326,       3118,  1210.1,   4.3357,  34.9729,2,  34.9727,2,    259.5,2,   259.9,2,   10.91,2,   17.55,2,    0.00,2,    1.17,2,-999.000,9,-999.000,9,-999.000,9, -999.00,9,  -999.0,9,  -999.0,9,-999.0000,9,  -999.00,   0.495,2,   1.8690,2,    6.16,2,   4.3367,2, -999.00,9,  -999.0,9,  -999.0,   8.061,2,   0.037,-999.000,9, -999.00,9, -999.00,9, -999.00,9,  42.2453, -51.4340,   0.010,   0.0078,    0.15,   4.2382,   4.3367,2,    35.1376,2,  -999.0,9,     -999.0,9,     -999.0,9,     -999.0,9,       2339
33AT20120419,        A20,      74,          1,         14,         14,2,20120510,       2255,    42.2456,   -51.4326,       3118,  1314.9,   4.2221,  34.9665,2,  34.9669,2,    262.6,2,   261.9,2,   11.10,2,   17.47,2,    0.00,2,    1.16,2,   3.053,2,   1.590,2,   0.200,2,    1.01,2,  2162.1,2,  2309.7,2,-999.0000,9,  -999.00,-999.000,9,   1.8536,2,    6.59,2,   4.2235,2, -999.00,9,  -999.0,9,  -999.0,   8.108,2,   0.037,-999.000,9, -999.00,9, -999.00,9, -999.00,9,  42.2453, -51.4338,-999.000,   0.0078,    0.15,   4.1163,   4.2235,2,    35.1318,2,  -999.0,9,     -999.0,9,     -999.0,9,     -999.0,9,       2336
33AT20120419,        A20,      74,          1,         13,         13,2,20120510,       2255,    42.2456,   -51.4326,       3118,  1418.9,   4.0520,  34.9524,2,  34.9530,2,    264.4,2,   265.3,2,   11.11,2,   17.35,2,    0.00,2,    1.15,2,   3.095,2,   1.612,2,   0.207,2,    0.91,2,  -999.0,9,  -999.0,9,-999.0000,9,  -999.00,   0.514,2,-999.0000,9, -999.00,9,   4.0535,2, -999.00,9,  -999.0,9,  -999.0,-999.000,9,-999.000,-999.000,9, -999.00,9, -999.00,9, -999.00,9,  42.2453, -51.4338,   0.010,-999.0000, -999.00,   3.9386,   4.0535,2,    35.1178,2,  -999.0,9,     -999.0,9,     -999.0,9,     -999.0,9,       2334
33AT20120419,        A20,      74,          1,         12,         12,2,20120510,       2255,    42.2456,   -51.4326,       3118,  1517.6,   3.9827,  34.9519,2,  34.9520,2,    264.6,2,   265.7,2,   11.43,2,   17.40,2,    0.00,2,    1.16,2,   2.945,2,   1.513,2,   0.196,2,    0.85,2,  -999.0,9,  -999.0,9,-999.0000,9,  -999.00,   0.488,2,   1.8635,2,    7.27,2,   3.9823,2, -999.00,9,  -999.0,9,  -999.0,   8.069,2,   0.037,-999.000,9, -999.00,9, -999.00,9, -999.00,9,  42.2453, -51.4338,   0.010,   0.0078,    0.15,   3.8611,   3.9823,2,    35.1168,2,  -999.0,9,     -999.0,9,     -999.0,9,     -999.0,9,       2331
33AT20120419,        A20,      74,          1,         11,         11,4,20120510,       2255,    42.2456,   -51.4326,       3118,  1517.7,   3.9814,  34.9518,2,  35.4229,4,    264.6,2,   252.9,4,    0.06,4,    1.19,4,    0.09,4,    0.14,4,-999.000,9,-999.000,9,-999.000,9, -999.00,9,  -999.0,9,  -999.0,9,-999.0000,9,  -999.00,-999.000,9,-999.0000,9, -999.00,9,   3.9816,2, -999.00,9,  -999.0,9,  -999.0,-999.000,9,-999.000,-999.000,9, -999.00,9, -999.00,9, -999.00,9,  42.2454, -51.4337,-999.000,-999.0000, -999.00,   3.8598,   3.9816,2,    35.5900,4,  -999.0,9,     -999.0,9,     -999.0,9,     -999.0,9,       2331
33AT20120419,        A20,      74,          1,         10,         10,2,20120510,       2255,    42.2456,   -51.4326,       3118,  1617.8,   3.9086,  34.9514,2,  34.9526,2,    265.2,2,   264.9,2,   11.86,2,   17.48,2,    0.00,2,    1.16,2,-999.000,9,-999.000,9,-999.000,9, -999.00,9,  2158.5,2,  2309.4,2,-999.0000,9,  -999.00,-999.000,9,-999.0000,9, -999.00,9,   3.9077,2, -999.00,9,  -999.0,9,  -999.0,-999.000,9,-999.000,-999.000,9, -999.00,9, -999.00,9, -999.00,9,  42.2454, -51.4337,-999.000,-999.0000, -999.00,   3.7787,   3.9077,2,    35.1174,2,  -999.0,9,     -999.0,9,     -999.0,9,     -999.0,9,       2328
33AT20120419,        A20,      74,          1,          9,          9,2,20120510,       2255,    42.2456,   -51.4326,       3118,  1721.5,   3.8167,  34.9516,2,  34.9520,2,    264.8,2,   265.0,2,   12.23,2,   17.55,2,    0.00,2,    1.17,2,   2.529,2,   1.260,2,   0.147,2,    0.68,2,  -999.0,9,  -999.0,9,-999.0000,9,  -999.00,   0.443,2,   1.8448,2,    8.44,2,   3.8165,2, -999.00,9,  -999.0,9,  -999.0,   8.016,2,   0.037,-999.000,9, -999.00,9, -999.00,9, -999.00,9,  42.2454, -51.4337,   0.011,   0.0077,    0.15,   3.6784,   3.8165,2,    35.1168,2,  -999.0,9,     -999.0,9,     -999.0,9,     -999.0,9,       2326
33AT20120419,        A20,      74,          1,          8,          8,2,20120510,       2255,    42.2456,   -51.4326,       3118,  1820.3,   3.7125,  34.9456,2,  34.9463,2,    266.5,2,   266.7,2,   12.49,2,   17.53,2,    0.00,2,    1.17,2,   2.443,2,   1.215,2,   0.144,2,    0.58,2,  -999.0,9,  -999.0,9,-999.0000,9,  -999.00,-999.000,9,-999.0000,9, -999.00,9,   3.7126,2, -999.00,9,  -999.0,9,  -999.0,-999.000,9,-999.000,-999.000,9, -999.00,9, -999.00,9, -999.00,9,  42.2454, -51.4337,-999.000,-999.0000, -999.00,   3.5663,   3.7126,2,    35.1111,2,  -999.0,9,     -999.0,9,     -999.0,9,     -999.0,9,       2323
33AT20120419,        A20,      74,          1,          7,          7,2,20120510,       2255,    42.2456,   -51.4326,       3118,  2024.1,   3.5248,  34.9375,2,  34.9374,2,    268.5,2,   268.3,2,   13.15,2,   17.49,2,    0.00,2,    1.16,2,   2.275,2,   1.125,2,   0.126,2,    0.53,2,  -999.0,9,  -999.0,9,-999.0000,9,  -999.00,-999.000,9,-999.0000,9, -999.00,9,   3.5253,2, -999.00,9,  -999.0,9,  -999.0,-999.000,9,-999.000,-999.000,9, -999.00,9, -999.00,9, -999.00,9,  42.2454, -51.4337,-999.000,-999.0000, -999.00,   3.3621,   3.5253,2,    35.1022,2,  -999.0,9,     -999.0,9,     -999.0,9,     -999.0,9,       2319