BOTTLE,20220712CCHSIOCBG
EXPOCODE,SECT_ID,STNNBR,CASTNO,SAMPNO,BTLNBR,BTLNBR_FLAG_W,DATE,TIME,LATITUDE,LONGITUDE,DEPTH,CTDPRS,CTDTMP,CTDSAL,CTDSAL_FLAG_W,SALNTY,SALNTY_FLAG_W,CTDOXY,CTDOXY_FLAG_W,OXYGEN,OXYGEN_FLAG_W,SILCAT,SILCAT_FLAG_W,NITRAT,NITRAT_FLAG_W,NITRIT,NITRIT_FLAG_W,PHSPHT,PHSPHT_FLAG_W,CFC-11,CFC-11_FLAG_W,CFC-12,CFC-12_FLAG_W,CFC113,CFC113_FLAG_W,SF6,SF6_FLAG_W,TCARBN,TCARBN_FLAG_W,ALKALI,ALKALI_FLAG_W,PH_TOT,PH_TOT_FLAG_W,PH_TMP,TRITUM,TRITUM_FLAG_W,HELIUM,HELIUM_FLAG_W,DELHE3,DELHE3_FLAG_W,REFTMP,REFTMP_FLAG_W,DELC13,DELC13_FLAG_W,DELC14,DELC14_FLAG_W,C14ERR,NEON,NEON_FLAG_W,NEONER,CCL4,CCL4_FLAG_W,DELO18,DELO18_FLAG_W,DOC,DOC_FLAG_W,TDN,TDN_FLAG_W,BTL_LAT,BTL_LON,TRITER,HELIER,DELHER,THETA,SBE35,SBE35_FLAG_W,SALTREF,SALTREF_FLAG_W,14C-DOC,14C-DOC_FLAG_W,DELO17,DELO17_FLAG_W,O2/AR,O2/AR_FLAG_W,SIP,SIP_FLAG_W,BTL_TIME
,,,,,,,,,,,METERS,DBAR,ITS-90,PSS-78,,PSS-78,,UMOL/KG,,UMOL/KG,,UMOL/KG,,UMOL/KG,,UMOL/KG,,UMOL/KG,,PMOL/KG,,PMOL/KG,,PMOL/KG,,FMOL/KG,,UMOL/KG,,UMOL/KG,,,,DEG C,TU,,NMOL/KG,,PERCNT,,DEG C,,/MILLE,,/MILLE,,/MILLE,NMOL/KG,,NMOL/KG,PMOL/KG,,/MILLE,,UMOL/KG,,UMOL/KG,,,,TU,NMOL/KG,PERCNT,DEG C,ITS-90,,G/KG,,/MILLE,,/MILLE,,,,,,
33AT20120419,        A20,      13,          1,         34,         34,2,20120422,       1854,     8.2714,   -52.8498,       2345,     3.0,  28.4122,  25.9355,2,  25.9622,2,    232.1,2,   232.2,2,   16.21,2,    0.00,2,    0.01,2,    0.02,2,   1.570,2,   1.024,2,   0.130,2,    1.21,3,  1480.8,6,  1801.1,2,   8.2946,2,    25.00,   0.711,2,   1.7974,2,   -2.06,2,  28.4135,2, -999.00,9,  -999.0,9,  -999.0,   7.066,2,   0.033,   1.070,2, -999.00,1,  126.44,2,    6.18,2,   8.2723, -52.8487,   0.010,   0.0075,    0.15,  28.4115,  28.4135,2,    26.0846,2,  -999.0,9,     -999.0,1,     -999.0,1,     -999.0,9,       2022
33AT20120419,        A20,      13,          1,         33,         33,2,20120422,       1854,     8.2714,   -52.8498,       2345,    36.0,  27.1359,  36.0587,2,  36.0580,2,    194.1,2,   192.6,2,    0.99,2,    0.00,2,    0.32,2,    0.08,2,   1.492,2,   0.961,2,   0.116,2,    0.91,3,  2035.8,2,  2362.8,2,   8.0700,2,    25.00,-999.000,9,-999.0000,9, -999.00,9,  27.1359,2, -999.00,9,  -999.0,9,  -999.0,-999.000,9,-999.000,   0.890,2, -999.00,9,   67.13,2,    5.61,2,   8.2723, -52.8488,-999.000,-999.0000, -999.00,  27.1276,  27.1359,2,    36.2280,2,  -999.0,9,     -999.0,9,     -999.0,9,     -999.0,9,       2019
33AT20120419,        A20,      13,          1,         32,         32,2,20120422,       1854,     8.2714,   -52.8498,       2345,    59.3,  26.7336,  36.2483,2,  36.2483,2,    199.7,2,   200.1,2,    0.91,2,    0.00,2,    0.00,2,    0.01,2,   1.509,2,   0.959,2,   0.119,2,    0.96,3,  -999.0,9,  -999.0,9,-999.0000,9,  -999.00,-999.000,9,-999.0000,9, -999.00,9,  26.7332,2, -999.00,9,  -999.0,9,  -999.0,-999.000,9,-999.000,   1.000,2, -999.00,9,   66.24,2,    4.98,2,   8.2722, -52.8488,-999.000,-999.0000, -999.00,  26.7200,  26.7332,2,    36.4192,2,  -999.0,9,     -999.0,9,     -999.0,9,     -999.0,9,       2017
33AT20120419,        A20,      13,          1,         31,         31,2,20120422,       1854,     8.2714,   -52.8498,       2345,    84.9,  26.4124,  36.4200,2,  36.3538,2,    197.9,2,   193.6,2,    0.97,2,    0.03,2,    0.29,2,    0.04,2,   1.545,2,   0.993,2,   0.115,2,    0.84,3,  2047.8,2,  2384.0,2,   8.0731,2,    25.00,   0.403,2,   1.7051,2,   -1.29,2,  26.4030,2, -999.00,9,  -999.0,9,  -999.0,   6.740,2,   0.031,   0.800,2, -999.00,9,   65.34,2,    5.43,2,   8.2722, -52.8489,   0.009,   0.0072,    0.15,  26.3931,  26.4030,2,    36.5253,2,  -999.0,9,     -999.0,9,     -999.0,9,     -999.0,9,       2015
33AT20120419,        A20,      13,          1,         30,         30,2,20120422,       1854,     8.2714,   -52.8498,       2345,   110.0,  23.2823,  36.7767,2,  36.8325,2,    161.7,2,   155.7,2,    1.61,2,    3.70,2,    0.05,2,    0.22,2,   1.730,2,   1.081,2,   0.093,2,    0.69,3,  -999.0,9,  -999.0,9,-999.0000,9,  -999.00,-999.000,9,-999.0000,9, -999.00,9,  23.3841,3, -999.00,9,  -999.0,9,  -999.0,-999.000,9,-999.000,   0.310,2, -999.00,9,   59.75,2,    7.71,2,   8.2722, -52.8489,-999.000,-999.0000, -999.00,  23.2595,  23.3841,3,    37.0062,2,  -999.0,9,     -999.0,9,     -999.0,9,     -999.0,9,       2012
33AT20120419,        A20,      13,          1,         29,         29,2,20120422,       1854,     8.2714,   -52.8498,       2345,   134.9,  17.9023,  36.1104,2,  36.1080,2,    127.0,2,   127.8,2,    4.71,2,   13.09,2,    0.03,2,    0.85,2,   1.941,2,   1.159,2,   0.045,2,    0.57,3,  2170.5,2,  2365.3,6,   7.8257,2,    25.00,-999.000,9,-999.0000,9, -999.00,9,  17.8977,2, -999.00,9,  -999.0,9,  -999.0,-999.000,9,-999.000,   0.240,2, -999.00,9,   52.17,2,   16.68,2,   8.2722, -52.8488,-999.000,-999.0000, -999.00,  17.8791,  17.8977,2,    36.2783,2,  -999.0,9,     -999.0,9,     -999.0,9,     -999.0,9,       2010
33AT20120419,        A20,      13,          1,         28,         28,2,20120422,       1854,     8.2714,   -52.8498,       2345,   160.0,  14.7121,  35.6995,2,  35.7049,2,     85.8,2,    84.9,2,    7.61,2,   22.47,2,    0.01,2,    1.38,2,   1.861,2,   1.060,2,   0.017,2,    0.60,3,  -999.0,9,  -999.0,9,-999.0000,9,  -999.00,   0.296,2,   1.7630,2,    0.71,2,  14.7305,2, -999.00,9,  -999.0,9,  -999.0,   7.316,2,   0.034,   0.120,2, -999.00,9,   47.95,2,   25.38,2,   8.2722, -52.8489,   0.009,   0.0074,    0.15,  14.6881,  14.7305,2,    35.8733,2,  -999.0,9,     -999.0,9,     -999.0,9,     -999.0,9,       2007
33AT20120419,        A20,      13,          1,         27,         27,2,20120422,       1854,     8.2714,   -52.8498,       2345,   185.7,  13.5057,  35.5273,2,  35.5277,2,     99.9,2,    84.3,2,    8.66,2,   24.19,2,    0.01,2,    1.51,2,   1.764,2,   0.997,2,   0.010,2,    0.32,3,  2212.7,3,  2331.1,2,   7.6469,6,    25.00,-999.000,9,-999.0000,9, -999.00,9,  13.5066,2, -999.00,9,  -999.0,9,  -999.0,-999.000,9,-999.000,   0.120,2, -999.00,9,   46.98,2,   27.57,2,   8.2722, -52.8488,-999.000,-999.0000, -999.00,  13.4794,  13.5066,2,    35.6952,2,  -999.0,9,     -999.0,9,     -999.0,9,     -999.0,9,       2005
33AT20120419,        A20,      13,          1,         26,         26,2,20120422,       1854,     8.2714,   -52.8498,       2345,   210.3,  12.3039,  35.3325,2,  35.3321,2,     98.9,2,   101.1,2,    9.67,2,   24.54,2,    0.01,2,    1.54,2,   1.732,2,   0.959,2,   0.016,2,    0.08,3,  -999.0,9,  -999.0,9,-999.0000,9,  -999.00,-999.000,9,-999.0000,9, -999.00,9,  12.3108,2, -999.00,9,  -999.0,9,  -999.0,-999.000,9,-999.000,   0.160,2, -999.00,9,   46.12,2,   27.71,2,   8.2722, -52.8489,-999.000,-999.0000, -999.00,  12.2759,  12.3108,2,    35.4987,2,  -999.0,9,     -999.0,9,     -999.0,9,     -999.0,9,       2003
33AT20120419,        A20,      13,          1,         25,         25,2,20120422,       1854,     8.2714,   -52.8498,       2345,   236.0,  11.3468,  35.1942,2,  35.1949,2,    108.0,2,   108.0,2,   10.80,2,   25.27,2,    0.00,2,    1.61,2,   1.674,2,   0.911,2,   0.015,2,    0.06,3,  2202.6,2,  2317.4,2,   7.6455,2,    25.00,-999.000,9,-999.0000,9, -999.00,9,  11.3469,2, -999.00,9,  -999.0,9,  -999.0,-999.000,9,-999.000,   0.190,2, -999.00,9,   45.26,2,   28.87,2,   8.2722, -52.8489,-999.000,-999.0000, -999.00,  11.3170,  11.3469,2,    35.3609,2,  -999.0,9,     -999.0,9,     -999.0,9,     -999.0,9,       2000
33AT20120419,        A20,      13,          1,         24,         24,2,20120422,       1854,     8.2714,   -52.8498,       2345,   266.1,  10.4656,  35.0680,2,  35.0844,2,    110.6,2,   109.5,2,   12.10,2,   26.69,2,    0.00,2,    1.70,2,   1.572,2,   0.856,2,   0.016,2,    0.13,3,  -999.0,9,  -999.0,9,-999.0000,9,  -999.00,   0.189,2,   1.7813,2,    1.94,2,  10.4670,2, -999.00,9,  -999.0,9,  -999.0,   7.490,2,   0.034,   0.210,2, -999.00,9,   44.72,2,   30.64,2,   8.2722, -52.8489,   0.009,   0.0075,    0.15,  10.4337,  10.4670,2,    35.2499,2,  -999.0,9,     -999.0,9,     -999.0,9,     -999.0,9,       1959
33AT20120419,        A20,      13,          1,         23,         23,2,20120422,       1854,     8.2714,   -52.8498,       2345,   317.0,   9.7808,  34.9830,2,  34.9821,2,    115.2,2,   118.1,2,   13.40,2,   27.41,2,    0.00,2,    1.77,2,   1.500,2,   0.809,2,   0.024,2,    0.05,3,  2204.5,2,  2309.4,2,   7.6195,2,    25.00,-999.000,9,-999.0000,9, -999.00,9,   9.7804,2, -999.00,9,  -999.0,9,  -999.0,-999.000,9,-999.000,   0.270,2, -999.00,9,   44.05,2,   31.03,2,   8.2722, -52.8489,-999.000,-999.0000, -999.00,   9.7443,   9.7804,2,    35.1470,2,  -999.0,9,     -999.0,9,     -999.0,9,     -999.0,9,       1956
33AT20120419,        A20,      13,          1,         22,         22,2,20120422,       1854,     8.2714,   -52.8498,       2345,   366.9,   9.2579,  34.9084,2,  34.9069,2,    117.1,2,   115.4,2,   14.58,2,   28.46,2,    0.00,2,    1.83,2,   1.395,2,   0.745,2,   0.018,2,    0.06,3,  -999.0,9,  -999.0,9,-999.0000,9,  -999.00,-999.000,9,-999.0000,9, -999.00,9,   9.2573,2, -999.00,9,  -999.0,9,  -999.0,-999.000,9,-999.000,   0.290,2, -999.00,9,   44.27,2,   32.51,2,   8.2721, -52.8490,-999.000,-999.0000, -999.00,   9.2170,   9.2573,2,    35.0715,2,  -999.0,9,     -999.0,9,     -999.0,9,     -999.0,9,       1954
33AT20120419,        A20,      13,          1,         21,         21,2,20120422,       1854,     8.2714,   -52.8498,       2345,   417.8,   8.5578,  34.8189,2,  34.8147,2,    110.6,2,   115.0,2,   16.44,2,   30.46,2,    0.00,2,    1.95,2,   1.169,2,   0.617,2,   0.021,2,    0.00,3,  2211.6,2,  2302.4,2,   7.5429,6,    25.00,-999.000,9,-999.0000,9, -999.00,9,   8.5305,2, -999.00,9,  -999.0,9,  -999.0,-999.000,9,-999.000,   0.280,2, -999.00,9,   43.86,2,   34.83,2,   8.2720, -52.8491,-999.000,-999.0000, -999.00,   8.5133,   8.5305,2,    34.9789,2,  -999.0,9,     -999.0,9,     -999.0,9,     -999.0,9,       1952
33AT20120419,        A20,      13,          1,         20,         20,2,20120422,       1854,     8.2714,   -52.8498,       2345,   473.0,   8.0598,  34.7809,2,  34.7797,2,    116.7,2,   116.2,2,   17.75,2,   31.36,2,    0.00,2,    2.02,2,   1.028,2,   0.542,2,   0.017,2,    0.00,3,  -999.0,9,  -999.0,9,-999.0000,9,  -999.00,   0.086,2,   1.8313,2,    2.20,2,   8.0566,2, -999.00,9,  -999.0,9,  -999.0,   7.755,2,   0.036,   0.300,2, -999.00,9,   42.78,2,   34.99,2,   8.2720, -52.8492,   0.009,   0.0077,    0.15,   8.0110,   8.0566,2,    34.9437,2,  -999.0,9,     -999.0,9,     -999.0,9,     -999.0,9,       1950
33AT20120419,        A20,      13,          1,         19,         19,2,20120422,       1854,     8.2714,   -52.8498,       2345,   537.5,   7.2299,  34.6839,2,  34.6824,2,    126.9,2,   125.0,2,   20.13,2,   32.27,2,    0.00,2,    2.11,2,   0.888,2,   0.467,2,   0.017,2,    0.00,3,  2214.3,2,  2299.6,2,   7.5645,2,    25.00,-999.000,9,-999.0000,9, -999.00,9,   7.2294,2, -999.00,9,  -999.0,9,  -999.0,-999.000,9,-999.000,   0.300,2, -999.00,9,   42.27,2,   36.22,2,   8.2719, -52.8492,-999.000,-999.0000, -999.00,   7.1776,   7.2294,2,    34.8459,2,  -999.0,9,     -999.0,9,     -999.0,9,     -999.0,9,       1948
33AT20120419,        A20,      13,          1,         18,         18,2,20120422,       1854,     8.2714,   -52.8498,       2345,   638.3,   6.4031,  34.6197,2,  34.6337,2,    130.7,2,   130.2,2,   23.17,2,   33.44,2,    0.00,2,    2.20,2,   0.614,2,   0.325,2,   0.015,2,    0.00,3,  2218.1,2,  2299.9,2,   7.5557,2,    25.00,   0.052,2,   1.8270,2,    1.75,2,   6.4030,2, -999.00,9,  -999.0,9,  -999.0,   7.727,2,   0.036,   0.290,2, -999.00,9,   41.14,2,   37.07,2,   8.2718, -52.8494,   0.009,   0.0077,    0.15,   6.3446,   6.4030,2,    34.7970,2,  -999.0,9,     -999.0,9,     -999.0,9,     -999.0,9,       1944
33AT20120419,        A20,      13,          1,         17,         17,2,20120422,       1854,     8.2714,   -52.8498,       2345,   739.5,   5.7006,  34.5820,2,  34.5822,2,    136.3,2,   133.7,2,   26.40,2,   34.16,2,    0.00,2,    2.27,2,   0.364,2,   0.198,2,   0.008,2,    0.00,3,  -999.0,9,  -999.0,9,-999.0000,9,  -999.00,   0.025,2,   1.8381,2,    2.14,2,   5.7004,2, -999.00,9,  -999.0,9,  -999.0,   8.011,2,   0.037,   0.230,2, -999.00,9,   41.19,2,   37.98,2,   8.2717, -52.8494,   0.009,   0.0077,    0.15,   5.6363,   5.7004,2,    34.7453,2,  -999.0,9,     -999.0,9,     -999.0,9,     -999.0,9,       1941
33AT20120419,        A20,      13,          1,         16,         16,2,20120422,       1854,     8.2714,   -52.8498,       2345,   839.2,   5.2229,  34.5921,2,  34.5944,2,   -999.0,9,  -999.0,5,   28.46,2,   33.92,2,    0.00,2,    2.27,2,   0.230,2,   0.126,2,   0.005,2,    0.00,3,  2223.3,2,  2301.9,2,   7.5544,2,    25.00,-999.000,9,-999.0000,9, -999.00,9,   5.2215,2, -999.00,9,  -999.0,9,  -999.0,-999.000,9,-999.000,   0.170,2, -999.00,9,   41.26,2,   36.76,2,   8.2717, -52.8494,-999.000,-999.0000, -999.00,   5.1524,   5.2215,2,    34.7575,2,  -999.0,9,     -999.0,9,     -999.0,9,     -999.0,9,       1938
33AT20120419,        A20,      13,          1,         15,         15,2,20120422,       1854,     8.2714,   -52.8498,       2345,   941.9,   5.0130,  34.6402,2,  34.6482,2,    149.5,2,   300.5,4,   28.73,2,   33.14,2,    0.00,2,    2.23,2,   0.123,2,   0.079,2,   0.004,2,    0.00,3,  2221.5,2,  2307.6,2,   7.6676,6,    25.00,  -0.004,2,   1.8290,2,    2.29,2,   5.0198,2, -999.00,9,  -999.0,9,  -999.0,   7.840,2,   0.036,   0.100,2, -999.00,9,   41.47,2,   35.97,2,   8.2717, -52.8495,   0.009,   0.0077,    0.15,   4.9346,   5.0198,2,    34.8116,2,  -999.0,9,     -999.0,9,     -999.0,9,     -999.0,9,       1935
33AT20120419,        A20,      13,          1,         14,         14,2,20120422,       1854,     8.2714,   -52.8498,       2345,  1041.8,   5.1798,  34.7730,2,  34.7754,2,    159.0,2,   154.2,2,   26.02,2,   30.47,2,    0.00,2,    2.05,2,   0.117,2,   0.072,2,   0.001,2,    0.00,3,  -999.0,9,  -999.0,9,-999.0000,9,  -999.00,   0.033,2,   1.8413,2,    2.21,2,   5.1802,2, -999.00,9,  -999.0,9,  -999.0,   8.034,2,   0.037,   0.100,2, -999.00,9,   41.11,2,   33.72,2,   8.2716, -52.8495,   0.009,   0.0077,    0.15,   5.0908,   5.1802,2,    34.9394,2,  -999.0,9,     -999.0,9,     -999.0,9,     -999.0,9,       1932
33AT20120419,        A20,      13,          1,         13,         13,2,20120422,       1854,     8.2714,   -52.8498,       2345,  1143.9,   5.3091,  34.9144,2,  34.9134,2,    176.7,2,   180.1,2,   21.49,2,   26.06,2,    0.00,2,    1.74,2,   0.375,2,   0.203,2,   0.011,2,    0.00,3,  2200.3,2,  2315.0,2,   7.6521,2,    25.00,   0.112,2,   1.8684,2,    3.86,2,   5.3084,2, -999.00,9,  -999.0,9,  -999.0,   8.104,2,   0.037,   0.250,2, -999.00,9,   40.86,2,   29.50,2,   8.2716, -52.8496,   0.009,   0.0078,    0.15,   5.2092,   5.3084,2,    35.0781,2,  -999.0,9,     -999.0,9,     -999.0,9,     -999.0,9,       1929
33AT20120419,        A20,      13,          1,         12,         12,2,20120422,       1854,     8.2714,   -52.8498,       2345,  1244.2,   4.9773,  34.9829,2,  34.9835,2,    206.5,2,   209.0,2,   18.07,2,   22.50,2,    0.00,2,    1.49,2,   0.600,2,   0.317,2,   0.021,2,    0.00,3,  2185.1,2,  2316.9,2,   7.6917,2,    25.00,   0.175,2,-999.0000,9, -999.00,9,   4.9766,2, -999.00,9,  -999.0,9,  -999.0,-999.000,9,-999.000,   0.440,2, -999.00,9,   40.31,2,   25.99,2,   8.2716, -52.8496,   0.009,-999.0000, -999.00,   4.8707,   4.9766,2,    35.1484,2,  -999.0,9,     -999.0,9,     -999.0,9,     -999.0,9,       1926
33AT20120419,        A20,      13,          1,         11,         11,2,20120422,       1854,     8.2714,   -52.8498,       2345,  1344.9,   4.7890,  35.0043,2,  35.0045,2,    220.4,2,   224.9,2,   16.07,2,   20.73,2,    0.00,2,    1.38,2,   0.888,2,   0.458,2,   0.034,2,    0.00,3,  2178.0,2,  2316.2,2,   7.7083,6,    25.00,   0.232,2,   1.8466,2,    5.92,2,   4.7882,2, -999.00,9,  -999.0,9,  -999.0,   7.870,2,   0.036,   0.640,2, -999.00,9,   40.44,2,   23.81,2,   8.2715, -52.8497,   0.009,   0.0078,    0.15,   4.6747,   4.7882,2,    35.1696,2,  -999.0,9,     -999.0,9,     -999.0,9,     -999.0,9,       1923
33AT20120419,        A20,      13,          1,         10,         10,2,20120422,       1854,     8.2714,   -52.8498,       2345,  1446.7,   4.4324,  35.0047,2,  35.0051,2,    241.8,2,   242.2,2,   14.55,2,   19.18,2,    0.00,2,    1.28,2,   1.108,2,   0.562,2,   0.047,2,    0.00,3,  2169.9,2,  2314.6,6,   7.7232,2,    25.00,-999.000,9,-999.0000,9, -999.00,9,   4.4320,2, -999.00,9,  -999.0,9,  -999.0,-999.000,9,-999.000,   0.850,2, -999.00,9,   40.28,2,   22.14,2,   8.2715, -52.8497,-999.000,-999.0000, -999.00,   4.3122,   4.4320,2,    35.1702,2,  -999.0,9,     -999.0,9,     -999.0,9,     -999.0,9,       1921
33AT20120419,        A20,      13,          1,          9,          9,2,20120422,       1854,     8.2714,   -52.8498,       2345,  1548.2,   4.2138,  34.9949,2,  34.9949,2,    248.6,2,   249.1,2,   14.27,2,   18.75,2,    0.00,2,    1.25,2,   1.190,2,   0.596,2,   0.053,2,    0.00,3,  -999.0,9,  -999.0,9,-999.0000,9,  -999.00,   0.301,2,   1.8835,2,    6.30,2,   4.2128,2, -999.00,9,  -999.0,9,  -999.0,   8.209,2,   0.038,   0.950,2, -999.00,9,   40.11,2,   22.06,2,   8.2714, -52.8497,   0.010,   0.0079,    0.15,   4.0866,   4.2128,2,    35.1599,2,  -999.0,9,     -999.0,9,     -999.0,9,     -999.0,9,       1918
33AT20120419,        A20,      13,          1,          8,          8,2,20120422,       1854,     8.2714,   -52.8498,       2345,  1649.1,   3.9621,  34.9829,2,  34.9837,2,    254.8,2,   256.0,2,   14.36,2,   18.32,2,    0.00,2,    1.22,2,   1.199,2,   0.606,2,   0.050,2,    0.00,3,  2164.1,2,  2312.9,2,   7.7347,2,    25.00,-999.000,9,-999.0000,9, -999.00,9,   3.9619,2, -999.00,9,  -999.0,9,  -999.0,-999.000,9,-999.000,   1.010,2, -999.00,9,   40.37,2,   21.34,2,   8.2714, -52.8498,-999.000,-999.0000, -999.00,   3.8286,   3.9619,2,    35.1486,2,  -999.0,9,     -999.0,9,     -999.0,9,     -999.0,9,       1915
33AT20120419,        A20,      13,          1,          7,          7,2,20120422,       1854,     8.2714,   -52.8498,       2345,  1750.7,   3.8537,  34.9782,2,  34.9791,2,    257.8,2,   257.8,2,   14.51,2,   18.21,2,    0.00,2,    1.21,2,   1.148,2,   0.585,2,   0.049,2,    0.00,3,  -999.0,9,  -999.0,9,-999.0000,9,  -999.00,   0.281,2,   1.8434,2,    6.89,2,   3.8535,2, -999.00,9,  -999.0,9,  -999.0,   8.063,2,   0.037,   0.960,2, -999.00,9,   40.28,2,   21.16,2,   8.2714, -52.8498,   0.010,   0.0077,    0.15,   3.7121,   3.8535,2,    35.1441,2,  -999.0,9,     -999.0,9,     -999.0,9,     -999.0,9,       1912
33AT20120419,        A20,      13,          1,          6,          6,2,20120422,       1854,     8.2714,   -52.8498,       2345,  1852.3,   3.6744,  34.9702,2,  34.9707,2,    259.6,2,   259.9,2,   15.56,2,   18.13,2,    0.00,2,    1.22,2,   1.079,2,   0.543,2,   0.047,2,    0.00,3,  2163.6,2,  2313.0,2,   7.7395,2,    25.00,-999.000,9,-999.0000,9, -999.00,9,   3.6739,2, -999.00,9,  -999.0,9,  -999.0,-999.000,9,-999.000,   0.930,2, -999.00,9,   40.44,2,   21.38,2,   8.2713, -52.8498,-999.000,-999.0000, -999.00,   3.5257,   3.6739,2,    35.1356,2,  -999.0,9,     -999.0,9,     -999.0,9,     -999.0,9,       1909
33AT20120419,        A20,      13,          1,          5,          5,2,20120422,       1854,     8.2714,   -52.8498,       2345,  1952.5,   3.6349,  34.9681,2,  34.9683,2,    260.2,2,   260.3,2,   15.83,2,   18.12,2,    0.00,2,    1.22,2,   1.048,2,   0.527,2,   0.043,2,    0.00,3,  -999.0,9,  -999.0,9,-999.0000,9,  -999.00,-999.000,9,-999.0000,9, -999.00,9,   3.6345,2, -999.00,9,  -999.0,9,  -999.0,-999.000,9,-999.000,   0.930,2, -999.00,9,   40.33,2,   20.95,2,   8.2713, -52.8499,-999.000,-999.0000, -999.00,   3.4773,   3.6345,2,    35.1332,2,  -999.0,9,     -999.0,9,     -999.0,9,     -999.0,9,       1906