BOTTLE,20220712CCHSIOCBG
EXPOCODE,SECT_ID,STNNBR,CASTNO,SAMPNO,BTLNBR,BTLNBR_FLAG_W,DATE,TIME,LATITUDE,LONGITUDE,DEPTH,CTDPRS,CTDTMP,CTDSAL,CTDSAL_FLAG_W,SALNTY,SALNTY_FLAG_W,CTDOXY,CTDOXY_FLAG_W,OXYGEN,OXYGEN_FLAG_W,SILCAT,SILCAT_FLAG_W,NITRAT,NITRAT_FLAG_W,NITRIT,NITRIT_FLAG_W,PHSPHT,PHSPHT_FLAG_W,CFC-11,CFC-11_FLAG_W,CFC-12,CFC-12_FLAG_W,CFC113,CFC113_FLAG_W,SF6,SF6_FLAG_W,TCARBN,TCARBN_FLAG_W,ALKALI,ALKALI_FLAG_W,PH_TOT,PH_TOT_FLAG_W,PH_TMP,TRITUM,TRITUM_FLAG_W,HELIUM,HELIUM_FLAG_W,DELHE3,DELHE3_FLAG_W,REFTMP,REFTMP_FLAG_W,DELC13,DELC13_FLAG_W,DELC14,DELC14_FLAG_W,C14ERR,NEON,NEON_FLAG_W,NEONER,CCL4,CCL4_FLAG_W,DELO18,DELO18_FLAG_W,DOC,DOC_FLAG_W,TDN,TDN_FLAG_W,BTL_LAT,BTL_LON,TRITER,HELIER,DELHER,THETA,SBE35,SBE35_FLAG_W,SALTREF,SALTREF_FLAG_W,14C-DOC,14C-DOC_FLAG_W,DELO17,DELO17_FLAG_W,O2/AR,O2/AR_FLAG_W,SIP,SIP_FLAG_W,BTL_TIME
,,,,,,,,,,,METERS,DBAR,ITS-90,PSS-78,,PSS-78,,UMOL/KG,,UMOL/KG,,UMOL/KG,,UMOL/KG,,UMOL/KG,,UMOL/KG,,PMOL/KG,,PMOL/KG,,PMOL/KG,,FMOL/KG,,UMOL/KG,,UMOL/KG,,,,DEG C,TU,,NMOL/KG,,PERCNT,,DEG C,,/MILLE,,/MILLE,,/MILLE,NMOL/KG,,NMOL/KG,PMOL/KG,,/MILLE,,UMOL/KG,,UMOL/KG,,,,TU,NMOL/KG,PERCNT,DEG C,ITS-90,,G/KG,,/MILLE,,/MILLE,,,,,,
33AT20120419,        A20,      81,          1,          7,          7,2,20120511,       1753,    43.0081,   -50.8127,        161,     4.2,   9.2514,  32.7157,2,  32.7204,2,    304.8,2,   305.7,2,    0.00,2,    0.00,2,    0.01,2,    0.25,2,   4.250,2,   2.416,2,   0.403,2,    2.65,2,  2029.2,6,  2211.7,2,-999.0000,9,  -999.00,-999.000,9,-999.0000,9, -999.00,9,   9.2179,2, -999.00,9,  -999.0,9,  -999.0,-999.000,9,-999.000,-999.000,9, -999.00,9, -999.00,9, -999.00,9,  43.0081, -50.8125,-999.000,-999.0000, -999.00,   9.2510,   9.2179,2,    32.8747,2,  -999.0,9,     -999.0,9,     -999.0,9,     -999.0,9,       1806
33AT20120419,        A20,      81,          1,          6,          6,2,20120511,       1753,    43.0081,   -50.8127,        161,    35.1,   4.5861,  32.9677,2,  32.9591,2,    343.9,2,   345.9,2,    0.00,2,    0.02,2,    0.01,2,    0.27,2,   5.441,2,   3.003,2,   0.521,2,    3.15,2,  2041.1,2,  2225.1,2,-999.0000,9,  -999.00,-999.000,9,-999.0000,9, -999.00,9,   4.5896,2, -999.00,9,  -999.0,9,  -999.0,-999.000,9,-999.000,-999.000,9, -999.00,9, -999.00,9, -999.00,9,  43.0081, -50.8125,-999.000,-999.0000, -999.00,   4.5836,   4.5896,2,    33.1145,2,  -999.0,9,     -999.0,9,     -999.0,9,     -999.0,9,       1803
33AT20120419,        A20,      81,          1,          5,          5,2,20120511,       1753,    43.0081,   -50.8127,        161,    62.6,   2.2055,  33.1197,2,  33.1188,2,    347.8,2,   345.0,2,    0.26,2,    2.34,2,    0.05,2,    0.50,2,   5.995,2,   3.281,2,   0.562,2,    3.26,2,  2082.0,2,  2232.0,2,-999.0000,9,  -999.00,-999.000,9,-999.0000,9, -999.00,9,   2.1958,2, -999.00,9,  -999.0,9,  -999.0,-999.000,9,-999.000,-999.000,9, -999.00,9, -999.00,9, -999.00,9,  43.0081, -50.8125,-999.000,-999.0000, -999.00,   2.2023,   2.1958,2,    33.2750,2,  -999.0,9,     -999.0,9,     -999.0,9,     -999.0,9,       1801
33AT20120419,        A20,      81,          1,          4,          4,2,20120511,       1753,    43.0081,   -50.8127,        161,    86.5,   0.3908,  33.2990,2,  33.2956,2,    334.0,2,   331.5,2,    2.90,2,    6.77,2,    0.09,2,    0.75,2,   6.183,2,   3.358,2,   0.577,2,    3.58,2,  2116.5,2,  2236.8,2,-999.0000,9,  -999.00,-999.000,9,-999.0000,9, -999.00,9,   0.3936,2, -999.00,9,  -999.0,9,  -999.0,-999.000,9,-999.000,-999.000,9, -999.00,9, -999.00,9, -999.00,9,  43.0081, -50.8126,-999.000,-999.0000, -999.00,   0.3876,   0.3936,2,    33.4526,2,  -999.0,9,     -999.0,9,     -999.0,9,     -999.0,9,       1759
33AT20120419,        A20,      81,          1,          3,          3,2,20120511,       1753,    43.0081,   -50.8127,        161,   112.2,   1.0005,  33.4905,2,  33.4800,2,    319.4,2,   318.6,2,    5.01,2,    8.07,2,    0.10,2,    0.83,2,   5.998,2,   3.261,2,   0.569,2,    3.22,2,  2125.1,2,  2245.4,2,-999.0000,9,  -999.00,-999.000,9,-999.0000,9, -999.00,9,   1.0133,2, -999.00,9,  -999.0,9,  -999.0,-999.000,9,-999.000,-999.000,9, -999.00,9, -999.00,9, -999.00,9,  43.0081, -50.8126,-999.000,-999.0000, -999.00,   0.9957,   1.0133,2,    33.6379,2,  -999.0,9,     -999.0,9,     -999.0,9,     -999.0,9,       1757
33AT20120419,        A20,      81,          1,          2,          2,2,20120511,       1753,    43.0081,   -50.8127,        161,   133.8,   3.3733,  33.8622,2,  33.8585,2,    289.9,2,   288.1,2,    5.98,2,    9.48,2,    0.13,2,    0.87,2,   5.224,2,   2.885,2,   0.472,2,    2.84,2,  2133.4,2,  2262.2,2,-999.0000,9,  -999.00,-999.000,9,-999.0000,9, -999.00,9,   3.5964,2, -999.00,9,  -999.0,9,  -999.0,-999.000,9,-999.000,-999.000,9, -999.00,9, -999.00,9, -999.00,9,  43.0081, -50.8126,-999.000,-999.0000, -999.00,   3.3649,   3.5964,2,    34.0181,2,  -999.0,9,     -999.0,9,     -999.0,9,     -999.0,9,       1756
33AT20120419,        A20,      81,          1,          1,          1,2,20120511,       1753,    43.0081,   -50.8127,        161,   153.9,   5.6523,  34.2486,2,  34.2323,2,    250.9,2,   253.8,2,    6.51,2,   11.22,2,    0.13,2,    0.93,2,   4.438,2,   2.444,2,   0.361,2,    2.53,2,  2141.2,2,  2280.3,2,-999.0000,9,  -999.00,-999.000,9,-999.0000,9, -999.00,9,   5.6179,2, -999.00,9,  -999.0,9,  -999.0,-999.000,9,-999.000,-999.000,9, -999.00,9, -999.00,9, -999.00,9,  43.0081, -50.8126,-999.000,-999.0000, -999.00,   5.6397,   5.6179,2,    34.3937,2,  -999.0,9,     -999.0,9,     -999.0,9,     -999.0,9,       1754
33AT20120419,        A20,      82,          1,          6,          6,2,20120511,       1846,    43.0566,   -50.7731,        110,     3.8,   5.1435,  32.9276,2,  32.9278,2,    342.1,2,   341.7,2,    0.00,2,    0.00,2,    0.01,2,    0.27,2,   5.396,2,   2.994,2,   0.507,2,    2.98,2,  2040.8,6,  2227.9,2,-999.0000,9,  -999.00,-999.000,9,-999.0000,9, -999.00,9,   5.1447,2, -999.00,9,  -999.0,9,  -999.0,-999.000,9,-999.000,-999.000,9, -999.00,9, -999.00,9, -999.00,9,  43.0564, -50.7740,-999.000,-999.0000, -999.00,   5.1432,   5.1447,2,    33.0831,2,  -999.0,9,     -999.0,9,     -999.0,9,     -999.0,9,       1856
33AT20120419,        A20,      82,          1,          5,          5,2,20120511,       1846,    43.0566,   -50.7731,        110,    29.2,   5.2433,  33.1114,2,  33.0869,2,    333.4,2,   332.4,2,    0.00,2,    0.19,2,    0.03,2,    0.32,2,   5.208,2,   2.867,2,   0.484,2,    3.11,2,  2054.2,2,  2231.1,6,-999.0000,9,  -999.00,-999.000,9,-999.0000,9, -999.00,9,   5.2310,2, -999.00,9,  -999.0,9,  -999.0,-999.000,9,-999.000,-999.000,9, -999.00,9, -999.00,9, -999.00,9,  43.0565, -50.7737,-999.000,-999.0000, -999.00,   5.2411,   5.2310,2,    33.2430,2,  -999.0,9,     -999.0,9,     -999.0,9,     -999.0,9,       1853
33AT20120419,        A20,      82,          1,          4,          4,2,20120511,       1846,    43.0566,   -50.7731,        110,    42.2,   4.3061,  33.2559,2,  33.2426,2,    318.9,2,   317.3,2,    0.76,2,    1.99,2,    0.08,2,    0.54,2,   5.390,2,   2.954,2,   0.499,2,    3.04,2,  2085.3,2,  2239.0,2,-999.0000,9,  -999.00,-999.000,9,-999.0000,9, -999.00,9,   4.3012,2, -999.00,9,  -999.0,9,  -999.0,-999.000,9,-999.000,-999.000,9, -999.00,9, -999.00,9, -999.00,9,  43.0565, -50.7736,-999.000,-999.0000, -999.00,   4.3032,   4.3012,2,    33.3994,2,  -999.0,9,     -999.0,9,     -999.0,9,     -999.0,9,       1852
33AT20120419,        A20,      82,          1,          3,          3,2,20120511,       1846,    43.0566,   -50.7731,        110,    60.9,   3.1758,  33.2566,2,  33.2535,2,    315.9,2,   315.5,2,    2.40,2,    3.05,2,    0.10,2,    0.67,2,   5.696,2,   3.090,2,   0.519,2,    3.04,2,  2100.5,2,  2241.1,2,-999.0000,9,  -999.00,-999.000,9,-999.0000,9, -999.00,9,   3.1700,2, -999.00,9,  -999.0,9,  -999.0,-999.000,9,-999.000,-999.000,9, -999.00,9, -999.00,9, -999.00,9,  43.0565, -50.7734,-999.000,-999.0000, -999.00,   3.1722,   3.1700,2,    33.4104,2,  -999.0,9,     -999.0,9,     -999.0,9,     -999.0,9,       1850
33AT20120419,        A20,      82,          1,          2,          2,2,20120511,       1846,    43.0566,   -50.7731,        110,    87.8,   2.3431,  33.4025,2,  33.4018,2,    301.3,2,   302.2,2,    5.83,2,    5.71,2,    0.14,2,    0.89,2,   5.801,2,   3.149,2,   0.518,2,    3.21,2,  2128.2,2,  2250.2,2,-999.0000,9,  -999.00,-999.000,9,-999.0000,9, -999.00,9,   2.3179,2, -999.00,9,  -999.0,9,  -999.0,-999.000,9,-999.000,-999.000,9, -999.00,9, -999.00,9, -999.00,9,  43.0565, -50.7732,-999.000,-999.0000, -999.00,   2.3384,   2.3179,2,    33.5593,2,  -999.0,9,     -999.0,9,     -999.0,9,     -999.0,9,       1848
33AT20120419,        A20,      82,          1,          1,          1,2,20120511,       1846,    43.0566,   -50.7731,        110,   103.9,   2.5446,  33.4282,2,  33.4232,2,    299.9,2,   300.7,2,    5.92,2,    5.82,2,    0.14,2,    0.89,2,   5.732,2,   3.106,2,   0.529,2,    3.08,2,  2128.2,2,  2251.2,2,-999.0000,9,  -999.00,-999.000,9,-999.0000,9, -999.00,9,   2.5431,2, -999.00,9,  -999.0,9,  -999.0,-999.000,9,-999.000,-999.000,9, -999.00,9, -999.00,9, -999.00,9,  43.0565, -50.7731,-999.000,-999.0000, -999.00,   2.5389,   2.5431,2,    33.5808,2,  -999.0,9,     -999.0,9,     -999.0,9,     -999.0,9,       1847
33AT20120419,        A20,      83,          1,          5,          5,2,20120511,       1938,    43.1050,   -50.7317,         96,     6.1,   6.5747,  32.8808,2,  32.8796,2,    327.4,2,   327.5,2,    0.00,2,    0.00,2,    0.01,2,    0.25,2,   5.107,2,   2.831,2,   0.484,2,    2.69,2,  2042.3,6,  2221.8,2,-999.0000,9,  -999.00,-999.000,9,-999.0000,9, -999.00,9,   6.5773,2, -999.00,9,  -999.0,9,  -999.0,-999.000,9,-999.000,-999.000,9, -999.00,1, -999.00,9, -999.00,9,  43.1052, -50.7325,-999.000,-999.0000, -999.00,   6.5742,   6.5773,2,    33.0346,2,  -999.0,9,     -999.0,1,     -999.0,1,     -999.0,9,       1947
33AT20120419,        A20,      83,          1,          4,          4,2,20120511,       1938,    43.1050,   -50.7317,         96,    25.2,   5.4273,  32.8875,2,  32.8846,2,    337.9,2,   336.3,2,    0.00,2,    0.00,2,    0.01,2,    0.26,2,   5.210,2,   2.886,2,   0.491,2,    3.04,2,  2041.5,2,  2223.2,2,-999.0000,9,  -999.00,-999.000,9,-999.0000,9, -999.00,9,   5.4323,2, -999.00,9,  -999.0,9,  -999.0,-999.000,9,-999.000,-999.000,9, -999.00,9, -999.00,9, -999.00,9,  43.1051, -50.7322,-999.000,-999.0000, -999.00,   5.4254,   5.4323,2,    33.0397,2,  -999.0,9,     -999.0,9,     -999.0,9,     -999.0,9,       1944
33AT20120419,        A20,      83,          1,          3,          3,2,20120511,       1938,    43.1050,   -50.7317,         96,    50.3,   4.4834,  33.0333,2,  33.0205,2,    332.6,2,   330.6,2,    0.00,2,    0.48,2,    0.03,2,    0.37,2,   5.380,2,   2.975,2,   0.513,2,    3.11,2,  2062.8,2,  2229.1,2,-999.0000,9,  -999.00,-999.000,9,-999.0000,9, -999.00,9,   4.4847,2, -999.00,9,  -999.0,9,  -999.0,-999.000,9,-999.000,-999.000,9, -999.00,9, -999.00,9, -999.00,9,  43.1051, -50.7320,-999.000,-999.0000, -999.00,   4.4799,   4.4847,2,    33.1762,2,  -999.0,9,     -999.0,9,     -999.0,9,     -999.0,9,       1942
33AT20120419,        A20,      83,          1,          2,          2,2,20120511,       1938,    43.1050,   -50.7317,         96,    75.5,   4.8834,  33.6500,2,  33.6773,2,    288.1,2,   285.5,2,    4.29,2,    5.69,2,    0.12,2,    0.74,2,   4.940,2,   2.759,2,   0.458,2,    2.86,2,  2114.3,2,  2259.6,2,-999.0000,9,  -999.00,-999.000,9,-999.0000,9, -999.00,9,   4.8178,2, -999.00,9,  -999.0,9,  -999.0,-999.000,9,-999.000,-999.000,9, -999.00,9, -999.00,9, -999.00,9,  43.1051, -50.7319,-999.000,-999.0000, -999.00,   4.8778,   4.8178,2,    33.8361,2,  -999.0,9,     -999.0,9,     -999.0,9,     -999.0,9,       1940
33AT20120419,        A20,      83,          1,          1,          1,2,20120511,       1938,    43.1050,   -50.7317,         96,    91.5,   3.7367,  33.5824,2,  33.5772,2,    290.0,2,   286.8,2,    6.47,2,    6.57,2,    0.15,2,    0.88,2,   5.266,2,   2.922,2,   0.481,2,    2.85,2,  2129.6,2,  2258.8,2,-999.0000,9,  -999.00,-999.000,9,-999.0000,9, -999.00,9,   3.7367,2, -999.00,9,  -999.0,9,  -999.0,-999.000,9,-999.000,-999.000,9, -999.00,9, -999.00,9, -999.00,9,  43.1050, -50.7317,-999.000,-999.0000, -999.00,   3.7308,   3.7367,2,    33.7355,2,  -999.0,9,     -999.0,9,     -999.0,9,     -999.0,9,       1938