BOTTLE,20220712CCHSIOCBG
EXPOCODE,SECT_ID,STNNBR,CASTNO,SAMPNO,BTLNBR,BTLNBR_FLAG_W,DATE,TIME,LATITUDE,LONGITUDE,DEPTH,CTDPRS,CTDTMP,CTDSAL,CTDSAL_FLAG_W,SALNTY,SALNTY_FLAG_W,CTDOXY,CTDOXY_FLAG_W,OXYGEN,OXYGEN_FLAG_W,SILCAT,SILCAT_FLAG_W,NITRAT,NITRAT_FLAG_W,NITRIT,NITRIT_FLAG_W,PHSPHT,PHSPHT_FLAG_W,CFC-11,CFC-11_FLAG_W,CFC-12,CFC-12_FLAG_W,CFC113,CFC113_FLAG_W,SF6,SF6_FLAG_W,TCARBN,TCARBN_FLAG_W,ALKALI,ALKALI_FLAG_W,PH_TOT,PH_TOT_FLAG_W,PH_TMP,TRITUM,TRITUM_FLAG_W,HELIUM,HELIUM_FLAG_W,DELHE3,DELHE3_FLAG_W,REFTMP,REFTMP_FLAG_W,DELC13,DELC13_FLAG_W,DELC14,DELC14_FLAG_W,C14ERR,NEON,NEON_FLAG_W,NEONER,CCL4,CCL4_FLAG_W,DELO18,DELO18_FLAG_W,DOC,DOC_FLAG_W,TDN,TDN_FLAG_W,BTL_LAT,BTL_LON,TRITER,HELIER,DELHER,THETA,SBE35,SBE35_FLAG_W,SALTREF,SALTREF_FLAG_W,14C-DOC,14C-DOC_FLAG_W,DELO17,DELO17_FLAG_W,O2/AR,O2/AR_FLAG_W,SIP,SIP_FLAG_W,BTL_TIME
,,,,,,,,,,,METERS,DBAR,ITS-90,PSS-78,,PSS-78,,UMOL/KG,,UMOL/KG,,UMOL/KG,,UMOL/KG,,UMOL/KG,,UMOL/KG,,PMOL/KG,,PMOL/KG,,PMOL/KG,,FMOL/KG,,UMOL/KG,,UMOL/KG,,,,DEG C,TU,,NMOL/KG,,PERCNT,,DEG C,,/MILLE,,/MILLE,,/MILLE,NMOL/KG,,NMOL/KG,PMOL/KG,,/MILLE,,UMOL/KG,,UMOL/KG,,,,TU,NMOL/KG,PERCNT,DEG C,ITS-90,,G/KG,,/MILLE,,/MILLE,,,,,,
33AT20120419,        A20,      42,          1,          6,          6,2,20120501,       0657,    22.9794,   -52.3311,       4237,  2868.0,   2.8758,  34.9430,2,  34.9427,2,    249.0,2,   248.9,2,   31.82,2,   20.25,2,    0.00,2,    1.38,2,   0.095,2,   0.042,2,   0.002,2,    0.00,2,  2179.6,2,  2333.6,2,   7.7389,2,    25.00,-999.000,9,-999.0000,9, -999.00,9,   2.8762,2, -999.00,9,  -999.0,9,  -999.0,-999.000,9,-999.000,-999.000,9, -999.00,9, -999.00,9, -999.00,9,  22.9792, -52.3310,-999.000,-999.0000, -999.00,   2.6413,   2.8762,2,    35.1074,2,  -999.0,9,     -999.0,9,     -999.0,9,     -999.0,9,       0730
33AT20120419,        A20,      42,          1,          5,          5,2,20120501,       0657,    22.9794,   -52.3311,       4237,  3144.8,   2.7049,  34.9276,2,  34.9271,2,    249.6,2,   249.8,2,   34.38,2,   20.44,2,    0.00,2,    1.39,2,-999.000,9,-999.000,9,-999.000,9, -999.00,9,  -999.0,9,  -999.0,9,-999.0000,9,  -999.00,-999.000,9,-999.0000,9, -999.00,9,   2.7048,2, -999.00,9,  -999.0,9,  -999.0,-999.000,9,-999.000,-999.000,9, -999.00,9, -999.00,9, -999.00,9,  22.9793, -52.3311,-999.000,-999.0000, -999.00,   2.4454,   2.7048,2,    35.0918,2,  -999.0,9,     -999.0,9,     -999.0,9,     -999.0,9,       0724
33AT20120419,        A20,      42,          1,          4,          4,2,20120501,       0657,    22.9794,   -52.3311,       4237,  3457.7,   2.5156,  34.9103,2,  34.9100,2,    250.7,2,   250.7,2,   38.13,2,   20.69,2,    0.00,2,    1.42,2,   0.056,2,   0.024,2,   0.000,2,    0.00,2,  2182.7,2,  2337.2,2,   7.7351,2,    25.00,-999.000,9,-999.0000,9, -999.00,9,   2.5157,2, -999.00,9,  -999.0,9,  -999.0,-999.000,9,-999.000,-999.000,9, -999.00,9, -999.00,9, -999.00,9,  22.9794, -52.3311,-999.000,-999.0000, -999.00,   2.2273,   2.5157,2,    35.0747,2,  -999.0,9,     -999.0,9,     -999.0,9,     -999.0,9,       0718
33AT20120419,        A20,      42,          1,          3,          3,2,20120501,       0657,    22.9794,   -52.3311,       4237,  3761.1,   2.3382,  34.8936,2,  34.8927,2,    251.4,2,   251.5,2,   41.71,2,   20.96,2,    0.00,2,    1.44,2,-999.000,9,-999.000,9,-999.000,9, -999.00,9,  -999.0,9,  -999.0,9,-999.0000,9,  -999.00,-999.000,9,-999.0000,9, -999.00,9,   2.3386,2, -999.00,9,  -999.0,9,  -999.0,-999.000,9,-999.000,-999.000,9, -999.00,9, -999.00,9, -999.00,9,  22.9793, -52.3311,-999.000,-999.0000, -999.00,   2.0213,   2.3386,2,    35.0573,2,  -999.0,9,     -999.0,9,     -999.0,9,     -999.0,9,       0711
33AT20120419,        A20,      42,          1,          2,          2,2,20120501,       0657,    22.9794,   -52.3311,       4237,  4018.0,   2.2224,  34.8811,2,  34.8809,2,    250.6,2,   251.3,2,   44.83,2,   21.24,2,    0.00,2,    1.46,2,   0.066,2,   0.033,2,   0.004,2,    0.03,2,  2189.6,2,  2342.0,2,   7.7300,6,    25.00,-999.000,9,-999.0000,9, -999.00,9,   2.2219,2, -999.00,9,  -999.0,9,  -999.0,-999.000,9,-999.000,-999.000,9, -999.00,9, -999.00,9, -999.00,9,  22.9793, -52.3311,-999.000,-999.0000, -999.00,   1.8799,   2.2219,2,    35.0454,2,  -999.0,9,     -999.0,9,     -999.0,9,     -999.0,9,       0705
33AT20120419,        A20,      42,          1,          1,          1,2,20120501,       0657,    22.9794,   -52.3311,       4237,  4289.3,   2.1709,  34.8732,2,  34.8729,2,    250.8,2,   251.0,2,   47.09,2,   21.50,2,    0.00,2,    1.47,2,   0.083,2,   0.044,2,   0.004,2,    0.03,2,  2193.0,6,  2342.9,2,   7.7279,2,    25.00,-999.000,9,-999.0000,9, -999.00,9,   2.1692,2, -999.00,9,  -999.0,9,  -999.0,-999.000,9,-999.000,-999.000,9, -999.00,9, -999.00,9, -999.00,9,  22.9794, -52.3311,-999.000,-999.0000, -999.00,   1.7987,   2.1692,2,    35.0373,2,  -999.0,9,     -999.0,9,     -999.0,9,     -999.0,9,       0657