BOTTLE,20220712CCHSIOCBG
EXPOCODE,SECT_ID,STNNBR,CASTNO,SAMPNO,BTLNBR,BTLNBR_FLAG_W,DATE,TIME,LATITUDE,LONGITUDE,DEPTH,CTDPRS,CTDTMP,CTDSAL,CTDSAL_FLAG_W,SALNTY,SALNTY_FLAG_W,CTDOXY,CTDOXY_FLAG_W,OXYGEN,OXYGEN_FLAG_W,SILCAT,SILCAT_FLAG_W,NITRAT,NITRAT_FLAG_W,NITRIT,NITRIT_FLAG_W,PHSPHT,PHSPHT_FLAG_W,CFC-11,CFC-11_FLAG_W,CFC-12,CFC-12_FLAG_W,CFC113,CFC113_FLAG_W,SF6,SF6_FLAG_W,TCARBN,TCARBN_FLAG_W,ALKALI,ALKALI_FLAG_W,PH_TOT,PH_TOT_FLAG_W,PH_TMP,TRITUM,TRITUM_FLAG_W,HELIUM,HELIUM_FLAG_W,DELHE3,DELHE3_FLAG_W,REFTMP,REFTMP_FLAG_W,DELC13,DELC13_FLAG_W,DELC14,DELC14_FLAG_W,C14ERR,NEON,NEON_FLAG_W,NEONER,CCL4,CCL4_FLAG_W,DELO18,DELO18_FLAG_W,DOC,DOC_FLAG_W,TDN,TDN_FLAG_W,BTL_LAT,BTL_LON,TRITER,HELIER,DELHER,THETA,SBE35,SBE35_FLAG_W,SALTREF,SALTREF_FLAG_W,14C-DOC,14C-DOC_FLAG_W,DELO17,DELO17_FLAG_W,O2/AR,O2/AR_FLAG_W,SIP,SIP_FLAG_W,BTL_TIME
,,,,,,,,,,,METERS,DBAR,ITS-90,PSS-78,,PSS-78,,UMOL/KG,,UMOL/KG,,UMOL/KG,,UMOL/KG,,UMOL/KG,,UMOL/KG,,PMOL/KG,,PMOL/KG,,PMOL/KG,,FMOL/KG,,UMOL/KG,,UMOL/KG,,,,DEG C,TU,,NMOL/KG,,PERCNT,,DEG C,,/MILLE,,/MILLE,,/MILLE,NMOL/KG,,NMOL/KG,PMOL/KG,,/MILLE,,UMOL/KG,,UMOL/KG,,,,TU,NMOL/KG,PERCNT,DEG C,ITS-90,,G/KG,,/MILLE,,/MILLE,,,,,,
33AT20120419,        A20,      53,          1,         36,         36,2,20120505,       0004,    31.2476,   -52.3316,       4910,     3.6,  21.6448,  36.8741,2,  36.8748,2,    220.6,2,   220.5,2,    0.33,2,    0.00,2,    0.00,2,    0.00,2,   1.889,2,   1.243,2,   0.137,2,    1.14,3,  2090.4,2,  2413.4,2,   8.0488,2,    25.00,   0.572,2,   1.7385,2,   -1.14,2,  21.6279,2, -999.00,9,  -999.0,9,  -999.0,   6.934,2,   0.032,   1.170,2, -999.00,1,   68.55,2,    4.04,2,  31.2481, -52.3314,   0.011,   0.0073,    0.15,  21.6441,  21.6279,2,    37.0487,2,  -999.0,9,     -999.0,1,     -999.0,1,     -999.0,9,       0206
33AT20120419,        A20,      53,          1,         35,         35,2,20120505,       0004,    31.2476,   -52.3316,       4910,    24.4,  21.5967,  36.8739,2,  36.8730,2,    220.2,2,   220.7,2,    0.27,2,    0.00,2,    0.00,2,    0.00,2,   1.890,2,   1.234,2,   0.139,2,    1.07,3,  2089.8,6,  2413.1,2,   8.0486,6,    25.00,-999.000,9,-999.0000,9, -999.00,9,  21.5925,2, -999.00,9,  -999.0,9,  -999.0,-999.000,9,-999.000,   1.150,2, -999.00,9,   68.74,2,    3.58,2,  31.2480, -52.3314,-999.000,-999.0000, -999.00,  21.5919,  21.5925,2,    37.0469,2,  -999.0,9,     -999.0,9,     -999.0,9,     -999.0,9,       0204
33AT20120419,        A20,      53,          1,         34,         34,2,20120505,       0004,    31.2476,   -52.3316,       4910,    49.7,  20.7589,  36.8179,2,  36.8202,2,    224.5,2,   225.2,2,    0.36,2,    0.00,2,    0.00,2,    0.00,2,   1.947,2,   1.264,2,   0.134,2,    0.77,3,  -999.0,9,  -999.0,9,-999.0000,9,  -999.00,-999.000,9,-999.0000,9, -999.00,9,  20.7613,2, -999.00,9,  -999.0,9,  -999.0,-999.000,9,-999.000,   1.130,2, -999.00,9,   65.38,2,    3.77,2,  31.2480, -52.3314,-999.000,-999.0000, -999.00,  20.7494,  20.7613,2,    36.9938,2,  -999.0,9,     -999.0,9,     -999.0,9,     -999.0,9,       0202
33AT20120419,        A20,      53,          1,         33,         33,2,20120505,       0004,    31.2476,   -52.3316,       4910,    74.9,  20.4917,  36.8071,2,  36.7934,2,    224.4,2,   223.7,2,    0.35,2,    0.00,2,    0.00,2,    0.00,2,   1.969,2,   1.284,2,   0.139,2,    1.28,3,  2090.7,2,  2409.3,2,   8.0412,2,    25.00,   0.547,2,   1.7292,2,   -1.52,2,  20.4815,2, -999.00,9,  -999.0,9,  -999.0,   6.821,2,   0.031,   1.040,2, -999.00,9,   62.95,2,    3.62,2,  31.2481, -52.3314,   0.011,   0.0073,    0.15,  20.4775,  20.4815,2,    36.9669,2,  -999.0,9,     -999.0,9,     -999.0,9,     -999.0,9,       0200
33AT20120419,        A20,      53,          1,         32,         32,2,20120505,       0004,    31.2476,   -52.3316,       4910,   103.1,  19.4164,  36.6440,2,  36.6425,2,    214.6,2,   214.2,2,    0.50,2,    0.16,2,    0.02,2,    0.00,2,   2.042,2,   1.312,2,   0.118,2,    1.15,3,  2101.9,2,  2399.1,2,   8.0119,2,    25.00,-999.000,9,-999.0000,9, -999.00,9,  19.4134,2, -999.00,9,  -999.0,9,  -999.0,-999.000,9,-999.000,   0.690,2, -999.00,9,   59.31,2,    4.32,2,  31.2481, -52.3314,-999.000,-999.0000, -999.00,  19.3976,  19.4134,2,    36.8153,2,  -999.0,9,     -999.0,9,     -999.0,9,     -999.0,9,       0156
33AT20120419,        A20,      53,          1,         31,         31,2,20120505,       0004,    31.2476,   -52.3316,       4910,   152.7,  18.2977,  36.5762,2,  36.5749,2,    194.3,2,   196.2,2,    0.99,2,    3.75,2,    0.02,2,    0.14,2,   2.129,2,   1.345,2,   0.041,2,    1.07,3,  2121.4,2,  2392.4,2,   7.9667,2,    25.00,   0.502,2,   1.7421,2,   -0.59,2,  18.2947,2, -999.00,9,  -999.0,9,  -999.0,   7.012,2,   0.032,   0.250,2, -999.00,9,   54.91,2,    7.23,2,  31.2481, -52.3314,   0.011,   0.0073,    0.15,  18.2709,  18.2947,2,    36.7474,2,  -999.0,9,     -999.0,9,     -999.0,9,     -999.0,9,       0154
33AT20120419,        A20,      53,          1,         30,         30,2,20120505,       0004,    31.2476,   -52.3316,       4910,   202.8,  17.8878,  36.5379,2,  36.5380,2,    202.0,2,   202.0,2,    1.19,2,    4.41,2,    0.01,2,    0.19,2,   2.158,2,   1.359,2,   0.034,2,    1.36,3,  2118.4,2,  2388.6,6,   7.9683,2,    25.00,-999.000,9,-999.0000,9, -999.00,9,  17.8840,2, -999.00,9,  -999.0,9,  -999.0,-999.000,9,-999.000,   0.260,2, -999.00,9,   52.12,2,    7.50,2,  31.2480, -52.3314,-999.000,-999.0000, -999.00,  17.8528,  17.8840,2,    36.7103,2,  -999.0,9,     -999.0,9,     -999.0,9,     -999.0,9,       0152
33AT20120419,        A20,      53,          1,         29,         29,2,20120505,       0004,    31.2476,   -52.3316,       4910,   252.6,  17.6557,  36.5084,2,  36.5077,2,    204.4,2,   204.3,2,    1.31,2,    4.62,2,    0.01,2,    0.20,2,   2.172,2,   1.355,2,   0.035,2,    1.17,3,  2118.3,2,  2387.9,2,   7.9640,2,    25.00,   0.507,2,   1.7425,2,   -0.13,2,  17.6565,2, -999.00,9,  -999.0,9,  -999.0,   7.011,2,   0.032,   0.280,2, -999.00,9,   50.22,2,    8.28,2,  31.2480, -52.3315,   0.011,   0.0073,    0.15,  17.6124,  17.6565,2,    36.6798,2,  -999.0,9,     -999.0,9,     -999.0,9,     -999.0,9,       0150
33AT20120419,        A20,      53,          1,         28,         28,2,20120505,       0004,    31.2476,   -52.3316,       4910,   301.1,  17.3989,  36.4695,2,  36.4687,2,    206.3,2,   205.8,2,    1.35,2,    4.96,2,    0.01,2,    0.23,2,   2.204,2,   1.385,2,   0.041,2,    1.12,3,  -999.0,9,  -999.0,9,-999.0000,9,  -999.00,-999.000,9,-999.0000,9, -999.00,9,  17.3970,2, -999.00,9,  -999.0,9,  -999.0,-999.000,9,-999.000,   0.300,2, -999.00,9,   49.41,2,    8.73,2,  31.2479, -52.3315,-999.000,-999.0000, -999.00,  17.3478,  17.3970,2,    36.6406,2,  -999.0,9,     -999.0,9,     -999.0,9,     -999.0,9,       0148
33AT20120419,        A20,      53,          1,         27,         27,2,20120505,       0004,    31.2476,   -52.3316,       4910,   354.4,  17.1170,  36.4146,2,  36.4120,2,    202.9,2,   204.0,2,    1.70,2,    5.65,2,    0.01,2,    0.28,2,   2.206,2,   1.369,2,   0.038,2,    1.47,3,  2121.5,2,  2382.2,2,   7.9485,2,    25.00,   0.494,2,   1.7442,2,   -0.05,2,  17.1148,2, -999.00,9,  -999.0,9,  -999.0,   6.980,3,   0.032,   0.310,2, -999.00,9,   48.26,2,    9.27,2,  31.2480, -52.3314,   0.011,   0.0073,    0.15,  17.0574,  17.1148,2,    36.5837,2,  -999.0,9,     -999.0,9,     -999.0,9,     -999.0,9,       0146
33AT20120419,        A20,      53,          1,         26,         26,2,20120505,       0004,    31.2476,   -52.3316,       4910,   402.8,  16.5899,  36.3082,2,  36.3041,2,    198.7,2,   197.5,2,    2.17,2,    6.99,2,    0.01,2,    0.37,2,   2.242,2,   1.381,2,   0.031,2,    1.14,3,  2129.2,2,  2378.1,2,   7.9287,2,    25.00,-999.000,9,-999.0000,9, -999.00,9,  16.5872,2, -999.00,9,  -999.0,9,  -999.0,-999.000,9,-999.000,   0.300,2, -999.00,9,   47.07,2,   10.17,2,  31.2480, -52.3314,-999.000,-999.0000, -999.00,  16.5236,  16.5872,2,    36.4752,2,  -999.0,9,     -999.0,9,     -999.0,9,     -999.0,9,       0144
33AT20120419,        A20,      53,          1,         25,         25,2,20120505,       0004,    31.2476,   -52.3316,       4910,   502.8,  14.9903,  36.0142,2,  36.0109,2,    188.2,2,   188.5,2,    3.61,2,   10.26,2,    0.01,2,    0.59,2,   2.279,2,   1.368,2,   0.035,2,    0.80,3,  2140.7,2,  2361.4,2,   7.8767,6,    25.00,   0.539,2,   1.7596,2,    2.17,2,  14.9872,2, -999.00,9,  -999.0,9,  -999.0,   7.139,2,   0.033,   0.300,2, -999.00,9,   46.82,2,   13.69,2,  31.2480, -52.3314,   0.011,   0.0074,    0.15,  14.9128,  14.9872,2,    36.1807,2,  -999.0,9,     -999.0,9,     -999.0,9,     -999.0,9,       0142
33AT20120419,        A20,      53,          1,         24,         24,2,20120505,       0004,    31.2476,   -52.3316,       4910,   604.8,  13.5371,  35.7854,2,  35.7830,2,    177.9,2,   177.3,2,    5.39,2,   13.70,2,    0.00,2,    0.81,2,   2.106,2,   1.278,2,   0.030,2,    0.83,3,  2155.1,2,  2354.2,2,   7.8263,2,    25.00,   0.530,2,   1.7717,2,    3.27,2,  13.5303,2, -999.00,9,  -999.0,9,  -999.0,   7.329,2,   0.034,   0.280,2, -999.00,9,   45.81,2,   16.43,2,  31.2481, -52.3314,   0.011,   0.0074,    0.15,  13.4498,  13.5303,2,    35.9517,2,  -999.0,9,     -999.0,9,     -999.0,9,     -999.0,9,       0139
33AT20120419,        A20,      53,          1,         23,         23,2,20120505,       0004,    31.2476,   -52.3316,       4910,   707.4,  11.7224,  35.5269,2,  35.5290,2,    162.7,2,   161.6,2,    8.30,2,   18.14,2,    0.00,2,    1.10,2,   1.818,2,   1.044,2,   0.025,2,    0.78,3,  2173.3,2,  2347.4,3,   7.7619,2,    25.00,   0.455,2,   1.7772,2,    5.30,2,  11.7053,2, -999.00,9,  -999.0,9,  -999.0,   7.475,2,   0.034,   0.250,2, -999.00,9,   44.26,2,   20.40,2,  31.2481, -52.3314,   0.010,   0.0075,    0.15,  11.6290,  11.7053,2,    35.6965,2,  -999.0,9,     -999.0,9,     -999.0,9,     -999.0,9,       0137
33AT20120419,        A20,      53,          1,         22,         22,2,20120505,       0004,    31.2476,   -52.3316,       4910,   807.6,   9.3606,  35.2767,2,  35.2788,2,    157.1,2,   157.6,2,   11.99,2,   21.86,2,    0.00,2,    1.37,2,   1.339,2,   0.743,2,   0.019,2,    0.43,3,  2186.4,6,  2331.5,2,   7.7052,6,    25.00,-999.000,9,   1.7967,2,    7.34,2,   9.3645,2, -999.00,9,  -999.0,9,  -999.0,   7.516,2,   0.035,   0.250,2, -999.00,9,   43.75,2,   24.55,2,  31.2481, -52.3314,-999.000,   0.0075,    0.15,   9.2674,   9.3645,2,    35.4451,2,  -999.0,9,     -999.0,9,     -999.0,9,     -999.0,9,       0134
33AT20120419,        A20,      53,          1,         21,         21,2,20120505,       0004,    31.2476,   -52.3316,       4910,   908.6,   7.7998,  35.1679,2,  35.1673,2,    170.7,2,   174.5,2,   13.33,2,   22.02,2,    0.00,2,    1.41,2,   1.329,2,   0.728,2,   0.030,2,    0.24,3,  2189.3,2,  2322.2,2,   7.6918,2,    25.00,   0.351,6,   1.8080,2,    7.30,2,   7.8004,2, -999.00,9,  -999.0,9,  -999.0,   7.631,2,   0.035,   0.390,2, -999.00,9,   42.31,2,   24.71,2,  31.2480, -52.3315,   0.008,   0.0076,    0.15,   7.7048,   7.8004,2,    35.3331,2,  -999.0,9,     -999.0,9,     -999.0,9,     -999.0,9,       0131
33AT20120419,        A20,      53,          1,         20,         20,2,20120505,       0004,    31.2476,   -52.3316,       4910,  1008.6,   6.6250,  35.1227,2,  35.1233,2,    196.7,2,   198.0,2,   13.21,2,   20.91,2,    0.00,2,    1.35,2,   1.472,2,   0.800,2,   0.047,2,    0.51,3,  2184.3,2,  2320.8,2,   7.6976,2,    25.00,   0.358,2,   1.8244,2,    6.84,2,   6.6263,2, -999.00,9,  -999.0,9,  -999.0,   7.841,2,   0.036,   0.550,2, -999.00,9,   42.39,2,   22.91,2,  31.2480, -52.3314,   0.010,   0.0077,    0.15,   6.5276,   6.6263,2,    35.2890,2,  -999.0,9,     -999.0,9,     -999.0,9,     -999.0,9,       0129
33AT20120419,        A20,      53,          1,         19,         19,2,20120505,       0004,    31.2476,   -52.3316,       4910,  1110.9,   5.9242,  35.1094,2,  35.1109,2,    217.7,2,   218.2,2,   12.61,2,   19.55,2,    0.00,2,    1.27,2,   1.805,2,   0.979,2,   0.076,2,    0.56,3,  2180.6,2,  2320.7,2,   7.7088,2,    25.00,   0.373,2,   1.8265,2,    7.10,2,   5.9337,2, -999.00,9,  -999.0,9,  -999.0,   7.595,3,   0.035,   0.800,2, -999.00,9,   42.04,2,   21.94,2,  31.2480, -52.3314,   0.010,   0.0077,    0.15,   5.8220,   5.9337,2,    35.2765,2,  -999.0,9,     -999.0,9,     -999.0,9,     -999.0,9,       0126
33AT20120419,        A20,      53,          1,         18,         18,2,20120505,       0004,    31.2476,   -52.3316,       4910,  1211.2,   5.5205,  35.1037,2,  35.1040,2,    229.0,2,   229.0,2,   12.42,2,   19.03,2,    0.00,2,    1.24,2,   1.779,2,   0.964,2,   0.084,2,    0.32,3,  -999.0,9,  -999.0,9,-999.0000,9,  -999.00,   0.392,2,   1.8188,2,    6.98,2,   5.5217,2, -999.00,9,  -999.0,9,  -999.0,   7.710,2,   0.035,   0.850,2, -999.00,9,   42.36,2,   21.72,2,  31.2479, -52.3315,   0.010,   0.0076,    0.15,   5.4119,   5.5217,2,    35.2696,2,  -999.0,9,     -999.0,9,     -999.0,9,     -999.0,9,       0124
33AT20120419,        A20,      53,          1,         17,         17,2,20120505,       0004,    31.2476,   -52.3316,       4910,  1312.3,   5.2788,  35.1121,2,  35.1135,2,    232.0,2,   232.8,2,   12.99,2,   18.92,2,    0.00,2,    1.23,2,   1.487,2,   0.800,2,   0.066,2,    0.21,3,  2176.0,2,  2320.9,2,   7.7229,2,    25.00,   0.337,2,   1.8278,2,    7.81,2,   5.2787,2, -999.00,9,  -999.0,9,  -999.0,   8.061,2,   0.037,   0.790,2, -999.00,9,   42.32,2,   21.12,2,  31.2480, -52.3315,   0.010,   0.0077,    0.15,   5.1625,   5.2787,2,    35.2790,2,  -999.0,9,     -999.0,9,     -999.0,9,     -999.0,9,       0121
33AT20120419,        A20,      53,          1,         16,         16,2,20120505,       0004,    31.2476,   -52.3316,       4910,  1415.0,   4.9840,  35.0939,2,  35.0948,2,    239.7,2,   239.2,2,   13.13,2,   18.66,2,    0.00,2,    1.21,2,   1.494,2,   0.800,2,   0.070,2,    0.17,3,  -999.0,9,  -999.0,9,-999.0000,9,  -999.00,   0.354,2,   1.8332,2,    7.73,2,   4.9842,2, -999.00,9,  -999.0,9,  -999.0,   7.992,2,   0.037,   0.830,2, -999.00,9,   42.28,2,   20.68,2,  31.2479, -52.3315,   0.010,   0.0077,    0.15,   4.8607,   4.9842,2,    35.2602,2,  -999.0,9,     -999.0,9,     -999.0,9,     -999.0,9,       0118
33AT20120419,        A20,      53,          1,         15,         15,2,20120505,       0004,    31.2476,   -52.3316,       4910,  1517.5,   4.8541,  35.0995,2,  35.1011,2,    239.5,2,   239.6,2,   14.13,2,   18.72,2,    0.00,2,    1.22,2,   1.162,2,   0.614,2,   0.048,2,    0.00,3,  2174.2,2,  2322.4,2,   7.7293,2,    25.00,   0.300,2,   1.8380,2,    8.21,2,   4.8533,2, -999.00,9,  -999.0,9,  -999.0,   7.956,2,   0.037,   0.690,2, -999.00,9,   41.66,2,   20.63,2,  31.2479, -52.3315,   0.010,   0.0077,    0.15,   4.7223,   4.8533,2,    35.2666,2,  -999.0,9,     -999.0,9,     -999.0,9,     -999.0,9,       0116
33AT20120419,        A20,      53,          1,         14,         14,2,20120505,       0004,    31.2476,   -52.3316,       4910,  1614.6,   4.6998,  35.0982,2,  35.0997,2,    240.8,2,   240.3,2,   15.10,2,   18.78,2,    0.00,2,    1.22,2,   0.894,2,   0.461,2,   0.032,2,    0.00,3,  2173.3,2,  2323.0,2,   7.7330,2,    25.00,   0.275,2,   1.8303,2,    7.88,2,   4.7026,2, -999.00,9,  -999.0,9,  -999.0,   7.989,2,   0.037,   0.610,2, -999.00,9,   41.62,2,   21.07,2,  31.2479, -52.3315,   0.010,   0.0077,    0.15,   4.5603,   4.7026,2,    35.2652,2,  -999.0,9,     -999.0,9,     -999.0,9,     -999.0,9,       0113
33AT20120419,        A20,      53,          1,         13,         13,2,20120505,       0004,    31.2476,   -52.3316,       4910,  1819.1,   4.1692,  35.0510,2,  35.0526,2,    248.6,2,   248.5,2,   16.89,2,   18.66,2,    0.00,2,    1.22,2,   0.748,2,   0.401,2,   0.029,2,    0.00,3,  2170.1,2,  2321.3,2,   7.7358,2,    25.00,   0.225,2,   1.8596,2,    6.71,2,   4.1699,2, -999.00,9,  -999.0,9,  -999.0,   8.033,2,   0.037,   0.570,2, -999.00,9,   41.67,2,   20.89,2,  31.2479, -52.3315,   0.010,   0.0078,    0.15,   4.0166,   4.1699,2,    35.2179,2,  -999.0,9,     -999.0,9,     -999.0,9,     -999.0,9,       0109
33AT20120419,        A20,      53,          1,         12,         12,2,20120505,       0004,    31.2476,   -52.3316,       4910,  2020.7,   3.7458,  35.0089,2,  35.0099,2,    252.7,2,   253.0,2,   18.58,2,   18.58,2,    0.00,2,    1.23,2,   0.693,2,   0.381,2,   0.026,2,    0.00,3,  2169.6,2,  2320.2,2,   7.7363,2,    25.00,   0.204,2,   1.8396,2,    7.09,2,   3.7454,2, -999.00,9,  -999.0,9,  -999.0,   8.042,2,   0.037,   0.570,2, -999.00,9,   42.35,2,   20.89,2,  31.2479, -52.3315,   0.010,   0.0077,    0.15,   3.5799,   3.7454,2,    35.1750,2,  -999.0,9,     -999.0,9,     -999.0,9,     -999.0,9,       0105
33AT20120419,        A20,      53,          1,         11,         11,2,20120505,       0004,    31.2476,   -52.3316,       4910,  2275.5,   3.4506,  34.9864,2,  34.9869,2,    254.0,2,   254.1,2,   21.36,2,   18.81,2,    0.00,2,    1.26,2,   0.470,2,   0.266,2,   0.016,2,    0.00,3,  2172.8,2,  2326.6,6,   7.7385,2,    25.00,-999.000,9,   1.8479,2,    6.30,2,   3.4494,2, -999.00,9,  -999.0,9,  -999.0,   8.158,2,   0.038,   0.430,2, -999.00,9,   42.26,2,   21.08,2,  31.2478, -52.3316,-999.000,   0.0078,    0.15,   3.2646,   3.4494,2,    35.1518,2,  -999.0,9,     -999.0,9,     -999.0,9,     -999.0,9,       0059
33AT20120419,        A20,      53,          1,         10,         10,2,20120505,       0004,    31.2476,   -52.3316,       4910,  2535.5,   3.1915,  34.9657,2,  34.9654,2,    254.0,2,   254.4,2,   24.23,2,   19.06,2,    0.00,2,    1.28,2,   0.323,2,   0.191,2,   0.011,2,    0.00,3,  -999.0,9,  -999.0,9,-999.0000,9,  -999.00,-999.000,9,-999.0000,9, -999.00,9,   3.1913,2, -999.00,9,  -999.0,9,  -999.0,-999.000,9,-999.000,   0.330,2, -999.00,9,   42.24,2,   21.95,2,  31.2480, -52.3314,-999.000,-999.0000, -999.00,   2.9844,   3.1913,2,    35.1303,2,  -999.0,9,     -999.0,9,     -999.0,9,     -999.0,9,       0054
33AT20120419,        A20,      53,          1,          9,          9,2,20120505,       0004,    31.2476,   -52.3316,       4910,  2785.3,   3.0439,  34.9562,2,  34.9566,2,    252.8,2,   252.8,2,   27.62,2,   19.56,2,    0.00,2,    1.32,2,   0.148,2,   0.094,2,   0.004,2,    0.00,3,  2175.7,2,  2330.6,2,   7.7401,2,    25.00,   0.059,2,   1.8466,2,    4.45,2,   3.0446,2, -999.00,9,  -999.0,9,  -999.0,   8.137,2,   0.037,   0.220,2, -999.00,9,   41.82,2,   22.34,2,  31.2480, -52.3314,   0.010,   0.0078,    0.15,   2.8144,   3.0446,2,    35.1214,2,  -999.0,9,     -999.0,9,     -999.0,9,     -999.0,9,       0049
33AT20120419,        A20,      53,          1,          8,          8,2,20120505,       0004,    31.2476,   -52.3316,       4910,  3042.1,   2.8560,  34.9412,2,  34.9406,2,    253.5,2,   254.7,2,   29.69,2,   19.71,2,    0.00,2,    1.34,2,   0.095,2,   0.062,2,   0.004,2,    0.00,3,  -999.0,9,  -999.0,9,-999.0000,9,  -999.00,-999.000,9,-999.0000,9, -999.00,9,   2.8568,2, -999.00,9,  -999.0,9,  -999.0,-999.000,9,-999.000,   0.170,2, -999.00,9,   42.33,2,   22.71,2,  31.2479, -52.3315,-999.000,-999.0000, -999.00,   2.6039,   2.8568,2,    35.1054,2,  -999.0,9,     -999.0,9,     -999.0,9,     -999.0,9,       0044
33AT20120419,        A20,      53,          1,          7,          7,2,20120505,       0004,    31.2476,   -52.3316,       4910,  3344.5,   2.6656,  34.9254,2,  34.9249,2,    257.2,2,   257.6,2,   30.58,2,   19.58,2,    0.00,2,    1.32,2,   0.108,2,   0.068,2,   0.006,2,    0.00,3,  2174.7,2,  2330.4,6,   7.7417,2,    25.00,-999.000,9,-999.0000,9, -999.00,9,   2.6665,2, -999.00,9,  -999.0,9,  -999.0,-999.000,9,-999.000,   0.190,2, -999.00,9,   42.03,2,   22.32,2,  31.2482, -52.3314,-999.000,-999.0000, -999.00,   2.3858,   2.6665,2,    35.0896,2,  -999.0,9,     -999.0,9,     -999.0,9,     -999.0,9,       0038