BOTTLE,20220712CCHSIOCBG
EXPOCODE,SECT_ID,STNNBR,CASTNO,SAMPNO,BTLNBR,BTLNBR_FLAG_W,DATE,TIME,LATITUDE,LONGITUDE,DEPTH,CTDPRS,CTDTMP,CTDSAL,CTDSAL_FLAG_W,SALNTY,SALNTY_FLAG_W,CTDOXY,CTDOXY_FLAG_W,OXYGEN,OXYGEN_FLAG_W,SILCAT,SILCAT_FLAG_W,NITRAT,NITRAT_FLAG_W,NITRIT,NITRIT_FLAG_W,PHSPHT,PHSPHT_FLAG_W,CFC-11,CFC-11_FLAG_W,CFC-12,CFC-12_FLAG_W,CFC113,CFC113_FLAG_W,SF6,SF6_FLAG_W,TCARBN,TCARBN_FLAG_W,ALKALI,ALKALI_FLAG_W,PH_TOT,PH_TOT_FLAG_W,PH_TMP,TRITUM,TRITUM_FLAG_W,HELIUM,HELIUM_FLAG_W,DELHE3,DELHE3_FLAG_W,REFTMP,REFTMP_FLAG_W,DELC13,DELC13_FLAG_W,DELC14,DELC14_FLAG_W,C14ERR,NEON,NEON_FLAG_W,NEONER,CCL4,CCL4_FLAG_W,DELO18,DELO18_FLAG_W,DOC,DOC_FLAG_W,TDN,TDN_FLAG_W,BTL_LAT,BTL_LON,TRITER,HELIER,DELHER,THETA,SBE35,SBE35_FLAG_W,SALTREF,SALTREF_FLAG_W,14C-DOC,14C-DOC_FLAG_W,DELO17,DELO17_FLAG_W,O2/AR,O2/AR_FLAG_W,SIP,SIP_FLAG_W,BTL_TIME
,,,,,,,,,,,METERS,DBAR,ITS-90,PSS-78,,PSS-78,,UMOL/KG,,UMOL/KG,,UMOL/KG,,UMOL/KG,,UMOL/KG,,UMOL/KG,,PMOL/KG,,PMOL/KG,,PMOL/KG,,FMOL/KG,,UMOL/KG,,UMOL/KG,,,,DEG C,TU,,NMOL/KG,,PERCNT,,DEG C,,/MILLE,,/MILLE,,/MILLE,NMOL/KG,,NMOL/KG,PMOL/KG,,/MILLE,,UMOL/KG,,UMOL/KG,,,,TU,NMOL/KG,PERCNT,DEG C,ITS-90,,G/KG,,/MILLE,,/MILLE,,,,,,
33AT20120419,        A20,      62,          1,          6,          6,2,20120507,       2351,    38.0034,   -52.3035,       5408,  3963.8,   2.3974,  34.8995,2,  34.9004,2,    267.2,2,   266.8,3,   26.57,2,   18.23,2,    0.00,2,    1.25,2,   1.045,2,   0.484,2,   0.063,2,    0.28,2,  -999.0,9,  -999.0,9,-999.0000,9,  -999.00,-999.000,9,-999.0000,9, -999.00,9,   2.3972,2, -999.00,9,  -999.0,9,  -999.0,-999.000,9,-999.000,-999.000,9, -999.00,9, -999.00,9, -999.00,9,  38.0049, -52.2954,-999.000,-999.0000, -999.00,   2.0561,   2.3972,2,    35.0650,2,  -999.0,9,     -999.0,9,     -999.0,9,     -999.0,9,       0020
33AT20120419,        A20,      62,          1,          5,          5,2,20120507,       2351,    38.0034,   -52.3035,       5408,  4271.0,   2.3165,  34.8918,2,  34.8926,2,    265.9,2,   341.6,4,   28.91,2,   18.48,2,    0.00,2,    1.27,2,   1.082,2,   0.519,2,   0.071,2,    0.29,2,  2171.8,2,  2325.7,2,   7.7332,2,    25.00,-999.000,9,-999.0000,9, -999.00,9,   2.3163,2, -999.00,9,  -999.0,9,  -999.0,-999.000,9,-999.000,-999.000,9, -999.00,9, -999.00,9, -999.00,9,  38.0046, -52.2969,-999.000,-999.0000, -999.00,   1.9420,   2.3163,2,    35.0571,2,  -999.0,9,     -999.0,9,     -999.0,9,     -999.0,9,       0015
33AT20120419,        A20,      62,          1,          4,          4,2,20120507,       2351,    38.0034,   -52.3035,       5408,  4577.7,   2.2885,  34.8865,2,  34.8875,2,    264.4,2,   265.1,2,   31.41,2,   18.85,2,    0.00,2,    1.30,2,   1.019,2,   0.486,2,   0.068,2,    0.32,2,  -999.0,9,  -999.0,9,-999.0000,9,  -999.00,-999.000,9,-999.0000,9, -999.00,9,   2.2882,2, -999.00,9,  -999.0,9,  -999.0,-999.000,9,-999.000,-999.000,9, -999.00,9, -999.00,9, -999.00,9,  38.0043, -52.2985,-999.000,-999.0000, -999.00,   1.8783,   2.2882,2,    35.0520,2,  -999.0,9,     -999.0,9,     -999.0,9,     -999.0,9,       0009
33AT20120419,        A20,      62,          1,          3,          3,2,20120507,       2351,    38.0034,   -52.3035,       5408,  4885.3,   2.2793,  34.8822,2,  34.8829,2,    263.4,2,   263.3,2,   33.74,2,   19.20,2,    0.00,2,    1.32,2,   0.973,2,   0.465,2,   0.073,2,    0.29,2,  2179.5,2,  2330.9,2,   7.7300,6,    25.00,-999.000,9,-999.0000,9, -999.00,9,   2.2787,2, -999.00,9,  -999.0,9,  -999.0,-999.000,9,-999.000,-999.000,9, -999.00,9, -999.00,9, -999.00,9,  38.0040, -52.3001,-999.000,-999.0000, -999.00,   1.8317,   2.2787,2,    35.0474,2,  -999.0,9,     -999.0,9,     -999.0,9,     -999.0,9,       0003
33AT20120419,        A20,      62,          1,          2,          2,2,20120507,       2351,    38.0034,   -52.3035,       5408,  5194.9,   2.2748,  34.8773,2,  34.8774,2,    260.2,2,   260.9,2,   37.44,2,   19.79,2,    0.00,2,    1.37,2,   0.810,2,   0.378,2,   0.055,2,    0.24,2,  -999.0,9,  -999.0,9,-999.0000,9,  -999.00,-999.000,9,-999.0000,9, -999.00,9,   2.2745,2, -999.00,9,  -999.0,9,  -999.0,-999.000,9,-999.000,-999.000,9, -999.00,9, -999.00,9, -999.00,9,  38.0036, -52.3017,-999.000,-999.0000, -999.00,   1.7882,   2.2745,2,    35.0419,2,  -999.0,9,     -999.0,9,     -999.0,9,     -999.0,9,       2357
33AT20120419,        A20,      62,          1,          1,          1,2,20120507,       2351,    38.0034,   -52.3035,       5408,  5502.0,   2.2389,  34.8678,2,  34.8686,2,    255.5,2,   255.2,2,   44.13,2,   20.88,2,    0.03,2,    1.47,2,   0.480,2,   0.221,2,   0.031,2,    0.09,2,  2190.6,6,  2345.2,2,   7.7262,2,    25.00,-999.000,9,-999.0000,9, -999.00,9,   2.2391,2, -999.00,9,  -999.0,9,  -999.0,-999.000,9,-999.000,-999.000,9, -999.00,9, -999.00,9, -999.00,9,  38.0034, -52.3035,-999.000,-999.0000, -999.00,   1.7137,   2.2391,2,    35.0330,2,  -999.0,9,     -999.0,9,     -999.0,9,     -999.0,9,       2351