BOTTLE,20220712CCHSIOCBG
EXPOCODE,SECT_ID,STNNBR,CASTNO,SAMPNO,BTLNBR,BTLNBR_FLAG_W,DATE,TIME,LATITUDE,LONGITUDE,DEPTH,CTDPRS,CTDTMP,CTDSAL,CTDSAL_FLAG_W,SALNTY,SALNTY_FLAG_W,CTDOXY,CTDOXY_FLAG_W,OXYGEN,OXYGEN_FLAG_W,SILCAT,SILCAT_FLAG_W,NITRAT,NITRAT_FLAG_W,NITRIT,NITRIT_FLAG_W,PHSPHT,PHSPHT_FLAG_W,CFC-11,CFC-11_FLAG_W,CFC-12,CFC-12_FLAG_W,CFC113,CFC113_FLAG_W,SF6,SF6_FLAG_W,TCARBN,TCARBN_FLAG_W,ALKALI,ALKALI_FLAG_W,PH_TOT,PH_TOT_FLAG_W,PH_TMP,TRITUM,TRITUM_FLAG_W,HELIUM,HELIUM_FLAG_W,DELHE3,DELHE3_FLAG_W,REFTMP,REFTMP_FLAG_W,DELC13,DELC13_FLAG_W,DELC14,DELC14_FLAG_W,C14ERR,NEON,NEON_FLAG_W,NEONER,CCL4,CCL4_FLAG_W,DELO18,DELO18_FLAG_W,DOC,DOC_FLAG_W,TDN,TDN_FLAG_W,BTL_LAT,BTL_LON,TRITER,HELIER,DELHER,THETA,SBE35,SBE35_FLAG_W,SALTREF,SALTREF_FLAG_W,14C-DOC,14C-DOC_FLAG_W,DELO17,DELO17_FLAG_W,O2/AR,O2/AR_FLAG_W,SIP,SIP_FLAG_W,BTL_TIME
,,,,,,,,,,,METERS,DBAR,ITS-90,PSS-78,,PSS-78,,UMOL/KG,,UMOL/KG,,UMOL/KG,,UMOL/KG,,UMOL/KG,,UMOL/KG,,PMOL/KG,,PMOL/KG,,PMOL/KG,,FMOL/KG,,UMOL/KG,,UMOL/KG,,,,DEG C,TU,,NMOL/KG,,PERCNT,,DEG C,,/MILLE,,/MILLE,,/MILLE,NMOL/KG,,NMOL/KG,PMOL/KG,,/MILLE,,UMOL/KG,,UMOL/KG,,,,TU,NMOL/KG,PERCNT,DEG C,ITS-90,,G/KG,,/MILLE,,/MILLE,,,,,,
33AT20120419,        A20,      41,          1,          6,          6,2,20120430,       2306,    22.2254,   -52.3303,       5091,  3955.7,   2.2606,  34.8852,2,  34.8856,2,    252.3,2,   252.0,2,   42.91,2,   21.07,2,    0.00,2,    1.44,2,   0.060,2,   0.040,2,   0.003,2,    0.00,3,  2186.4,2,  2338.3,2,   7.7304,2,    25.00,   0.010,2,   1.8735,2,    3.52,2,   2.2607,2, -999.00,9,  -999.0,9,  -999.0,   8.095,2,   0.037,   0.140,2, -999.00,1,   40.44,2,   24.32,2,  22.2246, -52.3298,   0.011,   0.0079,    0.15,   1.9241,   2.2607,2,    35.0501,2,  -999.0,9,     -999.0,1,     -999.0,1,     -999.0,9,       2334
33AT20120419,        A20,      41,          1,          5,          5,2,20120430,       2306,    22.2254,   -52.3303,       5091,  4268.8,   2.1552,  34.8722,2,  34.8719,2,    250.9,2,   250.6,2,   47.63,2,   21.65,2,    0.00,2,    1.49,2,   0.045,2,   0.031,2,   0.003,2,    0.00,3,  -999.0,9,  -999.0,9,-999.0000,9,  -999.00,-999.000,9,-999.0000,9, -999.00,9,   2.1558,2, -999.00,9,  -999.0,9,  -999.0,-999.000,9,-999.000,   0.120,2, -999.00,9,   40.11,2,   24.01,2,  22.2247, -52.3299,-999.000,-999.0000, -999.00,   1.7858,   2.1558,2,    35.0363,2,  -999.0,9,     -999.0,9,     -999.0,9,     -999.0,9,       2328
33AT20120419,        A20,      41,          1,          4,          4,2,20120430,       2306,    22.2254,   -52.3303,       5091,  4574.4,   2.1113,  34.8643,2,  34.8638,2,    249.0,2,   249.6,2,   49.92,2,   21.94,2,    0.00,2,    1.52,2,   0.057,2,   0.037,2,   0.004,2,    0.00,3,  2194.4,2,  2343.6,2,   7.7239,2,    25.00,   0.017,2,   1.8854,2,    3.77,2,   2.1116,2, -999.00,9,  -999.0,9,  -999.0,   8.220,2,   0.038,   0.130,2, -999.00,1,   39.77,2,   24.63,2,  22.2249, -52.3300,   0.011,   0.0079,    0.15,   1.7072,   2.1116,2,    35.0282,2,  -999.0,9,     -999.0,1,     -999.0,1,     -999.0,9,       2322
33AT20120419,        A20,      41,          1,          3,          3,2,20120430,       2306,    22.2254,   -52.3303,       5091,  4884.0,   2.0908,  34.8586,2,  34.8579,2,    249.4,2,   249.5,2,   51.22,2,   22.10,2,    0.00,2,    1.52,2,   0.096,2,   0.062,2,   0.007,2,    0.00,3,  -999.0,9,  -999.0,9,-999.0000,9,  -999.00,-999.000,9,-999.0000,9, -999.00,9,   2.0909,2, -999.00,9,  -999.0,9,  -999.0,-999.000,9,-999.000,   0.170,2, -999.00,9,   40.36,2,   25.09,2,  22.2250, -52.3300,-999.000,-999.0000, -999.00,   1.6497,   2.0909,2,    35.0223,2,  -999.0,9,     -999.0,9,     -999.0,9,     -999.0,9,       2316
33AT20120419,        A20,      41,          1,          2,          2,2,20120430,       2306,    22.2254,   -52.3303,       5091,  5032.4,   2.0608,  34.8531,2,  34.8534,2,    248.3,2,   248.5,2,   53.44,2,   22.38,2,    0.00,2,    1.54,2,   0.093,2,   0.058,2,   0.008,2,    0.00,3,  -999.0,9,  -999.0,9,-999.0000,9,  -999.00,-999.000,9,-999.0000,9, -999.00,9,   2.0604,2, -999.00,9,  -999.0,9,  -999.0,-999.000,9,-999.000,   0.170,2, -999.00,9,   40.53,2,   25.47,2,  22.2252, -52.3301,-999.000,-999.0000, -999.00,   1.6023,   2.0604,2,    35.0178,2,  -999.0,9,     -999.0,9,     -999.0,9,     -999.0,9,       2312
33AT20120419,        A20,      41,          1,          1,          1,2,20120430,       2306,    22.2254,   -52.3303,       5091,  5234.6,   2.0621,  34.8506,2,  34.8503,2,    247.9,2,   248.1,2,   54.18,2,   22.49,2,    0.00,2,    1.55,2,   0.103,2,   0.066,2,   0.005,2,    0.00,3,  2200.4,2,  2345.5,2,   7.7153,2,    25.00,   0.049,2,   1.8837,2,    4.45,2,   2.0623,2, -999.00,9,  -999.0,9,  -999.0,   8.205,2,   0.038,   0.170,2, -999.00,1,   40.16,2,   25.17,2,  22.2254, -52.3302,   0.011,   0.0079,    0.15,   1.5780,   2.0623,2,    35.0146,2,  -999.0,9,     -999.0,1,     -999.0,1,     -999.0,9,       2308