BOTTLE,20220712CCHSIOCBG
EXPOCODE,SECT_ID,STNNBR,CASTNO,SAMPNO,BTLNBR,BTLNBR_FLAG_W,DATE,TIME,LATITUDE,LONGITUDE,DEPTH,CTDPRS,CTDTMP,CTDSAL,CTDSAL_FLAG_W,SALNTY,SALNTY_FLAG_W,CTDOXY,CTDOXY_FLAG_W,OXYGEN,OXYGEN_FLAG_W,SILCAT,SILCAT_FLAG_W,NITRAT,NITRAT_FLAG_W,NITRIT,NITRIT_FLAG_W,PHSPHT,PHSPHT_FLAG_W,CFC-11,CFC-11_FLAG_W,CFC-12,CFC-12_FLAG_W,CFC113,CFC113_FLAG_W,SF6,SF6_FLAG_W,TCARBN,TCARBN_FLAG_W,ALKALI,ALKALI_FLAG_W,PH_TOT,PH_TOT_FLAG_W,PH_TMP,TRITUM,TRITUM_FLAG_W,HELIUM,HELIUM_FLAG_W,DELHE3,DELHE3_FLAG_W,REFTMP,REFTMP_FLAG_W,DELC13,DELC13_FLAG_W,DELC14,DELC14_FLAG_W,C14ERR,NEON,NEON_FLAG_W,NEONER,CCL4,CCL4_FLAG_W,DELO18,DELO18_FLAG_W,DOC,DOC_FLAG_W,TDN,TDN_FLAG_W,BTL_LAT,BTL_LON,TRITER,HELIER,DELHER,THETA,SBE35,SBE35_FLAG_W,SALTREF,SALTREF_FLAG_W,14C-DOC,14C-DOC_FLAG_W,DELO17,DELO17_FLAG_W,O2/AR,O2/AR_FLAG_W,SIP,SIP_FLAG_W,BTL_TIME
,,,,,,,,,,,METERS,DBAR,ITS-90,PSS-78,,PSS-78,,UMOL/KG,,UMOL/KG,,UMOL/KG,,UMOL/KG,,UMOL/KG,,UMOL/KG,,PMOL/KG,,PMOL/KG,,PMOL/KG,,FMOL/KG,,UMOL/KG,,UMOL/KG,,,,DEG C,TU,,NMOL/KG,,PERCNT,,DEG C,,/MILLE,,/MILLE,,/MILLE,NMOL/KG,,NMOL/KG,PMOL/KG,,/MILLE,,UMOL/KG,,UMOL/KG,,,,TU,NMOL/KG,PERCNT,DEG C,ITS-90,,G/KG,,/MILLE,,/MILLE,,,,,,
33AT20120419,        A20,      78,          1,         22,         22,2,20120511,       1230,    42.8642,   -50.9330,       1127,     4.5,   9.0460,  32.9505,2,  32.9430,2,    302.1,2,   301.2,2,    0.00,2,    0.00,2,    0.00,2,    0.21,2,   4.204,2,   2.434,2,   0.397,2,    2.39,2,  2032.8,6,  2225.1,2,-999.0000,9,  -999.00,-999.000,9,-999.0000,9, -999.00,9,   9.0540,2, -999.00,9,  -999.0,9,  -999.0,-999.000,9,-999.000,-999.000,9, -999.00,9, -999.00,9, -999.00,9,  42.8640, -50.9365,-999.000,-999.0000, -999.00,   9.0455,   9.0540,2,    33.0983,2,  -999.0,9,     -999.0,9,     -999.0,9,     -999.0,9,       1318
33AT20120419,        A20,      78,          1,         21,         21,2,20120511,       1230,    42.8642,   -50.9330,       1127,    34.2,   8.6519,  33.4932,2,  33.5168,2,    292.4,2,   283.3,2,    0.46,2,    1.70,2,    0.13,2,    0.39,2,   3.964,2,   2.268,2,   0.351,2,    2.34,2,  -999.0,9,  -999.0,9,-999.0000,9,  -999.00,-999.000,9,-999.0000,9, -999.00,9,   8.6515,2, -999.00,9,  -999.0,9,  -999.0,-999.000,9,-999.000,-999.000,9, -999.00,9, -999.00,9, -999.00,9,  42.8641, -50.9363,-999.000,-999.0000, -999.00,   8.6484,   8.6515,2,    33.6749,2,  -999.0,9,     -999.0,9,     -999.0,9,     -999.0,9,       1315
33AT20120419,        A20,      78,          1,         20,         20,2,20120511,       1230,    42.8642,   -50.9330,       1127,    60.6,   9.3434,  34.0829,2,  34.1134,2,    271.4,2,   252.8,2,    2.43,2,    6.21,2,    0.12,2,    0.58,2,   3.690,2,   2.107,2,   0.293,2,    2.37,2,  2098.5,2,  2275.7,2,-999.0000,9,  -999.00,-999.000,9,-999.0000,9, -999.00,9,   9.3541,2, -999.00,9,  -999.0,9,  -999.0,-999.000,9,-999.000,-999.000,9, -999.00,9, -999.00,9, -999.00,9,  42.8641, -50.9361,-999.000,-999.0000, -999.00,   9.3368,   9.3541,2,    34.2743,2,  -999.0,9,     -999.0,9,     -999.0,9,     -999.0,9,       1313
33AT20120419,        A20,      78,          1,         19,         19,2,20120511,       1230,    42.8642,   -50.9330,       1127,    97.5,  11.4865,  35.0683,2,  35.0587,2,    187.8,2,   188.9,2,    5.89,2,   12.80,2,    0.03,2,    0.87,2,   2.903,2,   1.634,2,   0.155,2,    1.56,2,  -999.0,9,  -999.0,9,-999.0000,9,  -999.00,-999.000,9,-999.0000,9, -999.00,9,  11.4938,2, -999.00,9,  -999.0,9,  -999.0,-999.000,9,-999.000,-999.000,9, -999.00,9, -999.00,9, -999.00,9,  42.8641, -50.9358,-999.000,-999.0000, -999.00,  11.4742,  11.4938,2,    35.2240,2,  -999.0,9,     -999.0,9,     -999.0,9,     -999.0,9,       1311
33AT20120419,        A20,      78,          1,         18,         18,2,20120511,       1230,    42.8642,   -50.9330,       1127,   138.3,  11.2863,  35.2858,2,  35.2846,2,    166.0,2,   166.6,2,    7.66,2,   16.67,2,    0.03,2,    1.07,2,   2.498,2,   1.393,2,   0.103,2,    1.20,2,  2167.3,2,  2328.3,6,-999.0000,9,  -999.00,-999.000,9,-999.0000,9, -999.00,9,  11.2721,2, -999.00,9,  -999.0,9,  -999.0,-999.000,9,-999.000,-999.000,9, -999.00,9, -999.00,9, -999.00,9,  42.8641, -50.9355,-999.000,-999.0000, -999.00,  11.2690,  11.2721,2,    35.4509,2,  -999.0,9,     -999.0,9,     -999.0,9,     -999.0,9,       1307
33AT20120419,        A20,      78,          1,         17,         17,2,20120511,       1230,    42.8642,   -50.9330,       1127,   165.2,  10.4020,  35.2259,2,  35.2241,2,    159.9,2,   159.7,2,    9.38,2,   19.08,2,    0.02,2,    1.22,2,   2.267,2,   1.245,2,   0.126,2,    1.16,2,  -999.0,9,  -999.0,9,-999.0000,9,  -999.00,-999.000,9,-999.0000,9, -999.00,9,  10.4026,2, -999.00,9,  -999.0,9,  -999.0,-999.000,9,-999.000,-999.000,9, -999.00,9, -999.00,9, -999.00,9,  42.8641, -50.9353,-999.000,-999.0000, -999.00,  10.3823,  10.4026,2,    35.3902,2,  -999.0,9,     -999.0,9,     -999.0,9,     -999.0,9,       1305
33AT20120419,        A20,      78,          1,         16,         16,2,20120511,       1230,    42.8642,   -50.9330,       1127,   189.4,   9.9446,  35.2390,2,  35.2369,2,    145.8,2,   146.3,2,   11.39,2,   22.12,2,    0.02,2,    1.40,2,   1.979,2,   0.949,2,   0.052,2,    0.77,2,  2188.0,2,  2326.2,2,-999.0000,9,  -999.00,-999.000,9,-999.0000,9, -999.00,9,   9.9431,2, -999.00,9,  -999.0,9,  -999.0,-999.000,9,-999.000,-999.000,9, -999.00,9, -999.00,9, -999.00,9,  42.8641, -50.9351,-999.000,-999.0000, -999.00,   9.9226,   9.9431,2,    35.4030,2,  -999.0,9,     -999.0,9,     -999.0,9,     -999.0,9,       1303
33AT20120419,        A20,      78,          1,         15,         15,2,20120511,       1230,    42.8642,   -50.9330,       1127,   215.2,   9.0930,  35.1574,2,  35.1549,2,    150.6,2,   149.4,2,   12.48,2,   22.95,2,    0.02,2,    1.45,2,   1.713,2,   0.887,2,   0.050,2,    0.80,2,  2191.3,2,  2320.5,2,-999.0000,9,  -999.00,-999.000,9,-999.0000,9, -999.00,9,   9.0840,2, -999.00,9,  -999.0,9,  -999.0,-999.000,9,-999.000,-999.000,9, -999.00,9, -999.00,9, -999.00,9,  42.8641, -50.9350,-999.000,-999.0000, -999.00,   9.0694,   9.0840,2,    35.3207,2,  -999.0,9,     -999.0,9,     -999.0,9,     -999.0,9,       1302
33AT20120419,        A20,      78,          1,         14,         14,2,20120511,       1230,    42.8642,   -50.9330,       1127,   236.8,   8.8239,  35.1470,2,  35.1465,2,    150.4,2,   150.2,2,   12.95,2,   23.38,2,    0.02,2,    1.49,2,   1.632,2,   0.748,2,   0.049,2,    0.82,2,  2191.5,2,  2320.7,2,-999.0000,9,  -999.00,-999.000,9,-999.0000,9, -999.00,9,   8.8203,2, -999.00,9,  -999.0,9,  -999.0,-999.000,9,-999.000,-999.000,9, -999.00,9, -999.00,9, -999.00,9,  42.8641, -50.9348,-999.000,-999.0000, -999.00,   8.7984,   8.8203,2,    35.3122,2,  -999.0,9,     -999.0,9,     -999.0,9,     -999.0,9,       1300
33AT20120419,        A20,      78,          1,         13,         13,2,20120511,       1230,    42.8642,   -50.9330,       1127,   267.2,   8.2552,  35.0996,2,  35.0986,2,    158.3,2,   157.6,2,   13.08,2,   23.15,2,    0.02,2,    1.48,2,   1.722,2,   0.902,2,   0.060,2,    0.74,2,  2191.4,2,  2319.2,2,-999.0000,9,  -999.00,-999.000,9,-999.0000,9, -999.00,9,   8.2575,2, -999.00,9,  -999.0,9,  -999.0,-999.000,9,-999.000,-999.000,9, -999.00,9, -999.00,9, -999.00,9,  42.8641, -50.9348,-999.000,-999.0000, -999.00,   8.2275,   8.2575,2,    35.2641,2,  -999.0,9,     -999.0,9,     -999.0,9,     -999.0,9,       1259
33AT20120419,        A20,      78,          1,         12,         12,2,20120511,       1230,    42.8642,   -50.9330,       1127,   316.3,   7.2810,  35.0484,2,  35.0466,2,    174.3,2,   178.1,2,   12.95,2,   22.28,2,    0.02,2,    1.43,2,   1.927,2,   1.008,2,   0.081,2,    0.82,2,  -999.0,9,  -999.0,9,-999.0000,9,  -999.00,-999.000,9,-999.0000,9, -999.00,9,   7.2720,2, -999.00,9,  -999.0,9,  -999.0,-999.000,9,-999.000,-999.000,9, -999.00,9, -999.00,9, -999.00,9,  42.8641, -50.9346,-999.000,-999.0000, -999.00,   7.2504,   7.2720,2,    35.2119,2,  -999.0,9,     -999.0,9,     -999.0,9,     -999.0,9,       1256
33AT20120419,        A20,      78,          1,         10,         10,2,20120511,       1230,    42.8642,   -50.9330,       1127,   365.4,   6.7681,  35.0702,2,  35.0691,2,    190.3,2,   188.8,2,   12.70,2,   21.67,2,    0.00,2,    1.40,2,   1.871,2,   0.960,2,   0.068,2,    0.69,2,  2185.0,2,  2319.0,2,-999.0000,9,  -999.00,-999.000,9,-999.0000,9, -999.00,9,   6.7674,2, -999.00,9,  -999.0,9,  -999.0,-999.000,9,-999.000,-999.000,9, -999.00,9, -999.00,9, -999.00,9,  42.8641, -50.9344,-999.000,-999.0000, -999.00,   6.7340,   6.7674,2,    35.2345,2,  -999.0,9,     -999.0,9,     -999.0,9,     -999.0,9,       1254
33AT20120419,        A20,      78,          1,          9,          9,2,20120511,       1230,    42.8642,   -50.9330,       1127,   417.8,   6.4000,  35.0587,2,  35.0585,2,    198.7,2,   199.0,2,   12.25,2,   20.94,2,    0.00,2,    1.35,2,   2.029,2,   1.050,2,   0.081,2,    0.74,2,  -999.0,9,  -999.0,9,-999.0000,9,  -999.00,-999.000,9,-999.0000,9, -999.00,9,   6.4046,2, -999.00,9,  -999.0,9,  -999.0,-999.000,9,-999.000,-999.000,9, -999.00,9, -999.00,9, -999.00,9,  42.8641, -50.9343,-999.000,-999.0000, -999.00,   6.3621,   6.4046,2,    35.2238,2,  -999.0,9,     -999.0,9,     -999.0,9,     -999.0,9,       1252
33AT20120419,        A20,      78,          1,          8,          8,2,20120511,       1230,    42.8642,   -50.9330,       1127,   468.6,   5.7075,  35.0096,2,  35.0136,2,    218.7,2,   218.2,2,   11.67,2,   19.72,2,    0.00,2,    1.27,2,   2.519,2,   1.326,2,   0.140,2,    0.96,2,  -999.0,9,  -999.0,9,-999.0000,9,  -999.00,-999.000,9,-999.0000,9, -999.00,9,   5.7244,2, -999.00,9,  -999.0,9,  -999.0,-999.000,9,-999.000,-999.000,9, -999.00,9, -999.00,9, -999.00,9,  42.8641, -50.9341,-999.000,-999.0000, -999.00,   5.6673,   5.7244,2,    35.1787,2,  -999.0,9,     -999.0,9,     -999.0,9,     -999.0,9,       1250
33AT20120419,        A20,      78,          1,          7,          7,2,20120511,       1230,    42.8642,   -50.9330,       1127,   538.8,   4.9582,  34.9492,2,  34.9486,2,    248.0,2,   247.5,2,   10.11,2,   17.80,2,    0.00,2,    1.15,2,   3.369,2,   1.814,2,   0.237,2,    1.44,2,  2169.6,2,  2310.8,2,-999.0000,9,  -999.00,-999.000,9,-999.0000,9, -999.00,9,   4.9462,2, -999.00,9,  -999.0,9,  -999.0,-999.000,9,-999.000,-999.000,9, -999.00,9, -999.00,9, -999.00,9,  42.8642, -50.9340,-999.000,-999.0000, -999.00,   4.9149,   4.9462,2,    35.1134,2,  -999.0,9,     -999.0,9,     -999.0,9,     -999.0,9,       1248
33AT20120419,        A20,      78,          1,          6,          6,2,20120511,       1230,    42.8642,   -50.9330,       1127,   637.0,   4.4261,  34.9087,2,  34.9077,2,    267.6,2,   269.2,2,    8.69,2,   16.54,2,    0.00,2,    1.07,2,   4.039,2,   2.196,2,   0.299,2,    1.81,2,  -999.0,9,  -999.0,9,-999.0000,9,  -999.00,-999.000,9,-999.0000,9, -999.00,9,   4.4262,2, -999.00,9,  -999.0,9,  -999.0,-999.000,9,-999.000,-999.000,9, -999.00,9, -999.00,9, -999.00,9,  42.8642, -50.9338,-999.000,-999.0000, -999.00,   4.3771,   4.4262,2,    35.0723,2,  -999.0,9,     -999.0,9,     -999.0,9,     -999.0,9,       1244
33AT20120419,        A20,      78,          1,          5,          5,2,20120511,       1230,    42.8642,   -50.9330,       1127,   741.5,   4.2416,  34.9036,2,  34.9026,2,    275.9,2,   275.6,2,    8.50,2,   16.27,2,    0.00,2,    1.06,2,   4.218,2,   2.288,2,   0.334,2,    1.96,2,  -999.0,9,  -999.0,9,-999.0000,9,  -999.00,-999.000,9,-999.0000,9, -999.00,9,   4.2424,2, -999.00,9,  -999.0,9,  -999.0,-999.000,9,-999.000,-999.000,9, -999.00,9, -999.00,9, -999.00,9,  42.8642, -50.9336,-999.000,-999.0000, -999.00,   4.1851,   4.2424,2,    35.0672,2,  -999.0,9,     -999.0,9,     -999.0,9,     -999.0,9,       1241
33AT20120419,        A20,      78,          1,          4,          4,2,20120511,       1230,    42.8642,   -50.9330,       1127,   839.2,   4.1992,  34.9114,2,  34.9105,2,    275.4,2,   276.1,2,    8.73,2,   16.31,2,    0.00,2,    1.06,2,   4.118,2,   2.226,2,   0.312,2,    1.72,2,  2163.0,2,  2307.4,2,-999.0000,9,  -999.00,-999.000,9,-999.0000,9, -999.00,9,   4.2001,2, -999.00,9,  -999.0,9,  -999.0,-999.000,9,-999.000,-999.000,9, -999.00,9, -999.00,9, -999.00,9,  42.8642, -50.9334,-999.000,-999.0000, -999.00,   4.1348,   4.2001,2,    35.0751,2,  -999.0,9,     -999.0,9,     -999.0,9,     -999.0,9,       1238
33AT20120419,        A20,      78,          1,          3,          3,2,20120511,       1230,    42.8642,   -50.9330,       1127,   941.7,   4.0703,  34.9080,2,  34.9061,2,    277.5,2,   277.6,2,    8.84,2,   16.29,2,    0.00,2,    1.06,2,   4.098,2,   2.226,2,   0.308,2,    1.77,2,  -999.0,9,  -999.0,9,-999.0000,9,  -999.00,-999.000,9,-999.0000,9, -999.00,9,   4.0706,2, -999.00,9,  -999.0,9,  -999.0,-999.000,9,-999.000,-999.000,9, -999.00,9, -999.00,9, -999.00,9,  42.8642, -50.9333,-999.000,-999.0000, -999.00,   3.9983,   4.0706,2,    35.0707,2,  -999.0,9,     -999.0,9,     -999.0,9,     -999.0,9,       1236
33AT20120419,        A20,      78,          1,          2,          2,2,20120511,       1230,    42.8642,   -50.9330,       1127,  1043.0,   4.0261,  34.9113,2,  34.9107,2,    276.8,2,   277.8,2,    9.28,2,   16.40,2,    0.00,2,    1.07,2,   4.050,2,   2.187,2,   0.316,2,    1.64,2,  -999.0,9,  -999.0,9,-999.0000,9,  -999.00,-999.000,9,-999.0000,9, -999.00,9,   4.0264,2, -999.00,9,  -999.0,9,  -999.0,-999.000,9,-999.000,-999.000,9, -999.00,9, -999.00,9, -999.00,9,  42.8642, -50.9332,-999.000,-999.0000, -999.00,   3.9459,   4.0264,2,    35.0753,2,  -999.0,9,     -999.0,9,     -999.0,9,     -999.0,9,       1232
33AT20120419,        A20,      78,          1,          1,          1,2,20120511,       1230,    42.8642,   -50.9330,       1127,  1120.8,   4.0127,  34.9157,2,  34.9156,2,    275.4,2,   275.9,2,    9.85,2,   16.53,2,    0.00,2,    1.08,2,   3.951,2,   2.120,2,   0.304,2,    1.58,2,  2163.1,2,  2308.0,2,-999.0000,9,  -999.00,-999.000,9,-999.0000,9, -999.00,9,   4.0136,2, -999.00,9,  -999.0,9,  -999.0,-999.000,9,-999.000,-999.000,9, -999.00,9, -999.00,9, -999.00,9,  42.8642, -50.9330,-999.000,-999.0000, -999.00,   3.9260,   4.0136,2,    35.0802,2,  -999.0,9,     -999.0,9,     -999.0,9,     -999.0,9,       1230