BOTTLE,20220712CCHSIOCBG
EXPOCODE,SECT_ID,STNNBR,CASTNO,SAMPNO,BTLNBR,BTLNBR_FLAG_W,DATE,TIME,LATITUDE,LONGITUDE,DEPTH,CTDPRS,CTDTMP,CTDSAL,CTDSAL_FLAG_W,SALNTY,SALNTY_FLAG_W,CTDOXY,CTDOXY_FLAG_W,OXYGEN,OXYGEN_FLAG_W,SILCAT,SILCAT_FLAG_W,NITRAT,NITRAT_FLAG_W,NITRIT,NITRIT_FLAG_W,PHSPHT,PHSPHT_FLAG_W,CFC-11,CFC-11_FLAG_W,CFC-12,CFC-12_FLAG_W,CFC113,CFC113_FLAG_W,SF6,SF6_FLAG_W,TCARBN,TCARBN_FLAG_W,ALKALI,ALKALI_FLAG_W,PH_TOT,PH_TOT_FLAG_W,PH_TMP,TRITUM,TRITUM_FLAG_W,HELIUM,HELIUM_FLAG_W,DELHE3,DELHE3_FLAG_W,REFTMP,REFTMP_FLAG_W,DELC13,DELC13_FLAG_W,DELC14,DELC14_FLAG_W,C14ERR,NEON,NEON_FLAG_W,NEONER,CCL4,CCL4_FLAG_W,DELO18,DELO18_FLAG_W,DOC,DOC_FLAG_W,TDN,TDN_FLAG_W,BTL_LAT,BTL_LON,TRITER,HELIER,DELHER,THETA,SBE35,SBE35_FLAG_W,SALTREF,SALTREF_FLAG_W,14C-DOC,14C-DOC_FLAG_W,DELO17,DELO17_FLAG_W,O2/AR,O2/AR_FLAG_W,SIP,SIP_FLAG_W,BTL_TIME
,,,,,,,,,,,METERS,DBAR,ITS-90,PSS-78,,PSS-78,,UMOL/KG,,UMOL/KG,,UMOL/KG,,UMOL/KG,,UMOL/KG,,UMOL/KG,,PMOL/KG,,PMOL/KG,,PMOL/KG,,FMOL/KG,,UMOL/KG,,UMOL/KG,,,,DEG C,TU,,NMOL/KG,,PERCNT,,DEG C,,/MILLE,,/MILLE,,/MILLE,NMOL/KG,,NMOL/KG,PMOL/KG,,/MILLE,,UMOL/KG,,UMOL/KG,,,,TU,NMOL/KG,PERCNT,DEG C,ITS-90,,G/KG,,/MILLE,,/MILLE,,,,,,
33AT20120419,        A20,      75,          1,         34,         34,2,20120511,       0304,    42.4356,   -51.2791,       2584,     4.7,  12.8357,  34.5358,2,  34.5370,2,    281.3,2,   281.8,2,    0.00,2,    0.00,2,    0.00,2,    0.07,2,   2.679,2,   1.754,2,-999.000,5, -999.00,5,  2042.8,6,  2299.4,2,-999.0000,9,  -999.00,-999.000,9,-999.0000,9, -999.00,9,  12.8303,2, -999.00,9,  -999.0,9,  -999.0,-999.000,9,-999.000,-999.000,5, -999.00,9,   70.63,2,    5.02,2,  42.4355, -51.2797,-999.000,-999.0000, -999.00,  12.8351,  12.8303,2,    34.6999,2,  -999.0,9,     -999.0,9,     -999.0,9,     -999.0,9,       0425
33AT20120419,        A20,      75,          1,         33,         33,2,20120511,       0304,    42.4356,   -51.2791,       2584,    36.9,  12.7570,  34.7229,2,  34.7357,2,    264.3,2,   271.4,2,    0.00,2,    0.13,2,    0.04,2,    0.11,2,   2.625,2,   1.694,2,-999.000,5, -999.00,5,  -999.0,9,  -999.0,9,-999.0000,9,  -999.00,-999.000,9,-999.0000,9, -999.00,9,  12.7239,2, -999.00,9,  -999.0,9,  -999.0,-999.000,9,-999.000,-999.000,5, -999.00,9,   65.84,2,    4.90,2,  42.4355, -51.2796,-999.000,-999.0000, -999.00,  12.7520,  12.7239,2,    34.8995,2,  -999.0,9,     -999.0,9,     -999.0,9,     -999.0,9,       0422
33AT20120419,        A20,      75,          1,         32,         32,2,20120511,       0304,    42.4356,   -51.2791,       2584,    60.6,  13.3930,  35.2314,2,  35.2229,2,    244.3,2,   245.9,2,    1.89,2,    4.47,2,    0.04,2,    0.33,2,   2.432,2,   1.599,2,-999.000,5, -999.00,5,  2096.0,2,  2328.6,2,-999.0000,9,  -999.00,-999.000,9,-999.0000,9, -999.00,9,  13.3839,2, -999.00,9,  -999.0,9,  -999.0,-999.000,9,-999.000,-999.000,5, -999.00,9,   60.63,2,    8.11,2,  42.4355, -51.2796,-999.000,-999.0000, -999.00,  13.3845,  13.3839,2,    35.3890,2,  -999.0,9,     -999.0,9,     -999.0,9,     -999.0,9,       0421
33AT20120419,        A20,      75,          1,         31,         31,2,20120511,       0304,    42.4356,   -51.2791,       2584,    97.1,  13.5961,  35.3347,2,  35.3343,2,    237.5,2,   237.5,2,    2.10,2,    5.45,2,    0.02,2,    0.38,2,   2.377,2,   1.584,2,-999.000,5, -999.00,5,  -999.0,9,  -999.0,9,-999.0000,9,  -999.00,-999.000,9,-999.0000,9, -999.00,9,  13.5971,2, -999.00,9,  -999.0,9,  -999.0,-999.000,9,-999.000,-999.000,5, -999.00,9,   57.58,2,    8.97,2,  42.4355, -51.2795,-999.000,-999.0000, -999.00,  13.5823,  13.5971,2,    35.5009,2,  -999.0,9,     -999.0,9,     -999.0,9,     -999.0,9,       0418
33AT20120419,        A20,      75,          1,         30,         30,2,20120511,       0304,    42.4356,   -51.2791,       2584,   140.5,  13.5546,  35.4462,2,  35.4244,2,    210.5,2,   214.0,2,    3.25,2,    8.45,2,    0.02,2,    0.57,2,   2.308,2,   1.504,2,-999.000,5, -999.00,5,  2121.7,2,  2334.8,2,-999.0000,9,  -999.00,-999.000,9,-999.0000,9, -999.00,9,  13.6571,2, -999.00,9,  -999.0,9,  -999.0,-999.000,9,-999.000,-999.000,5, -999.00,9,   55.68,2,   13.35,2,  42.4356, -51.2794,-999.000,-999.0000, -999.00,  13.5347,  13.6571,2,    35.5914,2,  -999.0,9,     -999.0,9,     -999.0,9,     -999.0,9,       0414
33AT20120419,        A20,      75,          1,         29,         29,2,20120511,       0304,    42.4356,   -51.2791,       2584,   167.3,  14.0018,  35.7278,2,  35.7237,2,    183.1,2,   177.2,2,    4.89,2,   12.54,2,    0.02,2,    0.77,2,   1.991,2,   1.277,2,-999.000,5, -999.00,5,  -999.0,9,  -999.0,9,-999.0000,9,  -999.00,-999.000,9,-999.0000,9, -999.00,9,  14.0093,2, -999.00,9,  -999.0,9,  -999.0,-999.000,9,-999.000,-999.000,5, -999.00,9,   53.47,2,   15.89,2,  42.4356, -51.2794,-999.000,-999.0000, -999.00,  13.9775,  14.0093,2,    35.8922,2,  -999.0,9,     -999.0,9,     -999.0,9,     -999.0,9,       0413
33AT20120419,        A20,      75,          1,         28,         28,2,20120511,       0304,    42.4356,   -51.2791,       2584,   192.3,  13.3610,  35.6697,2,  35.6677,2,    159.5,2,   161.9,2,    6.23,2,   15.15,2,    0.02,2,    0.94,2,   1.918,2,   1.197,2,-999.000,5, -999.00,5,  -999.0,9,  -999.0,9,-999.0000,9,  -999.00,-999.000,9,-999.0000,9, -999.00,9,  13.3601,2, -999.00,9,  -999.0,9,  -999.0,-999.000,9,-999.000,-999.000,5, -999.00,9,   51.53,2,   19.41,2,  42.4355, -51.2794,-999.000,-999.0000, -999.00,  13.3339,  13.3601,2,    35.8358,2,  -999.0,9,     -999.0,9,     -999.0,9,     -999.0,9,       0411
33AT20120419,        A20,      75,          1,         27,         27,2,20120511,       0304,    42.4356,   -51.2791,       2584,   208.4,  13.1978,  35.6815,2,  35.6823,2,    152.9,2,   158.3,2,    6.71,2,   16.12,2,    0.02,2,    0.99,2,   1.791,2,   1.131,2,-999.000,5, -999.00,5,  2154.0,2,  2344.2,2,-999.0000,9,  -999.00,-999.000,9,-999.0000,9, -999.00,9,  13.1880,2, -999.00,9,  -999.0,9,  -999.0,-999.000,9,-999.000,-999.000,5, -999.00,9,   50.83,2,   20.40,2,  42.4356, -51.2794,-999.000,-999.0000, -999.00,  13.1686,  13.1880,2,    35.8505,2,  -999.0,9,     -999.0,9,     -999.0,9,     -999.0,9,       0409
33AT20120419,        A20,      75,          1,         26,         26,2,20120511,       0304,    42.4356,   -51.2791,       2584,   237.4,  12.5700,  35.6016,2,  35.5949,2,    152.2,2,   150.9,2,    8.04,2,   18.11,2,    0.02,2,    1.11,2,   1.665,2,   1.019,2,-999.000,5, -999.00,5,  -999.0,9,  -999.0,9,-999.0000,9,  -999.00,-999.000,9,-999.0000,9, -999.00,9,  12.5654,2, -999.00,9,  -999.0,9,  -999.0,-999.000,9,-999.000,-999.000,5, -999.00,9,   50.36,2,   21.22,2,  42.4355, -51.2794,-999.000,-999.0000, -999.00,  12.5378,  12.5654,2,    35.7628,2,  -999.0,9,     -999.0,9,     -999.0,9,     -999.0,9,       0407
33AT20120419,        A20,      75,          1,         25,         25,2,20120511,       0304,    42.4356,   -51.2791,       2584,   265.8,  11.5251,  35.4622,2,  35.4622,2,    145.5,2,   144.0,2,    9.86,2,   20.51,2,    0.00,2,    1.27,2,   1.475,2,   0.891,2,-999.000,5, -999.00,5,  2181.1,2,  2333.7,2,-999.0000,9,  -999.00,-999.000,9,-999.0000,9, -999.00,9,  11.5270,2, -999.00,9,  -999.0,9,  -999.0,-999.000,9,-999.000,-999.000,5, -999.00,9,   49.57,2,   24.52,2,  42.4355, -51.2793,-999.000,-999.0000, -999.00,  11.4910,  11.5270,2,    35.6294,2,  -999.0,9,     -999.0,9,     -999.0,9,     -999.0,9,       0406
33AT20120419,        A20,      75,          1,         24,         24,2,20120511,       0304,    42.4356,   -51.2791,       2584,   311.1,  10.5204,  35.3342,2,  35.3336,2,    140.2,2,   139.9,2,   11.65,2,   22.49,2,    0.00,2,    1.40,2,   1.389,2,   0.813,2,-999.000,5, -999.00,5,  -999.0,9,  -999.0,9,-999.0000,9,  -999.00,-999.000,9,-999.0000,9, -999.00,9,  10.5103,2, -999.00,9,  -999.0,9,  -999.0,-999.000,9,-999.000,-999.000,5, -999.00,9,   48.99,2,   26.49,2,  42.4355, -51.2793,-999.000,-999.0000, -999.00,  10.4828,  10.5103,2,    35.5003,2,  -999.0,9,     -999.0,9,     -999.0,9,     -999.0,9,       0404
33AT20120419,        A20,      75,          1,         23,         23,2,20120511,       0304,    42.4356,   -51.2791,       2584,   369.6,   9.2856,  35.2047,2,  35.2046,2,    143.1,2,   143.3,2,   13.41,2,   23.88,2,    0.00,2,    1.50,2,   1.178,2,   0.686,2,-999.000,5, -999.00,5,  2193.5,2,  2321.1,2,-999.0000,9,  -999.00,-999.000,9,-999.0000,9, -999.00,9,   9.2861,2, -999.00,9,  -999.0,9,  -999.0,-999.000,9,-999.000,-999.000,5, -999.00,9,   48.36,2,   27.12,2,  42.4356, -51.2793,-999.000,-999.0000, -999.00,   9.2441,   9.2861,2,    35.3706,2,  -999.0,9,     -999.0,9,     -999.0,9,     -999.0,9,       0401
33AT20120419,        A20,      75,          1,         22,         22,2,20120511,       0304,    42.4356,   -51.2791,       2584,   417.3,   8.2365,  35.1303,2,  35.1298,2,    156.8,2,   158.4,2,   13.74,2,   23.42,2,    0.00,2,    1.48,2,   1.240,2,   0.725,2,-999.000,5, -999.00,5,  2193.3,2,  2319.2,2,-999.0000,9,  -999.00,-999.000,9,-999.0000,9, -999.00,9,   8.2432,2, -999.00,9,  -999.0,9,  -999.0,-999.000,9,-999.000,-999.000,5, -999.00,9,   47.68,2,   26.88,2,  42.4355, -51.2793,-999.000,-999.0000, -999.00,   8.1928,   8.2432,2,    35.2954,2,  -999.0,9,     -999.0,9,     -999.0,9,     -999.0,9,       0400
33AT20120419,        A20,      75,          1,         21,         21,2,20120511,       0304,    42.4356,   -51.2791,       2584,   470.6,   7.4934,  35.0765,2,  35.0634,2,    174.2,2,   174.4,2,   13.58,2,   22.43,2,    0.00,2,    1.44,2,   1.492,2,   0.875,2,-999.000,5, -999.00,5,  -999.0,9,  -999.0,9,-999.0000,9,  -999.00,-999.000,9,-999.0000,9, -999.00,9,   7.4991,2, -999.00,9,  -999.0,9,  -999.0,-999.000,9,-999.000,-999.000,5, -999.00,9,   47.15,2,   26.41,2,  42.4355, -51.2793,-999.000,-999.0000, -999.00,   7.4466,   7.4991,2,    35.2288,2,  -999.0,9,     -999.0,9,     -999.0,9,     -999.0,9,       0358
33AT20120419,        A20,      75,          1,         20,         20,2,20120511,       0304,    42.4356,   -51.2791,       2584,   538.7,   6.7417,  35.0442,2,  35.0394,2,    198.3,2,   191.4,2,   13.04,2,   21.31,2,    0.00,2,    1.38,2,   1.719,2,   0.996,2,-999.000,5, -999.00,5,  2187.0,2,  2315.3,2,-999.0000,9,  -999.00,-999.000,9,-999.0000,9, -999.00,9,   6.7277,2, -999.00,9,  -999.0,9,  -999.0,-999.000,9,-999.000,-999.000,5, -999.00,9,   46.47,2,   24.96,2,  42.4355, -51.2793,-999.000,-999.0000, -999.00,   6.6910,   6.7277,2,    35.2046,2,  -999.0,9,     -999.0,9,     -999.0,9,     -999.0,9,       0355
33AT20120419,        A20,      75,          1,         19,         19,2,20120511,       0304,    42.4356,   -51.2791,       2584,   636.3,   5.0692,  34.9170,2,  34.9160,2,    242.9,2,   243.6,2,   10.54,2,   17.69,2,    0.00,2,    1.16,2,   2.890,2,   1.704,2,-999.000,5, -999.00,5,  -999.0,9,  -999.0,9,-999.0000,9,  -999.00,-999.000,9,-999.0000,9, -999.00,9,   5.0686,2, -999.00,9,  -999.0,9,  -999.0,-999.000,9,-999.000,-999.000,5, -999.00,9,   45.98,2,   21.34,2,  42.4355, -51.2793,-999.000,-999.0000, -999.00,   5.0171,   5.0686,2,    35.0807,2,  -999.0,9,     -999.0,9,     -999.0,9,     -999.0,9,       0353
33AT20120419,        A20,      75,          1,         18,         18,2,20120511,       0304,    42.4356,   -51.2791,       2584,   741.2,   4.8499,  34.9557,2,  34.9607,2,    254.6,2,   252.5,2,   10.19,2,   17.48,2,    0.00,2,    1.15,2,   2.903,2,   1.707,2,-999.000,5, -999.00,5,  2170.5,2,  2307.6,2,-999.0000,9,  -999.00,-999.000,9,-999.0000,9, -999.00,9,   4.8514,2, -999.00,9,  -999.0,9,  -999.0,-999.000,9,-999.000,-999.000,5, -999.00,9,   45.47,2,   20.93,2,  42.4355, -51.2794,-999.000,-999.0000, -999.00,   4.7898,   4.8514,2,    35.1256,2,  -999.0,9,     -999.0,9,     -999.0,9,     -999.0,9,       0350
33AT20120419,        A20,      75,          1,         17,         17,2,20120511,       0304,    42.4356,   -51.2791,       2584,   842.2,   4.8747,  34.9940,2,  34.9936,2,    249.0,2,   248.2,2,   10.79,2,   17.89,2,    0.00,2,    1.18,2,   2.589,2,   1.469,2,-999.000,5, -999.00,5,  -999.0,9,  -999.0,9,-999.0000,9,  -999.00,-999.000,9,-999.0000,9, -999.00,9,   4.8741,2, -999.00,9,  -999.0,9,  -999.0,-999.000,9,-999.000,-999.000,5, -999.00,9,   44.87,2,   21.77,2,  42.4355, -51.2794,-999.000,-999.0000, -999.00,   4.8056,   4.8741,2,    35.1586,2,  -999.0,9,     -999.0,9,     -999.0,9,     -999.0,9,       0348
33AT20120419,        A20,      75,          1,         16,         16,2,20120511,       0304,    42.4356,   -51.2791,       2584,   944.0,   4.6777,  34.9900,2,  34.9896,2,    253.6,2,   253.6,2,   10.78,2,   17.70,2,    0.00,2,    1.16,2,   2.649,2,   1.456,2,-999.000,5, -999.00,5,  -999.0,9,  -999.0,9,-999.0000,9,  -999.00,-999.000,9,-999.0000,9, -999.00,9,   4.6780,2, -999.00,9,  -999.0,9,  -999.0,-999.000,9,-999.000,-999.000,5, -999.00,9,   43.79,2,   21.05,2,  42.4355, -51.2795,-999.000,-999.0000, -999.00,   4.6010,   4.6780,2,    35.1546,2,  -999.0,9,     -999.0,9,     -999.0,9,     -999.0,9,       0345
33AT20120419,        A20,      75,          1,         15,         15,2,20120511,       0304,    42.4356,   -51.2791,       2584,  1045.7,   4.3777,  34.9681,2,  34.9674,2,    259.8,2,   261.2,2,   10.63,2,   17.44,2,    0.00,2,    1.14,2,   2.807,2,   1.564,2,-999.000,5, -999.00,5,  2169.1,2,  2308.6,6,-999.0000,9,  -999.00,-999.000,9,-999.0000,9, -999.00,9,   4.3781,2, -999.00,9,  -999.0,9,  -999.0,-999.000,9,-999.000,-999.000,5, -999.00,9,   44.63,2,   21.03,2,  42.4356, -51.2796,-999.000,-999.0000, -999.00,   4.2944,   4.3781,2,    35.1323,2,  -999.0,9,     -999.0,9,     -999.0,9,     -999.0,9,       0342
33AT20120419,        A20,      75,          1,         14,         14,2,20120511,       0304,    42.4356,   -51.2791,       2584,  1145.7,   4.2673,  34.9633,2,  34.9637,2,    261.8,2,   263.0,2,   10.74,2,   17.44,2,    0.00,2,    1.14,2,   2.772,2,   1.539,2,-999.000,5, -999.00,5,  -999.0,9,  -999.0,9,-999.0000,9,  -999.00,-999.000,9,-999.0000,9, -999.00,9,   4.2679,2, -999.00,9,  -999.0,9,  -999.0,-999.000,9,-999.000,-999.000,5, -999.00,9,   44.02,2,   21.14,2,  42.4355, -51.2796,-999.000,-999.0000, -999.00,   4.1761,   4.2679,2,    35.1286,2,  -999.0,9,     -999.0,9,     -999.0,9,     -999.0,9,       0340
33AT20120419,        A20,      75,          1,         13,         13,2,20120511,       0304,    42.4356,   -51.2791,       2584,  1243.2,   4.1873,  34.9662,2,  34.9657,2,    262.1,2,   261.9,2,   11.10,2,   17.51,2,    0.00,2,    1.15,2,   2.570,2,   1.370,2,-999.000,5, -999.00,5,  2166.4,2,  2309.1,2,-999.0000,9,  -999.00,-999.000,9,-999.0000,9, -999.00,9,   4.1884,2, -999.00,9,  -999.0,9,  -999.0,-999.000,9,-999.000,-999.000,5, -999.00,9,   44.55,2,   20.96,2,  42.4355, -51.2796,-999.000,-999.0000, -999.00,   4.0882,   4.1884,2,    35.1305,2,  -999.0,9,     -999.0,9,     -999.0,9,     -999.0,9,       0337
33AT20120419,        A20,      75,          1,         11,         11,2,20120511,       0304,    42.4356,   -51.2791,       2584,  1349.6,   4.1147,  34.9632,2,  34.9633,2,    262.5,2,   262.9,2,   11.26,2,   17.54,2,    0.00,2,    1.15,2,-999.000,9,-999.000,9,-999.000,9, -999.00,9,  -999.0,9,  -999.0,9,-999.0000,9,  -999.00,-999.000,9,-999.0000,9, -999.00,9,   4.1145,2, -999.00,9,  -999.0,9,  -999.0,-999.000,9,-999.000,-999.000,9, -999.00,9, -999.00,9, -999.00,9,  42.4355, -51.2796,-999.000,-999.0000, -999.00,   4.0069,   4.1145,2,    35.1282,2,  -999.0,9,     -999.0,9,     -999.0,9,     -999.0,9,       0334
33AT20120419,        A20,      75,          1,         12,         12,2,20120511,       0304,    42.4356,   -51.2791,       2584,  1349.9,   4.1143,  34.9633,2,  34.9627,2,    262.5,2,   262.5,2,   11.27,2,   17.52,2,    0.00,2,    1.15,2,   2.465,2,   1.338,2,-999.000,5, -999.00,5,  -999.0,9,  -999.0,9,-999.0000,9,  -999.00,-999.000,9,-999.0000,9, -999.00,9,   4.1144,2, -999.00,9,  -999.0,9,  -999.0,-999.000,9,-999.000,-999.000,5, -999.00,9,   44.25,2,   20.56,2,  42.4355, -51.2796,-999.000,-999.0000, -999.00,   4.0064,   4.1144,2,    35.1276,2,  -999.0,9,     -999.0,9,     -999.0,9,     -999.0,9,       0335
33AT20120419,        A20,      75,          1,         10,         10,2,20120511,       0304,    42.4356,   -51.2791,       2584,  1452.4,   4.0069,  34.9592,2,  34.9594,2,    263.0,2,   263.7,2,   11.50,2,   17.54,2,    0.00,2,    1.15,2,   2.399,2,   1.291,2,-999.000,5, -999.00,5,  -999.0,9,  -999.0,9,-999.0000,9,  -999.00,-999.000,9,-999.0000,9, -999.00,9,   4.0071,2, -999.00,9,  -999.0,9,  -999.0,-999.000,9,-999.000,-999.000,5, -999.00,9,   44.71,2,   21.07,2,  42.4355, -51.2796,-999.000,-999.0000, -999.00,   3.8909,   4.0071,2,    35.1243,2,  -999.0,9,     -999.0,9,     -999.0,9,     -999.0,9,       0332
33AT20120419,        A20,      75,          1,          9,          9,2,20120511,       0304,    42.4356,   -51.2791,       2584,  1549.3,   3.9372,  34.9576,2,  34.9577,2,    264.0,2,   264.2,2,   11.71,2,   17.56,2,    0.00,2,    1.16,2,   2.301,2,   1.203,2,-999.000,5, -999.00,5,  2164.2,2,  2309.7,2,-999.0000,9,  -999.00,-999.000,9,-999.0000,9, -999.00,9,   3.9384,2, -999.00,9,  -999.0,9,  -999.0,-999.000,9,-999.000,-999.000,5, -999.00,9,   44.36,2,   21.06,2,  42.4355, -51.2796,-999.000,-999.0000, -999.00,   3.8132,   3.9384,2,    35.1225,2,  -999.0,9,     -999.0,9,     -999.0,9,     -999.0,9,       0329
33AT20120419,        A20,      75,          1,          8,          8,2,20120511,       0304,    42.4356,   -51.2791,       2584,  1651.6,   3.8406,  34.9529,2,  34.9535,2,    264.9,2,   265.1,2,   11.98,2,   17.57,2,    0.00,2,    1.15,2,   2.225,2,   1.172,2,-999.000,5, -999.00,5,  -999.0,9,  -999.0,9,-999.0000,9,  -999.00,-999.000,9,-999.0000,9, -999.00,9,   3.8407,2, -999.00,9,  -999.0,9,  -999.0,-999.000,9,-999.000,-999.000,5, -999.00,9,   43.39,2,   21.02,2,  42.4355, -51.2795,-999.000,-999.0000, -999.00,   3.7084,   3.8407,2,    35.1184,2,  -999.0,9,     -999.0,9,     -999.0,9,     -999.0,9,       0327
33AT20120419,        A20,      75,          1,          7,          7,2,20120511,       0304,    42.4356,   -51.2791,       2584,  1754.6,   3.7242,  34.9467,2,  34.9463,2,    266.7,2,   266.1,2,   12.29,2,   17.54,2,    0.00,2,    1.14,2,   2.140,2,   1.119,2,-999.000,5, -999.00,5,  -999.0,9,  -999.0,9,-999.0000,9,  -999.00,-999.000,9,-999.0000,9, -999.00,9,   3.7241,2, -999.00,9,  -999.0,9,  -999.0,-999.000,9,-999.000,-999.000,5, -999.00,9,   42.91,2,   20.97,2,  42.4355, -51.2794,-999.000,-999.0000, -999.00,   3.5840,   3.7241,2,    35.1110,2,  -999.0,9,     -999.0,9,     -999.0,9,     -999.0,9,       0324
33AT20120419,        A20,      75,          1,          6,          6,2,20120511,       0304,    42.4356,   -51.2791,       2584,  1856.9,   3.6404,  34.9413,2,  34.9419,2,    267.4,2,   267.6,2,   12.52,2,   17.48,2,    0.00,2,    1.14,2,   2.106,2,   1.104,2,-999.000,5, -999.00,5,  -999.0,9,  -999.0,9,-999.0000,9,  -999.00,-999.000,9,-999.0000,9, -999.00,9,   3.6389,2, -999.00,9,  -999.0,9,  -999.0,-999.000,9,-999.000,-999.000,5, -999.00,9,   43.54,2,   20.39,2,  42.4355, -51.2794,-999.000,-999.0000, -999.00,   3.4918,   3.6389,2,    35.1066,2,  -999.0,9,     -999.0,9,     -999.0,9,     -999.0,9,       0322
33AT20120419,        A20,      75,          1,          5,          5,2,20120511,       0304,    42.4356,   -51.2791,       2584,  1953.8,   3.5511,  34.9375,2,  34.9383,2,    268.2,2,   268.6,2,   12.75,2,   17.45,2,    0.00,2,    1.14,2,   2.022,2,   1.071,2,-999.000,5, -999.00,5,  -999.0,9,  -999.0,9,-999.0000,9,  -999.00,-999.000,9,-999.0000,9, -999.00,9,   3.5520,2, -999.00,9,  -999.0,9,  -999.0,-999.000,9,-999.000,-999.000,5, -999.00,9,   43.57,2,   20.69,2,  42.4355, -51.2794,-999.000,-999.0000, -999.00,   3.3947,   3.5520,2,    35.1031,2,  -999.0,9,     -999.0,9,     -999.0,9,     -999.0,9,       0319