BOTTLE,20220712CCHSIOCBG
EXPOCODE,SECT_ID,STNNBR,CASTNO,SAMPNO,BTLNBR,BTLNBR_FLAG_W,DATE,TIME,LATITUDE,LONGITUDE,DEPTH,CTDPRS,CTDTMP,CTDSAL,CTDSAL_FLAG_W,SALNTY,SALNTY_FLAG_W,CTDOXY,CTDOXY_FLAG_W,OXYGEN,OXYGEN_FLAG_W,SILCAT,SILCAT_FLAG_W,NITRAT,NITRAT_FLAG_W,NITRIT,NITRIT_FLAG_W,PHSPHT,PHSPHT_FLAG_W,CFC-11,CFC-11_FLAG_W,CFC-12,CFC-12_FLAG_W,CFC113,CFC113_FLAG_W,SF6,SF6_FLAG_W,TCARBN,TCARBN_FLAG_W,ALKALI,ALKALI_FLAG_W,PH_TOT,PH_TOT_FLAG_W,PH_TMP,TRITUM,TRITUM_FLAG_W,HELIUM,HELIUM_FLAG_W,DELHE3,DELHE3_FLAG_W,REFTMP,REFTMP_FLAG_W,DELC13,DELC13_FLAG_W,DELC14,DELC14_FLAG_W,C14ERR,NEON,NEON_FLAG_W,NEONER,CCL4,CCL4_FLAG_W,DELO18,DELO18_FLAG_W,DOC,DOC_FLAG_W,TDN,TDN_FLAG_W,BTL_LAT,BTL_LON,TRITER,HELIER,DELHER,THETA,SBE35,SBE35_FLAG_W,SALTREF,SALTREF_FLAG_W,14C-DOC,14C-DOC_FLAG_W,DELO17,DELO17_FLAG_W,O2/AR,O2/AR_FLAG_W,SIP,SIP_FLAG_W,BTL_TIME
,,,,,,,,,,,METERS,DBAR,ITS-90,PSS-78,,PSS-78,,UMOL/KG,,UMOL/KG,,UMOL/KG,,UMOL/KG,,UMOL/KG,,UMOL/KG,,PMOL/KG,,PMOL/KG,,PMOL/KG,,FMOL/KG,,UMOL/KG,,UMOL/KG,,,,DEG C,TU,,NMOL/KG,,PERCNT,,DEG C,,/MILLE,,/MILLE,,/MILLE,NMOL/KG,,NMOL/KG,PMOL/KG,,/MILLE,,UMOL/KG,,UMOL/KG,,,,TU,NMOL/KG,PERCNT,DEG C,ITS-90,,G/KG,,/MILLE,,/MILLE,,,,,,
33AT20120419,        A20,      26,          1,         36,         36,2,20120426,       0039,    12.0768,   -52.3337,       5042,     3.9,  27.4902,  34.1077,2,  34.1148,2,    201.4,2,   201.6,2,    2.46,2,    0.00,2,    0.00,2,    0.01,2,   1.623,2,   1.016,2,   0.142,2,    1.04,2,  1931.8,6,  2258.4,2,   8.1012,2,    25.00,-999.000,9,-999.0000,9, -999.00,9,  27.4879,2, -999.00,9,  -999.0,9,  -999.0,-999.000,9,-999.000,-999.000,9, -999.00,9, -999.00,9, -999.00,9,  12.0737, -52.3322,-999.000,-999.0000, -999.00,  27.4893,  27.4879,2,    34.2757,2,  -999.0,9,     -999.0,9,     -999.0,9,     -999.0,9,       0251
33AT20120419,        A20,      26,          1,         35,         35,2,20120426,       0039,    12.0768,   -52.3337,       5042,    25.8,  26.8825,  36.2784,2,  36.2754,2,    204.8,2,   203.5,2,    0.81,2,    0.00,2,    0.00,2,    0.00,2,   1.648,2,   1.037,2,   0.145,2,    1.15,2,  2027.0,2,  2378.7,2,   8.0990,2,    25.00,-999.000,9,-999.0000,9, -999.00,9,  26.8791,2, -999.00,9,  -999.0,9,  -999.0,-999.000,9,-999.000,-999.000,9, -999.00,9, -999.00,9, -999.00,9,  12.0737, -52.3322,-999.000,-999.0000, -999.00,  26.8766,  26.8791,2,    36.4465,2,  -999.0,9,     -999.0,9,     -999.0,9,     -999.0,9,       0249
33AT20120419,        A20,      26,          1,         34,         34,2,20120426,       0039,    12.0768,   -52.3337,       5042,    50.5,  26.5575,  36.2844,2,  36.2853,2,    206.0,2,   205.8,2,    0.85,2,    0.00,2,    0.00,2,    0.00,2,-999.000,5,-999.000,5,-999.000,5,    1.08,2,  2028.5,2,  2379.7,2,   8.0955,6,    25.00,-999.000,9,-999.0000,9, -999.00,9,  26.5565,2, -999.00,9,  -999.0,9,  -999.0,-999.000,9,-999.000,-999.000,9, -999.00,9, -999.00,9, -999.00,9,  12.0737, -52.3323,-999.000,-999.0000, -999.00,  26.5460,  26.5565,2,    36.4564,2,  -999.0,9,     -999.0,9,     -999.0,9,     -999.0,9,       0247
33AT20120419,        A20,      26,          1,         33,         33,2,20120426,       0039,    12.0768,   -52.3337,       5042,    75.3,  26.4624,  36.2953,2,  36.2954,2,    203.2,2,   202.9,2,    0.76,2,    0.00,2,    0.00,2,    0.00,2,   1.676,2,   1.053,2,   0.130,2,    1.12,2,  2032.1,2,  2380.6,2,   8.0905,2,    25.00,-999.000,9,-999.0000,9, -999.00,9,  26.4669,2, -999.00,9,  -999.0,9,  -999.0,-999.000,9,-999.000,-999.000,9, -999.00,9, -999.00,9, -999.00,9,  12.0738, -52.3323,-999.000,-999.0000, -999.00,  26.4453,  26.4669,2,    36.4666,2,  -999.0,9,     -999.0,9,     -999.0,9,     -999.0,1,       0245
33AT20120419,        A20,      26,          1,         32,         32,2,20120426,       0039,    12.0768,   -52.3337,       5042,    99.9,  25.8687,  36.8503,2,  36.8335,2,    195.4,2,   195.9,2,    0.57,2,    0.00,2,    0.00,2,    0.00,2,-999.000,9,-999.000,9,-999.000,9, -999.00,9,  2069.5,2,  2412.4,2,   8.0725,2,    25.00,-999.000,9,-999.0000,9, -999.00,9,  25.8628,2, -999.00,9,  -999.0,9,  -999.0,-999.000,9,-999.000,-999.000,9, -999.00,9, -999.00,9, -999.00,9,  12.0739, -52.3323,-999.000,-999.0000, -999.00,  25.8463,  25.8628,2,    37.0072,2,  -999.0,9,     -999.0,9,     -999.0,9,     -999.0,1,       0242
33AT20120419,        A20,      26,          1,         31,         31,2,20120426,       0039,    12.0768,   -52.3337,       5042,   151.0,  19.8507,  36.5233,2,  36.5155,2,    124.5,2,   126.4,2,    3.03,2,    9.44,2,    0.03,2,    0.58,2,   2.049,2,   1.232,2,   0.061,2,    0.89,2,  -999.0,9,  -999.0,9,-999.0000,9,  -999.00,-999.000,9,-999.0000,9, -999.00,9,  19.8403,2, -999.00,9,  -999.0,9,  -999.0,-999.000,9,-999.000,-999.000,9, -999.00,9, -999.00,9, -999.00,9,  12.0739, -52.3324,-999.000,-999.0000, -999.00,  19.8227,  19.8403,2,    36.6877,2,  -999.0,9,     -999.0,9,     -999.0,9,     -999.0,9,       0239
33AT20120419,        A20,      26,          1,         30,         30,2,20120426,       0039,    12.0768,   -52.3337,       5042,   200.9,  15.1137,  35.8405,2,  35.8410,2,    121.8,2,   122.9,2,    6.29,2,   17.30,2,    0.01,2,    1.07,2,   2.124,2,   1.225,2,   0.020,2,    0.74,2,  2183.1,2,  2352.4,2,   7.7613,2,    25.00,-999.000,9,-999.0000,9, -999.00,9,  15.1241,2, -999.00,9,  -999.0,9,  -999.0,-999.000,9,-999.000,-999.000,9, -999.00,9, -999.00,9, -999.00,9,  12.0739, -52.3324,-999.000,-999.0000, -999.00,  15.0829,  15.1241,2,    36.0100,2,  -999.0,9,     -999.0,9,     -999.0,9,     -999.0,9,       0236
33AT20120419,        A20,      26,          1,         29,         29,2,20120426,       0039,    12.0768,   -52.3337,       5042,   250.4,  13.2533,  35.6344,2,  35.6255,2,    120.1,2,   119.4,2,    8.01,2,   20.68,2,    0.01,2,    1.26,2,   1.929,2,   1.054,2,   0.014,2,    0.54,2,  2189.4,2,  2341.0,2,   7.7198,2,    25.00,-999.000,9,-999.0000,9, -999.00,9,  13.3049,2, -999.00,9,  -999.0,9,  -999.0,-999.000,9,-999.000,-999.000,9, -999.00,9, -999.00,9, -999.00,9,  12.0740, -52.3325,-999.000,-999.0000, -999.00,  13.2181,  13.3049,2,    35.7935,2,  -999.0,9,     -999.0,9,     -999.0,9,     -999.0,9,       0234
33AT20120419,        A20,      26,          1,         28,         28,2,20120426,       0039,    12.0768,   -52.3337,       5042,   301.6,  12.1622,  35.4552,2,  35.4407,2,    116.6,2,   116.2,2,    9.71,2,   23.10,2,    0.00,2,    1.41,2,   1.776,2,   0.947,2,   0.020,2,    0.46,2,  -999.0,9,  -999.0,9,-999.0000,9,  -999.00,-999.000,9,-999.0000,9, -999.00,9,  12.1431,2, -999.00,9,  -999.0,9,  -999.0,-999.000,9,-999.000,-999.000,9, -999.00,9, -999.00,9, -999.00,9,  12.0741, -52.3325,-999.000,-999.0000, -999.00,  12.1222,  12.1431,2,    35.6078,2,  -999.0,9,     -999.0,9,     -999.0,9,     -999.0,9,       0232
33AT20120419,        A20,      26,          1,         27,         27,2,20120426,       0039,    12.0768,   -52.3337,       5042,   351.3,  10.4868,  35.1739,2,  35.1626,2,    113.8,2,   114.6,2,   12.36,2,   26.56,2,    0.00,2,    1.65,2,   1.579,2,   0.836,2,   0.023,2,    0.36,2,  2201.8,2,  2319.6,2,   7.6396,2,    25.00,-999.000,9,-999.0000,9, -999.00,9,  10.4835,2, -999.00,9,  -999.0,9,  -999.0,-999.000,9,-999.000,-999.000,9, -999.00,9, -999.00,9, -999.00,9,  12.0741, -52.3325,-999.000,-999.0000, -999.00,  10.4444,  10.4835,2,    35.3284,2,  -999.0,9,     -999.0,9,     -999.0,9,     -999.0,1,       0230
33AT20120419,        A20,      26,          1,         26,         26,2,20120426,       0039,    12.0768,   -52.3337,       5042,   402.1,   9.8827,  35.1028,2,  35.0969,2,    115.2,2,   116.6,2,   13.54,2,   27.62,2,    0.00,2,    1.71,2,   1.471,2,   0.762,2,   0.017,2,    0.33,2,  2203.4,2,  2317.1,6,   7.6293,2,    25.00,-999.000,9,-999.0000,9, -999.00,9,   9.8714,2, -999.00,9,  -999.0,9,  -999.0,-999.000,9,-999.000,-999.000,9, -999.00,9, -999.00,9, -999.00,9,  12.0742, -52.3326,-999.000,-999.0000, -999.00,   9.8358,   9.8714,2,    35.2623,2,  -999.0,9,     -999.0,9,     -999.0,9,     -999.0,1,       0228
33AT20120419,        A20,      26,          1,         25,         25,2,20120426,       0039,    12.0768,   -52.3337,       5042,   502.3,   8.3861,  34.8985,2,  34.8847,2,    118.3,2,   117.8,2,   17.25,2,   30.84,2,    0.00,2,    1.92,2,   1.070,2,   0.542,2,   0.018,2,    0.25,2,  2209.9,2,  2309.5,2,   7.5911,2,    25.00,-999.000,9,-999.0000,9, -999.00,9,   8.3967,2, -999.00,9,  -999.0,9,  -999.0,-999.000,9,-999.000,-999.000,9, -999.00,9, -999.00,9, -999.00,9,  12.0743, -52.3326,-999.000,-999.0000, -999.00,   8.3329,   8.3967,2,    35.0492,2,  -999.0,9,     -999.0,9,     -999.0,9,     -999.0,9,       0226
33AT20120419,        A20,      26,          1,         24,         24,2,20120426,       0039,    12.0768,   -52.3337,       5042,   603.4,   7.2506,  34.7670,2,  34.7630,2,    119.4,2,   117.1,2,   20.89,2,   33.48,2,    0.00,2,    2.10,2,-999.000,9,-999.000,9,-999.000,9, -999.00,9,  -999.0,9,  -999.0,9,-999.0000,9,  -999.00,-999.000,9,-999.0000,9, -999.00,9,   7.2426,2, -999.00,9,  -999.0,9,  -999.0,-999.000,9,-999.000,-999.000,9, -999.00,9, -999.00,9, -999.00,9,  12.0743, -52.3326,-999.000,-999.0000, -999.00,   7.1915,   7.2426,2,    34.9269,2,  -999.0,9,     -999.0,9,     -999.0,9,     -999.0,9,       0223
33AT20120419,        A20,      26,          1,         23,         23,2,20120426,       0039,    12.0768,   -52.3337,       5042,   704.2,   6.4206,  34.6923,2,  34.6920,2,    124.8,2,   122.7,2,   23.65,2,   34.51,2,    0.00,2,    2.20,2,   0.434,2,   0.199,2,   0.009,2,    0.07,2,  2219.2,2,  2305.5,2,   7.5522,2,    25.00,-999.000,9,-999.0000,9, -999.00,9,   6.4204,2, -999.00,9,  -999.0,9,  -999.0,-999.000,9,-999.000,-999.000,9, -999.00,9, -999.00,9, -999.00,9,  12.0744, -52.3327,-999.000,-999.0000, -999.00,   6.3556,   6.4204,2,    34.8556,2,  -999.0,9,     -999.0,9,     -999.0,9,     -999.0,9,       0220
33AT20120419,        A20,      26,          1,         22,         22,2,20120426,       0039,    12.0768,   -52.3337,       5042,   805.5,   5.8852,  34.6748,2,  34.6708,2,    127.6,2,   127.4,2,   25.85,2,   34.84,2,    0.00,2,    2.24,2,   0.266,2,   0.120,2,   0.005,2,    0.04,2,  2221.1,2,  2306.7,2,   7.5506,6,    25.00,-999.000,9,-999.0000,9, -999.00,9,   5.8803,2, -999.00,9,  -999.0,9,  -999.0,-999.000,9,-999.000,-999.000,9, -999.00,9, -999.00,9, -999.00,9,  12.0744, -52.3327,-999.000,-999.0000, -999.00,   5.8136,   5.8803,2,    34.8343,2,  -999.0,9,     -999.0,9,     -999.0,9,     -999.0,9,       0217
33AT20120419,        A20,      26,          1,         21,         21,2,20120426,       0039,    12.0768,   -52.3337,       5042,   905.7,   5.4981,  34.6918,2,  34.6887,2,    135.0,2,   135.3,2,   27.05,2,   34.27,2,    0.00,2,    2.22,2,   0.164,2,   0.081,2,   0.005,2,    0.03,2,  2220.6,6,  2309.5,2,   7.5596,2,    25.00,-999.000,9,-999.0000,9, -999.00,9,   5.4992,2, -999.00,9,  -999.0,9,  -999.0,-999.000,9,-999.000,-999.000,9, -999.00,9, -999.00,9, -999.00,9,  12.0743, -52.3327,-999.000,-999.0000, -999.00,   5.4196,   5.4992,2,    34.8523,2,  -999.0,9,     -999.0,9,     -999.0,9,     -999.0,9,       0214
33AT20120419,        A20,      26,          1,         20,         20,2,20120426,       0039,    12.0768,   -52.3337,       5042,  1007.7,   5.3099,  34.7394,2,  34.7412,2,    145.2,2,   144.5,2,   26.66,2,   32.73,2,    0.00,2,    2.13,2,   0.134,2,   0.055,2,   0.006,2,    0.02,2,  2216.4,2,  2313.0,2,   7.5795,2,    25.00,-999.000,9,-999.0000,9, -999.00,9,   5.3100,2, -999.00,9,  -999.0,9,  -999.0,-999.000,9,-999.000,-999.000,9, -999.00,9, -999.00,9, -999.00,9,  12.0744, -52.3327,-999.000,-999.0000, -999.00,   5.2231,   5.3100,2,    34.9050,2,  -999.0,9,     -999.0,9,     -999.0,9,     -999.0,9,       0211
33AT20120419,        A20,      26,          1,         19,         19,2,20120426,       0039,    12.0768,   -52.3337,       5042,  1108.3,   5.3291,  34.8481,2,  34.8473,2,    160.1,2,   160.3,2,   24.05,2,   29.72,2,    0.00,2,    1.93,2,   0.194,2,   0.083,2,   0.012,2,    0.05,2,  2207.7,2,  2317.0,2,   7.6146,2,    25.00,-999.000,9,-999.0000,9, -999.00,9,   5.3296,2, -999.00,9,  -999.0,9,  -999.0,-999.000,9,-999.000,-999.000,9, -999.00,9, -999.00,9, -999.00,9,  12.0745, -52.3327,-999.000,-999.0000, -999.00,   5.2325,   5.3296,2,    35.0117,2,  -999.0,9,     -999.0,9,     -999.0,9,     -999.0,9,       0209
33AT20120419,        A20,      26,          1,         18,         18,2,20120426,       0039,    12.0768,   -52.3337,       5042,  1208.7,   5.2605,  34.9382,2,  34.9388,2,    177.8,2,   181.9,2,   21.09,2,   26.19,2,    0.00,2,    1.71,2,   0.350,2,   0.158,2,   0.016,2,    0.08,2,  -999.0,9,  -999.0,9,-999.0000,9,  -999.00,-999.000,9,-999.0000,9, -999.00,9,   5.2602,2, -999.00,9,  -999.0,9,  -999.0,-999.000,9,-999.000,-999.000,9, -999.00,9, -999.00,9, -999.00,9,  12.0745, -52.3327,-999.000,-999.0000, -999.00,   5.1548,   5.2602,2,    35.1036,2,  -999.0,9,     -999.0,9,     -999.0,9,     -999.0,9,       0205
33AT20120419,        A20,      26,          1,         17,         17,2,20120426,       0039,    12.0768,   -52.3337,       5042,  1310.2,   5.0196,  34.9830,2,  34.9803,2,    200.5,2,   202.7,2,   18.80,2,   23.43,2,    0.00,2,    1.53,2,   0.397,2,   0.199,2,   0.019,2,    0.13,2,  2185.4,2,  2319.6,2,   7.6815,2,    25.00,-999.000,9,-999.0000,9, -999.00,9,   5.0203,2, -999.00,9,  -999.0,9,  -999.0,-999.000,9,-999.000,-999.000,9, -999.00,9, -999.00,9, -999.00,9,  12.0746, -52.3328,-999.000,-999.0000, -999.00,   4.9063,   5.0203,2,    35.1453,2,  -999.0,9,     -999.0,9,     -999.0,9,     -999.0,9,       0203
33AT20120419,        A20,      26,          1,         16,         16,4,20120426,       0039,    12.0768,   -52.3337,       5042,  1411.2,   4.7829,  35.0020,2,  34.7072,4,    219.0,2,   121.2,4,   22.68,4,   34.20,4,    0.00,4,    2.17,4,-999.000,9,-999.000,9,-999.000,9, -999.00,9,  2217.6,4,  2311.0,4,   7.5547,4,    25.00,-999.000,9,-999.0000,9, -999.00,9,   4.7835,2, -999.00,9,  -999.0,9,  -999.0,-999.000,9,-999.000,-999.000,9, -999.00,9, -999.00,9, -999.00,9,  12.0746, -52.3328,-999.000,-999.0000, -999.00,   4.6623,   4.7835,2,    34.8708,4,  -999.0,9,     -999.0,9,     -999.0,9,     -999.0,9,       0200
33AT20120419,        A20,      26,          1,         15,         15,2,20120426,       0039,    12.0768,   -52.3337,       5042,  1512.9,   4.5083,  35.0062,2,  34.9823,4,    233.1,2,   236.4,2,   18.80,4,   23.51,4,    0.00,4,    1.54,4,   0.976,2,   0.451,2,   0.043,2,    0.21,2,  2170.0,2,  2318.0,2,   7.7178,2,    25.00,-999.000,9,-999.0000,9, -999.00,9,   4.5043,2, -999.00,9,  -999.0,9,  -999.0,-999.000,9,-999.000,-999.000,9, -999.00,9, -999.00,9, -999.00,9,  12.0747, -52.3329,-999.000,-999.0000, -999.00,   4.3810,   4.5043,2,    35.1472,4,  -999.0,9,     -999.0,9,     -999.0,9,     -999.0,9,       0157
33AT20120419,        A20,      26,          1,         14,         14,2,20120426,       0039,    12.0768,   -52.3337,       5042,  1614.1,   4.2732,  34.9982,2,  34.9982,2,    243.1,2,   243.8,2,   15.09,2,   19.23,2,    0.00,2,    1.28,2,   0.982,2,   0.448,2,   0.047,2,    0.22,2,  -999.0,9,  -999.0,9,-999.0000,9,  -999.00,-999.000,9,-999.0000,9, -999.00,9,   4.2736,2, -999.00,9,  -999.0,9,  -999.0,-999.000,9,-999.000,-999.000,9, -999.00,9, -999.00,9, -999.00,9,  12.0747, -52.3329,-999.000,-999.0000, -999.00,   4.1391,   4.2736,2,    35.1633,2,  -999.0,9,     -999.0,9,     -999.0,9,     -999.0,9,       0154
33AT20120419,        A20,      26,          1,         13,         13,2,20120426,       0039,    12.0768,   -52.3337,       5042,  1816.6,   3.8401,  34.9789,2,  34.9795,2,    256.7,2,   257.1,2,   14.84,2,   18.25,2,    0.00,2,    1.21,2,   1.128,2,   0.520,2,   0.043,2,    0.21,2,  2161.9,2,  2315.5,2,   7.7332,2,    25.00,-999.000,9,-999.0000,9, -999.00,9,   3.8409,2, -999.00,9,  -999.0,9,  -999.0,-999.000,9,-999.000,-999.000,9, -999.00,9, -999.00,9, -999.00,9,  12.0749, -52.3330,-999.000,-999.0000, -999.00,   3.6925,   3.8409,2,    35.1445,2,  -999.0,9,     -999.0,9,     -999.0,9,     -999.0,9,       0149
33AT20120419,        A20,      26,          1,         12,         12,2,20120426,       0039,    12.0768,   -52.3337,       5042,  2019.3,   3.5628,  34.9717,2,  34.9734,2,    256.8,2,   256.6,2,   17.59,2,   18.50,2,    0.00,2,    1.23,2,   0.645,2,   0.292,2,   0.028,2,    0.11,2,  -999.0,9,  -999.0,9,-999.0000,9,  -999.00,-999.000,9,-999.0000,9, -999.00,9,   3.5635,2, -999.00,9,  -999.0,9,  -999.0,-999.000,9,-999.000,-999.000,9, -999.00,9, -999.00,9, -999.00,9,  12.0750, -52.3330,-999.000,-999.0000, -999.00,   3.3999,   3.5635,2,    35.1383,2,  -999.0,9,     -999.0,9,     -999.0,9,     -999.0,9,       0145
33AT20120419,        A20,      26,          1,         11,         11,4,20120426,       0039,    12.0768,   -52.3337,       5042,  2273.7,   3.2443,  34.9576,2,  34.9463,4,    259.0,2,   256.3,4,   24.46,4,   19.13,4,    0.00,4,    1.28,4,   0.323,2,   0.136,2,   0.012,2,    0.07,2,  -999.0,9,  -999.0,9,-999.0000,9,  -999.00,-999.000,9,-999.0000,9, -999.00,9,   3.2467,2, -999.00,9,  -999.0,9,  -999.0,-999.000,9,-999.000,-999.000,9, -999.00,9, -999.00,9, -999.00,9,  12.0752, -52.3332,-999.000,-999.0000, -999.00,   3.0620,   3.2467,2,    35.1111,4,  -999.0,9,     -999.0,9,     -999.0,9,     -999.0,9,       0139
33AT20120419,        A20,      26,          1,         10,         10,2,20120426,       0039,    12.0768,   -52.3337,       5042,  2527.1,   3.0290,  34.9466,2,  34.9461,2,    256.5,2,   256.4,2,   24.34,2,   19.11,2,    0.00,2,    1.28,2,   0.328,2,   0.135,2,   0.016,2,    0.05,2,  2167.6,2,  2324.8,2,   7.7344,6,    25.00,-999.000,9,-999.0000,9, -999.00,9,   3.0288,2, -999.00,9,  -999.0,9,  -999.0,-999.000,9,-999.000,-999.000,9, -999.00,9, -999.00,9, -999.00,9,  12.0753, -52.3332,-999.000,-999.0000, -999.00,   2.8258,   3.0288,2,    35.1109,2,  -999.0,9,     -999.0,9,     -999.0,9,     -999.0,9,       0133
33AT20120419,        A20,      26,          1,          9,          9,2,20120426,       0039,    12.0768,   -52.3337,       5042,  2782.0,   2.8562,  34.9355,2,  34.9347,2,    254.5,2,   254.8,2,   28.14,2,   19.63,2,    0.00,2,    1.32,2,   0.261,2,   0.112,2,   0.013,2,    0.09,2,  -999.0,9,  -999.0,9,-999.0000,9,  -999.00,-999.000,9,-999.0000,9, -999.00,9,   2.8561,2, -999.00,9,  -999.0,9,  -999.0,-999.000,9,-999.000,-999.000,9, -999.00,9, -999.00,9, -999.00,9,  12.0755, -52.3332,-999.000,-999.0000, -999.00,   2.6309,   2.8561,2,    35.0994,2,  -999.0,9,     -999.0,9,     -999.0,9,     -999.0,9,       0128
33AT20120419,        A20,      26,          1,          8,          8,2,20120426,       0039,    12.0768,   -52.3337,       5042,  3036.4,   2.7222,  34.9261,2,  34.9250,2,    254.7,2,   254.6,2,   30.56,2,   19.88,2,    0.00,2,    1.34,2,-999.000,9,-999.000,9,-999.000,9, -999.00,9,  2175.2,2,  2332.5,6,   7.7358,2,    25.00,-999.000,9,-999.0000,9, -999.00,9,   2.7224,2, -999.00,9,  -999.0,9,  -999.0,-999.000,9,-999.000,-999.000,9, -999.00,9, -999.00,9, -999.00,9,  12.0755, -52.3332,-999.000,-999.0000, -999.00,   2.4737,   2.7224,2,    35.0897,2,  -999.0,9,     -999.0,9,     -999.0,9,     -999.0,9,       0122
33AT20120419,        A20,      26,          1,          7,          7,2,20120426,       0039,    12.0768,   -52.3337,       5042,  3343.1,   2.5782,  34.9141,2,  34.9150,2,    254.2,2,   254.1,2,   33.62,2,   20.17,2,    0.00,2,    1.36,2,   0.257,2,   0.112,2,   0.027,2,    0.05,2,  2178.8,2,  2333.6,2,   7.7362,2,    25.00,-999.000,9,-999.0000,9, -999.00,9,   2.5780,2, -999.00,9,  -999.0,9,  -999.0,-999.000,9,-999.000,-999.000,9, -999.00,9, -999.00,9, -999.00,9,  12.0756, -52.3333,-999.000,-999.0000, -999.00,   2.3007,   2.5780,2,    35.0796,2,  -999.0,9,     -999.0,9,     -999.0,9,     -999.0,9,       0116