BOTTLE,20220712CCHSIOCBG
EXPOCODE,SECT_ID,STNNBR,CASTNO,SAMPNO,BTLNBR,BTLNBR_FLAG_W,DATE,TIME,LATITUDE,LONGITUDE,DEPTH,CTDPRS,CTDTMP,CTDSAL,CTDSAL_FLAG_W,SALNTY,SALNTY_FLAG_W,CTDOXY,CTDOXY_FLAG_W,OXYGEN,OXYGEN_FLAG_W,SILCAT,SILCAT_FLAG_W,NITRAT,NITRAT_FLAG_W,NITRIT,NITRIT_FLAG_W,PHSPHT,PHSPHT_FLAG_W,CFC-11,CFC-11_FLAG_W,CFC-12,CFC-12_FLAG_W,CFC113,CFC113_FLAG_W,SF6,SF6_FLAG_W,TCARBN,TCARBN_FLAG_W,ALKALI,ALKALI_FLAG_W,PH_TOT,PH_TOT_FLAG_W,PH_TMP,TRITUM,TRITUM_FLAG_W,HELIUM,HELIUM_FLAG_W,DELHE3,DELHE3_FLAG_W,REFTMP,REFTMP_FLAG_W,DELC13,DELC13_FLAG_W,DELC14,DELC14_FLAG_W,C14ERR,NEON,NEON_FLAG_W,NEONER,CCL4,CCL4_FLAG_W,DELO18,DELO18_FLAG_W,DOC,DOC_FLAG_W,TDN,TDN_FLAG_W,BTL_LAT,BTL_LON,TRITER,HELIER,DELHER,THETA,SBE35,SBE35_FLAG_W,SALTREF,SALTREF_FLAG_W,14C-DOC,14C-DOC_FLAG_W,DELO17,DELO17_FLAG_W,O2/AR,O2/AR_FLAG_W,SIP,SIP_FLAG_W,BTL_TIME
,,,,,,,,,,,METERS,DBAR,ITS-90,PSS-78,,PSS-78,,UMOL/KG,,UMOL/KG,,UMOL/KG,,UMOL/KG,,UMOL/KG,,UMOL/KG,,PMOL/KG,,PMOL/KG,,PMOL/KG,,FMOL/KG,,UMOL/KG,,UMOL/KG,,,,DEG C,TU,,NMOL/KG,,PERCNT,,DEG C,,/MILLE,,/MILLE,,/MILLE,NMOL/KG,,NMOL/KG,PMOL/KG,,/MILLE,,UMOL/KG,,UMOL/KG,,,,TU,NMOL/KG,PERCNT,DEG C,ITS-90,,G/KG,,/MILLE,,/MILLE,,,,,,
33AT20120419,        A20,      32,          1,          6,          6,2,20120427,       2158,    16.0718,   -52.3327,       5033,  3649.4,   2.4545,  34.9025,2,  34.9022,2,    253.4,2,   254.2,2,   37.03,2,   20.27,2,    0.00,2,    1.40,2,   0.232,2,   0.100,2,   0.013,2,    0.05,2,  2182.0,2,  2335.2,2,   7.7325,2,    25.00,   0.053,2,   1.8727,2,    4.23,2,   2.4544,2, -999.00,9,  -999.0,9,  -999.0,   8.273,2,   0.038,-999.000,9, -999.00,9, -999.00,9, -999.00,9,  16.0717, -52.3327,   0.011,   0.0079,    0.15,   2.1469,   2.4544,2,    35.0667,2,  -999.0,9,     -999.0,9,     -999.0,9,     -999.0,9,       2230
33AT20120419,        A20,      32,          1,          5,          5,2,20120427,       2158,    16.0718,   -52.3327,       5033,  3957.7,   2.2991,  34.8884,2,  34.8866,2,    254.4,2,   254.6,2,   40.36,2,   20.52,2,    0.00,2,    1.42,2,   0.246,2,   0.109,2,   0.013,2,    0.06,2,  -999.0,9,  -999.0,9,-999.0000,9,  -999.00,-999.000,9,-999.0000,9, -999.00,9,   2.2988,2, -999.00,9,  -999.0,9,  -999.0,-999.000,9,-999.000,-999.000,9, -999.00,9, -999.00,9, -999.00,9,  16.0719, -52.3327,-999.000,-999.0000, -999.00,   1.9613,   2.2988,2,    35.0511,2,  -999.0,9,     -999.0,9,     -999.0,9,     -999.0,9,       2224
33AT20120419,        A20,      32,          1,          4,          4,2,20120427,       2158,    16.0718,   -52.3327,       5033,  4264.2,   2.1635,  34.8742,2,  34.8737,2,    254.4,2,   253.9,2,   44.29,2,   20.92,2,    0.00,2,    1.43,2,   0.263,2,   0.118,2,   0.015,2,    0.07,2,  2189.3,2,  2338.1,2,   7.7257,2,    25.00,   0.065,2,   1.8713,2,    4.46,2,   2.1636,2, -999.00,9,  -999.0,9,  -999.0,   8.229,2,   0.038,-999.000,9, -999.00,9, -999.00,9, -999.00,9,  16.0720, -52.3327,   0.011,   0.0079,    0.15,   1.7944,   2.1636,2,    35.0381,2,  -999.0,9,     -999.0,9,     -999.0,9,     -999.0,9,       2218
33AT20120419,        A20,      32,          1,          3,          3,2,20120427,       2158,    16.0718,   -52.3327,       5033,  4571.5,   2.0251,  34.8562,2,  34.8546,2,    250.9,2,   250.9,2,   51.22,2,   21.86,2,    0.00,2,    1.50,2,   0.274,2,   0.116,2,   0.019,2,    0.04,2,  -999.0,9,  -999.0,9,-999.0000,9,  -999.00,-999.000,9,-999.0000,9, -999.00,9,   2.0253,2, -999.00,9,  -999.0,9,  -999.0,-999.000,9,-999.000,-999.000,9, -999.00,9, -999.00,9, -999.00,9,  16.0719, -52.3327,-999.000,-999.0000, -999.00,   1.6241,   2.0253,2,    35.0189,2,  -999.0,9,     -999.0,9,     -999.0,9,     -999.0,9,       2212
33AT20120419,        A20,      32,          1,          2,          2,2,20120427,       2158,    16.0718,   -52.3327,       5033,  4829.1,   1.8779,  34.8357,2,  34.8338,2,    245.4,2,   246.0,2,   60.42,2,   23.28,2,    0.00,2,    1.60,2,   0.236,2,   0.101,2,   0.015,2,    0.09,2,  2205.5,2,  2347.5,2,   7.7045,6,    25.00,-999.000,9,-999.0000,9, -999.00,9,   1.8781,2, -999.00,9,  -999.0,9,  -999.0,-999.000,9,-999.000,-999.000,9, -999.00,9, -999.00,9, -999.00,9,  16.0719, -52.3327,-999.000,-999.0000, -999.00,   1.4507,   1.8781,2,    34.9980,2,  -999.0,9,     -999.0,9,     -999.0,9,     -999.0,9,       2206
33AT20120419,        A20,      32,          1,          1,          1,2,20120427,       2158,    16.0718,   -52.3327,       5033,  5110.1,   1.8889,  34.8327,2,  34.8318,2,    245.3,2,   245.2,2,   61.67,2,   23.44,2,    0.00,2,    1.61,2,   0.246,2,   0.105,2,   0.017,2,    0.16,2,  2208.6,6,  2348.7,2,   7.7029,2,    25.00,   0.035,2,   1.8791,2,    4.96,2,   1.8894,2, -999.00,9,  -999.0,9,  -999.0,   8.203,2,   0.038,-999.000,9, -999.00,9, -999.00,9, -999.00,9,  16.0718, -52.3327,   0.011,   0.0079,    0.15,   1.4266,   1.8894,2,    34.9960,2,  -999.0,9,     -999.0,9,     -999.0,9,     -999.0,9,       2159