BOTTLE,20220712CCHSIOCBG
EXPOCODE,SECT_ID,STNNBR,CASTNO,SAMPNO,BTLNBR,BTLNBR_FLAG_W,DATE,TIME,LATITUDE,LONGITUDE,DEPTH,CTDPRS,CTDTMP,CTDSAL,CTDSAL_FLAG_W,SALNTY,SALNTY_FLAG_W,CTDOXY,CTDOXY_FLAG_W,OXYGEN,OXYGEN_FLAG_W,SILCAT,SILCAT_FLAG_W,NITRAT,NITRAT_FLAG_W,NITRIT,NITRIT_FLAG_W,PHSPHT,PHSPHT_FLAG_W,CFC-11,CFC-11_FLAG_W,CFC-12,CFC-12_FLAG_W,CFC113,CFC113_FLAG_W,SF6,SF6_FLAG_W,TCARBN,TCARBN_FLAG_W,ALKALI,ALKALI_FLAG_W,PH_TOT,PH_TOT_FLAG_W,PH_TMP,TRITUM,TRITUM_FLAG_W,HELIUM,HELIUM_FLAG_W,DELHE3,DELHE3_FLAG_W,REFTMP,REFTMP_FLAG_W,DELC13,DELC13_FLAG_W,DELC14,DELC14_FLAG_W,C14ERR,NEON,NEON_FLAG_W,NEONER,CCL4,CCL4_FLAG_W,DELO18,DELO18_FLAG_W,DOC,DOC_FLAG_W,TDN,TDN_FLAG_W,BTL_LAT,BTL_LON,TRITER,HELIER,DELHER,THETA,SBE35,SBE35_FLAG_W,SALTREF,SALTREF_FLAG_W,14C-DOC,14C-DOC_FLAG_W,DELO17,DELO17_FLAG_W,O2/AR,O2/AR_FLAG_W,SIP,SIP_FLAG_W,BTL_TIME
,,,,,,,,,,,METERS,DBAR,ITS-90,PSS-78,,PSS-78,,UMOL/KG,,UMOL/KG,,UMOL/KG,,UMOL/KG,,UMOL/KG,,UMOL/KG,,PMOL/KG,,PMOL/KG,,PMOL/KG,,FMOL/KG,,UMOL/KG,,UMOL/KG,,,,DEG C,TU,,NMOL/KG,,PERCNT,,DEG C,,/MILLE,,/MILLE,,/MILLE,NMOL/KG,,NMOL/KG,PMOL/KG,,/MILLE,,UMOL/KG,,UMOL/KG,,,,TU,NMOL/KG,PERCNT,DEG C,ITS-90,,G/KG,,/MILLE,,/MILLE,,,,,,
33AT20120419,        A20,      21,          1,          6,          6,2,20120424,       1507,     9.6414,   -52.3305,       4869,  3444.7,   2.5672,  34.9137,2,  34.9115,2,    260.4,2,   260.4,2,   29.69,2,   19.33,2,    0.00,2,    1.31,2,   0.392,2,   0.215,2,   0.020,2,    0.00,3,  2172.7,2,  2328.4,6,   7.7395,2,    25.00,-999.000,9,-999.0000,9, -999.00,9,   2.5674,2, -999.00,9,  -999.0,9,  -999.0,-999.000,9,-999.000,   0.370,2, -999.00,9,   40.87,2,   23.32,2,   9.6416, -52.3299,-999.000,-999.0000, -999.00,   2.2791,   2.5674,2,    35.0761,2,  -999.0,9,     -999.0,9,     -999.0,9,     -999.0,9,       1538
33AT20120419,        A20,      21,          1,          5,          5,2,20120424,       1507,     9.6414,   -52.3305,       4869,  3750.5,   2.3937,  34.9005,2,  34.8985,2,    260.8,2,   261.0,2,   32.22,2,   19.45,2,    0.00,2,    1.32,2,   0.374,2,   0.208,2,   0.022,2,    0.00,3,  -999.0,9,  -999.0,9,-999.0000,9,  -999.00,-999.000,9,-999.0000,9, -999.00,9,   2.3938,2, -999.00,9,  -999.0,9,  -999.0,-999.000,9,-999.000,   0.380,2, -999.00,9,   40.19,2,   23.25,2,   9.6415, -52.3300,-999.000,-999.0000, -999.00,   2.0765,   2.3938,2,    35.0631,2,  -999.0,9,     -999.0,9,     -999.0,9,     -999.0,9,       1532
33AT20120419,        A20,      21,          1,          4,          4,2,20120424,       1507,     9.6414,   -52.3305,       4869,  4057.1,   2.2975,  34.8926,2,  34.8906,2,    263.3,2,   263.0,2,   32.80,2,   19.31,2,    0.00,2,    1.31,2,   0.432,2,   0.239,2,   0.027,2,    0.00,3,  2176.1,2,  2331.3,2,   7.7363,6,    25.00,-999.000,9,-999.0000,9, -999.00,9,   2.2977,2, -999.00,9,  -999.0,9,  -999.0,-999.000,9,-999.000,   0.430,2, -999.00,9,   39.96,2,   23.10,2,   9.6415, -52.3302,-999.000,-999.0000, -999.00,   1.9484,   2.2977,2,    35.0551,2,  -999.0,9,     -999.0,9,     -999.0,9,     -999.0,9,       1525
33AT20120419,        A20,      21,          1,          3,          3,2,20120424,       1507,     9.6414,   -52.3305,       4869,  4365.8,   2.2331,  34.8839,2,  34.8820,2,    260.6,2,   260.9,2,   36.49,2,   19.83,2,    0.00,2,    1.35,2,   0.385,2,   0.221,2,   0.027,2,    0.00,3,  2180.8,2,  2333.4,2,   7.7340,6,    25.00,-999.000,9,-999.0000,9, -999.00,9,   2.2322,2, -999.00,9,  -999.0,9,  -999.0,-999.000,9,-999.000,   0.390,2, -999.00,9,   40.35,2,   23.14,2,   9.6415, -52.3303,-999.000,-999.0000, -999.00,   1.8500,   2.2322,2,    35.0464,2,  -999.0,9,     -999.0,9,     -999.0,9,     -999.0,9,       1519
33AT20120419,        A20,      21,          1,          2,          2,2,20120424,       1507,     9.6414,   -52.3305,       4869,  4652.6,   2.0963,  34.8639,2,  34.8627,2,    253.8,2,   253.8,2,   47.31,2,   21.52,2,    0.00,2,    1.46,2,   0.231,2,   0.138,2,   0.017,2,    0.00,3,  -999.0,9,  -999.0,9,-999.0000,9,  -999.00,-999.000,9,-999.0000,9, -999.00,9,   2.0960,2, -999.00,9,  -999.0,9,  -999.0,-999.000,9,-999.000,   0.270,2, -999.00,9,   40.39,2,   24.36,2,   9.6414, -52.3304,-999.000,-999.0000, -999.00,   1.6833,   2.0960,2,    35.0271,2,  -999.0,9,     -999.0,9,     -999.0,9,     -999.0,9,       1513
33AT20120419,        A20,      21,          1,          1,          1,2,20120424,       1507,     9.6414,   -52.3305,       4869,  4933.8,   1.7618,  34.8197,2,  34.8188,2,    240.5,2,   240.7,2,   68.02,2,   24.67,2,    0.00,2,    1.69,2,   0.153,2,   0.093,2,   0.010,2,    0.00,3,  2216.9,6,  2356.7,2,   7.6954,2,    25.00,-999.000,9,-999.0000,9, -999.00,9,   1.7621,2, -999.00,9,  -999.0,9,  -999.0,-999.000,9,-999.000,   0.180,2, -999.00,9,   40.71,2,   27.36,2,   9.6414, -52.3305,-999.000,-999.0000, -999.00,   1.3258,   1.7621,2,    34.9830,2,  -999.0,9,     -999.0,9,     -999.0,9,     -999.0,9,       1507