BOTTLE,20220712CCHSIOCBG
EXPOCODE,SECT_ID,STNNBR,CASTNO,SAMPNO,BTLNBR,BTLNBR_FLAG_W,DATE,TIME,LATITUDE,LONGITUDE,DEPTH,CTDPRS,CTDTMP,CTDSAL,CTDSAL_FLAG_W,SALNTY,SALNTY_FLAG_W,CTDOXY,CTDOXY_FLAG_W,OXYGEN,OXYGEN_FLAG_W,SILCAT,SILCAT_FLAG_W,NITRAT,NITRAT_FLAG_W,NITRIT,NITRIT_FLAG_W,PHSPHT,PHSPHT_FLAG_W,CFC-11,CFC-11_FLAG_W,CFC-12,CFC-12_FLAG_W,CFC113,CFC113_FLAG_W,SF6,SF6_FLAG_W,TCARBN,TCARBN_FLAG_W,ALKALI,ALKALI_FLAG_W,PH_TOT,PH_TOT_FLAG_W,PH_TMP,TRITUM,TRITUM_FLAG_W,HELIUM,HELIUM_FLAG_W,DELHE3,DELHE3_FLAG_W,REFTMP,REFTMP_FLAG_W,DELC13,DELC13_FLAG_W,DELC14,DELC14_FLAG_W,C14ERR,NEON,NEON_FLAG_W,NEONER,CCL4,CCL4_FLAG_W,DELO18,DELO18_FLAG_W,DOC,DOC_FLAG_W,TDN,TDN_FLAG_W,BTL_LAT,BTL_LON,TRITER,HELIER,DELHER,THETA,SBE35,SBE35_FLAG_W,SALTREF,SALTREF_FLAG_W,14C-DOC,14C-DOC_FLAG_W,DELO17,DELO17_FLAG_W,O2/AR,O2/AR_FLAG_W,SIP,SIP_FLAG_W,BTL_TIME
,,,,,,,,,,,METERS,DBAR,ITS-90,PSS-78,,PSS-78,,UMOL/KG,,UMOL/KG,,UMOL/KG,,UMOL/KG,,UMOL/KG,,UMOL/KG,,PMOL/KG,,PMOL/KG,,PMOL/KG,,FMOL/KG,,UMOL/KG,,UMOL/KG,,,,DEG C,TU,,NMOL/KG,,PERCNT,,DEG C,,/MILLE,,/MILLE,,/MILLE,NMOL/KG,,NMOL/KG,PMOL/KG,,/MILLE,,UMOL/KG,,UMOL/KG,,,,TU,NMOL/KG,PERCNT,DEG C,ITS-90,,G/KG,,/MILLE,,/MILLE,,,,,,
33AT20120419,        A20,      68,          1,          4,          4,2,20120509,       1710,    41.0950,   -52.3281,       5152,  4270.0,   2.2640,  34.8887,2,  34.8890,2,    269.1,2,   268.7,2,   28.21,2,   18.24,2,    0.00,2,    1.25,2,   1.405,2,   0.690,2,   0.101,2,    0.39,2,  2172.5,2,  2325.0,2,-999.0000,9,  -999.00,   0.235,2,   1.8780,2,    5.49,2,   2.2643,2, -999.00,9,  -999.0,9,  -999.0,   8.198,2,   0.038,-999.000,9, -999.00,1, -999.00,9, -999.00,9,  41.0943, -52.3272,   0.009,   0.0079,    0.15,   1.8912,   2.2643,2,    35.0535,2,  -999.0,9,     -999.0,1,     -999.0,1,     -999.0,9,       1729
33AT20120419,        A20,      68,          1,          3,          3,2,20120509,       1710,    41.0950,   -52.3281,       5152,  4581.7,   2.2546,  34.8843,2,  34.8837,2,    266.5,2,   266.4,2,   31.09,2,   18.66,2,    0.00,2,    1.28,2,   1.260,2,   0.617,2,   0.081,2,    0.31,2,  -999.0,9,  -999.0,9,-999.0000,9,  -999.00,-999.000,9,-999.0000,9, -999.00,9,   2.2542,2, -999.00,9,  -999.0,9,  -999.0,-999.000,9,-999.000,-999.000,9, -999.00,9, -999.00,9, -999.00,9,  41.0944, -52.3274,-999.000,-999.0000, -999.00,   1.8450,   2.2542,2,    35.0482,2,  -999.0,9,     -999.0,9,     -999.0,9,     -999.0,9,       1723
33AT20120419,        A20,      68,          1,          2,          2,2,20120509,       1710,    41.0950,   -52.3281,       5152,  4911.0,   2.2676,  34.8824,2,  34.8827,2,    265.5,2,   265.5,2,   32.32,2,   18.84,2,    0.00,2,    1.30,2,   1.256,2,   0.608,2,   0.088,2,    0.42,2,  2177.3,2,  2328.7,6,-999.0000,9,  -999.00,-999.000,9,-999.0000,9, -999.00,9,   2.2682,2, -999.00,9,  -999.0,9,  -999.0,-999.000,9,-999.000,-999.000,9, -999.00,9, -999.00,9, -999.00,9,  41.0947, -52.3278,-999.000,-999.0000, -999.00,   1.8171,   2.2682,2,    35.0472,2,  -999.0,9,     -999.0,9,     -999.0,9,     -999.0,9,       1717
33AT20120419,        A20,      68,          1,          1,          1,2,20120509,       1710,    41.0950,   -52.3281,       5152,  5242.9,   2.2696,  34.8759,2,  34.8770,2,    260.0,2,   259.6,2,   37.98,2,   19.79,2,    0.00,2,    1.37,2,   0.866,2,   0.411,2,   0.054,2,    0.20,2,  2185.5,6,  2341.9,2,-999.0000,9,  -999.00,   0.161,2,   1.8750,2,    5.01,2,   2.2695,2, -999.00,9,  -999.0,9,  -999.0,   8.183,2,   0.038,-999.000,9, -999.00,1, -999.00,9, -999.00,9,  41.0950, -52.3281,   0.009,   0.0079,    0.15,   1.7770,   2.2695,2,    35.0415,2,  -999.0,9,     -999.0,1,     -999.0,1,     -999.0,9,       1711