BOTTLE,20220712CCHSIOCBG
EXPOCODE,SECT_ID,STNNBR,CASTNO,SAMPNO,BTLNBR,BTLNBR_FLAG_W,DATE,TIME,LATITUDE,LONGITUDE,DEPTH,CTDPRS,CTDTMP,CTDSAL,CTDSAL_FLAG_W,SALNTY,SALNTY_FLAG_W,CTDOXY,CTDOXY_FLAG_W,OXYGEN,OXYGEN_FLAG_W,SILCAT,SILCAT_FLAG_W,NITRAT,NITRAT_FLAG_W,NITRIT,NITRIT_FLAG_W,PHSPHT,PHSPHT_FLAG_W,CFC-11,CFC-11_FLAG_W,CFC-12,CFC-12_FLAG_W,CFC113,CFC113_FLAG_W,SF6,SF6_FLAG_W,TCARBN,TCARBN_FLAG_W,ALKALI,ALKALI_FLAG_W,PH_TOT,PH_TOT_FLAG_W,PH_TMP,TRITUM,TRITUM_FLAG_W,HELIUM,HELIUM_FLAG_W,DELHE3,DELHE3_FLAG_W,REFTMP,REFTMP_FLAG_W,DELC13,DELC13_FLAG_W,DELC14,DELC14_FLAG_W,C14ERR,NEON,NEON_FLAG_W,NEONER,CCL4,CCL4_FLAG_W,DELO18,DELO18_FLAG_W,DOC,DOC_FLAG_W,TDN,TDN_FLAG_W,BTL_LAT,BTL_LON,TRITER,HELIER,DELHER,THETA,SBE35,SBE35_FLAG_W,SALTREF,SALTREF_FLAG_W,14C-DOC,14C-DOC_FLAG_W,DELO17,DELO17_FLAG_W,O2/AR,O2/AR_FLAG_W,SIP,SIP_FLAG_W,BTL_TIME
,,,,,,,,,,,METERS,DBAR,ITS-90,PSS-78,,PSS-78,,UMOL/KG,,UMOL/KG,,UMOL/KG,,UMOL/KG,,UMOL/KG,,UMOL/KG,,PMOL/KG,,PMOL/KG,,PMOL/KG,,FMOL/KG,,UMOL/KG,,UMOL/KG,,,,DEG C,TU,,NMOL/KG,,PERCNT,,DEG C,,/MILLE,,/MILLE,,/MILLE,NMOL/KG,,NMOL/KG,PMOL/KG,,/MILLE,,UMOL/KG,,UMOL/KG,,,,TU,NMOL/KG,PERCNT,DEG C,ITS-90,,G/KG,,/MILLE,,/MILLE,,,,,,
33AT20120419,        A20,      75,          1,          4,          4,2,20120511,       0304,    42.4356,   -51.2791,       2584,  2090.6,   3.4011,  34.9302,2,  34.9309,2,    269.8,2,   270.1,2,   13.14,2,   17.29,2,    0.00,2,    1.13,2,   2.040,2,   1.035,2,-999.000,5, -999.00,5,  2161.8,2,  2310.0,2,-999.0000,9,  -999.00,-999.000,9,-999.0000,9, -999.00,9,   3.4022,2, -999.00,9,  -999.0,9,  -999.0,-999.000,9,-999.000,-999.000,5, -999.00,9,   43.68,2,   20.42,2,  42.4355, -51.2793,-999.000,-999.0000, -999.00,   3.2340,   3.4022,2,    35.0956,2,  -999.0,9,     -999.0,9,     -999.0,9,     -999.0,9,       0316
33AT20120419,        A20,      75,          1,          3,          3,2,20120511,       0304,    42.4356,   -51.2791,       2584,  2291.5,   3.1987,  34.9265,2,  34.9272,2,    271.0,2,   270.9,2,   14.16,2,   17.16,2,    0.00,2,    1.13,2,   1.917,2,   0.987,2,-999.000,5, -999.00,5,  -999.0,9,  -999.0,9,-999.0000,9,  -999.00,-999.000,9,-999.0000,9, -999.00,9,   3.1989,2, -999.00,9,  -999.0,9,  -999.0,-999.000,9,-999.000,-999.000,5, -999.00,9,    42.6,2,   20.08,2,  42.4355, -51.2792,-999.000,-999.0000, -999.00,   3.0156,   3.1989,2,    35.0919,2,  -999.0,9,     -999.0,9,     -999.0,9,     -999.0,9,       0312
33AT20120419,        A20,      75,          1,          2,          2,2,20120511,       0304,    42.4356,   -51.2791,       2584,  2495.8,   2.9062,  34.9185,2,  34.9187,2,    273.3,2,   274.5,2,   14.48,2,   16.66,2,    0.00,2,    1.10,2,   2.087,2,   1.084,2,-999.000,5, -999.00,5,  2161.8,2,  2309.6,6,-999.0000,9,  -999.00,-999.000,9,-999.0000,9, -999.00,9,   2.9069,2, -999.00,9,  -999.0,9,  -999.0,-999.000,9,-999.000,-999.000,5, -999.00,9,   44.03,2,   19.96,2,  42.4356, -51.2792,-999.000,-999.0000, -999.00,   2.7084,   2.9069,2,    35.0834,2,  -999.0,9,     -999.0,9,     -999.0,9,     -999.0,9,       0308
33AT20120419,        A20,      75,          1,          1,          1,2,20120511,       0304,    42.4356,   -51.2791,       2584,  2601.1,   2.8812,  34.9173,2,  34.9181,2,    274.5,2,   274.6,2,   14.57,2,   16.58,2,    0.00,2,    1.09,2,   2.139,2,   1.093,2,-999.000,5, -999.00,5,  2162.0,2,  2312.0,2,-999.0000,9,  -999.00,-999.000,9,-999.0000,9, -999.00,9,   2.8815,2, -999.00,9,  -999.0,9,  -999.0,-999.000,9,-999.000,-999.000,5, -999.00,9,   44.36,2,   19.90,2,  42.4356, -51.2791,-999.000,-999.0000, -999.00,   2.6736,   2.8815,2,    35.0828,2,  -999.0,9,     -999.0,9,     -999.0,9,     -999.0,9,       0305