BOTTLE,20220712CCHSIOCBG
EXPOCODE,SECT_ID,STNNBR,CASTNO,SAMPNO,BTLNBR,BTLNBR_FLAG_W,DATE,TIME,LATITUDE,LONGITUDE,DEPTH,CTDPRS,CTDTMP,CTDSAL,CTDSAL_FLAG_W,SALNTY,SALNTY_FLAG_W,CTDOXY,CTDOXY_FLAG_W,OXYGEN,OXYGEN_FLAG_W,SILCAT,SILCAT_FLAG_W,NITRAT,NITRAT_FLAG_W,NITRIT,NITRIT_FLAG_W,PHSPHT,PHSPHT_FLAG_W,CFC-11,CFC-11_FLAG_W,CFC-12,CFC-12_FLAG_W,CFC113,CFC113_FLAG_W,SF6,SF6_FLAG_W,TCARBN,TCARBN_FLAG_W,ALKALI,ALKALI_FLAG_W,PH_TOT,PH_TOT_FLAG_W,PH_TMP,TRITUM,TRITUM_FLAG_W,HELIUM,HELIUM_FLAG_W,DELHE3,DELHE3_FLAG_W,REFTMP,REFTMP_FLAG_W,DELC13,DELC13_FLAG_W,DELC14,DELC14_FLAG_W,C14ERR,NEON,NEON_FLAG_W,NEONER,CCL4,CCL4_FLAG_W,DELO18,DELO18_FLAG_W,DOC,DOC_FLAG_W,TDN,TDN_FLAG_W,BTL_LAT,BTL_LON,TRITER,HELIER,DELHER,THETA,SBE35,SBE35_FLAG_W,SALTREF,SALTREF_FLAG_W,14C-DOC,14C-DOC_FLAG_W,DELO17,DELO17_FLAG_W,O2/AR,O2/AR_FLAG_W,SIP,SIP_FLAG_W,BTL_TIME
,,,,,,,,,,,METERS,DBAR,ITS-90,PSS-78,,PSS-78,,UMOL/KG,,UMOL/KG,,UMOL/KG,,UMOL/KG,,UMOL/KG,,UMOL/KG,,PMOL/KG,,PMOL/KG,,PMOL/KG,,FMOL/KG,,UMOL/KG,,UMOL/KG,,,,DEG C,TU,,NMOL/KG,,PERCNT,,DEG C,,/MILLE,,/MILLE,,/MILLE,NMOL/KG,,NMOL/KG,PMOL/KG,,/MILLE,,UMOL/KG,,UMOL/KG,,,,TU,NMOL/KG,PERCNT,DEG C,ITS-90,,G/KG,,/MILLE,,/MILLE,,,,,,
33AT20120419,        A20,      24,          1,          6,          6,2,20120425,       0935,    10.7510,   -52.3341,       4906,  3751.4,   2.4392,  34.9032,2,  34.9023,2,    259.3,2,   259.8,2,   32.04,2,   19.44,2,    0.00,2,    1.32,2,   0.254,2,   0.115,2,   0.009,2,    0.11,2,  2174.4,2,  2331.4,6,   7.7356,2,    25.00,   0.093,2,   1.8887,2,    4.29,2,   2.4392,2, -999.00,9,  -999.0,9,  -999.0,   8.247,2,   0.038,-999.000,9, -999.00,9, -999.00,9, -999.00,9,  10.7500, -52.3344,   0.009,   0.0079,    0.15,   2.1207,   2.4392,2,    35.0668,2,  -999.0,9,     -999.0,9,     -999.0,9,     -999.0,9,       1003
33AT20120419,        A20,      24,          1,          5,          5,2,20120425,       0935,    10.7510,   -52.3341,       4906,  4058.6,   2.3278,  34.8951,2,  34.8948,2,    262.6,2,   263.1,2,   31.41,2,   19.05,2,    0.00,2,    1.30,2,   0.541,2,   0.239,2,   0.026,2,    0.19,2,  -999.0,9,  -999.0,9,-999.0000,9,  -999.00,-999.000,9,-999.0000,9, -999.00,9,   2.3279,2, -999.00,9,  -999.0,9,  -999.0,-999.000,9,-999.000,-999.000,9, -999.00,9, -999.00,9, -999.00,9,  10.7502, -52.3343,-999.000,-999.0000, -999.00,   1.9776,   2.3279,2,    35.0593,2,  -999.0,9,     -999.0,9,     -999.0,9,     -999.0,9,       0957
33AT20120419,        A20,      24,          1,          4,          4,2,20120425,       0935,    10.7510,   -52.3341,       4906,  4366.4,   2.2748,  34.8883,2,  34.8879,2,    262.2,2,   262.0,2,   33.93,2,   19.32,2,    0.00,2,    1.32,2,   0.516,2,   0.231,2,   0.026,2,    0.17,2,  2176.0,2,  2330.0,6,   7.7341,2,    25.00,   0.108,2,   1.8719,2,    4.62,2,   2.2749,2, -999.00,9,  -999.0,9,  -999.0,   8.171,2,   0.038,-999.000,9, -999.00,9, -999.00,9, -999.00,9,  10.7505, -52.3343,   0.009,   0.0079,    0.15,   1.8903,   2.2749,2,    35.0524,2,  -999.0,9,     -999.0,9,     -999.0,9,     -999.0,9,       0950
33AT20120419,        A20,      24,          1,          3,          3,2,20120425,       0935,    10.7510,   -52.3341,       4906,  4673.9,   2.1878,  34.8742,2,  34.8739,2,    256.8,2,   256.9,2,   41.42,2,   20.46,2,    0.00,2,    1.40,2,   0.376,2,   0.168,2,   0.019,2,    0.12,2,  -999.0,9,  -999.0,9,-999.0000,9,  -999.00,-999.000,9,-999.0000,9, -999.00,9,   2.1872,2, -999.00,9,  -999.0,9,  -999.0,-999.000,9,-999.000,-999.000,9, -999.00,9, -999.00,9, -999.00,9,  10.7507, -52.3342,-999.000,-999.0000, -999.00,   1.7692,   2.1872,2,    35.0384,2,  -999.0,9,     -999.0,9,     -999.0,9,     -999.0,9,       0943
33AT20120419,        A20,      24,          1,          2,          2,2,20120425,       0935,    10.7510,   -52.3341,       4906,  4827.7,   2.0703,  34.8580,2,  34.8570,2,    252.4,2,   251.6,2,   50.14,2,   21.76,2,    0.00,2,    1.49,2,   0.277,2,   0.120,2,   0.010,2,    0.06,2,  2194.8,2,  2343.7,2,   7.7176,6,    25.00,-999.000,9,-999.0000,9, -999.00,9,   2.0685,2, -999.00,9,  -999.0,9,  -999.0,-999.000,9,-999.000,-999.000,9, -999.00,9, -999.00,9, -999.00,9,  10.7508, -52.3342,-999.000,-999.0000, -999.00,   1.6368,   2.0685,2,    35.0214,2,  -999.0,9,     -999.0,9,     -999.0,9,     -999.0,9,       0940
33AT20120419,        A20,      24,          1,          1,          1,2,20120425,       0935,    10.7510,   -52.3341,       4906,  4973.9,   1.7723,  34.8202,2,  34.8200,2,    240.3,2,   240.8,2,   67.91,2,   24.46,2,    0.00,2,    1.68,2,   0.212,2,   0.087,2,   0.004,2,    0.11,2,  2217.1,6,  2359.1,2,   7.6950,2,    25.00,   0.036,2,   1.8887,2,    5.04,2,   1.7728,2, -999.00,9,  -999.0,9,  -999.0,   8.251,2,   0.038,-999.000,9, -999.00,9, -999.00,9, -999.00,9,  10.7510, -52.3341,   0.009,   0.0079,    0.15,   1.3310,   1.7728,2,    34.9842,2,  -999.0,9,     -999.0,9,     -999.0,9,     -999.0,1,       0936