BOTTLE,20220712CCHSIOCBG
EXPOCODE,SECT_ID,STNNBR,CASTNO,SAMPNO,BTLNBR,BTLNBR_FLAG_W,DATE,TIME,LATITUDE,LONGITUDE,DEPTH,CTDPRS,CTDTMP,CTDSAL,CTDSAL_FLAG_W,SALNTY,SALNTY_FLAG_W,CTDOXY,CTDOXY_FLAG_W,OXYGEN,OXYGEN_FLAG_W,SILCAT,SILCAT_FLAG_W,NITRAT,NITRAT_FLAG_W,NITRIT,NITRIT_FLAG_W,PHSPHT,PHSPHT_FLAG_W,CFC-11,CFC-11_FLAG_W,CFC-12,CFC-12_FLAG_W,CFC113,CFC113_FLAG_W,SF6,SF6_FLAG_W,TCARBN,TCARBN_FLAG_W,ALKALI,ALKALI_FLAG_W,PH_TOT,PH_TOT_FLAG_W,PH_TMP,TRITUM,TRITUM_FLAG_W,HELIUM,HELIUM_FLAG_W,DELHE3,DELHE3_FLAG_W,REFTMP,REFTMP_FLAG_W,DELC13,DELC13_FLAG_W,DELC14,DELC14_FLAG_W,C14ERR,NEON,NEON_FLAG_W,NEONER,CCL4,CCL4_FLAG_W,DELO18,DELO18_FLAG_W,DOC,DOC_FLAG_W,TDN,TDN_FLAG_W,BTL_LAT,BTL_LON,TRITER,HELIER,DELHER,THETA,SBE35,SBE35_FLAG_W,SALTREF,SALTREF_FLAG_W,14C-DOC,14C-DOC_FLAG_W,DELO17,DELO17_FLAG_W,O2/AR,O2/AR_FLAG_W,SIP,SIP_FLAG_W,BTL_TIME
,,,,,,,,,,,METERS,DBAR,ITS-90,PSS-78,,PSS-78,,UMOL/KG,,UMOL/KG,,UMOL/KG,,UMOL/KG,,UMOL/KG,,UMOL/KG,,PMOL/KG,,PMOL/KG,,PMOL/KG,,FMOL/KG,,UMOL/KG,,UMOL/KG,,,,DEG C,TU,,NMOL/KG,,PERCNT,,DEG C,,/MILLE,,/MILLE,,/MILLE,NMOL/KG,,NMOL/KG,PMOL/KG,,/MILLE,,UMOL/KG,,UMOL/KG,,,,TU,NMOL/KG,PERCNT,DEG C,ITS-90,,G/KG,,/MILLE,,/MILLE,,,,,,
33AT20120419,        A20,      65,          1,         36,         36,2,20120508,       1752,    39.0076,   -52.3569,       5360,     5.1,  14.2962,  34.4632,2,  34.4982,2,    264.3,2,   267.1,2,    0.05,2,    0.00,2,    0.01,2,    0.08,2,   2.917,2,   1.695,2,   0.259,3,    2.08,3,  2036.0,6,  2298.0,2,-999.0000,9,  -999.00,   0.981,2,   1.7504,2,   -1.26,2,  14.2962,2, -999.00,9,  -999.0,9,  -999.0,   7.245,2,   0.033,   1.940,3, -999.00,1,   67.82,2,    5.39,2,  39.0130, -52.3678,   0.010,   0.0074,    0.15,  14.2955,  14.2962,2,    34.6608,2,  -999.0,9,     -999.0,1,     -999.0,1,     -999.0,9,       2005
33AT20120419,        A20,      65,          1,         35,         35,2,20120508,       1752,    39.0076,   -52.3569,       5360,    23.1,  14.5456,  34.8462,2,  34.8452,2,    264.2,2,   261.6,2,    0.00,2,    0.00,2,    0.02,2,    0.08,2,   2.862,2,   1.663,2,   0.253,3,    1.82,3,  2051.8,2,  2315.7,6,-999.0000,9,  -999.00,-999.000,9,-999.0000,9, -999.00,9,  14.5367,2, -999.00,9,  -999.0,9,  -999.0,-999.000,9,-999.000,   1.850,3, -999.00,9,   68.03,2,    5.04,2,  39.0131, -52.3679,-999.000,-999.0000, -999.00,  14.5422,  14.5367,2,    35.0095,2,  -999.0,9,     -999.0,9,     -999.0,9,     -999.0,9,       2003
33AT20120419,        A20,      65,          1,         34,         34,2,20120508,       1752,    39.0076,   -52.3569,       5360,    48.9,  13.6348,  35.2100,2,  35.2164,2,    238.6,2,   236.2,2,    1.82,2,    4.85,2,    0.13,2,    0.37,2,   2.857,2,   1.646,2,   0.218,3,    1.67,3,  2097.9,2,  2328.5,2,-999.0000,9,  -999.00,-999.000,9,-999.0000,9, -999.00,9,  13.7056,2, -999.00,9,  -999.0,9,  -999.0,-999.000,9,-999.000,   1.530,3, -999.00,9,   63.02,2,    7.92,2,  39.0131, -52.3678,-999.000,-999.0000, -999.00,  13.6279,  13.7056,2,    35.3825,2,  -999.0,9,     -999.0,9,     -999.0,9,     -999.0,9,       2000
33AT20120419,        A20,      65,          1,         33,         33,2,20120508,       1752,    39.0076,   -52.3569,       5360,    75.0,  13.7377,  35.3839,2,  35.3830,2,    232.8,2,   234.4,2,    2.08,2,    5.72,2,    0.04,2,    0.40,2,   2.749,2,   1.600,2,   0.202,3,    1.42,3,  2104.9,2,  2336.8,2,-999.0000,9,  -999.00,   0.737,2,   1.7583,2,   -0.72,2,  13.7367,2, -999.00,9,  -999.0,9,  -999.0,   7.263,2,   0.033,   1.440,3, -999.00,9,   60.41,2,    8.84,2,  39.0130, -52.3677,   0.010,   0.0074,    0.15,  13.7270,  13.7367,2,    35.5498,2,  -999.0,9,     -999.0,9,     -999.0,9,     -999.0,9,       1958
33AT20120419,        A20,      65,          1,         32,         32,2,20120508,       1752,    39.0076,   -52.3569,       5360,   101.2,  13.8698,  35.4531,2,  35.4468,2,    225.5,2,   230.8,2,    2.25,2,    6.19,2,    0.03,2,    0.42,2,   2.756,2,   1.565,2,   0.210,3,    1.61,3,  2107.9,2,  2340.2,2,-999.0000,9,  -999.00,-999.000,9,-999.0000,9, -999.00,9,  13.8739,2, -999.00,9,  -999.0,9,  -999.0,-999.000,9,-999.000,   1.360,3, -999.00,9,   59.27,2,    9.38,2,  39.0129, -52.3676,-999.000,-999.0000, -999.00,  13.8553,  13.8739,2,    35.6140,2,  -999.0,9,     -999.0,9,     -999.0,9,     -999.0,9,       1955
33AT20120419,        A20,      65,          1,         31,         31,2,20120508,       1752,    39.0076,   -52.3569,       5360,   152.9,  14.3063,  35.6342,2,  35.6171,2,    219.3,2,   215.7,2,    2.68,2,    7.50,2,    0.03,2,    0.49,2,   2.603,2,   1.482,2,   0.173,3,    1.38,3,  2118.9,2,  2345.3,2,-999.0000,9,  -999.00,   0.663,2,-999.0000,9, -999.00,9,  14.2997,2, -999.00,9,  -999.0,9,  -999.0,-999.000,9,-999.000,   1.010,3, -999.00,9,   56.47,2,    9.99,2,  39.0127, -52.3674,   0.011,-999.0000, -999.00,  14.2838,  14.2997,2,    35.7851,2,  -999.0,9,     -999.0,9,     -999.0,9,     -999.0,9,       1952
33AT20120419,        A20,      65,          1,         30,         30,2,20120508,       1752,    39.0076,   -52.3569,       5360,   200.2,  14.6015,  35.7773,2,  35.7768,2,    210.1,2,   199.0,2,    3.36,2,    9.15,2,    0.03,2,    0.57,2,   2.471,2,   1.404,2,   0.125,3,    1.37,3,  2131.0,2,  2351.9,2,-999.0000,9,  -999.00,-999.000,9,-999.0000,9, -999.00,9,  14.6015,2, -999.00,9,  -999.0,9,  -999.0,-999.000,9,-999.000,   0.750,3, -999.00,9,   54.37,2,   13.34,2,  39.0126, -52.3671,-999.000,-999.0000, -999.00,  14.5715,  14.6015,2,    35.9455,2,  -999.0,9,     -999.0,9,     -999.0,9,     -999.0,9,       1950
33AT20120419,        A20,      65,          1,         29,         29,2,20120508,       1752,    39.0076,   -52.3569,       5360,   253.2,  13.8794,  35.7692,2,  35.7689,2,    152.8,2,   156.5,2,    6.23,2,   15.23,2,    0.02,2,    0.93,2,   2.141,2,   1.173,2,   0.041,3,    0.84,3,  2163.4,2,  2348.5,2,-999.0000,9,  -999.00,-999.000,9,   1.7646,2,    2.95,2,  13.8793,2, -999.00,9,  -999.0,9,  -999.0,   7.289,2,   0.034,   0.340,3, -999.00,9,   51.91,2,   18.26,2,  39.0124, -52.3669,-999.000,   0.0074,    0.15,  13.8427,  13.8793,2,    35.9376,2,  -999.0,9,     -999.0,9,     -999.0,9,     -999.0,9,       1948
33AT20120419,        A20,      65,          1,         28,         28,2,20120508,       1752,    39.0076,   -52.3569,       5360,   304.9,  12.5145,  35.5897,2,  35.5921,2,    145.3,2,   145.3,2,    8.50,2,   18.69,2,    0.02,2,    1.15,2,   1.912,2,   1.025,2,   0.038,3,    0.83,3,  2177.2,2,  2339.6,2,-999.0000,9,  -999.00,-999.000,9,-999.0000,9, -999.00,9,  12.5175,2, -999.00,9,  -999.0,9,  -999.0,-999.000,9,-999.000,   0.280,3, -999.00,9,   50.29,2,   22.58,2,  39.0123, -52.3667,-999.000,-999.0000, -999.00,  12.4732,  12.5175,2,    35.7599,2,  -999.0,9,     -999.0,9,     -999.0,9,     -999.0,9,       1946
33AT20120419,        A20,      65,          1,         27,         27,2,20120508,       1752,    39.0076,   -52.3569,       5360,   353.7,  11.4758,  35.4507,2,  35.4532,2,    140.3,2,   141.9,2,   10.18,2,   20.75,2,    0.02,2,    1.30,2,   1.679,2,   0.884,2,   0.034,3,    0.57,3,  2183.1,2,  2333.0,2,-999.0000,9,  -999.00,   0.368,2,   1.7719,2,    4.45,2,  11.4764,2, -999.00,9,  -999.0,9,  -999.0,   7.435,2,   0.034,   0.280,3, -999.00,9,   49.38,2,   24.14,2,  39.0122, -52.3666,   0.010,   0.0074,    0.15,  11.4304,  11.4764,2,    35.6204,2,  -999.0,9,     -999.0,9,     -999.0,9,     -999.0,9,       1944
33AT20120419,        A20,      65,          1,         26,         26,2,20120508,       1752,    39.0076,   -52.3569,       5360,   404.2,  10.1918,  35.2931,2,  35.2957,2,    137.7,2,   134.7,2,   12.83,2,   23.65,2,    0.02,2,    1.49,2,   1.340,2,   0.707,2,   0.017,3,    0.53,3,  2193.7,2,  2327.7,2,-999.0000,9,  -999.00,-999.000,9,-999.0000,9, -999.00,9,  10.1952,2, -999.00,9,  -999.0,9,  -999.0,-999.000,9,-999.000,   0.220,3, -999.00,9,   49.01,2,   25.67,2,  39.0121, -52.3665,-999.000,-999.0000, -999.00,  10.1437,  10.1952,2,    35.4622,2,  -999.0,9,     -999.0,9,     -999.0,9,     -999.0,9,       1942
33AT20120419,        A20,      65,          1,         25,         25,2,20120508,       1752,    39.0076,   -52.3569,       5360,   499.5,   8.3290,  35.1422,2,  35.1404,2,    155.3,2,   157.2,2,   13.81,2,   23.36,2,    0.00,2,    1.50,2,   1.459,2,   0.747,2,   0.040,3,    0.30,3,  2192.7,6,  2320.7,2,-999.0000,9,  -999.00,   0.318,2,-999.0000,9, -999.00,9,   8.3301,2, -999.00,9,  -999.0,9,  -999.0,-999.000,9,-999.000,   0.410,3, -999.00,9,   48.36,2,   26.26,2,  39.0120, -52.3663,   0.010,-999.0000, -999.00,   8.2761,   8.3301,2,    35.3061,2,  -999.0,9,     -999.0,9,     -999.0,9,     -999.0,9,       1939
33AT20120419,        A20,      65,          1,         24,         24,2,20120508,       1752,    39.0076,   -52.3569,       5360,   607.3,   6.6439,  35.0393,2,  35.0382,2,    191.4,2,   191.0,2,   13.24,2,   21.31,2,    0.00,2,    1.40,2,   2.024,2,   1.035,2,   0.090,3,    0.80,3,  2186.2,2,  2316.1,2,-999.0000,9,  -999.00,   0.403,2,   1.8261,2,    5.58,2,   6.6426,2, -999.00,9,  -999.0,9,  -999.0,   7.819,2,   0.036,   0.810,3, -999.00,9,   47.88,2,   24.01,2,  39.0119, -52.3661,   0.010,   0.0077,    0.15,   6.5869,   6.6426,2,    35.2035,2,  -999.0,9,     -999.0,9,     -999.0,9,     -999.0,9,       1936
33AT20120419,        A20,      65,          1,         23,         23,2,20120508,       1752,    39.0076,   -52.3569,       5360,   706.9,   5.8011,  35.0323,2,  35.0306,2,    215.5,2,   216.3,2,   12.35,2,   19.79,2,    0.00,2,    1.32,2,   2.290,2,   1.166,2,   0.107,3,    0.66,3,  2180.4,2,  2315.7,2,-999.0000,9,  -999.00,   0.437,2,   1.8224,2,    6.23,2,   5.8080,2, -999.00,9,  -999.0,9,  -999.0,   7.791,2,   0.036,   1.030,3, -999.00,9,   47.26,2,   22.68,2,  39.0118, -52.3659,   0.010,   0.0077,    0.15,   5.7388,   5.8080,2,    35.1958,2,  -999.0,9,     -999.0,9,     -999.0,9,     -999.0,9,       1934
33AT20120419,        A20,      65,          1,         22,         22,2,20120508,       1752,    39.0076,   -52.3569,       5360,   803.5,   5.3401,  35.0208,2,  35.0200,2,    229.9,2,   231.5,2,   11.69,2,   18.86,2,    0.00,2,    1.25,2,   2.568,2,   1.317,2,   0.136,3,    0.87,3,  2176.8,2,  2313.9,2,-999.0000,9,  -999.00,   0.455,2,   1.8180,2,    6.24,2,   5.3401,2, -999.00,9,  -999.0,9,  -999.0,   7.848,2,   0.036,   1.230,3, -999.00,9,   46.77,2,   21.87,2,  39.0117, -52.3658,   0.010,   0.0076,    0.15,   5.2715,   5.3401,2,    35.1851,2,  -999.0,9,     -999.0,9,     -999.0,9,     -999.0,9,       1931
33AT20120419,        A20,      65,          1,         21,         21,2,20120508,       1752,    39.0076,   -52.3569,       5360,   908.9,   5.0001,  35.0096,2,  35.0087,2,    241.8,2,   242.3,2,   11.40,2,   18.32,2,    0.00,2,    1.22,2,   2.740,2,   1.396,2,   0.149,3,    0.88,3,  2172.9,2,  2314.1,2,-999.0000,9,  -999.00,   0.466,2,   1.8265,2,    5.96,2,   5.0004,2, -999.00,9,  -999.0,9,  -999.0,   7.868,2,   0.036,   1.460,3, -999.00,9,   46.13,2,   21.36,2,  39.0116, -52.3656,   0.010,   0.0077,    0.15,   4.9242,   5.0004,2,    35.1738,2,  -999.0,9,     -999.0,9,     -999.0,9,     -999.0,9,       1928
33AT20120419,        A20,      65,          1,         20,         20,2,20120508,       1752,    39.0076,   -52.3569,       5360,  1013.9,   4.7202,  34.9959,2,  34.9950,2,    251.0,2,   250.8,2,   11.07,2,   17.89,2,    0.00,2,    1.20,2,   2.921,2,   1.504,2,   0.173,3,    0.94,3,  -999.0,9,  -999.0,9,-999.0000,9,  -999.00,   0.480,2,   1.8424,2,    5.18,2,   4.7210,2, -999.00,9,  -999.0,9,  -999.0,   7.927,2,   0.036,   1.580,3, -999.00,9,   45.82,2,   21.03,2,  39.0114, -52.3653,   0.010,   0.0077,    0.15,   4.6370,   4.7210,2,    35.1600,2,  -999.0,9,     -999.0,9,     -999.0,9,     -999.0,9,       1925
33AT20120419,        A20,      65,          1,         19,         19,2,20120508,       1752,    39.0076,   -52.3569,       5360,  1110.9,   4.6059,  34.9962,2,  34.9958,2,    252.9,2,   251.3,2,   11.33,2,   17.95,2,    0.00,2,    1.20,2,   2.705,2,   1.390,2,   0.145,3,    0.92,3,  2170.1,2,  2312.3,2,-999.0000,9,  -999.00,   0.460,2,   1.8310,2,    6.27,2,   4.6051,2, -999.00,9,  -999.0,9,  -999.0,   7.869,2,   0.036,   1.400,3, -999.00,9,   44.56,2,   20.27,2,  39.0112, -52.3651,   0.010,   0.0077,    0.15,   4.5149,   4.6051,2,    35.1608,2,  -999.0,9,     -999.0,9,     -999.0,9,     -999.0,9,       1923
33AT20120419,        A20,      65,          1,         18,         18,2,20120508,       1752,    39.0076,   -52.3569,       5360,  1211.4,   4.4415,  34.9901,2,  34.9893,2,    254.5,2,   254.3,2,   11.46,2,   17.86,2,    0.00,2,    1.19,2,   2.658,2,   1.331,2,   0.145,3,    0.56,3,  -999.0,9,  -999.0,9,-999.0000,9,  -999.00,   0.463,2,   1.8447,2,    6.72,2,   4.4414,2, -999.00,9,  -999.0,9,  -999.0,   8.021,2,   0.037,   1.530,3, -999.00,9,   45.79,2,   20.91,2,  39.0110, -52.3648,   0.010,   0.0077,    0.15,   4.3429,   4.4414,2,    35.1543,2,  -999.0,9,     -999.0,9,     -999.0,9,     -999.0,9,       1920
33AT20120419,        A20,      65,          1,         17,         17,2,20120508,       1752,    39.0076,   -52.3569,       5360,  1315.5,   4.3030,  34.9840,2,  34.9836,2,    256.4,2,   256.9,2,   11.63,2,   17.76,2,    0.00,2,    1.18,2,   2.620,2,   1.328,2,   0.146,3,    0.69,3,  -999.0,9,  -999.0,9,-999.0000,9,  -999.00,   0.470,2,   1.8493,2,    7.14,2,   4.3024,2, -999.00,9,  -999.0,9,  -999.0,   7.922,2,   0.036,   1.510,3, -999.00,9,   44.92,2,   20.86,2,  39.0109, -52.3646,   0.010,   0.0078,    0.15,   4.1963,   4.3024,2,    35.1485,2,  -999.0,9,     -999.0,9,     -999.0,9,     -999.0,9,       1917
33AT20120419,        A20,      65,          1,         16,         16,2,20120508,       1752,    39.0076,   -52.3569,       5360,  1412.3,   4.2014,  34.9795,2,  34.9793,2,    258.5,2,   258.8,2,   11.75,2,   17.71,2,    0.00,2,    1.17,2,   2.474,2,   1.254,2,   0.132,3,    0.00,3,  2164.3,2,  2311.4,2,-999.0000,9,  -999.00,   0.429,2,-999.0000,9, -999.00,9,   4.2015,2, -999.00,9,  -999.0,9,  -999.0,-999.000,9,-999.000,   1.250,3, -999.00,9,   45.93,2,   20.36,2,  39.0107, -52.3643,   0.010,-999.0000, -999.00,   4.0869,   4.2015,2,    35.1442,2,  -999.0,9,     -999.0,9,     -999.0,9,     -999.0,9,       1915
33AT20120419,        A20,      65,          1,         15,         15,2,20120508,       1752,    39.0076,   -52.3569,       5360,  1622.0,   3.9754,  34.9669,2,  34.9667,2,    261.0,2,   261.8,2,   12.26,2,   17.65,2,    0.00,2,    1.18,2,   2.310,2,   1.163,2,   0.121,3,    0.00,3,  -999.0,9,  -999.0,9,-999.0000,9,  -999.00,   0.414,2,   1.8395,2,    8.16,2,   3.9756,2, -999.00,9,  -999.0,9,  -999.0,   7.944,2,   0.037,   1.500,3, -999.00,9,   44.26,2,   20.85,2,  39.0104, -52.3638,   0.011,   0.0077,    0.15,   3.8443,   3.9756,2,    35.1316,2,  -999.0,9,     -999.0,9,     -999.0,9,     -999.0,9,       1910
33AT20120419,        A20,      65,          1,         14,         14,2,20120508,       1752,    39.0076,   -52.3569,       5360,  1820.2,   3.7822,  34.9561,2,  34.9561,2,    262.9,2,   264.7,2,   12.60,2,   17.56,2,    0.00,2,    1.17,2,   2.167,2,   1.052,2,   0.111,3,    0.00,3,  2161.7,2,  2311.8,2,-999.0000,9,  -999.00,   0.422,2,   1.8437,2,    8.79,2,   3.7823,2, -999.00,9,  -999.0,9,  -999.0,   7.949,2,   0.037,   1.700,3, -999.00,9,   44.54,2,   20.54,2,  39.0101, -52.3631,   0.010,   0.0077,    0.15,   3.6351,   3.7823,2,    35.1209,2,  -999.0,9,     -999.0,9,     -999.0,9,     -999.0,9,       1906
33AT20120419,        A20,      65,          1,         13,         13,2,20120508,       1752,    39.0076,   -52.3569,       5360,  2026.2,   3.6248,  34.9507,2,  34.9510,2,    265.9,2,   265.8,2,   13.47,2,   17.58,2,    0.00,2,    1.18,2,   1.849,2,   0.919,2,   0.095,3,    0.00,3,  2161.9,2,  2310.0,2,-999.0000,9,  -999.00,   0.378,2,   1.8503,2,    8.45,2,   3.6253,2, -999.00,9,  -999.0,9,  -999.0,   8.021,2,   0.037,   1.310,3, -999.00,9,   44.12,2,   20.63,2,  39.0098, -52.3625,   0.010,   0.0078,    0.15,   3.4604,   3.6253,2,    35.1158,2,  -999.0,9,     -999.0,9,     -999.0,9,     -999.0,9,       1902
33AT20120419,        A20,      65,          1,         12,         12,2,20120508,       1752,    39.0076,   -52.3569,       5360,  2280.1,   3.4445,  34.9471,2,  34.9472,2,    266.3,2,   266.2,2,   14.98,2,   17.63,2,    0.00,2,    1.19,2,   1.526,2,   0.764,2,   0.062,3,    0.00,3,  2161.4,2,  2312.6,2,-999.0000,9,  -999.00,   0.324,2,   1.8419,2,    7.82,2,   3.4448,2, -999.00,9,  -999.0,9,  -999.0,   8.040,2,   0.037,   1.150,3, -999.00,9,   43.04,2,   19.93,2,  39.0095, -52.3618,   0.010,   0.0077,    0.15,   3.2583,   3.4448,2,    35.1120,2,  -999.0,9,     -999.0,9,     -999.0,9,     -999.0,9,       1856
33AT20120419,        A20,      65,          1,         11,         11,2,20120508,       1752,    39.0076,   -52.3569,       5360,  2536.2,   3.2739,  34.9434,2,  34.9435,2,    265.4,2,   266.2,2,   16.49,2,   17.68,2,    0.00,2,    1.19,2,   1.319,2,   0.667,2,   0.048,3,    0.00,3,  -999.0,9,  -999.0,9,-999.0000,9,  -999.00,   0.288,2,   1.8491,2,    7.37,2,   3.2740,2, -999.00,9,  -999.0,9,  -999.0,   8.050,2,   0.037,   0.940,3, -999.00,9,   43.45,2,   20.41,2,  39.0093, -52.3615,   0.010,   0.0078,    0.15,   3.0653,   3.2740,2,    35.1083,2,  -999.0,9,     -999.0,9,     -999.0,9,     -999.0,9,       1851
33AT20120419,        A20,      65,          1,         10,         10,2,20120508,       1752,    39.0076,   -52.3569,       5360,  2787.4,   3.0983,  34.9394,2,  34.9386,2,    264.8,2,   265.3,2,   18.38,2,   17.81,2,    0.00,2,    1.20,2,   1.109,2,   0.563,2,   0.040,3,    0.00,3,  2163.0,2,  2317.0,6,-999.0000,9,  -999.00,-999.000,9,-999.0000,9, -999.00,9,   3.0993,2, -999.00,9,  -999.0,9,  -999.0,-999.000,9,-999.000,   0.900,3, -999.00,9,   43.64,2,   20.75,2,  39.0093, -52.3615,-999.000,-999.0000, -999.00,   2.8675,   3.0993,2,    35.1034,2,  -999.0,9,     -999.0,9,     -999.0,9,     -999.0,9,       1846
33AT20120419,        A20,      65,          1,          9,          9,2,20120508,       1752,    39.0076,   -52.3569,       5360,  3042.3,   2.9120,  34.9311,2,  34.9306,2,    266.5,2,   266.5,2,   19.83,2,   17.81,2,    0.00,2,    1.20,2,   1.044,2,   0.530,2,   0.038,3,    0.00,3,  -999.0,9,  -999.0,9,-999.0000,9,  -999.00,   0.228,2,   1.8538,2,    6.29,2,   2.9128,2, -999.00,9,  -999.0,9,  -999.0,   8.033,2,   0.037,   0.870,3, -999.00,9,   43.35,2,   20.47,2,  39.0093, -52.3615,   0.010,   0.0078,    0.15,   2.6587,   2.9128,2,    35.0953,2,  -999.0,9,     -999.0,9,     -999.0,9,     -999.0,9,       1841
33AT20120419,        A20,      65,          1,          8,          8,2,20120508,       1752,    39.0076,   -52.3569,       5360,  3352.2,   2.6716,  34.9177,2,  34.9182,2,    268.7,2,   268.6,2,   21.20,2,   17.66,2,    0.00,2,    1.19,2,   1.129,2,   0.569,2,   0.049,3,    0.00,3,  2165.2,2,  2320.8,2,-999.0000,9,  -999.00,-999.000,9,-999.0000,9, -999.00,9,   2.6711,2, -999.00,9,  -999.0,9,  -999.0,-999.000,9,-999.000,   0.900,3, -999.00,9,   43.94,2,   20.25,2,  39.0092, -52.3612,-999.000,-999.0000, -999.00,   2.3909,   2.6711,2,    35.0828,2,  -999.0,9,     -999.0,9,     -999.0,9,     -999.0,9,       1835
33AT20120419,        A20,      65,          1,          7,          7,2,20120508,       1752,    39.0076,   -52.3569,       5360,  3656.9,   2.4657,  34.9052,2,  34.9048,2,    268.6,2,   269.0,2,   23.64,2,   17.81,2,    0.00,2,    1.21,2,   1.128,2,   0.570,2,   0.050,3,    0.00,3,  -999.0,9,  -999.0,9,-999.0000,9,  -999.00,-999.000,9,-999.0000,9, -999.00,9,   2.4656,2, -999.00,9,  -999.0,9,  -999.0,-999.000,9,-999.000,   0.850,3, -999.00,9,   43.63,2,   20.50,2,  39.0092, -52.3611,-999.000,-999.0000, -999.00,   2.1570,   2.4656,2,    35.0694,2,  -999.0,9,     -999.0,9,     -999.0,9,     -999.0,9,       1829