BOTTLE,20220712CCHSIOCBG
EXPOCODE,SECT_ID,STNNBR,CASTNO,SAMPNO,BTLNBR,BTLNBR_FLAG_W,DATE,TIME,LATITUDE,LONGITUDE,DEPTH,CTDPRS,CTDTMP,CTDSAL,CTDSAL_FLAG_W,SALNTY,SALNTY_FLAG_W,CTDOXY,CTDOXY_FLAG_W,OXYGEN,OXYGEN_FLAG_W,SILCAT,SILCAT_FLAG_W,NITRAT,NITRAT_FLAG_W,NITRIT,NITRIT_FLAG_W,PHSPHT,PHSPHT_FLAG_W,CFC-11,CFC-11_FLAG_W,CFC-12,CFC-12_FLAG_W,CFC113,CFC113_FLAG_W,SF6,SF6_FLAG_W,TCARBN,TCARBN_FLAG_W,ALKALI,ALKALI_FLAG_W,PH_TOT,PH_TOT_FLAG_W,PH_TMP,TRITUM,TRITUM_FLAG_W,HELIUM,HELIUM_FLAG_W,DELHE3,DELHE3_FLAG_W,REFTMP,REFTMP_FLAG_W,DELC13,DELC13_FLAG_W,DELC14,DELC14_FLAG_W,C14ERR,NEON,NEON_FLAG_W,NEONER,CCL4,CCL4_FLAG_W,DELO18,DELO18_FLAG_W,DOC,DOC_FLAG_W,TDN,TDN_FLAG_W,BTL_LAT,BTL_LON,TRITER,HELIER,DELHER,THETA,SBE35,SBE35_FLAG_W,SALTREF,SALTREF_FLAG_W,14C-DOC,14C-DOC_FLAG_W,DELO17,DELO17_FLAG_W,O2/AR,O2/AR_FLAG_W,SIP,SIP_FLAG_W,BTL_TIME
,,,,,,,,,,,METERS,DBAR,ITS-90,PSS-78,,PSS-78,,UMOL/KG,,UMOL/KG,,UMOL/KG,,UMOL/KG,,UMOL/KG,,UMOL/KG,,PMOL/KG,,PMOL/KG,,PMOL/KG,,FMOL/KG,,UMOL/KG,,UMOL/KG,,,,DEG C,TU,,NMOL/KG,,PERCNT,,DEG C,,/MILLE,,/MILLE,,/MILLE,NMOL/KG,,NMOL/KG,PMOL/KG,,/MILLE,,UMOL/KG,,UMOL/KG,,,,TU,NMOL/KG,PERCNT,DEG C,ITS-90,,G/KG,,/MILLE,,/MILLE,,,,,,
33AT20120419,        A20,      18,          1,         36,         36,2,20120423,       2234,     9.0880,   -52.4815,       4710,     3.3,  28.1056,  27.0194,2,  27.0298,2,    211.7,2,   211.2,2,   11.14,2,    0.00,2,    0.00,2,    0.02,2,   1.655,2,   1.048,2,   0.136,2,    1.04,2,  1573.5,6,  1862.9,2,   8.2033,2,    25.00,-999.000,9,-999.0000,9, -999.00,9,  28.1078,2, -999.00,9,  -999.0,9,  -999.0,-999.000,9,-999.000,-999.000,9, -999.00,9, -999.00,9, -999.00,9,   9.0899, -52.4806,-999.000,-999.0000, -999.00,  28.1048,  28.1078,2,    27.1572,2,  -999.0,9,     -999.0,9,     -999.0,9,     -999.0,9,       0035
33AT20120419,        A20,      18,          1,         35,         35,2,20120423,       2234,     9.0880,   -52.4815,       4710,    36.0,  27.6287,  35.8072,2,  35.8248,2,    195.3,2,   197.9,2,    0.53,2,    0.00,2,    0.00,2,    0.05,2,   1.606,2,   1.004,2,   0.137,2,    0.88,2,  2018.5,2,  2352.6,2,   8.0827,2,    25.00,-999.000,9,-999.0000,9, -999.00,9,  27.6316,2, -999.00,9,  -999.0,9,  -999.0,-999.000,9,-999.000,-999.000,9, -999.00,9, -999.00,9, -999.00,9,   9.0898, -52.4806,-999.000,-999.0000, -999.00,  27.6203,  27.6316,2,    35.9937,2,  -999.0,9,     -999.0,9,     -999.0,9,     -999.0,9,       0032
33AT20120419,        A20,      18,          1,         34,         34,2,20120423,       2234,     9.0880,   -52.4815,       4710,    61.4,  26.8456,  36.1444,2,  36.1444,2,    188.9,2,   188.2,2,    0.73,2,    0.24,2,    0.27,2,    0.12,2,   1.666,2,   1.064,2,   0.132,2,    0.71,2,  2049.7,2,  2370.0,2,   8.0536,2,    25.00,-999.000,9,-999.0000,9, -999.00,9,  26.8313,2, -999.00,9,  -999.0,9,  -999.0,-999.000,9,-999.000,-999.000,9, -999.00,9, -999.00,9, -999.00,9,   9.0898, -52.4807,-999.000,-999.0000, -999.00,  26.8315,  26.8313,2,    36.3149,2,  -999.0,9,     -999.0,9,     -999.0,9,     -999.0,9,       0030
33AT20120419,        A20,      18,          1,         33,         33,2,20120423,       2234,     9.0880,   -52.4815,       4710,    85.8,  25.7943,  36.1921,2,  36.2052,2,    175.8,2,   176.3,2,    1.67,2,    2.16,2,    0.17,2,    0.25,2,   1.749,2,   1.108,2,   0.123,2,    0.69,2,  2076.2,2,  2374.0,2,   8.0162,2,    25.00,-999.000,9,-999.0000,9, -999.00,9,  25.7924,2, -999.00,9,  -999.0,9,  -999.0,-999.000,9,-999.000,-999.000,9, -999.00,9, -999.00,9, -999.00,9,   9.0898, -52.4806,-999.000,-999.0000, -999.00,  25.7752,  25.7924,2,    36.3759,2,  -999.0,9,     -999.0,9,     -999.0,9,     -999.0,9,       0028
33AT20120419,        A20,      18,          1,         32,         32,2,20120423,       2234,     9.0880,   -52.4815,       4710,   115.2,  22.0885,  36.8433,2,  36.8357,2,    147.7,2,   144.5,2,    1.95,2,    5.88,2,    0.03,2,    0.34,2,   1.985,2,   1.228,2,   0.077,2,    0.66,2,  -999.0,9,  -999.0,9,-999.0000,9,  -999.00,-999.000,9,-999.0000,9, -999.00,9,  22.0631,2, -999.00,9,  -999.0,9,  -999.0,-999.000,9,-999.000,-999.000,9, -999.00,9, -999.00,9, -999.00,9,   9.0898, -52.4806,-999.000,-999.0000, -999.00,  22.0655,  22.0631,2,    37.0094,2,  -999.0,9,     -999.0,9,     -999.0,9,     -999.0,9,       0026
33AT20120419,        A20,      18,          1,         31,         31,2,20120423,       2234,     9.0880,   -52.4815,       4710,   165.6,  14.3734,  35.5729,2,  35.5585,2,    146.0,2,   145.8,2,    6.78,2,   16.64,2,    0.01,2,    1.11,2,   2.249,2,   1.307,2,   0.042,2,    0.55,2,  2167.8,2,  2341.7,2,   7.7754,2,    25.00,-999.000,9,-999.0000,9, -999.00,9,  14.3782,2, -999.00,9,  -999.0,9,  -999.0,-999.000,9,-999.000,-999.000,9, -999.00,9, -999.00,9, -999.00,9,   9.0897, -52.4807,-999.000,-999.0000, -999.00,  14.3489,  14.3782,2,    35.7261,2,  -999.0,9,     -999.0,9,     -999.0,9,     -999.0,9,       0023
33AT20120419,        A20,      18,          1,         30,         30,2,20120423,       2234,     9.0880,   -52.4815,       4710,   216.3,  11.7069,  35.1921,2,  35.1616,2,    140.2,2,   142.8,2,    9.56,2,   21.46,2,    0.01,2,    1.41,2,   2.213,2,   1.216,2,   0.035,2,    0.39,2,  -999.0,9,  -999.0,9,-999.0000,9,  -999.00,-999.000,9,-999.0000,9, -999.00,9,  11.6917,2, -999.00,9,  -999.0,9,  -999.0,-999.000,9,-999.000,-999.000,9, -999.00,9, -999.00,9, -999.00,9,   9.0897, -52.4807,-999.000,-999.0000, -999.00,  11.6791,  11.6917,2,    35.3274,2,  -999.0,9,     -999.0,9,     -999.0,9,     -999.0,9,       0021
33AT20120419,        A20,      18,          1,         29,         29,2,20120423,       2234,     9.0880,   -52.4815,       4710,   266.5,  10.3568,  34.9812,2,  34.9837,2,    142.6,2,   143.8,2,   11.30,2,   23.49,2,    0.01,2,    1.57,2,   2.159,2,   1.151,2,   0.044,2,    0.38,2,  2183.7,2,  2311.6,2,   7.6741,2,    25.00,-999.000,9,-999.0000,9, -999.00,9,  10.3542,2, -999.00,9,  -999.0,9,  -999.0,-999.000,9,-999.000,-999.000,9, -999.00,9, -999.00,9, -999.00,9,   9.0896, -52.4807,-999.000,-999.0000, -999.00,  10.3251,  10.3542,2,    35.1486,2,  -999.0,9,     -999.0,9,     -999.0,9,     -999.0,9,       0019
33AT20120419,        A20,      18,          1,         28,         28,2,20120423,       2234,     9.0880,   -52.4815,       4710,   316.4,   9.6151,  34.8778,2,  34.8751,2,    145.3,2,   146.0,2,   12.44,2,   24.87,2,    0.01,2,    1.66,2,   2.110,2,   1.124,2,   0.043,2,    0.34,2,  -999.0,9,  -999.0,9,-999.0000,9,  -999.00,-999.000,9,-999.0000,9, -999.00,9,   9.6315,2, -999.00,9,  -999.0,9,  -999.0,-999.000,9,-999.000,-999.000,9, -999.00,9, -999.00,9, -999.00,9,   9.0896, -52.4807,-999.000,-999.0000, -999.00,   9.5791,   9.6315,2,    35.0395,2,  -999.0,9,     -999.0,9,     -999.0,9,     -999.0,9,       0017
33AT20120419,        A20,      18,          1,         27,         27,2,20120423,       2234,     9.0880,   -52.4815,       4710,   367.8,   9.2580,  34.8724,2,  34.8639,2,    140.2,2,   132.4,2,   13.89,2,   27.05,2,    0.01,2,    1.78,2,   1.817,2,   0.953,2,   0.037,2,    0.33,2,  2196.0,2,  2308.3,2,   7.6258,2,    25.00,-999.000,9,-999.0000,9, -999.00,9,   9.2508,2, -999.00,9,  -999.0,9,  -999.0,-999.000,9,-999.000,-999.000,9, -999.00,9, -999.00,9, -999.00,9,   9.0896, -52.4808,-999.000,-999.0000, -999.00,   9.2170,   9.2508,2,    35.0283,2,  -999.0,9,     -999.0,9,     -999.0,9,     -999.0,9,       0015
33AT20120419,        A20,      18,          1,         26,         26,2,20120423,       2234,     9.0880,   -52.4815,       4710,   417.1,   8.1344,  34.7301,2,  34.7249,2,    140.6,2,   137.2,2,   16.20,2,   29.07,2,    0.00,2,    1.90,2,   1.623,2,   0.812,2,   0.036,2,    0.31,2,  -999.0,9,  -999.0,9,-999.0000,9,  -999.00,-999.000,9,-999.0000,9, -999.00,9,   8.1298,2, -999.00,9,  -999.0,9,  -999.0,-999.000,9,-999.000,-999.000,9, -999.00,9, -999.00,9, -999.00,9,   9.0895, -52.4808,-999.000,-999.0000, -999.00,   8.0913,   8.1298,2,    34.8886,2,  -999.0,9,     -999.0,9,     -999.0,9,     -999.0,9,       0013
33AT20120419,        A20,      18,          1,         25,         25,2,20120423,       2234,     9.0880,   -52.4815,       4710,   467.7,   7.5350,  34.6560,2,  34.6590,2,    143.6,2,   143.8,2,   17.54,2,   29.69,2,    0.00,2,    1.95,2,   1.589,2,   0.798,2,   0.034,2,    0.28,2,  2200.5,2,  2302.0,2,   7.6008,2,    25.00,-999.000,9,-999.0000,9, -999.00,9,   7.5321,2, -999.00,9,  -999.0,9,  -999.0,-999.000,9,-999.000,-999.000,9, -999.00,9, -999.00,9, -999.00,9,   9.0895, -52.4808,-999.000,-999.0000, -999.00,   7.4887,   7.5321,2,    34.8224,2,  -999.0,9,     -999.0,9,     -999.0,9,     -999.0,9,       0011
33AT20120419,        A20,      18,          1,         24,         24,2,20120423,       2234,     9.0880,   -52.4815,       4710,   537.9,   7.0341,  34.6222,2,  34.6348,2,    132.7,2,   135.3,2,   19.51,2,   31.56,2,    0.00,2,    2.08,2,   1.242,2,   0.604,2,   0.024,2,    0.16,2,  2208.8,6,  2303.2,2,   7.5747,2,    25.00,-999.000,9,-999.0000,9, -999.00,9,   7.0334,2, -999.00,9,  -999.0,9,  -999.0,-999.000,9,-999.000,-999.000,9, -999.00,9, -999.00,9, -999.00,9,   9.0895, -52.4808,-999.000,-999.0000, -999.00,   6.9826,   7.0334,2,    34.7982,2,  -999.0,9,     -999.0,9,     -999.0,9,     -999.0,9,       0009
33AT20120419,        A20,      18,          1,         23,         23,2,20120423,       2234,     9.0880,   -52.4815,       4710,   638.5,   6.3303,  34.5566,2,  34.5527,2,    145.9,2,   145.5,2,   22.11,2,   32.12,2,    0.00,2,    2.14,2,   1.157,2,   0.545,2,   0.034,2,    0.22,2,  2206.9,2,  2302.4,2,   7.5739,6,    25.00,-999.000,9,-999.0000,9, -999.00,9,   6.3279,2, -999.00,9,  -999.0,9,  -999.0,-999.000,9,-999.000,-999.000,9, -999.00,9, -999.00,9, -999.00,9,   9.0894, -52.4808,-999.000,-999.0000, -999.00,   6.2722,   6.3279,2,    34.7157,2,  -999.0,9,     -999.0,9,     -999.0,9,     -999.0,9,       0006
33AT20120419,        A20,      18,          1,         22,         22,2,20120423,       2234,     9.0880,   -52.4815,       4710,   739.5,   5.8030,  34.5797,2,  34.5834,2,    135.4,2,   135.9,2,   24.99,2,   33.62,2,    0.00,2,    2.23,2,   0.623,2,   0.290,2,   0.013,2,    0.14,2,  -999.0,9,  -999.0,9,-999.0000,9,  -999.00,-999.000,9,-999.0000,9, -999.00,9,   5.8113,2, -999.00,9,  -999.0,9,  -999.0,-999.000,9,-999.000,-999.000,9, -999.00,9, -999.00,9, -999.00,9,   9.0894, -52.4809,-999.000,-999.0000, -999.00,   5.7382,   5.8113,2,    34.7464,2,  -999.0,9,     -999.0,9,     -999.0,9,     -999.0,9,       0003
33AT20120419,        A20,      18,          1,         21,         21,2,20120423,       2234,     9.0880,   -52.4815,       4710,   839.9,   5.4563,  34.6351,2,  34.6331,2,    134.7,2,   133.9,2,   27.15,2,   33.99,2,    0.00,2,    2.27,2,   0.244,2,   0.101,2,   0.013,2,    0.00,2,  2221.7,2,  2308.0,2,   7.5505,2,    25.00,-999.000,9,-999.0000,9, -999.00,9,   5.4564,2, -999.00,9,  -999.0,9,  -999.0,-999.000,9,-999.000,-999.000,9, -999.00,9, -999.00,9, -999.00,9,   9.0893, -52.4809,-999.000,-999.0000, -999.00,   5.3842,   5.4564,2,    34.7964,2,  -999.0,9,     -999.0,9,     -999.0,9,     -999.0,9,       0001
33AT20120419,        A20,      18,          1,         20,         20,2,20120423,       2234,     9.0880,   -52.4815,       4710,   941.3,   5.1204,  34.6791,2,  34.6745,2,    144.9,2,   145.1,2,   27.83,2,   32.84,2,    0.00,2,    2.20,2,   0.153,2,   0.061,2,   0.006,2,    0.00,2,  2219.3,2,  2309.4,6,   7.5677,2,    25.00,-999.000,9,-999.0000,9, -999.00,9,   5.1203,2, -999.00,9,  -999.0,9,  -999.0,-999.000,9,-999.000,-999.000,9, -999.00,9, -999.00,9, -999.00,9,   9.0893, -52.4809,-999.000,-999.0000, -999.00,   5.0412,   5.1203,2,    34.8380,2,  -999.0,9,     -999.0,9,     -999.0,9,     -999.0,9,       2358
33AT20120419,        A20,      18,          1,         19,         19,2,20120423,       2234,     9.0880,   -52.4815,       4710,  1042.1,   5.1402,  34.7703,2,  34.7693,2,    154.6,2,   154.5,2,   26.10,2,   30.82,2,    0.00,2,    2.07,2,   0.147,2,-999.000,5,   0.005,2,    0.00,2,  2212.1,2,  2313.6,2,   7.5939,2,    25.00,-999.000,9,-999.0000,9, -999.00,9,   5.1418,2, -999.00,9,  -999.0,9,  -999.0,-999.000,9,-999.000,-999.000,9, -999.00,9, -999.00,9, -999.00,9,   9.0892, -52.4810,-999.000,-999.0000, -999.00,   5.0515,   5.1418,2,    34.9332,2,  -999.0,9,     -999.0,9,     -999.0,9,     -999.0,9,       2355
33AT20120419,        A20,      18,          1,         18,         18,2,20120423,       2234,     9.0880,   -52.4815,       4710,  1143.0,   5.1709,  34.8431,2,  34.8404,2,    167.6,2,   166.7,2,   24.05,2,   28.38,2,    0.00,2,    1.93,2,   0.224,2,-999.000,5,   0.009,2,    0.12,2,  2206.9,2,  2319.0,2,   7.6217,2,    25.00,-999.000,9,-999.0000,9, -999.00,9,   5.1734,2, -999.00,9,  -999.0,9,  -999.0,-999.000,9,-999.000,-999.000,9, -999.00,9, -999.00,9, -999.00,9,   9.0892, -52.4810,-999.000,-999.0000, -999.00,   5.0724,   5.1734,2,    35.0047,2,  -999.0,9,     -999.0,9,     -999.0,9,     -999.0,9,       2352
33AT20120419,        A20,      18,          1,         17,         17,2,20120423,       2234,     9.0880,   -52.4815,       4710,  1244.8,   5.0914,  34.9392,2,  34.9388,2,    190.5,2,   191.3,2,   20.39,2,   24.89,2,    0.00,2,    1.67,2,   0.454,2,-999.000,5,   0.020,2,    0.00,2,  2193.7,2,  2320.2,2,   7.6633,2,    25.00,-999.000,9,-999.0000,9, -999.00,9,   5.0916,2, -999.00,9,  -999.0,9,  -999.0,-999.000,9,-999.000,-999.000,9, -999.00,9, -999.00,9, -999.00,9,   9.0891, -52.4810,-999.000,-999.0000, -999.00,   4.9838,   5.0916,2,    35.1036,2,  -999.0,9,     -999.0,9,     -999.0,9,     -999.0,9,       2349
33AT20120419,        A20,      18,          1,         16,         16,2,20120423,       2234,     9.0880,   -52.4815,       4710,  1345.5,   4.9267,  34.9853,2,  34.9845,2,    210.8,2,   211.5,2,   17.63,2,   22.34,2,    0.00,2,    1.49,2,   0.755,2,-999.000,5,   0.032,2,    0.09,2,  -999.0,9,  -999.0,9,-999.0000,9,  -999.00,-999.000,9,-999.0000,9, -999.00,9,   4.9271,2, -999.00,9,  -999.0,9,  -999.0,-999.000,9,-999.000,-999.000,9, -999.00,9, -999.00,9, -999.00,9,   9.0891, -52.4810,-999.000,-999.0000, -999.00,   4.8110,   4.9271,2,    35.1494,2,  -999.0,9,     -999.0,9,     -999.0,9,     -999.0,9,       2346
33AT20120419,        A20,      18,          1,         15,         15,2,20120423,       2234,     9.0880,   -52.4815,       4710,  1445.9,   4.7035,  35.0052,2,  35.0041,2,    229.4,2,   228.9,2,   15.62,2,   20.45,2,    0.00,2,    1.36,2,   1.036,2,   0.482,2,   0.041,2,    0.14,2,  2176.1,2,  2319.0,2,   7.7116,2,    25.00,-999.000,9,-999.0000,9, -999.00,9,   4.7049,2, -999.00,9,  -999.0,9,  -999.0,-999.000,9,-999.000,-999.000,9, -999.00,9, -999.00,9, -999.00,9,   9.0891, -52.4811,-999.000,-999.0000, -999.00,   4.5805,   4.7049,2,    35.1692,2,  -999.0,9,     -999.0,9,     -999.0,9,     -999.0,9,       2343
33AT20120419,        A20,      18,          1,         14,         14,2,20120423,       2234,     9.0880,   -52.4815,       4710,  1548.2,   4.4626,  35.0052,2,  35.0053,2,    240.7,2,   242.4,2,   14.36,2,   19.20,2,    0.00,2,    1.28,2,   1.299,2,   0.612,2,   0.061,2,    0.25,2,  -999.0,9,  -999.0,9,-999.0000,9,  -999.00,-999.000,9,-999.0000,9, -999.00,9,   4.4623,2, -999.00,9,  -999.0,9,  -999.0,-999.000,9,-999.000,-999.000,9, -999.00,9, -999.00,9, -999.00,9,   9.0890, -52.4811,-999.000,-999.0000, -999.00,   4.3325,   4.4623,2,    35.1704,2,  -999.0,9,     -999.0,9,     -999.0,9,     -999.0,9,       2341
33AT20120419,        A20,      18,          1,         13,         13,2,20120423,       2234,     9.0880,   -52.4815,       4710,  1680.1,   4.1470,  34.9917,2,  34.9913,2,    250.7,2,   252.3,2,   14.11,2,   18.60,2,    0.00,2,    1.24,2,   1.297,2,   0.617,2,   0.055,2,    0.21,2,  2166.6,2,  2316.0,2,   7.7284,2,    25.00,-999.000,9,-999.0000,9, -999.00,9,   4.1468,2, -999.00,9,  -999.0,9,  -999.0,-999.000,9,-999.000,-999.000,9, -999.00,9, -999.00,9, -999.00,9,   9.0890, -52.4811,-999.000,-999.0000, -999.00,   4.0082,   4.1468,2,    35.1563,2,  -999.0,9,     -999.0,9,     -999.0,9,     -999.0,9,       2337
33AT20120419,        A20,      18,          1,         12,         12,2,20120423,       2234,     9.0880,   -52.4815,       4710,  1882.1,   3.7994,  34.9751,2,  34.9750,2,    258.3,2,   258.6,2,   14.78,2,   18.19,2,    0.00,2,    1.22,2,   1.249,2,   0.591,2,   0.052,2,    0.15,2,  2164.8,2,  2315.7,6,   7.7351,2,    25.00,-999.000,9,-999.0000,9, -999.00,9,   3.7989,2, -999.00,9,  -999.0,9,  -999.0,-999.000,9,-999.000,-999.000,9, -999.00,9, -999.00,9, -999.00,9,   9.0889, -52.4811,-999.000,-999.0000, -999.00,   3.6461,   3.7989,2,    35.1399,2,  -999.0,9,     -999.0,9,     -999.0,9,     -999.0,9,       2333
33AT20120419,        A20,      18,          1,         11,         11,2,20120423,       2234,     9.0880,   -52.4815,       4710,  2085.8,   3.5462,  34.9667,2,  34.9658,2,    259.5,2,   260.0,2,   16.65,2,   18.34,2,    0.00,2,    1.23,2,   0.922,2,   0.412,2,   0.029,2,    0.13,2,  -999.0,9,  -999.0,9,-999.0000,9,  -999.00,-999.000,9,-999.0000,9, -999.00,9,   3.5460,2, -999.00,9,  -999.0,9,  -999.0,-999.000,9,-999.000,-999.000,9, -999.00,9, -999.00,9, -999.00,9,   9.0888, -52.4812,-999.000,-999.0000, -999.00,   3.3772,   3.5460,2,    35.1306,2,  -999.0,9,     -999.0,9,     -999.0,9,     -999.0,9,       2329
33AT20120419,        A20,      18,          1,         10,         10,2,20120423,       2234,     9.0880,   -52.4815,       4710,  2359.9,   3.2875,  34.9575,2,  34.9577,2,    260.5,2,   260.2,2,   19.05,2,   18.42,2,    0.00,2,    1.25,2,   0.690,2,   0.303,2,   0.028,2,    0.14,2,  2165.6,2,  2320.0,2,   7.7404,2,    25.00,-999.000,9,-999.0000,9, -999.00,9,   3.2860,2, -999.00,9,  -999.0,9,  -999.0,-999.000,9,-999.000,-999.000,9, -999.00,9, -999.00,9, -999.00,9,   9.0887, -52.4812,-999.000,-999.0000, -999.00,   3.0961,   3.2860,2,    35.1225,2,  -999.0,9,     -999.0,9,     -999.0,9,     -999.0,9,       2323
33AT20120419,        A20,      18,          1,          9,          9,2,20120423,       2234,     9.0880,   -52.4815,       4710,  2613.6,   3.0781,  34.9482,2,  34.9483,2,    256.7,2,   256.3,2,   23.91,2,   19.22,2,    0.00,2,    1.30,2,   0.301,2,   0.121,2,   0.015,2,    0.06,2,  -999.0,9,  -999.0,9,-999.0000,9,  -999.00,-999.000,9,-999.0000,9, -999.00,9,   3.0788,2, -999.00,9,  -999.0,9,  -999.0,-999.000,9,-999.000,-999.000,9, -999.00,9, -999.00,9, -999.00,9,   9.0886, -52.4813,-999.000,-999.0000, -999.00,   2.8654,   3.0788,2,    35.1130,2,  -999.0,9,     -999.0,9,     -999.0,9,     -999.0,9,       2318
33AT20120419,        A20,      18,          1,          8,          8,2,20120423,       2234,     9.0880,   -52.4815,       4710,  2868.2,   2.8973,  34.9368,2,  34.9366,2,    257.6,2,   258.1,2,   25.95,2,   19.27,2,    0.00,2,    1.31,2,   0.339,2,   0.141,2,   0.013,2,    0.00,2,  2170.6,2,  2328.5,2,   7.7419,2,    25.00,-999.000,9,-999.0000,9, -999.00,9,   2.8974,2, -999.00,9,  -999.0,9,  -999.0,-999.000,9,-999.000,-999.000,9, -999.00,9, -999.00,9, -999.00,9,   9.0885, -52.4813,-999.000,-999.0000, -999.00,   2.6624,   2.8974,2,    35.1014,2,  -999.0,9,     -999.0,9,     -999.0,9,     -999.0,9,       2313
33AT20120419,        A20,      18,          1,          7,          7,2,20120423,       2234,     9.0880,   -52.4815,       4710,  3138.7,   2.7380,  34.9258,2,  34.9260,2,    255.6,2,   256.5,2,   29.83,2,   19.65,2,    0.00,2,    1.35,2,   0.274,2,   0.113,2,   0.010,2,    0.00,2,  -999.0,9,  -999.0,9,-999.0000,9,  -999.00,-999.000,9,-999.0000,9, -999.00,9,   2.7371,2, -999.00,9,  -999.0,9,  -999.0,-999.000,9,-999.000,-999.000,9, -999.00,9, -999.00,9, -999.00,9,   9.0883, -52.4813,-999.000,-999.0000, -999.00,   2.4784,   2.7371,2,    35.0907,2,  -999.0,9,     -999.0,9,     -999.0,9,     -999.0,9,       2307