BOTTLE,20220712CCHSIOCBG
EXPOCODE,SECT_ID,STNNBR,CASTNO,SAMPNO,BTLNBR,BTLNBR_FLAG_W,DATE,TIME,LATITUDE,LONGITUDE,DEPTH,CTDPRS,CTDTMP,CTDSAL,CTDSAL_FLAG_W,SALNTY,SALNTY_FLAG_W,CTDOXY,CTDOXY_FLAG_W,OXYGEN,OXYGEN_FLAG_W,SILCAT,SILCAT_FLAG_W,NITRAT,NITRAT_FLAG_W,NITRIT,NITRIT_FLAG_W,PHSPHT,PHSPHT_FLAG_W,CFC-11,CFC-11_FLAG_W,CFC-12,CFC-12_FLAG_W,CFC113,CFC113_FLAG_W,SF6,SF6_FLAG_W,TCARBN,TCARBN_FLAG_W,ALKALI,ALKALI_FLAG_W,PH_TOT,PH_TOT_FLAG_W,PH_TMP,TRITUM,TRITUM_FLAG_W,HELIUM,HELIUM_FLAG_W,DELHE3,DELHE3_FLAG_W,REFTMP,REFTMP_FLAG_W,DELC13,DELC13_FLAG_W,DELC14,DELC14_FLAG_W,C14ERR,NEON,NEON_FLAG_W,NEONER,CCL4,CCL4_FLAG_W,DELO18,DELO18_FLAG_W,DOC,DOC_FLAG_W,TDN,TDN_FLAG_W,BTL_LAT,BTL_LON,TRITER,HELIER,DELHER,THETA,SBE35,SBE35_FLAG_W,SALTREF,SALTREF_FLAG_W,14C-DOC,14C-DOC_FLAG_W,DELO17,DELO17_FLAG_W,O2/AR,O2/AR_FLAG_W,SIP,SIP_FLAG_W,BTL_TIME
,,,,,,,,,,,METERS,DBAR,ITS-90,PSS-78,,PSS-78,,UMOL/KG,,UMOL/KG,,UMOL/KG,,UMOL/KG,,UMOL/KG,,UMOL/KG,,PMOL/KG,,PMOL/KG,,PMOL/KG,,FMOL/KG,,UMOL/KG,,UMOL/KG,,,,DEG C,TU,,NMOL/KG,,PERCNT,,DEG C,,/MILLE,,/MILLE,,/MILLE,NMOL/KG,,NMOL/KG,PMOL/KG,,/MILLE,,UMOL/KG,,UMOL/KG,,,,TU,NMOL/KG,PERCNT,DEG C,ITS-90,,G/KG,,/MILLE,,/MILLE,,,,,,
33AT20120419,        A20,      65,          1,          6,          6,2,20120508,       1752,    39.0076,   -52.3569,       5360,  3967.4,   2.3468,  34.8964,2,  34.8964,2,    268.0,2,   268.5,2,   26.38,2,   18.08,2,    0.00,2,    1.23,2,   1.111,2,   0.555,2,   0.062,3,    0.00,3,  2170.2,2,  2322.9,2,-999.0000,9,  -999.00,   0.209,2,   1.8759,2,    6.24,2,   2.3470,2, -999.00,9,  -999.0,9,  -999.0,   8.195,2,   0.038,   0.880,3, -999.00,9,   43.41,2,   20.09,2,  39.0089, -52.3607,   0.010,   0.0079,    0.15,   2.0065,   2.3470,2,    35.0609,2,  -999.0,9,     -999.0,9,     -999.0,9,     -999.0,9,       1823
33AT20120419,        A20,      65,          1,          5,          5,2,20120508,       1752,    39.0076,   -52.3569,       5360,  4270.2,   2.2806,  34.8891,2,  34.8887,2,    266.0,2,   266.5,2,   29.94,2,   18.59,2,    0.00,2,    1.27,2,   0.929,2,   0.487,2,   0.044,3,    0.00,3,  -999.0,9,  -999.0,9,-999.0000,9,  -999.00,-999.000,9,-999.0000,9, -999.00,9,   2.2807,2, -999.00,9,  -999.0,9,  -999.0,-999.000,9,-999.000,   0.770,3, -999.00,9,   42.54,2,   20.60,2,  39.0087, -52.3602,-999.000,-999.0000, -999.00,   1.9073,   2.2807,2,    35.0532,2,  -999.0,9,     -999.0,9,     -999.0,9,     -999.0,9,       1817
33AT20120419,        A20,      65,          1,          4,          4,2,20120508,       1752,    39.0076,   -52.3569,       5360,  4576.9,   2.2719,  34.8862,2,  34.8864,2,    266.3,2,   266.5,2,   30.47,2,   18.56,2,    0.00,2,    1.27,2,   1.134,2,   0.576,2,   0.068,3,    0.00,3,  2176.7,2,  2326.7,2,-999.0000,9,  -999.00,   0.210,2,   1.8797,2,    5.51,2,   2.2728,2, -999.00,9,  -999.0,9,  -999.0,   8.084,2,   0.037,   0.920,3, -999.00,9,   42.23,2,   20.99,2,  39.0085, -52.3597,   0.010,   0.0079,    0.15,   1.8623,   2.2728,2,    35.0509,2,  -999.0,9,     -999.0,9,     -999.0,9,     -999.0,9,       1811
33AT20120419,        A20,      65,          1,          3,          3,2,20120508,       1752,    39.0076,   -52.3569,       5360,  4885.9,   2.2736,  34.8826,2,  34.8822,2,    264.4,2,   264.5,2,   32.85,2,   18.93,2,    0.00,2,    1.30,2,   1.027,2,   0.525,2,   0.057,3,    0.00,3,  -999.0,9,  -999.0,9,-999.0000,9,  -999.00,-999.000,9,-999.0000,9, -999.00,9,   2.2729,2, -999.00,9,  -999.0,9,  -999.0,-999.000,9,-999.000,   0.840,3, -999.00,9,   42.48,2,   21.39,2,  39.0082, -52.3590,-999.000,-999.0000, -999.00,   1.8261,   2.2729,2,    35.0467,2,  -999.0,9,     -999.0,9,     -999.0,9,     -999.0,9,       1805
33AT20120419,        A20,      65,          1,          2,          2,2,20120508,       1752,    39.0076,   -52.3569,       5360,  5173.0,   2.2848,  34.8808,2,  34.8813,2,    263.6,2,   265.1,2,   33.11,2,   18.89,2,    0.00,2,    1.29,2,   1.169,2,   0.597,2,   0.073,3,    0.00,3,  2180.9,2,  2330.5,3,-999.0000,9,  -999.00,-999.000,9,-999.0000,9, -999.00,9,   2.2843,2, -999.00,9,  -999.0,9,  -999.0,-999.000,9,-999.000,   0.900,3, -999.00,9,   42.85,2,   21.22,2,  39.0078, -52.3581,-999.000,-999.0000, -999.00,   1.8006,   2.2843,2,    35.0458,2,  -999.0,9,     -999.0,9,     -999.0,9,     -999.0,9,       1759
33AT20120419,        A20,      65,          1,          1,          1,2,20120508,       1752,    39.0076,   -52.3569,       5360,  5450.4,   2.2413,  34.8689,2,  34.8695,2,    254.2,2,   254.0,2,   43.54,2,   20.67,2,    0.03,2,    1.46,2,   0.408,2,   0.224,2,   0.024,3,    0.00,3,  2194.2,6,  2343.9,2,-999.0000,9,  -999.00,   0.101,2,   2.1140,3,    4.93,2,   2.2417,2, -999.00,9,  -999.0,9,  -999.0,   9.089,3,   0.042,   0.450,3, -999.00,9,   42.33,2,   23.14,2,  39.0076, -52.3569,   0.010,   0.0089,    0.15,   1.7228,   2.2417,2,    35.0340,2,  -999.0,9,     -999.0,9,     -999.0,9,     -999.0,9,       1753