BOTTLE,20220712CCHSIOCBG
EXPOCODE,SECT_ID,STNNBR,CASTNO,SAMPNO,BTLNBR,BTLNBR_FLAG_W,DATE,TIME,LATITUDE,LONGITUDE,DEPTH,CTDPRS,CTDTMP,CTDSAL,CTDSAL_FLAG_W,SALNTY,SALNTY_FLAG_W,CTDOXY,CTDOXY_FLAG_W,OXYGEN,OXYGEN_FLAG_W,SILCAT,SILCAT_FLAG_W,NITRAT,NITRAT_FLAG_W,NITRIT,NITRIT_FLAG_W,PHSPHT,PHSPHT_FLAG_W,CFC-11,CFC-11_FLAG_W,CFC-12,CFC-12_FLAG_W,CFC113,CFC113_FLAG_W,SF6,SF6_FLAG_W,TCARBN,TCARBN_FLAG_W,ALKALI,ALKALI_FLAG_W,PH_TOT,PH_TOT_FLAG_W,PH_TMP,TRITUM,TRITUM_FLAG_W,HELIUM,HELIUM_FLAG_W,DELHE3,DELHE3_FLAG_W,REFTMP,REFTMP_FLAG_W,DELC13,DELC13_FLAG_W,DELC14,DELC14_FLAG_W,C14ERR,NEON,NEON_FLAG_W,NEONER,CCL4,CCL4_FLAG_W,DELO18,DELO18_FLAG_W,DOC,DOC_FLAG_W,TDN,TDN_FLAG_W,BTL_LAT,BTL_LON,TRITER,HELIER,DELHER,THETA,SBE35,SBE35_FLAG_W,SALTREF,SALTREF_FLAG_W,14C-DOC,14C-DOC_FLAG_W,DELO17,DELO17_FLAG_W,O2/AR,O2/AR_FLAG_W,SIP,SIP_FLAG_W,BTL_TIME
,,,,,,,,,,,METERS,DBAR,ITS-90,PSS-78,,PSS-78,,UMOL/KG,,UMOL/KG,,UMOL/KG,,UMOL/KG,,UMOL/KG,,UMOL/KG,,PMOL/KG,,PMOL/KG,,PMOL/KG,,FMOL/KG,,UMOL/KG,,UMOL/KG,,,,DEG C,TU,,NMOL/KG,,PERCNT,,DEG C,,/MILLE,,/MILLE,,/MILLE,NMOL/KG,,NMOL/KG,PMOL/KG,,/MILLE,,UMOL/KG,,UMOL/KG,,,,TU,NMOL/KG,PERCNT,DEG C,ITS-90,,G/KG,,/MILLE,,/MILLE,,,,,,
33AT20120419,        A20,      15,          1,          6,          6,2,20120423,       0438,     8.5950,   -52.7062,       4320,  3139.5,   2.6230,  34.9186,2,  34.9195,2,    262.3,2,   262.9,2,   26.07,2,   18.70,2,    0.00,2,    1.26,2,   0.527,2,   0.281,2,   0.027,2,    0.00,3,  2167.5,2,  2322.7,2,   7.7395,2,    25.00,-999.000,9,-999.0000,9, -999.00,9,   2.6233,2, -999.00,9,  -999.0,9,  -999.0,-999.000,9,-999.000,   0.490,2, -999.00,9,   41.48,2,   21.69,2,   8.5964, -52.7060,-999.000,-999.0000, -999.00,   2.3660,   2.6233,2,    35.0842,2,  -999.0,9,     -999.0,9,     -999.0,9,     -999.0,9,       0508
33AT20120419,        A20,      15,          1,          5,          5,2,20120423,       0438,     8.5950,   -52.7062,       4320,  3445.3,   2.4727,  34.9079,2,  34.9085,2,    263.4,2,   264.0,2,   27.99,2,   18.74,2,    0.00,2,    1.27,2,   0.544,2,   0.288,2,   0.030,2,    0.00,3,  -999.0,9,  -999.0,9,-999.0000,9,  -999.00,-999.000,9,-999.0000,9, -999.00,9,   2.4731,2, -999.00,9,  -999.0,9,  -999.0,-999.000,9,-999.000,   0.530,2, -999.00,9,   40.85,2,   21.66,2,   8.5959, -52.7060,-999.000,-999.0000, -999.00,   2.1868,   2.4731,2,    35.0731,2,  -999.0,9,     -999.0,9,     -999.0,9,     -999.0,9,       0501
33AT20120419,        A20,      15,          1,          4,          4,2,20120423,       0438,     8.5950,   -52.7062,       4320,  3751.4,   2.3460,  34.8982,2,  34.8993,2,    264.6,2,   264.7,2,   29.67,2,   18.74,2,    0.00,2,    1.28,2,   0.565,2,   0.303,2,   0.034,2,    0.00,3,  2172.3,2,  2325.0,6,   7.7366,2,    25.00,-999.000,9,-999.0000,9, -999.00,9,   2.3463,2, -999.00,9,  -999.0,9,  -999.0,-999.000,9,-999.000,   0.560,2, -999.00,9,   40.17,2,   21.89,2,   8.5954, -52.7061,-999.000,-999.0000, -999.00,   2.0299,   2.3463,2,    35.0638,2,  -999.0,9,     -999.0,9,     -999.0,9,     -999.0,9,       0455
33AT20120419,        A20,      15,          1,          3,          3,2,20120423,       0438,     8.5950,   -52.7062,       4320,  4057.1,   2.3525,  34.8961,2,  34.8967,2,    264.9,2,   264.7,2,   30.08,2,   18.78,2,    0.00,2,    1.28,2,   0.578,2,   0.314,2,   0.038,2,    0.00,3,  -999.0,9,  -999.0,9,-999.0000,9,  -999.00,-999.000,9,-999.0000,9, -999.00,9,   2.3524,2, -999.00,9,  -999.0,9,  -999.0,-999.000,9,-999.000,   0.540,2, -999.00,9,   40.22,2,   22.57,2,   8.5952, -52.7062,-999.000,-999.0000, -999.00,   2.0018,   2.3524,2,    35.0613,2,  -999.0,9,     -999.0,9,     -999.0,9,     -999.0,9,       0449
33AT20120419,        A20,      15,          1,          2,          2,2,20120423,       0438,     8.5950,   -52.7062,       4320,  4262.3,   2.3438,  34.8937,2,  34.8942,2,    264.6,2,   264.7,2,   30.94,2,   18.84,2,    0.00,2,    1.29,2,   0.575,2,   0.300,2,   0.039,2,    0.00,3,  2172.8,2,  2328.3,2,   7.7355,6,    25.00,-999.000,9,-999.0000,9, -999.00,9,   2.3443,2, -999.00,9,  -999.0,9,  -999.0,-999.000,9,-999.000,   0.560,2, -999.00,9,   41.13,2,   21.63,2,   8.5950, -52.7062,-999.000,-999.0000, -999.00,   1.9695,   2.3443,2,    35.0587,2,  -999.0,9,     -999.0,9,     -999.0,9,     -999.0,9,       0444
33AT20120419,        A20,      15,          1,          1,          1,2,20120423,       0438,     8.5950,   -52.7062,       4320,  4467.6,   2.3359,  34.8911,2,  34.8922,2,    263.7,2,   264.1,2,   31.99,2,   19.00,2,    0.00,2,    1.29,2,   0.559,2,   0.297,2,   0.040,2,    0.00,3,  2175.8,6,  2328.0,2,   7.7365,2,    25.00,-999.000,9,-999.0000,9, -999.00,9,   2.3354,2, -999.00,9,  -999.0,9,  -999.0,-999.000,9,-999.000,   0.550,2, -999.00,9,   40.36,2,   22.78,2,   8.5950, -52.7062,-999.000,-999.0000, -999.00,   1.9375,   2.3354,2,    35.0567,2,  -999.0,9,     -999.0,9,     -999.0,9,     -999.0,9,       0439