BOTTLE,20220712CCHSIOCBG
EXPOCODE,SECT_ID,STNNBR,CASTNO,SAMPNO,BTLNBR,BTLNBR_FLAG_W,DATE,TIME,LATITUDE,LONGITUDE,DEPTH,CTDPRS,CTDTMP,CTDSAL,CTDSAL_FLAG_W,SALNTY,SALNTY_FLAG_W,CTDOXY,CTDOXY_FLAG_W,OXYGEN,OXYGEN_FLAG_W,SILCAT,SILCAT_FLAG_W,NITRAT,NITRAT_FLAG_W,NITRIT,NITRIT_FLAG_W,PHSPHT,PHSPHT_FLAG_W,CFC-11,CFC-11_FLAG_W,CFC-12,CFC-12_FLAG_W,CFC113,CFC113_FLAG_W,SF6,SF6_FLAG_W,TCARBN,TCARBN_FLAG_W,ALKALI,ALKALI_FLAG_W,PH_TOT,PH_TOT_FLAG_W,PH_TMP,TRITUM,TRITUM_FLAG_W,HELIUM,HELIUM_FLAG_W,DELHE3,DELHE3_FLAG_W,REFTMP,REFTMP_FLAG_W,DELC13,DELC13_FLAG_W,DELC14,DELC14_FLAG_W,C14ERR,NEON,NEON_FLAG_W,NEONER,CCL4,CCL4_FLAG_W,DELO18,DELO18_FLAG_W,DOC,DOC_FLAG_W,TDN,TDN_FLAG_W,BTL_LAT,BTL_LON,TRITER,HELIER,DELHER,THETA,SBE35,SBE35_FLAG_W,SALTREF,SALTREF_FLAG_W,14C-DOC,14C-DOC_FLAG_W,DELO17,DELO17_FLAG_W,O2/AR,O2/AR_FLAG_W,SIP,SIP_FLAG_W,BTL_TIME
,,,,,,,,,,,METERS,DBAR,ITS-90,PSS-78,,PSS-78,,UMOL/KG,,UMOL/KG,,UMOL/KG,,UMOL/KG,,UMOL/KG,,UMOL/KG,,PMOL/KG,,PMOL/KG,,PMOL/KG,,FMOL/KG,,UMOL/KG,,UMOL/KG,,,,DEG C,TU,,NMOL/KG,,PERCNT,,DEG C,,/MILLE,,/MILLE,,/MILLE,NMOL/KG,,NMOL/KG,PMOL/KG,,/MILLE,,UMOL/KG,,UMOL/KG,,,,TU,NMOL/KG,PERCNT,DEG C,ITS-90,,G/KG,,/MILLE,,/MILLE,,,,,,
33AT20120419,        A20,      28,          1,         36,         36,2,20120426,       1602,    13.4096,   -52.3298,       4998,     4.8,  27.0397,  35.9348,2,  35.9309,2,    201.9,2,   202.4,2,    1.03,2,    0.00,2,    0.00,2,    0.00,2,   1.671,2,   1.053,2,   0.140,2,    1.06,2,  2010.2,6,  2359.8,2,   8.1025,6,    25.00,   0.398,2,   1.7038,2,   -1.25,2,  27.0338,2, -999.00,9,  -999.0,9,  -999.0,   6.712,2,   0.031,-999.000,9, -999.00,1, -999.00,9, -999.00,9,  13.4114, -52.3305,   0.011,   0.0072,    0.15,  27.0386,  27.0338,2,    36.1003,2,  -999.0,9,     -999.0,1,     -999.0,1,     -999.0,9,       1813
33AT20120419,        A20,      28,          1,         35,         35,2,20120426,       1602,    13.4096,   -52.3298,       4998,    21.2,  26.9151,  35.9552,2,  35.9550,2,    201.8,2,   202.6,2,    0.94,2,    0.00,2,    0.00,2,    0.00,2,   1.686,2,   1.049,2,   0.134,2,    1.09,2,  2011.5,2,  2361.0,2,   8.1038,2,    25.00,-999.000,9,-999.0000,9, -999.00,9,  26.9107,2, -999.00,9,  -999.0,9,  -999.0,-999.000,9,-999.000,-999.000,9, -999.00,9, -999.00,9, -999.00,9,  13.4114, -52.3305,-999.000,-999.0000, -999.00,  26.9102,  26.9107,2,    36.1246,2,  -999.0,9,     -999.0,9,     -999.0,9,     -999.0,9,       1811
33AT20120419,        A20,      28,          1,         34,         34,2,20120426,       1602,    13.4096,   -52.3298,       4998,    40.9,  26.6157,  36.0629,2,  36.0626,2,    205.7,2,   204.0,2,    1.03,2,    0.00,2,    0.00,2,    0.00,2,   1.710,2,   1.082,2,   0.142,2,    1.13,2,  2013.3,2,  2366.2,2,   8.1068,2,    25.00,-999.000,9,-999.0000,9, -999.00,9,  26.6159,2, -999.00,9,  -999.0,9,  -999.0,-999.000,9,-999.000,-999.000,9, -999.00,1, -999.00,9, -999.00,9,  13.4113, -52.3305,-999.000,-999.0000, -999.00,  26.6064,  26.6159,2,    36.2326,2,  -999.0,9,     -999.0,1,     -999.0,1,     -999.0,9,       1809
33AT20120419,        A20,      28,          1,         33,         33,2,20120426,       1602,    13.4096,   -52.3298,       4998,    66.0,  26.4929,  36.1472,2,  36.1482,2,    205.2,2,   204.0,2,    1.05,2,    0.00,2,    0.00,2,    0.00,2,   1.733,2,   1.115,2,   0.152,2,    1.20,2,  2016.3,2,  2371.6,2,   8.1069,2,    25.00,   0.427,2,   1.7005,2,   -1.22,2,  26.4857,2, -999.00,9,  -999.0,9,  -999.0,   6.702,2,   0.031,-999.000,9, -999.00,1, -999.00,9, -999.00,9,  13.4112, -52.3304,   0.012,   0.0071,    0.15,  26.4779,  26.4857,2,    36.3187,2,  -999.0,9,     -999.0,1,     -999.0,1,     -999.0,9,       1807
33AT20120419,        A20,      28,          1,         32,         32,2,20120426,       1602,    13.4096,   -52.3298,       4998,    90.5,  25.8718,  37.0701,2,  37.0534,2,    203.8,2,   202.2,2,    0.41,2,    0.00,2,    0.01,2,    0.00,2,   1.814,2,   1.153,2,   0.150,2,    1.13,2,  -999.0,9,  -999.0,9,-999.0000,9,  -999.00,-999.000,9,-999.0000,9, -999.00,9,  25.8359,2, -999.00,9,  -999.0,9,  -999.0,-999.000,9,-999.000,-999.000,9, -999.00,1, -999.00,9, -999.00,9,  13.4111, -52.3304,-999.000,-999.0000, -999.00,  25.8515,  25.8359,2,    37.2281,2,  -999.0,9,     -999.0,1,     -999.0,1,     -999.0,9,       1805
33AT20120419,        A20,      28,          1,         31,         31,4,20120426,       1602,    13.4096,   -52.3298,       4998,   135.7,  22.2768,  37.0097,2,  35.6292,4,    158.4,2,   171.0,4,   14.47,4,   16.96,4,    0.02,4,    1.07,4,   1.327,4,   0.730,4,   0.044,4,    0.50,4,  2176.4,4,  2352.1,4,   7.7814,2,    25.00,   0.263,4,   1.7776,2,    2.47,2,  22.2533,2, -999.00,9,  -999.0,9,  -999.0,   7.466,2,   0.034,-999.000,9, -999.00,1, -999.00,9, -999.00,9,  13.4110, -52.3304,   0.012,   0.0075,    0.15,  22.2495,  22.2533,2,    35.7972,4,  -999.0,9,     -999.0,1,     -999.0,1,     -999.0,9,       1802
33AT20120419,        A20,      28,          1,         30,         30,2,20120426,       1602,    13.4096,   -52.3298,       4998,   185.5,  17.4714,  36.3274,2,  36.4365,2,    131.0,2,   132.6,2,    3.12,2,   11.47,2,    0.02,2,    0.64,2,   2.178,2,   1.280,2,   0.029,2,    0.95,2,  2174.5,2,  2385.0,2,   7.8465,2,    25.00,-999.000,9,-999.0000,9, -999.00,9,  17.4240,2, -999.00,9,  -999.0,9,  -999.0,-999.000,9,-999.000,-999.000,9, -999.00,9, -999.00,9, -999.00,9,  13.4110, -52.3303,-999.000,-999.0000, -999.00,  17.4399,  17.4240,2,    36.6083,2,  -999.0,9,     -999.0,9,     -999.0,9,     -999.0,9,       1800
33AT20120419,        A20,      28,          1,         29,         29,2,20120426,       1602,    13.4096,   -52.3298,       4998,   236.2,  14.5813,  35.8222,2,  35.8201,2,    122.1,2,   122.5,2,    6.34,2,   18.35,2,    0.01,2,    1.09,2,   2.256,2,   1.301,2,   0.023,2,    0.69,2,  2185.5,2,  2351.7,2,   7.7577,2,    25.00,   0.365,2,   1.7650,2,    2.21,2,  14.5675,2, -999.00,9,  -999.0,9,  -999.0,   7.279,2,   0.033,-999.000,9, -999.00,1, -999.00,9, -999.00,9,  13.4110, -52.3303,   0.012,   0.0074,    0.15,  14.5459,  14.5675,2,    35.9891,2,  -999.0,9,     -999.0,1,     -999.0,1,     -999.0,9,       1758
33AT20120419,        A20,      28,          1,         28,         28,2,20120426,       1602,    13.4096,   -52.3298,       4998,   286.9,  11.9169,  35.3626,2,  35.3627,2,    104.0,2,   104.5,2,    9.77,2,   24.57,2,    0.01,2,    1.50,2,   1.808,2,   0.975,2,   0.023,2,    0.50,2,  2202.4,6,  2327.5,2,   7.6593,2,    25.00,-999.000,9,-999.0000,9, -999.00,9,  11.9051,2, -999.00,9,  -999.0,9,  -999.0,-999.000,9,-999.000,-999.000,9, -999.00,9, -999.00,9, -999.00,9,  13.4109, -52.3303,-999.000,-999.0000, -999.00,  11.8794,  11.9051,2,    35.5295,2,  -999.0,9,     -999.0,9,     -999.0,9,     -999.0,9,       1756
33AT20120419,        A20,      28,          1,         27,         27,2,20120426,       1602,    13.4096,   -52.3298,       4998,   336.0,  10.9872,  35.2213,2,  35.2181,2,    110.8,2,   110.7,2,   11.29,2,   25.75,2,    0.01,2,    1.59,2,   1.732,2,   0.930,2,   0.029,2,    0.52,2,  2202.3,2,  2323.2,2,   7.6467,6,    25.00,   0.213,2,   1.7839,2,    2.89,2,  10.9881,2, -999.00,9,  -999.0,9,  -999.0,   7.452,2,   0.034,-999.000,9, -999.00,1, -999.00,9, -999.00,9,  13.4109, -52.3303,   0.011,   0.0075,    0.15,  10.9454,  10.9881,2,    35.3842,2,  -999.0,9,     -999.0,1,     -999.0,1,     -999.0,9,       1754
33AT20120419,        A20,      28,          1,         26,         26,2,20120426,       1602,    13.4096,   -52.3298,       4998,   386.6,  10.3300,  35.1310,2,  35.1281,2,    114.1,2,   112.9,2,   12.47,2,   26.83,2,    0.01,2,    1.67,2,   1.626,2,   0.852,2,   0.028,2,    0.41,2,  -999.0,9,  -999.0,9,-999.0000,9,  -999.00,-999.000,9,-999.0000,9, -999.00,9,  10.3313,2, -999.00,9,  -999.0,9,  -999.0,-999.000,9,-999.000,-999.000,9, -999.00,9, -999.00,9, -999.00,9,  13.4108, -52.3303,-999.000,-999.0000, -999.00,  10.2837,  10.3313,2,    35.2938,2,  -999.0,9,     -999.0,9,     -999.0,9,     -999.0,9,       1752
33AT20120419,        A20,      28,          1,         25,         25,2,20120426,       1602,    13.4096,   -52.3298,       4998,   468.0,   9.1024,  34.9531,2,  34.9539,2,    115.3,2,   115.6,2,   14.87,2,   29.02,2,    0.01,2,    1.81,2,   1.396,2,   0.710,2,   0.032,2,    0.30,2,  2207.4,2,  2311.5,2,   7.6071,2,    25.00,   0.145,2,   1.7948,2,    3.07,2,   9.1064,2, -999.00,9,  -999.0,9,  -999.0,   7.568,2,   0.035,-999.000,9, -999.00,1, -999.00,9, -999.00,9,  13.4109, -52.3303,   0.011,   0.0075,    0.15,   9.0504,   9.1064,2,    35.1188,2,  -999.0,9,     -999.0,1,     -999.0,1,     -999.0,9,       1749
33AT20120419,        A20,      28,          1,         24,         24,2,20120426,       1602,    13.4096,   -52.3298,       4998,   567.6,   7.7053,  34.7801,2,  34.7811,2,    116.4,2,   117.7,2,   18.51,2,   31.92,2,    0.01,2,    2.01,2,   1.000,2,   0.496,2,   0.027,2,    0.22,2,  2214.3,2,  2305.4,2,   7.5712,2,    25.00,   0.080,2,   1.7965,2,    2.80,2,   7.7248,2, -999.00,9,  -999.0,9,  -999.0,   7.626,2,   0.035,-999.000,9, -999.00,1, -999.00,9, -999.00,9,  13.4109, -52.3303,   0.011,   0.0075,    0.15,   7.6479,   7.7248,2,    34.9451,2,  -999.0,9,     -999.0,1,     -999.0,1,     -999.0,9,       1747
33AT20120419,        A20,      28,          1,         23,         23,4,20120426,       1602,    13.4096,   -52.3298,       4998,   669.6,   6.6298,  34.6798,2,  34.7754,4,    124.4,2,   165.2,4,   26.10,4,   28.63,4,    0.00,4,    1.85,4,   0.455,4,   0.207,4,   0.016,4,    0.07,4,  -999.0,9,  -999.0,9,-999.0000,9,  -999.00,   0.038,2,   1.8119,2,    3.21,2,   6.6251,2, -999.00,9,  -999.0,9,  -999.0,   7.822,2,   0.036,-999.000,9, -999.00,9, -999.00,9, -999.00,9,  13.4108, -52.3303,   0.011,   0.0076,    0.15,   6.5671,   6.6251,2,    34.9394,4,  -999.0,9,     -999.0,9,     -999.0,9,     -999.0,9,       1744
33AT20120419,        A20,      28,          1,         22,         22,2,20120426,       1602,    13.4096,   -52.3298,       4998,   769.7,   5.9689,  34.6446,2,  34.6437,2,    128.2,2,   127.8,2,   24.96,2,   34.34,2,    0.00,2,    2.22,2,   0.412,2,   0.177,2,   0.019,2,    0.08,2,  -999.0,9,  -999.0,9,-999.0000,9,  -999.00,   0.015,2,   1.8063,2,    2.61,2,   5.9707,2, -999.00,9,  -999.0,9,  -999.0,   7.825,2,   0.036,-999.000,9, -999.00,9, -999.00,9, -999.00,9,  13.4108, -52.3303,   0.011,   0.0076,    0.15,   5.9002,   5.9707,2,    34.8071,2,  -999.0,9,     -999.0,9,     -999.0,9,     -999.0,9,       1741
33AT20120419,        A20,      28,          1,         21,         21,2,20120426,       1602,    13.4096,   -52.3298,       4998,   870.5,   5.6871,  34.6705,2,  34.6695,2,    130.5,2,   130.6,2,   26.28,2,   34.20,2,    0.00,2,    2.22,2,   0.232,2,   0.104,2,   0.013,2,    0.04,2,  2222.5,2,  2308.2,2,   7.5539,2,    25.00,   0.006,2,   1.8123,2,    2.53,2,   5.6875,2, -999.00,9,  -999.0,9,  -999.0,   7.900,2,   0.036,-999.000,9, -999.00,9, -999.00,9, -999.00,9,  13.4108, -52.3303,   0.011,   0.0076,    0.15,   5.6106,   5.6875,2,    34.8329,2,  -999.0,9,     -999.0,9,     -999.0,9,     -999.0,9,       1738
33AT20120419,        A20,      28,          1,         20,         20,2,20120426,       1602,    13.4096,   -52.3298,       4998,   971.0,   5.4470,  34.7225,2,  34.7241,2,    137.1,2,   139.5,2,   26.40,2,   32.98,2,    0.00,2,    2.16,2,   0.152,2,   0.062,2,   0.008,2,    0.06,2,  -999.0,9,  -999.0,9,-999.0000,9,  -999.00,   0.018,2,   1.8215,2,    2.37,2,   5.4470,2, -999.00,9,  -999.0,9,  -999.0,   7.882,2,   0.036,-999.000,9, -999.00,9, -999.00,9, -999.00,9,  13.4109, -52.3303,   0.011,   0.0077,    0.15,   5.3627,   5.4470,2,    34.8879,2,  -999.0,9,     -999.0,9,     -999.0,9,     -999.0,9,       1735
33AT20120419,        A20,      28,          1,         19,         19,2,20120426,       1602,    13.4096,   -52.3298,       4998,  1072.7,   5.4650,  34.8220,2,  34.8203,2,    145.2,2,   144.5,2,   24.74,2,   31.34,2,    0.00,2,    2.04,2,   0.091,2,   0.037,2,   0.009,2,    0.05,2,  2215.9,2,  2314.6,2,   7.5906,2,    25.00,  -0.001,2,   1.9392,2,    2.38,2,   5.4652,2, -999.00,9,  -999.0,9,  -999.0,   8.449,2,   0.039,-999.000,9, -999.00,9, -999.00,9, -999.00,9,  13.4109, -52.3303,   0.011,   0.0081,    0.15,   5.3708,   5.4652,2,    34.9845,2,  -999.0,9,     -999.0,9,     -999.0,9,     -999.0,9,       1732
33AT20120419,        A20,      28,          1,         18,         18,2,20120426,       1602,    13.4096,   -52.3298,       4998,  1173.8,   5.3440,  34.8891,2,  34.8860,2,    159.9,2,   159.3,2,   23.16,2,   29.09,2,    0.00,2,    1.89,2,   0.114,2,   0.052,2,   0.010,2,    0.04,2,  2208.5,2,  2317.5,6,   7.6220,2,    25.00,   0.041,2,   1.9628,3,    2.42,2,   5.3462,2, -999.00,9,  -999.0,9,  -999.0,   8.535,3,   0.039,-999.000,9, -999.00,9, -999.00,9, -999.00,9,  13.4109, -52.3303,   0.011,   0.0082,    0.15,   5.2410,   5.3462,2,    35.0505,2,  -999.0,9,     -999.0,9,     -999.0,9,     -999.0,9,       1730
33AT20120419,        A20,      28,          1,         17,         17,2,20120426,       1602,    13.4096,   -52.3298,       4998,  1275.7,   5.1722,  34.9422,2,  34.9419,2,    180.9,2,   178.7,2,   21.24,2,   26.38,2,    0.00,2,    1.73,2,   0.205,2,   0.085,2,   0.015,2,    0.10,2,  -999.0,9,  -999.0,9,-999.0000,9,  -999.00,   0.058,2,   1.9605,3,    2.35,2,   5.1719,2, -999.00,9,  -999.0,9,  -999.0,   8.536,3,   0.039,-999.000,9, -999.00,9, -999.00,9, -999.00,9,  13.4108, -52.3303,   0.011,   0.0082,    0.15,   5.0608,   5.1719,2,    35.1066,2,  -999.0,9,     -999.0,9,     -999.0,9,     -999.0,9,       1727
33AT20120419,        A20,      28,          1,         16,         16,2,20120426,       1602,    13.4096,   -52.3298,       4998,  1376.2,   4.9543,  34.9787,2,  34.9783,2,    200.5,2,   200.9,2,   18.91,2,   23.74,2,    0.00,2,    1.55,2,   0.376,2,   0.085,2,   0.019,2,    0.08,2,  2187.7,2,  2319.8,2,   7.6817,2,    25.00,   0.069,2,   1.9516,3,    3.93,2,   4.9563,2, -999.00,9,  -999.0,9,  -999.0,   8.377,3,   0.039,-999.000,9, -999.00,9, -999.00,9, -999.00,9,  13.4108, -52.3303,   0.011,   0.0082,    0.15,   4.8354,   4.9563,2,    35.1432,2,  -999.0,9,     -999.0,9,     -999.0,9,     -999.0,9,       1724
33AT20120419,        A20,      28,          1,         15,         15,2,20120426,       1602,    13.4096,   -52.3298,       4998,  1477.3,   4.7198,  34.9941,2,  34.9941,2,    215.9,2,   215.8,2,   17.68,2,   22.11,2,    0.00,2,    1.45,2,   0.498,2,   0.217,2,   0.020,2,    0.14,2,  2180.2,2,  2318.9,2,   7.6997,2,    25.00,-999.000,9,   1.9593,3,    4.24,2,   4.7199,2, -999.00,9,  -999.0,9,  -999.0,   8.506,3,   0.039,-999.000,9, -999.00,9, -999.00,9, -999.00,9,  13.4109, -52.3303,-999.000,   0.0082,    0.15,   4.5936,   4.7199,2,    35.1591,2,  -999.0,9,     -999.0,9,     -999.0,9,     -999.0,9,       1721
33AT20120419,        A20,      28,          1,         14,         14,2,20120426,       1602,    13.4096,   -52.3298,       4998,  1579.4,   4.4509,  34.9975,2,  34.9976,2,    229.2,2,   229.6,2,   16.76,2,   20.79,2,    0.00,2,    1.37,2,   0.600,2,   0.268,2,   0.034,2,    0.15,2,  -999.0,9,  -999.0,9,-999.0000,9,  -999.00,   0.151,2,   1.9875,3,    4.14,2,   4.4508,2, -999.00,9,  -999.0,9,  -999.0,   8.497,3,   0.039,-999.000,9, -999.00,9, -999.00,9, -999.00,9,  13.4109, -52.3303,   0.011,   0.0083,    0.15,   4.3180,   4.4508,2,    35.1626,2,  -999.0,9,     -999.0,9,     -999.0,9,     -999.0,9,       1718
33AT20120419,        A20,      28,          1,         13,         13,2,20120426,       1602,    13.4096,   -52.3298,       4998,  1751.0,   4.0463,  34.9895,2,  34.9898,2,    243.1,2,   244.2,2,   16.67,2,   19.61,2,    0.00,2,    1.29,2,   0.578,2,   0.259,2,   0.026,2,    0.12,2,  2167.4,2,  2319.1,2,   7.7281,2,    25.00,   0.149,2,   1.9865,3,    3.93,2,   4.0463,2, -999.00,9,  -999.0,9,  -999.0,   8.629,3,   0.040,-999.000,9, -999.00,9, -999.00,9, -999.00,9,  13.4108, -52.3302,   0.011,   0.0083,    0.15,   3.9021,   4.0463,2,    35.1547,2,  -999.0,9,     -999.0,9,     -999.0,9,     -999.0,9,       1714
33AT20120419,        A20,      28,          1,         12,         12,2,20120426,       1602,    13.4096,   -52.3298,       4998,  1953.8,   3.7043,  34.9785,2,  34.9781,2,    251.0,2,   249.7,2,   18.51,2,   19.29,2,    0.00,2,    1.28,2,   0.419,2,   0.191,2,   0.021,2,    0.08,2,  -999.0,9,  -999.0,9,-999.0000,9,  -999.00,   0.098,6,   1.9742,3,    3.31,2,   3.7021,2, -999.00,9,  -999.0,9,  -999.0,   8.614,3,   0.040,-999.000,9, -999.00,9, -999.00,9, -999.00,9,  13.4109, -52.3303,   0.008,   0.0083,    0.15,   3.5455,   3.7021,2,    35.1431,2,  -999.0,9,     -999.0,9,     -999.0,9,     -999.0,9,       1709
33AT20120419,        A20,      28,          1,         11,         11,2,20120426,       1602,    13.4096,   -52.3298,       4998,  2186.5,   3.3684,  34.9660,2,  34.9664,2,    254.1,2,   253.6,2,   20.83,2,   19.13,2,    0.00,2,    1.28,2,   0.319,2,   0.136,2,   0.012,2,    0.05,2,  2166.1,2,  2322.3,2,   7.7403,2,    25.00,   0.071,2,   1.9867,3,    3.15,2,   3.3683,2, -999.00,9,  -999.0,9,  -999.0,   8.539,3,   0.039,-999.000,9, -999.00,9, -999.00,9, -999.00,9,  13.4109, -52.3303,   0.012,   0.0083,    0.15,   3.1925,   3.3683,2,    35.1312,2,  -999.0,9,     -999.0,9,     -999.0,9,     -999.0,9,       1704
33AT20120419,        A20,      28,          1,         10,         10,2,20120426,       1602,    13.4096,   -52.3298,       4998,  2441.0,   3.0687,  34.9502,2,  34.9504,2,    252.5,2,   252.1,2,   25.85,2,   19.71,2,    0.00,2,    1.32,2,   0.167,2,   0.069,2,   0.009,2,    0.08,2,  2171.0,2,  2327.9,2,   7.7395,6,    25.00,-999.000,9,-999.0000,9, -999.00,9,   3.0702,2, -999.00,9,  -999.0,9,  -999.0,-999.000,9,-999.000,-999.000,9, -999.00,9, -999.00,9, -999.00,9,  13.4107, -52.3302,-999.000,-999.0000, -999.00,   2.8732,   3.0702,2,    35.1152,2,  -999.0,9,     -999.0,9,     -999.0,9,     -999.0,9,       1658
33AT20120419,        A20,      28,          1,          9,          9,2,20120426,       1602,    13.4096,   -52.3298,       4998,  2696.4,   2.8807,  34.9379,2,  34.9375,2,    250.4,2,   250.4,2,   30.29,2,   20.22,2,    0.00,2,    1.36,2,   0.118,2,   0.045,2,   0.014,2,    0.09,2,  2176.0,2,  2332.0,2,   7.7388,2,    25.00,   0.003,2,   1.9890,3,    3.95,2,   2.8794,2, -999.00,9,  -999.0,9,  -999.0,   8.625,3,   0.040,-999.000,9, -999.00,9, -999.00,9, -999.00,9,  13.4105, -52.3301,   0.011,   0.0084,    0.15,   2.6635,   2.8794,2,    35.1022,2,  -999.0,9,     -999.0,9,     -999.0,9,     -999.0,9,       1652
33AT20120419,        A20,      28,          1,          8,          8,2,20120426,       1602,    13.4096,   -52.3298,       4998,  2950.2,   2.7241,  34.9260,2,  34.9263,2,    249.8,2,   249.9,2,   33.74,2,   20.58,2,    0.00,2,    1.38,2,   0.107,2,   0.039,2,   0.005,2,    0.09,2,  2180.3,2,  2336.1,6,   7.7354,2,    25.00,-999.000,9,-999.0000,9, -999.00,9,   2.7244,2, -999.00,9,  -999.0,9,  -999.0,-999.000,9,-999.000,-999.000,9, -999.00,9, -999.00,9, -999.00,9,  13.4104, -52.3301,-999.000,-999.0000, -999.00,   2.4844,   2.7244,2,    35.0910,2,  -999.0,9,     -999.0,9,     -999.0,9,     -999.0,9,       1647
33AT20120419,        A20,      28,          1,          7,          7,2,20120426,       1602,    13.4096,   -52.3298,       4998,  3240.7,   2.6365,  34.9178,2,  34.9190,2,    249.5,2,   249.7,2,   35.83,2,   20.79,2,    0.00,2,    1.39,2,   0.123,2,   0.044,2,   0.005,2,    0.06,2,  2182.1,2,  2337.1,2,   7.7320,2,    25.00,-999.000,9,-999.0000,9, -999.00,9,   2.6357,2, -999.00,9,  -999.0,9,  -999.0,-999.000,9,-999.000,-999.000,9, -999.00,9, -999.00,9, -999.00,9,  13.4102, -52.3300,-999.000,-999.0000, -999.00,   2.3685,   2.6357,2,    35.0837,2,  -999.0,9,     -999.0,9,     -999.0,9,     -999.0,9,       1641