BOTTLE,20220712CCHSIOCBG
EXPOCODE,SECT_ID,STNNBR,CASTNO,SAMPNO,BTLNBR,BTLNBR_FLAG_W,DATE,TIME,LATITUDE,LONGITUDE,DEPTH,CTDPRS,CTDTMP,CTDSAL,CTDSAL_FLAG_W,SALNTY,SALNTY_FLAG_W,CTDOXY,CTDOXY_FLAG_W,OXYGEN,OXYGEN_FLAG_W,SILCAT,SILCAT_FLAG_W,NITRAT,NITRAT_FLAG_W,NITRIT,NITRIT_FLAG_W,PHSPHT,PHSPHT_FLAG_W,CFC-11,CFC-11_FLAG_W,CFC-12,CFC-12_FLAG_W,CFC113,CFC113_FLAG_W,SF6,SF6_FLAG_W,TCARBN,TCARBN_FLAG_W,ALKALI,ALKALI_FLAG_W,PH_TOT,PH_TOT_FLAG_W,PH_TMP,TRITUM,TRITUM_FLAG_W,HELIUM,HELIUM_FLAG_W,DELHE3,DELHE3_FLAG_W,REFTMP,REFTMP_FLAG_W,DELC13,DELC13_FLAG_W,DELC14,DELC14_FLAG_W,C14ERR,NEON,NEON_FLAG_W,NEONER,CCL4,CCL4_FLAG_W,DELO18,DELO18_FLAG_W,DOC,DOC_FLAG_W,TDN,TDN_FLAG_W,BTL_LAT,BTL_LON,TRITER,HELIER,DELHER,THETA,SBE35,SBE35_FLAG_W,SALTREF,SALTREF_FLAG_W,14C-DOC,14C-DOC_FLAG_W,DELO17,DELO17_FLAG_W,O2/AR,O2/AR_FLAG_W,SIP,SIP_FLAG_W,BTL_TIME
,,,,,,,,,,,METERS,DBAR,ITS-90,PSS-78,,PSS-78,,UMOL/KG,,UMOL/KG,,UMOL/KG,,UMOL/KG,,UMOL/KG,,UMOL/KG,,PMOL/KG,,PMOL/KG,,PMOL/KG,,FMOL/KG,,UMOL/KG,,UMOL/KG,,,,DEG C,TU,,NMOL/KG,,PERCNT,,DEG C,,/MILLE,,/MILLE,,/MILLE,NMOL/KG,,NMOL/KG,PMOL/KG,,/MILLE,,UMOL/KG,,UMOL/KG,,,,TU,NMOL/KG,PERCNT,DEG C,ITS-90,,G/KG,,/MILLE,,/MILLE,,,,,,
33AT20120419,        A20,      70,          1,          6,          6,2,20120510,       0355,    41.4861,   -52.0367,       4730,  3248.2,   2.7252,  34.9202,2,  34.9202,2,    268.6,2,   268.5,2,   20.91,2,   17.77,2,    0.00,2,    1.17,2,   1.265,2,   0.598,2,   0.060,2,    0.33,2,  -999.0,9,  -999.0,9,-999.0000,9,  -999.00,-999.000,9,-999.0000,9, -999.00,9,   2.7229,2, -999.00,9,  -999.0,9,  -999.0,-999.000,9,-999.000,-999.000,9, -999.00,9, -999.00,9, -999.00,9,  41.4869, -52.0368,-999.000,-999.0000, -999.00,   2.4544,   2.7229,2,    35.0848,2,  -999.0,9,     -999.0,9,     -999.0,9,     -999.0,9,       0428
33AT20120419,        A20,      70,          1,          5,          5,2,20120510,       0355,    41.4861,   -52.0367,       4730,  3553.5,   2.5047,  34.9077,2,  34.9084,2,    269.2,2,   269.3,2,   23.57,2,   17.93,2,    0.00,2,    1.19,2,   1.203,2,   0.566,2,   0.061,2,    0.31,2,  -999.0,9,  -999.0,9,-999.0000,9,  -999.00,-999.000,9,-999.0000,9, -999.00,9,   2.5044,2, -999.00,9,  -999.0,9,  -999.0,-999.000,9,-999.000,-999.000,9, -999.00,9, -999.00,9, -999.00,9,  41.4868, -52.0368,-999.000,-999.0000, -999.00,   2.2063,   2.5044,2,    35.0730,2,  -999.0,9,     -999.0,9,     -999.0,9,     -999.0,9,       0421
33AT20120419,        A20,      70,          1,          4,          4,2,20120510,       0355,    41.4861,   -52.0367,       4730,  3862.6,   2.3574,  34.8975,2,  34.8981,2,    269.1,2,   269.5,2,   25.47,2,   17.97,2,    0.00,2,    1.20,2,   1.375,2,   0.639,2,   0.083,2,    0.33,2,  2167.8,2,  2319.7,6,-999.0000,9,  -999.00,-999.000,9,-999.0000,9, -999.00,9,   2.3578,2, -999.00,9,  -999.0,9,  -999.0,-999.000,9,-999.000,-999.000,9, -999.00,9, -999.00,9, -999.00,9,  41.4866, -52.0368,-999.000,-999.0000, -999.00,   2.0286,   2.3578,2,    35.0627,2,  -999.0,9,     -999.0,9,     -999.0,9,     -999.0,9,       0415
33AT20120419,        A20,      70,          1,          3,          3,2,20120510,       0355,    41.4861,   -52.0367,       4730,  4166.3,   2.2777,  34.8905,2,  34.8916,2,    268.8,2,   269.5,2,   27.54,2,   18.13,2,    0.00,2,    1.22,2,   1.447,2,   0.706,2,   0.088,2,    0.46,2,  -999.0,9,  -999.0,9,-999.0000,9,  -999.00,-999.000,9,-999.0000,9, -999.00,9,   2.2781,2, -999.00,9,  -999.0,9,  -999.0,-999.000,9,-999.000,-999.000,9, -999.00,9, -999.00,9, -999.00,9,  41.4865, -52.0367,-999.000,-999.0000, -999.00,   1.9165,   2.2781,2,    35.0561,2,  -999.0,9,     -999.0,9,     -999.0,9,     -999.0,9,       0409
33AT20120419,        A20,      70,          1,          2,          2,2,20120510,       0355,    41.4861,   -52.0367,       4730,  4480.4,   2.2465,  34.8847,2,  34.8855,2,    267.2,2,   267.0,2,   30.60,2,   18.59,2,    0.00,2,    1.25,2,   1.345,2,   0.641,2,   0.088,2,    0.38,2,  -999.0,9,  -999.0,9,-999.0000,9,  -999.00,-999.000,9,-999.0000,9, -999.00,9,   2.2464,2, -999.00,9,  -999.0,9,  -999.0,-999.000,9,-999.000,-999.000,9, -999.00,9, -999.00,9, -999.00,9,  41.4863, -52.0367,-999.000,-999.0000, -999.00,   1.8493,   2.2464,2,    35.0500,2,  -999.0,9,     -999.0,9,     -999.0,9,     -999.0,9,       0403
33AT20120419,        A20,      70,          1,          1,          1,2,20120510,       0355,    41.4861,   -52.0367,       4730,  4802.1,   2.2568,  34.8839,2,  34.8839,2,    268.0,2,   267.9,2,   30.27,2,   18.42,2,    0.00,2,    1.24,2,   1.538,2,   0.744,2,   0.106,2,    0.48,2,  2177.4,6,  2327.4,2,-999.0000,9,  -999.00,-999.000,9,-999.0000,9, -999.00,9,   2.2569,2, -999.00,9,  -999.0,9,  -999.0,-999.000,9,-999.000,-999.000,9, -999.00,9, -999.00,9, -999.00,9,  41.4861, -52.0367,-999.000,-999.0000, -999.00,   1.8202,   2.2569,2,    35.0484,2,  -999.0,9,     -999.0,9,     -999.0,9,     -999.0,9,       0356