BOTTLE,20220712CCHSIOCBG
EXPOCODE,SECT_ID,STNNBR,CASTNO,SAMPNO,BTLNBR,BTLNBR_FLAG_W,DATE,TIME,LATITUDE,LONGITUDE,DEPTH,CTDPRS,CTDTMP,CTDSAL,CTDSAL_FLAG_W,SALNTY,SALNTY_FLAG_W,CTDOXY,CTDOXY_FLAG_W,OXYGEN,OXYGEN_FLAG_W,SILCAT,SILCAT_FLAG_W,NITRAT,NITRAT_FLAG_W,NITRIT,NITRIT_FLAG_W,PHSPHT,PHSPHT_FLAG_W,CFC-11,CFC-11_FLAG_W,CFC-12,CFC-12_FLAG_W,CFC113,CFC113_FLAG_W,SF6,SF6_FLAG_W,TCARBN,TCARBN_FLAG_W,ALKALI,ALKALI_FLAG_W,PH_TOT,PH_TOT_FLAG_W,PH_TMP,TRITUM,TRITUM_FLAG_W,HELIUM,HELIUM_FLAG_W,DELHE3,DELHE3_FLAG_W,REFTMP,REFTMP_FLAG_W,DELC13,DELC13_FLAG_W,DELC14,DELC14_FLAG_W,C14ERR,NEON,NEON_FLAG_W,NEONER,CCL4,CCL4_FLAG_W,DELO18,DELO18_FLAG_W,DOC,DOC_FLAG_W,TDN,TDN_FLAG_W,BTL_LAT,BTL_LON,TRITER,HELIER,DELHER,THETA,SBE35,SBE35_FLAG_W,SALTREF,SALTREF_FLAG_W,14C-DOC,14C-DOC_FLAG_W,DELO17,DELO17_FLAG_W,O2/AR,O2/AR_FLAG_W,SIP,SIP_FLAG_W,BTL_TIME
,,,,,,,,,,,METERS,DBAR,ITS-90,PSS-78,,PSS-78,,UMOL/KG,,UMOL/KG,,UMOL/KG,,UMOL/KG,,UMOL/KG,,UMOL/KG,,PMOL/KG,,PMOL/KG,,PMOL/KG,,FMOL/KG,,UMOL/KG,,UMOL/KG,,,,DEG C,TU,,NMOL/KG,,PERCNT,,DEG C,,/MILLE,,/MILLE,,/MILLE,NMOL/KG,,NMOL/KG,PMOL/KG,,/MILLE,,UMOL/KG,,UMOL/KG,,,,TU,NMOL/KG,PERCNT,DEG C,ITS-90,,G/KG,,/MILLE,,/MILLE,,,,,,
33AT20120419,        A20,      21,          1,         36,         36,2,20120424,       1507,     9.6414,   -52.3305,       4869,     3.5,  28.1687,  27.3760,2,  27.4260,2,    214.1,2,   213.7,2,    8.44,2,    0.00,2,    0.00,2,    0.02,2,   1.506,2,   1.004,2,   0.142,2,    0.96,3,  1595.8,6,  1883.8,2,   8.1942,2,    25.00,-999.000,9,-999.0000,9, -999.00,9,  28.1687,2, -999.00,9,  -999.0,9,  -999.0,-999.000,9,-999.000,   0.920,2, -999.00,9,   98.05,2,    5.75,2,   9.6416, -52.3300,-999.000,-999.0000, -999.00,  28.1679,  28.1687,2,    27.5554,2,  -999.0,9,     -999.0,9,     -999.0,9,     -999.0,9,       1718
33AT20120419,        A20,      21,          1,         35,         35,2,20120424,       1507,     9.6414,   -52.3305,       4869,    35.7,  27.5830,  35.7911,2,  35.7683,2,    198.9,2,   199.7,2,    0.69,2,    0.00,2,    0.00,2,    0.05,2,   1.435,2,   0.936,2,   0.112,2,    1.12,3,  2015.9,2,  2348.4,2,   8.0797,2,    25.00,-999.000,9,-999.0000,9, -999.00,9,  27.5830,2, -999.00,9,  -999.0,9,  -999.0,-999.000,9,-999.000,   0.810,2, -999.00,9,   67.19,2,    4.61,2,   9.6416, -52.3300,-999.000,-999.0000, -999.00,  27.5747,  27.5830,2,    35.9369,2,  -999.0,9,     -999.0,9,     -999.0,9,     -999.0,9,       1715
33AT20120419,        A20,      21,          1,         34,         34,2,20120424,       1507,     9.6414,   -52.3305,       4869,    60.4,  27.0376,  36.0697,2,  36.0588,2,    193.8,2,   194.0,2,    0.85,2,    0.04,2,    0.19,2,    0.09,2,   1.466,2,   0.954,2,   0.109,2,    1.05,3,  2039.2,2,  2365.1,2,   8.0629,6,    25.00,-999.000,9,-999.0000,9, -999.00,9,  27.0402,2, -999.00,9,  -999.0,9,  -999.0,-999.000,9,-999.000,   0.730,2, -999.00,9,   64.87,2,    4.93,2,   9.6416, -52.3300,-999.000,-999.0000, -999.00,  27.0237,  27.0402,2,    36.2288,2,  -999.0,9,     -999.0,9,     -999.0,9,     -999.0,9,       1712
33AT20120419,        A20,      21,          1,         33,         33,2,20120424,       1507,     9.6414,   -52.3305,       4869,    85.7,  25.5651,  36.1738,2,  36.1844,2,    182.2,2,   195.4,4,    1.68,2,    2.35,2,    0.04,2,    0.24,2,   1.571,2,   1.010,2,   0.097,2,    1.26,3,  2073.8,2,  2371.5,2,   8.0166,2,    25.00,-999.000,9,-999.0000,9, -999.00,9,  25.5545,2, -999.00,9,  -999.0,9,  -999.0,-999.000,9,-999.000,   0.580,2, -999.00,9,   57.75,2,    6.88,2,   9.6416, -52.3300,-999.000,-999.0000, -999.00,  25.5461,  25.5545,2,    36.3550,2,  -999.0,9,     -999.0,9,     -999.0,9,     -999.0,9,       1710
33AT20120419,        A20,      21,          1,         32,         32,2,20120424,       1507,     9.6414,   -52.3305,       4869,   115.8,  22.0790,  36.4634,2,  36.4871,2,    151.5,2,   151.6,2,    2.46,2,    6.13,2,    0.04,2,    0.42,2,   1.765,2,   1.108,2,   0.077,2,    0.80,3,  -999.0,9,  -999.0,9,-999.0000,9,  -999.00,-999.000,9,-999.0000,9, -999.00,9,  22.0708,2, -999.00,9,  -999.0,9,  -999.0,-999.000,9,-999.000,   0.300,2, -999.00,9,   56.88,2,    9.92,2,   9.6416, -52.3300,-999.000,-999.0000, -999.00,  22.0559,  22.0708,2,    36.6592,2,  -999.0,9,     -999.0,9,     -999.0,9,     -999.0,9,       1707
33AT20120419,        A20,      21,          1,         31,         31,2,20120424,       1507,     9.6414,   -52.3305,       4869,   165.5,  15.0605,  35.7202,2,  35.7128,2,    144.6,2,   144.6,2,    5.94,2,   15.29,2,    0.01,2,    1.00,2,   2.056,2,   1.206,2,   0.027,2,    0.32,3,  2166.9,2,  2346.7,2,   7.7942,2,    25.00,-999.000,9,-999.0000,9, -999.00,9,  15.0357,2, -999.00,9,  -999.0,9,  -999.0,-999.000,9,-999.000,   0.230,2, -999.00,9,   50.95,2,   19.51,2,   9.6416, -52.3300,-999.000,-999.0000, -999.00,  15.0352,  15.0357,2,    35.8812,2,  -999.0,9,     -999.0,9,     -999.0,9,     -999.0,9,       1704
33AT20120419,        A20,      21,          1,         30,         30,2,20120424,       1507,     9.6414,   -52.3305,       4869,   216.4,  11.5148,  35.1508,2,  35.1460,2,    144.9,2,   144.7,2,    9.64,2,   21.08,2,    0.01,2,    1.41,2,   2.046,2,   1.152,2,   0.033,2,    0.64,3,  -999.0,9,  -999.0,9,-999.0000,9,  -999.00,-999.000,9,-999.0000,9, -999.00,9,  11.4865,2, -999.00,9,  -999.0,9,  -999.0,-999.000,9,-999.000,   0.310,2, -999.00,9,   48.67,2,   25.18,2,   9.6416, -52.3301,-999.000,-999.0000, -999.00,  11.4872,  11.4865,2,    35.3118,2,  -999.0,9,     -999.0,9,     -999.0,9,     -999.0,9,       1701
33AT20120419,        A20,      21,          1,         29,         29,2,20120424,       1507,     9.6414,   -52.3305,       4869,   266.9,  10.4086,  35.0006,2,  35.0001,2,    142.4,2,   143.5,2,   11.26,2,   23.44,2,    0.01,2,    1.55,2,   1.931,2,   1.072,2,   0.035,2,    0.35,3,  2183.1,2,  2310.8,2,   7.6757,2,    25.00,-999.000,9,-999.0000,9, -999.00,9,  10.4093,2, -999.00,9,  -999.0,9,  -999.0,-999.000,9,-999.000,   0.340,2, -999.00,9,   46.69,2,   27.90,2,   9.6415, -52.3301,-999.000,-999.0000, -999.00,  10.3767,  10.4093,2,    35.1652,2,  -999.0,9,     -999.0,9,     -999.0,9,     -999.0,9,       1659
33AT20120419,        A20,      21,          1,         28,         28,2,20120424,       1507,     9.6414,   -52.3305,       4869,   316.8,   9.9374,  34.9453,2,  34.9468,2,    138.5,2,   139.1,2,   12.38,2,   24.76,2,    0.01,2,    1.64,2,   1.820,2,   1.003,2,   0.035,2,    0.42,3,  -999.0,9,  -999.0,9,-999.0000,9,  -999.00,-999.000,9,-999.0000,9, -999.00,9,   9.9379,2, -999.00,9,  -999.0,9,  -999.0,-999.000,9,-999.000,   0.340,2, -999.00,9,   45.22,2,   28.01,2,   9.6415, -52.3301,-999.000,-999.0000, -999.00,   9.9006,   9.9379,2,    35.1116,2,  -999.0,9,     -999.0,9,     -999.0,9,     -999.0,9,       1657
33AT20120419,        A20,      21,          1,         27,         27,2,20120424,       1507,     9.6414,   -52.3305,       4869,   367.8,   9.1277,  34.8513,2,  34.8469,2,    136.3,2,   134.7,2,   14.25,2,   27.01,2,    0.01,2,    1.77,2,   1.616,2,   0.868,2,   0.040,2,    0.66,3,  2195.8,2,  2304.3,2,   7.6263,2,    25.00,-999.000,9,-999.0000,9, -999.00,9,   9.1092,2, -999.00,9,  -999.0,9,  -999.0,-999.000,9,-999.000,   0.370,2, -999.00,9,   45.34,2,   31.68,2,   9.6415, -52.3301,-999.000,-999.0000, -999.00,   9.0871,   9.1092,2,    35.0112,2,  -999.0,9,     -999.0,9,     -999.0,9,     -999.0,9,       1655
33AT20120419,        A20,      21,          1,         26,         26,2,20120424,       1507,     9.6414,   -52.3305,       4869,   417.1,   8.6083,  34.8071,2,  34.8013,2,    129.8,2,   127.4,2,   15.75,2,   29.01,2,    0.00,2,    1.88,2,   1.370,2,   0.747,2,   0.029,2,    0.00,3,  -999.0,9,  -999.0,9,-999.0000,9,  -999.00,-999.000,9,-999.0000,9, -999.00,9,   8.6091,2, -999.00,9,  -999.0,9,  -999.0,-999.000,9,-999.000,   0.320,2, -999.00,9,   44.37,2,   32.99,2,   9.6415, -52.3301,-999.000,-999.0000, -999.00,   8.5637,   8.6091,2,    34.9654,2,  -999.0,9,     -999.0,9,     -999.0,9,     -999.0,9,       1653
33AT20120419,        A20,      21,          1,         25,         25,2,20120424,       1507,     9.6414,   -52.3305,       4869,   467.2,   7.9665,  34.7522,2,  34.7393,2,    124.9,2,   124.2,2,   17.86,2,   30.86,2,    0.00,2,    2.00,2,   1.121,2,   0.608,2,   0.025,2,    0.00,3,  2210.9,6,  2301.6,2,   7.5791,2,    25.00,-999.000,9,-999.0000,9, -999.00,9,   7.9626,2, -999.00,9,  -999.0,9,  -999.0,-999.000,9,-999.000,   0.300,2, -999.00,9,   42.46,2,   34.00,2,   9.6415, -52.3302,-999.000,-999.0000, -999.00,   7.9187,   7.9626,2,    34.9031,2,  -999.0,9,     -999.0,9,     -999.0,9,     -999.0,9,       1651
33AT20120419,        A20,      21,          1,         24,         24,2,20120424,       1507,     9.6414,   -52.3305,       4869,   538.0,   6.8715,  34.5899,2,  34.5866,2,    142.9,2,   145.1,2,   19.95,2,   31.11,2,    0.00,2,    2.06,2,   1.244,2,   0.660,2,   0.042,2,    0.00,3,  2205.2,2,  2298.8,6,   7.5846,2,    25.00,-999.000,9,-999.0000,9, -999.00,9,   6.8715,2, -999.00,9,  -999.0,9,  -999.0,-999.000,9,-999.000,   0.440,2, -999.00,9,   42.51,2,   35.07,2,   9.6415, -52.3302,-999.000,-999.0000, -999.00,   6.8207,   6.8715,2,    34.7497,2,  -999.0,9,     -999.0,9,     -999.0,9,     -999.0,9,       1649
33AT20120419,        A20,      21,          1,         23,         23,2,20120424,       1507,     9.6414,   -52.3305,       4869,   639.0,   6.8140,  34.6633,2,  34.6641,2,    124.0,2,   124.6,2,   21.65,2,   32.99,2,    0.00,2,    2.16,2,   0.671,2,   0.369,2,   0.017,2,    0.00,3,  2218.1,2,  2302.1,2,   7.5562,2,    25.00,-999.000,9,-999.0000,9, -999.00,9,   6.8195,2, -999.00,9,  -999.0,9,  -999.0,-999.000,9,-999.000,   0.240,2, -999.00,9,   41.77,2,   37.15,2,   9.6415, -52.3302,-999.000,-999.0000, -999.00,   6.7534,   6.8195,2,    34.8275,2,  -999.0,9,     -999.0,9,     -999.0,9,     -999.0,9,       1646
33AT20120419,        A20,      21,          1,         22,         22,2,20120424,       1507,     9.6414,   -52.3305,       4869,   739.3,   6.0093,  34.6114,2,  34.6090,2,    130.6,2,   130.6,2,   24.95,2,   33.83,2,    0.00,2,    2.24,2,   0.429,2,   0.244,2,   0.014,2,    0.00,3,  2220.8,2,  2303.6,2,   7.5506,2,    25.00,-999.000,9,-999.0000,9, -999.00,9,   6.0026,2, -999.00,9,  -999.0,9,  -999.0,-999.000,9,-999.000,   0.210,2, -999.00,9,   40.56,2,   36.99,2,   9.6415, -52.3302,-999.000,-999.0000, -999.00,   5.9433,   6.0026,2,    34.7722,2,  -999.0,9,     -999.0,9,     -999.0,9,     -999.0,9,       1643
33AT20120419,        A20,      21,          1,         21,         21,2,20120424,       1507,     9.6414,   -52.3305,       4869,   840.4,   5.5477,  34.6291,2,  34.6283,2,    133.1,2,   132.7,2,   27.08,2,   34.03,2,    0.00,2,    2.26,2,   0.196,2,   0.117,2,   0.004,2,    0.00,3,  2223.5,2,  2307.1,2,   7.5498,2,    25.00,-999.000,9,-999.0000,9, -999.00,9,   5.5474,2, -999.00,9,  -999.0,9,  -999.0,-999.000,9,-999.000,   0.130,2, -999.00,9,    40.7,2,   37.68,2,   9.6415, -52.3302,-999.000,-999.0000, -999.00,   5.4750,   5.5474,2,    34.7916,2,  -999.0,9,     -999.0,9,     -999.0,9,     -999.0,9,       1640
33AT20120419,        A20,      21,          1,         20,         20,2,20120424,       1507,     9.6414,   -52.3305,       4869,   941.2,   5.1356,  34.6799,2,  34.6782,2,    140.3,2,   143.9,2,   27.99,2,   32.78,2,    0.00,2,    2.21,2,   0.103,2,   0.064,2,   0.004,2,    0.00,3,  2221.2,2,  2311.7,2,   7.5683,6,    25.00,-999.000,9,-999.0000,9, -999.00,9,   5.1396,2, -999.00,9,  -999.0,9,  -999.0,-999.000,9,-999.000,   0.090,2, -999.00,9,   40.46,2,   36.24,2,   9.6415, -52.3302,-999.000,-999.0000, -999.00,   5.0563,   5.1396,2,    34.8417,2,  -999.0,9,     -999.0,9,     -999.0,9,     -999.0,9,       1637
33AT20120419,        A20,      21,          1,         19,         19,2,20120424,       1507,     9.6414,   -52.3305,       4869,  1041.6,   5.0340,  34.7426,2,  34.7424,2,    153.8,2,   154.3,2,   26.97,2,   31.11,2,    0.00,2,    2.09,2,   0.101,2,   0.064,2,   0.004,2,    0.00,3,  -999.0,9,  -999.0,9,-999.0000,9,  -999.00,-999.000,9,-999.0000,9, -999.00,9,   5.0323,2, -999.00,9,  -999.0,9,  -999.0,-999.000,9,-999.000,   0.080,2, -999.00,9,   40.52,2,   35.04,2,   9.6415, -52.3303,-999.000,-999.0000, -999.00,   4.9462,   5.0323,2,    34.9063,2,  -999.0,9,     -999.0,9,     -999.0,9,     -999.0,9,       1634
33AT20120419,        A20,      21,          1,         18,         18,2,20120424,       1507,     9.6414,   -52.3305,       4869,  1142.5,   4.9452,  34.8069,2,  34.7940,2,    165.4,2,   166.2,2,   25.61,2,   29.47,2,    0.00,2,    1.99,2,   0.114,2,   0.071,2,   0.004,2,    0.00,3,  2208.5,2,  2316.5,2,   7.6112,2,    25.00,-999.000,9,-999.0000,9, -999.00,9,   4.9299,2, -999.00,9,  -999.0,9,  -999.0,-999.000,9,-999.000,   0.090,2, -999.00,9,   41.01,2,   32.64,2,   9.6415, -52.3303,-999.000,-999.0000, -999.00,   4.8488,   4.9299,2,    34.9580,2,  -999.0,9,     -999.0,9,     -999.0,9,     -999.0,9,       1632
33AT20120419,        A20,      21,          1,         17,         17,2,20120424,       1507,     9.6414,   -52.3305,       4869,  1244.5,   4.9871,  34.9220,2,  34.9208,2,    188.3,2,   189.5,2,   21.36,2,   25.26,2,    0.00,2,    1.70,2,   0.320,2,   0.182,2,   0.014,2,    0.00,3,  -999.0,9,  -999.0,9,-999.0000,9,  -999.00,-999.000,9,-999.0000,9, -999.00,9,   4.9874,2, -999.00,9,  -999.0,9,  -999.0,-999.000,9,-999.000,   0.220,2, -999.00,9,   40.26,2,   28.22,2,   9.6415, -52.3303,-999.000,-999.0000, -999.00,   4.8805,   4.9874,2,    35.0855,2,  -999.0,9,     -999.0,9,     -999.0,9,     -999.0,9,       1629
33AT20120419,        A20,      21,          1,         16,         16,2,20120424,       1507,     9.6414,   -52.3305,       4869,  1344.7,   4.8695,  34.9708,2,  34.9706,2,    205.3,2,   208.8,2,   18.50,2,   22.84,2,    0.00,2,    1.51,2,   0.536,2,   0.294,2,   0.020,2,    0.00,3,  2186.1,2,  2320.0,2,   7.6875,2,    25.00,-999.000,9,-999.0000,9, -999.00,9,   4.8691,2, -999.00,9,  -999.0,9,  -999.0,-999.000,9,-999.000,   0.360,2, -999.00,9,   40.55,2,   25.04,2,   9.6415, -52.3303,-999.000,-999.0000, -999.00,   4.7544,   4.8691,2,    35.1355,2,  -999.0,9,     -999.0,9,     -999.0,9,     -999.0,9,       1626
33AT20120419,        A20,      21,          1,         15,         15,2,20120424,       1507,     9.6414,   -52.3305,       4869,  1446.5,   4.7018,  35.0085,2,  35.0080,2,    228.9,2,   230.6,2,   15.54,2,   20.24,2,    0.00,2,    1.34,2,   0.951,2,   0.496,2,   0.046,2,    0.00,3,  2174.3,2,  2319.2,2,   7.7122,2,    25.00,-999.000,9,-999.0000,9, -999.00,9,   4.7025,2, -999.00,9,  -999.0,9,  -999.0,-999.000,9,-999.000,   0.600,2, -999.00,9,   40.47,2,   24.54,2,   9.6415, -52.3303,-999.000,-999.0000, -999.00,   4.5787,   4.7025,2,    35.1730,2,  -999.0,9,     -999.0,9,     -999.0,9,     -999.0,9,       1623
33AT20120419,        A20,      21,          1,         14,         14,2,20120424,       1507,     9.6414,   -52.3305,       4869,  1548.7,   4.4220,  34.9999,2,  34.9991,2,    239.0,2,   238.5,2,   15.39,2,   19.75,2,    0.00,2,    1.31,2,   1.131,2,   0.597,2,   0.057,2,    0.00,3,  2171.0,2,  2318.7,2,   7.7191,2,    25.00,-999.000,9,-999.0000,9, -999.00,9,   4.4199,2, -999.00,9,  -999.0,9,  -999.0,-999.000,9,-999.000,   0.790,2, -999.00,9,   40.23,2,   22.47,2,   9.6415, -52.3303,-999.000,-999.0000, -999.00,   4.2924,   4.4199,2,    35.1641,2,  -999.0,9,     -999.0,9,     -999.0,9,     -999.0,9,       1621
33AT20120419,        A20,      21,          1,         13,         13,2,20120424,       1507,     9.6414,   -52.3305,       4869,  1679.4,   4.0887,  34.9896,2,  34.9877,2,    252.3,2,   253.3,2,   14.37,2,   18.61,2,    0.00,2,    1.24,2,   1.131,2,   0.597,2,   0.057,2,    0.00,3,  -999.0,9,  -999.0,9,-999.0000,9,  -999.00,-999.000,9,-999.0000,9, -999.00,9,   4.0860,2, -999.00,9,  -999.0,9,  -999.0,-999.000,9,-999.000,   0.790,2, -999.00,9,   41.01,2,   22.29,2,   9.6415, -52.3302,-999.000,-999.0000, -999.00,   3.9507,   4.0860,2,    35.1527,2,  -999.0,9,     -999.0,9,     -999.0,9,     -999.0,9,       1617
33AT20120419,        A20,      21,          1,         12,         12,2,20120424,       1507,     9.6414,   -52.3305,       4869,  1882.5,   3.7250,  34.9743,2,  34.9725,2,    259.5,2,   256.9,2,   15.87,2,   18.50,2,    0.00,2,    1.24,2,   0.834,2,   0.443,2,   0.038,2,    0.00,3,  2162.7,2,  2317.1,2,   7.7374,2,    25.00,-999.000,9,-999.0000,9, -999.00,9,   3.7223,2, -999.00,9,  -999.0,9,  -999.0,-999.000,9,-999.000,   0.660,2, -999.00,9,   40.38,2,   22.33,2,   9.6416, -52.3300,-999.000,-999.0000, -999.00,   3.5727,   3.7223,2,    35.1374,2,  -999.0,9,     -999.0,9,     -999.0,9,     -999.0,9,       1613
33AT20120419,        A20,      21,          1,         11,         11,2,20120424,       1507,     9.6414,   -52.3305,       4869,  2105.4,   3.4620,  34.9652,2,  34.9648,2,    258.0,2,   258.3,2,   18.12,2,   18.60,2,    0.00,2,    1.25,2,   0.579,2,   0.315,2,   0.023,2,    0.00,3,  2164.2,2,  2319.3,2,   7.7388,2,    25.00,-999.000,9,-999.0000,9, -999.00,9,   3.4631,2, -999.00,9,  -999.0,9,  -999.0,-999.000,9,-999.000,   0.510,2, -999.00,9,    41.2,2,   21.82,2,   9.6416, -52.3300,-999.000,-999.0000, -999.00,   3.2924,   3.4631,2,    35.1297,2,  -999.0,9,     -999.0,9,     -999.0,9,     -999.0,9,       1608
33AT20120419,        A20,      21,          1,         10,         10,2,20120424,       1507,     9.6414,   -52.3305,       4869,  2359.8,   3.2289,  34.9558,2,  34.9548,2,    258.4,2,   258.8,2,   20.51,2,   18.74,2,    0.00,2,    1.26,2,   0.424,2,   0.235,2,   0.017,2,    0.00,3,  2164.8,2,  2322.0,2,   7.7397,2,    25.00,-999.000,9,-999.0000,9, -999.00,9,   3.2280,2, -999.00,9,  -999.0,9,  -999.0,-999.000,9,-999.000,   0.410,2, -999.00,9,   40.69,2,   21.49,2,   9.6416, -52.3299,-999.000,-999.0000, -999.00,   3.0385,   3.2280,2,    35.1196,2,  -999.0,9,     -999.0,9,     -999.0,9,     -999.0,9,       1602
33AT20120419,        A20,      21,          1,          9,          9,2,20120424,       1507,     9.6414,   -52.3305,       4869,  2612.5,   3.0570,  34.9467,2,  34.9442,2,    260.1,2,   259.9,2,   21.98,2,   18.72,2,    0.00,2,    1.25,2,   0.449,2,   0.248,2,   0.019,2,    0.00,3,  -999.0,9,  -999.0,9,-999.0000,9,  -999.00,-999.000,9,-999.0000,9, -999.00,9,   3.0568,2, -999.00,9,  -999.0,9,  -999.0,-999.000,9,-999.000,   0.420,2, -999.00,9,   40.34,2,   21.05,2,   9.6416, -52.3299,-999.000,-999.0000, -999.00,   2.8448,   3.0568,2,    35.1089,2,  -999.0,9,     -999.0,9,     -999.0,9,     -999.0,9,       1556
33AT20120419,        A20,      21,          1,          8,          8,2,20120424,       1507,     9.6414,   -52.3305,       4869,  2868.8,   2.9185,  34.9380,2,  34.9371,2,    261.0,2,   261.2,2,   23.57,2,   18.81,2,    0.00,2,    1.26,2,   0.442,2,   0.240,2,   0.018,2,    0.00,3,  2167.0,2,  2327.0,2,   7.7406,2,    25.00,-999.000,9,-999.0000,9, -999.00,9,   2.9188,2, -999.00,9,  -999.0,9,  -999.0,-999.000,9,-999.000,   0.400,2, -999.00,9,   40.25,2,   21.66,2,   9.6416, -52.3298,-999.000,-999.0000, -999.00,   2.6831,   2.9188,2,    35.1018,2,  -999.0,9,     -999.0,9,     -999.0,9,     -999.0,9,       1550
33AT20120419,        A20,      21,          1,          7,          7,2,20120424,       1507,     9.6414,   -52.3305,       4869,  3138.7,   2.7293,  34.9257,2,  34.9243,2,    261.2,2,   261.9,2,   26.07,2,   18.95,2,    0.00,2,    1.28,2,   0.443,2,   0.243,2,   0.022,2,    0.00,3,  -999.0,9,  -999.0,9,-999.0000,9,  -999.00,-999.000,9,-999.0000,9, -999.00,9,   2.7293,2, -999.00,9,  -999.0,9,  -999.0,-999.000,9,-999.000,   0.400,2, -999.00,9,   40.72,2,   22.13,2,   9.6416, -52.3299,-999.000,-999.0000, -999.00,   2.4699,   2.7293,2,    35.0890,2,  -999.0,9,     -999.0,9,     -999.0,9,     -999.0,9,       1544