BOTTLE,20220712CCHSIOCBG
EXPOCODE,SECT_ID,STNNBR,CASTNO,SAMPNO,BTLNBR,BTLNBR_FLAG_W,DATE,TIME,LATITUDE,LONGITUDE,DEPTH,CTDPRS,CTDTMP,CTDSAL,CTDSAL_FLAG_W,SALNTY,SALNTY_FLAG_W,CTDOXY,CTDOXY_FLAG_W,OXYGEN,OXYGEN_FLAG_W,SILCAT,SILCAT_FLAG_W,NITRAT,NITRAT_FLAG_W,NITRIT,NITRIT_FLAG_W,PHSPHT,PHSPHT_FLAG_W,CFC-11,CFC-11_FLAG_W,CFC-12,CFC-12_FLAG_W,CFC113,CFC113_FLAG_W,SF6,SF6_FLAG_W,TCARBN,TCARBN_FLAG_W,ALKALI,ALKALI_FLAG_W,PH_TOT,PH_TOT_FLAG_W,PH_TMP,TRITUM,TRITUM_FLAG_W,HELIUM,HELIUM_FLAG_W,DELHE3,DELHE3_FLAG_W,REFTMP,REFTMP_FLAG_W,DELC13,DELC13_FLAG_W,DELC14,DELC14_FLAG_W,C14ERR,NEON,NEON_FLAG_W,NEONER,CCL4,CCL4_FLAG_W,DELO18,DELO18_FLAG_W,DOC,DOC_FLAG_W,TDN,TDN_FLAG_W,BTL_LAT,BTL_LON,TRITER,HELIER,DELHER,THETA,SBE35,SBE35_FLAG_W,SALTREF,SALTREF_FLAG_W,14C-DOC,14C-DOC_FLAG_W,DELO17,DELO17_FLAG_W,O2/AR,O2/AR_FLAG_W,SIP,SIP_FLAG_W,BTL_TIME
,,,,,,,,,,,METERS,DBAR,ITS-90,PSS-78,,PSS-78,,UMOL/KG,,UMOL/KG,,UMOL/KG,,UMOL/KG,,UMOL/KG,,UMOL/KG,,PMOL/KG,,PMOL/KG,,PMOL/KG,,FMOL/KG,,UMOL/KG,,UMOL/KG,,,,DEG C,TU,,NMOL/KG,,PERCNT,,DEG C,,/MILLE,,/MILLE,,/MILLE,NMOL/KG,,NMOL/KG,PMOL/KG,,/MILLE,,UMOL/KG,,UMOL/KG,,,,TU,NMOL/KG,PERCNT,DEG C,ITS-90,,G/KG,,/MILLE,,/MILLE,,,,,,
33AT20120419,        A20,      37,          1,          5,          5,2,20120429,       1527,    19.3964,   -52.3335,       4576,  3548.7,   2.4601,  34.9028,2,  34.9026,2,    251.6,2,   251.0,2,   39.92,2,   20.99,2,    0.00,2,    1.43,2,   0.057,2,   0.039,2,   0.004,2,    0.00,3,  2185.8,2,  2337.4,2,   7.7330,2,    25.00,-999.000,9,-999.0000,9, -999.00,9,   2.4604,2, -999.00,9,  -999.0,9,  -999.0,-999.000,9,-999.000,   0.110,2, -999.00,9,   40.38,2,   23.22,2,  19.3964, -52.3335,-999.000,-999.0000, -999.00,   2.1634,   2.4604,2,    35.0672,2,  -999.0,9,     -999.0,9,     -999.0,9,     -999.0,9,       1558
33AT20120419,        A20,      37,          1,          4,          4,2,20120429,       1527,    19.3964,   -52.3335,       4576,  3856.6,   2.2973,  34.8871,2,  34.8871,2,    251.2,2,   251.0,2,   43.67,2,   21.34,2,    0.00,2,    1.46,2,   0.057,2,   0.040,2,   0.005,2,    0.00,3,  2188.2,2,  2338.7,2,   7.7288,6,    25.00,-999.000,9,-999.0000,9, -999.00,9,   2.2978,2, -999.00,9,  -999.0,9,  -999.0,-999.000,9,-999.000,   0.120,2, -999.00,9,   41.03,2,   23.54,2,  19.3967, -52.3336,-999.000,-999.0000, -999.00,   1.9709,   2.2978,2,    35.0516,2,  -999.0,9,     -999.0,9,     -999.0,9,     -999.0,9,       1547
33AT20120419,        A20,      37,          1,          3,          3,2,20120429,       1527,    19.3964,   -52.3335,       4576,  4162.8,   2.1778,  34.8738,2,  34.8737,2,    251.1,2,   251.1,2,   46.99,2,   21.65,2,    0.00,2,    1.48,2,   0.073,2,   0.053,2,   0.006,2,    0.00,3,  -999.0,9,  -999.0,9,-999.0000,9,  -999.00,-999.000,9,-999.0000,9, -999.00,9,   2.1770,2, -999.00,9,  -999.0,9,  -999.0,-999.000,9,-999.000,   0.140,2, -999.00,9,   41.01,2,   24.33,2,  19.3966, -52.3336,-999.000,-999.0000, -999.00,   1.8200,   2.1770,2,    35.0381,2,  -999.0,9,     -999.0,9,     -999.0,9,     -999.0,9,       1540
33AT20120419,        A20,      37,          1,          2,          2,2,20120429,       1527,    19.3964,   -52.3335,       4576,  4400.7,   2.1065,  34.8647,2,  34.8650,2,    249.9,2,   250.3,2,   49.51,2,   21.90,2,    0.00,2,    1.50,2,   0.091,2,   0.062,2,   0.006,2,    0.00,3,  -999.0,9,  -999.0,9,-999.0000,9,  -999.00,-999.000,9,-999.0000,9, -999.00,9,   2.1065,2, -999.00,9,  -999.0,9,  -999.0,-999.000,9,-999.000,   0.160,2, -999.00,9,   40.71,2,   24.56,2,  19.3965, -52.3335,-999.000,-999.0000, -999.00,   1.7232,   2.1065,2,    35.0294,2,  -999.0,9,     -999.0,9,     -999.0,9,     -999.0,9,       1534
33AT20120419,        A20,      37,          1,          1,          1,2,20120429,       1527,    19.3964,   -52.3335,       4576,  4639.3,   2.0842,  34.8601,2,  34.8597,2,    249.5,2,   249.5,2,   51.31,2,   22.11,2,    0.00,2,    1.52,2,   0.093,2,   0.062,2,   0.007,2,    0.00,3,  2197.1,6,  2341.5,2,   7.7191,2,    25.00,-999.000,9,-999.0000,9, -999.00,9,   2.0846,2, -999.00,9,  -999.0,9,  -999.0,-999.000,9,-999.000,   0.160,2, -999.00,9,   40.32,2,   24.74,2,  19.3964, -52.3335,-999.000,-999.0000, -999.00,   1.6732,   2.0846,2,    35.0241,2,  -999.0,9,     -999.0,9,     -999.0,9,     -999.0,9,       1528