BOTTLE,20220712CCHSIOCBG
EXPOCODE,SECT_ID,STNNBR,CASTNO,SAMPNO,BTLNBR,BTLNBR_FLAG_W,DATE,TIME,LATITUDE,LONGITUDE,DEPTH,CTDPRS,CTDTMP,CTDSAL,CTDSAL_FLAG_W,SALNTY,SALNTY_FLAG_W,CTDOXY,CTDOXY_FLAG_W,OXYGEN,OXYGEN_FLAG_W,SILCAT,SILCAT_FLAG_W,NITRAT,NITRAT_FLAG_W,NITRIT,NITRIT_FLAG_W,PHSPHT,PHSPHT_FLAG_W,CFC-11,CFC-11_FLAG_W,CFC-12,CFC-12_FLAG_W,CFC113,CFC113_FLAG_W,SF6,SF6_FLAG_W,TCARBN,TCARBN_FLAG_W,ALKALI,ALKALI_FLAG_W,PH_TOT,PH_TOT_FLAG_W,PH_TMP,TRITUM,TRITUM_FLAG_W,HELIUM,HELIUM_FLAG_W,DELHE3,DELHE3_FLAG_W,REFTMP,REFTMP_FLAG_W,DELC13,DELC13_FLAG_W,DELC14,DELC14_FLAG_W,C14ERR,NEON,NEON_FLAG_W,NEONER,CCL4,CCL4_FLAG_W,DELO18,DELO18_FLAG_W,DOC,DOC_FLAG_W,TDN,TDN_FLAG_W,BTL_LAT,BTL_LON,TRITER,HELIER,DELHER,THETA,SBE35,SBE35_FLAG_W,SALTREF,SALTREF_FLAG_W,14C-DOC,14C-DOC_FLAG_W,DELO17,DELO17_FLAG_W,O2/AR,O2/AR_FLAG_W,SIP,SIP_FLAG_W,BTL_TIME
,,,,,,,,,,,METERS,DBAR,ITS-90,PSS-78,,PSS-78,,UMOL/KG,,UMOL/KG,,UMOL/KG,,UMOL/KG,,UMOL/KG,,UMOL/KG,,PMOL/KG,,PMOL/KG,,PMOL/KG,,FMOL/KG,,UMOL/KG,,UMOL/KG,,,,DEG C,TU,,NMOL/KG,,PERCNT,,DEG C,,/MILLE,,/MILLE,,/MILLE,NMOL/KG,,NMOL/KG,PMOL/KG,,/MILLE,,UMOL/KG,,UMOL/KG,,,,TU,NMOL/KG,PERCNT,DEG C,ITS-90,,G/KG,,/MILLE,,/MILLE,,,,,,
33AT20120419,        A20,      66,          1,         36,         36,2,20120509,       0139,    39.7101,   -52.3503,       5303,     4.1,  14.2314,  34.5527,2,  34.5533,2,    261.3,2,   264.9,2,    0.14,2,    0.00,2,    0.00,2,    0.08,2,   2.961,2,   1.809,2,   0.232,2,    1.99,2,  2038.1,6,  2300.4,2,-999.0000,5,    25.00,-999.000,9,-999.0000,9, -999.00,9,  14.2347,2, -999.00,9,  -999.0,9,  -999.0,-999.000,9,-999.000,-999.000,9, -999.00,9, -999.00,9, -999.00,9,  39.7179, -52.3654,-999.000,-999.0000, -999.00,  14.2308,  14.2347,2,    34.7163,2,  -999.0,9,     -999.0,9,     -999.0,9,     -999.0,9,       0348
33AT20120419,        A20,      66,          1,         35,         35,2,20120509,       0139,    39.7101,   -52.3503,       5303,    36.1,  13.3735,  35.0285,2,  34.9872,2,    243.6,2,   244.2,2,    1.48,2,    3.52,2,    0.26,2,    0.31,2,   2.926,2,   1.714,2,   0.237,2,    1.88,2,  2086.0,2,  2317.7,2,-999.0000,5,    25.00,-999.000,9,-999.0000,9, -999.00,9,  13.3763,2, -999.00,9,  -999.0,9,  -999.0,-999.000,9,-999.000,-999.000,9, -999.00,9, -999.00,9, -999.00,9,  39.7178, -52.3649,-999.000,-999.0000, -999.00,  13.3685,  13.3763,2,    35.1522,2,  -999.0,9,     -999.0,9,     -999.0,9,     -999.0,9,       0345
33AT20120419,        A20,      66,          1,         34,         34,2,20120509,       0139,    39.7101,   -52.3503,       5303,    61.0,  13.5520,  35.2924,2,  35.2666,2,    231.9,2,   230.2,2,    2.41,2,    6.21,2,    0.04,2,    0.44,2,   2.764,2,   1.629,2,   0.196,2,    1.64,2,  2104.4,2,  2328.7,2,-999.0000,5,    25.00,-999.000,9,-999.0000,9, -999.00,9,  13.5476,2, -999.00,9,  -999.0,9,  -999.0,-999.000,9,-999.000,-999.000,9, -999.00,9, -999.00,9, -999.00,9,  39.7176, -52.3644,-999.000,-999.0000, -999.00,  13.5434,  13.5476,2,    35.4329,2,  -999.0,9,     -999.0,9,     -999.0,9,     -999.0,9,       0343
33AT20120419,        A20,      66,          1,         33,         33,2,20120509,       0139,    39.7101,   -52.3503,       5303,    86.5,  13.9588,  35.4755,2,  35.4732,2,    227.5,2,   228.0,2,    2.53,2,    6.55,2,    0.03,2,    0.44,2,   2.706,2,   1.595,2,   0.205,2,    1.70,2,  2108.8,2,  2341.6,2,-999.0000,5,    25.00,-999.000,9,-999.0000,9, -999.00,9,  13.9590,2, -999.00,9,  -999.0,9,  -999.0,-999.000,9,-999.000,-999.000,9, -999.00,9, -999.00,9, -999.00,9,  39.7175, -52.3639,-999.000,-999.0000, -999.00,  13.9463,  13.9590,2,    35.6405,2,  -999.0,9,     -999.0,9,     -999.0,9,     -999.0,9,       0340
33AT20120419,        A20,      66,          1,         32,         32,2,20120509,       0139,    39.7101,   -52.3503,       5303,   117.4,  14.0190,  35.5294,2,  35.5279,2,    223.4,2,   220.6,2,    2.87,2,    7.33,2,    0.03,2,    0.49,2,   2.689,2,   1.618,2,   0.188,2,    1.76,2,  2115.5,2,  2343.1,2,-999.0000,5,    25.00,-999.000,9,-999.0000,9, -999.00,9,  14.0238,2, -999.00,9,  -999.0,9,  -999.0,-999.000,9,-999.000,-999.000,9, -999.00,9, -999.00,9, -999.00,9,  39.7174, -52.3635,-999.000,-999.0000, -999.00,  14.0020,  14.0238,2,    35.6954,2,  -999.0,9,     -999.0,9,     -999.0,9,     -999.0,9,       0338
33AT20120419,        A20,      66,          1,         31,         31,2,20120509,       0139,    39.7101,   -52.3503,       5303,   167.6,  14.5535,  35.7434,2,  35.7471,2,    201.1,2,   217.5,2,    2.84,2,    7.60,2,    0.03,2,    0.47,2,   2.550,2,   1.533,2,   0.167,2,    1.62,2,  2121.4,2,  2351.6,2,-999.0000,5,    25.00,-999.000,9,-999.0000,9, -999.00,9,  14.5566,2, -999.00,9,  -999.0,9,  -999.0,-999.000,9,-999.000,-999.000,9, -999.00,9, -999.00,9, -999.00,9,  39.7173, -52.3631,-999.000,-999.0000, -999.00,  14.5285,  14.5566,2,    35.9157,2,  -999.0,9,     -999.0,9,     -999.0,9,     -999.0,9,       0336
33AT20120419,        A20,      66,          1,         30,         30,2,20120509,       0139,    39.7101,   -52.3503,       5303,   215.4,  14.0855,  35.8024,2,  35.8064,2,    161.0,2,   159.0,2,    6.07,2,   14.76,2,    0.02,2,    0.88,2,   2.151,2,   1.268,2,   0.062,2,    0.90,2,  2159.6,2,  2350.6,2,-999.0000,5,    25.00,-999.000,9,-999.0000,9, -999.00,9,  14.0797,2, -999.00,9,  -999.0,9,  -999.0,-999.000,9,-999.000,-999.000,9, -999.00,9, -999.00,9, -999.00,9,  39.7172, -52.3627,-999.000,-999.0000, -999.00,  14.0540,  14.0797,2,    35.9752,2,  -999.0,9,     -999.0,9,     -999.0,9,     -999.0,9,       0333
33AT20120419,        A20,      66,          1,         29,         29,2,20120509,       0139,    39.7101,   -52.3503,       5303,   269.3,  12.8624,  35.6474,2,  35.6508,2,    146.7,2,   142.5,2,    8.34,2,   18.54,2,    0.02,2,    1.12,2,   1.882,2,   1.033,2,   0.038,2,    0.79,2,  2174.8,2,  2341.5,6,-999.0000,5,    25.00,-999.000,9,-999.0000,9, -999.00,9,  12.8776,2, -999.00,9,  -999.0,9,  -999.0,-999.000,9,-999.000,-999.000,9, -999.00,9, -999.00,9, -999.00,9,  39.7171, -52.3624,-999.000,-999.0000, -999.00,  12.8253,  12.8776,2,    35.8189,2,  -999.0,9,     -999.0,9,     -999.0,9,     -999.0,9,       0332
33AT20120419,        A20,      66,          1,         28,         28,2,20120509,       0139,    39.7101,   -52.3503,       5303,   318.0,  11.4408,  35.4439,2,  35.4446,2,    138.4,2,   136.8,2,   10.71,2,   21.51,2,    0.02,2,    1.33,2,   1.854,2,   0.909,2,   0.033,2,    0.69,2,  2185.1,2,  2333.7,2,-999.0000,5,    25.00,-999.000,9,-999.0000,9, -999.00,9,  11.4411,2, -999.00,9,  -999.0,9,  -999.0,-999.000,9,-999.000,-999.000,9, -999.00,9, -999.00,9, -999.00,9,  39.7171, -52.3621,-999.000,-999.0000, -999.00,  11.4002,  11.4411,2,    35.6118,2,  -999.0,9,     -999.0,9,     -999.0,9,     -999.0,9,       0330
33AT20120419,        A20,      66,          1,         27,         27,2,20120509,       0139,    39.7101,   -52.3503,       5303,   370.0,  10.2075,  35.2965,2,  35.3007,2,    138.2,2,   136.5,2,   12.74,2,   23.45,2,    0.01,2,    1.47,2,   1.425,2,   0.746,2,   0.019,2,    0.65,2,  2192.5,2,  2326.7,2,-999.0000,5,    25.00,-999.000,9,-999.0000,9, -999.00,9,  10.2203,2, -999.00,9,  -999.0,9,  -999.0,-999.000,9,-999.000,-999.000,9, -999.00,9, -999.00,9, -999.00,9,  39.7170, -52.3619,-999.000,-999.0000, -999.00,  10.1635,  10.2203,2,    35.4672,2,  -999.0,9,     -999.0,9,     -999.0,9,     -999.0,9,       0328
33AT20120419,        A20,      66,          1,         26,         26,2,20120509,       0139,    39.7101,   -52.3503,       5303,   440.4,   8.6355,  35.1485,2,  35.1502,2,    147.9,2,   149.4,2,   14.16,2,   23.96,2,    0.00,2,    1.53,2,   1.423,2,   0.740,2,   0.045,2,    0.64,2,  2192.4,6,  2321.1,2,-999.0000,5,    25.00,-999.000,9,-999.0000,9, -999.00,9,   8.6392,2, -999.00,9,  -999.0,9,  -999.0,-999.000,9,-999.000,-999.000,9, -999.00,9, -999.00,9, -999.00,9,  39.7170, -52.3617,-999.000,-999.0000, -999.00,   8.5880,   8.6392,2,    35.3160,2,  -999.0,9,     -999.0,9,     -999.0,9,     -999.0,9,       0326
33AT20120419,        A20,      66,          1,         25,         25,2,20120509,       0139,    39.7101,   -52.3503,       5303,   539.3,   7.2042,  35.0903,2,  35.0906,2,    177.3,2,   177.9,2,   13.79,2,   22.36,2,    0.00,2,    1.45,2,   1.643,2,   0.843,2,   0.051,2,    0.62,2,  2187.8,2,  2317.3,2,-999.0000,5,    25.00,-999.000,9,-999.0000,9, -999.00,9,   7.2072,2, -999.00,9,  -999.0,9,  -999.0,-999.000,9,-999.000,-999.000,9, -999.00,9, -999.00,9, -999.00,9,  39.7168, -52.3612,-999.000,-999.0000, -999.00,   7.1515,   7.2072,2,    35.2560,2,  -999.0,9,     -999.0,9,     -999.0,9,     -999.0,9,       0323
33AT20120419,        A20,      66,          1,         24,         24,2,20120509,       0139,    39.7101,   -52.3503,       5303,   641.2,   6.0300,  35.0535,2,  35.0533,2,    206.8,2,   208.7,2,   12.93,2,   20.41,2,    0.00,2,    1.34,2,   2.005,2,   1.034,2,   0.094,2,    0.72,2,  2180.8,2,  2316.7,2,-999.0000,5,    25.00,-999.000,9,-999.0000,9, -999.00,9,   6.0297,2, -999.00,9,  -999.0,9,  -999.0,-999.000,9,-999.000,-999.000,9, -999.00,9, -999.00,9, -999.00,9,  39.7167, -52.3607,-999.000,-999.0000, -999.00,   5.9726,   6.0297,2,    35.2186,2,  -999.0,9,     -999.0,9,     -999.0,9,     -999.0,9,       0321
33AT20120419,        A20,      66,          1,         23,         23,2,20120509,       0139,    39.7101,   -52.3503,       5303,   739.9,   5.2110,  34.9926,2,  34.9905,2,    234.1,2,   237.8,2,   11.31,2,   18.42,2,    0.00,2,    1.22,2,   2.881,3,   1.539,3,   0.180,3,    1.21,3,  2173.9,2,  2310.9,2,-999.0000,5,    25.00,-999.000,9,-999.0000,9, -999.00,9,   5.2118,2, -999.00,9,  -999.0,9,  -999.0,-999.000,9,-999.000,-999.000,9, -999.00,9, -999.00,9, -999.00,9,  39.7166, -52.3603,-999.000,-999.0000, -999.00,   5.1490,   5.2118,2,    35.1555,2,  -999.0,9,     -999.0,9,     -999.0,9,     -999.0,9,       0318
33AT20120419,        A20,      66,          1,         22,         22,2,20120509,       0139,    39.7101,   -52.3503,       5303,   842.0,   5.1094,  35.0184,2,  35.0185,2,    237.7,2,   236.0,2,   11.87,2,   18.72,2,    0.00,2,    1.24,2,   2.482,2,   1.288,2,   0.141,2,    0.89,2,  2173.0,2,  2313.6,2,-999.0000,5,    25.00,-999.000,9,-999.0000,9, -999.00,9,   5.1095,2, -999.00,9,  -999.0,9,  -999.0,-999.000,9,-999.000,-999.000,9, -999.00,9, -999.00,9, -999.00,9,  39.7165, -52.3600,-999.000,-999.0000, -999.00,   5.0388,   5.1095,2,    35.1836,2,  -999.0,9,     -999.0,9,     -999.0,9,     -999.0,9,       0315
33AT20120419,        A20,      66,          1,         21,         21,2,20120509,       0139,    39.7101,   -52.3503,       5303,   945.3,   4.7958,  35.0079,2,  35.0085,2,    248.7,2,   246.3,2,   11.45,2,   18.16,2,    0.00,2,    1.21,2,   2.654,2,   1.386,2,   0.159,2,    0.88,2,  -999.0,9,  -999.0,9,-999.0000,9,  -999.00,-999.000,9,-999.0000,9, -999.00,9,   4.7957,2, -999.00,9,  -999.0,9,  -999.0,-999.000,9,-999.000,-999.000,9, -999.00,9, -999.00,9, -999.00,9,  39.7164, -52.3597,-999.000,-999.0000, -999.00,   4.7181,   4.7957,2,    35.1735,2,  -999.0,9,     -999.0,9,     -999.0,9,     -999.0,9,       0313
33AT20120419,        A20,      66,          1,         20,         20,2,20120509,       0139,    39.7101,   -52.3503,       5303,  1042.6,   4.5960,  34.9988,2,  34.9982,2,    252.6,2,   251.6,2,   11.40,2,   17.94,2,    0.00,2,    1.19,2,   2.701,2,   1.413,2,   0.165,2,    0.87,2,  2168.4,2,  2310.1,2,-999.0000,5,    25.00,-999.000,9,-999.0000,9, -999.00,9,   4.5972,2, -999.00,9,  -999.0,9,  -999.0,-999.000,9,-999.000,-999.000,9, -999.00,9, -999.00,9, -999.00,9,  39.7163, -52.3594,-999.000,-999.0000, -999.00,   4.5112,   4.5972,2,    35.1633,2,  -999.0,9,     -999.0,9,     -999.0,9,     -999.0,9,       0310
33AT20120419,        A20,      66,          1,         19,         19,2,20120509,       0139,    39.7101,   -52.3503,       5303,  1140.4,   4.3985,  34.9852,2,  34.9850,2,    256.8,2,   255.8,2,   11.40,2,   17.77,2,    0.00,2,    1.18,2,   2.731,2,   1.419,2,   0.172,2,    0.87,2,  -999.0,9,  -999.0,9,-999.0000,9,  -999.00,-999.000,9,-999.0000,9, -999.00,9,   4.3984,2, -999.00,9,  -999.0,9,  -999.0,-999.000,9,-999.000,-999.000,9, -999.00,9, -999.00,9, -999.00,9,  39.7162, -52.3591,-999.000,-999.0000, -999.00,   4.3066,   4.3984,2,    35.1500,2,  -999.0,9,     -999.0,9,     -999.0,9,     -999.0,9,       0308
33AT20120419,        A20,      66,          1,         18,         18,2,20120509,       0139,    39.7101,   -52.3503,       5303,  1245.2,   4.2835,  34.9814,2,  34.9817,2,    259.1,2,   257.9,2,   11.56,2,   17.72,2,    0.00,2,    1.18,2,   2.661,2,   1.360,2,   0.161,2,    0.80,2,  2164.1,2,  2309.1,2,-999.0000,5,    25.00,-999.000,9,-999.0000,9, -999.00,9,   4.2830,2, -999.00,9,  -999.0,9,  -999.0,-999.000,9,-999.000,-999.000,9, -999.00,9, -999.00,9, -999.00,9,  39.7161, -52.3588,-999.000,-999.0000, -999.00,   4.1833,   4.2830,2,    35.1467,2,  -999.0,9,     -999.0,9,     -999.0,9,     -999.0,9,       0305
33AT20120419,        A20,      66,          1,         17,         17,2,20120509,       0139,    39.7101,   -52.3503,       5303,  1344.7,   4.1489,  34.9737,2,  34.9742,2,    260.4,2,   260.2,2,   11.80,2,   17.69,2,    0.00,2,    1.17,2,   2.574,2,   1.309,2,   0.151,2,    0.84,2,  2163.0,2,  2309.4,2,-999.0000,5,    25.00,-999.000,9,-999.0000,9, -999.00,9,   4.1490,2, -999.00,9,  -999.0,9,  -999.0,-999.000,9,-999.000,-999.000,9, -999.00,9, -999.00,9, -999.00,9,  39.7160, -52.3585,-999.000,-999.0000, -999.00,   4.0411,   4.1490,2,    35.1391,2,  -999.0,9,     -999.0,9,     -999.0,9,     -999.0,9,       0302
33AT20120419,        A20,      66,          1,         16,         16,2,20120509,       0139,    39.7101,   -52.3503,       5303,  1481.8,   4.0194,  34.9698,2,  34.9699,2,    262.1,2,   261.2,2,   12.09,2,   17.69,2,    0.00,2,    1.17,2,   2.402,2,   1.235,2,   0.144,2,    0.67,2,  -999.0,9,  -999.0,9,-999.0000,9,  -999.00,-999.000,9,-999.0000,9, -999.00,9,   4.0204,2, -999.00,9,  -999.0,9,  -999.0,-999.000,9,-999.000,-999.000,9, -999.00,9, -999.00,9, -999.00,9,  39.7159, -52.3582,-999.000,-999.0000, -999.00,   3.9006,   4.0204,2,    35.1348,2,  -999.0,9,     -999.0,9,     -999.0,9,     -999.0,9,       0259
33AT20120419,        A20,      66,          1,         15,         15,2,20120509,       0139,    39.7101,   -52.3503,       5303,  1678.1,   3.8571,  34.9630,2,  34.9636,2,    263.5,2,   263.1,2,   12.65,2,   17.68,2,    0.00,2,    1.17,2,   2.141,2,   1.107,2,   0.120,2,    0.49,2,  2161.2,2,  2310.2,6,-999.0000,5,    25.00,-999.000,9,-999.0000,9, -999.00,9,   3.8582,2, -999.00,9,  -999.0,9,  -999.0,-999.000,9,-999.000,-999.000,9, -999.00,9, -999.00,9, -999.00,9,  39.7156, -52.3578,-999.000,-999.0000, -999.00,   3.7222,   3.8582,2,    35.1285,2,  -999.0,9,     -999.0,9,     -999.0,9,     -999.0,9,       0255
33AT20120419,        A20,      66,          1,         14,         14,2,20120509,       0139,    39.7101,   -52.3503,       5303,  1884.5,   3.6468,  34.9517,2,  34.9518,2,    265.2,2,   265.7,2,   13.33,2,   17.58,2,    0.00,2,    1.15,2,   1.933,2,   0.972,2,   0.102,2,    0.33,2,  2160.2,2,  2309.9,2,-999.0000,5,    25.00,-999.000,9,-999.0000,9, -999.00,9,   3.6473,2, -999.00,9,  -999.0,9,  -999.0,-999.000,9,-999.000,-999.000,9, -999.00,9, -999.00,9, -999.00,9,  39.7154, -52.3576,-999.000,-999.0000, -999.00,   3.4955,   3.6473,2,    35.1166,2,  -999.0,9,     -999.0,9,     -999.0,9,     -999.0,9,       0250
33AT20120419,        A20,      66,          1,         13,         13,2,20120509,       0139,    39.7101,   -52.3503,       5303,  2104.4,   3.4865,  34.9453,2,  34.9455,2,    267.2,2,   268.0,2,   14.11,2,   17.51,2,    0.00,2,    1.16,2,   1.846,2,   0.903,2,   0.087,2,    0.42,2,  2158.8,2,  2312.8,2,-999.0000,5,    25.00,-999.000,9,-999.0000,9, -999.00,9,   3.4871,2, -999.00,9,  -999.0,9,  -999.0,-999.000,9,-999.000,-999.000,9, -999.00,9, -999.00,9, -999.00,9,  39.7152, -52.3573,-999.000,-999.0000, -999.00,   3.3167,   3.4871,2,    35.1103,2,  -999.0,9,     -999.0,9,     -999.0,9,     -999.0,9,       0246
33AT20120419,        A20,      66,          1,         12,         12,2,20120509,       0139,    39.7101,   -52.3503,       5303,  2363.9,   3.3235,  34.9424,2,  34.9429,2,    266.6,2,   267.1,2,   15.52,2,   17.52,2,    0.00,2,    1.17,2,   1.627,2,   0.796,2,   0.082,2,    0.37,2,  2158.8,2,  2314.2,2,-999.0000,5,    25.00,-999.000,9,-999.0000,9, -999.00,9,   3.3240,2, -999.00,9,  -999.0,9,  -999.0,-999.000,9,-999.000,-999.000,9, -999.00,9, -999.00,9, -999.00,9,  39.7148, -52.3568,-999.000,-999.0000, -999.00,   3.1311,   3.3240,2,    35.1077,2,  -999.0,9,     -999.0,9,     -999.0,9,     -999.0,9,       0241
33AT20120419,        A20,      66,          1,         11,         11,4,20120509,       0139,    39.7101,   -52.3503,       5303,  2613.7,   3.1696,  34.9425,2,  35.0179,4,    266.0,2,   224.1,4,   12.03,4,   19.22,4,    0.00,4,    1.27,4,   2.485,4,   1.326,4,   0.136,4,    0.96,4,  -999.0,9,  -999.0,9,-999.0000,9,  -999.00,-999.000,9,-999.0000,9, -999.00,9,   3.1697,2, -999.00,9,  -999.0,9,  -999.0,-999.000,9,-999.000,-999.000,9, -999.00,9, -999.00,9, -999.00,9,  39.7145, -52.3563,-999.000,-999.0000, -999.00,   2.9551,   3.1697,2,    35.1830,4,  -999.0,9,     -999.0,9,     -999.0,9,     -999.0,9,       0236
33AT20120419,        A20,      66,          1,         10,         10,2,20120509,       0139,    39.7101,   -52.3503,       5303,  2872.3,   2.9206,  34.9284,2,  34.9294,2,    268.9,2,   268.8,2,   18.32,2,   17.43,2,    0.00,2,    1.18,2,   1.478,2,   0.719,2,   0.075,2,    0.36,2,  2161.1,2,  2313.3,6,-999.0000,5,    25.00,-999.000,9,-999.0000,9, -999.00,9,   2.9211,2, -999.00,9,  -999.0,9,  -999.0,-999.000,9,-999.000,-999.000,9, -999.00,9, -999.00,9, -999.00,9,  39.7141, -52.3557,-999.000,-999.0000, -999.00,   2.6848,   2.9211,2,    35.0941,2,  -999.0,9,     -999.0,9,     -999.0,9,     -999.0,9,       0230
33AT20120419,        A20,      66,          1,          9,          9,2,20120509,       0139,    39.7101,   -52.3503,       5303,  3143.3,   2.7327,  34.9219,2,  34.9227,2,    268.8,2,   268.5,2,   20.89,2,   17.68,2,    0.00,2,    1.20,2,   1.204,2,   0.587,2,   0.060,2,    0.34,2,  -999.0,9,  -999.0,9,-999.0000,9,  -999.00,-999.000,9,-999.0000,9, -999.00,9,   2.7331,2, -999.00,9,  -999.0,9,  -999.0,-999.000,9,-999.000,-999.000,9, -999.00,9, -999.00,9, -999.00,9,  39.7136, -52.3552,-999.000,-999.0000, -999.00,   2.4728,   2.7331,2,    35.0873,2,  -999.0,9,     -999.0,9,     -999.0,9,     -999.0,9,       0225
33AT20120419,        A20,      66,          1,          8,          8,2,20120509,       0139,    39.7101,   -52.3503,       5303,  3454.7,   2.5245,  34.9102,2,  34.9107,2,    269.1,2,   268.9,2,   23.69,2,   17.89,2,    0.00,2,    1.22,2,   1.081,2,   0.510,2,   0.060,2,    0.28,2,  -999.0,9,  -999.0,9,-999.0000,9,  -999.00,-999.000,9,-999.0000,9, -999.00,9,   2.5257,2, -999.00,9,  -999.0,9,  -999.0,-999.000,9,-999.000,-999.000,9, -999.00,9, -999.00,9, -999.00,9,  39.7132, -52.3546,-999.000,-999.0000, -999.00,   2.2363,   2.5257,2,    35.0753,2,  -999.0,9,     -999.0,9,     -999.0,9,     -999.0,9,       0219
33AT20120419,        A20,      66,          1,          7,          7,2,20120509,       0139,    39.7101,   -52.3503,       5303,  3756.9,   2.3841,  34.9000,2,  34.9004,2,    268.5,2,   268.7,2,   26.05,2,   18.08,2,    0.00,2,    1.24,2,-999.000,9,-999.000,9,-999.000,9, -999.00,9,  2169.4,2,  2321.1,2,-999.0000,5,    25.00,-999.000,9,-999.0000,9, -999.00,9,   2.3841,2, -999.00,9,  -999.0,9,  -999.0,-999.000,9,-999.000,-999.000,9, -999.00,9, -999.00,9, -999.00,9,  39.7128, -52.3540,-999.000,-999.0000, -999.00,   2.0664,   2.3841,2,    35.0650,2,  -999.0,9,     -999.0,9,     -999.0,9,     -999.0,9,       0213