BOTTLE,20220712CCHSIOCBG
EXPOCODE,SECT_ID,STNNBR,CASTNO,SAMPNO,BTLNBR,BTLNBR_FLAG_W,DATE,TIME,LATITUDE,LONGITUDE,DEPTH,CTDPRS,CTDTMP,CTDSAL,CTDSAL_FLAG_W,SALNTY,SALNTY_FLAG_W,CTDOXY,CTDOXY_FLAG_W,OXYGEN,OXYGEN_FLAG_W,SILCAT,SILCAT_FLAG_W,NITRAT,NITRAT_FLAG_W,NITRIT,NITRIT_FLAG_W,PHSPHT,PHSPHT_FLAG_W,CFC-11,CFC-11_FLAG_W,CFC-12,CFC-12_FLAG_W,CFC113,CFC113_FLAG_W,SF6,SF6_FLAG_W,TCARBN,TCARBN_FLAG_W,ALKALI,ALKALI_FLAG_W,PH_TOT,PH_TOT_FLAG_W,PH_TMP,TRITUM,TRITUM_FLAG_W,HELIUM,HELIUM_FLAG_W,DELHE3,DELHE3_FLAG_W,REFTMP,REFTMP_FLAG_W,DELC13,DELC13_FLAG_W,DELC14,DELC14_FLAG_W,C14ERR,NEON,NEON_FLAG_W,NEONER,CCL4,CCL4_FLAG_W,DELO18,DELO18_FLAG_W,DOC,DOC_FLAG_W,TDN,TDN_FLAG_W,BTL_LAT,BTL_LON,TRITER,HELIER,DELHER,THETA,SBE35,SBE35_FLAG_W,SALTREF,SALTREF_FLAG_W,14C-DOC,14C-DOC_FLAG_W,DELO17,DELO17_FLAG_W,O2/AR,O2/AR_FLAG_W,SIP,SIP_FLAG_W,BTL_TIME
,,,,,,,,,,,METERS,DBAR,ITS-90,PSS-78,,PSS-78,,UMOL/KG,,UMOL/KG,,UMOL/KG,,UMOL/KG,,UMOL/KG,,UMOL/KG,,PMOL/KG,,PMOL/KG,,PMOL/KG,,FMOL/KG,,UMOL/KG,,UMOL/KG,,,,DEG C,TU,,NMOL/KG,,PERCNT,,DEG C,,/MILLE,,/MILLE,,/MILLE,NMOL/KG,,NMOL/KG,PMOL/KG,,/MILLE,,UMOL/KG,,UMOL/KG,,,,TU,NMOL/KG,PERCNT,DEG C,ITS-90,,G/KG,,/MILLE,,/MILLE,,,,,,
33AT20120419,        A20,      46,          1,         36,         36,2,20120502,       1450,    25.9857,   -52.3324,       5196,     3.6,  23.3197,  36.9463,2,  36.9451,2,    214.9,2,   215.2,2,    0.44,2,    0.00,2,    0.00,2,    0.00,2,   1.944,2,   1.318,2,   0.164,2,    1.16,2,  2075.1,6,  2420.0,2,   8.0744,2,    25.00,-999.000,9,-999.0000,9, -999.00,9,  23.3208,2, -999.00,9,  -999.0,9,  -999.0,-999.000,9,-999.000,-999.000,9, -999.00,9, -999.00,9, -999.00,9,  25.9841, -52.3317,-999.000,-999.0000, -999.00,  23.3190,  23.3208,2,    37.1193,2,  -999.0,9,     -999.0,9,     -999.0,9,     -999.0,9,       1701
33AT20120419,        A20,      46,          1,         35,         35,2,20120502,       1450,    25.9857,   -52.3324,       5196,    20.3,  23.1649,  36.9466,2,  36.9435,2,    215.0,2,   215.7,2,    0.43,2,    0.00,2,    0.00,2,    0.00,2,-999.000,5,-999.000,5,-999.000,5,    1.12,2,  2076.5,2,  2418.9,2,   8.0738,2,    25.00,-999.000,9,-999.0000,9, -999.00,9,  23.1530,2, -999.00,9,  -999.0,9,  -999.0,-999.000,9,-999.000,-999.000,9, -999.00,9, -999.00,9, -999.00,9,  25.9842, -52.3317,-999.000,-999.0000, -999.00,  23.1607,  23.1530,2,    37.1177,2,  -999.0,9,     -999.0,9,     -999.0,9,     -999.0,9,       1659
33AT20120419,        A20,      46,          1,         34,         34,2,20120502,       1450,    25.9857,   -52.3324,       5196,    40.7,  22.3474,  36.9179,2,  36.9186,2,    221.3,2,   220.7,2,    0.41,2,    0.00,2,    0.00,2,    0.00,2,   1.974,2,   1.225,3,   0.169,2,    1.20,2,  2075.2,2,  2416.3,2,   8.0728,6,    25.00,-999.000,9,-999.0000,9, -999.00,9,  22.3446,2, -999.00,9,  -999.0,9,  -999.0,-999.000,9,-999.000,-999.000,9, -999.00,9, -999.00,9, -999.00,9,  25.9844, -52.3318,-999.000,-999.0000, -999.00,  22.3392,  22.3446,2,    37.0927,2,  -999.0,9,     -999.0,9,     -999.0,9,     -999.0,9,       1657
33AT20120419,        A20,      46,          1,         33,         33,2,20120502,       1450,    25.9857,   -52.3324,       5196,    65.3,  21.4401,  36.8731,2,  36.8698,2,    214.6,2,   214.7,2,    0.31,2,    0.00,2,    0.00,2,    0.00,2,   2.097,2,   1.328,2,   0.161,2,    1.12,2,  2089.9,2,  2412.3,2,   8.0445,2,    25.00,-999.000,9,-999.0000,9, -999.00,9,  21.3974,2, -999.00,9,  -999.0,9,  -999.0,-999.000,9,-999.000,-999.000,9, -999.00,9, -999.00,9, -999.00,9,  25.9844, -52.3318,-999.000,-999.0000, -999.00,  21.4273,  21.3974,2,    37.0437,2,  -999.0,9,     -999.0,9,     -999.0,9,     -999.0,9,       1655
33AT20120419,        A20,      46,          1,         32,         32,2,20120502,       1450,    25.9857,   -52.3324,       5196,    90.0,  20.4889,  36.8046,2,  36.8111,2,    208.9,2,   209.8,2,    0.35,2,    0.00,2,    0.00,2,    0.00,2,   2.146,2,   1.349,2,   0.149,2,    1.17,2,  2101.1,2,  2408.8,2,   8.0247,2,    25.00,-999.000,9,-999.0000,9, -999.00,9,  20.4860,2, -999.00,9,  -999.0,9,  -999.0,-999.000,9,-999.000,-999.000,9, -999.00,9, -999.00,9, -999.00,9,  25.9845, -52.3319,-999.000,-999.0000, -999.00,  20.4718,  20.4860,2,    36.9846,2,  -999.0,9,     -999.0,9,     -999.0,9,     -999.0,9,       1652
33AT20120419,        A20,      46,          1,         31,         31,2,20120502,       1450,    25.9857,   -52.3324,       5196,   138.2,  18.9714,  36.6616,2,  36.6603,2,    190.3,2,   190.0,2,    0.73,2,    1.78,2,    0.04,2,    0.05,2,   2.249,2,   1.381,2,   0.065,2,    1.17,2,  2122.6,2,  2399.1,2,   7.9697,6,    25.00,-999.000,9,-999.0000,9, -999.00,9,  18.9532,2, -999.00,9,  -999.0,9,  -999.0,-999.000,9,-999.000,-999.000,9, -999.00,9, -999.00,9, -999.00,9,  25.9846, -52.3319,-999.000,-999.0000, -999.00,  18.9466,  18.9532,2,    36.8332,2,  -999.0,9,     -999.0,9,     -999.0,9,     -999.0,9,       1649
33AT20120419,        A20,      46,          1,         30,         30,2,20120502,       1450,    25.9857,   -52.3324,       5196,   188.1,  18.1968,  36.5729,2,  36.5745,2,    195.7,2,   194.0,2,    1.02,2,    3.80,2,    0.01,2,    0.19,2,   2.301,2,   1.395,2,   0.038,2,    1.12,2,  2121.2,2,  2392.2,2,   7.9633,2,    25.00,-999.000,9,-999.0000,9, -999.00,9,  18.2097,2, -999.00,9,  -999.0,9,  -999.0,-999.000,9,-999.000,-999.000,9, -999.00,9, -999.00,9, -999.00,9,  25.9846, -52.3319,-999.000,-999.0000, -999.00,  18.1639,  18.2097,2,    36.7469,2,  -999.0,9,     -999.0,9,     -999.0,9,     -999.0,9,       1647
33AT20120419,        A20,      46,          1,         29,         29,2,20120502,       1450,    25.9857,   -52.3324,       5196,   237.3,  17.8262,  36.5219,2,  36.5184,2,    198.2,2,   197.7,2,    1.21,2,    4.41,2,    0.01,2,    0.22,2,   2.334,2,   1.408,2,   0.037,2,    1.15,2,  2119.7,2,  2389.1,2,   7.9596,2,    25.00,-999.000,9,-999.0000,9, -999.00,9,  17.8286,2, -999.00,9,  -999.0,9,  -999.0,-999.000,9,-999.000,-999.000,9, -999.00,9, -999.00,9, -999.00,9,  25.9847, -52.3320,-999.000,-999.0000, -999.00,  17.7853,  17.8286,2,    36.6906,2,  -999.0,9,     -999.0,9,     -999.0,9,     -999.0,9,       1645
33AT20120419,        A20,      46,          1,         28,         28,2,20120502,       1450,    25.9857,   -52.3324,       5196,   287.8,  17.4541,  36.4643,2,  36.4631,2,    196.4,2,   196.8,2,    1.51,2,    5.12,2,    0.01,2,    0.27,2,   2.375,2,   1.454,2,   0.041,2,    1.08,2,  2122.1,2,  2385.7,2,   7.9498,2,    25.00,-999.000,9,-999.0000,9, -999.00,9,  17.4672,2, -999.00,9,  -999.0,9,  -999.0,-999.000,9,-999.000,-999.000,9, -999.00,9, -999.00,9, -999.00,9,  25.9847, -52.3320,-999.000,-999.0000, -999.00,  17.4051,  17.4672,2,    36.6350,2,  -999.0,9,     -999.0,9,     -999.0,9,     -999.0,9,       1643
33AT20120419,        A20,      46,          1,         27,         27,2,20120502,       1450,    25.9857,   -52.3324,       5196,   338.2,  16.8948,  36.3639,2,  36.3622,2,    198.9,2,   194.3,2,    1.88,2,    6.31,2,    0.01,2,    0.35,2,   2.395,2,   1.418,2,   0.042,2,    1.04,2,  -999.0,9,  -999.0,9,-999.0000,9,  -999.00,-999.000,9,-999.0000,9, -999.00,9,  16.8994,2, -999.00,9,  -999.0,9,  -999.0,-999.000,9,-999.000,-999.000,9, -999.00,9, -999.00,9, -999.00,9,  25.9848, -52.3320,-999.000,-999.0000, -999.00,  16.8385,  16.8994,2,    36.5337,2,  -999.0,9,     -999.0,9,     -999.0,9,     -999.0,9,       1641
33AT20120419,        A20,      46,          1,         26,         26,2,20120502,       1450,    25.9857,   -52.3324,       5196,   389.0,  16.2190,  36.2373,2,  36.2472,2,    189.9,2,   187.8,2,    2.45,2,    7.96,2,    0.01,2,    0.45,2,   2.434,2,-999.000,5,   0.046,2,    1.07,2,  2133.1,2,  2372.8,2,   7.9088,6,    25.00,-999.000,9,-999.0000,9, -999.00,9,  16.2451,2, -999.00,9,  -999.0,9,  -999.0,-999.000,9,-999.000,-999.000,9, -999.00,9, -999.00,9, -999.00,9,  25.9849, -52.3320,-999.000,-999.0000, -999.00,  16.1559,  16.2451,2,    36.4181,2,  -999.0,9,     -999.0,9,     -999.0,9,     -999.0,9,       1639
33AT20120419,        A20,      46,          1,         25,         25,2,20120502,       1450,    25.9857,   -52.3324,       5196,   466.9,  14.9294,  36.0157,2,  36.0033,2,    181.5,2,   178.6,2,    3.76,2,   11.05,2,    0.01,2,    0.64,2,   2.405,2,   1.168,3,   0.035,2,    0.94,2,  2144.1,2,  2364.6,3,   7.8636,2,    25.00,-999.000,9,-999.0000,9, -999.00,9,  14.9162,2, -999.00,9,  -999.0,9,  -999.0,-999.000,9,-999.000,-999.000,9, -999.00,9, -999.00,9, -999.00,9,  25.9849, -52.3321,-999.000,-999.0000, -999.00,  14.8577,  14.9162,2,    36.1731,2,  -999.0,9,     -999.0,9,     -999.0,9,     -999.0,9,       1637
33AT20120419,        A20,      46,          1,         24,         24,2,20120502,       1450,    25.9857,   -52.3324,       5196,   566.8,  13.0657,  35.7299,2,  35.7259,2,    173.2,2,   169.5,2,    6.03,2,   15.05,2,    0.01,2,    0.91,2,   2.224,2,   1.232,2,   0.036,2,    0.75,2,  2158.8,2,  2345.3,2,   7.8071,6,    25.00,-999.000,9,-999.0000,9, -999.00,9,  13.0728,2, -999.00,9,  -999.0,9,  -999.0,-999.000,9,-999.000,-999.000,9, -999.00,9, -999.00,9, -999.00,9,  25.9851, -52.3321,-999.000,-999.0000, -999.00,  12.9859,  13.0728,2,    35.8944,2,  -999.0,9,     -999.0,9,     -999.0,9,     -999.0,9,       1634
33AT20120419,        A20,      46,          1,         23,         23,2,20120502,       1450,    25.9857,   -52.3324,       5196,   669.6,  10.9489,  35.4433,2,  35.4404,2,    151.3,2,   150.2,2,   10.07,2,   20.95,2,    0.00,2,    1.28,2,   1.595,3,   0.836,3,   0.022,3,    0.44,2,  2179.6,2,  2331.4,2,   7.7316,2,    25.00,-999.000,9,-999.0000,9, -999.00,9,  10.9472,2, -999.00,9,  -999.0,9,  -999.0,-999.000,9,-999.000,-999.000,9, -999.00,9, -999.00,9, -999.00,9,  25.9852, -52.3322,-999.000,-999.0000, -999.00,  10.8644,  10.9472,2,    35.6075,2,  -999.0,9,     -999.0,9,     -999.0,9,     -999.0,9,       1632
33AT20120419,        A20,      46,          1,         22,         22,2,20120502,       1450,    25.9857,   -52.3324,       5196,   772.2,   9.4963,  35.2867,2,  35.2799,2,    146.5,2,   146.0,2,   13.18,2,   23.89,2,    0.00,2,    1.49,2,-999.000,5,-999.000,5,-999.000,5,    0.20,2,  2188.3,2,  2326.8,6,   7.6941,2,    25.00,-999.000,9,-999.0000,9, -999.00,9,   9.4991,2, -999.00,9,  -999.0,9,  -999.0,-999.000,9,-999.000,-999.000,9, -999.00,9, -999.00,9, -999.00,9,  25.9854, -52.3323,-999.000,-999.0000, -999.00,   9.4066,   9.4991,2,    35.4462,2,  -999.0,9,     -999.0,9,     -999.0,9,     -999.0,9,       1629
33AT20120419,        A20,      46,          1,         21,         21,2,20120502,       1450,    25.9857,   -52.3324,       5196,   871.6,   7.8432,  35.1033,2,  35.0971,2,    146.0,2,   146.5,2,   17.06,2,   26.68,2,    0.00,2,    1.70,2,-999.000,5,-999.000,5,-999.000,5,    0.13,2,  2197.9,2,  2321.1,2,   7.6586,6,    25.00,-999.000,9,-999.0000,9, -999.00,9,   7.8486,2, -999.00,9,  -999.0,9,  -999.0,-999.000,9,-999.000,-999.000,9, -999.00,9, -999.00,9, -999.00,9,  25.9855, -52.3323,-999.000,-999.0000, -999.00,   7.7520,   7.8486,2,    35.2626,2,  -999.0,9,     -999.0,9,     -999.0,9,     -999.0,9,       1626
33AT20120419,        A20,      46,          1,         20,         20,2,20120502,       1450,    25.9857,   -52.3324,       5196,   975.2,   6.9150,  35.0472,2,  35.0473,2,    159.0,2,   158.9,2,   18.11,2,   26.48,2,    0.00,2,    1.70,2,-999.000,5,-999.000,5,-999.000,5,    0.11,2,  2197.0,6,  2319.2,2,   7.6577,2,    25.00,-999.000,9,-999.0000,9, -999.00,9,   6.9175,2, -999.00,9,  -999.0,9,  -999.0,-999.000,9,-999.000,-999.000,9, -999.00,9, -999.00,9, -999.00,9,  25.9856, -52.3324,-999.000,-999.0000, -999.00,   6.8191,   6.9175,2,    35.2125,2,  -999.0,9,     -999.0,9,     -999.0,9,     -999.0,9,       1623
33AT20120419,        A20,      46,          1,         19,         19,2,20120502,       1450,    25.9857,   -52.3324,       5196,  1074.9,   6.1851,  35.0414,2,  35.0412,2,    180.4,2,   181.4,2,   17.30,2,   24.47,2,    0.00,2,    1.58,2,   0.586,2,   0.270,2,   0.017,2,    0.10,2,  2189.7,2,  2320.7,2,   7.6762,2,    25.00,-999.000,9,-999.0000,9, -999.00,9,   6.1841,2, -999.00,9,  -999.0,9,  -999.0,-999.000,9,-999.000,-999.000,9, -999.00,9, -999.00,9, -999.00,9,  25.9856, -52.3324,-999.000,-999.0000, -999.00,   6.0845,   6.1841,2,    35.2064,2,  -999.0,9,     -999.0,9,     -999.0,9,     -999.0,9,       1621
33AT20120419,        A20,      46,          1,         18,         18,2,20120502,       1450,    25.9857,   -52.3324,       5196,  1176.7,   5.7778,  35.0802,2,  35.0807,2,    202.3,2,   203.2,2,   15.57,2,   22.05,2,    0.00,2,    1.43,2,   0.761,2,   0.364,2,   0.026,2,    0.15,2,  2180.9,2,  2321.6,2,   7.7016,6,    25.00,-999.000,9,-999.0000,9, -999.00,9,   5.7757,2, -999.00,9,  -999.0,9,  -999.0,-999.000,9,-999.000,-999.000,9, -999.00,9, -999.00,9, -999.00,9,  25.9857, -52.3325,-999.000,-999.0000, -999.00,   5.6703,   5.7757,2,    35.2461,2,  -999.0,9,     -999.0,9,     -999.0,9,     -999.0,9,       1618
33AT20120419,        A20,      46,          1,         17,         17,2,20120502,       1450,    25.9857,   -52.3324,       5196,  1278.0,   5.4811,  35.0885,2,  35.0882,2,    216.5,2,   216.1,2,   14.60,2,   20.63,2,    0.00,2,    1.35,2,   0.889,2,   0.418,2,   0.031,2,    0.20,2,  -999.0,9,  -999.0,9,-999.0000,9,  -999.00,-999.000,9,-999.0000,9, -999.00,9,   5.4793,2, -999.00,9,  -999.0,9,  -999.0,-999.000,9,-999.000,-999.000,9, -999.00,9, -999.00,9, -999.00,9,  25.9858, -52.3325,-999.000,-999.0000, -999.00,   5.3663,   5.4793,2,    35.2536,2,  -999.0,9,     -999.0,9,     -999.0,9,     -999.0,9,       1615
33AT20120419,        A20,      46,          1,         16,         16,2,20120502,       1450,    25.9857,   -52.3324,       5196,  1378.5,   5.0816,  35.0871,2,  35.0872,2,    231.1,2,   231.1,2,   13.89,2,   19.50,2,    0.00,2,    1.27,2,   1.074,2,   0.519,2,   0.043,2,    0.18,2,  2171.0,2,  2319.7,2,   7.7245,2,    25.00,-999.000,9,-999.0000,9, -999.00,9,   5.0816,2, -999.00,9,  -999.0,9,  -999.0,-999.000,9,-999.000,-999.000,9, -999.00,9, -999.00,9, -999.00,9,  25.9858, -52.3325,-999.000,-999.0000, -999.00,   4.9609,   5.0816,2,    35.2526,2,  -999.0,9,     -999.0,9,     -999.0,9,     -999.0,9,       1612
33AT20120419,        A20,      46,          1,         15,         15,2,20120502,       1450,    25.9857,   -52.3324,       5196,  1478.0,   4.8363,  35.0798,2,  35.0795,2,    236.0,2,   236.9,2,   14.23,2,   19.15,2,    0.00,2,    1.26,2,   1.031,2,   0.508,2,   0.049,2,    0.14,2,  -999.0,9,  -999.0,9,-999.0000,9,  -999.00,-999.000,9,-999.0000,9, -999.00,9,   4.8358,2, -999.00,9,  -999.0,9,  -999.0,-999.000,9,-999.000,-999.000,9, -999.00,9, -999.00,9, -999.00,9,  25.9857, -52.3325,-999.000,-999.0000, -999.00,   4.7086,   4.8358,2,    35.2449,2,  -999.0,9,     -999.0,9,     -999.0,9,     -999.0,9,       1610
33AT20120419,        A20,      46,          1,         14,         14,2,20120502,       1450,    25.9857,   -52.3324,       5196,  1573.9,   4.6470,  35.0737,2,  35.0741,2,    240.4,2,   240.9,2,   14.68,2,   18.89,2,    0.00,2,    1.25,2,   1.018,2,   0.478,2,   0.049,2,    0.16,2,  2168.3,2,  2321.3,2,   7.7322,2,    25.00,-999.000,9,-999.0000,9, -999.00,9,   4.6462,2, -999.00,9,  -999.0,9,  -999.0,-999.000,9,-999.000,-999.000,9, -999.00,9, -999.00,9, -999.00,9,  25.9856, -52.3324,-999.000,-999.0000, -999.00,   4.5121,   4.6462,2,    35.2395,2,  -999.0,9,     -999.0,9,     -999.0,9,     -999.0,9,       1607
33AT20120419,        A20,      46,          1,         13,         13,2,20120502,       1450,    25.9857,   -52.3324,       5196,  1752.6,   4.2228,  35.0503,2,  35.0505,2,    245.8,2,   246.1,2,   16.62,2,   18.84,2,    0.00,2,    1.25,2,   0.778,2,   0.352,2,   0.023,2,    0.10,2,  2167.8,2,  2321.4,2,   7.7362,2,    25.00,-999.000,9,-999.0000,9, -999.00,9,   4.2219,2, -999.00,9,  -999.0,9,  -999.0,-999.000,9,-999.000,-999.000,9, -999.00,9, -999.00,9, -999.00,9,  25.9855, -52.3323,-999.000,-999.0000, -999.00,   4.0760,   4.2219,2,    35.2158,2,  -999.0,9,     -999.0,9,     -999.0,9,     -999.0,9,       1603
33AT20120419,        A20,      46,          1,         12,         12,2,20120502,       1450,    25.9857,   -52.3324,       5196,  1954.3,   3.8421,  35.0239,2,  35.0235,2,    247.7,2,   248.1,2,   19.46,2,   19.04,2,    0.00,2,    1.27,2,   0.521,2,   0.222,2,   0.019,2,    0.06,2,  2168.4,2,  2323.5,2,   7.7398,2,    25.00,-999.000,9,-999.0000,9, -999.00,9,   3.8424,2, -999.00,9,  -999.0,9,  -999.0,-999.000,9,-999.000,-999.000,9, -999.00,9, -999.00,9, -999.00,9,  25.9853, -52.3323,-999.000,-999.0000, -999.00,   3.6811,   3.8424,2,    35.1887,2,  -999.0,9,     -999.0,9,     -999.0,9,     -999.0,9,       1559
33AT20120419,        A20,      46,          1,         11,         11,2,20120502,       1450,    25.9857,   -52.3324,       5196,  2190.8,   3.4434,  34.9931,2,  34.9926,2,    249.5,2,   249.1,2,   23.58,2,   19.44,2,    0.00,2,    1.31,2,-999.000,9,-999.000,9,-999.000,9, -999.00,9,  -999.0,9,  -999.0,9,-999.0000,9,  -999.00,-999.000,9,-999.0000,9, -999.00,9,   3.4446,2, -999.00,9,  -999.0,9,  -999.0,-999.000,9,-999.000,-999.000,9, -999.00,9, -999.00,9, -999.00,9,  25.9851, -52.3322,-999.000,-999.0000, -999.00,   3.2658,   3.4446,2,    35.1576,2,  -999.0,9,     -999.0,9,     -999.0,9,     -999.0,9,       1554
33AT20120419,        A20,      46,          1,         10,         10,2,20120502,       1450,    25.9857,   -52.3324,       5196,  2444.7,   3.1675,  34.9698,2,  34.9692,2,    248.7,2,   249.1,2,   27.36,2,   19.87,2,    0.00,2,    1.34,2,   0.189,2,   0.081,2,   0.009,2,    0.04,2,  2175.2,2,  2330.5,2,   7.7399,2,    25.00,-999.000,9,-999.0000,9, -999.00,9,   3.1672,2, -999.00,9,  -999.0,9,  -999.0,-999.000,9,-999.000,-999.000,9, -999.00,9, -999.00,9, -999.00,9,  25.9850, -52.3321,-999.000,-999.0000, -999.00,   2.9698,   3.1672,2,    35.1341,2,  -999.0,9,     -999.0,9,     -999.0,9,     -999.0,9,       1548
33AT20120419,        A20,      46,          1,          9,          9,2,20120502,       1450,    25.9857,   -52.3324,       5196,  2698.3,   2.9879,  34.9540,2,  34.9534,2,    249.7,2,   249.3,2,   30.06,2,   20.16,2,    0.00,2,    1.36,2,-999.000,9,-999.000,9,-999.000,9, -999.00,9,  -999.0,9,  -999.0,9,-999.0000,9,  -999.00,-999.000,9,-999.0000,9, -999.00,9,   2.9881,2, -999.00,9,  -999.0,9,  -999.0,-999.000,9,-999.000,-999.000,9, -999.00,9, -999.00,9, -999.00,9,  25.9851, -52.3321,-999.000,-999.0000, -999.00,   2.7684,   2.9881,2,    35.1183,2,  -999.0,9,     -999.0,9,     -999.0,9,     -999.0,9,       1542
33AT20120419,        A20,      46,          1,          8,          8,2,20120502,       1450,    25.9857,   -52.3324,       5196,  2953.2,   2.7997,  34.9375,2,  34.9363,2,    249.9,2,   250.6,2,   32.63,2,   20.39,2,    0.00,2,    1.38,2,   0.069,2,   0.026,2,   0.009,2,    0.03,2,  2178.6,2,  2333.9,6,   7.7400,2,    25.00,-999.000,9,-999.0000,9, -999.00,9,   2.7992,2, -999.00,9,  -999.0,9,  -999.0,-999.000,9,-999.000,-999.000,9, -999.00,9, -999.00,9, -999.00,9,  25.9850, -52.3321,-999.000,-999.0000, -999.00,   2.5581,   2.7992,2,    35.1011,2,  -999.0,9,     -999.0,9,     -999.0,9,     -999.0,9,       1537
33AT20120419,        A20,      46,          1,          7,          7,2,20120502,       1450,    25.9857,   -52.3324,       5196,  3243.4,   2.6417,  34.9237,2,  34.9225,2,    252.0,2,   252.6,2,   34.46,2,   20.41,2,    0.00,2,    1.38,2,-999.000,9,-999.000,9,-999.000,9, -999.00,9,  -999.0,9,  -999.0,9,-999.0000,9,  -999.00,-999.000,9,-999.0000,9, -999.00,9,   2.6414,2, -999.00,9,  -999.0,9,  -999.0,-999.000,9,-999.000,-999.000,9, -999.00,9, -999.00,9, -999.00,9,  25.9850, -52.3321,-999.000,-999.0000, -999.00,   2.3733,   2.6414,2,    35.0872,2,  -999.0,9,     -999.0,9,     -999.0,9,     -999.0,9,       1531