BOTTLE,20220712CCHSIOCBG
EXPOCODE,SECT_ID,STNNBR,CASTNO,SAMPNO,BTLNBR,BTLNBR_FLAG_W,DATE,TIME,LATITUDE,LONGITUDE,DEPTH,CTDPRS,CTDTMP,CTDSAL,CTDSAL_FLAG_W,SALNTY,SALNTY_FLAG_W,CTDOXY,CTDOXY_FLAG_W,OXYGEN,OXYGEN_FLAG_W,SILCAT,SILCAT_FLAG_W,NITRAT,NITRAT_FLAG_W,NITRIT,NITRIT_FLAG_W,PHSPHT,PHSPHT_FLAG_W,CFC-11,CFC-11_FLAG_W,CFC-12,CFC-12_FLAG_W,CFC113,CFC113_FLAG_W,SF6,SF6_FLAG_W,TCARBN,TCARBN_FLAG_W,ALKALI,ALKALI_FLAG_W,PH_TOT,PH_TOT_FLAG_W,PH_TMP,TRITUM,TRITUM_FLAG_W,HELIUM,HELIUM_FLAG_W,DELHE3,DELHE3_FLAG_W,REFTMP,REFTMP_FLAG_W,DELC13,DELC13_FLAG_W,DELC14,DELC14_FLAG_W,C14ERR,NEON,NEON_FLAG_W,NEONER,CCL4,CCL4_FLAG_W,DELO18,DELO18_FLAG_W,DOC,DOC_FLAG_W,TDN,TDN_FLAG_W,BTL_LAT,BTL_LON,TRITER,HELIER,DELHER,THETA,SBE35,SBE35_FLAG_W,SALTREF,SALTREF_FLAG_W,14C-DOC,14C-DOC_FLAG_W,DELO17,DELO17_FLAG_W,O2/AR,O2/AR_FLAG_W,SIP,SIP_FLAG_W,BTL_TIME
,,,,,,,,,,,METERS,DBAR,ITS-90,PSS-78,,PSS-78,,UMOL/KG,,UMOL/KG,,UMOL/KG,,UMOL/KG,,UMOL/KG,,UMOL/KG,,PMOL/KG,,PMOL/KG,,PMOL/KG,,FMOL/KG,,UMOL/KG,,UMOL/KG,,,,DEG C,TU,,NMOL/KG,,PERCNT,,DEG C,,/MILLE,,/MILLE,,/MILLE,NMOL/KG,,NMOL/KG,PMOL/KG,,/MILLE,,UMOL/KG,,UMOL/KG,,,,TU,NMOL/KG,PERCNT,DEG C,ITS-90,,G/KG,,/MILLE,,/MILLE,,,,,,
33AT20120419,        A20,      59,          1,          6,          6,2,20120506,       2345,    35.7482,   -52.5048,       5354,  3963.2,   2.4315,  34.9021,2,  34.9020,2,    264.4,2,   264.6,2,   28.97,2,   18.75,2,    0.00,2,    1.28,2,   0.589,2,   0.336,2,   0.034,2,    0.00,3,  2171.4,2,  2326.5,2,   7.7364,2,    25.00,-999.000,9,-999.0000,9, -999.00,9,   2.4317,2, -999.00,9,  -999.0,9,  -999.0,-999.000,9,-999.000,   0.460,2, -999.00,9,   42.37,2,   20.66,2,  35.7480, -52.5050,-999.000,-999.0000, -999.00,   2.0893,   2.4317,2,    35.0666,2,  -999.0,9,     -999.0,9,     -999.0,9,     -999.0,9,       0014
33AT20120419,        A20,      59,          1,          5,          5,2,20120506,       2345,    35.7482,   -52.5048,       5354,  4271.4,   2.2973,  34.8895,2,  34.8896,2,    262.7,2,   263.3,2,   32.93,2,   19.22,2,    0.00,2,    1.31,2,   0.597,2,   0.340,2,   0.039,2,    0.00,3,  -999.0,9,  -999.0,9,-999.0000,9,  -999.00,-999.000,9,-999.0000,9, -999.00,9,   2.2969,2, -999.00,9,  -999.0,9,  -999.0,-999.000,9,-999.000,   0.470,2, -999.00,9,   42.17,2,   21.37,2,  35.7480, -52.5049,-999.000,-999.0000, -999.00,   1.9233,   2.2969,2,    35.0541,2,  -999.0,9,     -999.0,9,     -999.0,9,     -999.0,9,       0008
33AT20120419,        A20,      59,          1,          4,          4,2,20120506,       2345,    35.7482,   -52.5048,       5354,  4576.2,   2.2239,  34.8792,2,  34.8796,2,    259.8,2,   260.0,2,   38.24,2,   20.02,2,    0.00,2,    1.37,2,   0.473,2,   0.279,2,   0.034,2,    0.00,3,  2184.1,2,  2332.4,2,   7.7300,2,    25.00,-999.000,9,-999.0000,9, -999.00,9,   2.2236,2, -999.00,9,  -999.0,9,  -999.0,-999.000,9,-999.000,   0.360,2, -999.00,9,   42.71,2,   21.98,2,  35.7481, -52.5049,-999.000,-999.0000, -999.00,   1.8160,   2.2236,2,    35.0441,2,  -999.0,9,     -999.0,9,     -999.0,9,     -999.0,9,       0002
33AT20120419,        A20,      59,          1,          3,          3,2,20120506,       2345,    35.7482,   -52.5048,       5354,  4884.0,   2.2019,  34.8726,2,  34.8729,2,    256.0,2,   256.9,2,   42.09,2,   20.65,2,    0.00,2,    1.41,2,   0.353,2,   0.219,2,   0.026,2,    0.00,3,  -999.0,9,  -999.0,9,-999.0000,9,  -999.00,-999.000,9,-999.0000,9, -999.00,9,   2.2013,2, -999.00,9,  -999.0,9,  -999.0,-999.000,9,-999.000,   0.290,2, -999.00,9,   41.81,2,   22.61,2,  35.7482, -52.5048,-999.000,-999.0000, -999.00,   1.7570,   2.2013,2,    35.0373,2,  -999.0,9,     -999.0,9,     -999.0,9,     -999.0,9,       2356
33AT20120419,        A20,      59,          1,          2,          2,2,20120506,       2345,    35.7482,   -52.5048,       5354,  5179.9,   2.1854,  34.8666,2,  34.8670,2,    254.2,2,   255.0,2,   45.36,2,   21.17,2,    0.00,2,    1.44,2,   0.262,2,   0.168,2,   0.020,2,    0.00,3,  2192.4,2,  2340.1,2,   7.7251,6,    25.00,-999.000,9,-999.0000,9, -999.00,9,   2.1850,2, -999.00,9,  -999.0,9,  -999.0,-999.000,9,-999.000,   0.230,2, -999.00,9,   41.23,2,   23.45,2,  35.7482, -52.5048,-999.000,-999.0000, -999.00,   1.7039,   2.1850,2,    35.0314,2,  -999.0,9,     -999.0,9,     -999.0,9,     -999.0,9,       2351
33AT20120419,        A20,      59,          1,          1,          1,2,20120506,       2345,    35.7482,   -52.5048,       5354,  5447.2,   2.1897,  34.8629,2,  34.8637,2,    253.5,2,   252.9,2,   47.68,2,   21.55,2,    0.00,2,    1.47,2,   0.192,2,   0.124,2,   0.017,2,    0.00,3,  2195.5,6,  2342.8,2,   7.7236,2,    25.00,-999.000,9,-999.0000,9, -999.00,9,   2.1895,2, -999.00,9,  -999.0,9,  -999.0,-999.000,9,-999.000,   0.200,2, -999.00,9,   42.35,2,   23.68,2,  35.7482, -52.5048,-999.000,-999.0000, -999.00,   1.6735,   2.1895,2,    35.0281,2,  -999.0,9,     -999.0,9,     -999.0,9,     -999.0,9,       2345