BOTTLE,20220712CCHSIOCBG
EXPOCODE,SECT_ID,STNNBR,CASTNO,SAMPNO,BTLNBR,BTLNBR_FLAG_W,DATE,TIME,LATITUDE,LONGITUDE,DEPTH,CTDPRS,CTDTMP,CTDSAL,CTDSAL_FLAG_W,SALNTY,SALNTY_FLAG_W,CTDOXY,CTDOXY_FLAG_W,OXYGEN,OXYGEN_FLAG_W,SILCAT,SILCAT_FLAG_W,NITRAT,NITRAT_FLAG_W,NITRIT,NITRIT_FLAG_W,PHSPHT,PHSPHT_FLAG_W,CFC-11,CFC-11_FLAG_W,CFC-12,CFC-12_FLAG_W,CFC113,CFC113_FLAG_W,SF6,SF6_FLAG_W,TCARBN,TCARBN_FLAG_W,ALKALI,ALKALI_FLAG_W,PH_TOT,PH_TOT_FLAG_W,PH_TMP,TRITUM,TRITUM_FLAG_W,HELIUM,HELIUM_FLAG_W,DELHE3,DELHE3_FLAG_W,REFTMP,REFTMP_FLAG_W,DELC13,DELC13_FLAG_W,DELC14,DELC14_FLAG_W,C14ERR,NEON,NEON_FLAG_W,NEONER,CCL4,CCL4_FLAG_W,DELO18,DELO18_FLAG_W,DOC,DOC_FLAG_W,TDN,TDN_FLAG_W,BTL_LAT,BTL_LON,TRITER,HELIER,DELHER,THETA,SBE35,SBE35_FLAG_W,SALTREF,SALTREF_FLAG_W,14C-DOC,14C-DOC_FLAG_W,DELO17,DELO17_FLAG_W,O2/AR,O2/AR_FLAG_W,SIP,SIP_FLAG_W,BTL_TIME
,,,,,,,,,,,METERS,DBAR,ITS-90,PSS-78,,PSS-78,,UMOL/KG,,UMOL/KG,,UMOL/KG,,UMOL/KG,,UMOL/KG,,UMOL/KG,,PMOL/KG,,PMOL/KG,,PMOL/KG,,FMOL/KG,,UMOL/KG,,UMOL/KG,,,,DEG C,TU,,NMOL/KG,,PERCNT,,DEG C,,/MILLE,,/MILLE,,/MILLE,NMOL/KG,,NMOL/KG,PMOL/KG,,/MILLE,,UMOL/KG,,UMOL/KG,,,,TU,NMOL/KG,PERCNT,DEG C,ITS-90,,G/KG,,/MILLE,,/MILLE,,,,,,
33AT20120419,        A20,      12,          1,         26,         26,2,20120422,       1521,     8.1069,   -52.9241,       1510,     3.3,  28.1577,  26.2248,2,  26.2261,2,    235.3,2,   235.1,2,   16.05,2,    0.00,2,    0.00,2,    0.03,2,   1.689,2,   1.078,2,   0.137,2,    1.05,2,  1492.9,2,  1818.6,2,   8.2909,2,    25.00,-999.000,9,-999.0000,9, -999.00,9,  28.1765,2, -999.00,9,  -999.0,9,  -999.0,-999.000,9,-999.000,-999.000,9, -999.00,9, -999.00,9, -999.00,9,   8.1060, -52.9248,-999.000,-999.0000, -999.00,  28.1569,  28.1765,2,    26.3498,2,  -999.0,9,     -999.0,9,     -999.0,9,     -999.0,9,       1636
33AT20120419,        A20,      12,          1,         25,         25,2,20120422,       1521,     8.1069,   -52.9241,       1510,    35.2,  27.1252,  36.1340,2,  36.1324,2,    198.7,2,   197.3,2,    0.67,2,    0.00,2,    0.00,2,    0.04,2,-999.000,9,-999.000,9,-999.000,9, -999.00,9,  2020.0,2,  2367.8,2,   8.0905,2,    25.00,-999.000,9,-999.0000,9, -999.00,9,  27.1252,2, -999.00,9,  -999.0,9,  -999.0,-999.000,9,-999.000,-999.000,9, -999.00,9, -999.00,9, -999.00,9,   8.1061, -52.9248,-999.000,-999.0000, -999.00,  27.1171,  27.1252,2,    36.3027,2,  -999.0,9,     -999.0,9,     -999.0,9,     -999.0,9,       1633
33AT20120419,        A20,      12,          1,         24,         24,2,20120422,       1521,     8.1069,   -52.9241,       1510,    60.0,  26.5318,  36.2448,2,  36.2457,2,    201.9,2,   200.9,2,    0.55,2,    0.00,2,    0.00,2,    0.04,2,   1.649,2,   1.031,2,   0.159,2,    1.14,2,  2028.0,2,  2373.2,2,   8.0853,2,    25.00,-999.000,9,-999.0000,9, -999.00,9,  26.5391,2, -999.00,9,  -999.0,9,  -999.0,-999.000,9,-999.000,-999.000,9, -999.00,9, -999.00,9, -999.00,9,   8.1061, -52.9248,-999.000,-999.0000, -999.00,  26.5182,  26.5391,2,    36.4167,2,  -999.0,9,     -999.0,9,     -999.0,9,     -999.0,9,       1630
33AT20120419,        A20,      12,          1,         23,         23,2,20120422,       1521,     8.1069,   -52.9241,       1510,    84.8,  26.0043,  36.2338,2,  36.2394,2,    201.3,2,   196.3,2,    0.60,2,    0.06,2,    0.08,2,    0.06,2,   1.662,2,   1.069,2,   0.143,2,    1.07,2,  -999.0,9,  -999.0,9,-999.0000,9,  -999.00,-999.000,9,-999.0000,9, -999.00,9,  26.0064,2, -999.00,9,  -999.0,9,  -999.0,-999.000,9,-999.000,-999.000,9, -999.00,9, -999.00,9, -999.00,9,   8.1061, -52.9248,-999.000,-999.0000, -999.00,  25.9853,  26.0064,2,    36.4103,2,  -999.0,9,     -999.0,9,     -999.0,9,     -999.0,9,       1627
33AT20120419,        A20,      12,          1,         22,         22,2,20120422,       1521,     8.1069,   -52.9241,       1510,   109.7,  20.9201,  36.5017,2,  36.4925,2,    125.1,2,   123.9,2,    2.47,2,    9.17,2,    0.06,2,    0.55,2,   1.944,2,   1.182,2,   0.081,2,    0.79,2,  2158.8,2,  2387.5,2,   7.8751,2,    25.00,-999.000,9,-999.0000,9, -999.00,9,  20.9174,2, -999.00,9,  -999.0,9,  -999.0,-999.000,9,-999.000,-999.000,9, -999.00,9, -999.00,9, -999.00,9,   8.1062, -52.9247,-999.000,-999.0000, -999.00,  20.8990,  20.9174,2,    36.6646,2,  -999.0,9,     -999.0,9,     -999.0,9,     -999.0,9,       1624
33AT20120419,        A20,      12,          1,         21,         21,2,20120422,       1521,     8.1069,   -52.9241,       1510,   134.3,  16.9425,  36.1055,2,  36.0920,2,    122.4,2,   121.7,2,    4.63,2,   15.12,2,    0.01,2,    0.94,2,   2.073,2,   1.228,2,   0.022,2,    0.71,2,  -999.0,9,  -999.0,9,-999.0000,9,  -999.00,-999.000,9,-999.0000,9, -999.00,9,  16.9397,2, -999.00,9,  -999.0,9,  -999.0,-999.000,9,-999.000,-999.000,9, -999.00,9, -999.00,9, -999.00,9,   8.1062, -52.9247,-999.000,-999.0000, -999.00,  16.9202,  16.9397,2,    36.2622,2,  -999.0,9,     -999.0,9,     -999.0,9,     -999.0,9,       1622
33AT20120419,        A20,      12,          1,         20,         20,2,20120422,       1521,     8.1069,   -52.9241,       1510,   160.0,  15.4344,  35.8738,2,  35.8635,2,    120.0,2,   119.4,2,    5.85,2,   17.68,2,    0.01,2,    1.10,2,-999.000,9,-999.000,9,-999.000,9, -999.00,9,  2179.4,2,  2350.3,2,   7.7617,6,    25.00,-999.000,9,-999.0000,9, -999.00,9,  15.4365,2, -999.00,9,  -999.0,9,  -999.0,-999.000,9,-999.000,-999.000,9, -999.00,9, -999.00,9, -999.00,9,   8.1062, -52.9247,-999.000,-999.0000, -999.00,  15.4095,  15.4365,2,    36.0326,2,  -999.0,9,     -999.0,9,     -999.0,9,     -999.0,9,       1620
33AT20120419,        A20,      12,          1,         19,         19,2,20120422,       1521,     8.1069,   -52.9241,       1510,   185.6,  13.3208,  35.5000,2,  35.4931,2,    113.6,2,   114.3,2,    8.01,2,   21.49,2,    0.01,2,    1.38,2,   2.002,2,   1.092,2,   0.023,2,    0.48,2,  -999.0,9,  -999.0,9,-999.0000,9,  -999.00,-999.000,9,-999.0000,9, -999.00,9,  13.3202,2, -999.00,9,  -999.0,9,  -999.0,-999.000,9,-999.000,-999.000,9, -999.00,9, -999.00,9, -999.00,9,   8.1062, -52.9247,-999.000,-999.0000, -999.00,  13.2947,  13.3202,2,    35.6605,2,  -999.0,9,     -999.0,9,     -999.0,9,     -999.0,9,       1617
33AT20120419,        A20,      12,          1,         18,         18,2,20120422,       1521,     8.1069,   -52.9241,       1510,   210.0,  12.0575,  35.2961,2,  35.2629,2,    108.0,2,   108.7,2,    9.71,2,   24.36,2,    0.00,2,    1.57,2,   1.892,2,   1.002,2,   0.022,2,    0.45,2,  2193.5,6,  2319.2,2,   7.6583,6,    25.00,-999.000,9,-999.0000,9, -999.00,9,  12.0592,2, -999.00,9,  -999.0,9,  -999.0,-999.000,9,-999.000,-999.000,9, -999.00,9, -999.00,9, -999.00,9,   8.1063, -52.9246,-999.000,-999.0000, -999.00,  12.0299,  12.0592,2,    35.4292,2,  -999.0,9,     -999.0,9,     -999.0,9,     -999.0,9,       1615
33AT20120419,        A20,      12,          1,         17,         17,2,20120422,       1521,     8.1069,   -52.9241,       1510,   235.1,  11.1588,  35.1544,2,  35.1473,2,    106.8,2,   109.1,2,   10.71,2,   25.66,2,    0.00,2,    1.66,2,   1.825,2,   0.994,2,   0.020,2,    0.45,2,  -999.0,9,  -999.0,9,-999.0000,9,  -999.00,-999.000,9,-999.0000,9, -999.00,9,  11.1522,2, -999.00,9,  -999.0,9,  -999.0,-999.000,9,-999.000,-999.000,9, -999.00,9, -999.00,9, -999.00,9,   8.1063, -52.9246,-999.000,-999.0000, -999.00,  11.1294,  11.1522,2,    35.3130,2,  -999.0,9,     -999.0,9,     -999.0,9,     -999.0,9,       1613
33AT20120419,        A20,      12,          1,         16,         16,2,20120422,       1521,     8.1069,   -52.9241,       1510,   265.0,  10.3714,  35.0303,2,  35.0258,2,    113.1,2,   116.4,2,   11.85,2,   26.40,2,    0.00,2,    1.72,2,   1.783,2,   0.973,2,   0.020,2,    0.41,2,  -999.0,9,  -999.0,9,-999.0000,9,  -999.00,-999.000,9,-999.0000,9, -999.00,9,  10.3671,2, -999.00,9,  -999.0,9,  -999.0,-999.000,9,-999.000,-999.000,9, -999.00,9, -999.00,9, -999.00,9,   8.1064, -52.9246,-999.000,-999.0000, -999.00,  10.3398,  10.3671,2,    35.1909,2,  -999.0,9,     -999.0,9,     -999.0,9,     -999.0,9,       1611
33AT20120419,        A20,      12,          1,         15,         15,2,20120422,       1521,     8.1069,   -52.9241,       1510,   316.2,   9.6167,  34.9395,2,  34.9378,2,    122.1,2,   122.2,2,   13.25,2,   27.23,2,    0.00,2,    1.79,2,-999.000,9,-999.000,9,-999.000,9, -999.00,9,  -999.0,9,  -999.0,9,-999.0000,9,  -999.00,-999.000,9,-999.0000,9, -999.00,9,   9.6164,2, -999.00,9,  -999.0,9,  -999.0,-999.000,9,-999.000,-999.000,9, -999.00,9, -999.00,9, -999.00,9,   8.1064, -52.9245,-999.000,-999.0000, -999.00,   9.5807,   9.6164,2,    35.1026,2,  -999.0,9,     -999.0,9,     -999.0,9,     -999.0,9,       1608
33AT20120419,        A20,      12,          1,         14,         14,2,20120422,       1521,     8.1069,   -52.9241,       1510,   366.8,   8.8501,  34.8387,2,  34.8365,2,    123.3,2,   123.2,2,   14.86,2,   28.79,2,    0.00,2,    1.88,2,   1.551,2,   0.800,2,   0.031,2,    0.25,2,  2199.0,2,  2301.9,2,   7.6023,2,    25.00,-999.000,9,-999.0000,9, -999.00,9,   8.8481,2, -999.00,9,  -999.0,9,  -999.0,-999.000,9,-999.000,-999.000,9, -999.00,9, -999.00,9, -999.00,9,   8.1064, -52.9245,-999.000,-999.0000, -999.00,   8.8103,   8.8481,2,    35.0008,2,  -999.0,9,     -999.0,9,     -999.0,9,     -999.0,9,       1605
33AT20120419,        A20,      12,          1,         13,         13,2,20120422,       1521,     8.1069,   -52.9241,       1510,   417.1,   8.1699,  34.7651,2,  35.2477,4,    120.5,2,   123.0,2,    9.13,4,   21.32,4,    0.02,4,    1.42,4,   1.350,2,   0.700,2,   0.027,2,    0.32,2,  -999.0,9,  -999.0,9,-999.0000,9,  -999.00,-999.000,9,-999.0000,9, -999.00,9,   8.1723,2, -999.00,9,  -999.0,9,  -999.0,-999.000,9,-999.000,-999.000,9, -999.00,9, -999.00,9, -999.00,9,   8.1065, -52.9245,-999.000,-999.0000, -999.00,   8.1267,   8.1723,2,    35.4139,4,  -999.0,9,     -999.0,9,     -999.0,9,     -999.0,9,       1603
33AT20120419,        A20,      12,          1,         12,         12,2,20120422,       1521,     8.1069,   -52.9241,       1510,   466.1,   7.6250,  34.6974,2,  34.6948,2,    119.3,2,   119.7,2,   18.32,2,   31.99,2,    0.00,2,    2.10,2,   1.123,2,   0.536,2,   0.013,2,    0.15,2,  2209.2,2,  2298.2,6,   7.5610,2,    25.00,-999.000,9,-999.0000,9, -999.00,9,   7.6236,2, -999.00,9,  -999.0,9,  -999.0,-999.000,9,-999.000,-999.000,9, -999.00,9, -999.00,9, -999.00,9,   8.1065, -52.9245,-999.000,-999.0000, -999.00,   7.5785,   7.6236,2,    34.8584,2,  -999.0,9,     -999.0,9,     -999.0,9,     -999.0,9,       1600
33AT20120419,        A20,      12,          1,         11,         11,2,20120422,       1521,     8.1069,   -52.9241,       1510,   537.8,   7.0940,  34.6634,2,  34.6604,2,    124.5,2,   124.9,2,   19.94,2,   32.49,2,    0.00,2,    2.15,2,   0.953,2,   0.462,2,   0.025,2,    0.20,2,  -999.0,9,  -999.0,9,-999.0000,9,  -999.00,-999.000,9,-999.0000,9, -999.00,9,   7.0957,2, -999.00,9,  -999.0,9,  -999.0,-999.000,9,-999.000,-999.000,9, -999.00,9, -999.00,9, -999.00,9,   8.1066, -52.9244,-999.000,-999.0000, -999.00,   7.0423,   7.0957,2,    34.8238,2,  -999.0,9,     -999.0,9,     -999.0,9,     -999.0,9,       1556
33AT20120419,        A20,      12,          1,         10,         10,2,20120422,       1521,     8.1069,   -52.9241,       1510,   638.5,   6.3192,  34.6058,2,  34.6062,2,    129.2,2,   129.5,2,   23.11,2,   33.56,2,    0.00,2,    2.25,2,-999.000,9,-999.000,9,-999.000,9, -999.00,9,  -999.0,9,  -999.0,9,-999.0000,9,  -999.00,-999.000,9,-999.0000,9, -999.00,9,   6.3098,2, -999.00,9,  -999.0,9,  -999.0,-999.000,9,-999.000,-999.000,9, -999.00,9, -999.00,9, -999.00,9,   8.1066, -52.9243,-999.000,-999.0000, -999.00,   6.2611,   6.3098,2,    34.7693,2,  -999.0,9,     -999.0,9,     -999.0,9,     -999.0,9,       1553
33AT20120419,        A20,      12,          1,          9,          9,2,20120422,       1521,     8.1069,   -52.9241,       1510,   739.6,   5.8302,  34.6159,2,  34.6148,2,    130.7,2,   129.6,2,   25.51,2,   34.15,2,    0.00,2,    2.29,2,   0.396,2,   0.185,2,   0.010,2,    0.00,2,  2217.5,2,  2300.7,2,   7.5470,2,    25.00,-999.000,9,-999.0000,9, -999.00,9,   5.8308,2, -999.00,9,  -999.0,9,  -999.0,-999.000,9,-999.000,-999.000,9, -999.00,9, -999.00,9, -999.00,9,   8.1067, -52.9243,-999.000,-999.0000, -999.00,   5.7652,   5.8308,2,    34.7780,2,  -999.0,9,     -999.0,9,     -999.0,9,     -999.0,9,       1549
33AT20120419,        A20,      12,          1,          8,          8,2,20120422,       1521,     8.1069,   -52.9241,       1510,   840.7,   5.2091,  34.5997,2,  34.5981,2,    144.6,2,   140.4,2,   27.90,2,   33.84,2,    0.00,2,    2.29,2,   0.298,2,   0.128,2,   0.008,2,    0.00,2,  -999.0,9,  -999.0,9,-999.0000,9,  -999.00,-999.000,9,-999.0000,9, -999.00,9,   5.2080,2, -999.00,9,  -999.0,9,  -999.0,-999.000,9,-999.000,-999.000,9, -999.00,9, -999.00,9, -999.00,9,   8.1067, -52.9242,-999.000,-999.0000, -999.00,   5.1385,   5.2080,2,    34.7613,2,  -999.0,9,     -999.0,9,     -999.0,9,     -999.0,9,       1546
33AT20120419,        A20,      12,          1,          7,          7,2,20120422,       1521,     8.1069,   -52.9241,       1510,   941.1,   5.1223,  34.6828,2,  34.6775,2,    144.7,2,   142.8,2,   27.84,2,   32.91,2,    0.00,2,    2.24,2,   0.133,2,   0.058,2,   0.003,2,    0.04,2,  2217.5,2,  2307.1,2,   7.5670,2,    25.00,-999.000,9,-999.0000,9, -999.00,9,   5.1182,2, -999.00,9,  -999.0,9,  -999.0,-999.000,9,-999.000,-999.000,9, -999.00,9, -999.00,9, -999.00,9,   8.1068, -52.9242,-999.000,-999.0000, -999.00,   5.0431,   5.1182,2,    34.8410,2,  -999.0,9,     -999.0,9,     -999.0,9,     -999.0,9,       1543
33AT20120419,        A20,      12,          1,          6,          6,2,20120422,       1521,     8.1069,   -52.9241,       1510,  1042.1,   5.0083,  34.7413,2,  34.7406,2,    153.0,2,   155.0,2,   26.74,2,   31.07,2,    0.00,2,    2.12,2,   0.146,2,   0.061,2,   0.003,2,    0.06,2,  2211.2,2,  2308.5,2,   7.5895,6,    25.00,-999.000,9,-999.0000,9, -999.00,9,   5.0014,2, -999.00,9,  -999.0,9,  -999.0,-999.000,9,-999.000,-999.000,9, -999.00,9, -999.00,9, -999.00,9,   8.1068, -52.9241,-999.000,-999.0000, -999.00,   4.9207,   5.0014,2,    34.9044,2,  -999.0,9,     -999.0,9,     -999.0,9,     -999.0,9,       1540
33AT20120419,        A20,      12,          1,          5,          5,2,20120422,       1521,     8.1069,   -52.9241,       1510,  1144.8,   5.2806,  34.9231,2,  34.9233,2,    178.4,2,   182.9,2,   20.89,2,   25.78,2,    0.00,2,    1.75,2,-999.000,9,-999.000,9,-999.000,9, -999.00,9,  2193.1,2,  2316.7,2,   7.6537,2,    25.00,-999.000,9,-999.0000,9, -999.00,9,   5.2804,2, -999.00,9,  -999.0,9,  -999.0,-999.000,9,-999.000,-999.000,9, -999.00,9, -999.00,9, -999.00,9,   8.1068, -52.9241,-999.000,-999.0000, -999.00,   5.1808,   5.2804,2,    35.0879,2,  -999.0,9,     -999.0,9,     -999.0,9,     -999.0,9,       1537
33AT20120419,        A20,      12,          1,          4,          4,2,20120422,       1521,     8.1069,   -52.9241,       1510,  1245.5,   4.9157,  34.9955,2,  34.9957,2,    212.0,2,   215.7,2,   16.86,2,   21.73,2,    0.00,2,    1.47,2,   0.843,2,   0.385,2,   0.034,2,    0.22,2,  -999.0,9,  -999.0,9,-999.0000,9,  -999.00,-999.000,9,-999.0000,9, -999.00,9,   4.9156,2, -999.00,9,  -999.0,9,  -999.0,-999.000,9,-999.000,-999.000,9, -999.00,9, -999.00,9, -999.00,9,   8.1069, -52.9241,-999.000,-999.0000, -999.00,   4.8095,   4.9156,2,    35.1607,2,  -999.0,9,     -999.0,9,     -999.0,9,     -999.0,9,       1534
33AT20120419,        A20,      12,          1,          3,          3,2,20120422,       1521,     8.1069,   -52.9241,       1510,  1344.7,   4.5919,  35.0072,2,  35.0075,2,    233.7,2,   234.6,2,   14.86,2,   19.78,2,    0.00,2,    1.35,2,   1.167,2,   0.571,2,   0.051,2,    0.25,2,  2167.8,2,  2314.0,2,   7.7156,2,    25.00,-999.000,9,-999.0000,9, -999.00,9,   4.5946,2, -999.00,9,  -999.0,9,  -999.0,-999.000,9,-999.000,-999.000,9, -999.00,9, -999.00,9, -999.00,9,   8.1069, -52.9241,-999.000,-999.0000, -999.00,   4.4796,   4.5946,2,    35.1726,2,  -999.0,9,     -999.0,9,     -999.0,9,     -999.0,9,       1530
33AT20120419,        A20,      12,          1,          2,          2,2,20120422,       1521,     8.1069,   -52.9241,       1510,  1446.7,   4.4344,  35.0032,2,  34.9969,2,    242.2,2,   242.1,2,   14.38,2,   19.15,2,    0.00,2,    1.30,2,   1.287,2,   0.643,2,   0.052,2,    0.25,2,  -999.0,9,  -999.0,9,-999.0000,9,  -999.00,-999.000,9,-999.0000,9, -999.00,9,   4.4343,2, -999.00,9,  -999.0,9,  -999.0,-999.000,9,-999.000,-999.000,9, -999.00,9, -999.00,9, -999.00,9,   8.1069, -52.9241,-999.000,-999.0000, -999.00,   4.3142,   4.4343,2,    35.1619,2,  -999.0,9,     -999.0,9,     -999.0,9,     -999.0,9,       1526
33AT20120419,        A20,      12,          1,          1,          1,2,20120422,       1521,     8.1069,   -52.9241,       1510,  1510.1,   4.3012,  34.9984,2,  34.9988,2,    246.6,2,   246.7,2,   14.13,2,   18.83,2,    0.00,2,    1.29,2,   1.342,2,   0.660,2,   0.063,2,    0.28,2,  2164.3,2,  2313.8,2,   7.7245,2,    25.00,-999.000,9,-999.0000,9, -999.00,9,   4.3008,2, -999.00,9,  -999.0,9,  -999.0,-999.000,9,-999.000,-999.000,9, -999.00,9, -999.00,9, -999.00,9,   8.1069, -52.9241,-999.000,-999.0000, -999.00,   4.1766,   4.3008,2,    35.1639,2,  -999.0,9,     -999.0,9,     -999.0,9,     -999.0,9,       1522