BOTTLE,20220712CCHSIOCBG
EXPOCODE,SECT_ID,STNNBR,CASTNO,SAMPNO,BTLNBR,BTLNBR_FLAG_W,DATE,TIME,LATITUDE,LONGITUDE,DEPTH,CTDPRS,CTDTMP,CTDSAL,CTDSAL_FLAG_W,SALNTY,SALNTY_FLAG_W,CTDOXY,CTDOXY_FLAG_W,OXYGEN,OXYGEN_FLAG_W,SILCAT,SILCAT_FLAG_W,NITRAT,NITRAT_FLAG_W,NITRIT,NITRIT_FLAG_W,PHSPHT,PHSPHT_FLAG_W,CFC-11,CFC-11_FLAG_W,CFC-12,CFC-12_FLAG_W,CFC113,CFC113_FLAG_W,SF6,SF6_FLAG_W,TCARBN,TCARBN_FLAG_W,ALKALI,ALKALI_FLAG_W,PH_TOT,PH_TOT_FLAG_W,PH_TMP,TRITUM,TRITUM_FLAG_W,HELIUM,HELIUM_FLAG_W,DELHE3,DELHE3_FLAG_W,REFTMP,REFTMP_FLAG_W,DELC13,DELC13_FLAG_W,DELC14,DELC14_FLAG_W,C14ERR,NEON,NEON_FLAG_W,NEONER,CCL4,CCL4_FLAG_W,DELO18,DELO18_FLAG_W,DOC,DOC_FLAG_W,TDN,TDN_FLAG_W,BTL_LAT,BTL_LON,TRITER,HELIER,DELHER,THETA,SBE35,SBE35_FLAG_W,SALTREF,SALTREF_FLAG_W,14C-DOC,14C-DOC_FLAG_W,DELO17,DELO17_FLAG_W,O2/AR,O2/AR_FLAG_W,SIP,SIP_FLAG_W,BTL_TIME
,,,,,,,,,,,METERS,DBAR,ITS-90,PSS-78,,PSS-78,,UMOL/KG,,UMOL/KG,,UMOL/KG,,UMOL/KG,,UMOL/KG,,UMOL/KG,,PMOL/KG,,PMOL/KG,,PMOL/KG,,FMOL/KG,,UMOL/KG,,UMOL/KG,,,,DEG C,TU,,NMOL/KG,,PERCNT,,DEG C,,/MILLE,,/MILLE,,/MILLE,NMOL/KG,,NMOL/KG,PMOL/KG,,/MILLE,,UMOL/KG,,UMOL/KG,,,,TU,NMOL/KG,PERCNT,DEG C,ITS-90,,G/KG,,/MILLE,,/MILLE,,,,,,
33AT20120419,        A20,      31,          1,         36,         36,2,20120427,       1441,    15.4063,   -52.3336,       5211,     4.8,  26.5570,  36.0157,2,  36.0169,2,    204.1,2,   204.1,2,    1.07,2,    0.00,2,    0.00,2,    0.00,2,   1.532,2,   0.979,2,   0.121,2,    0.81,3,  2007.2,6,  2364.3,2,   8.1108,2,    25.00,-999.000,9,-999.0000,9, -999.00,9,  26.5550,2, -999.00,9,  -999.0,9,  -999.0,-999.000,9,-999.000,   1.040,2, -999.00,9,    78.3,2,    4.63,2,  15.4047, -52.3329,-999.000,-999.0000, -999.00,  26.5559,  26.5550,2,    36.1867,2,  -999.0,9,     -999.0,9,     -999.0,9,     -999.0,9,       1656
33AT20120419,        A20,      31,          1,         35,         35,2,20120427,       1441,    15.4063,   -52.3336,       5211,    21.2,  26.4907,  36.0136,2,  36.0139,2,    204.1,2,   203.6,2,    1.02,2,    0.00,2,    0.00,2,    0.00,2,   1.535,2,   0.970,2,   0.116,2,    0.97,3,  2008.9,2,  2363.8,2,   8.1109,2,    25.00,-999.000,9,-999.0000,9, -999.00,9,  26.4911,2, -999.00,9,  -999.0,9,  -999.0,-999.000,9,-999.000,   1.020,2, -999.00,9,   78.13,2,    5.07,2,  15.4046, -52.3328,-999.000,-999.0000, -999.00,  26.4859,  26.4911,2,    36.1838,2,  -999.0,9,     -999.0,9,     -999.0,9,     -999.0,9,       1654
33AT20120419,        A20,      31,          1,         34,         34,2,20120427,       1441,    15.4063,   -52.3336,       5211,    40.8,  25.9364,  36.5270,2,  36.5490,2,    210.7,2,   208.6,2,    0.70,2,    0.00,2,    0.00,2,    0.00,2,   1.598,2,   1.018,2,   0.116,2,    1.41,3,  2032.5,2,  2396.2,2,   8.1124,6,    25.00,-999.000,9,-999.0000,9, -999.00,9,  25.9246,2, -999.00,9,  -999.0,9,  -999.0,-999.000,9,-999.000,   0.910,2, -999.00,9,   73.37,2,    4.54,2,  15.4045, -52.3327,-999.000,-999.0000, -999.00,  25.9273,  25.9246,2,    36.7213,2,  -999.0,9,     -999.0,9,     -999.0,9,     -999.0,9,       1652
33AT20120419,        A20,      31,          1,         33,         33,2,20120427,       1441,    15.4063,   -52.3336,       5211,    65.8,  25.2870,  36.7924,2,  36.7915,2,    210.7,2,   209.6,2,    0.48,2,    0.01,2,    0.00,2,    0.00,2,   1.644,2,   1.033,2,   0.119,2,    1.38,3,  2044.4,2,  2411.7,2,   8.1116,2,    25.00,-999.000,9,-999.0000,9, -999.00,9,  25.2848,2, -999.00,9,  -999.0,9,  -999.0,-999.000,9,-999.000,   0.950,2, -999.00,9,   66.35,2,    4.89,2,  15.4044, -52.3327,-999.000,-999.0000, -999.00,  25.2725,  25.2848,2,    36.9650,2,  -999.0,9,     -999.0,9,     -999.0,9,     -999.0,9,       1649
33AT20120419,        A20,      31,          1,         32,         32,2,20120427,       1441,    15.4063,   -52.3336,       5211,    91.0,  25.0372,  36.9683,2,  36.9690,2,    206.7,2,   205.6,2,    0.33,2,    0.01,2,    0.00,2,    0.00,2,   1.641,2,   1.023,2,   0.119,2,    1.28,3,  -999.0,9,  -999.0,9,-999.0000,9,  -999.00,-999.000,9,-999.0000,9, -999.00,9,  25.0390,2, -999.00,9,  -999.0,9,  -999.0,-999.000,9,-999.000,   0.870,2, -999.00,9,   63.47,2,    4.51,2,  15.4043, -52.3326,-999.000,-999.0000, -999.00,  25.0173,  25.0390,2,    37.1433,2,  -999.0,9,     -999.0,9,     -999.0,9,     -999.0,9,       1647
33AT20120419,        A20,      31,          1,         31,         31,2,20120427,       1441,    15.4063,   -52.3336,       5211,   135.4,  22.5722,  37.0861,2,  37.0663,2,    161.1,2,   157.6,2,    0.77,2,    2.75,2,    0.05,2,    0.15,2,   1.814,2,   1.114,2,   0.091,2,    0.97,3,  2143.3,2,  2424.7,2,   7.9691,2,    25.00,-999.000,9,-999.0000,9, -999.00,9,  22.6049,2, -999.00,9,  -999.0,9,  -999.0,-999.000,9,-999.000,   0.280,2, -999.00,9,   59.38,2,    6.77,2,  15.4043, -52.3326,-999.000,-999.0000, -999.00,  22.5447,  22.6049,2,    37.2411,2,  -999.0,9,     -999.0,9,     -999.0,9,     -999.0,9,       1644
33AT20120419,        A20,      31,          1,         30,         30,2,20120427,       1441,    15.4063,   -52.3336,       5211,   186.1,  19.0548,  36.5684,2,  36.5867,2,    134.7,2,   136.6,2,    2.40,2,    9.36,2,    0.02,2,    0.55,2,   1.966,2,   1.168,2,   0.023,2,    1.16,3,  2168.3,2,  2393.7,2,   7.8727,2,    25.00,-999.000,9,-999.0000,9, -999.00,9,  19.0438,2, -999.00,9,  -999.0,9,  -999.0,-999.000,9,-999.000,   0.170,2, -999.00,9,   54.83,2,   13.18,2,  15.4043, -52.3326,-999.000,-999.0000, -999.00,  19.0212,  19.0438,2,    36.7592,2,  -999.0,9,     -999.0,9,     -999.0,9,     -999.0,9,       1642
33AT20120419,        A20,      31,          1,         29,         29,2,20120427,       1441,    15.4063,   -52.3336,       5211,   236.6,  16.5810,  36.2305,2,  36.2237,2,    139.7,2,   137.3,2,    3.64,2,   12.94,2,    0.01,2,    0.78,2,   2.047,2,   1.171,2,   0.018,2,    0.59,3,  2170.8,2,  2371.5,2,   7.8296,2,    25.00,-999.000,9,-999.0000,9, -999.00,9,  16.5848,2, -999.00,9,  -999.0,9,  -999.0,-999.000,9,-999.000,   0.180,2, -999.00,9,   50.05,2,   16.71,2,  15.4044, -52.3327,-999.000,-999.0000, -999.00,  16.5422,  16.5848,2,    36.3945,2,  -999.0,9,     -999.0,9,     -999.0,9,     -999.0,9,       1640
33AT20120419,        A20,      31,          1,         28,         28,2,20120427,       1441,    15.4063,   -52.3336,       5211,   287.0,  14.2879,  35.8247,2,  35.8444,2,    121.0,2,   120.6,2,    6.05,2,   18.17,2,    0.01,2,    1.12,2,   1.925,2,   1.080,2,   0.014,2,    0.70,3,  -999.0,9,  -999.0,9,-999.0000,9,  -999.00,-999.000,9,-999.0000,9, -999.00,9,  14.3210,2, -999.00,9,  -999.0,9,  -999.0,-999.000,9,-999.000,   0.150,2, -999.00,9,   47.11,2,   20.86,2,  15.4045, -52.3327,-999.000,-999.0000, -999.00,  14.2454,  14.3210,2,    36.0135,2,  -999.0,9,     -999.0,9,     -999.0,9,     -999.0,9,       1637
33AT20120419,        A20,      31,          1,         27,         27,2,20120427,       1441,    15.4063,   -52.3336,       5211,   337.6,  13.1818,  35.6611,2,  35.6555,2,    114.5,2,   114.7,2,    7.53,2,   20.73,2,    0.01,2,    1.28,2,   1.794,2,   0.986,2,   0.015,2,    0.00,3,  2193.0,2,  2340.9,2,   7.7163,2,    25.00,-999.000,9,-999.0000,9, -999.00,9,  13.1850,2, -999.00,9,  -999.0,9,  -999.0,-999.000,9,-999.000,   0.150,2, -999.00,9,   46.02,2,   23.72,2,  15.4046, -52.3328,-999.000,-999.0000, -999.00,  13.1344,  13.1850,2,    35.8236,2,  -999.0,9,     -999.0,9,     -999.0,9,     -999.0,9,       1635
33AT20120419,        A20,      31,          1,         26,         26,2,20120427,       1441,    15.4063,   -52.3336,       5211,   386.8,  12.2865,  35.5197,2,  35.5227,2,    110.1,2,   110.8,2,    8.85,2,   22.68,2,    0.01,2,    1.40,2,   1.601,2,   0.863,2,   0.013,2,    0.00,3,  2197.0,2,  2333.6,2,   7.6886,2,    25.00,-999.000,9,-999.0000,9, -999.00,9,  12.2842,2, -999.00,9,  -999.0,9,  -999.0,-999.000,9,-999.000,   0.140,2, -999.00,9,   45.36,2,   26.81,2,  15.4046, -52.3328,-999.000,-999.0000, -999.00,  12.2346,  12.2842,2,    35.6902,2,  -999.0,9,     -999.0,9,     -999.0,9,     -999.0,9,       1633
33AT20120419,        A20,      31,          1,         25,         25,2,20120427,       1441,    15.4063,   -52.3336,       5211,   468.0,  10.2895,  35.2234,2,  35.2252,2,    110.1,2,   111.3,2,   12.73,2,   26.63,2,    0.01,2,    1.69,2,   1.144,2,   0.612,2,   0.010,2,    0.00,3,  2205.7,2,  2321.8,2,   7.6385,2,    25.00,-999.000,9,-999.0000,9, -999.00,9,  10.2796,2, -999.00,9,  -999.0,9,  -999.0,-999.000,9,-999.000,   0.160,2, -999.00,9,   44.65,2,   29.59,2,  15.4047, -52.3329,-999.000,-999.0000, -999.00,  10.2333,  10.2796,2,    35.3913,2,  -999.0,9,     -999.0,9,     -999.0,9,     -999.0,9,       1631
33AT20120419,        A20,      31,          1,         24,         24,2,20120427,       1441,    15.4063,   -52.3336,       5211,   568.2,   8.4930,  34.9884,2,  34.9883,2,    115.2,2,   115.2,2,   17.03,2,   29.68,2,    0.00,2,    1.92,2,   0.729,2,   0.398,2,   0.008,2,    0.00,3,  -999.0,9,  -999.0,9,-999.0000,9,  -999.00,-999.000,9,-999.0000,9, -999.00,9,   8.4980,2, -999.00,9,  -999.0,9,  -999.0,-999.000,9,-999.000,   0.160,2, -999.00,9,   43.74,2,   32.58,2,  15.4048, -52.3329,-999.000,-999.0000, -999.00,   8.4321,   8.4980,2,    35.1533,2,  -999.0,9,     -999.0,9,     -999.0,9,     -999.0,9,       1628
33AT20120419,        A20,      31,          1,         23,         23,2,20120427,       1441,    15.4063,   -52.3336,       5211,   669.3,   7.2144,  34.8229,2,  34.8219,2,    119.9,2,   120.5,2,   20.71,2,   31.74,2,    0.00,2,    2.09,2,   0.471,2,   0.262,2,   0.006,2,    0.00,3,  2216.8,2,  2310.0,2,   7.5757,2,    25.00,-999.000,9,-999.0000,9, -999.00,9,   7.2148,2, -999.00,9,  -999.0,9,  -999.0,-999.000,9,-999.000,   0.160,2, -999.00,9,   42.96,2,   34.04,2,  15.4048, -52.3329,-999.000,-999.0000, -999.00,   7.1487,   7.2148,2,    34.9861,2,  -999.0,9,     -999.0,9,     -999.0,9,     -999.0,9,       1625
33AT20120419,        A20,      31,          1,         22,         22,2,20120427,       1441,    15.4063,   -52.3336,       5211,   770.1,   6.3708,  34.7428,2,  34.7413,2,    125.1,2,   125.5,2,   23.53,2,   32.74,2,    0.00,2,    2.18,2,   0.271,2,   0.159,2,   0.004,2,    0.00,3,  2219.0,6,  2308.2,2,   7.5639,2,    25.00,-999.000,9,-999.0000,9, -999.00,9,   6.3719,2, -999.00,9,  -999.0,9,  -999.0,-999.000,9,-999.000,   0.130,2, -999.00,9,   41.36,2,   35.02,2,  15.4049, -52.3330,-999.000,-999.0000, -999.00,   6.2996,   6.3719,2,    34.9052,2,  -999.0,9,     -999.0,9,     -999.0,9,     -999.0,9,       1622
33AT20120419,        A20,      31,          1,         21,         21,2,20120427,       1441,    15.4063,   -52.3336,       5211,   871.0,   5.8353,  34.7304,2,  34.7293,2,    131.5,2,   130.9,2,   25.44,2,   32.84,2,    0.00,2,    2.21,2,   0.137,2,   0.084,2,   0.003,2,    0.00,3,  2221.1,2,  2309.2,2,   7.5630,6,    25.00,-999.000,9,-999.0000,9, -999.00,9,   5.8357,2, -999.00,9,  -999.0,9,  -999.0,-999.000,9,-999.000,   0.090,2, -999.00,9,   40.12,2,   35.29,2,  15.4051, -52.3331,-999.000,-999.0000, -999.00,   5.7577,   5.8357,2,    34.8931,2,  -999.0,9,     -999.0,9,     -999.0,9,     -999.0,9,       1619
33AT20120419,        A20,      31,          1,         20,         20,2,20120427,       1441,    15.4063,   -52.3336,       5211,   972.5,   5.5798,  34.7780,2,  34.7758,2,    143.0,2,   141.2,2,   25.24,2,   31.55,2,    0.00,2,    2.13,2,   0.096,2,   0.060,2,   0.002,2,    0.00,3,  -999.0,9,  -999.0,9,-999.0000,9,  -999.00,-999.000,9,-999.0000,9, -999.00,9,   5.5802,2, -999.00,9,  -999.0,9,  -999.0,-999.000,9,-999.000,   0.080,2, -999.00,9,   40.41,2,   33.52,2,  15.4053, -52.3332,-999.000,-999.0000, -999.00,   5.4943,   5.5802,2,    34.9397,2,  -999.0,9,     -999.0,9,     -999.0,9,     -999.0,9,       1617
33AT20120419,        A20,      31,          1,         19,         19,2,20120427,       1441,    15.4063,   -52.3336,       5211,  1072.1,   5.4441,  34.8529,2,  34.8477,2,    155.8,2,   155.1,2,   23.85,2,   29.36,2,    0.00,2,    1.98,2,   0.118,2,   0.071,2,   0.003,2,    0.00,3,  -999.0,9,  -999.0,9,-999.0000,9,  -999.00,-999.000,9,-999.0000,9, -999.00,9,   5.4449,2, -999.00,9,  -999.0,9,  -999.0,-999.000,9,-999.000,   0.090,2, -999.00,9,   40.49,2,   31.67,2,  15.4055, -52.3334,-999.000,-999.0000, -999.00,   5.3500,   5.4449,2,    35.0121,2,  -999.0,9,     -999.0,9,     -999.0,9,     -999.0,9,       1614
33AT20120419,        A20,      31,          1,         18,         18,2,20120427,       1441,    15.4063,   -52.3336,       5211,  1173.9,   5.2768,  34.9240,2,  34.9213,2,    173.1,2,   173.2,2,   21.66,2,   26.75,2,    0.00,2,    1.81,2,   0.155,2,   0.092,2,   0.008,2,    0.00,3,  2202.1,2,  2319.4,6,   7.6429,2,    25.00,-999.000,9,-999.0000,9, -999.00,9,   5.2789,2, -999.00,9,  -999.0,9,  -999.0,-999.000,9,-999.000,   0.150,2, -999.00,9,   40.37,2,   29.67,2,  15.4057, -52.3334,-999.000,-999.0000, -999.00,   5.1743,   5.2789,2,    35.0860,2,  -999.0,9,     -999.0,9,     -999.0,9,     -999.0,9,       1611
33AT20120419,        A20,      31,          1,         17,         17,2,20120427,       1441,    15.4063,   -52.3336,       5211,  1275.9,   5.1016,  34.9671,2,  34.9668,2,    192.8,2,   193.6,2,   19.61,2,   24.13,2,    0.00,2,    1.64,2,   0.305,2,   0.168,2,   0.009,2,    0.00,3,  -999.0,9,  -999.0,9,-999.0000,9,  -999.00,-999.000,9,-999.0000,9, -999.00,9,   5.1000,2, -999.00,9,  -999.0,9,  -999.0,-999.000,9,-999.000,   0.240,2, -999.00,9,   40.28,2,   26.30,2,  15.4058, -52.3335,-999.000,-999.0000, -999.00,   4.9908,   5.1000,2,    35.1316,2,  -999.0,9,     -999.0,9,     -999.0,9,     -999.0,9,       1609
33AT20120419,        A20,      31,          1,         16,         16,2,20120427,       1441,    15.4063,   -52.3336,       5211,  1377.0,   4.8880,  34.9901,2,  34.9894,2,    207.2,2,   208.2,2,   18.22,2,   22.54,2,    0.00,2,    1.53,2,   0.382,2,   0.208,2,   0.013,2,    0.00,3,  2184.7,2,  2318.9,2,   7.6915,2,    25.00,-999.000,9,-999.0000,9, -999.00,9,   4.8878,2, -999.00,9,  -999.0,9,  -999.0,-999.000,9,-999.000,   0.320,2, -999.00,9,   40.68,2,   25.03,2,  15.4059, -52.3335,-999.000,-999.0000, -999.00,   4.7696,   4.8878,2,    35.1544,2,  -999.0,9,     -999.0,9,     -999.0,9,     -999.0,9,       1606
33AT20120419,        A20,      31,          1,         15,         15,2,20120427,       1441,    15.4063,   -52.3336,       5211,  1548.7,   4.4868,  34.9975,2,  34.9975,2,    224.5,2,   227.8,2,   16.97,2,   20.73,2,    0.00,2,    1.41,2,   0.437,2,   0.233,2,   0.016,2,    0.00,3,  2175.0,2,  2318.2,2,   7.7129,2,    25.00,-999.000,9,-999.0000,9, -999.00,9,   4.4848,2, -999.00,9,  -999.0,9,  -999.0,-999.000,9,-999.000,   0.410,2, -999.00,9,   40.86,2,   23.26,2,  15.4058, -52.3335,-999.000,-999.0000, -999.00,   4.3564,   4.4848,2,    35.1625,2,  -999.0,9,     -999.0,9,     -999.0,9,     -999.0,9,       1602
33AT20120419,        A20,      31,          1,         14,         14,2,20120427,       1441,    15.4063,   -52.3336,       5211,  1751.4,   4.0564,  34.9903,2,  34.9904,2,    245.5,2,   245.1,2,   16.28,2,   19.22,2,    0.00,2,    1.31,2,   0.532,2,   0.285,2,   0.021,2,    0.00,3,  2166.7,2,  2317.1,2,   7.7291,2,    25.00,-999.000,9,-999.0000,9, -999.00,9,   4.0557,2, -999.00,9,  -999.0,9,  -999.0,-999.000,9,-999.000,   0.530,2, -999.00,9,   40.35,2,   22.66,2,  15.4058, -52.3335,-999.000,-999.0000, -999.00,   3.9120,   4.0557,2,    35.1554,2,  -999.0,9,     -999.0,9,     -999.0,9,     -999.0,9,       1557
33AT20120419,        A20,      31,          1,         13,         13,2,20120427,       1441,    15.4063,   -52.3336,       5211,  1954.2,   3.6550,  34.9783,2,  34.9792,2,    249.2,2,   251.5,2,   18.55,2,   18.95,2,    0.00,2,    1.29,2,   0.347,2,   0.187,2,   0.013,2,    0.00,3,  2166.2,2,  2320.4,2,   7.7367,2,    25.00,-999.000,9,-999.0000,9, -999.00,9,   3.6562,2, -999.00,9,  -999.0,9,  -999.0,-999.000,9,-999.000,   0.410,2, -999.00,9,   40.29,2,   21.73,2,  15.4058, -52.3335,-999.000,-999.0000, -999.00,   3.4969,   3.6562,2,    35.1441,2,  -999.0,9,     -999.0,9,     -999.0,9,     -999.0,9,       1552
33AT20120419,        A20,      31,          1,         12,         12,2,20120427,       1441,    15.4063,   -52.3336,       5211,  2186.7,   3.4068,  34.9686,2,  34.9686,2,    252.2,2,   252.1,2,   21.19,2,   19.07,2,    0.00,2,    1.30,2,   0.219,2,   0.124,2,   0.008,2,    0.00,3,  2166.0,2,  2322.6,2,   7.7415,2,    25.00,-999.000,9,-999.0000,9, -999.00,9,   3.4084,2, -999.00,9,  -999.0,9,  -999.0,-999.000,9,-999.000,   0.300,2, -999.00,9,   40.01,2,   22.53,2,  15.4055, -52.3333,-999.000,-999.0000, -999.00,   3.2302,   3.4084,2,    35.1335,2,  -999.0,9,     -999.0,9,     -999.0,9,     -999.0,9,       1547
33AT20120419,        A20,      31,          1,         11,         11,2,20120427,       1441,    15.4063,   -52.3336,       5211,  2440.3,   3.0742,  34.9510,2,  34.9507,2,    256.8,2,   256.8,2,   22.92,2,   18.75,2,    0.00,2,    1.28,2,   0.267,2,   0.149,2,   0.011,2,    0.00,3,  2166.0,2,  2322.8,2,   7.7426,2,    25.00,-999.000,9,-999.0000,9, -999.00,9,   3.0753,2, -999.00,9,  -999.0,9,  -999.0,-999.000,9,-999.000,   0.360,2, -999.00,9,   40.66,2,   22.67,2,  15.4052, -52.3332,-999.000,-999.0000, -999.00,   2.8787,   3.0753,2,    35.1155,2,  -999.0,9,     -999.0,9,     -999.0,9,     -999.0,9,       1542
33AT20120419,        A20,      31,          1,         10,         10,2,20120427,       1441,    15.4063,   -52.3336,       5211,  2696.0,   2.8827,  34.9383,2,  34.9377,2,    254.4,2,   253.7,2,   28.06,2,   19.48,2,    0.00,2,    1.34,2,   0.159,2,   0.089,2,   0.005,2,    0.00,3,  -999.0,9,  -999.0,9,-999.0000,9,  -999.00,-999.000,9,-999.0000,9, -999.00,9,   2.8823,2, -999.00,9,  -999.0,9,  -999.0,-999.000,9,-999.000,   0.230,2, -999.00,9,   40.45,2,   22.64,2,  15.4051, -52.3331,-999.000,-999.0000, -999.00,   2.6655,   2.8823,2,    35.1025,2,  -999.0,9,     -999.0,9,     -999.0,9,     -999.0,9,       1537
33AT20120419,        A20,      31,          1,          9,          9,2,20120427,       1441,    15.4063,   -52.3336,       5211,  2950.9,   2.7555,  34.9288,2,  34.9281,2,    252.8,2,   251.9,2,   31.74,2,   19.95,2,    0.00,2,    1.38,2,   0.112,2,   0.065,2,   0.004,2,    0.00,3,  2175.4,2,  2332.6,2,   7.7381,2,    25.00,-999.000,9,-999.0000,9, -999.00,9,   2.7553,2, -999.00,9,  -999.0,9,  -999.0,-999.000,9,-999.000,   0.180,2, -999.00,9,   40.58,2,   22.49,2,  15.4051, -52.3331,-999.000,-999.0000, -999.00,   2.5151,   2.7553,2,    35.0928,2,  -999.0,9,     -999.0,9,     -999.0,9,     -999.0,9,       1531
33AT20120419,        A20,      31,          1,          8,          8,2,20120427,       1441,    15.4063,   -52.3336,       5211,  3242.3,   2.6213,  34.9179,2,  34.9171,2,    251.3,2,   251.3,2,   35.13,2,   20.32,2,    0.00,2,    1.41,2,   0.095,2,   0.056,2,   0.005,2,    0.00,3,  2180.0,2,  2334.7,2,   7.7359,2,    25.00,-999.000,9,-999.0000,9, -999.00,9,   2.6214,2, -999.00,9,  -999.0,9,  -999.0,-999.000,9,-999.000,   0.150,2, -999.00,9,   40.21,2,   22.41,2,  15.4057, -52.3334,-999.000,-999.0000, -999.00,   2.3535,   2.6214,2,    35.0817,2,  -999.0,9,     -999.0,9,     -999.0,9,     -999.0,9,       1525
33AT20120419,        A20,      31,          1,          7,          7,2,20120427,       1441,    15.4063,   -52.3336,       5211,  3548.0,   2.4821,  34.9071,2,  34.9059,2,    255.8,2,   256.4,2,   33.81,2,   19.73,2,    0.00,2,    1.37,2,   0.221,2,   0.123,2,   0.010,2,    0.00,3,  2175.9,2,  2331.9,2,   7.7411,2,    25.00,-999.000,9,-999.0000,9, -999.00,9,   2.4821,2, -999.00,9,  -999.0,9,  -999.0,-999.000,9,-999.000,   0.290,2, -999.00,9,   40.23,2,   23.37,2,  15.4062, -52.3336,-999.000,-999.0000, -999.00,   2.1849,   2.4821,2,    35.0705,2,  -999.0,9,     -999.0,9,     -999.0,9,     -999.0,9,       1519