BOTTLE,20220712CCHSIOCBG
EXPOCODE,SECT_ID,STNNBR,CASTNO,SAMPNO,BTLNBR,BTLNBR_FLAG_W,DATE,TIME,LATITUDE,LONGITUDE,DEPTH,CTDPRS,CTDTMP,CTDSAL,CTDSAL_FLAG_W,SALNTY,SALNTY_FLAG_W,CTDOXY,CTDOXY_FLAG_W,OXYGEN,OXYGEN_FLAG_W,SILCAT,SILCAT_FLAG_W,NITRAT,NITRAT_FLAG_W,NITRIT,NITRIT_FLAG_W,PHSPHT,PHSPHT_FLAG_W,CFC-11,CFC-11_FLAG_W,CFC-12,CFC-12_FLAG_W,CFC113,CFC113_FLAG_W,SF6,SF6_FLAG_W,TCARBN,TCARBN_FLAG_W,ALKALI,ALKALI_FLAG_W,PH_TOT,PH_TOT_FLAG_W,PH_TMP,TRITUM,TRITUM_FLAG_W,HELIUM,HELIUM_FLAG_W,DELHE3,DELHE3_FLAG_W,REFTMP,REFTMP_FLAG_W,DELC13,DELC13_FLAG_W,DELC14,DELC14_FLAG_W,C14ERR,NEON,NEON_FLAG_W,NEONER,CCL4,CCL4_FLAG_W,DELO18,DELO18_FLAG_W,DOC,DOC_FLAG_W,TDN,TDN_FLAG_W,BTL_LAT,BTL_LON,TRITER,HELIER,DELHER,THETA,SBE35,SBE35_FLAG_W,SALTREF,SALTREF_FLAG_W,14C-DOC,14C-DOC_FLAG_W,DELO17,DELO17_FLAG_W,O2/AR,O2/AR_FLAG_W,SIP,SIP_FLAG_W,BTL_TIME
,,,,,,,,,,,METERS,DBAR,ITS-90,PSS-78,,PSS-78,,UMOL/KG,,UMOL/KG,,UMOL/KG,,UMOL/KG,,UMOL/KG,,UMOL/KG,,PMOL/KG,,PMOL/KG,,PMOL/KG,,FMOL/KG,,UMOL/KG,,UMOL/KG,,,,DEG C,TU,,NMOL/KG,,PERCNT,,DEG C,,/MILLE,,/MILLE,,/MILLE,NMOL/KG,,NMOL/KG,PMOL/KG,,/MILLE,,UMOL/KG,,UMOL/KG,,,,TU,NMOL/KG,PERCNT,DEG C,ITS-90,,G/KG,,/MILLE,,/MILLE,,,,,,
33AT20120419,        A20,      31,          1,          6,          6,2,20120427,       1441,    15.4063,   -52.3336,       5211,  3855.1,   2.3715,  34.8969,2,  34.8966,2,    255.3,2,   257.6,2,   35.61,2,   19.77,2,    0.00,2,    1.37,2,   0.242,2,   0.133,2,   0.014,2,    0.00,3,  2178.0,2,  2332.8,6,   7.7383,2,    25.00,-999.000,9,-999.0000,9, -999.00,9,   2.3716,2, -999.00,9,  -999.0,9,  -999.0,-999.000,9,-999.000,   0.330,2, -999.00,9,   40.52,2,   23.14,2,  15.4064, -52.3337,-999.000,-999.0000, -999.00,   2.0432,   2.3716,2,    35.0612,2,  -999.0,9,     -999.0,9,     -999.0,9,     -999.0,9,       1513
33AT20120419,        A20,      31,          1,          5,          5,2,20120427,       1441,    15.4063,   -52.3336,       5211,  4161.7,   2.2767,  34.8880,2,  34.8876,2,    257.9,2,   258.5,2,   37.08,2,   19.79,2,    0.00,2,    1.38,2,   0.285,2,   0.157,2,   0.018,2,    0.00,3,  2178.8,2,  2332.6,2,   7.7320,2,    25.00,-999.000,9,-999.0000,9, -999.00,9,   2.2766,2, -999.00,9,  -999.0,9,  -999.0,-999.000,9,-999.000,   0.380,2, -999.00,9,   40.33,2,   23.57,2,  15.4063, -52.3337,-999.000,-999.0000, -999.00,   1.9161,   2.2766,2,    35.0521,2,  -999.0,9,     -999.0,9,     -999.0,9,     -999.0,9,       1507
33AT20120419,        A20,      31,          1,          4,          4,2,20120427,       1441,    15.4063,   -52.3336,       5211,  4469.2,   2.2014,  34.8783,2,  34.8770,2,    257.3,2,   257.4,2,   40.37,2,   20.17,2,    0.00,2,    1.41,2,   0.286,2,   0.161,2,   0.018,2,    0.00,3,  -999.0,9,  -999.0,9,-999.0000,9,  -999.00,-999.000,9,-999.0000,9, -999.00,9,   2.2011,2, -999.00,9,  -999.0,9,  -999.0,-999.000,9,-999.000,   0.380,2, -999.00,9,   40.41,2,   24.22,2,  15.4063, -52.3336,-999.000,-999.0000, -999.00,   1.8070,   2.2011,2,    35.0414,2,  -999.0,9,     -999.0,9,     -999.0,9,     -999.0,9,       1501
33AT20120419,        A20,      31,          1,          3,          3,2,20120427,       1441,    15.4063,   -52.3336,       5211,  4777.2,   2.0273,  34.8538,2,  34.8534,2,    250.7,2,   250.8,2,   51.83,2,   21.91,2,    0.00,2,    1.52,2,   0.211,2,   0.124,2,   0.013,2,    0.00,3,  2195.6,2,  2342.1,2,   7.7149,6,    25.00,-999.000,9,-999.0000,9, -999.00,9,   2.0277,2, -999.00,9,  -999.0,9,  -999.0,-999.000,9,-999.000,   0.280,2, -999.00,9,   40.84,2,   25.60,2,  15.4061, -52.3336,-999.000,-999.0000, -999.00,   1.6014,   2.0277,2,    35.0177,2,  -999.0,9,     -999.0,9,     -999.0,9,     -999.0,9,       1454
33AT20120419,        A20,      31,          1,          2,          2,2,20120427,       1441,    15.4063,   -52.3336,       5211,  5086.0,   1.8888,  34.8331,2,  34.8318,2,    245.6,2,   245.4,2,   61.29,2,   23.36,2,    0.00,2,    1.63,2,   0.173,2,   0.102,2,   0.009,2,    0.00,3,  -999.0,9,  -999.0,9,-999.0000,9,  -999.00,-999.000,9,-999.0000,9, -999.00,9,   1.8887,2, -999.00,9,  -999.0,9,  -999.0,-999.000,9,-999.000,   0.230,2, -999.00,9,   40.94,2,   26.59,2,  15.4059, -52.3335,-999.000,-999.0000, -999.00,   1.4296,   1.8887,2,    34.9960,2,  -999.0,9,     -999.0,9,     -999.0,9,     -999.0,9,       1448
33AT20120419,        A20,      31,          1,          1,          1,2,20120427,       1441,    15.4063,   -52.3336,       5211,  5343.4,   1.9049,  34.8310,2,  34.8308,2,    244.6,2,   244.7,2,   62.12,2,   23.50,2,    0.00,2,    1.63,2,   0.171,2,   0.096,2,   0.014,2,    0.00,3,  2207.7,6,  2347.1,2,   7.7046,2,    25.00,-999.000,9,-999.0000,9, -999.00,9,   1.9051,2, -999.00,9,  -999.0,9,  -999.0,-999.000,9,-999.000,   0.250,2, -999.00,9,   40.44,2,   26.78,2,  15.4062, -52.3336,-999.000,-999.0000, -999.00,   1.4125,   1.9051,2,    34.9950,2,  -999.0,9,     -999.0,9,     -999.0,9,     -999.0,9,       1442