BOTTLE,20220712CCHSIOCBG
EXPOCODE,SECT_ID,STNNBR,CASTNO,SAMPNO,BTLNBR,BTLNBR_FLAG_W,DATE,TIME,LATITUDE,LONGITUDE,DEPTH,CTDPRS,CTDTMP,CTDSAL,CTDSAL_FLAG_W,SALNTY,SALNTY_FLAG_W,CTDOXY,CTDOXY_FLAG_W,OXYGEN,OXYGEN_FLAG_W,SILCAT,SILCAT_FLAG_W,NITRAT,NITRAT_FLAG_W,NITRIT,NITRIT_FLAG_W,PHSPHT,PHSPHT_FLAG_W,CFC-11,CFC-11_FLAG_W,CFC-12,CFC-12_FLAG_W,CFC113,CFC113_FLAG_W,SF6,SF6_FLAG_W,TCARBN,TCARBN_FLAG_W,ALKALI,ALKALI_FLAG_W,PH_TOT,PH_TOT_FLAG_W,PH_TMP,TRITUM,TRITUM_FLAG_W,HELIUM,HELIUM_FLAG_W,DELHE3,DELHE3_FLAG_W,REFTMP,REFTMP_FLAG_W,DELC13,DELC13_FLAG_W,DELC14,DELC14_FLAG_W,C14ERR,NEON,NEON_FLAG_W,NEONER,CCL4,CCL4_FLAG_W,DELO18,DELO18_FLAG_W,DOC,DOC_FLAG_W,TDN,TDN_FLAG_W,BTL_LAT,BTL_LON,TRITER,HELIER,DELHER,THETA,SBE35,SBE35_FLAG_W,SALTREF,SALTREF_FLAG_W,14C-DOC,14C-DOC_FLAG_W,DELO17,DELO17_FLAG_W,O2/AR,O2/AR_FLAG_W,SIP,SIP_FLAG_W,BTL_TIME
,,,,,,,,,,,METERS,DBAR,ITS-90,PSS-78,,PSS-78,,UMOL/KG,,UMOL/KG,,UMOL/KG,,UMOL/KG,,UMOL/KG,,UMOL/KG,,PMOL/KG,,PMOL/KG,,PMOL/KG,,FMOL/KG,,UMOL/KG,,UMOL/KG,,,,DEG C,TU,,NMOL/KG,,PERCNT,,DEG C,,/MILLE,,/MILLE,,/MILLE,NMOL/KG,,NMOL/KG,PMOL/KG,,/MILLE,,UMOL/KG,,UMOL/KG,,,,TU,NMOL/KG,PERCNT,DEG C,ITS-90,,G/KG,,/MILLE,,/MILLE,,,,,,
33AT20120419,        A20,      47,          1,         36,         36,2,20120502,       2256,    26.7388,   -52.3326,       5395,     4.3,  23.5179,  37.0049,2,  37.0063,2,    214.3,2,   213.5,2,    0.47,2,    0.00,2,    0.00,2,    0.00,2,   1.776,2,   1.094,2,   0.138,2,    0.98,3,  2079.0,6,  2421.7,2,   8.0749,2,    25.00,-999.000,9,-999.0000,9, -999.00,9,  23.5172,2, -999.00,9,  -999.0,9,  -999.0,-999.000,9,-999.000,   1.220,2, -999.00,9,   74.93,2,    4.79,2,  26.7386, -52.3325,-999.000,-999.0000, -999.00,  23.5170,  23.5172,2,    37.1808,2,  -999.0,9,     -999.0,9,     -999.0,9,     -999.0,9,       0111
33AT20120419,        A20,      47,          1,         35,         35,2,20120502,       2256,    26.7388,   -52.3326,       5395,    25.0,  23.2108,  37.0229,2,  37.0241,2,    213.1,2,   214.9,2,    0.42,2,    0.00,2,    0.00,2,    0.00,2,-999.000,5,-999.000,5,-999.000,5, -999.00,5,  2080.8,2,  2422.4,2,   8.0748,6,    25.00,-999.000,9,-999.0000,9, -999.00,9,  23.2083,2,    1.00,2,    70.7,2,     2.8,-999.000,9,-999.000,-999.000,5, -999.00,9,   74.02,2,    3.85,2,  26.7386, -52.3324,-999.000,-999.0000, -999.00,  23.2056,  23.2083,2,    37.1987,2,  -999.0,1,     -999.0,9,     -999.0,9,     -999.0,9,       0109
33AT20120419,        A20,      47,          1,         34,         34,2,20120502,       2256,    26.7388,   -52.3326,       5395,    49.0,  22.6726,  37.0025,2,  37.0021,2,    217.7,2,   218.1,2,    0.42,2,    0.00,2,    0.00,2,    0.00,2,   1.833,2,   1.145,2,   0.134,2,    1.16,3,  2079.0,2,  2422.2,2,   8.0772,2,    25.00,-999.000,9,-999.0000,9, -999.00,9,  22.6716,2, -999.00,9,  -999.0,9,  -999.0,-999.000,9,-999.000,   1.150,2, -999.00,9,   69.14,2,    4.41,2,  26.7386, -52.3325,-999.000,-999.0000, -999.00,  22.6626,  22.6716,2,    37.1766,2,  -999.0,9,     -999.0,9,     -999.0,9,     -999.0,9,       0107
33AT20120419,        A20,      47,          1,         33,         33,2,20120502,       2256,    26.7388,   -52.3326,       5395,    73.0,  22.3878,  37.0058,2,  37.0063,2,    218.5,2,   218.8,2,    0.38,2,    0.00,2,    0.00,2,    0.00,2,   1.837,2,   1.146,2,   0.128,2,    0.91,3,  2078.7,2,  2421.7,2,   8.0777,2,    25.00,-999.000,9,-999.0000,9, -999.00,9,  22.3862,2, -999.00,9,  -999.0,9,  -999.0,-999.000,9,-999.000,   1.050,2, -999.00,9,   68.15,2,    3.33,2,  26.7386, -52.3324,-999.000,-999.0000, -999.00,  22.3731,  22.3862,2,    37.1808,2,  -999.0,9,     -999.0,9,     -999.0,9,     -999.0,9,       0105
33AT20120419,        A20,      47,          1,         32,         32,2,20120502,       2256,    26.7388,   -52.3326,       5395,   101.2,  21.5934,  36.8803,2,  36.8800,2,    216.9,2,   218.4,2,    0.36,2,    0.00,2,    0.00,2,    0.00,2,   1.894,2,   1.163,2,   0.134,2,    0.72,3,  2081.0,2,  -999.0,5,   8.0619,2,    25.00,-999.000,9,-999.0000,9, -999.00,9,  21.5892,2,    0.97,2,    70.0,2,     2.9,-999.000,9,-999.000,   1.010,2, -999.00,9,   67.41,2,    3.67,2,  26.7385, -52.3324,-999.000,-999.0000, -999.00,  21.5735,  21.5892,2,    37.0540,2,  -999.0,9,     -999.0,9,     -999.0,9,     -999.0,9,       0102
33AT20120419,        A20,      47,          1,         31,         31,2,20120502,       2256,    26.7388,   -52.3326,       5395,   151.4,  19.8121,  36.7595,2,  36.7616,2,    193.0,2,   194.2,2,    0.52,2,    0.32,2,    0.06,2,    0.00,2,   2.066,2,   1.294,2,   0.094,2,    1.02,3,  2119.5,2,  2404.2,2,   7.9880,2,    25.00,-999.000,9,-999.0000,9, -999.00,9,  19.8077,2,    0.71,2,    77.8,2,     3.6,-999.000,9,-999.000,   0.400,2, -999.00,9,   61.12,2,    3.91,2,  26.7385, -52.3324,-999.000,-999.0000, -999.00,  19.7840,  19.8077,2,    36.9349,2,  -999.0,9,     -999.0,9,     -999.0,9,     -999.0,9,       0058
33AT20120419,        A20,      47,          1,         30,         30,2,20120502,       2256,    26.7388,   -52.3326,       5395,   203.6,  18.3363,  36.5797,2,  36.5802,2,    194.7,2,   195.6,2,    0.94,2,    2.97,2,    0.02,2,    0.14,2,   2.184,2,   1.347,2,   0.040,2,    1.13,3,  2119.9,2,  2393.0,2,   7.9680,2,    25.00,-999.000,9,-999.0000,9, -999.00,9,  18.3337,2,    0.61,2,    67.0,2,     2.6,-999.000,9,-999.000,   0.270,2, -999.00,9,   56.68,2,    6.64,2,  26.7385, -52.3324,-999.000,-999.0000, -999.00,  18.3005,  18.3337,2,    36.7526,2,  -999.0,9,     -999.0,9,     -999.0,9,     -999.0,9,       0056
33AT20120419,        A20,      47,          1,         29,         29,2,20120502,       2256,    26.7388,   -52.3326,       5395,   252.4,  17.9393,  36.5389,2,  36.5395,2,    200.2,2,   200.5,2,    1.18,2,    3.86,2,    0.01,2,    0.19,2,   2.213,2,   1.373,2,   0.034,2,    0.80,3,  2118.4,2,  2389.9,2,   7.9667,2,    25.00,-999.000,9,-999.0000,9, -999.00,9,  17.9377,2,    0.57,2,    81.6,2,     2.7,-999.000,9,-999.000,   0.270,2, -999.00,9,   52.55,2,    7.80,2,  26.7385, -52.3324,-999.000,-999.0000, -999.00,  17.8956,  17.9377,2,    36.7118,2,  -999.0,9,     -999.0,9,     -999.0,9,     -999.0,9,       0054
33AT20120419,        A20,      47,          1,         28,         28,2,20120502,       2256,    26.7388,   -52.3326,       5395,   303.6,  17.6838,  36.5097,2,-999.0000,9,    203.5,2,   203.4,2,    1.33,2,    4.06,2,    0.01,2,    0.21,2,   2.224,2,   1.366,2,   0.039,2,    1.04,3,  2118.2,2,  2387.5,2,   7.9644,2,    25.00,-999.000,9,-999.0000,9, -999.00,9,  17.6810,2,    0.54,2,    72.4,2,     2.9,-999.000,9,-999.000,   0.300,2, -999.00,9,   50.58,2,    7.76,2,  26.7385, -52.3324,-999.000,-999.0000, -999.00,  17.6316,  17.6810,2,     -999.0,9,  -999.0,1,     -999.0,9,     -999.0,9,     -999.0,9,       0052
33AT20120419,        A20,      47,          1,         27,         27,2,20120502,       2256,    26.7388,   -52.3326,       5395,   351.8,  17.4106,  36.4667,2,  36.4654,2,    204.9,2,   203.9,2,    1.49,2,    4.53,2,    0.01,2,    0.25,2,   2.237,2,   1.373,2,   0.043,2,    1.09,3,  -999.0,9,  -999.0,9,-999.0000,9,  -999.00,-999.000,9,-999.0000,9, -999.00,9,  17.4081,2, -999.00,9,  -999.0,9,  -999.0,-999.000,9,-999.000,   0.320,2, -999.00,9,   49.23,2,    8.65,2,  26.7386, -52.3324,-999.000,-999.0000, -999.00,  17.3508,  17.4081,2,    36.6374,2,  -999.0,9,     -999.0,9,     -999.0,9,     -999.0,9,       0050
33AT20120419,        A20,      47,          1,         26,         26,2,20120502,       2256,    26.7388,   -52.3326,       5395,   401.7,  16.9180,  36.3736,2,  36.3783,2,    202.3,2,   200.9,2,    1.86,2,    5.60,2,    0.01,2,    0.32,2,   2.270,2,   1.377,2,   0.040,2,    1.01,3,  2123.9,2,  2380.6,2,   7.9420,6,    25.00,-999.000,9,-999.0000,9, -999.00,9,  16.9283,2,    0.67,2,    69.0,2,     3.2,-999.000,9,-999.000,   0.330,2, -999.00,9,   48.39,2,    8.90,2,  26.7386, -52.3325,-999.000,-999.0000, -999.00,  16.8509,  16.9283,2,    36.5498,2,  -999.0,9,     -999.0,9,     -999.0,9,     -999.0,9,       0048
33AT20120419,        A20,      47,          1,         25,         25,2,20120502,       2256,    26.7388,   -52.3326,       5395,   505.0,  15.2758,  36.0665,2,  36.0648,2,    186.1,2,   184.7,2,    3.33,2,    9.68,2,    0.01,2,    0.58,2,   2.281,2,   1.315,2,   0.030,2,    0.72,3,  2141.3,2,  2363.6,2,   7.8810,2,    25.00,-999.000,9,-999.0000,9, -999.00,9,  15.2668,2,   -0.25,4,    32.1,3,     3.1,-999.000,9,-999.000,   0.300,2, -999.00,9,   46.78,2,   13.57,2,  26.7386, -52.3325,-999.000,-999.0000, -999.00,  15.1970,  15.2668,2,    36.2349,2,  -999.0,9,     -999.0,9,     -999.0,9,     -999.0,9,       0045
33AT20120419,        A20,      47,          1,         24,         24,2,20120502,       2256,    26.7388,   -52.3326,       5395,   603.9,  13.5311,  35.7962,2,  35.7948,2,    170.2,2,   170.4,2,    5.40,2,   14.01,2,    0.01,2,    0.85,2,   2.129,2,   1.218,2,   0.030,2,    0.96,3,  2158.1,2,  2349.6,6,   7.8202,2,    25.00,-999.000,9,-999.0000,9, -999.00,9,  13.5615,2,    0.62,2,    52.3,2,     2.8,-999.000,9,-999.000,   0.250,2, -999.00,9,   45.06,2,   17.99,2,  26.7387, -52.3325,-999.000,-999.0000, -999.00,  13.4439,  13.5615,2,    35.9636,2,  -999.0,9,     -999.0,9,     -999.0,9,     -999.0,9,       0042
33AT20120419,        A20,      47,          1,         23,         23,2,20120502,       2256,    26.7388,   -52.3326,       5395,   708.5,  11.6064,  35.5375,2,  35.5325,2,    156.1,2,   156.5,2,    8.59,2,   18.94,2,    0.01,2,    1.16,2,   1.666,2,   0.907,2,   0.019,2,    0.32,3,  2175.1,2,  2335.8,2,   7.7558,2,    25.00,-999.000,9,-999.0000,9, -999.00,9,  11.5861,2,    0.60,2,    38.8,2,     3.8,-999.000,9,-999.000,   0.190,2, -999.00,9,   43.58,2,   22.01,2,  26.7387, -52.3326,-999.000,-999.0000, -999.00,  11.5135,  11.5861,2,    35.7001,2,  -999.0,1,     -999.0,9,     -999.0,9,     -999.0,9,       0039
33AT20120419,        A20,      47,          1,         22,         22,2,20120502,       2256,    26.7388,   -52.3326,       5395,   809.1,   9.6082,  35.2989,2,  35.2882,2,    150.5,2,   149.6,2,   12.71,2,   23.14,2,    0.01,2,    1.44,2,   1.001,2,   0.536,2,   0.010,2,    0.00,3,  2188.5,2,  2326.8,2,   7.7004,2,    25.00,-999.000,9,-999.0000,9, -999.00,9,   9.5881,2,    0.68,2,    -5.5,2,     3.4,-999.000,9,-999.000,   0.160,2, -999.00,9,   42.87,2,   25.97,2,  26.7388, -52.3326,-999.000,-999.0000, -999.00,   9.5133,   9.5881,2,    35.4546,2,  -999.0,9,     -999.0,9,     -999.0,9,     -999.0,9,       0036
33AT20120419,        A20,      47,          1,         21,         21,2,20120502,       2256,    26.7388,   -52.3326,       5395,   906.6,   7.9239,  35.1251,2,-999.0000,9,    154.5,2,   152.9,2,   16.04,2,   25.44,2,    0.00,2,    1.61,2,   0.634,2,   0.348,2,   0.008,2,    0.00,3,  2195.5,6,  2321.3,2,   7.6698,2,    25.00,-999.000,9,-999.0000,9, -999.00,9,   7.9170,2, -999.00,9,  -999.0,9,  -999.0,-999.000,9,-999.000,   0.170,2, -999.00,9,   42.02,2,   28.14,2,  26.7388, -52.3326,-999.000,-999.0000, -999.00,   7.8283,   7.9170,2,     -999.0,9,  -999.0,1,     -999.0,9,     -999.0,9,     -999.0,9,       0034
33AT20120419,        A20,      47,          1,         20,         20,2,20120502,       2256,    26.7388,   -52.3326,       5395,  1010.2,   6.6636,  35.0616,2,  35.0607,2,    172.8,2,   172.6,2,   17.01,2,   24.73,2,    0.00,2,    1.60,2,   0.553,2,   0.306,2,   0.011,2,    0.00,3,  2194.0,2,  2320.8,2,   7.6730,2,    25.00,-999.000,9,-999.0000,9, -999.00,9,   6.6695,2,    0.76,2,   -50.4,2,     2.7,-999.000,9,-999.000,   0.230,2, -999.00,9,   41.67,2,   27.38,2,  26.7388, -52.3326,-999.000,-999.0000, -999.00,   6.5659,   6.6695,2,    35.2261,2,  -999.0,1,     -999.0,9,     -999.0,9,     -999.0,9,       0031
33AT20120419,        A20,      47,          1,         19,         19,2,20120502,       2256,    26.7388,   -52.3326,       5395,  1110.8,   6.0023,  35.0880,2,  35.0885,2,    196.2,2,   200.5,2,   15.21,2,   21.96,2,    0.00,2,    1.42,2,   0.798,2,   0.428,2,   0.021,2,    0.00,3,  2183.1,2,  2321.1,2,   7.6995,6,    25.00,-999.000,9,-999.0000,9, -999.00,9,   6.0038,2,    0.84,2,   -49.2,2,     2.5,-999.000,9,-999.000,   0.420,2, -999.00,9,   41.23,2,   24.65,2,  26.7387, -52.3325,-999.000,-999.0000, -999.00,   5.8995,   6.0038,2,    35.2539,2,  -999.0,9,     -999.0,9,     -999.0,9,     -999.0,9,       0028
33AT20120419,        A20,      47,          1,         18,         18,2,20120502,       2256,    26.7388,   -52.3326,       5395,  1211.8,   5.6022,  35.0960,2,-999.0000,9,    213.6,2,   215.6,2,   14.31,2,   20.63,2,    0.00,2,    1.36,2,   0.914,2,   0.484,2,   0.031,2,    0.34,3,  2177.1,2,  2320.9,2,   7.7130,2,    25.00,-999.000,9,-999.0000,9, -999.00,9,   5.6002,2,    0.85,2,   -43.1,2,     2.9,-999.000,9,-999.000,   0.550,2, -999.00,9,   41.39,2,   22.90,2,  26.7387, -52.3325,-999.000,-999.0000, -999.00,   5.4928,   5.6002,2,     -999.0,9,  -999.0,1,     -999.0,9,     -999.0,9,     -999.0,9,       0025
33AT20120419,        A20,      47,          1,         17,         17,2,20120502,       2256,    26.7388,   -52.3326,       5395,  1314.4,   5.3071,  35.1005,2,  35.1003,2,    227.1,2,   227.0,2,   13.84,2,   19.88,2,    0.00,2,    1.28,2,   1.072,2,   0.561,2,   0.042,2,    0.17,3,  -999.0,9,  -999.0,9,-999.0000,9,  -999.00,-999.000,9,-999.0000,9, -999.00,9,   5.3107,2, -999.00,9,  -999.0,9,  -999.0,-999.000,9,-999.000,   0.660,2, -999.00,9,   41.32,2,   22.89,2,  26.7387, -52.3325,-999.000,-999.0000, -999.00,   5.1904,   5.3107,2,    35.2658,2,  -999.0,9,     -999.0,9,     -999.0,9,     -999.0,9,       0022
33AT20120419,        A20,      47,          1,         16,         16,2,20120502,       2256,    26.7388,   -52.3326,       5395,  1418.1,   4.9877,  35.0875,2,  35.0879,2,    234.2,2,   234.2,2,   14.01,2,   19.51,2,    0.00,2,    1.26,2,   0.993,2,   0.515,2,   0.040,2,    0.23,3,  2172.2,2,  2325.8,3,   7.7264,2,    25.00,-999.000,9,-999.0000,9, -999.00,9,   4.9822,2,    0.92,2,   -19.6,2,     2.8,-999.000,9,-999.000,   0.710,2, -999.00,9,   40.92,2,   21.95,2,  26.7387, -52.3325,-999.000,-999.0000, -999.00,   4.8641,   4.9822,2,    35.2534,2,  -999.0,9,     -999.0,9,     -999.0,9,     -999.0,9,       0019
33AT20120419,        A20,      47,          1,         15,         15,2,20120502,       2256,    26.7388,   -52.3326,       5395,  1619.0,   4.4822,  35.0650,2,  35.0651,2,    243.5,2,   242.4,2,   15.36,2,   19.17,2,    0.00,2,    1.25,2,   0.764,2,   0.398,2,   0.029,2,    0.06,3,  2168.0,2,  2320.9,2,   7.7336,2,    25.00,-999.000,9,-999.0000,9, -999.00,9,   4.4821,2,    0.99,2,   -40.3,2,     3.0,-999.000,9,-999.000,   0.630,2, -999.00,9,   41.36,2,   21.94,2,  26.7387, -52.3325,-999.000,-999.0000, -999.00,   4.3450,   4.4821,2,    35.2304,2,  -999.0,1,     -999.0,9,     -999.0,9,     -999.0,9,       0015
33AT20120419,        A20,      47,          1,         14,         14,2,20120502,       2256,    26.7388,   -52.3326,       5395,  1822.8,   4.0998,  35.0387,2,  35.0401,2,    246.0,2,   245.5,2,   17.62,2,   19.31,2,    0.00,2,    1.26,2,   0.419,2,   0.225,2,   0.013,2,    0.00,3,  2167.5,2,  2322.1,2,   7.7372,2,    25.00,-999.000,9,-999.0000,9, -999.00,9,   4.0952,2,    1.02,2,   -64.7,2,     3.8,-999.000,9,-999.000,   0.460,2, -999.00,9,   40.71,2,   21.86,2,  26.7388, -52.3326,-999.000,-999.0000, -999.00,   3.9479,   4.0952,2,    35.2053,2,  -999.0,9,     -999.0,9,     -999.0,9,     -999.0,9,       0011
33AT20120419,        A20,      47,          1,         13,         13,2,20120502,       2256,    26.7388,   -52.3326,       5395,  2022.1,   3.7192,  35.0141,2,  35.0149,2,    247.7,2,   247.9,2,   20.78,2,   19.48,2,    0.00,2,    1.28,2,   0.269,2,   0.151,2,   0.009,2,    0.00,3,  2168.3,2,  2323.9,2,   7.7391,2,    25.00,-999.000,9,-999.0000,9, -999.00,9,   3.7183,2,    1.01,2,   -67.2,2,     2.7,-999.000,9,-999.000,   0.350,2, -999.00,9,   41.41,2,   22.43,2,  26.7389, -52.3327,-999.000,-999.0000, -999.00,   3.5535,   3.7183,2,    35.1800,2,  -999.0,9,     -999.0,9,     -999.0,9,     -999.0,9,       0006
33AT20120419,        A20,      47,          1,         12,         12,2,20120502,       2256,    26.7388,   -52.3326,       5395,  2278.0,   3.3789,  34.9875,2,  34.9877,2,    249.2,2,   249.2,2,   24.35,2,   19.72,2,    0.00,2,    1.30,2,   0.187,2,   0.109,2,   0.006,2,    0.00,3,  -999.0,9,  -999.0,9,-999.0000,9,  -999.00,-999.000,9,-999.0000,9, -999.00,9,   3.3751,2, -999.00,9,  -999.0,9,  -999.0,-999.000,9,-999.000,   0.290,2, -999.00,9,   40.66,2,   22.43,2,  26.7390, -52.3327,-999.000,-999.0000, -999.00,   3.1939,   3.3751,2,    35.1527,2,  -999.0,9,     -999.0,9,     -999.0,9,     -999.0,9,       0001
33AT20120419,        A20,      47,          1,         11,         11,2,20120502,       2256,    26.7388,   -52.3326,       5395,  2533.0,   3.1445,  34.9675,2,-999.0000,9,    249.3,2,   249.3,2,   27.57,2,   20.09,2,    0.00,2,    1.33,2,   0.110,2,   0.065,2,   0.005,2,    0.00,3,  2174.9,2,  2330.2,6,   7.7391,2,    25.00,-999.000,9,-999.0000,9, -999.00,9,   3.1450,2,    1.04,2,  -100.9,2,     2.6,-999.000,9,-999.000,   0.230,2, -999.00,9,   40.67,2,   22.10,2,  26.7391, -52.3328,-999.000,-999.0000, -999.00,   2.9385,   3.1450,2,     -999.0,9,  -999.0,1,     -999.0,9,     -999.0,9,     -999.0,9,       2356
33AT20120419,        A20,      47,          1,         10,         10,2,20120502,       2256,    26.7388,   -52.3326,       5395,  2785.3,   2.9741,  34.9521,2,  34.9521,2,    248.5,2,   249.1,2,   30.41,2,   20.42,2,    0.00,2,    1.35,2,   0.069,2,   0.045,2,   0.001,2,    0.00,3,  -999.0,9,  -999.0,9,-999.0000,9,  -999.00,-999.000,9,-999.0000,9, -999.00,9,   2.9743,2, -999.00,9,  -999.0,9,  -999.0,-999.000,9,-999.000,   0.160,2, -999.00,9,   41.42,2,   22.75,2,  26.7392, -52.3329,-999.000,-999.0000, -999.00,   2.7460,   2.9743,2,    35.1169,2,  -999.0,9,     -999.0,9,     -999.0,9,     -999.0,9,       2351
33AT20120419,        A20,      47,          1,          9,          9,2,20120502,       2256,    26.7388,   -52.3326,       5395,  3040.6,   2.7781,  34.9352,2,  34.9348,2,    250.5,2,   250.8,2,   32.98,2,   20.62,2,    0.00,2,    1.37,2,   0.045,2,   0.030,2,   0.001,2,    0.00,3,  -999.0,9,  -999.0,9,-999.0000,9,  -999.00,-999.000,9,-999.0000,9, -999.00,9,   2.7787,2, -999.00,9,  -999.0,9,  -999.0,-999.000,9,-999.000,   0.130,2, -999.00,9,   40.87,2,   23.34,2,  26.7392, -52.3329,-999.000,-999.0000, -999.00,   2.5279,   2.7787,2,    35.0996,2,  -999.0,9,     -999.0,9,     -999.0,9,     -999.0,9,       2346
33AT20120419,        A20,      47,          1,          8,          8,2,20120502,       2256,    26.7388,   -52.3326,       5395,  3347.6,   2.6145,  34.9214,2,  34.9197,2,    253.3,2,   253.5,2,   34.14,2,   20.50,2,    0.00,2,    1.37,2,   0.039,2,   0.027,2,   0.001,2,    0.00,3,  2178.6,2,  2333.4,2,   7.7400,2,    25.00,-999.000,9,-999.0000,9, -999.00,9,   2.6151,2,    1.12,2,  -105.9,2,     2.8,-999.000,9,-999.000,   0.120,2, -999.00,9,   41.17,2,   23.28,2,  26.7393, -52.3329,-999.000,-999.0000, -999.00,   2.3356,   2.6151,2,    35.0843,2,  -999.0,1,     -999.0,9,     -999.0,9,     -999.0,9,       2340
33AT20120419,        A20,      47,          1,          7,          7,2,20120502,       2256,    26.7388,   -52.3326,       5395,  3654.4,   2.4124,  34.9041,2,  34.9036,2,    255.9,2,   256.3,2,   35.99,2,   20.46,2,    0.00,2,    1.38,2,   0.060,2,   0.038,2,   0.002,2,    0.00,3,  -999.0,9,  -999.0,9,-999.0000,9,  -999.00,-999.000,9,-999.0000,9, -999.00,9,   2.4138,2, -999.00,9,  -999.0,9,  -999.0,-999.000,9,-999.000,   0.150,2, -999.00,9,   40.76,2,   22.89,2,  26.7393, -52.3329,-999.000,-999.0000, -999.00,   2.1053,   2.4138,2,    35.0681,2,  -999.0,9,     -999.0,9,     -999.0,9,     -999.0,9,       2334