BOTTLE,20220712CCHSIOCBG
EXPOCODE,SECT_ID,STNNBR,CASTNO,SAMPNO,BTLNBR,BTLNBR_FLAG_W,DATE,TIME,LATITUDE,LONGITUDE,DEPTH,CTDPRS,CTDTMP,CTDSAL,CTDSAL_FLAG_W,SALNTY,SALNTY_FLAG_W,CTDOXY,CTDOXY_FLAG_W,OXYGEN,OXYGEN_FLAG_W,SILCAT,SILCAT_FLAG_W,NITRAT,NITRAT_FLAG_W,NITRIT,NITRIT_FLAG_W,PHSPHT,PHSPHT_FLAG_W,CFC-11,CFC-11_FLAG_W,CFC-12,CFC-12_FLAG_W,CFC113,CFC113_FLAG_W,SF6,SF6_FLAG_W,TCARBN,TCARBN_FLAG_W,ALKALI,ALKALI_FLAG_W,PH_TOT,PH_TOT_FLAG_W,PH_TMP,TRITUM,TRITUM_FLAG_W,HELIUM,HELIUM_FLAG_W,DELHE3,DELHE3_FLAG_W,REFTMP,REFTMP_FLAG_W,DELC13,DELC13_FLAG_W,DELC14,DELC14_FLAG_W,C14ERR,NEON,NEON_FLAG_W,NEONER,CCL4,CCL4_FLAG_W,DELO18,DELO18_FLAG_W,DOC,DOC_FLAG_W,TDN,TDN_FLAG_W,BTL_LAT,BTL_LON,TRITER,HELIER,DELHER,THETA,SBE35,SBE35_FLAG_W,SALTREF,SALTREF_FLAG_W,14C-DOC,14C-DOC_FLAG_W,DELO17,DELO17_FLAG_W,O2/AR,O2/AR_FLAG_W,SIP,SIP_FLAG_W,BTL_TIME
,,,,,,,,,,,METERS,DBAR,ITS-90,PSS-78,,PSS-78,,UMOL/KG,,UMOL/KG,,UMOL/KG,,UMOL/KG,,UMOL/KG,,UMOL/KG,,PMOL/KG,,PMOL/KG,,PMOL/KG,,FMOL/KG,,UMOL/KG,,UMOL/KG,,,,DEG C,TU,,NMOL/KG,,PERCNT,,DEG C,,/MILLE,,/MILLE,,/MILLE,NMOL/KG,,NMOL/KG,PMOL/KG,,/MILLE,,UMOL/KG,,UMOL/KG,,,,TU,NMOL/KG,PERCNT,DEG C,ITS-90,,G/KG,,/MILLE,,/MILLE,,,,,,
33AT20120419,        A20,      57,          1,          6,          6,2,20120506,       0822,    34.2511,   -52.3315,       5399,  4067.0,   2.2699,  34.8903,2,  34.8904,2,    262.8,2,   263.1,2,   33.16,2,   19.25,2,    0.00,2,    1.32,2,   0.491,2,   0.277,2,   0.032,2,    0.00,3,  2176.6,2,  2330.9,2,   7.7345,2,    25.00,   0.120,2,   1.8825,2,    5.00,2,   2.2699,2, -999.00,9,  -999.0,9,  -999.0,   8.284,2,   0.038,   0.420,2, -999.00,9,   42.48,2,   22.14,2,  34.2517, -52.3315,   0.010,   0.0079,    0.15,   1.9204,   2.2699,2,    35.0549,2,  -999.0,9,     -999.0,9,     -999.0,9,     -999.0,9,       0854
33AT20120419,        A20,      57,          1,          5,          5,2,20120506,       0822,    34.2511,   -52.3315,       5399,  4375.7,   2.2045,  34.8804,2,  34.8804,2,    260.4,2,   260.1,2,   38.02,2,   19.96,2,    0.00,2,    1.36,2,   0.415,2,   0.244,2,   0.029,2,    0.00,3,  -999.0,9,  -999.0,9,-999.0000,9,  -999.00,-999.000,9,-999.0000,9, -999.00,9,   2.2045,2, -999.00,9,  -999.0,9,  -999.0,-999.000,9,-999.000,   0.360,2, -999.00,9,   42.04,2,   22.94,2,  34.2516, -52.3315,-999.000,-999.0000, -999.00,   1.8211,   2.2045,2,    35.0449,2,  -999.0,9,     -999.0,9,     -999.0,9,     -999.0,9,       0847
33AT20120419,        A20,      57,          1,          4,          4,2,20120506,       0822,    34.2511,   -52.3315,       5399,  4679.1,   2.1531,  34.8703,2,  34.8704,2,    256.5,2,   256.3,2,   43.51,2,   20.82,2,    0.00,2,    1.42,2,   0.304,2,   0.187,2,   0.020,2,    0.00,3,  2188.2,2,  2337.5,6,   7.7268,2,    25.00,   0.060,2,   1.8719,2,    4.45,2,   2.1523,2, -999.00,9,  -999.0,9,  -999.0,   8.197,2,   0.038,   0.280,2, -999.00,9,   42.47,2,   23.41,2,  34.2515, -52.3315,   0.010,   0.0079,    0.15,   1.7350,   2.1523,2,    35.0348,2,  -999.0,9,     -999.0,9,     -999.0,9,     -999.0,9,       0840
33AT20120419,        A20,      57,          1,          3,          3,2,20120506,       0822,    34.2511,   -52.3315,       5399,  4990.2,   2.1442,  34.8650,2,  34.8642,2,    254.0,2,   254.6,2,   46.66,2,   21.32,2,    0.00,2,    1.45,2,   0.216,2,   0.138,2,   0.014,2,    0.00,3,  2192.3,2,  2342.4,2,   7.7235,6,    25.00,-999.000,9,-999.0000,9, -999.00,9,   2.1443,2, -999.00,9,  -999.0,9,  -999.0,-999.000,9,-999.000,   0.230,2, -999.00,9,   41.68,2,   23.21,2,  34.2515, -52.3315,-999.000,-999.0000, -999.00,   1.6881,   2.1443,2,    35.0286,2,  -999.0,9,     -999.0,9,     -999.0,9,     -999.0,9,       0834
33AT20120419,        A20,      57,          1,          2,          2,2,20120506,       0822,    34.2511,   -52.3315,       5399,  5246.2,   2.1550,  34.8620,2,  34.8621,2,    252.9,2,   253.5,2,   48.17,2,   21.61,2,    0.00,2,    1.48,2,   0.182,2,   0.117,2,   0.013,2,    0.00,3,  -999.0,9,  -999.0,9,-999.0000,9,  -999.00,-999.000,9,-999.0000,9, -999.00,9,   2.1545,2, -999.00,9,  -999.0,9,  -999.0,-999.000,9,-999.000,   0.210,2, -999.00,9,   42.16,2,   24.47,2,  34.2512, -52.3315,-999.000,-999.0000, -999.00,   1.6661,   2.1545,2,    35.0265,2,  -999.0,9,     -999.0,9,     -999.0,9,     -999.0,9,       0828
33AT20120419,        A20,      57,          1,          1,          1,2,20120506,       0822,    34.2511,   -52.3315,       5399,  5478.4,   2.1681,  34.8598,2,  34.8603,2,    252.0,2,   252.1,2,   49.46,2,   21.78,2,    0.00,2,    1.49,2,   0.156,2,   0.104,2,   0.014,2,    0.00,3,  2195.8,6,  2346.0,2,   7.7209,2,    25.00,   0.030,2,   1.8759,2,    4.18,2,   2.1673,2, -999.00,9,  -999.0,9,  -999.0,   8.178,2,   0.038,   0.200,2, -999.00,9,   41.13,2,   24.65,2,  34.2511, -52.3315,   0.010,   0.0079,    0.15,   1.6486,   2.1673,2,    35.0247,2,  -999.0,9,     -999.0,9,     -999.0,9,     -999.0,9,       0822