BOTTLE,20220712CCHSIOCBG
EXPOCODE,SECT_ID,STNNBR,CASTNO,SAMPNO,BTLNBR,BTLNBR_FLAG_W,DATE,TIME,LATITUDE,LONGITUDE,DEPTH,CTDPRS,CTDTMP,CTDSAL,CTDSAL_FLAG_W,SALNTY,SALNTY_FLAG_W,CTDOXY,CTDOXY_FLAG_W,OXYGEN,OXYGEN_FLAG_W,SILCAT,SILCAT_FLAG_W,NITRAT,NITRAT_FLAG_W,NITRIT,NITRIT_FLAG_W,PHSPHT,PHSPHT_FLAG_W,CFC-11,CFC-11_FLAG_W,CFC-12,CFC-12_FLAG_W,CFC113,CFC113_FLAG_W,SF6,SF6_FLAG_W,TCARBN,TCARBN_FLAG_W,ALKALI,ALKALI_FLAG_W,PH_TOT,PH_TOT_FLAG_W,PH_TMP,TRITUM,TRITUM_FLAG_W,HELIUM,HELIUM_FLAG_W,DELHE3,DELHE3_FLAG_W,REFTMP,REFTMP_FLAG_W,DELC13,DELC13_FLAG_W,DELC14,DELC14_FLAG_W,C14ERR,NEON,NEON_FLAG_W,NEONER,CCL4,CCL4_FLAG_W,DELO18,DELO18_FLAG_W,DOC,DOC_FLAG_W,TDN,TDN_FLAG_W,BTL_LAT,BTL_LON,TRITER,HELIER,DELHER,THETA,SBE35,SBE35_FLAG_W,SALTREF,SALTREF_FLAG_W,14C-DOC,14C-DOC_FLAG_W,DELO17,DELO17_FLAG_W,O2/AR,O2/AR_FLAG_W,SIP,SIP_FLAG_W,BTL_TIME
,,,,,,,,,,,METERS,DBAR,ITS-90,PSS-78,,PSS-78,,UMOL/KG,,UMOL/KG,,UMOL/KG,,UMOL/KG,,UMOL/KG,,UMOL/KG,,PMOL/KG,,PMOL/KG,,PMOL/KG,,FMOL/KG,,UMOL/KG,,UMOL/KG,,,,DEG C,TU,,NMOL/KG,,PERCNT,,DEG C,,/MILLE,,/MILLE,,/MILLE,NMOL/KG,,NMOL/KG,PMOL/KG,,/MILLE,,UMOL/KG,,UMOL/KG,,,,TU,NMOL/KG,PERCNT,DEG C,ITS-90,,G/KG,,/MILLE,,/MILLE,,,,,,
33AT20120419,        A20,      43,          1,          6,          6,2,20120501,       1442,    23.7316,   -52.3315,       5283,  3856.3,   2.2957,  34.8897,2,  34.8880,2,    252.6,2,   252.7,2,   42.43,2,   21.47,2,    0.00,2,    1.43,2,   0.051,2,   0.040,2,   0.005,2,    0.00,3,  2184.6,2,  2339.0,2,   7.7329,2,    25.00,-999.000,9,-999.0000,9, -999.00,9,   2.2963,2, -999.00,9,  -999.0,9,  -999.0,-999.000,9,-999.000,   0.110,2, -999.00,9,   40.21,2,   25.26,2,  23.7313, -52.3313,-999.000,-999.0000, -999.00,   1.9694,   2.2963,2,    35.0526,2,  -999.0,9,     -999.0,9,     -999.0,9,     -999.0,9,       1513
33AT20120419,        A20,      43,          1,          5,          5,2,20120501,       1442,    23.7316,   -52.3315,       5283,  4162.6,   2.1965,  34.8780,2,  34.8774,2,    252.7,2,   252.4,2,   45.47,2,   21.79,2,    0.00,2,    1.46,2,   0.047,2,   0.033,2,   0.004,2,    0.00,3,  -999.0,9,  -999.0,9,-999.0000,9,  -999.00,-999.000,9,-999.0000,9, -999.00,9,   2.1964,2, -999.00,9,  -999.0,9,  -999.0,-999.000,9,-999.000,   0.120,2, -999.00,9,   40.62,2,   25.52,2,  23.7313, -52.3314,-999.000,-999.0000, -999.00,   1.8382,   2.1964,2,    35.0419,2,  -999.0,9,     -999.0,9,     -999.0,9,     -999.0,9,       1507
33AT20120419,        A20,      43,          1,          4,          4,2,20120501,       1442,    23.7316,   -52.3315,       5283,  4467.8,   2.1292,  34.8680,2,  34.8670,2,    251.2,2,   250.8,2,   48.65,2,   22.22,2,    0.00,2,    1.49,2,   0.054,2,   0.038,2,   0.005,2,    0.00,3,  2190.5,2,  2343.5,6,   7.7243,2,    25.00,-999.000,9,-999.0000,9, -999.00,9,   2.1287,2, -999.00,9,  -999.0,9,  -999.0,-999.000,9,-999.000,   0.130,2, -999.00,9,   39.78,2,   25.74,2,  23.7314, -52.3314,-999.000,-999.0000, -999.00,   1.7373,   2.1287,2,    35.0314,2,  -999.0,9,     -999.0,9,     -999.0,9,     -999.0,9,       1501
33AT20120419,        A20,      43,          1,          3,          3,2,20120501,       1442,    23.7316,   -52.3315,       5283,  4776.8,   2.0929,  34.8603,2,  34.8591,2,    249.9,2,   249.4,2,   51.36,2,   22.58,2,    0.00,2,    1.52,2,   0.063,2,   0.044,2,   0.006,2,    0.00,3,  -999.0,9,  -999.0,9,-999.0000,9,  -999.00,-999.000,9,-999.0000,9, -999.00,9,   2.0926,2, -999.00,9,  -999.0,9,  -999.0,-999.000,9,-999.000,   0.140,2, -999.00,9,   40.55,2,   26.55,2,  23.7315, -52.3314,-999.000,-999.0000, -999.00,   1.6649,   2.0926,2,    35.0235,2,  -999.0,9,     -999.0,9,     -999.0,9,     -999.0,9,       1455
33AT20120419,        A20,      43,          1,          2,          2,2,20120501,       1442,    23.7316,   -52.3315,       5283,  5075.1,   2.1010,  34.8570,2,  34.8562,2,    247.8,2,   248.6,2,   52.43,2,   22.73,2,    0.00,2,    1.52,2,   0.067,2,   0.051,2,   0.006,2,    0.00,3,  2195.3,2,  2345.0,2,   7.7188,6,    25.00,-999.000,9,-999.0000,9, -999.00,9,   2.1007,2, -999.00,9,  -999.0,9,  -999.0,-999.000,9,-999.000,   0.140,2, -999.00,9,   39.89,2,   26.09,2,  23.7315, -52.3315,-999.000,-999.0000, -999.00,   1.6357,   2.1007,2,    35.0206,2,  -999.0,9,     -999.0,9,     -999.0,9,     -999.0,9,       1449
33AT20120419,        A20,      43,          1,          1,          1,2,20120501,       1442,    23.7316,   -52.3315,       5283,  5369.2,   2.1014,  34.8529,2,  34.8524,2,    247.3,2,   247.8,2,   53.58,2,   22.93,2,    0.00,2,    1.54,2,   0.082,2,   0.056,2,   0.009,2,    0.00,3,  2198.0,6,  2346.8,2,   7.7158,6,    25.00,-999.000,9,-999.0000,9, -999.00,9,   2.1012,2, -999.00,9,  -999.0,9,  -999.0,-999.000,9,-999.000,   0.170,2, -999.00,9,   40.36,2,   26.04,2,  23.7316, -52.3315,-999.000,-999.0000, -999.00,   1.5986,   2.1012,2,    35.0168,2,  -999.0,9,     -999.0,9,     -999.0,9,     -999.0,9,       1442