BOTTLE,20220712CCHSIOCBG
EXPOCODE,SECT_ID,STNNBR,CASTNO,SAMPNO,BTLNBR,BTLNBR_FLAG_W,DATE,TIME,LATITUDE,LONGITUDE,DEPTH,CTDPRS,CTDTMP,CTDSAL,CTDSAL_FLAG_W,SALNTY,SALNTY_FLAG_W,CTDOXY,CTDOXY_FLAG_W,OXYGEN,OXYGEN_FLAG_W,SILCAT,SILCAT_FLAG_W,NITRAT,NITRAT_FLAG_W,NITRIT,NITRIT_FLAG_W,PHSPHT,PHSPHT_FLAG_W,CFC-11,CFC-11_FLAG_W,CFC-12,CFC-12_FLAG_W,CFC113,CFC113_FLAG_W,SF6,SF6_FLAG_W,TCARBN,TCARBN_FLAG_W,ALKALI,ALKALI_FLAG_W,PH_TOT,PH_TOT_FLAG_W,PH_TMP,TRITUM,TRITUM_FLAG_W,HELIUM,HELIUM_FLAG_W,DELHE3,DELHE3_FLAG_W,REFTMP,REFTMP_FLAG_W,DELC13,DELC13_FLAG_W,DELC14,DELC14_FLAG_W,C14ERR,NEON,NEON_FLAG_W,NEONER,CCL4,CCL4_FLAG_W,DELO18,DELO18_FLAG_W,DOC,DOC_FLAG_W,TDN,TDN_FLAG_W,BTL_LAT,BTL_LON,TRITER,HELIER,DELHER,THETA,SBE35,SBE35_FLAG_W,SALTREF,SALTREF_FLAG_W,14C-DOC,14C-DOC_FLAG_W,DELO17,DELO17_FLAG_W,O2/AR,O2/AR_FLAG_W,SIP,SIP_FLAG_W,BTL_TIME
,,,,,,,,,,,METERS,DBAR,ITS-90,PSS-78,,PSS-78,,UMOL/KG,,UMOL/KG,,UMOL/KG,,UMOL/KG,,UMOL/KG,,UMOL/KG,,PMOL/KG,,PMOL/KG,,PMOL/KG,,FMOL/KG,,UMOL/KG,,UMOL/KG,,,,DEG C,TU,,NMOL/KG,,PERCNT,,DEG C,,/MILLE,,/MILLE,,/MILLE,NMOL/KG,,NMOL/KG,PMOL/KG,,/MILLE,,UMOL/KG,,UMOL/KG,,,,TU,NMOL/KG,PERCNT,DEG C,ITS-90,,G/KG,,/MILLE,,/MILLE,,,,,,
33AT20120419,        A20,      40,          1,          6,          6,2,20120430,       1518,    21.4776,   -52.3335,       4915,  3550.4,   2.4926,  34.9079,2,  34.9069,2,    253.4,2,   253.3,2,   36.50,2,   20.35,2,    0.00,2,    1.40,2,   0.100,2,   0.047,2,   0.007,2,    0.03,2,  2180.3,2,  2334.7,2,   7.7373,2,    25.00,-999.000,9,-999.0000,9, -999.00,9,   2.4921,2, -999.00,9,  -999.0,9,  -999.0,-999.000,9,-999.000,-999.000,9, -999.00,9, -999.00,9, -999.00,9,  21.4770, -52.3334,-999.000,-999.0000, -999.00,   2.1948,   2.4921,2,    35.0715,2,  -999.0,9,     -999.0,9,     -999.0,9,     -999.0,9,       1549
33AT20120419,        A20,      40,          1,          5,          5,2,20120430,       1518,    21.4776,   -52.3335,       4915,  3857.0,   2.3323,  34.8912,2,  34.8902,2,    250.8,2,   251.4,2,   42.18,2,   21.01,2,    0.00,2,    1.44,2,-999.000,9,-999.000,9,-999.000,9, -999.00,9,  -999.0,9,  -999.0,9,-999.0000,9,  -999.00,-999.000,9,-999.0000,9, -999.00,9,   2.3332,2, -999.00,9,  -999.0,9,  -999.0,-999.000,9,-999.000,-999.000,9, -999.00,9, -999.00,9, -999.00,9,  21.4772, -52.3334,-999.000,-999.0000, -999.00,   2.0049,   2.3332,2,    35.0547,2,  -999.0,9,     -999.0,9,     -999.0,9,     -999.0,9,       1542
33AT20120419,        A20,      40,          1,          4,          4,2,20120430,       1518,    21.4776,   -52.3335,       4915,  4160.9,   2.2294,  34.8793,2,  34.8780,2,    251.1,2,   251.1,2,   45.47,2,   21.35,2,    0.00,2,    1.46,2,   0.089,2,   0.039,2,   0.008,2,    0.04,2,  2189.0,2,  2340.5,2,   7.7290,2,    25.00,-999.000,9,-999.0000,9, -999.00,9,   2.2296,2, -999.00,9,  -999.0,9,  -999.0,-999.000,9,-999.000,-999.000,9, -999.00,9, -999.00,9, -999.00,9,  21.4777, -52.3336,-999.000,-999.0000, -999.00,   1.8703,   2.2296,2,    35.0425,2,  -999.0,9,     -999.0,9,     -999.0,9,     -999.0,9,       1535
33AT20120419,        A20,      40,          1,          3,          3,2,20120430,       1518,    21.4776,   -52.3335,       4915,  4473.4,   2.1408,  34.8681,2,  34.8670,2,    249.9,2,   250.9,2,   48.36,2,   21.64,2,    0.00,2,    1.48,2,-999.000,9,-999.000,9,-999.000,9, -999.00,9,  -999.0,9,  -999.0,9,-999.0000,9,  -999.00,-999.000,9,-999.0000,9, -999.00,9,   2.1409,2, -999.00,9,  -999.0,9,  -999.0,-999.000,9,-999.000,-999.000,9, -999.00,9, -999.00,9, -999.00,9,  21.4778, -52.3336,-999.000,-999.0000, -999.00,   1.7478,   2.1409,2,    35.0314,2,  -999.0,9,     -999.0,9,     -999.0,9,     -999.0,9,       1529
33AT20120419,        A20,      40,          1,          2,          2,2,20120430,       1518,    21.4776,   -52.3335,       4915,  4730.7,   2.0864,  34.8596,2,  34.8591,2,    249.7,2,   249.5,2,   51.30,2,   21.99,2,    0.00,2,    1.52,2,   0.129,2,   0.062,2,   0.005,2,    0.05,2,  2196.0,2,  2343.8,2,   7.7201,6,    25.00,-999.000,9,-999.0000,9, -999.00,9,   2.0861,2, -999.00,9,  -999.0,9,  -999.0,-999.000,9,-999.000,-999.000,9, -999.00,9, -999.00,9, -999.00,9,  21.4777, -52.3336,-999.000,-999.0000, -999.00,   1.6642,   2.0861,2,    35.0235,2,  -999.0,9,     -999.0,9,     -999.0,9,     -999.0,9,       1524
33AT20120419,        A20,      40,          1,          1,          1,2,20120430,       1518,    21.4776,   -52.3335,       4915,  4990.6,   2.0494,  34.8525,2,  34.8528,2,    248.4,2,   248.4,2,   53.72,2,   22.29,2,    0.00,2,    1.53,2,   0.152,2,   0.069,2,   0.006,2,    0.05,2,  2201.4,6,  2345.9,2,   7.7155,2,    25.00,-999.000,9,-999.0000,9, -999.00,9,   2.0494,2, -999.00,9,  -999.0,9,  -999.0,-999.000,9,-999.000,-999.000,9, -999.00,9, -999.00,9, -999.00,9,  21.4776, -52.3335,-999.000,-999.0000, -999.00,   1.5965,   2.0494,2,    35.0172,2,  -999.0,9,     -999.0,9,     -999.0,9,     -999.0,9,       1519