BOTTLE,20220712CCHSIOCBG
EXPOCODE,SECT_ID,STNNBR,CASTNO,SAMPNO,BTLNBR,BTLNBR_FLAG_W,DATE,TIME,LATITUDE,LONGITUDE,DEPTH,CTDPRS,CTDTMP,CTDSAL,CTDSAL_FLAG_W,SALNTY,SALNTY_FLAG_W,CTDOXY,CTDOXY_FLAG_W,OXYGEN,OXYGEN_FLAG_W,SILCAT,SILCAT_FLAG_W,NITRAT,NITRAT_FLAG_W,NITRIT,NITRIT_FLAG_W,PHSPHT,PHSPHT_FLAG_W,CFC-11,CFC-11_FLAG_W,CFC-12,CFC-12_FLAG_W,CFC113,CFC113_FLAG_W,SF6,SF6_FLAG_W,TCARBN,TCARBN_FLAG_W,ALKALI,ALKALI_FLAG_W,PH_TOT,PH_TOT_FLAG_W,PH_TMP,TRITUM,TRITUM_FLAG_W,HELIUM,HELIUM_FLAG_W,DELHE3,DELHE3_FLAG_W,REFTMP,REFTMP_FLAG_W,DELC13,DELC13_FLAG_W,DELC14,DELC14_FLAG_W,C14ERR,NEON,NEON_FLAG_W,NEONER,CCL4,CCL4_FLAG_W,DELO18,DELO18_FLAG_W,DOC,DOC_FLAG_W,TDN,TDN_FLAG_W,BTL_LAT,BTL_LON,TRITER,HELIER,DELHER,THETA,SBE35,SBE35_FLAG_W,SALTREF,SALTREF_FLAG_W,14C-DOC,14C-DOC_FLAG_W,DELO17,DELO17_FLAG_W,O2/AR,O2/AR_FLAG_W,SIP,SIP_FLAG_W,BTL_TIME
,,,,,,,,,,,METERS,DBAR,ITS-90,PSS-78,,PSS-78,,UMOL/KG,,UMOL/KG,,UMOL/KG,,UMOL/KG,,UMOL/KG,,UMOL/KG,,PMOL/KG,,PMOL/KG,,PMOL/KG,,FMOL/KG,,UMOL/KG,,UMOL/KG,,,,DEG C,TU,,NMOL/KG,,PERCNT,,DEG C,,/MILLE,,/MILLE,,/MILLE,NMOL/KG,,NMOL/KG,PMOL/KG,,/MILLE,,UMOL/KG,,UMOL/KG,,,,TU,NMOL/KG,PERCNT,DEG C,ITS-90,,G/KG,,/MILLE,,/MILLE,,,,,,
33AT20120419,        A20,      34,          1,          6,          6,2,20120428,       1342,    17.4030,   -52.3337,       5216,  3853.7,   2.2949,  34.8870,2,  34.8864,2,    251.2,2,   251.4,2,   43.16,2,   21.28,2,    0.00,2,    1.45,2,   0.117,2,   0.054,2,   0.005,2,    0.06,2,  2186.5,2,  2339.9,2,   7.7282,2,    25.00,-999.000,9,-999.0000,9, -999.00,9,   2.2952,2, -999.00,9,  -999.0,9,  -999.0,-999.000,9,-999.000,-999.000,9, -999.00,9,   39.96,2,   23.28,2,  17.4042, -52.3340,-999.000,-999.0000, -999.00,   1.9689,   2.2952,2,    35.0509,2,  -999.0,9,     -999.0,9,     -999.0,9,     -999.0,9,       1415
33AT20120419,        A20,      34,          1,          5,          5,2,20120428,       1342,    17.4030,   -52.3337,       5216,  4162.5,   2.1437,  34.8712,2,  34.8705,2,    250.6,2,   250.9,2,   47.33,2,   21.71,2,    0.00,2,    1.48,2,   0.159,2,   0.072,2,   0.007,2,    0.06,2,  -999.0,9,  -999.0,9,-999.0000,9,  -999.00,-999.000,9,-999.0000,9, -999.00,9,   2.1438,2, -999.00,9,  -999.0,9,  -999.0,-999.000,9,-999.000,-999.000,9, -999.00,9,   40.04,2,   24.01,2,  17.4040, -52.3340,-999.000,-999.0000, -999.00,   1.7870,   2.1438,2,    35.0349,2,  -999.0,9,     -999.0,9,     -999.0,9,     -999.0,9,       1408
33AT20120419,        A20,      34,          1,          4,          4,2,20120428,       1342,    17.4030,   -52.3337,       5216,  4468.9,   2.0629,  34.8598,2,  34.8593,2,    249.2,2,   249.5,2,   51.20,2,   22.22,2,    0.00,2,    1.52,2,   0.169,2,   0.085,2,   0.007,2,    0.03,2,  2195.6,2,  2344.6,2,   7.7185,2,    25.00,-999.000,9,-999.0000,9, -999.00,9,   2.0626,2, -999.00,9,  -999.0,9,  -999.0,-999.000,9,-999.000,-999.000,9, -999.00,9,    40.3,2,   24.83,2,  17.4037, -52.3339,-999.000,-999.0000, -999.00,   1.6729,   2.0626,2,    35.0237,2,  -999.0,9,     -999.0,9,     -999.0,9,     -999.0,9,       1402
33AT20120419,        A20,      34,          1,          3,          3,2,20120428,       1342,    17.4030,   -52.3337,       5216,  4777.9,   2.0025,  34.8502,2,  34.8493,2,    247.9,2,   248.4,2,   54.57,2,   22.64,2,    0.00,2,    1.55,2,   0.199,2,   0.099,2,   0.009,2,    0.08,2,  -999.0,9,  -999.0,9,-999.0000,9,  -999.00,-999.000,9,-999.0000,9, -999.00,9,   2.0027,2, -999.00,9,  -999.0,9,  -999.0,-999.000,9,-999.000,-999.000,9, -999.00,9,   39.87,2,   24.58,2,  17.4034, -52.3338,-999.000,-999.0000, -999.00,   1.5774,   2.0027,2,    35.0136,2,  -999.0,9,     -999.0,9,     -999.0,9,     -999.0,9,       1355
33AT20120419,        A20,      34,          1,          2,          2,2,20120428,       1342,    17.4030,   -52.3337,       5216,  5009.5,   1.9835,  34.8448,2,  34.8447,2,    247.1,2,   247.4,2,   56.69,2,   22.92,2,    0.00,2,    1.58,2,   0.214,2,   0.107,2,   0.011,2,    0.09,2,  2200.8,2,  2345.9,2,   7.7090,2,    25.00,-999.000,9,-999.0000,9, -999.00,9,   1.9838,2, -999.00,9,  -999.0,9,  -999.0,-999.000,9,-999.000,-999.000,9, -999.00,9,   40.02,2,   25.37,2,  17.4033, -52.3338,-999.000,-999.0000, -999.00,   1.5305,   1.9838,2,    35.0091,2,  -999.0,9,     -999.0,9,     -999.0,9,     -999.0,9,       1350
33AT20120419,        A20,      34,          1,          1,          1,2,20120428,       1342,    17.4030,   -52.3337,       5216,  5289.5,   1.9985,  34.8423,2,  34.8418,2,    247.0,2,   246.7,2,   57.43,2,   23.04,2,    0.00,2,    1.58,2,   0.224,2,   0.108,2,   0.007,2,    0.07,2,  2204.0,6,  2347.4,2,   7.7080,6,    25.00,-999.000,9,-999.0000,9, -999.00,9,   1.9987,2, -999.00,9,  -999.0,9,  -999.0,-999.000,9,-999.000,-999.000,9, -999.00,9,   40.51,2,   25.54,2,  17.4031, -52.3337,-999.000,-999.0000, -999.00,   1.5097,   1.9987,2,    35.0061,2,  -999.0,9,     -999.0,9,     -999.0,9,     -999.0,9,       1343