BOTTLE,20220712CCHSIOCBG
EXPOCODE,SECT_ID,STNNBR,CASTNO,SAMPNO,BTLNBR,BTLNBR_FLAG_W,DATE,TIME,LATITUDE,LONGITUDE,DEPTH,CTDPRS,CTDTMP,CTDSAL,CTDSAL_FLAG_W,SALNTY,SALNTY_FLAG_W,CTDOXY,CTDOXY_FLAG_W,OXYGEN,OXYGEN_FLAG_W,SILCAT,SILCAT_FLAG_W,NITRAT,NITRAT_FLAG_W,NITRIT,NITRIT_FLAG_W,PHSPHT,PHSPHT_FLAG_W,CFC-11,CFC-11_FLAG_W,CFC-12,CFC-12_FLAG_W,CFC113,CFC113_FLAG_W,SF6,SF6_FLAG_W,TCARBN,TCARBN_FLAG_W,ALKALI,ALKALI_FLAG_W,PH_TOT,PH_TOT_FLAG_W,PH_TMP,TRITUM,TRITUM_FLAG_W,HELIUM,HELIUM_FLAG_W,DELHE3,DELHE3_FLAG_W,REFTMP,REFTMP_FLAG_W,DELC13,DELC13_FLAG_W,DELC14,DELC14_FLAG_W,C14ERR,NEON,NEON_FLAG_W,NEONER,CCL4,CCL4_FLAG_W,DELO18,DELO18_FLAG_W,DOC,DOC_FLAG_W,TDN,TDN_FLAG_W,BTL_LAT,BTL_LON,TRITER,HELIER,DELHER,THETA,SBE35,SBE35_FLAG_W,SALTREF,SALTREF_FLAG_W,14C-DOC,14C-DOC_FLAG_W,DELO17,DELO17_FLAG_W,O2/AR,O2/AR_FLAG_W,SIP,SIP_FLAG_W,BTL_TIME
,,,,,,,,,,,METERS,DBAR,ITS-90,PSS-78,,PSS-78,,UMOL/KG,,UMOL/KG,,UMOL/KG,,UMOL/KG,,UMOL/KG,,UMOL/KG,,PMOL/KG,,PMOL/KG,,PMOL/KG,,FMOL/KG,,UMOL/KG,,UMOL/KG,,,,DEG C,TU,,NMOL/KG,,PERCNT,,DEG C,,/MILLE,,/MILLE,,/MILLE,NMOL/KG,,NMOL/KG,PMOL/KG,,/MILLE,,UMOL/KG,,UMOL/KG,,,,TU,NMOL/KG,PERCNT,DEG C,ITS-90,,G/KG,,/MILLE,,/MILLE,,,,,,
33AT20120419,        A20,      22,          1,         36,         36,2,20120424,       2040,     9.8590,   -52.3338,       4894,     3.4,  28.0752,  28.1217,2,  28.1366,2,    212.1,2,   211.5,2,    7.28,2,    0.00,2,    0.00,2,    0.02,2,   1.654,2,   1.042,2,   0.150,2,    1.14,2,  1637.4,6,  1924.4,2,   8.1753,6,    25.00,-999.000,9,-999.0000,9, -999.00,9,  28.0728,2, -999.00,9,  -999.0,9,  -999.0,-999.000,9,-999.000,-999.000,9, -999.00,9, -999.00,9, -999.00,9,   9.8594, -52.3337,-999.000,-999.0000, -999.00,  28.0744,  28.0728,2,    28.2692,2,  -999.0,9,     -999.0,9,     -999.0,9,     -999.0,9,       2249
33AT20120419,        A20,      22,          1,         35,         35,2,20120424,       2040,     9.8590,   -52.3338,       4894,    20.9,  27.6337,  34.4637,2,  34.7070,2,    201.8,2,   201.0,2,    1.65,2,    0.02,2,    0.01,2,    0.06,2,   1.627,2,   1.019,2,   0.149,2,    0.99,2,  1962.8,2,  2288.8,2,   8.0933,2,    25.00,-999.000,9,-999.0000,9, -999.00,9,  27.6318,2, -999.00,9,  -999.0,9,  -999.0,-999.000,9,-999.000,-999.000,9, -999.00,9, -999.00,9, -999.00,9,   9.8594, -52.3338,-999.000,-999.0000, -999.00,  27.6288,  27.6318,2,    34.8706,2,  -999.0,9,     -999.0,9,     -999.0,9,     -999.0,9,       2247
33AT20120419,        A20,      22,          1,         34,         34,2,20120424,       2040,     9.8590,   -52.3338,       4894,    40.6,  27.0885,  35.6207,2,  35.6317,2,    201.2,2,   199.6,2,    1.37,2,    0.00,2,    0.00,2,    0.07,2,   1.674,2,   1.085,2,   0.156,2,    1.09,2,  2008.1,2,  2341.0,2,   8.0867,2,    25.00,-999.000,9,-999.0000,9, -999.00,9,  27.0887,2, -999.00,9,  -999.0,9,  -999.0,-999.000,9,-999.000,-999.000,9, -999.00,9, -999.00,9, -999.00,9,   9.8594, -52.3337,-999.000,-999.0000, -999.00,  27.0791,  27.0887,2,    35.7997,2,  -999.0,9,     -999.0,9,     -999.0,9,     -999.0,9,       2245
33AT20120419,        A20,      22,          1,         33,         33,2,20120424,       2040,     9.8590,   -52.3338,       4894,    65.5,  26.1108,  36.2105,2,  36.2091,2,    180.3,2,   180.5,2,    1.39,2,    1.75,2,    0.04,2,    0.22,2,   1.709,2,   1.053,2,   0.126,2,    0.87,2,  2065.9,2,  2373.9,2,   8.0317,2,    25.00,-999.000,9,-999.0000,9, -999.00,9,  26.1048,2, -999.00,9,  -999.0,9,  -999.0,-999.000,9,-999.000,-999.000,9, -999.00,9, -999.00,9, -999.00,9,   9.8595, -52.3337,-999.000,-999.0000, -999.00,  26.0961,  26.1048,2,    36.3799,2,  -999.0,9,     -999.0,9,     -999.0,9,     -999.0,9,       2243
33AT20120419,        A20,      22,          1,         32,         32,2,20120424,       2040,     9.8590,   -52.3338,       4894,    90.5,  24.3065,  36.1712,2,  36.1793,2,    176.6,2,   174.3,2,    2.52,2,    3.83,2,    0.04,2,    0.37,2,   1.831,2,   1.128,2,   0.112,2,    0.90,2,  2088.7,2,  2372.6,2,   7.9904,2,    25.00,-999.000,9,-999.0000,9, -999.00,9,  24.3321,2, -999.00,9,  -999.0,9,  -999.0,-999.000,9,-999.000,-999.000,9, -999.00,9, -999.00,9, -999.00,9,   9.8595, -52.3337,-999.000,-999.0000, -999.00,  24.2872,  24.3321,2,    36.3499,2,  -999.0,9,     -999.0,9,     -999.0,9,     -999.0,9,       2241
33AT20120419,        A20,      22,          1,         31,         31,2,20120424,       2040,     9.8590,   -52.3338,       4894,   135.9,  18.6713,  36.3216,2,  36.3033,2,    138.9,2,   138.6,2,    3.94,2,   10.80,2,    0.02,2,    0.69,2,   2.116,2,   1.265,2,   0.045,2,    0.76,2,  2162.4,2,  2379.6,2,   7.8606,2,    25.00,-999.000,9,-999.0000,9, -999.00,9,  18.6586,2, -999.00,9,  -999.0,9,  -999.0,-999.000,9,-999.000,-999.000,9, -999.00,9, -999.00,9, -999.00,9,   9.8595, -52.3337,-999.000,-999.0000, -999.00,  18.6472,  18.6586,2,    36.4745,2,  -999.0,9,     -999.0,9,     -999.0,9,     -999.0,9,       2238
33AT20120419,        A20,      22,          1,         30,         30,2,20120424,       2040,     9.8590,   -52.3338,       4894,   185.1,  14.6503,  35.7201,2,  35.7246,2,    136.1,2,   137.0,2,    6.39,2,   16.78,2,    0.01,2,    1.09,2,   2.220,2,   1.266,2,   0.030,2,    0.73,2,  -999.0,9,  -999.0,9,-999.0000,9,  -999.00,-999.000,9,-999.0000,9, -999.00,9,  14.6446,2, -999.00,9,  -999.0,9,  -999.0,-999.000,9,-999.000,-999.000,9, -999.00,9, -999.00,9, -999.00,9,   9.8593, -52.3338,-999.000,-999.0000, -999.00,  14.6226,  14.6446,2,    35.8931,2,  -999.0,9,     -999.0,9,     -999.0,9,     -999.0,9,       2236
33AT20120419,        A20,      22,          1,         29,         29,2,20120424,       2040,     9.8590,   -52.3338,       4894,   236.2,  11.1657,  35.1051,2,  35.1022,2,    144.7,2,   143.8,2,   10.16,2,   22.01,2,    0.01,2,    1.48,2,   2.231,2,   1.229,2,   0.038,2,    0.53,2,  2181.1,2,  2314.9,2,   7.6953,2,    25.00,-999.000,9,-999.0000,9, -999.00,9,  11.1390,2, -999.00,9,  -999.0,9,  -999.0,-999.000,9,-999.000,-999.000,9, -999.00,9, -999.00,9, -999.00,9,   9.8593, -52.3338,-999.000,-999.0000, -999.00,  11.1362,  11.1390,2,    35.2677,2,  -999.0,9,     -999.0,9,     -999.0,9,     -999.0,9,       2233
33AT20120419,        A20,      22,          1,         28,         28,2,20120424,       2040,     9.8590,   -52.3338,       4894,   285.9,  10.3683,  35.0055,2,  35.0089,2,    140.1,2,   140.4,2,   11.57,2,   23.83,2,    0.01,2,    1.59,2,   2.124,2,   1.156,2,   0.044,2,    0.45,2,  -999.0,9,  -999.0,9,-999.0000,9,  -999.00,-999.000,9,-999.0000,9, -999.00,9,  10.3717,2, -999.00,9,  -999.0,9,  -999.0,-999.000,9,-999.000,-999.000,9, -999.00,9, -999.00,9, -999.00,9,   9.8592, -52.3338,-999.000,-999.0000, -999.00,  10.3342,  10.3717,2,    35.1739,2,  -999.0,9,     -999.0,9,     -999.0,9,     -999.0,9,       2231
33AT20120419,        A20,      22,          1,         27,         27,2,20120424,       2040,     9.8590,   -52.3338,       4894,   336.8,  10.0075,  35.0062,2,  34.9864,2,    127.8,2,   128.7,2,   12.85,2,   26.08,2,    0.00,2,    1.71,2,   1.818,2,   0.960,2,   0.036,2,    0.40,2,  2195.2,2,  2310.2,2,   7.6412,2,    25.00,-999.000,9,-999.0000,9, -999.00,9,   9.9371,2, -999.00,9,  -999.0,9,  -999.0,-999.000,9,-999.000,-999.000,9, -999.00,9, -999.00,9, -999.00,9,   9.8591, -52.3338,-999.000,-999.0000, -999.00,   9.9681,   9.9371,2,    35.1514,2,  -999.0,9,     -999.0,9,     -999.0,9,     -999.0,9,       2229
33AT20120419,        A20,      22,          1,         26,         26,2,20120424,       2040,     9.8590,   -52.3338,       4894,   387.0,   9.7880,  35.0190,2,  35.0362,2,    115.0,2,   114.5,2,   13.34,2,   27.50,2,    0.00,2,    1.77,2,   1.617,2,   0.856,2,   0.028,2,    0.40,2,  2205.7,2,  2313.8,6,   7.6209,2,    25.00,-999.000,9,-999.0000,9, -999.00,9,   9.7754,2, -999.00,9,  -999.0,9,  -999.0,-999.000,9,-999.000,-999.000,9, -999.00,9, -999.00,9, -999.00,9,   9.8591, -52.3338,-999.000,-999.0000, -999.00,   9.7432,   9.7754,2,    35.2014,2,  -999.0,9,     -999.0,9,     -999.0,9,     -999.0,9,       2227
33AT20120419,        A20,      22,          1,         25,         25,2,20120424,       2040,     9.8590,   -52.3338,       4894,   467.9,   8.2343,  34.7854,2,  34.7838,2,    123.2,2,   122.8,2,   16.90,2,   30.23,2,    0.00,2,    1.97,2,   1.343,2,   0.668,2,   0.031,2,    0.21,2,  -999.0,9,  -999.0,9,-999.0000,9,  -999.00,-999.000,9,-999.0000,9, -999.00,9,   8.2394,2, -999.00,9,  -999.0,9,  -999.0,-999.000,9,-999.000,-999.000,9, -999.00,9, -999.00,9, -999.00,9,   9.8592, -52.3338,-999.000,-999.0000, -999.00,   8.1854,   8.2394,2,    34.9478,2,  -999.0,9,     -999.0,9,     -999.0,9,     -999.0,9,       2224
33AT20120419,        A20,      22,          1,         24,         24,2,20120424,       2040,     9.8590,   -52.3338,       4894,   568.1,   7.6005,  34.7529,2,  34.7530,2,    119.4,2,   118.4,2,   19.21,2,   32.10,2,    0.00,2,    2.08,2,   0.974,2,   0.473,2,   0.023,2,    0.15,2,  2216.5,2,  2302.4,2,   7.5655,2,    25.00,-999.000,9,-999.0000,9, -999.00,9,   7.6026,2, -999.00,9,  -999.0,9,  -999.0,-999.000,9,-999.000,-999.000,9, -999.00,9, -999.00,9, -999.00,9,   9.8593, -52.3337,-999.000,-999.0000, -999.00,   7.5435,   7.6026,2,    34.9168,2,  -999.0,9,     -999.0,9,     -999.0,9,     -999.0,9,       2222
33AT20120419,        A20,      22,          1,         23,         23,2,20120424,       2040,     9.8590,   -52.3338,       4894,   669.4,   6.9911,  34.7424,2,  34.7412,2,    109.8,2,   110.6,2,   21.71,2,   34.07,2,    0.00,2,    2.23,2,   0.517,2,   0.246,2,   0.008,2,    0.10,2,  2226.2,2,  2302.6,2,   7.5418,2,    25.00,-999.000,9,-999.0000,9, -999.00,9,   6.9911,2, -999.00,9,  -999.0,9,  -999.0,-999.000,9,-999.000,-999.000,9, -999.00,9, -999.00,9, -999.00,9,   9.8594, -52.3337,-999.000,-999.0000, -999.00,   6.9266,   6.9911,2,    34.9050,2,  -999.0,9,     -999.0,9,     -999.0,9,     -999.0,9,       2219
33AT20120419,        A20,      22,          1,         22,         22,2,20120424,       2040,     9.8590,   -52.3338,       4894,   770.3,   5.9341,  34.6553,2,  34.6527,2,    122.8,2,   122.8,2,   25.51,2,   34.55,2,    0.00,2,    2.29,2,   0.313,2,   0.117,2,   0.000,2,    0.00,2,  2226.0,2,  2303.3,2,   7.5412,2,    25.00,-999.000,9,-999.0000,9, -999.00,9,   5.9301,2, -999.00,9,  -999.0,9,  -999.0,-999.000,9,-999.000,-999.000,9, -999.00,9, -999.00,9, -999.00,9,   9.8596, -52.3337,-999.000,-999.0000, -999.00,   5.8655,   5.9301,2,    34.8161,2,  -999.0,9,     -999.0,9,     -999.0,9,     -999.0,9,       2216
33AT20120419,        A20,      22,          1,         21,         21,2,20120424,       2040,     9.8590,   -52.3338,       4894,   871.0,   5.6399,  34.6889,2,  34.6867,2,    131.6,2,   130.5,2,   26.57,2,   33.92,2,    0.00,2,    2.25,2,   0.170,2,   0.076,2,   0.002,2,    0.00,2,  -999.0,9,  -999.0,9,-999.0000,9,  -999.00,-999.000,9,-999.0000,9, -999.00,9,   5.6398,2, -999.00,9,  -999.0,9,  -999.0,-999.000,9,-999.000,-999.000,9, -999.00,9, -999.00,9, -999.00,9,   9.8596, -52.3337,-999.000,-999.0000, -999.00,   5.5636,   5.6398,2,    34.8503,2,  -999.0,9,     -999.0,9,     -999.0,9,     -999.0,9,       2213
33AT20120419,        A20,      22,          1,         20,         20,2,20120424,       2040,     9.8590,   -52.3338,       4894,   971.4,   5.4150,  34.7654,2,  34.7657,2,    139.2,2,   139.2,2,   26.15,2,   32.40,2,    0.00,2,    2.16,2,   0.089,2,   0.037,2,   0.005,2,    0.00,2,  2220.3,6,  2309.8,2,   7.5721,2,    25.00,-999.000,9,-999.0000,9, -999.00,9,   5.4156,2, -999.00,9,  -999.0,9,  -999.0,-999.000,9,-999.000,-999.000,9, -999.00,9, -999.00,9, -999.00,9,   9.8597, -52.3337,-999.000,-999.0000, -999.00,   5.3308,   5.4156,2,    34.9297,2,  -999.0,9,     -999.0,9,     -999.0,9,     -999.0,9,       2210
33AT20120419,        A20,      22,          1,         19,         19,2,20120424,       2040,     9.8590,   -52.3338,       4894,  1072.8,   5.3422,  34.8504,2,  34.8493,2,    153.6,2,   154.9,2,   24.29,2,   29.83,2,    0.00,2,    1.99,2,   0.121,2,   0.051,2,   0.006,2,    0.00,2,  2212.2,2,  2314.0,2,   7.6074,2,    25.00,-999.000,9,-999.0000,9, -999.00,9,   5.3421,2, -999.00,9,  -999.0,9,  -999.0,-999.000,9,-999.000,-999.000,9, -999.00,9, -999.00,9, -999.00,9,   9.8598, -52.3337,-999.000,-999.0000, -999.00,   5.2489,   5.3421,2,    35.0136,2,  -999.0,9,     -999.0,9,     -999.0,9,     -999.0,9,       2207
33AT20120419,        A20,      22,          1,         18,         18,2,20120424,       2040,     9.8590,   -52.3338,       4894,  1173.4,   5.1564,  34.9106,2,  34.9105,2,    172.5,2,   174.8,2,   22.31,2,   27.13,2,    0.00,2,    1.82,2,   0.207,2,   0.088,2,   0.007,2,    0.09,2,  -999.0,9,  -999.0,9,-999.0000,9,  -999.00,-999.000,9,-999.0000,9, -999.00,9,   5.1564,2, -999.00,9,  -999.0,9,  -999.0,-999.000,9,-999.000,-999.000,9, -999.00,9, -999.00,9, -999.00,9,   9.8598, -52.3337,-999.000,-999.0000, -999.00,   5.0550,   5.1564,2,    35.0751,2,  -999.0,9,     -999.0,9,     -999.0,9,     -999.0,9,       2204
33AT20120419,        A20,      22,          1,         17,         17,2,20120424,       2040,     9.8590,   -52.3338,       4894,  1273.9,   5.0585,  34.9742,2,  34.9746,2,    199.5,2,   202.2,2,   18.97,2,   23.35,2,    0.00,2,    1.57,2,   0.618,2,   0.284,2,   0.018,2,    0.15,2,  2188.5,2,  2318.4,2,   7.6813,6,    25.00,-999.000,9,-999.0000,9, -999.00,9,   5.0581,2, -999.00,9,  -999.0,9,  -999.0,-999.000,9,-999.000,-999.000,9, -999.00,9, -999.00,9, -999.00,9,   9.8598, -52.3336,-999.000,-999.0000, -999.00,   4.9483,   5.0581,2,    35.1395,2,  -999.0,9,     -999.0,9,     -999.0,9,     -999.0,9,       2201
33AT20120419,        A20,      22,          1,         16,         16,2,20120424,       2040,     9.8590,   -52.3338,       4894,  1376.3,   4.7870,  34.9912,2,  34.9905,2,    217.7,2,   217.4,2,   17.47,2,   21.86,2,    0.00,2,    1.46,2,   0.692,2,   0.313,2,   0.030,2,    0.13,2,  -999.0,9,  -999.0,9,-999.0000,9,  -999.00,-999.000,9,-999.0000,9, -999.00,9,   4.7854,2, -999.00,9,  -999.0,9,  -999.0,-999.000,9,-999.000,-999.000,9, -999.00,9, -999.00,9, -999.00,9,   9.8598, -52.3337,-999.000,-999.0000, -999.00,   4.6697,   4.7854,2,    35.1555,2,  -999.0,9,     -999.0,9,     -999.0,9,     -999.0,9,       2158
33AT20120419,        A20,      22,          1,         15,         15,2,20120424,       2040,     9.8590,   -52.3338,       4894,  1476.8,   4.5301,  34.9977,2,  34.9976,2,    230.7,2,   230.7,2,   16.13,2,   20.55,2,    0.00,2,    1.38,2,-999.000,9,-999.000,9,-999.000,9, -999.00,9,  2174.4,2,  2316.2,2,   7.7123,2,    25.00,-999.000,9,-999.0000,9, -999.00,9,   4.5304,2, -999.00,9,  -999.0,9,  -999.0,-999.000,9,-999.000,-999.000,9, -999.00,9, -999.00,9, -999.00,9,   9.8599, -52.3336,-999.000,-999.0000, -999.00,   4.4060,   4.5304,2,    35.1627,2,  -999.0,9,     -999.0,9,     -999.0,9,     -999.0,9,       2155
33AT20120419,        A20,      22,          1,         14,         14,2,20120424,       2040,     9.8590,   -52.3338,       4894,  1577.1,   4.2700,  34.9980,2,  34.9978,2,    245.0,2,   245.6,2,   14.55,2,   19.15,2,    0.00,2,    1.28,2,   1.109,2,   0.522,2,   0.041,2,    0.18,2,  -999.0,9,  -999.0,9,-999.0000,9,  -999.00,-999.000,9,-999.0000,9, -999.00,9,   4.2759,2, -999.00,9,  -999.0,9,  -999.0,-999.000,9,-999.000,-999.000,9, -999.00,9, -999.00,9, -999.00,9,   9.8600, -52.3336,-999.000,-999.0000, -999.00,   4.1394,   4.2759,2,    35.1629,2,  -999.0,9,     -999.0,9,     -999.0,9,     -999.0,9,       2152
33AT20120419,        A20,      22,          1,         13,         13,2,20120424,       2040,     9.8590,   -52.3338,       4894,  1750.7,   3.9272,  34.9822,2,  34.9827,2,    252.6,2,   253.0,2,   15.32,2,   18.81,2,    0.00,2,    1.27,2,   0.939,2,   0.425,2,   0.052,2,    0.12,2,  2165.3,2,  2314.1,2,   7.7312,2,    25.00,-999.000,9,-999.0000,9, -999.00,9,   3.9283,2, -999.00,9,  -999.0,9,  -999.0,-999.000,9,-999.000,-999.000,9, -999.00,9, -999.00,9, -999.00,9,   9.8600, -52.3336,-999.000,-999.0000, -999.00,   3.7846,   3.9283,2,    35.1476,2,  -999.0,9,     -999.0,9,     -999.0,9,     -999.0,9,       2148
33AT20120419,        A20,      22,          1,         12,         12,2,20120424,       2040,     9.8590,   -52.3338,       4894,  1953.5,   3.6292,  34.9708,2,  34.9705,2,    257.1,2,   257.7,2,   16.58,2,   18.54,2,    0.00,2,    1.25,2,   0.867,2,   0.399,2,   0.031,2,    0.14,2,  2163.8,2,  2315.3,2,   7.7366,2,    25.00,-999.000,9,-999.0000,9, -999.00,9,   3.6261,2, -999.00,9,  -999.0,9,  -999.0,-999.000,9,-999.000,-999.000,9, -999.00,9, -999.00,9, -999.00,9,   9.8600, -52.3336,-999.000,-999.0000, -999.00,   3.4716,   3.6261,2,    35.1354,2,  -999.0,9,     -999.0,9,     -999.0,9,     -999.0,9,       2143
33AT20120419,        A20,      22,          1,         11,         11,2,20120424,       2040,     9.8590,   -52.3338,       4894,  2186.3,   3.3890,  34.9633,2,  34.9616,2,    258.2,2,   257.9,2,   18.95,2,   18.69,2,    0.00,2,    1.26,2,   0.604,2,   0.270,2,   0.028,2,    0.11,2,  -999.0,9,  -999.0,9,-999.0000,9,  -999.00,-999.000,9,-999.0000,9, -999.00,9,   3.3896,2, -999.00,9,  -999.0,9,  -999.0,-999.000,9,-999.000,-999.000,9, -999.00,9, -999.00,9, -999.00,9,   9.8600, -52.3336,-999.000,-999.0000, -999.00,   3.2128,   3.3896,2,    35.1265,2,  -999.0,9,     -999.0,9,     -999.0,9,     -999.0,9,       2138
33AT20120419,        A20,      22,          1,         10,         10,2,20120424,       2040,     9.8590,   -52.3338,       4894,  2441.0,   3.1767,  34.9537,2,  34.9534,2,    258.7,2,   258.4,2,   21.23,2,   18.81,2,    0.00,2,    1.28,2,   0.467,2,   0.205,2,   0.021,2,    0.07,2,  2166.2,2,  2320.0,2,   7.7420,2,    25.00,-999.000,9,-999.0000,9, -999.00,9,   3.1754,2, -999.00,9,  -999.0,9,  -999.0,-999.000,9,-999.000,-999.000,9, -999.00,9, -999.00,9, -999.00,9,   9.8599, -52.3336,-999.000,-999.0000, -999.00,   2.9793,   3.1754,2,    35.1182,2,  -999.0,9,     -999.0,9,     -999.0,9,     -999.0,9,       2132
33AT20120419,        A20,      22,          1,          9,          9,2,20120424,       2040,     9.8590,   -52.3338,       4894,  2694.4,   2.9958,  34.9434,2,  34.9437,2,    259.0,2,   259.0,2,   23.17,2,   18.88,2,    0.00,2,    1.28,2,   0.450,2,   0.193,2,   0.016,2,    0.12,2,  2168.3,2,  2322.5,2,   7.7410,2,    25.00,-999.000,9,-999.0000,9, -999.00,9,   2.9958,2, -999.00,9,  -999.0,9,  -999.0,-999.000,9,-999.000,-999.000,9, -999.00,9, -999.00,9, -999.00,9,   9.8598, -52.3336,-999.000,-999.0000, -999.00,   2.7765,   2.9958,2,    35.1085,2,  -999.0,9,     -999.0,9,     -999.0,9,     -999.0,9,       2127
33AT20120419,        A20,      22,          1,          8,          8,2,20120424,       2040,     9.8590,   -52.3338,       4894,  2949.7,   2.8415,  34.9337,2,  34.9319,2,    258.2,2,   258.3,2,   26.10,2,   19.22,2,    0.00,2,    1.31,2,-999.000,9,-999.000,9,-999.000,9, -999.00,9,  -999.0,9,  -999.0,9,-999.0000,9,  -999.00,-999.000,9,-999.0000,9, -999.00,9,   2.8417,2, -999.00,9,  -999.0,9,  -999.0,-999.000,9,-999.000,-999.000,9, -999.00,9, -999.00,9, -999.00,9,   9.8598, -52.3336,-999.000,-999.0000, -999.00,   2.5994,   2.8417,2,    35.0966,2,  -999.0,9,     -999.0,9,     -999.0,9,     -999.0,9,       2122
33AT20120419,        A20,      22,          1,          7,          7,2,20120424,       2040,     9.8590,   -52.3338,       4894,  3241.1,   2.6726,  34.9219,2,  34.9221,2,    261.0,2,   261.2,2,   26.62,2,   18.92,2,    0.00,2,    1.29,2,   0.556,2,   0.244,2,   0.027,2,    0.06,2,  2169.9,2,  2326.4,2,   7.7396,2,    25.00,-999.000,9,-999.0000,9, -999.00,9,   2.6730,2, -999.00,9,  -999.0,9,  -999.0,-999.000,9,-999.000,-999.000,9, -999.00,9, -999.00,9, -999.00,9,   9.8595, -52.3337,-999.000,-999.0000, -999.00,   2.4037,   2.6730,2,    35.0868,2,  -999.0,9,     -999.0,9,     -999.0,9,     -999.0,9,       2116