BOTTLE,20220712CCHSIOCBG
EXPOCODE,SECT_ID,STNNBR,CASTNO,SAMPNO,BTLNBR,BTLNBR_FLAG_W,DATE,TIME,LATITUDE,LONGITUDE,DEPTH,CTDPRS,CTDTMP,CTDSAL,CTDSAL_FLAG_W,SALNTY,SALNTY_FLAG_W,CTDOXY,CTDOXY_FLAG_W,OXYGEN,OXYGEN_FLAG_W,SILCAT,SILCAT_FLAG_W,NITRAT,NITRAT_FLAG_W,NITRIT,NITRIT_FLAG_W,PHSPHT,PHSPHT_FLAG_W,CFC-11,CFC-11_FLAG_W,CFC-12,CFC-12_FLAG_W,CFC113,CFC113_FLAG_W,SF6,SF6_FLAG_W,TCARBN,TCARBN_FLAG_W,ALKALI,ALKALI_FLAG_W,PH_TOT,PH_TOT_FLAG_W,PH_TMP,TRITUM,TRITUM_FLAG_W,HELIUM,HELIUM_FLAG_W,DELHE3,DELHE3_FLAG_W,REFTMP,REFTMP_FLAG_W,DELC13,DELC13_FLAG_W,DELC14,DELC14_FLAG_W,C14ERR,NEON,NEON_FLAG_W,NEONER,CCL4,CCL4_FLAG_W,DELO18,DELO18_FLAG_W,DOC,DOC_FLAG_W,TDN,TDN_FLAG_W,BTL_LAT,BTL_LON,TRITER,HELIER,DELHER,THETA,SBE35,SBE35_FLAG_W,SALTREF,SALTREF_FLAG_W,14C-DOC,14C-DOC_FLAG_W,DELO17,DELO17_FLAG_W,O2/AR,O2/AR_FLAG_W,SIP,SIP_FLAG_W,BTL_TIME
,,,,,,,,,,,METERS,DBAR,ITS-90,PSS-78,,PSS-78,,UMOL/KG,,UMOL/KG,,UMOL/KG,,UMOL/KG,,UMOL/KG,,UMOL/KG,,PMOL/KG,,PMOL/KG,,PMOL/KG,,FMOL/KG,,UMOL/KG,,UMOL/KG,,,,DEG C,TU,,NMOL/KG,,PERCNT,,DEG C,,/MILLE,,/MILLE,,/MILLE,NMOL/KG,,NMOL/KG,PMOL/KG,,/MILLE,,UMOL/KG,,UMOL/KG,,,,TU,NMOL/KG,PERCNT,DEG C,ITS-90,,G/KG,,/MILLE,,/MILLE,,,,,,
33AT20120419,        A20,      56,          1,         36,         36,2,20120506,       0025,    33.5074,   -52.3276,       5574,     4.6,  20.3541,  36.6790,2,  36.6787,2,    225.0,2,   225.0,2,    0.39,2,    0.00,2,    0.00,2,    0.00,2,   2.141,2,   1.337,2,   0.185,2,    1.47,2,  2085.0,6,  2400.9,2,   8.0381,2,    25.00,-999.000,9,-999.0000,9, -999.00,9,  20.3520,2, -999.00,9,  -999.0,9,  -999.0,-999.000,9,-999.000,-999.000,9, -999.00,9, -999.00,9, -999.00,9,  33.5173, -52.3216,-999.000,-999.0000, -999.00,  20.3532,  20.3520,2,    36.8516,2,  -999.0,9,     -999.0,9,     -999.0,9,     -999.0,9,       0236
33AT20120419,        A20,      56,          1,         35,         35,2,20120506,       0025,    33.5074,   -52.3276,       5574,    24.6,  20.3525,  36.6784,2,  36.6785,2,    225.6,2,   225.1,2,    0.41,2,    0.00,2,    0.00,2,    0.00,2,-999.000,9,-999.000,9,-999.000,9, -999.00,9,  -999.0,9,  -999.0,9,-999.0000,9,  -999.00,-999.000,9,-999.0000,9, -999.00,9,  20.3529,2, -999.00,9,  -999.0,9,  -999.0,-999.000,9,-999.000,-999.000,9, -999.00,9, -999.00,9, -999.00,9,  33.5171, -52.3218,-999.000,-999.0000, -999.00,  20.3479,  20.3529,2,    36.8514,2,  -999.0,9,     -999.0,9,     -999.0,9,     -999.0,9,       0234
33AT20120419,        A20,      56,          1,         34,         34,2,20120506,       0025,    33.5074,   -52.3276,       5574,    49.8,  20.3350,  36.6764,2,  36.6690,2,    225.4,2,   226.0,2,    0.39,2,    0.00,2,    0.00,2,    0.00,2,   2.144,2,   1.316,2,   0.179,2,    1.49,2,  2084.5,2,  2400.8,2,   8.0376,6,    25.00,-999.000,9,-999.0000,9, -999.00,9,  20.3371,2, -999.00,9,  -999.0,9,  -999.0,-999.000,9,-999.000,-999.000,9, -999.00,9, -999.00,9, -999.00,9,  33.5169, -52.3220,-999.000,-999.0000, -999.00,  20.3256,  20.3371,2,    36.8419,2,  -999.0,9,     -999.0,9,     -999.0,9,     -999.0,9,       0232
33AT20120419,        A20,      56,          1,         33,         33,2,20120506,       0025,    33.5074,   -52.3276,       5574,    75.8,  19.5986,  36.5982,2,  36.6008,2,    227.2,2,   228.5,2,    0.36,2,    0.00,2,    0.00,2,    0.00,2,   2.169,2,   1.325,2,   0.179,2,    1.53,2,  2083.6,2,  2397.0,2,   8.0345,2,    25.00,-999.000,9,-999.0000,9, -999.00,9,  19.5992,2, -999.00,9,  -999.0,9,  -999.0,-999.000,9,-999.000,-999.000,9, -999.00,9, -999.00,9, -999.00,9,  33.5166, -52.3222,-999.000,-999.0000, -999.00,  19.5847,  19.5992,2,    36.7733,2,  -999.0,9,     -999.0,9,     -999.0,9,     -999.0,9,       0230
33AT20120419,        A20,      56,          1,         32,         32,2,20120506,       0025,    33.5074,   -52.3276,       5574,   100.6,  19.3294,  36.5912,2,  36.5919,2,    217.4,2,   220.5,2,    0.40,2,    0.21,2,    0.09,2,    0.00,2,   2.241,2,-999.000,5,   0.163,2,    1.46,2,  2091.2,2,  2395.4,2,   8.0205,2,    25.00,-999.000,9,-999.0000,9, -999.00,9,  19.3362,2, -999.00,9,  -999.0,9,  -999.0,-999.000,9,-999.000,-999.000,9, -999.00,9, -999.00,9, -999.00,9,  33.5164, -52.3225,-999.000,-999.0000, -999.00,  19.3111,  19.3362,2,    36.7644,2,  -999.0,9,     -999.0,9,     -999.0,9,     -999.0,9,       0228
33AT20120419,        A20,      56,          1,         31,         31,2,20120506,       0025,    33.5074,   -52.3276,       5574,   150.5,  18.6803,  36.5884,2,  36.5881,2,    194.6,2,   197.6,2,    0.96,2,    3.04,2,    0.02,2,    0.13,2,   2.298,2,   1.417,2,   0.080,2,    1.48,2,  2113.9,2,  2394.7,2,   7.9775,2,    25.00,-999.000,9,-999.0000,9, -999.00,9,  18.6697,2, -999.00,9,  -999.0,9,  -999.0,-999.000,9,-999.000,-999.000,9, -999.00,9, -999.00,9, -999.00,9,  33.5162, -52.3227,-999.000,-999.0000, -999.00,  18.6535,  18.6697,2,    36.7606,2,  -999.0,9,     -999.0,9,     -999.0,9,     -999.0,9,       0225
33AT20120419,        A20,      56,          1,         30,         30,2,20120506,       0025,    33.5074,   -52.3276,       5574,   199.7,  18.1194,  36.5710,2,  36.5711,2,    199.2,2,   199.1,2,    1.31,2,    4.31,2,    0.02,2,    0.20,2,   2.311,2,   1.393,2,   0.044,2,    1.41,2,  2115.8,2,  2391.3,6,   7.9710,2,    25.00,-999.000,9,-999.0000,9, -999.00,9,  18.1201,2, -999.00,9,  -999.0,9,  -999.0,-999.000,9,-999.000,-999.000,9, -999.00,9, -999.00,9, -999.00,9,  33.5159, -52.3229,-999.000,-999.0000, -999.00,  18.0846,  18.1201,2,    36.7435,2,  -999.0,9,     -999.0,9,     -999.0,9,     -999.0,9,       0223
33AT20120419,        A20,      56,          1,         29,         29,2,20120506,       0025,    33.5074,   -52.3276,       5574,   253.6,  17.8657,  36.5388,2,  36.5393,2,    204.2,2,   202.6,2,    1.36,2,    4.49,2,    0.01,2,    0.21,2,-999.000,9,-999.000,9,-999.000,9, -999.00,9,  2116.6,2,  2392.1,2,   7.9675,2,    25.00,-999.000,9,-999.0000,9, -999.00,9,  17.8642,2, -999.00,9,  -999.0,9,  -999.0,-999.000,9,-999.000,-999.000,9, -999.00,9, -999.00,9, -999.00,9,  33.5158, -52.3231,-999.000,-999.0000, -999.00,  17.8219,  17.8642,2,    36.7116,2,  -999.0,9,     -999.0,9,     -999.0,9,     -999.0,9,       0221
33AT20120419,        A20,      56,          1,         28,         28,2,20120506,       0025,    33.5074,   -52.3276,       5574,   303.2,  17.6555,  36.5112,2,  36.5118,2,    204.5,2,   204.3,2,    1.44,2,    4.74,2,    0.01,2,    0.23,2,   2.348,2,   1.398,2,   0.047,2,    1.37,2,  -999.0,9,  -999.0,9,-999.0000,9,  -999.00,-999.000,9,-999.0000,9, -999.00,9,  17.6561,2, -999.00,9,  -999.0,9,  -999.0,-999.000,9,-999.000,-999.000,9, -999.00,9, -999.00,9, -999.00,9,  33.5155, -52.3234,-999.000,-999.0000, -999.00,  17.6035,  17.6561,2,    36.6840,2,  -999.0,9,     -999.0,9,     -999.0,9,     -999.0,9,       0219
33AT20120419,        A20,      56,          1,         27,         27,2,20120506,       0025,    33.5074,   -52.3276,       5574,   354.1,  17.2761,  36.4404,2,  36.4387,2,    203.1,2,   202.7,2,    1.71,2,    5.55,2,    0.00,2,    0.28,2,   2.420,2,   1.442,2,   0.046,2,    1.38,2,  2121.6,2,  2382.9,2,   7.9515,2,    25.00,-999.000,9,-999.0000,9, -999.00,9,  17.2766,2, -999.00,9,  -999.0,9,  -999.0,-999.000,9,-999.000,-999.000,9, -999.00,9, -999.00,9, -999.00,9,  33.5155, -52.3234,-999.000,-999.0000, -999.00,  17.2162,  17.2766,2,    36.6105,2,  -999.0,9,     -999.0,9,     -999.0,9,     -999.0,9,       0217
33AT20120419,        A20,      56,          1,         26,         26,2,20120506,       0025,    33.5074,   -52.3276,       5574,   405.3,  16.8585,  36.3561,2,  36.3502,2,    198.0,2,   198.4,2,    2.04,2,    6.64,2,    0.00,2,    0.35,2,   2.405,2,   1.409,2,   0.045,2,    1.33,2,  2125.9,2,  2379.0,2,   7.9350,2,    25.00,-999.000,9,-999.0000,9, -999.00,9,  16.8666,2, -999.00,9,  -999.0,9,  -999.0,-999.000,9,-999.000,-999.000,9, -999.00,9, -999.00,9, -999.00,9,  33.5154, -52.3235,-999.000,-999.0000, -999.00,  16.7910,  16.8666,2,    36.5216,2,  -999.0,9,     -999.0,9,     -999.0,9,     -999.0,9,       0215
33AT20120419,        A20,      56,          1,         25,         25,2,20120506,       0025,    33.5074,   -52.3276,       5574,   503.2,  15.2640,  36.0535,2,  36.0453,2,    188.2,2,   189.0,2,    3.35,2,    9.93,2,    0.00,2,    0.58,2,   2.400,2,   1.400,2,   0.046,2,    1.18,2,  2138.4,2,  2361.3,2,   7.8831,2,    25.00,-999.000,9,-999.0000,9, -999.00,9,  15.2591,2, -999.00,9,  -999.0,9,  -999.0,-999.000,9,-999.000,-999.000,9, -999.00,9, -999.00,9, -999.00,9,  33.5152, -52.3235,-999.000,-999.0000, -999.00,  15.1855,  15.2591,2,    36.2153,2,  -999.0,9,     -999.0,9,     -999.0,9,     -999.0,9,       0213
33AT20120419,        A20,      56,          1,         24,         24,2,20120506,       0025,    33.5074,   -52.3276,       5574,   602.7,  13.5788,  35.7773,2,  35.7710,2,    180.9,2,   179.8,2,    5.38,2,   13.56,2,    0.00,2,    0.82,2,   2.335,2,   1.311,2,   0.052,2,    1.12,2,  2153.6,2,  2349.6,2,   7.8288,6,    25.00,-999.000,9,-999.0000,9, -999.00,9,  13.5632,2, -999.00,9,  -999.0,9,  -999.0,-999.000,9,-999.000,-999.000,9, -999.00,9, -999.00,9, -999.00,9,  33.5150, -52.3236,-999.000,-999.0000, -999.00,  13.4916,  13.5632,2,    35.9397,2,  -999.0,9,     -999.0,9,     -999.0,9,     -999.0,9,       0210
33AT20120419,        A20,      56,          1,         23,         23,2,20120506,       0025,    33.5074,   -52.3276,       5574,   705.6,  11.2737,  35.4586,2,  35.4485,2,    157.3,2,   156.0,2,    9.54,2,   19.63,2,    0.00,2,    1.22,2,-999.000,9,-999.000,9,-999.000,9, -999.00,9,  2176.3,2,  2332.9,2,   7.7402,6,    25.00,-999.000,9,-999.0000,9, -999.00,9,  11.2424,2, -999.00,9,  -999.0,9,  -999.0,-999.000,9,-999.000,-999.000,9, -999.00,9, -999.00,9, -999.00,9,  33.5148, -52.3237,-999.000,-999.0000, -999.00,  11.1829,  11.2424,2,    35.6157,2,  -999.0,9,     -999.0,9,     -999.0,9,     -999.0,9,       0207
33AT20120419,        A20,      56,          1,         22,         22,2,20120506,       0025,    33.5074,   -52.3276,       5574,   809.0,   8.9627,  35.2129,2,  35.2134,2,    157.6,2,   158.1,2,   12.68,2,   22.44,2,    0.00,2,    1.43,2,   1.792,2,   0.823,2,   0.035,2,    0.63,2,  2188.1,6,  2324.8,2,   7.6896,2,    25.00,-999.000,9,-999.0000,9, -999.00,9,   8.9614,2, -999.00,9,  -999.0,9,  -999.0,-999.000,9,-999.000,-999.000,9, -999.00,9, -999.00,9, -999.00,9,  33.5147, -52.3237,-999.000,-999.0000, -999.00,   8.8717,   8.9614,2,    35.3795,2,  -999.0,9,     -999.0,9,     -999.0,9,     -999.0,9,       0204
33AT20120419,        A20,      56,          1,         21,         21,2,20120506,       0025,    33.5074,   -52.3276,       5574,   909.2,   7.3182,  35.1327,2,  35.1360,2,    183.8,2,   184.9,2,   12.87,2,   21.30,2,    0.00,2,    1.39,2,   1.780,2,   0.902,2,   0.054,2,    0.63,2,  2185.8,2,  2321.1,2,   7.6913,2,    25.00,-999.000,9,-999.0000,9, -999.00,9,   7.3115,2, -999.00,9,  -999.0,9,  -999.0,-999.000,9,-999.000,-999.000,9, -999.00,9, -999.00,9, -999.00,9,  33.5143, -52.3239,-999.000,-999.0000, -999.00,   7.2263,   7.3115,2,    35.3017,2,  -999.0,9,     -999.0,9,     -999.0,9,     -999.0,9,       0202
33AT20120419,        A20,      56,          1,         20,         20,2,20120506,       0025,    33.5074,   -52.3276,       5574,  1002.9,   6.3910,  35.1082,2,  35.1091,2,    205.0,2,   205.7,2,   12.69,2,   20.21,2,    0.00,2,    1.33,2,   1.923,2,   0.981,2,   0.076,2,    0.55,2,  2183.3,2,  2319.4,2,   7.6996,2,    25.00,-999.000,9,-999.0000,9, -999.00,9,   6.3936,2, -999.00,9,  -999.0,9,  -999.0,-999.000,9,-999.000,-999.000,9, -999.00,9, -999.00,9, -999.00,9,  33.5141, -52.3240,-999.000,-999.0000, -999.00,   6.2960,   6.3936,2,    35.2746,2,  -999.0,9,     -999.0,9,     -999.0,9,     -999.0,9,       0200
33AT20120419,        A20,      56,          1,         19,         19,2,20120506,       0025,    33.5074,   -52.3276,       5574,  1112.6,   5.7264,  35.1018,2,  35.1018,2,    222.5,2,   225.0,2,   12.19,2,   19.11,2,    0.00,2,    1.26,2,   2.103,2,   1.073,2,   0.115,2,    0.61,2,  2177.6,2,  2319.2,2,   7.7119,2,    25.00,-999.000,9,-999.0000,9, -999.00,9,   5.7251,2, -999.00,9,  -999.0,9,  -999.0,-999.000,9,-999.000,-999.000,9, -999.00,9, -999.00,9, -999.00,9,  33.5139, -52.3241,-999.000,-999.0000, -999.00,   5.6257,   5.7251,2,    35.2673,2,  -999.0,9,     -999.0,9,     -999.0,9,     -999.0,9,       0157
33AT20120419,        A20,      56,          1,         18,         18,2,20120506,       0025,    33.5074,   -52.3276,       5574,  1213.1,   5.3014,  35.0838,2,  35.0829,2,    234.2,2,   235.6,2,   12.03,2,   18.61,2,    0.00,2,    1.23,2,   2.213,2,   1.130,2,   0.124,2,    0.58,2,  2174.7,2,  2317.2,6,   7.7169,2,    25.00,-999.000,9,-999.0000,9, -999.00,9,   5.3049,2, -999.00,9,  -999.0,9,  -999.0,-999.000,9,-999.000,-999.000,9, -999.00,9, -999.00,9, -999.00,9,  33.5137, -52.3242,-999.000,-999.0000, -999.00,   5.1946,   5.3049,2,    35.2483,2,  -999.0,9,     -999.0,9,     -999.0,9,     -999.0,9,       0154
33AT20120419,        A20,      56,          1,         17,         17,2,20120506,       0025,    33.5074,   -52.3276,       5574,  1312.9,   4.8569,  35.0436,2,  35.0453,2,    245.3,2,   246.1,2,   11.70,2,   18.13,2,    0.00,2,    1.19,2,-999.000,9,-999.000,9,-999.000,9, -999.00,9,  -999.0,9,  -999.0,9,-999.0000,9,  -999.00,-999.000,9,-999.0000,9, -999.00,9,   4.8535,2, -999.00,9,  -999.0,9,  -999.0,-999.000,9,-999.000,-999.000,9, -999.00,9, -999.00,9, -999.00,9,  33.5136, -52.3242,-999.000,-999.0000, -999.00,   4.7448,   4.8535,2,    35.2106,2,  -999.0,9,     -999.0,9,     -999.0,9,     -999.0,9,       0152
33AT20120419,        A20,      56,          1,         16,         16,2,20120506,       0025,    33.5074,   -52.3276,       5574,  1412.1,   4.5563,  35.0201,2,  35.0209,2,    254.6,2,   252.9,2,   11.56,2,   17.90,2,    0.00,2,    1.18,2,   2.554,2,   1.300,2,   0.153,2,    0.69,2,  2169.4,2,  2313.2,2,   7.7202,2,    25.00,-999.000,9,-999.0000,9, -999.00,9,   4.5561,2, -999.00,9,  -999.0,9,  -999.0,-999.000,9,-999.000,-999.000,9, -999.00,9, -999.00,9, -999.00,9,  33.5134, -52.3243,-999.000,-999.0000, -999.00,   4.4380,   4.5561,2,    35.1860,2,  -999.0,9,     -999.0,9,     -999.0,9,     -999.0,9,       0149
33AT20120419,        A20,      56,          1,         15,         15,2,20120506,       0025,    33.5074,   -52.3276,       5574,  1618.2,   4.2595,  35.0100,2,  35.0109,2,    256.6,2,   256.2,2,   12.47,2,   17.91,2,    0.00,2,    1.18,2,   2.134,2,   1.053,2,   0.126,2,    0.51,2,  2166.2,2,  2313.6,2,   7.7249,2,    25.00,-999.000,9,-999.0000,9, -999.00,9,   4.2594,2, -999.00,9,  -999.0,9,  -999.0,-999.000,9,-999.000,-999.000,9, -999.00,9, -999.00,9, -999.00,9,  33.5133, -52.3244,-999.000,-999.0000, -999.00,   4.1252,   4.2594,2,    35.1760,2,  -999.0,9,     -999.0,9,     -999.0,9,     -999.0,9,       0145
33AT20120419,        A20,      56,          1,         14,         14,2,20120506,       0025,    33.5074,   -52.3276,       5574,  1821.7,   3.9578,  34.9935,2,  34.9943,2,    260.9,2,   259.1,2,   13.59,2,   17.88,2,    0.00,2,    1.18,2,   1.827,2,   0.883,2,   0.101,2,    0.35,2,  2166.1,2,  2315.6,2,   7.7299,2,    25.00,-999.000,9,-999.0000,9, -999.00,9,   3.9575,2, -999.00,9,  -999.0,9,  -999.0,-999.000,9,-999.000,-999.000,9, -999.00,9, -999.00,9, -999.00,9,  33.5129, -52.3245,-999.000,-999.0000, -999.00,   3.8080,   3.9575,2,    35.1594,2,  -999.0,9,     -999.0,9,     -999.0,9,     -999.0,9,       0141
33AT20120419,        A20,      56,          1,         13,         13,2,20120506,       0025,    33.5074,   -52.3276,       5574,  2023.4,   3.6888,  34.9740,2,  34.9747,2,    262.4,2,   261.9,2,   14.75,2,   17.87,2,    0.00,2,    1.19,2,   1.606,2,   0.773,2,   0.077,2,    0.30,2,  2164.4,2,  2313.7,6,   7.7319,2,    25.00,-999.000,9,-999.0000,9, -999.00,9,   3.6884,2, -999.00,9,  -999.0,9,  -999.0,-999.000,9,-999.000,-999.000,9, -999.00,9, -999.00,9, -999.00,9,  33.5125, -52.3248,-999.000,-999.0000, -999.00,   3.5236,   3.6884,2,    35.1396,2,  -999.0,9,     -999.0,9,     -999.0,9,     -999.0,9,       0137
33AT20120419,        A20,      56,          1,         12,         12,2,20120506,       0025,    33.5074,   -52.3276,       5574,  2279.6,   3.4440,  34.9631,2,  34.9656,2,    259.6,2,   261.8,2,   17.11,2,   18.03,2,    0.00,2,    1.21,2,   1.222,2,   0.570,2,   0.052,2,    0.21,2,  -999.0,9,  -999.0,9,-999.0000,9,  -999.00,-999.000,9,-999.0000,9, -999.00,9,   3.4514,2, -999.00,9,  -999.0,9,  -999.0,-999.000,9,-999.000,-999.000,9, -999.00,9, -999.00,9, -999.00,9,  33.5122, -52.3250,-999.000,-999.0000, -999.00,   3.2578,   3.4514,2,    35.1305,2,  -999.0,9,     -999.0,9,     -999.0,9,     -999.0,9,       0131
33AT20120419,        A20,      56,          1,         11,         11,2,20120506,       0025,    33.5074,   -52.3276,       5574,  2530.1,   3.2074,  34.9545,2,  34.9546,2,    258.1,2,   260.9,2,   19.95,2,   18.31,2,    0.00,2,    1.24,2,-999.000,9,-999.000,9,-999.000,9, -999.00,9,  2166.0,2,  2319.4,2,   7.7375,2,    25.00,-999.000,9,-999.0000,9, -999.00,9,   3.2074,2, -999.00,9,  -999.0,9,  -999.0,-999.000,9,-999.000,-999.000,9, -999.00,9, -999.00,9, -999.00,9,  33.5120, -52.3252,-999.000,-999.0000, -999.00,   3.0006,   3.2074,2,    35.1195,2,  -999.0,9,     -999.0,9,     -999.0,9,     -999.0,9,       0126
33AT20120419,        A20,      56,          1,         10,         10,2,20120506,       0025,    33.5074,   -52.3276,       5574,  2785.1,   3.0596,  34.9522,2,  34.9525,2,    258.0,2,   257.3,2,   23.93,2,   18.95,2,    0.00,2,    1.28,2,   0.454,2,   0.200,2,   0.014,2,    0.08,2,  -999.0,9,  -999.0,9,-999.0000,9,  -999.00,-999.000,9,-999.0000,9, -999.00,9,   3.0592,2, -999.00,9,  -999.0,9,  -999.0,-999.000,9,-999.000,-999.000,9, -999.00,9, -999.00,9, -999.00,9,  33.5118, -52.3254,-999.000,-999.0000, -999.00,   2.8298,   3.0592,2,    35.1173,2,  -999.0,9,     -999.0,9,     -999.0,9,     -999.0,9,       0121
33AT20120419,        A20,      56,          1,          9,          9,2,20120506,       0025,    33.5074,   -52.3276,       5574,  3042.8,   2.8710,  34.9367,2,-999.0000,9,    260.8,2,   260.7,2, -999.00,9, -999.00,9, -999.00,9, -999.00,9,   0.555,2,   0.236,2,   0.029,2,    0.13,2,  2168.6,2,  2323.5,2,   7.7411,2,    25.00,-999.000,9,-999.0000,9, -999.00,9,   2.8718,2, -999.00,9,  -999.0,9,  -999.0,-999.000,9,-999.000,-999.000,9, -999.00,9, -999.00,9, -999.00,9,  33.5114, -52.3257,-999.000,-999.0000, -999.00,   2.6185,   2.8718,2,     -999.0,9,  -999.0,9,     -999.0,9,     -999.0,9,     -999.0,9,       0116
33AT20120419,        A20,      56,          1,          8,          8,2,20120506,       0025,    33.5074,   -52.3276,       5574,  3347.1,   2.6579,  34.9222,2,  34.9230,2,    260.1,2,   262.9,2,   25.65,2,   18.66,2,    0.00,2,    1.26,2,   0.513,2,   0.232,2,   0.022,2,    0.12,2,  -999.0,9,  -999.0,9,-999.0000,9,  -999.00,-999.000,9,-999.0000,9, -999.00,9,   2.6574,2, -999.00,9,  -999.0,9,  -999.0,-999.000,9,-999.000,-999.000,9, -999.00,9, -999.00,9, -999.00,9,  33.5111, -52.3258,-999.000,-999.0000, -999.00,   2.3780,   2.6574,2,    35.0877,2,  -999.0,9,     -999.0,9,     -999.0,9,     -999.0,9,       0110
33AT20120419,        A20,      56,          1,          7,          7,2,20120506,       0025,    33.5074,   -52.3276,       5574,  3655.6,   2.4974,  34.9103,2,  34.9102,2,    264.3,2,   264.2,2,   27.46,2,   18.70,2,    0.00,2,    1.26,2,   0.531,2,   0.230,2,   0.020,2,    0.09,2,  2169.7,2,  2326.8,2,   7.7402,2,    25.00,-999.000,9,-999.0000,9, -999.00,9,   2.4971,2, -999.00,9,  -999.0,9,  -999.0,-999.000,9,-999.000,-999.000,9, -999.00,9, -999.00,9, -999.00,9,  33.5104, -52.3262,-999.000,-999.0000, -999.00,   2.1879,   2.4971,2,    35.0748,2,  -999.0,9,     -999.0,9,     -999.0,9,     -999.0,9,       0104