BOTTLE,20220712CCHSIOCBG
EXPOCODE,SECT_ID,STNNBR,CASTNO,SAMPNO,BTLNBR,BTLNBR_FLAG_W,DATE,TIME,LATITUDE,LONGITUDE,DEPTH,CTDPRS,CTDTMP,CTDSAL,CTDSAL_FLAG_W,SALNTY,SALNTY_FLAG_W,CTDOXY,CTDOXY_FLAG_W,OXYGEN,OXYGEN_FLAG_W,SILCAT,SILCAT_FLAG_W,NITRAT,NITRAT_FLAG_W,NITRIT,NITRIT_FLAG_W,PHSPHT,PHSPHT_FLAG_W,CFC-11,CFC-11_FLAG_W,CFC-12,CFC-12_FLAG_W,CFC113,CFC113_FLAG_W,SF6,SF6_FLAG_W,TCARBN,TCARBN_FLAG_W,ALKALI,ALKALI_FLAG_W,PH_TOT,PH_TOT_FLAG_W,PH_TMP,TRITUM,TRITUM_FLAG_W,HELIUM,HELIUM_FLAG_W,DELHE3,DELHE3_FLAG_W,REFTMP,REFTMP_FLAG_W,DELC13,DELC13_FLAG_W,DELC14,DELC14_FLAG_W,C14ERR,NEON,NEON_FLAG_W,NEONER,CCL4,CCL4_FLAG_W,DELO18,DELO18_FLAG_W,DOC,DOC_FLAG_W,TDN,TDN_FLAG_W,BTL_LAT,BTL_LON,TRITER,HELIER,DELHER,THETA,SBE35,SBE35_FLAG_W,SALTREF,SALTREF_FLAG_W,14C-DOC,14C-DOC_FLAG_W,DELO17,DELO17_FLAG_W,O2/AR,O2/AR_FLAG_W,SIP,SIP_FLAG_W,BTL_TIME
,,,,,,,,,,,METERS,DBAR,ITS-90,PSS-78,,PSS-78,,UMOL/KG,,UMOL/KG,,UMOL/KG,,UMOL/KG,,UMOL/KG,,UMOL/KG,,PMOL/KG,,PMOL/KG,,PMOL/KG,,FMOL/KG,,UMOL/KG,,UMOL/KG,,,,DEG C,TU,,NMOL/KG,,PERCNT,,DEG C,,/MILLE,,/MILLE,,/MILLE,NMOL/KG,,NMOL/KG,PMOL/KG,,/MILLE,,UMOL/KG,,UMOL/KG,,,,TU,NMOL/KG,PERCNT,DEG C,ITS-90,,G/KG,,/MILLE,,/MILLE,,,,,,
33AT20120419,        A20,       9,          1,         20,         20,2,20120422,       0628,     7.6202,   -53.1405,        950,     3.8,  27.7791,  28.1188,2,  28.1394,2,    228.3,2,   228.1,2,   13.19,2,    0.01,2,    0.01,2,    0.01,2,   1.554,2,   1.033,2,   0.123,2,    0.98,3,  1614.5,6,  1926.2,2,   8.2175,2,    25.00,-999.000,9,-999.0000,9, -999.00,9,  27.7815,2, -999.00,9,  -999.0,9,  -999.0,-999.000,9,-999.000,   0.930,2, -999.00,9, -999.00,9, -999.00,9,   7.6212, -53.1395,-999.000,-999.0000, -999.00,  27.7782,  27.7815,2,    28.2721,2,  -999.0,9,     -999.0,9,     -999.0,9,     -999.0,9,       0714
33AT20120419,        A20,       9,          1,         19,         19,2,20120422,       0628,     7.6202,   -53.1405,        950,    35.3,  27.0347,  36.1022,2,  36.1043,2,    197.2,2,   196.9,2,    0.75,2,    0.00,2,    0.00,2,    0.00,2,   1.483,2,   0.961,2,   0.115,2,    1.19,3,  2023.8,2,  2366.4,2,   8.0905,6,    25.00,-999.000,9,-999.0000,9, -999.00,9,  27.0368,2, -999.00,9,  -999.0,9,  -999.0,-999.000,9,-999.000,   0.880,2, -999.00,9, -999.00,9, -999.00,9,   7.6211, -53.1396,-999.000,-999.0000, -999.00,  27.0266,  27.0368,2,    36.2745,2,  -999.0,9,     -999.0,9,     -999.0,9,     -999.0,9,       0711
33AT20120419,        A20,       9,          1,         18,         18,2,20120422,       0628,     7.6202,   -53.1405,        950,    61.3,  26.6357,  36.1588,2,  36.1621,2,    199.8,2,   199.3,2,    0.72,2,    0.00,2,    0.00,2,    0.00,2,   1.513,2,   0.994,2,   0.115,2,    0.79,3,  2027.8,2,  2368.7,2,   8.0876,2,    25.00,-999.000,9,-999.0000,9, -999.00,9,  26.6372,2, -999.00,9,  -999.0,9,  -999.0,-999.000,9,-999.000,   0.840,2, -999.00,9, -999.00,9, -999.00,9,   7.6210, -53.1397,-999.000,-999.0000, -999.00,  26.6217,  26.6372,2,    36.3326,2,  -999.0,9,     -999.0,9,     -999.0,9,     -999.0,9,       0708
33AT20120419,        A20,       9,          1,         17,         17,2,20120422,       0628,     7.6202,   -53.1405,        950,    86.0,  25.4570,  36.2248,2,  36.2432,2,    197.4,2,   189.8,2,    0.80,2,    0.14,2,    0.14,2,    0.03,2,   1.584,2,   1.014,2,   0.106,2,    1.02,3,  -999.0,9,  -999.0,9,-999.0000,9,  -999.00,-999.000,9,-999.0000,9, -999.00,9,  25.4456,2, -999.00,9,  -999.0,9,  -999.0,-999.000,9,-999.000,   0.710,2, -999.00,9, -999.00,9, -999.00,9,   7.6209, -53.1398,-999.000,-999.0000, -999.00,  25.4380,  25.4456,2,    36.4141,2,  -999.0,9,     -999.0,9,     -999.0,9,     -999.0,9,       0705
33AT20120419,        A20,       9,          1,         16,         16,2,20120422,       0628,     7.6202,   -53.1405,        950,   111.1,  20.7572,  36.4270,2,  36.4341,2,    139.3,2,   133.2,2,    2.58,2,    8.66,2,    0.09,2,    0.50,2,   1.801,2,   1.119,2,   0.070,2,    1.14,3,  2152.0,2,  2383.5,2,   7.8876,2,    25.00,-999.000,9,-999.0000,9, -999.00,9,  20.7916,2, -999.00,9,  -999.0,9,  -999.0,-999.000,9,-999.000,   0.220,2, -999.00,9, -999.00,9, -999.00,9,   7.6208, -53.1399,-999.000,-999.0000, -999.00,  20.7360,  20.7916,2,    36.6059,2,  -999.0,9,     -999.0,9,     -999.0,9,     -999.0,9,       0702
33AT20120419,        A20,       9,          1,         15,         15,2,20120422,       0628,     7.6202,   -53.1405,        950,   135.3,  17.5831,  36.1357,2,  36.1308,2,    121.5,2,   122.0,2,    4.44,2,   14.32,2,    0.02,2,    0.86,2,   1.912,2,   1.138,2,   0.027,2,    0.43,3,  2175.4,2,  2365.3,2,   7.8062,2,    25.00,-999.000,9,-999.0000,9, -999.00,9,  17.5837,2, -999.00,9,  -999.0,9,  -999.0,-999.000,9,-999.000,   0.150,2, -999.00,9, -999.00,9, -999.00,9,   7.6207, -53.1400,-999.000,-999.0000, -999.00,  17.5601,  17.5837,2,    36.3012,2,  -999.0,9,     -999.0,9,     -999.0,9,     -999.0,9,       0700
33AT20120419,        A20,       9,          1,         14,         14,2,20120422,       0628,     7.6202,   -53.1405,        950,   159.7,  13.3812,  35.4422,2,  35.4159,2,    134.8,2,   133.0,2,    7.77,2,   19.43,2,    0.01,2,    1.26,2,   2.026,2,   1.165,2,   0.028,2,    0.90,3,  2177.1,2,  2329.7,2,   7.7323,6,    25.00,-999.000,9,-999.0000,9, -999.00,9,  13.2920,2, -999.00,9,  -999.0,9,  -999.0,-999.000,9,-999.000,   0.230,2, -999.00,9, -999.00,9, -999.00,9,   7.6207, -53.1400,-999.000,-999.0000, -999.00,  13.3587,  13.2920,2,    35.5829,2,  -999.0,9,     -999.0,9,     -999.0,9,     -999.0,9,       0658
33AT20120419,        A20,       9,          1,         13,         13,2,20120422,       0628,     7.6202,   -53.1405,        950,   185.5,  12.2150,  35.2511,2,  35.2444,2,    134.7,2,   134.2,2,    8.94,2,   21.17,2,    0.01,2,    1.39,2,   1.980,2,   1.103,2,   0.026,2,    0.37,3,  -999.0,9,  -999.0,9,-999.0000,9,  -999.00,-999.000,9,-999.0000,9, -999.00,9,  12.2078,2, -999.00,9,  -999.0,9,  -999.0,-999.000,9,-999.000,   0.270,2, -999.00,9, -999.00,9, -999.00,9,   7.6207, -53.1401,-999.000,-999.0000, -999.00,  12.1905,  12.2078,2,    35.4106,2,  -999.0,9,     -999.0,9,     -999.0,9,     -999.0,9,       0656
33AT20120419,        A20,       9,          1,         12,         12,2,20120422,       0628,     7.6202,   -53.1405,        950,   210.9,  11.1435,  35.1008,2,  35.0920,2,    135.1,2,   135.5,2,   10.31,2,   22.85,2,    0.01,2,    1.50,2,   1.941,2,   1.051,2,   0.027,2,    0.41,3,  2183.0,2,  2313.8,2,   7.6804,2,    25.00,-999.000,9,-999.0000,9, -999.00,9,  11.1412,2, -999.00,9,  -999.0,9,  -999.0,-999.000,9,-999.000,   0.280,2, -999.00,9, -999.00,9, -999.00,9,   7.6206, -53.1401,-999.000,-999.0000, -999.00,  11.1172,  11.1412,2,    35.2575,2,  -999.0,9,     -999.0,9,     -999.0,9,     -999.0,9,       0654
33AT20120419,        A20,       9,          1,         11,         11,2,20120422,       0628,     7.6202,   -53.1405,        950,   236.2,  10.4633,  35.0072,2,  35.0060,2,    135.8,2,   134.5,2,   11.21,2,   24.03,2,    0.01,2,    1.58,2,   1.895,2,   1.032,2,   0.033,2,    0.54,3,  -999.0,9,  -999.0,9,-999.0000,9,  -999.00,-999.000,9,-999.0000,9, -999.00,9,  10.4620,2, -999.00,9,  -999.0,9,  -999.0,-999.000,9,-999.000,   0.320,2, -999.00,9, -999.00,9, -999.00,9,   7.6206, -53.1401,-999.000,-999.0000, -999.00,  10.4350,  10.4620,2,    35.1711,2,  -999.0,9,     -999.0,9,     -999.0,9,     -999.0,9,       0653
33AT20120419,        A20,       9,          1,         10,         10,2,20120422,       0628,     7.6202,   -53.1405,        950,   266.4,  10.0183,  34.9483,2,  34.9468,2,    128.5,2,   128.4,2,   12.27,2,   25.63,2,    0.00,2,    1.68,2,-999.000,5,-999.000,5,-999.000,5, -999.00,5,  2192.9,2,  2308.0,6,   7.6414,2,    25.00,-999.000,9,-999.0000,9, -999.00,9,  10.0188,2, -999.00,9,  -999.0,9,  -999.0,-999.000,9,-999.000,-999.000,5, -999.00,9, -999.00,9, -999.00,9,   7.6206, -53.1401,-999.000,-999.0000, -999.00,   9.9873,  10.0188,2,    35.1116,2,  -999.0,9,     -999.0,9,     -999.0,9,     -999.0,9,       0651
33AT20120419,        A20,       9,          1,          9,          9,2,20120422,       0628,     7.6202,   -53.1405,        950,   316.7,   9.4762,  34.8904,2,  34.8891,2,    123.1,2,   121.9,2,   13.65,2,   27.55,2,    0.00,2,    1.79,2,   1.593,2,   0.883,2,   0.027,2,    0.11,3,  2199.7,2,  2304.3,2,   7.6136,2,    25.00,-999.000,9,-999.0000,9, -999.00,9,   9.4773,2, -999.00,9,  -999.0,9,  -999.0,-999.000,9,-999.000,   0.270,2, -999.00,9, -999.00,9, -999.00,9,   7.6206, -53.1401,-999.000,-999.0000, -999.00,   9.4405,   9.4773,2,    35.0537,2,  -999.0,9,     -999.0,9,     -999.0,9,     -999.0,9,       0649
33AT20120419,        A20,       9,          1,          8,          8,2,20120422,       0628,     7.6202,   -53.1405,        950,   367.6,   8.9611,  34.8351,2,  34.8347,2,    115.9,2,   114.6,2,   15.03,2,   29.46,2,    0.00,2,    1.89,2,   1.364,2,   0.750,2,   0.023,2,    0.11,3,  2207.6,2,  2303.0,2,   7.5874,6,    25.00,-999.000,9,-999.0000,9, -999.00,9,   8.9608,2, -999.00,9,  -999.0,9,  -999.0,-999.000,9,-999.000,   0.240,2, -999.00,9, -999.00,9, -999.00,9,   7.6206, -53.1402,-999.000,-999.0000, -999.00,   8.9209,   8.9608,2,    34.9989,2,  -999.0,9,     -999.0,9,     -999.0,9,     -999.0,9,       0647
33AT20120419,        A20,       9,          1,          7,          7,2,20120422,       0628,     7.6202,   -53.1405,        950,   417.8,   8.2961,  34.7654,2,  34.7664,2,    114.5,2,   113.7,2,   16.71,2,   31.01,2,    0.00,2,    1.99,2,   1.160,2,   0.639,2,   0.019,2,    0.00,3,  -999.0,9,  -999.0,9,-999.0000,9,  -999.00,-999.000,9,-999.0000,9, -999.00,9,   8.2963,2, -999.00,9,  -999.0,9,  -999.0,-999.000,9,-999.000,   0.250,2, -999.00,9, -999.00,9, -999.00,9,   7.6205, -53.1402,-999.000,-999.0000, -999.00,   8.2524,   8.2963,2,    34.9304,2,  -999.0,9,     -999.0,9,     -999.0,9,     -999.0,9,       0645
33AT20120419,        A20,       9,          1,          6,          6,2,20120422,       0628,     7.6202,   -53.1405,        950,   466.6,   8.0268,  34.7526,2,  34.7510,2,    116.2,2,   114.6,2,   17.64,2,   31.53,2,    0.00,2,    2.02,2,   1.047,2,   0.579,2,   0.018,2,    0.00,3,  2213.1,2,  2300.6,2,   7.5648,2,    25.00,-999.000,9,-999.0000,9, -999.00,9,   8.0249,2, -999.00,9,  -999.0,9,  -999.0,-999.000,9,-999.000,   0.260,2, -999.00,9, -999.00,9, -999.00,9,   7.6205, -53.1402,-999.000,-999.0000, -999.00,   7.9788,   8.0249,2,    34.9149,2,  -999.0,9,     -999.0,9,     -999.0,9,     -999.0,9,       0643
33AT20120419,        A20,       9,          1,          5,          5,2,20120422,       0628,     7.6202,   -53.1405,        950,   538.4,   7.3451,  34.6898,2,  34.6826,2,    124.9,2,   125.8,2,   19.64,2,   31.76,2,    0.00,2,    2.07,2,   0.992,2,   0.544,2,   0.027,2,    0.00,3,  -999.0,9,  -999.0,9,-999.0000,9,  -999.00,-999.000,9,-999.0000,9, -999.00,9,   7.3534,2, -999.00,9,  -999.0,9,  -999.0,-999.000,9,-999.000,   0.300,2, -999.00,9, -999.00,9, -999.00,9,   7.6205, -53.1402,-999.000,-999.0000, -999.00,   7.2923,   7.3534,2,    34.8461,2,  -999.0,9,     -999.0,9,     -999.0,9,     -999.0,9,       0640
33AT20120419,        A20,       9,          1,          4,          4,2,20120422,       0628,     7.6202,   -53.1405,        950,   638.1,   6.1712,  34.5945,2,  34.5936,2,    134.2,2,   133.1,2,   23.98,2,   33.39,2,    0.00,2,    2.21,2,   0.612,2,   0.341,2,   0.018,2,    0.00,3,  2215.8,2,  2300.0,2,   7.5552,2,    25.00,-999.000,9,-999.0000,9, -999.00,9,   6.1697,2, -999.00,9,  -999.0,9,  -999.0,-999.000,9,-999.000,   0.260,2, -999.00,9, -999.00,9, -999.00,9,   7.6204, -53.1403,-999.000,-999.0000, -999.00,   6.1139,   6.1697,2,    34.7567,2,  -999.0,9,     -999.0,9,     -999.0,9,     -999.0,9,       0637
33AT20120419,        A20,       9,          1,          3,          3,2,20120422,       0628,     7.6202,   -53.1405,        950,   739.4,   5.8430,  34.6218,2,  34.6215,2,    131.4,2,   129.4,2,   25.80,2,   34.05,2,    0.00,2,    2.25,2,   0.325,2,   0.190,2,   0.010,2,    0.00,3,  -999.0,9,  -999.0,9,-999.0000,9,  -999.00,-999.000,9,-999.0000,9, -999.00,9,   5.8456,2, -999.00,9,  -999.0,9,  -999.0,-999.000,9,-999.000,   0.170,2, -999.00,9, -999.00,9, -999.00,9,   7.6204, -53.1403,-999.000,-999.0000, -999.00,   5.7779,   5.8456,2,    34.7848,2,  -999.0,9,     -999.0,9,     -999.0,9,     -999.0,9,       0634
33AT20120419,        A20,       9,          1,          2,          2,2,20120422,       0628,     7.6202,   -53.1405,        950,   840.7,   5.1860,  34.6294,2,  34.6278,2,    141.0,2,   140.0,2,   28.38,2,   33.52,2,    0.00,2,    2.24,2,   0.166,2,   0.101,2,   0.004,2,    0.00,3,  2220.7,2,  2305.9,2,   7.5567,6,    25.00,-999.000,9,-999.0000,9, -999.00,9,   5.1861,2, -999.00,9,  -999.0,9,  -999.0,-999.000,9,-999.000,   0.100,2, -999.00,9, -999.00,9, -999.00,9,   7.6203, -53.1404,-999.000,-999.0000, -999.00,   5.1156,   5.1861,2,    34.7911,2,  -999.0,9,     -999.0,9,     -999.0,9,     -999.0,9,       0631
33AT20120419,        A20,       9,          1,          1,          1,2,20120422,       0628,     7.6202,   -53.1405,        950,   921.9,   5.0727,  34.6756,2,  34.6730,2,    143.3,2,   142.5,2,   28.72,2,   32.83,2,    0.00,2,    2.22,2,   0.098,2,   0.062,2,   0.005,2,    0.00,3,  2221.1,6,  2308.9,2,   7.5643,2,    25.00,-999.000,9,-999.0000,9, -999.00,9,   5.0725,2, -999.00,9,  -999.0,9,  -999.0,-999.000,9,-999.000,   0.080,2, -999.00,9, -999.00,9, -999.00,9,   7.6202, -53.1405,-999.000,-999.0000, -999.00,   4.9956,   5.0725,2,    34.8365,2,  -999.0,9,     -999.0,9,     -999.0,9,     -999.0,9,       0628