BOTTLE,20220712CCHSIOCBG
EXPOCODE,SECT_ID,STNNBR,CASTNO,SAMPNO,BTLNBR,BTLNBR_FLAG_W,DATE,TIME,LATITUDE,LONGITUDE,DEPTH,CTDPRS,CTDTMP,CTDSAL,CTDSAL_FLAG_W,SALNTY,SALNTY_FLAG_W,CTDOXY,CTDOXY_FLAG_W,OXYGEN,OXYGEN_FLAG_W,SILCAT,SILCAT_FLAG_W,NITRAT,NITRAT_FLAG_W,NITRIT,NITRIT_FLAG_W,PHSPHT,PHSPHT_FLAG_W,CFC-11,CFC-11_FLAG_W,CFC-12,CFC-12_FLAG_W,CFC113,CFC113_FLAG_W,SF6,SF6_FLAG_W,TCARBN,TCARBN_FLAG_W,ALKALI,ALKALI_FLAG_W,PH_TOT,PH_TOT_FLAG_W,PH_TMP,TRITUM,TRITUM_FLAG_W,HELIUM,HELIUM_FLAG_W,DELHE3,DELHE3_FLAG_W,REFTMP,REFTMP_FLAG_W,DELC13,DELC13_FLAG_W,DELC14,DELC14_FLAG_W,C14ERR,NEON,NEON_FLAG_W,NEONER,CCL4,CCL4_FLAG_W,DELO18,DELO18_FLAG_W,DOC,DOC_FLAG_W,TDN,TDN_FLAG_W,BTL_LAT,BTL_LON,TRITER,HELIER,DELHER,THETA,SBE35,SBE35_FLAG_W,SALTREF,SALTREF_FLAG_W,14C-DOC,14C-DOC_FLAG_W,DELO17,DELO17_FLAG_W,O2/AR,O2/AR_FLAG_W,SIP,SIP_FLAG_W,BTL_TIME
,,,,,,,,,,,METERS,DBAR,ITS-90,PSS-78,,PSS-78,,UMOL/KG,,UMOL/KG,,UMOL/KG,,UMOL/KG,,UMOL/KG,,UMOL/KG,,PMOL/KG,,PMOL/KG,,PMOL/KG,,FMOL/KG,,UMOL/KG,,UMOL/KG,,,,DEG C,TU,,NMOL/KG,,PERCNT,,DEG C,,/MILLE,,/MILLE,,/MILLE,NMOL/KG,,NMOL/KG,PMOL/KG,,/MILLE,,UMOL/KG,,UMOL/KG,,,,TU,NMOL/KG,PERCNT,DEG C,ITS-90,,G/KG,,/MILLE,,/MILLE,,,,,,
33AT20120419,        A20,      18,          1,          6,          6,2,20120423,       2234,     9.0880,   -52.4815,       4710,  3445.2,   2.5562,  34.9121,2,  34.9115,2,    257.4,2,   257.6,2,   32.11,2,   19.78,2,    0.00,2,    1.35,2,   0.349,2,   0.148,2,   0.016,2,    0.00,2,  2177.4,2,  2331.3,2,   7.7416,2,    25.00,-999.000,9,-999.0000,9, -999.00,9,   2.5567,2, -999.00,9,  -999.0,9,  -999.0,-999.000,9,-999.000,-999.000,9, -999.00,9, -999.00,9, -999.00,9,   9.0882, -52.4814,-999.000,-999.0000, -999.00,   2.2683,   2.5567,2,    35.0761,2,  -999.0,9,     -999.0,9,     -999.0,9,     -999.0,9,       2301
33AT20120419,        A20,      18,          1,          5,          5,2,20120423,       2234,     9.0880,   -52.4815,       4710,  3750.1,   2.3960,  34.8997,2,  34.8981,2,    260.2,2,   260.3,2,   33.25,2,   19.59,2,    0.00,2,    1.34,2,   0.410,2,   0.178,2,   0.021,2,    0.00,2,  -999.0,9,  -999.0,9,-999.0000,9,  -999.00,-999.000,9,-999.0000,9, -999.00,9,   2.3964,2, -999.00,9,  -999.0,9,  -999.0,-999.000,9,-999.000,-999.000,9, -999.00,9, -999.00,9, -999.00,9,   9.0881, -52.4814,-999.000,-999.0000, -999.00,   2.0788,   2.3964,2,    35.0626,2,  -999.0,9,     -999.0,9,     -999.0,9,     -999.0,9,       2255
33AT20120419,        A20,      18,          1,          4,          4,2,20120423,       2234,     9.0880,   -52.4815,       4710,  4058.3,   2.2985,  34.8921,2,  34.8916,2,    262.0,2,   262.4,2,   33.23,2,   19.24,2,    0.00,2,    1.32,2,   0.473,2,   0.208,2,   0.026,2,    0.00,2,  2176.8,2,  2333.1,2,   7.7358,2,    25.00,-999.000,9,-999.0000,9, -999.00,9,   2.2983,2, -999.00,9,  -999.0,9,  -999.0,-999.000,9,-999.000,-999.000,9, -999.00,9, -999.00,9, -999.00,9,   9.0881, -52.4814,-999.000,-999.0000, -999.00,   1.9492,   2.2983,2,    35.0561,2,  -999.0,9,     -999.0,9,     -999.0,9,     -999.0,9,       2249
33AT20120419,        A20,      18,          1,          3,          3,2,20120423,       2234,     9.0880,   -52.4815,       4710,  4364.0,   2.2039,  34.8790,2,  34.8782,2,    258.7,2,   258.5,2,   39.35,2,   20.23,2,    0.00,2,    1.39,2,   0.391,2,   0.167,2,   0.022,2,    0.00,2,  2183.5,2,  2338.0,2,   7.7297,6,    25.00,-999.000,9,-999.0000,9, -999.00,9,   2.2043,2, -999.00,9,  -999.0,9,  -999.0,-999.000,9,-999.000,-999.000,9, -999.00,9, -999.00,9, -999.00,9,   9.0880, -52.4815,-999.000,-999.0000, -999.00,   1.8219,   2.2043,2,    35.0427,2,  -999.0,9,     -999.0,9,     -999.0,9,     -999.0,9,       2243
33AT20120419,        A20,      18,          1,          2,          2,2,20120423,       2234,     9.0880,   -52.4815,       4710,  4570.4,   2.1066,  34.8654,2,  34.8635,2,    255.2,2,   254.6,2,   46.16,2,   21.24,2,    0.00,2,    1.46,2,   0.313,2,   0.137,2,   0.019,2,    0.00,2,  -999.0,9,  -999.0,9,-999.0000,9,  -999.00,-999.000,9,-999.0000,9, -999.00,9,   2.1072,2, -999.00,9,  -999.0,9,  -999.0,-999.000,9,-999.000,-999.000,9, -999.00,9, -999.00,9, -999.00,9,   9.0880, -52.4815,-999.000,-999.0000, -999.00,   1.7031,   2.1072,2,    35.0279,2,  -999.0,9,     -999.0,9,     -999.0,9,     -999.0,9,       2239
33AT20120419,        A20,      18,          1,          1,          1,2,20120423,       2234,     9.0880,   -52.4815,       4710,  4770.2,   1.9228,  34.8410,2,  34.8412,2,    247.0,2,   247.2,2,   58.18,2,   23.00,2,    0.00,2,    1.58,2,   0.244,2,   0.104,2,   0.023,2,    0.00,2,  2206.8,6,  2351.2,2,   7.7082,2,    25.00,-999.000,9,-999.0000,9, -999.00,9,   1.9229,2, -999.00,9,  -999.0,9,  -999.0,-999.000,9,-999.000,-999.000,9, -999.00,9, -999.00,9, -999.00,9,   9.0880, -52.4815,-999.000,-999.0000, -999.00,   1.5012,   1.9229,2,    35.0055,2,  -999.0,9,     -999.0,9,     -999.0,9,     -999.0,9,       2234