BOTTLE,20220712CCHSIOCBG
EXPOCODE,SECT_ID,STNNBR,CASTNO,SAMPNO,BTLNBR,BTLNBR_FLAG_W,DATE,TIME,LATITUDE,LONGITUDE,DEPTH,CTDPRS,CTDTMP,CTDSAL,CTDSAL_FLAG_W,SALNTY,SALNTY_FLAG_W,CTDOXY,CTDOXY_FLAG_W,OXYGEN,OXYGEN_FLAG_W,SILCAT,SILCAT_FLAG_W,NITRAT,NITRAT_FLAG_W,NITRIT,NITRIT_FLAG_W,PHSPHT,PHSPHT_FLAG_W,CFC-11,CFC-11_FLAG_W,CFC-12,CFC-12_FLAG_W,CFC113,CFC113_FLAG_W,SF6,SF6_FLAG_W,TCARBN,TCARBN_FLAG_W,ALKALI,ALKALI_FLAG_W,PH_TOT,PH_TOT_FLAG_W,PH_TMP,TRITUM,TRITUM_FLAG_W,HELIUM,HELIUM_FLAG_W,DELHE3,DELHE3_FLAG_W,REFTMP,REFTMP_FLAG_W,DELC13,DELC13_FLAG_W,DELC14,DELC14_FLAG_W,C14ERR,NEON,NEON_FLAG_W,NEONER,CCL4,CCL4_FLAG_W,DELO18,DELO18_FLAG_W,DOC,DOC_FLAG_W,TDN,TDN_FLAG_W,BTL_LAT,BTL_LON,TRITER,HELIER,DELHER,THETA,SBE35,SBE35_FLAG_W,SALTREF,SALTREF_FLAG_W,14C-DOC,14C-DOC_FLAG_W,DELO17,DELO17_FLAG_W,O2/AR,O2/AR_FLAG_W,SIP,SIP_FLAG_W,BTL_TIME
,,,,,,,,,,,METERS,DBAR,ITS-90,PSS-78,,PSS-78,,UMOL/KG,,UMOL/KG,,UMOL/KG,,UMOL/KG,,UMOL/KG,,UMOL/KG,,PMOL/KG,,PMOL/KG,,PMOL/KG,,FMOL/KG,,UMOL/KG,,UMOL/KG,,,,DEG C,TU,,NMOL/KG,,PERCNT,,DEG C,,/MILLE,,/MILLE,,/MILLE,NMOL/KG,,NMOL/KG,PMOL/KG,,/MILLE,,UMOL/KG,,UMOL/KG,,,,TU,NMOL/KG,PERCNT,DEG C,ITS-90,,G/KG,,/MILLE,,/MILLE,,,,,,
33AT20120419,        A20,      56,          1,          6,          6,2,20120506,       0025,    33.5074,   -52.3276,       5574,  3962.2,   2.3548,  34.8981,2,  34.8988,2,    265.0,2,   264.0,2,   30.49,2,   18.98,2,    0.00,2,    1.28,2,   0.577,2,   0.255,2,   0.038,2,    0.09,2,  -999.0,9,  -999.0,9,-999.0000,9,  -999.00,-999.000,9,-999.0000,9, -999.00,9,   2.3549,2, -999.00,9,  -999.0,9,  -999.0,-999.000,9,-999.000,-999.000,9, -999.00,9, -999.00,9, -999.00,9,  33.5098, -52.3264,-999.000,-999.0000, -999.00,   2.0148,   2.3549,2,    35.0634,2,  -999.0,9,     -999.0,9,     -999.0,9,     -999.0,9,       0058
33AT20120419,        A20,      56,          1,          5,          5,2,20120506,       0025,    33.5074,   -52.3276,       5574,  4270.5,   2.2701,  34.8880,2,  34.8878,2,    260.8,2,   261.4,2,   35.28,2,   19.67,2,    0.00,2,    1.34,2,-999.000,9,-999.000,9,-999.000,9, -999.00,9,  2178.5,2,  2331.3,2,   7.7344,2,    25.00,-999.000,9,-999.0000,9, -999.00,9,   2.2703,2, -999.00,9,  -999.0,9,  -999.0,-999.000,9,-999.000,-999.000,9, -999.00,9, -999.00,9, -999.00,9,  33.5092, -52.3268,-999.000,-999.0000, -999.00,   1.8971,   2.2703,2,    35.0523,2,  -999.0,9,     -999.0,9,     -999.0,9,     -999.0,9,       0052
33AT20120419,        A20,      56,          1,          4,          4,2,20120506,       0025,    33.5074,   -52.3276,       5574,  4575.2,   2.2208,  34.8794,2,  34.8803,2,    258.4,2,   259.1,2,   38.99,2,   20.21,2,    0.00,2,    1.37,2,   0.457,2,   0.200,2,   0.038,2,    0.11,2,  -999.0,9,  -999.0,9,-999.0000,9,  -999.00,-999.000,9,-999.0000,9, -999.00,9,   2.2207,2, -999.00,9,  -999.0,9,  -999.0,-999.000,9,-999.000,-999.000,9, -999.00,9, -999.00,9, -999.00,9,  33.5089, -52.3269,-999.000,-999.0000, -999.00,   1.8131,   2.2207,2,    35.0448,2,  -999.0,9,     -999.0,9,     -999.0,9,     -999.0,9,       0046
33AT20120419,        A20,      56,          1,          3,          3,2,20120506,       0025,    33.5074,   -52.3276,       5574,  4987.4,   2.1347,  34.8638,2,  34.8640,2,    253.4,2,   253.5,2,   47.25,2,   21.51,2,    0.00,2,    1.46,2,   0.261,2,   0.114,2,   0.019,2,    0.06,2,  2192.3,2,  2343.9,2,   7.7239,6,    25.00,-999.000,9,-999.0000,9, -999.00,9,   2.1343,2, -999.00,9,  -999.0,9,  -999.0,-999.000,9,-999.000,-999.000,9, -999.00,9, -999.00,9, -999.00,9,  33.5085, -52.3271,-999.000,-999.0000, -999.00,   1.6792,   2.1343,2,    35.0284,2,  -999.0,9,     -999.0,9,     -999.0,9,     -999.0,9,       0039
33AT20120419,        A20,      56,          1,          2,          2,2,20120506,       0025,    33.5074,   -52.3276,       5574,  5294.3,   2.1459,  34.8604,2,  34.8605,2,    251.6,2,   252.4,2,   49.13,2,   21.77,2,    0.00,2,    1.48,2,   0.202,2,   0.085,2,   0.019,2,    0.08,2,  -999.0,9,  -999.0,9,-999.0000,9,  -999.00,-999.000,9,-999.0000,9, -999.00,9,   2.1457,2, -999.00,9,  -999.0,9,  -999.0,-999.000,9,-999.000,-999.000,9, -999.00,9, -999.00,9, -999.00,9,  33.5080, -52.3273,-999.000,-999.0000, -999.00,   1.6511,   2.1457,2,    35.0249,2,  -999.0,9,     -999.0,9,     -999.0,9,     -999.0,9,       0033
33AT20120419,        A20,      56,          1,          1,          1,2,20120506,       0025,    33.5074,   -52.3276,       5574,  5668.4,   2.1813,  34.8585,2,  34.8585,2,    251.4,2,   251.7,2,   49.99,2,   21.89,2,    0.00,2,    1.50,2,   0.214,2,   0.100,2,   0.021,2,    0.16,2,  2197.1,6,  2346.7,6,   7.7209,2,    25.00,-999.000,9,-999.0000,9, -999.00,9,   2.1818,2, -999.00,9,  -999.0,9,  -999.0,-999.000,9,-999.000,-999.000,9, -999.00,9, -999.00,9, -999.00,9,  33.5074, -52.3276,-999.000,-999.0000, -999.00,   1.6362,   2.1818,2,    35.0229,2,  -999.0,9,     -999.0,9,     -999.0,9,     -999.0,9,       0026