BOTTLE,20220712CCHSIOCBG
EXPOCODE,SECT_ID,STNNBR,CASTNO,SAMPNO,BTLNBR,BTLNBR_FLAG_W,DATE,TIME,LATITUDE,LONGITUDE,DEPTH,CTDPRS,CTDTMP,CTDSAL,CTDSAL_FLAG_W,SALNTY,SALNTY_FLAG_W,CTDOXY,CTDOXY_FLAG_W,OXYGEN,OXYGEN_FLAG_W,SILCAT,SILCAT_FLAG_W,NITRAT,NITRAT_FLAG_W,NITRIT,NITRIT_FLAG_W,PHSPHT,PHSPHT_FLAG_W,CFC-11,CFC-11_FLAG_W,CFC-12,CFC-12_FLAG_W,CFC113,CFC113_FLAG_W,SF6,SF6_FLAG_W,TCARBN,TCARBN_FLAG_W,ALKALI,ALKALI_FLAG_W,PH_TOT,PH_TOT_FLAG_W,PH_TMP,TRITUM,TRITUM_FLAG_W,HELIUM,HELIUM_FLAG_W,DELHE3,DELHE3_FLAG_W,REFTMP,REFTMP_FLAG_W,DELC13,DELC13_FLAG_W,DELC14,DELC14_FLAG_W,C14ERR,NEON,NEON_FLAG_W,NEONER,CCL4,CCL4_FLAG_W,DELO18,DELO18_FLAG_W,DOC,DOC_FLAG_W,TDN,TDN_FLAG_W,BTL_LAT,BTL_LON,TRITER,HELIER,DELHER,THETA,SBE35,SBE35_FLAG_W,SALTREF,SALTREF_FLAG_W,14C-DOC,14C-DOC_FLAG_W,DELO17,DELO17_FLAG_W,O2/AR,O2/AR_FLAG_W,SIP,SIP_FLAG_W,BTL_TIME
,,,,,,,,,,,METERS,DBAR,ITS-90,PSS-78,,PSS-78,,UMOL/KG,,UMOL/KG,,UMOL/KG,,UMOL/KG,,UMOL/KG,,UMOL/KG,,PMOL/KG,,PMOL/KG,,PMOL/KG,,FMOL/KG,,UMOL/KG,,UMOL/KG,,,,DEG C,TU,,NMOL/KG,,PERCNT,,DEG C,,/MILLE,,/MILLE,,/MILLE,NMOL/KG,,NMOL/KG,PMOL/KG,,/MILLE,,UMOL/KG,,UMOL/KG,,,,TU,NMOL/KG,PERCNT,DEG C,ITS-90,,G/KG,,/MILLE,,/MILLE,,,,,,
33AT20120419,        A20,      55,          1,         36,         36,2,20120505,       1628,    32.7495,   -52.3317,       4872,     4.5,  19.9641,  36.5908,2,  36.5922,2,    228.1,2,   229.1,2,    0.12,2,    0.00,2,    0.00,2,    0.00,2,   2.029,2,   1.307,2,   0.157,2,    1.28,3,  2081.9,6,  2397.1,2,   8.0359,2,    25.00,-999.000,9,-999.0000,9, -999.00,9,  19.9657,2, -999.00,9,  -999.0,9,  -999.0,-999.000,9,-999.000,   1.240,2, -999.00,9,   72.41,2,    3.96,2,  32.7541, -52.3302,-999.000,-999.0000, -999.00,  19.9633,  19.9657,2,    36.7647,2,  -999.0,9,     -999.0,9,     -999.0,9,     -999.0,9,       1830
33AT20120419,        A20,      55,          1,         35,         35,2,20120505,       1628,    32.7495,   -52.3317,       4872,    20.1,  19.9293,  36.5881,2,  36.5884,2,    230.1,2,   228.9,2,    0.13,2,    0.00,2,    0.00,2,    0.00,2,   2.023,2,   1.296,2,   0.155,2,    1.10,3,  2083.2,2,  2398.0,2,   8.0351,6,    25.00,-999.000,9,-999.0000,9, -999.00,9,  19.9299,2, -999.00,9,  -999.0,9,  -999.0,-999.000,9,-999.000,   1.220,2, -999.00,9,   71.14,2,    4.02,2,  32.7541, -52.3302,-999.000,-999.0000, -999.00,  19.9256,  19.9299,2,    36.7609,2,  -999.0,9,     -999.0,9,     -999.0,9,     -999.0,9,       1828
33AT20120419,        A20,      55,          1,         34,         34,2,20120505,       1628,    32.7495,   -52.3317,       4872,    40.6,  19.7871,  36.5728,2,  36.5759,2,    231.7,2,   229.8,2,    0.12,2,    0.00,2,    0.00,2,    0.00,2,   2.043,2,   1.314,2,   0.157,2,    1.28,3,  2081.9,2,  2395.7,2,   8.0349,2,    25.00,-999.000,9,-999.0000,9, -999.00,9,  19.7898,2, -999.00,9,  -999.0,9,  -999.0,-999.000,9,-999.000,   1.210,2, -999.00,9,   68.33,2,    3.92,2,  32.7542, -52.3302,-999.000,-999.0000, -999.00,  19.7796,  19.7898,2,    36.7484,2,  -999.0,9,     -999.0,9,     -999.0,9,     -999.0,9,       1826
33AT20120419,        A20,      55,          1,         33,         33,2,20120505,       1628,    32.7495,   -52.3317,       4872,    66.7,  19.2566,  36.5627,2,  36.5676,2,    227.5,2,   228.8,2,    0.04,2,    0.00,2,    0.02,2,    0.00,2,   2.032,2,   1.305,2,   0.157,2,    1.33,3,  2085.4,2,  2395.7,2,   8.0304,2,    25.00,-999.000,9,-999.0000,9, -999.00,9,  19.2575,2, -999.00,9,  -999.0,9,  -999.0,-999.000,9,-999.000,   1.100,2, -999.00,9,   65.26,2,    4.48,2,  32.7542, -52.3302,-999.000,-999.0000, -999.00,  19.2445,  19.2575,2,    36.7400,2,  -999.0,9,     -999.0,9,     -999.0,9,     -999.0,9,       1824
33AT20120419,        A20,      55,          1,         32,         32,2,20120505,       1628,    32.7495,   -52.3317,       4872,    91.7,  19.0179,  36.5401,2,  36.5436,2,    223.7,2,   222.3,2,    0.27,2,    0.65,2,    0.09,2,    0.01,2,   2.032,2,   1.319,2,   0.153,2,    1.16,3,  2091.6,2,  2394.4,2,   8.0185,6,    25.00,-999.000,9,-999.0000,9, -999.00,9,  19.0218,2, -999.00,9,  -999.0,9,  -999.0,-999.000,9,-999.000,   0.930,2, -999.00,9,   62.41,2,    4.47,2,  32.7542, -52.3302,-999.000,-999.0000, -999.00,  19.0014,  19.0218,2,    36.7159,2,  -999.0,9,     -999.0,9,     -999.0,9,     -999.0,9,       1822
33AT20120419,        A20,      55,          1,         31,         31,2,20120505,       1628,    32.7495,   -52.3317,       4872,   139.1,  19.0035,  36.5734,2,  36.5733,2,    220.6,2,   220.0,2,    0.24,2,    0.90,2,    0.03,2,    0.02,2,   2.024,2,   1.259,2,   0.170,2,    0.91,3,  2091.4,2,  2396.2,2,   8.0176,2,    25.00,-999.000,9,-999.0000,9, -999.00,9,  19.0032,2, -999.00,9,  -999.0,9,  -999.0,-999.000,9,-999.000,   0.940,2, -999.00,9,   58.82,2,    4.43,2,  32.7543, -52.3302,-999.000,-999.0000, -999.00,  18.9785,  19.0032,2,    36.7458,2,  -999.0,9,     -999.0,9,     -999.0,9,     -999.0,9,       1819
33AT20120419,        A20,      55,          1,         30,         30,2,20120505,       1628,    32.7495,   -52.3317,       4872,   189.2,  18.8394,  36.5534,2,  36.5553,2,    220.9,2,   219.4,2,    0.29,2,    1.06,2,    0.02,2,    0.03,2,   2.064,2,   1.330,2,   0.147,2,    0.93,3,  2092.6,2,  2396.0,2,   8.0136,2,    25.00,-999.000,9,-999.0000,9, -999.00,9,  18.8439,2, -999.00,9,  -999.0,9,  -999.0,-999.000,9,-999.000,   0.910,2, -999.00,9,   54.31,2,    4.90,2,  32.7543, -52.3302,-999.000,-999.0000, -999.00,  18.8055,  18.8439,2,    36.7277,2,  -999.0,9,     -999.0,9,     -999.0,9,     -999.0,9,       1817
33AT20120419,        A20,      55,          1,         29,         29,2,20120505,       1628,    32.7495,   -52.3317,       4872,   238.8,  18.4908,  36.5713,2,  36.5757,2,    200.6,2,   200.0,2,    0.96,2,    3.45,2,    0.02,2,    0.15,2,   2.093,2,   1.337,2,   0.062,2,    1.20,3,  2113.0,2,  2392.9,2,   7.9780,2,    25.00,-999.000,9,-999.0000,9, -999.00,9,  18.4907,2, -999.00,9,  -999.0,9,  -999.0,-999.000,9,-999.000,   0.390,2, -999.00,9,   50.41,2,    6.45,2,  32.7543, -52.3302,-999.000,-999.0000, -999.00,  18.4486,  18.4907,2,    36.7482,2,  -999.0,9,     -999.0,9,     -999.0,9,     -999.0,9,       1815
33AT20120419,        A20,      55,          1,         28,         28,2,20120505,       1628,    32.7495,   -52.3317,       4872,   285.1,  18.0655,  36.5641,2,  36.5624,2,    201.1,2,   200.2,2,    1.18,2,    4.34,2,    0.02,2,    0.19,2,   2.107,2,   1.353,2,   0.037,2,    1.50,3,  2113.8,2,  2391.8,2,   7.9701,2,    25.00,-999.000,9,-999.0000,9, -999.00,9,  18.0628,2, -999.00,9,  -999.0,9,  -999.0,-999.000,9,-999.000,   0.250,2, -999.00,9,   49.31,2,    7.70,2,  32.7542, -52.3302,-999.000,-999.0000, -999.00,  18.0158,  18.0628,2,    36.7348,2,  -999.0,9,     -999.0,9,     -999.0,9,     -999.0,9,       1813
33AT20120419,        A20,      55,          1,         27,         27,2,20120505,       1628,    32.7495,   -52.3317,       4872,   335.8,  17.7899,  36.5271,2,  36.5263,2,    203.5,2,   203.0,2,    1.30,2,    4.61,2,    0.02,2,    0.22,2,   2.130,2,   1.348,2,   0.043,2,    0.94,3,  2117.0,2,  2389.7,6,   7.9664,2,    25.00,-999.000,9,-999.0000,9, -999.00,9,  17.7881,2, -999.00,9,  -999.0,9,  -999.0,-999.000,9,-999.000,   0.270,2, -999.00,9,   48.24,2,    8.14,2,  32.7540, -52.3302,-999.000,-999.0000, -999.00,  17.7319,  17.7881,2,    36.6986,2,  -999.0,9,     -999.0,9,     -999.0,9,     -999.0,9,       1811
33AT20120419,        A20,      55,          1,         26,         26,2,20120505,       1628,    32.7495,   -52.3317,       4872,   386.1,  17.5093,  36.4825,2,  36.4808,2,    203.6,2,   203.7,2,    1.41,2,    5.06,2,    0.02,2,    0.25,2,   2.127,2,   1.332,2,   0.042,2,    0.66,3,  2118.1,2,  2386.9,2,   7.9592,2,    25.00,-999.000,9,-999.0000,9, -999.00,9,  17.5086,2, -999.00,9,  -999.0,9,  -999.0,-999.000,9,-999.000,   0.290,2, -999.00,9,   47.76,2,    8.15,2,  32.7538, -52.3303,-999.000,-999.0000, -999.00,  17.4433,  17.5086,2,    36.6528,2,  -999.0,9,     -999.0,9,     -999.0,9,     -999.0,9,       1809
33AT20120419,        A20,      55,          1,         25,         25,2,20120505,       1628,    32.7495,   -52.3317,       4872,   438.2,  17.0832,  36.3991,2,  36.4001,2,    200.2,2,   199.6,2,    1.74,2,    6.09,2,    0.02,2,    0.31,2,   2.127,2,   1.288,2,   0.048,2,    1.05,3,  -999.0,9,  -999.0,9,-999.0000,9,  -999.00,-999.000,9,-999.0000,9, -999.00,9,  17.0848,2, -999.00,9,  -999.0,9,  -999.0,-999.000,9,-999.000,   0.310,2, -999.00,9,   46.17,2,    8.51,2,  32.7536, -52.3303,-999.000,-999.0000, -999.00,  17.0095,  17.0848,2,    36.5718,2,  -999.0,9,     -999.0,9,     -999.0,9,     -999.0,9,       1807
33AT20120419,        A20,      55,          1,         24,         24,2,20120505,       1628,    32.7495,   -52.3317,       4872,   491.6,  16.3448,  36.2510,2,  36.2460,2,    193.4,2,   193.2,2,    2.43,2,    7.92,2,    0.02,2,    0.43,2,   2.213,2,   1.374,2,   0.041,2,    1.00,3,  2130.9,2,  2373.6,2,   7.9152,6,    25.00,-999.000,9,-999.0000,9, -999.00,9,  16.3460,2, -999.00,9,  -999.0,9,  -999.0,-999.000,9,-999.000,   0.300,2, -999.00,9,   45.68,2,   10.42,2,  32.7533, -52.3304,-999.000,-999.0000, -999.00,  16.2645,  16.3460,2,    36.4170,2,  -999.0,9,     -999.0,9,     -999.0,9,     -999.0,9,       1805
33AT20120419,        A20,      55,          1,         23,         23,2,20120505,       1628,    32.7495,   -52.3317,       4872,   568.8,  14.9001,  35.9869,2,  35.9830,2,    185.2,2,   186.7,2,    3.73,2,   10.78,2,    0.00,2,    0.62,2,   2.231,2,   1.357,2,   0.041,2,    0.82,3,  2142.7,2,  2360.5,2,   7.8708,2,    25.00,-999.000,9,-999.0000,9, -999.00,9,  14.8969,2, -999.00,9,  -999.0,9,  -999.0,-999.000,9,-999.000,   0.310,2, -999.00,9,   45.19,2,   13.63,2,  32.7531, -52.3305,-999.000,-999.0000, -999.00,  14.8127,  14.8969,2,    36.1526,2,  -999.0,9,     -999.0,9,     -999.0,9,     -999.0,9,       1803
33AT20120419,        A20,      55,          1,         22,         22,2,20120505,       1628,    32.7495,   -52.3317,       4872,   673.6,  13.2254,  35.7231,2,  35.7226,2,    178.1,2,   176.4,2,    5.80,2,   14.42,2,    0.00,2,    0.87,2,   2.106,2,   1.264,2,   0.044,2,    0.78,3,  2157.5,2,  2347.6,2,   7.8159,2,    25.00,-999.000,9,-999.0000,9, -999.00,9,  13.2151,2, -999.00,9,  -999.0,9,  -999.0,-999.000,9,-999.000,   0.310,2, -999.00,9,   44.79,2,   17.40,2,  32.7529, -52.3305,-999.000,-999.0000, -999.00,  13.1294,  13.2151,2,    35.8910,2,  -999.0,9,     -999.0,9,     -999.0,9,     -999.0,9,       1800
33AT20120419,        A20,      55,          1,         21,         21,2,20120505,       1628,    32.7495,   -52.3317,       4872,   770.0,  11.1081,  35.4366,2,  35.4288,2,    155.3,2,   154.8,2,    9.77,2,   19.99,2,    0.00,2,    1.25,2,   1.648,2,   0.948,2,   0.030,2,    0.35,3,  2179.5,2,  2332.6,2,   7.7346,2,    25.00,-999.000,9,-999.0000,9, -999.00,9,  11.0987,2, -999.00,9,  -999.0,9,  -999.0,-999.000,9,-999.000,   0.250,2, -999.00,9,   44.58,2,   22.38,2,  32.7527, -52.3305,-999.000,-999.0000, -999.00,  11.0096,  11.0987,2,    35.5958,2,  -999.0,9,     -999.0,9,     -999.0,9,     -999.0,9,       1758
33AT20120419,        A20,      55,          1,         20,         20,2,20120505,       1628,    32.7495,   -52.3317,       4872,   875.7,   8.7704,  35.2040,2,  35.2045,2,    160.1,2,   162.1,2,   12.64,2,   22.26,2,    0.00,2,    1.43,2,   1.445,2,   0.803,2,   0.039,2,    0.24,3,  2188.2,6,  2323.0,2,   7.6908,6,    25.00,-999.000,9,-999.0000,9, -999.00,9,   8.7756,2, -999.00,9,  -999.0,9,  -999.0,-999.000,9,-999.000,   0.350,2, -999.00,9,   43.26,2,   24.58,2,  32.7522, -52.3307,-999.000,-999.0000, -999.00,   8.6728,   8.7756,2,    35.3705,2,  -999.0,9,     -999.0,9,     -999.0,9,     -999.0,9,       1755
33AT20120419,        A20,      55,          1,         19,         19,2,20120505,       1628,    32.7495,   -52.3317,       4872,   972.8,   6.8220,  35.1069,2,  35.1066,2,    190.3,2,   196.4,2,   12.69,2,   20.73,2,    0.00,2,    1.37,2,   1.729,2,   0.952,2,   0.069,2,    0.43,3,  2184.1,2,  2320.8,2,   7.6930,2,    25.00,-999.000,9,-999.0000,9, -999.00,9,   6.8252,2, -999.00,9,  -999.0,9,  -999.0,-999.000,9,-999.000,   0.640,2, -999.00,9,   42.61,2,   24.30,2,  32.7520, -52.3307,-999.000,-999.0000, -999.00,   6.7269,   6.8252,2,    35.2721,2,  -999.0,9,     -999.0,9,     -999.0,9,     -999.0,9,       1752
33AT20120419,        A20,      55,          1,         18,         18,2,20120505,       1628,    32.7495,   -52.3317,       4872,  1073.5,   5.9899,  35.0879,2,  35.0887,2,    213.2,2,   217.4,2,   12.21,2,   19.52,2,    0.00,2,    1.30,2,   1.978,2,   1.076,2,   0.094,2,    0.52,3,  2179.0,2,  2319.8,2,   7.7036,2,    25.00,-999.000,9,-999.0000,9, -999.00,9,   5.9878,2, -999.00,9,  -999.0,9,  -999.0,-999.000,9,-999.000,   0.840,2, -999.00,9,   42.31,2,   22.55,2,  32.7518, -52.3308,-999.000,-999.0000, -999.00,   5.8909,   5.9878,2,    35.2541,2,  -999.0,9,     -999.0,9,     -999.0,9,     -999.0,9,       1749
33AT20120419,        A20,      55,          1,         17,         17,2,20120505,       1628,    32.7495,   -52.3317,       4872,  1179.0,   5.5339,  35.0844,2,  35.0851,2,    231.6,2,   230.5,2,   11.88,2,   18.82,2,    0.00,2,    1.24,2,   2.098,2,   1.141,2,   0.103,2,    0.69,3,  2176.2,2,  2318.5,2,   7.7124,2,    25.00,-999.000,9,-999.0000,9, -999.00,9,   5.5336,2, -999.00,9,  -999.0,9,  -999.0,-999.000,9,-999.000,   0.980,2, -999.00,9,   42.11,2,   21.39,2,  32.7517, -52.3308,-999.000,-999.0000, -999.00,   5.4283,   5.5336,2,    35.2506,2,  -999.0,9,     -999.0,9,     -999.0,9,     -999.0,9,       1747
33AT20120419,        A20,      55,          1,         16,         16,2,20120505,       1628,    32.7495,   -52.3317,       4872,  1280.5,   4.9802,  35.0351,2,  35.0343,2,    243.4,2,   245.6,2,   11.27,2,   18.11,2,    0.00,2,    1.19,2,   2.523,2,   1.352,2,   0.146,2,    0.59,3,  -999.0,9,  -999.0,9,-999.0000,9,  -999.00,-999.000,9,-999.0000,9, -999.00,9,   4.9806,2, -999.00,9,  -999.0,9,  -999.0,-999.000,9,-999.000,   1.250,2, -999.00,9,   42.61,2,   20.39,2,  32.7515, -52.3309,-999.000,-999.0000, -999.00,   4.8700,   4.9806,2,    35.1995,2,  -999.0,9,     -999.0,9,     -999.0,9,     -999.0,9,       1744
33AT20120419,        A20,      55,          1,         15,         15,2,20120505,       1628,    32.7495,   -52.3317,       4872,  1382.3,   4.7756,  35.0363,2,  35.0365,2,    249.2,2,   248.5,2,   11.49,2,   18.05,2,    0.00,2,    1.19,2,   2.331,2,   1.233,2,   0.132,2,    0.35,3,  2171.1,2,  2315.4,2,   7.7222,2,    25.00,-999.000,9,-999.0000,9, -999.00,9,   4.7757,2, -999.00,9,  -999.0,9,  -999.0,-999.000,9,-999.000,   1.190,2, -999.00,9,   41.99,2,   20.14,2,  32.7513, -52.3310,-999.000,-999.0000, -999.00,   4.6578,   4.7757,2,    35.2017,2,  -999.0,9,     -999.0,9,     -999.0,9,     -999.0,9,       1741
33AT20120419,        A20,      55,          1,         14,         14,2,20120505,       1628,    32.7495,   -52.3317,       4872,  1482.8,   4.6046,  35.0328,2,  35.0320,2,    250.8,2,   251.1,2,   11.85,2,   18.01,2,    0.00,2,    1.19,2,   2.151,2,   1.112,2,   0.119,2,    0.29,3,  -999.0,9,  -999.0,9,-999.0000,9,  -999.00,-999.000,9,-999.0000,9, -999.00,9,   4.6038,2, -999.00,9,  -999.0,9,  -999.0,-999.000,9,-999.000,   1.140,2, -999.00,9,   42.01,2,   21.13,2,  32.7511, -52.3310,-999.000,-999.0000, -999.00,   4.4791,   4.6038,2,    35.1971,2,  -999.0,9,     -999.0,9,     -999.0,9,     -999.0,9,       1739
33AT20120419,        A20,      55,          1,         13,         13,2,20120505,       1628,    32.7495,   -52.3317,       4872,  1584.9,   4.3461,  35.0101,2,  35.0103,2,    256.2,2,   256.1,2,   12.09,2,   17.85,2,    0.00,2,    1.18,2,   2.169,2,   1.129,2,   0.122,2,    0.40,3,  2166.9,2,  2314.1,6,   7.7236,6,    25.00,-999.000,9,-999.0000,9, -999.00,9,   4.3454,2, -999.00,9,  -999.0,9,  -999.0,-999.000,9,-999.000,   1.180,2, -999.00,9,   41.65,2,   20.88,2,  32.7509, -52.3311,-999.000,-999.0000, -999.00,   4.2139,   4.3454,2,    35.1754,2,  -999.0,9,     -999.0,9,     -999.0,9,     -999.0,9,       1736
33AT20120419,        A20,      55,          1,         12,         12,2,20120505,       1628,    32.7495,   -52.3317,       4872,  1756.3,   4.2111,  35.0233,2,  35.0243,2,    255.8,2,   254.2,2,   13.53,2,   18.03,2,    0.00,2,    1.20,2,   1.572,2,   0.815,2,   0.080,2,    0.33,3,  2167.0,2,  2315.7,2,   7.7291,2,    25.00,-999.000,9,-999.0000,9, -999.00,9,   4.2115,2, -999.00,9,  -999.0,9,  -999.0,-999.000,9,-999.000,   0.970,2, -999.00,9,   41.97,2,   21.45,2,  32.7508, -52.3312,-999.000,-999.0000, -999.00,   4.0641,   4.2115,2,    35.1894,2,  -999.0,9,     -999.0,9,     -999.0,9,     -999.0,9,       1732
33AT20120419,        A20,      55,          1,         11,         11,2,20120505,       1628,    32.7495,   -52.3317,       4872,  1959.0,   3.8509,  34.9931,2,  34.9936,2,    258.6,2,   259.1,2,   14.67,2,   17.95,2,    0.00,2,    1.21,2,   1.412,2,   0.738,2,   0.068,2,    0.00,3,  2165.4,2,  2316.3,2,   7.7317,2,    25.00,-999.000,9,-999.0000,9, -999.00,9,   3.8516,2, -999.00,9,  -999.0,9,  -999.0,-999.000,9,-999.000,   0.930,2, -999.00,9,   42.04,2,   21.53,2,  32.7507, -52.3312,-999.000,-999.0000, -999.00,   3.6895,   3.8516,2,    35.1586,2,  -999.0,9,     -999.0,9,     -999.0,9,     -999.0,9,       1728
33AT20120419,        A20,      55,          1,         10,         10,2,20120505,       1628,    32.7495,   -52.3317,       4872,  2193.5,   3.5729,  34.9796,2,  34.9796,2,    258.6,2,   259.3,2,   17.25,2,   18.16,2,    0.00,2,    1.22,2,   1.010,2,   0.535,2,   0.045,2,    0.00,3,  -999.0,9,  -999.0,9,-999.0000,9,  -999.00,-999.000,9,-999.0000,9, -999.00,9,   3.5731,2, -999.00,9,  -999.0,9,  -999.0,-999.000,9,-999.000,   0.720,2, -999.00,9,   42.26,2,   21.50,2,  32.7508, -52.3312,-999.000,-999.0000, -999.00,   3.3930,   3.5731,2,    35.1445,2,  -999.0,9,     -999.0,9,     -999.0,9,     -999.0,9,       1723
33AT20120419,        A20,      55,          1,          9,          9,2,20120505,       1628,    32.7495,   -52.3317,       4872,  2448.4,   3.4412,  34.9867,2,  34.9874,2,    253.0,2,   252.2,2,   22.36,2,   19.06,2,    0.00,2,    1.29,2,   0.383,2,   0.222,2,   0.012,2,    0.00,3,  2171.7,2,  2327.4,2,   7.7385,2,    25.00,-999.000,9,-999.0000,9, -999.00,9,   3.4411,2, -999.00,9,  -999.0,9,  -999.0,-999.000,9,-999.000,   0.370,2, -999.00,9,   41.64,2,   21.59,2,  32.7508, -52.3312,-999.000,-999.0000, -999.00,   3.2382,   3.4411,2,    35.1524,2,  -999.0,9,     -999.0,9,     -999.0,9,     -999.0,9,       1718
33AT20120419,        A20,      55,          1,          8,          8,2,20120505,       1628,    32.7495,   -52.3317,       4872,  2705.4,   3.2181,  34.9685,2,  34.9684,2,    252.0,2,   253.2,2,   25.04,2,   19.34,2,    0.00,2,    1.30,2,   0.245,2,   0.149,2,   0.009,2,    0.00,3,  -999.0,9,  -999.0,9,-999.0000,9,  -999.00,-999.000,9,-999.0000,9, -999.00,9,   3.2183,2, -999.00,9,  -999.0,9,  -999.0,-999.000,9,-999.000,   0.280,2, -999.00,9,   41.83,2,   23.17,2,  32.7508, -52.3311,-999.000,-999.0000, -999.00,   2.9932,   3.2183,2,    35.1332,2,  -999.0,9,     -999.0,9,     -999.0,9,     -999.0,9,       1712
33AT20120419,        A20,      55,          1,          7,          7,2,20120505,       1628,    32.7495,   -52.3317,       4872,  2958.7,   2.9883,  34.9486,2,  34.9491,2,    256.6,2,   256.1,2,   26.09,2,   19.30,2,    0.00,2,    1.30,2,   0.215,2,   0.137,2,   0.008,2,    0.00,3,  2171.8,2,  2328.8,2,   7.7435,2,    25.00,-999.000,9,-999.0000,9, -999.00,9,   2.9883,2, -999.00,9,  -999.0,9,  -999.0,-999.000,9,-999.000,   0.260,2, -999.00,9,   41.42,2,   22.49,2,  32.7506, -52.3312,-999.000,-999.0000, -999.00,   2.7420,   2.9883,2,    35.1139,2,  -999.0,9,     -999.0,9,     -999.0,9,     -999.0,9,       1707