BOTTLE,20220712CCHSIOCBG
EXPOCODE,SECT_ID,STNNBR,CASTNO,SAMPNO,BTLNBR,BTLNBR_FLAG_W,DATE,TIME,LATITUDE,LONGITUDE,DEPTH,CTDPRS,CTDTMP,CTDSAL,CTDSAL_FLAG_W,SALNTY,SALNTY_FLAG_W,CTDOXY,CTDOXY_FLAG_W,OXYGEN,OXYGEN_FLAG_W,SILCAT,SILCAT_FLAG_W,NITRAT,NITRAT_FLAG_W,NITRIT,NITRIT_FLAG_W,PHSPHT,PHSPHT_FLAG_W,CFC-11,CFC-11_FLAG_W,CFC-12,CFC-12_FLAG_W,CFC113,CFC113_FLAG_W,SF6,SF6_FLAG_W,TCARBN,TCARBN_FLAG_W,ALKALI,ALKALI_FLAG_W,PH_TOT,PH_TOT_FLAG_W,PH_TMP,TRITUM,TRITUM_FLAG_W,HELIUM,HELIUM_FLAG_W,DELHE3,DELHE3_FLAG_W,REFTMP,REFTMP_FLAG_W,DELC13,DELC13_FLAG_W,DELC14,DELC14_FLAG_W,C14ERR,NEON,NEON_FLAG_W,NEONER,CCL4,CCL4_FLAG_W,DELO18,DELO18_FLAG_W,DOC,DOC_FLAG_W,TDN,TDN_FLAG_W,BTL_LAT,BTL_LON,TRITER,HELIER,DELHER,THETA,SBE35,SBE35_FLAG_W,SALTREF,SALTREF_FLAG_W,14C-DOC,14C-DOC_FLAG_W,DELO17,DELO17_FLAG_W,O2/AR,O2/AR_FLAG_W,SIP,SIP_FLAG_W,BTL_TIME
,,,,,,,,,,,METERS,DBAR,ITS-90,PSS-78,,PSS-78,,UMOL/KG,,UMOL/KG,,UMOL/KG,,UMOL/KG,,UMOL/KG,,UMOL/KG,,PMOL/KG,,PMOL/KG,,PMOL/KG,,FMOL/KG,,UMOL/KG,,UMOL/KG,,,,DEG C,TU,,NMOL/KG,,PERCNT,,DEG C,,/MILLE,,/MILLE,,/MILLE,NMOL/KG,,NMOL/KG,PMOL/KG,,/MILLE,,UMOL/KG,,UMOL/KG,,,,TU,NMOL/KG,PERCNT,DEG C,ITS-90,,G/KG,,/MILLE,,/MILLE,,,,,,
33AT20120419,        A20,      49,          1,         36,         36,2,20120503,       1542,    28.2397,   -52.3315,       5668,     3.1,  22.7595,  36.8140,2,  36.8072,2,    217.7,2,   219.0,2,    0.15,2,    0.00,2,    0.01,2,    0.00,2,   1.896,2,   1.228,2,   0.149,2,    1.16,3,  2087.3,6,  2409.7,2,   8.0451,2,    25.00,   0.580,2,-999.0000,9, -999.00,9,  22.7497,2, -999.00,9,  -999.0,9,  -999.0,-999.000,9,-999.000,   1.200,2, -999.00,1,   72.21,2,    4.15,2,  28.2385, -52.3288,   0.010,-999.0000, -999.00,  22.7589,  22.7497,2,    36.9807,2,  -999.0,9,     -999.0,1,     -999.0,1,     -999.0,9,       1802
33AT20120419,        A20,      49,          1,         35,         35,2,20120503,       1542,    28.2397,   -52.3315,       5668,    20.3,  21.1196,  36.6607,2,  36.6606,2,    223.8,2,   223.5,2,    0.16,2,    0.00,2,    0.00,2,    0.00,2,   1.970,2,   1.255,2,   0.145,2,    1.20,3,  2079.2,2,  2400.5,2,   8.0466,6,    25.00,-999.000,9,-999.0000,9, -999.00,9,  21.1214,2, -999.00,9,  -999.0,9,  -999.0,-999.000,9,-999.000,   1.160,2, -999.00,9,   72.47,2,    4.91,2,  28.2386, -52.3290,-999.000,-999.0000, -999.00,  21.1157,  21.1214,2,    36.8335,2,  -999.0,9,     -999.0,9,     -999.0,9,     -999.0,9,       1800
33AT20120419,        A20,      49,          1,         34,         34,2,20120503,       1542,    28.2397,   -52.3315,       5668,    39.6,  20.7191,  36.7263,2,  36.7284,2,    223.2,2,   224.6,2,    0.16,2,    0.00,2,    0.00,2,    0.00,2,   1.985,2,   1.263,2,   0.141,2,    1.03,3,  2083.7,2,  2404.9,2,   8.0451,2,    25.00,-999.000,9,-999.0000,9, -999.00,9,  20.6845,2, -999.00,9,  -999.0,9,  -999.0,-999.000,9,-999.000,   1.050,2, -999.00,1,   71.69,2,    4.51,2,  28.2388, -52.3292,-999.000,-999.0000, -999.00,  20.7115,  20.6845,2,    36.9016,2,  -999.0,9,     -999.0,1,     -999.0,1,     -999.0,9,       1758
33AT20120419,        A20,      49,          1,         33,         33,2,20120503,       1542,    28.2397,   -52.3315,       5668,    65.3,  20.2242,  36.7183,2,  36.7199,2,    226.8,2,   225.0,2,    0.05,2,    0.00,2,    0.00,2,    0.00,2,   1.981,2,   1.271,2,   0.148,2,    1.24,3,  2086.5,2,  2404.5,2,-999.0000,5,    25.00,   0.562,2,   1.7249,2,   -1.24,2,  20.2240,2, -999.00,9,  -999.0,9,  -999.0,   7.023,2,   0.032,   1.060,2, -999.00,1,   69.58,2,    4.00,2,  28.2390, -52.3294,   0.009,   0.0072,    0.15,  20.2119,  20.2240,2,    36.8931,2,  -999.0,9,     -999.0,1,     -999.0,1,     -999.0,9,       1756
33AT20120419,        A20,      49,          1,         32,         32,2,20120503,       1542,    28.2397,   -52.3315,       5668,    90.5,  19.9434,  36.6997,2,  36.7074,2,    219.7,2,   221.5,2,    0.06,2,    0.00,2,    0.00,2,    0.00,2,   1.990,2,   1.276,2,   0.149,2,    1.17,3,  2090.8,2,  2403.0,2,   8.0337,2,    25.00,-999.000,9,-999.0000,9, -999.00,9,  19.9702,2, -999.00,9,  -999.0,9,  -999.0,-999.000,9,-999.000,   0.970,2, -999.00,1,   63.46,2,    4.09,2,  28.2392, -52.3298,-999.000,-999.0000, -999.00,  19.9266,  19.9702,2,    36.8805,2,  -999.0,9,     -999.0,1,     -999.0,1,     -999.0,9,       1753
33AT20120419,        A20,      49,          1,         31,         31,2,20120503,       1542,    28.2397,   -52.3315,       5668,   139.6,  18.9120,  36.6088,2,  36.6079,2,    196.1,2,   198.0,2,    0.44,2,    2.02,2,    0.05,2,    0.08,2,   2.092,2,   1.319,2,   0.078,2,    1.09,3,  2114.7,2,  2395.5,2,   7.9821,2,    25.00,   0.521,2,   1.7421,2,   -0.80,2,  18.9124,2, -999.00,9,  -999.0,9,  -999.0,   7.081,2,   0.033,   0.410,2, -999.00,1,   57.73,2,    6.85,2,  28.2394, -52.3301,   0.009,   0.0073,    0.15,  18.8870,  18.9124,2,    36.7805,2,  -999.0,9,     -999.0,1,     -999.0,1,     -999.0,9,       1750
33AT20120419,        A20,      49,          1,         30,         30,2,20120503,       1542,    28.2397,   -52.3315,       5668,   187.5,  18.1619,  36.5684,2,  36.5681,2,    200.8,2,   198.0,2,    0.95,2,    3.86,2,    0.02,2,    0.18,2,   2.136,2,   1.359,2,   0.038,2,    1.07,3,  2117.5,2,  2391.9,2,   7.9698,2,    25.00,-999.000,9,-999.0000,9, -999.00,9,  18.1590,2, -999.00,9,  -999.0,9,  -999.0,-999.000,9,-999.000,   0.250,2, -999.00,9,   53.66,2,    8.13,2,  28.2395, -52.3305,-999.000,-999.0000, -999.00,  18.1292,  18.1590,2,    36.7405,2,  -999.0,9,     -999.0,9,     -999.0,9,     -999.0,9,       1747
33AT20120419,        A20,      49,          1,         29,         29,2,20120503,       1542,    28.2397,   -52.3315,       5668,   235.4,  17.8995,  36.5435,2,  36.5429,2,    205.5,2,   202.9,2,    1.05,2,    4.09,2,    0.01,2,    0.20,2,   2.172,2,   1.353,2,   0.039,2,    1.20,3,  2116.9,2,  2390.0,2,   7.9695,2,    25.00,   0.518,2,   1.7474,2,   -0.95,2,  17.8954,2, -999.00,9,  -999.0,9,  -999.0,   7.110,2,   0.033,   0.270,2, -999.00,1,   51.65,2,    8.60,2,  28.2397, -52.3307,   0.009,   0.0073,    0.15,  17.8588,  17.8954,2,    36.7152,2,  -999.0,9,     -999.0,1,     -999.0,1,     -999.0,9,       1745
33AT20120419,        A20,      49,          1,         28,         28,2,20120503,       1542,    28.2397,   -52.3315,       5668,   287.9,  17.7002,  36.5210,2,  36.5191,2,    205.8,2,   204.9,2,    1.15,2,    4.26,2,    0.01,2,    0.21,2,   2.183,2,   1.366,2,   0.044,2,    1.37,3,  2116.7,2,  2389.9,6,   7.9674,2,    25.00,-999.000,9,-999.0000,9, -999.00,9,  17.7029,2, -999.00,9,  -999.0,9,  -999.0,-999.000,9,-999.000,   0.290,2, -999.00,9,   49.38,2,    8.50,2,  28.2397, -52.3309,-999.000,-999.0000, -999.00,  17.6507,  17.7029,2,    36.6913,2,  -999.0,9,     -999.0,9,     -999.0,9,     -999.0,9,       1743
33AT20120419,        A20,      49,          1,         27,         27,2,20120503,       1542,    28.2397,   -52.3315,       5668,   339.5,  17.4871,  36.4845,2,  36.4815,2,    207.8,2,   205.1,2,    1.28,2,    4.63,2,    0.01,2,    0.23,2,   2.188,2,   1.367,2,   0.044,2,    1.18,3,  -999.0,9,  -999.0,9,-999.0000,9,  -999.00,   0.519,2,   1.7560,2,   -0.84,2,  17.4839,2, -999.00,9,  -999.0,9,  -999.0,   7.085,2,   0.033,   0.310,2, -999.00,1,   48.68,2,    8.13,2,  28.2398, -52.3310,   0.010,   0.0074,    0.15,  17.4292,  17.4839,2,    36.6535,2,  -999.0,9,     -999.0,1,     -999.0,1,     -999.0,9,       1741
33AT20120419,        A20,      49,          1,         26,         26,2,20120503,       1542,    28.2397,   -52.3315,       5668,   392.4,  17.0762,  36.4043,2,  36.4066,2,    202.2,2,   201.8,2,    1.67,2,    5.61,2,    0.01,2,    0.29,2,   2.215,2,   1.361,2,   0.042,2,    1.01,3,  2121.8,2,  2382.2,2,   7.9474,2,    25.00,-999.000,9,-999.0000,9, -999.00,9,  17.0744,2, -999.00,9,  -999.0,9,  -999.0,-999.000,9,-999.000,   0.330,2, -999.00,9,   47.36,2,   10.35,2,  28.2399, -52.3312,-999.000,-999.0000, -999.00,  17.0103,  17.0744,2,    36.5783,2,  -999.0,9,     -999.0,9,     -999.0,9,     -999.0,9,       1739
33AT20120419,        A20,      49,          1,         25,         25,2,20120503,       1542,    28.2397,   -52.3315,       5668,   468.8,  16.1161,  36.2131,2,  36.1938,2,    195.0,2,   190.4,2,    2.57,2,    8.31,2,    0.01,2,    0.47,2,   2.232,2,   1.364,2,   0.034,2,    0.84,3,  -999.0,9,  -999.0,9,-999.0000,9,  -999.00,   0.529,2,   1.7567,2,    0.85,2,  16.1076,2, -999.00,9,  -999.0,9,  -999.0,   7.261,2,   0.033,   0.300,2, -999.00,1,   47.85,2,   12.55,2,  28.2400, -52.3314,   0.009,   0.0074,    0.15,  16.0403,  16.1076,2,    36.3645,2,  -999.0,9,     -999.0,1,     -999.0,1,     -999.0,9,       1737
33AT20120419,        A20,      49,          1,         24,         24,2,20120503,       1542,    28.2397,   -52.3315,       5668,   571.8,  14.1562,  35.8778,2,  35.8844,2,    184.3,2,   182.1,2,    4.30,2,   12.00,2,    0.00,2,    0.71,2,   2.225,2,   1.317,2,   0.039,2,    0.96,3,  2147.6,2,  2353.8,2,   7.8506,6,    25.00,   0.524,2,   1.7575,2,    2.47,2,  14.1432,2, -999.00,9,  -999.0,9,  -999.0,   7.309,2,   0.034,   0.300,2, -999.00,1,   46.47,2,   15.87,2,  28.2401, -52.3315,   0.010,   0.0074,    0.15,  14.0713,  14.1432,2,    36.0536,2,  -999.0,9,     -999.0,1,     -999.0,1,     -999.0,9,       1734
33AT20120419,        A20,      49,          1,         23,         23,2,20120503,       1542,    28.2397,   -52.3315,       5668,   674.2,  11.8514,  35.5470,2,  35.5457,2,    164.7,2,   161.0,2,    8.09,2,   18.09,2,    0.00,2,    1.11,2,   1.814,2,   1.034,2,   0.030,2,    0.53,3,  2171.3,2,  2337.6,2,   7.7644,6,    25.00,   0.464,2,   1.7821,2,    5.48,2,  11.8477,2, -999.00,9,  -999.0,9,  -999.0,   7.408,2,   0.034,   0.240,2, -999.00,9,   45.52,2,   21.56,2,  28.2401, -52.3316,   0.009,   0.0075,    0.15,  11.7619,  11.8477,2,    35.7134,2,  -999.0,9,     -999.0,9,     -999.0,9,     -999.0,9,       1731
33AT20120419,        A20,      49,          1,         22,         22,2,20120503,       1542,    28.2397,   -52.3315,       5668,   774.5,   9.9355,  35.3288,2,  35.3192,2,    153.1,2,   151.8,2,   11.80,2,   22.25,2,    0.00,2,    1.40,2,   1.178,2,   0.645,2,   0.016,2,    0.15,3,  2185.1,2,  2328.7,2,   7.7090,6,    25.00,   0.359,2,   1.7934,2,    7.27,2,   9.9340,2, -999.00,9,  -999.0,9,  -999.0,   7.608,2,   0.035,   0.180,2, -999.00,9,   44.38,2,   25.69,2,  28.2402, -52.3317,   0.009,   0.0075,    0.15,   9.8430,   9.9340,2,    35.4857,2,  -999.0,9,     -999.0,9,     -999.0,9,     -999.0,9,       1729
33AT20120419,        A20,      49,          1,         21,         21,2,20120503,       1542,    28.2397,   -52.3315,       5668,   874.5,   8.0699,  35.1593,2,  35.1653,2,    159.2,2,   159.7,2,   14.47,2,   23.94,2,    0.00,2,    1.52,2,   0.875,2,   0.484,2,   0.016,2,    0.06,3,  2190.5,2,  2322.8,2,   7.6836,6,    25.00,   0.275,2,   1.8126,2,    6.89,2,   8.0918,2, -999.00,9,  -999.0,9,  -999.0,   7.713,2,   0.035,   0.220,2, -999.00,9,   43.01,2,   27.10,2,  28.2402, -52.3318,   0.009,   0.0076,    0.15,   7.9769,   8.0918,2,    35.3311,2,  -999.0,9,     -999.0,9,     -999.0,9,     -999.0,9,       1726
33AT20120419,        A20,      49,          1,         20,         20,2,20120503,       1542,    28.2397,   -52.3315,       5668,   976.2,   6.9098,  35.1175,2,  35.1194,2,    177.2,2,   180.8,2,   14.81,2,   22.90,2,    0.00,2,    1.47,2,   0.924,2,   0.502,2,   0.025,2,    0.18,3,  2188.4,6,  2321.9,2,   7.6882,6,    25.00,   0.138,3,   1.8214,2,    6.44,2,   6.9001,2, -999.00,9,  -999.0,9,  -999.0,   7.819,2,   0.036,   0.330,2, -999.00,9,   41.65,2,   26.37,2,  28.2403, -52.3318,   0.009,   0.0076,    0.15,   6.8137,   6.9001,2,    35.2850,2,  -999.0,9,     -999.0,9,     -999.0,9,     -999.0,9,       1723
33AT20120419,        A20,      49,          1,         19,         19,2,20120503,       1542,    28.2397,   -52.3315,       5668,  1077.0,   6.2263,  35.1146,2,  35.1165,2,    197.6,2,   199.3,2,   14.50,2,   21.60,2,    0.00,2,    1.41,2,   0.950,2,   0.520,2,   0.030,2,    0.00,3,  2184.6,2,  2322.6,2,   7.7014,2,    25.00,   0.248,2,   1.8268,2,    6.64,2,   6.2195,2, -999.00,9,  -999.0,9,  -999.0,   7.891,2,   0.036,   0.420,2, -999.00,9,   40.53,2,   24.98,2,  28.2403, -52.3319,   0.009,   0.0077,    0.15,   6.1250,   6.2195,2,    35.2821,2,  -999.0,9,     -999.0,9,     -999.0,9,     -999.0,9,       1721
33AT20120419,        A20,      49,          1,         18,         18,2,20120503,       1542,    28.2397,   -52.3315,       5668,  1166.6,   5.8673,  35.1225,2,  35.1222,2,    211.9,2,   213.9,2,   13.51,2,   20.29,2,    0.00,2,    1.33,2,   1.250,2,   0.670,2,   0.048,2,    0.19,3,  2179.4,2,  2321.6,2,   7.7122,2,    25.00,   0.321,2,   1.8311,2,    7.07,2,   5.8674,2, -999.00,9,  -999.0,9,  -999.0,   7.823,2,   0.036,   0.600,2, -999.00,9,   41.77,2,   23.27,2,  28.2403, -52.3320,   0.011,   0.0077,    0.15,   5.7600,   5.8674,2,    35.2878,2,  -999.0,9,     -999.0,9,     -999.0,9,     -999.0,9,       1718
33AT20120419,        A20,      49,          1,         17,         17,2,20120503,       1542,    28.2397,   -52.3315,       5668,  1274.7,   5.3620,  35.1108,2,  35.1100,2,    224.7,2,   228.8,2,   13.19,2,   19.21,2,    0.00,2,    1.27,2,   1.390,2,   0.741,2,   0.063,2,    0.09,3,  -999.0,9,  -999.0,9,-999.0000,9,  -999.00,   0.327,2,   1.8272,2,    7.38,2,   5.3685,2, -999.00,9,  -999.0,9,  -999.0,   8.004,2,   0.037,   0.760,2, -999.00,9,   41.56,2,   21.68,2,  28.2404, -52.3321,   0.011,   0.0077,    0.15,   5.2486,   5.3685,2,    35.2756,2,  -999.0,9,     -999.0,9,     -999.0,9,     -999.0,9,       1715
33AT20120419,        A20,      49,          1,         16,         16,2,20120503,       1542,    28.2397,   -52.3315,       5668,  1377.2,   5.0755,  35.0974,2,  35.0968,2,    233.8,2,   234.3,2,   13.49,2,   19.06,2,    0.00,2,    1.26,2,   1.284,2,   0.681,2,   0.063,2,    0.13,3,  2173.2,2,  2321.3,6,   7.7256,2,    25.00,   0.314,2,-999.0000,9, -999.00,9,   5.0777,2, -999.00,9,  -999.0,9,  -999.0,-999.000,9,-999.000,   0.760,2, -999.00,9,   40.76,2,   21.67,2,  28.2404, -52.3321,   0.011,-999.0000, -999.00,   4.9550,   5.0777,2,    35.2623,2,  -999.0,9,     -999.0,9,     -999.0,9,     -999.0,9,       1712
33AT20120419,        A20,      49,          1,         15,         15,2,20120503,       1542,    28.2397,   -52.3315,       5668,  1543.3,   4.6156,  35.0695,2,  35.0691,2,    243.3,2,   244.1,2,   13.85,2,   18.56,2,    0.00,2,    1.23,2,   1.309,2,   0.686,2,   0.064,2,    0.14,3,  2170.0,2,  2319.1,2,   7.7294,2,    25.00,   0.310,2,   1.8488,2,    7.50,2,   4.6172,2, -999.00,9,  -999.0,9,  -999.0,   7.987,2,   0.037,   0.820,2, -999.00,9,   41.24,2,   20.91,2,  28.2404, -52.3322,   0.011,   0.0078,    0.15,   4.4841,   4.6172,2,    35.2345,2,  -999.0,9,     -999.0,9,     -999.0,9,     -999.0,9,       1708
33AT20120419,        A20,      49,          1,         14,         14,2,20120503,       1542,    28.2397,   -52.3315,       5668,  1750.1,   4.1163,  35.0327,2,  35.0325,2,    251.6,2,   250.8,2,   15.34,2,   18.36,2,    0.00,2,    1.22,2,   1.102,2,   0.574,2,   0.050,2,    0.17,3,  2167.3,2,  2319.6,2,   7.7341,2,    25.00,   0.292,2,   1.8547,2,    7.18,2,   4.1193,2, -999.00,9,  -999.0,9,  -999.0,   8.009,2,   0.037,   0.790,2, -999.00,9,   41.59,2,   20.49,2,  28.2404, -52.3321,   0.011,   0.0078,    0.15,   3.9711,   4.1193,2,    35.1977,2,  -999.0,9,     -999.0,9,     -999.0,9,     -999.0,9,       1703
33AT20120419,        A20,      49,          1,         13,         13,2,20120503,       1542,    28.2397,   -52.3315,       5668,  1954.8,   3.8050,  35.0169,2,  35.0158,2,    252.9,2,   250.3,2,   18.50,2,   18.77,2,    0.00,2,    1.25,2,   0.637,2,   0.335,2,   0.029,2,    0.00,3,  2169.5,2,  2321.5,2,   7.7357,2,    25.00,   0.179,2,   1.8436,2,    6.45,2,   3.8039,2, -999.00,9,  -999.0,9,  -999.0,   8.049,2,   0.037,   0.550,2, -999.00,9,   41.67,2,   21.10,2,  28.2404, -52.3321,   0.011,   0.0077,    0.15,   3.6446,   3.8039,2,    35.1809,2,  -999.0,9,     -999.0,9,     -999.0,9,     -999.0,9,       1659
33AT20120419,        A20,      49,          1,         12,         12,2,20120503,       1542,    28.2397,   -52.3315,       5668,  2187.5,   3.5134,  34.9985,2,  34.9983,2,    249.2,2,   248.7,2,   22.77,2,   19.32,2,    0.00,2,    1.29,2,   0.289,2,   0.167,2,   0.010,2,    0.00,3,  2171.7,2,  2325.7,2,   7.7391,2,    25.00,   0.106,2,   1.8446,2,    5.24,2,   3.5131,2, -999.00,9,  -999.0,9,  -999.0,   8.042,2,   0.037,   0.310,2, -999.00,9,   39.93,2,   22.61,2,  28.2404, -52.3321,   0.011,   0.0077,    0.15,   3.3349,   3.5131,2,    35.1633,2,  -999.0,9,     -999.0,9,     -999.0,9,     -999.0,9,       1654
33AT20120419,        A20,      49,          1,         11,         11,2,20120503,       1542,    28.2397,   -52.3315,       5668,  2438.5,   3.2276,  34.9744,2,  34.9740,2,    248.1,2,   248.8,2,   26.50,2,   19.75,2,    0.00,2,    1.33,2,   0.155,2,   0.095,2,   0.004,2,    0.00,3,  -999.0,9,  -999.0,9,-999.0000,9,  -999.00,   0.064,2,   1.8618,2,    4.46,2,   3.2278,2, -999.00,9,  -999.0,9,  -999.0,   8.084,2,   0.037,   0.210,2, -999.00,9,   40.75,2,   22.36,2,  28.2405, -52.3323,   0.011,   0.0078,    0.15,   3.0294,   3.2278,2,    35.1389,2,  -999.0,9,     -999.0,9,     -999.0,9,     -999.0,9,       1649
33AT20120419,        A20,      49,          1,         10,         10,2,20120503,       1542,    28.2397,   -52.3315,       5668,  2697.7,   3.0506,  34.9585,2,  34.9579,2,    249.4,2,   249.2,2,   28.95,2,   20.01,2,    0.00,2,    1.35,2,   0.097,2,   0.063,2,   0.002,2,    0.00,3,  2176.8,2,  2332.4,2,   7.7387,2,    25.00,-999.000,9,-999.0000,9, -999.00,9,   3.0499,2, -999.00,9,  -999.0,9,  -999.0,-999.000,9,-999.000,   0.170,2, -999.00,9,   40.14,2,   22.54,2,  28.2406, -52.3325,-999.000,-999.0000, -999.00,   2.8299,   3.0499,2,    35.1227,2,  -999.0,9,     -999.0,9,     -999.0,9,     -999.0,9,       1644
33AT20120419,        A20,      49,          1,          9,          9,2,20120503,       1542,    28.2397,   -52.3315,       5668,  2951.8,   2.8902,  34.9446,2,  34.9447,2,    249.7,2,   250.9,2,   30.84,2,   20.11,2,    0.00,2,    1.36,2,   0.058,2,   0.041,2,   0.003,2,    0.00,3,  -999.0,9,  -999.0,9,-999.0000,9,  -999.00,   0.006,2,   1.8568,2,    3.54,2,   2.8905,2, -999.00,9,  -999.0,9,  -999.0,   8.127,2,   0.037,   0.140,2, -999.00,9,   39.89,2,   22.74,2,  28.2406, -52.3326,   0.011,   0.0078,    0.15,   2.6467,   2.8905,2,    35.1095,2,  -999.0,9,     -999.0,9,     -999.0,9,     -999.0,9,       1638
33AT20120419,        A20,      49,          1,          8,          8,2,20120503,       1542,    28.2397,   -52.3315,       5668,  3243.5,   2.6773,  34.9271,2,  34.9265,2,    254.7,2,   255.0,2,   31.31,2,   19.86,2,    0.00,2,    1.35,2,   0.058,2,   0.042,2,   0.003,2,    0.00,3,  2175.1,2,  2331.3,2,   7.7419,2,    25.00,-999.000,9,-999.0000,9, -999.00,9,   2.6769,2, -999.00,9,  -999.0,9,  -999.0,-999.000,9,-999.000,   0.140,2, -999.00,9,   40.77,2,   23.12,2,  28.2406, -52.3325,-999.000,-999.0000, -999.00,   2.4080,   2.6769,2,    35.0912,2,  -999.0,9,     -999.0,9,     -999.0,9,     -999.0,9,       1632
33AT20120419,        A20,      49,          1,          7,          7,2,20120503,       1542,    28.2397,   -52.3315,       5668,  3552.6,   2.5127,  34.9136,2,  34.8937,4,    258.1,2,   257.6,2,   36.28,4,   20.11,4,    0.00,4,    1.37,4,   0.114,2,   0.067,2,   0.007,2,    0.00,3,  -999.0,9,  -999.0,9,-999.0000,9,  -999.00,-999.000,9,-999.0000,9, -999.00,9,   2.5132,2, -999.00,9,  -999.0,9,  -999.0,-999.000,9,-999.000,   0.190,2, -999.00,9,   41.21,2,   22.75,2,  28.2406, -52.3326,-999.000,-999.0000, -999.00,   2.2142,   2.5132,2,    35.0582,4,  -999.0,9,     -999.0,9,     -999.0,9,     -999.0,9,       1626