BOTTLE,20220712CCHSIOCBG
EXPOCODE,SECT_ID,STNNBR,CASTNO,SAMPNO,BTLNBR,BTLNBR_FLAG_W,DATE,TIME,LATITUDE,LONGITUDE,DEPTH,CTDPRS,CTDTMP,CTDSAL,CTDSAL_FLAG_W,SALNTY,SALNTY_FLAG_W,CTDOXY,CTDOXY_FLAG_W,OXYGEN,OXYGEN_FLAG_W,SILCAT,SILCAT_FLAG_W,NITRAT,NITRAT_FLAG_W,NITRIT,NITRIT_FLAG_W,PHSPHT,PHSPHT_FLAG_W,CFC-11,CFC-11_FLAG_W,CFC-12,CFC-12_FLAG_W,CFC113,CFC113_FLAG_W,SF6,SF6_FLAG_W,TCARBN,TCARBN_FLAG_W,ALKALI,ALKALI_FLAG_W,PH_TOT,PH_TOT_FLAG_W,PH_TMP,TRITUM,TRITUM_FLAG_W,HELIUM,HELIUM_FLAG_W,DELHE3,DELHE3_FLAG_W,REFTMP,REFTMP_FLAG_W,DELC13,DELC13_FLAG_W,DELC14,DELC14_FLAG_W,C14ERR,NEON,NEON_FLAG_W,NEONER,CCL4,CCL4_FLAG_W,DELO18,DELO18_FLAG_W,DOC,DOC_FLAG_W,TDN,TDN_FLAG_W,BTL_LAT,BTL_LON,TRITER,HELIER,DELHER,THETA,SBE35,SBE35_FLAG_W,SALTREF,SALTREF_FLAG_W,14C-DOC,14C-DOC_FLAG_W,DELO17,DELO17_FLAG_W,O2/AR,O2/AR_FLAG_W,SIP,SIP_FLAG_W,BTL_TIME
,,,,,,,,,,,METERS,DBAR,ITS-90,PSS-78,,PSS-78,,UMOL/KG,,UMOL/KG,,UMOL/KG,,UMOL/KG,,UMOL/KG,,UMOL/KG,,PMOL/KG,,PMOL/KG,,PMOL/KG,,FMOL/KG,,UMOL/KG,,UMOL/KG,,,,DEG C,TU,,NMOL/KG,,PERCNT,,DEG C,,/MILLE,,/MILLE,,/MILLE,NMOL/KG,,NMOL/KG,PMOL/KG,,/MILLE,,UMOL/KG,,UMOL/KG,,,,TU,NMOL/KG,PERCNT,DEG C,ITS-90,,G/KG,,/MILLE,,/MILLE,,,,,,
33AT20120419,        A20,      51,          1,         36,         36,2,20120504,       0818,    29.7448,   -52.3317,       5020,     5.1,  21.9647,  36.7954,2,  36.7950,2,    220.1,2,   220.3,2,    0.38,2,    0.00,2,    0.00,2,    0.00,2,   1.848,2,   1.198,2,   0.143,2,    1.08,3,  2082.3,6,  2407.5,2,   8.0502,2,    25.00,-999.000,9,-999.0000,9, -999.00,9,  21.9721,2, -999.00,9,  -999.0,9,  -999.0,-999.000,9,-999.000,   1.140,2, -999.00,9, -999.00,9, -999.00,9,  29.7463, -52.3312,-999.000,-999.0000, -999.00,  21.9637,  21.9721,2,    36.9685,2,  -999.0,9,     -999.0,9,     -999.0,9,     -999.0,9,       1037
33AT20120419,        A20,      51,          1,         35,         35,2,20120504,       0818,    29.7448,   -52.3317,       5020,    34.8,  21.5765,  36.9165,2,  36.9167,2,    224.1,2,   222.2,2,    0.39,2,    0.00,2,    0.00,2,    0.00,2,   1.861,2,   1.198,2,   0.136,2,    0.77,3,  2082.6,2,  2416.1,2,   8.0588,6,    25.00,-999.000,9,-999.0000,9, -999.00,9,  21.5683,2, -999.00,9,  -999.0,9,  -999.0,-999.000,9,-999.000,   1.040,2, -999.00,9, -999.00,9, -999.00,9,  29.7461, -52.3313,-999.000,-999.0000, -999.00,  21.5697,  21.5683,2,    37.0908,2,  -999.0,9,     -999.0,9,     -999.0,9,     -999.0,9,       1033
33AT20120419,        A20,      51,          1,         34,         34,2,20120504,       0818,    29.7448,   -52.3317,       5020,    59.9,  21.3099,  36.9126,2,  36.9117,2,    221.5,2,   222.3,2,    0.36,2,    0.00,2,    0.00,2,    0.00,2,   1.883,2,   1.220,2,   0.139,2,    1.39,3,  2084.2,2,  2414.5,2,   8.0562,2,    25.00,-999.000,9,-999.0000,9, -999.00,9,  21.3055,2, -999.00,9,  -999.0,9,  -999.0,-999.000,9,-999.000,   1.020,2, -999.00,9, -999.00,9, -999.00,9,  29.7460, -52.3312,-999.000,-999.0000, -999.00,  21.2982,  21.3055,2,    37.0858,2,  -999.0,9,     -999.0,9,     -999.0,9,     -999.0,9,       1031
33AT20120419,        A20,      51,          1,         33,         33,2,20120504,       0818,    29.7448,   -52.3317,       5020,    85.5,  20.9087,  36.8888,2,  36.8901,2,    221.4,2,   221.0,2,    0.32,2,    0.00,2,    0.00,2,    0.00,2,   1.894,2,   1.225,2,   0.142,2,    1.16,3,  2088.9,2,  2414.1,2,   8.0482,2,    25.00,-999.000,9,-999.0000,9, -999.00,9,  20.8917,2, -999.00,9,  -999.0,9,  -999.0,-999.000,9,-999.000,   0.970,2, -999.00,9, -999.00,9, -999.00,9,  29.7459, -52.3313,-999.000,-999.0000, -999.00,  20.8922,  20.8917,2,    37.0640,2,  -999.0,9,     -999.0,9,     -999.0,9,     -999.0,9,       1029
33AT20120419,        A20,      51,          1,         32,         32,2,20120504,       0818,    29.7448,   -52.3317,       5020,   118.2,  20.0878,  36.7305,2,  36.7319,2,    212.8,2,   210.7,2,    0.42,2,    0.00,2,    0.00,2,    0.00,2,   1.966,2,   1.246,2,   0.118,2,    1.38,3,  -999.0,9,  -999.0,9,-999.0000,9,  -999.00,-999.000,9,-999.0000,9, -999.00,9,  20.0991,2, -999.00,9,  -999.0,9,  -999.0,-999.000,9,-999.000,   0.610,2, -999.00,9, -999.00,9, -999.00,9,  29.7458, -52.3313,-999.000,-999.0000, -999.00,  20.0657,  20.0991,2,    36.9051,2,  -999.0,9,     -999.0,9,     -999.0,9,     -999.0,9,       1024
33AT20120419,        A20,      51,          1,         31,         31,2,20120504,       0818,    29.7448,   -52.3317,       5020,   168.3,  18.5605,  36.5997,2,  36.6001,2,    193.8,2,   194.9,2,    0.82,2,    2.86,2,    0.03,2,    0.10,2,   2.105,2,   1.353,2,   0.049,2,    1.53,3,  2117.1,2,  2392.4,6,   7.9704,2,    25.00,-999.000,9,-999.0000,9, -999.00,9,  18.5609,2, -999.00,9,  -999.0,9,  -999.0,-999.000,9,-999.000,   0.270,2, -999.00,9, -999.00,9, -999.00,9,  29.7457, -52.3313,-999.000,-999.0000, -999.00,  18.5307,  18.5609,2,    36.7726,2,  -999.0,9,     -999.0,9,     -999.0,9,     -999.0,9,       1021
33AT20120419,        A20,      51,          1,         30,         30,2,20120504,       0818,    29.7448,   -52.3317,       5020,   218.4,  18.0597,  36.5493,2,  36.5491,2,    202.2,2,   200.0,2,    0.97,2,    4.02,2,    0.02,2,    0.18,2,   2.135,2,   1.363,2,   0.034,2,    1.06,3,  2115.4,2,  2389.5,2,   7.9684,2,    25.00,-999.000,9,-999.0000,9, -999.00,9,  18.0594,2, -999.00,9,  -999.0,9,  -999.0,-999.000,9,-999.000,   0.340,2, -999.00,9, -999.00,9, -999.00,9,  29.7455, -52.3313,-999.000,-999.0000, -999.00,  18.0217,  18.0594,2,    36.7215,2,  -999.0,9,     -999.0,9,     -999.0,9,     -999.0,9,       1018
33AT20120419,        A20,      51,          1,         29,         29,2,20120504,       0818,    29.7448,   -52.3317,       5020,   268.1,  17.8276,  36.5295,2,  36.5305,2,    203.4,2,   203.2,2,    1.16,2,    4.30,2,    0.01,2,    0.19,2,   2.147,2,   1.348,2,   0.039,2,    0.98,3,  2115.1,2,  2388.9,2,   7.9680,2,    25.00,-999.000,9,-999.0000,9, -999.00,9,  17.8317,2, -999.00,9,  -999.0,9,  -999.0,-999.000,9,-999.000,   0.280,2, -999.00,9, -999.00,9, -999.00,9,  29.7454, -52.3314,-999.000,-999.0000, -999.00,  17.7813,  17.8317,2,    36.7027,2,  -999.0,9,     -999.0,9,     -999.0,9,     -999.0,9,       1015
33AT20120419,        A20,      51,          1,         28,         28,2,20120504,       0818,    29.7448,   -52.3317,       5020,   319.4,  17.5688,  36.4933,2,  36.4948,2,    204.2,2,   204.0,2,    1.35,2,    4.64,2,    0.01,2,    0.22,2,   2.142,2,   1.348,2,   0.032,2,    0.95,3,  -999.0,9,  -999.0,9,-999.0000,9,  -999.00,-999.000,9,-999.0000,9, -999.00,9,  17.5729,2, -999.00,9,  -999.0,9,  -999.0,-999.000,9,-999.000,   0.280,2, -999.00,9, -999.00,9, -999.00,9,  29.7452, -52.3314,-999.000,-999.0000, -999.00,  17.5142,  17.5729,2,    36.6669,2,  -999.0,9,     -999.0,9,     -999.0,9,     -999.0,9,       1013
33AT20120419,        A20,      51,          1,         27,         27,2,20120504,       0818,    29.7448,   -52.3317,       5020,   368.3,  17.3238,  36.4528,2,  36.4534,2,    206.6,2,   205.2,2,    1.48,2,    5.03,2,    0.01,2,    0.25,2,   2.180,2,   1.358,2,   0.035,2,    1.09,3,  2117.2,2,  2384.0,2,   7.9559,2,    25.00,-999.000,9,-999.0000,9, -999.00,9,  17.3241,2, -999.00,9,  -999.0,9,  -999.0,-999.000,9,-999.000,   0.300,2, -999.00,9, -999.00,9, -999.00,9,  29.7451, -52.3315,-999.000,-999.0000, -999.00,  17.2613,  17.3241,2,    36.6253,2,  -999.0,9,     -999.0,9,     -999.0,9,     -999.0,9,       1010
33AT20120419,        A20,      51,          1,         26,         26,2,20120504,       0818,    29.7448,   -52.3317,       5020,   439.5,  16.6223,  36.3118,2,  36.3165,2,    198.4,2,   198.9,2,    2.06,2,    6.71,2,    0.01,2,    0.36,2,   2.215,2,   1.362,2,   0.030,2,    0.73,3,  2125.8,2,  2375.9,2,   7.9301,2,    25.00,-999.000,9,-999.0000,9, -999.00,9,  16.6315,2, -999.00,9,  -999.0,9,  -999.0,-999.000,9,-999.000,   0.300,2, -999.00,9, -999.00,9, -999.00,9,  29.7449, -52.3315,-999.000,-999.0000, -999.00,  16.5497,  16.6315,2,    36.4878,2,  -999.0,9,     -999.0,9,     -999.0,9,     -999.0,9,       1007
33AT20120419,        A20,      51,          1,         25,         25,2,20120504,       0818,    29.7448,   -52.3317,       5020,   542.0,  14.8704,  35.9967,2,  35.9982,2,    182.1,2,   182.2,2,    3.74,2,   10.93,2,    0.00,2,    0.63,2,   2.198,2,   1.318,2,   0.031,2,    0.59,3,  2142.8,2,  2358.1,2,   7.8667,6,    25.00,-999.000,9,-999.0000,9, -999.00,9,  14.8820,2, -999.00,9,  -999.0,9,  -999.0,-999.000,9,-999.000,   0.260,2, -999.00,9, -999.00,9, -999.00,9,  29.7449, -52.3315,-999.000,-999.0000, -999.00,  14.7873,  14.8820,2,    36.1680,2,  -999.0,9,     -999.0,9,     -999.0,9,     -999.0,9,       1004
33AT20120419,        A20,      51,          1,         24,         24,2,20120504,       0818,    29.7448,   -52.3317,       5020,   637.7,  13.0212,  35.7112,2,  35.7082,2,    169.3,2,   169.7,2,    6.20,2,   15.29,2,    0.00,2,    0.92,2,   1.955,2,   1.160,2,   0.028,2,    0.73,3,  2159.1,2,  2344.5,2,   7.8044,6,    25.00,-999.000,9,-999.0000,9, -999.00,9,  13.0164,2, -999.00,9,  -999.0,9,  -999.0,-999.000,9,-999.000,   0.240,2, -999.00,9, -999.00,9, -999.00,9,  29.7448, -52.3315,-999.000,-999.0000, -999.00,  12.9314,  13.0164,2,    35.8766,2,  -999.0,9,     -999.0,9,     -999.0,9,     -999.0,9,       1001
33AT20120419,        A20,      51,          1,         23,         23,2,20120504,       0818,    29.7448,   -52.3317,       5020,   742.0,  10.9304,  35.4348,2,  35.4339,2,    158.9,2,   157.9,2,    9.48,2,   19.85,2,    0.00,2,    1.22,2,   1.610,2,   0.905,2,   0.022,2,    0.45,3,  2177.0,2,  2330.8,2,   7.7371,2,    25.00,-999.000,9,-999.0000,9, -999.00,9,  10.9286,2, -999.00,9,  -999.0,9,  -999.0,-999.000,9,-999.000,   0.230,2, -999.00,9, -999.00,9, -999.00,9,  29.7448, -52.3316,-999.000,-999.0000, -999.00,  10.8366,  10.9286,2,    35.6010,2,  -999.0,9,     -999.0,9,     -999.0,9,     -999.0,9,       0957
33AT20120419,        A20,      51,          1,         22,         22,2,20120504,       0818,    29.7448,   -52.3317,       5020,   843.0,   8.9271,  35.2367,2,  35.2396,2,    162.4,2,   162.6,2,   12.21,2,   21.97,2,    0.00,2,    1.38,2,   1.406,2,   0.777,2,   0.029,2,    0.39,3,  2186.0,2,  2322.2,2,   7.6989,2,    25.00,-999.000,9,-999.0000,9, -999.00,9,   8.9309,2, -999.00,9,  -999.0,9,  -999.0,-999.000,9,-999.000,   0.310,2, -999.00,9, -999.00,9, -999.00,9,  29.7448, -52.3316,-999.000,-999.0000, -999.00,   8.8323,   8.9309,2,    35.4057,2,  -999.0,9,     -999.0,9,     -999.0,9,     -999.0,9,       0954
33AT20120419,        A20,      51,          1,         21,         21,2,20120504,       0818,    29.7448,   -52.3317,       5020,   939.5,   7.4958,  35.1501,2,  35.1493,2,    180.2,2,   180.8,2,   13.19,2,   21.84,2,    0.00,2,    1.40,2,   1.380,2,   0.744,2,   0.035,2,    0.29,3,  2184.6,6,  2320.1,2,   7.6912,2,    25.00,-999.000,9,-999.0000,9, -999.00,9,   7.4938,2, -999.00,9,  -999.0,9,  -999.0,-999.000,9,-999.000,   0.430,2, -999.00,9, -999.00,9, -999.00,9,  29.7448, -52.3316,-999.000,-999.0000, -999.00,   7.3995,   7.4938,2,    35.3151,2,  -999.0,9,     -999.0,9,     -999.0,9,     -999.0,9,       0951
33AT20120419,        A20,      51,          1,         20,         20,2,20120504,       0818,    29.7448,   -52.3317,       5020,  1045.7,   6.3879,  35.1224,2,  35.1222,2,    199.9,2,   203.5,2,   13.34,2,   20.83,2,    0.00,2,    1.35,2,   1.395,2,   0.749,2,   0.048,2,    0.37,3,  2181.7,2,  2320.7,2,   7.7016,2,    25.00,-999.000,9,-999.0000,9, -999.00,9,   6.3876,2, -999.00,9,  -999.0,9,  -999.0,-999.000,9,-999.000,   0.550,2, -999.00,9, -999.00,9, -999.00,9,  29.7445, -52.3317,-999.000,-999.0000, -999.00,   6.2885,   6.3876,2,    35.2878,2,  -999.0,9,     -999.0,9,     -999.0,9,     -999.0,9,       0947
33AT20120419,        A20,      51,          1,         19,         19,2,20120504,       0818,    29.7448,   -52.3317,       5020,  1145.4,   5.9183,  35.1217,2,  35.1218,2,    213.4,2,   213.9,2,   13.41,2,   20.32,2,    0.00,2,    1.32,2,   1.258,2,   0.678,2,   0.042,2,    0.45,3,  2177.6,2,  2320.8,2,   7.7104,2,    25.00,-999.000,9,-999.0000,9, -999.00,9,   5.9180,2, -999.00,9,  -999.0,9,  -999.0,-999.000,9,-999.000,   0.580,2, -999.00,9, -999.00,9, -999.00,9,  29.7443, -52.3317,-999.000,-999.0000, -999.00,   5.8127,   5.9180,2,    35.2874,2,  -999.0,9,     -999.0,9,     -999.0,9,     -999.0,9,       0944
33AT20120419,        A20,      51,          1,         18,         18,2,20120504,       0818,    29.7448,   -52.3317,       5020,  1245.0,   5.5216,  35.1196,2,  35.1200,2,    221.8,2,   220.4,2,   14.15,2,   20.16,2,    0.00,2,    1.31,2,   0.905,2,   0.472,2,   0.032,2,    0.19,3,  -999.0,9,  -999.0,9,-999.0000,9,  -999.00,-999.000,9,-999.0000,9, -999.00,9,   5.5220,2, -999.00,9,  -999.0,9,  -999.0,-999.000,9,-999.000,   0.510,2, -999.00,9, -999.00,9, -999.00,9,  29.7446, -52.3316,-999.000,-999.0000, -999.00,   5.4096,   5.5220,2,    35.2856,2,  -999.0,9,     -999.0,9,     -999.0,9,     -999.0,9,       0941
33AT20120419,        A20,      51,          1,         17,         17,2,20120504,       0818,    29.7448,   -52.3317,       5020,  1347.5,   5.2311,  35.1131,2,  35.1135,2,    230.5,2,   230.6,2,   13.71,2,   19.45,2,    0.00,2,    1.26,2,   1.139,2,   0.592,2,   0.050,2,    0.24,3,  2172.6,2,  2320.2,2,   7.7237,2,    25.00,-999.000,9,-999.0000,9, -999.00,9,   5.2307,2, -999.00,9,  -999.0,9,  -999.0,-999.000,9,-999.000,   0.650,2, -999.00,9, -999.00,9, -999.00,9,  29.7451, -52.3317,-999.000,-999.0000, -999.00,   5.1118,   5.2307,2,    35.2791,2,  -999.0,9,     -999.0,9,     -999.0,9,     -999.0,9,       0938
33AT20120419,        A20,      51,          1,         16,         16,2,20120504,       0818,    29.7448,   -52.3317,       5020,  1449.2,   4.8969,  35.0899,2,  35.0904,2,    240.5,2,   241.0,2,   13.20,2,   18.75,2,    0.00,2,    1.22,2,   1.481,2,   0.803,2,   0.069,2,    0.24,3,  -999.0,9,  -999.0,9,-999.0000,9,  -999.00,-999.000,9,-999.0000,9, -999.00,9,   4.8961,2, -999.00,9,  -999.0,9,  -999.0,-999.000,9,-999.000,   0.840,2, -999.00,9, -999.00,9, -999.00,9,  29.7453, -52.3318,-999.000,-999.0000, -999.00,   4.7713,   4.8961,2,    35.2559,2,  -999.0,9,     -999.0,9,     -999.0,9,     -999.0,9,       0936
33AT20120419,        A20,      51,          1,         15,         15,2,20120504,       0818,    29.7448,   -52.3317,       5020,  1551.4,   4.6440,  35.0728,2,  35.0729,2,    243.0,2,   244.8,2,   13.76,2,   18.68,2,    0.00,2,    1.22,2,   1.359,2,   0.730,2,   0.064,2,    0.18,3,  -999.0,9,  -999.0,9,-999.0000,9,  -999.00,-999.000,9,-999.0000,9, -999.00,9,   4.6453,2, -999.00,9,  -999.0,9,  -999.0,-999.000,9,-999.000,   0.810,2, -999.00,9, -999.00,9, -999.00,9,  29.7455, -52.3318,-999.000,-999.0000, -999.00,   4.5113,   4.6453,2,    35.2383,2,  -999.0,9,     -999.0,9,     -999.0,9,     -999.0,9,       0933
33AT20120419,        A20,      51,          1,         14,         14,2,20120504,       0818,    29.7448,   -52.3317,       5020,  1683.2,   4.4280,  35.0661,2,  35.0662,2,    246.4,2,   245.8,2,   15.06,2,   18.75,2,    0.00,2,    1.23,2,   1.005,2,   0.531,2,   0.040,2,    0.18,3,  2167.7,2,  2320.8,6,   7.7329,2,    25.00,-999.000,9,-999.0000,9, -999.00,9,   4.4282,2, -999.00,9,  -999.0,9,  -999.0,-999.000,9,-999.000,   0.680,2, -999.00,9, -999.00,9, -999.00,9,  29.7456, -52.3318,-999.000,-999.0000, -999.00,   4.2852,   4.4282,2,    35.2316,2,  -999.0,9,     -999.0,9,     -999.0,9,     -999.0,9,       0930
33AT20120419,        A20,      51,          1,         13,         13,2,20120504,       0818,    29.7448,   -52.3317,       5020,  1886.6,   4.0135,  35.0339,2,  35.0345,2,    251.0,2,   250.9,2,   16.90,2,   18.70,2,    0.00,2,    1.23,2,   0.826,2,   0.439,2,   0.030,2,    0.00,3,  2168.0,2,  2319.5,2,   7.7356,2,    25.00,-999.000,9,-999.0000,9, -999.00,9,   4.0133,2, -999.00,9,  -999.0,9,  -999.0,-999.000,9,-999.000,   0.610,2, -999.00,9, -999.00,9, -999.00,9,  29.7455, -52.3318,-999.000,-999.0000, -999.00,   3.8566,   4.0133,2,    35.1997,2,  -999.0,9,     -999.0,9,     -999.0,9,     -999.0,9,       0925
33AT20120419,        A20,      51,          1,         12,         12,2,20120504,       0818,    29.7448,   -52.3317,       5020,  2106.4,   3.6744,  35.0099,2,  35.0105,2,    250.4,2,   250.4,2,   20.53,2,   19.09,2,    0.00,2,    1.27,2,   0.462,2,   0.249,2,   0.013,2,    0.00,3,  2169.5,2,  2324.9,2,   7.7374,2,    25.00,-999.000,9,-999.0000,9, -999.00,9,   3.6733,2, -999.00,9,  -999.0,9,  -999.0,-999.000,9,-999.000,   0.430,2, -999.00,9, -999.00,9, -999.00,9,  29.7455, -52.3318,-999.000,-999.0000, -999.00,   3.5013,   3.6733,2,    35.1756,2,  -999.0,9,     -999.0,9,     -999.0,9,     -999.0,9,       0920
33AT20120419,        A20,      51,          1,         11,         11,2,20120504,       0818,    29.7448,   -52.3317,       5020,  2360.5,   3.3729,  34.9857,2,  34.9861,2,    249.3,2,   250.7,2,   24.31,2,   19.51,2,    0.00,2,    1.30,2,   0.266,2,   0.152,2,   0.009,2,    0.00,3,  2173.4,2,  2326.9,2,   7.7377,2,    25.00,-999.000,9,-999.0000,9, -999.00,9,   3.3725,2, -999.00,9,  -999.0,9,  -999.0,-999.000,9,-999.000,   0.320,2, -999.00,9, -999.00,9, -999.00,9,  29.7453, -52.3318,-999.000,-999.0000, -999.00,   3.1799,   3.3725,2,    35.1511,2,  -999.0,9,     -999.0,9,     -999.0,9,     -999.0,9,       0915
33AT20120419,        A20,      51,          1,         10,         10,2,20120504,       0818,    29.7448,   -52.3317,       5020,  2618.3,   3.1395,  34.9654,2,  34.9650,2,    251.6,2,   251.3,2,   27.05,2,   19.76,2,    0.00,2,    1.32,2,   0.160,2,   0.094,2,   0.003,2,    0.00,3,  -999.0,9,  -999.0,9,-999.0000,9,  -999.00,-999.000,9,-999.0000,9, -999.00,9,   3.1389,2, -999.00,9,  -999.0,9,  -999.0,-999.000,9,-999.000,   0.220,2, -999.00,9, -999.00,9, -999.00,9,  29.7450, -52.3317,-999.000,-999.0000, -999.00,   2.9250,   3.1389,2,    35.1299,2,  -999.0,9,     -999.0,9,     -999.0,9,     -999.0,9,       0910
33AT20120419,        A20,      51,          1,          9,          9,2,20120504,       0818,    29.7448,   -52.3317,       5020,  2871.0,   2.9655,  34.9506,2,  34.9507,2,    251.9,2,   251.5,2,   29.54,2,   20.03,2,    0.00,2,    1.34,2,   0.087,2,   0.054,2,   0.002,2,    0.00,3,  -999.0,9,  -999.0,9,-999.0000,9,  -999.00,-999.000,9,-999.0000,9, -999.00,9,   2.9651,2, -999.00,9,  -999.0,9,  -999.0,-999.000,9,-999.000,   0.170,2, -999.00,9, -999.00,9, -999.00,9,  29.7449, -52.3317,-999.000,-999.0000, -999.00,   2.7288,   2.9651,2,    35.1155,2,  -999.0,9,     -999.0,9,     -999.0,9,     -999.0,9,       0904
33AT20120419,        A20,      51,          1,          8,          8,2,20120504,       0818,    29.7448,   -52.3317,       5020,  3140.2,   2.7571,  34.9334,2,  34.9337,2,    254.8,2,   255.0,2,   30.71,2,   19.94,2,    0.00,2,    1.34,2,   0.087,2,   0.053,2,   0.004,2,    0.00,3,  2174.7,2,  2330.6,2,   7.7397,2,    25.00,-999.000,9,-999.0000,9, -999.00,9,   2.7583,2, -999.00,9,  -999.0,9,  -999.0,-999.000,9,-999.000,   0.170,2, -999.00,9, -999.00,9, -999.00,9,  29.7448, -52.3317,-999.000,-999.0000, -999.00,   2.4969,   2.7583,2,    35.0985,2,  -999.0,9,     -999.0,9,     -999.0,9,     -999.0,9,       0859
33AT20120419,        A20,      51,          1,          7,          7,2,20120504,       0818,    29.7448,   -52.3317,       5020,  3445.8,   2.5641,  34.9177,2,  34.9176,2,    257.4,2,   257.6,2,   32.15,2,   19.87,2,    0.00,2,    1.34,2,   0.082,2,   0.053,2,   0.004,2,    0.00,3,  2173.6,2,  2330.9,2,   7.7408,2,    25.00,-999.000,9,-999.0000,9, -999.00,9,   2.5643,2, -999.00,9,  -999.0,9,  -999.0,-999.000,9,-999.000,   0.170,2, -999.00,9, -999.00,9, -999.00,9,  29.7449, -52.3317,-999.000,-999.0000, -999.00,   2.2759,   2.5643,2,    35.0823,2,  -999.0,9,     -999.0,9,     -999.0,9,     -999.0,9,       0853