BOTTLE,20220712CCHSIOCBG
EXPOCODE,SECT_ID,STNNBR,CASTNO,SAMPNO,BTLNBR,BTLNBR_FLAG_W,DATE,TIME,LATITUDE,LONGITUDE,DEPTH,CTDPRS,CTDTMP,CTDSAL,CTDSAL_FLAG_W,SALNTY,SALNTY_FLAG_W,CTDOXY,CTDOXY_FLAG_W,OXYGEN,OXYGEN_FLAG_W,SILCAT,SILCAT_FLAG_W,NITRAT,NITRAT_FLAG_W,NITRIT,NITRIT_FLAG_W,PHSPHT,PHSPHT_FLAG_W,CFC-11,CFC-11_FLAG_W,CFC-12,CFC-12_FLAG_W,CFC113,CFC113_FLAG_W,SF6,SF6_FLAG_W,TCARBN,TCARBN_FLAG_W,ALKALI,ALKALI_FLAG_W,PH_TOT,PH_TOT_FLAG_W,PH_TMP,TRITUM,TRITUM_FLAG_W,HELIUM,HELIUM_FLAG_W,DELHE3,DELHE3_FLAG_W,REFTMP,REFTMP_FLAG_W,DELC13,DELC13_FLAG_W,DELC14,DELC14_FLAG_W,C14ERR,NEON,NEON_FLAG_W,NEONER,CCL4,CCL4_FLAG_W,DELO18,DELO18_FLAG_W,DOC,DOC_FLAG_W,TDN,TDN_FLAG_W,BTL_LAT,BTL_LON,TRITER,HELIER,DELHER,THETA,SBE35,SBE35_FLAG_W,SALTREF,SALTREF_FLAG_W,14C-DOC,14C-DOC_FLAG_W,DELO17,DELO17_FLAG_W,O2/AR,O2/AR_FLAG_W,SIP,SIP_FLAG_W,BTL_TIME
,,,,,,,,,,,METERS,DBAR,ITS-90,PSS-78,,PSS-78,,UMOL/KG,,UMOL/KG,,UMOL/KG,,UMOL/KG,,UMOL/KG,,UMOL/KG,,PMOL/KG,,PMOL/KG,,PMOL/KG,,FMOL/KG,,UMOL/KG,,UMOL/KG,,,,DEG C,TU,,NMOL/KG,,PERCNT,,DEG C,,/MILLE,,/MILLE,,/MILLE,NMOL/KG,,NMOL/KG,PMOL/KG,,/MILLE,,UMOL/KG,,UMOL/KG,,,,TU,NMOL/KG,PERCNT,DEG C,ITS-90,,G/KG,,/MILLE,,/MILLE,,,,,,
33AT20120419,        A20,      50,          1,          6,          6,2,20120504,       0000,    28.9936,   -52.3330,       5731,  3962.5,   2.2824,  34.8923,2,  34.8914,2,    259.5,2,   259.6,2,   36.33,2,   20.01,2,    0.00,2,    1.38,2,   0.218,2,   0.092,2,   0.012,2,    0.05,2,  2178.0,2,  2332.0,2,   7.7372,2,    25.00,-999.000,9,-999.0000,9, -999.00,9,   2.2824,2, -999.00,9,  -999.0,9,  -999.0,-999.000,9,-999.000,-999.000,9, -999.00,9, -999.00,9, -999.00,9,  28.9932, -52.3329,-999.000,-999.0000, -999.00,   1.9445,   2.2824,2,    35.0559,2,  -999.0,9,     -999.0,9,     -999.0,9,     -999.0,9,       0036
33AT20120419,        A20,      50,          1,          5,          5,2,20120504,       0000,    28.9936,   -52.3330,       5731,  4372.2,   2.1694,  34.8761,2,  34.8747,2,    255.6,2,   255.6,2,   43.28,2,   21.02,2,    0.00,2,    1.44,2,-999.000,9,-999.000,9,-999.000,9, -999.00,9,  -999.0,9,  -999.0,9,-999.0000,9,  -999.00,-999.000,9,-999.0000,9, -999.00,9,   2.1688,2, -999.00,9,  -999.0,9,  -999.0,-999.000,9,-999.000,-999.000,9, -999.00,9, -999.00,9, -999.00,9,  28.9934, -52.3329,-999.000,-999.0000, -999.00,   1.7875,   2.1688,2,    35.0391,2,  -999.0,9,     -999.0,9,     -999.0,9,     -999.0,9,       0028
33AT20120419,        A20,      50,          1,          4,          4,2,20120504,       0000,    28.9936,   -52.3330,       5731,  4780.9,   2.1026,  34.8632,2,  34.8631,2,    252.7,2,   252.1,2,   49.13,2,   21.91,2,    0.00,2,    1.50,2,   0.113,2,   0.050,2,   0.011,2,    0.05,2,  2193.4,2,  2343.0,2,   7.7243,6,    25.00,-999.000,9,-999.0000,9, -999.00,9,   2.1027,2, -999.00,9,  -999.0,9,  -999.0,-999.000,9,-999.000,-999.000,9, -999.00,9, -999.00,9, -999.00,9,  28.9936, -52.3330,-999.000,-999.0000, -999.00,   1.6738,   2.1027,2,    35.0275,2,  -999.0,9,     -999.0,9,     -999.0,9,     -999.0,9,       0021
33AT20120419,        A20,      50,          1,          3,          3,2,20120504,       0000,    28.9936,   -52.3330,       5731,  5192.8,   2.1247,  34.8596,2,  34.8591,2,    251.2,2,   251.1,2,   50.61,2,   22.12,2,    0.00,2,    1.51,2,-999.000,9,-999.000,9,-999.000,9, -999.00,9,  -999.0,9,  -999.0,9,-999.0000,9,  -999.00,-999.000,9,-999.0000,9, -999.00,9,   2.1248,2, -999.00,9,  -999.0,9,  -999.0,-999.000,9,-999.000,-999.000,9, -999.00,9, -999.00,9, -999.00,9,  28.9937, -52.3330,-999.000,-999.0000, -999.00,   1.6437,   2.1248,2,    35.0235,2,  -999.0,9,     -999.0,9,     -999.0,9,     -999.0,9,       0013
33AT20120419,        A20,      50,          1,          2,          2,2,20120504,       0000,    28.9936,   -52.3330,       5731,  5494.4,   2.1588,  34.8586,2,  34.8584,2,    250.1,2,   251.0,2,   51.06,2,   22.16,2,    0.00,2,    1.52,2,   0.099,2,   0.049,2,   0.011,2,    0.05,2,  -999.0,9,  -999.0,9,-999.0000,9,  -999.00,-999.000,9,-999.0000,9, -999.00,9,   2.1586,2, -999.00,9,  -999.0,9,  -999.0,-999.000,9,-999.000,-999.000,9, -999.00,9, -999.00,9, -999.00,9,  28.9937, -52.3330,-999.000,-999.0000, -999.00,   1.6376,   2.1586,2,    35.0227,2,  -999.0,9,     -999.0,9,     -999.0,9,     -999.0,9,       0007
33AT20120419,        A20,      50,          1,          1,          1,2,20120504,       0000,    28.9936,   -52.3330,       5731,  5831.3,   2.2008,  34.8579,2,  34.8580,2,    251.0,2,   250.6,2,   51.21,2,   22.18,2,    0.00,2,    1.52,2,   0.124,2,   0.050,2,   0.016,2,    0.06,2,  2197.5,6,  2346.4,2,   7.7216,2,    25.00,-999.000,9,-999.0000,9, -999.00,9,   2.2003,2, -999.00,9,  -999.0,9,  -999.0,-999.000,9,-999.000,-999.000,9, -999.00,9, -999.00,9, -999.00,9,  28.9936, -52.3330,-999.000,-999.0000, -999.00,   1.6331,   2.2003,2,    35.0223,2,  -999.0,9,     -999.0,9,     -999.0,9,     -999.0,9,       0000