BOTTLE,20220712CCHSIOCBG
EXPOCODE,SECT_ID,STNNBR,CASTNO,SAMPNO,BTLNBR,BTLNBR_FLAG_W,DATE,TIME,LATITUDE,LONGITUDE,DEPTH,CTDPRS,CTDTMP,CTDSAL,CTDSAL_FLAG_W,SALNTY,SALNTY_FLAG_W,CTDOXY,CTDOXY_FLAG_W,OXYGEN,OXYGEN_FLAG_W,SILCAT,SILCAT_FLAG_W,NITRAT,NITRAT_FLAG_W,NITRIT,NITRIT_FLAG_W,PHSPHT,PHSPHT_FLAG_W,CFC-11,CFC-11_FLAG_W,CFC-12,CFC-12_FLAG_W,CFC113,CFC113_FLAG_W,SF6,SF6_FLAG_W,TCARBN,TCARBN_FLAG_W,ALKALI,ALKALI_FLAG_W,PH_TOT,PH_TOT_FLAG_W,PH_TMP,TRITUM,TRITUM_FLAG_W,HELIUM,HELIUM_FLAG_W,DELHE3,DELHE3_FLAG_W,REFTMP,REFTMP_FLAG_W,DELC13,DELC13_FLAG_W,DELC14,DELC14_FLAG_W,C14ERR,NEON,NEON_FLAG_W,NEONER,CCL4,CCL4_FLAG_W,DELO18,DELO18_FLAG_W,DOC,DOC_FLAG_W,TDN,TDN_FLAG_W,BTL_LAT,BTL_LON,TRITER,HELIER,DELHER,THETA,SBE35,SBE35_FLAG_W,SALTREF,SALTREF_FLAG_W,14C-DOC,14C-DOC_FLAG_W,DELO17,DELO17_FLAG_W,O2/AR,O2/AR_FLAG_W,SIP,SIP_FLAG_W,BTL_TIME
,,,,,,,,,,,METERS,DBAR,ITS-90,PSS-78,,PSS-78,,UMOL/KG,,UMOL/KG,,UMOL/KG,,UMOL/KG,,UMOL/KG,,UMOL/KG,,PMOL/KG,,PMOL/KG,,PMOL/KG,,FMOL/KG,,UMOL/KG,,UMOL/KG,,,,DEG C,TU,,NMOL/KG,,PERCNT,,DEG C,,/MILLE,,/MILLE,,/MILLE,NMOL/KG,,NMOL/KG,PMOL/KG,,/MILLE,,UMOL/KG,,UMOL/KG,,,,TU,NMOL/KG,PERCNT,DEG C,ITS-90,,G/KG,,/MILLE,,/MILLE,,,,,,
33AT20120419,        A20,      58,          1,         36,         36,2,20120506,       1612,    34.9999,   -52.3345,       3545,     4.7,  19.1106,  36.4550,2,  36.4546,2,    228.3,2,   231.9,2,    0.10,2,    0.00,2,    0.00,2,    0.00,2,   2.267,2,   1.433,2,   0.210,2,    1.53,2,  2079.6,6,  2388.3,2,   8.0267,2,    25.00,-999.000,9,-999.0000,9, -999.00,9,  19.1139,2, -999.00,9,  -999.0,9,  -999.0,-999.000,9,-999.000,-999.000,9, -999.00,9, -999.00,9, -999.00,9,  34.9973, -52.3370,-999.000,-999.0000, -999.00,  19.1098,  19.1139,2,    36.6265,2,  -999.0,9,     -999.0,9,     -999.0,9,     -999.0,9,       1753
33AT20120419,        A20,      58,          1,         35,         35,2,20120506,       1612,    34.9999,   -52.3345,       3545,    20.0,  18.9843,  36.4530,2,  36.4537,2,    232.6,2,   231.6,2,    0.03,2,    0.00,2,    0.00,2,    0.00,2,   2.237,2,   1.358,2,   0.197,2,    1.54,2,  2079.5,2,  2388.8,2,   8.0269,6,    25.00,-999.000,9,-999.0000,9, -999.00,9,  18.9847,2, -999.00,9,  -999.0,9,  -999.0,-999.000,9,-999.000,-999.000,9, -999.00,9, -999.00,9, -999.00,9,  34.9974, -52.3369,-999.000,-999.0000, -999.00,  18.9807,  18.9847,2,    36.6255,2,  -999.0,9,     -999.0,9,     -999.0,9,     -999.0,9,       1751
33AT20120419,        A20,      58,          1,         34,         34,2,20120506,       1612,    34.9999,   -52.3345,       3545,    40.1,  18.9656,  36.4525,2,  36.4537,2,    231.8,2,   231.2,2,    0.08,2,    0.00,2,    0.00,2,    0.00,2,   2.271,2,   1.423,2,   0.205,2,    1.48,2,  2079.8,2,  2388.4,2,   8.0265,2,    25.00,-999.000,9,-999.0000,9, -999.00,9,  18.9657,2, -999.00,9,  -999.0,9,  -999.0,-999.000,9,-999.000,-999.000,9, -999.00,9, -999.00,9, -999.00,9,  34.9974, -52.3369,-999.000,-999.0000, -999.00,  18.9584,  18.9657,2,    36.6255,2,  -999.0,9,     -999.0,9,     -999.0,9,     -999.0,9,       1749
33AT20120419,        A20,      58,          1,         33,         33,2,20120506,       1612,    34.9999,   -52.3345,       3545,    64.9,  18.4923,  36.4350,2,  36.4354,2,    231.1,2,   227.5,2,    0.23,2,    0.04,2,    0.25,2,    0.01,2,   2.291,2,   1.384,2,   0.193,2,    1.54,2,  2088.3,2,  2387.0,2,   8.0109,2,    25.00,-999.000,9,-999.0000,9, -999.00,9,  18.4872,2, -999.00,9,  -999.0,9,  -999.0,-999.000,9,-999.000,-999.000,9, -999.00,9, -999.00,9, -999.00,9,  34.9975, -52.3368,-999.000,-999.0000, -999.00,  18.4809,  18.4872,2,    36.6072,2,  -999.0,9,     -999.0,9,     -999.0,9,     -999.0,9,       1747
33AT20120419,        A20,      58,          1,         32,         32,2,20120506,       1612,    34.9999,   -52.3345,       3545,    92.8,  18.3560,  36.4472,2,  36.4479,2,    226.3,2,   225.5,2,    0.30,2,    0.18,2,    0.48,2,    0.03,2,   2.294,2,   1.408,2,   0.198,2,    1.57,2,  2091.4,2,  2389.0,2,   8.0062,2,    25.00,-999.000,9,-999.0000,9, -999.00,9,  18.3557,2, -999.00,9,  -999.0,9,  -999.0,-999.000,9,-999.000,-999.000,9, -999.00,9, -999.00,9, -999.00,9,  34.9976, -52.3367,-999.000,-999.0000, -999.00,  18.3397,  18.3557,2,    36.6198,2,  -999.0,9,     -999.0,9,     -999.0,9,     -999.0,9,       1745
33AT20120419,        A20,      58,          1,         31,         31,2,20120506,       1612,    34.9999,   -52.3345,       3545,   117.8,  18.3584,  36.4601,2,  36.4620,2,    226.6,2,   224.7,2,    0.27,2,    0.26,2,    0.46,2,    0.03,2,-999.000,9,-999.000,9,-999.000,9, -999.00,9,  2091.9,2,  2389.7,2,   8.0064,2,    25.00,-999.000,9,-999.0000,9, -999.00,9,  18.3603,2, -999.00,9,  -999.0,9,  -999.0,-999.000,9,-999.000,-999.000,9, -999.00,9, -999.00,9, -999.00,9,  34.9977, -52.3366,-999.000,-999.0000, -999.00,  18.3377,  18.3603,2,    36.6339,2,  -999.0,9,     -999.0,9,     -999.0,9,     -999.0,9,       1743
33AT20120419,        A20,      58,          1,         30,         30,2,20120506,       1612,    34.9999,   -52.3345,       3545,   142.3,  18.1732,  36.4463,2,  36.4443,2,    223.9,2,   220.2,2,    0.59,2,    1.66,2,    0.03,2,    0.08,2,   2.312,2,   1.415,2,   0.174,2,    1.55,2,  2096.8,2,  2387.5,2,   7.9950,2,    25.00,-999.000,9,-999.0000,9, -999.00,9,  18.1734,2, -999.00,9,  -999.0,9,  -999.0,-999.000,9,-999.000,-999.000,9, -999.00,9, -999.00,9, -999.00,9,  34.9978, -52.3365,-999.000,-999.0000, -999.00,  18.1484,  18.1734,2,    36.6162,2,  -999.0,9,     -999.0,9,     -999.0,9,     -999.0,9,       1741
33AT20120419,        A20,      58,          1,         29,         29,2,20120506,       1612,    34.9999,   -52.3345,       3545,   189.8,  17.6955,  36.4750,2,  36.4758,2,    205.4,2,   202.5,2,    1.26,2,    4.45,2,    0.02,2,    0.22,2,   2.340,2,   1.385,2,   0.083,2,    1.36,2,  2115.5,2,  2385.4,2,   7.9609,2,    25.00,-999.000,9,-999.0000,9, -999.00,9,  17.6961,2, -999.00,9,  -999.0,9,  -999.0,-999.000,9,-999.000,-999.000,9, -999.00,9, -999.00,9, -999.00,9,  34.9978, -52.3365,-999.000,-999.0000, -999.00,  17.6630,  17.6961,2,    36.6478,2,  -999.0,9,     -999.0,9,     -999.0,9,     -999.0,9,       1739
33AT20120419,        A20,      58,          1,         28,         28,2,20120506,       1612,    34.9999,   -52.3345,       3545,   237.9,  17.1408,  36.4026,2,  36.4047,2,    200.8,2,   199.8,2,    1.57,2,    5.65,2,    0.02,2,    0.29,2,   2.382,2,   1.404,2,   0.064,2,    1.40,2,  -999.0,9,  -999.0,9,-999.0000,9,  -999.00,-999.000,9,-999.0000,9, -999.00,9,  17.1436,2, -999.00,9,  -999.0,9,  -999.0,-999.000,9,-999.000,-999.000,9, -999.00,9, -999.00,9, -999.00,9,  34.9979, -52.3364,-999.000,-999.0000, -999.00,  17.1009,  17.1436,2,    36.5764,2,  -999.0,9,     -999.0,9,     -999.0,9,     -999.0,9,       1737
33AT20120419,        A20,      58,          1,         27,         27,2,20120506,       1612,    34.9999,   -52.3345,       3545,   288.8,  16.6763,  36.3190,2,  36.3229,2,    200.2,2,   199.5,2,    1.89,2,    6.51,2,    0.02,2,    0.34,2,   2.426,2,   1.427,2,   0.058,2,    1.36,2,  2123.8,2,  2376.6,6,   7.9317,6,    25.00,-999.000,9,-999.0000,9, -999.00,9,  16.6896,2, -999.00,9,  -999.0,9,  -999.0,-999.000,9,-999.000,-999.000,9, -999.00,9, -999.00,9, -999.00,9,  34.9979, -52.3364,-999.000,-999.0000, -999.00,  16.6287,  16.6896,2,    36.4942,2,  -999.0,9,     -999.0,9,     -999.0,9,     -999.0,9,       1735
33AT20120419,        A20,      58,          1,         26,         26,2,20120506,       1612,    34.9999,   -52.3345,       3545,   338.6,  16.3052,  36.2472,2,  36.2497,2,    196.6,2,   195.1,2,    2.37,2,    7.64,2,    0.02,2,    0.42,2,   2.407,2,   1.415,2,   0.055,2,    1.25,2,  -999.0,9,  -999.0,9,-999.0000,9,  -999.00,-999.000,9,-999.0000,9, -999.00,9,  16.3108,2, -999.00,9,  -999.0,9,  -999.0,-999.000,9,-999.000,-999.000,9, -999.00,9, -999.00,9, -999.00,9,  34.9979, -52.3364,-999.000,-999.0000, -999.00,  16.2502,  16.3108,2,    36.4206,2,  -999.0,9,     -999.0,9,     -999.0,9,     -999.0,9,       1733
33AT20120419,        A20,      58,          1,         25,         25,2,20120506,       1612,    34.9999,   -52.3345,       3545,   390.9,  15.5279,  36.1020,2,  36.0997,2,    196.3,2,   189.6,2,    3.09,2,    9.36,2,    0.02,2,    0.54,2,   2.429,2,   1.374,2,   0.054,2,    1.17,2,  2134.6,2,  2363.8,2,   7.8914,2,    25.00,-999.000,9,-999.0000,9, -999.00,9,  15.5261,2, -999.00,9,  -999.0,9,  -999.0,-999.000,9,-999.000,-999.000,9, -999.00,9, -999.00,9, -999.00,9,  34.9980, -52.3363,-999.000,-999.0000, -999.00,  15.4664,  15.5261,2,    36.2699,2,  -999.0,9,     -999.0,9,     -999.0,9,     -999.0,9,       1731
33AT20120419,        A20,      58,          1,         24,         24,2,20120506,       1612,    34.9999,   -52.3345,       3545,   423.7,  14.9662,  36.0051,2,  36.0030,2,    192.8,2,   193.1,2,    3.41,2,    9.92,2,    0.00,2,    0.58,2,   2.487,2,   1.468,2,   0.054,2,    1.26,2,  -999.0,9,  -999.0,9,-999.0000,9,  -999.00,-999.000,9,-999.0000,9, -999.00,9,  14.9507,2, -999.00,9,  -999.0,9,  -999.0,-999.000,9,-999.000,-999.000,9, -999.00,9, -999.00,9, -999.00,9,  34.9980, -52.3363,-999.000,-999.0000, -999.00,  14.9012,  14.9507,2,    36.1728,2,  -999.0,9,     -999.0,9,     -999.0,9,     -999.0,9,       1729
33AT20120419,        A20,      58,          1,         23,         23,2,20120506,       1612,    34.9999,   -52.3345,       3545,   487.0,  14.0515,  35.8542,2,  35.8507,2,    186.2,2,   186.4,2,    4.58,2,   12.14,2,    0.00,2,    0.73,2,   2.436,2,   1.435,2,   0.068,2,    1.13,2,  2145.2,2,  2354.1,2,   7.8487,2,    25.00,-999.000,9,-999.0000,9, -999.00,9,  14.0453,2, -999.00,9,  -999.0,9,  -999.0,-999.000,9,-999.000,-999.000,9, -999.00,9, -999.00,9, -999.00,9,  34.9980, -52.3362,-999.000,-999.0000, -999.00,  13.9797,  14.0453,2,    36.0197,2,  -999.0,9,     -999.0,9,     -999.0,9,     -999.0,9,       1727
33AT20120419,        A20,      58,          1,         22,         22,2,20120506,       1612,    34.9999,   -52.3345,       3545,   569.2,  12.3244,  35.5989,2,  35.5859,2,    170.2,2,   168.5,2,    7.42,2,   16.74,2,    0.00,2,    1.03,2,   2.159,2,   1.196,2,   0.051,2,    0.94,2,  2163.8,2,  2344.4,2,   7.7803,6,    25.00,-999.000,9,-999.0000,9, -999.00,9,  12.3080,2, -999.00,9,  -999.0,9,  -999.0,-999.000,9,-999.000,-999.000,9, -999.00,9, -999.00,9, -999.00,9,  34.9981, -52.3362,-999.000,-999.0000, -999.00,  12.2473,  12.3080,2,    35.7537,2,  -999.0,9,     -999.0,9,     -999.0,9,     -999.0,9,       1725
33AT20120419,        A20,      58,          1,         21,         21,2,20120506,       1612,    34.9999,   -52.3345,       3545,   673.0,  10.1227,  35.3324,2,  35.3309,2,    158.5,2,   158.7,2,   10.82,2,   20.75,2,    0.00,2,    1.31,2,   1.817,2,   0.967,2,   0.046,2,    0.72,2,  2180.5,2,  2327.8,2,   7.7160,2,    25.00,-999.000,9,-999.0000,9, -999.00,9,  10.1204,2, -999.00,9,  -999.0,9,  -999.0,-999.000,9,-999.000,-999.000,9, -999.00,9, -999.00,9, -999.00,9,  34.9981, -52.3361,-999.000,-999.0000, -999.00,  10.0418,  10.1204,2,    35.4975,2,  -999.0,9,     -999.0,9,     -999.0,9,     -999.0,9,       1722
33AT20120419,        A20,      58,          1,         20,         20,2,20120506,       1612,    34.9999,   -52.3345,       3545,   768.2,   8.3737,  35.1805,2,  35.1780,2,    166.6,2,   167.8,2,   12.91,2,   22.15,2,    0.00,2,    1.42,2,   1.620,2,   0.829,2,   0.047,2,    0.54,2,  2186.3,2,  2322.3,2,   7.6893,2,    25.00,-999.000,9,-999.0000,9, -999.00,9,   8.3719,2, -999.00,9,  -999.0,9,  -999.0,-999.000,9,-999.000,-999.000,9, -999.00,9, -999.00,9, -999.00,9,  34.9982, -52.3360,-999.000,-999.0000, -999.00,   8.2908,   8.3719,2,    35.3439,2,  -999.0,9,     -999.0,9,     -999.0,9,     -999.0,9,       1719
33AT20120419,        A20,      58,          1,         19,         19,2,20120506,       1612,    34.9999,   -52.3345,       3545,   873.2,   6.9666,  35.0981,2,  35.1006,2,    193.3,2,   193.4,2,   12.81,2,   20.83,2,    0.00,2,    1.36,2,   1.954,2,   1.014,2,   0.077,2,    0.66,2,  2182.8,6,  2319.3,2,   7.6907,2,    25.00,-999.000,9,-999.0000,9, -999.00,9,   6.9793,2, -999.00,9,  -999.0,9,  -999.0,-999.000,9,-999.000,-999.000,9, -999.00,9, -999.00,9, -999.00,9,  34.9982, -52.3360,-999.000,-999.0000, -999.00,   6.8809,   6.9793,2,    35.2661,2,  -999.0,9,     -999.0,9,     -999.0,9,     -999.0,9,       1717
33AT20120419,        A20,      58,          1,         18,         18,2,20120506,       1612,    34.9999,   -52.3345,       3545,   972.8,   5.9893,  35.0744,2,  35.0738,2,    217.9,2,   218.0,2,   12.12,2,   19.42,2,    0.00,2,    1.28,2,   2.318,2,   1.203,2,   0.118,2,    0.78,2,  2178.1,2,  2317.1,2,   7.7018,6,    25.00,-999.000,9,-999.0000,9, -999.00,9,   5.9879,2, -999.00,9,  -999.0,9,  -999.0,-999.000,9,-999.000,-999.000,9, -999.00,9, -999.00,9, -999.00,9,  34.9983, -52.3359,-999.000,-999.0000, -999.00,   5.9003,   5.9879,2,    35.2392,2,  -999.0,9,     -999.0,9,     -999.0,9,     -999.0,9,       1714
33AT20120419,        A20,      58,          1,         17,         17,2,20120506,       1612,    34.9999,   -52.3345,       3545,  1075.4,   5.6020,  35.0883,2,  35.0882,2,    227.5,2,   230.3,2,   11.81,2,   18.71,2,    0.00,2,    1.23,2,   2.409,2,   1.266,2,   0.123,2,    0.78,2,  2175.2,2,  -999.0,5,   7.7125,2,    25.00,-999.000,9,-999.0000,9, -999.00,9,   5.6024,2, -999.00,9,  -999.0,9,  -999.0,-999.000,9,-999.000,-999.000,9, -999.00,9, -999.00,9, -999.00,9,  34.9984, -52.3358,-999.000,-999.0000, -999.00,   5.5059,   5.6024,2,    35.2536,2,  -999.0,9,     -999.0,9,     -999.0,9,     -999.0,9,       1711
33AT20120419,        A20,      58,          1,         16,         16,2,20120506,       1612,    34.9999,   -52.3345,       3545,  1172.9,   5.1747,  35.0634,2,  35.0628,2,    241.3,2,   241.1,2,   11.58,2,   18.24,2,    0.00,2,    1.20,2,   2.611,2,   1.385,2,   0.155,2,    0.83,2,  2171.6,2,  2316.7,2,   7.7149,2,    25.00,-999.000,9,-999.0000,9, -999.00,9,   5.1741,2, -999.00,9,  -999.0,9,  -999.0,-999.000,9,-999.000,-999.000,9, -999.00,9, -999.00,9, -999.00,9,  34.9985, -52.3357,-999.000,-999.0000, -999.00,   5.0729,   5.1741,2,    35.2281,2,  -999.0,9,     -999.0,9,     -999.0,9,     -999.0,9,       1709
33AT20120419,        A20,      58,          1,         15,         15,2,20120506,       1612,    34.9999,   -52.3345,       3545,  1278.8,   4.8639,  35.0425,2,  35.0433,2,    247.8,2,   248.4,2,   11.46,2,   17.93,2,    0.00,2,    1.19,2,   2.690,2,   1.392,2,   0.154,2,    0.82,2,  2168.9,2,  2314.7,2,   7.7176,2,    25.00,-999.000,9,-999.0000,9, -999.00,9,   4.8636,2, -999.00,9,  -999.0,9,  -999.0,-999.000,9,-999.000,-999.000,9, -999.00,9, -999.00,9, -999.00,9,  34.9986, -52.3356,-999.000,-999.0000, -999.00,   4.7550,   4.8636,2,    35.2085,2,  -999.0,9,     -999.0,9,     -999.0,9,     -999.0,9,       1706
33AT20120419,        A20,      58,          1,         14,         14,2,20120506,       1612,    34.9999,   -52.3345,       3545,  1376.4,   4.6159,  35.0230,2,  35.0232,2,    253.3,2,   252.6,2,   11.55,2,   17.81,2,    0.00,2,    1.18,2,   2.669,2,   1.353,2,   0.161,2,    0.74,2,  -999.0,9,  -999.0,9,-999.0000,9,  -999.00,-999.000,9,-999.0000,9, -999.00,9,   4.6160,2, -999.00,9,  -999.0,9,  -999.0,-999.000,9,-999.000,-999.000,9, -999.00,9, -999.00,9, -999.00,9,  34.9987, -52.3355,-999.000,-999.0000, -999.00,   4.5003,   4.6160,2,    35.1884,2,  -999.0,9,     -999.0,9,     -999.0,9,     -999.0,9,       1703
33AT20120419,        A20,      58,          1,         13,         13,2,20120506,       1612,    34.9999,   -52.3345,       3545,  1472.8,   4.4266,  35.0122,2,  35.0128,2,    256.5,2,   256.0,2,   11.78,2,   17.76,2,    0.00,2,    1.17,2,   2.597,2,   1.199,2,   0.162,2,    0.71,2,  2165.6,2,  2313.9,6,   7.7218,2,    25.00,-999.000,9,-999.0000,9, -999.00,9,   4.4264,2, -999.00,9,  -999.0,9,  -999.0,-999.000,9,-999.000,-999.000,9, -999.00,9, -999.00,9, -999.00,9,  34.9988, -52.3353,-999.000,-999.0000, -999.00,   4.3040,   4.4264,2,    35.1779,2,  -999.0,9,     -999.0,9,     -999.0,9,     -999.0,9,       1700
33AT20120419,        A20,      58,          1,         12,         12,2,20120506,       1612,    34.9999,   -52.3345,       3545,  1579.2,   4.2674,  35.0030,2,  35.0035,2,    257.0,2,   257.2,2,   12.14,2,   17.76,2,    0.00,2,    1.18,2,   2.429,2,   1.216,2,   0.142,2,    0.62,2,  -999.0,9,  -999.0,9,-999.0000,9,  -999.00,-999.000,9,-999.0000,9, -999.00,9,   4.2672,2, -999.00,9,  -999.0,9,  -999.0,-999.000,9,-999.000,-999.000,9, -999.00,9, -999.00,9, -999.00,9,  34.9989, -52.3352,-999.000,-999.0000, -999.00,   4.1367,   4.2672,2,    35.1686,2,  -999.0,9,     -999.0,9,     -999.0,9,     -999.0,9,       1657
33AT20120419,        A20,      58,          1,         11,         11,2,20120506,       1612,    34.9999,   -52.3345,       3545,  1684.0,   4.2133,  35.0098,2,  35.0096,2,    256.7,2,   256.6,2,   12.72,2,   17.89,2,    0.00,2,    1.18,2,   2.118,2,   1.032,2,   0.120,2,    0.51,2,  2164.3,2,  2314.3,2,   7.7266,2,    25.00,-999.000,9,-999.0000,9, -999.00,9,   4.2125,2, -999.00,9,  -999.0,9,  -999.0,-999.000,9,-999.000,-999.000,9, -999.00,9, -999.00,9, -999.00,9,  34.9990, -52.3350,-999.000,-999.0000, -999.00,   4.0733,   4.2125,2,    35.1747,2,  -999.0,9,     -999.0,9,     -999.0,9,     -999.0,9,       1655
33AT20120419,        A20,      58,          1,         10,         10,2,20120506,       1612,    34.9999,   -52.3345,       3545,  1783.9,   3.9514,  34.9794,2,  34.9793,2,    260.8,2,   261.1,2,   12.80,2,   17.74,2,    0.00,2,    1.17,2,   2.171,2,   0.987,2,   0.124,2,    0.38,2,  2163.2,2,  2312.5,2,   7.7268,2,    25.00,-999.000,9,-999.0000,9, -999.00,9,   3.9510,2, -999.00,9,  -999.0,9,  -999.0,-999.000,9,-999.000,-999.000,9, -999.00,9, -999.00,9, -999.00,9,  34.9993, -52.3348,-999.000,-999.0000, -999.00,   3.8054,   3.9510,2,    35.1443,2,  -999.0,9,     -999.0,9,     -999.0,9,     -999.0,9,       1652
33AT20120419,        A20,      58,          1,          9,          9,2,20120506,       1612,    34.9999,   -52.3345,       3545,  1958.0,   3.7146,  34.9642,2,  34.9654,2,    263.6,2,   263.8,2,   13.65,2,   17.72,2,    0.00,2,    1.17,2,   1.962,2,   0.933,2,   0.110,2,    0.33,2,  2162.2,2,  2312.4,2,   7.7290,2,    25.00,-999.000,9,-999.0000,9, -999.00,9,   3.7172,2, -999.00,9,  -999.0,9,  -999.0,-999.000,9,-999.000,-999.000,9, -999.00,9, -999.00,9, -999.00,9,  34.9997, -52.3345,-999.000,-999.0000, -999.00,   3.5553,   3.7172,2,    35.1302,2,  -999.0,9,     -999.0,9,     -999.0,9,     -999.0,9,       1648
33AT20120419,        A20,      58,          1,          8,          8,2,20120506,       1612,    34.9999,   -52.3345,       3545,  2160.2,   3.5306,  34.9577,2,  34.9585,2,    264.7,2,   264.4,2,   15.06,2,   17.77,2,    0.00,2,    1.18,2,   1.682,2,   0.812,2,   0.082,2,    0.31,2,  2162.1,2,  2313.9,2,   7.7326,2,    25.00,-999.000,9,-999.0000,9, -999.00,9,   3.5303,2, -999.00,9,  -999.0,9,  -999.0,-999.000,9,-999.000,-999.000,9, -999.00,9, -999.00,9, -999.00,9,  35.0004, -52.3343,-999.000,-999.0000, -999.00,   3.3547,   3.5303,2,    35.1233,2,  -999.0,9,     -999.0,9,     -999.0,9,     -999.0,9,       1644
33AT20120419,        A20,      58,          1,          7,          7,2,20120506,       1612,    34.9999,   -52.3345,       3545,  2362.6,   3.3788,  34.9550,2,  34.9545,2,    263.0,2,   263.7,2,   16.92,2,   17.94,2,    0.00,2,    1.19,2,-999.000,9,-999.000,9,-999.000,9, -999.00,9,  -999.0,9,  -999.0,9,-999.0000,9,  -999.00,-999.000,9,-999.0000,9, -999.00,9,   3.3791,2, -999.00,9,  -999.0,9,  -999.0,-999.000,9,-999.000,-999.000,9, -999.00,9, -999.00,9, -999.00,9,  35.0004, -52.3343,-999.000,-999.0000, -999.00,   3.1856,   3.3791,2,    35.1194,2,  -999.0,9,     -999.0,9,     -999.0,9,     -999.0,9,       1639