BOTTLE,20220712CCHSIOCBG
EXPOCODE,SECT_ID,STNNBR,CASTNO,SAMPNO,BTLNBR,BTLNBR_FLAG_W,DATE,TIME,LATITUDE,LONGITUDE,DEPTH,CTDPRS,CTDTMP,CTDSAL,CTDSAL_FLAG_W,SALNTY,SALNTY_FLAG_W,CTDOXY,CTDOXY_FLAG_W,OXYGEN,OXYGEN_FLAG_W,SILCAT,SILCAT_FLAG_W,NITRAT,NITRAT_FLAG_W,NITRIT,NITRIT_FLAG_W,PHSPHT,PHSPHT_FLAG_W,CFC-11,CFC-11_FLAG_W,CFC-12,CFC-12_FLAG_W,CFC113,CFC113_FLAG_W,SF6,SF6_FLAG_W,TCARBN,TCARBN_FLAG_W,ALKALI,ALKALI_FLAG_W,PH_TOT,PH_TOT_FLAG_W,PH_TMP,TRITUM,TRITUM_FLAG_W,HELIUM,HELIUM_FLAG_W,DELHE3,DELHE3_FLAG_W,REFTMP,REFTMP_FLAG_W,DELC13,DELC13_FLAG_W,DELC14,DELC14_FLAG_W,C14ERR,NEON,NEON_FLAG_W,NEONER,CCL4,CCL4_FLAG_W,DELO18,DELO18_FLAG_W,DOC,DOC_FLAG_W,TDN,TDN_FLAG_W,BTL_LAT,BTL_LON,TRITER,HELIER,DELHER,THETA,SBE35,SBE35_FLAG_W,SALTREF,SALTREF_FLAG_W,14C-DOC,14C-DOC_FLAG_W,DELO17,DELO17_FLAG_W,O2/AR,O2/AR_FLAG_W,SIP,SIP_FLAG_W,BTL_TIME
,,,,,,,,,,,METERS,DBAR,ITS-90,PSS-78,,PSS-78,,UMOL/KG,,UMOL/KG,,UMOL/KG,,UMOL/KG,,UMOL/KG,,UMOL/KG,,PMOL/KG,,PMOL/KG,,PMOL/KG,,FMOL/KG,,UMOL/KG,,UMOL/KG,,,,DEG C,TU,,NMOL/KG,,PERCNT,,DEG C,,/MILLE,,/MILLE,,/MILLE,NMOL/KG,,NMOL/KG,PMOL/KG,,/MILLE,,UMOL/KG,,UMOL/KG,,,,TU,NMOL/KG,PERCNT,DEG C,ITS-90,,G/KG,,/MILLE,,/MILLE,,,,,,
33AT20120419,        A20,      62,          1,         36,         36,2,20120507,       2351,    38.0034,   -52.3035,       5408,     4.0,  20.0742,  36.1975,2,  36.1982,2,    225.8,2,   225.5,2,    0.00,2,    0.00,2,    0.00,2,    0.00,2,   2.114,2,   1.290,2,   0.169,2,    1.46,2,  2054.6,6,  2376.9,6,   8.0504,2,    25.00,-999.000,9,-999.0000,9, -999.00,9,  20.0765,2, -999.00,9,  -999.0,9,  -999.0,-999.000,9,-999.000,-999.000,9, -999.00,9, -999.00,9, -999.00,9,  38.0066, -52.2655,-999.000,-999.0000, -999.00,  20.0735,  20.0765,2,    36.3689,2,  -999.0,9,     -999.0,9,     -999.0,9,     -999.0,9,       0159
33AT20120419,        A20,      62,          1,         35,         35,2,20120507,       2351,    38.0034,   -52.3035,       5408,    24.5,  20.1908,  36.4791,2,  36.4772,2,    217.9,2,   219.4,2,    0.00,2,    0.04,2,    0.03,2,    0.00,2,   2.131,2,   1.323,2,   0.148,2,    1.40,2,  -999.0,9,  -999.0,9,-999.0000,9,  -999.00,-999.000,9,-999.0000,9, -999.00,9,  20.1853,2, -999.00,9,  -999.0,9,  -999.0,-999.000,9,-999.000,-999.000,9, -999.00,9, -999.00,9, -999.00,9,  38.0067, -52.2662,-999.000,-999.0000, -999.00,  20.1862,  20.1853,2,    36.6492,2,  -999.0,9,     -999.0,9,     -999.0,9,     -999.0,9,       0157
33AT20120419,        A20,      62,          1,         34,         34,2,20120507,       2351,    38.0034,   -52.3035,       5408,    50.5,  19.7022,  36.5974,2,  36.5926,2,    203.3,2,   205.7,2,    0.40,2,    1.63,2,    0.06,2,    0.06,2,   2.150,2,   1.310,2,   0.131,2,    1.37,2,  2090.7,2,  2393.3,2,   8.0142,6,    25.00,-999.000,9,-999.0000,9, -999.00,9,  19.7183,2, -999.00,9,  -999.0,9,  -999.0,-999.000,9,-999.000,-999.000,9, -999.00,9, -999.00,9, -999.00,9,  38.0067, -52.2669,-999.000,-999.0000, -999.00,  19.6929,  19.7183,2,    36.7651,2,  -999.0,9,     -999.0,9,     -999.0,9,     -999.0,9,       0155
33AT20120419,        A20,      62,          1,         33,         33,2,20120507,       2351,    38.0034,   -52.3035,       5408,    75.2,  19.4019,  36.5726,2,  36.5725,2,    211.0,2,   209.0,2,    0.48,2,    1.60,2,    0.04,2,    0.05,2,   2.196,2,   1.348,2,   0.137,2,    1.42,2,  2089.8,2,  2393.0,2,   8.0150,2,    25.00,-999.000,9,-999.0000,9, -999.00,9,  19.4008,2, -999.00,9,  -999.0,9,  -999.0,-999.000,9,-999.000,-999.000,9, -999.00,9, -999.00,9, -999.00,9,  38.0067, -52.2675,-999.000,-999.0000, -999.00,  19.3882,  19.4008,2,    36.7450,2,  -999.0,9,     -999.0,9,     -999.0,9,     -999.0,9,       0153
33AT20120419,        A20,      62,          1,         32,         32,2,20120507,       2351,    38.0034,   -52.3035,       5408,   102.7,  19.1447,  36.5418,2,  36.5414,2,    212.5,2,   213.4,2,    0.48,2,    1.47,2,    0.05,2,    0.05,2,   2.179,2,   1.326,2,   0.159,2,    1.44,2,  2087.2,2,  2392.3,2,   8.0169,2,    25.00,-999.000,9,-999.0000,9, -999.00,9,  19.1449,2, -999.00,9,  -999.0,9,  -999.0,-999.000,9,-999.000,-999.000,9, -999.00,9, -999.00,9, -999.00,9,  38.0067, -52.2686,-999.000,-999.0000, -999.00,  19.1261,  19.1449,2,    36.7137,2,  -999.0,9,     -999.0,9,     -999.0,9,     -999.0,9,       0150
33AT20120419,        A20,      62,          1,         31,         31,2,20120507,       2351,    38.0034,   -52.3035,       5408,   154.0,  18.8641,  36.5139,2,  36.5145,2,    209.5,2,   210.3,2,    0.68,2,    2.11,2,    0.02,2,    0.08,2,   2.213,2,   1.333,2,   0.134,2,    1.42,2,  2093.5,2,  2390.5,2,   8.0047,2,    25.00,-999.000,9,-999.0000,9, -999.00,9,  18.8651,2, -999.00,9,  -999.0,9,  -999.0,-999.000,9,-999.000,-999.000,9, -999.00,9, -999.00,9, -999.00,9,  38.0067, -52.2694,-999.000,-999.0000, -999.00,  18.8365,  18.8651,2,    36.6867,2,  -999.0,9,     -999.0,9,     -999.0,9,     -999.0,9,       0147
33AT20120419,        A20,      62,          1,         30,         30,2,20120507,       2351,    38.0034,   -52.3035,       5408,   200.8,  18.6142,  36.6003,2,  36.6005,2,    191.9,2,   190.2,2,    0.99,2,    4.15,2,    0.02,2,    0.18,2,   2.290,2,   1.394,2,   0.041,2,    1.37,2,  2116.6,2,  2393.8,6,   7.9689,2,    25.00,-999.000,9,-999.0000,9, -999.00,9,  18.6070,2, -999.00,9,  -999.0,9,  -999.0,-999.000,9,-999.000,-999.000,9, -999.00,9, -999.00,9, -999.00,9,  38.0067, -52.2701,-999.000,-999.0000, -999.00,  18.5785,  18.6070,2,    36.7731,2,  -999.0,9,     -999.0,9,     -999.0,9,     -999.0,9,       0145
33AT20120419,        A20,      62,          1,         29,         29,2,20120507,       2351,    38.0034,   -52.3035,       5408,   250.6,  18.3777,  36.5955,2,  36.5959,2,    196.1,2,   196.7,2,    0.92,2,    4.06,2,    0.02,2,    0.18,2,-999.000,9,-999.000,9,-999.000,9, -999.00,9,  2112.6,2,  2393.3,2,   7.9735,2,    25.00,-999.000,9,-999.0000,9, -999.00,9,  18.3790,2, -999.00,9,  -999.0,9,  -999.0,-999.000,9,-999.000,-999.000,9, -999.00,9, -999.00,9, -999.00,9,  38.0068, -52.2707,-999.000,-999.0000, -999.00,  18.3335,  18.3790,2,    36.7685,2,  -999.0,9,     -999.0,9,     -999.0,9,     -999.0,9,       0144
33AT20120419,        A20,      62,          1,         28,         28,2,20120507,       2351,    38.0034,   -52.3035,       5408,   299.9,  18.1568,  36.5749,2,  36.5749,2,    199.7,2,   199.3,2,    0.97,2,    4.23,2,    0.02,2,    0.19,2,   2.313,2,   1.379,2,   0.035,2,    1.33,2,  -999.0,9,  -999.0,9,-999.0000,9,  -999.00,-999.000,9,-999.0000,9, -999.00,9,  18.1564,2, -999.00,9,  -999.0,9,  -999.0,-999.000,9,-999.000,-999.000,9, -999.00,9, -999.00,9, -999.00,9,  38.0067, -52.2712,-999.000,-999.0000, -999.00,  18.1043,  18.1564,2,    36.7474,2,  -999.0,9,     -999.0,9,     -999.0,9,     -999.0,9,       0142
33AT20120419,        A20,      62,          1,         27,         27,2,20120507,       2351,    38.0034,   -52.3035,       5408,   350.3,  17.9510,  36.5478,2,  36.5476,2,    201.7,2,   200.6,2,    1.02,2,    4.55,2,    0.02,2,    0.21,2,   2.327,2,   1.382,2,   0.036,2,    1.40,2,  2113.4,2,  2389.1,2,   7.9695,2,    25.00,-999.000,9,-999.0000,9, -999.00,9,  17.9514,2, -999.00,9,  -999.0,9,  -999.0,-999.000,9,-999.000,-999.000,9, -999.00,9, -999.00,9, -999.00,9,  38.0067, -52.2720,-999.000,-999.0000, -999.00,  17.8901,  17.9514,2,    36.7199,2,  -999.0,9,     -999.0,9,     -999.0,9,     -999.0,9,       0140
33AT20120419,        A20,      62,          1,         26,         26,2,20120507,       2351,    38.0034,   -52.3035,       5408,   401.0,  17.6770,  36.4979,2,  36.4978,2,    197.8,2,   197.5,2,    1.30,2,    5.28,2,    0.02,2,    0.26,2,   2.370,2,   1.439,2,   0.035,2,    1.22,2,  2116.4,2,  2387.0,2,   7.9590,2,    25.00,-999.000,9,-999.0000,9, -999.00,9,  17.6775,2, -999.00,9,  -999.0,9,  -999.0,-999.000,9,-999.000,-999.000,9, -999.00,9, -999.00,9, -999.00,9,  38.0067, -52.2727,-999.000,-999.0000, -999.00,  17.6080,  17.6775,2,    36.6699,2,  -999.0,9,     -999.0,9,     -999.0,9,     -999.0,9,       0138
33AT20120419,        A20,      62,          1,         25,         25,2,20120507,       2351,    38.0034,   -52.3035,       5408,   504.2,  16.4807,  36.2540,2,  36.2538,2,    182.9,2,   182.3,2,    2.74,2,    8.74,2,    0.00,2,    0.49,2,   2.358,2,   1.388,2,   0.041,2,    1.17,2,  2133.0,2,  2373.7,2,   7.9078,2,    25.00,-999.000,9,-999.0000,9, -999.00,9,  16.4790,2, -999.00,9,  -999.0,9,  -999.0,-999.000,9,-999.000,-999.000,9, -999.00,9, -999.00,9, -999.00,9,  38.0067, -52.2737,-999.000,-999.0000, -999.00,  16.3978,  16.4790,2,    36.4248,2,  -999.0,9,     -999.0,9,     -999.0,9,     -999.0,9,       0135
33AT20120419,        A20,      62,          1,         24,         24,2,20120507,       2351,    38.0034,   -52.3035,       5408,   607.8,  13.7684,  35.7931,2,  35.7973,2,    165.1,2,   160.4,2,    6.00,2,   15.22,2,    0.00,2,    0.92,2,   2.142,2,   1.175,2,   0.038,2,    0.91,2,  2158.0,2,  2349.7,2,   7.8119,2,    25.00,-999.000,9,-999.0000,9, -999.00,9,  13.7884,2, -999.00,9,  -999.0,9,  -999.0,-999.000,9,-999.000,-999.000,9, -999.00,9, -999.00,9, -999.00,9,  38.0067, -52.2746,-999.000,-999.0000, -999.00,  13.6797,  13.7884,2,    35.9661,2,  -999.0,9,     -999.0,9,     -999.0,9,     -999.0,9,       0132
33AT20120419,        A20,      62,          1,         23,         23,2,20120507,       2351,    38.0034,   -52.3035,       5408,   705.9,  11.3183,  35.4329,2,  35.4336,2,    140.7,2,   141.7,2,   10.46,2,   21.32,2,    0.00,2,    1.33,2,   1.855,2,   0.888,2,   0.041,2,    0.72,2,  2180.9,2,  2333.3,2,   7.7221,2,    25.00,-999.000,9,-999.0000,9, -999.00,9,  11.3189,2, -999.00,9,  -999.0,9,  -999.0,-999.000,9,-999.000,-999.000,9, -999.00,9, -999.00,9, -999.00,9,  38.0067, -52.2755,-999.000,-999.0000, -999.00,  11.2272,  11.3189,2,    35.6007,2,  -999.0,9,     -999.0,9,     -999.0,9,     -999.0,9,       0130
33AT20120419,        A20,      62,          1,         22,         22,2,20120507,       2351,    38.0034,   -52.3035,       5408,   806.2,   8.8081,  35.1539,2,  35.1559,2,    145.6,2,   146.5,2,   14.12,2,   24.29,2,    0.00,2,    1.54,2,   1.408,2,   0.732,2,   0.031,2,    0.57,2,  2193.4,6,  2320.6,2,   7.6674,2,    25.00,-999.000,9,-999.0000,9, -999.00,9,   8.8347,2, -999.00,9,  -999.0,9,  -999.0,-999.000,9,-999.000,-999.000,9, -999.00,9, -999.00,9, -999.00,9,  38.0066, -52.2764,-999.000,-999.0000, -999.00,   8.7184,   8.8347,2,    35.3217,2,  -999.0,9,     -999.0,9,     -999.0,9,     -999.0,9,       0127
33AT20120419,        A20,      62,          1,         21,         21,2,20120507,       2351,    38.0034,   -52.3035,       5408,   910.3,   7.0055,  35.0870,2,  35.0892,2,    181.2,2,   184.3,2,   13.45,2,   22.09,2,    0.00,2,    1.42,2,   1.695,2,   0.858,2,   0.058,2,    0.56,2,  2185.6,2,  2316.9,2,   7.6821,6,    25.00,-999.000,9,-999.0000,9, -999.00,9,   7.0027,2, -999.00,9,  -999.0,9,  -999.0,-999.000,9,-999.000,-999.000,9, -999.00,9, -999.00,9, -999.00,9,  38.0065, -52.2773,-999.000,-999.0000, -999.00,   6.9157,   7.0027,2,    35.2546,2,  -999.0,9,     -999.0,9,     -999.0,9,     -999.0,9,       0125
33AT20120419,        A20,      62,          1,         20,         20,2,20120507,       2351,    38.0034,   -52.3035,       5408,  1010.0,   6.1995,  35.0567,2,  35.0581,2,    206.4,2,   205.1,2,   12.72,2,   20.72,2,    0.00,2,    1.35,2,   2.037,2,   1.053,2,   0.097,2,    0.66,2,  2180.1,2,  2316.7,6,   7.6910,2,    25.00,-999.000,9,-999.0000,9, -999.00,9,   6.2010,2, -999.00,9,  -999.0,9,  -999.0,-999.000,9,-999.000,-999.000,9, -999.00,9, -999.00,9, -999.00,9,  38.0065, -52.2781,-999.000,-999.0000, -999.00,   6.1053,   6.2010,2,    35.2234,2,  -999.0,9,     -999.0,9,     -999.0,9,     -999.0,9,       0122
33AT20120419,        A20,      62,          1,         19,         19,2,20120507,       2351,    38.0034,   -52.3035,       5408,  1111.2,   5.4316,  35.0324,2,  35.0333,2,    225.7,2,   226.6,2,   12.04,2,   19.43,2,    0.00,2,    1.27,2,   2.343,2,   1.209,2,   0.129,2,    0.72,2,  -999.0,9,  -999.0,9,-999.0000,9,  -999.00,-999.000,9,-999.0000,9, -999.00,9,   5.4270,2, -999.00,9,  -999.0,9,  -999.0,-999.000,9,-999.000,-999.000,9, -999.00,9, -999.00,9, -999.00,9,  38.0065, -52.2790,-999.000,-999.0000, -999.00,   5.3336,   5.4270,2,    35.1985,2,  -999.0,9,     -999.0,9,     -999.0,9,     -999.0,9,       0120
33AT20120419,        A20,      62,          1,         18,         18,2,20120507,       2351,    38.0034,   -52.3035,       5408,  1212.5,   5.0634,  35.0175,2,  35.0183,2,    237.9,2,   237.1,2,   11.83,2,   18.88,2,    0.00,2,    1.24,2,   2.488,2,   1.281,2,   0.138,2,    0.77,2,  2170.7,2,  2311.7,2,   7.7078,2,    25.00,-999.000,9,-999.0000,9, -999.00,9,   5.0595,2, -999.00,9,  -999.0,9,  -999.0,-999.000,9,-999.000,-999.000,9, -999.00,9, -999.00,9, -999.00,9,  38.0064, -52.2799,-999.000,-999.0000, -999.00,   4.9589,   5.0595,2,    35.1834,2,  -999.0,9,     -999.0,9,     -999.0,9,     -999.0,9,       0117
33AT20120419,        A20,      62,          1,         17,         17,2,20120507,       2351,    38.0034,   -52.3035,       5408,  1312.1,   4.7443,  35.0018,2,  35.0024,2,    248.5,2,   247.2,2,   11.48,2,   18.25,2,    0.00,2,    1.21,2,-999.000,9,-999.000,9,-999.000,9, -999.00,9,  -999.0,9,  -999.0,9,-999.0000,9,  -999.00,-999.000,9,-999.0000,9, -999.00,9,   4.7442,2, -999.00,9,  -999.0,9,  -999.0,-999.000,9,-999.000,-999.000,9, -999.00,9, -999.00,9, -999.00,9,  38.0064, -52.2809,-999.000,-999.0000, -999.00,   4.6335,   4.7442,2,    35.1674,2,  -999.0,9,     -999.0,9,     -999.0,9,     -999.0,9,       0114
33AT20120419,        A20,      62,          1,         16,         16,2,20120507,       2351,    38.0034,   -52.3035,       5408,  1415.4,   4.4931,  34.9868,2,  34.9880,2,    252.3,2,   253.3,2,   11.54,2,   18.04,2,    0.00,2,    1.20,2,   2.730,2,   1.404,2,   0.175,2,    0.84,2,  2166.6,2,  2311.6,6,   7.7146,2,    25.00,-999.000,9,-999.0000,9, -999.00,9,   4.4925,2, -999.00,9,  -999.0,9,  -999.0,-999.000,9,-999.000,-999.000,9, -999.00,9, -999.00,9, -999.00,9,  38.0064, -52.2818,-999.000,-999.0000, -999.00,   4.3752,   4.4925,2,    35.1530,2,  -999.0,9,     -999.0,9,     -999.0,9,     -999.0,9,       0111
33AT20120419,        A20,      62,          1,         15,         15,2,20120507,       2351,    38.0034,   -52.3035,       5408,  1617.0,   4.1027,  34.9537,2,  34.9541,2,    263.1,2,   264.4,2,   11.13,2,   17.44,2,    0.00,2,    1.16,2,   3.124,2,   1.613,2,   0.203,2,    0.94,2,  -999.0,9,  -999.0,9,-999.0000,9,  -999.00,-999.000,9,-999.0000,9, -999.00,9,   4.1029,2, -999.00,9,  -999.0,9,  -999.0,-999.000,9,-999.000,-999.000,9, -999.00,9, -999.00,9, -999.00,9,  38.0063, -52.2833,-999.000,-999.0000, -999.00,   3.9705,   4.1029,2,    35.1190,2,  -999.0,9,     -999.0,9,     -999.0,9,     -999.0,9,       0107
33AT20120419,        A20,      62,          1,         14,         14,2,20120507,       2351,    38.0034,   -52.3035,       5408,  1822.7,   4.0360,  34.9682,2,  34.9689,2,    261.3,2,   261.4,2,   12.13,2,   17.77,2,    0.00,2,    1.18,2,   2.405,2,   1.212,2,   0.141,2,    0.54,2,  2162.9,2,  2311.0,2,   7.7224,2,    25.00,-999.000,9,-999.0000,9, -999.00,9,   4.0341,2, -999.00,9,  -999.0,9,  -999.0,-999.000,9,-999.000,-999.000,9, -999.00,9, -999.00,9, -999.00,9,  38.0063, -52.2848,-999.000,-999.0000, -999.00,   3.8851,   4.0341,2,    35.1338,2,  -999.0,9,     -999.0,9,     -999.0,9,     -999.0,9,       0103
33AT20120419,        A20,      62,          1,         13,         13,2,20120507,       2351,    38.0034,   -52.3035,       5408,  2021.7,   3.8423,  34.9587,2,  34.9599,2,    263.4,2,   263.5,2,   12.63,2,   17.78,2,    0.00,2,    1.17,2,   2.171,2,   1.067,2,   0.121,2,    0.55,2,  2161.0,2,  2309.5,2,   7.7258,2,    25.00,-999.000,9,-999.0000,9, -999.00,9,   3.8419,2, -999.00,9,  -999.0,9,  -999.0,-999.000,9,-999.000,-999.000,9, -999.00,9, -999.00,9, -999.00,9,  38.0063, -52.2861,-999.000,-999.0000, -999.00,   3.6750,   3.8419,2,    35.1247,2,  -999.0,9,     -999.0,9,     -999.0,9,     -999.0,9,       0058
33AT20120419,        A20,      62,          1,         12,         12,2,20120507,       2351,    38.0034,   -52.3035,       5408,  2274.0,   3.5856,  34.9472,2,  34.9483,2,    266.1,2,   266.6,2,   13.69,2,   17.70,2,    0.00,2,    1.17,2,   1.925,2,   0.933,2,   0.103,2,    0.38,2,  2159.7,2,  2310.5,2,   7.7307,2,    25.00,-999.000,9,-999.0000,9, -999.00,9,   3.5855,2, -999.00,9,  -999.0,9,  -999.0,-999.000,9,-999.000,-999.000,9, -999.00,9, -999.00,9, -999.00,9,  38.0063, -52.2874,-999.000,-999.0000, -999.00,   3.3976,   3.5855,2,    35.1130,2,  -999.0,9,     -999.0,9,     -999.0,9,     -999.0,9,       0054
33AT20120419,        A20,      62,          1,         11,         11,2,20120507,       2351,    38.0034,   -52.3035,       5408,  2532.7,   3.4096,  34.9466,2,  34.9473,2,    266.2,2,   265.9,2,   15.52,2,   17.81,2,    0.00,2,    1.18,2,   1.523,2,   0.734,2,   0.073,2,    0.30,2,  -999.0,9,  -999.0,9,-999.0000,9,  -999.00,-999.000,9,-999.0000,9, -999.00,9,   3.4090,2, -999.00,9,  -999.0,9,  -999.0,-999.000,9,-999.000,-999.000,9, -999.00,9, -999.00,9, -999.00,9,  38.0061, -52.2887,-999.000,-999.0000, -999.00,   3.1988,   3.4090,2,    35.1121,2,  -999.0,9,     -999.0,9,     -999.0,9,     -999.0,9,       0048
33AT20120419,        A20,      62,          1,         10,         10,2,20120507,       2351,    38.0034,   -52.3035,       5408,  2784.0,   3.2210,  34.9447,2,  34.9465,2,    265.0,2,   265.4,2,   17.82,2,   17.97,2,    0.00,2,    1.20,2,   1.213,2,   0.578,2,   0.055,2,    0.30,2,  2162.3,2,  2315.4,2,   7.7372,2,    25.00,-999.000,9,-999.0000,9, -999.00,9,   3.2203,2, -999.00,9,  -999.0,9,  -999.0,-999.000,9,-999.000,-999.000,9, -999.00,9, -999.00,9, -999.00,9,  38.0059, -52.2899,-999.000,-999.0000, -999.00,   2.9881,   3.2203,2,    35.1113,2,  -999.0,9,     -999.0,9,     -999.0,9,     -999.0,9,       0044
33AT20120419,        A20,      62,          1,          9,          9,2,20120507,       2351,    38.0034,   -52.3035,       5408,  3043.1,   3.0382,  34.9379,2,  34.9392,2,    264.8,2,   264.6,2,   19.62,2,   18.04,2,    0.00,2,    1.21,2,-999.000,9,-999.000,9,-999.000,9, -999.00,9,  -999.0,9,  -999.0,9,-999.0000,9,  -999.00,-999.000,9,-999.0000,9, -999.00,9,   3.0380,2, -999.00,9,  -999.0,9,  -999.0,-999.000,9,-999.000,-999.000,9, -999.00,9, -999.00,9, -999.00,9,  38.0057, -52.2910,-999.000,-999.0000, -999.00,   2.7820,   3.0380,2,    35.1040,2,  -999.0,9,     -999.0,9,     -999.0,9,     -999.0,9,       0038
33AT20120419,        A20,      62,          1,          8,          8,2,20120507,       2351,    38.0034,   -52.3035,       5408,  3349.9,   2.7774,  34.9243,2,  34.9254,2,    266.3,2,   266.2,2,   21.51,2,   18.00,2,    0.00,2,    1.22,2,   1.016,2,   0.476,2,   0.052,2,    0.21,2,  2163.6,2,  2318.8,2,   7.7389,2,    25.00,-999.000,9,-999.0000,9, -999.00,9,   2.7759,2, -999.00,9,  -999.0,9,  -999.0,-999.000,9,-999.000,-999.000,9, -999.00,9, -999.00,9, -999.00,9,  38.0054, -52.2926,-999.000,-999.0000, -999.00,   2.4944,   2.7759,2,    35.0901,2,  -999.0,9,     -999.0,9,     -999.0,9,     -999.0,9,       0032
33AT20120419,        A20,      62,          1,          7,          7,2,20120507,       2351,    38.0034,   -52.3035,       5408,  3653.9,   2.5624,  34.9111,2,  34.9122,2,    267.0,2,   289.3,4,   23.60,2,   18.02,2,    0.00,2,    1.23,2,   1.013,2,   0.475,2,   0.063,2,    0.20,2,  2165.6,2,  2320.9,2,   7.7382,2,    25.00,-999.000,9,-999.0000,9, -999.00,9,   2.5619,2, -999.00,9,  -999.0,9,  -999.0,-999.000,9,-999.000,-999.000,9, -999.00,9, -999.00,9, -999.00,9,  38.0051, -52.2940,-999.000,-999.0000, -999.00,   2.2515,   2.5619,2,    35.0769,2,  -999.0,9,     -999.0,9,     -999.0,9,     -999.0,9,       0026