BOTTLE,20220712CCHSIOCBG
EXPOCODE,SECT_ID,STNNBR,CASTNO,SAMPNO,BTLNBR,BTLNBR_FLAG_W,DATE,TIME,LATITUDE,LONGITUDE,DEPTH,CTDPRS,CTDTMP,CTDSAL,CTDSAL_FLAG_W,SALNTY,SALNTY_FLAG_W,CTDOXY,CTDOXY_FLAG_W,OXYGEN,OXYGEN_FLAG_W,SILCAT,SILCAT_FLAG_W,NITRAT,NITRAT_FLAG_W,NITRIT,NITRIT_FLAG_W,PHSPHT,PHSPHT_FLAG_W,CFC-11,CFC-11_FLAG_W,CFC-12,CFC-12_FLAG_W,CFC113,CFC113_FLAG_W,SF6,SF6_FLAG_W,TCARBN,TCARBN_FLAG_W,ALKALI,ALKALI_FLAG_W,PH_TOT,PH_TOT_FLAG_W,PH_TMP,TRITUM,TRITUM_FLAG_W,HELIUM,HELIUM_FLAG_W,DELHE3,DELHE3_FLAG_W,REFTMP,REFTMP_FLAG_W,DELC13,DELC13_FLAG_W,DELC14,DELC14_FLAG_W,C14ERR,NEON,NEON_FLAG_W,NEONER,CCL4,CCL4_FLAG_W,DELO18,DELO18_FLAG_W,DOC,DOC_FLAG_W,TDN,TDN_FLAG_W,BTL_LAT,BTL_LON,TRITER,HELIER,DELHER,THETA,SBE35,SBE35_FLAG_W,SALTREF,SALTREF_FLAG_W,14C-DOC,14C-DOC_FLAG_W,DELO17,DELO17_FLAG_W,O2/AR,O2/AR_FLAG_W,SIP,SIP_FLAG_W,BTL_TIME
,,,,,,,,,,,METERS,DBAR,ITS-90,PSS-78,,PSS-78,,UMOL/KG,,UMOL/KG,,UMOL/KG,,UMOL/KG,,UMOL/KG,,UMOL/KG,,PMOL/KG,,PMOL/KG,,PMOL/KG,,FMOL/KG,,UMOL/KG,,UMOL/KG,,,,DEG C,TU,,NMOL/KG,,PERCNT,,DEG C,,/MILLE,,/MILLE,,/MILLE,NMOL/KG,,NMOL/KG,PMOL/KG,,/MILLE,,UMOL/KG,,UMOL/KG,,,,TU,NMOL/KG,PERCNT,DEG C,ITS-90,,G/KG,,/MILLE,,/MILLE,,,,,,
33AT20120419,        A20,      60,          1,          6,          6,2,20120507,       0751,    36.5018,   -52.3301,       5461,  4061.6,   2.3465,  34.8955,2,  34.8955,2,    264.9,2,   265.4,2,   29.79,2,   18.74,2,    0.00,2,    1.27,2,   0.822,2,   0.366,2,   0.045,2,    0.19,2,  2171.4,2,  2326.4,2,   7.7348,2,    25.00,   0.164,2,   1.8748,2,    5.97,2,   2.3466,2, -999.00,9,  -999.0,9,  -999.0,   8.212,2,   0.038,-999.000,9, -999.00,9, -999.00,9, -999.00,9,  36.5013, -52.3302,   0.010,   0.0079,    0.15,   1.9954,   2.3466,2,    35.0600,2,  -999.0,9,     -999.0,9,     -999.0,9,     -999.0,9,       0823
33AT20120419,        A20,      60,          1,          5,          5,2,20120507,       0751,    36.5018,   -52.3301,       5461,  4372.6,   2.2690,  34.8862,2,  34.8863,2,    262.4,2,   263.0,2,   33.95,2,   19.32,2,    0.00,2,    1.31,2,   0.761,2,   0.354,2,   0.045,2,    0.16,2,  -999.0,9,  -999.0,9,-999.0000,9,  -999.00,-999.000,9,-999.0000,9, -999.00,9,   2.2700,2, -999.00,9,  -999.0,9,  -999.0,-999.000,9,-999.000,-999.000,9, -999.00,9, -999.00,9, -999.00,9,  36.5014, -52.3302,-999.000,-999.0000, -999.00,   1.8840,   2.2700,2,    35.0508,2,  -999.0,9,     -999.0,9,     -999.0,9,     -999.0,9,       0817
33AT20120419,        A20,      60,          1,          4,          4,2,20120507,       0751,    36.5018,   -52.3301,       5461,  4716.3,   2.2140,  34.8768,2,  34.8770,2,    259.8,2,   259.7,2,   38.62,2,   19.99,2,    0.00,2,    1.36,2,   0.674,2,   0.312,2,   0.039,2,    0.16,2,  2183.3,2,  2335.6,6,   7.7284,2,    25.00,   0.130,2,   1.8808,2,    5.72,2,   2.2138,2, -999.00,9,  -999.0,9,  -999.0,   8.185,2,   0.038,-999.000,9, -999.00,9, -999.00,9, -999.00,9,  36.5014, -52.3301,   0.010,   0.0079,    0.15,   1.7894,   2.2138,2,    35.0415,2,  -999.0,9,     -999.0,9,     -999.0,9,     -999.0,9,       0810
33AT20120419,        A20,      60,          1,          3,          3,2,20120507,       0751,    36.5018,   -52.3301,       5461,  5127.9,   2.1856,  34.8674,2,  34.8676,2,    255.1,2,   255.4,2,   44.76,2,   20.98,2,    0.00,2,    1.44,2,   0.411,2,   0.190,2,   0.023,2,    0.13,2,  -999.0,9,  -999.0,9,-999.0000,9,  -999.00,-999.000,9,-999.0000,9, -999.00,9,   2.1852,2, -999.00,9,  -999.0,9,  -999.0,-999.000,9,-999.000,-999.000,9, -999.00,9, -999.00,9, -999.00,9,  36.5015, -52.3301,-999.000,-999.0000, -999.00,   1.7107,   2.1852,2,    35.0320,2,  -999.0,9,     -999.0,9,     -999.0,9,     -999.0,9,       0802
33AT20120419,        A20,      60,          1,          2,          2,2,20120507,       0751,    36.5018,   -52.3301,       5461,  5345.2,   2.1989,  34.8657,2,  34.8658,2,    253.7,2,   254.3,2,   45.91,2,   21.20,2,    0.00,2,    1.46,2,   0.363,2,   0.158,2,   0.020,2,    0.10,2,  2191.3,2,  2341.8,2,   7.7244,6,    25.00,-999.000,9,-999.0000,9, -999.00,9,   2.1988,2, -999.00,9,  -999.0,9,  -999.0,-999.000,9,-999.000,-999.000,9, -999.00,9, -999.00,9, -999.00,9,  36.5016, -52.3301,-999.000,-999.0000, -999.00,   1.6956,   2.1988,2,    35.0302,2,  -999.0,9,     -999.0,9,     -999.0,9,     -999.0,9,       0757
33AT20120419,        A20,      60,          1,          1,          1,2,20120507,       0751,    36.5018,   -52.3301,       5461,  5557.3,   2.2251,  34.8653,2,  34.8658,2,    253.9,2,   254.1,2,   46.09,2,   21.22,2,    0.00,2,    1.46,2,   0.367,2,   0.165,2,   0.022,2,    0.12,2,  2192.6,6,  2345.1,2,   7.7244,2,    25.00,   0.050,2,   1.8854,2,    5.24,2,   2.2249,2, -999.00,9,  -999.0,9,  -999.0,   8.151,2,   0.037,-999.000,9, -999.00,9, -999.00,9, -999.00,9,  36.5018, -52.3301,   0.010,   0.0079,    0.15,   1.6931,   2.2249,2,    35.0302,2,  -999.0,9,     -999.0,9,     -999.0,9,     -999.0,1,       0752