BOTTLE,20220712CCHSIOCBG
EXPOCODE,SECT_ID,STNNBR,CASTNO,SAMPNO,BTLNBR,BTLNBR_FLAG_W,DATE,TIME,LATITUDE,LONGITUDE,DEPTH,CTDPRS,CTDTMP,CTDSAL,CTDSAL_FLAG_W,SALNTY,SALNTY_FLAG_W,CTDOXY,CTDOXY_FLAG_W,OXYGEN,OXYGEN_FLAG_W,SILCAT,SILCAT_FLAG_W,NITRAT,NITRAT_FLAG_W,NITRIT,NITRIT_FLAG_W,PHSPHT,PHSPHT_FLAG_W,CFC-11,CFC-11_FLAG_W,CFC-12,CFC-12_FLAG_W,CFC113,CFC113_FLAG_W,SF6,SF6_FLAG_W,TCARBN,TCARBN_FLAG_W,ALKALI,ALKALI_FLAG_W,PH_TOT,PH_TOT_FLAG_W,PH_TMP,TRITUM,TRITUM_FLAG_W,HELIUM,HELIUM_FLAG_W,DELHE3,DELHE3_FLAG_W,REFTMP,REFTMP_FLAG_W,DELC13,DELC13_FLAG_W,DELC14,DELC14_FLAG_W,C14ERR,NEON,NEON_FLAG_W,NEONER,CCL4,CCL4_FLAG_W,DELO18,DELO18_FLAG_W,DOC,DOC_FLAG_W,TDN,TDN_FLAG_W,BTL_LAT,BTL_LON,TRITER,HELIER,DELHER,THETA,SBE35,SBE35_FLAG_W,SALTREF,SALTREF_FLAG_W,14C-DOC,14C-DOC_FLAG_W,DELO17,DELO17_FLAG_W,O2/AR,O2/AR_FLAG_W,SIP,SIP_FLAG_W,BTL_TIME
,,,,,,,,,,,METERS,DBAR,ITS-90,PSS-78,,PSS-78,,UMOL/KG,,UMOL/KG,,UMOL/KG,,UMOL/KG,,UMOL/KG,,UMOL/KG,,PMOL/KG,,PMOL/KG,,PMOL/KG,,FMOL/KG,,UMOL/KG,,UMOL/KG,,,,DEG C,TU,,NMOL/KG,,PERCNT,,DEG C,,/MILLE,,/MILLE,,/MILLE,NMOL/KG,,NMOL/KG,PMOL/KG,,/MILLE,,UMOL/KG,,UMOL/KG,,,,TU,NMOL/KG,PERCNT,DEG C,ITS-90,,G/KG,,/MILLE,,/MILLE,,,,,,
33AT20120419,        A20,      69,          1,          6,          6,2,20120509,       2254,    41.2917,   -52.1852,       5108,  3761.1,   2.3675,  34.8986,2,  34.8999,2,    269.7,2,   269.7,2,   25.07,2,   17.92,2,    0.00,2,    1.23,2,   1.243,2,   0.633,2,   0.064,3,    0.00,3,  2168.2,2,  2320.9,2,-999.0000,9,  -999.00,-999.000,9,-999.0000,9, -999.00,9,   2.3668,2, -999.00,9,  -999.0,9,  -999.0,-999.000,9,-999.000,   0.930,3, -999.00,9,    44.5,2,   21.57,2,  41.2913, -52.1848,-999.000,-999.0000, -999.00,   2.0498,   2.3668,2,    35.0644,2,  -999.0,9,     -999.0,9,     -999.0,9,     -999.0,9,       2323
33AT20120419,        A20,      69,          1,          5,          5,2,20120509,       2254,    41.2917,   -52.1852,       5108,  4066.5,   2.2915,  34.8921,2,  34.8926,2,    269.9,2,   269.3,2,   27.10,2,   18.12,2,    0.00,2,    1.22,2,   1.286,2,   0.664,2,   0.079,3,    0.00,3,  -999.0,9,  -999.0,9,-999.0000,9,  -999.00,-999.000,9,-999.0000,9, -999.00,9,   2.2918,2, -999.00,9,  -999.0,9,  -999.0,-999.000,9,-999.000,   0.950,3, -999.00,9,   43.15,2,   21.25,2,  41.2914, -52.1849,-999.000,-999.0000, -999.00,   1.9414,   2.2918,2,    35.0571,2,  -999.0,9,     -999.0,9,     -999.0,9,     -999.0,9,       2317
33AT20120419,        A20,      69,          1,          4,          4,2,20120509,       2254,    41.2917,   -52.1852,       5108,  4374.4,   2.2619,  34.8870,2,  34.8875,2,    266.1,2,   266.9,2,   30.22,2,   18.61,2,    0.00,2,    1.27,2,   1.126,2,   0.578,2,   0.064,3,    0.00,3,  -999.0,9,  -999.0,9,-999.0000,9,  -999.00,-999.000,9,-999.0000,9, -999.00,9,   2.2623,2, -999.00,9,  -999.0,9,  -999.0,-999.000,9,-999.000,   0.860,3, -999.00,9,   42.41,2,   21.55,2,  41.2915, -52.1850,-999.000,-999.0000, -999.00,   1.8769,   2.2623,2,    35.0520,2,  -999.0,9,     -999.0,9,     -999.0,9,     -999.0,9,       2311
33AT20120419,        A20,      69,          1,          3,          3,2,20120509,       2254,    41.2917,   -52.1852,       5108,  4684.4,   2.2576,  34.8832,2,  34.8835,2,    266.2,2,   265.9,2,   32.22,2,   18.91,2,    0.00,2,    1.28,2,   1.091,2,   0.568,2,   0.062,3,    0.00,3,  2178.3,2,  2329.2,2,-999.0000,9,  -999.00,-999.000,9,-999.0000,9, -999.00,9,   2.2572,2, -999.00,9,  -999.0,9,  -999.0,-999.000,9,-999.000,   0.790,3, -999.00,9,   42.39,2,   21.54,2,  41.2916, -52.1851,-999.000,-999.0000, -999.00,   1.8355,   2.2572,2,    35.0480,2,  -999.0,9,     -999.0,9,     -999.0,9,     -999.0,9,       2305
33AT20120419,        A20,      69,          1,          2,          2,2,20120509,       2254,    41.2917,   -52.1852,       5108,  4940.1,   2.2687,  34.8818,2,  34.8820,2,    266.3,2,   265.0,2,   32.97,2,   19.02,2,    0.00,2,    1.29,2,   1.098,2,   0.575,2,   0.069,3,    0.00,3,  -999.0,9,  -999.0,9,-999.0000,9,  -999.00,-999.000,9,-999.0000,9, -999.00,9,   2.2690,2, -999.00,9,  -999.0,9,  -999.0,-999.000,9,-999.000,   0.820,3, -999.00,9,   42.76,2,   21.70,2,  41.2918, -52.1852,-999.000,-999.0000, -999.00,   1.8146,   2.2690,2,    35.0464,2,  -999.0,9,     -999.0,9,     -999.0,9,     -999.0,9,       2300
33AT20120419,        A20,      69,          1,          1,          1,2,20120509,       2254,    41.2917,   -52.1852,       5108,  5196.0,   2.2692,  34.8766,2,  34.8772,2,    261.0,2,   261.0,2,   37.21,2,   19.78,2,    0.00,2,    1.34,2,   0.777,2,   0.418,2,   0.046,3,    0.00,3,  2184.2,6,  2333.6,2,-999.0000,9,  -999.00,-999.000,9,-999.0000,9, -999.00,9,   2.2684,2, -999.00,9,  -999.0,9,  -999.0,-999.000,9,-999.000,   0.640,3, -999.00,9,   42.89,2,   22.24,2,  41.2917, -52.1852,-999.000,-999.0000, -999.00,   1.7826,   2.2684,2,    35.0417,2,  -999.0,9,     -999.0,9,     -999.0,9,     -999.0,9,       2255