BOTTLE,20220712CCHSIOCBG
EXPOCODE,SECT_ID,STNNBR,CASTNO,SAMPNO,BTLNBR,BTLNBR_FLAG_W,DATE,TIME,LATITUDE,LONGITUDE,DEPTH,CTDPRS,CTDTMP,CTDSAL,CTDSAL_FLAG_W,SALNTY,SALNTY_FLAG_W,CTDOXY,CTDOXY_FLAG_W,OXYGEN,OXYGEN_FLAG_W,SILCAT,SILCAT_FLAG_W,NITRAT,NITRAT_FLAG_W,NITRIT,NITRIT_FLAG_W,PHSPHT,PHSPHT_FLAG_W,CFC-11,CFC-11_FLAG_W,CFC-12,CFC-12_FLAG_W,CFC113,CFC113_FLAG_W,SF6,SF6_FLAG_W,TCARBN,TCARBN_FLAG_W,ALKALI,ALKALI_FLAG_W,PH_TOT,PH_TOT_FLAG_W,PH_TMP,TRITUM,TRITUM_FLAG_W,HELIUM,HELIUM_FLAG_W,DELHE3,DELHE3_FLAG_W,REFTMP,REFTMP_FLAG_W,DELC13,DELC13_FLAG_W,DELC14,DELC14_FLAG_W,C14ERR,NEON,NEON_FLAG_W,NEONER,CCL4,CCL4_FLAG_W,DELO18,DELO18_FLAG_W,DOC,DOC_FLAG_W,TDN,TDN_FLAG_W,BTL_LAT,BTL_LON,TRITER,HELIER,DELHER,THETA,SBE35,SBE35_FLAG_W,SALTREF,SALTREF_FLAG_W,14C-DOC,14C-DOC_FLAG_W,DELO17,DELO17_FLAG_W,O2/AR,O2/AR_FLAG_W,SIP,SIP_FLAG_W,BTL_TIME
,,,,,,,,,,,METERS,DBAR,ITS-90,PSS-78,,PSS-78,,UMOL/KG,,UMOL/KG,,UMOL/KG,,UMOL/KG,,UMOL/KG,,UMOL/KG,,PMOL/KG,,PMOL/KG,,PMOL/KG,,FMOL/KG,,UMOL/KG,,UMOL/KG,,,,DEG C,TU,,NMOL/KG,,PERCNT,,DEG C,,/MILLE,,/MILLE,,/MILLE,NMOL/KG,,NMOL/KG,PMOL/KG,,/MILLE,,UMOL/KG,,UMOL/KG,,,,TU,NMOL/KG,PERCNT,DEG C,ITS-90,,G/KG,,/MILLE,,/MILLE,,,,,,
33AT20120419,        A20,      29,          1,          6,          6,2,20120426,       2322,    14.0735,   -52.3325,       5146,  3956.2,   2.3150,  34.8951,2,  34.8951,2,    261.0,2,   261.1,2,   33.05,2,   19.37,2,    0.00,2,    1.33,2,-999.000,5,-999.000,5,-999.000,5, -999.00,5,  2175.8,2,  2332.2,6,   7.7364,2,    25.00,-999.000,9,-999.0000,9, -999.00,9,   2.3151,2, -999.00,9,  -999.0,9,  -999.0,-999.000,9,-999.000,-999.000,5, -999.00,9,   41.06,2,   22.38,2,  14.0747, -52.3328,-999.000,-999.0000, -999.00,   1.9768,   2.3151,2,    35.0596,2,  -999.0,9,     -999.0,9,     -999.0,9,     -999.0,9,       2350
33AT20120419,        A20,      29,          1,          5,          5,2,20120426,       2322,    14.0735,   -52.3325,       5146,  4263.7,   2.2446,  34.8852,2,  34.8841,2,    259.0,2,   259.2,2,   37.17,2,   19.93,2,    0.00,2,    1.38,2,-999.000,5,-999.000,5,-999.000,5, -999.00,5,  -999.0,9,  -999.0,9,-999.0000,9,  -999.00,-999.000,9,-999.0000,9, -999.00,9,   2.2444,2, -999.00,9,  -999.0,9,  -999.0,-999.000,9,-999.000,-999.000,5, -999.00,9,   40.78,2,   22.77,2,  14.0743, -52.3327,-999.000,-999.0000, -999.00,   1.8731,   2.2444,2,    35.0486,2,  -999.0,9,     -999.0,9,     -999.0,9,     -999.0,9,       2344
33AT20120419,        A20,      29,          1,          4,          4,2,20120426,       2322,    14.0735,   -52.3325,       5146,  4571.3,   2.1417,  34.8701,2,  34.8693,2,    254.8,2,   254.7,2,   44.43,2,   20.98,2,    0.00,2,    1.45,2,   0.244,2,   0.143,2,   0.014,2,    0.00,3,  2189.8,2,  2339.9,2,   7.7244,6,    25.00,-999.000,9,-999.0000,9, -999.00,9,   2.1419,2, -999.00,9,  -999.0,9,  -999.0,-999.000,9,-999.000,   0.310,2, -999.00,9,   39.98,2,   23.79,2,  14.0740, -52.3326,-999.000,-999.0000, -999.00,   1.7370,   2.1419,2,    35.0338,2,  -999.0,9,     -999.0,9,     -999.0,9,     -999.0,9,       2338
33AT20120419,        A20,      29,          1,          3,          3,2,20120426,       2322,    14.0735,   -52.3325,       5146,  4879.9,   1.9211,  34.8399,2,  34.8385,2,    246.4,2,   246.9,2,   58.34,2,   23.21,2,    0.00,2,    1.60,2,   0.173,2,   0.104,2,   0.009,2,    0.00,3,  -999.0,9,  -999.0,9,-999.0000,9,  -999.00,-999.000,9,-999.0000,9, -999.00,9,   1.9208,2, -999.00,9,  -999.0,9,  -999.0,-999.000,9,-999.000,   0.220,2, -999.00,9,    40.5,2,   26.45,2,  14.0739, -52.3326,-999.000,-999.0000, -999.00,   1.4862,   1.9208,2,    35.0027,2,  -999.0,9,     -999.0,9,     -999.0,9,     -999.0,9,       2332
33AT20120419,        A20,      29,          1,          2,          2,2,20120426,       2322,    14.0735,   -52.3325,       5146,  5056.1,   1.8725,  34.8316,2,  34.8296,2,    245.4,2,   245.0,2,   61.86,2,   23.75,2,    0.00,2,    1.64,2,   0.166,2,   0.099,2,   0.010,2,    0.00,3,  -999.0,9,  -999.0,9,-999.0000,9,  -999.00,-999.000,9,-999.0000,9, -999.00,9,   1.8728,2, -999.00,9,  -999.0,9,  -999.0,-999.000,9,-999.000,   0.210,2, -999.00,9,   39.56,2,   27.86,2,  14.0737, -52.3325,-999.000,-999.0000, -999.00,   1.4176,   1.8728,2,    34.9939,2,  -999.0,9,     -999.0,9,     -999.0,9,     -999.0,9,       2327
33AT20120419,        A20,      29,          1,          1,          1,2,20120426,       2322,    14.0735,   -52.3325,       5146,  5219.4,   1.8509,  34.8267,2,  34.8261,2,    243.3,2,   243.3,2,   63.95,2,   24.07,2,    0.00,2,    1.66,2,   0.156,2,   0.090,2,   0.012,2,    0.00,3,  2212.7,6,  2353.5,2,   7.6996,2,    25.00,-999.000,9,-999.0000,9, -999.00,9,   1.8507,2, -999.00,9,  -999.0,9,  -999.0,-999.000,9,-999.000,   0.220,2, -999.00,9,   40.17,2,   27.88,2,  14.0735, -52.3325,-999.000,-999.0000, -999.00,   1.3763,   1.8507,2,    34.9903,2,  -999.0,9,     -999.0,9,     -999.0,9,     -999.0,9,       2323