BOTTLE,20220712CCHSIOCBG
EXPOCODE,SECT_ID,STNNBR,CASTNO,SAMPNO,BTLNBR,BTLNBR_FLAG_W,DATE,TIME,LATITUDE,LONGITUDE,DEPTH,CTDPRS,CTDTMP,CTDSAL,CTDSAL_FLAG_W,SALNTY,SALNTY_FLAG_W,CTDOXY,CTDOXY_FLAG_W,OXYGEN,OXYGEN_FLAG_W,SILCAT,SILCAT_FLAG_W,NITRAT,NITRAT_FLAG_W,NITRIT,NITRIT_FLAG_W,PHSPHT,PHSPHT_FLAG_W,CFC-11,CFC-11_FLAG_W,CFC-12,CFC-12_FLAG_W,CFC113,CFC113_FLAG_W,SF6,SF6_FLAG_W,TCARBN,TCARBN_FLAG_W,ALKALI,ALKALI_FLAG_W,PH_TOT,PH_TOT_FLAG_W,PH_TMP,TRITUM,TRITUM_FLAG_W,HELIUM,HELIUM_FLAG_W,DELHE3,DELHE3_FLAG_W,REFTMP,REFTMP_FLAG_W,DELC13,DELC13_FLAG_W,DELC14,DELC14_FLAG_W,C14ERR,NEON,NEON_FLAG_W,NEONER,CCL4,CCL4_FLAG_W,DELO18,DELO18_FLAG_W,DOC,DOC_FLAG_W,TDN,TDN_FLAG_W,BTL_LAT,BTL_LON,TRITER,HELIER,DELHER,THETA,SBE35,SBE35_FLAG_W,SALTREF,SALTREF_FLAG_W,14C-DOC,14C-DOC_FLAG_W,DELO17,DELO17_FLAG_W,O2/AR,O2/AR_FLAG_W,SIP,SIP_FLAG_W,BTL_TIME
,,,,,,,,,,,METERS,DBAR,ITS-90,PSS-78,,PSS-78,,UMOL/KG,,UMOL/KG,,UMOL/KG,,UMOL/KG,,UMOL/KG,,UMOL/KG,,PMOL/KG,,PMOL/KG,,PMOL/KG,,FMOL/KG,,UMOL/KG,,UMOL/KG,,,,DEG C,TU,,NMOL/KG,,PERCNT,,DEG C,,/MILLE,,/MILLE,,/MILLE,NMOL/KG,,NMOL/KG,PMOL/KG,,/MILLE,,UMOL/KG,,UMOL/KG,,,,TU,NMOL/KG,PERCNT,DEG C,ITS-90,,G/KG,,/MILLE,,/MILLE,,,,,,
33AT20120419,        A20,      72,          1,          6,          6,2,20120510,       1427,    41.8686,   -51.7356,       3869,  2697.8,   3.1449,  34.9308,2,  34.9307,2,    270.7,2,   269.5,2,   15.80,2,   17.30,2,    0.00,2,    1.17,2,   1.828,2,   0.886,2,   0.081,2,    0.41,2,  -999.0,9,  -999.0,9,-999.0000,9,  -999.00,-999.000,9,-999.0000,9, -999.00,9,   3.1446,2, -999.00,9,  -999.0,9,  -999.0,-999.000,9,-999.000,-999.000,9, -999.00,9, -999.00,9, -999.00,9,  41.8705, -51.7350,-999.000,-999.0000, -999.00,   2.9224,   3.1446,2,    35.0955,2,  -999.0,9,     -999.0,9,     -999.0,9,     -999.0,9,       1455
33AT20120419,        A20,      72,          1,          5,          5,2,20120510,       1427,    41.8686,   -51.7356,       3869,  2902.1,   2.9370,  34.9205,2,  34.9213,2,    273.5,2,   273.7,2,   15.18,2,   16.78,2,    0.00,2,    1.14,2,-999.000,9,-999.000,9,-999.000,9, -999.00,9,  -999.0,9,  -999.0,9,-999.0000,9,  -999.00,-999.000,9,-999.0000,9, -999.00,9,   2.9372,2, -999.00,9,  -999.0,9,  -999.0,-999.000,9,-999.000,-999.000,9, -999.00,9, -999.00,9, -999.00,9,  41.8702, -51.7351,-999.000,-999.0000, -999.00,   2.6978,   2.9372,2,    35.0860,2,  -999.0,9,     -999.0,9,     -999.0,9,     -999.0,9,       1450
33AT20120419,        A20,      72,          1,          4,          4,2,20120510,       1427,    41.8686,   -51.7356,       3869,  3143.4,   2.7127,  34.9137,2,  34.9138,2,    273.6,2,   275.1,2,   16.09,2,   16.63,2,    0.00,2,    1.12,2,   2.226,2,   1.104,2,   0.117,2,    0.60,2,  2162.7,2,  2311.7,6,-999.0000,9,  -999.00,-999.000,9,-999.0000,9, -999.00,9,   2.7123,2, -999.00,9,  -999.0,9,  -999.0,-999.000,9,-999.000,-999.000,9, -999.00,9, -999.00,9, -999.00,9,  41.8700, -51.7352,-999.000,-999.0000, -999.00,   2.4533,   2.7123,2,    35.0785,2,  -999.0,9,     -999.0,9,     -999.0,9,     -999.0,9,       1444
33AT20120419,        A20,      72,          1,          3,          3,2,20120510,       1427,    41.8686,   -51.7356,       3869,  3451.1,   2.4455,  34.9031,2,  34.9026,2,    275.6,2,   276.9,2,   17.70,2,   16.51,2,    0.00,2,    1.12,2,   2.334,2,   1.160,2,   0.146,2,    0.66,2,  -999.0,9,  -999.0,9,-999.0000,9,  -999.00,-999.000,9,-999.0000,9, -999.00,9,   2.4457,2, -999.00,9,  -999.0,9,  -999.0,-999.000,9,-999.000,-999.000,9, -999.00,9, -999.00,9, -999.00,9,  41.8695, -51.7354,-999.000,-999.0000, -999.00,   2.1597,   2.4457,2,    35.0672,2,  -999.0,9,     -999.0,9,     -999.0,9,     -999.0,9,       1438
33AT20120419,        A20,      72,          1,          2,          2,2,20120510,       1427,    41.8686,   -51.7356,       3869,  3688.4,   2.2881,  34.8964,2,  34.8969,2,    276.6,2,   277.5,2,   19.44,2,   16.60,2,    0.00,2,    1.12,2,   2.814,2,   1.181,2,   0.149,2,    0.74,2,  -999.0,9,  -999.0,9,-999.0000,9,  -999.00,-999.000,9,-999.0000,9, -999.00,9,   2.2881,2, -999.00,9,  -999.0,9,  -999.0,-999.000,9,-999.000,-999.000,9, -999.00,9, -999.00,9, -999.00,9,  41.8690, -51.7355,-999.000,-999.0000, -999.00,   1.9805,   2.2881,2,    35.0615,2,  -999.0,9,     -999.0,9,     -999.0,9,     -999.0,9,       1433
33AT20120419,        A20,      72,          1,          1,          1,2,20120510,       1427,    41.8686,   -51.7356,       3869,  3920.2,   2.2541,  34.8938,2,  34.8951,2,    277.1,2,   276.4,2,   20.43,2,   16.69,2,    0.00,2,    1.13,2,   2.360,2,   1.191,2,   0.150,2,    0.78,2,  2169.0,6,  2317.6,2,-999.0000,9,  -999.00,-999.000,9,-999.0000,9, -999.00,9,   2.2537,2, -999.00,9,  -999.0,9,  -999.0,-999.000,9,-999.000,-999.000,9, -999.00,9, -999.00,9, -999.00,9,  41.8686, -51.7356,-999.000,-999.0000, -999.00,   1.9217,   2.2537,2,    35.0597,2,  -999.0,9,     -999.0,9,     -999.0,9,     -999.0,9,       1428