BOTTLE,20220712CCHSIOCBG
EXPOCODE,SECT_ID,STNNBR,CASTNO,SAMPNO,BTLNBR,BTLNBR_FLAG_W,DATE,TIME,LATITUDE,LONGITUDE,DEPTH,CTDPRS,CTDTMP,CTDSAL,CTDSAL_FLAG_W,SALNTY,SALNTY_FLAG_W,CTDOXY,CTDOXY_FLAG_W,OXYGEN,OXYGEN_FLAG_W,SILCAT,SILCAT_FLAG_W,NITRAT,NITRAT_FLAG_W,NITRIT,NITRIT_FLAG_W,PHSPHT,PHSPHT_FLAG_W,CFC-11,CFC-11_FLAG_W,CFC-12,CFC-12_FLAG_W,CFC113,CFC113_FLAG_W,SF6,SF6_FLAG_W,TCARBN,TCARBN_FLAG_W,ALKALI,ALKALI_FLAG_W,PH_TOT,PH_TOT_FLAG_W,PH_TMP,TRITUM,TRITUM_FLAG_W,HELIUM,HELIUM_FLAG_W,DELHE3,DELHE3_FLAG_W,REFTMP,REFTMP_FLAG_W,DELC13,DELC13_FLAG_W,DELC14,DELC14_FLAG_W,C14ERR,NEON,NEON_FLAG_W,NEONER,CCL4,CCL4_FLAG_W,DELO18,DELO18_FLAG_W,DOC,DOC_FLAG_W,TDN,TDN_FLAG_W,BTL_LAT,BTL_LON,TRITER,HELIER,DELHER,THETA,SBE35,SBE35_FLAG_W,SALTREF,SALTREF_FLAG_W,14C-DOC,14C-DOC_FLAG_W,DELO17,DELO17_FLAG_W,O2/AR,O2/AR_FLAG_W,SIP,SIP_FLAG_W,BTL_TIME
,,,,,,,,,,,METERS,DBAR,ITS-90,PSS-78,,PSS-78,,UMOL/KG,,UMOL/KG,,UMOL/KG,,UMOL/KG,,UMOL/KG,,UMOL/KG,,PMOL/KG,,PMOL/KG,,PMOL/KG,,FMOL/KG,,UMOL/KG,,UMOL/KG,,,,DEG C,TU,,NMOL/KG,,PERCNT,,DEG C,,/MILLE,,/MILLE,,/MILLE,NMOL/KG,,NMOL/KG,PMOL/KG,,/MILLE,,UMOL/KG,,UMOL/KG,,,,TU,NMOL/KG,PERCNT,DEG C,ITS-90,,G/KG,,/MILLE,,/MILLE,,,,,,
33AT20120419,        A20,      69,          1,         36,         36,2,20120509,       2254,    41.2917,   -52.1852,       5108,     3.7,  14.5541,  35.0421,2,  35.0423,2,    268.2,2,   265.6,2,    0.00,2,    0.00,2,    0.02,2,    0.06,2,   2.818,2,   1.618,2,   0.236,3,    1.88,3,  2046.6,6,  2323.0,2,-999.0000,9,  -999.00,-999.000,9,-999.0000,9, -999.00,9,  14.5544,2, -999.00,9,  -999.0,9,  -999.0,-999.000,9,-999.000,   2.030,3, -999.00,9,   67.75,2,    3.65,2,  41.2929, -52.1859,-999.000,-999.0000, -999.00,  14.5536,  14.5544,2,    35.2076,2,  -999.0,9,     -999.0,9,     -999.0,9,     -999.0,9,       0056
33AT20120419,        A20,      69,          1,         35,         35,2,20120509,       2254,    41.2917,   -52.1852,       5108,    35.0,  14.1448,  35.0223,2,  35.0258,2,    261.7,2,   262.6,2,    0.00,2,    0.03,2,    0.02,2,    0.06,2,   2.780,2,   1.658,2,   0.224,3,    2.09,3,  2051.6,2,  2322.4,2,-999.0000,9,  -999.00,-999.000,9,-999.0000,9, -999.00,9,  14.1890,2, -999.00,9,  -999.0,9,  -999.0,-999.000,9,-999.000,   1.710,3, -999.00,9,   67.67,2,    4.93,2,  41.2928, -52.1859,-999.000,-999.0000, -999.00,  14.1397,  14.1890,2,    35.1909,2,  -999.0,9,     -999.0,9,     -999.0,9,     -999.0,9,       0054
33AT20120419,        A20,      69,          1,         34,         34,2,20120509,       2254,    41.2917,   -52.1852,       5108,    61.0,  14.1597,  35.4144,2,  35.4139,2,    211.9,2,   230.4,2,    1.77,2,    4.98,2,    0.15,2,    0.36,2,   2.679,2,   1.567,2,   0.180,3,    1.70,3,  2100.1,2,  2336.6,2,-999.0000,9,  -999.00,-999.000,9,-999.0000,9, -999.00,9,  14.1593,2, -999.00,9,  -999.0,9,  -999.0,-999.000,9,-999.000,   1.300,3, -999.00,9,   65.63,2,    9.56,2,  41.2927, -52.1858,-999.000,-999.0000, -999.00,  14.1508,  14.1593,2,    35.5809,2,  -999.0,9,     -999.0,9,     -999.0,9,     -999.0,9,       0052
33AT20120419,        A20,      69,          1,         33,         33,2,20120509,       2254,    41.2917,   -52.1852,       5108,   111.0,  14.3017,  35.6042,2,  35.5902,2,    215.2,2,   218.9,2,    2.79,2,    7.44,2,    0.03,2,    0.48,2,   2.594,2,   1.536,2,   0.165,3,    1.57,3,  2114.7,2,  2345.2,2,-999.0000,9,  -999.00,-999.000,9,-999.0000,9, -999.00,9,  14.3667,2, -999.00,9,  -999.0,9,  -999.0,-999.000,9,-999.000,   0.990,3, -999.00,9,   55.74,2,   11.34,2,  41.2925, -52.1857,-999.000,-999.0000, -999.00,  14.2854,  14.3667,2,    35.7580,2,  -999.0,9,     -999.0,9,     -999.0,9,     -999.0,9,       0048
33AT20120419,        A20,      69,          1,         32,         32,2,20120509,       2254,    41.2917,   -52.1852,       5108,   166.5,  14.8603,  35.8387,2,  35.8331,2,    199.6,2,   212.0,2,    2.80,2,    7.81,2,    0.02,2,    0.48,2,   2.450,2,   1.452,2,   0.140,3,    0.95,3,  2121.2,2,  2355.6,2,-999.0000,9,  -999.00,-999.000,9,-999.0000,9, -999.00,9,  14.8415,2, -999.00,9,  -999.0,9,  -999.0,-999.000,9,-999.000,   0.890,3, -999.00,9,   52.46,2,   12.21,2,  41.2925, -52.1857,-999.000,-999.0000, -999.00,  14.8351,  14.8415,2,    36.0020,2,  -999.0,9,     -999.0,9,     -999.0,9,     -999.0,9,       0045
33AT20120419,        A20,      69,          1,         31,         31,2,20120509,       2254,    41.2917,   -52.1852,       5108,   216.1,  14.0765,  35.7942,2,  35.7932,2,    162.8,2,   159.6,2,    6.07,2,   14.77,2,    0.02,2,    0.89,2,   2.074,2,   1.188,2,   0.039,3,    0.83,3,  2159.5,2,  2349.7,2,-999.0000,9,  -999.00,-999.000,9,-999.0000,9, -999.00,9,  14.0680,2, -999.00,9,  -999.0,9,  -999.0,-999.000,9,-999.000,   0.360,3, -999.00,9,   49.47,2,   18.37,2,  41.2925, -52.1857,-999.000,-999.0000, -999.00,  14.0449,  14.0680,2,    35.9620,2,  -999.0,9,     -999.0,9,     -999.0,9,     -999.0,9,       0043
33AT20120419,        A20,      69,          1,         30,         30,2,20120509,       2254,    41.2917,   -52.1852,       5108,   266.4,  12.7999,  35.6316,2,  35.6320,2,    148.2,2,   144.7,2,    8.36,2,   18.56,2,    0.02,2,    1.12,2,   1.813,2,   1.034,2,   0.018,3,    0.00,3,  -999.0,9,  -999.0,9,-999.0000,9,  -999.00,-999.000,9,-999.0000,9, -999.00,9,  12.7973,2, -999.00,9,  -999.0,9,  -999.0,-999.000,9,-999.000,   0.250,3, -999.00,9,   48.21,2,   22.02,2,  41.2925, -52.1857,-999.000,-999.0000, -999.00,  12.7633,  12.7973,2,    35.8001,2,  -999.0,9,     -999.0,9,     -999.0,9,     -999.0,9,       0041
33AT20120419,        A20,      69,          1,         29,         29,2,20120509,       2254,    41.2917,   -52.1852,       5108,   316.4,  11.5432,  35.4607,2,  35.4648,2,    142.0,2,   139.1,2,   10.39,2,   21.10,2,    0.02,2,    1.30,2,   1.594,2,   0.884,2,   0.027,3,    0.44,3,  2184.4,2,  2333.2,2,-999.0000,9,  -999.00,-999.000,9,-999.0000,9, -999.00,9,  11.5472,2, -999.00,9,  -999.0,9,  -999.0,-999.000,9,-999.000,   0.260,3, -999.00,9,   46.87,2,   24.71,2,  41.2925, -52.1857,-999.000,-999.0000, -999.00,  11.5025,  11.5472,2,    35.6320,2,  -999.0,9,     -999.0,9,     -999.0,9,     -999.0,9,       0039
33AT20120419,        A20,      69,          1,         28,         28,2,20120509,       2254,    41.2917,   -52.1852,       5108,   370.9,  10.2431,  35.2962,2,  35.2962,2,    135.8,2,   134.5,2,   12.90,2,   23.78,2,    0.00,2,    1.48,2,   1.299,2,   0.694,2,   0.016,3,    0.00,3,  2194.5,2,  2324.9,2,-999.0000,9,  -999.00,-999.000,9,-999.0000,9, -999.00,9,  10.2428,2, -999.00,9,  -999.0,9,  -999.0,-999.000,9,-999.000,   0.270,3, -999.00,9,   45.66,2,   26.86,2,  41.2925, -52.1857,-999.000,-999.0000, -999.00,  10.1989,  10.2428,2,    35.4626,2,  -999.0,9,     -999.0,9,     -999.0,9,     -999.0,9,       0038
33AT20120419,        A20,      69,          1,         27,         27,2,20120509,       2254,    41.2917,   -52.1852,       5108,   437.4,   8.7666,  35.1544,2,  35.1547,2,    140.7,2,   143.3,2,   14.88,2,   25.00,2,    0.00,2,    1.58,2,   1.116,2,   0.611,2,   0.014,3,    0.00,3,  2197.8,6,  2322.1,2,-999.0000,9,  -999.00,-999.000,9,-999.0000,9, -999.00,9,   8.7706,2, -999.00,9,  -999.0,9,  -999.0,-999.000,9,-999.000,   0.300,3, -999.00,9,   43.12,2,   28.17,2,  41.2925, -52.1857,-999.000,-999.0000, -999.00,   8.7191,   8.7706,2,    35.3205,2,  -999.0,9,     -999.0,9,     -999.0,9,     -999.0,9,       0036
33AT20120419,        A20,      69,          1,         26,         26,2,20120509,       2254,    41.2917,   -52.1852,       5108,   540.4,   7.1054,  35.0469,2,  35.0437,2,    171.5,2,   180.9,2,   13.49,2,   21.99,2,    0.00,2,    1.42,2,   1.828,2,   0.985,2,   0.080,3,    0.00,3,  2189.3,2,  2314.0,2,-999.0000,9,  -999.00,-999.000,9,-999.0000,9, -999.00,9,   7.1160,2, -999.00,9,  -999.0,9,  -999.0,-999.000,9,-999.000,   0.790,3, -999.00,9,   44.91,2,   25.31,2,  41.2926, -52.1857,-999.000,-999.0000, -999.00,   7.0530,   7.1160,2,    35.2089,2,  -999.0,9,     -999.0,9,     -999.0,9,     -999.0,9,       0033
33AT20120419,        A20,      69,          1,         25,         25,2,20120509,       2254,    41.2917,   -52.1852,       5108,   641.1,   5.9631,  35.0056,2,  35.0051,2,    209.2,2,   211.3,2,   12.54,2,   20.11,2,    0.00,2,    1.32,2,   2.308,2,   1.242,2,   0.118,3,    0.99,3,  2182.0,2,  2312.2,6,-999.0000,9,  -999.00,-999.000,9,-999.0000,9, -999.00,9,   5.9639,2, -999.00,9,  -999.0,9,  -999.0,-999.000,9,-999.000,   1.120,3, -999.00,9,   44.09,2,   23.47,2,  41.2926, -52.1858,-999.000,-999.0000, -999.00,   5.9061,   5.9639,2,    35.1702,2,  -999.0,9,     -999.0,9,     -999.0,9,     -999.0,9,       0030
33AT20120419,        A20,      69,          1,         24,         24,2,20120509,       2254,    41.2917,   -52.1852,       5108,   741.1,   5.5556,  35.0296,2,  35.0283,2,    222.7,2,   224.5,2,   12.12,2,   19.34,2,    0.00,2,    1.27,2,   2.338,2,   1.254,2,   0.123,3,    0.00,3,  2178.9,2,  2313.5,2,-999.0000,9,  -999.00,-999.000,9,-999.0000,9, -999.00,9,   5.5558,2, -999.00,9,  -999.0,9,  -999.0,-999.000,9,-999.000,   1.170,3, -999.00,9,   44.56,2,   22.00,2,  41.2927, -52.1858,-999.000,-999.0000, -999.00,   5.4915,   5.5558,2,    35.1935,2,  -999.0,9,     -999.0,9,     -999.0,9,     -999.0,9,       0028
33AT20120419,        A20,      69,          1,         23,         23,2,20120509,       2254,    41.2917,   -52.1852,       5108,   842.4,   5.1858,  35.0233,2,  35.0222,2,    232.9,2,   235.5,2,   11.83,2,   18.77,2,    0.00,2,    1.23,2,   2.445,2,   1.309,2,   0.135,3,    0.00,3,  -999.0,9,  -999.0,9,-999.0000,9,  -999.00,-999.000,9,-999.0000,9, -999.00,9,   5.1844,2, -999.00,9,  -999.0,9,  -999.0,-999.000,9,-999.000,   1.320,3, -999.00,9,   44.07,2,   22.09,2,  41.2927, -52.1858,-999.000,-999.0000, -999.00,   5.1147,   5.1844,2,    35.1874,2,  -999.0,9,     -999.0,9,     -999.0,9,     -999.0,9,       0025
33AT20120419,        A20,      69,          1,         22,         22,2,20120509,       2254,    41.2917,   -52.1852,       5108,   945.0,   4.9075,  35.0115,2,  35.0110,2,    243.6,2,   243.2,2,   11.54,2,   18.36,2,    0.00,2,    1.20,2,   2.552,2,   1.376,2,   0.145,3,    0.00,3,  2172.7,2,  2312.8,2,-999.0000,9,  -999.00,-999.000,9,-999.0000,9, -999.00,9,   4.9074,2, -999.00,9,  -999.0,9,  -999.0,-999.000,9,-999.000,   1.350,3, -999.00,9,   45.23,2,   21.52,2,  41.2927, -52.1858,-999.000,-999.0000, -999.00,   4.8290,   4.9074,2,    35.1761,2,  -999.0,9,     -999.0,9,     -999.0,9,     -999.0,9,       0022
33AT20120419,        A20,      69,          1,         21,         21,2,20120509,       2254,    41.2917,   -52.1852,       5108,  1043.6,   4.6461,  34.9920,2,  34.9880,2,    252.5,2,   253.4,2,   11.08,2,   17.83,2,    0.00,2,    1.17,2,   2.858,2,   1.533,2,   0.182,3,    0.69,3,  -999.0,9,  -999.0,9,-999.0000,9,  -999.00,-999.000,9,-999.0000,9, -999.00,9,   4.6442,2, -999.00,9,  -999.0,9,  -999.0,-999.000,9,-999.000,   1.680,3, -999.00,9,   45.73,2,   22.02,2,  41.2927, -52.1858,-999.000,-999.0000, -999.00,   4.5608,   4.6442,2,    35.1530,2,  -999.0,9,     -999.0,9,     -999.0,9,     -999.0,9,       0020
33AT20120419,        A20,      69,          1,         20,         20,2,20120509,       2254,    41.2917,   -52.1852,       5108,  1148.4,   4.4772,  34.9865,2,  34.9860,2,    254.2,2,   255.4,2,   11.27,2,   17.79,2,    0.00,2,    1.17,2,   2.768,2,   1.473,2,   0.171,3,    0.00,3,  2170.2,2,  2310.2,2,-999.0000,9,  -999.00,-999.000,9,-999.0000,9, -999.00,9,   4.4783,2, -999.00,9,  -999.0,9,  -999.0,-999.000,9,-999.000,   1.630,3, -999.00,9,   43.94,2,   21.43,2,  41.2927, -52.1858,-999.000,-999.0000, -999.00,   4.3839,   4.4783,2,    35.1510,2,  -999.0,9,     -999.0,9,     -999.0,9,     -999.0,9,       0017
33AT20120419,        A20,      69,          1,         19,         19,2,20120509,       2254,    41.2917,   -52.1852,       5108,  1247.8,   4.3263,  34.9798,2,  34.9801,2,    257.4,2,   257.3,2,   11.52,2,   17.79,2,    0.00,2,    1.17,2,   2.645,2,   1.409,2,   0.154,3,    0.00,3,  -999.0,9,  -999.0,9,-999.0000,9,  -999.00,-999.000,9,-999.0000,9, -999.00,9,   4.3260,2, -999.00,9,  -999.0,9,  -999.0,-999.000,9,-999.000,   1.580,3, -999.00,9,   43.82,2,   22.10,2,  41.2927, -52.1858,-999.000,-999.0000, -999.00,   4.2255,   4.3260,2,    35.1451,2,  -999.0,9,     -999.0,9,     -999.0,9,     -999.0,9,       0015
33AT20120419,        A20,      69,          1,         18,         18,2,20120509,       2254,    41.2917,   -52.1852,       5108,  1349.7,   4.2042,  34.9748,2,  34.9750,2,    260.0,2,   259.4,2,   11.65,2,   17.72,2,    0.00,2,    1.16,2,   2.569,2,   1.376,2,   0.151,3,    0.00,3,  2166.1,2,  2310.7,2,-999.0000,9,  -999.00,-999.000,9,-999.0000,9, -999.00,9,   4.2038,2, -999.00,9,  -999.0,9,  -999.0,-999.000,9,-999.000,   1.550,3, -999.00,9,   44.51,2,   20.97,2,  41.2926, -52.1858,-999.000,-999.0000, -999.00,   4.0954,   4.2038,2,    35.1399,2,  -999.0,9,     -999.0,9,     -999.0,9,     -999.0,9,       0012
33AT20120419,        A20,      69,          1,         17,         17,2,20120509,       2254,    41.2917,   -52.1852,       5108,  1450.8,   4.0935,  34.9690,2,  34.9685,2,    260.9,2,   261.2,2,   11.79,2,   17.65,2,    0.00,2,    1.15,2,   2.499,2,   1.311,2,   0.151,3,    0.00,3,  -999.0,9,  -999.0,9,-999.0000,9,  -999.00,-999.000,9,-999.0000,9, -999.00,9,   4.0926,2, -999.00,9,  -999.0,9,  -999.0,-999.000,9,-999.000,   1.570,3, -999.00,9,   44.22,2,   21.32,2,  41.2925, -52.1857,-999.000,-999.0000, -999.00,   3.9767,   4.0926,2,    35.1334,2,  -999.0,9,     -999.0,9,     -999.0,9,     -999.0,9,       0009
33AT20120419,        A20,      69,          1,         16,         16,2,20120509,       2254,    41.2917,   -52.1852,       5108,  1553.5,   4.0041,  34.9663,2,  34.9658,2,    262.3,2,   262.1,2,   12.05,2,   17.72,2,    0.00,2,    1.16,2,   0.000,4,   0.000,4,   0.000,4,    0.00,4,  2163.8,2,  2307.4,2,-999.0000,9,  -999.00,-999.000,9,-999.0000,9, -999.00,9,   4.0038,2, -999.00,9,  -999.0,9,  -999.0,-999.000,9,-999.000,   0.000,4, -999.00,9,   44.05,2,   21.45,2,  41.2924, -52.1856,-999.000,-999.0000, -999.00,   3.8789,   4.0038,2,    35.1306,2,  -999.0,9,     -999.0,9,     -999.0,9,     -999.0,9,       0007
33AT20120419,        A20,      69,          1,         15,         15,2,20120509,       2254,    41.2917,   -52.1852,       5108,  1684.9,   3.8966,  34.9639,2,  34.9636,2,    263.2,2,   262.6,2,   12.56,2,   17.74,2,    0.00,2,    1.16,2,   2.177,2,   1.124,2,   0.128,3,    0.00,3,  -999.0,9,  -999.0,9,-999.0000,9,  -999.00,-999.000,9,-999.0000,9, -999.00,9,   3.8970,2, -999.00,9,  -999.0,9,  -999.0,-999.000,9,-999.000,   1.370,3, -999.00,9,   42.29,2,   21.51,2,  41.2922, -52.1855,-999.000,-999.0000, -999.00,   3.7606,   3.8970,2,    35.1285,2,  -999.0,9,     -999.0,9,     -999.0,9,     -999.0,9,       0004
33AT20120419,        A20,      69,          1,         14,         14,2,20120509,       2254,    41.2917,   -52.1852,       5108,  1885.9,   3.7243,  34.9538,2,  34.9538,2,    265.2,2,   265.3,2,   13.08,2,   17.66,2,    0.00,2,    1.16,2,   1.983,2,   1.090,2,   0.097,3,    0.00,3,  2160.8,2,  2311.1,2,-999.0000,9,  -999.00,-999.000,9,-999.0000,9, -999.00,9,   3.7249,2, -999.00,9,  -999.0,9,  -999.0,-999.000,9,-999.000,   0.970,3, -999.00,9,   42.24,2,   21.48,2,  41.2919, -52.1853,-999.000,-999.0000, -999.00,   3.5718,   3.7249,2,    35.1186,2,  -999.0,9,     -999.0,9,     -999.0,9,     -999.0,9,       2359
33AT20120419,        A20,      69,          1,         13,         13,2,20120509,       2254,    41.2917,   -52.1852,       5108,  2111.2,   3.5196,  34.9403,2,  34.9416,2,    266.8,2,   267.8,2,   13.45,2,   17.46,2,    0.00,2,    1.15,2,   2.103,2,   1.081,2,   0.101,3,    0.00,3,  2160.0,2,  2309.7,6,-999.0000,9,  -999.00,-999.000,9,-999.0000,9, -999.00,9,   3.5221,2, -999.00,9,  -999.0,9,  -999.0,-999.000,9,-999.000,   1.430,3, -999.00,9,   43.48,2,   21.13,2,  41.2917, -52.1852,-999.000,-999.0000, -999.00,   3.3486,   3.5221,2,    35.1063,2,  -999.0,9,     -999.0,9,     -999.0,9,     -999.0,9,       2355
33AT20120419,        A20,      69,          1,         11,         11,2,20120509,       2254,    41.2917,   -52.1852,       5108,  2364.6,   3.3282,  34.9350,2,  34.9353,2,    271.2,2,   269.3,2,   14.55,2,   17.36,2,    0.00,2,    1.15,2,-999.000,9,-999.000,9,-999.000,9, -999.00,9,  -999.0,9,  -999.0,9,-999.0000,9,  -999.00,-999.000,9,-999.0000,9, -999.00,9,   3.3286,2, -999.00,9,  -999.0,9,  -999.0,-999.000,9,-999.000,-999.000,9, -999.00,9, -999.00,9, -999.00,9,  41.2914, -52.1849,-999.000,-999.0000, -999.00,   3.1357,   3.3286,2,    35.1000,2,  -999.0,9,     -999.0,9,     -999.0,9,     -999.0,9,       2350
33AT20120419,        A20,      69,          1,         12,         12,2,20120509,       2254,    41.2917,   -52.1852,       5108,  2364.8,   3.3284,  34.9352,2,  34.9353,2,    271.2,2,   269.2,2,   14.47,2,   17.36,2,    0.00,2,    1.15,2,   1.894,2,   0.941,2,   0.084,3,    0.00,3,  -999.0,9,  -999.0,9,-999.0000,9,  -999.00,-999.000,9,-999.0000,9, -999.00,9,   3.3287,2, -999.00,9,  -999.0,9,  -999.0,-999.000,9,-999.000,   1.360,3, -999.00,9,    43.7,2,   20.87,2,  41.2914, -52.1849,-999.000,-999.0000, -999.00,   3.1359,   3.3287,2,    35.1000,2,  -999.0,9,     -999.0,9,     -999.0,9,     -999.0,9,       2350
33AT20120419,        A20,      69,          1,         10,         10,2,20120509,       2254,    41.2917,   -52.1852,       5108,  2620.4,   3.1545,  34.9293,2,  34.9297,2,    270.3,2,   270.3,2,   15.22,2,   17.20,2,    0.00,2,    1.14,2,   1.877,2,   0.939,2,   0.081,3,    0.00,3,  2161.5,2,  2309.1,6,-999.0000,9,  -999.00,-999.000,9,-999.0000,9, -999.00,9,   3.1545,2, -999.00,9,  -999.0,9,  -999.0,-999.000,9,-999.000,   1.250,3, -999.00,9,      43,2,   20.63,2,  41.2912, -52.1848,-999.000,-999.0000, -999.00,   2.9397,   3.1545,2,    35.0945,2,  -999.0,9,     -999.0,9,     -999.0,9,     -999.0,9,       2345
33AT20120419,        A20,      69,          1,          9,          9,2,20120509,       2254,    41.2917,   -52.1852,       5108,  2870.0,   2.9586,  34.9236,2,  34.9237,2,    271.5,2,   271.8,2,   16.06,2,   17.03,2,    0.00,2,    1.14,2,   1.879,2,   0.956,2,   0.083,3,    0.00,3,  -999.0,9,  -999.0,9,-999.0000,9,  -999.00,-999.000,9,-999.0000,9, -999.00,9,   2.9585,2, -999.00,9,  -999.0,9,  -999.0,-999.000,9,-999.000,   1.240,3, -999.00,9,   44.36,2,   20.24,2,  41.2912, -52.1848,-999.000,-999.0000, -999.00,   2.7223,   2.9585,2,    35.0883,2,  -999.0,9,     -999.0,9,     -999.0,9,     -999.0,9,       2340
33AT20120419,        A20,      69,          1,          8,          8,2,20120509,       2254,    41.2917,   -52.1852,       5108,  3147.8,   2.7645,  34.9224,2,  34.9229,2,    267.6,2,   268.4,2,   20.25,2,   17.66,2,    0.00,2,    1.19,2,   1.196,2,   0.609,2,   0.051,3,    0.00,3,  -999.0,9,  -999.0,9,-999.0000,9,  -999.00,-999.000,9,-999.0000,9, -999.00,9,   2.7646,2, -999.00,9,  -999.0,9,  -999.0,-999.000,9,-999.000,   0.880,3, -999.00,9,   44.95,2,   20.68,2,  41.2912, -52.1848,-999.000,-999.0000, -999.00,   2.5034,   2.7646,2,    35.0875,2,  -999.0,9,     -999.0,9,     -999.0,9,     -999.0,9,       2334
33AT20120419,        A20,      69,          1,          7,          7,2,20120509,       2254,    41.2917,   -52.1852,       5108,  3449.9,   2.5498,  34.9107,2,  34.9117,2,    269.0,2,   269.6,2,   22.13,2,   17.69,2,    0.00,2,    1.19,2,   1.200,2,   0.603,2,   0.061,3,    0.00,3,  -999.0,9,  -999.0,9,-999.0000,9,  -999.00,-999.000,9,-999.0000,9, -999.00,9,   2.5493,2, -999.00,9,  -999.0,9,  -999.0,-999.000,9,-999.000,   0.990,3, -999.00,9,   43.22,2,   21.49,2,  41.2912, -52.1848,-999.000,-999.0000, -999.00,   2.2615,   2.5493,2,    35.0763,2,  -999.0,9,     -999.0,9,     -999.0,9,     -999.0,9,       2329