BOTTLE,20220712CCHSIOCBG
EXPOCODE,SECT_ID,STNNBR,CASTNO,SAMPNO,BTLNBR,BTLNBR_FLAG_W,DATE,TIME,LATITUDE,LONGITUDE,DEPTH,CTDPRS,CTDTMP,CTDSAL,CTDSAL_FLAG_W,SALNTY,SALNTY_FLAG_W,CTDOXY,CTDOXY_FLAG_W,OXYGEN,OXYGEN_FLAG_W,SILCAT,SILCAT_FLAG_W,NITRAT,NITRAT_FLAG_W,NITRIT,NITRIT_FLAG_W,PHSPHT,PHSPHT_FLAG_W,CFC-11,CFC-11_FLAG_W,CFC-12,CFC-12_FLAG_W,CFC113,CFC113_FLAG_W,SF6,SF6_FLAG_W,TCARBN,TCARBN_FLAG_W,ALKALI,ALKALI_FLAG_W,PH_TOT,PH_TOT_FLAG_W,PH_TMP,TRITUM,TRITUM_FLAG_W,HELIUM,HELIUM_FLAG_W,DELHE3,DELHE3_FLAG_W,REFTMP,REFTMP_FLAG_W,DELC13,DELC13_FLAG_W,DELC14,DELC14_FLAG_W,C14ERR,NEON,NEON_FLAG_W,NEONER,CCL4,CCL4_FLAG_W,DELO18,DELO18_FLAG_W,DOC,DOC_FLAG_W,TDN,TDN_FLAG_W,BTL_LAT,BTL_LON,TRITER,HELIER,DELHER,THETA,SBE35,SBE35_FLAG_W,SALTREF,SALTREF_FLAG_W,14C-DOC,14C-DOC_FLAG_W,DELO17,DELO17_FLAG_W,O2/AR,O2/AR_FLAG_W,SIP,SIP_FLAG_W,BTL_TIME
,,,,,,,,,,,METERS,DBAR,ITS-90,PSS-78,,PSS-78,,UMOL/KG,,UMOL/KG,,UMOL/KG,,UMOL/KG,,UMOL/KG,,UMOL/KG,,PMOL/KG,,PMOL/KG,,PMOL/KG,,FMOL/KG,,UMOL/KG,,UMOL/KG,,,,DEG C,TU,,NMOL/KG,,PERCNT,,DEG C,,/MILLE,,/MILLE,,/MILLE,NMOL/KG,,NMOL/KG,PMOL/KG,,/MILLE,,UMOL/KG,,UMOL/KG,,,,TU,NMOL/KG,PERCNT,DEG C,ITS-90,,G/KG,,/MILLE,,/MILLE,,,,,,
33AT20120419,        A20,      19,          1,          6,          6,2,20120424,       0400,     9.2523,   -52.4078,       4770,  3240.4,   2.6623,  34.9210,2,  34.9213,2,    259.4,2,   259.5,2,   27.99,2,   19.16,2,    0.00,2,    1.29,2,   0.352,2,   0.192,2,   0.016,2,    0.00,3,  2171.0,2,  2329.0,2,   7.7380,2,    25.00,-999.000,9,-999.0000,9, -999.00,9,   2.6628,2, -999.00,9,  -999.0,9,  -999.0,-999.000,9,-999.000,   0.360,2, -999.00,9,   41.33,2,   22.53,2,   9.2524, -52.4078,-999.000,-999.0000, -999.00,   2.3937,   2.6628,2,    35.0860,2,  -999.0,9,     -999.0,9,     -999.0,9,     -999.0,9,       0434
33AT20120419,        A20,      19,          1,          5,          5,2,20120424,       0400,     9.2523,   -52.4078,       4770,  3545.7,   2.4934,  34.9085,2,  34.9089,2,    259.3,2,   261.0,2,   30.13,2,   19.21,2,    0.00,2,    1.29,2,   0.384,2,   0.215,2,   0.021,2,    0.00,3,  -999.0,9,  -999.0,9,-999.0000,9,  -999.00,-999.000,9,-999.0000,9, -999.00,9,   2.4937,2, -999.00,9,  -999.0,9,  -999.0,-999.000,9,-999.000,   0.390,2, -999.00,9,   40.69,2,   22.21,2,   9.2523, -52.4079,-999.000,-999.0000, -999.00,   2.1961,   2.4937,2,    35.0735,2,  -999.0,9,     -999.0,9,     -999.0,9,     -999.0,9,       0428
33AT20120419,        A20,      19,          1,          4,          4,2,20120424,       0400,     9.2523,   -52.4078,       4770,  3853.6,   2.3552,  34.8980,2,  34.8985,2,    263.5,2,   262.8,2,   31.21,2,   19.08,2,    0.00,2,    1.29,2,   0.410,2,   0.223,2,   0.028,2,    0.00,3,  2172.1,2,  2330.8,6,   7.7363,2,    25.00,-999.000,9,-999.0000,9, -999.00,9,   2.3548,2, -999.00,9,  -999.0,9,  -999.0,-999.000,9,-999.000,   0.440,2, -999.00,9,   40.87,2,   21.65,2,   9.2522, -52.4079,-999.000,-999.0000, -999.00,   2.0275,   2.3548,2,    35.0630,2,  -999.0,9,     -999.0,9,     -999.0,9,     -999.0,9,       0421
33AT20120419,        A20,      19,          1,          3,          3,2,20120424,       0400,     9.2523,   -52.4078,       4770,  4161.1,   2.2701,  34.8896,2,  34.8896,2,    262.7,2,   262.4,2,   33.41,2,   19.25,2,    0.00,2,    1.30,2,   0.396,2,   0.220,2,   0.028,2,    0.00,3,  -999.0,9,  -999.0,9,-999.0000,9,  -999.00,-999.000,9,-999.0000,9, -999.00,9,   2.2696,2, -999.00,9,  -999.0,9,  -999.0,-999.000,9,-999.000,   0.440,2, -999.00,9,   41.37,2,   21.78,2,   9.2523, -52.4079,-999.000,-999.0000, -999.00,   1.9098,   2.2696,2,    35.0541,2,  -999.0,9,     -999.0,9,     -999.0,9,     -999.0,9,       0414
33AT20120419,        A20,      19,          1,          2,          2,2,20120424,       0400,     9.2523,   -52.4078,       4770,  4467.6,   2.1716,  34.8754,2,  34.8755,2,    257.8,2,   258.2,2,   40.61,2,   20.38,2,    0.00,2,    1.38,2,   0.289,2,   0.170,2,   0.022,2,    0.00,3,  2183.7,2,  2340.6,2,   7.7288,6,    25.00,-999.000,9,-999.0000,9, -999.00,9,   2.1713,2, -999.00,9,  -999.0,9,  -999.0,-999.000,9,-999.000,   0.340,2, -999.00,9,   40.54,2,   22.65,2,   9.2523, -52.4079,-999.000,-999.0000, -999.00,   1.7783,   2.1713,2,    35.0399,2,  -999.0,9,     -999.0,9,     -999.0,9,     -999.0,9,       0408
33AT20120419,        A20,      19,          1,          1,          1,2,20120424,       0400,     9.2523,   -52.4078,       4770,  4831.3,   1.7373,  34.8181,2,  34.8184,2,    240.4,2,   240.8,2,   68.50,2,   24.61,2,    0.00,2,    1.68,2,   0.139,2,   0.081,2,   0.010,2,    0.00,3,  2215.5,6,  2357.3,2,   7.6943,2,    25.00,-999.000,9,-999.0000,9, -999.00,9,   1.7370,2, -999.00,9,  -999.0,9,  -999.0,-999.000,9,-999.000,   0.180,2, -999.00,9,   40.68,2,   27.51,2,   9.2523, -52.4078,-999.000,-999.0000, -999.00,   1.3146,   1.7370,2,    34.9826,2,  -999.0,9,     -999.0,9,     -999.0,9,     -999.0,9,       0401