BOTTLE,20220712CCHSIOCBG
EXPOCODE,SECT_ID,STNNBR,CASTNO,SAMPNO,BTLNBR,BTLNBR_FLAG_W,DATE,TIME,LATITUDE,LONGITUDE,DEPTH,CTDPRS,CTDTMP,CTDSAL,CTDSAL_FLAG_W,SALNTY,SALNTY_FLAG_W,CTDOXY,CTDOXY_FLAG_W,OXYGEN,OXYGEN_FLAG_W,SILCAT,SILCAT_FLAG_W,NITRAT,NITRAT_FLAG_W,NITRIT,NITRIT_FLAG_W,PHSPHT,PHSPHT_FLAG_W,CFC-11,CFC-11_FLAG_W,CFC-12,CFC-12_FLAG_W,CFC113,CFC113_FLAG_W,SF6,SF6_FLAG_W,TCARBN,TCARBN_FLAG_W,ALKALI,ALKALI_FLAG_W,PH_TOT,PH_TOT_FLAG_W,PH_TMP,TRITUM,TRITUM_FLAG_W,HELIUM,HELIUM_FLAG_W,DELHE3,DELHE3_FLAG_W,REFTMP,REFTMP_FLAG_W,DELC13,DELC13_FLAG_W,DELC14,DELC14_FLAG_W,C14ERR,NEON,NEON_FLAG_W,NEONER,CCL4,CCL4_FLAG_W,DELO18,DELO18_FLAG_W,DOC,DOC_FLAG_W,TDN,TDN_FLAG_W,BTL_LAT,BTL_LON,TRITER,HELIER,DELHER,THETA,SBE35,SBE35_FLAG_W,SALTREF,SALTREF_FLAG_W,14C-DOC,14C-DOC_FLAG_W,DELO17,DELO17_FLAG_W,O2/AR,O2/AR_FLAG_W,SIP,SIP_FLAG_W,BTL_TIME
,,,,,,,,,,,METERS,DBAR,ITS-90,PSS-78,,PSS-78,,UMOL/KG,,UMOL/KG,,UMOL/KG,,UMOL/KG,,UMOL/KG,,UMOL/KG,,PMOL/KG,,PMOL/KG,,PMOL/KG,,FMOL/KG,,UMOL/KG,,UMOL/KG,,,,DEG C,TU,,NMOL/KG,,PERCNT,,DEG C,,/MILLE,,/MILLE,,/MILLE,NMOL/KG,,NMOL/KG,PMOL/KG,,/MILLE,,UMOL/KG,,UMOL/KG,,,,TU,NMOL/KG,PERCNT,DEG C,ITS-90,,G/KG,,/MILLE,,/MILLE,,,,,,
33AT20120419,        A20,      48,          1,         36,         36,2,20120503,       0715,    27.4893,   -52.3327,       5875,     3.5,  23.4373,  36.8890,2,  36.8889,2,    216.1,2,   215.2,2,    0.05,2,    0.00,2,    0.00,2,    0.00,2,   1.915,2,   1.224,2,   0.165,2,    1.11,2,  2067.1,6,  2415.0,2,   8.0811,2,    25.00,-999.000,9,-999.0000,9, -999.00,9,  23.4276,2, -999.00,9,  -999.0,9,  -999.0,-999.000,9,-999.000,-999.000,9, -999.00,9, -999.00,9, -999.00,9,  27.4907, -52.3289,-999.000,-999.0000, -999.00,  23.4366,  23.4276,2,    37.0628,2,  -999.0,9,     -999.0,9,     -999.0,9,     -999.0,9,       0948
33AT20120419,        A20,      48,          1,         35,         35,2,20120503,       0715,    27.4893,   -52.3327,       5875,    34.9,  22.8000,  36.8390,2,  36.8395,2,    215.9,2,   216.4,2,    0.16,2,    0.00,2,    0.00,2,    0.00,2,   1.936,2,   1.191,2,   0.169,2,    1.23,2,  2063.6,2,  2413.0,2,   8.0834,6,    25.00,-999.000,9,-999.0000,9, -999.00,9,  22.7899,2, -999.00,9,  -999.0,9,  -999.0,-999.000,9,-999.000,-999.000,9, -999.00,9, -999.00,9, -999.00,9,  27.4907, -52.3289,-999.000,-999.0000, -999.00,  22.7929,  22.7899,2,    37.0132,2,  -999.0,9,     -999.0,9,     -999.0,9,     -999.0,9,       0945
33AT20120419,        A20,      48,          1,         34,         34,2,20120503,       0715,    27.4893,   -52.3327,       5875,    59.9,  22.5684,  36.8541,2,  36.8548,2,    216.5,2,   216.2,2,    0.06,2,    0.00,2,    0.00,2,    0.00,2,   1.943,2,   1.237,2,   0.165,2,    1.15,2,  2065.9,2,  2412.7,2,   8.0793,2,    25.00,-999.000,9,-999.0000,9, -999.00,9,  22.5705,2, -999.00,9,  -999.0,9,  -999.0,-999.000,9,-999.000,-999.000,9, -999.00,9, -999.00,9, -999.00,9,  27.4908, -52.3289,-999.000,-999.0000, -999.00,  22.5562,  22.5705,2,    37.0285,2,  -999.0,9,     -999.0,9,     -999.0,9,     -999.0,9,       0942
33AT20120419,        A20,      48,          1,         33,         33,2,20120503,       0715,    27.4893,   -52.3327,       5875,    84.2,  22.2321,  36.9256,2,  36.9298,2,    215.9,2,   216.6,2,    0.05,2,    0.00,2,    0.00,2,    0.00,2,   1.965,2,   1.232,2,   0.163,2,    1.10,2,  -999.0,9,  -999.0,9,-999.0000,9,  -999.00,-999.000,9,-999.0000,9, -999.00,9,  22.2243,2, -999.00,9,  -999.0,9,  -999.0,-999.000,9,-999.000,-999.000,9, -999.00,9, -999.00,9, -999.00,9,  27.4908, -52.3290,-999.000,-999.0000, -999.00,  22.2152,  22.2243,2,    37.1039,2,  -999.0,9,     -999.0,9,     -999.0,9,     -999.0,1,       0940
33AT20120419,        A20,      48,          1,         32,         32,2,20120503,       0715,    27.4893,   -52.3327,       5875,   118.9,  21.2213,  36.8476,2,  36.8472,2,    218.6,2,   217.6,2,    0.00,2,    0.00,2,    0.00,2,    0.00,2,   2.038,2,   1.273,2,   0.166,2,    1.16,2,  2085.5,2,  2409.9,2,   8.0501,6,    25.00,-999.000,9,-999.0000,9, -999.00,9,  21.2110,2, -999.00,9,  -999.0,9,  -999.0,-999.000,9,-999.000,-999.000,9, -999.00,9, -999.00,9, -999.00,9,  27.4908, -52.3291,-999.000,-999.0000, -999.00,  21.1982,  21.2110,2,    37.0210,2,  -999.0,9,     -999.0,9,     -999.0,9,     -999.0,9,       0936
33AT20120419,        A20,      48,          1,         31,         31,2,20120503,       0715,    27.4893,   -52.3327,       5875,   170.3,  19.6951,  36.7243,2,  36.7238,2,    195.3,2,   196.3,2,    0.08,2,    0.61,2,    0.04,2,    0.00,2,   2.205,2,   1.384,2,   0.107,2,    1.17,2,  2111.6,2,  2402.0,2,   7.9914,2,    25.00,-999.000,9,-999.0000,9, -999.00,9,  19.6305,2, -999.00,9,  -999.0,9,  -999.0,-999.000,9,-999.000,-999.000,9, -999.00,9, -999.00,9, -999.00,9,  27.4909, -52.3292,-999.000,-999.0000, -999.00,  19.6636,  19.6305,2,    36.8970,2,  -999.0,9,     -999.0,9,     -999.0,9,     -999.0,9,       0932
33AT20120419,        A20,      48,          1,         30,         30,2,20120503,       0715,    27.4893,   -52.3327,       5875,   213.0,  18.4469,  36.5918,2,  36.5947,2,    194.5,2,   194.4,2,    0.44,2,    2.79,2,    0.02,2,    0.10,2,   2.268,2,   1.397,2,   0.046,2,    1.23,2,  2118.5,2,  2394.3,2,   7.9680,2,    25.00,-999.000,9,-999.0000,9, -999.00,9,  18.4509,2, -999.00,9,  -999.0,9,  -999.0,-999.000,9,-999.000,-999.000,9, -999.00,9, -999.00,9, -999.00,9,  27.4910, -52.3293,-999.000,-999.0000, -999.00,  18.4093,  18.4509,2,    36.7673,2,  -999.0,9,     -999.0,9,     -999.0,9,     -999.0,9,       0929
33AT20120419,        A20,      48,          1,         29,         29,2,20120503,       0715,    27.4893,   -52.3327,       5875,   265.5,  17.9975,  36.5465,2,  36.5477,2,    200.6,2,   200.7,2,    0.64,2,    3.84,2,    0.01,2,    0.18,2,   2.314,2,   1.413,2,   0.040,2,    1.12,2,  2115.1,2,  2389.4,2,   7.9678,2,    25.00,-999.000,9,-999.0000,9, -999.00,9,  17.9966,2, -999.00,9,  -999.0,9,  -999.0,-999.000,9,-999.000,-999.000,9, -999.00,9, -999.00,9, -999.00,9,  27.4910, -52.3295,-999.000,-999.0000, -999.00,  17.9514,  17.9966,2,    36.7201,2,  -999.0,9,     -999.0,9,     -999.0,9,     -999.0,9,       0927
33AT20120419,        A20,      48,          1,         28,         28,2,20120503,       0715,    27.4893,   -52.3327,       5875,   315.4,  17.7495,  36.5242,2,  36.5245,2,    203.5,2,   204.6,2,    0.75,2,    4.05,2,    0.01,2,    0.19,2,   2.361,2,   1.465,2,   0.045,2,    1.14,2,  2115.0,2,  2390.1,2,   7.9666,2,    25.00,-999.000,9,-999.0000,9, -999.00,9,  17.7559,2, -999.00,9,  -999.0,9,  -999.0,-999.000,9,-999.000,-999.000,9, -999.00,9, -999.00,9, -999.00,9,  27.4910, -52.3296,-999.000,-999.0000, -999.00,  17.6952,  17.7559,2,    36.6968,2,  -999.0,9,     -999.0,9,     -999.0,9,     -999.0,9,       0925
33AT20120419,        A20,      48,          1,         27,         27,2,20120503,       0715,    27.4893,   -52.3327,       5875,   366.1,  17.5576,  36.4988,2,  36.4952,2,    206.3,2,   206.7,2,    0.91,2,    4.26,2,    0.01,2,    0.21,2,   2.357,2,   1.457,2,   0.051,2,    1.13,2,  -999.0,9,  -999.0,9,-999.0000,9,  -999.00,-999.000,9,-999.0000,9, -999.00,9,  17.5550,2, -999.00,9,  -999.0,9,  -999.0,-999.000,9,-999.000,-999.000,9, -999.00,9, -999.00,9, -999.00,9,  27.4911, -52.3297,-999.000,-999.0000, -999.00,  17.4949,  17.5550,2,    36.6673,2,  -999.0,9,     -999.0,9,     -999.0,9,     -999.0,9,       0922
33AT20120419,        A20,      48,          1,         26,         26,2,20120503,       0715,    27.4893,   -52.3327,       5875,   436.6,  17.0530,  36.4031,2,  36.4003,2,    203.1,2,   203.4,2,    1.36,2,    5.44,2,    0.01,2,    0.29,2,   2.368,2,   1.424,2,   0.044,2,    1.12,2,  2121.6,2,  2381.9,6,   7.9467,2,    25.00,-999.000,9,-999.0000,9, -999.00,9,  17.0607,2, -999.00,9,  -999.0,9,  -999.0,-999.000,9,-999.000,-999.000,9, -999.00,9, -999.00,9, -999.00,9,  27.4911, -52.3299,-999.000,-999.0000, -999.00,  16.9796,  17.0607,2,    36.5720,2,  -999.0,9,     -999.0,9,     -999.0,9,     -999.0,9,       0920
33AT20120419,        A20,      48,          1,         25,         25,2,20120503,       0715,    27.4893,   -52.3327,       5875,   541.2,  15.4022,  36.0853,2,  36.0702,2,    189.3,2,   188.8,2,    2.80,2,    9.38,2,    0.01,2,    0.55,2,   2.447,2,   1.458,2,   0.046,2,    1.02,2,  -999.0,9,  -999.0,9,-999.0000,9,  -999.00,-999.000,9,-999.0000,9, -999.00,9,  15.4005,2, -999.00,9,  -999.0,9,  -999.0,-999.000,9,-999.000,-999.000,9, -999.00,9, -999.00,9, -999.00,9,  27.4911, -52.3301,-999.000,-999.0000, -999.00,  15.3172,  15.4005,2,    36.2403,2,  -999.0,9,     -999.0,9,     -999.0,9,     -999.0,9,       0917
33AT20120419,        A20,      48,          1,         24,         24,2,20120503,       0715,    27.4893,   -52.3327,       5875,   637.8,  13.3290,  35.7625,2,  35.7530,2,    169.6,2,   163.8,2,    5.56,2,   15.27,2,    0.01,2,    0.92,2,   2.148,2,   1.214,2,   0.030,2,    0.69,2,  2158.8,2,  2347.4,2,   7.8049,6,    25.00,-999.000,9,-999.0000,9, -999.00,9,  13.3231,2, -999.00,9,  -999.0,9,  -999.0,-999.000,9,-999.000,-999.000,9, -999.00,9, -999.00,9, -999.00,9,  27.4911, -52.3302,-999.000,-999.0000, -999.00,  13.2378,  13.3231,2,    35.9216,2,  -999.0,9,     -999.0,9,     -999.0,9,     -999.0,9,       0914
33AT20120419,        A20,      48,          1,         23,         23,2,20120503,       0715,    27.4893,   -52.3327,       5875,   739.0,  11.2601,  35.4904,2,  35.4826,2,    159.4,2,   158.0,2,    8.67,2,   19.33,2,    0.01,2,    1.18,2,   1.720,2,   0.913,2,   0.027,2,    0.56,2,  2174.5,2,  2334.4,2,   7.7482,2,    25.00,-999.000,9,-999.0000,9, -999.00,9,  11.2632,2, -999.00,9,  -999.0,9,  -999.0,-999.000,9,-999.000,-999.000,9, -999.00,9, -999.00,9, -999.00,9,  27.4911, -52.3304,-999.000,-999.0000, -999.00,  11.1649,  11.2632,2,    35.6499,2,  -999.0,9,     -999.0,9,     -999.0,9,     -999.0,9,       0910
33AT20120419,        A20,      48,          1,         22,         22,2,20120503,       0715,    27.4893,   -52.3327,       5875,   844.1,   8.9626,  35.2170,2,  35.2157,2,    149.3,2,   149.2,2,   13.53,2,   24.18,2,    0.00,2,    1.51,2,   1.017,2,   0.512,2,   0.015,2,    0.25,2,  2189.8,2,  2324.9,2,   7.6851,2,    25.00,-999.000,9,-999.0000,9, -999.00,9,   8.9641,2, -999.00,9,  -999.0,9,  -999.0,-999.000,9,-999.000,-999.000,9, -999.00,9, -999.00,9, -999.00,9,  27.4912, -52.3305,-999.000,-999.0000, -999.00,   8.8675,   8.9641,2,    35.3818,2,  -999.0,9,     -999.0,9,     -999.0,9,     -999.0,1,       0907
33AT20120419,        A20,      48,          1,         21,         21,2,20120503,       0715,    27.4893,   -52.3327,       5875,   941.0,   7.7188,  35.1399,2,  35.1407,2,    159.4,2,   159.3,2,   15.31,2,   24.72,2,    0.00,2,    1.57,2,   0.759,2,   0.370,2,   0.012,2,    0.17,2,  2191.7,6,  2323.7,2,   7.6760,2,    25.00,-999.000,9,-999.0000,9, -999.00,9,   7.7161,2, -999.00,9,  -999.0,9,  -999.0,-999.000,9,-999.000,-999.000,9, -999.00,9, -999.00,9, -999.00,9,  27.4911, -52.3306,-999.000,-999.0000, -999.00,   7.6208,   7.7161,2,    35.3064,2,  -999.0,9,     -999.0,9,     -999.0,9,     -999.0,9,       0904
33AT20120419,        A20,      48,          1,         20,         20,2,20120503,       0715,    27.4893,   -52.3327,       5875,  1045.0,   6.8855,  35.1112,2,  35.1113,2,    173.6,2,   174.7,2,   15.78,2,   24.07,2,    0.00,2,    1.55,2,   0.696,2,   0.339,2,   0.014,2,    0.12,2,  2189.9,2,  2322.9,2,   7.6817,2,    25.00,-999.000,9,-999.0000,9, -999.00,9,   6.8972,2, -999.00,9,  -999.0,9,  -999.0,-999.000,9,-999.000,-999.000,9, -999.00,9, -999.00,9, -999.00,9,  27.4911, -52.3307,-999.000,-999.0000, -999.00,   6.7824,   6.8972,2,    35.2769,2,  -999.0,9,     -999.0,9,     -999.0,9,     -999.0,9,       0901
33AT20120419,        A20,      48,          1,         19,         19,2,20120503,       0715,    27.4893,   -52.3327,       5875,  1146.8,   6.2794,  35.1166,2,  35.1163,2,    193.4,2,   195.2,2,   14.63,2,   22.15,2,    0.00,2,    1.44,2,   0.880,2,   0.431,2,   0.023,2,    0.17,2,  2183.0,2,  2322.8,2,   7.6976,2,    25.00,-999.000,9,-999.0000,9, -999.00,9,   6.2744,2, -999.00,9,  -999.0,9,  -999.0,-999.000,9,-999.000,-999.000,9, -999.00,9, -999.00,9, -999.00,9,  27.4911, -52.3308,-999.000,-999.0000, -999.00,   6.1706,   6.2744,2,    35.2818,2,  -999.0,9,     -999.0,9,     -999.0,9,     -999.0,9,       0858
33AT20120419,        A20,      48,          1,         18,         18,2,20120503,       0715,    27.4893,   -52.3327,       5875,  1248.3,   5.8167,  35.1266,2,  35.1273,2,    209.2,2,   210.7,2,   14.31,2,   20.86,2,    0.00,2,    1.37,2,   0.967,2,   0.459,2,   0.027,2,    0.23,2,  2178.3,2,  2323.1,2,   7.7116,2,    25.00,-999.000,9,-999.0000,9, -999.00,9,   5.8165,2, -999.00,9,  -999.0,9,  -999.0,-999.000,9,-999.000,-999.000,9, -999.00,9, -999.00,9, -999.00,9,  27.4911, -52.3310,-999.000,-999.0000, -999.00,   5.7016,   5.8165,2,    35.2929,2,  -999.0,9,     -999.0,9,     -999.0,9,     -999.0,9,       0855
33AT20120419,        A20,      48,          1,         17,         17,2,20120503,       0715,    27.4893,   -52.3327,       5875,  1348.6,   5.4228,  35.1205,2,  35.1212,2,    223.0,2,   223.0,2,   13.86,2,   20.11,2,    0.00,2,    1.31,2,   1.028,2,   0.507,2,   0.038,2,    0.23,2,  -999.0,9,  -999.0,9,-999.0000,9,  -999.00,-999.000,9,-999.0000,9, -999.00,9,   5.4223,2, -999.00,9,  -999.0,9,  -999.0,-999.000,9,-999.000,-999.000,9, -999.00,9, -999.00,9, -999.00,9,  27.4911, -52.3311,-999.000,-999.0000, -999.00,   5.3015,   5.4223,2,    35.2868,2,  -999.0,9,     -999.0,9,     -999.0,9,     -999.0,9,       0852
33AT20120419,        A20,      48,          1,         16,         16,2,20120503,       0715,    27.4893,   -52.3327,       5875,  1475.5,   5.1244,  35.1184,2,  35.1192,2,    230.3,2,   229.1,2,   14.43,2,   19.79,2,    0.00,2,    1.29,2,   0.893,2,   0.417,2,   0.032,2,    0.15,2,  2172.2,2,  2322.8,2,   7.7280,2,    25.00,-999.000,9,-999.0000,9, -999.00,9,   5.1267,2, -999.00,9,  -999.0,9,  -999.0,-999.000,9,-999.000,-999.000,9, -999.00,9, -999.00,9, -999.00,9,  27.4910, -52.3313,-999.000,-999.0000, -999.00,   4.9936,   5.1267,2,    35.2848,2,  -999.0,9,     -999.0,9,     -999.0,9,     -999.0,9,       0849
33AT20120419,        A20,      48,          1,         15,         15,2,20120503,       0715,    27.4893,   -52.3327,       5875,  1681.6,   4.4941,  35.0747,2,  35.0759,2,    241.5,2,   241.1,2,   15.55,2,   19.25,2,    0.00,2,    1.25,2,   0.810,2,   0.372,2,   0.024,2,    0.12,2,  2169.5,2,  2322.3,2,   7.7333,2,    25.00,-999.000,9,-999.0000,9, -999.00,9,   4.4940,2, -999.00,9,  -999.0,9,  -999.0,-999.000,9,-999.000,-999.000,9, -999.00,9, -999.00,9, -999.00,9,  27.4909, -52.3315,-999.000,-999.0000, -999.00,   4.3506,   4.4940,2,    35.2413,2,  -999.0,9,     -999.0,9,     -999.0,9,     -999.0,9,       0844
33AT20120419,        A20,      48,          1,         14,         14,2,20120503,       0715,    27.4893,   -52.3327,       5875,  1881.3,   4.0158,  35.0373,2,  35.0392,2,    246.8,2,   247.4,2,   17.70,2,   19.14,2,    0.00,2,    1.26,2,   0.635,2,   0.289,2,   0.021,2,    0.12,2,  2167.5,2,  2324.0,2,   7.7367,2,    25.00,-999.000,9,-999.0000,9, -999.00,9,   4.0157,2, -999.00,9,  -999.0,9,  -999.0,-999.000,9,-999.000,-999.000,9, -999.00,9, -999.00,9, -999.00,9,  27.4908, -52.3317,-999.000,-999.0000, -999.00,   3.8594,   4.0157,2,    35.2045,2,  -999.0,9,     -999.0,9,     -999.0,9,     -999.0,9,       0839
33AT20120419,        A20,      48,          1,         13,         13,2,20120503,       0715,    27.4893,   -52.3327,       5875,  2108.3,   3.6634,  35.0111,2,  35.0123,2,    248.1,2,   248.8,2,   20.98,2,   19.42,2,    0.00,2,    1.28,2,   0.389,2,   0.164,2,   0.013,2,    0.07,2,  2171.1,2,  2325.5,2,   7.7386,2,    25.00,-999.000,9,-999.0000,9, -999.00,9,   3.6629,2, -999.00,9,  -999.0,9,  -999.0,-999.000,9,-999.000,-999.000,9, -999.00,9, -999.00,9, -999.00,9,  27.4907, -52.3319,-999.000,-999.0000, -999.00,   3.4902,   3.6629,2,    35.1774,2,  -999.0,9,     -999.0,9,     -999.0,9,     -999.0,9,       0834
33AT20120419,        A20,      48,          1,         12,         12,2,20120503,       0715,    27.4893,   -52.3327,       5875,  2359.7,   3.3266,  34.9829,2,  34.9835,2,    249.8,2,   249.6,2,   24.65,2,   19.74,2,    0.00,2,    1.31,2,   0.242,2,   0.102,2,   0.006,2,    0.04,2,  -999.0,9,  -999.0,9,-999.0000,9,  -999.00,-999.000,9,-999.0000,9, -999.00,9,   3.3272,2, -999.00,9,  -999.0,9,  -999.0,-999.000,9,-999.000,-999.000,9, -999.00,9, -999.00,9, -999.00,9,  27.4905, -52.3321,-999.000,-999.0000, -999.00,   3.1344,   3.3272,2,    35.1485,2,  -999.0,9,     -999.0,9,     -999.0,9,     -999.0,1,       0828
33AT20120419,        A20,      48,          1,         11,         11,2,20120503,       0715,    27.4893,   -52.3327,       5875,  2609.8,   3.1055,  34.9637,2,  34.9644,2,    250.3,2,   250.2,2,   27.69,2,   20.04,2,    0.00,2,    1.33,2,-999.000,9,-999.000,9,-999.000,9, -999.00,9,  2176.2,2,  2331.8,2,   7.7393,2,    25.00,-999.000,9,-999.0000,9, -999.00,9,   3.1054,2, -999.00,9,  -999.0,9,  -999.0,-999.000,9,-999.000,-999.000,9, -999.00,9, -999.00,9, -999.00,9,  27.4903, -52.3322,-999.000,-999.0000, -999.00,   2.8925,   3.1054,2,    35.1293,2,  -999.0,9,     -999.0,9,     -999.0,9,     -999.0,9,       0823
33AT20120419,        A20,      48,          1,         10,         10,2,20120503,       0715,    27.4893,   -52.3327,       5875,  2872.8,   2.9011,  34.9461,2,  34.9469,2,    250.7,2,   251.3,2,   30.41,2,   20.32,2,    0.00,2,    1.35,2,   0.087,2,   0.040,2,   0.003,2,    0.02,2,  2177.7,2,  2332.3,2,   7.7386,2,    25.00,-999.000,9,-999.0000,9, -999.00,9,   2.9014,2, -999.00,9,  -999.0,9,  -999.0,-999.000,9,-999.000,-999.000,9, -999.00,9, -999.00,9, -999.00,9,  27.4902, -52.3323,-999.000,-999.0000, -999.00,   2.6656,   2.9014,2,    35.1117,2,  -999.0,9,     -999.0,9,     -999.0,9,     -999.0,9,       0817
33AT20120419,        A20,      48,          1,          9,          9,2,20120503,       0715,    27.4893,   -52.3327,       5875,  3141.8,   2.7433,  34.9323,2,  34.9318,2,    252.9,2,   253.3,2,   31.81,2,   20.33,2,    0.00,2,    1.35,2,-999.000,9,-999.000,9,-999.000,9, -999.00,9,  -999.0,9,  -999.0,9,-999.0000,9,  -999.00,-999.000,9,-999.0000,9, -999.00,9,   2.7435,2, -999.00,9,  -999.0,9,  -999.0,-999.000,9,-999.000,-999.000,9, -999.00,9, -999.00,9, -999.00,9,  27.4900, -52.3324,-999.000,-999.0000, -999.00,   2.4833,   2.7435,2,    35.0965,2,  -999.0,9,     -999.0,9,     -999.0,9,     -999.0,9,       0812
33AT20120419,        A20,      48,          1,          8,          8,2,20120503,       0715,    27.4893,   -52.3327,       5875,  3444.1,   2.5636,  34.9173,2,  34.9176,2,    255.8,2,   256.4,2,   32.73,2,   20.15,2,    0.00,2,    1.34,2,   0.075,2,   0.032,2,   0.004,2,    0.00,2,  2175.6,2,  2331.8,2,   7.7400,2,    25.00,-999.000,9,-999.0000,9, -999.00,9,   2.5636,2, -999.00,9,  -999.0,9,  -999.0,-999.000,9,-999.000,-999.000,9, -999.00,9, -999.00,9, -999.00,9,  27.4898, -52.3325,-999.000,-999.0000, -999.00,   2.2756,   2.5636,2,    35.0823,2,  -999.0,9,     -999.0,9,     -999.0,9,     -999.0,9,       0805
33AT20120419,        A20,      48,          1,          7,          7,2,20120503,       0715,    27.4893,   -52.3327,       5875,  3753.6,   2.3705,  34.9006,2,  34.9011,2,    258.0,2,   258.0,2,   35.19,2,   20.20,2,    0.00,2,    1.36,2,-999.000,9,-999.000,9,-999.000,9, -999.00,9,  -999.0,9,  -999.0,9,-999.0000,9,  -999.00,-999.000,9,-999.0000,9, -999.00,9,   2.3705,2, -999.00,9,  -999.0,9,  -999.0,-999.000,9,-999.000,-999.000,9, -999.00,9, -999.00,9, -999.00,9,  27.4896, -52.3326,-999.000,-999.0000, -999.00,   2.0535,   2.3705,2,    35.0656,2,  -999.0,9,     -999.0,9,     -999.0,9,     -999.0,9,       0759