BOTTLE,20220712CCHSIOCBG
EXPOCODE,SECT_ID,STNNBR,CASTNO,SAMPNO,BTLNBR,BTLNBR_FLAG_W,DATE,TIME,LATITUDE,LONGITUDE,DEPTH,CTDPRS,CTDTMP,CTDSAL,CTDSAL_FLAG_W,SALNTY,SALNTY_FLAG_W,CTDOXY,CTDOXY_FLAG_W,OXYGEN,OXYGEN_FLAG_W,SILCAT,SILCAT_FLAG_W,NITRAT,NITRAT_FLAG_W,NITRIT,NITRIT_FLAG_W,PHSPHT,PHSPHT_FLAG_W,CFC-11,CFC-11_FLAG_W,CFC-12,CFC-12_FLAG_W,CFC113,CFC113_FLAG_W,SF6,SF6_FLAG_W,TCARBN,TCARBN_FLAG_W,ALKALI,ALKALI_FLAG_W,PH_TOT,PH_TOT_FLAG_W,PH_TMP,TRITUM,TRITUM_FLAG_W,HELIUM,HELIUM_FLAG_W,DELHE3,DELHE3_FLAG_W,REFTMP,REFTMP_FLAG_W,DELC13,DELC13_FLAG_W,DELC14,DELC14_FLAG_W,C14ERR,NEON,NEON_FLAG_W,NEONER,CCL4,CCL4_FLAG_W,DELO18,DELO18_FLAG_W,DOC,DOC_FLAG_W,TDN,TDN_FLAG_W,BTL_LAT,BTL_LON,TRITER,HELIER,DELHER,THETA,SBE35,SBE35_FLAG_W,SALTREF,SALTREF_FLAG_W,14C-DOC,14C-DOC_FLAG_W,DELO17,DELO17_FLAG_W,O2/AR,O2/AR_FLAG_W,SIP,SIP_FLAG_W,BTL_TIME
,,,,,,,,,,,METERS,DBAR,ITS-90,PSS-78,,PSS-78,,UMOL/KG,,UMOL/KG,,UMOL/KG,,UMOL/KG,,UMOL/KG,,UMOL/KG,,PMOL/KG,,PMOL/KG,,PMOL/KG,,FMOL/KG,,UMOL/KG,,UMOL/KG,,,,DEG C,TU,,NMOL/KG,,PERCNT,,DEG C,,/MILLE,,/MILLE,,/MILLE,NMOL/KG,,NMOL/KG,PMOL/KG,,/MILLE,,UMOL/KG,,UMOL/KG,,,,TU,NMOL/KG,PERCNT,DEG C,ITS-90,,G/KG,,/MILLE,,/MILLE,,,,,,
33AT20120419,        A20,      71,          1,          6,          6,2,20120510,       0919,    41.6741,   -51.8879,       4353,  3041.0,   2.8344,  34.9177,2,  34.9177,2,    273.7,2,   274.2,2,   15.53,2,   16.69,2,    0.00,2,    1.14,2,   2.054,2,   1.050,2,   0.097,3,    0.24,3,  2158.8,2,  2310.0,6,-999.0000,9,  -999.00,-999.000,9,-999.0000,9, -999.00,9,   2.8344,2, -999.00,9,  -999.0,9,  -999.0,-999.000,9,-999.000,   1.350,3, -999.00,9,   43.25,2,   19.42,2,  41.6738, -51.8879,-999.000,-999.0000, -999.00,   2.5830,   2.8344,2,    35.0824,2,  -999.0,9,     -999.0,9,     -999.0,9,     -999.0,9,       0950
33AT20120419,        A20,      71,          1,          5,          5,2,20120510,       0919,    41.6741,   -51.8879,       4353,  3345.9,   2.5508,  34.9079,2,  34.9059,2,    275.5,2,   275.6,2,   17.35,2,   16.63,2,    0.00,2,    1.14,2,   2.078,2,   1.044,2,   0.121,3,    0.49,3,  -999.0,9,  -999.0,9,-999.0000,9,  -999.00,-999.000,9,-999.0000,9, -999.00,9,   2.5507,2, -999.00,9,  -999.0,9,  -999.0,-999.000,9,-999.000,   1.450,3, -999.00,9,   43.75,2,   19.12,2,  41.6739, -51.8879,-999.000,-999.0000, -999.00,   2.2737,   2.5507,2,    35.0705,2,  -999.0,9,     -999.0,9,     -999.0,9,     -999.0,9,       0943
33AT20120419,        A20,      71,          1,          4,          4,2,20120510,       0919,    41.6741,   -51.8879,       4353,  3659.6,   2.3435,  34.8983,2,  34.8979,2,    274.6,2,   273.6,2,   21.54,2,   17.16,2,    0.00,2,    1.18,2,   1.755,2,   0.907,2,   0.107,3,    0.23,3,  -999.0,9,  -999.0,9,-999.0000,9,  -999.00,-999.000,9,-999.0000,9, -999.00,9,   2.3427,2, -999.00,9,  -999.0,9,  -999.0,-999.000,9,-999.000,   1.160,3, -999.00,9,   43.83,2,   19.53,2,  41.6739, -51.8879,-999.000,-999.0000, -999.00,   2.0376,   2.3427,2,    35.0624,2,  -999.0,9,     -999.0,9,     -999.0,9,     -999.0,9,       0937
33AT20120419,        A20,      71,          1,          3,          3,2,20120510,       0919,    41.6741,   -51.8879,       4353,  3963.4,   2.2563,  34.8929,2,  34.8930,2,    274.4,2,   275.0,2,   22.02,2,   17.04,2,    0.00,2,    1.17,2,   2.028,2,   1.035,2,   0.138,3,    0.43,3,  2166.2,2,  2318.2,2,-999.0000,9,  -999.00,-999.000,9,-999.0000,9, -999.00,9,   2.2563,2,    0.96,2,   -40.3,2,     1.9,-999.000,9,-999.000,   1.430,3, -999.00,9,   42.16,2,   19.81,2,  41.6740, -51.8879,-999.000,-999.0000, -999.00,   1.9190,   2.2563,2,    35.0575,2,  -999.0,9,     -999.0,9,     -999.0,9,     -999.0,9,       0931
33AT20120419,        A20,      71,          1,          2,          2,2,20120510,       0919,    41.6741,   -51.8879,       4353,  4188.0,   2.2477,  34.8906,2,  34.8912,2,    273.5,2,   274.1,2,   23.14,2,   17.21,2,    0.00,2,    1.19,2,   1.952,2,   1.027,2,   0.118,3,    0.30,3,  -999.0,9,  -999.0,9,-999.0000,9,  -999.00,-999.000,9,-999.0000,9, -999.00,9,   2.2472,2, -999.00,9,  -999.0,9,  -999.0,-999.000,9,-999.000,   1.240,3, -999.00,9,   43.49,2,   19.09,2,  41.6741, -51.8879,-999.000,-999.0000, -999.00,   1.8849,   2.2472,2,    35.0557,2,  -999.0,9,     -999.0,9,     -999.0,9,     -999.0,9,       0926
33AT20120419,        A20,      71,          1,          1,          1,2,20120510,       0919,    41.6741,   -51.8879,       4353,  4412.5,   2.2397,  34.8890,2,  34.8898,2,    273.7,2,   273.4,2,   23.94,2,   17.29,2,    0.00,2,    1.19,2,   1.986,2,   1.019,2,   0.120,3,    0.37,3,  2169.6,6,  2319.7,2,-999.0000,9,  -999.00,-999.000,9,-999.0000,9, -999.00,9,   2.2391,2, -999.00,9,  -999.0,9,  -999.0,-999.000,9,-999.000,   1.340,3, -999.00,9,   42.69,2,   19.37,2,  41.6741, -51.8879,-999.000,-999.0000, -999.00,   1.8508,   2.2391,2,    35.0543,2,  -999.0,9,     -999.0,9,     -999.0,9,     -999.0,1,       0921