BOTTLE,20220712CCHSIOCBG
EXPOCODE,SECT_ID,STNNBR,CASTNO,SAMPNO,BTLNBR,BTLNBR_FLAG_W,DATE,TIME,LATITUDE,LONGITUDE,DEPTH,CTDPRS,CTDTMP,CTDSAL,CTDSAL_FLAG_W,SALNTY,SALNTY_FLAG_W,CTDOXY,CTDOXY_FLAG_W,OXYGEN,OXYGEN_FLAG_W,SILCAT,SILCAT_FLAG_W,NITRAT,NITRAT_FLAG_W,NITRIT,NITRIT_FLAG_W,PHSPHT,PHSPHT_FLAG_W,CFC-11,CFC-11_FLAG_W,CFC-12,CFC-12_FLAG_W,CFC113,CFC113_FLAG_W,SF6,SF6_FLAG_W,TCARBN,TCARBN_FLAG_W,ALKALI,ALKALI_FLAG_W,PH_TOT,PH_TOT_FLAG_W,PH_TMP,TRITUM,TRITUM_FLAG_W,HELIUM,HELIUM_FLAG_W,DELHE3,DELHE3_FLAG_W,REFTMP,REFTMP_FLAG_W,DELC13,DELC13_FLAG_W,DELC14,DELC14_FLAG_W,C14ERR,NEON,NEON_FLAG_W,NEONER,CCL4,CCL4_FLAG_W,DELO18,DELO18_FLAG_W,DOC,DOC_FLAG_W,TDN,TDN_FLAG_W,BTL_LAT,BTL_LON,TRITER,HELIER,DELHER,THETA,SBE35,SBE35_FLAG_W,SALTREF,SALTREF_FLAG_W,14C-DOC,14C-DOC_FLAG_W,DELO17,DELO17_FLAG_W,O2/AR,O2/AR_FLAG_W,SIP,SIP_FLAG_W,BTL_TIME
,,,,,,,,,,,METERS,DBAR,ITS-90,PSS-78,,PSS-78,,UMOL/KG,,UMOL/KG,,UMOL/KG,,UMOL/KG,,UMOL/KG,,UMOL/KG,,PMOL/KG,,PMOL/KG,,PMOL/KG,,FMOL/KG,,UMOL/KG,,UMOL/KG,,,,DEG C,TU,,NMOL/KG,,PERCNT,,DEG C,,/MILLE,,/MILLE,,/MILLE,NMOL/KG,,NMOL/KG,PMOL/KG,,/MILLE,,UMOL/KG,,UMOL/KG,,,,TU,NMOL/KG,PERCNT,DEG C,ITS-90,,G/KG,,/MILLE,,/MILLE,,,,,,
33AT20120419,        A20,      11,          1,         24,         24,2,20120422,       1214,     7.9452,   -52.9967,       1234,     3.1,  27.9277,  26.0097,2,  26.0174,2,    234.7,2,   250.2,3,   17.70,2,    0.00,2,    0.00,2,    0.01,2,   1.528,2,   0.978,2,   0.124,2,    0.89,3,  1452.0,6,  1806.7,2,   8.3520,2,    25.00,-999.000,9,-999.0000,9, -999.00,9,  27.9274,2, -999.00,9,  -999.0,9,  -999.0,-999.000,9,-999.000,   1.070,2, -999.00,9, -999.00,9, -999.00,9,   7.9456, -52.9965,-999.000,-999.0000, -999.00,  27.9270,  27.9274,2,    26.1401,2,  -999.0,9,     -999.0,9,     -999.0,9,     -999.0,9,       1311
33AT20120419,        A20,      11,          1,         23,         23,2,20120422,       1214,     7.9452,   -52.9967,       1234,    26.1,  27.1453,  36.0204,2,  36.0198,2,    196.7,2,   197.0,2,    0.72,2,    0.00,2,    0.00,2,    0.01,2,   1.495,2,   0.977,2,   0.120,2,    0.57,3,  2019.9,2,  2361.1,2,   8.0926,2,    25.00,-999.000,9,-999.0000,9, -999.00,9,  27.1447,2, -999.00,9,  -999.0,9,  -999.0,-999.000,9,-999.000,   1.060,2, -999.00,9,   72.41,2,    4.47,2,   7.9456, -52.9965,-999.000,-999.0000, -999.00,  27.1393,  27.1447,2,    36.1897,2,  -999.0,9,     -999.0,9,     -999.0,9,     -999.0,9,       1309
33AT20120419,        A20,      11,          1,         22,         22,2,20120422,       1214,     7.9452,   -52.9967,       1234,    50.8,  26.8236,  36.1789,2,  36.1773,2,    200.1,2,   198.9,2,    0.62,2,    0.00,2,    0.00,2,    0.02,2,   1.532,2,   0.987,2,   0.120,2,    0.90,3,  -999.0,9,  -999.0,9,-999.0000,9,  -999.00,-999.000,9,-999.0000,9, -999.00,9,  26.8305,2, -999.00,9,  -999.0,9,  -999.0,-999.000,9,-999.000,   1.040,2, -999.00,9, -999.00,9, -999.00,9,   7.9455, -52.9965,-999.000,-999.0000, -999.00,  26.8120,  26.8305,2,    36.3479,2,  -999.0,9,     -999.0,9,     -999.0,9,     -999.0,9,       1307
33AT20120419,        A20,      11,          1,         21,         21,2,20120422,       1214,     7.9452,   -52.9967,       1234,    75.8,  26.1212,  36.2170,2,  36.2182,2,    201.7,2,   200.1,2,    0.61,2,    0.00,2,    0.00,2,    0.02,2,   1.564,2,   1.002,2,   0.117,2,    0.93,3,  2037.3,2,  2372.5,6,   8.0805,2,    25.00,-999.000,9,-999.0000,9, -999.00,9,  26.1216,2, -999.00,9,  -999.0,9,  -999.0,-999.000,9,-999.000,   1.000,2, -999.00,9,   69.85,2,    4.36,2,   7.9454, -52.9966,-999.000,-999.0000, -999.00,  26.1042,  26.1216,2,    36.3890,2,  -999.0,9,     -999.0,9,     -999.0,9,     -999.0,9,       1304
33AT20120419,        A20,      11,          1,         20,         20,2,20120422,       1214,     7.9452,   -52.9967,       1234,   100.9,  23.2120,  36.4789,2,  36.4879,2,    159.7,2,   153.0,2,    1.53,2,    4.25,2,    0.14,2,    0.28,2,   1.740,2,   1.076,2,   0.095,2,    0.72,3,  -999.0,9,  -999.0,9,-999.0000,9,  -999.00,-999.000,9,-999.0000,9, -999.00,9,  23.2953,2, -999.00,9,  -999.0,9,  -999.0,-999.000,9,-999.000,   0.400,2, -999.00,9,   60.35,2,    8.60,2,   7.9454, -52.9966,-999.000,-999.0000, -999.00,  23.1911,  23.2953,2,    36.6600,2,  -999.0,9,     -999.0,9,     -999.0,9,     -999.0,9,       1302
33AT20120419,        A20,      11,          1,         19,         19,2,20120422,       1214,     7.9452,   -52.9967,       1234,   126.1,  18.4306,  36.1487,2,  36.1537,2,    121.4,2,   153.0,4,    3.94,2,   13.59,2,    0.04,2,    0.83,2,   1.891,2,   1.117,2,   0.048,2,    0.63,3,  2173.3,2,  2367.7,2,   7.8196,2,    25.00,-999.000,9,-999.0000,9, -999.00,9,  18.4433,2, -999.00,9,  -999.0,9,  -999.0,-999.000,9,-999.000,   0.250,2, -999.00,9,   54.69,2,   16.90,2,   7.9453, -52.9966,-999.000,-999.0000, -999.00,  18.4085,  18.4433,2,    36.3242,2,  -999.0,9,     -999.0,9,     -999.0,9,     -999.0,9,       1300
33AT20120419,        A20,      11,          1,         18,         18,2,20120422,       1214,     7.9452,   -52.9967,       1234,   150.9,  16.3782,  36.0087,2,  35.9823,2,    122.9,2,   121.7,2,    5.25,2,   16.18,2,    0.02,2,    0.98,2,   1.983,2,   1.162,2,   0.019,2,    0.47,3,  -999.0,9,  -999.0,9,-999.0000,9,  -999.00,-999.000,9,-999.0000,9, -999.00,9,  16.3973,2, -999.00,9,  -999.0,9,  -999.0,-999.000,9,-999.000,   0.180,2, -999.00,9,    51.8,2,   19.63,2,   7.9453, -52.9967,-999.000,-999.0000, -999.00,  16.3538,  16.3973,2,    36.1519,2,  -999.0,9,     -999.0,9,     -999.0,9,     -999.0,9,       1258
33AT20120419,        A20,      11,          1,         17,         17,2,20120422,       1214,     7.9452,   -52.9967,       1234,   176.5,  13.2936,  35.5115,2,  35.4920,2,    121.3,2,   123.0,2,    8.13,2,   20.60,2,    0.01,2,    1.32,2,   1.933,2,   1.088,2,   0.018,2,    0.27,3,  2187.4,2,  2334.3,2,   7.7170,6,    25.00,-999.000,9,-999.0000,9, -999.00,9,  13.2831,2, -999.00,9,  -999.0,9,  -999.0,-999.000,9,-999.000,   0.240,2, -999.00,9,    48.8,2,   24.30,2,   7.9453, -52.9967,-999.000,-999.0000, -999.00,  13.2689,  13.2831,2,    35.6593,2,  -999.0,9,     -999.0,9,     -999.0,9,     -999.0,9,       1255
33AT20120419,        A20,      11,          1,         16,         16,2,20120422,       1214,     7.9452,   -52.9967,       1234,   201.7,  11.6531,  35.2510,2,  35.2383,2,    123.4,2,   123.7,2,    9.96,2,   23.09,2,    0.01,2,    1.49,2,   1.860,2,   1.037,2,   0.025,2,    0.28,3,  -999.0,9,  -999.0,9,-999.0000,9,  -999.00,-999.000,9,-999.0000,9, -999.00,9,  11.6543,2, -999.00,9,  -999.0,9,  -999.0,-999.000,9,-999.000,   0.270,2, -999.00,9,   47.85,2,   27.17,2,   7.9453, -52.9966,-999.000,-999.0000, -999.00,  11.6272,  11.6543,2,    35.4044,2,  -999.0,9,     -999.0,9,     -999.0,9,     -999.0,9,       1253
33AT20120419,        A20,      11,          1,         15,         15,2,20120422,       1214,     7.9452,   -52.9967,       1234,   226.2,  11.4779,  35.2515,2,  35.2440,2,    116.4,2,   114.4,2,   10.35,2,   24.34,2,    0.01,2,    1.55,2,   1.713,2,   0.947,2,   0.019,2,    0.22,3,  2198.0,2,  2320.9,2,   7.6604,2,    25.00,-999.000,9,-999.0000,9, -999.00,9,  11.4816,2, -999.00,9,  -999.0,9,  -999.0,-999.000,9,-999.000,   0.230,2, -999.00,9,   47.04,2,   27.89,2,   7.9453, -52.9966,-999.000,-999.0000, -999.00,  11.4491,  11.4816,2,    35.4102,2,  -999.0,9,     -999.0,9,     -999.0,9,     -999.0,9,       1252
33AT20120419,        A20,      11,          1,         14,         14,2,20120422,       1214,     7.9452,   -52.9967,       1234,   251.2,  10.5878,  35.1099,2,  35.1097,2,    115.1,2,   114.5,2,   11.69,2,   25.94,2,    0.00,2,    1.66,2,   1.624,2,   0.902,2,   0.023,2,    0.18,3,  -999.0,9,  -999.0,9,-999.0000,9,  -999.00,-999.000,9,-999.0000,9, -999.00,9,  10.5879,2, -999.00,9,  -999.0,9,  -999.0,-999.000,9,-999.000,   0.250,2, -999.00,9,   45.58,2,   30.10,2,   7.9453, -52.9966,-999.000,-999.0000, -999.00,  10.5575,  10.5879,2,    35.2752,2,  -999.0,9,     -999.0,9,     -999.0,9,     -999.0,9,       1250
33AT20120419,        A20,      11,          1,         13,         13,2,20120422,       1214,     7.9452,   -52.9967,       1234,   301.5,   9.3359,  34.8807,2,  34.8729,2,    118.7,2,   118.8,2,   13.80,2,   28.25,2,    0.00,2,    1.83,2,   1.511,2,   0.813,2,   0.026,2,    0.00,3,  2203.5,2,  2304.8,2,   7.6054,2,    25.00,-999.000,9,-999.0000,9, -999.00,9,   9.3373,2, -999.00,9,  -999.0,9,  -999.0,-999.000,9,-999.000,   0.320,2, -999.00,9,   45.33,2,   31.91,2,   7.9453, -52.9966,-999.000,-999.0000, -999.00,   9.3022,   9.3373,2,    35.0373,2,  -999.0,9,     -999.0,9,     -999.0,9,     -999.0,9,       1248
33AT20120419,        A20,      11,          1,         12,         12,2,20120422,       1214,     7.9452,   -52.9967,       1234,   351.8,   8.7875,  34.8139,2,  34.8115,2,    111.8,2,   111.3,2,   15.32,2,   30.23,2,    0.00,2,    1.95,2,   1.272,2,   0.677,2,   0.025,2,    0.00,3,  -999.0,9,  -999.0,9,-999.0000,9,  -999.00,-999.000,9,-999.0000,9, -999.00,9,   8.7873,2, -999.00,9,  -999.0,9,  -999.0,-999.000,9,-999.000,   0.290,2, -999.00,9,   44.84,2,   33.75,2,   7.9453, -52.9966,-999.000,-999.0000, -999.00,   8.7496,   8.7873,2,    34.9757,2,  -999.0,9,     -999.0,9,     -999.0,9,     -999.0,9,       1246
33AT20120419,        A20,      11,          1,         11,         11,2,20120422,       1214,     7.9452,   -52.9967,       1234,   402.9,   8.2624,  34.7584,2,  34.7571,2,    109.9,2,   113.1,2,   16.65,2,   31.11,2,    0.00,2,    2.03,2,   1.139,2,   0.616,2,   0.023,2,    0.00,3,  2215.0,2,  2301.0,2,   7.5664,2,    25.00,-999.000,9,-999.0000,9, -999.00,9,   8.2621,2, -999.00,9,  -999.0,9,  -999.0,-999.000,9,-999.000,   0.310,2, -999.00,9,   44.27,2,   34.79,2,   7.9453, -52.9966,-999.000,-999.0000, -999.00,   8.2204,   8.2621,2,    34.9210,2,  -999.0,9,     -999.0,9,     -999.0,9,     -999.0,9,       1243
33AT20120419,        A20,      11,          1,         10,         10,2,20120422,       1214,     7.9452,   -52.9967,       1234,   453.0,   7.6572,  34.6926,2,  34.6916,2,    122.9,2,   123.7,2,   17.74,2,   31.28,2,    0.00,2,    2.05,2,   1.108,2,   0.588,2,   0.026,2,    0.00,3,  -999.0,9,  -999.0,9,-999.0000,9,  -999.00,-999.000,9,-999.0000,9, -999.00,9,   7.6551,2, -999.00,9,  -999.0,9,  -999.0,-999.000,9,-999.000,   0.340,2, -999.00,9,   43.85,2,   33.67,2,   7.9453, -52.9966,-999.000,-999.0000, -999.00,   7.6120,   7.6551,2,    34.8552,2,  -999.0,9,     -999.0,9,     -999.0,9,     -999.0,9,       1241
33AT20120419,        A20,      11,          1,          9,          9,2,20120422,       1214,     7.9452,   -52.9967,       1234,   502.7,   7.2707,  34.6557,2,  34.6547,2,    124.7,2,   124.8,2,   19.15,2,   32.08,2,    0.00,2,    2.10,2,   0.982,2,   0.517,2,   0.024,2,    0.00,3,  2213.9,2,  2297.5,2,   7.5615,2,    25.00,-999.000,9,-999.0000,9, -999.00,9,   7.2688,2, -999.00,9,  -999.0,9,  -999.0,-999.000,9,-999.000,   0.340,2, -999.00,9,   43.28,2,   34.98,2,   7.9453, -52.9966,-999.000,-999.0000, -999.00,   7.2218,   7.2688,2,    34.8181,2,  -999.0,9,     -999.0,9,     -999.0,9,     -999.0,9,       1239
33AT20120419,        A20,      11,          1,          8,          8,2,20120422,       1214,     7.9452,   -52.9967,       1234,   604.2,   6.6082,  34.6157,2,  34.6125,2,    127.5,2,   128.3,2,   21.84,2,   33.05,2,    0.00,2,    2.19,2,   0.739,2,   0.401,2,   0.020,2,    0.00,3,  -999.0,9,  -999.0,9,-999.0000,9,  -999.00,-999.000,9,-999.0000,9, -999.00,9,   6.6095,2, -999.00,9,  -999.0,9,  -999.0,-999.000,9,-999.000,   0.320,2, -999.00,9,   42.89,2,   35.17,2,   7.9453, -52.9966,-999.000,-999.0000, -999.00,   6.5521,   6.6095,2,    34.7757,2,  -999.0,9,     -999.0,9,     -999.0,9,     -999.0,9,       1236
33AT20120419,        A20,      11,          1,          7,          7,2,20120422,       1214,     7.9452,   -52.9967,       1234,   704.6,   5.9333,  34.5870,2,  34.5899,2,    134.5,2,   133.8,2,   24.76,2,   33.62,2,    0.00,2,    2.24,2,   0.496,2,   0.273,2,   0.013,2,    0.00,3,  -999.0,9,  -999.0,9,-999.0000,9,  -999.00,-999.000,9,-999.0000,9, -999.00,9,   5.9330,2, -999.00,9,  -999.0,9,  -999.0,-999.000,9,-999.000,   0.260,2, -999.00,9,   42.37,2,   36.44,2,   7.9453, -52.9966,-999.000,-999.0000, -999.00,   5.8710,   5.9330,2,    34.7530,2,  -999.0,9,     -999.0,9,     -999.0,9,     -999.0,9,       1233
33AT20120419,        A20,      11,          1,          6,          6,2,20120422,       1214,     7.9452,   -52.9967,       1234,   805.5,   5.1495,  34.5511,2,  34.5527,2,    145.0,2,   147.3,2,   28.00,2,   33.51,2,    0.00,2,    2.25,2,   0.384,2,   0.213,2,   0.010,2,    0.00,3,  2218.2,2,  2301.6,2,   7.5585,6,    25.00,-999.000,9,-999.0000,9, -999.00,9,   5.1477,2, -999.00,9,  -999.0,9,  -999.0,-999.000,9,-999.000,   0.250,2, -999.00,9,   41.65,2,   36.51,2,   7.9453, -52.9966,-999.000,-999.0000, -999.00,   5.0825,   5.1477,2,    34.7157,2,  -999.0,9,     -999.0,9,     -999.0,9,     -999.0,9,       1230
33AT20120419,        A20,      11,          1,          5,          5,2,20120422,       1214,     7.9452,   -52.9967,       1234,   906.6,   5.2159,  34.6517,2,  34.6464,2,    140.1,2,   138.5,2,   27.79,2,   33.49,2,    0.00,2,    2.25,2,   0.127,2,   0.076,2,   0.003,2,    0.00,3,  -999.0,9,  -999.0,9,-999.0000,9,  -999.00,-999.000,9,-999.0000,9, -999.00,9,   5.2149,2, -999.00,9,  -999.0,9,  -999.0,-999.000,9,-999.000,   0.100,2, -999.00,9,   41.14,2,   36.48,2,   7.9453, -52.9966,-999.000,-999.0000, -999.00,   5.1393,   5.2149,2,    34.8098,2,  -999.0,9,     -999.0,9,     -999.0,9,     -999.0,9,       1227
33AT20120419,        A20,      11,          1,          4,          4,2,20120422,       1214,     7.9452,   -52.9967,       1234,  1007.3,   4.9950,  34.7070,2,  34.7007,2,    153.3,2,   152.3,2,   27.51,2,   31.79,2,    0.00,2,    2.15,2,   0.101,2,   0.065,2,   0.003,2,    0.00,3,  2216.5,2,  2310.8,6,   7.5797,2,    25.00,-999.000,9,-999.0000,9, -999.00,9,   4.9907,2, -999.00,9,  -999.0,9,  -999.0,-999.000,9,-999.000,   0.090,2, -999.00,9,   41.34,2,   34.23,2,   7.9453, -52.9966,-999.000,-999.0000, -999.00,   4.9107,   4.9907,2,    34.8643,2,  -999.0,9,     -999.0,9,     -999.0,9,     -999.0,9,       1224
33AT20120419,        A20,      11,          1,          3,          3,2,20120422,       1214,     7.9452,   -52.9967,       1234,  1108.5,   5.2518,  34.9008,2,  34.9002,2,    173.3,2,   178.1,2,   21.63,2,   26.48,2,    0.00,2,    1.78,2,-999.000,5,-999.000,5,-999.000,5, -999.00,5,  -999.0,9,  2314.8,2,-999.0000,9,  -999.00,-999.000,9,-999.0000,9, -999.00,9,   5.2521,2, -999.00,9,  -999.0,9,  -999.0,-999.000,9,-999.000,-999.000,5, -999.00,9,   41.02,2,   29.15,2,   7.9453, -52.9966,-999.000,-999.0000, -999.00,   5.1558,   5.2521,2,    35.0648,2,  -999.0,9,     -999.0,9,     -999.0,9,     -999.0,9,       1221
33AT20120419,        A20,      11,          1,          2,          2,2,20120422,       1214,     7.9452,   -52.9967,       1234,  1208.6,   5.0026,  34.9935,2,  34.9939,2,    212.2,2,   211.9,2,   17.25,2,   21.96,2,    0.00,2,    1.47,2,-999.000,5,-999.000,5,-999.000,5, -999.00,5,  2182.8,2,  2317.5,2,   7.6936,2,    25.00,-999.000,9,-999.0000,9, -999.00,9,   5.0024,2, -999.00,9,  -999.0,9,  -999.0,-999.000,9,-999.000,-999.000,5, -999.00,9,   40.85,2,   24.69,2,   7.9452, -52.9966,-999.000,-999.0000, -999.00,   4.8991,   5.0024,2,    35.1589,2,  -999.0,9,     -999.0,9,     -999.0,9,     -999.0,9,       1218
33AT20120419,        A20,      11,          1,          1,          1,2,20120422,       1214,     7.9452,   -52.9967,       1234,  1227.6,   5.0034,  34.9936,2,  34.9937,2,    211.0,2,   211.8,2,   17.39,2,   21.93,2,    0.00,2,    1.46,2,   0.785,2,   0.417,2,   0.032,2,    0.00,3,  2183.1,6,  2318.1,2,   7.6927,6,    25.00,-999.000,9,-999.0000,9, -999.00,9,   5.0037,2, -999.00,9,  -999.0,9,  -999.0,-999.000,9,-999.000,   0.500,2, -999.00,9,   40.33,2,   24.76,2,   7.9452, -52.9967,-999.000,-999.0000, -999.00,   4.8981,   5.0037,2,    35.1587,2,  -999.0,9,     -999.0,9,     -999.0,9,     -999.0,9,       1216