BOTTLE,20220712CCHSIOCBG
EXPOCODE,SECT_ID,STNNBR,CASTNO,SAMPNO,BTLNBR,BTLNBR_FLAG_W,DATE,TIME,LATITUDE,LONGITUDE,DEPTH,CTDPRS,CTDTMP,CTDSAL,CTDSAL_FLAG_W,SALNTY,SALNTY_FLAG_W,CTDOXY,CTDOXY_FLAG_W,OXYGEN,OXYGEN_FLAG_W,SILCAT,SILCAT_FLAG_W,NITRAT,NITRAT_FLAG_W,NITRIT,NITRIT_FLAG_W,PHSPHT,PHSPHT_FLAG_W,CFC-11,CFC-11_FLAG_W,CFC-12,CFC-12_FLAG_W,CFC113,CFC113_FLAG_W,SF6,SF6_FLAG_W,TCARBN,TCARBN_FLAG_W,ALKALI,ALKALI_FLAG_W,PH_TOT,PH_TOT_FLAG_W,PH_TMP,TRITUM,TRITUM_FLAG_W,HELIUM,HELIUM_FLAG_W,DELHE3,DELHE3_FLAG_W,REFTMP,REFTMP_FLAG_W,DELC13,DELC13_FLAG_W,DELC14,DELC14_FLAG_W,C14ERR,NEON,NEON_FLAG_W,NEONER,CCL4,CCL4_FLAG_W,DELO18,DELO18_FLAG_W,DOC,DOC_FLAG_W,TDN,TDN_FLAG_W,BTL_LAT,BTL_LON,TRITER,HELIER,DELHER,THETA,SBE35,SBE35_FLAG_W,SALTREF,SALTREF_FLAG_W,14C-DOC,14C-DOC_FLAG_W,DELO17,DELO17_FLAG_W,O2/AR,O2/AR_FLAG_W,SIP,SIP_FLAG_W,BTL_TIME
,,,,,,,,,,,METERS,DBAR,ITS-90,PSS-78,,PSS-78,,UMOL/KG,,UMOL/KG,,UMOL/KG,,UMOL/KG,,UMOL/KG,,UMOL/KG,,PMOL/KG,,PMOL/KG,,PMOL/KG,,FMOL/KG,,UMOL/KG,,UMOL/KG,,,,DEG C,TU,,NMOL/KG,,PERCNT,,DEG C,,/MILLE,,/MILLE,,/MILLE,NMOL/KG,,NMOL/KG,PMOL/KG,,/MILLE,,UMOL/KG,,UMOL/KG,,,,TU,NMOL/KG,PERCNT,DEG C,ITS-90,,G/KG,,/MILLE,,/MILLE,,,,,,
33AT20120419,        A20,      72,          1,         36,         36,2,20120510,       1427,    41.8686,   -51.7356,       3869,     4.6,  14.9774,  35.3824,2,  35.3835,2,    268.0,2,   268.9,2,    0.00,2,    0.00,2,    0.00,2,    0.03,2,   2.771,2,   1.701,2,   0.246,2,    1.87,2,  2052.6,6,  2339.4,2,-999.0000,9,  -999.00,-999.000,9,-999.0000,9, -999.00,9,  14.9771,2, -999.00,9,  -999.0,9,  -999.0,-999.000,9,-999.000,-999.000,9, -999.00,9, -999.00,9, -999.00,9,  41.8754, -51.7327,-999.000,-999.0000, -999.00,  14.9767,  14.9771,2,    35.5504,2,  -999.0,9,     -999.0,9,     -999.0,9,     -999.0,9,       1617
33AT20120419,        A20,      72,          1,         35,         35,2,20120510,       1427,    41.8686,   -51.7356,       3869,    35.2,  14.7154,  35.3771,2,  35.3770,2,    263.4,2,   261.8,2,    0.00,2,    0.09,2,    0.02,2,    0.05,2,-999.000,9,-999.000,9,-999.000,9, -999.00,9,  -999.0,9,  -999.0,9,-999.0000,9,  -999.00,-999.000,9,-999.0000,9, -999.00,9,  14.7169,2, -999.00,9,  -999.0,9,  -999.0,-999.000,9,-999.000,-999.000,9, -999.00,9, -999.00,9, -999.00,9,  41.8752, -51.7328,-999.000,-999.0000, -999.00,  14.7101,  14.7169,2,    35.5438,2,  -999.0,9,     -999.0,9,     -999.0,9,     -999.0,9,       1615
33AT20120419,        A20,      72,          1,         34,         34,2,20120510,       1427,    41.8686,   -51.7356,       3869,    61.3,  14.9655,  35.6892,2,  35.6907,2,    229.9,2,   229.5,2,    1.79,2,    4.89,2,    0.06,2,    0.32,2,   2.659,2,   1.592,2,   0.199,2,    1.64,2,  2103.5,2,  2352.8,2,-999.0000,9,  -999.00,-999.000,9,-999.0000,9, -999.00,9,  14.9643,2, -999.00,9,  -999.0,9,  -999.0,-999.000,9,-999.000,-999.000,9, -999.00,9, -999.00,9, -999.00,9,  41.8751, -51.7328,-999.000,-999.0000, -999.00,  14.9562,  14.9643,2,    35.8590,2,  -999.0,9,     -999.0,9,     -999.0,9,     -999.0,9,       1613
33AT20120419,        A20,      72,          1,         33,         33,2,20120510,       1427,    41.8686,   -51.7356,       3869,   100.2,  14.9030,  35.7320,2,  35.7373,2,    229.1,2,   229.1,2,    2.02,2,    5.34,2,    0.02,2,    0.34,2,-999.000,9,-999.000,9,-999.000,9, -999.00,9,  -999.0,9,  -999.0,9,-999.0000,9,  -999.00,-999.000,9,-999.0000,9, -999.00,9,  14.8916,2, -999.00,9,  -999.0,9,  -999.0,-999.000,9,-999.000,-999.000,9, -999.00,9, -999.00,9, -999.00,9,  41.8749, -51.7330,-999.000,-999.0000, -999.00,  14.8878,  14.8916,2,    35.9058,2,  -999.0,9,     -999.0,9,     -999.0,9,     -999.0,9,       1609
33AT20120419,        A20,      72,          1,         32,         32,2,20120510,       1427,    41.8686,   -51.7356,       3869,   141.1,  14.3795,  35.6133,2,  35.6084,2,    230.9,2,   231.1,2,    2.24,2,    5.71,2,    0.02,2,    0.38,2,   2.688,2,   1.610,2,   0.197,2,    1.71,2,  2106.9,2,  2345.8,2,-999.0000,9,  -999.00,-999.000,9,-999.0000,9, -999.00,9,  14.3836,2, -999.00,9,  -999.0,9,  -999.0,-999.000,9,-999.000,-999.000,9, -999.00,9, -999.00,9, -999.00,9,  41.8747, -51.7331,-999.000,-999.0000, -999.00,  14.3587,  14.3836,2,    35.7763,2,  -999.0,9,     -999.0,9,     -999.0,9,     -999.0,9,       1607
33AT20120419,        A20,      72,          1,         31,         31,2,20120510,       1427,    41.8686,   -51.7356,       3869,   168.1,  14.6980,  35.7192,2,  35.7193,2,    231.8,2,   226.6,2,    2.31,2,    6.03,2,    0.02,2,    0.39,2,   2.623,2,   1.569,2,   0.186,2,    1.67,2,  -999.0,9,  -999.0,9,-999.0000,9,  -999.00,-999.000,9,-999.0000,9, -999.00,9,  14.6974,2, -999.00,9,  -999.0,9,  -999.0,-999.000,9,-999.000,-999.000,9, -999.00,9, -999.00,9, -999.00,9,  41.8746, -51.7332,-999.000,-999.0000, -999.00,  14.6728,  14.6974,2,    35.8877,2,  -999.0,9,     -999.0,9,     -999.0,9,     -999.0,9,       1605
33AT20120419,        A20,      72,          1,         30,         30,2,20120510,       1427,    41.8686,   -51.7356,       3869,   218.3,  14.5188,  35.7867,2,  35.7936,2,    186.0,2,   190.1,2,    3.92,2,   10.35,2,    0.02,2,    0.64,2,-999.000,9,-999.000,9,-999.000,9, -999.00,9,  2136.5,2,  2351.3,6,-999.0000,9,  -999.00,-999.000,9,-999.0000,9, -999.00,9,  14.5191,2, -999.00,9,  -999.0,9,  -999.0,-999.000,9,-999.000,-999.000,9, -999.00,9, -999.00,9, -999.00,9,  41.8743, -51.7333,-999.000,-999.0000, -999.00,  14.4862,  14.5191,2,    35.9623,2,  -999.0,9,     -999.0,9,     -999.0,9,     -999.0,9,       1603
33AT20120419,        A20,      72,          1,         29,         29,2,20120510,       1427,    41.8686,   -51.7356,       3869,   268.2,  13.1590,  35.6855,2,  35.6828,2,    159.7,2,   157.4,2,    6.90,2,   16.42,2,    0.01,2,    1.00,2,   2.106,2,   1.176,2,   0.045,2,    0.96,2,  -999.0,9,  -999.0,9,-999.0000,9,  -999.00,-999.000,9,-999.0000,9, -999.00,9,  13.1839,2, -999.00,9,  -999.0,9,  -999.0,-999.000,9,-999.000,-999.000,9, -999.00,9, -999.00,9, -999.00,9,  41.8742, -51.7334,-999.000,-999.0000, -999.00,  13.1215,  13.1839,2,    35.8510,2,  -999.0,9,     -999.0,9,     -999.0,9,     -999.0,9,       1601
33AT20120419,        A20,      72,          1,         28,         28,2,20120510,       1427,    41.8686,   -51.7356,       3869,   319.6,  11.7027,  35.4825,2,  35.4675,2,    144.6,2,   144.2,2,    9.87,2,   20.30,2,    0.02,2,    1.27,2,   1.786,2,   0.969,2,   0.039,2,    0.80,2,  2180.6,2,  2332.6,2,-999.0000,9,  -999.00,-999.000,9,-999.0000,9, -999.00,9,  11.6892,2, -999.00,9,  -999.0,9,  -999.0,-999.000,9,-999.000,-999.000,9, -999.00,9, -999.00,9, -999.00,9,  41.8740, -51.7334,-999.000,-999.0000, -999.00,  11.6613,  11.6892,2,    35.6348,2,  -999.0,9,     -999.0,9,     -999.0,9,     -999.0,9,       1559
33AT20120419,        A20,      72,          1,         27,         27,2,20120510,       1427,    41.8686,   -51.7356,       3869,   369.4,  10.5737,  35.3357,2,  35.3257,2,    139.6,2,   141.1,2,   11.80,2,   22.37,2,    0.02,2,    1.41,2,   1.594,2,   0.849,2,   0.039,2,    0.69,2,  2188.7,2,  2327.7,2,-999.0000,9,  -999.00,-999.000,9,-999.0000,9, -999.00,9,  10.5714,2, -999.00,9,  -999.0,9,  -999.0,-999.000,9,-999.000,-999.000,9, -999.00,9, -999.00,9, -999.00,9,  41.8738, -51.7335,-999.000,-999.0000, -999.00,  10.5287,  10.5714,2,    35.4923,2,  -999.0,9,     -999.0,9,     -999.0,9,     -999.0,9,       1557
33AT20120419,        A20,      72,          1,         26,         26,2,20120510,       1427,    41.8686,   -51.7356,       3869,   415.5,   9.3583,  35.1986,2,  35.1987,2,    142.4,2,   145.1,2,   13.31,2,   23.53,2,    0.00,2,    1.50,2,   1.529,2,   0.825,2,   0.046,2,    0.65,2,  2192.5,2,  2321.9,2,-999.0000,9,  -999.00,-999.000,9,-999.0000,9, -999.00,9,   9.3563,2, -999.00,9,  -999.0,9,  -999.0,-999.000,9,-999.000,-999.000,9, -999.00,9, -999.00,9, -999.00,9,  41.8737, -51.7336,-999.000,-999.0000, -999.00,   9.3114,   9.3563,2,    35.3646,2,  -999.0,9,     -999.0,9,     -999.0,9,     -999.0,9,       1555
33AT20120419,        A20,      72,          1,         25,         25,2,20120510,       1427,    41.8686,   -51.7356,       3869,   469.2,   8.1699,  35.0949,2,  35.0970,2,    162.1,2,   160.0,2,   13.91,2,   23.35,2,    0.00,2,    1.52,2,-999.000,9,-999.000,9,-999.000,9, -999.00,9,  2191.5,2,  2318.2,2,-999.0000,9,  -999.00,-999.000,9,-999.0000,9, -999.00,9,   8.1698,2, -999.00,9,  -999.0,9,  -999.0,-999.000,9,-999.000,-999.000,9, -999.00,9, -999.00,9, -999.00,9,  41.8735, -51.7337,-999.000,-999.0000, -999.00,   8.1209,   8.1698,2,    35.2625,2,  -999.0,9,     -999.0,9,     -999.0,9,     -999.0,9,       1553
33AT20120419,        A20,      72,          1,         24,         24,2,20120510,       1427,    41.8686,   -51.7356,       3869,   538.5,   7.1645,  35.0749,2,  35.0776,2,    182.0,2,   181.5,2,   13.45,2,   21.97,2,    0.00,2,    1.44,2,   1.800,2,   0.929,2,   0.080,2,    0.81,2,  2187.2,2,  2316.9,2,-999.0000,9,  -999.00,-999.000,9,-999.0000,9, -999.00,9,   7.1370,2, -999.00,9,  -999.0,9,  -999.0,-999.000,9,-999.000,-999.000,9, -999.00,9, -999.00,9, -999.00,9,  41.8734, -51.7337,-999.000,-999.0000, -999.00,   7.1121,   7.1370,2,    35.2430,2,  -999.0,9,     -999.0,9,     -999.0,9,     -999.0,9,       1551
33AT20120419,        A20,      72,          1,         23,         23,2,20120510,       1427,    41.8686,   -51.7356,       3869,   638.4,   6.1324,  35.0400,2,  35.0407,2,    206.9,2,   206.8,2,   12.74,2,   20.39,2,    0.00,2,    1.35,2,   2.162,2,   1.139,2,   0.106,2,    0.73,2,  -999.0,9,  -999.0,9,-999.0000,9,  -999.00,-999.000,9,-999.0000,9, -999.00,9,   6.1365,2, -999.00,9,  -999.0,9,  -999.0,-999.000,9,-999.000,-999.000,9, -999.00,9, -999.00,9, -999.00,9,  41.8733, -51.7338,-999.000,-999.0000, -999.00,   6.0748,   6.1365,2,    35.2060,2,  -999.0,9,     -999.0,9,     -999.0,9,     -999.0,9,       1548
33AT20120419,        A20,      72,          1,         22,         22,2,20120510,       1427,    41.8686,   -51.7356,       3869,   741.5,   4.9936,  34.9607,2,  34.9693,2,    238.3,2,   244.5,2,   10.88,2,   17.95,2,    0.00,2,    1.20,2,   3.141,2,   1.704,2,   0.218,2,    1.36,2,  2171.4,2,  2309.7,2,-999.0000,9,  -999.00,-999.000,9,-999.0000,9, -999.00,9,   4.9849,2, -999.00,9,  -999.0,9,  -999.0,-999.000,9,-999.000,-999.000,9, -999.00,9, -999.00,9, -999.00,9,  41.8731, -51.7339,-999.000,-999.0000, -999.00,   4.9327,   4.9849,2,    35.1342,2,  -999.0,9,     -999.0,9,     -999.0,9,     -999.0,9,       1545
33AT20120419,        A20,      72,          1,         21,         21,2,20120510,       1427,    41.8686,   -51.7356,       3869,   841.8,   4.5586,  34.9300,2,  34.9278,2,    264.6,2,   266.0,2,    9.41,2,   16.75,2,    0.00,2,    1.12,2,   3.859,2,   2.108,2,   0.297,2,    1.81,2,  -999.0,9,  -999.0,9,-999.0000,9,  -999.00,-999.000,9,-999.0000,9, -999.00,9,   4.5589,2, -999.00,9,  -999.0,9,  -999.0,-999.000,9,-999.000,-999.000,9, -999.00,9, -999.00,9, -999.00,9,  41.8730, -51.7340,-999.000,-999.0000, -999.00,   4.4917,   4.5589,2,    35.0925,2,  -999.0,9,     -999.0,9,     -999.0,9,     -999.0,9,       1543
33AT20120419,        A20,      72,          1,         20,         20,2,20120510,       1427,    41.8686,   -51.7356,       3869,   944.9,   4.2903,  34.9149,2,  34.9144,2,    275.5,2,   275.0,2,    8.96,2,   16.34,2,    0.00,2,    1.09,2,-999.000,9,-999.000,9,-999.000,9, -999.00,9,  2163.6,2,  2304.4,2,-999.0000,9,  -999.00,-999.000,9,-999.0000,9, -999.00,9,   4.2910,2, -999.00,9,  -999.0,9,  -999.0,-999.000,9,-999.000,-999.000,9, -999.00,9, -999.00,9, -999.00,9,  41.8728, -51.7340,-999.000,-999.0000, -999.00,   4.2164,   4.2910,2,    35.0790,2,  -999.0,9,     -999.0,9,     -999.0,9,     -999.0,9,       1540
33AT20120419,        A20,      72,          1,         19,         19,2,20120510,       1427,    41.8686,   -51.7356,       3869,  1045.6,   4.1786,  34.9131,2,  34.9130,2,    278.3,2,   277.6,2,    8.90,2,   16.30,2,    0.00,2,    1.08,2,   4.136,2,   2.262,2,   0.331,2,    2.06,2,  -999.0,9,  -999.0,9,-999.0000,9,  -999.00,-999.000,9,-999.0000,9, -999.00,9,   4.1789,2, -999.00,9,  -999.0,9,  -999.0,-999.000,9,-999.000,-999.000,9, -999.00,9, -999.00,9, -999.00,9,  41.8727, -51.7341,-999.000,-999.0000, -999.00,   4.0970,   4.1789,2,    35.0777,2,  -999.0,9,     -999.0,9,     -999.0,9,     -999.0,9,       1537
33AT20120419,        A20,      72,          1,         18,         18,2,20120510,       1427,    41.8686,   -51.7356,       3869,  1144.6,   4.1271,  34.9158,2,  34.9156,2,    278.1,2,   277.2,2,    9.11,2,   16.40,2,    0.00,2,    1.08,2,   4.096,2,   2.223,2,   0.338,2,    1.76,2,  2163.2,2,  2303.2,2,-999.0000,9,  -999.00,-999.000,9,-999.0000,9, -999.00,9,   4.1272,2, -999.00,9,  -999.0,9,  -999.0,-999.000,9,-999.000,-999.000,9, -999.00,9, -999.00,9, -999.00,9,  41.8725, -51.7342,-999.000,-999.0000, -999.00,   4.0374,   4.1272,2,    35.0802,2,  -999.0,9,     -999.0,9,     -999.0,9,     -999.0,9,       1534
33AT20120419,        A20,      72,          1,         17,         17,2,20120510,       1427,    41.8686,   -51.7356,       3869,  1241.3,   4.1630,  34.9337,2,  34.9339,2,    272.5,2,   271.4,2,    9.87,2,   16.77,2,    0.00,2,    1.12,2,   3.804,2,   2.049,2,   0.294,2,    1.48,2,  2164.7,2,  2306.8,2,-999.0000,9,  -999.00,-999.000,9,-999.0000,9, -999.00,9,   4.1625,2, -999.00,9,  -999.0,9,  -999.0,-999.000,9,-999.000,-999.000,9, -999.00,9, -999.00,9, -999.00,9,  41.8724, -51.7342,-999.000,-999.0000, -999.00,   4.0644,   4.1625,2,    35.0986,2,  -999.0,9,     -999.0,9,     -999.0,9,     -999.0,9,       1532
33AT20120419,        A20,      72,          1,         16,         16,2,20120510,       1427,    41.8686,   -51.7356,       3869,  1345.7,   4.1228,  34.9397,2,  34.9398,2,    269.3,2,   269.3,2,   10.26,2,   16.98,2,    0.00,2,    1.14,2,   3.572,2,   1.903,2,   0.266,2,    1.32,2,  -999.0,9,  -999.0,9,-999.0000,9,  -999.00,-999.000,9,-999.0000,9, -999.00,9,   4.1235,2, -999.00,9,  -999.0,9,  -999.0,-999.000,9,-999.000,-999.000,9, -999.00,9, -999.00,9, -999.00,9,  41.8722, -51.7343,-999.000,-999.0000, -999.00,   4.0153,   4.1235,2,    35.1045,2,  -999.0,9,     -999.0,9,     -999.0,9,     -999.0,9,       1529
33AT20120419,        A20,      72,          1,         15,         15,2,20120510,       1427,    41.8686,   -51.7356,       3869,  1451.4,   4.0567,  34.9418,2,  34.9437,2,    266.9,2,   267.6,2,   10.72,2,   17.11,2,    0.00,2,    1.14,2,-999.000,9,-999.000,9,-999.000,9, -999.00,9,  -999.0,9,  -999.0,9,-999.0000,9,  -999.00,-999.000,9,-999.0000,9, -999.00,9,   4.0613,2, -999.00,9,  -999.0,9,  -999.0,-999.000,9,-999.000,-999.000,9, -999.00,9, -999.00,9, -999.00,9,  41.8721, -51.7344,-999.000,-999.0000, -999.00,   3.9403,   4.0613,2,    35.1085,2,  -999.0,9,     -999.0,9,     -999.0,9,     -999.0,9,       1526
33AT20120419,        A20,      72,          1,         14,         14,2,20120510,       1427,    41.8686,   -51.7356,       3869,  1548.5,   3.9485,  34.9364,2,  34.9374,2,    269.4,2,   269.3,2,   10.88,2,   17.09,2,    0.00,2,    1.13,2,   3.337,2,   1.734,2,   0.242,2,    1.01,2,  -999.0,9,  -999.0,9,-999.0000,9,  -999.00,-999.000,9,-999.0000,9, -999.00,9,   3.9491,2, -999.00,9,  -999.0,9,  -999.0,-999.000,9,-999.000,-999.000,9, -999.00,9, -999.00,9, -999.00,9,  41.8719, -51.7345,-999.000,-999.0000, -999.00,   3.8245,   3.9491,2,    35.1022,2,  -999.0,9,     -999.0,9,     -999.0,9,     -999.0,9,       1523
33AT20120419,        A20,      72,          1,         13,         13,2,20120510,       1427,    41.8686,   -51.7356,       3869,  1653.7,   3.8651,  34.9329,2,  34.9329,2,    264.3,2,   269.6,2,   10.97,2,   17.07,2,    0.00,2,    1.13,2,   3.281,2,   1.708,2,   0.237,2,    1.09,2,  2163.5,2,  2306.5,2,-999.0000,9,  -999.00,-999.000,9,-999.0000,9, -999.00,9,   3.8663,2, -999.00,9,  -999.0,9,  -999.0,-999.000,9,-999.000,-999.000,9, -999.00,9, -999.00,9, -999.00,9,  41.8716, -51.7346,-999.000,-999.0000, -999.00,   3.7325,   3.8663,2,    35.0976,2,  -999.0,9,     -999.0,9,     -999.0,9,     -999.0,9,       1520
33AT20120419,        A20,      72,          1,         12,         12,2,20120510,       1427,    41.8686,   -51.7356,       3869,  1754.2,   3.7694,  34.9298,2,  34.9301,2,    268.9,2,   270.4,2,   11.16,2,   17.03,2,    0.00,2,    1.13,2,   3.220,2,   1.669,2,   0.214,2,    0.96,2,  -999.0,9,  -999.0,9,-999.0000,9,  -999.00,-999.000,9,-999.0000,9, -999.00,9,   3.7708,2, -999.00,9,  -999.0,9,  -999.0,-999.000,9,-999.000,-999.000,9, -999.00,9, -999.00,9, -999.00,9,  41.8714, -51.7347,-999.000,-999.0000, -999.00,   3.6287,   3.7708,2,    35.0949,2,  -999.0,9,     -999.0,9,     -999.0,9,     -999.0,9,       1517
33AT20120419,        A20,      72,          1,         11,         11,2,20120510,       1427,    41.8686,   -51.7356,       3869,  1754.8,   3.7680,  34.9297,2,  34.9297,2,    268.8,2,   270.5,2,   11.15,2,   17.05,2,    0.00,2,    1.13,2,   3.207,2,   1.648,2,   0.219,2,    0.94,2,  -999.0,9,  -999.0,9,-999.0000,9,  -999.00,-999.000,9,-999.0000,9, -999.00,9,   3.7708,2, -999.00,9,  -999.0,9,  -999.0,-999.000,9,-999.000,-999.000,9, -999.00,9, -999.00,9, -999.00,9,  41.8714, -51.7347,-999.000,-999.0000, -999.00,   3.6273,   3.7708,2,    35.0945,2,  -999.0,9,     -999.0,9,     -999.0,9,     -999.0,9,       1517
33AT20120419,        A20,      72,          1,         10,         10,2,20120510,       1427,    41.8686,   -51.7356,       3869,  1883.2,   3.6819,  34.9361,2,  34.9361,2,    269.4,2,   268.9,2,   11.94,2,   17.22,2,    0.00,2,    1.14,2,-999.000,9,-999.000,9,-999.000,9, -999.00,9,  2162.4,2,  2306.3,2,-999.0000,9,  -999.00,-999.000,9,-999.0000,9, -999.00,9,   3.6822,2, -999.00,9,  -999.0,9,  -999.0,-999.000,9,-999.000,-999.000,9, -999.00,9, -999.00,9, -999.00,9,  41.8712, -51.7347,-999.000,-999.0000, -999.00,   3.5303,   3.6822,2,    35.1008,2,  -999.0,9,     -999.0,9,     -999.0,9,     -999.0,9,       1513
33AT20120419,        A20,      72,          1,          9,          9,2,20120510,       1427,    41.8686,   -51.7356,       3869,  2089.1,   3.5135,  34.9302,2,  34.9303,2,    269.3,2,   270.5,2,   12.44,2,   17.18,2,    0.00,2,    1.15,2,   2.568,2,   1.263,2,   0.141,2,    0.52,2,  -999.0,9,  -999.0,9,-999.0000,9,  -999.00,-999.000,9,-999.0000,9, -999.00,9,   3.5136,2, -999.00,9,  -999.0,9,  -999.0,-999.000,9,-999.000,-999.000,9, -999.00,9, -999.00,9, -999.00,9,  41.8710, -51.7348,-999.000,-999.0000, -999.00,   3.3448,   3.5136,2,    35.0951,2,  -999.0,9,     -999.0,9,     -999.0,9,     -999.0,9,       1509
33AT20120419,        A20,      72,          1,          8,          8,2,20120510,       1427,    41.8686,   -51.7356,       3869,  2291.0,   3.3905,  34.9334,2,  34.9337,2,    270.6,2,   269.7,2,   13.72,2,   17.28,2,    0.00,2,    1.16,2,   2.156,2,   1.100,2,   0.104,2,    0.49,2,  -999.0,9,  -999.0,9,-999.0000,9,  -999.00,-999.000,9,-999.0000,9, -999.00,9,   3.3897,2, -999.00,9,  -999.0,9,  -999.0,-999.000,9,-999.000,-999.000,9, -999.00,9, -999.00,9, -999.00,9,  41.8709, -51.7349,-999.000,-999.0000, -999.00,   3.2042,   3.3897,2,    35.0984,2,  -999.0,9,     -999.0,9,     -999.0,9,     -999.0,9,       1504
33AT20120419,        A20,      72,          1,          7,          7,2,20120510,       1427,    41.8686,   -51.7356,       3869,  2492.6,   3.2957,  34.9357,2,  34.9364,2,    270.3,2,   268.7,2,   15.05,2,   17.41,2,    0.00,2,    1.17,2,   1.855,2,   0.902,2,   0.083,2,    0.40,2,  2160.7,2,  2310.6,2,-999.0000,9,  -999.00,-999.000,9,-999.0000,9, -999.00,9,   3.2961,2, -999.00,9,  -999.0,9,  -999.0,-999.000,9,-999.000,-999.000,9, -999.00,9, -999.00,9, -999.00,9,  41.8707, -51.7349,-999.000,-999.0000, -999.00,   3.0911,   3.2961,2,    35.1012,2,  -999.0,9,     -999.0,9,     -999.0,9,     -999.0,9,       1500