BOTTLE,20220712CCHSIOCBG
EXPOCODE,SECT_ID,STNNBR,CASTNO,SAMPNO,BTLNBR,BTLNBR_FLAG_W,DATE,TIME,LATITUDE,LONGITUDE,DEPTH,CTDPRS,CTDTMP,CTDSAL,CTDSAL_FLAG_W,SALNTY,SALNTY_FLAG_W,CTDOXY,CTDOXY_FLAG_W,OXYGEN,OXYGEN_FLAG_W,SILCAT,SILCAT_FLAG_W,NITRAT,NITRAT_FLAG_W,NITRIT,NITRIT_FLAG_W,PHSPHT,PHSPHT_FLAG_W,CFC-11,CFC-11_FLAG_W,CFC-12,CFC-12_FLAG_W,CFC113,CFC113_FLAG_W,SF6,SF6_FLAG_W,TCARBN,TCARBN_FLAG_W,ALKALI,ALKALI_FLAG_W,PH_TOT,PH_TOT_FLAG_W,PH_TMP,TRITUM,TRITUM_FLAG_W,HELIUM,HELIUM_FLAG_W,DELHE3,DELHE3_FLAG_W,REFTMP,REFTMP_FLAG_W,DELC13,DELC13_FLAG_W,DELC14,DELC14_FLAG_W,C14ERR,NEON,NEON_FLAG_W,NEONER,CCL4,CCL4_FLAG_W,DELO18,DELO18_FLAG_W,DOC,DOC_FLAG_W,TDN,TDN_FLAG_W,BTL_LAT,BTL_LON,TRITER,HELIER,DELHER,THETA,SBE35,SBE35_FLAG_W,SALTREF,SALTREF_FLAG_W,14C-DOC,14C-DOC_FLAG_W,DELO17,DELO17_FLAG_W,O2/AR,O2/AR_FLAG_W,SIP,SIP_FLAG_W,BTL_TIME
,,,,,,,,,,,METERS,DBAR,ITS-90,PSS-78,,PSS-78,,UMOL/KG,,UMOL/KG,,UMOL/KG,,UMOL/KG,,UMOL/KG,,UMOL/KG,,PMOL/KG,,PMOL/KG,,PMOL/KG,,FMOL/KG,,UMOL/KG,,UMOL/KG,,,,DEG C,TU,,NMOL/KG,,PERCNT,,DEG C,,/MILLE,,/MILLE,,/MILLE,NMOL/KG,,NMOL/KG,PMOL/KG,,/MILLE,,UMOL/KG,,UMOL/KG,,,,TU,NMOL/KG,PERCNT,DEG C,ITS-90,,G/KG,,/MILLE,,/MILLE,,,,,,
33AT20120419,        A20,      57,          1,         36,         36,2,20120506,       0822,    34.2511,   -52.3315,       5399,     5.3,  19.3849,  36.4704,2,  36.4707,2,    229.8,2,   230.8,2,    0.19,2,    0.00,2,    0.00,2,    0.00,2,   2.012,2,   1.258,2,   0.152,2,    1.56,3,  2083.3,6,  2389.6,2,   8.0264,2,    25.00,   0.559,2,   1.7380,2,   -1.16,2,  19.3859,2, -999.00,9,  -999.0,9,  -999.0,   6.929,2,   0.032,   1.160,2, -999.00,1,   70.14,2,    4.90,2,  34.2564, -52.3294,   0.010,   0.0073,    0.15,  19.3839,  19.3859,2,    36.6427,2,  -999.0,9,     -999.0,1,     -999.0,1,     -999.0,9,       1054
33AT20120419,        A20,      57,          1,         35,         35,2,20120506,       0822,    34.2511,   -52.3315,       5399,    34.3,  19.3843,  36.4703,2,  36.4699,2,    231.7,2,   231.1,2,    0.10,2,    0.00,2,    0.00,2,    0.00,2,   1.988,2,   1.205,2,   0.154,2,    0.85,3,  2082.3,2,  2390.5,2,   8.0265,6,    25.00,-999.000,9,-999.0000,9, -999.00,9,  19.3844,2, -999.00,9,  -999.0,9,  -999.0,-999.000,9,-999.000,   1.150,2, -999.00,9,   69.81,2,    3.80,2,  34.2562, -52.3295,-999.000,-999.0000, -999.00,  19.3781,  19.3844,2,    36.6419,2,  -999.0,9,     -999.0,9,     -999.0,9,     -999.0,9,       1051
33AT20120419,        A20,      57,          1,         34,         34,2,20120506,       0822,    34.2511,   -52.3315,       5399,    59.6,  18.5884,  36.4638,2,  36.4620,2,    233.8,2,   233.4,2,    0.16,2,    0.00,2,    0.00,2,    0.00,2,   2.141,2,   1.323,2,   0.218,2,    1.30,3,  2085.9,2,  2386.6,2,   8.0201,2,    25.00,-999.000,9,-999.0000,9, -999.00,9,  18.5924,2, -999.00,9,  -999.0,9,  -999.0,-999.000,9,-999.000,   1.130,2, -999.00,9,   63.76,2,    4.10,2,  34.2560, -52.3296,-999.000,-999.0000, -999.00,  18.5779,  18.5924,2,    36.6339,2,  -999.0,9,     -999.0,9,     -999.0,9,     -999.0,1,       1049
33AT20120419,        A20,      57,          1,         33,         33,2,20120506,       0822,    34.2511,   -52.3315,       5399,    85.4,  18.5024,  36.4709,2,  36.4697,2,    227.6,2,   226.1,2,    0.27,2,    0.10,2,    0.47,2,    0.00,2,   2.097,2,   1.299,2,   0.193,2,    0.76,3,  -999.0,9,  -999.0,9,-999.0000,9,  -999.00,   0.578,2,   1.7526,2,   -0.95,2,  18.5027,2, -999.00,9,  -999.0,9,  -999.0,   7.047,2,   0.032,   1.090,2, -999.00,9,   60.21,2,    3.58,2,  34.2558, -52.3297,   0.010,   0.0074,    0.15,  18.4873,  18.5027,2,    36.6417,2,  -999.0,9,     -999.0,9,     -999.0,9,     -999.0,1,       1046
33AT20120419,        A20,      57,          1,         32,         32,2,20120506,       0822,    34.2511,   -52.3315,       5399,   119.7,  18.2736,  36.4619,2,  36.4653,2,    223.9,2,   223.3,2,    0.36,2,    1.13,2,    0.03,2,    0.03,2,   2.116,2,   1.316,2,   0.183,2,    1.05,3,  2096.0,2,  2387.3,6,   8.0027,2,    25.00,-999.000,9,-999.0000,9, -999.00,9,  18.2844,2, -999.00,9,  -999.0,9,  -999.0,-999.000,9,-999.000,   0.980,2, -999.00,9,   57.36,2,    4.92,2,  34.2556, -52.3298,-999.000,-999.0000, -999.00,  18.2527,  18.2844,2,    36.6373,2,  -999.0,9,     -999.0,9,     -999.0,9,     -999.0,9,       1043
33AT20120419,        A20,      57,          1,         31,         31,2,20120506,       0822,    34.2511,   -52.3315,       5399,   169.7,  17.7520,  36.4607,2,  36.4586,2,    205.2,2,   206.5,2,    1.10,2,    3.87,2,    0.02,2,    0.18,2,   2.124,2,   1.289,2,   0.095,2,    1.10,3,  2114.1,2,  2384.3,2,   7.9685,2,    25.00,   0.546,2,   1.7520,2,   -0.39,2,  17.7465,2, -999.00,9,  -999.0,9,  -999.0,   7.093,2,   0.033,   0.480,2, -999.00,9,   53.95,2,    6.92,2,  34.2554, -52.3299,   0.010,   0.0074,    0.15,  17.7229,  17.7465,2,    36.6305,2,  -999.0,9,     -999.0,9,     -999.0,9,     -999.0,9,       1040
33AT20120419,        A20,      57,          1,         30,         30,2,20120506,       0822,    34.2511,   -52.3315,       5399,   219.8,  17.0602,  36.3890,2,  36.3899,2,    199.7,2,   199.8,2,    1.67,2,    5.74,2,    0.02,2,    0.28,2,   2.115,2,   1.225,2,   0.049,2,    0.87,3,  2125.1,2,  2380.4,2,   7.9414,6,    25.00,-999.000,9,-999.0000,9, -999.00,9,  17.0589,2, -999.00,9,  -999.0,9,  -999.0,-999.000,9,-999.000,   0.310,2, -999.00,9,   52.06,2,    9.21,2,  34.2551, -52.3300,-999.000,-999.0000, -999.00,  17.0235,  17.0589,2,    36.5615,2,  -999.0,9,     -999.0,9,     -999.0,9,     -999.0,9,       1037
33AT20120419,        A20,      57,          1,         29,         29,2,20120506,       0822,    34.2511,   -52.3315,       5399,   269.7,  16.4698,  36.2788,2,  36.2737,2,    196.3,2,   196.3,2,    2.24,2,    7.19,2,    0.00,2,    0.39,2,   2.226,2,   1.346,2,   0.056,2,    0.67,3,  2129.4,2,  2373.5,2,   7.9222,2,    25.00,   0.533,3,   1.7472,2,    0.32,2,  16.4677,2, -999.00,9,  -999.0,9,  -999.0,   7.046,2,   0.032,   0.310,2, -999.00,9,   51.83,2,   11.09,2,  34.2548, -52.3302,   0.011,   0.0073,    0.15,  16.4258,  16.4677,2,    36.4447,2,  -999.0,9,     -999.0,9,     -999.0,9,     -999.0,9,       1034
33AT20120419,        A20,      57,          1,         28,         28,2,20120506,       0822,    34.2511,   -52.3315,       5399,   317.8,  15.8460,  36.1627,2,  36.1614,2,    194.0,2,   193.2,2,    2.79,2,    8.45,2,    0.00,2,    0.48,2,   2.237,2,   1.362,2,   0.043,2,    0.80,3,  2135.9,2,  2366.7,2,   7.9033,2,    25.00,-999.000,9,-999.0000,9, -999.00,9,  15.8266,2, -999.00,9,  -999.0,9,  -999.0,-999.000,9,-999.000,   0.310,2, -999.00,9,   50.81,2,   12.31,2,  34.2546, -52.3303,-999.000,-999.0000, -999.00,  15.7954,  15.8266,2,    36.3320,2,  -999.0,9,     -999.0,9,     -999.0,9,     -999.0,9,       1032
33AT20120419,        A20,      57,          1,         27,         27,2,20120506,       0822,    34.2511,   -52.3315,       5399,   370.4,  14.9514,  36.0081,2,  36.0111,2,    196.2,2,   195.7,2,    3.29,2,    9.52,2,    0.00,2,    0.55,2,   2.283,2,   1.401,2,   0.050,2,    0.86,3,  2139.2,2,  2361.0,2,   7.8834,6,    25.00,   0.549,2,   1.7616,2,    1.27,2,  14.9559,2, -999.00,9,  -999.0,9,  -999.0,   7.167,2,   0.033,   0.340,2, -999.00,9,   49.87,2,   13.03,2,  34.2543, -52.3304,   0.013,   0.0074,    0.15,  14.8947,  14.9559,2,    36.1809,2,  -999.0,9,     -999.0,9,     -999.0,9,     -999.0,9,       1029
33AT20120419,        A20,      57,          1,         26,         26,2,20120506,       0822,    34.2511,   -52.3315,       5399,   437.2,  14.1933,  35.8893,2,  35.8896,2,    194.9,2,   195.8,2,    3.92,2,   10.72,2,    0.00,2,    0.63,2,   2.287,2,   1.400,2,   0.058,2,    0.81,3,  -999.0,9,  -999.0,9,-999.0000,9,  -999.00,-999.000,9,-999.0000,9, -999.00,9,  14.1885,2, -999.00,9,  -999.0,9,  -999.0,-999.000,9,-999.000,   0.360,2, -999.00,9,    49.1,2,   13.82,2,  34.2540, -52.3305,-999.000,-999.0000, -999.00,  14.1285,  14.1885,2,    36.0588,2,  -999.0,9,     -999.0,9,     -999.0,9,     -999.0,1,       1026
33AT20120419,        A20,      57,          1,         25,         25,2,20120506,       0822,    34.2511,   -52.3315,       5399,   541.7,  12.5802,  35.6516,2,  35.6516,2,    174.2,2,   178.6,2,    6.27,2,   14.96,2,    0.00,2,    0.92,2,   2.120,2,   1.283,2,   0.045,2,    0.53,3,  2164.5,3,  2339.8,2,   7.8013,2,    25.00,   0.508,2,-999.0000,9, -999.00,9,  12.5827,2, -999.00,9,  -999.0,9,  -999.0,-999.000,9,-999.000,   0.310,2, -999.00,9,   48.98,2,   18.67,2,  34.2539, -52.3306,   0.010,-999.0000, -999.00,  12.5058,  12.5827,2,    35.8197,2,  -999.0,9,     -999.0,9,     -999.0,9,     -999.0,9,       1023
33AT20120419,        A20,      57,          1,         24,         24,2,20120506,       0822,    34.2511,   -52.3315,       5399,   640.7,  10.8083,  35.3995,2,  35.3926,2,    155.4,2,   153.6,2,   10.36,2,   20.54,2,    0.00,2,    1.28,2,   1.583,2,   0.941,2,   0.034,2,    0.00,3,  2184.0,2,  2328.5,2,   7.7261,6,    25.00,   0.410,2,   1.7860,2,    5.15,2,  10.8100,2, -999.00,9,  -999.0,9,  -999.0,   7.386,2,   0.034,   0.250,2, -999.00,9,   47.34,2,   23.96,2,  34.2542, -52.3306,   0.010,   0.0075,    0.15,  10.7282,  10.8100,2,    35.5595,2,  -999.0,9,     -999.0,9,     -999.0,9,     -999.0,9,       1020
33AT20120419,        A20,      57,          1,         23,         23,2,20120506,       0822,    34.2511,   -52.3315,       5399,   745.0,   8.7051,  35.2147,2,  35.2083,2,    162.9,2,   165.9,2,   12.46,2,   21.87,2,    0.00,2,    1.39,2,   1.462,2,   0.862,2,   0.043,2,    0.00,3,  2189.5,2,  2324.2,2,   7.6931,2,    25.00,   0.392,2,   1.7998,2,    6.38,2,   8.7028,2, -999.00,9,  -999.0,9,  -999.0,   7.579,2,   0.035,   0.360,2, -999.00,9,   47.56,2,   25.39,2,  34.2541, -52.3306,   0.010,   0.0076,    0.15,   8.6230,   8.7028,2,    35.3743,2,  -999.0,9,     -999.0,9,     -999.0,9,     -999.0,9,       1017
33AT20120419,        A20,      57,          1,         22,         22,2,20120506,       0822,    34.2511,   -52.3315,       5399,   843.4,   7.2095,  35.1332,2,  35.1333,2,    186.1,2,   187.0,2,   12.99,2,   21.23,2,    0.00,2,    1.37,2,   1.551,2,   0.908,2,   0.059,2,    0.41,3,  2186.2,6,  2321.4,2,   7.6923,2,    25.00,   0.389,2,   1.8204,2,    6.42,2,   7.2135,2, -999.00,9,  -999.0,9,  -999.0,   7.776,2,   0.036,   0.520,2, -999.00,9,   47.73,2,   24.56,2,  34.2540, -52.3306,   0.009,   0.0076,    0.15,   7.1253,   7.2135,2,    35.2989,2,  -999.0,9,     -999.0,9,     -999.0,9,     -999.0,9,       1014
33AT20120419,        A20,      57,          1,         21,         21,2,20120506,       0822,    34.2511,   -52.3315,       5399,   947.0,   6.1768,  35.0923,2,  35.0925,2,    211.5,2,   210.4,2,   12.56,2,   19.95,2,    0.00,2,    1.30,2,   1.777,2,   1.021,2,   0.081,2,    0.30,3,  2182.7,2,  2317.9,2,   7.6988,2,    25.00,   0.423,2,   1.8176,2,    6.65,2,   6.1863,2, -999.00,9,  -999.0,9,  -999.0,   7.843,2,   0.036,   0.720,2, -999.00,9,   45.73,2,   22.86,2,  34.2539, -52.3306,   0.010,   0.0076,    0.15,   6.0890,   6.1863,2,    35.2580,2,  -999.0,9,     -999.0,9,     -999.0,9,     -999.0,9,       1010
33AT20120419,        A20,      57,          1,         20,         20,2,20120506,       0822,    34.2511,   -52.3315,       5399,  1049.5,   5.6053,  35.0983,2,  35.0992,2,    225.2,2,   226.3,2,   12.42,2,   19.15,2,    0.00,2,    1.25,2,-999.000,5,-999.000,5,-999.000,5, -999.00,5,  2178.7,2,  2318.8,2,   7.7119,2,    25.00,   0.399,2,   1.8191,2,    6.62,2,   5.6051,2, -999.00,9,  -999.0,9,  -999.0,   7.755,2,   0.036,-999.000,5, -999.00,9,   44.81,2,   22.80,2,  34.2538, -52.3306,   0.010,   0.0076,    0.15,   5.5117,   5.6051,2,    35.2647,2,  -999.0,9,     -999.0,9,     -999.0,9,     -999.0,9,       1007
33AT20120419,        A20,      57,          1,         19,         19,2,20120506,       0822,    34.2511,   -52.3315,       5399,  1149.8,   5.0993,  35.0562,2,  35.0567,2,    240.9,2,   241.4,2,   11.67,2,   18.33,2,    0.00,2,    1.20,2,   3.090,2,   1.345,2,   0.133,2,    0.79,3,  2173.5,2,  2316.9,2,   7.7135,2,    25.00,   0.455,2,   1.8209,2,    6.60,2,   5.1006,2, -999.00,9,  -999.0,9,  -999.0,   7.921,2,   0.036,   1.130,2, -999.00,9,    43.1,2,   21.82,2,  34.2539, -52.3306,   0.010,   0.0076,    0.15,   5.0004,   5.1006,2,    35.2220,2,  -999.0,9,     -999.0,9,     -999.0,9,     -999.0,9,       1004
33AT20120419,        A20,      57,          1,         18,         18,2,20120506,       0822,    34.2511,   -52.3315,       5399,  1251.9,   4.8007,  35.0394,2,-999.0000,5,    248.1,2,   248.4,2,   11.66,2,   18.03,2,    0.00,2,    1.19,2,   3.125,2,   1.324,2,   0.136,2,    0.30,3,  -999.0,9,  -999.0,9,-999.0000,9,  -999.00,   0.468,2,   1.8308,2,    6.95,2,   4.7998,2, -999.00,9,  -999.0,9,  -999.0,   8.000,2,   0.037,   1.190,2, -999.00,9,   44.65,2,   20.82,2,  34.2539, -52.3306,   0.010,   0.0077,    0.15,   4.6949,   4.7998,2,     -999.0,5,  -999.0,9,     -999.0,9,     -999.0,9,     -999.0,9,       1001
33AT20120419,        A20,      57,          1,         17,         17,2,20120506,       0822,    34.2511,   -52.3315,       5399,  1352.4,   4.5702,  35.0301,2,  35.0299,2,    250.2,2,   250.7,2,   12.26,2,   18.11,2,    0.00,2,    1.19,2,   2.725,2,   1.157,2,   0.117,2,    0.51,3,  2166.4,2,  2316.1,2,   7.7225,2,    25.00,   0.413,2,   1.8382,2,    7.20,2,   4.5699,2, -999.00,9,  -999.0,9,  -999.0,   7.977,2,   0.037,   1.110,2, -999.00,9,   44.23,2,   20.98,2,  34.2540, -52.3306,   0.010,   0.0077,    0.15,   4.4573,   4.5699,2,    35.1951,2,  -999.0,9,     -999.0,9,     -999.0,9,     -999.0,9,       0958
33AT20120419,        A20,      57,          1,         16,         16,2,20120506,       0822,    34.2511,   -52.3315,       5399,  1484.2,   4.2812,  35.0047,2,  35.0047,2,    257.0,2,   256.4,2,   12.32,2,   17.92,2,    0.00,2,    1.17,2,   2.668,2,   1.087,2,   0.115,2,    0.11,3,  -999.0,9,  -999.0,9,-999.0000,9,  -999.00,   0.427,2,   1.8449,2,    7.65,2,   4.2808,2, -999.00,9,  -999.0,9,  -999.0,   7.895,2,   0.036,   1.130,2, -999.00,9,   44.28,2,   20.66,2,  34.2541, -52.3306,   0.010,   0.0077,    0.15,   4.1592,   4.2808,2,    35.1698,2,  -999.0,9,     -999.0,9,     -999.0,9,     -999.0,9,       0954
33AT20120419,        A20,      57,          1,         15,         15,2,20120506,       0822,    34.2511,   -52.3315,       5399,  1685.6,   3.9128,  34.9763,2,  34.9764,2,    261.5,2,   261.7,2,   13.01,2,   17.80,2,    0.00,2,    1.17,2,   2.492,2,   1.013,2,   0.102,2,    0.00,3,  2163.6,2,  2312.0,2,   7.7254,2,    25.00,   0.403,2,-999.0000,9, -999.00,9,   3.9128,2, -999.00,9,  -999.0,9,  -999.0,-999.000,9,-999.000,   1.120,2, -999.00,9,   44.53,2,   20.79,2,  34.2541, -52.3306,   0.010,-999.0000, -999.00,   3.7765,   3.9128,2,    35.1413,2,  -999.0,9,     -999.0,9,     -999.0,9,     -999.0,9,       0950
33AT20120419,        A20,      57,          1,         14,         14,2,20120506,       0822,    34.2511,   -52.3315,       5399,  1888.3,   3.6833,  34.9696,2,  34.9699,2,    263.1,2,   262.6,2,   14.52,2,   17.87,2,    0.00,2,    1.18,2,   1.533,2,   0.797,2,   0.071,2,    0.00,3,  2162.3,2,  2315.3,2,   7.7312,2,    25.00,   0.351,2,   1.8368,2,    8.30,2,   3.6830,2, -999.00,9,  -999.0,9,  -999.0,   8.090,2,   0.037,   0.980,2, -999.00,9,   44.54,2,   20.61,2,  34.2542, -52.3307,   0.010,   0.0077,    0.15,   3.5311,   3.6830,2,    35.1348,2,  -999.0,9,     -999.0,9,     -999.0,9,     -999.0,9,       0945
33AT20120419,        A20,      57,          1,         13,         13,2,20120506,       0822,    34.2511,   -52.3315,       5399,  2113.1,   3.4891,  34.9635,2,  34.9642,2,    262.4,2,   263.5,2,   16.31,2,   17.99,2,    0.00,2,    1.19,2,   1.205,2,   0.632,2,   0.052,2,    0.00,3,  2163.5,2,  2314.9,2,   7.7338,2,    25.00,   0.264,2,   1.8464,2,    7.30,2,   3.4895,2, -999.00,9,  -999.0,9,  -999.0,   8.074,2,   0.037,   0.820,2, -999.00,9,   44.49,2,   21.14,2,  34.2541, -52.3306,   0.010,   0.0078,    0.15,   3.3183,   3.4895,2,    35.1291,2,  -999.0,9,     -999.0,9,     -999.0,9,     -999.0,9,       0938
33AT20120419,        A20,      57,          1,         12,         12,2,20120506,       0822,    34.2511,   -52.3315,       5399,  2369.2,   3.2995,  34.9567,2,  34.9567,2,    261.7,2,   262.0,2,   18.49,2,   18.15,2,    0.00,2,    1.22,2,   0.915,2,   0.483,2,   0.037,2,    0.00,3,  2165.4,2,  2318.9,2,   7.7374,2,    25.00,   0.215,2,   1.8426,2,    6.43,2,   3.2989,2, -999.00,9,  -999.0,9,  -999.0,   8.123,2,   0.037,   0.670,2, -999.00,9,   43.64,2,   21.67,2,  34.2540, -52.3307,   0.010,   0.0077,    0.15,   3.1070,   3.2989,2,    35.1215,2,  -999.0,9,     -999.0,9,     -999.0,9,     -999.0,9,       0933
33AT20120419,        A20,      57,          1,         11,         11,2,20120506,       0822,    34.2511,   -52.3315,       5399,  2624.4,   3.1072,  34.9504,2,  34.9508,2,    260.1,2,   260.7,2,   21.52,2,   18.45,2,    0.00,2,    1.25,2,   0.801,2,   0.342,2,   0.023,2,    0.00,3,  -999.0,9,  -999.0,9,-999.0000,9,  -999.00,   0.146,2,   1.8500,2,    5.32,2,   3.1065,2, -999.00,9,  -999.0,9,  -999.0,   8.151,2,   0.037,   0.480,2, -999.00,9,   44.47,2,   21.67,2,  34.2533, -52.3308,   0.010,   0.0078,    0.15,   2.8928,   3.1065,2,    35.1156,2,  -999.0,9,     -999.0,9,     -999.0,9,     -999.0,9,       0927
33AT20120419,        A20,      57,          1,         10,         10,2,20120506,       0822,    34.2511,   -52.3315,       5399,  2876.5,   2.9164,  34.9399,2,  34.9404,2,    260.3,2,   260.7,2,   23.73,2,   18.66,2,    0.00,2,    1.26,2,   0.475,2,   0.269,2,   0.019,2,    0.00,3,  2167.8,2,  2320.6,2,   7.7396,2,    25.00,-999.000,9,-999.0000,9, -999.00,9,   2.9170,2, -999.00,9,  -999.0,9,  -999.0,-999.000,9,-999.000,   0.400,2, -999.00,9,   42.34,2,   21.35,2,  34.2530, -52.3309,-999.000,-999.0000, -999.00,   2.6802,   2.9170,2,    35.1051,2,  -999.0,9,     -999.0,9,     -999.0,9,     -999.0,9,       0921
33AT20120419,        A20,      57,          1,          9,          9,2,20120506,       0822,    34.2511,   -52.3315,       5399,  3144.1,   2.7240,  34.9277,2,  34.9276,2,    262.6,2,   262.5,2,   25.12,2,   18.63,2,    0.00,2,    1.27,2,   0.409,2,   0.228,2,   0.016,2,    0.00,3,  -999.0,9,  -999.0,9,-999.0000,9,  -999.00,   0.101,2,   1.8543,2,    4.71,2,   2.7245,2, -999.00,9,  -999.0,9,  -999.0,   8.047,2,   0.037,   0.380,2, -999.00,9,   42.56,2,   21.32,2,  34.2527, -52.3310,   0.010,   0.0078,    0.15,   2.4642,   2.7245,2,    35.0923,2,  -999.0,9,     -999.0,9,     -999.0,9,     -999.0,9,       0915
33AT20120419,        A20,      57,          1,          8,          8,2,20120506,       0822,    34.2511,   -52.3315,       5399,  3452.0,   2.4847,  34.9108,2,  34.9107,2,    265.2,2,   265.7,2,   26.89,2,   18.51,2,    0.00,2,    1.26,2,   0.489,2,   0.277,2,   0.025,2,    0.00,3,  2169.3,2,  2323.0,2,   7.7398,2,    25.00,-999.000,9,-999.0000,9, -999.00,9,   2.4851,2, -999.00,9,  -999.0,9,  -999.0,-999.000,9,-999.000,   0.440,2, -999.00,9,   41.97,2,   20.47,2,  34.2521, -52.3310,-999.000,-999.0000, -999.00,   2.1978,   2.4851,2,    35.0753,2,  -999.0,9,     -999.0,9,     -999.0,9,     -999.0,9,       0907
33AT20120419,        A20,      57,          1,          7,          7,2,20120506,       0822,    34.2511,   -52.3315,       5399,  3756.7,   2.3536,  34.8995,2,  34.8993,2,    264.1,2,   264.9,2,   29.59,2,   18.78,2,    0.00,2,    1.29,2,   0.517,2,   0.293,2,   0.028,2,    0.00,3,  -999.0,9,  -999.0,9,-999.0000,9,  -999.00,-999.000,9,-999.0000,9, -999.00,9,   2.3538,2, -999.00,9,  -999.0,9,  -999.0,-999.000,9,-999.000,   0.450,2, -999.00,9,   42.26,2,   20.69,2,  34.2512, -52.3315,-999.000,-999.0000, -999.00,   2.0368,   2.3538,2,    35.0638,2,  -999.0,9,     -999.0,9,     -999.0,9,     -999.0,1,       0901