BOTTLE,20220712CCHSIOCBG
# Merged parameters: BTL_LAT, BTL_LON, SALTREF, SALTREF_FLAG_W, REFTMP, REFTMP_FLAG_W, 14C-DOC, 14C-DOC_FLAG_W, DELO18, DELO18_FLAG_W, DELO17, DELO17_FLAG_W, O2/AR, O2/AR_FLAG_W, SIP, SIP_FLAG_W
# TIME from BO event in SUM file
# 20170130CCHSIOCBG
# Merged parameters: DOC, SF6
# DOC and TDN flags changed to 4 at stn-cast-btl-samp 52-1-11-11 as per Alex Kozyr
# BOTTLE,20141008CCHSIOCBG
# Merged parameters: HELIUM, HELIUM_FLAG_W, DELHE3, DELHE3_FLAG_W, NEON, NEON_FLAG_W, NEONER, HELIER, DELHER
# 20140114CCHSIOSE
# Original header:
# Merged parameters: TCARBN, TCARBN_FLAG_W
# Merged parameters: DOC, DOC_FLAG_W, TDN, TDN_FLAG_W
# Merged parameters: ALKALI, ALKALI_FLAG_W, PH_TOT, PH_TOT_FLAG_W, PH_TMP
# Corrected Total Alkalinity PI
# Changed REFTMP units from "ITS-90" to "DEG C"
# DELO17 units are /MILLE,  not /MEG as listed in parameter table
# BOTTLE,20120515ODF
# REPORTED DEPTH IS CTD_DEPTH + DISTANCE_ABOVE_BOTTOM AT MAX PRESSURE
#
# 20160204PRINUNIVRMK
# file processed by CCHDO on 2016-02-18
# 10/2/2014 Initialized README file  
# Data source: CCHDO 
# SHIP: R/V Atlantis 
# Cruise: AT20; A20.2012 
# Region: western North Atlantic 
# EXPOCODE: 33AT20120419 
# DATES: 4/19 - 5/15/2014 
# Chief Scientist: M.McCartney & D. Gong 
# 83 stations with 36 place Rosette 
# Hydro: Who - J.Swift; Status - final 
# 	Notes: 	Reported depth is CTD_Depth + distance above bottom at maximum pressure 
# Nutrients: Who - J.Swift; Status - final 
# 	Notes: 
# O2: Who - J.Swift; Status - final 
# 	Notes: 
# TCO2: Who - R.Wanninkhof;R.Feely; Status - final 
# 	Notes:  
# TA: Who - F.Millero; Status - final 
# 	Notes:  
# pH: Who - F.Millero; Status - final 
# 	Notes:  
# CFC: Who - W.Smethie;R.Fine; Status - preliminary 
# 	Notes: includes CCl4 & SF6 
# C14: Who - R.Key;A.Mcnichol; Status - final 
# 	Notes: Added 7/31/15 
# H3/He3: Who - W.Jenkins; Status - final 
# 	Notes: final He,Neon data 10/1/2014 
# 	H3 data added 1/25/16 with QC 
# 	H3 data with contamination signal removed added 2/4/16 
# DOC/TDN: Who - D.Hansell; Status - final 
# 	Notes: data from D.H. via A.K. 5/30/13 
# References:
#
# DATA CITATION
#| CCHDO Citation Information
#|
#| Please cite data downloaded from CCHDO as: 
#| [Data providers of the parameter(s) used]. [Year of file access]. [CTD/Bottle] data from cruise [expocode], 
#| [format version used]. Accessed from CCHDO [url of cruise data page]. Access date [date of download].
#| [Applicable CCHDO cruise DOI if provided].
#|
#| For example: 
#| Swift, J. and Becker, S. 2019. CTD data from Cruise 33RR20160321, exchange version. Accessed from CCHDO 
#| https://cchdo.ucsd.edu/cruise/33RR20160321. Access date 2019-08-21. CCHDO cruise DOI: 10.7942/C2008W
#|
#| Information on the scientists who provided the different parameters can be found in the cruise report. 
#| Additionally, for US GO-SHIP cruises, this information is usually in the comments section in the text headers 
#| of the Exchange bottle files.
#|
#| Users are also encouraged to acknowledge the funding program that supported the data collection in their publication. 
#| For US GO-SHIP data this is the NSF/NOAA funded U.S Repeat Hydrography Program.
#|
#| For data citation, please use the data providers listed below. 
#|
#| Programs and Principal Investigators
#|
#| Program                           Affiliation   Principal Investigator   email                      
#| ----------------------------------------------------------------------------------------------------
#| Chief Scientist                   WHOI          Michael McCartney        mmccartney@whoi.edu
#| CTDO/Rosette, Nutrients, O2,      UCSD/SIO      James H. Swift           jswift@ucsd.edu            
#| Salinity, Data Processing                                                                           
#| CFCs                              LDEO          Bill Smethie             bsmeth@ldeo.columbia.edu   
#| SF6                               UM/RSMAS      Rana Fine                rfine@rsmas.miami.edu      
#| CO2-DIC                           NOAA/AOML     Rik Wanninkhof           rik.wanninkhof@noaa.gov    
#|                                   NOAA/PMEL     Richard Feeley           richard.a.feeley@noaa.gov  
#| Total Alkalinity, pH              UCSD/SIO      Andrew Dickson           adickson@ucsd.edu
#| Underway pCO2 with underway T&S   NOAA/AOML     Rik Wanninkhof           Rik.Wanninkhof@noaa.gov    
#
EXPOCODE,SECT_ID,STNNBR,CASTNO,SAMPNO,BTLNBR,BTLNBR_FLAG_W,DATE,TIME,LATITUDE,LONGITUDE,DEPTH,CTDPRS,CTDTMP,CTDSAL,CTDSAL_FLAG_W,SALNTY,SALNTY_FLAG_W,CTDOXY,CTDOXY_FLAG_W,OXYGEN,OXYGEN_FLAG_W,SILCAT,SILCAT_FLAG_W,NITRAT,NITRAT_FLAG_W,NITRIT,NITRIT_FLAG_W,PHSPHT,PHSPHT_FLAG_W,CFC-11,CFC-11_FLAG_W,CFC-12,CFC-12_FLAG_W,CFC113,CFC113_FLAG_W,SF6,SF6_FLAG_W,TCARBN,TCARBN_FLAG_W,ALKALI,ALKALI_FLAG_W,PH_TOT,PH_TOT_FLAG_W,PH_TMP,TRITUM,TRITUM_FLAG_W,HELIUM,HELIUM_FLAG_W,DELHE3,DELHE3_FLAG_W,REFTMP,REFTMP_FLAG_W,DELC13,DELC13_FLAG_W,DELC14,DELC14_FLAG_W,C14ERR,NEON,NEON_FLAG_W,NEONER,CCL4,CCL4_FLAG_W,DELO18,DELO18_FLAG_W,DOC,DOC_FLAG_W,TDN,TDN_FLAG_W,BTL_LAT,BTL_LON,TRITER,HELIER,DELHER,THETA,SBE35,SBE35_FLAG_W,SALTREF,SALTREF_FLAG_W,14C-DOC,14C-DOC_FLAG_W,DELO17,DELO17_FLAG_W,O2/AR,O2/AR_FLAG_W,SIP,SIP_FLAG_W,BTL_TIME
,,,,,,,,,,,METERS,DBAR,ITS-90,PSS-78,,PSS-78,,UMOL/KG,,UMOL/KG,,UMOL/KG,,UMOL/KG,,UMOL/KG,,UMOL/KG,,PMOL/KG,,PMOL/KG,,PMOL/KG,,FMOL/KG,,UMOL/KG,,UMOL/KG,,,,DEG C,TU,,NMOL/KG,,PERCNT,,DEG C,,/MILLE,,/MILLE,,/MILLE,NMOL/KG,,NMOL/KG,PMOL/KG,,/MILLE,,UMOL/KG,,UMOL/KG,,,,TU,NMOL/KG,PERCNT,DEG C,ITS-90,,G/KG,,/MILLE,,/MILLE,,,,,,
33AT20120419,        A20,       1,          1,          4,          4,2,20120421,       1607,     6.8680,   -53.4791,         67,     3.9,  27.8491,  31.1096,2,  31.1080,2,    229.6,2,   229.2,2,    5.10,2,    0.00,2,    0.01,2,    0.01,2,   1.704,2,   1.075,2,   0.140,2, -999.00,5,  1743.0,2,  2096.5,2,   8.2102,2,    25.00,-999.000,9,-999.0000,9, -999.00,9,  27.8466,2, -999.00,9,  -999.0,9,  -999.0,-999.000,9,-999.000,-999.000,9, -999.00,1, -999.00,9, -999.00,9,   6.8680, -53.4793,-999.000,-999.0000, -999.00,  27.8482,  27.8466,2,    31.2547,2,  -999.0,9,     -999.0,1,     -999.0,1,     -999.0,9,       1619
33AT20120419,        A20,       1,          1,          3,          3,2,20120421,       1607,     6.8680,   -53.4791,         67,    23.8,  27.5460,  35.0193,2,  35.0173,2,    198.9,2,   197.8,2,    1.57,2,    0.00,2,    0.00,2,    0.03,2,   1.627,2,   1.037,2,   0.144,2,    1.19,2,  1976.1,2,  2317.8,2,   8.0899,2,    25.00,-999.000,9,-999.0000,9, -999.00,9,  27.5325,2, -999.00,9,  -999.0,9,  -999.0,-999.000,9,-999.000,-999.000,9, -999.00,9, -999.00,9, -999.00,9,   6.8680, -53.4791,-999.000,-999.0000, -999.00,  27.5405,  27.5325,2,    35.1825,2,  -999.0,9,     -999.0,9,     -999.0,9,     -999.0,9,       1614
33AT20120419,        A20,       1,          1,          2,          2,2,20120421,       1607,     6.8680,   -53.4791,         67,    43.6,  25.9412,  36.3374,2,  36.3412,2,    182.2,2,   181.7,2,    1.61,2,    1.03,2,    0.16,2,    0.15,2,-999.000,5,-999.000,5,-999.000,5,    1.14,2,  2066.4,2,  2386.0,2,   8.0402,6,    25.00,-999.000,9,-999.0000,9, -999.00,9,  25.9391,2, -999.00,9,  -999.0,9,  -999.0,-999.000,9,-999.000,-999.000,9, -999.00,9, -999.00,9, -999.00,9,   6.8680, -53.4791,-999.000,-999.0000, -999.00,  25.9314,  25.9391,2,    36.5125,2,  -999.0,9,     -999.0,9,     -999.0,9,     -999.0,9,       1610
33AT20120419,        A20,       1,          1,          1,          1,2,20120421,       1607,     6.8680,   -53.4791,         67,    58.1,  24.8665,  36.2490,2,  36.2515,2,    153.5,2,   153.1,2,    9.96,2,    3.26,2,    0.17,2,    0.40,2,-999.000,5,-999.000,5,-999.000,5,    1.41,2,  2101.8,2,  2395.5,3,   7.9724,6,    25.00,-999.000,9,-999.0000,9, -999.00,9,  24.8689,2, -999.00,9,  -999.0,9,  -999.0,-999.000,9,-999.000,-999.000,9, -999.00,9, -999.00,9, -999.00,9,   6.8680, -53.4791,-999.000,-999.0000, -999.00,  24.8539,  24.8689,2,    36.4224,2,  -999.0,9,     -999.0,9,     -999.0,9,     -999.0,9,       1607
33AT20120419,        A20,       2,          1,          6,          6,2,20120421,       1738,     6.9383,   -53.4483,         75,     3.1,  27.9754,  30.6428,2,  30.6276,2,    233.3,2,   233.0,2,    5.89,2,    0.00,2,    0.00,2,    0.01,2,   1.705,2,   1.077,2,   0.141,2,    1.22,2,  1718.5,6,  2069.1,2,   8.2171,6,    25.00,-999.000,9,-999.0000,9, -999.00,9,  27.9435,2, -999.00,9,  -999.0,9,  -999.0,-999.000,9,-999.000,-999.000,9, -999.00,1, -999.00,9, -999.00,9,   6.9383, -53.4485,-999.000,-999.0000, -999.00,  27.9747,  27.9435,2,    30.7720,2,  -999.0,9,     -999.0,1,     -999.0,1,     -999.0,9,       1749
33AT20120419,        A20,       2,          1,          5,          5,2,20120421,       1738,     6.9383,   -53.4483,         75,    28.3,  27.0087,  36.0449,2,  36.0604,2,    199.3,2,   198.3,2,    0.60,2,    0.00,2,    0.02,2,    0.02,2,   1.670,2,   1.102,2,   0.147,2,    1.21,2,  2024.3,2,  2368.7,6,   8.0851,2,    25.00,-999.000,9,-999.0000,9, -999.00,9,  27.0093,2, -999.00,9,  -999.0,9,  -999.0,-999.000,9,-999.000,-999.000,9, -999.00,9, -999.00,9, -999.00,9,   6.9382, -53.4483,-999.000,-999.0000, -999.00,  27.0022,  27.0093,2,    36.2305,2,  -999.0,9,     -999.0,9,     -999.0,9,     -999.0,9,       1746
33AT20120419,        A20,       2,          1,          2,          2,2,20120421,       1738,     6.9383,   -53.4483,         75,    53.2,  26.6018,  36.2572,2,  36.2575,2,    198.8,2,   197.8,2,    0.58,2,    0.00,2,    0.03,2,    0.02,2,   1.683,2,   1.055,2,   0.140,2,    1.17,2,  2038.9,2,  2377.7,2,   8.0775,2,    25.00,-999.000,9,-999.0000,9, -999.00,9,  26.6000,2, -999.00,9,  -999.0,9,  -999.0,-999.000,9,-999.000,-999.000,9, -999.00,9, -999.00,9, -999.00,9,   6.9382, -53.4483,-999.000,-999.0000, -999.00,  26.5897,  26.6000,2,    36.4284,2,  -999.0,9,     -999.0,9,     -999.0,9,     -999.0,9,       1742
33AT20120419,        A20,       2,          1,          4,          4,2,20120421,       1738,     6.9383,   -53.4483,         75,    53.4,  26.5974,  36.2577,2,-999.0000,9,   -999.0,9,  -999.0,9, -999.00,9, -999.00,9, -999.00,9, -999.00,9,-999.000,9,-999.000,9,-999.000,9, -999.00,9,  -999.0,9,  -999.0,9,-999.0000,9,  -999.00,-999.000,9,-999.0000,9, -999.00,9,  26.5970,2, -999.00,9,  -999.0,9,  -999.0,-999.000,9,-999.000,-999.000,9, -999.00,9, -999.00,9, -999.00,9,   6.9382, -53.4483,-999.000,-999.0000, -999.00,  26.5852,  26.5970,2,     -999.0,9,  -999.0,9,     -999.0,9,     -999.0,9,     -999.0,1,       1743
33AT20120419,        A20,       2,          1,          3,          3,2,20120421,       1738,     6.9383,   -53.4483,         75,    53.6,  26.6002,  36.2574,2,  36.2589,2,   -999.0,9,  -999.0,9, -999.00,9, -999.00,9, -999.00,9, -999.00,9,-999.000,9,-999.000,9,-999.000,9, -999.00,9,  -999.0,9,  -999.0,9,-999.0000,9,  -999.00,-999.000,9,-999.0000,9, -999.00,9,  26.6017,2, -999.00,9,  -999.0,9,  -999.0,-999.000,9,-999.000,-999.000,9, -999.00,9, -999.00,9, -999.00,9,   6.9382, -53.4483,-999.000,-999.0000, -999.00,  26.5880,  26.6017,2,    36.4298,2,  -999.0,9,     -999.0,9,     -999.0,9,     -999.0,1,       1743
33AT20120419,        A20,       2,          1,          1,          1,2,20120421,       1738,     6.9383,   -53.4483,         75,    67.5,  25.1268,  36.4094,2,  36.4119,2,    177.1,2,   176.2,2,    2.05,2,    1.90,2,    0.11,2,    0.20,2,   1.785,2,   1.099,2,   0.118,2,    1.13,2,  2079.5,2,  2390.4,2,   8.0242,2,    25.00,-999.000,9,-999.0000,9, -999.00,9,  25.1022,2, -999.00,9,  -999.0,9,  -999.0,-999.000,9,-999.000,-999.000,9, -999.00,9, -999.00,9, -999.00,9,   6.9383, -53.4483,-999.000,-999.0000, -999.00,  25.1120,  25.1022,2,    36.5836,2,  -999.0,9,     -999.0,9,     -999.0,9,     -999.0,9,       1740
33AT20120419,        A20,       3,          1,          8,          8,2,20120421,       1855,     7.0084,   -53.4160,         92,     4.3,  27.9708,  30.3062,2,-999.0000,9,   -999.0,9,  -999.0,9, -999.00,9, -999.00,9, -999.00,9, -999.00,9,   1.714,2,   1.088,2,   0.145,2,    1.24,2,  -999.0,9,  -999.0,9,-999.0000,9,  -999.00,-999.000,9,-999.0000,9, -999.00,9,  27.9556,2, -999.00,9,  -999.0,9,  -999.0,-999.000,9,-999.000,-999.000,9, -999.00,9, -999.00,9, -999.00,9,   7.0085, -53.4160,-999.000,-999.0000, -999.00,  27.9698,  27.9556,2,     -999.0,9,  -999.0,9,     -999.0,9,     -999.0,9,     -999.0,9,       1906
33AT20120419,        A20,       3,          1,          7,          7,2,20120421,       1855,     7.0084,   -53.4160,         92,     4.4,  28.0044,  30.2114,2,  30.1432,2,    233.2,2,   234.0,2,    6.78,2,    0.00,2,    0.00,2,    0.00,2,   1.586,2,   1.004,2,   0.123,2,    0.81,3,  1693.7,2,  2039.7,2,   8.2253,6,    25.00,-999.000,9,-999.0000,9, -999.00,9,  27.9971,2, -999.00,9,  -999.0,9,  -999.0,-999.000,9,-999.000,   0.910,2, -999.00,1, -999.00,9, -999.00,9,   7.0085, -53.4160,-999.000,-999.0000, -999.00,  28.0034,  27.9971,2,    30.2854,2,  -999.0,9,     -999.0,1,     -999.0,1,     -999.0,9,       1906
33AT20120419,        A20,       3,          1,          6,          6,2,20120421,       1855,     7.0084,   -53.4160,         92,    38.1,  26.8494,  36.2160,2,-999.0000,9,   -999.0,9,  -999.0,9, -999.00,9, -999.00,9, -999.00,9, -999.00,9,   1.677,2,   1.098,2,   0.143,2,    1.22,2,  -999.0,9,  -999.0,9,-999.0000,9,  -999.00,-999.000,9,-999.0000,9, -999.00,9,  26.8484,2, -999.00,9,  -999.0,9,  -999.0,-999.000,9,-999.000,-999.000,9, -999.00,9, -999.00,9, -999.00,9,   7.0084, -53.4161,-999.000,-999.0000, -999.00,  26.8407,  26.8484,2,     -999.0,9,  -999.0,9,     -999.0,9,     -999.0,9,     -999.0,9,       1903
33AT20120419,        A20,       3,          1,          5,          5,2,20120421,       1855,     7.0084,   -53.4160,         92,    38.2,  26.8515,  36.2152,2,  36.2161,2,    198.4,2,   198.1,2,    0.48,2,    0.00,2,    0.00,2,    0.01,2,   1.562,2,   0.990,2,   0.109,2,    1.06,3,  2029.8,2,  2374.5,2,   8.0886,2,    25.00,-999.000,9,-999.0000,9, -999.00,9,  26.8508,2, -999.00,9,  -999.0,9,  -999.0,-999.000,9,-999.000,   0.910,2, -999.00,9, -999.00,9, -999.00,9,   7.0084, -53.4161,-999.000,-999.0000, -999.00,  26.8427,  26.8508,2,    36.3869,2,  -999.0,9,     -999.0,9,     -999.0,9,     -999.0,9,       1903
33AT20120419,        A20,       3,          1,          4,          4,2,20120421,       1855,     7.0084,   -53.4160,         92,    63.3,  26.1432,  36.4680,2,-999.0000,9,   -999.0,9,  -999.0,9, -999.00,9, -999.00,9, -999.00,9, -999.00,9,   1.734,2,   1.089,2,   0.136,2,    1.20,2,  -999.0,9,  -999.0,9,-999.0000,9,  -999.00,-999.000,9,-999.0000,9, -999.00,9,  26.1475,2, -999.00,9,  -999.0,9,  -999.0,-999.000,9,-999.000,-999.000,9, -999.00,9, -999.00,9, -999.00,9,   7.0084, -53.4161,-999.000,-999.0000, -999.00,  26.1290,  26.1475,2,     -999.0,9,  -999.0,9,     -999.0,9,     -999.0,9,     -999.0,9,       1859
33AT20120419,        A20,       3,          1,          3,          3,2,20120421,       1855,     7.0084,   -53.4160,         92,    63.5,  26.1378,  36.4683,2,  36.4684,2,    188.4,2,   186.3,2,    0.65,2,    0.53,2,    0.16,2,    0.07,2,   1.623,2,   1.026,2,   0.111,2,    1.07,3,  2059.8,2,  2392.9,2,   8.0577,6,    25.00,-999.000,9,-999.0000,9, -999.00,9,  26.1367,2, -999.00,9,  -999.0,9,  -999.0,-999.000,9,-999.000,   0.660,2, -999.00,9, -999.00,9, -999.00,9,   7.0084, -53.4161,-999.000,-999.0000, -999.00,  26.1235,  26.1367,2,    36.6404,2,  -999.0,9,     -999.0,9,     -999.0,9,     -999.0,9,       1859
33AT20120419,        A20,       3,          1,          1,          1,2,20120421,       1855,     7.0084,   -53.4160,         92,    86.4,  23.3902,  36.4243,2,  36.4335,2,    165.9,2,   161.3,2,    5.55,2,    3.98,2,    0.16,2,    0.39,2,   1.770,2,   1.096,2,   0.089,2,    1.05,3,  2110.2,6,  2396.7,2,   7.9717,2,    25.00,-999.000,9,-999.0000,9, -999.00,9,  23.3723,2, -999.00,9,  -999.0,9,  -999.0,-999.000,9,-999.000,   0.450,2, -999.00,9, -999.00,9, -999.00,9,   7.0084, -53.4161,-999.000,-999.0000, -999.00,  23.3722,  23.3723,2,    36.6053,2,  -999.0,9,     -999.0,9,     -999.0,9,     -999.0,9,       1856
33AT20120419,        A20,       3,          1,          2,          2,2,20120421,       1855,     7.0084,   -53.4160,         92,    86.5,  23.3493,  36.4252,2,-999.0000,9,   -999.0,9,  -999.0,9, -999.00,9, -999.00,9, -999.00,9, -999.00,9,   1.894,2,   1.169,2,   0.119,2,    1.14,2,  -999.0,9,  -999.0,9,-999.0000,9,  -999.00,-999.000,9,-999.0000,9, -999.00,9,  23.3131,2, -999.00,9,  -999.0,9,  -999.0,-999.000,9,-999.000,-999.000,9, -999.00,9, -999.00,9, -999.00,9,   7.0084, -53.4161,-999.000,-999.0000, -999.00,  23.3313,  23.3131,2,     -999.0,9,  -999.0,9,     -999.0,9,     -999.0,9,     -999.0,9,       1856