BOTTLE,20220712CCHSIOCBG
EXPOCODE,SECT_ID,STNNBR,CASTNO,SAMPNO,BTLNBR,BTLNBR_FLAG_W,DATE,TIME,LATITUDE,LONGITUDE,DEPTH,CTDPRS,CTDTMP,CTDSAL,CTDSAL_FLAG_W,SALNTY,SALNTY_FLAG_W,CTDOXY,CTDOXY_FLAG_W,OXYGEN,OXYGEN_FLAG_W,SILCAT,SILCAT_FLAG_W,NITRAT,NITRAT_FLAG_W,NITRIT,NITRIT_FLAG_W,PHSPHT,PHSPHT_FLAG_W,CFC-11,CFC-11_FLAG_W,CFC-12,CFC-12_FLAG_W,CFC113,CFC113_FLAG_W,SF6,SF6_FLAG_W,TCARBN,TCARBN_FLAG_W,ALKALI,ALKALI_FLAG_W,PH_TOT,PH_TOT_FLAG_W,PH_TMP,TRITUM,TRITUM_FLAG_W,HELIUM,HELIUM_FLAG_W,DELHE3,DELHE3_FLAG_W,REFTMP,REFTMP_FLAG_W,DELC13,DELC13_FLAG_W,DELC14,DELC14_FLAG_W,C14ERR,NEON,NEON_FLAG_W,NEONER,CCL4,CCL4_FLAG_W,DELO18,DELO18_FLAG_W,DOC,DOC_FLAG_W,TDN,TDN_FLAG_W,BTL_LAT,BTL_LON,TRITER,HELIER,DELHER,THETA,SBE35,SBE35_FLAG_W,SALTREF,SALTREF_FLAG_W,14C-DOC,14C-DOC_FLAG_W,DELO17,DELO17_FLAG_W,O2/AR,O2/AR_FLAG_W,SIP,SIP_FLAG_W,BTL_TIME
,,,,,,,,,,,METERS,DBAR,ITS-90,PSS-78,,PSS-78,,UMOL/KG,,UMOL/KG,,UMOL/KG,,UMOL/KG,,UMOL/KG,,UMOL/KG,,PMOL/KG,,PMOL/KG,,PMOL/KG,,FMOL/KG,,UMOL/KG,,UMOL/KG,,,,DEG C,TU,,NMOL/KG,,PERCNT,,DEG C,,/MILLE,,/MILLE,,/MILLE,NMOL/KG,,NMOL/KG,PMOL/KG,,/MILLE,,UMOL/KG,,UMOL/KG,,,,TU,NMOL/KG,PERCNT,DEG C,ITS-90,,G/KG,,/MILLE,,/MILLE,,,,,,
33AT20120419,        A20,      63,          1,          6,          6,2,20120508,       0553,    38.3447,   -52.2963,       5392,  4066.3,   2.3788,  34.8978,2,  34.8982,2,    267.7,2,   268.4,2,   26.66,2,   18.17,2,    0.00,2,    1.23,2,   0.960,2,   0.524,2,   0.053,3,    0.00,3,  -999.0,9,  -999.0,9,-999.0000,9,  -999.00,-999.000,9,-999.0000,9, -999.00,9,   2.3787,2, -999.00,9,  -999.0,9,  -999.0,-999.000,9,-999.000,   0.680,3, -999.00,9,   43.71,2,   20.82,2,  38.3479, -52.2849,-999.000,-999.0000, -999.00,   2.0263,   2.3787,2,    35.0628,2,  -999.0,9,     -999.0,9,     -999.0,9,     -999.0,9,       0624
33AT20120419,        A20,      63,          1,          5,          5,2,20120508,       0553,    38.3447,   -52.2963,       5392,  4370.8,   2.3027,  34.8902,2,  34.8908,2,    267.4,2,   267.4,2,   29.30,2,   18.48,2,    0.00,2,    1.25,2,   0.955,2,   0.531,2,   0.046,3,    0.00,3,  2173.4,2,  2326.6,6,   7.7321,2,    25.00,-999.000,9,-999.0000,9, -999.00,9,   2.3025,2, -999.00,9,  -999.0,9,  -999.0,-999.000,9,-999.000,   0.540,3, -999.00,9,   43.31,2,   21.39,2,  38.3472, -52.2871,-999.000,-999.0000, -999.00,   1.9168,   2.3025,2,    35.0553,2,  -999.0,9,     -999.0,9,     -999.0,9,     -999.0,9,       0618
33AT20120419,        A20,      63,          1,          4,          4,2,20120508,       0553,    38.3447,   -52.2963,       5392,  4681.5,   2.2836,  34.8857,2,  34.8857,2,    265.2,2,   265.5,2,   31.81,2,   18.83,2,    0.00,2,    1.29,2,   0.899,2,   0.496,2,   0.056,3,    0.00,3,  -999.0,9,  -999.0,9,-999.0000,9,  -999.00,-999.000,9,-999.0000,9, -999.00,9,   2.2840,2, -999.00,9,  -999.0,9,  -999.0,-999.000,9,-999.000,   0.560,3, -999.00,9,   43.82,2,   20.90,2,  38.3466, -52.2895,-999.000,-999.0000, -999.00,   1.8610,   2.2840,2,    35.0502,2,  -999.0,9,     -999.0,9,     -999.0,9,     -999.0,9,       0611
33AT20120419,        A20,      63,          1,          3,          3,2,20120508,       0553,    38.3447,   -52.2963,       5392,  4987.8,   2.2807,  34.8814,2,  34.8815,2,    263.4,2,   263.5,2,   34.41,2,   19.25,2,    0.00,2,    1.31,2,   0.800,2,   0.455,2,   0.048,3,    0.00,3,  2179.3,2,  2332.4,2,   7.7297,6,    25.00,-999.000,9,-999.0000,9, -999.00,9,   2.2807,2, -999.00,9,  -999.0,9,  -999.0,-999.000,9,-999.000,   0.500,3, -999.00,9,   43.77,2,   21.87,2,  38.3460, -52.2917,-999.000,-999.0000, -999.00,   1.8202,   2.2807,2,    35.0460,2,  -999.0,9,     -999.0,9,     -999.0,9,     -999.0,9,       0605
33AT20120419,        A20,      63,          1,          2,          2,2,20120508,       0553,    38.3447,   -52.2963,       5392,  5222.2,   2.2767,  34.8776,2,  34.8780,2,    260.9,2,   261.0,2,   37.29,2,   19.70,2,    0.00,2,    1.35,2,   0.685,2,   0.399,2,   0.044,3,    0.00,3,  -999.0,9,  -999.0,9,-999.0000,9,  -999.00,-999.000,9,-999.0000,9, -999.00,9,   2.2768,2, -999.00,9,  -999.0,9,  -999.0,-999.000,9,-999.000,   0.440,3, -999.00,9,   43.75,2,   22.56,2,  38.3454, -52.2937,-999.000,-999.0000, -999.00,   1.7865,   2.2768,2,    35.0425,2,  -999.0,9,     -999.0,9,     -999.0,9,     -999.0,9,       0600
33AT20120419,        A20,      63,          1,          1,          1,2,20120508,       0553,    38.3447,   -52.2963,       5392,  5463.2,   2.2413,  34.8685,2,  34.8695,2,    254.7,2,   255.3,2,   43.99,2,   20.81,2,    0.03,2,    1.46,2,   0.367,2,   0.212,2,   0.022,3,    0.00,3,  2191.6,6,  2345.4,2,   7.7278,2,    25.00,-999.000,9,-999.0000,9, -999.00,9,   2.2406,2, -999.00,9,  -999.0,9,  -999.0,-999.000,9,-999.000,   0.270,3, -999.00,9,   42.39,2,   23.26,2,  38.3448, -52.2959,-999.000,-999.0000, -999.00,   1.7211,   2.2406,2,    35.0340,2,  -999.0,9,     -999.0,9,     -999.0,9,     -999.0,1,       0555