BOTTLE,20220712CCHSIOCBG
EXPOCODE,SECT_ID,STNNBR,CASTNO,SAMPNO,BTLNBR,BTLNBR_FLAG_W,DATE,TIME,LATITUDE,LONGITUDE,DEPTH,CTDPRS,CTDTMP,CTDSAL,CTDSAL_FLAG_W,SALNTY,SALNTY_FLAG_W,CTDOXY,CTDOXY_FLAG_W,OXYGEN,OXYGEN_FLAG_W,SILCAT,SILCAT_FLAG_W,NITRAT,NITRAT_FLAG_W,NITRIT,NITRIT_FLAG_W,PHSPHT,PHSPHT_FLAG_W,CFC-11,CFC-11_FLAG_W,CFC-12,CFC-12_FLAG_W,CFC113,CFC113_FLAG_W,SF6,SF6_FLAG_W,TCARBN,TCARBN_FLAG_W,ALKALI,ALKALI_FLAG_W,PH_TOT,PH_TOT_FLAG_W,PH_TMP,TRITUM,TRITUM_FLAG_W,HELIUM,HELIUM_FLAG_W,DELHE3,DELHE3_FLAG_W,REFTMP,REFTMP_FLAG_W,DELC13,DELC13_FLAG_W,DELC14,DELC14_FLAG_W,C14ERR,NEON,NEON_FLAG_W,NEONER,CCL4,CCL4_FLAG_W,DELO18,DELO18_FLAG_W,DOC,DOC_FLAG_W,TDN,TDN_FLAG_W,BTL_LAT,BTL_LON,TRITER,HELIER,DELHER,THETA,SBE35,SBE35_FLAG_W,SALTREF,SALTREF_FLAG_W,14C-DOC,14C-DOC_FLAG_W,DELO17,DELO17_FLAG_W,O2/AR,O2/AR_FLAG_W,SIP,SIP_FLAG_W,BTL_TIME
,,,,,,,,,,,METERS,DBAR,ITS-90,PSS-78,,PSS-78,,UMOL/KG,,UMOL/KG,,UMOL/KG,,UMOL/KG,,UMOL/KG,,UMOL/KG,,PMOL/KG,,PMOL/KG,,PMOL/KG,,FMOL/KG,,UMOL/KG,,UMOL/KG,,,,DEG C,TU,,NMOL/KG,,PERCNT,,DEG C,,/MILLE,,/MILLE,,/MILLE,NMOL/KG,,NMOL/KG,PMOL/KG,,/MILLE,,UMOL/KG,,UMOL/KG,,,,TU,NMOL/KG,PERCNT,DEG C,ITS-90,,G/KG,,/MILLE,,/MILLE,,,,,,
33AT20120419,        A20,      54,          1,         36,         36,2,20120505,       0814,    31.9950,   -52.3330,       5688,     6.2,  20.5970,  36.7079,2,  36.7072,2,    224.7,2,   225.2,2,    0.14,2,    0.00,2,    0.00,2,    0.00,2,   2.110,2,   1.291,2,   0.199,2,    1.50,2,  2087.1,6,  2404.6,2,   8.0357,2,    25.00,-999.000,9,-999.0000,9, -999.00,9,  20.5955,2, -999.00,9,  -999.0,9,  -999.0,-999.000,9,-999.000,-999.000,9, -999.00,9, -999.00,9, -999.00,9,  31.9971, -52.3320,-999.000,-999.0000, -999.00,  20.5958,  20.5955,2,    36.8803,2,  -999.0,9,     -999.0,9,     -999.0,9,     -999.0,9,       1033
33AT20120419,        A20,      54,          1,         35,         35,2,20120505,       0814,    31.9950,   -52.3330,       5688,    34.2,  20.3129,  36.7301,2,  36.7324,2,    226.0,2,   226.3,2,    0.16,2,    0.00,2,    0.00,2,    0.00,2,-999.000,9,-999.000,9,-999.000,9, -999.00,9,  2086.6,2,  2406.7,2,   8.0379,6,    25.00,-999.000,9,-999.0000,9, -999.00,9,  20.3086,2, -999.00,9,  -999.0,9,  -999.0,-999.000,9,-999.000,-999.000,9, -999.00,9, -999.00,9, -999.00,9,  31.9971, -52.3320,-999.000,-999.0000, -999.00,  20.3065,  20.3086,2,    36.9056,2,  -999.0,9,     -999.0,9,     -999.0,9,     -999.0,9,       1030
33AT20120419,        A20,      54,          1,         34,         34,2,20120505,       0814,    31.9950,   -52.3330,       5688,    59.7,  20.0477,  36.7379,2,  36.7377,2,    226.2,2,   225.7,2,    0.14,2,    0.00,2,    0.00,2,    0.00,2,   2.141,2,   1.290,2,   0.177,2,    1.47,2,  2087.5,2,  2406.1,2,   8.0368,2,    25.00,-999.000,9,-999.0000,9, -999.00,9,  20.0476,2, -999.00,9,  -999.0,9,  -999.0,-999.000,9,-999.000,-999.000,9, -999.00,9, -999.00,9, -999.00,9,  31.9971, -52.3320,-999.000,-999.0000, -999.00,  20.0366,  20.0476,2,    36.9110,2,  -999.0,9,     -999.0,9,     -999.0,9,     -999.0,1,       1028
33AT20120419,        A20,      54,          1,         33,         33,2,20120505,       0814,    31.9950,   -52.3330,       5688,    84.3,  19.3617,  36.5502,2,  36.5569,2,    230.9,2,   231.4,2,    0.02,2,    0.01,2,    0.00,2,    0.00,2,   2.242,2,   1.362,2,   0.189,2,    1.56,2,  2082.0,2,  2395.9,2,   8.0342,2,    25.00,-999.000,9,-999.0000,9, -999.00,9,  19.3636,2, -999.00,9,  -999.0,9,  -999.0,-999.000,9,-999.000,-999.000,9, -999.00,9, -999.00,9, -999.00,9,  31.9970, -52.3320,-999.000,-999.0000, -999.00,  19.3464,  19.3636,2,    36.7293,2,  -999.0,9,     -999.0,9,     -999.0,9,     -999.0,9,       1025
33AT20120419,        A20,      54,          1,         32,         32,2,20120505,       0814,    31.9950,   -52.3330,       5688,   116.0,  19.3823,  36.6302,2,  36.6319,2,    221.5,2,   218.4,2,    0.27,2,    0.54,2,    0.07,2,    0.00,2,   2.233,2,   1.367,2,   0.171,2,    1.49,2,  -999.0,9,  -999.0,9,-999.0000,9,  -999.00,-999.000,9,-999.0000,9, -999.00,9,  19.3742,2, -999.00,9,  -999.0,9,  -999.0,-999.000,9,-999.000,-999.000,9, -999.00,9, -999.00,9, -999.00,9,  31.9967, -52.3321,-999.000,-999.0000, -999.00,  19.3611,  19.3742,2,    36.8046,2,  -999.0,9,     -999.0,9,     -999.0,9,     -999.0,9,       1022
33AT20120419,        A20,      54,          1,         31,         31,2,20120505,       0814,    31.9950,   -52.3330,       5688,   167.1,  18.8114,  36.5592,2,  36.5592,2,    205.9,2,   207.7,2,    0.49,2,    2.12,2,    0.02,2,    0.07,2,   2.240,2,   1.349,2,   0.116,2,    1.41,2,  2104.8,2,  2394.3,2,   7.9921,2,    25.00,-999.000,9,-999.0000,9, -999.00,9,  18.8082,2, -999.00,9,  -999.0,9,  -999.0,-999.000,9,-999.000,-999.000,9, -999.00,9, -999.00,9, -999.00,9,  31.9966, -52.3322,-999.000,-999.0000, -999.00,  18.7815,  18.8082,2,    36.7315,2,  -999.0,9,     -999.0,9,     -999.0,9,     -999.0,9,       1020
33AT20120419,        A20,      54,          1,         30,         30,2,20120505,       0814,    31.9950,   -52.3330,       5688,   215.9,  18.2755,  36.5805,2,  36.5800,2,    198.2,2,   196.5,2,    1.00,2,    4.18,2,    0.02,2,    0.18,2,   2.283,2,   1.365,2,   0.038,2,    1.38,2,  2116.1,2,  2393.4,2,   7.9698,2,    25.00,-999.000,9,-999.0000,9, -999.00,9,  18.2756,2, -999.00,9,  -999.0,9,  -999.0,-999.000,9,-999.000,-999.000,9, -999.00,9, -999.00,9, -999.00,9,  31.9964, -52.3323,-999.000,-999.0000, -999.00,  18.2376,  18.2756,2,    36.7525,2,  -999.0,9,     -999.0,9,     -999.0,9,     -999.0,9,       1017
33AT20120419,        A20,      54,          1,         29,         29,2,20120505,       0814,    31.9950,   -52.3330,       5688,   265.9,  17.9713,  36.5526,2,  36.5518,2,    202.2,2,   201.8,2,    1.01,2,    4.38,2,    0.01,2,    0.19,2,   2.340,2,   1.427,2,   0.041,2,    1.38,2,  2116.1,2,  2389.8,2,   7.9697,2,    25.00,-999.000,9,-999.0000,9, -999.00,9,  17.9731,2, -999.00,9,  -999.0,9,  -999.0,-999.000,9,-999.000,-999.000,9, -999.00,9, -999.00,9, -999.00,9,  31.9963, -52.3323,-999.000,-999.0000, -999.00,  17.9251,  17.9731,2,    36.7242,2,  -999.0,9,     -999.0,9,     -999.0,9,     -999.0,9,       1015
33AT20120419,        A20,      54,          1,         28,         28,2,20120505,       0814,    31.9950,   -52.3330,       5688,   319.5,  17.7062,  36.5138,2,  36.5128,2,    203.3,2,   202.8,2,    1.22,2,    4.81,2,    0.01,2,    0.21,2,   2.322,2,   1.388,2,   0.047,2,    1.25,2,  2117.8,2,  2388.4,2,   7.9630,2,    25.00,-999.000,9,-999.0000,9, -999.00,9,  17.7054,2, -999.00,9,  -999.0,9,  -999.0,-999.000,9,-999.000,-999.000,9, -999.00,9, -999.00,9, -999.00,9,  31.9962, -52.3324,-999.000,-999.0000, -999.00,  17.6512,  17.7054,2,    36.6850,2,  -999.0,9,     -999.0,9,     -999.0,9,     -999.0,9,       1013
33AT20120419,        A20,      54,          1,         27,         27,2,20120505,       0814,    31.9950,   -52.3330,       5688,   366.6,  17.4030,  36.4593,2,  36.4565,2,    201.2,2,   201.1,2,    1.33,2,    5.42,2,    0.01,2,    0.26,2,-999.000,9,-999.000,9,-999.000,9, -999.00,9,  -999.0,9,  -999.0,9,-999.0000,9,  -999.00,-999.000,9,-999.0000,9, -999.00,9,  17.4017,2, -999.00,9,  -999.0,9,  -999.0,-999.000,9,-999.000,-999.000,9, -999.00,9, -999.00,9, -999.00,9,  31.9961, -52.3324,-999.000,-999.0000, -999.00,  17.3406,  17.4017,2,    36.6284,2,  -999.0,9,     -999.0,9,     -999.0,9,     -999.0,1,       1011
33AT20120419,        A20,      54,          1,         26,         26,2,20120505,       0814,    31.9950,   -52.3330,       5688,   441.6,  16.7072,  36.3215,2,  36.3157,2,    194.2,2,   193.4,2,    2.07,2,    7.39,2,    0.00,2,    0.39,2,   2.399,2,   1.430,2,   0.046,2,    1.25,2,  2128.2,2,  2376.5,6,   7.9257,2,    25.00,-999.000,9,-999.0000,9, -999.00,9,  16.7063,2, -999.00,9,  -999.0,9,  -999.0,-999.000,9,-999.000,-999.000,9, -999.00,9, -999.00,9, -999.00,9,  31.9960, -52.3325,-999.000,-999.0000, -999.00,  16.6340,  16.7063,2,    36.4870,2,  -999.0,9,     -999.0,9,     -999.0,9,     -999.0,9,       1009
33AT20120419,        A20,      54,          1,         25,         25,2,20120505,       0814,    31.9950,   -52.3330,       5688,   538.9,  15.0569,  36.0174,2,  36.0085,2,    189.0,2,   190.2,2,    3.33,2,   10.14,2,    0.00,2,    0.59,2,   2.453,2,   1.445,2,   0.046,2,    1.22,2,  2140.2,2,  2362.1,2,   7.8779,2,    25.00,-999.000,9,-999.0000,9, -999.00,9,  15.0569,2, -999.00,9,  -999.0,9,  -999.0,-999.000,9,-999.000,-999.000,9, -999.00,9, -999.00,9, -999.00,9,  31.9959, -52.3325,-999.000,-999.0000, -999.00,  14.9736,  15.0569,2,    36.1783,2,  -999.0,9,     -999.0,9,     -999.0,9,     -999.0,9,       1006
33AT20120419,        A20,      54,          1,         24,         24,2,20120505,       0814,    31.9950,   -52.3330,       5688,   642.8,  13.3399,  35.7443,2,  35.7297,2,    180.1,2,   177.4,2,    5.72,2,   14.28,2,    0.00,2,    0.87,2,   2.271,2,   1.260,2,   0.050,2,    1.11,2,  2155.3,2,  2345.2,2,   7.8169,6,    25.00,-999.000,9,-999.0000,9, -999.00,9,  13.3386,2, -999.00,9,  -999.0,9,  -999.0,-999.000,9,-999.000,-999.000,9, -999.00,9, -999.00,9, -999.00,9,  31.9959, -52.3325,-999.000,-999.0000, -999.00,  13.2479,  13.3386,2,    35.8982,2,  -999.0,9,     -999.0,9,     -999.0,9,     -999.0,9,       1003
33AT20120419,        A20,      54,          1,         23,         23,2,20120505,       0814,    31.9950,   -52.3330,       5688,   742.3,  10.9773,  35.4094,2,  35.3884,2,    150.5,2,   149.7,2,   10.64,2,   21.06,2,    0.00,2,    1.32,2,   1.705,2,   0.918,2,   0.039,2,    0.71,2,  2182.9,2,  2329.2,2,   7.7206,2,    25.00,-999.000,9,-999.0000,9, -999.00,9,  10.9414,2, -999.00,9,  -999.0,9,  -999.0,-999.000,9,-999.000,-999.000,9, -999.00,9, -999.00,9, -999.00,9,  31.9958, -52.3325,-999.000,-999.0000, -999.00,  10.8832,  10.9414,2,    35.5553,2,  -999.0,9,     -999.0,9,     -999.0,9,     -999.0,9,       1001
33AT20120419,        A20,      54,          1,         22,         22,2,20120505,       0814,    31.9950,   -52.3330,       5688,   843.4,   8.8871,  35.2137,2,  35.2171,2,    159.2,2,   160.5,2,   12.34,2,   22.16,2,    0.00,2,    1.40,2,   1.628,2,   0.836,2,   0.039,2,    0.60,2,  2187.6,6,  2324.4,2,   7.6912,2,    25.00,-999.000,9,-999.0000,9, -999.00,9,   8.9115,2, -999.00,9,  -999.0,9,  -999.0,-999.000,9,-999.000,-999.000,9, -999.00,9, -999.00,9, -999.00,9,  31.9958, -52.3325,-999.000,-999.0000, -999.00,   8.7925,   8.9115,2,    35.3832,2,  -999.0,9,     -999.0,9,     -999.0,9,     -999.0,9,       0958
33AT20120419,        A20,      54,          1,         21,         21,2,20120505,       0814,    31.9950,   -52.3330,       5688,   943.2,   7.2461,  35.1488,2,  35.1474,2,    186.8,2,   186.9,2,   12.92,2,   21.32,2,    0.00,2,    1.37,2,   1.637,2,   0.834,2,   0.049,2,    0.46,2,  2185.7,2,  2322.3,2,   7.6946,2,    25.00,-999.000,9,-999.0000,9, -999.00,9,   7.2393,2, -999.00,9,  -999.0,9,  -999.0,-999.000,9,-999.000,-999.000,9, -999.00,9, -999.00,9, -999.00,9,  31.9957, -52.3326,-999.000,-999.0000, -999.00,   7.1511,   7.2393,2,    35.3131,2,  -999.0,9,     -999.0,9,     -999.0,9,     -999.0,9,       0955
33AT20120419,        A20,      54,          1,         20,         20,2,20120505,       0814,    31.9950,   -52.3330,       5688,  1048.3,   6.1721,  35.1086,2,  35.1080,2,    209.5,2,   214.0,2,   12.18,2,   19.71,2,    0.00,2,    1.28,2,   2.083,2,   1.049,2,   0.082,2,    0.53,2,  2181.5,2,  2319.8,2,   7.7033,2,    25.00,-999.000,9,-999.0000,9, -999.00,9,   6.1734,2, -999.00,9,  -999.0,9,  -999.0,-999.000,9,-999.000,-999.000,9, -999.00,9, -999.00,9, -999.00,9,  31.9956, -52.3326,-999.000,-999.0000, -999.00,   6.0742,   6.1734,2,    35.2736,2,  -999.0,9,     -999.0,9,     -999.0,9,     -999.0,9,       0952
33AT20120419,        A20,      54,          1,         19,         19,2,20120505,       0814,    31.9950,   -52.3330,       5688,  1148.6,   5.6418,  35.0934,2,  35.0931,2,    223.9,2,   227.5,2,   11.94,2,   19.01,2,    0.00,2,    1.23,2,   2.184,2,   1.113,2,   0.098,2,    0.66,2,  -999.0,9,  -999.0,9,-999.0000,9,  -999.00,-999.000,9,-999.0000,9, -999.00,9,   5.6415,2, -999.00,9,  -999.0,9,  -999.0,-999.000,9,-999.000,-999.000,9, -999.00,9, -999.00,9, -999.00,9,  31.9955, -52.3327,-999.000,-999.0000, -999.00,   5.5383,   5.6415,2,    35.2586,2,  -999.0,9,     -999.0,9,     -999.0,9,     -999.0,9,       0950
33AT20120419,        A20,      54,          1,         18,         18,2,20120505,       0814,    31.9950,   -52.3330,       5688,  1248.2,   5.2619,  35.0815,2,  35.0813,2,    234.6,2,   236.0,2,   11.87,2,   18.66,2,    0.00,2,    1.22,2,   2.162,2,   1.097,2,   0.111,2,    0.63,2,  2174.4,2,  2316.8,2,   7.7164,2,    25.00,-999.000,9,-999.0000,9, -999.00,9,   5.2653,2, -999.00,9,  -999.0,9,  -999.0,-999.000,9,-999.000,-999.000,9, -999.00,9, -999.00,9, -999.00,9,  31.9954, -52.3327,-999.000,-999.0000, -999.00,   5.1521,   5.2653,2,    35.2467,2,  -999.0,9,     -999.0,9,     -999.0,9,     -999.0,9,       0947
33AT20120419,        A20,      54,          1,         17,         17,2,20120505,       0814,    31.9950,   -52.3330,       5688,  1349.5,   4.9506,  35.0657,2,  35.1000,3,    242.4,2,   242.9,2,   11.83,2,   18.35,2,    0.00,2,    1.20,2,   2.158,2,   1.098,2,   0.122,2,    0.59,2,  -999.0,9,  -999.0,9,-999.0000,9,  -999.00,-999.000,9,-999.0000,9, -999.00,9,   4.9513,2, -999.00,9,  -999.0,9,  -999.0,-999.000,9,-999.000,-999.000,9, -999.00,9, -999.00,9, -999.00,9,  31.9954, -52.3327,-999.000,-999.0000, -999.00,   4.8341,   4.9513,2,    35.2655,3,  -999.0,9,     -999.0,9,     -999.0,9,     -999.0,9,       0944
33AT20120419,        A20,      54,          1,         16,         16,2,20120505,       0814,    31.9950,   -52.3330,       5688,  1480.4,   4.5169,  35.0238,2,  35.0242,2,    252.5,2,   252.7,2,   11.78,2,   17.97,2,    0.00,2,    1.18,2,   2.397,2,   1.196,2,   0.142,2,    0.59,2,  2168.6,2,  2315.7,2,   7.7205,2,    25.00,-999.000,9,-999.0000,9, -999.00,9,   4.5163,2, -999.00,9,  -999.0,9,  -999.0,-999.000,9,-999.000,-999.000,9, -999.00,9, -999.00,9, -999.00,9,  31.9955, -52.3327,-999.000,-999.0000, -999.00,   4.3926,   4.5163,2,    35.1894,2,  -999.0,9,     -999.0,9,     -999.0,9,     -999.0,9,       0941
33AT20120419,        A20,      54,          1,         15,         15,2,20120505,       0814,    31.9950,   -52.3330,       5688,  1680.6,   4.1689,  35.0043,2,  35.0043,2,    257.3,2,   257.3,2,   12.51,2,   17.90,2,    0.00,2,    1.17,2,   2.085,2,   1.021,2,   0.103,2,    0.41,2,  2166.6,2,  2313.7,2,   7.7258,2,    25.00,-999.000,9,-999.0000,9, -999.00,9,   4.1694,2, -999.00,9,  -999.0,9,  -999.0,-999.000,9,-999.000,-999.000,9, -999.00,9, -999.00,9, -999.00,9,  31.9957, -52.3326,-999.000,-999.0000, -999.00,   4.0298,   4.1694,2,    35.1694,2,  -999.0,9,     -999.0,9,     -999.0,9,     -999.0,9,       0937
33AT20120419,        A20,      54,          1,         14,         14,2,20120505,       0814,    31.9950,   -52.3330,       5688,  1883.8,   3.8883,  34.9910,2,  34.9915,2,    259.9,2,   260.1,2,   13.94,2,   17.94,2,    0.00,2,    1.18,2,   1.726,2,   0.833,2,   0.084,2,    0.32,2,  2164.4,2,  2313.4,2,   7.7295,2,    25.00,-999.000,9,-999.0000,9, -999.00,9,   3.8891,2, -999.00,9,  -999.0,9,  -999.0,-999.000,9,-999.000,-999.000,9, -999.00,9, -999.00,9, -999.00,9,  31.9957, -52.3326,-999.000,-999.0000, -999.00,   3.7336,   3.8891,2,    35.1566,2,  -999.0,9,     -999.0,9,     -999.0,9,     -999.0,9,       0933
33AT20120419,        A20,      54,          1,         13,         13,2,20120505,       0814,    31.9950,   -52.3330,       5688,  2109.8,   3.6945,  34.9894,2,  34.9894,2,    258.8,2,   259.0,2,   16.38,2,   18.17,2,    0.00,2,    1.20,2,   1.262,2,   0.592,2,   0.048,2,    0.23,2,  2166.1,2,  2316.9,2,   7.7336,2,    25.00,-999.000,9,-999.0000,9, -999.00,9,   3.6932,2, -999.00,9,  -999.0,9,  -999.0,-999.000,9,-999.000,-999.000,9, -999.00,9, -999.00,9, -999.00,9,  31.9955, -52.3327,-999.000,-999.0000, -999.00,   3.5208,   3.6932,2,    35.1544,2,  -999.0,9,     -999.0,9,     -999.0,9,     -999.0,9,       0928
33AT20120419,        A20,      54,          1,         12,         12,2,20120505,       0814,    31.9950,   -52.3330,       5688,  2364.3,   3.4643,  34.9840,2,  34.9847,2,    255.6,2,   254.8,2,   20.71,2,   18.79,2,    0.00,2,    1.25,2,   0.634,2,   0.280,2,   0.022,2,    0.10,2,  -999.0,9,  -999.0,9,-999.0000,9,  -999.00,-999.000,9,-999.0000,9, -999.00,9,   3.4639,2, -999.00,9,  -999.0,9,  -999.0,-999.000,9,-999.000,-999.000,9, -999.00,9, -999.00,9, -999.00,9,  31.9952, -52.3328,-999.000,-999.0000, -999.00,   3.2693,   3.4639,2,    35.1496,2,  -999.0,9,     -999.0,9,     -999.0,9,     -999.0,9,       0923
33AT20120419,        A20,      54,          1,         11,         11,2,20120505,       0814,    31.9950,   -52.3330,       5688,  2614.6,   3.2469,  34.9665,2,  34.9668,2,    255.8,2,   256.0,2,   22.58,2,   18.91,2,    0.00,2,    1.27,2,   0.488,2,   0.221,2,   0.015,2,    0.12,2,  -999.0,9,  -999.0,9,-999.0000,9,  -999.00,-999.000,9,-999.0000,9, -999.00,9,   3.2467,2, -999.00,9,  -999.0,9,  -999.0,-999.000,9,-999.000,-999.000,9, -999.00,9, -999.00,9, -999.00,9,  31.9950, -52.3329,-999.000,-999.0000, -999.00,   3.0308,   3.2467,2,    35.1317,2,  -999.0,9,     -999.0,9,     -999.0,9,     -999.0,1,       0917
33AT20120419,        A20,      54,          1,         10,         10,2,20120505,       0814,    31.9950,   -52.3330,       5688,  2874.4,   3.0472,  34.9528,2,  34.9532,2,    255.9,2,   256.1,2,   24.91,2,   19.16,2,    0.00,2,    1.29,2,   0.334,2,   0.142,2,   0.009,2,    0.08,2,  2171.4,2,  2326.0,6,   7.7411,2,    25.00,-999.000,9,-999.0000,9, -999.00,9,   3.0476,2, -999.00,9,  -999.0,9,  -999.0,-999.000,9,-999.000,-999.000,9, -999.00,9, -999.00,9, -999.00,9,  31.9952, -52.3329,-999.000,-999.0000, -999.00,   2.8084,   3.0476,2,    35.1180,2,  -999.0,9,     -999.0,9,     -999.0,9,     -999.0,9,       0912
33AT20120419,        A20,      54,          1,          9,          9,2,20120505,       0814,    31.9950,   -52.3330,       5688,  3142.7,   2.8560,  34.9378,2,  34.9377,2,    258.2,2,   258.5,2,   26.42,2,   19.14,2,    0.00,2,    1.29,2,   0.332,2,   0.145,2,   0.014,2,    0.08,2,  2171.3,2,  2327.9,2,   7.7410,2,    25.00,-999.000,9,-999.0000,9, -999.00,9,   2.8547,2, -999.00,9,  -999.0,9,  -999.0,-999.000,9,-999.000,-999.000,9, -999.00,9, -999.00,9, -999.00,9,  31.9951, -52.3329,-999.000,-999.0000, -999.00,   2.5933,   2.8547,2,    35.1025,2,  -999.0,9,     -999.0,9,     -999.0,9,     -999.0,9,       0907
33AT20120419,        A20,      54,          1,          8,          8,2,20120505,       0814,    31.9950,   -52.3330,       5688,  3448.3,   2.6235,  34.9201,2,  34.9206,2,    262.3,2,   262.9,2,   26.76,2,   18.82,2,    0.00,2,    1.28,2,   0.429,2,   0.192,2,   0.020,2,    0.06,2,  2171.5,2,  2325.3,6,   7.7409,2,    25.00,-999.000,9,-999.0000,9, -999.00,9,   2.6232,2, -999.00,9,  -999.0,9,  -999.0,-999.000,9,-999.000,-999.000,9, -999.00,9, -999.00,9, -999.00,9,  31.9951, -52.3329,-999.000,-999.0000, -999.00,   2.3335,   2.6232,2,    35.0853,2,  -999.0,9,     -999.0,9,     -999.0,9,     -999.0,9,       0901
33AT20120419,        A20,      54,          1,          7,          7,2,20120505,       0814,    31.9950,   -52.3330,       5688,  3756.4,   2.4618,  34.9075,2,  34.9080,2,    264.1,2,   264.0,2,   28.39,2,   18.82,2,    0.00,2,    1.27,2,   0.490,2,   0.218,2,   0.024,2,    0.09,2,  -999.0,9,  -999.0,9,-999.0000,9,  -999.00,-999.000,9,-999.0000,9, -999.00,9,   2.4613,2, -999.00,9,  -999.0,9,  -999.0,-999.000,9,-999.000,-999.000,9, -999.00,9, -999.00,9, -999.00,9,  31.9952, -52.3329,-999.000,-999.0000, -999.00,   2.1421,   2.4613,2,    35.0726,2,  -999.0,9,     -999.0,9,     -999.0,9,     -999.0,9,       0855