BOTTLE,20220712CCHSIOCBG
EXPOCODE,SECT_ID,STNNBR,CASTNO,SAMPNO,BTLNBR,BTLNBR_FLAG_W,DATE,TIME,LATITUDE,LONGITUDE,DEPTH,CTDPRS,CTDTMP,CTDSAL,CTDSAL_FLAG_W,SALNTY,SALNTY_FLAG_W,CTDOXY,CTDOXY_FLAG_W,OXYGEN,OXYGEN_FLAG_W,SILCAT,SILCAT_FLAG_W,NITRAT,NITRAT_FLAG_W,NITRIT,NITRIT_FLAG_W,PHSPHT,PHSPHT_FLAG_W,CFC-11,CFC-11_FLAG_W,CFC-12,CFC-12_FLAG_W,CFC113,CFC113_FLAG_W,SF6,SF6_FLAG_W,TCARBN,TCARBN_FLAG_W,ALKALI,ALKALI_FLAG_W,PH_TOT,PH_TOT_FLAG_W,PH_TMP,TRITUM,TRITUM_FLAG_W,HELIUM,HELIUM_FLAG_W,DELHE3,DELHE3_FLAG_W,REFTMP,REFTMP_FLAG_W,DELC13,DELC13_FLAG_W,DELC14,DELC14_FLAG_W,C14ERR,NEON,NEON_FLAG_W,NEONER,CCL4,CCL4_FLAG_W,DELO18,DELO18_FLAG_W,DOC,DOC_FLAG_W,TDN,TDN_FLAG_W,BTL_LAT,BTL_LON,TRITER,HELIER,DELHER,THETA,SBE35,SBE35_FLAG_W,SALTREF,SALTREF_FLAG_W,14C-DOC,14C-DOC_FLAG_W,DELO17,DELO17_FLAG_W,O2/AR,O2/AR_FLAG_W,SIP,SIP_FLAG_W,BTL_TIME
,,,,,,,,,,,METERS,DBAR,ITS-90,PSS-78,,PSS-78,,UMOL/KG,,UMOL/KG,,UMOL/KG,,UMOL/KG,,UMOL/KG,,UMOL/KG,,PMOL/KG,,PMOL/KG,,PMOL/KG,,FMOL/KG,,UMOL/KG,,UMOL/KG,,,,DEG C,TU,,NMOL/KG,,PERCNT,,DEG C,,/MILLE,,/MILLE,,/MILLE,NMOL/KG,,NMOL/KG,PMOL/KG,,/MILLE,,UMOL/KG,,UMOL/KG,,,,TU,NMOL/KG,PERCNT,DEG C,ITS-90,,G/KG,,/MILLE,,/MILLE,,,,,,
33AT20120419,        A20,      64,          1,          6,          6,2,20120508,       1156,    38.6677,   -52.3298,       5361,  3856.4,   2.4030,  34.9005,2,  34.9012,2,    268.8,2,   269.0,2,   25.06,2,   17.95,2,    0.00,2,    1.22,2,   1.241,2,   0.581,2,   0.068,2,    0.24,2,  -999.0,9,  -999.0,9,-999.0000,9,  -999.00,-999.000,9,-999.0000,9, -999.00,9,   2.4026,2, -999.00,9,  -999.0,9,  -999.0,-999.000,9,-999.000,-999.000,9, -999.00,9, -999.00,9, -999.00,9,  38.6677, -52.3259,-999.000,-999.0000, -999.00,   2.0737,   2.4026,2,    35.0657,2,  -999.0,9,     -999.0,9,     -999.0,9,     -999.0,9,       1228
33AT20120419,        A20,      64,          1,          5,          5,2,20120508,       1156,    38.6677,   -52.3298,       5361,  4165.5,   2.3160,  34.8924,2,  34.8927,2,    266.7,2,   266.2,2,   29.49,2,   18.60,2,    0.00,2,    1.28,2,-999.000,5,-999.000,5,-999.000,5,    0.24,2,  2173.3,2,  2326.0,2,-999.0000,5,    25.00,-999.000,9,-999.0000,9, -999.00,9,   2.3161,2, -999.00,9,  -999.0,9,  -999.0,-999.000,9,-999.000,-999.000,9, -999.00,9, -999.00,9, -999.00,9,  38.6677, -52.3267,-999.000,-999.0000, -999.00,   1.9538,   2.3161,2,    35.0573,2,  -999.0,9,     -999.0,9,     -999.0,9,     -999.0,9,       1222
33AT20120419,        A20,      64,          1,          4,          4,2,20120508,       1156,    38.6677,   -52.3298,       5361,  4475.6,   2.2759,  34.8869,2,  34.8870,2,    265.9,2,   265.6,2,   30.95,2,   18.75,2,    0.00,2,    1.29,2,   1.074,2,   0.499,2,   0.062,2,    0.27,2,  -999.0,9,  -999.0,9,-999.0000,9,  -999.00,-999.000,9,-999.0000,9, -999.00,9,   2.2765,2, -999.00,9,  -999.0,9,  -999.0,-999.000,9,-999.000,-999.000,9, -999.00,9, -999.00,9, -999.00,9,  38.6677, -52.3276,-999.000,-999.0000, -999.00,   1.8784,   2.2765,2,    35.0515,2,  -999.0,9,     -999.0,9,     -999.0,9,     -999.0,9,       1216
33AT20120419,        A20,      64,          1,          3,          3,2,20120508,       1156,    38.6677,   -52.3298,       5361,  4785.7,   2.2633,  34.8820,2,  34.8821,2,    262.7,2,   263.1,2,   34.32,2,   19.26,2,    0.00,2,    1.33,2,   0.926,2,   0.431,2,   0.054,2,    0.25,2,  2179.5,2,  2331.2,2,-999.0000,5,    25.00,-999.000,9,-999.0000,9, -999.00,9,   2.2636,2, -999.00,9,  -999.0,9,  -999.0,-999.000,9,-999.000,-999.000,9, -999.00,9, -999.00,9, -999.00,9,  38.6677, -52.3286,-999.000,-999.0000, -999.00,   1.8285,   2.2636,2,    35.0466,2,  -999.0,9,     -999.0,9,     -999.0,9,     -999.0,9,       1209
33AT20120419,        A20,      64,          1,          2,          2,2,20120508,       1156,    38.6677,   -52.3298,       5361,  5113.0,   2.2591,  34.8771,2,  34.8770,2,    259.2,2,   260.5,2,   37.62,2,   19.78,2,    0.00,2,    1.37,2,   0.816,2,   0.383,2,   0.044,2,    0.24,2,  -999.0,9,  -999.0,9,-999.0000,9,  -999.00,-999.000,9,-999.0000,9, -999.00,9,   2.2587,2, -999.00,9,  -999.0,9,  -999.0,-999.000,9,-999.000,-999.000,9, -999.00,9, -999.00,9, -999.00,9,  38.6677, -52.3294,-999.000,-999.0000, -999.00,   1.7835,   2.2587,2,    35.0415,2,  -999.0,9,     -999.0,9,     -999.0,9,     -999.0,9,       1202
33AT20120419,        A20,      64,          1,          1,          1,2,20120508,       1156,    38.6677,   -52.3298,       5361,  5451.6,   2.2667,  34.8720,2,  34.8723,2,    255.8,2,   257.2,2,   41.18,2,   20.41,2,    0.00,2,    1.42,2,   0.640,2,   0.293,2,   0.036,2,    0.15,2,  2190.5,6,  2346.0,2,-999.0000,5,    25.00,-999.000,9,-999.0000,9, -999.00,9,   2.2664,2, -999.00,9,  -999.0,9,  -999.0,-999.000,9,-999.000,-999.000,9, -999.00,9, -999.00,9, -999.00,9,  38.6677, -52.3299,-999.000,-999.0000, -999.00,   1.7471,   2.2664,2,    35.0367,2,  -999.0,9,     -999.0,9,     -999.0,9,     -999.0,9,       1155