BOTTLE,20220712CCHSIOCBG
EXPOCODE,SECT_ID,STNNBR,CASTNO,SAMPNO,BTLNBR,BTLNBR_FLAG_W,DATE,TIME,LATITUDE,LONGITUDE,DEPTH,CTDPRS,CTDTMP,CTDSAL,CTDSAL_FLAG_W,SALNTY,SALNTY_FLAG_W,CTDOXY,CTDOXY_FLAG_W,OXYGEN,OXYGEN_FLAG_W,SILCAT,SILCAT_FLAG_W,NITRAT,NITRAT_FLAG_W,NITRIT,NITRIT_FLAG_W,PHSPHT,PHSPHT_FLAG_W,CFC-11,CFC-11_FLAG_W,CFC-12,CFC-12_FLAG_W,CFC113,CFC113_FLAG_W,SF6,SF6_FLAG_W,TCARBN,TCARBN_FLAG_W,ALKALI,ALKALI_FLAG_W,PH_TOT,PH_TOT_FLAG_W,PH_TMP,TRITUM,TRITUM_FLAG_W,HELIUM,HELIUM_FLAG_W,DELHE3,DELHE3_FLAG_W,REFTMP,REFTMP_FLAG_W,DELC13,DELC13_FLAG_W,DELC14,DELC14_FLAG_W,C14ERR,NEON,NEON_FLAG_W,NEONER,CCL4,CCL4_FLAG_W,DELO18,DELO18_FLAG_W,DOC,DOC_FLAG_W,TDN,TDN_FLAG_W,BTL_LAT,BTL_LON,TRITER,HELIER,DELHER,THETA,SBE35,SBE35_FLAG_W,SALTREF,SALTREF_FLAG_W,14C-DOC,14C-DOC_FLAG_W,DELO17,DELO17_FLAG_W,O2/AR,O2/AR_FLAG_W,SIP,SIP_FLAG_W,BTL_TIME
,,,,,,,,,,,METERS,DBAR,ITS-90,PSS-78,,PSS-78,,UMOL/KG,,UMOL/KG,,UMOL/KG,,UMOL/KG,,UMOL/KG,,UMOL/KG,,PMOL/KG,,PMOL/KG,,PMOL/KG,,FMOL/KG,,UMOL/KG,,UMOL/KG,,,,DEG C,TU,,NMOL/KG,,PERCNT,,DEG C,,/MILLE,,/MILLE,,/MILLE,NMOL/KG,,NMOL/KG,PMOL/KG,,/MILLE,,UMOL/KG,,UMOL/KG,,,,TU,NMOL/KG,PERCNT,DEG C,ITS-90,,G/KG,,/MILLE,,/MILLE,,,,,,
33AT20120419,        A20,      27,          1,          6,          6,2,20120426,       0822,    12.7456,   -52.3332,       5096,  3752.3,   2.4012,  34.9010,2,  34.8993,2,    259.4,2,   259.8,2,   32.81,2,   19.54,2,    0.00,2,    1.33,2,   0.317,2,   0.170,2,   0.015,2,    0.00,3,  2173.9,2,  2332.1,6,   7.7354,2,    25.00,-999.000,9,-999.0000,9, -999.00,9,   2.4009,2,    1.06,2,   -71.4,2,     2.3,-999.000,9,-999.000,   0.390,2, -999.00,9,   40.28,2,   22.14,2,  12.7452, -52.3329,-999.000,-999.0000, -999.00,   2.0836,   2.4009,2,    35.0639,2,  -999.0,1,     -999.0,9,     -999.0,9,     -999.0,9,       0852
33AT20120419,        A20,      27,          1,          5,          5,2,20120426,       0822,    12.7456,   -52.3332,       5096,  4059.1,   2.3116,  34.8928,2,  34.8925,2,    259.7,2,   259.9,2,   34.75,2,   19.67,2,    0.00,2,    1.34,2,   0.313,2,   0.168,2,   0.014,2,    0.00,3,  -999.0,9,  -999.0,9,-999.0000,9,  -999.00,-999.000,9,-999.0000,9, -999.00,9,   2.3114,2, -999.00,9,  -999.0,9,  -999.0,-999.000,9,-999.000,   0.400,2, -999.00,9,   40.52,2,   22.36,2,  12.7454, -52.3329,-999.000,-999.0000, -999.00,   1.9618,   2.3114,2,    35.0570,2,  -999.0,9,     -999.0,9,     -999.0,9,     -999.0,9,       0846
33AT20120419,        A20,      27,          1,          4,          4,2,20120426,       0822,    12.7456,   -52.3332,       5096,  4365.9,   2.2652,  34.8869,2,  34.8868,2,    261.7,2,   260.6,2,   35.57,2,   19.68,2,    0.00,2,    1.34,2,   0.372,2,   0.201,2,   0.021,2,    0.00,3,  2178.6,2,  2333.9,2,   7.7331,2,    25.00,-999.000,9,-999.0000,9, -999.00,9,   2.2655,2,    1.05,2,   -71.1,2,     2.5,-999.000,9,-999.000,   0.440,2, -999.00,9,   40.61,2,   22.24,2,  12.7454, -52.3330,-999.000,-999.0000, -999.00,   1.8811,   2.2655,2,    35.0513,2,  -999.0,1,     -999.0,9,     -999.0,9,     -999.0,9,       0840
33AT20120419,        A20,      27,          1,          3,          3,2,20120426,       0822,    12.7456,   -52.3332,       5096,  4673.8,   2.1799,  34.8730,2,  34.8728,2,    255.4,2,   255.6,2,   43.05,2,   20.85,2,    0.00,2,    1.42,2,   0.265,2,   0.153,2,   0.020,2,    0.00,3,  -999.0,9,  -999.0,9,-999.0000,9,  -999.00,-999.000,9,-999.0000,9, -999.00,9,   2.1803,2, -999.00,9,  -999.0,9,  -999.0,-999.000,9,-999.000,   0.350,2, -999.00,9,   41.33,2,   23.41,2,  12.7455, -52.3330,-999.000,-999.0000, -999.00,   1.7616,   2.1803,2,    35.0373,2,  -999.0,9,     -999.0,9,     -999.0,9,     -999.0,9,       0833
33AT20120419,        A20,      27,          1,          2,          2,2,20120426,       0822,    12.7456,   -52.3332,       5096,  4879.9,   2.0684,  34.8575,2,  34.8569,2,    251.0,2,   251.5,2,   50.31,2,   21.99,2,    0.00,2,    1.49,2,   0.205,2,   0.121,2,   0.012,2,    0.00,3,  2196.5,2,  2343.7,2,   7.7175,6,    25.00,-999.000,9,-999.0000,9, -999.00,9,   2.0682,2,    0.95,2,  -103.9,2,     2.4,-999.000,9,-999.000,   0.270,2, -999.00,9,   41.25,2,   25.20,2,  12.7456, -52.3331,-999.000,-999.0000, -999.00,   1.6286,   2.0682,2,    35.0213,2,  -999.0,9,     -999.0,9,     -999.0,9,     -999.0,9,       0829
33AT20120419,        A20,      27,          1,          1,          1,2,20120426,       0822,    12.7456,   -52.3332,       5096,  5169.8,   1.7951,  34.8204,2,  34.8204,2,    241.2,2,   241.2,2,   67.42,2,   24.67,2,    0.00,2,    1.68,2,   0.152,2,   0.089,2,   0.010,2,    0.00,3,  2216.5,6,  2355.2,2,   7.6952,2,    25.00,-999.000,9,-999.0000,9, -999.00,9,   1.7965,2,    0.86,2,  -124.3,2,     2.8,-999.000,9,-999.000,   0.210,2, -999.00,9,   41.12,2,   27.64,2,  12.7456, -52.3331,-999.000,-999.0000, -999.00,   1.3287,   1.7965,2,    34.9846,2,  -999.0,9,     -999.0,9,     -999.0,9,     -999.0,9,       0823