BOTTLE,20220712CCHSIOCBG
EXPOCODE,SECT_ID,STNNBR,CASTNO,SAMPNO,BTLNBR,BTLNBR_FLAG_W,DATE,TIME,LATITUDE,LONGITUDE,DEPTH,CTDPRS,CTDTMP,CTDSAL,CTDSAL_FLAG_W,SALNTY,SALNTY_FLAG_W,CTDOXY,CTDOXY_FLAG_W,OXYGEN,OXYGEN_FLAG_W,SILCAT,SILCAT_FLAG_W,NITRAT,NITRAT_FLAG_W,NITRIT,NITRIT_FLAG_W,PHSPHT,PHSPHT_FLAG_W,CFC-11,CFC-11_FLAG_W,CFC-12,CFC-12_FLAG_W,CFC113,CFC113_FLAG_W,SF6,SF6_FLAG_W,TCARBN,TCARBN_FLAG_W,ALKALI,ALKALI_FLAG_W,PH_TOT,PH_TOT_FLAG_W,PH_TMP,TRITUM,TRITUM_FLAG_W,HELIUM,HELIUM_FLAG_W,DELHE3,DELHE3_FLAG_W,REFTMP,REFTMP_FLAG_W,DELC13,DELC13_FLAG_W,DELC14,DELC14_FLAG_W,C14ERR,NEON,NEON_FLAG_W,NEONER,CCL4,CCL4_FLAG_W,DELO18,DELO18_FLAG_W,DOC,DOC_FLAG_W,TDN,TDN_FLAG_W,BTL_LAT,BTL_LON,TRITER,HELIER,DELHER,THETA,SBE35,SBE35_FLAG_W,SALTREF,SALTREF_FLAG_W,14C-DOC,14C-DOC_FLAG_W,DELO17,DELO17_FLAG_W,O2/AR,O2/AR_FLAG_W,SIP,SIP_FLAG_W,BTL_TIME
,,,,,,,,,,,METERS,DBAR,ITS-90,PSS-78,,PSS-78,,UMOL/KG,,UMOL/KG,,UMOL/KG,,UMOL/KG,,UMOL/KG,,UMOL/KG,,PMOL/KG,,PMOL/KG,,PMOL/KG,,FMOL/KG,,UMOL/KG,,UMOL/KG,,,,DEG C,TU,,NMOL/KG,,PERCNT,,DEG C,,/MILLE,,/MILLE,,/MILLE,NMOL/KG,,NMOL/KG,PMOL/KG,,/MILLE,,UMOL/KG,,UMOL/KG,,,,TU,NMOL/KG,PERCNT,DEG C,ITS-90,,G/KG,,/MILLE,,/MILLE,,,,,,
33AT20120419,        A20,      55,          1,          6,          6,2,20120505,       1628,    32.7495,   -52.3317,       4872,  3246.2,   2.7748,  34.9307,2,  34.9308,2,    261.3,2,   260.9,2,   25.86,2,   18.90,2,    0.00,2,    1.27,2,   0.343,2,   0.200,2,   0.014,2,    0.00,3,  -999.0,9,  -999.0,9,-999.0000,9,  -999.00,-999.000,9,-999.0000,9, -999.00,9,   2.7747,2, -999.00,9,  -999.0,9,  -999.0,-999.000,9,-999.000,   0.340,2, -999.00,9,   40.94,2,   22.70,2,  32.7501, -52.3314,-999.000,-999.0000, -999.00,   2.5030,   2.7747,2,    35.0955,2,  -999.0,9,     -999.0,9,     -999.0,9,     -999.0,9,       1702
33AT20120419,        A20,      55,          1,          5,          5,2,20120505,       1628,    32.7495,   -52.3317,       4872,  3555.6,   2.5637,  34.9157,2,  34.9158,2,    262.6,2,   262.8,2,   27.79,2,   18.89,2,    0.00,2,    1.29,2,   0.320,2,   0.192,2,   0.016,2,    0.00,3,  -999.0,9,  -999.0,9,-999.0000,9,  -999.00,-999.000,9,-999.0000,9, -999.00,9,   2.5636,2, -999.00,9,  -999.0,9,  -999.0,-999.000,9,-999.000,   0.340,2, -999.00,9,   41.23,2,   21.84,2,  32.7496, -52.3316,-999.000,-999.0000, -999.00,   2.2635,   2.5636,2,    35.0805,2,  -999.0,9,     -999.0,9,     -999.0,9,     -999.0,9,       1655
33AT20120419,        A20,      55,          1,          4,          4,2,20120505,       1628,    32.7495,   -52.3317,       4872,  3869.3,   2.3930,  34.9022,2,  34.9026,2,    263.2,2,   263.0,2,   30.65,2,   19.08,2,    0.00,2,    1.31,2,   0.317,2,   0.188,2,   0.020,2,    0.00,3,  2174.1,2,  2328.8,2,   7.7395,2,    25.00,-999.000,9,-999.0000,9, -999.00,9,   2.3945,2, -999.00,9,  -999.0,9,  -999.0,-999.000,9,-999.000,   0.350,2, -999.00,9,   41.23,2,   21.95,2,  32.7495, -52.3317,-999.000,-999.0000, -999.00,   2.0625,   2.3945,2,    35.0672,2,  -999.0,9,     -999.0,9,     -999.0,9,     -999.0,9,       1649
33AT20120419,        A20,      55,          1,          3,          3,2,20120505,       1628,    32.7495,   -52.3317,       4872,  4173.9,   2.2958,  34.8913,2,  34.8906,2,    262.2,2,   262.3,2,   33.80,2,   19.41,2,    0.00,2,    1.33,2,   0.392,2,   0.229,2,   0.025,2,    0.00,3,  -999.0,9,  -999.0,9,-999.0000,9,  -999.00,-999.000,9,-999.0000,9, -999.00,9,   2.2954,2, -999.00,9,  -999.0,9,  -999.0,-999.000,9,-999.000,   0.370,2, -999.00,9,   41.62,2,   21.72,2,  32.7495, -52.3316,-999.000,-999.0000, -999.00,   1.9332,   2.2954,2,    35.0551,2,  -999.0,9,     -999.0,9,     -999.0,9,     -999.0,9,       1643
33AT20120419,        A20,      55,          1,          2,          2,2,20120505,       1628,    32.7495,   -52.3317,       4872,  4534.2,   2.2203,  34.8797,2,  34.8798,2,    258.6,2,   259.4,2,   38.75,2,   20.08,2,    0.00,2,    1.39,2,   0.406,2,   0.250,2,   0.032,2,    0.00,3,  2183.9,2,  2335.6,2,   7.7340,6,    25.00,-999.000,9,-999.0000,9, -999.00,9,   2.2197,2, -999.00,9,  -999.0,9,  -999.0,-999.000,9,-999.000,   0.350,2, -999.00,9,   41.64,2,   22.37,2,  32.7495, -52.3317,-999.000,-999.0000, -999.00,   1.8175,   2.2197,2,    35.0443,2,  -999.0,9,     -999.0,9,     -999.0,9,     -999.0,9,       1636
33AT20120419,        A20,      55,          1,          1,          1,2,20120505,       1628,    32.7495,   -52.3317,       4872,  4944.6,   2.1269,  34.8632,2,  34.8635,2,    252.9,2,   252.6,2,   47.84,2,   21.51,2,    0.00,2,    1.48,2,   0.167,2,   0.108,2,   0.018,2,    0.00,3,  2195.2,6,  2342.3,2,   7.7244,2,    25.00,-999.000,9,-999.0000,9, -999.00,9,   2.1265,2, -999.00,9,  -999.0,9,  -999.0,-999.000,9,-999.000,   0.220,2, -999.00,9,   41.55,2,   24.62,2,  32.7494, -52.3317,-999.000,-999.0000, -999.00,   1.6770,   2.1265,2,    35.0279,2,  -999.0,9,     -999.0,9,     -999.0,9,     -999.0,9,       1629