BOTTLE,20220712CCHSIOCBG
EXPOCODE,SECT_ID,STNNBR,CASTNO,SAMPNO,BTLNBR,BTLNBR_FLAG_W,DATE,TIME,LATITUDE,LONGITUDE,DEPTH,CTDPRS,CTDTMP,CTDSAL,CTDSAL_FLAG_W,SALNTY,SALNTY_FLAG_W,CTDOXY,CTDOXY_FLAG_W,OXYGEN,OXYGEN_FLAG_W,SILCAT,SILCAT_FLAG_W,NITRAT,NITRAT_FLAG_W,NITRIT,NITRIT_FLAG_W,PHSPHT,PHSPHT_FLAG_W,CFC-11,CFC-11_FLAG_W,CFC-12,CFC-12_FLAG_W,CFC113,CFC113_FLAG_W,SF6,SF6_FLAG_W,TCARBN,TCARBN_FLAG_W,ALKALI,ALKALI_FLAG_W,PH_TOT,PH_TOT_FLAG_W,PH_TMP,TRITUM,TRITUM_FLAG_W,HELIUM,HELIUM_FLAG_W,DELHE3,DELHE3_FLAG_W,REFTMP,REFTMP_FLAG_W,DELC13,DELC13_FLAG_W,DELC14,DELC14_FLAG_W,C14ERR,NEON,NEON_FLAG_W,NEONER,CCL4,CCL4_FLAG_W,DELO18,DELO18_FLAG_W,DOC,DOC_FLAG_W,TDN,TDN_FLAG_W,BTL_LAT,BTL_LON,TRITER,HELIER,DELHER,THETA,SBE35,SBE35_FLAG_W,SALTREF,SALTREF_FLAG_W,14C-DOC,14C-DOC_FLAG_W,DELO17,DELO17_FLAG_W,O2/AR,O2/AR_FLAG_W,SIP,SIP_FLAG_W,BTL_TIME
,,,,,,,,,,,METERS,DBAR,ITS-90,PSS-78,,PSS-78,,UMOL/KG,,UMOL/KG,,UMOL/KG,,UMOL/KG,,UMOL/KG,,UMOL/KG,,PMOL/KG,,PMOL/KG,,PMOL/KG,,FMOL/KG,,UMOL/KG,,UMOL/KG,,,,DEG C,TU,,NMOL/KG,,PERCNT,,DEG C,,/MILLE,,/MILLE,,/MILLE,NMOL/KG,,NMOL/KG,PMOL/KG,,/MILLE,,UMOL/KG,,UMOL/KG,,,,TU,NMOL/KG,PERCNT,DEG C,ITS-90,,G/KG,,/MILLE,,/MILLE,,,,,,
33AT20120419,        A20,      68,          1,         34,         34,2,20120509,       1710,    41.0950,   -52.3281,       5152,     4.2,  15.2343,  35.3359,2,  35.3404,2,    262.7,2,   264.6,2,    0.00,2,    0.00,2,    0.02,2,    0.02,2,   2.751,2,   1.624,2,   0.231,2,    1.87,2,  2047.0,6,  2338.7,2,-999.0000,9,  -999.00,   0.800,2,   1.7678,2,   -1.50,2,  15.2361,2, -999.00,9,  -999.0,9,  -999.0,   7.305,2,   0.034,-999.000,9, -999.00,1, -999.00,9, -999.00,9,  41.0911, -52.3236,   0.010,   0.0074,    0.15,  15.2337,  15.2361,2,    35.5070,2,  -999.0,9,     -999.0,1,     -999.0,1,     -999.0,9,       1912
33AT20120419,        A20,      68,          1,         33,         33,2,20120509,       1710,    41.0950,   -52.3281,       5152,    22.8,  15.3605,  35.4579,2,  35.4872,2,    262.0,2,   260.0,2,    0.00,2,    0.00,2,    0.02,2,    0.01,2,   2.715,2,   1.613,2,   0.232,2,    1.78,2,  2053.6,2,  2344.7,6,-999.0000,9,  -999.00,-999.000,9,-999.0000,9, -999.00,9,  15.3597,2, -999.00,9,  -999.0,9,  -999.0,-999.000,9,-999.000,-999.000,9, -999.00,1, -999.00,9, -999.00,9,  41.0912, -52.3237,-999.000,-999.0000, -999.00,  15.3570,  15.3597,2,    35.6546,2,  -999.0,9,     -999.0,1,     -999.0,1,     -999.0,9,       1910
33AT20120419,        A20,      68,          1,         32,         32,2,20120509,       1710,    41.0950,   -52.3281,       5152,    74.2,  14.5782,  35.4612,2,  35.4620,2,    233.9,2,   230.1,2,    1.35,2,    4.53,2,    0.13,2,    0.31,2,   2.766,2,   1.634,2,   0.208,2,    1.85,2,  2096.8,2,  2340.0,2,-999.0000,9,  -999.00,   0.739,2,   1.7587,2,   -0.53,2,  14.5639,2, -999.00,9,  -999.0,9,  -999.0,   7.250,2,   0.033,-999.000,9, -999.00,1, -999.00,9, -999.00,9,  41.0914, -52.3239,   0.018,   0.0074,    0.15,  14.5672,  14.5639,2,    35.6292,2,  -999.0,9,     -999.0,1,     -999.0,1,     -999.0,9,       1906
33AT20120419,        A20,      68,          1,         31,         31,2,20120509,       1710,    41.0950,   -52.3281,       5152,   102.3,  14.4199,  35.5351,2,  35.5356,2,    232.3,2,   228.8,2,    1.83,2,    5.49,2,    0.05,2,    0.39,2,   2.779,2,   1.690,2,   0.206,2,    2.05,2,  2104.0,2,  2342.3,2,-999.0000,9,  -999.00,-999.000,9,-999.0000,9, -999.00,9,  14.4169,2, -999.00,9,  -999.0,9,  -999.0,-999.000,9,-999.000,-999.000,9, -999.00,1, -999.00,9, -999.00,9,  41.0915, -52.3240,-999.000,-999.0000, -999.00,  14.4048,  14.4169,2,    35.7031,2,  -999.0,9,     -999.0,1,     -999.0,1,     -999.0,9,       1904
33AT20120419,        A20,      68,          1,         30,         30,2,20120509,       1710,    41.0950,   -52.3281,       5152,   153.0,  14.3557,  35.6195,2,  35.6187,2,    222.7,2,   224.9,2,    2.30,2,    6.51,2,    0.02,2,    0.44,2,   2.681,2,   1.577,2,   0.187,2,    1.60,2,  -999.0,9,  -999.0,9,-999.0000,9,  -999.00,   0.686,2,   1.7532,2,   -0.12,2,  14.3556,2, -999.00,9,  -999.0,9,  -999.0,   7.291,2,   0.034,-999.000,9, -999.00,1, -999.00,9, -999.00,9,  41.0916, -52.3241,   0.009,   0.0074,    0.15,  14.3331,  14.3556,2,    35.7866,2,  -999.0,9,     -999.0,1,     -999.0,1,     -999.0,9,       1901
33AT20120419,        A20,      68,          1,         29,         29,2,20120509,       1710,    41.0950,   -52.3281,       5152,   202.8,  15.0180,  35.8705,2,  35.8700,2,    217.4,2,   218.3,2,    2.37,2,    6.84,2,    0.02,2,    0.44,2,   2.551,2,   1.512,2,   0.165,2,    1.62,2,  2115.7,2,  2356.5,2,-999.0000,9,  -999.00,-999.000,9,-999.0000,9, -999.00,9,  15.0193,2, -999.00,9,  -999.0,9,  -999.0,-999.000,9,-999.000,-999.000,9, -999.00,1, -999.00,9, -999.00,9,  41.0917, -52.3241,-999.000,-999.0000, -999.00,  14.9870,  15.0193,2,    36.0392,2,  -999.0,9,     -999.0,1,     -999.0,1,     -999.0,9,       1858
33AT20120419,        A20,      68,          1,         28,         28,2,20120509,       1710,    41.0950,   -52.3281,       5152,   254.8,  14.4963,  35.7678,2,  35.7655,2,    210.8,2,   211.6,2,    3.02,2,    8.30,2,    0.02,2,    0.54,2,   2.544,2,   1.487,2,   0.160,2,    1.70,2,  2123.7,2,  2352.7,2,-999.0000,9,  -999.00,   0.601,2,   1.7711,2,   -0.33,2,  14.5083,2, -999.00,9,  -999.0,9,  -999.0,   7.261,2,   0.033,-999.000,9, -999.00,1, -999.00,9, -999.00,9,  41.0917, -52.3241,   0.010,   0.0074,    0.15,  14.4583,  14.5083,2,    35.9342,2,  -999.0,9,     -999.0,1,     -999.0,1,     -999.0,9,       1856
33AT20120419,        A20,      68,          1,         27,         27,2,20120509,       1710,    41.0950,   -52.3281,       5152,   382.5,  11.4336,  35.4422,2,  35.4437,2,    141.3,2,   140.5,2,   10.37,2,   20.98,2,    0.02,2,    1.34,2,   1.752,2,   0.948,2,   0.035,2,    0.77,2,  2182.9,2,  2333.0,2,-999.0000,9,  -999.00,   0.366,2,   1.7748,2,    4.55,2,  11.4305,2, -999.00,9,  -999.0,9,  -999.0,   7.530,2,   0.035,-999.000,9, -999.00,1, -999.00,9, -999.00,9,  41.0915, -52.3240,   0.010,   0.0075,    0.15,  11.3846,  11.4305,2,    35.6108,2,  -999.0,9,     -999.0,1,     -999.0,1,     -999.0,9,       1853
33AT20120419,        A20,      68,          1,         26,         26,2,20120509,       1710,    41.0950,   -52.3281,       5152,   505.0,   8.6859,  35.1633,2,  35.1640,2,    149.5,2,   148.4,2,   14.32,2,   24.26,2,    0.00,2,    1.57,2,   1.321,2,   0.663,2,   0.029,2,    0.50,2,  2192.4,6,  2322.4,2,-999.0000,9,  -999.00,   0.301,2,   1.8107,2,    6.13,2,   8.6936,2, -999.00,9,  -999.0,9,  -999.0,   7.627,2,   0.035,-999.000,9, -999.00,1, -999.00,9, -999.00,9,  41.0915, -52.3240,   0.009,   0.0076,    0.15,   8.6311,   8.6936,2,    35.3298,2,  -999.0,9,     -999.0,1,     -999.0,1,     -999.0,9,       1850
33AT20120419,        A20,      68,          1,         25,         25,2,20120509,       1710,    41.0950,   -52.3281,       5152,   603.1,   7.1580,  35.0718,2,  35.0705,2,    188.3,2,   179.3,2,   13.66,2,   22.26,2,    0.00,2,    1.47,2,   1.793,2,   0.914,2,   0.075,2,    0.67,2,  2186.6,2,  2316.8,2,-999.0000,9,  -999.00,   0.364,2,   1.8106,2,    6.11,2,   7.1441,2, -999.00,9,  -999.0,9,  -999.0,   7.719,2,   0.036,-999.000,9, -999.00,1, -999.00,9, -999.00,9,  41.0916, -52.3240,   0.009,   0.0076,    0.15,   7.0991,   7.1441,2,    35.2359,2,  -999.0,9,     -999.0,1,     -999.0,1,     -999.0,9,       1847
33AT20120419,        A20,      68,          1,         24,         24,2,20120509,       1710,    41.0950,   -52.3281,       5152,   705.7,   5.7979,  35.0093,2,  35.0067,2,    217.7,2,   215.6,2,   12.39,2,   19.86,2,    0.00,2,    1.34,2,   2.478,2,   1.305,2,   0.134,2,    0.92,2,  2179.3,2,  2310.6,2,-999.0000,9,  -999.00,   0.441,2,   1.8095,2,    6.06,2,   5.7955,2, -999.00,9,  -999.0,9,  -999.0,   7.827,2,   0.036,-999.000,9, -999.00,1, -999.00,9, -999.00,9,  41.0916, -52.3241,   0.009,   0.0076,    0.15,   5.7357,   5.7955,2,    35.1718,2,  -999.0,9,     -999.0,1,     -999.0,1,     -999.0,9,       1845
33AT20120419,        A20,      68,          1,         23,         23,2,20120509,       1710,    41.0950,   -52.3281,       5152,   806.5,   5.5383,  35.0362,2,  35.0351,2,    229.0,2,   224.8,2,   12.12,2,   19.46,2,    0.00,2,    1.30,2,   2.368,2,   1.230,2,   0.123,2,    0.81,2,  2175.9,2,  2314.6,2,-999.0000,9,  -999.00,   0.435,2,   1.8146,2,    6.79,2,   5.5244,2, -999.00,9,  -999.0,9,  -999.0,   7.888,2,   0.036,-999.000,9, -999.00,1, -999.00,9, -999.00,9,  41.0917, -52.3241,   0.012,   0.0076,    0.15,   5.4682,   5.5244,2,    35.2003,2,  -999.0,9,     -999.0,1,     -999.0,1,     -999.0,9,       1842
33AT20120419,        A20,      68,          1,         22,         22,2,20120509,       1710,    41.0950,   -52.3281,       5152,   908.8,   5.1109,  35.0196,2,  35.0189,2,    241.0,2,   237.2,2,   11.61,2,   18.68,2,    0.00,2,    1.25,2,   2.620,2,   1.360,2,   0.149,2,    0.84,2,  2172.1,2,  2312.1,2,-999.0000,9,  -999.00,   0.463,2,   1.8335,2,    5.95,2,   5.1115,2, -999.00,9,  -999.0,9,  -999.0,   7.889,2,   0.036,-999.000,9, -999.00,1, -999.00,9, -999.00,9,  41.0917, -52.3241,   0.009,   0.0077,    0.15,   5.0342,   5.1115,2,    35.1841,2,  -999.0,9,     -999.0,1,     -999.0,1,     -999.0,9,       1839
33AT20120419,        A20,      68,          1,         21,         21,2,20120509,       1710,    41.0950,   -52.3281,       5152,  1009.5,   4.8099,  35.0039,2,  35.0030,2,    247.7,2,   246.8,2,   11.31,2,   18.19,2,    0.00,2,    1.22,2,   2.793,2,   1.449,2,   0.168,2,    1.05,2,  2168.4,2,  2312.0,2,-999.0000,9,  -999.00,   0.469,2,   1.8372,2,    5.91,2,   4.8096,2, -999.00,9,  -999.0,9,  -999.0,   7.862,2,   0.036,-999.000,9, -999.00,1, -999.00,9, -999.00,9,  41.0917, -52.3242,   0.009,   0.0077,    0.15,   4.7264,   4.8096,2,    35.1681,2,  -999.0,9,     -999.0,1,     -999.0,1,     -999.0,9,       1837
33AT20120419,        A20,      68,          1,         20,         20,2,20120509,       1710,    41.0950,   -52.3281,       5152,  1111.6,   4.5779,  34.9942,2,  34.9936,2,    251.9,2,   252.5,2,   11.34,2,   18.04,2,    0.00,2,    1.20,2,   2.779,2,   1.427,2,   0.169,2,    0.92,2,  -999.0,9,  -999.0,9,-999.0000,9,  -999.00,   0.478,2,   1.8231,2,    7.26,2,   4.5789,2, -999.00,9,  -999.0,9,  -999.0,   7.874,2,   0.036,-999.000,9, -999.00,1, -999.00,9, -999.00,9,  41.0918, -52.3243,   0.010,   0.0077,    0.15,   4.4871,   4.5789,2,    35.1586,2,  -999.0,9,     -999.0,1,     -999.0,1,     -999.0,9,       1834
33AT20120419,        A20,      68,          1,         19,         19,2,20120509,       1710,    41.0950,   -52.3281,       5152,  1214.6,   4.4061,  34.9860,2,  34.9859,2,    255.0,2,   255.1,2,   11.44,2,   17.95,2,    0.00,2,    1.19,2,   2.725,2,   1.400,2,   0.167,2,    0.82,2,  2165.6,2,  2310.6,2,-999.0000,9,  -999.00,-999.000,9,   1.8382,2,    7.42,2,   4.4087,2, -999.00,9,  -999.0,9,  -999.0,   8.021,2,   0.037,-999.000,9, -999.00,9, -999.00,9, -999.00,9,  41.0918, -52.3243,-999.000,   0.0077,    0.15,   4.3075,   4.4087,2,    35.1509,2,  -999.0,9,     -999.0,9,     -999.0,9,     -999.0,9,       1831
33AT20120419,        A20,      68,          1,         18,         18,2,20120509,       1710,    41.0950,   -52.3281,       5152,  1314.9,   4.2630,  34.9801,2,  34.9796,2,    257.5,2,   257.2,2,   11.61,2,   17.89,2,    0.00,2,    1.19,2,   2.622,2,   1.328,2,   0.160,2,    0.70,2,  -999.0,9,  -999.0,9,-999.0000,9,  -999.00,   0.471,2,   1.8374,2,    8.06,2,   4.2610,2, -999.00,9,  -999.0,9,  -999.0,   8.041,2,   0.037,-999.000,9, -999.00,9, -999.00,9, -999.00,9,  41.0919, -52.3244,   0.009,   0.0077,    0.15,   4.1568,   4.2610,2,    35.1445,2,  -999.0,9,     -999.0,9,     -999.0,9,     -999.0,9,       1829
33AT20120419,        A20,      68,          1,         17,         17,2,20120509,       1710,    41.0950,   -52.3281,       5152,  1417.4,   4.1277,  34.9742,2,  34.9743,2,    258.7,2,   259.2,2,   11.93,2,   17.78,2,    0.00,2,    1.19,2,   2.498,2,   1.253,2,   0.147,2,    0.63,2,  2163.6,2,  2310.6,2,-999.0000,9,  -999.00,   0.450,2,   1.8293,2,    8.61,2,   4.1288,2, -999.00,9,  -999.0,9,  -999.0,   7.970,2,   0.037,-999.000,9, -999.00,1, -999.00,9, -999.00,9,  41.0919, -52.3244,   0.009,   0.0077,    0.15,   4.0136,   4.1288,2,    35.1392,2,  -999.0,9,     -999.0,1,     -999.0,1,     -999.0,9,       1826
33AT20120419,        A20,      68,          1,         16,         16,2,20120509,       1710,    41.0950,   -52.3281,       5152,  1517.7,   4.0515,  34.9713,2,  34.9711,2,    260.1,2,   260.2,2,   12.16,2,   17.80,2,    0.00,2,    1.18,2,   2.395,2,   1.189,2,   0.139,2,    0.64,2,  -999.0,9,  -999.0,9,-999.0000,9,  -999.00,   0.449,2,   1.8379,2,    8.77,2,   4.0515,2, -999.00,9,  -999.0,9,  -999.0,   7.998,2,   0.037,-999.000,9, -999.00,9, -999.00,9, -999.00,9,  41.0919, -52.3245,   0.009,   0.0077,    0.15,   3.9291,   4.0515,2,    35.1360,2,  -999.0,9,     -999.0,9,     -999.0,9,     -999.0,9,       1824
33AT20120419,        A20,      68,          1,         15,         15,2,20120509,       1710,    41.0950,   -52.3281,       5152,  1618.6,   3.9775,  34.9680,2,  34.9680,2,    261.1,2,   261.3,2,   12.36,2,   17.78,2,    0.00,2,    1.18,2,   2.307,2,   1.140,2,   0.131,2,    0.60,2,  2162.0,2,  2310.6,2,-999.0000,9,  -999.00,-999.000,9,   1.8352,2,    8.85,2,   3.9784,2, -999.00,9,  -999.0,9,  -999.0,   8.022,2,   0.037,-999.000,9, -999.00,1, -999.00,9, -999.00,9,  41.0920, -52.3246,-999.000,   0.0077,    0.15,   3.8466,   3.9784,2,    35.1329,2,  -999.0,9,     -999.0,1,     -999.0,1,     -999.0,9,       1821
33AT20120419,        A20,      68,          1,         14,         14,2,20120509,       1710,    41.0950,   -52.3281,       5152,  1820.7,   3.7898,  34.9606,2,  34.9603,2,    264.0,2,   263.5,2,   13.05,2,   17.76,2,    0.00,2,    1.19,2,   2.035,2,   0.992,2,   0.110,2,    0.43,2,  2161.3,2,  2308.8,2,-999.0000,9,  -999.00,   0.391,2,   1.8456,2,    8.89,2,   3.7900,2, -999.00,9,  -999.0,9,  -999.0,   8.078,2,   0.037,-999.000,9, -999.00,9, -999.00,9, -999.00,9,  41.0921, -52.3247,   0.009,   0.0078,    0.15,   3.6425,   3.7900,2,    35.1252,2,  -999.0,9,     -999.0,9,     -999.0,9,     -999.0,9,       1817
33AT20120419,        A20,      68,          1,         13,         13,2,20120509,       1710,    41.0950,   -52.3281,       5152,  2023.9,   3.6154,  34.9534,2,  34.9530,2,    265.3,2,   265.0,2,   13.86,2,   17.75,2,    0.00,2,    1.19,2,   1.819,2,   0.881,2,   0.092,2,    0.37,2,  2159.5,2,  2310.5,2,-999.0000,9,  -999.00,-999.000,9,   1.8442,2,    8.44,2,   3.6158,2, -999.00,9,  -999.0,9,  -999.0,   8.049,2,   0.037,-999.000,9, -999.00,9, -999.00,9, -999.00,9,  41.0923, -52.3249,-999.000,   0.0077,    0.15,   3.4513,   3.6158,2,    35.1179,2,  -999.0,9,     -999.0,9,     -999.0,9,     -999.0,9,       1812
33AT20120419,        A20,      68,          1,         11,         11,2,20120509,       1710,    41.0950,   -52.3281,       5152,  2280.0,   3.4345,  34.9488,2,  34.9477,2,    265.9,2,   265.5,2, -999.00,9, -999.00,9, -999.00,9, -999.00,9,-999.000,9,-999.000,9,-999.000,9, -999.00,9,  -999.0,9,  -999.0,9,-999.0000,9,  -999.00,-999.000,9,-999.0000,9, -999.00,9,   3.4347,2, -999.00,9,  -999.0,9,  -999.0,-999.000,9,-999.000,-999.000,9, -999.00,9, -999.00,9, -999.00,9,  41.0926, -52.3252,-999.000,-999.0000, -999.00,   3.2485,   3.4347,2,    35.1125,2,  -999.0,9,     -999.0,9,     -999.0,9,     -999.0,9,       1807
33AT20120419,        A20,      68,          1,         12,         12,2,20120509,       1710,    41.0950,   -52.3281,       5152,  2280.5,   3.4352,  34.9490,2,  34.9481,2,    266.0,2,   266.0,2,   15.25,2,   17.79,2,    0.00,2,    1.19,2,   1.563,2,   0.752,2,   0.076,2,    0.34,2,  2159.9,2,  2312.9,2,-999.0000,9,  -999.00,   0.312,2,   1.8512,2,    7.96,2,   3.4355,2, -999.00,9,  -999.0,9,  -999.0,   8.122,2,   0.037,-999.000,9, -999.00,1, -999.00,9, -999.00,9,  41.0926, -52.3252,   0.009,   0.0078,    0.15,   3.2491,   3.4355,2,    35.1129,2,  -999.0,9,     -999.0,1,     -999.0,1,     -999.0,9,       1807
33AT20120419,        A20,      68,          1,         10,         10,2,20120509,       1710,    41.0950,   -52.3281,       5152,  2535.9,   3.2733,  34.9455,2,  34.9452,2,    265.4,2,   265.2,2,   16.94,2,   17.87,2,    0.00,2,    1.20,2,   1.319,2,   0.621,2,   0.055,2,    0.23,2,  -999.0,9,  -999.0,9,-999.0000,9,  -999.00,-999.000,9,-999.0000,9, -999.00,9,   3.2733,2, -999.00,9,  -999.0,9,  -999.0,-999.000,9,-999.000,-999.000,9, -999.00,9, -999.00,9, -999.00,9,  41.0928, -52.3255,-999.000,-999.0000, -999.00,   3.0647,   3.2733,2,    35.1100,2,  -999.0,9,     -999.0,9,     -999.0,9,     -999.0,9,       1802
33AT20120419,        A20,      68,          1,          9,          9,2,20120509,       1710,    41.0950,   -52.3281,       5152,  2789.1,   3.0980,  34.9379,2,  34.9379,2,    266.3,2,   265.9,2,   18.00,2,   17.79,2,    0.00,2,    1.19,2,   1.315,2,   0.629,2,   0.057,2,    0.35,2,  2161.7,2,  2315.7,2,-999.0000,9,  -999.00,   0.263,2,   1.8412,2,    6.93,2,   3.0993,2, -999.00,9,  -999.0,9,  -999.0,   8.079,2,   0.037,-999.000,9, -999.00,1, -999.00,9, -999.00,9,  41.0931, -52.3258,   0.009,   0.0077,    0.15,   2.8671,   3.0993,2,    35.1027,2,  -999.0,9,     -999.0,1,     -999.0,1,     -999.0,9,       1757
33AT20120419,        A20,      68,          1,          8,          8,2,20120509,       1710,    41.0950,   -52.3281,       5152,  3043.3,   2.8935,  34.9299,2,  34.9295,2,    266.4,2,   266.5,2,   19.88,2,   17.88,2,    0.00,2,    1.20,2,   1.170,2,   0.559,2,   0.051,2,    0.25,2,  -999.0,9,  -999.0,9,-999.0000,9,  -999.00,-999.000,9,-999.0000,9, -999.00,9,   2.8936,2, -999.00,9,  -999.0,9,  -999.0,-999.000,9,-999.000,-999.000,9, -999.00,9, -999.00,9, -999.00,9,  41.0933, -52.3261,-999.000,-999.0000, -999.00,   2.6405,   2.8936,2,    35.0942,2,  -999.0,9,     -999.0,9,     -999.0,9,     -999.0,9,       1752
33AT20120419,        A20,      68,          1,          7,          7,2,20120509,       1710,    41.0950,   -52.3281,       5152,  3353.1,   2.6493,  34.9165,2,  34.9159,2,    269.3,2,   269.2,2,   21.16,2,   17.69,2,    0.00,2,    1.19,2,   1.284,2,   0.611,2,   0.065,2,    0.28,2,  -999.0,9,  -999.0,9,-999.0000,9,  -999.00,-999.000,9,-999.0000,9, -999.00,9,   2.6502,2, -999.00,9,  -999.0,9,  -999.0,-999.000,9,-999.000,-999.000,9, -999.00,9, -999.00,9, -999.00,9,  41.0936, -52.3265,-999.000,-999.0000, -999.00,   2.3690,   2.6502,2,    35.0805,2,  -999.0,9,     -999.0,9,     -999.0,9,     -999.0,9,       1746
33AT20120419,        A20,      68,          1,          6,          6,2,20120509,       1710,    41.0950,   -52.3281,       5152,  3654.5,   2.4311,  34.9034,2,  34.9029,2,    270.4,2,   270.1,2,   23.42,2,   17.74,2,    0.00,2,    1.21,2,   1.378,2,   0.655,2,   0.082,2,    0.32,2,  2166.1,2,  2320.0,2,-999.0000,9,  -999.00,   0.238,2,   1.8730,2,    6.29,2,   2.4316,2, -999.00,9,  -999.0,9,  -999.0,   8.181,2,   0.038,-999.000,9, -999.00,1, -999.00,9, -999.00,9,  41.0938, -52.3267,   0.009,   0.0079,    0.15,   2.1235,   2.4316,2,    35.0675,2,  -999.0,9,     -999.0,1,     -999.0,1,     -999.0,9,       1741
33AT20120419,        A20,      68,          1,          5,          5,2,20120509,       1710,    41.0950,   -52.3281,       5152,  3964.9,   2.3068,  34.8942,2,  34.8933,2,    270.7,2,   270.8,2,   25.05,2,   17.75,2,    0.00,2,    1.21,2,   1.567,2,   0.757,2,   0.105,2,    0.43,2,  -999.0,9,  -999.0,9,-999.0000,9,  -999.00,-999.000,9,-999.0000,9, -999.00,9,   2.3073,2, -999.00,9,  -999.0,9,  -999.0,-999.000,9,-999.000,-999.000,9, -999.00,9, -999.00,9, -999.00,9,  41.0941, -52.3270,-999.000,-999.0000, -999.00,   1.9679,   2.3073,2,    35.0578,2,  -999.0,9,     -999.0,9,     -999.0,9,     -999.0,9,       1735