BOTTLE,20220712CCHSIOCBG
EXPOCODE,SECT_ID,STNNBR,CASTNO,SAMPNO,BTLNBR,BTLNBR_FLAG_W,DATE,TIME,LATITUDE,LONGITUDE,DEPTH,CTDPRS,CTDTMP,CTDSAL,CTDSAL_FLAG_W,SALNTY,SALNTY_FLAG_W,CTDOXY,CTDOXY_FLAG_W,OXYGEN,OXYGEN_FLAG_W,SILCAT,SILCAT_FLAG_W,NITRAT,NITRAT_FLAG_W,NITRIT,NITRIT_FLAG_W,PHSPHT,PHSPHT_FLAG_W,CFC-11,CFC-11_FLAG_W,CFC-12,CFC-12_FLAG_W,CFC113,CFC113_FLAG_W,SF6,SF6_FLAG_W,TCARBN,TCARBN_FLAG_W,ALKALI,ALKALI_FLAG_W,PH_TOT,PH_TOT_FLAG_W,PH_TMP,TRITUM,TRITUM_FLAG_W,HELIUM,HELIUM_FLAG_W,DELHE3,DELHE3_FLAG_W,REFTMP,REFTMP_FLAG_W,DELC13,DELC13_FLAG_W,DELC14,DELC14_FLAG_W,C14ERR,NEON,NEON_FLAG_W,NEONER,CCL4,CCL4_FLAG_W,DELO18,DELO18_FLAG_W,DOC,DOC_FLAG_W,TDN,TDN_FLAG_W,BTL_LAT,BTL_LON,TRITER,HELIER,DELHER,THETA,SBE35,SBE35_FLAG_W,SALTREF,SALTREF_FLAG_W,14C-DOC,14C-DOC_FLAG_W,DELO17,DELO17_FLAG_W,O2/AR,O2/AR_FLAG_W,SIP,SIP_FLAG_W,BTL_TIME
,,,,,,,,,,,METERS,DBAR,ITS-90,PSS-78,,PSS-78,,UMOL/KG,,UMOL/KG,,UMOL/KG,,UMOL/KG,,UMOL/KG,,UMOL/KG,,PMOL/KG,,PMOL/KG,,PMOL/KG,,FMOL/KG,,UMOL/KG,,UMOL/KG,,,,DEG C,TU,,NMOL/KG,,PERCNT,,DEG C,,/MILLE,,/MILLE,,/MILLE,NMOL/KG,,NMOL/KG,PMOL/KG,,/MILLE,,UMOL/KG,,UMOL/KG,,,,TU,NMOL/KG,PERCNT,DEG C,ITS-90,,G/KG,,/MILLE,,/MILLE,,,,,,
33AT20120419,        A20,      52,          1,          6,          6,2,20120504,       1618,    30.4950,   -52.3331,       5121,  3548.3,   2.5269,  34.9146,2,  34.9151,2,    260.1,2,   259.9,2,   31.02,2,   19.48,2,    0.00,2,    1.32,2,   0.192,2,   0.081,2,   0.015,2,    0.03,2,  2172.0,2,  2326.8,2,   7.7414,2,    25.00,-999.000,9,-999.0000,9, -999.00,9,   2.5268,2, -999.00,9,  -999.0,9,  -999.0,-999.000,9,-999.000,-999.000,9, -999.00,9,   40.83,2,   22.14,2,  30.4956, -52.3326,-999.000,-999.0000, -999.00,   2.2285,   2.5268,2,    35.0797,2,  -999.0,9,     -999.0,9,     -999.0,9,     -999.0,9,       1651
33AT20120419,        A20,      52,          1,          5,          5,2,20120504,       1618,    30.4950,   -52.3331,       5121,  3858.7,   2.3772,  34.9013,2,  34.9011,2,    261.0,2,   261.6,2,   32.88,2,   19.49,2,    0.00,2,    1.33,2,-999.000,9,-999.000,9,-999.000,9, -999.00,9,  2173.6,2,  2327.6,2,   7.7402,2,    25.00,-999.000,9,-999.0000,9, -999.00,9,   2.3769,2, -999.00,9,  -999.0,9,  -999.0,-999.000,9,-999.000,-999.000,9, -999.00,9,   40.87,2,   22.07,2,  30.4953, -52.3328,-999.000,-999.0000, -999.00,   2.0483,   2.3769,2,    35.0657,2,  -999.0,9,     -999.0,9,     -999.0,9,     -999.0,9,       1645
33AT20120419,        A20,      52,          1,          4,          4,2,20120504,       1618,    30.4950,   -52.3331,       5121,  4165.2,   2.2714,  34.8897,2,  34.8891,2,    261.0,2,   260.9,2,   35.51,2,   19.70,2,    0.00,2,    1.36,2,   0.395,2,   0.171,2,   0.022,2,    0.04,2,  -999.0,9,  -999.0,9,-999.0000,9,  -999.00,-999.000,9,-999.0000,9, -999.00,9,   2.2709,2, -999.00,9,  -999.0,9,  -999.0,-999.000,9,-999.000,-999.000,9, -999.00,9,   41.25,2,   22.45,2,  30.4952, -52.3328,-999.000,-999.0000, -999.00,   1.9106,   2.2709,2,    35.0536,2,  -999.0,9,     -999.0,9,     -999.0,9,     -999.0,9,       1639
33AT20120419,        A20,      52,          1,          3,          3,2,20120504,       1618,    30.4950,   -52.3331,       5121,  4472.9,   2.1763,  34.8759,2,  34.8751,2,    256.3,2,   256.4,2,   42.71,2,   20.80,2,    0.00,2,    1.43,2,-999.000,9,-999.000,9,-999.000,9, -999.00,9,  2185.8,2,  2336.3,2,   7.7311,6,    25.00,-999.000,9,-999.0000,9, -999.00,9,   2.1767,2, -999.00,9,  -999.0,9,  -999.0,-999.000,9,-999.000,-999.000,9, -999.00,9,   40.97,2,   23.24,2,  30.4952, -52.3329,-999.000,-999.0000, -999.00,   1.7823,   2.1767,2,    35.0396,2,  -999.0,9,     -999.0,9,     -999.0,9,     -999.0,9,       1633
33AT20120419,        A20,      52,          1,          2,          2,2,20120504,       1618,    30.4950,   -52.3331,       5121,  4829.9,   2.0991,  34.8621,2,  34.8621,2,    251.3,2,   252.6,2,   49.25,2,   21.75,2,    0.00,2,    1.50,2,   0.164,2,   0.070,2,   0.011,2,    0.04,2,  -999.0,9,  -999.0,9,-999.0000,9,  -999.00,-999.000,9,-999.0000,9, -999.00,9,   2.0987,2, -999.00,9,  -999.0,9,  -999.0,-999.000,9,-999.000,-999.000,9, -999.00,9,   41.56,2,   24.16,2,  30.4951, -52.3329,-999.000,-999.0000, -999.00,   1.6644,   2.0987,2,    35.0265,2,  -999.0,9,     -999.0,9,     -999.0,9,     -999.0,9,       1626
33AT20120419,        A20,      52,          1,          1,          1,2,20120504,       1618,    30.4950,   -52.3331,       5121,  5196.9,   2.1169,  34.8588,2,  34.8588,2,    249.9,2,   249.8,2,   50.84,2,   21.98,2,    0.00,2,    1.51,2,   0.178,2,   0.079,2,   0.012,2,    0.15,2,  2197.0,6,  2343.4,2,   7.7217,2,    25.00,-999.000,9,-999.0000,9, -999.00,9,   2.1175,2, -999.00,9,  -999.0,9,  -999.0,-999.000,9,-999.000,-999.000,9, -999.00,9,   41.43,2,   24.99,2,  30.4950, -52.3331,-999.000,-999.0000, -999.00,   1.6356,   2.1175,2,    35.0231,2,  -999.0,9,     -999.0,9,     -999.0,9,     -999.0,9,       1619