BOTTLE,20220712CCHSIOCBG
EXPOCODE,SECT_ID,STNNBR,CASTNO,SAMPNO,BTLNBR,BTLNBR_FLAG_W,DATE,TIME,LATITUDE,LONGITUDE,DEPTH,CTDPRS,CTDTMP,CTDSAL,CTDSAL_FLAG_W,SALNTY,SALNTY_FLAG_W,CTDOXY,CTDOXY_FLAG_W,OXYGEN,OXYGEN_FLAG_W,SILCAT,SILCAT_FLAG_W,NITRAT,NITRAT_FLAG_W,NITRIT,NITRIT_FLAG_W,PHSPHT,PHSPHT_FLAG_W,CFC-11,CFC-11_FLAG_W,CFC-12,CFC-12_FLAG_W,CFC113,CFC113_FLAG_W,SF6,SF6_FLAG_W,TCARBN,TCARBN_FLAG_W,ALKALI,ALKALI_FLAG_W,PH_TOT,PH_TOT_FLAG_W,PH_TMP,TRITUM,TRITUM_FLAG_W,HELIUM,HELIUM_FLAG_W,DELHE3,DELHE3_FLAG_W,REFTMP,REFTMP_FLAG_W,DELC13,DELC13_FLAG_W,DELC14,DELC14_FLAG_W,C14ERR,NEON,NEON_FLAG_W,NEONER,CCL4,CCL4_FLAG_W,DELO18,DELO18_FLAG_W,DOC,DOC_FLAG_W,TDN,TDN_FLAG_W,BTL_LAT,BTL_LON,TRITER,HELIER,DELHER,THETA,SBE35,SBE35_FLAG_W,SALTREF,SALTREF_FLAG_W,14C-DOC,14C-DOC_FLAG_W,DELO17,DELO17_FLAG_W,O2/AR,O2/AR_FLAG_W,SIP,SIP_FLAG_W,BTL_TIME
,,,,,,,,,,,METERS,DBAR,ITS-90,PSS-78,,PSS-78,,UMOL/KG,,UMOL/KG,,UMOL/KG,,UMOL/KG,,UMOL/KG,,UMOL/KG,,PMOL/KG,,PMOL/KG,,PMOL/KG,,FMOL/KG,,UMOL/KG,,UMOL/KG,,,,DEG C,TU,,NMOL/KG,,PERCNT,,DEG C,,/MILLE,,/MILLE,,/MILLE,NMOL/KG,,NMOL/KG,PMOL/KG,,/MILLE,,UMOL/KG,,UMOL/KG,,,,TU,NMOL/KG,PERCNT,DEG C,ITS-90,,G/KG,,/MILLE,,/MILLE,,,,,,
33AT20120419,        A20,      24,          1,         36,         36,2,20120425,       0935,    10.7510,   -52.3341,       4906,     3.6,  27.4789,  32.8751,2,  32.8743,2,    202.1,2,   202.1,2,    2.21,2,    0.00,2,    0.00,2,    0.01,2,   1.647,2,   1.036,2,   0.151,2,    1.26,2,  1872.6,6,  2184.9,2,   8.1031,2,    25.00,   0.489,2,   1.8502,2,   -1.46,2,  27.4796,2, -999.00,9,  -999.0,9,  -999.0,   7.153,2,   0.033,-999.000,9, -999.00,1, -999.00,9, -999.00,9,  10.7524, -52.3336,   0.012,   0.0078,    0.15,  27.4781,  27.4796,2,    33.0293,2,  -999.0,9,     -999.0,1,     -999.0,1,     -999.0,9,       1155
33AT20120419,        A20,      24,          1,         35,         35,2,20120425,       0935,    10.7510,   -52.3341,       4906,    35.8,  27.5806,  35.3869,2,  35.3904,2,    200.7,2,   199.2,2,    0.68,2,    0.00,2,    0.01,2,    0.05,2,   1.635,2,   1.029,2,   0.145,2,    1.22,2,  1998.2,2,  2328.2,2,   8.0803,6,    25.00,-999.000,9,-999.0000,9, -999.00,9,  27.5812,2, -999.00,9,  -999.0,9,  -999.0,-999.000,9,-999.000,-999.000,9, -999.00,9, -999.00,9, -999.00,9,  10.7523, -52.3337,-999.000,-999.0000, -999.00,  27.5723,  27.5812,2,    35.5573,2,  -999.0,9,     -999.0,9,     -999.0,9,     -999.0,1,       1151
33AT20120419,        A20,      24,          1,         34,         34,2,20120425,       0935,    10.7510,   -52.3341,       4906,    60.4,  26.9543,  36.0067,2,  35.9364,2,    191.6,2,   191.3,2,    0.61,2,    0.20,2,    0.15,2,    0.10,2,   1.656,2,-999.000,5,   0.133,2,    1.20,2,  2036.4,2,  2357.4,6,   8.0561,2,    25.00,-999.000,9,-999.0000,9, -999.00,9,  26.9603,2, -999.00,9,  -999.0,9,  -999.0,-999.000,9,-999.000,-999.000,9, -999.00,9, -999.00,9, -999.00,9,  10.7522, -52.3338,-999.000,-999.0000, -999.00,  26.9404,  26.9603,2,    36.1058,2,  -999.0,9,     -999.0,9,     -999.0,9,     -999.0,9,       1149
33AT20120419,        A20,      24,          1,         33,         33,2,20120425,       0935,    10.7510,   -52.3341,       4906,    86.4,  24.9967,  36.3275,2,  36.3183,2,    167.8,2,   168.5,2,    1.69,2,    3.09,2,    0.05,2,    0.28,2,   1.807,2,   1.087,2,   0.127,2,    1.05,2,  -999.0,9,  -999.0,9,-999.0000,9,  -999.00,   0.355,2,   1.8265,2,   -0.82,2,  25.0017,2, -999.00,9,  -999.0,9,  -999.0,   7.222,2,   0.033,-999.000,9, -999.00,9, -999.00,9, -999.00,9,  10.7521, -52.3338,   0.011,   0.0077,    0.15,  24.9779,  25.0017,2,    36.4896,2,  -999.0,9,     -999.0,9,     -999.0,9,     -999.0,1,       1147
33AT20120419,        A20,      24,          1,         32,         32,2,20120425,       0935,    10.7510,   -52.3341,       4906,   114.9,  20.5725,  36.1855,2,  36.1823,2,    155.2,2,   163.9,2,    2.96,2,    7.11,2,    0.03,2,    0.56,2,   2.056,2,   1.229,2,   0.089,2,    1.15,2,  2124.3,2,  2377.5,2,   7.9297,2,    25.00,-999.000,9,-999.0000,9, -999.00,9,  20.5763,2, -999.00,9,  -999.0,9,  -999.0,-999.000,9,-999.000,-999.000,9, -999.00,9, -999.00,9, -999.00,9,  10.7520, -52.3338,-999.000,-999.0000, -999.00,  20.5507,  20.5763,2,    36.3530,2,  -999.0,9,     -999.0,9,     -999.0,9,     -999.0,9,       1144
33AT20120419,        A20,      24,          1,         31,         31,2,20120425,       0935,    10.7510,   -52.3341,       4906,   165.8,  15.8315,  35.9114,2,  35.9346,2,    122.1,2,   123.6,2,    5.36,2,   16.13,2,    0.01,2,    0.99,2,   2.138,2,   1.216,2,   0.031,2,    0.94,2,  2177.7,2,  2359.8,2,   7.7821,2,    25.00,   0.338,2,   1.8705,2,    1.08,2,  15.8078,2, -999.00,9,  -999.0,9,  -999.0,   7.616,2,   0.035,-999.000,9, -999.00,9, -999.00,9, -999.00,9,  10.7518, -52.3339,   0.011,   0.0079,    0.15,  15.8053,  15.8078,2,    36.1040,2,  -999.0,9,     -999.0,9,     -999.0,9,     -999.0,9,       1141
33AT20120419,        A20,      24,          1,         30,         30,2,20120425,       0935,    10.7510,   -52.3341,       4906,   216.0,  12.5474,  35.3884,2,  35.3817,2,    116.2,2,   116.5,2,    8.71,2,   22.24,2,    0.01,2,    1.40,2,   2.029,2,   1.096,2,   0.039,2,    0.69,2,  2191.3,2,  2329.9,2,   7.6894,2,    25.00,-999.000,9,-999.0000,9, -999.00,9,  12.5785,2, -999.00,9,  -999.0,9,  -999.0,-999.000,9,-999.000,-999.000,9, -999.00,9, -999.00,9, -999.00,9,  10.7517, -52.3339,-999.000,-999.0000, -999.00,  12.5182,  12.5785,2,    35.5485,2,  -999.0,9,     -999.0,9,     -999.0,9,     -999.0,9,       1137
33AT20120419,        A20,      24,          1,         29,         29,2,20120425,       0935,    10.7510,   -52.3341,       4906,   266.4,  11.0556,  35.1448,2,  35.1438,2,     98.4,2,   101.8,2,   10.88,2,   26.50,2,    0.01,2,    1.68,2,   1.716,2,   0.901,2,   0.023,2,    0.52,2,  -999.0,9,  -999.0,9,-999.0000,9,  -999.00,   0.196,2,   1.8962,2,    2.24,2,  11.0616,2, -999.00,9,  -999.0,9,  -999.0,   8.051,2,   0.037,-999.000,9, -999.00,9, -999.00,9, -999.00,9,  10.7516, -52.3340,   0.011,   0.0080,    0.15,  11.0225,  11.0616,2,    35.3095,2,  -999.0,9,     -999.0,9,     -999.0,9,     -999.0,9,       1135
33AT20120419,        A20,      24,          1,         28,         28,2,20120425,       0935,    10.7510,   -52.3341,       4906,   316.2,  10.3620,  35.0545,2,  35.0530,2,     96.0,2,    96.2,2,   12.29,2,   28.33,2,    0.01,2,    1.79,2,   1.547,2,   0.795,2,   0.026,2,    0.47,2,  2211.2,2,  2314.5,2,   7.5954,2,    25.00,-999.000,9,-999.0000,9, -999.00,9,  10.3608,2, -999.00,9,  -999.0,9,  -999.0,-999.000,9,-999.000,-999.000,9, -999.00,9, -999.00,9, -999.00,9,  10.7515, -52.3340,-999.000,-999.0000, -999.00,  10.3242,  10.3608,2,    35.2183,2,  -999.0,9,     -999.0,9,     -999.0,9,     -999.0,9,       1133
33AT20120419,        A20,      24,          1,         27,         27,2,20120425,       0935,    10.7510,   -52.3341,       4906,   367.1,   9.7522,  34.9901,2,  34.9881,2,     91.0,2,    92.4,2,   13.60,2,   30.12,2,    0.00,2,    1.88,2,   1.322,2,   0.649,2,   0.027,2,    0.41,2,  2217.7,2,  2310.4,2,   7.5721,2,    25.00,   0.163,2,-999.0000,9, -999.00,9,   9.7600,2, -999.00,9,  -999.0,9,  -999.0,-999.000,9,-999.000,-999.000,9, -999.00,9, -999.00,9, -999.00,9,  10.7514, -52.3340,   0.011,-999.0000, -999.00,   9.7099,   9.7600,2,    35.1531,2,  -999.0,9,     -999.0,9,     -999.0,9,     -999.0,1,       1130
33AT20120419,        A20,      24,          1,         26,         26,2,20120425,       0935,    10.7510,   -52.3341,       4906,   437.9,   8.9991,  34.9104,2,  34.9165,2,    101.9,2,   114.0,2,   14.86,2,   29.22,2,    0.00,2,    1.87,2,   1.415,3,   0.713,3,   0.028,3,    0.39,2,  2206.6,6,  2306.7,2,   7.5970,2,    25.00,-999.000,9,-999.0000,9, -999.00,9,   8.9665,2, -999.00,9,  -999.0,9,  -999.0,-999.000,9,-999.000,-999.000,9, -999.00,9, -999.00,9, -999.00,9,  10.7513, -52.3340,-999.000,-999.0000, -999.00,   8.9509,   8.9665,2,    35.0811,2,  -999.0,9,     -999.0,9,     -999.0,9,     -999.0,9,       1127
33AT20120419,        A20,      24,          1,         25,         25,2,20120425,       0935,    10.7510,   -52.3341,       4906,   538.4,   7.6062,  34.7394,2,  34.7377,2,    118.9,2,   120.0,2,   18.75,2,   31.72,2,    0.00,2,    2.06,2,   1.049,2,   0.501,2,   0.021,2,    0.26,2,  2212.1,2,  2304.7,2,   7.5683,2,    25.00,   0.069,2,   1.9211,2,    2.55,2,   7.5892,2, -999.00,9,  -999.0,9,  -999.0,   8.292,2,   0.038,-999.000,9, -999.00,9, -999.00,9, -999.00,9,  10.7513, -52.3341,   0.011,   0.0081,    0.15,   7.5523,   7.5892,2,    34.9015,2,  -999.0,9,     -999.0,9,     -999.0,9,     -999.0,9,       1124
33AT20120419,        A20,      24,          1,         24,         24,2,20120425,       0935,    10.7510,   -52.3341,       4906,   638.8,   6.7230,  34.6664,2,  34.6656,2,    124.1,2,   124.5,2,   21.75,2,   33.04,2,    0.00,2,    2.17,2,   0.742,2,   0.347,2,   0.009,2,    0.20,2,  2214.5,2,  2303.2,2,   7.5551,2,    25.00,   0.063,2,   1.9176,2,    2.38,2,   6.7184,2, -999.00,9,  -999.0,9,  -999.0,   8.254,2,   0.038,-999.000,9, -999.00,9, -999.00,9, -999.00,9,  10.7512, -52.3341,   0.011,   0.0081,    0.15,   6.6629,   6.7184,2,    34.8290,2,  -999.0,9,     -999.0,9,     -999.0,9,     -999.0,9,       1121
33AT20120419,        A20,      24,          1,         23,         23,2,20120425,       0935,    10.7510,   -52.3341,       4906,   739.7,   5.9179,  34.6116,2,  34.6101,2,    131.0,2,   131.0,2,   24.93,2,   33.91,2,    0.00,2,    2.25,2,   0.496,2,   0.233,2,   0.010,2,    0.14,2,  2217.5,2,  2303.6,2,   7.5496,2,    25.00,   0.020,2,   1.9280,2,    2.10,2,   5.9173,2, -999.00,9,  -999.0,9,  -999.0,   8.321,2,   0.038,-999.000,9, -999.00,9, -999.00,9, -999.00,9,  10.7511, -52.3342,   0.011,   0.0081,    0.15,   5.8524,   5.9173,2,    34.7734,2,  -999.0,9,     -999.0,9,     -999.0,9,     -999.0,9,       1118
33AT20120419,        A20,      24,          1,         22,         22,2,20120425,       0935,    10.7510,   -52.3341,       4906,   840.5,   5.5273,  34.6262,2,  34.6249,2,    135.0,2,   132.8,2,   26.76,2,   34.04,2,    0.00,2,    2.26,2,   0.286,2,   0.122,2,   0.007,2,    0.09,2,  2219.6,2,  2306.4,2,   7.5504,2,    25.00,   0.031,2,   1.9372,2,    1.86,2,   5.5269,2, -999.00,9,  -999.0,9,  -999.0,   8.255,2,   0.038,-999.000,9, -999.00,9, -999.00,9, -999.00,9,  10.7509, -52.3342,   0.011,   0.0081,    0.15,   5.4547,   5.5269,2,    34.7881,2,  -999.0,9,     -999.0,9,     -999.0,9,     -999.0,9,       1114
33AT20120419,        A20,      24,          1,         21,         21,2,20120425,       0935,    10.7510,   -52.3341,       4906,   941.5,   5.2724,  34.6677,2,  34.6720,2,    138.6,2,   138.7,2,   27.39,2,   33.27,2,    0.00,2,    2.23,2,   0.159,2,   0.070,2,   0.003,2,    0.06,2,  -999.0,9,  -999.0,9,-999.0000,9,  -999.00,   0.016,2,   1.9468,2,    1.46,2,   5.2759,2, -999.00,9,  -999.0,9,  -999.0,   8.320,2,   0.038,-999.000,9, -999.00,9, -999.00,9, -999.00,9,  10.7508, -52.3342,   0.011,   0.0082,    0.15,   5.1921,   5.2759,2,    34.8355,2,  -999.0,9,     -999.0,9,     -999.0,9,     -999.0,9,       1111
33AT20120419,        A20,      24,          1,         20,         20,2,20120425,       0935,    10.7510,   -52.3341,       4906,  1042.9,   5.2325,  34.7671,2,  34.7695,2,    149.8,2,   151.9,2,   25.64,2,   30.87,2,    0.00,2,    2.06,2,   0.170,2,   0.078,2,   0.005,2,    0.11,2,  2212.4,2,  2313.4,2,   7.5924,2,    25.00,   0.034,2,   1.9479,3,    1.92,2,   5.2328,2, -999.00,9,  -999.0,9,  -999.0,   8.495,3,   0.039,-999.000,9, -999.00,9, -999.00,9, -999.00,9,  10.7506, -52.3343,   0.011,   0.0082,    0.15,   5.1430,   5.2328,2,    34.9335,2,  -999.0,9,     -999.0,9,     -999.0,9,     -999.0,9,       1108
33AT20120419,        A20,      24,          1,         19,         19,2,20120425,       0935,    10.7510,   -52.3341,       4906,  1143.8,   5.2459,  34.8747,2,  34.8757,2,    167.2,2,   167.5,2,   22.80,2,   28.02,2,    0.00,2,    1.86,2,   0.235,2,   0.102,2,   0.006,2,    0.10,2,  -999.0,9,  -999.0,9,-999.0000,9,  -999.00,   0.043,2,   1.8230,2,    2.54,2,   5.2462,2, -999.00,9,  -999.0,9,  -999.0,   7.921,2,   0.036,-999.000,9, -999.00,9, -999.00,9, -999.00,9,  10.7506, -52.3343,   0.011,   0.0077,    0.15,   5.1466,   5.2462,2,    35.0401,2,  -999.0,9,     -999.0,9,     -999.0,9,     -999.0,9,       1105
33AT20120419,        A20,      24,          1,         18,         18,2,20120425,       0935,    10.7510,   -52.3341,       4906,  1245.4,   5.1532,  34.9511,2,  34.9522,2,    190.2,2,   192.3,2,   19.64,2,   24.55,2,    0.00,2,    1.64,2,   0.508,2,   0.228,2,   0.018,2,    0.21,2,  2190.4,2,  2321.1,2,   7.6679,2,    25.00,   0.131,2,   1.8292,2,    4.13,2,   5.1529,2, -999.00,9,  -999.0,9,  -999.0,   7.946,2,   0.037,-999.000,9, -999.00,9, -999.00,9, -999.00,9,  10.7505, -52.3343,   0.009,   0.0077,    0.15,   5.0449,   5.1529,2,    35.1170,2,  -999.0,9,     -999.0,9,     -999.0,9,     -999.0,9,       1102
33AT20120419,        A20,      24,          1,         17,         17,2,20120425,       0935,    10.7510,   -52.3341,       4906,  1346.4,   4.9141,  34.9956,2,  34.9959,2,    211.4,2,   214.0,2,   16.99,2,   21.73,2,    0.00,2,    1.45,2,   0.745,2,   0.339,2,   0.026,2,    0.24,2,  -999.0,9,  -999.0,9,-999.0000,9,  -999.00,   0.194,2,   1.8429,2,    5.18,2,   4.9138,2, -999.00,9,  -999.0,9,  -999.0,   8.047,2,   0.037,-999.000,9, -999.00,9, -999.00,9, -999.00,9,  10.7504, -52.3343,   0.009,   0.0077,    0.15,   4.7984,   4.9138,2,    35.1609,2,  -999.0,9,     -999.0,9,     -999.0,9,     -999.0,9,       1059
33AT20120419,        A20,      24,          1,         16,         16,2,20120425,       0935,    10.7510,   -52.3341,       4906,  1447.1,   4.6669,  35.0050,2,  35.0051,2,    229.6,2,   228.1,2,   15.77,2,   20.49,2,    0.00,2,    1.36,2,   0.887,2,   0.411,2,   0.032,2,    0.30,2,  2172.8,2,  2318.0,2,   7.7107,2,    25.00,   0.205,2,   1.8417,2,    5.73,2,   4.6670,2, -999.00,9,  -999.0,9,  -999.0,   7.874,2,   0.036,-999.000,9, -999.00,9, -999.00,9, -999.00,9,  10.7502, -52.3344,   0.009,   0.0077,    0.15,   4.5441,   4.6670,2,    35.1702,2,  -999.0,9,     -999.0,9,     -999.0,9,     -999.0,9,       1056
33AT20120419,        A20,      24,          1,         15,         15,2,20120425,       0935,    10.7510,   -52.3341,       4906,  1548.0,   4.4401,  35.0040,2,  35.0043,2,    240.8,2,   239.9,2,   14.66,2,   19.42,2,    0.00,2,    1.29,2,   1.101,2,   0.511,2,   0.041,2,    0.38,2,  -999.0,9,  -999.0,9,-999.0000,9,  -999.00,   0.242,2,   1.8480,2,    6.28,2,   4.4401,2, -999.00,9,  -999.0,9,  -999.0,   8.079,2,   0.037,-999.000,9, -999.00,9, -999.00,9, -999.00,9,  10.7501, -52.3344,   0.010,   0.0078,    0.15,   4.3103,   4.4401,2,    35.1694,2,  -999.0,9,     -999.0,9,     -999.0,9,     -999.0,9,       1052
33AT20120419,        A20,      24,          1,         14,         14,2,20120425,       0935,    10.7510,   -52.3341,       4906,  1680.2,   4.0717,  34.9894,2,  34.9897,2,    251.6,2,   251.3,2,   14.24,2,   18.66,2,    0.00,2,    1.24,2,   1.123,2,   0.531,2,   0.043,2,    0.31,2,  2162.1,2,  2316.2,2,   7.7297,2,    25.00,   0.234,2,   1.8589,2,    6.38,2,   4.0715,2, -999.00,9,  -999.0,9,  -999.0,   8.128,2,   0.037,-999.000,9, -999.00,9, -999.00,9, -999.00,9,  10.7499, -52.3345,   0.009,   0.0078,    0.15,   3.9339,   4.0715,2,    35.1547,2,  -999.0,9,     -999.0,9,     -999.0,9,     -999.0,9,       1049
33AT20120419,        A20,      24,          1,         13,         13,2,20120425,       0935,    10.7510,   -52.3341,       4906,  1883.8,   3.7127,  34.9737,2,  34.9748,2,    257.7,2,   258.2,2,   15.51,2,   18.38,2,    0.00,2,    1.22,2,-999.000,9,-999.000,9,-999.000,9, -999.00,9,  2160.9,2,  2314.3,2,   7.7352,2,    25.00,   0.203,2,   1.8830,2,    5.67,2,   3.7123,2, -999.00,9,  -999.0,9,  -999.0,   8.196,2,   0.038,-999.000,9, -999.00,9, -999.00,9, -999.00,9,  10.7497, -52.3345,   0.009,   0.0079,    0.15,   3.5605,   3.7123,2,    35.1397,2,  -999.0,9,     -999.0,9,     -999.0,9,     -999.0,9,       1044
33AT20120419,        A20,      24,          1,         12,         12,2,20120425,       0935,    10.7510,   -52.3341,       4906,  2105.8,   3.4739,  34.9662,2,  34.9663,2,    259.3,2,   258.6,2,   17.36,2,   18.40,2,    0.00,2,    1.22,2,   0.755,2,   0.342,2,   0.024,2,    0.24,2,  2160.8,2,  2316.9,2,   7.7385,2,    25.00,   0.150,2,   1.8500,2,    5.00,2,   3.4740,2, -999.00,9,  -999.0,9,  -999.0,   8.147,2,   0.037,-999.000,9, -999.00,9, -999.00,9, -999.00,9,  10.7495, -52.3346,   0.009,   0.0078,    0.15,   3.3041,   3.4740,2,    35.1312,2,  -999.0,9,     -999.0,9,     -999.0,9,     -999.0,1,       1038
33AT20120419,        A20,      24,          1,         11,         11,2,20120425,       0935,    10.7510,   -52.3341,       4906,  2360.2,   3.2624,  34.9581,2,  34.9582,2,    258.5,2,   258.5,2,   19.84,2,   18.66,2,    0.00,2,    1.25,2,   0.497,2,   0.213,2,   0.014,2,    0.14,2,  2163.1,2,  2323.5,2,   7.7406,2,    25.00,   0.118,2,   1.8769,2,    3.96,2,   3.2622,2, -999.00,9,  -999.0,9,  -999.0,   8.129,2,   0.037,-999.000,9, -999.00,9, -999.00,9, -999.00,9,  10.7494, -52.3346,   0.009,   0.0079,    0.15,   3.0714,   3.2622,2,    35.1231,2,  -999.0,9,     -999.0,9,     -999.0,9,     -999.0,9,       1033
33AT20120419,        A20,      24,          1,         10,         10,2,20120425,       0935,    10.7510,   -52.3341,       4906,  2613.7,   3.0441,  34.9461,2,  34.9464,2,    259.1,2,   259.7,2,   21.79,2,   18.61,2,    0.00,2,    1.25,2,   0.552,2,   0.246,2,   0.017,2,    0.13,2,  -999.0,9,  -999.0,9,-999.0000,9,  -999.00,-999.000,9,-999.0000,9, -999.00,9,   3.0443,2, -999.00,9,  -999.0,9,  -999.0,-999.000,9,-999.000,-999.000,9, -999.00,9, -999.00,9, -999.00,9,  10.7494, -52.3346,-999.000,-999.0000, -999.00,   2.8320,   3.0443,2,    35.1112,2,  -999.0,9,     -999.0,9,     -999.0,9,     -999.0,9,       1027
33AT20120419,        A20,      24,          1,          9,          9,2,20120425,       0935,    10.7510,   -52.3341,       4906,  2868.1,   2.8668,  34.9354,2,  34.9357,2,    253.9,2,   254.7,2,   27.72,2,   19.56,2,    0.00,2,    1.32,2,   0.248,2,   0.104,2,   0.009,2,    0.13,2,  2171.2,2,  2328.1,2,   7.7393,2,    25.00,   0.042,2,   1.8750,2,    3.78,2,   2.8668,2, -999.00,9,  -999.0,9,  -999.0,   8.084,2,   0.037,-999.000,9, -999.00,9, -999.00,9, -999.00,9,  10.7496, -52.3345,   0.009,   0.0079,    0.15,   2.6325,   2.8668,2,    35.1005,2,  -999.0,9,     -999.0,9,     -999.0,9,     -999.0,9,       1021
33AT20120419,        A20,      24,          1,          8,          8,2,20120425,       0935,    10.7510,   -52.3341,       4906,  3138.3,   2.7210,  34.9248,2,  34.9241,2,    252.7,2,   252.3,2,   32.58,2,   20.24,2,    0.00,2,    1.37,2,   0.166,2,   0.066,2,   0.007,2,    0.08,2,  2175.9,2,  2332.2,2,   7.7366,2,    25.00,-999.000,9,-999.0000,9, -999.00,9,   2.7209,2, -999.00,9,  -999.0,9,  -999.0,-999.000,9,-999.000,-999.000,9, -999.00,9, -999.00,9, -999.00,9,  10.7498, -52.3345,-999.000,-999.0000, -999.00,   2.4619,   2.7209,2,    35.0888,2,  -999.0,9,     -999.0,9,     -999.0,9,     -999.0,9,       1016
33AT20120419,        A20,      24,          1,          7,          7,2,20120425,       0935,    10.7510,   -52.3341,       4906,  3445.0,   2.5889,  34.9147,2,  34.9151,2,    253.2,2,   257.0,2,   31.94,2,   19.77,2,    0.00,2,    1.34,2,-999.000,9,-999.000,9,-999.000,9, -999.00,9,  2174.1,2,  2289.0,4,   7.7337,2,    25.00,-999.000,9,-999.0000,9, -999.00,9,   2.5892,2, -999.00,9,  -999.0,9,  -999.0,-999.000,9,-999.000,-999.000,9, -999.00,9, -999.00,9, -999.00,9,  10.7499, -52.3344,-999.000,-999.0000, -999.00,   2.3002,   2.5892,2,    35.0797,2,  -999.0,9,     -999.0,9,     -999.0,9,     -999.0,9,       1009