BOTTLE,20220712CCHSIOCBG
EXPOCODE,SECT_ID,STNNBR,CASTNO,SAMPNO,BTLNBR,BTLNBR_FLAG_W,DATE,TIME,LATITUDE,LONGITUDE,DEPTH,CTDPRS,CTDTMP,CTDSAL,CTDSAL_FLAG_W,SALNTY,SALNTY_FLAG_W,CTDOXY,CTDOXY_FLAG_W,OXYGEN,OXYGEN_FLAG_W,SILCAT,SILCAT_FLAG_W,NITRAT,NITRAT_FLAG_W,NITRIT,NITRIT_FLAG_W,PHSPHT,PHSPHT_FLAG_W,CFC-11,CFC-11_FLAG_W,CFC-12,CFC-12_FLAG_W,CFC113,CFC113_FLAG_W,SF6,SF6_FLAG_W,TCARBN,TCARBN_FLAG_W,ALKALI,ALKALI_FLAG_W,PH_TOT,PH_TOT_FLAG_W,PH_TMP,TRITUM,TRITUM_FLAG_W,HELIUM,HELIUM_FLAG_W,DELHE3,DELHE3_FLAG_W,REFTMP,REFTMP_FLAG_W,DELC13,DELC13_FLAG_W,DELC14,DELC14_FLAG_W,C14ERR,NEON,NEON_FLAG_W,NEONER,CCL4,CCL4_FLAG_W,DELO18,DELO18_FLAG_W,DOC,DOC_FLAG_W,TDN,TDN_FLAG_W,BTL_LAT,BTL_LON,TRITER,HELIER,DELHER,THETA,SBE35,SBE35_FLAG_W,SALTREF,SALTREF_FLAG_W,14C-DOC,14C-DOC_FLAG_W,DELO17,DELO17_FLAG_W,O2/AR,O2/AR_FLAG_W,SIP,SIP_FLAG_W,BTL_TIME
,,,,,,,,,,,METERS,DBAR,ITS-90,PSS-78,,PSS-78,,UMOL/KG,,UMOL/KG,,UMOL/KG,,UMOL/KG,,UMOL/KG,,UMOL/KG,,PMOL/KG,,PMOL/KG,,PMOL/KG,,FMOL/KG,,UMOL/KG,,UMOL/KG,,,,DEG C,TU,,NMOL/KG,,PERCNT,,DEG C,,/MILLE,,/MILLE,,/MILLE,NMOL/KG,,NMOL/KG,PMOL/KG,,/MILLE,,UMOL/KG,,UMOL/KG,,,,TU,NMOL/KG,PERCNT,DEG C,ITS-90,,G/KG,,/MILLE,,/MILLE,,,,,,
33AT20120419,        A20,      20,          1,          6,          6,2,20120424,       0926,     9.4205,   -52.3320,       4826,  3342.5,   2.6139,  34.9175,2,  34.9177,2,    262.2,2,   262.7,2,   26.54,2,   18.69,2,    0.00,2,    1.27,2,   0.625,2,   0.268,2,   0.023,2,    0.11,2,  -999.0,9,  -999.0,9,-999.0000,9,  -999.00,-999.000,9,-999.0000,9, -999.00,9,   2.6145,2, -999.00,9,  -999.0,9,  -999.0,-999.000,9,-999.000,-999.000,9, -999.00,9, -999.00,9, -999.00,9,   9.4209, -52.3316,-999.000,-999.0000, -999.00,   2.3356,   2.6145,2,    35.0824,2,  -999.0,9,     -999.0,9,     -999.0,9,     -999.0,9,       0959
33AT20120419,        A20,      20,          1,          5,          5,2,20120424,       0926,     9.4205,   -52.3320,       4826,  3649.3,   2.4541,  34.9054,2,  34.9055,2,    261.1,2,   262.2,2,   30.21,2,   19.09,2,    0.00,2,    1.31,2,   0.532,2,   0.233,2,   0.018,2,    0.12,2,  2174.6,2,  2328.6,6,   7.7369,2,    25.00,-999.000,9,-999.0000,9, -999.00,9,   2.4539,2, -999.00,9,  -999.0,9,  -999.0,-999.000,9,-999.000,-999.000,9, -999.00,9, -999.00,9, -999.00,9,   9.4208, -52.3317,-999.000,-999.0000, -999.00,   2.1465,   2.4539,2,    35.0701,2,  -999.0,9,     -999.0,9,     -999.0,9,     -999.0,9,       0952
33AT20120419,        A20,      20,          1,          4,          4,2,20120424,       0926,     9.4205,   -52.3320,       4826,  3956.2,   2.3153,  34.8948,2,  34.8951,2,    263.4,2,   263.1,2,   31.96,2,   19.08,2,    0.00,2,    1.32,2,   0.547,2,   0.249,2,   0.028,2,    0.10,2,  -999.0,9,  -999.0,9,-999.0000,9,  -999.00,-999.000,9,-999.0000,9, -999.00,9,   2.3153,2, -999.00,9,  -999.0,9,  -999.0,-999.000,9,-999.000,-999.000,9, -999.00,9, -999.00,9, -999.00,9,   9.4207, -52.3318,-999.000,-999.0000, -999.00,   1.9771,   2.3153,2,    35.0597,2,  -999.0,9,     -999.0,9,     -999.0,9,     -999.0,9,       0946
33AT20120419,        A20,      20,          1,          3,          3,2,20120424,       0926,     9.4205,   -52.3320,       4826,  4262.7,   2.2294,  34.8847,2,  34.8849,2,    261.6,2,   261.4,2,   35.83,2,   19.60,2,    0.00,2,    1.35,2,   0.528,2,   0.231,2,   0.026,2,    0.08,2,  2180.8,2,  2334.1,2,   7.7332,2,    25.00,-999.000,9,-999.0000,9, -999.00,9,   2.2295,2, -999.00,9,  -999.0,9,  -999.0,-999.000,9,-999.000,-999.000,9, -999.00,9, -999.00,9, -999.00,9,   9.4206, -52.3319,-999.000,-999.0000, -999.00,   1.8585,   2.2295,2,    35.0494,2,  -999.0,9,     -999.0,9,     -999.0,9,     -999.0,9,       0939
33AT20120419,        A20,      20,          1,          2,          2,2,20120424,       0926,     9.4205,   -52.3320,       4826,  4570.0,   2.1691,  34.8736,2,  34.8743,2,    258.0,2,   257.4,2,   41.73,2,   20.53,2,    0.00,2,    1.41,2,   0.380,2,   0.172,2,   0.019,2,    0.08,2,  -999.0,9,  -999.0,9,-999.0000,9,  -999.00,-999.000,9,-999.0000,9, -999.00,9,   2.1692,2, -999.00,9,  -999.0,9,  -999.0,-999.000,9,-999.000,-999.000,9, -999.00,9, -999.00,9, -999.00,9,   9.4206, -52.3320,-999.000,-999.0000, -999.00,   1.7637,   2.1692,2,    35.0387,2,  -999.0,9,     -999.0,9,     -999.0,9,     -999.0,9,       0933
33AT20120419,        A20,      20,          1,          1,          1,2,20120424,       0926,     9.4205,   -52.3320,       4826,  4890.9,   1.7525,  34.8192,2,  34.8194,2,    240.9,2,   241.3,2,   68.42,2,   24.52,2,    0.00,2,    1.69,2,   0.216,2,   0.093,2,   0.009,2,    0.05,2,  2216.7,6,  2358.7,2,   7.6969,2,    25.00,-999.000,9,-999.0000,9, -999.00,9,   1.7525,2, -999.00,9,  -999.0,9,  -999.0,-999.000,9,-999.000,-999.000,9, -999.00,9, -999.00,9, -999.00,9,   9.4205, -52.3320,-999.000,-999.0000, -999.00,   1.3220,   1.7525,2,    34.9836,2,  -999.0,9,     -999.0,9,     -999.0,9,     -999.0,9,       0926