BOTTLE,20220712CCHSIOCBG
EXPOCODE,SECT_ID,STNNBR,CASTNO,SAMPNO,BTLNBR,BTLNBR_FLAG_W,DATE,TIME,LATITUDE,LONGITUDE,DEPTH,CTDPRS,CTDTMP,CTDSAL,CTDSAL_FLAG_W,SALNTY,SALNTY_FLAG_W,CTDOXY,CTDOXY_FLAG_W,OXYGEN,OXYGEN_FLAG_W,SILCAT,SILCAT_FLAG_W,NITRAT,NITRAT_FLAG_W,NITRIT,NITRIT_FLAG_W,PHSPHT,PHSPHT_FLAG_W,CFC-11,CFC-11_FLAG_W,CFC-12,CFC-12_FLAG_W,CFC113,CFC113_FLAG_W,SF6,SF6_FLAG_W,TCARBN,TCARBN_FLAG_W,ALKALI,ALKALI_FLAG_W,PH_TOT,PH_TOT_FLAG_W,PH_TMP,TRITUM,TRITUM_FLAG_W,HELIUM,HELIUM_FLAG_W,DELHE3,DELHE3_FLAG_W,REFTMP,REFTMP_FLAG_W,DELC13,DELC13_FLAG_W,DELC14,DELC14_FLAG_W,C14ERR,NEON,NEON_FLAG_W,NEONER,CCL4,CCL4_FLAG_W,DELO18,DELO18_FLAG_W,DOC,DOC_FLAG_W,TDN,TDN_FLAG_W,BTL_LAT,BTL_LON,TRITER,HELIER,DELHER,THETA,SBE35,SBE35_FLAG_W,SALTREF,SALTREF_FLAG_W,14C-DOC,14C-DOC_FLAG_W,DELO17,DELO17_FLAG_W,O2/AR,O2/AR_FLAG_W,SIP,SIP_FLAG_W,BTL_TIME
,,,,,,,,,,,METERS,DBAR,ITS-90,PSS-78,,PSS-78,,UMOL/KG,,UMOL/KG,,UMOL/KG,,UMOL/KG,,UMOL/KG,,UMOL/KG,,PMOL/KG,,PMOL/KG,,PMOL/KG,,FMOL/KG,,UMOL/KG,,UMOL/KG,,,,DEG C,TU,,NMOL/KG,,PERCNT,,DEG C,,/MILLE,,/MILLE,,/MILLE,NMOL/KG,,NMOL/KG,PMOL/KG,,/MILLE,,UMOL/KG,,UMOL/KG,,,,TU,NMOL/KG,PERCNT,DEG C,ITS-90,,G/KG,,/MILLE,,/MILLE,,,,,,
33AT20120419,        A20,      20,          1,         36,         36,2,20120424,       0926,     9.4205,   -52.3320,       4826,     3.4,  27.7703,  27.0093,2,  27.0351,2,    210.2,2,   209.6,2,   10.45,2,    0.00,2,    0.01,2,    0.02,2,   1.675,2,   1.073,2,   0.149,2,    0.96,2,  1575.7,6,  1862.7,2,   8.2000,2,    25.00,-999.000,9,-999.0000,9, -999.00,9,  27.7700,2, -999.00,9,  -999.0,9,  -999.0,-999.000,9,-999.000,-999.000,9, -999.00,9, -999.00,9, -999.00,9,   9.4244, -52.3271,-999.000,-999.0000, -999.00,  27.7695,  27.7700,2,    27.1626,2,  -999.0,9,     -999.0,9,     -999.0,9,     -999.0,9,       1138
33AT20120419,        A20,      20,          1,         35,         35,2,20120424,       0926,     9.4205,   -52.3320,       4826,    26.0,  27.6667,  35.6725,2,  35.6749,2,    197.3,2,   198.4,2,    0.53,2,    0.00,2,    0.00,2,    0.04,2,   1.611,2,   1.023,2,   0.135,2,    0.89,2,  2009.4,2,  2343.0,2,   8.1001,2,    25.00,-999.000,9,-999.0000,9, -999.00,9,  27.6642,2, -999.00,9,  -999.0,9,  -999.0,-999.000,9,-999.000,-999.000,9, -999.00,9, -999.00,9, -999.00,9,   9.4243, -52.3272,-999.000,-999.0000, -999.00,  27.6606,  27.6642,2,    35.8431,2,  -999.0,9,     -999.0,9,     -999.0,9,     -999.0,9,       1136
33AT20120419,        A20,      20,          1,         34,         34,2,20120424,       0926,     9.4205,   -52.3320,       4826,    50.8,  27.5862,  35.8934,2,  35.8961,2,    197.2,2,   197.1,2,    0.47,2,    0.00,2,    0.00,2,    0.04,2,   1.628,2,   1.023,2,   0.127,2,    0.97,2,  2021.0,2,  2355.5,2,   8.0801,6,    25.00,-999.000,9,-999.0000,9, -999.00,9,  27.5847,2, -999.00,9,  -999.0,9,  -999.0,-999.000,9,-999.000,-999.000,9, -999.00,9, -999.00,9, -999.00,9,   9.4242, -52.3273,-999.000,-999.0000, -999.00,  27.5743,  27.5847,2,    36.0654,2,  -999.0,9,     -999.0,9,     -999.0,9,     -999.0,9,       1134
33AT20120419,        A20,      20,          1,         33,         33,2,20120424,       0926,     9.4205,   -52.3320,       4826,    75.8,  26.2863,  36.1674,2,  36.2022,2,    180.2,2,   179.4,2,    1.24,2,    1.31,2,    0.39,2,    0.19,2,   1.697,2,-999.000,5,   0.117,2,    0.95,2,  -999.0,9,  -999.0,9,-999.0000,9,  -999.00,-999.000,9,-999.0000,9, -999.00,9,  26.2927,2, -999.00,9,  -999.0,9,  -999.0,-999.000,9,-999.000,-999.000,9, -999.00,9, -999.00,9, -999.00,9,   9.4242, -52.3274,-999.000,-999.0000, -999.00,  26.2692,  26.2927,2,    36.3729,2,  -999.0,9,     -999.0,9,     -999.0,9,     -999.0,9,       1132
33AT20120419,        A20,      20,          1,         32,         32,2,20120424,       0926,     9.4205,   -52.3320,       4826,   100.3,  25.0797,  36.3419,2,  36.3517,2,    172.0,2,   171.6,2,    1.51,2,    2.71,2,    0.06,2,    0.26,2,   1.790,2,   1.102,2,   0.127,2,    0.84,2,  2084.7,2,  2383.9,6,   8.0089,2,    25.00,-999.000,9,-999.0000,9, -999.00,9,  25.0713,2, -999.00,9,  -999.0,9,  -999.0,-999.000,9,-999.000,-999.000,9, -999.00,9, -999.00,9, -999.00,9,   9.4240, -52.3276,-999.000,-999.0000, -999.00,  25.0578,  25.0713,2,    36.5231,2,  -999.0,9,     -999.0,9,     -999.0,9,     -999.0,9,       1128
33AT20120419,        A20,      20,          1,         31,         31,2,20120424,       0926,     9.4205,   -52.3320,       4826,   150.4,  17.3662,  36.0567,2,  36.0270,2,    140.8,2,   140.3,2,    5.09,2,   12.78,2,    0.02,2,    0.84,2,   2.181,2,   1.269,2,   0.044,2,    0.71,2,  2162.3,2,  2365.0,2,   7.8318,2,    25.00,-999.000,9,-999.0000,9, -999.00,9,  17.3169,2, -999.00,9,  -999.0,9,  -999.0,-999.000,9,-999.000,-999.000,9, -999.00,9, -999.00,9, -999.00,9,   9.4239, -52.3278,-999.000,-999.0000, -999.00,  17.3409,  17.3169,2,    36.1969,2,  -999.0,9,     -999.0,9,     -999.0,9,     -999.0,9,       1125
33AT20120419,        A20,      20,          1,         30,         30,2,20120424,       0926,     9.4205,   -52.3320,       4826,   201.2,  12.7446,  35.3503,2,  35.3388,2,    139.9,2,   142.0,2,    8.40,2,   19.45,2,    0.01,2,    1.29,2,   2.265,2,   1.256,2,   0.036,2,    0.50,2,  2174.8,2,  2329.6,2,   7.7317,2,    25.00,-999.000,9,-999.0000,9, -999.00,9,  12.7499,2, -999.00,9,  -999.0,9,  -999.0,-999.000,9,-999.000,-999.000,9, -999.00,9, -999.00,9, -999.00,9,   9.4238, -52.3279,-999.000,-999.0000, -999.00,  12.7172,  12.7499,2,    35.5054,2,  -999.0,9,     -999.0,9,     -999.0,9,     -999.0,9,       1122
33AT20120419,        A20,      20,          1,         29,         29,2,20120424,       0926,     9.4205,   -52.3320,       4826,   251.4,  11.0667,  35.1184,2,  35.1065,2,    137.0,2,   137.0,2,   10.51,2,   22.98,2,    0.01,2,    1.51,2,   2.119,2,   1.134,2,   0.039,2,    0.48,2,  -999.0,9,  -999.0,9,-999.0000,9,  -999.00,-999.000,9,-999.0000,9, -999.00,9,  11.0691,2, -999.00,9,  -999.0,9,  -999.0,-999.000,9,-999.000,-999.000,9, -999.00,9, -999.00,9, -999.00,9,   9.4237, -52.3280,-999.000,-999.0000, -999.00,  11.0355,  11.0691,2,    35.2721,2,  -999.0,9,     -999.0,9,     -999.0,9,     -999.0,9,       1120
33AT20120419,        A20,      20,          1,         28,         28,2,20120424,       0926,     9.4205,   -52.3320,       4826,   301.6,  10.0612,  34.9650,2,  34.9540,2,    139.3,2,   137.6,2,   12.23,2,   24.86,2,    0.00,2,    1.65,2,   2.045,2,   1.107,2,   0.044,2,    0.42,2,  2188.9,2,  2311.8,2,   7.6563,2,    25.00,-999.000,9,-999.0000,9, -999.00,9,  10.0621,2, -999.00,9,  -999.0,9,  -999.0,-999.000,9,-999.000,-999.000,9, -999.00,9, -999.00,9, -999.00,9,   9.4237, -52.3281,-999.000,-999.0000, -999.00,  10.0259,  10.0621,2,    35.1188,2,  -999.0,9,     -999.0,9,     -999.0,9,     -999.0,9,       1118
33AT20120419,        A20,      20,          1,         27,         27,2,20120424,       0926,     9.4205,   -52.3320,       4826,   351.6,   9.1969,  34.8569,2,  34.8552,2,    138.9,2,   135.2,2,   13.94,2,   26.84,2,    0.00,2,    1.77,2,   1.888,2,   1.006,2,   0.034,2,    0.40,2,  -999.0,9,  -999.0,9,-999.0000,9,  -999.00,-999.000,9,-999.0000,9, -999.00,9,   9.1954,2, -999.00,9,  -999.0,9,  -999.0,-999.000,9,-999.000,-999.000,9, -999.00,9, -999.00,9, -999.00,9,   9.4236, -52.3282,-999.000,-999.0000, -999.00,   9.1579,   9.1954,2,    35.0196,2,  -999.0,9,     -999.0,9,     -999.0,9,     -999.0,9,       1116
33AT20120419,        A20,      20,          1,         26,         26,2,20120424,       0926,     9.4205,   -52.3320,       4826,   402.4,   8.6511,  34.8050,2,  34.7951,2,    129.0,2,   129.5,2,   15.50,2,   28.73,2,    0.00,2,    1.87,2,   1.646,2,   0.838,2,   0.030,2,    0.37,2,  2201.8,2,  2304.6,2,   7.6048,2,    25.00,-999.000,9,-999.0000,9, -999.00,9,   8.6458,2, -999.00,9,  -999.0,9,  -999.0,-999.000,9,-999.000,-999.000,9, -999.00,9, -999.00,9, -999.00,9,   9.4235, -52.3283,-999.000,-999.0000, -999.00,   8.6080,   8.6458,2,    34.9591,2,  -999.0,9,     -999.0,9,     -999.0,9,     -999.0,9,       1114
33AT20120419,        A20,      20,          1,         25,         25,2,20120424,       0926,     9.4205,   -52.3320,       4826,   452.6,   7.6638,  34.6769,2,  34.6734,2,    140.2,2,   140.9,2,   17.43,2,   29.64,2,    0.00,2,    1.95,2,   1.602,2,   0.789,2,   0.041,2,    0.34,2,  2200.8,2,  2302.1,2,   7.5991,2,    25.00,-999.000,9,-999.0000,9, -999.00,9,   7.6554,2, -999.00,9,  -999.0,9,  -999.0,-999.000,9,-999.000,-999.000,9, -999.00,9, -999.00,9, -999.00,9,   9.4235, -52.3284,-999.000,-999.0000, -999.00,   7.6186,   7.6554,2,    34.8369,2,  -999.0,9,     -999.0,9,     -999.0,9,     -999.0,9,       1112
33AT20120419,        A20,      20,          1,         24,         24,2,20120424,       0926,     9.4205,   -52.3320,       4826,   502.9,   7.0438,  34.6056,2,  34.6049,2,    144.5,2,   145.4,2,   19.10,2,   30.60,2,    0.00,2,    2.02,2,   1.494,2,   0.734,2,   0.041,2,    0.26,2,  2201.2,2,  2300.0,2,   7.5896,2,    25.00,-999.000,9,-999.0000,9, -999.00,9,   7.0438,2, -999.00,9,  -999.0,9,  -999.0,-999.000,9,-999.000,-999.000,9, -999.00,9, -999.00,9, -999.00,9,   9.4234, -52.3284,-999.000,-999.0000, -999.00,   6.9958,   7.0438,2,    34.7680,2,  -999.0,9,     -999.0,9,     -999.0,9,     -999.0,9,       1110
33AT20120419,        A20,      20,          1,         23,         23,2,20120424,       0926,     9.4205,   -52.3320,       4826,   603.9,   6.5424,  34.5660,2,  34.5658,2,    143.9,2,   144.6,2,   21.18,2,   31.81,2,    0.00,2,    2.12,2,   1.237,2,   0.602,2,   0.033,2,    0.16,2,  2206.2,2,  2299.6,2,   7.5759,2,    25.00,-999.000,9,-999.0000,9, -999.00,9,   6.5430,2, -999.00,9,  -999.0,9,  -999.0,-999.000,9,-999.000,-999.000,9, -999.00,9, -999.00,9, -999.00,9,   9.4233, -52.3286,-999.000,-999.0000, -999.00,   6.4866,   6.5430,2,    34.7288,2,  -999.0,9,     -999.0,9,     -999.0,9,     -999.0,9,       1107
33AT20120419,        A20,      20,          1,         22,         22,2,20120424,       0926,     9.4205,   -52.3320,       4826,   704.4,   6.0438,  34.6026,2,  34.6005,2,    130.5,2,   130.1,2,   24.56,2,   33.96,2,    0.00,2,    2.25,2,   0.562,2,   0.252,2,   0.009,2,    0.10,2,  2219.5,2,  2302.3,2,   7.5493,2,    25.00,-999.000,9,-999.0000,9, -999.00,9,   6.0414,2, -999.00,9,  -999.0,9,  -999.0,-999.000,9,-999.000,-999.000,9, -999.00,9, -999.00,9, -999.00,9,   9.4232, -52.3287,-999.000,-999.0000, -999.00,   5.9809,   6.0414,2,    34.7637,2,  -999.0,9,     -999.0,9,     -999.0,9,     -999.0,9,       1104
33AT20120419,        A20,      20,          1,         21,         21,2,20120424,       0926,     9.4205,   -52.3320,       4826,   805.8,   5.5948,  34.6163,2,  34.6151,2,    132.4,2,   132.9,2,   26.77,2,   34.10,2,    0.00,2,    2.28,2,   0.327,2,   0.146,2,   0.006,2,    0.06,2,  2221.0,6,  2305.2,2,   7.5482,2,    25.00,-999.000,9,-999.0000,9, -999.00,9,   5.5908,2, -999.00,9,  -999.0,9,  -999.0,-999.000,9,-999.000,-999.000,9, -999.00,9, -999.00,9, -999.00,9,   9.4231, -52.3288,-999.000,-999.0000, -999.00,   5.5250,   5.5908,2,    34.7783,2,  -999.0,9,     -999.0,9,     -999.0,9,     -999.0,9,       1101
33AT20120419,        A20,      20,          1,         20,         20,2,20120424,       0926,     9.4205,   -52.3320,       4826,   906.2,   5.3352,  34.6761,2,  34.6727,2,    137.2,2,   137.6,2,   27.36,2,   33.37,2,    0.00,2,    2.23,2,   0.158,2,   0.070,2,   0.003,2,   -0.00,2,  2221.2,2,  2309.2,2,   7.5597,6,    25.00,-999.000,9,-999.0000,9, -999.00,9,   5.3369,2, -999.00,9,  -999.0,9,  -999.0,-999.000,9,-999.000,-999.000,9, -999.00,9, -999.00,9, -999.00,9,   9.4230, -52.3290,-999.000,-999.0000, -999.00,   5.2577,   5.3369,2,    34.8362,2,  -999.0,9,     -999.0,9,     -999.0,9,     -999.0,9,       1058
33AT20120419,        A20,      20,          1,         19,         19,2,20120424,       0926,     9.4205,   -52.3320,       4826,  1007.0,   5.1941,  34.7549,2,  34.7550,2,    149.1,2,   149.4,2,   26.32,2,   31.41,2,    0.00,2,    2.10,2,   0.131,2,   0.058,2,   0.002,2,   -0.00,2,  2216.7,2,  2312.3,2,   7.5859,2,    25.00,-999.000,9,-999.0000,9, -999.00,9,   5.1951,2, -999.00,9,  -999.0,9,  -999.0,-999.000,9,-999.000,-999.000,9, -999.00,9, -999.00,9, -999.00,9,   9.4229, -52.3291,-999.000,-999.0000, -999.00,   5.1083,   5.1951,2,    34.9189,2,  -999.0,9,     -999.0,9,     -999.0,9,     -999.0,9,       1055
33AT20120419,        A20,      20,          1,         18,         18,2,20120424,       0926,     9.4205,   -52.3320,       4826,  1108.9,   4.9819,  34.8089,2,  34.8128,2,    164.3,2,   166.2,2,   24.83,2,   29.17,2,    0.00,2,    1.98,2,   0.176,2,   0.079,2,   0.006,2,    0.06,2,  -999.0,9,  -999.0,9,-999.0000,9,  -999.00,-999.000,9,-999.0000,9, -999.00,9,   4.9841,2, -999.00,9,  -999.0,9,  -999.0,-999.000,9,-999.000,-999.000,9, -999.00,9, -999.00,9, -999.00,9,   9.4228, -52.3293,-999.000,-999.0000, -999.00,   4.8882,   4.9841,2,    34.9770,2,  -999.0,9,     -999.0,9,     -999.0,9,     -999.0,9,       1052
33AT20120419,        A20,      20,          1,         17,         17,2,20120424,       0926,     9.4205,   -52.3320,       4826,  1209.7,   5.1556,  34.9230,2,  34.9226,2,    182.6,2,   184.3,2,   21.16,2,   25.71,2,    0.00,2,    1.74,2,   0.411,2,   0.180,2,   0.008,2,    0.08,2,  2197.3,2,  2318.5,2,   7.6537,2,    25.00,-999.000,9,-999.0000,9, -999.00,9,   5.1553,2, -999.00,9,  -999.0,9,  -999.0,-999.000,9,-999.000,-999.000,9, -999.00,9, -999.00,9, -999.00,9,   9.4226, -52.3294,-999.000,-999.0000, -999.00,   5.0508,   5.1553,2,    35.0873,2,  -999.0,9,     -999.0,9,     -999.0,9,     -999.0,9,       1049
33AT20120419,        A20,      20,          1,         16,         16,2,20120424,       0926,     9.4205,   -52.3320,       4826,  1310.3,   4.9242,  34.9445,2,  34.9431,2,    197.9,2,   199.3,2,   19.81,2,   24.12,2,    0.00,2,    1.63,2,   0.538,2,   0.243,2,   0.020,2,    0.14,2,  -999.0,9,  -999.0,9,-999.0000,9,  -999.00,-999.000,9,-999.0000,9, -999.00,9,   4.9245,2, -999.00,9,  -999.0,9,  -999.0,-999.000,9,-999.000,-999.000,9, -999.00,9, -999.00,9, -999.00,9,   9.4225, -52.3296,-999.000,-999.0000, -999.00,   4.8119,   4.9245,2,    35.1079,2,  -999.0,9,     -999.0,9,     -999.0,9,     -999.0,9,       1046
33AT20120419,        A20,      20,          1,         15,         15,2,20120424,       0926,     9.4205,   -52.3320,       4826,  1411.5,   4.8304,  35.0108,2,  35.0106,2,    224.7,2,   225.7,2,   15.66,2,   20.60,2,    0.00,2,    1.38,2,-999.000,9,-999.000,9,-999.000,9, -999.00,9,  2177.1,2,  2319.5,2,   7.7079,2,    25.00,-999.000,9,-999.0000,9, -999.00,9,   4.8308,2, -999.00,9,  -999.0,9,  -999.0,-999.000,9,-999.000,-999.000,9, -999.00,9, -999.00,9, -999.00,9,   9.4224, -52.3298,-999.000,-999.0000, -999.00,   4.7093,   4.8308,2,    35.1757,2,  -999.0,9,     -999.0,9,     -999.0,9,     -999.0,9,       1043
33AT20120419,        A20,      20,          1,         14,         14,2,20120424,       0926,     9.4205,   -52.3320,       4826,  1512.9,   4.5190,  35.0034,2,  35.0039,2,    236.3,2,   236.5,2,   15.14,2,   19.85,2,    0.00,2,    1.32,2,   1.077,2,   0.514,2,   0.041,2,    0.18,2,  2172.1,2,  2318.6,2,   7.7168,2,    25.00,-999.000,9,-999.0000,9, -999.00,9,   4.5190,2, -999.00,9,  -999.0,9,  -999.0,-999.000,9,-999.000,-999.000,9, -999.00,9, -999.00,9, -999.00,9,   9.4222, -52.3300,-999.000,-999.0000, -999.00,   4.3916,   4.5190,2,    35.1689,2,  -999.0,9,     -999.0,9,     -999.0,9,     -999.0,9,       1040
33AT20120419,        A20,      20,          1,         13,         13,2,20120424,       0926,     9.4205,   -52.3320,       4826,  1614.0,   4.2571,  34.9971,2,  34.9968,2,    245.9,2,   246.6,2,   14.52,2,   19.06,2,    0.00,2,    1.27,2,   1.151,2,   0.535,2,   0.043,2,    0.17,2,  2166.8,2,  2316.0,2,   7.7265,2,    25.00,-999.000,9,-999.0000,9, -999.00,9,   4.2577,2, -999.00,9,  -999.0,9,  -999.0,-999.000,9,-999.000,-999.000,9, -999.00,9, -999.00,9, -999.00,9,   9.4221, -52.3301,-999.000,-999.0000, -999.00,   4.1232,   4.2577,2,    35.1618,2,  -999.0,9,     -999.0,9,     -999.0,9,     -999.0,9,       1037
33AT20120419,        A20,      20,          1,         12,         12,2,20120424,       0926,     9.4205,   -52.3320,       4826,  1815.8,   3.8515,  34.9779,2,  34.9779,2,    257.1,2,   257.4,2,   14.51,2,   18.34,2,    0.00,2,    1.22,2,   1.226,2,   0.572,2,   0.049,2,    0.26,2,  2164.3,2,  2316.6,2,   7.7325,2,    25.00,-999.000,9,-999.0000,9, -999.00,9,   3.8513,2, -999.00,9,  -999.0,9,  -999.0,-999.000,9,-999.000,-999.000,9, -999.00,9, -999.00,9, -999.00,9,   9.4219, -52.3303,-999.000,-999.0000, -999.00,   3.7038,   3.8513,2,    35.1429,2,  -999.0,9,     -999.0,9,     -999.0,9,     -999.0,9,       1032
33AT20120419,        A20,      20,          1,         11,         11,2,20120424,       0926,     9.4205,   -52.3320,       4826,  2019.4,   3.5828,  34.9685,2,  34.9685,2,    258.8,2,   259.0,2,   16.58,2,   18.42,2,    0.00,2,    1.23,2,   0.907,2,   0.408,2,   0.028,2,    0.16,2,  -999.0,9,  -999.0,9,-999.0000,9,  -999.00,-999.000,9,-999.0000,9, -999.00,9,   3.5828,2, -999.00,9,  -999.0,9,  -999.0,-999.000,9,-999.000,-999.000,9, -999.00,9, -999.00,9, -999.00,9,   9.4218, -52.3305,-999.000,-999.0000, -999.00,   3.4196,   3.5828,2,    35.1334,2,  -999.0,9,     -999.0,9,     -999.0,9,     -999.0,9,       1027
33AT20120419,        A20,      20,          1,         10,         10,2,20120424,       0926,     9.4205,   -52.3320,       4826,  2272.9,   3.2983,  34.9589,2,  34.9600,2,    259.3,2,   259.1,2,   19.38,2,   18.58,2,    0.00,2,    1.25,2,   0.605,2,   0.270,2,   0.018,2,    0.11,2,  -999.0,9,  -999.0,9,-999.0000,9,  -999.00,-999.000,9,-999.0000,9, -999.00,9,   3.2980,2, -999.00,9,  -999.0,9,  -999.0,-999.000,9,-999.000,-999.000,9, -999.00,9, -999.00,9, -999.00,9,   9.4216, -52.3307,-999.000,-999.0000, -999.00,   3.1152,   3.2980,2,    35.1249,2,  -999.0,9,     -999.0,9,     -999.0,9,     -999.0,9,       1022
33AT20120419,        A20,      20,          1,          9,          9,2,20120424,       0926,     9.4205,   -52.3320,       4826,  2528.3,   3.1258,  34.9503,2,  34.9506,2,    259.5,2,   259.4,2,   21.29,2,   18.66,2,    0.00,2,    1.26,2,   0.533,2,   0.236,2,   0.015,2,    0.10,2,  2165.9,2,  2322.2,2,   7.7417,2,    25.00,-999.000,9,-999.0000,9, -999.00,9,   3.1258,2, -999.00,9,  -999.0,9,  -999.0,-999.000,9,-999.000,-999.000,9, -999.00,9, -999.00,9, -999.00,9,   9.4215, -52.3309,-999.000,-999.0000, -999.00,   2.9207,   3.1258,2,    35.1154,2,  -999.0,9,     -999.0,9,     -999.0,9,     -999.0,9,       1016
33AT20120419,        A20,      20,          1,          8,          8,2,20120424,       0926,     9.4205,   -52.3320,       4826,  2781.7,   2.9647,  34.9407,2,  34.9411,2,    260.5,2,   260.9,2,   22.60,2,   18.58,2,    0.00,2,    1.25,2,   0.565,2,   0.245,2,   0.017,2,    0.11,2,  -999.0,9,  -999.0,9,-999.0000,9,  -999.00,-999.000,9,-999.0000,9, -999.00,9,   2.9649,2, -999.00,9,  -999.0,9,  -999.0,-999.000,9,-999.000,-999.000,9, -999.00,9, -999.00,9, -999.00,9,   9.4213, -52.3311,-999.000,-999.0000, -999.00,   2.7372,   2.9649,2,    35.1059,2,  -999.0,9,     -999.0,9,     -999.0,9,     -999.0,9,       1010
33AT20120419,        A20,      20,          1,          7,          7,2,20120424,       0926,     9.4205,   -52.3320,       4826,  3036.8,   2.7988,  34.9302,2,  34.9319,2,    260.6,2,   260.6,2,   25.07,2,   18.77,2,    0.00,2,    1.27,2,-999.000,9,-999.000,9,-999.000,9, -999.00,9,  2169.8,2,  2322.4,6,   7.7403,2,    25.00,-999.000,9,-999.0000,9, -999.00,9,   2.7988,2, -999.00,9,  -999.0,9,  -999.0,-999.000,9,-999.000,-999.000,9, -999.00,9, -999.00,9, -999.00,9,   9.4210, -52.3314,-999.000,-999.0000, -999.00,   2.5485,   2.7988,2,    35.0966,2,  -999.0,9,     -999.0,9,     -999.0,9,     -999.0,9,       1005