BOTTLE,20220712CCHSIOCBG
EXPOCODE,SECT_ID,STNNBR,CASTNO,SAMPNO,BTLNBR,BTLNBR_FLAG_W,DATE,TIME,LATITUDE,LONGITUDE,DEPTH,CTDPRS,CTDTMP,CTDSAL,CTDSAL_FLAG_W,SALNTY,SALNTY_FLAG_W,CTDOXY,CTDOXY_FLAG_W,OXYGEN,OXYGEN_FLAG_W,SILCAT,SILCAT_FLAG_W,NITRAT,NITRAT_FLAG_W,NITRIT,NITRIT_FLAG_W,PHSPHT,PHSPHT_FLAG_W,CFC-11,CFC-11_FLAG_W,CFC-12,CFC-12_FLAG_W,CFC113,CFC113_FLAG_W,SF6,SF6_FLAG_W,TCARBN,TCARBN_FLAG_W,ALKALI,ALKALI_FLAG_W,PH_TOT,PH_TOT_FLAG_W,PH_TMP,TRITUM,TRITUM_FLAG_W,HELIUM,HELIUM_FLAG_W,DELHE3,DELHE3_FLAG_W,REFTMP,REFTMP_FLAG_W,DELC13,DELC13_FLAG_W,DELC14,DELC14_FLAG_W,C14ERR,NEON,NEON_FLAG_W,NEONER,CCL4,CCL4_FLAG_W,DELO18,DELO18_FLAG_W,DOC,DOC_FLAG_W,TDN,TDN_FLAG_W,BTL_LAT,BTL_LON,TRITER,HELIER,DELHER,THETA,SBE35,SBE35_FLAG_W,SALTREF,SALTREF_FLAG_W,14C-DOC,14C-DOC_FLAG_W,DELO17,DELO17_FLAG_W,O2/AR,O2/AR_FLAG_W,SIP,SIP_FLAG_W,BTL_TIME
,,,,,,,,,,,METERS,DBAR,ITS-90,PSS-78,,PSS-78,,UMOL/KG,,UMOL/KG,,UMOL/KG,,UMOL/KG,,UMOL/KG,,UMOL/KG,,PMOL/KG,,PMOL/KG,,PMOL/KG,,FMOL/KG,,UMOL/KG,,UMOL/KG,,,,DEG C,TU,,NMOL/KG,,PERCNT,,DEG C,,/MILLE,,/MILLE,,/MILLE,NMOL/KG,,NMOL/KG,PMOL/KG,,/MILLE,,UMOL/KG,,UMOL/KG,,,,TU,NMOL/KG,PERCNT,DEG C,ITS-90,,G/KG,,/MILLE,,/MILLE,,,,,,
33AT20120419,        A20,      79,          1,         20,         20,2,20120511,       1440,    42.9130,   -50.8905,        756,     3.5,   7.0334,  32.9785,2,  32.9730,2,    321.2,2,   321.6,2,    0.00,2,    0.00,2,    0.01,2,    0.22,2,-999.000,9,-999.000,9,-999.000,9, -999.00,9,  2032.8,6,  2222.7,2,-999.0000,9,  -999.00,   1.323,2,   1.8299,2,   -0.36,2,   7.0334,2, -999.00,9,  -999.0,9,  -999.0,   7.914,2,   0.036,-999.000,9, -999.00,1,   67.12,2,    3.89,2,  42.9130, -50.8907,   0.010,   0.0077,    0.15,   7.0331,   7.0334,2,    33.1285,2,  -999.0,9,     -999.0,1,     -999.0,1,     -999.0,1,       1521
33AT20120419,        A20,      79,          1,         19,         19,2,20120511,       1440,    42.9130,   -50.8905,        756,    19.6,   5.9426,  32.9843,2,  32.9829,2,    332.4,2,   333.1,2,    0.00,2,    0.00,2,    0.01,2,    0.20,2,-999.000,9,-999.000,9,-999.000,9, -999.00,9,  -999.0,9,  -999.0,9,-999.0000,9,  -999.00,-999.000,9,-999.0000,9, -999.00,9,   5.9376,2, -999.00,9,  -999.0,9,  -999.0,-999.000,9,-999.000,-999.000,9, -999.00,9,   66.45,2,    3.97,2,  42.9130, -50.8907,-999.000,-999.0000, -999.00,   5.9410,   5.9376,2,    33.1385,2,  -999.0,9,     -999.0,9,     -999.0,9,     -999.0,9,       1519
33AT20120419,        A20,      79,          1,         18,         18,2,20120511,       1440,    42.9130,   -50.8905,        756,    39.1,   4.6545,  33.0289,2,  33.0344,2,    342.6,2,   342.7,2,    0.00,2,    0.02,2,    0.02,2,    0.28,2,-999.000,9,-999.000,9,-999.000,9, -999.00,9,  -999.0,9,  -999.0,9,-999.0000,9,  -999.00,-999.000,9,-999.0000,9, -999.00,9,   4.6718,2, -999.00,9,  -999.0,9,  -999.0,-999.000,9,-999.000,-999.000,9, -999.00,9,   66.46,2,    4.18,2,  42.9130, -50.8907,-999.000,-999.0000, -999.00,   4.6517,   4.6718,2,    33.1902,2,  -999.0,9,     -999.0,9,     -999.0,9,     -999.0,9,       1517
33AT20120419,        A20,      79,          1,         17,         17,2,20120511,       1440,    42.9130,   -50.8905,        756,    75.1,   8.1603,  34.1048,2,  34.0831,2,    320.6,2,   266.9,2,    2.17,2,    5.67,2,    0.07,2,    0.59,2,-999.000,9,-999.000,9,-999.000,9, -999.00,9,  2101.6,2,  2272.5,2,-999.0000,9,  -999.00,-999.000,9,-999.0000,9, -999.00,9,   8.1543,2, -999.00,9,  -999.0,9,  -999.0,-999.000,9,-999.000,-999.000,9, -999.00,9,   61.16,2,    9.68,2,  42.9130, -50.8907,-999.000,-999.0000, -999.00,   8.1528,   8.1543,2,    34.2438,2,  -999.0,9,     -999.0,9,     -999.0,9,     -999.0,9,       1514
33AT20120419,        A20,      79,          1,         16,         16,2,20120511,       1440,    42.9130,   -50.8905,        756,    97.7,  11.3867,  35.0771,2,  35.0531,2,    186.0,2,   188.0,2,    5.98,2,   13.13,2,    0.03,2,    0.91,2,-999.000,9,-999.000,9,-999.000,9, -999.00,9,  -999.0,9,  -999.0,9,-999.0000,9,  -999.00,   0.718,2,   1.8137,2,    2.17,2,  11.3756,2, -999.00,9,  -999.0,9,  -999.0,   7.574,2,   0.035,-999.000,9, -999.00,9,   57.67,2,   15.90,2,  42.9130, -50.8907,   0.011,   0.0076,    0.15,  11.3744,  11.3756,2,    35.2184,2,  -999.0,9,     -999.0,9,     -999.0,9,     -999.0,1,       1512
33AT20120419,        A20,      79,          1,         15,         15,2,20120511,       1440,    42.9130,   -50.8905,        756,   121.9,  11.4916,  35.3231,2,  35.3220,2,    166.9,2,   166.4,2,    7.34,2,   16.59,2,    0.03,2,    1.07,2,-999.000,9,-999.000,9,-999.000,9, -999.00,9,  2167.4,2,  2327.6,2,-999.0000,9,  -999.00,-999.000,9,-999.0000,9, -999.00,9,  11.4879,2, -999.00,9,  -999.0,9,  -999.0,-999.000,9,-999.000,-999.000,9, -999.00,9,   55.47,2,   19.73,2,  42.9130, -50.8907,-999.000,-999.0000, -999.00,  11.4761,  11.4879,2,    35.4886,2,  -999.0,9,     -999.0,9,     -999.0,9,     -999.0,9,       1509
33AT20120419,        A20,      79,          1,         14,         14,2,20120511,       1440,    42.9130,   -50.8905,        756,   144.0,  10.7485,  35.2444,2,  35.2444,2,    166.1,2,   164.5,2,    8.41,2,   17.83,2,    0.03,2,    1.15,2,-999.000,9,-999.000,9,-999.000,9, -999.00,9,  -999.0,9,  -999.0,9,-999.0000,9,  -999.00,-999.000,9,-999.0000,9, -999.00,9,  10.7498,2, -999.00,9,  -999.0,9,  -999.0,-999.000,9,-999.000,-999.000,9, -999.00,9,   53.24,2,   21.19,2,  42.9130, -50.8907,-999.000,-999.0000, -999.00,  10.7310,  10.7498,2,    35.4106,2,  -999.0,9,     -999.0,9,     -999.0,9,     -999.0,9,       1507
33AT20120419,        A20,      79,          1,         13,         13,2,20120511,       1440,    42.9130,   -50.8905,        756,   172.4,  10.1345,  35.1932,2,  35.1979,2,    161.4,2,   160.9,2,    9.64,2,   19.12,2,    0.05,2,    1.23,2,-999.000,9,-999.000,9,-999.000,9, -999.00,9,  2178.4,2,  2321.0,2,-999.0000,9,  -999.00,-999.000,9,-999.0000,9, -999.00,9,  10.1511,2, -999.00,9,  -999.0,9,  -999.0,-999.000,9,-999.000,-999.000,9, -999.00,9,   52.13,2,   23.54,2,  42.9130, -50.8906,-999.000,-999.0000, -999.00,  10.1143,  10.1511,2,    35.3639,2,  -999.0,9,     -999.0,9,     -999.0,9,     -999.0,9,       1505
33AT20120419,        A20,      79,          1,         12,         12,2,20120511,       1440,    42.9130,   -50.8905,        756,   196.2,   9.6337,  35.1635,2,  35.1603,2,    157.4,2,   156.9,2,   10.88,2,   20.65,2,    0.05,2,    1.32,2,-999.000,9,-999.000,9,-999.000,9, -999.00,9,  -999.0,9,  -999.0,9,-999.0000,9,  -999.00,   0.476,2,   1.8121,2,    4.60,2,   9.6431,2, -999.00,9,  -999.0,9,  -999.0,   7.615,2,   0.035,-999.000,9, -999.00,9,   50.15,2,   24.84,2,  42.9130, -50.8905,   0.010,   0.0076,    0.15,   9.6114,   9.6431,2,    35.3261,2,  -999.0,9,     -999.0,9,     -999.0,9,     -999.0,9,       1503
33AT20120419,        A20,      79,          1,         10,         10,2,20120511,       1440,    42.9130,   -50.8905,        756,   215.6,   9.4015,  35.1527,2,  35.1520,2,    155.6,2,   155.4,2,   11.73,2,   21.28,2,    0.04,2,    1.37,2,-999.000,9,-999.000,9,-999.000,9, -999.00,9,  2185.9,2,  2318.7,6,-999.0000,9,  -999.00,-999.000,9,-999.0000,9, -999.00,9,   9.4027,2, -999.00,9,  -999.0,9,  -999.0,-999.000,9,-999.000,-999.000,9, -999.00,9,   49.23,2,   25.49,2,  42.9130, -50.8905,-999.000,-999.0000, -999.00,   9.3774,   9.4027,2,    35.3177,2,  -999.0,9,     -999.0,9,     -999.0,9,     -999.0,9,       1502
33AT20120419,        A20,      79,          1,          9,          9,2,20120511,       1440,    42.9130,   -50.8905,        756,   248.7,   8.8974,  35.1319,2,  35.1329,2,    154.3,2,   152.7,2,   12.50,2,   22.64,2,    0.02,2,    1.44,2,-999.000,9,-999.000,9,-999.000,9, -999.00,9,  -999.0,9,  -999.0,9,-999.0000,9,  -999.00,-999.000,9,-999.0000,9, -999.00,9,   8.9134,2, -999.00,9,  -999.0,9,  -999.0,-999.000,9,-999.000,-999.000,9, -999.00,9,   48.42,2,   26.34,2,  42.9130, -50.8904,-999.000,-999.0000, -999.00,   8.8704,   8.9134,2,    35.2985,2,  -999.0,9,     -999.0,9,     -999.0,9,     -999.0,1,       1500
33AT20120419,        A20,      79,          1,          8,          8,2,20120511,       1440,    42.9130,   -50.8905,        756,   283.5,   7.9451,  35.0736,2,  35.0738,2,    164.2,2,   163.1,2,   13.03,2,   22.78,2,    0.02,2,    1.46,2,-999.000,9,-999.000,9,-999.000,9, -999.00,9,  2191.2,2,  2316.3,2,-999.0000,9,  -999.00,   0.392,2,   1.8256,2,    5.89,2,   7.9433,2, -999.00,9,  -999.0,9,  -999.0,   7.842,2,   0.036,-999.000,9, -999.00,9,   46.45,2,   26.56,2,  42.9130, -50.8903,   0.010,   0.0077,    0.15,   7.9163,   7.9433,2,    35.2392,2,  -999.0,9,     -999.0,9,     -999.0,9,     -999.0,9,       1458
33AT20120419,        A20,      79,          1,          7,          7,2,20120511,       1440,    42.9130,   -50.8905,        756,   335.7,   6.8236,  35.0515,2,  35.0539,2,    187.6,2,   187.9,2,   12.81,2,   21.58,2,    0.02,2,    1.41,2,-999.000,9,-999.000,9,-999.000,9, -999.00,9,  2186.3,2,  2315.4,2,-999.0000,9,  -999.00,-999.000,9,-999.0000,9, -999.00,9,   6.8277,2, -999.00,9,  -999.0,9,  -999.0,-999.000,9,-999.000,-999.000,9, -999.00,9,   45.81,2,   25.17,2,  42.9130, -50.8903,-999.000,-999.0000, -999.00,   6.7922,   6.8277,2,    35.2192,2,  -999.0,9,     -999.0,9,     -999.0,9,     -999.0,9,       1456
33AT20120419,        A20,      79,          1,          6,          6,2,20120511,       1440,    42.9130,   -50.8905,        756,   383.6,   5.8807,  35.0148,2,  35.0132,2,    208.4,2,   213.9,2,   11.86,2,   19.85,2,    0.02,2,    1.30,2,-999.000,9,-999.000,9,-999.000,9, -999.00,9,  2180.2,2,  2312.9,2,-999.0000,9,  -999.00,   0.465,2,   1.8303,2,    6.44,2,   5.8812,2, -999.00,9,  -999.0,9,  -999.0,   7.879,2,   0.036,-999.000,9, -999.00,9,   47.72,2,   23.13,2,  42.9130, -50.8903,   0.010,   0.0077,    0.15,   5.8475,   5.8812,2,    35.1783,2,  -999.0,9,     -999.0,9,     -999.0,9,     -999.0,9,       1454
33AT20120419,        A20,      79,          1,          5,          5,2,20120511,       1440,    42.9130,   -50.8905,        756,   433.7,   4.9358,  34.9400,2,  34.9394,2,    245.1,2,   247.7,2,   10.10,2,   17.69,2,    0.00,2,    1.17,2,-999.000,9,-999.000,9,-999.000,9, -999.00,9,  -999.0,9,  -999.0,9,-999.0000,9,  -999.00,-999.000,9,-999.0000,9, -999.00,9,   4.9652,2, -999.00,9,  -999.0,9,  -999.0,-999.000,9,-999.000,-999.000,9, -999.00,9,   48.18,2,   21.52,2,  42.9130, -50.8903,-999.000,-999.0000, -999.00,   4.9014,   4.9652,2,    35.1041,2,  -999.0,9,     -999.0,9,     -999.0,9,     -999.0,9,       1451
33AT20120419,        A20,      79,          1,          4,          4,2,20120511,       1440,    42.9130,   -50.8905,        756,   487.8,   4.4670,  34.9022,2,  34.9008,2,    266.3,2,   264.8,2,    9.17,2,   16.70,2,    0.00,2,    1.10,2,-999.000,9,-999.000,9,-999.000,9, -999.00,9,  2165.9,2,  2304.6,2,-999.0000,9,  -999.00,   0.612,2,   1.8362,2,    2.69,2,   4.4682,2, -999.00,9,  -999.0,9,  -999.0,   7.938,2,   0.037,-999.000,9, -999.00,9,   48.43,2,   21.08,2,  42.9130, -50.8903,   0.011,   0.0077,    0.15,   4.4299,   4.4682,2,    35.0654,2,  -999.0,9,     -999.0,9,     -999.0,9,     -999.0,9,       1449
33AT20120419,        A20,      79,          1,          3,          3,2,20120511,       1440,    42.9130,   -50.8905,        756,   566.2,   4.3690,  34.9015,2,  34.9008,2,    269.4,2,   268.3,2,    9.02,2,   16.53,2,    0.00,2,    1.09,2,-999.000,9,-999.000,9,-999.000,9, -999.00,9,  -999.0,9,  -999.0,9,-999.0000,9,  -999.00,   0.620,6,   1.8341,2,    2.41,2,   4.3710,2, -999.00,9,  -999.0,9,  -999.0,   7.938,2,   0.037,-999.000,9, -999.00,9,   48.82,2,   20.89,2,  42.9130, -50.8904,   0.007,   0.0077,    0.15,   4.3260,   4.3710,2,    35.0654,2,  -999.0,9,     -999.0,9,     -999.0,9,     -999.0,9,       1447
33AT20120419,        A20,      79,          1,          2,          2,2,20120511,       1440,    42.9130,   -50.8905,        756,   668.9,   4.1865,  34.9044,2,  34.9038,2,    274.6,2,   275.0,2,    8.83,2,   16.34,2,    0.00,2,    1.08,2,-999.000,9,-999.000,9,-999.000,9, -999.00,9,  -999.0,9,  -999.0,9,-999.0000,9,  -999.00,-999.000,9,-999.0000,9, -999.00,9,   4.1907,2, -999.00,9,  -999.0,9,  -999.0,-999.000,9,-999.000,-999.000,9, -999.00,9,   49.01,2,   19.97,2,  42.9130, -50.8905,-999.000,-999.0000, -999.00,   4.1361,   4.1907,2,    35.0684,2,  -999.0,9,     -999.0,9,     -999.0,9,     -999.0,9,       1444
33AT20120419,        A20,      79,          1,          1,          1,2,20120511,       1440,    42.9130,   -50.8905,        756,   748.1,   4.1515,  34.9059,2,  34.9042,2,    275.9,2,   275.8,2,    8.75,2,   16.33,2,    0.00,2,    1.08,2,-999.000,9,-999.000,9,-999.000,9, -999.00,9,  2163.5,2,  2305.2,2,-999.0000,9,  -999.00,   0.626,2,   1.8619,2,    2.09,2,   4.1520,2, -999.00,9,  -999.0,9,  -999.0,   8.092,2,   0.037,-999.000,9, -999.00,9,   48.65,2,   20.44,2,  42.9130, -50.8905,   0.009,   0.0078,    0.15,   4.0949,   4.1520,2,    35.0688,2,  -999.0,9,     -999.0,9,     -999.0,9,     -999.0,1,       1441
33AT20120419,        A20,      80,          1,         12,         12,2,20120511,       1639,    42.9611,   -50.8508,        356,     2.8,   6.7760,  32.9086,2,  32.9096,2,    324.7,2,   321.4,2,    0.00,2,    0.00,2,    0.01,2,    0.26,2,   4.760,2,   2.659,2,   0.449,2,    2.77,2,  2044.1,6,  2222.2,2,-999.0000,9,  -999.00,-999.000,9,-999.0000,9, -999.00,9,   6.7937,2, -999.00,9,  -999.0,9,  -999.0,-999.000,9,-999.000,-999.000,9, -999.00,9, -999.00,9, -999.00,9,  42.9611, -50.8504,-999.000,-999.0000, -999.00,   6.7758,   6.7937,2,    33.0648,2,  -999.0,9,     -999.0,9,     -999.0,9,     -999.0,9,       1659
33AT20120419,        A20,      80,          1,         10,         10,2,20120511,       1639,    42.9611,   -50.8508,        356,    25.3,   6.2015,  33.0458,2,  33.0484,2,    321.0,2,   320.3,2,    0.00,2,    0.07,2,    0.03,2,    0.29,2,   4.855,2,   2.701,2,   0.450,2,    2.72,2,  2052.7,2,  2229.2,6,-999.0000,9,  -999.00,-999.000,9,-999.0000,9, -999.00,9,   6.2250,2, -999.00,9,  -999.0,9,  -999.0,-999.000,9,-999.000,-999.000,9, -999.00,9, -999.00,9, -999.00,9,  42.9611, -50.8504,-999.000,-999.0000, -999.00,   6.1994,   6.2250,2,    33.2043,2,  -999.0,9,     -999.0,9,     -999.0,9,     -999.0,9,       1658
33AT20120419,        A20,      80,          1,          9,          9,2,20120511,       1639,    42.9611,   -50.8508,        356,    63.3,   2.2964,  33.0473,2,  33.0318,2,    366.0,2,   357.5,2,    0.00,2,    0.80,2,    0.03,2,    0.35,2,   5.984,2,   3.229,2,   0.554,2,    3.24,2,  -999.0,9,  -999.0,9,-999.0000,9,  -999.00,-999.000,9,-999.0000,9, -999.00,9,   2.3462,3, -999.00,9,  -999.0,9,  -999.0,-999.000,9,-999.000,-999.000,9, -999.00,9, -999.00,9, -999.00,9,  42.9611, -50.8504,-999.000,-999.0000, -999.00,   2.2931,   2.3462,3,    33.1876,2,  -999.0,9,     -999.0,9,     -999.0,9,     -999.0,9,       1655
33AT20120419,        A20,      80,          1,          8,          8,2,20120511,       1639,    42.9611,   -50.8508,        356,   102.6,   2.5669,  33.5305,2,  33.5162,2,    311.7,2,   309.7,2,    4.60,2,    6.17,2,    0.12,2,    0.80,2,   5.750,2,   3.235,2,   0.522,2,    3.09,2,  2123.8,2,  2250.1,2,-999.0000,9,  -999.00,-999.000,9,-999.0000,9, -999.00,9,   2.5728,2, -999.00,9,  -999.0,9,  -999.0,-999.000,9,-999.000,-999.000,9, -999.00,9, -999.00,9, -999.00,9,  42.9611, -50.8505,-999.000,-999.0000, -999.00,   2.5612,   2.5728,2,    33.6743,2,  -999.0,9,     -999.0,9,     -999.0,9,     -999.0,9,       1652
33AT20120419,        A20,      80,          1,          7,          7,2,20120511,       1639,    42.9611,   -50.8508,        356,   129.3,   8.2376,  34.5622,2,  34.5069,2,    237.8,2,   233.9,2,    5.26,2,   10.65,2,    0.08,2,    0.86,2,   3.891,2,   2.173,2,   0.300,2,    2.14,2,  2140.1,2,  2293.4,2,-999.0000,9,  -999.00,-999.000,9,-999.0000,9, -999.00,9,   7.9932,3, -999.00,9,  -999.0,9,  -999.0,-999.000,9,-999.000,-999.000,9, -999.00,9, -999.00,9, -999.00,9,  42.9611, -50.8505,-999.000,-999.0000, -999.00,   8.2244,   7.9932,3,    34.6696,2,  -999.0,9,     -999.0,9,     -999.0,9,     -999.0,9,       1650
33AT20120419,        A20,      80,          1,          6,          6,2,20120511,       1639,    42.9611,   -50.8508,        356,   154.4,  10.7184,  35.1927,2,  35.1826,2,    172.1,2,   173.6,2,    7.63,2,   16.61,2,    0.05,2,    1.08,2,   2.631,2,   1.479,2,   0.128,2,    1.39,2,  -999.0,9,  -999.0,9,-999.0000,9,  -999.00,-999.000,9,-999.0000,9, -999.00,9,  10.6770,2, -999.00,9,  -999.0,9,  -999.0,-999.000,9,-999.000,-999.000,9, -999.00,9, -999.00,9, -999.00,9,  42.9611, -50.8506,-999.000,-999.0000, -999.00,  10.6997,  10.6770,2,    35.3485,2,  -999.0,9,     -999.0,9,     -999.0,9,     -999.0,9,       1648
33AT20120419,        A20,      80,          1,          5,          5,2,20120511,       1639,    42.9611,   -50.8508,        356,   179.2,   9.8977,  35.1000,2,  35.1137,2,    175.1,2,   172.0,2,    8.83,2,   17.95,2,    0.10,2,    1.17,2,   2.538,2,   1.407,2,   0.133,2,    1.29,2,  2172.4,2,  2317.5,2,-999.0000,9,  -999.00,-999.000,9,-999.0000,9, -999.00,9,   9.8968,2, -999.00,9,  -999.0,9,  -999.0,-999.000,9,-999.000,-999.000,9, -999.00,9, -999.00,9, -999.00,9,  42.9611, -50.8506,-999.000,-999.0000, -999.00,   9.8770,   9.8968,2,    35.2792,2,  -999.0,9,     -999.0,9,     -999.0,9,     -999.0,9,       1646
33AT20120419,        A20,      80,          1,          4,          4,2,20120511,       1639,    42.9611,   -50.8508,        356,   200.1,   9.7967,  35.1723,2,  35.1755,2,    158.6,2,   155.5,2,   10.60,2,   20.75,2,    0.02,2,    1.33,2,   2.095,2,   1.132,2,   0.086,2,    1.05,2,  2183.7,2,  2323.5,2,-999.0000,9,  -999.00,-999.000,9,-999.0000,9, -999.00,9,   9.8100,2, -999.00,9,  -999.0,9,  -999.0,-999.000,9,-999.000,-999.000,9, -999.00,9, -999.00,9, -999.00,9,  42.9611, -50.8507,-999.000,-999.0000, -999.00,   9.7737,   9.8100,2,    35.3414,2,  -999.0,9,     -999.0,9,     -999.0,9,     -999.0,9,       1645
33AT20120419,        A20,      80,          1,          3,          3,2,20120511,       1639,    42.9611,   -50.8508,        356,   258.7,   8.3908,  35.0877,2,  35.0817,2,    161.5,2,   162.0,2,   12.46,2,   22.26,2,    0.04,2,    1.43,2,   1.984,2,   1.058,2,   0.093,2,    0.94,2,  2189.5,2,  2315.3,2,-999.0000,9,  -999.00,-999.000,9,-999.0000,9, -999.00,9,   8.3372,2, -999.00,9,  -999.0,9,  -999.0,-999.000,9,-999.000,-999.000,9, -999.00,9, -999.00,9, -999.00,9,  42.9611, -50.8507,-999.000,-999.0000, -999.00,   8.3637,   8.3372,2,    35.2472,2,  -999.0,9,     -999.0,9,     -999.0,9,     -999.0,9,       1643
33AT20120419,        A20,      80,          1,          2,          2,2,20120511,       1639,    42.9611,   -50.8508,        356,   305.2,   7.2630,  35.0311,2,  35.0329,2,    177.9,2,   178.0,2,   12.62,2,   21.74,2,    0.03,2,    1.41,2,   2.130,2,   1.134,2,   0.110,2,    0.94,2,  -999.0,9,  -999.0,9,-999.0000,9,  -999.00,-999.000,9,-999.0000,9, -999.00,9,   7.2863,2, -999.00,9,  -999.0,9,  -999.0,-999.000,9,-999.000,-999.000,9, -999.00,9, -999.00,9, -999.00,9,  42.9611, -50.8508,-999.000,-999.0000, -999.00,   7.2336,   7.2863,2,    35.1981,2,  -999.0,9,     -999.0,9,     -999.0,9,     -999.0,9,       1641
33AT20120419,        A20,      80,          1,          1,          1,2,20120511,       1639,    42.9611,   -50.8508,        356,   341.4,   6.5325,  34.9845,2,  34.9845,2,    196.5,2,   196.9,2,   12.41,2,   20.71,2,    0.03,2,    1.36,2,   2.400,2,   1.290,2,   0.145,2,    1.03,2,  2184.1,2,  2310.5,2,-999.0000,9,  -999.00,-999.000,9,-999.0000,9, -999.00,9,   6.5249,2, -999.00,9,  -999.0,9,  -999.0,-999.000,9,-999.000,-999.000,9, -999.00,9, -999.00,9, -999.00,9,  42.9611, -50.8508,-999.000,-999.0000, -999.00,   6.5014,   6.5249,2,    35.1494,2,  -999.0,9,     -999.0,9,     -999.0,9,     -999.0,9,       1639