BOTTLE,20220712CCHSIOCBG
EXPOCODE,SECT_ID,STNNBR,CASTNO,SAMPNO,BTLNBR,BTLNBR_FLAG_W,DATE,TIME,LATITUDE,LONGITUDE,DEPTH,CTDPRS,CTDTMP,CTDSAL,CTDSAL_FLAG_W,SALNTY,SALNTY_FLAG_W,CTDOXY,CTDOXY_FLAG_W,OXYGEN,OXYGEN_FLAG_W,SILCAT,SILCAT_FLAG_W,NITRAT,NITRAT_FLAG_W,NITRIT,NITRIT_FLAG_W,PHSPHT,PHSPHT_FLAG_W,CFC-11,CFC-11_FLAG_W,CFC-12,CFC-12_FLAG_W,CFC113,CFC113_FLAG_W,SF6,SF6_FLAG_W,TCARBN,TCARBN_FLAG_W,ALKALI,ALKALI_FLAG_W,PH_TOT,PH_TOT_FLAG_W,PH_TMP,TRITUM,TRITUM_FLAG_W,HELIUM,HELIUM_FLAG_W,DELHE3,DELHE3_FLAG_W,REFTMP,REFTMP_FLAG_W,DELC13,DELC13_FLAG_W,DELC14,DELC14_FLAG_W,C14ERR,NEON,NEON_FLAG_W,NEONER,CCL4,CCL4_FLAG_W,DELO18,DELO18_FLAG_W,DOC,DOC_FLAG_W,TDN,TDN_FLAG_W,BTL_LAT,BTL_LON,TRITER,HELIER,DELHER,THETA,SBE35,SBE35_FLAG_W,SALTREF,SALTREF_FLAG_W,14C-DOC,14C-DOC_FLAG_W,DELO17,DELO17_FLAG_W,O2/AR,O2/AR_FLAG_W,SIP,SIP_FLAG_W,BTL_TIME
,,,,,,,,,,,METERS,DBAR,ITS-90,PSS-78,,PSS-78,,UMOL/KG,,UMOL/KG,,UMOL/KG,,UMOL/KG,,UMOL/KG,,UMOL/KG,,PMOL/KG,,PMOL/KG,,PMOL/KG,,FMOL/KG,,UMOL/KG,,UMOL/KG,,,,DEG C,TU,,NMOL/KG,,PERCNT,,DEG C,,/MILLE,,/MILLE,,/MILLE,NMOL/KG,,NMOL/KG,PMOL/KG,,/MILLE,,UMOL/KG,,UMOL/KG,,,,TU,NMOL/KG,PERCNT,DEG C,ITS-90,,G/KG,,/MILLE,,/MILLE,,,,,,
33AT20120419,        A20,      28,          1,          6,          6,2,20120426,       1602,    13.4096,   -52.3298,       4998,  3546.1,   2.5093,  34.9078,2,  34.9072,2,    253.5,2,   253.9,2,   35.61,2,   20.41,2,    0.00,2,    1.37,2,   0.049,4,   0.018,4,   0.000,4,    0.07,2,  2180.8,2,  2335.2,2,   7.7338,2,    25.00,   0.047,2,   2.0165,3,    2.72,3,   2.5106,2, -999.00,9,  -999.0,9,  -999.0,   8.626,3,   0.040,-999.000,9, -999.00,9, -999.00,9, -999.00,9,  13.4101, -52.3299,   0.011,   0.0085,    0.15,   2.2116,   2.5106,2,    35.0718,2,  -999.0,9,     -999.0,9,     -999.0,9,     -999.0,9,       1635
33AT20120419,        A20,      28,          1,          5,          5,2,20120426,       1602,    13.4096,   -52.3298,       4998,  3854.1,   2.3603,  34.8973,2,  34.8970,2,    258.5,2,   259.1,2,   34.12,2,   19.71,2,    0.00,2,    1.33,2,   0.390,2,   0.170,2,   0.020,2,    0.10,2,  2177.9,2,  2333.1,2,   7.7362,2,    25.00,-999.000,9,-999.0000,9, -999.00,9,   2.3604,2, -999.00,9,  -999.0,9,  -999.0,-999.000,9,-999.000,-999.000,9, -999.00,9, -999.00,9, -999.00,9,  13.4102, -52.3300,-999.000,-999.0000, -999.00,   2.0324,   2.3604,2,    35.0616,2,  -999.0,9,     -999.0,9,     -999.0,9,     -999.0,9,       1629
33AT20120419,        A20,      28,          1,          4,          4,2,20120426,       1602,    13.4096,   -52.3298,       4998,  4153.5,   2.2881,  34.8903,2,  34.8907,2,    260.3,2,   260.1,2,   34.64,2,   19.63,2,    0.00,2,    1.33,2,   0.440,2,   0.187,2,   0.035,2,    0.10,2,  2177.8,2,  2333.2,2,   7.7347,2,    25.00,   0.126,2,   1.9853,3,    5.00,2,   2.2879,2, -999.00,9,  -999.0,9,  -999.0,   8.721,3,   0.040,-999.000,9, -999.00,9, -999.00,9, -999.00,9,  13.4102, -52.3300,   0.011,   0.0083,    0.15,   1.9281,   2.2879,2,    35.0553,2,  -999.0,9,     -999.0,9,     -999.0,9,     -999.0,9,       1622
33AT20120419,        A20,      28,          1,          3,          3,2,20120426,       1602,    13.4096,   -52.3298,       4998,  4468.9,   2.2182,  34.8804,2,  34.8797,2,    258.3,2,   258.4,2,   38.65,2,   20.18,2,    0.00,2,    1.37,2,   0.411,2,   0.176,2,   0.030,2,    0.07,2,  -999.0,9,  -999.0,9,-999.0000,9,  -999.00,-999.000,9,-999.0000,9, -999.00,9,   2.2175,2, -999.00,9,  -999.0,9,  -999.0,-999.000,9,-999.000,-999.000,9, -999.00,9, -999.00,9, -999.00,9,  13.4100, -52.3299,-999.000,-999.0000, -999.00,   1.8233,   2.2175,2,    35.0442,2,  -999.0,9,     -999.0,9,     -999.0,9,     -999.0,9,       1616
33AT20120419,        A20,      28,          1,          2,          2,2,20120426,       1602,    13.4096,   -52.3298,       4998,  4777.0,   2.0290,  34.8538,2,  34.8538,2,    250.0,2,   250.2,2,   51.55,2,   22.19,2,    0.00,2,    1.49,2,   0.288,2,   0.118,2,   0.016,2,    0.08,2,  2197.7,2,  2344.3,2,   7.7161,6,    25.00,-999.000,9,-999.0000,9, -999.00,9,   2.0288,2, -999.00,9,  -999.0,9,  -999.0,-999.000,9,-999.000,-999.000,9, -999.00,9, -999.00,9, -999.00,9,  13.4098, -52.3298,-999.000,-999.0000, -999.00,   1.6031,   2.0288,2,    35.0182,2,  -999.0,9,     -999.0,9,     -999.0,9,     -999.0,9,       1609
33AT20120419,        A20,      28,          1,          1,          1,2,20120426,       1602,    13.4096,   -52.3298,       4998,  5067.3,   1.8677,  34.8307,2,  34.8310,2,    244.3,2,   244.3,2,   61.71,2,   23.80,2,    0.00,2,    1.61,2,   0.244,2,   0.104,2,   0.015,2,    0.08,2,  2209.7,6,  2351.0,2,   7.7012,2,    25.00,   0.029,2,   2.0189,3,    4.53,2,   1.8666,2, -999.00,9,  -999.0,9,  -999.0,   8.758,3,   0.040,-999.000,9, -999.00,9, -999.00,9, -999.00,9,  13.4097, -52.3297,   0.011,   0.0085,    0.15,   1.4115,   1.8666,2,    34.9952,2,  -999.0,9,     -999.0,9,     -999.0,9,     -999.0,9,       1603