BOTTLE,20220712CCHSIOCBG
EXPOCODE,SECT_ID,STNNBR,CASTNO,SAMPNO,BTLNBR,BTLNBR_FLAG_W,DATE,TIME,LATITUDE,LONGITUDE,DEPTH,CTDPRS,CTDTMP,CTDSAL,CTDSAL_FLAG_W,SALNTY,SALNTY_FLAG_W,CTDOXY,CTDOXY_FLAG_W,OXYGEN,OXYGEN_FLAG_W,SILCAT,SILCAT_FLAG_W,NITRAT,NITRAT_FLAG_W,NITRIT,NITRIT_FLAG_W,PHSPHT,PHSPHT_FLAG_W,CFC-11,CFC-11_FLAG_W,CFC-12,CFC-12_FLAG_W,CFC113,CFC113_FLAG_W,SF6,SF6_FLAG_W,TCARBN,TCARBN_FLAG_W,ALKALI,ALKALI_FLAG_W,PH_TOT,PH_TOT_FLAG_W,PH_TMP,TRITUM,TRITUM_FLAG_W,HELIUM,HELIUM_FLAG_W,DELHE3,DELHE3_FLAG_W,REFTMP,REFTMP_FLAG_W,DELC13,DELC13_FLAG_W,DELC14,DELC14_FLAG_W,C14ERR,NEON,NEON_FLAG_W,NEONER,CCL4,CCL4_FLAG_W,DELO18,DELO18_FLAG_W,DOC,DOC_FLAG_W,TDN,TDN_FLAG_W,BTL_LAT,BTL_LON,TRITER,HELIER,DELHER,THETA,SBE35,SBE35_FLAG_W,SALTREF,SALTREF_FLAG_W,14C-DOC,14C-DOC_FLAG_W,DELO17,DELO17_FLAG_W,O2/AR,O2/AR_FLAG_W,SIP,SIP_FLAG_W,BTL_TIME
,,,,,,,,,,,METERS,DBAR,ITS-90,PSS-78,,PSS-78,,UMOL/KG,,UMOL/KG,,UMOL/KG,,UMOL/KG,,UMOL/KG,,UMOL/KG,,PMOL/KG,,PMOL/KG,,PMOL/KG,,FMOL/KG,,UMOL/KG,,UMOL/KG,,,,DEG C,TU,,NMOL/KG,,PERCNT,,DEG C,,/MILLE,,/MILLE,,/MILLE,NMOL/KG,,NMOL/KG,PMOL/KG,,/MILLE,,UMOL/KG,,UMOL/KG,,,,TU,NMOL/KG,PERCNT,DEG C,ITS-90,,G/KG,,/MILLE,,/MILLE,,,,,,
33AT20120419,        A20,      15,          1,         36,         36,2,20120423,       0438,     8.5950,   -52.7062,       4320,     3.8,  27.9464,  25.9008,2,  25.9038,2,    221.6,2,   221.1,2,   15.99,2,    0.00,2,    0.00,2,    0.03,2,   1.546,2,   1.021,2,   0.129,2,    1.23,3,  1480.7,6,  1795.6,2,   8.2775,2,    25.00,-999.000,9,-999.0000,9, -999.00,9,  27.9439,2,    0.98,2,    48.2,2,     2.9,-999.000,9,-999.000,   1.020,2, -999.00,9,  122.74,2,    6.18,2,   8.5938, -52.7073,-999.000,-999.0000, -999.00,  27.9455,  27.9439,2,    26.0259,2,  -999.0,9,     -999.0,9,     -999.0,9,     -999.0,9,       0643
33AT20120419,        A20,      15,          1,         35,         35,2,20120423,       0438,     8.5950,   -52.7062,       4320,    35.9,  27.3806,  35.7774,2,  35.7734,2,    197.0,2,   196.4,2,    0.85,2,    0.00,2,    0.01,2,    0.06,2,   1.476,2,   0.964,2,   0.114,2,    1.01,3,  2016.0,2,  2345.9,2,   8.0779,2,    25.00,-999.000,9,-999.0000,9, -999.00,9,  27.3797,2, -999.00,9,  -999.0,9,  -999.0,-999.000,9,-999.000,   0.880,2, -999.00,9,   71.67,2,    5.61,2,   8.5939, -52.7073,-999.000,-999.0000, -999.00,  27.3723,  27.3797,2,    35.9421,2,  -999.0,9,     -999.0,9,     -999.0,9,     -999.0,9,       0640
33AT20120419,        A20,      15,          1,         34,         34,2,20120423,       0438,     8.5950,   -52.7062,       4320,    61.4,  26.8939,  36.1601,2,  36.1571,2,    189.9,2,   187.2,2,    1.12,2,    0.46,2,    0.50,2,    0.14,2,   1.505,2,   0.969,2,   0.105,2,    0.82,3,  2050.6,2,  2368.0,2,   8.0499,2,    25.00,-999.000,9,-999.0000,9, -999.00,9,  26.8864,2, -999.00,9,  -999.0,9,  -999.0,-999.000,9,-999.000,   0.770,2, -999.00,9,   70.14,2,    4.98,2,   8.5941, -52.7073,-999.000,-999.0000, -999.00,  26.8798,  26.8864,2,    36.3276,2,  -999.0,9,     -999.0,9,     -999.0,9,     -999.0,9,       0637
33AT20120419,        A20,      15,          1,         33,         33,2,20120423,       0438,     8.5950,   -52.7062,       4320,    86.0,  25.9231,  36.3245,2,  36.3166,2,    176.4,2,   173.8,2,    1.60,2,    1.94,2,    0.08,2,    0.20,2,   1.572,2,   1.017,2,   0.103,2,    0.79,3,  -999.0,9,  -999.0,9,-999.0000,9,  -999.00,-999.000,9,-999.0000,9, -999.00,9,  25.9042,2, -999.00,9,  -999.0,9,  -999.0,-999.000,9,-999.000,   0.600,2, -999.00,9,   65.74,2,    5.43,2,   8.5942, -52.7072,-999.000,-999.0000, -999.00,  25.9039,  25.9042,2,    36.4878,2,  -999.0,9,     -999.0,9,     -999.0,9,     -999.0,9,       0634
33AT20120419,        A20,      15,          1,         32,         32,2,20120423,       0438,     8.5950,   -52.7062,       4320,   110.8,  22.1066,  36.3881,2,  36.4453,2,    161.5,2,   159.9,2,    2.53,2,    5.48,2,    0.05,2,    0.41,2,   1.786,2,   1.123,2,   0.083,2,    0.68,3,  2120.6,2,  2386.0,6,   7.9551,2,    25.00,-999.000,9,-999.0000,9, -999.00,9,  22.0751,2,    0.87,2,    54.5,2,     3.0,-999.000,9,-999.000,   0.400,2, -999.00,9,   60.52,2,    7.71,2,   8.5944, -52.7071,-999.000,-999.0000, -999.00,  22.0845,  22.0751,2,    36.6172,2,  -999.0,9,     -999.0,9,     -999.0,9,     -999.0,9,       0632
33AT20120419,        A20,      15,          1,         31,         31,2,20120423,       0438,     8.5950,   -52.7062,       4320,   134.4,  17.0041,  35.9339,2,  35.9352,2,    144.6,2,   143.9,2,    5.22,2,   13.04,2,    0.02,2,    0.88,2,   1.998,2,   1.192,2,   0.037,2,    0.74,3,  2157.8,2,  2358.7,2,   7.8304,2,    25.00,-999.000,9,-999.0000,9, -999.00,9,  16.9645,2,    0.71,2,    49.0,2,     2.7,-999.000,9,-999.000,   0.270,2, -999.00,9,   53.82,2,   16.68,2,   8.5946, -52.7071,-999.000,-999.0000, -999.00,  16.9818,  16.9645,2,    36.1047,2,  -999.0,9,     -999.0,9,     -999.0,9,     -999.0,9,       0630
33AT20120419,        A20,      15,          1,         30,         30,2,20120423,       0438,     8.5950,   -52.7062,       4320,   165.3,  13.5321,  35.4919,2,  35.4908,2,    135.0,2,   137.5,2,    7.77,2,   18.58,2,    0.01,2,    1.22,2,   2.048,2,   1.174,2,   0.027,2,    0.27,3,  2174.5,2,  2332.4,2,   7.7462,2,    25.00,-999.000,9,-999.0000,9, -999.00,9,  13.5209,2,    0.68,2,    36.2,2,     3.2,-999.000,9,-999.000,   0.260,2, -999.00,9,   46.74,2,   23.38,2,   8.5947, -52.7070,-999.000,-999.0000, -999.00,  13.5087,  13.5209,2,    35.6581,2,  -999.0,9,     -999.0,9,     -999.0,9,     -999.0,9,       0628
33AT20120419,        A20,      15,          1,         29,         29,2,20120423,       0438,     8.5950,   -52.7062,       4320,   215.7,  10.9885,  35.0707,2,  35.0705,2,    145.0,2,   144.2,2,   10.36,2,   22.12,2,    0.01,2,    1.47,2,   2.062,2,   1.142,2,   0.033,2,    0.21,3,  -999.0,9,  -999.0,9,-999.0000,9,  -999.00,-999.000,9,-999.0000,9, -999.00,9,  10.9885,2, -999.00,9,  -999.0,9,  -999.0,-999.000,9,-999.000,   0.360,2, -999.00,9,   47.25,2,   26.24,2,   8.5949, -52.7069,-999.000,-999.0000, -999.00,  10.9619,  10.9885,2,    35.2358,2,  -999.0,9,     -999.0,9,     -999.0,9,     -999.0,9,       0626
33AT20120419,        A20,      15,          1,         28,         28,2,20120423,       0438,     8.5950,   -52.7062,       4320,   266.1,  10.4668,  35.0422,2,  35.0407,2,    136.2,2,   134.1,2,   11.59,2,   24.28,2,    0.01,2,    1.59,2,   1.837,2,   1.013,2,   0.031,2,    0.31,3,  2187.7,2,  2311.9,2,   7.6644,2,    25.00,-999.000,9,-999.0000,9, -999.00,9,  10.4639,2,    0.67,2,    -2.6,2,     2.8,-999.000,9,-999.000,   0.340,2, -999.00,9,   46.53,2,   27.71,2,   8.5950, -52.7069,-999.000,-999.0000, -999.00,  10.4349,  10.4639,2,    35.2060,2,  -999.0,9,     -999.0,9,     -999.0,9,     -999.0,9,       0624
33AT20120419,        A20,      15,          1,         27,         27,2,20120423,       0438,     8.5950,   -52.7062,       4320,   316.9,   9.6077,  34.9258,2,  34.9258,2,    133.8,2,   134.9,2,   13.05,2,   25.90,2,    0.01,2,    1.70,2,   1.735,2,   0.940,2,   0.031,2,    0.17,3,  -999.0,9,  -999.0,9,-999.0000,9,  -999.00,-999.000,9,-999.0000,9, -999.00,9,   9.6089,2, -999.00,9,  -999.0,9,  -999.0,-999.000,9,-999.000,   0.360,2, -999.00,9,   45.68,2,   28.87,2,   8.5952, -52.7068,-999.000,-999.0000, -999.00,   9.5716,   9.6089,2,    35.0905,2,  -999.0,9,     -999.0,9,     -999.0,9,     -999.0,9,       0622
33AT20120419,        A20,      15,          1,         26,         26,2,20120423,       0438,     8.5950,   -52.7062,       4320,   365.8,   9.2303,  34.9089,2,  34.9065,2,    124.5,2,   124.6,2,   14.50,2,   27.83,2,    0.00,2,    1.81,2,   1.469,2,   0.785,2,   0.025,2,    0.00,3,  2200.4,2,  2307.9,2,   7.6177,2,    25.00,-999.000,9,-999.0000,9, -999.00,9,   9.2287,2,    0.65,2,    -7.6,2,     2.6,-999.000,9,-999.000,   0.320,2, -999.00,9,   44.36,2,   30.64,2,   8.5953, -52.7067,-999.000,-999.0000, -999.00,   9.1896,   9.2287,2,    35.0711,2,  -999.0,9,     -999.0,9,     -999.0,9,     -999.0,9,       0620
33AT20120419,        A20,      15,          1,         25,         25,2,20120423,       0438,     8.5950,   -52.7062,       4320,   417.3,   8.4669,  34.8016,2,  34.7982,2,    123.9,2,   124.8,2,   16.24,2,   29.53,2,    0.00,2,    1.92,2,   1.323,2,   0.706,2,   0.027,2,    0.00,3,  -999.0,9,  -999.0,9,-999.0000,9,  -999.00,-999.000,9,-999.0000,9, -999.00,9,   8.4630,2, -999.00,9,  -999.0,9,  -999.0,-999.000,9,-999.000,   0.340,2, -999.00,9,   43.34,2,   32.38,2,   8.5954, -52.7067,-999.000,-999.0000, -999.00,   8.4227,   8.4630,2,    34.9623,2,  -999.0,9,     -999.0,9,     -999.0,9,     -999.0,9,       0618
33AT20120419,        A20,      15,          1,         24,         24,2,20120423,       0438,     8.5950,   -52.7062,       4320,   467.4,   7.8435,  34.7268,2,  34.7260,2,    123.0,2,   124.4,2,   17.95,2,   31.08,2,    0.00,2,    2.02,2,   1.136,2,   0.606,2,   0.024,2,    0.00,3,  2209.0,2,  2298.7,2,   7.5763,2,    25.00,-999.000,9,-999.0000,9, -999.00,9,   7.8441,2,    0.69,2,   -44.0,2,     2.3,-999.000,9,-999.000,   0.350,2, -999.00,9,   43.15,2,   33.51,2,   8.5956, -52.7066,-999.000,-999.0000, -999.00,   7.7961,   7.8441,2,    34.8898,2,  -999.0,9,     -999.0,9,     -999.0,9,     -999.0,9,       0616
33AT20120419,        A20,      15,          1,         23,         23,2,20120423,       0438,     8.5950,   -52.7062,       4320,   536.5,   6.8252,  34.5850,2,  34.5830,2,    124.9,2,   144.9,2,   20.17,2,   31.23,2,    0.00,2,    2.07,2,   1.224,2,   0.641,2,   0.038,2,    0.00,3,  2201.9,2,  2300.2,3,   7.5839,2,    25.00,-999.000,9,-999.0000,9, -999.00,9,   6.8253,2,    0.75,2,   -48.0,2,     2.4,-999.000,9,-999.000,   0.480,2, -999.00,9,   42.63,2,   33.83,2,   8.5958, -52.7065,-999.000,-999.0000, -999.00,   6.7748,   6.8253,2,    34.7461,2,  -999.0,9,     -999.0,9,     -999.0,9,     -999.0,9,       0613
33AT20120419,        A20,      15,          1,         22,         22,2,20120423,       0438,     8.5950,   -52.7062,       4320,   637.9,   6.7338,  34.6341,2,  34.6225,2,    126.7,2,   130.3,2,   22.03,2,   32.91,2,    0.00,2,    2.17,2,   0.767,2,   0.412,2,   0.021,2,    0.00,3,  2213.8,2,  2298.3,2,   7.5584,2,    25.00,-999.000,9,-999.0000,9, -999.00,9,   6.7238,2,    0.66,2,   -67.0,2,     2.5,-999.000,9,-999.000,   0.310,2, -999.00,9,   42.35,2,   34.99,2,   8.5960, -52.7064,-999.000,-999.0000, -999.00,   6.6738,   6.7238,2,    34.7857,2,  -999.0,9,     -999.0,9,     -999.0,9,     -999.0,9,       0610
33AT20120419,        A20,      15,          1,         21,         21,2,20120423,       0438,     8.5950,   -52.7062,       4320,   738.3,   5.8082,  34.5873,2,  34.5844,2,    133.8,2,   133.9,2,   25.52,2,   34.00,2,    0.00,2,    2.26,2,   0.430,2,   0.239,2,   0.011,2,    0.00,3,  2216.8,6,  2299.4,2,   7.5514,2,    25.00,-999.000,9,-999.0000,9, -999.00,9,   5.8076,2,    0.79,2,   -88.5,2,     2.6,-999.000,9,-999.000,   0.240,2, -999.00,9,    41.5,2,   36.22,2,   8.5962, -52.7063,-999.000,-999.0000, -999.00,   5.7434,   5.8076,2,    34.7474,2,  -999.0,9,     -999.0,9,     -999.0,9,     -999.0,9,       0608
33AT20120419,        A20,      15,          1,         20,         20,2,20120423,       0438,     8.5950,   -52.7062,       4320,   839.8,   5.4257,  34.6080,2,  34.6069,2,    135.7,2,   134.8,2,   27.58,2,   34.24,2,    0.00,2,    2.28,2,   0.220,2,   0.129,2,   0.007,2,    0.00,3,  2220.6,2,  2302.2,2,   7.5497,2,    25.00,-999.000,9,-999.0000,9, -999.00,9,   5.4290,2,    0.67,2,  -103.7,2,     2.3,-999.000,9,-999.000,   0.150,2, -999.00,9,   40.97,2,   37.07,2,   8.5964, -52.7062,-999.000,-999.0000, -999.00,   5.3538,   5.4290,2,    34.7701,2,  -999.0,9,     -999.0,9,     -999.0,9,     -999.0,9,       0605
33AT20120419,        A20,      15,          1,         19,         19,2,20120423,       0438,     8.5950,   -52.7062,       4320,   941.9,   5.0911,  34.6580,2,  34.6608,2,    142.7,2,   143.0,2,   28.27,2,   33.16,2,    0.00,2,    2.23,2,   0.098,2,   0.057,2,   0.002,2,    0.00,3,  2218.3,2,  2306.7,2,   7.5642,2,    25.00,-999.000,9,-999.0000,9, -999.00,9,   5.0937,2,    0.71,2,  -108.5,2,     2.3,-999.000,9,-999.000,   0.090,2, -999.00,9,   40.61,2,   37.98,2,   8.5966, -52.7061,-999.000,-999.0000, -999.00,   5.0121,   5.0937,2,    34.8242,2,  -999.0,9,     -999.0,9,     -999.0,9,     -999.0,9,       0602
33AT20120419,        A20,      15,          1,         18,         18,2,20120423,       0438,     8.5950,   -52.7062,       4320,  1042.2,   4.8786,  34.7185,2,  34.7172,2,    154.0,2,   154.5,2,   27.86,2,   31.57,2,    0.00,2,    2.13,2,   0.080,2,   0.051,2,   0.002,2,    0.00,3,  2213.6,2,  2313.1,2,   7.5856,6,    25.00,-999.000,9,-999.0000,9, -999.00,9,   4.8787,2,    0.73,2,  -108.7,2,     2.3,-999.000,9,-999.000,   0.080,2, -999.00,9,   40.31,2,   36.76,2,   8.5968, -52.7060,-999.000,-999.0000, -999.00,   4.7920,   4.8787,2,    34.8809,2,  -999.0,9,     -999.0,9,     -999.0,9,     -999.0,9,       0559
33AT20120419,        A20,      15,          1,         17,         17,2,20120423,       0438,     8.5950,   -52.7062,       4320,  1143.5,   5.1575,  34.8472,2,  34.8485,2,    163.9,2,   167.0,2,   24.14,2,   28.44,2,    0.00,2,    1.94,2,   0.169,2,   0.101,2,   0.006,2,    0.00,3,  -999.0,9,  -999.0,9,-999.0000,9,  -999.00,-999.000,9,-999.0000,9, -999.00,9,   5.1574,2, -999.00,9,  -999.0,9,  -999.0,-999.000,9,-999.000,   0.130,2, -999.00,9,   40.28,2,   35.97,2,   8.5970, -52.7059,-999.000,-999.0000, -999.00,   5.0591,   5.1574,2,    35.0128,2,  -999.0,9,     -999.0,9,     -999.0,9,     -999.0,9,       0556
33AT20120419,        A20,      15,          1,         16,         16,2,20120423,       0438,     8.5950,   -52.7062,       4320,  1244.3,   5.1302,  34.9447,2,  34.9425,2,    184.3,2,   191.7,2,   20.44,2,   24.78,2,    0.00,2,    1.66,2,   0.424,2,   0.234,2,   0.016,2,    0.00,3,  2191.5,2,  2315.4,2,   7.6655,2,    25.00,-999.000,9,-999.0000,9, -999.00,9,   5.1308,2,    0.82,2,   -77.9,2,     2.3,-999.000,9,-999.000,   0.290,2, -999.00,9,   41.01,2,   33.72,2,   8.5971, -52.7058,-999.000,-999.0000, -999.00,   5.0223,   5.1308,2,    35.1073,2,  -999.0,9,     -999.0,9,     -999.0,9,     -999.0,9,       0553
33AT20120419,        A20,      15,          1,         15,         15,2,20120423,       0438,     8.5950,   -52.7062,       4320,  1345.7,   4.8454,  34.9763,2,  34.9774,2,    213.7,2,   211.5,2,   18.28,2,   22.53,2,    0.00,2,    1.50,2,   0.578,2,   0.308,2,   0.024,2,    0.00,3,  -999.0,9,  -999.0,9,-999.0000,9,  -999.00,-999.000,9,-999.0000,9, -999.00,9,   4.8455,2, -999.00,9,  -999.0,9,  -999.0,-999.000,9,-999.000,   0.420,2, -999.00,9,   40.62,2,   29.50,2,   8.5973, -52.7057,-999.000,-999.0000, -999.00,   4.7305,   4.8455,2,    35.1423,2,  -999.0,9,     -999.0,9,     -999.0,9,     -999.0,9,       0550
33AT20120419,        A20,      15,          1,         14,         14,2,20120423,       0438,     8.5950,   -52.7062,       4320,  1447.8,   4.6017,  35.0015,2,  35.0018,2,    230.9,2,   231.5,2,   15.88,2,   20.33,2,    0.00,2,    1.35,2,   0.862,2,   0.451,2,   0.037,2,    0.19,3,  2171.5,2,  2315.5,2,   7.7129,2,    25.00,-999.000,9,-999.0000,9, -999.00,9,   4.6016,2,    0.93,2,   -61.3,2,     2.4,-999.000,9,-999.000,   0.640,2, -999.00,9,   40.17,2,   25.99,2,   8.5975, -52.7056,-999.000,-999.0000, -999.00,   4.4796,   4.6016,2,    35.1668,2,  -999.0,9,     -999.0,9,     -999.0,9,     -999.0,9,       0547
33AT20120419,        A20,      15,          1,         13,         13,2,20120423,       0438,     8.5950,   -52.7062,       4320,  1549.3,   4.3335,  34.9993,2,  35.0010,2,    244.4,2,   244.8,2,   14.54,2,   19.16,2,    0.00,2,    1.27,2,   1.083,2,   0.556,2,   0.049,2,    0.00,3,  -999.0,9,  -999.0,9,-999.0000,9,  -999.00,-999.000,9,-999.0000,9, -999.00,9,   4.3341,2, -999.00,9,  -999.0,9,  -999.0,-999.000,9,-999.000,   0.830,2, -999.00,9,   40.38,2,   23.81,2,   8.5977, -52.7055,-999.000,-999.0000, -999.00,   4.2048,   4.3341,2,    35.1660,2,  -999.0,9,     -999.0,9,     -999.0,9,     -999.0,9,       0544
33AT20120419,        A20,      15,          1,         12,         12,2,20120423,       0438,     8.5950,   -52.7062,       4320,  1681.6,   4.0221,  34.9855,2,  34.9864,2,    254.5,2,   255.4,2,   14.13,2,   18.38,2,    0.00,2,    1.22,2,   1.282,2,   0.653,2,   0.064,2,    0.00,3,  2162.6,2,  2312.0,2,   7.7297,2,    25.00,-999.000,9,-999.0000,9, -999.00,9,   4.0228,2,    1.00,2,   -52.1,2,     2.5,-999.000,9,-999.000,   0.980,2, -999.00,9,   40.54,2,   22.14,2,   8.5978, -52.7055,-999.000,-999.0000, -999.00,   3.8848,   4.0228,2,    35.1514,2,  -999.0,9,     -999.0,9,     -999.0,9,     -999.0,9,       0541
33AT20120419,        A20,      15,          1,         11,         11,2,20120423,       0438,     8.5950,   -52.7062,       4320,  1882.8,   3.7623,  34.9734,2,  34.9744,2,    259.1,2,   259.5,2,   14.99,2,   18.24,2,    0.00,2,    1.21,2,   1.103,2,   0.558,2,   0.049,2,    0.00,3,  -999.0,9,  -999.0,9,-999.0000,9,  -999.00,-999.000,9,-999.0000,9, -999.00,9,   3.7621,2, -999.00,9,  -999.0,9,  -999.0,-999.000,9,-999.000,   0.890,2, -999.00,9,   40.03,2,   22.06,2,   8.5979, -52.7054,-999.000,-999.0000, -999.00,   3.6095,   3.7621,2,    35.1393,2,  -999.0,9,     -999.0,9,     -999.0,9,     -999.0,9,       0536
33AT20120419,        A20,      15,          1,         10,         10,2,20120423,       0438,     8.5950,   -52.7062,       4320,  2106.9,   3.4965,  34.9653,2,  34.9663,2,    260.6,2,   260.4,2,   17.12,2,   18.31,2,    0.00,2,    1.22,2,   0.790,2,   0.404,2,   0.034,2,    0.00,3,  2161.5,2,  2314.5,2,   7.7380,2,    25.00,-999.000,9,-999.0000,9, -999.00,9,   3.4968,2, -999.00,9,  -999.0,9,  -999.0,-999.000,9,-999.000,   0.700,2, -999.00,9,   40.12,2,   21.34,2,   8.5976, -52.7055,-999.000,-999.0000, -999.00,   3.3262,   3.4968,2,    35.1312,2,  -999.0,9,     -999.0,9,     -999.0,9,     -999.0,9,       0531
33AT20120419,        A20,      15,          1,          9,          9,2,20120423,       0438,     8.5950,   -52.7062,       4320,  2360.1,   3.1990,  34.9535,2,  34.9545,2,    260.8,2,   260.9,2,   19.69,2,   18.42,2,    0.00,2,    1.24,2,   0.578,2,   0.297,2,   0.025,2,    0.00,3,  -999.0,9,  -999.0,9,-999.0000,9,  -999.00,-999.000,9,-999.0000,9, -999.00,9,   3.1993,2, -999.00,9,  -999.0,9,  -999.0,-999.000,9,-999.000,   0.590,2, -999.00,9,   40.35,2,   21.16,2,   8.5973, -52.7056,-999.000,-999.0000, -999.00,   3.0091,   3.1993,2,    35.1194,2,  -999.0,9,     -999.0,9,     -999.0,9,     -999.0,9,       0525
33AT20120419,        A20,      15,          1,          8,          8,2,20120423,       0438,     8.5950,   -52.7062,       4320,  2614.5,   2.9402,  34.9402,2,  34.9412,2,    260.5,2,   260.4,2,   22.99,2,   18.68,2,    0.00,2,    1.26,2,   0.446,2,   0.240,2,   0.017,2,    0.00,3,  2165.8,2,  2320.6,2,   7.7417,6,    25.00,-999.000,9,-999.0000,9, -999.00,9,   2.9414,2, -999.00,9,  -999.0,9,  -999.0,-999.000,9,-999.000,   0.450,2, -999.00,9,   40.69,2,   21.38,2,   8.5970, -52.7058,-999.000,-999.0000, -999.00,   2.7300,   2.9414,2,    35.1059,2,  -999.0,9,     -999.0,9,     -999.0,9,     -999.0,9,       0520
33AT20120419,        A20,      15,          1,          7,          7,2,20120423,       0438,     8.5950,   -52.7062,       4320,  2869.3,   2.7575,  34.9282,2,  34.9307,2,    261.4,2,   261.2,2,   24.95,2,   18.75,2,    0.00,2,    1.27,2,   0.469,2,   0.243,2,   0.021,2,    0.00,3,  -999.0,9,  -999.0,9,-999.0000,9,  -999.00,-999.000,9,-999.0000,9, -999.00,9,   2.7572,2, -999.00,9,  -999.0,9,  -999.0,-999.000,9,-999.000,   0.460,2, -999.00,9,   41.38,2,   20.95,2,   8.5966, -52.7059,-999.000,-999.0000, -999.00,   2.5254,   2.7572,2,    35.0955,2,  -999.0,9,     -999.0,9,     -999.0,9,     -999.0,9,       0514